Workbook

Sheet Ընդամենը
A1: 2017թ. 1-ին կիսամյակ | C1: Ð²ÞìºîìàôÂÚàôÜ
C2: ÐÐ ÀÜ¸Ð²Üàôð Æð²ì²êàôÂÚ²Ü ²è²æÆÜ ²îÚ²ÜÆ ¸²î²ð²ÜÜºðÆ ¶àðÌàôÜºàôÂÚ²Ü ìºð²´ºðÚ²È
C3: êÜ²ÜÎàôÂÚ²Ü ¶àðÌºð 2017թ. 1-ին կիսամյակ
E4: ²Ý³í³ñï ·áñÍ»ñÇ ÙÝ³óáñ¹Á Ñ³ßí»ïáõ Å³Ù³Ý³Ï³ßñç³ÝÇ ëÏ½µáõÙ | F4: êï³óí³Í ¹ÇÙáõÙÝ»ñÇ (·áñÍ»ñ) ù³Ý³ÏÁ | L4: öáË³Ýóí»É ¿ ³ÛÉ ¹³ï³íáñÇ (Ï³½ÙÇ ÷á÷áËáõÃÛáõÝ) | M4: ì³ñáõÛÃ ÁÝ¹áõÝí³Í ¹ÇÙáõÙÝ»ñáí Ï³Û³óí³Í ¹³ï³Ï³Ý ³Ïï»ñ | Q4: Ü»ñÏ³Û³óí»É ¿ ýÇÝ³Ýë³Ï³Ý ³éáÕç³óÙ³Ý Íñ³·Çñ | T4: ²í³ñïí»É »Ý ·áñÍ»ñ Ñ³ßí»ïáõ Å³Ù³Ý³Ï³ßñç³ÝáõÙ | U4: ²Ý³í³ñï ·áñÍ»ñÇ ÙÝ³óáñ¹Á Ñ³ßí»ïáõ Å³Ù³Ý³Ï³ßñç³ÝÇ í»ñçáõÙ | V4: ´áÕáù³ñÏí»É »Ý í»ñ³ùÝÝÇã ¹³ï³ñ³Ý
F6: ÀÝ¹³Ù»ÝÁ | G6: ³Û¹ ÃíáõÙ Ñ³ñÏ³¹ñí³Í ëÝ³ÝÏáõÃÛáõÝ | H6: ³Û¹ ÃíáõÙ Ï³Ù³íáñ ëÝ³ÝÏáõÃÛáõÝ | I6: ëï³óí³Í ¹ÇÙáõÙÝ»ñÇ ÁÝÃ³óùÁ | M6: Ï³Û³óí»É ¿ å³ñï³å³ÝÇÝ ëÝ³ÝÏ ×³Ý³ã»Éáõ Ù³ëÇÝ í×Çé | N6: å³ñï³å³ÝÇÝ ëÝ³ÝÏ ×³Ý³ã»Éáõ ¹ÇÙáõÙÁ Ù»ñÅí»É ¿ | O6: ¹ÇÙáõÙÁ ÃáÕÝí»É ¿ ³é³Ýó ùÝÝáõÃÛ³Ý | P6: ³Ý³í³ñï (³Û¹ ÃíáõÙ Ï³ë»óí³Í) | Q6: ÀÝ¹³Ù»ÝÁ | R6: ÃáÕÝí»É ¿ ³é³Ýó ùÝÝ³ñÏÙ³Ý | S6: Ñ³ëï³ïí»É ¿
I8: ¸ÇÙáõÙÇ ÁÝ¹áõÝáõÙÁ Ù»ñÅí»É ¿ | J8: ¸ÇÙáõÙÁ í»ñ³¹³ñÓí»É ¿ | K8: ÀÝ¹áõÝí»É ¿ í³ñáõÛÃ
E18: 1 | F18: 2 | G18: 3 | H18: 4 | I18: 5 | J18: 6 | K18: 7 | L18: 8 | M18: 9 | N18: 10 | O18: 11 | P18: 12 | Q18: 13 | R18: 14 | S18: 15 | T18: 16 | U18: 17 | V18: 18 | W18: 1+7=8+16+17 | Y18: 2=3+4 | AA18: 2=5+6+7 | AC18: 7=9+10+11+12
A19: 1 | B19: Æñ³í³µ³Ý³Ï³Ý ³ÝÓÇ ëÝ³ÝÏáõÃÛ³Ý í»ñ³µ»ñÛ³É | E19: =SUM(Աջափնյակ:Սյունիք!E19) -> 3303 | F19: =SUM(Աջափնյակ:Սյունիք!F19) -> 544 | G19: =SUM(Աջափնյակ:Սյունիք!G19) -> 533 | H19: =SUM(Աջափնյակ:Սյունիք!H19) -> 11 | I19: =SUM(Աջափնյակ:Սյունիք!I19) -> 3 | J19: =SUM(Աջափնյակ:Սյունիք!J19) -> 71 | K19: =SUM(Աջափնյակ:Սյունիք!K19) -> 473 | L19: =SUM(Աջափնյակ:Սյունիք!L19) -> 0 | ... V19: =SUM(Աջափնյակ:Սյունիք!V19) -> 90 | W19: =E19+K19 -> 3776 | X19: =L19+T19+U19 -> 3773 | Y19: =F19 -> 544 | Z19: =G19+H19 -> 544 | AA19: =F19 -> 544 | AB19: =I19+J19+K19 -> 547 | AC19: =K19 -> 473 | AD19: =M19+N19+O19+P19 -> 467
A20: 2 | B20: ²ÝÑ³ï Ó»éÝ»ñ»óÇ ëÝ³ÝÏáõÃÛ³Ý í»ñ³µ»ñÛ³É | E20: =SUM(Աջափնյակ:Սյունիք!E20) -> 797 | F20: =SUM(Աջափնյակ:Սյունիք!F20) -> 198 | G20: =SUM(Աջափնյակ:Սյունիք!G20) -> 190 | H20: =SUM(Աջափնյակ:Սյունիք!H20) -> 8 | I20: =SUM(Աջափնյակ:Սյունիք!I20) -> 3 | J20: =SUM(Աջափնյակ:Սյունիք!J20) -> 25 | K20: =SUM(Աջափնյակ:Սյունիք!K20) -> 170 | L20: =SUM(Աջափնյակ:Սյունիք!L20) -> 0 | ... V20: =SUM(Աջափնյակ:Սյունիք!V20) -> 13 | W20: =E20+K20 -> 967 | X20: =L20+T20+U20 -> 967 | Y20: =F20 -> 198 | Z20: =G20+H20 -> 198 | AA20: =F20 -> 198 | AB20: =I20+J20+K20 -> 198 | AC20: =K20 -> 170 | AD20: =M20+N20+O20+P20 -> 170
A21: 3 | B21: üÇ½ÇÏ³Ï³Ý ³ÝÓ³Ýó ëÝ³ÝÏáõÃÛ³Ý í»ñ³µ»ñÛ³É | E21: =SUM(Աջափնյակ:Սյունիք!E21) -> 2671 | F21: =SUM(Աջափնյակ:Սյունիք!F21) -> 537 | G21: =SUM(Աջափնյակ:Սյունիք!G21) -> 332 | H21: =SUM(Աջափնյակ:Սյունիք!H21) -> 205 | I21: =SUM(Աջափնյակ:Սյունիք!I21) -> 4 | J21: =SUM(Աջափնյակ:Սյունիք!J21) -> 154 | K21: =SUM(Աջափնյակ:Սյունիք!K21) -> 379 | L21: =SUM(Աջափնյակ:Սյունիք!L21) -> 0 | ... V21: =SUM(Աջափնյակ:Սյունիք!V21) -> 52 | W21: =E21+K21 -> 3050 | X21: =L21+T21+U21 -> 3050 | Y21: =F21 -> 537 | Z21: =G21+H21 -> 537 | AA21: =F21 -> 537 | AB21: =I21+J21+K21 -> 537 | AC21: =K21 -> 379 | AD21: =M21+N21+O21+P21 -> 378
A22: 4 | B22: Ընդամենը | E22: =SUM(Աջափնյակ:Սյունիք!E22) -> 6771 | F22: =SUM(Աջափնյակ:Սյունիք!F22) -> 1279 | G22: =SUM(Աջափնյակ:Սյունիք!G22) -> 1055 | H22: =SUM(Աջափնյակ:Սյունիք!H22) -> 224 | I22: =SUM(Աջափնյակ:Սյունիք!I22) -> 10 | J22: =SUM(Աջափնյակ:Սյունիք!J22) -> 250 | K22: =SUM(Աջափնյակ:Սյունիք!K22) -> 1022 | L22: =SUM(Աջափնյակ:Սյունիք!L22) -> 0 | ... V22: =SUM(Աջափնյակ:Սյունիք!V22) -> 155 | W22: =E22+K22 -> 7793 | X22: =L22+T22+U22 -> 7790 | Y22: =F22 -> 1279 | Z22: =G22+H22 -> 1279 | AA22: =F22 -> 1279 | AB22: =I22+J22+K22 -> 1282 | AC22: =K22 -> 1022 | AD22: =M22+N22+O22+P22 -> 1015
D26: Ծանոթություն. 7 գործով՝ կարճում

Sheet Աջափնյակ
A1: Ð²ÞìºîìàôÂÚàôÜ
A2: ²æ²öÜÚ²Î ºì ¸²ìÂ²ÞºÜ ì²ðâ²Î²Ü Þðæ²ÜÜºðÆ ÀÜ¸Ð²Üàôð Æð²ì²êàôÂÚ²Ü ²è²æÆÜ ²îÚ²ÜÆ ¸²î²ð²ÜÆ
H3: ¶àðÌàôÜºàôÂÚ²Ü ìºð²´ºðÚ²È êÜ²ÜÎàôÂÚ²Ü ¶àðÌºðàì 2017թ. 1-ին կիսամյակ
E4: ²Ý³í³ñï ·áñÍ»ñÇ ÙÝ³óáñ¹Á Ñ³ßí»ïáõ Å³Ù³Ý³Ï³ßñç³ÝÇ ëÏ½µáõÙ | F4: êï³óí³Í ¹ÇÙáõÙÝ»ñÇ (·áñÍ»ñ) ù³Ý³ÏÁ | L4: öáË³Ýóí»É ¿ ³ÛÉ ¹³ï³íáñÇ (Ï³½ÙÇ ÷á÷áËáõÃÛáõÝ) | M4: ì³ñáõÛÃ ÁÝ¹áõÝí³Í ¹ÇÙáõÙÝ»ñáí Ï³Û³óí³Í ¹³ï³Ï³Ý ³Ïï»ñ | Q4: Ü»ñÏ³Û³óí»É ¿ ýÇÝ³Ýë³Ï³Ý ³éáÕç³óÙ³Ý Íñ³·Çñ | T4: ²í³ñïí»É »Ý ·áñÍ»ñ Ñ³ßí»ïáõ Å³Ù³Ý³Ï³ßñç³ÝáõÙ | U4: ²Ý³í³ñï ·áñÍ»ñÇ ÙÝ³óáñ¹Á Ñ³ßí»ïáõ Å³Ù³Ý³Ï³ßñç³ÝÇ í»ñçáõÙ | V4: ´áÕáù³ñÏí»É »Ý í»ñ³ùÝÝÇã ¹³ï³ñ³Ý
F6: ÀÝ¹³Ù»ÝÁ | G6: ³Û¹ ÃíáõÙ Ñ³ñÏ³¹ñí³Í ëÝ³ÝÏáõÃÛáõÝ | H6: ³Û¹ ÃíáõÙ Ï³Ù³íáñ ëÝ³ÝÏáõÃÛáõÝ | I6: ëï³óí³Í ¹ÇÙáõÙÝ»ñÇ ÁÝÃ³óùÁ | M6: Ï³Û³óí»É ¿ å³ñï³å³ÝÇÝ ëÝ³ÝÏ ×³Ý³ã»Éáõ Ù³ëÇÝ í×Çé | N6: å³ñï³å³ÝÇÝ ëÝ³ÝÏ ×³Ý³ã»Éáõ ¹ÇÙáõÙÁ Ù»ñÅí»É ¿ | O6: ¹ÇÙáõÙÁ ÃáÕÝí»É ¿ ³é³Ýó ùÝÝáõÃÛ³Ý | P6: ³Ý³í³ñï (³Û¹ ÃíáõÙ Ï³ë»óí³Í) | Q6: ÀÝ¹³Ù»ÝÁ | R6: ÃáÕÝí»É ¿ ³é³Ýó ùÝÝ³ñÏÙ³Ý | S6: Ñ³ëï³ïí»É ¿
I8: ¸ÇÙáõÙÇ ÁÝ¹áõÝáõÙÁ Ù»ñÅí»É ¿ | J8: ¸ÇÙáõÙÁ í»ñ³¹³ñÓí»É ¿ | K8: ÀÝ¹áõÝí»É ¿ í³ñáõÛÃ
E18: 1 | F18: 2 | G18: 3 | H18: 4 | I18: 5 | J18: 6 | K18: 7 | L18: 8 | M18: 9 | N18: 10 | O18: 11 | P18: 12 | Q18: 13 | R18: 14 | S18: 15 | T18: 16 | U18: 17 | V18: 18 | W18: 1+7=8+16+17 | Y18: 2=3+4 | AA18: 2=5+6+7 | AC18: 7=9+10+11+12
A19: 1 | B19: Æñ³í³µ³Ý³Ï³Ý ³ÝÓÇ ëÝ³ÝÏáõÃÛ³Ý í»ñ³µ»ñÛ³É | E19: 183 | F19: 59 | G19: 59 | H19: 0 | I19: 0 | J19: 18 | K19: 41 | L19: 0 | M19: 2 | N19: 1 | O19: 0 | P19: 38 | Q19: 0 | R19: 0 | S19: 0 | T19: 10 | U19: 214 | V19: 3 | W19: =E19+K19 -> 224 | X19: =L19+T19+U19 -> 224 | Y19: =F19 -> 59 | Z19: =G19+H19 -> 59 | AA19: =F19 -> 59 | AB19: =I19+J19+K19 -> 59 | AC19: =K19 -> 41 | AD19: =M19+N19+O19+P19 -> 41
A20: 2 | B20: ²ÝÑ³ï Ó»éÝ»ñ»óÇ ëÝ³ÝÏáõÃÛ³Ý í»ñ³µ»ñÛ³É | E20: 77 | F20: 22 | G20: 22 | H20: 0 | I20: 0 | J20: 2 | K20: 20 | L20: 0 | M20: 1 | N20: 2 | O20: 0 | P20: 17 | Q20: 0 | R20: 0 | S20: 0 | T20: 4 | U20: 93 | V20: 1 | W20: =E20+K20 -> 97 | X20: =L20+T20+U20 -> 97 | Y20: =F20 -> 22 | Z20: =G20+H20 -> 22 | AA20: =F20 -> 22 | AB20: =I20+J20+K20 -> 22 | AC20: =K20 -> 20 | AD20: =M20+N20+O20+P20 -> 20
A21: 3 | B21: üÇ½ÇÏ³Ï³Ý ³ÝÓ³Ýó ëÝ³ÝÏáõÃÛ³Ý í»ñ³µ»ñÛ³É | E21: 164 | F21: 29 | G21: 20 | H21: 9 | I21: 0 | J21: 10 | K21: 19 | L21: 0 | M21: 2 | N21: 2 | O21: 0 | P21: 15 | Q21: 0 | R21: 0 | S21: 0 | T21: 22 | U21: 161 | V21: 2 | W21: =E21+K21 -> 183 | X21: =L21+T21+U21 -> 183 | Y21: =F21 -> 29 | Z21: =G21+H21 -> 29 | AA21: =F21 -> 29 | AB21: =I21+J21+K21 -> 29 | AC21: =K21 -> 19 | AD21: =M21+N21+O21+P21 -> 19
A22: 4 | B22: Ընդամենը | E22: 424 | F22: 110 | G22: 101 | H22: 9 | I22: 0 | J22: 30 | K22: 80 | L22: 0 | M22: 5 | N22: 5 | O22: 0 | P22: 70 | Q22: 0 | R22: 0 | S22: 0 | T22: 36 | U22: 468 | V22: 6 | W22: =E22+K22 -> 504 | X22: =L22+T22+U22 -> 504 | Y22: =F22 -> 110 | Z22: =G22+H22 -> 110 | AA22: =F22 -> 110 | AB22: =I22+J22+K22 -> 110 | AC22: =K22 -> 80 | AD22: =M22+N22+O22+P22 -> 80

Sheet Կենտրոն
A1: Ð²ÞìºîìàôÂÚàôÜ
A2: ԿԵՆՏՐՈՆ ºì ՆՈՐՔ ՄԱՐԱՇ ì²ðâ²Î²Ü Þðæ²ÜÜºðÆ ÀÜ¸Ð²Üàôð Æð²ì²êàôÂÚ²Ü ²è²æÆÜ ²îÚ²ÜÆ ¸²î²ð²ÜÆ
H3: ¶àðÌàôÜºàôÂÚ²Ü ìºð²´ºðÚ²È êÜ²ÜÎàôÂÚ²Ü ¶àðÌºðàì 2017թ. 1-ին կիսամյակ
E4: ²Ý³í³ñï ·áñÍ»ñÇ ÙÝ³óáñ¹Á Ñ³ßí»ïáõ Å³Ù³Ý³Ï³ßñç³ÝÇ ëÏ½µáõÙ | F4: êï³óí³Í ¹ÇÙáõÙÝ»ñÇ (·áñÍ»ñ) ù³Ý³ÏÁ | L4: öáË³Ýóí»É ¿ ³ÛÉ ¹³ï³íáñÇ (Ï³½ÙÇ ÷á÷áËáõÃÛáõÝ) | M4: ì³ñáõÛÃ ÁÝ¹áõÝí³Í ¹ÇÙáõÙÝ»ñáí Ï³Û³óí³Í ¹³ï³Ï³Ý ³Ïï»ñ | Q4: Ü»ñÏ³Û³óí»É ¿ ýÇÝ³Ýë³Ï³Ý ³éáÕç³óÙ³Ý Íñ³·Çñ | T4: ²í³ñïí»É »Ý ·áñÍ»ñ Ñ³ßí»ïáõ Å³Ù³Ý³Ï³ßñç³ÝáõÙ | U4: ²Ý³í³ñï ·áñÍ»ñÇ ÙÝ³óáñ¹Á Ñ³ßí»ïáõ Å³Ù³Ý³Ï³ßñç³ÝÇ í»ñçáõÙ | V4: ´áÕáù³ñÏí»É »Ý í»ñ³ùÝÝÇã ¹³ï³ñ³Ý
F6: ÀÝ¹³Ù»ÝÁ | G6: ³Û¹ ÃíáõÙ Ñ³ñÏ³¹ñí³Í ëÝ³ÝÏáõÃÛáõÝ | H6: ³Û¹ ÃíáõÙ Ï³Ù³íáñ ëÝ³ÝÏáõÃÛáõÝ | I6: ëï³óí³Í ¹ÇÙáõÙÝ»ñÇ ÁÝÃ³óùÁ | M6: Ï³Û³óí»É ¿ å³ñï³å³ÝÇÝ ëÝ³ÝÏ ×³Ý³ã»Éáõ Ù³ëÇÝ í×Çé | N6: å³ñï³å³ÝÇÝ ëÝ³ÝÏ ×³Ý³ã»Éáõ ¹ÇÙáõÙÁ Ù»ñÅí»É ¿ | O6: ¹ÇÙáõÙÁ ÃáÕÝí»É ¿ ³é³Ýó ùÝÝáõÃÛ³Ý | P6: ³Ý³í³ñï (³Û¹ ÃíáõÙ Ï³ë»óí³Í) | Q6: ÀÝ¹³Ù»ÝÁ | R6: ÃáÕÝí»É ¿ ³é³Ýó ùÝÝ³ñÏÙ³Ý | S6: Ñ³ëï³ïí»É ¿
I8: ¸ÇÙáõÙÇ ÁÝ¹áõÝáõÙÁ Ù»ñÅí»É ¿ | J8: ¸ÇÙáõÙÁ í»ñ³¹³ñÓí»É ¿ | K8: ÀÝ¹áõÝí»É ¿ í³ñáõÛÃ
E18: 1 | F18: 2 | G18: 3 | H18: 4 | I18: 5 | J18: 6 | K18: 7 | L18: 8 | M18: 9 | N18: 10 | O18: 11 | P18: 12 | Q18: 13 | R18: 14 | S18: 15 | T18: 16 | U18: 17 | V18: 18 | W18: 1+7=8+16+17 | Y18: 2=3+4 | AA18: 2=5+6+7 | AC18: 7=9+10+11+12
A19: 1 | B19: Æñ³í³µ³Ý³Ï³Ý ³ÝÓÇ ëÝ³ÝÏáõÃÛ³Ý í»ñ³µ»ñÛ³É | E19: 843 | F19: 89 | G19: 87 | H19: 2 | J19: 4 | K19: 88 | M19: 34 | N19: 2 | O19: 1 | P19: 51 | T19: 69 | U19: 859 | V19: 33 | W19: =E19+K19 -> 931 | X19: =L19+T19+U19 -> 928 | Y19: =F19 -> 89 | Z19: =G19+H19 -> 89 | AA19: =F19 -> 89 | AB19: =I19+J19+K19 -> 92 | AC19: =K19 -> 88 | AD19: =M19+N19+O19+P19 -> 88
A20: 2 | B20: ²ÝÑ³ï Ó»éÝ»ñ»óÇ ëÝ³ÝÏáõÃÛ³Ý í»ñ³µ»ñÛ³É | E20: 85 | F20: 11 | G20: 11 | I20: 2 | K20: 9 | M20: 4 | P20: 5 | T20: 10 | U20: 84 | V20: 4 | W20: =E20+K20 -> 94 | X20: =L20+T20+U20 -> 94 | Y20: =F20 -> 11 | Z20: =G20+H20 -> 11 | AA20: =F20 -> 11 | AB20: =I20+J20+K20 -> 11 | AC20: =K20 -> 9 | AD20: =M20+N20+O20+P20 -> 9
A21: 3 | B21: üÇ½ÇÏ³Ï³Ý ³ÝÓ³Ýó ëÝ³ÝÏáõÃÛ³Ý í»ñ³µ»ñÛ³É | E21: 458 | F21: 53 | G21: 42 | H21: 11 | J21: 3 | K21: 50 | M21: 17 | O21: 3 | P21: 30 | T21: 31 | U21: 477 | V21: 19 | W21: =E21+K21 -> 508 | X21: =L21+T21+U21 -> 508 | Y21: =F21 -> 53 | Z21: =G21+H21 -> 53 | AA21: =F21 -> 53 | AB21: =I21+J21+K21 -> 53 | AC21: =K21 -> 50 | AD21: =M21+N21+O21+P21 -> 50
A22: 4 | B22: Ընդամենը | E22: =E19+E20+E21 -> 1386 | F22: =F19+F20+F21 -> 153 | G22: =G19+G20+G21 -> 140 | H22: =H19+H20+H21 -> 13 | I22: =I19+I20+I21 -> 2 | J22: =J19+J20+J21 -> 7 | K22: =K19+K20+K21 -> 147 | L22: =L19+L20+L21 -> 0 | ... V22: =V19+V20+V21 -> 56 | W22: =E22+K22 -> 1533 | X22: =L22+T22+U22 -> 1530 | Y22: =F22 -> 153 | Z22: =G22+H22 -> 153 | AA22: =F22 -> 153 | AB22: =I22+J22+K22 -> 156 | AC22: =K22 -> 147 | AD22: =M22+N22+O22+P22 -> 147

Sheet Արաբկիր
A1: Ð²ÞìºîìàôÂÚàôÜ
A2: ²ð²´ÎÆð ºì ø²Ü²øºè-¼ºÚÂàôÜ ì²ðâ²Î²Ü Þðæ²ÜÜºðÆ ÀÜ¸Ð²Üàôð Æð²ì²êàôÂÚ²Ü ²è²æÆÜ ²îÚ²ÜÆ ¸²î²ð²ÜÆ
H3: ¶àðÌàôÜºàôÂÚ²Ü ìºð²´ºðÚ²È êÜ²ÜÎàôÂÚ²Ü ¶àðÌºðՈՎ 2017թ. 1-ին կիսամյակ
A4: ìÇ×³Ï³·ñ³Ï³Ý ïáÕÇ Ñ³Ù³ñÁ | E4: ²Ý³í³ñï ·áñÍ»ñÇ ÙÝ³óáñ¹Á Ñ³ßí»ïáõ Å³Ù³Ý³Ï³ßñç³ÝÇ ëÏ½µáõÙ | F4: êï³óí³Í ¹ÇÙáõÙÝ»ñÇ (·áñÍ»ñ) ù³Ý³ÏÁ | L4: öáË³Ýóí»É ¿ ³ÛÉ ¹³ï³íáñÇ (Ï³½ÙÇ ÷á÷áËáõÃÛáõÝ) | M4: ì³ñáõÛÃ ÁÝ¹áõÝí³Í ¹ÇÙáõÙÝ»ñáí Ï³Û³óí³Í ¹³ï³Ï³Ý ³Ïï»ñ | Q4: Ü»ñÏ³Û³óí»É ¿ ýÇÝ³Ýë³Ï³Ý ³éáÕç³óÙ³Ý Íñ³·Çñ | T4: ²í³ñïí»É »Ý ·áñÍ»ñ Ñ³ßí»ïáõ Å³Ù³Ý³Ï³ßñç³ÝáõÙ | U4: ²Ý³í³ñï ·áñÍ»ñÇ ÙÝ³óáñ¹Á Ñ³ßí»ïáõ Å³Ù³Ý³Ï³ßñç³ÝÇ í»ñçáõÙ | V4: ´áÕáù³ñÏí»É »Ý í»ñ³ùÝÝÇã ¹³ï³ñ³Ý
F6: ÀÝ¹³Ù»ÝÁ | G6: ³Û¹ ÃíáõÙ Ñ³ñÏ³¹ñí³Í ëÝ³ÝÏáõÃÛáõÝ | H6: ³Û¹ ÃíáõÙ Ï³Ù³íáñ ëÝ³ÝÏáõÃÛáõÝ | I6: ëï³óí³Í ¹ÇÙáõÙÝ»ñÇ ÁÝÃ³óùÁ | M6: Ï³Û³óí»É ¿ å³ñï³å³ÝÇÝ ëÝ³ÝÏ ×³Ý³ã»Éáõ Ù³ëÇÝ í×Çé | N6: å³ñï³å³ÝÇÝ ëÝ³ÝÏ ×³Ý³ã»Éáõ ¹ÇÙáõÙÁ Ù»ñÅí»É ¿ | O6: ¹ÇÙáõÙÁ ÃáÕÝí»É ¿ ³é³Ýó ùÝÝáõÃÛ³Ý | P6: ³Ý³í³ñï (³Û¹ ÃíáõÙ Ï³ë»óí³Í) | Q6: ÀÝ¹³Ù»ÝÁ | R6: ÃáÕÝí»É ¿ ³é³Ýó ùÝÝ³ñÏÙ³Ý | S6: Ñ³ëï³ïí»É ¿
I8: ¸ÇÙáõÙÇ ÁÝ¹áõÝáõÙÁ Ù»ñÅí»É ¿ | J8: ¸ÇÙáõÙÁ í»ñ³¹³ñÓí»É ¿ | K8: ÀÝ¹áõÝí»É ¿ í³ñáõÛÃ
E18: 1 | F18: 2 | G18: 3 | H18: 4 | I18: 5 | J18: 6 | K18: 7 | L18: 8 | M18: 9 | N18: 10 | O18: 11 | P18: 12 | Q18: 13 | R18: 14 | S18: 15 | T18: 16 | U18: 17 | V18: 18 | W18: 1+7=8+16+17 | Y18: 2=3+4 | AA18: 2=5+6+7 | AC18: 7=9+10+11+12
A19: 1 | B19: Æñ³í³µ³Ý³Ï³Ý ³ÝÓÇ ëÝ³ÝÏáõÃÛ³Ý í»ñ³µ»ñÛ³É | E19: 461 | F19: 60 | G19: 59 | H19: 1 | J19: 7 | K19: 53 | M19: 24 | N19: 10 | P19: 19 | T19: =[1]Ա.Դանիելյան!T19+'[1]Ռ. Բունիաթյան'!T19+[1]Ս.Հովսեփյան!T19+[1]Ս.Թադևոսյան!T19 -> 55 | U19: =[1]Ա.Դանիելյան!U19+'[1]Ռ. Բունիաթյան'!U19+[1]Ս.Հովսեփյան!U19+[1]Ս.Թադևոսյան!U19 -> 459 | V19: 18 | W19: =E19+K19 -> 514 | X19: =L19+T19+U19 -> 514 | Y19: =F19 -> 60 | Z19: =G19+H19 -> 60 | AA19: =F19 -> 60 | AB19: =I19+J19+K19 -> 60 | AC19: =K19 -> 53 | AD19: =M19+N19+O19+P19 -> 53
A20: 2 | B20: ²ÝÑ³ï Ó»éÝ»ñ»óÇ ëÝ³ÝÏáõÃÛ³Ý í»ñ³µ»ñÛ³É | E20: 77 | F20: 17 | G20: 15 | H20: 2 | K20: 17 | M20: 8 | N20: 2 | P20: 7 | T20: 10 | U20: 84 | V20: 0 | W20: =E20+K20 -> 94 | X20: =L20+T20+U20 -> 94 | Y20: =F20 -> 17 | Z20: =G20+H20 -> 17 | AA20: =F20 -> 17 | AB20: =I20+J20+K20 -> 17 | AC20: =K20 -> 17 | AD20: =M20+N20+O20+P20 -> 17
A21: 3 | B21: üÇ½ÇÏ³Ï³Ý ³ÝÓ³Ýó ëÝ³ÝÏáõÃÛ³Ý í»ñ³µ»ñÛ³É | E21: 215 | F21: 53 | G21: 44 | H21: 9 | I21: 1 | J21: 16 | K21: 36 | M21: 11 | N21: 2 | P21: 23 | T21: =[1]Ա.Դանիելյան!T21+'[1]Ռ. Բունիաթյան'!T21+[1]Ս.Հովսեփյան!T21+[1]Ս.Թադևոսյան!T21 -> 37 | U21: =[1]Ա.Դանիելյան!U21+'[1]Ռ. Բունիաթյան'!U21+[1]Ս.Հովսեփյան!U21+[1]Ս.Թադևոսյան!U21 -> 214 | V21: 7 | W21: =E21+K21 -> 251 | X21: =L21+T21+U21 -> 251 | Y21: =F21 -> 53 | Z21: =G21+H21 -> 53 | AA21: =F21 -> 53 | AB21: =I21+J21+K21 -> 53 | AC21: =K21 -> 36 | AD21: =M21+N21+O21+P21 -> 36
A22: 4 | B22: ԸՆԴԱՄԵՆԸ | E22: =E19+E20+E21 -> 753 | F22: =F19+F20+F21 -> 130 | G22: =G19+G20+G21 -> 118 | H22: =H19+H20+H21 -> 12 | I22: =I19+I20+I21 -> 1 | J22: =J19+J20+J21 -> 23 | K22: =K19+K20+K21 -> 106 | L22: =L19+L20+L21 -> 0 | ... V22: =V19+V20+V21 -> 25 | W22: =E22+K22 -> 859 | X22: =L22+T22+U22 -> 859 | Y22: =F22 -> 130 | Z22: =G22+H22 -> 130 | AA22: =F22 -> 130 | AB22: =I22+J22+K22 -> 130 | AC22: =K22 -> 106 | AD22: =M22+N22+O22+P22 -> 106

Sheet Ավան
A1: Ð²ÞìºîìàôÂÚàôÜ
A2: ²ՎԱՆ ºì ՆՈՐ ՆՈՐՔ ì²ðâ²Î²Ü Þðæ²ÜÜºðÆ ÀÜ¸Ð²Üàôð Æð²ì²êàôÂÚ²Ü ²è²æÆÜ ²îÚ²ÜÆ ¸²î²ð²ÜÆ
H3: ¶àðÌàôÜºàôÂÚ²Ü ìºð²´ºðÚ²È êÜ²ÜÎàôÂÚ²Ü ¶àðÌºðàì 2017թ. 1-ին կիսամյակ
E4: ²Ý³í³ñï ·áñÍ»ñÇ ÙÝ³óáñ¹Á Ñ³ßí»ïáõ Å³Ù³Ý³Ï³ßñç³ÝÇ ëÏ½µáõÙ | F4: êï³óí³Í ¹ÇÙáõÙÝ»ñÇ (·áñÍ»ñ) ù³Ý³ÏÁ | L4: öáË³Ýóí»É ¿ ³ÛÉ ¹³ï³íáñÇ (Ï³½ÙÇ ÷á÷áËáõÃÛáõÝ) | M4: ì³ñáõÛÃ ÁÝ¹áõÝí³Í ¹ÇÙáõÙÝ»ñáí Ï³Û³óí³Í ¹³ï³Ï³Ý ³Ïï»ñ | Q4: Ü»ñÏ³Û³óí»É ¿ ýÇÝ³Ýë³Ï³Ý ³éáÕç³óÙ³Ý Íñ³·Çñ | T4: ²í³ñïí»É »Ý ·áñÍ»ñ Ñ³ßí»ïáõ Å³Ù³Ý³Ï³ßñç³ÝáõÙ | U4: ²Ý³í³ñï ·áñÍ»ñÇ ÙÝ³óáñ¹Á Ñ³ßí»ïáõ Å³Ù³Ý³Ï³ßñç³ÝÇ í»ñçáõÙ | V4: ´áÕáù³ñÏí»É »Ý í»ñ³ùÝÝÇã ¹³ï³ñ³Ý
F6: ÀÝ¹³Ù»ÝÁ | G6: ³Û¹ ÃíáõÙ Ñ³ñÏ³¹ñí³Í ëÝ³ÝÏáõÃÛáõÝ | H6: ³Û¹ ÃíáõÙ Ï³Ù³íáñ ëÝ³ÝÏáõÃÛáõÝ | I6: ëï³óí³Í ¹ÇÙáõÙÝ»ñÇ ÁÝÃ³óùÁ | M6: Ï³Û³óí»É ¿ å³ñï³å³ÝÇÝ ëÝ³ÝÏ ×³Ý³ã»Éáõ Ù³ëÇÝ í×Çé | N6: å³ñï³å³ÝÇÝ ëÝ³ÝÏ ×³Ý³ã»Éáõ ¹ÇÙáõÙÁ Ù»ñÅí»É ¿ | O6: ¹ÇÙáõÙÁ ÃáÕÝí»É ¿ ³é³Ýó ùÝÝáõÃÛ³Ý | P6: ³Ý³í³ñï (³Û¹ ÃíáõÙ Ï³ë»óí³Í) | Q6: ÀÝ¹³Ù»ÝÁ | R6: ÃáÕÝí»É ¿ ³é³Ýó ùÝÝ³ñÏÙ³Ý | S6: Ñ³ëï³ïí»É ¿
I8: ¸ÇÙáõÙÇ ÁÝ¹áõÝáõÙÁ Ù»ñÅí»É ¿ | J8: ¸ÇÙáõÙÁ í»ñ³¹³ñÓí»É ¿ | K8: ÀÝ¹áõÝí»É ¿ í³ñáõÛÃ
E18: 1 | F18: 2 | G18: 3 | H18: 4 | I18: 5 | J18: 6 | K18: 7 | L18: 8 | M18: 9 | N18: 10 | O18: 11 | P18: 12 | Q18: 13 | R18: 14 | S18: 15 | T18: 16 | U18: 17 | V18: 18 | W18: 1+7=8+16+17 | Y18: 2=3+4 | AA18: 2=5+6+7 | AC18: 7=9+10+11+12
A19: 1 | B19: Æñ³í³µ³Ý³Ï³Ý ³ÝÓÇ ëÝ³ÝÏáõÃÛ³Ý í»ñ³µ»ñÛ³É | E19: 204 | F19: 21 | G19: 21 | K19: 21 | M19: =SUM([2]Ա.Դավթյան:Ա.Պետրոսյան!M19) -> 9 | N19: =SUM([2]Ա.Դավթյան:Ա.Պետրոսյան!N19) -> 0 | P19: =SUM([2]Ա.Դավթյան:Ա.Պետրոսյան!P19) -> 12 | T19: 15 | U19: 210 | V19: 9 | W19: =E19+K19 -> 225 | X19: =L19+T19+U19 -> 225 | Y19: =F19 -> 21 | Z19: =G19+H19 -> 21 | AA19: =F19 -> 21 | AB19: =I19+J19+K19 -> 21 | AC19: =K19 -> 21 | AD19: =M19+N19+O19+P19 -> 21
A20: 2 | B20: ²ÝÑ³ï Ó»éÝ»ñ»óÇ ëÝ³ÝÏáõÃÛ³Ý í»ñ³µ»ñÛ³É | E20: 30 | F20: 7 | G20: 7 | J20: 2 | K20: 5 | M20: =SUM([2]Ա.Դավթյան:Ա.Պետրոսյան!M20) -> 1 | N20: =SUM([2]Ա.Դավթյան:Ա.Պետրոսյան!N20) -> 0 | P20: =SUM([2]Ա.Դավթյան:Ա.Պետրոսյան!P20) -> 4 | T20: 4 | U20: 31 | V20: 4 | W20: =E20+K20 -> 35 | X20: =L20+T20+U20 -> 35 | Y20: =F20 -> 7 | Z20: =G20+H20 -> 7 | AA20: =F20 -> 7 | AB20: =I20+J20+K20 -> 7 | AC20: =K20 -> 5 | AD20: =M20+N20+O20+P20 -> 5
A21: 3 | B21: üÇ½ÇÏ³Ï³Ý ³ÝÓ³Ýó ëÝ³ÝÏáõÃÛ³Ý í»ñ³µ»ñÛ³É | E21: 118 | F21: 43 | G21: 27 | H21: 16 | J21: 21 | K21: 22 | M21: =SUM([2]Ա.Դավթյան:Ա.Պետրոսյան!M21) -> 3 | N21: =SUM([2]Ա.Դավթյան:Ա.Պետրոսյան!N21) -> 1 | P21: =SUM([2]Ա.Դավթյան:Ա.Պետրոսյան!P21) -> 18 | T21: 9 | U21: 131 | V21: 6 | W21: =E21+K21 -> 140 | X21: =L21+T21+U21 -> 140 | Y21: =F21 -> 43 | Z21: =G21+H21 -> 43 | AA21: =F21 -> 43 | AB21: =I21+J21+K21 -> 43 | AC21: =K21 -> 22 | AD21: =M21+N21+O21+P21 -> 22
A22: 4 | B22: Ընդամենը | E22: 352 | F22: 71 | G22: 55 | H22: 16 | J22: 23 | K22: 48 | M22: =M19+M20+M21 -> 13 | N22: =N19+N20+N21 -> 1 | P22: =P19+P20+P21 -> 34 | T22: 28 | U22: 372 | V22: 19 | W22: =E22+K22 -> 400 | X22: =L22+T22+U22 -> 400 | Y22: =F22 -> 71 | Z22: =G22+H22 -> 71 | AA22: =F22 -> 71 | AB22: =I22+J22+K22 -> 71 | AC22: =K22 -> 48 | AD22: =M22+N22+O22+P22 -> 48

Sheet Էրեբունի
A1: Ð²ÞìºîìàôÂÚàôÜ
A2: ԷՐԵԲՈՒՆԻ ԵՎ ՆՈՒԲԱՐԱՇԵՆ ì²ðâ²Î²Ü Þðæ²ÜÜºðÆ ÀÜ¸Ð²Üàôð Æð²ì²êàôÂÚ²Ü ²è²æÆÜ ²îÚ²ÜÆ ¸²î²ð²ÜÆ
H3: ¶àðÌàôÜºàôÂÚ²Ü ìºð²´ºðÚ²È êÜ²ÜÎàôÂÚ²Ü ¶àðÌºðàì 2017թ. 1-ին կիսամյակ
E4: ²Ý³í³ñï ·áñÍ»ñÇ ÙÝ³óáñ¹Á Ñ³ßí»ïáõ Å³Ù³Ý³Ï³ßñç³ÝÇ ëÏ½µáõÙ | F4: êï³óí³Í ¹ÇÙáõÙÝ»ñÇ (·áñÍ»ñ) ù³Ý³ÏÁ | L4: öáË³Ýóí»É ¿ ³ÛÉ ¹³ï³íáñÇ (Ï³½ÙÇ ÷á÷áËáõÃÛáõÝ) | M4: ì³ñáõÛÃ ÁÝ¹áõÝí³Í ¹ÇÙáõÙÝ»ñáí Ï³Û³óí³Í ¹³ï³Ï³Ý ³Ïï»ñ | Q4: Ü»ñÏ³Û³óí»É ¿ ýÇÝ³Ýë³Ï³Ý ³éáÕç³óÙ³Ý Íñ³·Çñ | T4: ²í³ñïí»É »Ý ·áñÍ»ñ Ñ³ßí»ïáõ Å³Ù³Ý³Ï³ßñç³ÝáõÙ | U4: ²Ý³í³ñï ·áñÍ»ñÇ ÙÝ³óáñ¹Á Ñ³ßí»ïáõ Å³Ù³Ý³Ï³ßñç³ÝÇ í»ñçáõÙ | V4: ´áÕáù³ñÏí»É »Ý í»ñ³ùÝÝÇã ¹³ï³ñ³Ý
F6: ÀÝ¹³Ù»ÝÁ | G6: ³Û¹ ÃíáõÙ Ñ³ñÏ³¹ñí³Í ëÝ³ÝÏáõÃÛáõÝ | H6: ³Û¹ ÃíáõÙ Ï³Ù³íáñ ëÝ³ÝÏáõÃÛáõÝ | I6: ëï³óí³Í ¹ÇÙáõÙÝ»ñÇ ÁÝÃ³óùÁ | M6: Ï³Û³óí»É ¿ å³ñï³å³ÝÇÝ ëÝ³ÝÏ ×³Ý³ã»Éáõ Ù³ëÇÝ í×Çé | N6: å³ñï³å³ÝÇÝ ëÝ³ÝÏ ×³Ý³ã»Éáõ ¹ÇÙáõÙÁ Ù»ñÅí»É ¿ | O6: ¹ÇÙáõÙÁ ÃáÕÝí»É ¿ ³é³Ýó ùÝÝáõÃÛ³Ý | P6: ³Ý³í³ñï (³Û¹ ÃíáõÙ Ï³ë»óí³Í) | Q6: ÀÝ¹³Ù»ÝÁ | R6: ÃáÕÝí»É ¿ ³é³Ýó ùÝÝ³ñÏÙ³Ý | S6: Ñ³ëï³ïí»É ¿
I8: ¸ÇÙáõÙÇ ÁÝ¹áõÝáõÙÁ Ù»ñÅí»É ¿ | J8: ¸ÇÙáõÙÁ í»ñ³¹³ñÓí»É ¿ | K8: ÀÝ¹áõÝí»É ¿ í³ñáõÛÃ
E18: 1 | F18: 2 | G18: 3 | H18: 4 | I18: 5 | J18: 6 | K18: 7 | L18: 8 | M18: 9 | N18: 10 | O18: 11 | P18: 12 | Q18: 13 | R18: 14 | S18: 15 | T18: 16 | U18: 17 | V18: 18 | W18: 1+7=8+16+17 | Y18: 2=3+4 | AA18: 2=5+6+7 | AC18: 7=9+10+11+12
A19: 1 | B19: Æñ³í³µ³Ý³Ï³Ý ³ÝÓÇ ëÝ³ÝÏáõÃÛ³Ý í»ñ³µ»ñÛ³É | E19: 83 | F19: 12 | G19: 12 | K19: 12 | M19: 6 | O19: 3 | P19: 3 | T19: 23 | U19: 72 | W19: =E19+K19 -> 95 | X19: =L19+T19+U19 -> 95 | Y19: =F19 -> 12 | Z19: =G19+H19 -> 12 | AA19: =F19 -> 12 | AB19: =I19+J19+K19 -> 12 | AC19: =K19 -> 12 | AD19: =M19+N19+O19+P19 -> 12
A20: 2 | B20: ²ÝÑ³ï Ó»éÝ»ñ»óÇ ëÝ³ÝÏáõÃÛ³Ý í»ñ³µ»ñÛ³É | E20: 32 | F20: 13 | G20: 13 | J20: 4 | K20: 9 | M20: 2 | O20: 3 | P20: 4 | T20: 6 | U20: 35 | W20: =E20+K20 -> 41 | X20: =L20+T20+U20 -> 41 | Y20: =F20 -> 13 | Z20: =G20+H20 -> 13 | AA20: =F20 -> 13 | AB20: =I20+J20+K20 -> 13 | AC20: =K20 -> 9 | AD20: =M20+N20+O20+P20 -> 9
A21: 3 | B21: üÇ½ÇÏ³Ï³Ý ³ÝÓ³Ýó ëÝ³ÝÏáõÃÛ³Ý í»ñ³µ»ñÛ³É | E21: 108 | F21: 41 | G21: 28 | H21: 13 | J21: 25 | K21: 16 | M21: 6 | O21: 7 | P21: 3 | T21: 25 | U21: 99 | V21: 1 | W21: =E21+K21 -> 124 | X21: =L21+T21+U21 -> 124 | Y21: =F21 -> 41 | Z21: =G21+H21 -> 41 | AA21: =F21 -> 41 | AB21: =I21+J21+K21 -> 41 | AC21: =K21 -> 16 | AD21: =M21+N21+O21+P21 -> 16
A22: 4 | B22: Ընդամենը | E22: 223 | F22: 66 | G22: 53 | H22: 13 | J22: 29 | K22: 37 | M22: 14 | O22: 13 | P22: 10 | T22: 54 | U22: 206 | V22: 1 | W22: =E22+K22 -> 260 | X22: =L22+T22+U22 -> 260 | Y22: =F22 -> 66 | Z22: =G22+H22 -> 66 | AA22: =F22 -> 66 | AB22: =I22+J22+K22 -> 66 | AC22: =K22 -> 37 | AD22: =M22+N22+O22+P22 -> 37

Sheet Շենգավիթ
A1: Ð²ÞìºîìàôÂÚàôÜ
A2: ՇԵՆԳԱՎԻԹ ì²ðâ²Î²Ü Þðæ²ÜÆ ÀÜ¸Ð²Üàôð Æð²ì²êàôÂÚ²Ü ²è²æÆÜ ²îÚ²ÜÆ ¸²î²ð²ÜÆ
H3: ¶àðÌàôÜºàôÂÚ²Ü ìºð²´ºðÚ²È êÜ²ÜÎàôÂÚ²Ü ¶àðÌºðàì 2017թ. 1-ին կիսամյակ
E4: ²Ý³í³ñï ·áñÍ»ñÇ ÙÝ³óáñ¹Á Ñ³ßí»ïáõ Å³Ù³Ý³Ï³ßñç³ÝÇ ëÏ½µáõÙ | F4: êï³óí³Í ¹ÇÙáõÙÝ»ñÇ (·áñÍ»ñ) ù³Ý³ÏÁ | L4: öáË³Ýóí»É ¿ ³ÛÉ ¹³ï³íáñÇ (Ï³½ÙÇ ÷á÷áËáõÃÛáõÝ) | M4: ì³ñáõÛÃ ÁÝ¹áõÝí³Í ¹ÇÙáõÙÝ»ñáí Ï³Û³óí³Í ¹³ï³Ï³Ý ³Ïï»ñ | Q4: Ü»ñÏ³Û³óí»É ¿ ýÇÝ³Ýë³Ï³Ý ³éáÕç³óÙ³Ý Íñ³·Çñ | T4: ²í³ñïí»É »Ý ·áñÍ»ñ Ñ³ßí»ïáõ Å³Ù³Ý³Ï³ßñç³ÝáõÙ | U4: ²Ý³í³ñï ·áñÍ»ñÇ ÙÝ³óáñ¹Á Ñ³ßí»ïáõ Å³Ù³Ý³Ï³ßñç³ÝÇ í»ñçáõÙ | V4: ´áÕáù³ñÏí»É »Ý í»ñ³ùÝÝÇã ¹³ï³ñ³Ý
F6: ÀÝ¹³Ù»ÝÁ | G6: ³Û¹ ÃíáõÙ Ñ³ñÏ³¹ñí³Í ëÝ³ÝÏáõÃÛáõÝ | H6: ³Û¹ ÃíáõÙ Ï³Ù³íáñ ëÝ³ÝÏáõÃÛáõÝ | I6: ëï³óí³Í ¹ÇÙáõÙÝ»ñÇ ÁÝÃ³óùÁ | M6: Ï³Û³óí»É ¿ å³ñï³å³ÝÇÝ ëÝ³ÝÏ ×³Ý³ã»Éáõ Ù³ëÇÝ í×Çé | N6: å³ñï³å³ÝÇÝ ëÝ³ÝÏ ×³Ý³ã»Éáõ ¹ÇÙáõÙÁ Ù»ñÅí»É ¿ | O6: ¹ÇÙáõÙÁ ÃáÕÝí»É ¿ ³é³Ýó ùÝÝáõÃÛ³Ý | P6: ³Ý³í³ñï (³Û¹ ÃíáõÙ Ï³ë»óí³Í) | Q6: ÀÝ¹³Ù»ÝÁ | R6: ÃáÕÝí»É ¿ ³é³Ýó ùÝÝ³ñÏÙ³Ý | S6: Ñ³ëï³ïí»É ¿
I8: ¸ÇÙáõÙÇ ÁÝ¹áõÝáõÙÁ Ù»ñÅí»É ¿ | J8: ¸ÇÙáõÙÁ í»ñ³¹³ñÓí»É ¿ | K8: ÀÝ¹áõÝí»É ¿ í³ñáõÛÃ
E18: 1 | F18: 2 | G18: 3 | H18: 4 | I18: 5 | J18: 6 | K18: 7 | L18: 8 | M18: 9 | N18: 10 | O18: 11 | P18: 12 | Q18: 13 | R18: 14 | S18: 15 | T18: 16 | U18: 17 | V18: 18 | W18: 1+7=8+16+17 | Y18: 2=3+4 | AA18: 2=5+6+7 | AC18: 7=9+10+11+12
A19: 1 | B19: Æñ³í³µ³Ý³Ï³Ý ³ÝÓÇ ëÝ³ÝÏáõÃÛ³Ý í»ñ³µ»ñÛ³É | E19: 191 | F19: 70 | G19: 70 | H19: 0 | I19: 0 | J19: 24 | K19: 46 | M19: 18 | N19: 6 | P19: 19 | Q19: 2 | R19: 1 | S19: 1 | T19: 35 | U19: 202 | V19: 4 | W19: =E19+K19 -> 237 | X19: =L19+T19+U19 -> 237 | Y19: =F19 -> 70 | Z19: =G19+H19 -> 70 | AA19: =F19 -> 70 | AB19: =I19+J19+K19 -> 70 | AC19: =K19 -> 46 | AD19: =M19+N19+O19+P19 -> 43
A20: 2 | B20: ²ÝÑ³ï Ó»éÝ»ñ»óÇ ëÝ³ÝÏáõÃÛ³Ý í»ñ³µ»ñÛ³É | E20: 50 | F20: 32 | G20: 32 | H20: =[3]Ա.Կուբանյան!H20+[3]Ա.Չիչոյան!H20 -> 0 | I20: =[3]Ա.Կուբանյան!I20+[3]Ա.Չիչոյան!I20 -> 0 | J20: 9 | K20: 23 | M20: 11 | N20: 1 | P20: 11 | Q20: 0 | R20: 0 | S20: 0 | T20: 7 | U20: 66 | V20: 3 | W20: =E20+K20 -> 73 | X20: =L20+T20+U20 -> 73 | Y20: =F20 -> 32 | Z20: =G20+H20 -> 32 | AA20: =F20 -> 32 | AB20: =I20+J20+K20 -> 32 | AC20: =K20 -> 23 | AD20: =M20+N20+O20+P20 -> 23
A21: 3 | B21: üÇ½ÇÏ³Ï³Ý ³ÝÓ³Ýó ëÝ³ÝÏáõÃÛ³Ý í»ñ³µ»ñÛ³É | E21: 133 | F21: 37 | G21: 24 | H21: 13 | I21: 2 | J21: 13 | K21: 22 | M21: 6 | N21: 2 | P21: 13 | Q21: 1 | R21: 0 | S21: 1 | T21: 23 | U21: 132 | V21: 1 | W21: =E21+K21 -> 155 | X21: =L21+T21+U21 -> 155 | Y21: =F21 -> 37 | Z21: =G21+H21 -> 37 | AA21: =F21 -> 37 | AB21: =I21+J21+K21 -> 37 | AC21: =K21 -> 22 | AD21: =M21+N21+O21+P21 -> 21
A22: 4 | B22: Ընդամենը | E22: 374 | F22: 139 | G22: 126 | H22: 13 | I22: 2 | J22: 46 | K22: 91 | M22: 35 | N22: 9 | P22: 43 | Q22: 3 | R22: 1 | S22: 2 | T22: 65 | U22: 400 | V22: 8 | W22: =E22+K22 -> 465 | X22: =L22+T22+U22 -> 465 | Y22: =F22 -> 139 | Z22: =G22+H22 -> 139 | AA22: =F22 -> 139 | AB22: =I22+J22+K22 -> 139 | AC22: =K22 -> 91 | AD22: =M22+N22+O22+P22 -> 87
C27: 4 գործով՝ կարճում

Sheet Մալաթիա
A1: Ð²ÞìºîìàôÂÚàôÜ
A2: Ø²È²ÂÆ²-êº´²êîÆ² ì²ðâ²Î²Ü Þðæ²ÜÆ ÀÜ¸Ð²Üàôð Æð²ì²êàôÂÚ²Ü ²è²æÆÜ ²îÚ²ÜÆ ¸²î²ð²ÜÆ
H3: ¶àðÌàôÜºàôÂÚ²Ü ìºð²´ºðÚ²È êÜ²ÜÎàôÂÚ²Ü ¶àðÌºðàì | T3: 2017Ã. 1 կիսամյակ
E4: ²Ý³í³ñï ·áñÍ»ñÇ ÙÝ³óáñ¹Á Ñ³ßí»ïáõ Å³Ù³Ý³Ï³ßñç³ÝÇ ëÏ½µáõÙ | F4: êï³óí³Í ¹ÇÙáõÙÝ»ñÇ (·áñÍ»ñ) ù³Ý³ÏÁ | L4: öáË³Ýóí»É ¿ ³ÛÉ ¹³ï³íáñÇ (Ï³½ÙÇ ÷á÷áËáõÃÛáõÝ) | M4: ì³ñáõÛÃ ÁÝ¹áõÝí³Í ¹ÇÙáõÙÝ»ñáí Ï³Û³óí³Í ¹³ï³Ï³Ý ³Ïï»ñ | Q4: Ü»ñÏ³Û³óí»É ¿ ýÇÝ³Ýë³Ï³Ý ³éáÕç³óÙ³Ý Íñ³·Çñ | T4: ²í³ñïí»É »Ý ·áñÍ»ñ Ñ³ßí»ïáõ Å³Ù³Ý³Ï³ßñç³ÝáõÙ | U4: ²Ý³í³ñï ·áñÍ»ñÇ ÙÝ³óáñ¹Á Ñ³ßí»ïáõ Å³Ù³Ý³Ï³ßñç³ÝÇ í»ñçáõÙ | V4: ´áÕáù³ñÏí»É »Ý í»ñ³ùÝÝÇã ¹³ï³ñ³Ý
F6: ÀÝ¹³Ù»ÝÁ | G6: ³Û¹ ÃíáõÙ Ñ³ñÏ³¹ñí³Í ëÝ³ÝÏáõÃÛáõÝ | H6: ³Û¹ ÃíáõÙ Ï³Ù³íáñ ëÝ³ÝÏáõÃÛáõÝ | I6: ëï³óí³Í ¹ÇÙáõÙÝ»ñÇ ÁÝÃ³óùÁ | M6: Ï³Û³óí»É ¿ å³ñï³å³ÝÇÝ ëÝ³ÝÏ ×³Ý³ã»Éáõ Ù³ëÇÝ í×Çé | N6: å³ñï³å³ÝÇÝ ëÝ³ÝÏ ×³Ý³ã»Éáõ ¹ÇÙáõÙÁ Ù»ñÅí»É ¿ | O6: ¹ÇÙáõÙÁ ÃáÕÝí»É ¿ ³é³Ýó ùÝÝáõÃÛ³Ý | P6: ³Ý³í³ñï (³Û¹ ÃíáõÙ Ï³ë»óí³Í) | Q6: ÀÝ¹³Ù»ÝÁ | R6: ÃáÕÝí»É ¿ ³é³Ýó ùÝÝ³ñÏÙ³Ý | S6: Ñ³ëï³ïí»É ¿
I8: ¸ÇÙáõÙÇ ÁÝ¹áõÝáõÙÁ Ù»ñÅí»É ¿ | J8: ¸ÇÙáõÙÁ í»ñ³¹³ñÓí»É ¿ | K8: ÀÝ¹áõÝí»É ¿ í³ñáõÛÃ
E18: 1 | F18: 2 | G18: 3 | H18: 4 | I18: 5 | J18: 6 | K18: 7 | L18: 8 | M18: 9 | N18: 10 | O18: 11 | P18: 12 | Q18: 13 | R18: 14 | S18: 15 | T18: 16 | U18: 17 | V18: 18 | W18: 1+7=8+16+17 | Y18: 2=3+4 | AA18: 2=5+6+7 | AC18: 7=9+10+11+12
A19: 1 | B19: Æñ³í³µ³Ý³Ï³Ý ³ÝÓÇ ëÝ³ÝÏáõÃÛ³Ý í»ñ³µ»ñÛ³É | E19: 153 | F19: 32 | G19: 30 | H19: 2 | I19: 3 | J19: 2 | K19: 27 | M19: 4 | N19: 2 | P19: 21 | T19: 17 | U19: 163 | V19: 3 | W19: =E19+K19 -> 180 | X19: =L19+T19+U19 -> 180 | Y19: =F19 -> 32 | Z19: =G19+H19 -> 32 | AA19: =F19 -> 32 | AB19: =I19+J19+K19 -> 32 | AC19: =K19 -> 27 | AD19: =M19+N19+O19+P19 -> 27
A20: 2 | B20: ²ÝÑ³ï Ó»éÝ»ñ»óÇ ëÝ³ÝÏáõÃÛ³Ý í»ñ³µ»ñÛ³É | E20: 55 | F20: 12 | G20: 12 | H20: 0 | I20: 1 | J20: 1 | K20: 10 | M20: 4 | P20: 6 | T20: 6 | U20: 59 | V20: 1 | W20: =E20+K20 -> 65 | X20: =L20+T20+U20 -> 65 | Y20: =F20 -> 12 | Z20: =G20+H20 -> 12 | AA20: =F20 -> 12 | AB20: =I20+J20+K20 -> 12 | AC20: =K20 -> 10 | AD20: =M20+N20+O20+P20 -> 10
A21: 3 | B21: üÇ½ÇÏ³Ï³Ý ³ÝÓ³Ýó ëÝ³ÝÏáõÃÛ³Ý í»ñ³µ»ñÛ³É | E21: 180 | F21: 36 | G21: 22 | H21: 14 | I21: 1 | J21: 6 | K21: 29 | M21: 13 | N21: 1 | P21: 15 | T21: 4 | U21: 205 | V21: 6 | W21: =E21+K21 -> 209 | X21: =L21+T21+U21 -> 209 | Y21: =F21 -> 36 | Z21: =G21+H21 -> 36 | AA21: =F21 -> 36 | AB21: =I21+J21+K21 -> 36 | AC21: =K21 -> 29 | AD21: =M21+N21+O21+P21 -> 29
A22: 4 | B22: Ընդամենը | E22: 388 | F22: 80 | G22: 64 | H22: 16 | I22: 5 | J22: 9 | K22: 66 | M22: 21 | N22: 3 | P22: 42 | T22: 27 | U22: 427 | V22: 10 | W22: =E22+K22 -> 454 | X22: =L22+T22+U22 -> 454 | Y22: =F22 -> 80 | Z22: =G22+H22 -> 80 | AA22: =F22 -> 80 | AB22: =I22+J22+K22 -> 80 | AC22: =K22 -> 66 | AD22: =M22+N22+O22+P22 -> 66

Sheet Լոռի
A1: Ð²ÞìºîìàôÂÚàôÜ
A2: ՀՀ Èàèàô Ø²ð¼Æ ÀÜ¸Ð²Üàôð Æð²ì²êàôÂÚ²Ü ²è²æÆÜ ²îÚ²ÜÆ ¸²î²ð²ÜÆ
A3: ¶àðÌàôÜºàôÂÚ²Ü ìºð²´ºðÚ²È êÜ²ÜÎàôÂÚ²Ü ¶àðÌºðàì 2017թ. 1-ÇÝ ÏÇë³ÙÛ³Ï
E4: ²Ý³í³ñï ·áñÍ»ñÇ ÙÝ³óáñ¹Á Ñ³ßí»ïáõ Å³Ù³Ý³Ï³ßñç³ÝÇ ëÏ½µáõÙ | F4: êï³óí³Í ¹ÇÙáõÙÝ»ñÇ (·áñÍ»ñ) ù³Ý³ÏÁ | L4: öáË³Ýóí»É ¿ ³ÛÉ ¹³ï³íáñÇ (Ï³½ÙÇ ÷á÷áËáõÃÛáõÝ) | M4: ì³ñáõÛÃ ÁÝ¹áõÝí³Í ¹ÇÙáõÙÝ»ñáí Ï³Û³óí³Í ¹³ï³Ï³Ý ³Ïï»ñ | Q4: Ü»ñÏ³Û³óí»É ¿ ýÇÝ³Ýë³Ï³Ý ³éáÕç³óÙ³Ý Íñ³·Çñ | T4: ²í³ñïí»É »Ý ·áñÍ»ñ Ñ³ßí»ïáõ Å³Ù³Ý³Ï³ßñç³ÝáõÙ | U4: ²Ý³í³ñï ·áñÍ»ñÇ ÙÝ³óáñ¹Á Ñ³ßí»ïáõ Å³Ù³Ý³Ï³ßñç³ÝÇ í»ñçáõÙ | V4: ´áÕáù³ñÏí»É »Ý í»ñ³ùÝÝÇã ¹³ï³ñ³Ý
F6: ÀÝ¹³Ù»ÝÁ | G6: ³Û¹ ÃíáõÙ Ñ³ñÏ³¹ñí³Í ëÝ³ÝÏáõÃÛáõÝ | H6: ³Û¹ ÃíáõÙ Ï³Ù³íáñ ëÝ³ÝÏáõÃÛáõÝ | I6: ëï³óí³Í ¹ÇÙáõÙÝ»ñÇ ÁÝÃ³óùÁ | M6: Ï³Û³óí»É ¿ å³ñï³å³ÝÇÝ ëÝ³ÝÏ ×³Ý³ã»Éáõ Ù³ëÇÝ í×Çé | N6: å³ñï³å³ÝÇÝ ëÝ³ÝÏ ×³Ý³ã»Éáõ ¹ÇÙáõÙÁ Ù»ñÅí»É ¿ | O6: ¹ÇÙáõÙÁ ÃáÕÝí»É ¿ ³é³Ýó ùÝÝáõÃÛ³Ý | P6: ³Ý³í³ñï (³Û¹ ÃíáõÙ Ï³ë»óí³Í) | Q6: ÀÝ¹³Ù»ÝÁ | R6: ÃáÕÝí»É ¿ ³é³Ýó ùÝÝ³ñÏÙ³Ý | S6: Ñ³ëï³ïí»É ¿
I8: ¸ÇÙáõÙÇ ÁÝ¹áõÝáõÙÁ Ù»ñÅí»É ¿ | J8: ¸ÇÙáõÙÁ í»ñ³¹³ñÓí»É ¿ | K8: ÀÝ¹áõÝí»É ¿ í³ñáõÛÃ
E18: 1 | F18: 2 | G18: 3 | H18: 4 | I18: 5 | J18: 6 | K18: 7 | L18: 8 | M18: 9 | N18: 10 | O18: 11 | P18: 12 | Q18: 13 | R18: 14 | S18: 15 | T18: 16 | U18: 17 | V18: 18 | W18: 1+7=8+16+17 | Y18: 2=3+4 | AA18: 2=5+6+7 | AC18: 7=9+10+11+12
A19: 1 | B19: Æñ³í³µ³Ý³Ï³Ý ³ÝÓÇ ëÝ³ÝÏáõÃÛ³Ý í»ñ³µ»ñÛ³É | E19: 152 | F19: =+G19+H19 -> 27 | G19: 27 | K19: 27 | M19: 17 | P19: 8 | Q19: 2 | S19: 2 | T19: 15 | U19: 164 | V19: 5 | W19: =E19+K19 -> 179 | X19: =L19+T19+U19 -> 179 | Y19: =F19 -> 27 | Z19: =G19+H19 -> 27 | AA19: =F19 -> 27 | AB19: =I19+J19+K19 -> 27 | AC19: =K19 -> 27 | AD19: =M19+N19+O19+P19 -> 25
A20: 2 | B20: ²ÝÑ³ï Ó»éÝ»ñ»óÇ ëÝ³ÝÏáõÃÛ³Ý í»ñ³µ»ñÛ³É | E20: 40 | F20: =+G20+H20 -> 14 | G20: 14 | J20: 1 | K20: 13 | M20: 9 | P20: 4 | T20: 4 | U20: 49 | W20: =E20+K20 -> 53 | X20: =L20+T20+U20 -> 53 | Y20: =F20 -> 14 | Z20: =G20+H20 -> 14 | AA20: =F20 -> 14 | AB20: =I20+J20+K20 -> 14 | AC20: =K20 -> 13 | AD20: =M20+N20+O20+P20 -> 13
A21: 3 | B21: üÇ½ÇÏ³Ï³Ý ³ÝÓ³Ýó ëÝ³ÝÏáõÃÛ³Ý í»ñ³µ»ñÛ³É | E21: 133 | F21: =+G21+H21 -> 32 | G21: 15 | H21: 17 | J21: 15 | K21: 17 | M21: 14 | N21: 2 | P21: 1 | Q21: 1 | S21: 1 | T21: 17 | U21: 133 | V21: 2 | W21: =E21+K21 -> 150 | X21: =L21+T21+U21 -> 150 | Y21: =F21 -> 32 | Z21: =G21+H21 -> 32 | AA21: =F21 -> 32 | AB21: =I21+J21+K21 -> 32 | AC21: =K21 -> 17 | AD21: =M21+N21+O21+P21 -> 17
A22: 4 | B22: Ընդամենը | E22: =+E19+E20+E21 -> 325 | F22: =+F19+F20+F21 -> 73 | G22: =+G19+G20+G21 -> 56 | H22: =+H19+H20+H21 -> 17 | I22: =+I19+I20+I21 -> 0 | J22: =+J19+J20+J21 -> 16 | K22: =+K19+K20+K21 -> 57 | L22: =+L19+L20+L21 -> 0 | ... V22: =+V19+V20+V21 -> 7 | W22: =E22+K22 -> 382 | X22: =L22+T22+U22 -> 382 | Y22: =F22 -> 73 | Z22: =G22+H22 -> 73 | AA22: =F22 -> 73 | AB22: =I22+J22+K22 -> 73 | AC22: =K22 -> 57 | AD22: =M22+N22+O22+P22 -> 55
C26: 2 գործով՝ կարճում

Sheet Արմավիր
A1: Ð²ÞìºîìàôÂÚàôÜ
A2: ՀՀ ²ðØ²ìÆðÆ Ø²ð¼Æ ÀÜ¸Ð²Üàôð Æð²ì²êàôÂÚ²Ü ²è²æÆÜ ²îÚ²ÜÆ ¸²î²ð²ÜÆ
H3: ¶àðÌàôÜºàôÂÚ²Ü ìºð²´ºðÚ²È êÜ²ÜÎàôÂÚ²Ü ¶àðÌºðàì | T3: 2017Ã. 1-ին կիսամյակ
E4: ²Ý³í³ñï ·áñÍ»ñÇ ÙÝ³óáñ¹Á Ñ³ßí»ïáõ Å³Ù³Ý³Ï³ßñç³ÝÇ ëÏ½µáõÙ | F4: êï³óí³Í ¹ÇÙáõÙÝ»ñÇ (·áñÍ»ñ) ù³Ý³ÏÁ | L4: öáË³Ýóí»É ¿ ³ÛÉ ¹³ï³íáñÇ (Ï³½ÙÇ ÷á÷áËáõÃÛáõÝ) | M4: ì³ñáõÛÃ ÁÝ¹áõÝí³Í ¹ÇÙáõÙÝ»ñáí Ï³Û³óí³Í ¹³ï³Ï³Ý ³Ïï»ñ | Q4: Ü»ñÏ³Û³óí»É ¿ ýÇÝ³Ýë³Ï³Ý ³éáÕç³óÙ³Ý Íñ³·Çñ | T4: ²í³ñïí»É »Ý ·áñÍ»ñ Ñ³ßí»ïáõ Å³Ù³Ý³Ï³ßñç³ÝáõÙ | U4: ²Ý³í³ñï ·áñÍ»ñÇ ÙÝ³óáñ¹Á Ñ³ßí»ïáõ Å³Ù³Ý³Ï³ßñç³ÝÇ í»ñçáõÙ | V4: ´áÕáù³ñÏí»É »Ý í»ñ³ùÝÝÇã ¹³ï³ñ³Ý
F6: ÀÝ¹³Ù»ÝÁ | G6: ³Û¹ ÃíáõÙ Ñ³ñÏ³¹ñí³Í ëÝ³ÝÏáõÃÛáõÝ | H6: ³Û¹ ÃíáõÙ Ï³Ù³íáñ ëÝ³ÝÏáõÃÛáõÝ | I6: ëï³óí³Í ¹ÇÙáõÙÝ»ñÇ ÁÝÃ³óùÁ | M6: Ï³Û³óí»É ¿ å³ñï³å³ÝÇÝ ëÝ³ÝÏ ×³Ý³ã»Éáõ Ù³ëÇÝ í×Çé | N6: å³ñï³å³ÝÇÝ ëÝ³ÝÏ ×³Ý³ã»Éáõ ¹ÇÙáõÙÁ Ù»ñÅí»É ¿ | O6: ¹ÇÙáõÙÁ ÃáÕÝí»É ¿ ³é³Ýó ùÝÝáõÃÛ³Ý | P6: ³Ý³í³ñï (³Û¹ ÃíáõÙ Ï³ë»óí³Í) | Q6: ÀÝ¹³Ù»ÝÁ | R6: ÃáÕÝí»É ¿ ³é³Ýó ùÝÝ³ñÏÙ³Ý | S6: Ñ³ëï³ïí»É ¿
I8: ¸ÇÙáõÙÇ ÁÝ¹áõÝáõÙÁ Ù»ñÅí»É ¿ | J8: ¸ÇÙáõÙÁ í»ñ³¹³ñÓí»É ¿ | K8: ÀÝ¹áõÝí»É ¿ í³ñáõÛÃ
E18: 1 | F18: 2 | G18: 3 | H18: 4 | I18: 5 | J18: 6 | K18: 7 | L18: 8 | M18: 9 | N18: 10 | O18: 11 | P18: 12 | Q18: 13 | R18: 14 | S18: 15 | T18: 16 | U18: 17 | V18: 18 | W18: 1+7=8+16+17 | Y18: 2=3+4 | AA18: 2=5+6+7 | AC18: 7=9+10+11+12
A19: 1 | B19: Æñ³í³µ³Ý³Ï³Ý ³ÝÓÇ ëÝ³ÝÏáõÃÛ³Ý í»ñ³µ»ñÛ³É | E19: 91 | F19: 28 | G19: 27 | H19: 1 | J19: 8 | K19: 20 | M19: 7 | P19: 13 | T19: 8 | U19: 103 | W19: =E19+K19 -> 111 | X19: =L19+T19+U19 -> 111 | Y19: =F19 -> 28 | Z19: =G19+H19 -> 28 | AA19: =F19 -> 28 | AB19: =I19+J19+K19 -> 28 | AC19: =K19 -> 20 | AD19: =M19+N19+O19+P19 -> 20
A20: 2 | B20: ²ÝÑ³ï Ó»éÝ»ñ»óÇ ëÝ³ÝÏáõÃÛ³Ý í»ñ³µ»ñÛ³É | E20: 34 | F20: 16 | G20: 16 | H20: 0 | J20: 2 | K20: 14 | M20: 4 | P20: 10 | T20: 1 | U20: 47 | W20: =E20+K20 -> 48 | X20: =L20+T20+U20 -> 48 | Y20: =F20 -> 16 | Z20: =G20+H20 -> 16 | AA20: =F20 -> 16 | AB20: =I20+J20+K20 -> 16 | AC20: =K20 -> 14 | AD20: =M20+N20+O20+P20 -> 14
A21: 3 | B21: üÇ½ÇÏ³Ï³Ý ³ÝÓ³Ýó ëÝ³ÝÏáõÃÛ³Ý í»ñ³µ»ñÛ³É | E21: 124 | F21: 14 | G21: 10 | H21: 4 | J21: 7 | K21: 7 | M21: 1 | P21: 6 | T21: 1 | U21: 130 | W21: =E21+K21 -> 131 | X21: =L21+T21+U21 -> 131 | Y21: =F21 -> 14 | Z21: =G21+H21 -> 14 | AA21: =F21 -> 14 | AB21: =I21+J21+K21 -> 14 | AC21: =K21 -> 7 | AD21: =M21+N21+O21+P21 -> 7
A22: 4 | B22: Ընդամենը | E22: =SUM(E19:E21) -> 249 | F22: =SUM(F19:F21) -> 58 | G22: =SUM(G19:G21) -> 53 | H22: =SUM(H19:H21) -> 5 | I22: =SUM(I19:I21) -> 0 | J22: =SUM(J19:J21) -> 17 | K22: =SUM(K19:K21) -> 41 | L22: =SUM(L19:L21) -> 0 | ... V22: =SUM(V19:V21) -> 0 | W22: =E22+K22 -> 290 | X22: =L22+T22+U22 -> 290 | Y22: =F22 -> 58 | Z22: =G22+H22 -> 58 | AA22: =F22 -> 58 | AB22: =I22+J22+K22 -> 58 | AC22: =K22 -> 41 | AD22: =M22+N22+O22+P22 -> 41

Sheet Կոտայք
A1: Ð²ÞìºîìàôÂÚàôÜ
A2: ÐÐ Îàî²ÚøÆ Ø²ð¼Æ ÀÜ¸Ð²Üàôð Æð²ì²êàôÂÚ²Ü ²è²æÆÜ ²îÚ²ÜÆ ¸²î²ð²ÜÆ
H3: ¶àðÌàôÜºàôÂÚ²Ü ìºð²´ºðÚ²È êÜ²ÜÎàôÂÚ²Ü ¶àðÌºðàì 2017թ. 1-ին կիսամյակ
E4: ²Ý³í³ñï ·áñÍ»ñÇ ÙÝ³óáñ¹Á Ñ³ßí»ïáõ Å³Ù³Ý³Ï³ßñç³ÝÇ ëÏ½µáõÙ | F4: êï³óí³Í ¹ÇÙáõÙÝ»ñÇ (·áñÍ»ñ) ù³Ý³ÏÁ | L4: öáË³Ýóí»É ¿ ³ÛÉ ¹³ï³íáñÇ (Ï³½ÙÇ ÷á÷áËáõÃÛáõÝ) | M4: ì³ñáõÛÃ ÁÝ¹áõÝí³Í ¹ÇÙáõÙÝ»ñáí Ï³Û³óí³Í ¹³ï³Ï³Ý ³Ïï»ñ | Q4: Ü»ñÏ³Û³óí»É ¿ ýÇÝ³Ýë³Ï³Ý ³éáÕç³óÙ³Ý Íñ³·Çñ | T4: ²í³ñïí»É »Ý ·áñÍ»ñ Ñ³ßí»ïáõ Å³Ù³Ý³Ï³ßñç³ÝáõÙ | U4: ²Ý³í³ñï ·áñÍ»ñÇ ÙÝ³óáñ¹Á Ñ³ßí»ïáõ Å³Ù³Ý³Ï³ßñç³ÝÇ í»ñçáõÙ | V4: ´áÕáù³ñÏí»É »Ý í»ñ³ùÝÝÇã ¹³ï³ñ³Ý
F6: ÀÝ¹³Ù»ÝÁ | G6: ³Û¹ ÃíáõÙ Ñ³ñÏ³¹ñí³Í ëÝ³ÝÏáõÃÛáõÝ | H6: ³Û¹ ÃíáõÙ Ï³Ù³íáñ ëÝ³ÝÏáõÃÛáõÝ | I6: ëï³óí³Í ¹ÇÙáõÙÝ»ñÇ ÁÝÃ³óùÁ | M6: Ï³Û³óí»É ¿ å³ñï³å³ÝÇÝ ëÝ³ÝÏ ×³Ý³ã»Éáõ Ù³ëÇÝ í×Çé | N6: å³ñï³å³ÝÇÝ ëÝ³ÝÏ ×³Ý³ã»Éáõ ¹ÇÙáõÙÁ Ù»ñÅí»É ¿ | O6: ¹ÇÙáõÙÁ ÃáÕÝí»É ¿ ³é³Ýó ùÝÝáõÃÛ³Ý | P6: ³Ý³í³ñï (³Û¹ ÃíáõÙ Ï³ë»óí³Í) | Q6: ÀÝ¹³Ù»ÝÁ | R6: ÃáÕÝí»É ¿ ³é³Ýó ùÝÝ³ñÏÙ³Ý | S6: Ñ³ëï³ïí»É ¿
I8: ¸ÇÙáõÙÇ ÁÝ¹áõÝáõÙÁ Ù»ñÅí»É ¿ | J8: ¸ÇÙáõÙÁ í»ñ³¹³ñÓí»É ¿ | K8: ÀÝ¹áõÝí»É ¿ í³ñáõÛÃ
E18: 1 | F18: 2 | G18: 3 | H18: 4 | I18: 5 | J18: 6 | K18: 7 | L18: 8 | M18: 9 | N18: 10 | O18: 11 | P18: 12 | Q18: 13 | R18: 14 | S18: 15 | T18: 16 | U18: 17 | V18: 18 | W18: 1+7=8+16+17 | Y18: 2=3+4 | AA18: 2=5+6+7 | AC18: 7=9+10+11+12
A19: 1 | B19: Æñ³í³µ³Ý³Ï³Ý ³ÝÓÇ ëÝ³ÝÏáõÃÛ³Ý í»ñ³µ»ñÛ³É | E19: 259 | F19: 56 | G19: 54 | H19: 2 | J19: 1 | K19: 55 | M19: 43 | P19: 12 | T19: 27 | U19: 287 | V19: 4 | W19: =E19+K19 -> 314 | X19: =L19+T19+U19 -> 314 | Y19: =F19 -> 56 | Z19: =G19+H19 -> 56 | AA19: =F19 -> 56 | AB19: =I19+J19+K19 -> 56 | AC19: =K19 -> 55 | AD19: =M19+N19+O19+P19 -> 55
A20: 2 | B20: ²ÝÑ³ï Ó»éÝ»ñ»óÇ ëÝ³ÝÏáõÃÛ³Ý í»ñ³µ»ñÛ³É | E20: 71 | F20: 25 | G20: 21 | H20: 4 | K20: 25 | M20: 19 | N20: 2 | P20: 4 | T20: 1 | U20: 95 | W20: =E20+K20 -> 96 | X20: =L20+T20+U20 -> 96 | Y20: =F20 -> 25 | Z20: =G20+H20 -> 25 | AA20: =F20 -> 25 | AB20: =I20+J20+K20 -> 25 | AC20: =K20 -> 25 | AD20: =M20+N20+O20+P20 -> 25
A21: 3 | B21: üÇ½ÇÏ³Ï³Ý ³ÝÓ³Ýó ëÝ³ÝÏáõÃÛ³Ý í»ñ³µ»ñÛ³É | E21: 275 | F21: 69 | G21: 39 | H21: 30 | J21: 2 | K21: 67 | M21: 67 | T21: 2 | U21: 340 | W21: =E21+K21 -> 342 | X21: =L21+T21+U21 -> 342 | Y21: =F21 -> 69 | Z21: =G21+H21 -> 69 | AA21: =F21 -> 69 | AB21: =I21+J21+K21 -> 69 | AC21: =K21 -> 67 | AD21: =M21+N21+O21+P21 -> 67
A22: 4 | B22: Ընդամենը | E22: 605 | F22: 150 | G22: 114 | H22: 36 | J22: 3 | K22: 147 | M22: 129 | N22: 2 | P22: 16 | T22: 30 | U22: 722 | V22: 4 | W22: =E22+K22 -> 752 | X22: =L22+T22+U22 -> 752 | Y22: =F22 -> 150 | Z22: =G22+H22 -> 150 | AA22: =F22 -> 150 | AB22: =I22+J22+K22 -> 150 | AC22: =K22 -> 147 | AD22: =M22+N22+O22+P22 -> 147

Sheet Շիրակ
A1: Ð²ÞìºîìàôÂÚàôÜ
A2: ՀՀ ÞÆð²ÎÆ Ø²ð¼Æ ÀÜ¸Ð²Üàôð Æð²ì²êàôÂÚ²Ü ²è²æÆÜ ²îÚ²ÜÆ ¸²î²ð²ÜÆ
A3: ¶àðÌàôÜºàôÂÚ²Ü ìºð²´ºðÚ²È êÜ²ÜÎàôÂÚ²Ü ¶àðÌºðàì 2017թ. 1-ին կիսամյակ
E4: ²Ý³í³ñï ·áñÍ»ñÇ ÙÝ³óáñ¹Á Ñ³ßí»ïáõ Å³Ù³Ý³Ï³ßñç³ÝÇ ëÏ½µáõÙ | F4: êï³óí³Í ¹ÇÙáõÙÝ»ñÇ (·áñÍ»ñ) ù³Ý³ÏÁ | L4: öáË³Ýóí»É ¿ ³ÛÉ ¹³ï³íáñÇ (Ï³½ÙÇ ÷á÷áËáõÃÛáõÝ) | M4: ì³ñáõÛÃ ÁÝ¹áõÝí³Í ¹ÇÙáõÙÝ»ñáí Ï³Û³óí³Í ¹³ï³Ï³Ý ³Ïï»ñ | Q4: Ü»ñÏ³Û³óí»É ¿ ýÇÝ³Ýë³Ï³Ý ³éáÕç³óÙ³Ý Íñ³·Çñ | T4: ²í³ñïí»É »Ý ·áñÍ»ñ Ñ³ßí»ïáõ Å³Ù³Ý³Ï³ßñç³ÝáõÙ | U4: ²Ý³í³ñï ·áñÍ»ñÇ ÙÝ³óáñ¹Á Ñ³ßí»ïáõ Å³Ù³Ý³Ï³ßñç³ÝÇ í»ñçáõÙ | V4: ´áÕáù³ñÏí»É »Ý í»ñ³ùÝÝÇã ¹³ï³ñ³Ý
F6: ÀÝ¹³Ù»ÝÁ | G6: ³Û¹ ÃíáõÙ Ñ³ñÏ³¹ñí³Í ëÝ³ÝÏáõÃÛáõÝ | H6: ³Û¹ ÃíáõÙ Ï³Ù³íáñ ëÝ³ÝÏáõÃÛáõÝ | I6: ëï³óí³Í ¹ÇÙáõÙÝ»ñÇ ÁÝÃ³óùÁ | M6: Ï³Û³óí»É ¿ å³ñï³å³ÝÇÝ ëÝ³ÝÏ ×³Ý³ã»Éáõ Ù³ëÇÝ í×Çé | N6: å³ñï³å³ÝÇÝ ëÝ³ÝÏ ×³Ý³ã»Éáõ ¹ÇÙáõÙÁ Ù»ñÅí»É ¿ | O6: ¹ÇÙáõÙÁ ÃáÕÝí»É ¿ ³é³Ýó ùÝÝáõÃÛ³Ý | P6: ³Ý³í³ñï (³Û¹ ÃíáõÙ Ï³ë»óí³Í) | Q6: ÀÝ¹³Ù»ÝÁ | R6: ÃáÕÝí»É ¿ ³é³Ýó ùÝÝ³ñÏÙ³Ý | S6: Ñ³ëï³ïí»É ¿
I8: ¸ÇÙáõÙÇ ÁÝ¹áõÝáõÙÁ Ù»ñÅí»É ¿ | J8: ¸ÇÙáõÙÁ í»ñ³¹³ñÓí»É ¿ | K8: ÀÝ¹áõÝí»É ¿ í³ñáõÛÃ
E18: 1 | F18: 2 | G18: 3 | H18: 4 | I18: 5 | J18: 6 | K18: 7 | L18: 8 | M18: 9 | N18: 10 | O18: 11 | P18: 12 | Q18: 13 | R18: 14 | S18: 15 | T18: 16 | U18: 17 | V18: 18
A19: 1 | B19: Æñ³í³µ³Ý³Ï³Ý ³ÝÓÇ ëÝ³ÝÏáõÃÛ³Ý í»ñ³µ»ñÛ³É | E19: 144 | F19: 17 | G19: 17 | H19: 0 | I19: 0 | J19: 2 | K19: 15 | L19: 0 | M19: 7 | N19: 2 | O19: 0 | P19: 5 | Q19: 4 | R19: 1 | S19: 3 | T19: 7 | U19: 152 | V19: 0
A20: 2 | B20: ²ÝÑ³ï Ó»éÝ»ñ»óÇ ëÝ³ÝÏáõÃÛ³Ý í»ñ³µ»ñÛ³É | E20: 67 | F20: 9 | G20: 9 | H20: 0 | I20: 0 | J20: 1 | K20: 8 | L20: 0 | M20: 5 | N20: 0 | O20: 0 | P20: 3 | Q20: 2 | R20: 1 | S20: 1 | T20: 5 | U20: 70 | V20: 0
A21: 3 | B21: üÇ½ÇÏ³Ï³Ý ³ÝÓ³Ýó ëÝ³ÝÏáõÃÛ³Ý í»ñ³µ»ñÛ³É | E21: 168 | F21: 34 | G21: 19 | H21: 15 | I21: 0 | J21: 6 | K21: 28 | L21: 0 | M21: 15 | N21: 0 | O21: 0 | P21: 13 | Q21: 2 | R21: 1 | S21: 1 | T21: 16 | U21: 180 | V21: 0
A22: 4 | B22: Ընդամենը | E22: =SUM(E19:E21) -> 379 | F22: =SUM(F19:F21) -> 60 | G22: =SUM(G19:G21) -> 45 | H22: =SUM(H19:H21) -> 15 | I22: =SUM(I19:I21) -> 0 | J22: =SUM(J19:J21) -> 9 | K22: =SUM(K19:K21) -> 51 | L22: =SUM(L19:L21) -> 0 | ... V22: =SUM(V19:V21) -> 0
D27: 1 գործով՝ կարճում

Sheet Տավուշ
A1: Ð²ÞìºîìàôÂÚàôÜ
A2: ՀՀ î²ìàôÞÆ Ø²ð¼Æ ÀÜ¸Ð²Üàôð Æð²ì²êàôÂÚ²Ü ²è²æÆÜ ²îÚ²ÜÆ ¸²î²ð²ÜÆ
H3: ¶àðÌàôÜºàôÂÚ²Ü ìºð²´ºðÚ²È êÜ²ÜÎàôÂÚ²Ü ¶àðÌºðàì | T3: 2017Ã. 1-ին կիսամյակ
E4: ²Ý³í³ñï ·áñÍ»ñÇ ÙÝ³óáñ¹Á Ñ³ßí»ïáõ Å³Ù³Ý³Ï³ßñç³ÝÇ ëÏ½µáõÙ | F4: êï³óí³Í ¹ÇÙáõÙÝ»ñÇ (·áñÍ»ñ) ù³Ý³ÏÁ | L4: öáË³Ýóí»É ¿ ³ÛÉ ¹³ï³íáñÇ (Ï³½ÙÇ ÷á÷áËáõÃÛáõÝ) | M4: ì³ñáõÛÃ ÁÝ¹áõÝí³Í ¹ÇÙáõÙÝ»ñáí Ï³Û³óí³Í ¹³ï³Ï³Ý ³Ïï»ñ | Q4: Ü»ñÏ³Û³óí»É ¿ ýÇÝ³Ýë³Ï³Ý ³éáÕç³óÙ³Ý Íñ³·Çñ | T4: ²í³ñïí»É »Ý ·áñÍ»ñ Ñ³ßí»ïáõ Å³Ù³Ý³Ï³ßñç³ÝáõÙ | U4: ²Ý³í³ñï ·áñÍ»ñÇ ÙÝ³óáñ¹Á Ñ³ßí»ïáõ Å³Ù³Ý³Ï³ßñç³ÝÇ í»ñçáõÙ | V4: ´áÕáù³ñÏí»É »Ý í»ñ³ùÝÝÇã ¹³ï³ñ³Ý
F6: ÀÝ¹³Ù»ÝÁ | G6: ³Û¹ ÃíáõÙ Ñ³ñÏ³¹ñí³Í ëÝ³ÝÏáõÃÛáõÝ | H6: ³Û¹ ÃíáõÙ Ï³Ù³íáñ ëÝ³ÝÏáõÃÛáõÝ | I6: ëï³óí³Í ¹ÇÙáõÙÝ»ñÇ ÁÝÃ³óùÁ | M6: Ï³Û³óí»É ¿ å³ñï³å³ÝÇÝ ëÝ³ÝÏ ×³Ý³ã»Éáõ Ù³ëÇÝ í×Çé | N6: å³ñï³å³ÝÇÝ ëÝ³ÝÏ ×³Ý³ã»Éáõ ¹ÇÙáõÙÁ Ù»ñÅí»É ¿ | O6: ¹ÇÙáõÙÁ ÃáÕÝí»É ¿ ³é³Ýó ùÝÝáõÃÛ³Ý | P6: ³Ý³í³ñï (³Û¹ ÃíáõÙ Ï³ë»óí³Í) | Q6: ÀÝ¹³Ù»ÝÁ | R6: ÃáÕÝí»É ¿ ³é³Ýó ùÝÝ³ñÏÙ³Ý | S6: Ñ³ëï³ïí»É ¿
I8: ¸ÇÙáõÙÇ ÁÝ¹áõÝáõÙÁ Ù»ñÅí»É ¿ | J8: ¸ÇÙáõÙÁ í»ñ³¹³ñÓí»É ¿ | K8: ÀÝ¹áõÝí»É ¿ í³ñáõÛÃ
E18: 1 | F18: 2 | G18: 3 | H18: 4 | I18: 5 | J18: 6 | K18: 7 | L18: 8 | M18: 9 | N18: 10 | O18: 11 | P18: 12 | Q18: 13 | R18: 14 | S18: 15 | T18: 16 | U18: 17 | V18: 18 | W18: 1+7=8+16+17 | Y18: 2=3+4 | AA18: 2=5+6+7 | AC18: 7=9+10+11+12
A19: 1 | B19: Æñ³í³µ³Ý³Ï³Ý ³ÝÓÇ ëÝ³ÝÏáõÃÛ³Ý í»ñ³µ»ñÛ³É | E19: 45 | F19: 12 | G19: 12 | J19: 2 | K19: 10 | M19: 2 | N19: 6 | P19: 2 | T19: 13 | U19: 42 | V19: 1 | W19: =E19+K19 -> 55 | X19: =L19+T19+U19 -> 55 | Y19: =F19 -> 12 | Z19: =G19+H19 -> 12 | AA19: =F19 -> 12 | AB19: =I19+J19+K19 -> 12 | AC19: =K19 -> 10 | AD19: =M19+N19+O19+P19 -> 10
A20: 2 | B20: ²ÝÑ³ï Ó»éÝ»ñ»óÇ ëÝ³ÝÏáõÃÛ³Ý í»ñ³µ»ñÛ³É | E20: 29 | F20: 4 | G20: 3 | H20: 1 | K20: 4 | M20: 3 | P20: 1 | U20: 33 | W20: =E20+K20 -> 33 | X20: =L20+T20+U20 -> 33 | Y20: =F20 -> 4 | Z20: =G20+H20 -> 4 | AA20: =F20 -> 4 | AB20: =I20+J20+K20 -> 4 | AC20: =K20 -> 4 | AD20: =M20+N20+O20+P20 -> 4
A21: 3 | B21: üÇ½ÇÏ³Ï³Ý ³ÝÓ³Ýó ëÝ³ÝÏáõÃÛ³Ý í»ñ³µ»ñÛ³É | E21: 42 | F21: 9 | H21: 9 | J21: 3 | K21: 6 | M21: 2 | P21: 4 | T21: 1 | U21: 47 | V21: 1 | W21: =E21+K21 -> 48 | X21: =L21+T21+U21 -> 48 | Y21: =F21 -> 9 | Z21: =G21+H21 -> 9 | AA21: =F21 -> 9 | AB21: =I21+J21+K21 -> 9 | AC21: =K21 -> 6 | AD21: =M21+N21+O21+P21 -> 6
A22: 4 | B22: Ընդամենը | E22: 116 | F22: 25 | G22: 15 | H22: 10 | J22: 5 | K22: 20 | M22: 7 | N22: 6 | P22: 7 | T22: 14 | U22: 122 | V22: 2 | W22: =E22+K22 -> 136 | X22: =L22+T22+U22 -> 136 | Y22: =F22 -> 25 | Z22: =G22+H22 -> 25 | AA22: =F22 -> 25 | AB22: =I22+J22+K22 -> 25 | AC22: =K22 -> 20 | AD22: =M22+N22+O22+P22 -> 20

Sheet Գեղարքունիք
A1: Ð²ÞìºîìàôÂÚàôÜ
A2: ÐÐ ¶ºÔ²ðøàôÜÆøÆ Ø²ð¼Æ ÀÜ¸Ð²Üàôð Æð²ì²êàôÂÚ²Ü ²è²æÆÜ ²îÚ²ÜÆ ¸²î²ð²ÜÆ
H3: ¶àðÌàôÜºàôÂÚ²Ü ìºð²´ºðÚ²È êÜ²ÜÎàôÂÚ²Ü ¶àðÌºðàì 2017թ. 1-ին կիսամյակ
E4: ²Ý³í³ñï ·áñÍ»ñÇ ÙÝ³óáñ¹Á Ñ³ßí»ïáõ Å³Ù³Ý³Ï³ßñç³ÝÇ ëÏ½µáõÙ | F4: êï³óí³Í ¹ÇÙáõÙÝ»ñÇ (·áñÍ»ñ) ù³Ý³ÏÁ | L4: öáË³Ýóí»É ¿ ³ÛÉ ¹³ï³íáñÇ (Ï³½ÙÇ ÷á÷áËáõÃÛáõÝ) | M4: ì³ñáõÛÃ ÁÝ¹áõÝí³Í ¹ÇÙáõÙÝ»ñáí Ï³Û³óí³Í ¹³ï³Ï³Ý ³Ïï»ñ | Q4: Ü»ñÏ³Û³óí»É ¿ ýÇÝ³Ýë³Ï³Ý ³éáÕç³óÙ³Ý Íñ³·Çñ | T4: ²í³ñïí»É »Ý ·áñÍ»ñ Ñ³ßí»ïáõ Å³Ù³Ý³Ï³ßñç³ÝáõÙ | U4: ²Ý³í³ñï ·áñÍ»ñÇ ÙÝ³óáñ¹Á Ñ³ßí»ïáõ Å³Ù³Ý³Ï³ßñç³ÝÇ í»ñçáõÙ | V4: ´áÕáù³ñÏí»É »Ý í»ñ³ùÝÝÇã ¹³ï³ñ³Ý
F6: ÀÝ¹³Ù»ÝÁ | G6: ³Û¹ ÃíáõÙ Ñ³ñÏ³¹ñí³Í ëÝ³ÝÏáõÃÛáõÝ | H6: ³Û¹ ÃíáõÙ Ï³Ù³íáñ ëÝ³ÝÏáõÃÛáõÝ | I6: ëï³óí³Í ¹ÇÙáõÙÝ»ñÇ ÁÝÃ³óùÁ | M6: Ï³Û³óí»É ¿ å³ñï³å³ÝÇÝ ëÝ³ÝÏ ×³Ý³ã»Éáõ Ù³ëÇÝ í×Çé | N6: å³ñï³å³ÝÇÝ ëÝ³ÝÏ ×³Ý³ã»Éáõ ¹ÇÙáõÙÁ Ù»ñÅí»É ¿ | O6: ¹ÇÙáõÙÁ ÃáÕÝí»É ¿ ³é³Ýó ùÝÝáõÃÛ³Ý | P6: ³Ý³í³ñï (³Û¹ ÃíáõÙ Ï³ë»óí³Í) | Q6: ÀÝ¹³Ù»ÝÁ | R6: ÃáÕÝí»É ¿ ³é³Ýó ùÝÝ³ñÏÙ³Ý | S6: Ñ³ëï³ïí»É ¿
I8: ¸ÇÙáõÙÇ ÁÝ¹áõÝáõÙÁ Ù»ñÅí»É ¿ | J8: ¸ÇÙáõÙÁ í»ñ³¹³ñÓí»É ¿ | K8: ÀÝ¹áõÝí»É ¿ í³ñáõÛÃ
E18: 1 | F18: 2 | G18: 3 | H18: 4 | I18: 5 | J18: 6 | K18: 7 | L18: 8 | M18: 9 | N18: 10 | O18: 11 | P18: 12 | Q18: 13 | R18: 14 | S18: 15 | T18: 16 | U18: 17 | V18: 18 | W18: 1+7=8+16+17 | Y18: 2=3+4 | AA18: 2=5+6+7 | AC18: 7=9+10+11+12
A19: 1 | B19: Æñ³í³µ³Ý³Ï³Ý ³ÝÓÇ ëÝ³ÝÏáõÃÛ³Ý í»ñ³µ»ñÛ³É | E19: 96 | F19: 20 | G19: 19 | H19: 1 | K19: 20 | M19: 5 | N19: 1 | P19: 14 | T19: 5 | U19: 111 | V19: 2 | W19: =E19+K19 -> 116 | X19: =L19+T19+U19 -> 116 | Y19: =F19 -> 20 | Z19: =G19+H19 -> 20 | AA19: =F19 -> 20 | AB19: =I19+J19+K19 -> 20 | AC19: =K19 -> 20 | AD19: =M19+N19+O19+P19 -> 20
A20: 2 | B20: ²ÝÑ³ï Ó»éÝ»ñ»óÇ ëÝ³ÝÏáõÃÛ³Ý í»ñ³µ»ñÛ³É | E20: 18 | F20: 1 | G20: 1 | K20: 1 | P20: 1 | U20: 19 | W20: =E20+K20 -> 19 | X20: =L20+T20+U20 -> 19 | Y20: =F20 -> 1 | Z20: =G20+H20 -> 1 | AA20: =F20 -> 1 | AB20: =I20+J20+K20 -> 1 | AC20: =K20 -> 1 | AD20: =M20+N20+O20+P20 -> 1
A21: 3 | B21: üÇ½ÇÏ³Ï³Ý ³ÝÓ³Ýó ëÝ³ÝÏáõÃÛ³Ý í»ñ³µ»ñÛ³É | E21: 64 | F21: 5 | G21: 5 | K21: 5 | M21: 2 | N21: 1 | P21: 2 | T21: 2 | U21: 67 | V21: 1 | W21: =E21+K21 -> 69 | X21: =L21+T21+U21 -> 69 | Y21: =F21 -> 5 | Z21: =G21+H21 -> 5 | AA21: =F21 -> 5 | AB21: =I21+J21+K21 -> 5 | AC21: =K21 -> 5 | AD21: =M21+N21+O21+P21 -> 5
A22: 4 | B22: Ընդամենը | E22: 178 | F22: 26 | G22: 25 | H22: 1 | K22: 26 | M22: 7 | N22: 2 | P22: 17 | T22: 7 | U22: 197 | V22: 3 | W22: =E22+K22 -> 204 | X22: =L22+T22+U22 -> 204 | Y22: =F22 -> 26 | Z22: =G22+H22 -> 26 | AA22: =F22 -> 26 | AB22: =I22+J22+K22 -> 26 | AC22: =K22 -> 26 | AD22: =M22+N22+O22+P22 -> 26

Sheet Արագածոտն
A1: Ð²ÞìºîìàôÂÚàôÜ
A2: ՀՀ ²ð²¶²ÌàîÜÆ Ø²ð¼Æ ÀÜ¸Ð²Üàôð Æð²ì²êàôÂÚ²Ü ²è²æÆÜ ²îÚ²ÜÆ ¸²î²ð²ÜÆ
H3: ¶àðÌàôÜºàôÂÚ²Ü ìºð²´ºðÚ²È êÜ²ÜÎàôÂÚ²Ü ¶àðÌºðàì | T3: 2017Ã. 1-ին կիսամյակ
E4: ²Ý³í³ñï ·áñÍ»ñÇ ÙÝ³óáñ¹Á Ñ³ßí»ïáõ Å³Ù³Ý³Ï³ßñç³ÝÇ ëÏ½µáõÙ | F4: êï³óí³Í ¹ÇÙáõÙÝ»ñÇ (·áñÍ»ñ) ù³Ý³ÏÁ | L4: öáË³Ýóí»É ¿ ³ÛÉ ¹³ï³íáñÇ (Ï³½ÙÇ ÷á÷áËáõÃÛáõÝ) | M4: ì³ñáõÛÃ ÁÝ¹áõÝí³Í ¹ÇÙáõÙÝ»ñáí Ï³Û³óí³Í ¹³ï³Ï³Ý ³Ïï»ñ | Q4: Ü»ñÏ³Û³óí»É ¿ ýÇÝ³Ýë³Ï³Ý ³éáÕç³óÙ³Ý Íñ³·Çñ | T4: ²í³ñïí»É »Ý ·áñÍ»ñ Ñ³ßí»ïáõ Å³Ù³Ý³Ï³ßñç³ÝáõÙ | U4: ²Ý³í³ñï ·áñÍ»ñÇ ÙÝ³óáñ¹Á Ñ³ßí»ïáõ Å³Ù³Ý³Ï³ßñç³ÝÇ í»ñçáõÙ | V4: ´áÕáù³ñÏí»É »Ý í»ñ³ùÝÝÇã ¹³ï³ñ³Ý
F6: ÀÝ¹³Ù»ÝÁ | G6: ³Û¹ ÃíáõÙ Ñ³ñÏ³¹ñí³Í ëÝ³ÝÏáõÃÛáõÝ | H6: ³Û¹ ÃíáõÙ Ï³Ù³íáñ ëÝ³ÝÏáõÃÛáõÝ | I6: ëï³óí³Í ¹ÇÙáõÙÝ»ñÇ ÁÝÃ³óùÁ | M6: Ï³Û³óí»É ¿ å³ñï³å³ÝÇÝ ëÝ³ÝÏ ×³Ý³ã»Éáõ Ù³ëÇÝ í×Çé | N6: å³ñï³å³ÝÇÝ ëÝ³ÝÏ ×³Ý³ã»Éáõ ¹ÇÙáõÙÁ Ù»ñÅí»É ¿ | O6: ¹ÇÙáõÙÁ ÃáÕÝí»É ¿ ³é³Ýó ùÝÝáõÃÛ³Ý | P6: ³Ý³í³ñï (³Û¹ ÃíáõÙ Ï³ë»óí³Í) | Q6: ÀÝ¹³Ù»ÝÁ | R6: ÃáÕÝí»É ¿ ³é³Ýó ùÝÝ³ñÏÙ³Ý | S6: Ñ³ëï³ïí»É ¿
I8: ¸ÇÙáõÙÇ ÁÝ¹áõÝáõÙÁ Ù»ñÅí»É ¿ | J8: ¸ÇÙáõÙÁ í»ñ³¹³ñÓí»É ¿ | K8: ÀÝ¹áõÝí»É ¿ í³ñáõÛÃ
E18: 1 | F18: 2 | G18: 3 | H18: 4 | I18: 5 | J18: 6 | K18: 7 | L18: 8 | M18: 9 | N18: 10 | O18: 11 | P18: 12 | Q18: 13 | R18: 14 | S18: 15 | T18: 16 | U18: 17 | V18: 18 | W18: 1+7=8+16+17 | Y18: 2=3+4 | AA18: 2=5+6+7 | AC18: 7=9+10+11+12
A19: 1 | B19: Æñ³í³µ³Ý³Ï³Ý ³ÝÓÇ ëÝ³ÝÏáõÃÛ³Ý í»ñ³µ»ñÛ³É | E19: 58 | F19: 3 | G19: 3 | J19: 1 | K19: 2 | M19: 1 | O19: 1 | T19: 4 | U19: 56 | V19: 2 | W19: =E19+K19 -> 60 | X19: =L19+T19+U19 -> 60 | Y19: =F19 -> 3 | Z19: =G19+H19 -> 3 | AA19: =F19 -> 3 | AB19: =I19+J19+K19 -> 3 | AC19: =K19 -> 2 | AD19: =M19+N19+O19+P19 -> 2
A20: 2 | B20: ²ÝÑ³ï Ó»éÝ»ñ»óÇ ëÝ³ÝÏáõÃÛ³Ý í»ñ³µ»ñÛ³É | E20: 14 | T20: 1 | U20: 13 | W20: =E20+K20 -> 14 | X20: =L20+T20+U20 -> 14 | Y20: =F20 -> 0 | Z20: =G20+H20 -> 0 | AA20: =F20 -> 0 | AB20: =I20+J20+K20 -> 0 | AC20: =K20 -> 0 | AD20: =M20+N20+O20+P20 -> 0
A21: 3 | B21: üÇ½ÇÏ³Ï³Ý ³ÝÓ³Ýó ëÝ³ÝÏáõÃÛ³Ý í»ñ³µ»ñÛ³É | E21: 83 | F21: 16 | G21: 13 | H21: 3 | J21: 4 | K21: 12 | M21: 4 | P21: 8 | T21: 5 | U21: 90 | V21: 1 | W21: =E21+K21 -> 95 | X21: =L21+T21+U21 -> 95 | Y21: =F21 -> 16 | Z21: =G21+H21 -> 16 | AA21: =F21 -> 16 | AB21: =I21+J21+K21 -> 16 | AC21: =K21 -> 12 | AD21: =M21+N21+O21+P21 -> 12
A22: 4 | B22: Ընդամենը | E22: 155 | F22: 19 | G22: 16 | H22: 3 | J22: 5 | K22: 14 | M22: 5 | O22: 1 | P22: 8 | T22: 10 | U22: 159 | V22: 3 | W22: =E22+K22 -> 169 | X22: =L22+T22+U22 -> 169 | Y22: =F22 -> 19 | Z22: =G22+H22 -> 19 | AA22: =F22 -> 19 | AB22: =I22+J22+K22 -> 19 | AC22: =K22 -> 14 | AD22: =M22+N22+O22+P22 -> 14

Sheet Արարատ
A1: Ð²ÞìºîìàôÂÚàôÜ
A2: ՀՀ ²ð²ð²îÆ Ø²ð¼Æ ÀÜ¸Ð²Üàôð Æð²ì²êàôÂÚ²Ü ²è²æÆÜ ²îÚ²ÜÆ ¸²î²ð²ÜÆ
H3: ¶àðÌàôÜºàôÂÚ²Ü ìºð²´ºðÚ²È êÜ²ÜÎàôÂÚ²Ü ¶àðÌºðàì | T3: 2017Ã. 1-ին կիսամյակ
E4: ²Ý³í³ñï ·áñÍ»ñÇ ÙÝ³óáñ¹Á Ñ³ßí»ïáõ Å³Ù³Ý³Ï³ßñç³ÝÇ ëÏ½µáõÙ | F4: êï³óí³Í ¹ÇÙáõÙÝ»ñÇ (·áñÍ»ñ) ù³Ý³ÏÁ | L4: öáË³Ýóí»É ¿ ³ÛÉ ¹³ï³íáñÇ (Ï³½ÙÇ ÷á÷áËáõÃÛáõÝ) | M4: ì³ñáõÛÃ ÁÝ¹áõÝí³Í ¹ÇÙáõÙÝ»ñáí Ï³Û³óí³Í ¹³ï³Ï³Ý ³Ïï»ñ | Q4: Ü»ñÏ³Û³óí»É ¿ ýÇÝ³Ýë³Ï³Ý ³éáÕç³óÙ³Ý Íñ³·Çñ | T4: ²í³ñïí»É »Ý ·áñÍ»ñ Ñ³ßí»ïáõ Å³Ù³Ý³Ï³ßñç³ÝáõÙ | U4: ²Ý³í³ñï ·áñÍ»ñÇ ÙÝ³óáñ¹Á Ñ³ßí»ïáõ Å³Ù³Ý³Ï³ßñç³ÝÇ í»ñçáõÙ | V4: ´áÕáù³ñÏí»É »Ý í»ñ³ùÝÝÇã ¹³ï³ñ³Ý
F6: ÀÝ¹³Ù»ÝÁ | G6: ³Û¹ ÃíáõÙ Ñ³ñÏ³¹ñí³Í ëÝ³ÝÏáõÃÛáõÝ | H6: ³Û¹ ÃíáõÙ Ï³Ù³íáñ ëÝ³ÝÏáõÃÛáõÝ | I6: ëï³óí³Í ¹ÇÙáõÙÝ»ñÇ ÁÝÃ³óùÁ | M6: Ï³Û³óí»É ¿ å³ñï³å³ÝÇÝ ëÝ³ÝÏ ×³Ý³ã»Éáõ Ù³ëÇÝ í×Çé | N6: å³ñï³å³ÝÇÝ ëÝ³ÝÏ ×³Ý³ã»Éáõ ¹ÇÙáõÙÁ Ù»ñÅí»É ¿ | O6: ¹ÇÙáõÙÁ ÃáÕÝí»É ¿ ³é³Ýó ùÝÝáõÃÛ³Ý | P6: ³Ý³í³ñï (³Û¹ ÃíáõÙ Ï³ë»óí³Í) | Q6: ÀÝ¹³Ù»ÝÁ | R6: ÃáÕÝí»É ¿ ³é³Ýó ùÝÝ³ñÏÙ³Ý | S6: Ñ³ëï³ïí»É ¿
I8: ¸ÇÙáõÙÇ ÁÝ¹áõÝáõÙÁ Ù»ñÅí»É ¿ | J8: ¸ÇÙáõÙÁ í»ñ³¹³ñÓí»É ¿ | K8: ÀÝ¹áõÝí»É ¿ í³ñáõÛÃ
E18: 1 | F18: 2 | G18: 3 | H18: 4 | I18: 5 | J18: 6 | K18: 7 | L18: 8 | M18: 9 | N18: 10 | O18: 11 | P18: 12 | Q18: 13 | R18: 14 | S18: 15 | T18: 16 | U18: 17 | V18: 18 | W18: 1+7=8+16+17 | Y18: 2=3+4 | AA18: 2=5+6+7 | AC18: 7=9+10+11+12
A19: 1 | B19: Æñ³í³µ³Ý³Ï³Ý ³ÝÓÇ ëÝ³ÝÏáõÃÛ³Ý í»ñ³µ»ñÛ³É | E19: 229 | F19: 25 | G19: 24 | H19: 1 | J19: 2 | K19: 23 | M19: 14 | N19: 1 | P19: 8 | Q19: 2 | R19: 1 | S19: 1 | T19: 9 | U19: 243 | V19: 5 | W19: =E19+K19 -> 252 | X19: =L19+T19+U19 -> 252 | Y19: =F19 -> 25 | Z19: =G19+H19 -> 25 | AA19: =F19 -> 25 | AB19: =I19+J19+K19 -> 25 | AC19: =K19 -> 23 | AD19: =M19+N19+O19+P19 -> 23
A20: 2 | B20: ²ÝÑ³ï Ó»éÝ»ñ»óÇ ëÝ³ÝÏáõÃÛ³Ý í»ñ³µ»ñÛ³É | E20: 72 | F20: 11 | G20: 11 | J20: 2 | K20: 9 | M20: 8 | P20: 1 | Q20: 1 | T20: 2 | U20: 79 | W20: =E20+K20 -> 81 | X20: =L20+T20+U20 -> 81 | Y20: =F20 -> 11 | Z20: =G20+H20 -> 11 | AA20: =F20 -> 11 | AB20: =I20+J20+K20 -> 11 | AC20: =K20 -> 9 | AD20: =M20+N20+O20+P20 -> 9
A21: 3 | B21: üÇ½ÇÏ³Ï³Ý ³ÝÓ³Ýó ëÝ³ÝÏáõÃÛ³Ý í»ñ³µ»ñÛ³É | E21: 232 | F21: 35 | G21: 16 | H21: 19 | J21: 11 | K21: 24 | M21: 14 | P21: 10 | Q21: 4 | T21: 9 | U21: 247 | V21: 5 | W21: =E21+K21 -> 256 | X21: =L21+T21+U21 -> 256 | Y21: =F21 -> 35 | Z21: =G21+H21 -> 35 | AA21: =F21 -> 35 | AB21: =I21+J21+K21 -> 35 | AC21: =K21 -> 24 | AD21: =M21+N21+O21+P21 -> 24
A22: 4 | B22: Ընդամենը | E22: 533 | F22: 71 | G22: 51 | H22: 20 | J22: 15 | K22: 56 | M22: 36 | N22: 1 | P22: 19 | Q22: 7 | R22: 1 | S22: 1 | T22: 20 | U22: 569 | V22: 10 | W22: =E22+K22 -> 589 | X22: =L22+T22+U22 -> 589 | Y22: =F22 -> 71 | Z22: =G22+H22 -> 71 | AA22: =F22 -> 71 | AB22: =I22+J22+K22 -> 71 | AC22: =K22 -> 56 | AD22: =M22+N22+O22+P22 -> 56

Sheet Սյունիք
A1: Ð²ÞìºîìàôÂÚàôÜ
A2: ՀՀ êÚàôÜÆøÆ Ø²ð¼Æ ÀÜ¸Ð²Üàôð Æð²ì²êàôÂÚ²Ü ²è²æÆÜ ²îÚ²ÜÆ ¸²î²ð²ÜÆ
H3: ¶àðÌàôÜºàôÂÚ²Ü ìºð²´ºðÚ²È êÜ²ÜÎàôÂÚ²Ü ¶àðÌºðàì | T3: 2017Ã.1-ին կիսամյակ
E4: ²Ý³í³ñï ·áñÍ»ñÇ ÙÝ³óáñ¹Á Ñ³ßí»ïáõ Å³Ù³Ý³Ï³ßñç³ÝÇ ëÏ½µáõÙ | F4: êï³óí³Í ¹ÇÙáõÙÝ»ñÇ (·áñÍ»ñ) ù³Ý³ÏÁ | L4: öáË³Ýóí»É ¿ ³ÛÉ ¹³ï³íáñÇ (Ï³½ÙÇ ÷á÷áËáõÃÛáõÝ) | M4: ì³ñáõÛÃ ÁÝ¹áõÝí³Í ¹ÇÙáõÙÝ»ñáí Ï³Û³óí³Í ¹³ï³Ï³Ý ³Ïï»ñ | Q4: Ü»ñÏ³Û³óí»É ¿ ýÇÝ³Ýë³Ï³Ý ³éáÕç³óÙ³Ý Íñ³·Çñ | T4: ²í³ñïí»É »Ý ·áñÍ»ñ Ñ³ßí»ïáõ Å³Ù³Ý³Ï³ßñç³ÝáõÙ | U4: ²Ý³í³ñï ·áñÍ»ñÇ ÙÝ³óáñ¹Á Ñ³ßí»ïáõ Å³Ù³Ý³Ï³ßñç³ÝÇ í»ñçáõÙ | V4: ´áÕáù³ñÏí»É »Ý í»ñ³ùÝÝÇã ¹³ï³ñ³Ý
F6: ÀÝ¹³Ù»ÝÁ | G6: ³Û¹ ÃíáõÙ Ñ³ñÏ³¹ñí³Í ëÝ³ÝÏáõÃÛáõÝ | H6: ³Û¹ ÃíáõÙ Ï³Ù³íáñ ëÝ³ÝÏáõÃÛáõÝ | I6: ëï³óí³Í ¹ÇÙáõÙÝ»ñÇ ÁÝÃ³óùÁ | M6: Ï³Û³óí»É ¿ å³ñï³å³ÝÇÝ ëÝ³ÝÏ ×³Ý³ã»Éáõ Ù³ëÇÝ í×Çé | N6: å³ñï³å³ÝÇÝ ëÝ³ÝÏ ×³Ý³ã»Éáõ ¹ÇÙáõÙÁ Ù»ñÅí»É ¿ | O6: ¹ÇÙáõÙÁ ÃáÕÝí»É ¿ ³é³Ýó ùÝÝáõÃÛ³Ý | P6: ³Ý³í³ñï (³Û¹ ÃíáõÙ Ï³ë»óí³Í) | Q6: ÀÝ¹³Ù»ÝÁ | R6: ÃáÕÝí»É ¿ ³é³Ýó ùÝÝ³ñÏÙ³Ý | S6: Ñ³ëï³ïí»É ¿
I8: ¸ÇÙáõÙÇ ÁÝ¹áõÝáõÙÁ Ù»ñÅí»É ¿ | J8: ¸ÇÙáõÙÁ í»ñ³¹³ñÓí»É ¿ | K8: ÀÝ¹áõÝí»É ¿ í³ñáõÛÃ
E18: 1 | F18: 2 | G18: 3 | H18: 4 | I18: 5 | J18: 6 | K18: 7 | L18: 8 | M18: 9 | N18: 10 | O18: 11 | P18: 12 | Q18: 13 | R18: 14 | S18: 15 | T18: 16 | U18: 17 | V18: 18 | W18: 1+7=8+16+17 | Y18: 2=3+4 | AA18: 2=5+6+7 | AC18: 7=9+10+11+12
A19: 1 | B19: Æñ³í³µ³Ý³Ï³Ý ³ÝÓÇ ëÝ³ÝÏáõÃÛ³Ý í»ñ³µ»ñÛ³É | E19: 111 | F19: 13 | G19: 12 | H19: 1 | K19: 13 | M19: 3 | P19: 10 | T19: 4 | U19: 120 | V19: 1 | W19: =E19+K19 -> 124 | X19: =L19+T19+U19 -> 124 | Y19: =F19 -> 13 | Z19: =G19+H19 -> 13 | AA19: =F19 -> 13 | AB19: =I19+J19+K19 -> 13 | AC19: =K19 -> 13 | AD19: =M19+N19+O19+P19 -> 13
A20: 2 | B20: ²ÝÑ³ï Ó»éÝ»ñ»óÇ ëÝ³ÝÏáõÃÛ³Ý í»ñ³µ»ñÛ³É | E20: 46 | F20: 4 | G20: 3 | H20: 1 | J20: 1 | K20: 3 | M20: 1 | P20: 2 | U20: 49 | W20: =E20+K20 -> 49 | X20: =L20+T20+U20 -> 49 | Y20: =F20 -> 4 | Z20: =G20+H20 -> 4 | AA20: =F20 -> 4 | AB20: =I20+J20+K20 -> 4 | AC20: =K20 -> 3 | AD20: =M20+N20+O20+P20 -> 3
A21: 3 | B21: üÇ½ÇÏ³Ï³Ý ³ÝÓ³Ýó ëÝ³ÝÏáõÃÛ³Ý í»ñ³µ»ñÛ³É | E21: 174 | F21: 31 | G21: 8 | H21: 23 | J21: 12 | K21: 19 | M21: 11 | N21: 2 | P21: 6 | T21: 4 | U21: 189 | W21: =E21+K21 -> 193 | X21: =L21+T21+U21 -> 193 | Y21: =F21 -> 31 | Z21: =G21+H21 -> 31 | AA21: =F21 -> 31 | AB21: =I21+J21+K21 -> 31 | AC21: =K21 -> 19 | AD21: =M21+N21+O21+P21 -> 19
A22: 4 | B22: Ընդամենը | E22: 331 | F22: 48 | G22: 23 | H22: 25 | J22: 13 | K22: 35 | M22: 15 | N22: 2 | P22: 18 | T22: 8 | U22: 358 | V22: 1 | W22: =E22+K22 -> 366 | X22: =L22+T22+U22 -> 366 | Y22: =F22 -> 48 | Z22: =G22+H22 -> 48 | AA22: =F22 -> 48 | AB22: =I22+J22+K22 -> 48 | AC22: =K22 -> 35 | AD22: =M22+N22+O22+P22 -> 35
