Workbook

Sheet Ընդամենը
A1: Ð²ÞìºîìàôÂÚàôÜ
A2: ºðºì²ÜÆ ²ð²´ÎÆð ºì ø²Ü²øºè-¼ºÚÂàôÜ ì²ðâ²Î²Ü Þðæ²ÜÜºðÆ ÀÜ¸Ð²Üàôð Æð²ì²êàôÂÚ²Ü ²è²æÆÜ ²îÚ²ÜÆ ¸²î²ð²ÜÆ
H3: ¶àðÌàôÜºàôÂÚ²Ü ìºð²´ºðÚ²È êÜ²ÜÎàôÂÚ²Ü ¶àðÌºðՈՎ 2015թ.
A4: ìÇ×³Ï³·ñ³Ï³Ý ïáÕÇ Ñ³Ù³ñÁ | B4: êïáõ·Çã Ñ³í³ë³ñáõÙÝ»ñ` 1+7=8+16+17, 2=3+4, 2=5+6+7, 7=9+10+11+12 | E4: ²Ý³í³ñï ·áñÍ»ñÇ ÙÝ³óáñ¹Á Ñ³ßí»ïáõ Å³Ù³Ý³Ï³ßñç³ÝÇ ëÏ½µáõÙ | F4: êï³óí³Í ¹ÇÙáõÙÝ»ñÇ (·áñÍ»ñ) ù³Ý³ÏÁ | L4: öáË³Ýóí»É ¿ ³ÛÉ ¹³ï³íáñÇ (Ï³½ÙÇ ÷á÷áËáõÃÛáõÝ) | M4: ì³ñáõÛÃ ÁÝ¹áõÝí³Í ¹ÇÙáõÙÝ»ñáí Ï³Û³óí³Í ¹³ï³Ï³Ý ³Ïï»ñ | Q4: Ü»ñÏ³Û³óí»É ¿ ýÇÝ³Ýë³Ï³Ý ³éáÕç³óÙ³Ý Íñ³·Çñ | T4: ²í³ñïí»É »Ý ·áñÍ»ñ Ñ³ßí»ïáõ Å³Ù³Ý³Ï³ßñç³ÝáõÙ | U4: ²Ý³í³ñï ·áñÍ»ñÇ ÙÝ³óáñ¹Á Ñ³ßí»ïáõ Å³Ù³Ý³Ï³ßñç³ÝÇ í»ñçáõÙ | V4: ´áÕáù³ñÏí»É »Ý í»ñ³ùÝÝÇã ¹³ï³ñ³Ý
F6: ÀÝ¹³Ù»ÝÁ | G6: ³Û¹ ÃíáõÙ Ñ³ñÏ³¹ñí³Í ëÝ³ÝÏáõÃÛáõÝ | H6: ³Û¹ ÃíáõÙ Ï³Ù³íáñ ëÝ³ÝÏáõÃÛáõÝ | I6: ëï³óí³Í ¹ÇÙáõÙÝ»ñÇ ÁÝÃ³óùÁ | M6: Ï³Û³óí»É ¿ å³ñï³å³ÝÇÝ ëÝ³ÝÏ ×³Ý³ã»Éáõ Ù³ëÇÝ í×Çé | N6: å³ñï³å³ÝÇÝ ëÝ³ÝÏ ×³Ý³ã»Éáõ ¹ÇÙáõÙÁ Ù»ñÅí»É ¿ | O6: ¹ÇÙáõÙÁ ÃáÕÝí»É ¿ ³é³Ýó ùÝÝáõÃÛ³Ý | P6: ³Ý³í³ñï (³Û¹ ÃíáõÙ Ï³ë»óí³Í) | Q6: ÀÝ¹³Ù»ÝÁ | R6: ÃáÕÝí»É ¿ ³é³Ýó ùÝÝ³ñÏÙ³Ý | S6: Ñ³ëï³ïí»É ¿
I8: ¸ÇÙáõÙÇ ÁÝ¹áõÝáõÙÁ Ù»ñÅí»É ¿ | J8: ¸ÇÙáõÙÁ í»ñ³¹³ñÓí»É ¿ | K8: ÀÝ¹áõÝí»É ¿ í³ñáõÛÃ
E18: 1 | F18: 2 | G18: 3 | H18: 4 | I18: 5 | J18: 6 | K18: 7 | L18: 8 | M18: 9 | N18: 10 | O18: 11 | P18: 12 | Q18: 13 | R18: 14 | S18: 15 | T18: 16 | U18: 17 | V18: 18 | W18: 1+7=8+16+17 | Y18: 2=3+4 | AA18: 2=5+6+7 | AC18: 7=9+10+11+12
A19: 1 | B19: Æñ³í³µ³Ý³Ï³Ý ³ÝÓÇ ëÝ³ÝÏáõÃÛ³Ý í»ñ³µ»ñÛ³É | E19: =Ա.Դանիելյան!E19+'Ռ. Բունիաթյան'!E19+Ս.Հովսեփյան!E19+Ս.Թադևոսյան!E19 -> 141 | F19: =Ա.Դանիելյան!F19+'Ռ. Բունիաթյան'!F19+Ս.Հովսեփյան!F19+Ս.Թադևոսյան!F19 -> 149 | G19: =Ա.Դանիելյան!G19+'Ռ. Բունիաթյան'!G19+Ս.Հովսեփյան!G19+Ս.Թադևոսյան!G19 -> 144 | H19: =Ա.Դանիելյան!H19+'Ռ. Բունիաթյան'!H19+Ս.Հովսեփյան!H19+Ս.Թադևոսյան!H19 -> 5 | I19: =Ա.Դանիելյան!I19+'Ռ. Բունիաթյան'!I19+Ս.Հովսեփյան!I19+Ս.Թադևոսյան!I19 -> 0 | J19: =Ա.Դանիելյան!J19+'Ռ. Բունիաթյան'!J19+Ս.Հովսեփյան!J19+Ս.Թադևոսյան!J19 -> 20 | K19: =Ա.Դանիելյան!K19+'Ռ. Բունիաթյան'!K19+Ս.Հովսեփյան!K19+Ս.Թադևոսյան!K19 -> 129 | L19: =Ա.Դանիելյան!L19+'Ռ. Բունիաթյան'!L19+Ս.Հովսեփյան!L19+Ս.Թադևոսյան!L19 -> 1 | ... V19: =Ա.Դանիելյան!V19+'Ռ. Բունիաթյան'!V19+Ս.Հովսեփյան!V19+Ս.Թադևոսյան!V19 -> 21 | W19: =E19+K19 -> 270 | X19: =L19+T19+U19 -> 270 | Y19: =F19 -> 149 | Z19: =G19+H19 -> 149 | AA19: =F19 -> 149 | AB19: =I19+J19+K19 -> 149 | AC19: =K19 -> 129 | AD19: =M19+N19+O19+P19 -> 137
A20: 2 | B20: ²ÝÑ³ï Ó»éÝ»ñ»óÇ ëÝ³ÝÏáõÃÛ³Ý í»ñ³µ»ñÛ³É | E20: =Ա.Դանիելյան!E20+'Ռ. Բունիաթյան'!E20+Ս.Հովսեփյան!E20+Ս.Թադևոսյան!E20 -> 9 | F20: =Ա.Դանիելյան!F20+'Ռ. Բունիաթյան'!F20+Ս.Հովսեփյան!F20+Ս.Թադևոսյան!F20 -> 13 | G20: =Ա.Դանիելյան!G20+'Ռ. Բունիաթյան'!G20+Ս.Հովսեփյան!G20+Ս.Թադևոսյան!G20 -> 13 | H20: =Ա.Դանիելյան!H20+'Ռ. Բունիաթյան'!H20+Ս.Հովսեփյան!H20+Ս.Թադևոսյան!H20 -> 0 | I20: =Ա.Դանիելյան!I20+'Ռ. Բունիաթյան'!I20+Ս.Հովսեփյան!I20+Ս.Թադևոսյան!I20 -> 0 | J20: =Ա.Դանիելյան!J20+'Ռ. Բունիաթյան'!J20+Ս.Հովսեփյան!J20+Ս.Թադևոսյան!J20 -> 1 | K20: =Ա.Դանիելյան!K20+'Ռ. Բունիաթյան'!K20+Ս.Հովսեփյան!K20+Ս.Թադևոսյան!K20 -> 12 | L20: =Ա.Դանիելյան!L20+'Ռ. Բունիաթյան'!L20+Ս.Հովսեփյան!L20+Ս.Թադևոսյան!L20 -> 0 | ... V20: =Ա.Դանիելյան!V20+'Ռ. Բունիաթյան'!V20+Ս.Հովսեփյան!V20+Ս.Թադևոսյան!V20 -> 2 | W20: =E20+K20 -> 21 | X20: =L20+T20+U20 -> 21 | Y20: =F20 -> 13 | Z20: =G20+H20 -> 13 | AA20: =F20 -> 13 | AB20: =I20+J20+K20 -> 13 | AC20: =K20 -> 12 | AD20: =M20+N20+O20+P20 -> 12
A21: 3 | B21: üÇ½ÇÏ³Ï³Ý ³ÝÓ³Ýó ëÝ³ÝÏáõÃÛ³Ý í»ñ³µ»ñÛ³É | E21: =Ա.Դանիելյան!E21+'Ռ. Բունիաթյան'!E21+Ս.Հովսեփյան!E21+Ս.Թադևոսյան!E21 -> 113 | F21: =Ա.Դանիելյան!F21+'Ռ. Բունիաթյան'!F21+Ս.Հովսեփյան!F21+Ս.Թադևոսյան!F21 -> 102 | G21: =Ա.Դանիելյան!G21+'Ռ. Բունիաթյան'!G21+Ս.Հովսեփյան!G21+Ս.Թադևոսյան!G21 -> 94 | H21: =Ա.Դանիելյան!H21+'Ռ. Բունիաթյան'!H21+Ս.Հովսեփյան!H21+Ս.Թադևոսյան!H21 -> 8 | I21: =Ա.Դանիելյան!I21+'Ռ. Բունիաթյան'!I21+Ս.Հովսեփյան!I21+Ս.Թադևոսյան!I21 -> 0 | J21: =Ա.Դանիելյան!J21+'Ռ. Բունիաթյան'!J21+Ս.Հովսեփյան!J21+Ս.Թադևոսյան!J21 -> 18 | K21: =Ա.Դանիելյան!K21+'Ռ. Բունիաթյան'!K21+Ս.Հովսեփյան!K21+Ս.Թադևոսյան!K21 -> 84 | L21: =Ա.Դանիելյան!L21+'Ռ. Բունիաթյան'!L21+Ս.Հովսեփյան!L21+Ս.Թադևոսյան!L21 -> 1 | ... V21: =Ա.Դանիելյան!V21+'Ռ. Բունիաթյան'!V21+Ս.Հովսեփյան!V21+Ս.Թադևոսյան!V21 -> 5 | W21: =E21+K21 -> 197 | X21: =L21+T21+U21 -> 197 | Y21: =F21 -> 102 | Z21: =G21+H21 -> 102 | AA21: =F21 -> 102 | AB21: =I21+J21+K21 -> 102 | AC21: =K21 -> 84 | AD21: =M21+N21+O21+P21 -> 76
A22: 4 | B22: ԸՆԴՀԱՄԵՆԸ | E22: =Ա.Դանիելյան!E22+'Ռ. Բունիաթյան'!E22+Ս.Հովսեփյան!E22+Ս.Թադևոսյան!E22 -> 263 | F22: =Ա.Դանիելյան!F22+'Ռ. Բունիաթյան'!F22+Ս.Հովսեփյան!F22+Ս.Թադևոսյան!F22 -> 264 | G22: =Ա.Դանիելյան!G22+'Ռ. Բունիաթյան'!G22+Ս.Հովսեփյան!G22+Ս.Թադևոսյան!G22 -> 251 | H22: =Ա.Դանիելյան!H22+'Ռ. Բունիաթյան'!H22+Ս.Հովսեփյան!H22+Ս.Թադևոսյան!H22 -> 13 | I22: =Ա.Դանիելյան!I22+'Ռ. Բունիաթյան'!I22+Ս.Հովսեփյան!I22+Ս.Թադևոսյան!I22 -> 0 | J22: =Ա.Դանիելյան!J22+'Ռ. Բունիաթյան'!J22+Ս.Հովսեփյան!J22+Ս.Թադևոսյան!J22 -> 39 | K22: =Ա.Դանիելյան!K22+'Ռ. Բունիաթյան'!K22+Ս.Հովսեփյան!K22+Ս.Թադևոսյան!K22 -> 225 | L22: =Ա.Դանիելյան!L22+'Ռ. Բունիաթյան'!L22+Ս.Հովսեփյան!L22+Ս.Թադևոսյան!L22 -> 2 | ... V22: =Ա.Դանիելյան!V22+'Ռ. Բունիաթյան'!V22+Ս.Հովսեփյան!V22+Ս.Թադևոսյան!V22 -> 28 | W22: =E22+K22 -> 488 | X22: =L22+T22+U22 -> 488 | Y22: =F22 -> 264 | Z22: =G22+H22 -> 264 | AA22: =F22 -> 264 | AB22: =I22+J22+K22 -> 264 | AC22: =K22 -> 225 | AD22: =M22+N22+O22+P22 -> 225

Sheet Ռ. Բունիաթյան
A1: Ð²ÞìºîìàôÂÚàôÜ
A2: ºðºì²ÜÆ ²ð²´ÎÆð ºì ø²Ü²øºè-¼ºÚÂàôÜ ì²ðâ²Î²Ü Þðæ²ÜÜºðÆ ÀÜ¸Ð²Üàôð Æð²ì²êàôÂÚ²Ü ²è²æÆÜ ²îÚ²ÜÆ ¸²î²ð²ÜÆ ¸²î²ìàð
A3: è. ´àôÜÆ²ÂÚ²ÜÆ | H3: ¶àðÌàôÜºàôÂÚ²Ü ìºð²´ºðÚ²È êÜ²ÜÎàôÂÚ²Ü ¶àðÌºðàì 2015թ.
A4: ìÇ×³Ï³·ñ³Ï³Ý ïáÕÇ Ñ³Ù³ñÁ | B4: êïáõ·Çã Ñ³í³ë³ñáõÙÝ»ñ` 1+7=8+16+17, 2=3+4, 2=5+6+7, 7=9+10+11+12 | E4: ²Ý³í³ñï ·áñÍ»ñÇ ÙÝ³óáñ¹Á Ñ³ßí»ïáõ Å³Ù³Ý³Ï³ßñç³ÝÇ ëÏ½µáõÙ | F4: êï³óí³Í ¹ÇÙáõÙÝ»ñÇ (·áñÍ»ñ) ù³Ý³ÏÁ | L4: öáË³Ýóí»É ¿ ³ÛÉ ¹³ï³íáñÇ (Ï³½ÙÇ ÷á÷áËáõÃÛáõÝ) | M4: ì³ñáõÛÃ ÁÝ¹áõÝí³Í ¹ÇÙáõÙÝ»ñáí Ï³Û³óí³Í ¹³ï³Ï³Ý ³Ïï»ñ | Q4: Ü»ñÏ³Û³óí»É ¿ ýÇÝ³Ýë³Ï³Ý ³éáÕç³óÙ³Ý Íñ³·Çñ | T4: ²í³ñïí»É »Ý ·áñÍ»ñ Ñ³ßí»ïáõ Å³Ù³Ý³Ï³ßñç³ÝáõÙ | U4: ²Ý³í³ñï ·áñÍ»ñÇ ÙÝ³óáñ¹Á Ñ³ßí»ïáõ Å³Ù³Ý³Ï³ßñç³ÝÇ í»ñçáõÙ | V4: ´áÕáù³ñÏí»É »Ý í»ñ³ùÝÝÇã ¹³ï³ñ³Ý
F6: ÀÝ¹³Ù»ÝÁ | G6: ³Û¹ ÃíáõÙ Ñ³ñÏ³¹ñí³Í ëÝ³ÝÏáõÃÛáõÝ | H6: ³Û¹ ÃíáõÙ Ï³Ù³íáñ ëÝ³ÝÏáõÃÛáõÝ | I6: ëï³óí³Í ¹ÇÙáõÙÝ»ñÇ ÁÝÃ³óùÁ | M6: Ï³Û³óí»É ¿ å³ñï³å³ÝÇÝ ëÝ³ÝÏ ×³Ý³ã»Éáõ Ù³ëÇÝ í×Çé | N6: å³ñï³å³ÝÇÝ ëÝ³ÝÏ ×³Ý³ã»Éáõ ¹ÇÙáõÙÁ Ù»ñÅí»É ¿ | O6: ¹ÇÙáõÙÁ ÃáÕÝí»É ¿ ³é³Ýó ùÝÝáõÃÛ³Ý | P6: ³Ý³í³ñï (³Û¹ ÃíáõÙ Ï³ë»óí³Í) | Q6: ÀÝ¹³Ù»ÝÁ | R6: ÃáÕÝí»É ¿ ³é³Ýó ùÝÝ³ñÏÙ³Ý | S6: Ñ³ëï³ïí»É ¿
I8: ¸ÇÙáõÙÇ ÁÝ¹áõÝáõÙÁ Ù»ñÅí»É ¿ | J8: ¸ÇÙáõÙÁ í»ñ³¹³ñÓí»É ¿ | K8: ÀÝ¹áõÝí»É ¿ í³ñáõÛÃ
E18: 1 | F18: 2 | G18: 3 | H18: 4 | I18: 5 | J18: 6 | K18: 7 | L18: 8 | M18: 9 | N18: 10 | O18: 11 | P18: 12 | Q18: 13 | R18: 14 | S18: 15 | T18: 16 | U18: 17 | V18: 18 | W18: 1+7=8+16+17 | Y18: 2=3+4 | AA18: 2=5+6+7 | AC18: 7=9+10+11+12
A19: 1 | B19: Æñ³í³µ³Ý³Ï³Ý ³ÝÓÇ ëÝ³ÝÏáõÃÛ³Ý í»ñ³µ»ñÛ³É | E19: 50 | F19: 54 | G19: 49 | H19: 5 | J19: 13 | K19: 41 | M19: 21 | P19: 28 | T19: 29 | U19: 62 | V19: 20 | W19: =E19+K19 -> 91 | X19: =L19+T19+U19 -> 91 | Y19: =F19 -> 54 | Z19: =G19+H19 -> 54 | AA19: =F19 -> 54 | AB19: =I19+J19+K19 -> 54 | AC19: =K19 -> 41 | AD19: =M19+N19+O19+P19 -> 49
A20: 2 | B20: ²ÝÑ³ï Ó»éÝ»ñ»óÇ ëÝ³ÝÏáõÃÛ³Ý í»ñ³µ»ñÛ³É | E20: 3 | F20: 8 | G20: 8 | J20: 1 | K20: 7 | M20: 3 | P20: 4 | T20: 1 | U20: 9 | V20: 1 | W20: =E20+K20 -> 10 | X20: =L20+T20+U20 -> 10 | Y20: =F20 -> 8 | Z20: =G20+H20 -> 8 | AA20: =F20 -> 8 | AB20: =I20+J20+K20 -> 8 | AC20: =K20 -> 7 | AD20: =M20+N20+O20+P20 -> 7
A21: 3 | B21: üÇ½ÇÏ³Ï³Ý ³ÝÓ³Ýó ëÝ³ÝÏáõÃÛ³Ý í»ñ³µ»ñÛ³É | E21: 39 | F21: 43 | G21: 40 | H21: 3 | J21: 9 | K21: 34 | M21: 13 | P21: 13 | T21: 5 | U21: 68 | V21: 4 | W21: =E21+K21 -> 73 | X21: =L21+T21+U21 -> 73 | Y21: =F21 -> 43 | Z21: =G21+H21 -> 43 | AA21: =F21 -> 43 | AB21: =I21+J21+K21 -> 43 | AC21: =K21 -> 34 | AD21: =M21+N21+O21+P21 -> 26
A22: 4 | B22: ԸՆԴԱՄԵՆԸ | E22: 92 | F22: 105 | G22: 97 | H22: 8 | J22: 23 | K22: 82 | M22: 37 | P22: 45 | T22: 35 | U22: 139 | V22: 25 | W22: =E22+K22 -> 174 | X22: =L22+T22+U22 -> 174 | Y22: =F22 -> 105 | Z22: =G22+H22 -> 105 | AA22: =F22 -> 105 | AB22: =I22+J22+K22 -> 105 | AC22: =K22 -> 82 | AD22: =M22+N22+O22+P22 -> 82

Sheet Ա.Դանիելյան
A1: Ð²ÞìºîìàôÂÚàôÜ
A2: ºðºì²ÜÆ ²ð²´ÎÆð ºì ø²Ü²øºè-¼ºÚÂàôÜ ì²ðâ²Î²Ü Þðæ²ÜÜºðÆ ÀÜ¸Ð²Üàôð Æð²ì²êàôÂÚ²Ü ²è²æÆÜ ²îÚ²ÜÆ ¸²î²ð²ÜÆ ¸²î²ìàð
A3: ². ¸²ÜÆºÈÚ²ÜÆ | H3: ¶àðÌàôÜºàôÂÚ²Ü ìºð²´ºðÚ²È êÜ²ÜÎàôÂÚ²Ü ¶àðÌºðàì 2015թ.
A4: ìÇ×³Ï³·ñ³Ï³Ý ïáÕÇ Ñ³Ù³ñÁ | B4: êïáõ·Çã Ñ³í³ë³ñáõÙÝ»ñ` 1+7=8+16+17, 2=3+4, 2=5+6+7, 7=9+10+11+12 | E4: ²Ý³í³ñï ·áñÍ»ñÇ ÙÝ³óáñ¹Á Ñ³ßí»ïáõ Å³Ù³Ý³Ï³ßñç³ÝÇ ëÏ½µáõÙ | F4: êï³óí³Í ¹ÇÙáõÙÝ»ñÇ (·áñÍ»ñ) ù³Ý³ÏÁ | L4: öáË³Ýóí»É ¿ ³ÛÉ ¹³ï³íáñÇ (Ï³½ÙÇ ÷á÷áËáõÃÛáõÝ) | M4: ì³ñáõÛÃ ÁÝ¹áõÝí³Í ¹ÇÙáõÙÝ»ñáí Ï³Û³óí³Í ¹³ï³Ï³Ý ³Ïï»ñ | Q4: Ü»ñÏ³Û³óí»É ¿ ýÇÝ³Ýë³Ï³Ý ³éáÕç³óÙ³Ý Íñ³·Çñ | T4: ²í³ñïí»É »Ý ·áñÍ»ñ Ñ³ßí»ïáõ Å³Ù³Ý³Ï³ßñç³ÝáõÙ | U4: ²Ý³í³ñï ·áñÍ»ñÇ ÙÝ³óáñ¹Á Ñ³ßí»ïáõ Å³Ù³Ý³Ï³ßñç³ÝÇ í»ñçáõÙ | V4: ´áÕáù³ñÏí»É »Ý í»ñ³ùÝÝÇã ¹³ï³ñ³Ý
F6: ÀÝ¹³Ù»ÝÁ | G6: ³Û¹ ÃíáõÙ Ñ³ñÏ³¹ñí³Í ëÝ³ÝÏáõÃÛáõÝ | H6: ³Û¹ ÃíáõÙ Ï³Ù³íáñ ëÝ³ÝÏáõÃÛáõÝ | I6: ëï³óí³Í ¹ÇÙáõÙÝ»ñÇ ÁÝÃ³óùÁ | M6: Ï³Û³óí»É ¿ å³ñï³å³ÝÇÝ ëÝ³ÝÏ ×³Ý³ã»Éáõ Ù³ëÇÝ í×Çé | N6: å³ñï³å³ÝÇÝ ëÝ³ÝÏ ×³Ý³ã»Éáõ ¹ÇÙáõÙÁ Ù»ñÅí»É ¿ | O6: ¹ÇÙáõÙÁ ÃáÕÝí»É ¿ ³é³Ýó ùÝÝáõÃÛ³Ý | P6: ³Ý³í³ñï (³Û¹ ÃíáõÙ Ï³ë»óí³Í) | Q6: ÀÝ¹³Ù»ÝÁ | R6: ÃáÕÝí»É ¿ ³é³Ýó ùÝÝ³ñÏÙ³Ý | S6: Ñ³ëï³ïí»É ¿
I8: ¸ÇÙáõÙÇ ÁÝ¹áõÝáõÙÁ Ù»ñÅí»É ¿ | J8: ¸ÇÙáõÙÁ í»ñ³¹³ñÓí»É ¿ | K8: ÀÝ¹áõÝí»É ¿ í³ñáõÛÃ
E18: 1 | F18: 2 | G18: 3 | H18: 4 | I18: 5 | J18: 6 | K18: 7 | L18: 8 | M18: 9 | N18: 10 | O18: 11 | P18: 12 | Q18: 13 | R18: 14 | S18: 15 | T18: 16 | U18: 17 | V18: 18 | W18: 1+7=8+16+17 | Y18: 2=3+4 | AA18: 2=5+6+7 | AC18: 7=9+10+11+12
A19: 1 | B19: Æñ³í³µ³Ý³Ï³Ý ³ÝÓÇ ëÝ³ÝÏáõÃÛ³Ý í»ñ³µ»ñÛ³É | E19: 14 | F19: 10 | G19: 10 | J19: 4 | K19: 6 | L19: 1 | P19: 6 | T19: 9 | U19: 10 | W19: =E19+K19 -> 20 | X19: =L19+T19+U19 -> 20 | Y19: =F19 -> 10 | Z19: =G19+H19 -> 10 | AA19: =F19 -> 10 | AB19: =I19+J19+K19 -> 10 | AC19: =K19 -> 6 | AD19: =M19+N19+O19+P19 -> 6
A20: 2 | B20: ²ÝÑ³ï Ó»éÝ»ñ»óÇ ëÝ³ÝÏáõÃÛ³Ý í»ñ³µ»ñÛ³É | W20: =E20+K20 -> 0 | X20: =L20+T20+U20 -> 0 | Y20: =F20 -> 0 | Z20: =G20+H20 -> 0 | AA20: =F20 -> 0 | AB20: =I20+J20+K20 -> 0 | AC20: =K20 -> 0 | AD20: =M20+N20+O20+P20 -> 0
A21: 3 | B21: üÇ½ÇÏ³Ï³Ý ³ÝÓ³Ýó ëÝ³ÝÏáõÃÛ³Ý í»ñ³µ»ñÛ³É | E21: 18 | F21: 5 | G21: 5 | J21: 1 | K21: 4 | L21: 1 | M21: 2 | N21: 1 | P21: 1 | T21: 4 | U21: 17 | W21: =E21+K21 -> 22 | X21: =L21+T21+U21 -> 22 | Y21: =F21 -> 5 | Z21: =G21+H21 -> 5 | AA21: =F21 -> 5 | AB21: =I21+J21+K21 -> 5 | AC21: =K21 -> 4 | AD21: =M21+N21+O21+P21 -> 4
A22: 4 | B22: ԸՆԴԱՄԵՆԸ | E22: 32 | F22: 15 | G22: 15 | J22: 5 | K22: 10 | L22: 2 | M22: 2 | N22: 1 | P22: 7 | T22: 13 | U22: 27 | W22: =E22+K22 -> 42 | X22: =L22+T22+U22 -> 42 | Y22: =F22 -> 15 | Z22: =G22+H22 -> 15 | AA22: =F22 -> 15 | AB22: =I22+J22+K22 -> 15 | AC22: =K22 -> 10 | AD22: =M22+N22+O22+P22 -> 10

Sheet Ս.Հովսեփյան
A1: Ð²ÞìºîìàôÂÚàôÜ
A2: ºðºì²ÜÆ ²ð²´ÎÆð ºì ø²Ü²øºè-¼ºÚÂàôÜ ì²ðâ²Î²Ü Þðæ²ÜÜºðÆ ÀÜ¸Ð²Üàôð Æð²ì²êàôÂÚ²Ü ²è²æÆÜ ²îÚ²ÜÆ ¸²î²ð²ÜÆ ¸²î²ìàð
A3: ê.ÐàìêºöÚ²Ü | H3: ¶àðÌàôÜºàôÂÚ²Ü ìºð²´ºðÚ²È êÜ²ÜÎàôÂÚ²Ü ¶àðÌºðՈՎ 2015թ.
A4: ìÇ×³Ï³·ñ³Ï³Ý ïáÕÇ Ñ³Ù³ñÁ | B4: êïáõ·Çã Ñ³í³ë³ñáõÙÝ»ñ` 1+7=8+16+17, 2=3+4, 2=5+6+7, 7=9+10+11+12 | E4: ²Ý³í³ñï ·áñÍ»ñÇ ÙÝ³óáñ¹Á Ñ³ßí»ïáõ Å³Ù³Ý³Ï³ßñç³ÝÇ ëÏ½µáõÙ | F4: êï³óí³Í ¹ÇÙáõÙÝ»ñÇ (·áñÍ»ñ) ù³Ý³ÏÁ | L4: öáË³Ýóí»É ¿ ³ÛÉ ¹³ï³íáñÇ (Ï³½ÙÇ ÷á÷áËáõÃÛáõÝ) | M4: ì³ñáõÛÃ ÁÝ¹áõÝí³Í ¹ÇÙáõÙÝ»ñáí Ï³Û³óí³Í ¹³ï³Ï³Ý ³Ïï»ñ | Q4: Ü»ñÏ³Û³óí»É ¿ ýÇÝ³Ýë³Ï³Ý ³éáÕç³óÙ³Ý Íñ³·Çñ | T4: ²í³ñïí»É »Ý ·áñÍ»ñ Ñ³ßí»ïáõ Å³Ù³Ý³Ï³ßñç³ÝáõÙ | U4: ²Ý³í³ñï ·áñÍ»ñÇ ÙÝ³óáñ¹Á Ñ³ßí»ïáõ Å³Ù³Ý³Ï³ßñç³ÝÇ í»ñçáõÙ | V4: ´áÕáù³ñÏí»É »Ý í»ñ³ùÝÝÇã ¹³ï³ñ³Ý
F6: ÀÝ¹³Ù»ÝÁ | G6: ³Û¹ ÃíáõÙ Ñ³ñÏ³¹ñí³Í ëÝ³ÝÏáõÃÛáõÝ | H6: ³Û¹ ÃíáõÙ Ï³Ù³íáñ ëÝ³ÝÏáõÃÛáõÝ | I6: ëï³óí³Í ¹ÇÙáõÙÝ»ñÇ ÁÝÃ³óùÁ | M6: Ï³Û³óí»É ¿ å³ñï³å³ÝÇÝ ëÝ³ÝÏ ×³Ý³ã»Éáõ Ù³ëÇÝ í×Çé | N6: å³ñï³å³ÝÇÝ ëÝ³ÝÏ ×³Ý³ã»Éáõ ¹ÇÙáõÙÁ Ù»ñÅí»É ¿ | O6: ¹ÇÙáõÙÁ ÃáÕÝí»É ¿ ³é³Ýó ùÝÝáõÃÛ³Ý | P6: ³Ý³í³ñï (³Û¹ ÃíáõÙ Ï³ë»óí³Í) | Q6: ÀÝ¹³Ù»ÝÁ | R6: ÃáÕÝí»É ¿ ³é³Ýó ùÝÝ³ñÏÙ³Ý | S6: Ñ³ëï³ïí»É ¿
I8: ¸ÇÙáõÙÇ ÁÝ¹áõÝáõÙÁ Ù»ñÅí»É ¿ | J8: ¸ÇÙáõÙÁ í»ñ³¹³ñÓí»É ¿ | K8: ÀÝ¹áõÝí»É ¿ í³ñáõÛÃ
E18: 1 | F18: 2 | G18: 3 | H18: 4 | I18: 5 | J18: 6 | K18: 7 | L18: 8 | M18: 9 | N18: 10 | O18: 11 | P18: 12 | Q18: 13 | R18: 14 | S18: 15 | T18: 16 | U18: 17 | V18: 18 | W18: 1+7=8+16+17 | Y18: 2=3+4 | AA18: 2=5+6+7 | AC18: 7=9+10+11+12
A19: 1 | B19: Æñ³í³µ³Ý³Ï³Ý ³ÝÓÇ ëÝ³ÝÏáõÃÛ³Ý í»ñ³µ»ñÛ³É | E19: 25 | T19: 7 | U19: 18 | W19: =E19+K19 -> 25 | X19: =L19+T19+U19 -> 25 | Y19: =F19 -> 0 | Z19: =G19+H19 -> 0 | AA19: =F19 -> 0 | AB19: =I19+J19+K19 -> 0 | AC19: =K19 -> 0 | AD19: =M19+N19+O19+P19 -> 0
A20: 2 | B20: ²ÝÑ³ï Ó»éÝ»ñ»óÇ ëÝ³ÝÏáõÃÛ³Ý í»ñ³µ»ñÛ³É | E20: 2 | T20: 1 | U20: 1 | W20: =E20+K20 -> 2 | X20: =L20+T20+U20 -> 2 | Y20: =F20 -> 0 | Z20: =G20+H20 -> 0 | AA20: =F20 -> 0 | AB20: =I20+J20+K20 -> 0 | AC20: =K20 -> 0 | AD20: =M20+N20+O20+P20 -> 0
A21: 3 | B21: üÇ½ÇÏ³Ï³Ý ³ÝÓ³Ýó ëÝ³ÝÏáõÃÛ³Ý í»ñ³µ»ñÛ³É | E21: 8 | U21: 8 | W21: =E21+K21 -> 8 | X21: =L21+T21+U21 -> 8 | Y21: =F21 -> 0 | Z21: =G21+H21 -> 0 | AA21: =F21 -> 0 | AB21: =I21+J21+K21 -> 0 | AC21: =K21 -> 0 | AD21: =M21+N21+O21+P21 -> 0
A22: 4 | B22: ԸՆԴԱՄԵՆԸ | E22: 35 | T22: 8 | U22: 27 | W22: =E22+K22 -> 35 | X22: =L22+T22+U22 -> 35 | Y22: =F22 -> 0 | Z22: =G22+H22 -> 0 | AA22: =F22 -> 0 | AB22: =I22+J22+K22 -> 0 | AC22: =K22 -> 0 | AD22: =M22+N22+O22+P22 -> 0

Sheet Ս.Թադևոսյան
A1: Ð²ÞìºîìàôÂÚàôÜ
A2: ºðºì²ÜÆ ²ð²´ÎÆð ºì ø²Ü²øºè-¼ºÚÂàôÜ ì²ðâ²Î²Ü Þðæ²ÜÜºðÆ ÀÜ¸Ð²Üàôð Æð²ì²êàôÂÚ²Ü ²è²æÆÜ ²îÚ²ÜÆ ¸²î²ð²ÜÆ ¸²î²ìàð
A3: Ս. ԹԱԴԵՎՈՍՅԱՆԻ | H3: ¶àðÌàôÜºàôÂÚ²Ü ìºð²´ºðÚ²È êÜ²ÜÎàôÂÚ²Ü ¶àðÌºðՈՎ 2015թ.
A4: ìÇ×³Ï³·ñ³Ï³Ý ïáÕÇ Ñ³Ù³ñÁ | B4: êïáõ·Çã Ñ³í³ë³ñáõÙÝ»ñ` 1+7=8+16+17, 2=3+4, 2=5+6+7, 7=9+10+11+12 | E4: ²Ý³í³ñï ·áñÍ»ñÇ ÙÝ³óáñ¹Á Ñ³ßí»ïáõ Å³Ù³Ý³Ï³ßñç³ÝÇ ëÏ½µáõÙ | F4: êï³óí³Í ¹ÇÙáõÙÝ»ñÇ (·áñÍ»ñ) ù³Ý³ÏÁ | L4: öáË³Ýóí»É ¿ ³ÛÉ ¹³ï³íáñÇ (Ï³½ÙÇ ÷á÷áËáõÃÛáõÝ) | M4: ì³ñáõÛÃ ÁÝ¹áõÝí³Í ¹ÇÙáõÙÝ»ñáí Ï³Û³óí³Í ¹³ï³Ï³Ý ³Ïï»ñ | Q4: Ü»ñÏ³Û³óí»É ¿ ýÇÝ³Ýë³Ï³Ý ³éáÕç³óÙ³Ý Íñ³·Çñ | T4: ²í³ñïí»É »Ý ·áñÍ»ñ Ñ³ßí»ïáõ Å³Ù³Ý³Ï³ßñç³ÝáõÙ | U4: ²Ý³í³ñï ·áñÍ»ñÇ ÙÝ³óáñ¹Á Ñ³ßí»ïáõ Å³Ù³Ý³Ï³ßñç³ÝÇ í»ñçáõÙ | V4: ´áÕáù³ñÏí»É »Ý í»ñ³ùÝÝÇã ¹³ï³ñ³Ý
F6: ÀÝ¹³Ù»ÝÁ | G6: ³Û¹ ÃíáõÙ Ñ³ñÏ³¹ñí³Í ëÝ³ÝÏáõÃÛáõÝ | H6: ³Û¹ ÃíáõÙ Ï³Ù³íáñ ëÝ³ÝÏáõÃÛáõÝ | I6: ëï³óí³Í ¹ÇÙáõÙÝ»ñÇ ÁÝÃ³óùÁ | M6: Ï³Û³óí»É ¿ å³ñï³å³ÝÇÝ ëÝ³ÝÏ ×³Ý³ã»Éáõ Ù³ëÇÝ í×Çé | N6: å³ñï³å³ÝÇÝ ëÝ³ÝÏ ×³Ý³ã»Éáõ ¹ÇÙáõÙÁ Ù»ñÅí»É ¿ | O6: ¹ÇÙáõÙÁ ÃáÕÝí»É ¿ ³é³Ýó ùÝÝáõÃÛ³Ý | P6: ³Ý³í³ñï (³Û¹ ÃíáõÙ Ï³ë»óí³Í) | Q6: ÀÝ¹³Ù»ÝÁ | R6: ÃáÕÝí»É ¿ ³é³Ýó ùÝÝ³ñÏÙ³Ý | S6: Ñ³ëï³ïí»É ¿
I8: ¸ÇÙáõÙÇ ÁÝ¹áõÝáõÙÁ Ù»ñÅí»É ¿ | J8: ¸ÇÙáõÙÁ í»ñ³¹³ñÓí»É ¿ | K8: ÀÝ¹áõÝí»É ¿ í³ñáõÛÃ
E18: 1 | F18: 2 | G18: 3 | H18: 4 | I18: 5 | J18: 6 | K18: 7 | L18: 8 | M18: 9 | N18: 10 | O18: 11 | P18: 12 | Q18: 13 | R18: 14 | S18: 15 | T18: 16 | U18: 17 | V18: 18 | W18: 1+7=8+16+17 | Y18: 2=3+4 | AA18: 2=5+6+7 | AC18: 7=9+10+11+12
A19: 1 | B19: Æñ³í³µ³Ý³Ï³Ý ³ÝÓÇ ëÝ³ÝÏáõÃÛ³Ý í»ñ³µ»ñÛ³É | E19: 52 | F19: 85 | G19: 85 | J19: 3 | K19: 82 | M19: 15 | P19: 67 | T19: 15 | U19: 119 | V19: 1 | W19: =E19+K19 -> 134 | X19: =L19+T19+U19 -> 134 | Y19: =F19 -> 85 | Z19: =G19+H19 -> 85 | AA19: =F19 -> 85 | AB19: =I19+J19+K19 -> 85 | AC19: =K19 -> 82 | AD19: =M19+N19+O19+P19 -> 82
A20: 2 | B20: ²ÝÑ³ï Ó»éÝ»ñ»óÇ ëÝ³ÝÏáõÃÛ³Ý í»ñ³µ»ñÛ³É | E20: 4 | F20: 5 | G20: 5 | K20: 5 | M20: 4 | N20: 1 | T20: 2 | U20: 7 | V20: 1 | W20: =E20+K20 -> 9 | X20: =L20+T20+U20 -> 9 | Y20: =F20 -> 5 | Z20: =G20+H20 -> 5 | AA20: =F20 -> 5 | AB20: =I20+J20+K20 -> 5 | AC20: =K20 -> 5 | AD20: =M20+N20+O20+P20 -> 5
A21: 3 | B21: üÇ½ÇÏ³Ï³Ý ³ÝÓ³Ýó ëÝ³ÝÏáõÃÛ³Ý í»ñ³µ»ñÛ³É | E21: 48 | F21: 54 | G21: 49 | H21: 5 | J21: 8 | K21: 46 | M21: 19 | N21: 2 | P21: 25 | T21: 24 | U21: 70 | V21: 1 | W21: =E21+K21 -> 94 | X21: =L21+T21+U21 -> 94 | Y21: =F21 -> 54 | Z21: =G21+H21 -> 54 | AA21: =F21 -> 54 | AB21: =I21+J21+K21 -> 54 | AC21: =K21 -> 46 | AD21: =M21+N21+O21+P21 -> 46
A22: 4 | B22: ԸՆԴԱՄԵՆԸ | E22: 104 | F22: 144 | G22: 139 | H22: 5 | J22: 11 | K22: 133 | M22: 38 | N22: 3 | P22: 92 | T22: 41 | U22: 196 | V22: 3 | W22: =E22+K22 -> 237 | X22: =L22+T22+U22 -> 237 | Y22: =F22 -> 144 | Z22: =G22+H22 -> 144 | AA22: =F22 -> 144 | AB22: =I22+J22+K22 -> 144 | AC22: =K22 -> 133 | AD22: =M22+N22+O22+P22 -> 133
