Workbook

Sheet Ընդամենը
A1: 2016թ. 1-ԻՆ ԿԻՍԱՄՅԱԿ | E1: ՀԱՇՎԵՏՎՈՒԹՅՈՒՆ | AC1: Հավելված Հայաստանի Հանրապետության Դատարանների նախագահների խորհրդի 25.08.2016թ. թիվ 44-Լ որոշման
A2: ՀՀ ԸՆԴՀԱՆՈՒՐ ԻՐԱՎԱՍՈՒԹՅԱՆ ԱՌԱՋԻՆ ԱՏՅԱՆԻ ԴԱՏԱՐԱՆՈՒՄ ՔԱՂԱՔԱՑԻԱԿԱՆ ԳՈՐԾԵՐԻ ՔՆՆՈՒԹՅԱՆ ՎԵՐԱԲԵՐՅԱԼ
A4: Ստուգիչ հավասարումներ՝ 1=2+3+4+5, 6=7+8+9, 2+3+7=20+21+23, 10=11+12+13+14+15, 15=16+17+18, 20=10+19, 27=25+26, 30=28+29 | E4: Հաշվետու ժամանակահատվածում նախորդ հաշվետու ժամանակահատվածից փոխանցված գործերի ընդհանուր թիվը | J4: Հաշվետու ժամանակահատվածումստացված գործերի (այդ թվում` հայցադիմումների, դիմումների) ընդհանուր թիվը | N4: Հաշվետու ժամանակահատվածում ավարտված գործերի ընդհանուր թիվը | Y4: Գործն ուղարկվել է ըստ ընդդատության | Z4: Հաշվետու ժամանակահատվածում կասեցված վարույթներով գործերի ընդհանուր թիվը | AA4: Հաշվետու ժամանակահատվածում անավարտ գործերի ընդհանուր թիվը | AB4: Այդ թվում՝ կասեցված | AC4: Բողոքարկված դատական ակտերի թիվը` ըստ տեսակների | AF4: Բեկանված դատական ակտերի թիվը` ըստ տեսակների
E7: Ընդամենը | F7: Այդ թվում`կասեցված վիճակում փոխանցված | G7: Այդ թվում՝ ընդունվել է վարույթ | H7: Այդ թվում՝ վերադարձվել է | I7: Այդ թվում՝ ընդունումը մերժվել է | J7: Ընդամենը | K7: Այդ թվում՝ ընդունվել է վարույթ | L7: Այդ թվում՝ վերադարձվել է | M7: Այդ թվում՝ ընդունումը մերժվել է | N7: Ընդամենը ավարտվել են գործեր գործն ըստ էության լուծող դատական ակտերի (վճիռների) կայացմամբ | O7: Այդ թվում՝ հայցի բավարարմամբ | P7: Այդ թվում՝ հայցի մասնակի բավարարմամբ | Q7: Այդ թվում՝ հայցի մերժմամբ | R7: Մասով կարճվել է, մասով մերժվել | S7: Այդ թվում՝ կարճվել են | W7: Հայցը թողնվել է առանց քննության | X7: Ընդամենն ավարտվել են գործեր | AC7: Այդ թվում` գործն ըստ էության լուծող դատական ակտեր | AD7: Այդ թվում` միջանկյալ դատական ակտեր | AE7: Ընդամենը | AF7: Այդ թվում` գործն ըստ էության լուծող դատական ակտեր | AG7: Այդ թվում` միջանկյալ դատական ակտեր | AH7: Ընդամենը
S10: Ընդամենը կարճվել են | T10: Այդ թվում՝ հաստատվել է կնքված հաշտության համաձայնությունը | U10: Այդ թվում՝ հացից, դիմումից հրաժարվելու հիմքով | V10: Այդ թվում՝ այլ հիմքով
A18: Քաղաքացիական գործերի դասակարգումը | E18: 1 | F18: 2 | G18: 3 | H18: 4 | I18: 5 | J18: 6 | K18: 7 | L18: 8 | M18: 9 | N18: 10 | O18: 11 | P18: 12 | Q18: 13 | R18: 14 | S18: 15 | T18: 16 | U18: 17 | V18: 18 | W18: 19 | X18: 20 | Y18: 21 | Z18: 22 | AA18: 23 | AB18: 24 | AC18: 25 | AD18: 26 | AE18: 27 | AF18: 28 | AG18: 29 | AH18: 30 | AJ18: 1=2+3+4+5 | AL18: 6=7+8+9 | AN18: 2+3+7=20+21+23 | AP18: 10=11+12+13+14+15 | AR18: 15=16+17+18 | AT18: 20=10+19 | AV18: 27=25+26 | AX18: 30=28+29
A19: 1. | B19: Գույքային իրավահարաբերությունների վերաբերյալ դատական գործեր | E19: =SUM('Erebuni :Ararat'!E19) -> 3457 | F19: =SUM('Erebuni :Ararat'!F19) -> 1202 | G19: =SUM('Erebuni :Ararat'!G19) -> 2254 | H19: =SUM('Erebuni :Ararat'!H19) -> 1 | I19: =SUM('Erebuni :Ararat'!I19) -> 0 | J19: =SUM('Erebuni :Ararat'!J19) -> 1414 | K19: =SUM('Erebuni :Ararat'!K19) -> 1202 | L19: =SUM('Erebuni :Ararat'!L19) -> 184 | ... AI19: =SUM('Erebuni :Ararat'!AI19) -> 0 | AJ19: =SUM(AJ20:AJ38) -> 3457 | AK19: =SUM(AK20:AK38) -> 3457 | AL19: =SUM(AL20:AL38) -> 1414 | AM19: =SUM(AM20:AM38) -> 1400 | AN19: =SUM(AN20:AN38) -> 4658 | AO19: =SUM(AO20:AO38) -> 4662 | AP19: =SUM(AP20:AP38) -> 1063 | AQ19: =SUM(AQ20:AQ38) -> 1063 | ... AY19: =SUM(AY20:AY38) -> 50
A20: 1.1 | B20: Գույքի նկատմամբ սեփականության իրավունքը ճանաչելու վերաբերյալ | E20: =SUM('Erebuni :Ararat'!E20) -> 301 | F20: =SUM('Erebuni :Ararat'!F20) -> 56 | G20: =SUM('Erebuni :Ararat'!G20) -> 245 | H20: =SUM('Erebuni :Ararat'!H20) -> 0 | I20: =SUM('Erebuni :Ararat'!I20) -> 0 | J20: =SUM('Erebuni :Ararat'!J20) -> 168 | K20: =SUM('Erebuni :Ararat'!K20) -> 143 | L20: =SUM('Erebuni :Ararat'!L20) -> 20 | ... AH20: =SUM('Erebuni :Ararat'!AH20) -> 10 | AJ20: =E20 -> 301 | AK20: =F20+G20+H20+I20 -> 301 | AL20: =J20 -> 168 | AM20: =K20+L20+M20 -> 168 | AN20: =F20+G20+K20 -> 444 | AO20: =X20+Y20+AA20 -> 443 | AP20: =N20 -> 137 | AQ20: =O20+P20+Q20+R20+S20 -> 137 | AR20: =S20 -> 51 | AS20: =T20+U20+V20 -> 51 | AT20: =X20 -> 138 | AU20: =N20+W20 -> 138 | AV20: =AE20 -> 28 | AW20: =AC20+AD20 -> 28 | AX20: =AH20 -> 10 | AY20: =AF20+AG20 -> 10
A21: 1.1.1 | B21: Այդ թվում՝ ձեռքբերման վաղեմության ուժով | E21: =SUM('Erebuni :Ararat'!E21) -> 224 | F21: =SUM('Erebuni :Ararat'!F21) -> 29 | G21: =SUM('Erebuni :Ararat'!G21) -> 195 | H21: =SUM('Erebuni :Ararat'!H21) -> 0 | I21: =SUM('Erebuni :Ararat'!I21) -> 0 | J21: =SUM('Erebuni :Ararat'!J21) -> 137 | K21: =SUM('Erebuni :Ararat'!K21) -> 123 | L21: =SUM('Erebuni :Ararat'!L21) -> 12 | ... AH21: =SUM('Erebuni :Ararat'!AH21) -> 7 | AJ21: =E21 -> 224 | AK21: =F21+G21+H21+I21 -> 224 | AL21: =J21 -> 137 | AM21: =K21+L21+M21 -> 135 | AN21: =F21+G21+K21 -> 347 | AO21: =X21+Y21+AA21 -> 347 | AP21: =N21 -> 121 | AQ21: =O21+P21+Q21+R21+S21 -> 121 | AR21: =S21 -> 27 | AS21: =T21+U21+V21 -> 27 | AT21: =X21 -> 123 | AU21: =N21+W21 -> 123 | AV21: =AE21 -> 24 | AW21: =AC21+AD21 -> 24 | AX21: =AH21 -> 7 | AY21: =AF21+AG21 -> 7
A22: 1.1.2 | B22: Այդ թվում՝ տիրազուրկ գույքի նկատմամբ | E22: =SUM('Erebuni :Ararat'!E22) -> 2 | F22: =SUM('Erebuni :Ararat'!F22) -> 0 | G22: =SUM('Erebuni :Ararat'!G22) -> 2 | H22: =SUM('Erebuni :Ararat'!H22) -> 0 | I22: =SUM('Erebuni :Ararat'!I22) -> 0 | J22: =SUM('Erebuni :Ararat'!J22) -> 14 | K22: =SUM('Erebuni :Ararat'!K22) -> 10 | L22: =SUM('Erebuni :Ararat'!L22) -> 4 | ... AH22: =SUM('Erebuni :Ararat'!AH22) -> 0 | AJ22: =E22 -> 2 | AK22: =F22+G22+H22+I22 -> 2 | AL22: =J22 -> 14 | AM22: =K22+L22+M22 -> 14 | AN22: =F22+G22+K22 -> 12 | AO22: =X22+Y22+AA22 -> 12 | AP22: =N22 -> 5 | AQ22: =O22+P22+Q22+R22+S22 -> 5 | AR22: =S22 -> 0 | AS22: =T22+U22+V22 -> 0 | AT22: =X22 -> 5 | AU22: =N22+W22 -> 5 | AV22: =AE22 -> 0 | AW22: =AC22+AD22 -> 0 | AX22: =AH22 -> 0 | AY22: =AF22+AG22 -> 0
A23: 1.1.3 | B23: Այդ թվում՝ ինքնակամ կառույցի նկատմամբ | E23: =SUM('Erebuni :Ararat'!E23) -> 1 | F23: =SUM('Erebuni :Ararat'!F23) -> 1 | G23: =SUM('Erebuni :Ararat'!G23) -> 0 | H23: =SUM('Erebuni :Ararat'!H23) -> 0 | I23: =SUM('Erebuni :Ararat'!I23) -> 0 | J23: =SUM('Erebuni :Ararat'!J23) -> 0 | K23: =SUM('Erebuni :Ararat'!K23) -> 0 | L23: =SUM('Erebuni :Ararat'!L23) -> 0 | ... AH23: =SUM('Erebuni :Ararat'!AH23) -> 0 | AJ23: =E23 -> 1 | AK23: =F23+G23+H23+I23 -> 1 | AL23: =J23 -> 0 | AM23: =K23+L23+M23 -> 0 | AN23: =F23+G23+K23 -> 1 | AO23: =X23+Y23+AA23 -> 1 | AP23: =N23 -> 0 | AQ23: =O23+P23+Q23+R23+S23 -> 0 | AR23: =S23 -> 0 | AS23: =T23+U23+V23 -> 0 | AT23: =X23 -> 0 | AU23: =N23+W23 -> 0 | AV23: =AE23 -> 0 | AW23: =AC23+AD23 -> 0 | AX23: =AH23 -> 0 | AY23: =AF23+AG23 -> 0
A24: 1.2 | B24: Սեփականության իրավունքի դադարեցման վերաբերյալ | E24: =SUM('Erebuni :Ararat'!E24) -> 35 | F24: =SUM('Erebuni :Ararat'!F24) -> 7 | G24: =SUM('Erebuni :Ararat'!G24) -> 28 | H24: =SUM('Erebuni :Ararat'!H24) -> 0 | I24: =SUM('Erebuni :Ararat'!I24) -> 0 | J24: =SUM('Erebuni :Ararat'!J24) -> 22 | K24: =SUM('Erebuni :Ararat'!K24) -> 18 | L24: =SUM('Erebuni :Ararat'!L24) -> 3 | ... AH24: =SUM('Erebuni :Ararat'!AH24) -> 0 | AJ24: =E24 -> 35 | AK24: =F24+G24+H24+I24 -> 35 | AL24: =J24 -> 22 | AM24: =K24+L24+M24 -> 22 | AN24: =F24+G24+K24 -> 53 | AO24: =X24+Y24+AA24 -> 53 | AP24: =N24 -> 11 | AQ24: =O24+P24+Q24+R24+S24 -> 11 | AR24: =S24 -> 6 | AS24: =T24+U24+V24 -> 6 | AT24: =X24 -> 11 | AU24: =N24+W24 -> 11 | AV24: =AE24 -> 2 | AW24: =AC24+AD24 -> 2 | AX24: =AH24 -> 0 | AY24: =AF24+AG24 -> 0
A25: 1.3 | B25: Գույքի նկատմամբ օգտագործման իրավունքը ճանաչելու վերաբերյալ | E25: =SUM('Erebuni :Ararat'!E25) -> 6 | F25: =SUM('Erebuni :Ararat'!F25) -> 3 | G25: =SUM('Erebuni :Ararat'!G25) -> 3 | H25: =SUM('Erebuni :Ararat'!H25) -> 0 | I25: =SUM('Erebuni :Ararat'!I25) -> 0 | J25: =SUM('Erebuni :Ararat'!J25) -> 4 | K25: =SUM('Erebuni :Ararat'!K25) -> 4 | L25: =SUM('Erebuni :Ararat'!L25) -> 0 | ... AH25: =SUM('Erebuni :Ararat'!AH25) -> 0 | AJ25: =E25 -> 6 | AK25: =F25+G25+H25+I25 -> 6 | AL25: =J25 -> 4 | AM25: =K25+L25+M25 -> 4 | AN25: =F25+G25+K25 -> 10 | AO25: =X25+Y25+AA25 -> 10 | AP25: =N25 -> 2 | AQ25: =O25+P25+Q25+R25+S25 -> 2 | AR25: =S25 -> 1 | AS25: =T25+U25+V25 -> 1 | AT25: =X25 -> 2 | AU25: =N25+W25 -> 2 | AV25: =AE25 -> 0 | AW25: =AC25+AD25 -> 0 | AX25: =AH25 -> 0 | AY25: =AF25+AG25 -> 0
A26: 1.3.1 | B26: Այդ թվում՝ բնակօգտագործման իրավունքը ճանաչելու վերաբերյալ | E26: =SUM('Erebuni :Ararat'!E26) -> 6 | F26: =SUM('Erebuni :Ararat'!F26) -> 1 | G26: =SUM('Erebuni :Ararat'!G26) -> 5 | H26: =SUM('Erebuni :Ararat'!H26) -> 0 | I26: =SUM('Erebuni :Ararat'!I26) -> 0 | J26: =SUM('Erebuni :Ararat'!J26) -> 5 | K26: =SUM('Erebuni :Ararat'!K26) -> 2 | L26: =SUM('Erebuni :Ararat'!L26) -> 3 | ... AH26: =SUM('Erebuni :Ararat'!AH26) -> 0 | AJ26: =E26 -> 6 | AK26: =F26+G26+H26+I26 -> 6 | AL26: =J26 -> 5 | AM26: =K26+L26+M26 -> 5 | AN26: =F26+G26+K26 -> 8 | AO26: =X26+Y26+AA26 -> 8 | AP26: =N26 -> 4 | AQ26: =O26+P26+Q26+R26+S26 -> 4 | AR26: =S26 -> 0 | AS26: =T26+U26+V26 -> 0 | AT26: =X26 -> 4 | AU26: =N26+W26 -> 4 | AV26: =AE26 -> 1 | AW26: =AC26+AD26 -> 1 | AX26: =AH26 -> 0 | AY26: =AF26+AG26 -> 0
A27: 1.3.2 | B27: Այդ թվում՝ հողամասի նկատմամբ օգտագործման իրավունքը ճանաչելու վերաբերյալ | E27: =SUM('Erebuni :Ararat'!E27) -> 10 | F27: =SUM('Erebuni :Ararat'!F27) -> 3 | G27: =SUM('Erebuni :Ararat'!G27) -> 7 | H27: =SUM('Erebuni :Ararat'!H27) -> 0 | I27: =SUM('Erebuni :Ararat'!I27) -> 0 | J27: =SUM('Erebuni :Ararat'!J27) -> 2 | K27: =SUM('Erebuni :Ararat'!K27) -> 1 | L27: =SUM('Erebuni :Ararat'!L27) -> 1 | ... AH27: =SUM('Erebuni :Ararat'!AH27) -> 0 | AJ27: =E27 -> 10 | AK27: =F27+G27+H27+I27 -> 10 | AL27: =J27 -> 2 | AM27: =K27+L27+M27 -> 2 | AN27: =F27+G27+K27 -> 11 | AO27: =X27+Y27+AA27 -> 11 | AP27: =N27 -> 3 | AQ27: =O27+P27+Q27+R27+S27 -> 3 | AR27: =S27 -> 2 | AS27: =T27+U27+V27 -> 2 | AT27: =X27 -> 3 | AU27: =N27+W27 -> 3 | AV27: =AE27 -> 1 | AW27: =AC27+AD27 -> 1 | AX27: =AH27 -> 0 | AY27: =AF27+AG27 -> 0
A28: 1.4 | B28: Գույքի նկատմամբ օգտագործման իրավունքը դադարեցնելու վերաբերյալ | E28: =SUM('Erebuni :Ararat'!E28) -> 3 | F28: =SUM('Erebuni :Ararat'!F28) -> 1 | G28: =SUM('Erebuni :Ararat'!G28) -> 2 | H28: =SUM('Erebuni :Ararat'!H28) -> 0 | I28: =SUM('Erebuni :Ararat'!I28) -> 0 | J28: =SUM('Erebuni :Ararat'!J28) -> 0 | K28: =SUM('Erebuni :Ararat'!K28) -> 0 | L28: =SUM('Erebuni :Ararat'!L28) -> 0 | ... AH28: =SUM('Erebuni :Ararat'!AH28) -> 0 | AJ28: =E28 -> 3 | AK28: =F28+G28+H28+I28 -> 3 | AL28: =J28 -> 0 | AM28: =K28+L28+M28 -> 0 | AN28: =F28+G28+K28 -> 3 | AO28: =X28+Y28+AA28 -> 3 | AP28: =N28 -> 0 | AQ28: =O28+P28+Q28+R28+S28 -> 0 | AR28: =S28 -> 0 | AS28: =T28+U28+V28 -> 0 | AT28: =X28 -> 0 | AU28: =N28+W28 -> 0 | AV28: =AE28 -> 0 | AW28: =AC28+AD28 -> 0 | AX28: =AH28 -> 0 | AY28: =AF28+AG28 -> 0
A29: 1.4.1 | B29: Այդ թվում՝ բնակօգտագործման իրավունքը դադարեցնելու վերաբերյալ | E29: =SUM('Erebuni :Ararat'!E29) -> 18 | F29: =SUM('Erebuni :Ararat'!F29) -> 6 | G29: =SUM('Erebuni :Ararat'!G29) -> 12 | H29: =SUM('Erebuni :Ararat'!H29) -> 0 | I29: =SUM('Erebuni :Ararat'!I29) -> 0 | J29: =SUM('Erebuni :Ararat'!J29) -> 2 | K29: =SUM('Erebuni :Ararat'!K29) -> 2 | L29: =SUM('Erebuni :Ararat'!L29) -> 0 | ... AH29: =SUM('Erebuni :Ararat'!AH29) -> 1 | AJ29: =E29 -> 18 | AK29: =F29+G29+H29+I29 -> 18 | AL29: =J29 -> 2 | AM29: =K29+L29+M29 -> 2 | AN29: =F29+G29+K29 -> 20 | AO29: =X29+Y29+AA29 -> 20 | AP29: =N29 -> 6 | AQ29: =O29+P29+Q29+R29+S29 -> 6 | AR29: =S29 -> 0 | AS29: =T29+U29+V29 -> 0 | AT29: =X29 -> 6 | AU29: =N29+W29 -> 6 | AV29: =AE29 -> 4 | AW29: =AC29+AD29 -> 4 | AX29: =AH29 -> 1 | AY29: =AF29+AG29 -> 1
A30: 1.4.1/1 | B30: Այդ թվում՝ փոխհատուցմամբ | E30: =SUM('Erebuni :Ararat'!E30) -> 12 | F30: =SUM('Erebuni :Ararat'!F30) -> 5 | G30: =SUM('Erebuni :Ararat'!G30) -> 7 | H30: =SUM('Erebuni :Ararat'!H30) -> 0 | I30: =SUM('Erebuni :Ararat'!I30) -> 0 | J30: =SUM('Erebuni :Ararat'!J30) -> 5 | K30: =SUM('Erebuni :Ararat'!K30) -> 3 | L30: =SUM('Erebuni :Ararat'!L30) -> 2 | ... AH30: =SUM('Erebuni :Ararat'!AH30) -> 1 | AJ30: =E30 -> 12 | AK30: =F30+G30+H30+I30 -> 12 | AL30: =J30 -> 5 | AM30: =K30+L30+M30 -> 5 | AN30: =F30+G30+K30 -> 15 | AO30: =X30+Y30+AA30 -> 15 | AP30: =N30 -> 1 | AQ30: =O30+P30+Q30+R30+S30 -> 1 | AR30: =S30 -> 0 | AS30: =T30+U30+V30 -> 0 | AT30: =X30 -> 1 | AU30: =N30+W30 -> 1 | AV30: =AE30 -> 0 | AW30: =AC30+AD30 -> 0 | AX30: =AH30 -> 1 | AY30: =AF30+AG30 -> 1
A31: 1.5 | B31: Բնակարանից/ տարածքից/ վտարելու վերաբերյալ | E31: =SUM('Erebuni :Ararat'!E31) -> 221 | F31: =SUM('Erebuni :Ararat'!F31) -> 61 | G31: =SUM('Erebuni :Ararat'!G31) -> 160 | H31: =SUM('Erebuni :Ararat'!H31) -> 0 | I31: =SUM('Erebuni :Ararat'!I31) -> 0 | J31: =SUM('Erebuni :Ararat'!J31) -> 75 | K31: =SUM('Erebuni :Ararat'!K31) -> 68 | L31: =SUM('Erebuni :Ararat'!L31) -> 5 | ... AH31: =SUM('Erebuni :Ararat'!AH31) -> 2 | AJ31: =E31 -> 221 | AK31: =F31+G31+H31+I31 -> 221 | AL31: =J31 -> 75 | AM31: =K31+L31+M31 -> 73 | AN31: =F31+G31+K31 -> 289 | AO31: =X31+Y31+AA31 -> 290 | AP31: =N31 -> 74 | AQ31: =O31+P31+Q31+R31+S31 -> 74 | AR31: =S31 -> 16 | AS31: =T31+U31+V31 -> 16 | AT31: =X31 -> 74 | AU31: =N31+W31 -> 74 | AV31: =AE31 -> 25 | AW31: =AC31+AD31 -> 25 | AX31: =AH31 -> 2 | AY31: =AF31+AG31 -> 2
A32: 1.6 | B32: Գույքն ուրիշի ապօրինի տիրապետումից ետ վերադարձնելու վերաբերյալ | E32: =SUM('Erebuni :Ararat'!E32) -> 272 | F32: =SUM('Erebuni :Ararat'!F32) -> 78 | G32: =SUM('Erebuni :Ararat'!G32) -> 194 | H32: =SUM('Erebuni :Ararat'!H32) -> 0 | I32: =SUM('Erebuni :Ararat'!I32) -> 0 | J32: =SUM('Erebuni :Ararat'!J32) -> 111 | K32: =SUM('Erebuni :Ararat'!K32) -> 94 | L32: =SUM('Erebuni :Ararat'!L32) -> 15 | ... AH32: =SUM('Erebuni :Ararat'!AH32) -> 1 | AJ32: =E32 -> 272 | AK32: =F32+G32+H32+I32 -> 272 | AL32: =J32 -> 111 | AM32: =K32+L32+M32 -> 109 | AN32: =F32+G32+K32 -> 366 | AO32: =X32+Y32+AA32 -> 367 | AP32: =N32 -> 89 | AQ32: =O32+P32+Q32+R32+S32 -> 89 | AR32: =S32 -> 23 | AS32: =T32+U32+V32 -> 23 | AT32: =X32 -> 89 | AU32: =N32+W32 -> 89 | AV32: =AE32 -> 22 | AW32: =AC32+AD32 -> 22 | AX32: =AH32 -> 1 | AY32: =AF32+AG32 -> 1
A33: 1.6.1 | B33: Բարեխիղճ ձեռքբերողից իր գույքը հետ պահանջելու վերաբերյալ | E33: =SUM('Erebuni :Ararat'!E33) -> 0 | F33: =SUM('Erebuni :Ararat'!F33) -> 0 | G33: =SUM('Erebuni :Ararat'!G33) -> 0 | H33: =SUM('Erebuni :Ararat'!H33) -> 0 | I33: =SUM('Erebuni :Ararat'!I33) -> 0 | J33: =SUM('Erebuni :Ararat'!J33) -> 0 | K33: =SUM('Erebuni :Ararat'!K33) -> 0 | L33: =SUM('Erebuni :Ararat'!L33) -> 0 | ... AH33: =SUM('Erebuni :Ararat'!AH33) -> 0 | AJ33: =E33 -> 0 | AK33: =F33+G33+H33+I33 -> 0 | AL33: =J33 -> 0 | AM33: =K33+L33+M33 -> 0 | AN33: =F33+G33+K33 -> 0 | AO33: =X33+Y33+AA33 -> 0 | AP33: =N33 -> 0 | AQ33: =O33+P33+Q33+R33+S33 -> 0 | AR33: =S33 -> 0 | AS33: =T33+U33+V33 -> 0 | AT33: =X33 -> 0 | AU33: =N33+W33 -> 0 | AV33: =AE33 -> 3 | AW33: =AC33+AD33 -> 3 | AX33: =AH33 -> 0 | AY33: =AF33+AG33 -> 0
A34: 1.7 | B34: Տիրապետումից զրկելու հետ չկապված իրավունքների խախտումը վերացնելու վերաբերյալ | E34: =SUM('Erebuni :Ararat'!E34) -> 55 | F34: =SUM('Erebuni :Ararat'!F34) -> 13 | G34: =SUM('Erebuni :Ararat'!G34) -> 42 | H34: =SUM('Erebuni :Ararat'!H34) -> 0 | I34: =SUM('Erebuni :Ararat'!I34) -> 0 | J34: =SUM('Erebuni :Ararat'!J34) -> 20 | K34: =SUM('Erebuni :Ararat'!K34) -> 17 | L34: =SUM('Erebuni :Ararat'!L34) -> 3 | ... AH34: =SUM('Erebuni :Ararat'!AH34) -> 1 | AJ34: =E34 -> 55 | AK34: =F34+G34+H34+I34 -> 55 | AL34: =J34 -> 20 | AM34: =K34+L34+M34 -> 20 | AN34: =F34+G34+K34 -> 72 | AO34: =X34+Y34+AA34 -> 72 | AP34: =N34 -> 12 | AQ34: =O34+P34+Q34+R34+S34 -> 12 | AR34: =S34 -> 9 | AS34: =T34+U34+V34 -> 9 | AT34: =X34 -> 12 | AU34: =N34+W34 -> 12 | AV34: =AE34 -> 3 | AW34: =AC34+AD34 -> 3 | AX34: =AH34 -> 1 | AY34: =AF34+AG34 -> 1
A35: 1.8 | B35: Ընդհանուր բաժնային սեփականությունից բաժինն առանձնացնելու վերաբերյալ | E35: =SUM('Erebuni :Ararat'!E35) -> 1094 | F35: =SUM('Erebuni :Ararat'!F35) -> 538 | G35: =SUM('Erebuni :Ararat'!G35) -> 556 | H35: =SUM('Erebuni :Ararat'!H35) -> 0 | I35: =SUM('Erebuni :Ararat'!I35) -> 0 | J35: =SUM('Erebuni :Ararat'!J35) -> 396 | K35: =SUM('Erebuni :Ararat'!K35) -> 341 | L35: =SUM('Erebuni :Ararat'!L35) -> 45 | ... AH35: =SUM('Erebuni :Ararat'!AH35) -> 7 | AJ35: =E35 -> 1094 | AK35: =F35+G35+H35+I35 -> 1094 | AL35: =J35 -> 396 | AM35: =K35+L35+M35 -> 388 | AN35: =F35+G35+K35 -> 1435 | AO35: =X35+Y35+AA35 -> 1439 | AP35: =N35 -> 251 | AQ35: =O35+P35+Q35+R35+S35 -> 251 | AR35: =S35 -> 109 | AS35: =T35+U35+V35 -> 109 | AT35: =X35 -> 251 | AU35: =N35+W35 -> 251 | AV35: =AE35 -> 37 | AW35: =AC35+AD35 -> 37 | AX35: =AH35 -> 7 | AY35: =AF35+AG35 -> 7
A36: 1.8.1 | B36: Համատեղ սեփականության ներքո գտնվող գույքը բաժանելու և դրանից բաժինն առանձնացնելու վերաբերյալ | E36: =SUM('Erebuni :Ararat'!E36) -> 457 | F36: =SUM('Erebuni :Ararat'!F36) -> 171 | G36: =SUM('Erebuni :Ararat'!G36) -> 285 | H36: =SUM('Erebuni :Ararat'!H36) -> 1 | I36: =SUM('Erebuni :Ararat'!I36) -> 0 | J36: =SUM('Erebuni :Ararat'!J36) -> 181 | K36: =SUM('Erebuni :Ararat'!K36) -> 147 | L36: =SUM('Erebuni :Ararat'!L36) -> 33 | ... AH36: =SUM('Erebuni :Ararat'!AH36) -> 8 | AJ36: =E36 -> 457 | AK36: =F36+G36+H36+I36 -> 457 | AL36: =J36 -> 181 | AM36: =K36+L36+M36 -> 181 | AN36: =F36+G36+K36 -> 603 | AO36: =X36+Y36+AA36 -> 603 | AP36: =N36 -> 109 | AQ36: =O36+P36+Q36+R36+S36 -> 109 | AR36: =S36 -> 45 | AS36: =T36+U36+V36 -> 45 | AT36: =X36 -> 109 | AU36: =N36+W36 -> 109 | AV36: =AE36 -> 17 | AW36: =AC36+AD36 -> 17 | AX36: =AH36 -> 8 | AY36: =AF36+AG36 -> 8
... A38: 1.9 | B38: Այլ վեճեր | E38: =SUM('Erebuni :Ararat'!E38) -> 619 | F38: =SUM('Erebuni :Ararat'!F38) -> 173 | G38: =SUM('Erebuni :Ararat'!G38) -> 446 | H38: =SUM('Erebuni :Ararat'!H38) -> 0 | I38: =SUM('Erebuni :Ararat'!I38) -> 0 | J38: =SUM('Erebuni :Ararat'!J38) -> 227 | K38: =SUM('Erebuni :Ararat'!K38) -> 192 | L38: =SUM('Erebuni :Ararat'!L38) -> 30 | ... AH38: =SUM('Erebuni :Ararat'!AH38) -> 12 | AJ38: =E38 -> 619 | AK38: =F38+G38+H38+I38 -> 619 | AL38: =J38 -> 227 | AM38: =K38+L38+M38 -> 227 | AN38: =F38+G38+K38 -> 811 | AO38: =X38+Y38+AA38 -> 810 | AP38: =N38 -> 205 | AQ38: =O38+P38+Q38+R38+S38 -> 205 | AR38: =S38 -> 60 | AS38: =T38+U38+V38 -> 60 | AT38: =X38 -> 205 | AU38: =N38+W38 -> 205 | AV38: =AE38 -> 49 | AW38: =AC38+AD38 -> 49 | AX38: =AH38 -> 12 | AY38: =AF38+AG38 -> 12
A39: 2. | B39: Գործարքների հետ կապված իրավահարաբերությունների վերաբերյալ դատական գործեր | E39: =SUM('Erebuni :Ararat'!E39) -> 1255 | F39: =SUM('Erebuni :Ararat'!F39) -> 244 | G39: =SUM('Erebuni :Ararat'!G39) -> 1011 | H39: =SUM('Erebuni :Ararat'!H39) -> 0 | I39: =SUM('Erebuni :Ararat'!I39) -> 0 | J39: =SUM('Erebuni :Ararat'!J39) -> 603 | K39: =SUM('Erebuni :Ararat'!K39) -> 506 | L39: =SUM('Erebuni :Ararat'!L39) -> 89 | ... AH39: =SUM('Erebuni :Ararat'!AH39) -> 15 | AJ39: =SUM(AJ40:AJ50) -> 1255 | AK39: =SUM(AK40:AK50) -> 1255 | AL39: =SUM(AL40:AL50) -> 603 | AM39: =SUM(AM40:AM50) -> 603 | AN39: =F39+G39+K39 -> 1761 | AO39: =X39+Y39+AA39 -> 1755 | AP39: =SUM(AP40:AP50) -> 563 | AQ39: =SUM(AQ40:AQ50) -> 563 | AR39: =SUM(AR40:AR50) -> 122 | AS39: =SUM(AS40:AS50) -> 122 | AT39: =SUM(AT40:AT50) -> 564 | AU39: =SUM(AU40:AU50) -> 564 | AV39: =SUM(AV40:AV50) -> 124 | AW39: =SUM(AW40:AW50) -> 124 | ... AY39: =SUM(AY40:AY50) -> 15
A40: 2.1 | B40: գործարքների անվավերության հետ կապված վեճեր | E40: =SUM('Erebuni :Ararat'!E40) -> 123 | F40: =SUM('Erebuni :Ararat'!F40) -> 27 | G40: =SUM('Erebuni :Ararat'!G40) -> 96 | H40: =SUM('Erebuni :Ararat'!H40) -> 0 | I40: =SUM('Erebuni :Ararat'!I40) -> 0 | J40: =SUM('Erebuni :Ararat'!J40) -> 63 | K40: =SUM('Erebuni :Ararat'!K40) -> 47 | L40: =SUM('Erebuni :Ararat'!L40) -> 13 | ... AH40: =SUM('Erebuni :Ararat'!AH40) -> 5 | AJ40: =E40 -> 123 | AK40: =F40+G40+H40+I40 -> 123 | AL40: =J40 -> 63 | AM40: =K40+L40+M40 -> 63 | AN40: =F40+G40+K40 -> 170 | AO40: =X40+Y40+AA40 -> 169 | AP40: =N40 -> 45 | AQ40: =O40+P40+Q40+R40+S40 -> 45 | AR40: =S40 -> 18 | AS40: =T40+U40+V40 -> 18 | AT40: =X40 -> 45 | AU40: =N40+W40 -> 45 | AV40: =AE40 -> 15 | AW40: =AC40+AD40 -> 15 | AX40: =AH40 -> 5 | AY40: =AF40+AG40 -> 5
A41: 2.1.1 | B41: այդ թվում` վիճահարույց գործարքներն անվավեր ճանաչելու վերաբերյալ | E41: =SUM('Erebuni :Ararat'!E41) -> 4 | F41: =SUM('Erebuni :Ararat'!F41) -> 0 | G41: =SUM('Erebuni :Ararat'!G41) -> 4 | H41: =SUM('Erebuni :Ararat'!H41) -> 0 | I41: =SUM('Erebuni :Ararat'!I41) -> 0 | J41: =SUM('Erebuni :Ararat'!J41) -> 2 | K41: =SUM('Erebuni :Ararat'!K41) -> 2 | L41: =SUM('Erebuni :Ararat'!L41) -> 0 | ... AH41: =SUM('Erebuni :Ararat'!AH41) -> 1 | AJ41: =E41 -> 4 | AK41: =F41+G41+H41+I41 -> 4 | AL41: =J41 -> 2 | AM41: =K41+L41+M41 -> 2 | AN41: =F41+G41+K41 -> 6 | AO41: =X41+Y41+AA41 -> 7 | AP41: =N41 -> 1 | AQ41: =O41+P41+Q41+R41+S41 -> 1 | AR41: =S41 -> 0 | AS41: =T41+U41+V41 -> 0 | AT41: =X41 -> 1 | AU41: =N41+W41 -> 1 | AV41: =AE41 -> 1 | AW41: =AC41+AD41 -> 1 | AX41: =AH41 -> 1 | AY41: =AF41+AG41 -> 1
A42: 2.1.2 | B42: այդ թվում` գործարքի առոչնչության հետևանքներ կիրառելու վերաբերյալ | E42: =SUM('Erebuni :Ararat'!E42) -> 103 | F42: =SUM('Erebuni :Ararat'!F42) -> 7 | G42: =SUM('Erebuni :Ararat'!G42) -> 96 | H42: =SUM('Erebuni :Ararat'!H42) -> 0 | I42: =SUM('Erebuni :Ararat'!I42) -> 0 | J42: =SUM('Erebuni :Ararat'!J42) -> 61 | K42: =SUM('Erebuni :Ararat'!K42) -> 46 | L42: =SUM('Erebuni :Ararat'!L42) -> 14 | ... AH42: =SUM('Erebuni :Ararat'!AH42) -> 0 | AJ42: =E42 -> 103 | AK42: =F42+G42+H42+I42 -> 103 | AL42: =J42 -> 61 | AM42: =K42+L42+M42 -> 61 | AN42: =F42+G42+K42 -> 149 | AO42: =X42+Y42+AA42 -> 149 | AP42: =N42 -> 46 | AQ42: =O42+P42+Q42+R42+S42 -> 46 | AR42: =S42 -> 11 | AS42: =T42+U42+V42 -> 11 | AT42: =X42 -> 46 | AU42: =N42+W42 -> 46 | AV42: =AE42 -> 25 | AW42: =AC42+AD42 -> 25 | AX42: =AH42 -> 0 | AY42: =AF42+AG42 -> 0
A43: 2.2 | B43: Գործարքը վավեր ճանաչելու վերաբերյալ | E43: =SUM('Erebuni :Ararat'!E43) -> 36 | F43: =SUM('Erebuni :Ararat'!F43) -> 7 | G43: =SUM('Erebuni :Ararat'!G43) -> 29 | H43: =SUM('Erebuni :Ararat'!H43) -> 0 | I43: =SUM('Erebuni :Ararat'!I43) -> 0 | J43: =SUM('Erebuni :Ararat'!J43) -> 48 | K43: =SUM('Erebuni :Ararat'!K43) -> 43 | L43: =SUM('Erebuni :Ararat'!L43) -> 4 | ... AH43: =SUM('Erebuni :Ararat'!AH43) -> 0 | AJ43: =E43 -> 36 | AK43: =F43+G43+H43+I43 -> 36 | AL43: =J43 -> 48 | AM43: =K43+L43+M43 -> 48 | AN43: =F43+G43+K43 -> 79 | AO43: =X43+Y43+AA43 -> 79 | AP43: =N43 -> 36 | AQ43: =O43+P43+Q43+R43+S43 -> 36 | AR43: =S43 -> 7 | AS43: =T43+U43+V43 -> 7 | AT43: =X43 -> 36 | AU43: =N43+W43 -> 36 | AV43: =AE43 -> 2 | AW43: =AC43+AD43 -> 2 | AX43: =AH43 -> 0 | AY43: =AF43+AG43 -> 0
A44: 2.3 | B44: Գործարքից ծագող իրավունքները գրանցելու վերաբերյալ | E44: =SUM('Erebuni :Ararat'!E44) -> 1 | F44: =SUM('Erebuni :Ararat'!F44) -> 0 | G44: =SUM('Erebuni :Ararat'!G44) -> 1 | H44: =SUM('Erebuni :Ararat'!H44) -> 0 | I44: =SUM('Erebuni :Ararat'!I44) -> 0 | J44: =SUM('Erebuni :Ararat'!J44) -> 0 | K44: =SUM('Erebuni :Ararat'!K44) -> 0 | L44: =SUM('Erebuni :Ararat'!L44) -> 0 | ... AH44: =SUM('Erebuni :Ararat'!AH44) -> 0 | AJ44: =E44 -> 1 | AK44: =F44+G44+H44+I44 -> 1 | AL44: =J44 -> 0 | AM44: =K44+L44+M44 -> 0 | AN44: =F44+G44+K44 -> 1 | AO44: =X44+Y44+AA44 -> 1 | AP44: =N44 -> 1 | AQ44: =O44+P44+Q44+R44+S44 -> 1 | AR44: =S44 -> 0 | AS44: =T44+U44+V44 -> 0 | AT44: =X44 -> 1 | AU44: =N44+W44 -> 1 | AV44: =AE44 -> 0 | AW44: =AC44+AD44 -> 0 | AX44: =AH44 -> 0 | AY44: =AF44+AG44 -> 0
A45: 2.4 | B45: Պայմանագիրն անվավեր ճանաչելու վերաբերյալ | E45: =SUM('Erebuni :Ararat'!E45) -> 347 | F45: =SUM('Erebuni :Ararat'!F45) -> 71 | G45: =SUM('Erebuni :Ararat'!G45) -> 276 | H45: =SUM('Erebuni :Ararat'!H45) -> 0 | I45: =SUM('Erebuni :Ararat'!I45) -> 0 | J45: =SUM('Erebuni :Ararat'!J45) -> 175 | K45: =SUM('Erebuni :Ararat'!K45) -> 150 | L45: =SUM('Erebuni :Ararat'!L45) -> 25 | ... AH45: =SUM('Erebuni :Ararat'!AH45) -> 7 | AJ45: =E45 -> 347 | AK45: =F45+G45+H45+I45 -> 347 | AL45: =J45 -> 175 | AM45: =K45+L45+M45 -> 175 | AN45: =F45+G45+K45 -> 497 | AO45: =X45+Y45+AA45 -> 497 | AP45: =N45 -> 106 | AQ45: =O45+P45+Q45+R45+S45 -> 106 | AR45: =S45 -> 32 | AS45: =T45+U45+V45 -> 32 | AT45: =X45 -> 106 | AU45: =N45+W45 -> 106 | AV45: =AE45 -> 36 | AW45: =AC45+AD45 -> 36 | AX45: =AH45 -> 7 | AY45: =AF45+AG45 -> 7
A46: 2.5 | B46: Պայմանագրիը վավեր ճանաչելու վերաբերյալ | E46: =SUM('Erebuni :Ararat'!E46) -> 49 | F46: =SUM('Erebuni :Ararat'!F46) -> 7 | G46: =SUM('Erebuni :Ararat'!G46) -> 42 | H46: =SUM('Erebuni :Ararat'!H46) -> 0 | I46: =SUM('Erebuni :Ararat'!I46) -> 0 | J46: =SUM('Erebuni :Ararat'!J46) -> 22 | K46: =SUM('Erebuni :Ararat'!K46) -> 19 | L46: =SUM('Erebuni :Ararat'!L46) -> 3 | ... AH46: =SUM('Erebuni :Ararat'!AH46) -> 0 | AJ46: =E46 -> 49 | AK46: =F46+G46+H46+I46 -> 49 | AL46: =J46 -> 22 | AM46: =K46+L46+M46 -> 22 | AN46: =F46+G46+K46 -> 68 | AO46: =X46+Y46+AA46 -> 68 | AP46: =N46 -> 17 | AQ46: =O46+P46+Q46+R46+S46 -> 17 | AR46: =S46 -> 3 | AS46: =T46+U46+V46 -> 3 | AT46: =X46 -> 17 | AU46: =N46+W46 -> 17 | AV46: =AE46 -> 3 | AW46: =AC46+AD46 -> 3 | AX46: =AH46 -> 0 | AY46: =AF46+AG46 -> 0
A47: 2.6 | B47: Պայմանագրից ծագող իրավունքները գրանցելու վերաբերյալ | E47: =SUM('Erebuni :Ararat'!E47) -> 0 | F47: =SUM('Erebuni :Ararat'!F47) -> 0 | G47: =SUM('Erebuni :Ararat'!G47) -> 0 | H47: =SUM('Erebuni :Ararat'!H47) -> 0 | I47: =SUM('Erebuni :Ararat'!I47) -> 0 | J47: =SUM('Erebuni :Ararat'!J47) -> 0 | K47: =SUM('Erebuni :Ararat'!K47) -> 0 | L47: =SUM('Erebuni :Ararat'!L47) -> 0 | ... AH47: =SUM('Erebuni :Ararat'!AH47) -> 0 | AJ47: =E47 -> 0 | AK47: =F47+G47+H47+I47 -> 0 | AL47: =J47 -> 0 | AM47: =K47+L47+M47 -> 0 | AN47: =F47+G47+K47 -> 0 | AO47: =X47+Y47+AA47 -> 0 | AP47: =N47 -> 0 | AQ47: =O47+P47+Q47+R47+S47 -> 0 | AR47: =S47 -> 0 | AS47: =T47+U47+V47 -> 0 | AT47: =X47 -> 0 | AU47: =N47+W47 -> 0 | AV47: =AE47 -> 0 | AW47: =AC47+AD47 -> 0 | AX47: =AH47 -> 0 | AY47: =AF47+AG47 -> 0
A48: 2.7 | B48: Պայմանագիրը փոփոխելու և լուծելու վերաբերյալ | E48: =SUM('Erebuni :Ararat'!E48) -> 126 | F48: =SUM('Erebuni :Ararat'!F48) -> 27 | G48: =SUM('Erebuni :Ararat'!G48) -> 99 | H48: =SUM('Erebuni :Ararat'!H48) -> 0 | I48: =SUM('Erebuni :Ararat'!I48) -> 0 | J48: =SUM('Erebuni :Ararat'!J48) -> 43 | K48: =SUM('Erebuni :Ararat'!K48) -> 32 | L48: =SUM('Erebuni :Ararat'!L48) -> 11 | ... AH48: =SUM('Erebuni :Ararat'!AH48) -> 0 | AJ48: =E48 -> 126 | AK48: =F48+G48+H48+I48 -> 126 | AL48: =J48 -> 43 | AM48: =K48+L48+M48 -> 43 | AN48: =F48+G48+K48 -> 158 | AO48: =X48+Y48+AA48 -> 153 | AP48: =N48 -> 49 | AQ48: =O48+P48+Q48+R48+S48 -> 49 | AR48: =S48 -> 18 | AS48: =T48+U48+V48 -> 18 | AT48: =X48 -> 49 | AU48: =N48+W48 -> 49 | AV48: =AE48 -> 12 | AW48: =AC48+AD48 -> 12 | AX48: =AH48 -> 0 | AY48: =AF48+AG48 -> 0
A49: 2.8 | B49: Պայմանագիր կնքելուն պարտավորեցնելու վերաբերյալ | E49: =SUM('Erebuni :Ararat'!E49) -> 96 | F49: =SUM('Erebuni :Ararat'!F49) -> 36 | G49: =SUM('Erebuni :Ararat'!G49) -> 60 | H49: =SUM('Erebuni :Ararat'!H49) -> 0 | I49: =SUM('Erebuni :Ararat'!I49) -> 0 | J49: =SUM('Erebuni :Ararat'!J49) -> 40 | K49: =SUM('Erebuni :Ararat'!K49) -> 34 | L49: =SUM('Erebuni :Ararat'!L49) -> 6 | ... AH49: =SUM('Erebuni :Ararat'!AH49) -> 0 | AJ49: =E49 -> 96 | AK49: =F49+G49+H49+I49 -> 96 | AL49: =J49 -> 40 | AM49: =K49+L49+M49 -> 40 | AN49: =F49+G49+K49 -> 130 | AO49: =X49+Y49+AA49 -> 129 | AP49: =N49 -> 21 | AQ49: =O49+P49+Q49+R49+S49 -> 21 | AR49: =S49 -> 9 | AS49: =T49+U49+V49 -> 9 | AT49: =X49 -> 21 | AU49: =N49+W49 -> 21 | AV49: =AE49 -> 3 | AW49: =AC49+AD49 -> 3 | AX49: =AH49 -> 0 | AY49: =AF49+AG49 -> 0
A50: 2.9 | B50: Այլ վեճեր | E50: =SUM('Erebuni :Ararat'!E50) -> 370 | F50: =SUM('Erebuni :Ararat'!F50) -> 62 | G50: =SUM('Erebuni :Ararat'!G50) -> 308 | H50: =SUM('Erebuni :Ararat'!H50) -> 0 | I50: =SUM('Erebuni :Ararat'!I50) -> 0 | J50: =SUM('Erebuni :Ararat'!J50) -> 149 | K50: =SUM('Erebuni :Ararat'!K50) -> 133 | L50: =SUM('Erebuni :Ararat'!L50) -> 13 | ... AH50: =SUM('Erebuni :Ararat'!AH50) -> 2 | AJ50: =E50 -> 370 | AK50: =F50+G50+H50+I50 -> 370 | AL50: =J50 -> 149 | AM50: =K50+L50+M50 -> 149 | AN50: =F50+G50+K50 -> 503 | AO50: =X50+Y50+AA50 -> 503 | AP50: =N50 -> 241 | AQ50: =O50+P50+Q50+R50+S50 -> 241 | AR50: =S50 -> 24 | AS50: =T50+U50+V50 -> 24 | AT50: =X50 -> 242 | AU50: =N50+W50 -> 242 | AV50: =AE50 -> 27 | AW50: =AC50+AD50 -> 27 | AX50: =AH50 -> 2 | AY50: =AF50+AG50 -> 2
A51: 3. | B51: Ժառանգության հետ կապված իրավահարաբերությունների վերաբերյալ դատական գործեր | E51: =SUM('Erebuni :Ararat'!E51) -> 290 | F51: =SUM('Erebuni :Ararat'!F51) -> 55 | G51: =SUM('Erebuni :Ararat'!G51) -> 235 | H51: =SUM('Erebuni :Ararat'!H51) -> 0 | I51: =SUM('Erebuni :Ararat'!I51) -> 0 | J51: =SUM('Erebuni :Ararat'!J51) -> 197 | K51: =SUM('Erebuni :Ararat'!K51) -> 156 | L51: =SUM('Erebuni :Ararat'!L51) -> 36 | ... AH51: =SUM('Erebuni :Ararat'!AH51) -> 8 | AJ51: =SUM(AJ52:AJ58) -> 290 | AK51: =SUM(AK52:AK58) -> 290 | AL51: =SUM(AL52:AL58) -> 197 | AM51: =SUM(AM52:AM58) -> 195 | AN51: =F51+G51+K51 -> 446 | AO51: =X51+Y51+AA51 -> 444 | AP51: =SUM(AP52:AP58) -> 141 | AQ51: =SUM(AQ52:AQ58) -> 141 | AR51: =SUM(AR52:AR58) -> 28 | AS51: =SUM(AS52:AS58) -> 28 | AT51: =SUM(AT52:AT58) -> 144 | AU51: =SUM(AU52:AU58) -> 144 | AV51: =SUM(AV52:AV58) -> 28 | AW51: =SUM(AW52:AW58) -> 28 | ... AY51: =SUM(AY52:AY58) -> 8
A52: 3.1 | B52: Կտակն անվավեր ճանաչելու վերաբերյալ | E52: =SUM('Erebuni :Ararat'!E52) -> 12 | F52: =SUM('Erebuni :Ararat'!F52) -> 4 | G52: =SUM('Erebuni :Ararat'!G52) -> 8 | H52: =SUM('Erebuni :Ararat'!H52) -> 0 | I52: =SUM('Erebuni :Ararat'!I52) -> 0 | J52: =SUM('Erebuni :Ararat'!J52) -> 8 | K52: =SUM('Erebuni :Ararat'!K52) -> 8 | L52: =SUM('Erebuni :Ararat'!L52) -> 0 | ... AH52: =SUM('Erebuni :Ararat'!AH52) -> 1 | AJ52: =E52 -> 12 | AK52: =F52+G52+H52+I52 -> 12 | AL52: =J52 -> 8 | AM52: =K52+L52+M52 -> 8 | AN52: =F52+G52+K52 -> 20 | AO52: =X52+Y52+AA52 -> 20 | AP52: =N52 -> 5 | AQ52: =O52+P52+Q52+R52+S52 -> 5 | AR52: =S52 -> 3 | AS52: =T52+U52+V52 -> 3 | AT52: =X52 -> 5 | AU52: =N52+W52 -> 5 | AV52: =AE52 -> 2 | AW52: =AC52+AD52 -> 2 | AX52: =AH52 -> 1 | AY52: =AF52+AG52 -> 1
A53: 3.2 | B53: Անարժան ժառանգ ճանաչելու վերաբերյալ | E53: =SUM('Erebuni :Ararat'!E53) -> 1 | F53: =SUM('Erebuni :Ararat'!F53) -> 0 | G53: =SUM('Erebuni :Ararat'!G53) -> 1 | H53: =SUM('Erebuni :Ararat'!H53) -> 0 | I53: =SUM('Erebuni :Ararat'!I53) -> 0 | J53: =SUM('Erebuni :Ararat'!J53) -> 1 | K53: =SUM('Erebuni :Ararat'!K53) -> 1 | L53: =SUM('Erebuni :Ararat'!L53) -> 0 | ... AH53: =SUM('Erebuni :Ararat'!AH53) -> 0 | AJ53: =E53 -> 1 | AK53: =F53+G53+H53+I53 -> 1 | AL53: =J53 -> 1 | AM53: =K53+L53+M53 -> 1 | AN53: =F53+G53+K53 -> 2 | AO53: =X53+Y53+AA53 -> 2 | AP53: =N53 -> 1 | AQ53: =O53+P53+Q53+R53+S53 -> 1 | AR53: =S53 -> 0 | AS53: =T53+U53+V53 -> 0 | AT53: =X53 -> 1 | AU53: =N53+W53 -> 1 | AV53: =AE53 -> 1 | AW53: =AC53+AD53 -> 1 | AX53: =AH53 -> 0 | AY53: =AF53+AG53 -> 0
A54: 3.3 | B54: Ժառանգությունը բաժանելու վերաբերյալ | E54: =SUM('Erebuni :Ararat'!E54) -> 5 | F54: =SUM('Erebuni :Ararat'!F54) -> 2 | G54: =SUM('Erebuni :Ararat'!G54) -> 3 | H54: =SUM('Erebuni :Ararat'!H54) -> 0 | I54: =SUM('Erebuni :Ararat'!I54) -> 0 | J54: =SUM('Erebuni :Ararat'!J54) -> 3 | K54: =SUM('Erebuni :Ararat'!K54) -> 3 | L54: =SUM('Erebuni :Ararat'!L54) -> 0 | ... AH54: =SUM('Erebuni :Ararat'!AH54) -> 0 | AJ54: =E54 -> 5 | AK54: =F54+G54+H54+I54 -> 5 | AL54: =J54 -> 3 | AM54: =K54+L54+M54 -> 3 | AN54: =F54+G54+K54 -> 8 | AO54: =X54+Y54+AA54 -> 8 | AP54: =N54 -> 1 | AQ54: =O54+P54+Q54+R54+S54 -> 1 | AR54: =S54 -> 0 | AS54: =T54+U54+V54 -> 0 | AT54: =X54 -> 1 | AU54: =N54+W54 -> 1 | AV54: =AE54 -> 1 | AW54: =AC54+AD54 -> 1 | AX54: =AH54 -> 0 | AY54: =AF54+AG54 -> 0
A55: 3.4 | B55: Գույքն անժառանգ ճանաչելու վերաբերյալ | E55: =SUM('Erebuni :Ararat'!E55) -> 1 | F55: =SUM('Erebuni :Ararat'!F55) -> 0 | G55: =SUM('Erebuni :Ararat'!G55) -> 1 | H55: =SUM('Erebuni :Ararat'!H55) -> 0 | I55: =SUM('Erebuni :Ararat'!I55) -> 0 | J55: =SUM('Erebuni :Ararat'!J55) -> 2 | K55: =SUM('Erebuni :Ararat'!K55) -> 1 | L55: =SUM('Erebuni :Ararat'!L55) -> 1 | ... AH55: =SUM('Erebuni :Ararat'!AH55) -> 0 | AJ55: =E55 -> 1 | AK55: =F55+G55+H55+I55 -> 1 | AL55: =J55 -> 2 | AM55: =K55+L55+M55 -> 2 | AN55: =F55+G55+K55 -> 2 | AO55: =X55+Y55+AA55 -> 2 | AP55: =N55 -> 1 | AQ55: =O55+P55+Q55+R55+S55 -> 1 | AR55: =S55 -> 0 | AS55: =T55+U55+V55 -> 0 | AT55: =X55 -> 1 | AU55: =N55+W55 -> 1 | AV55: =AE55 -> 0 | AW55: =AC55+AD55 -> 0 | AX55: =AH55 -> 0 | AY55: =AF55+AG55 -> 0
A56: 3.5 | B56: Ըստ օրենքի ժառանգության իրավունքի վկայագիրն անվավեր ճանաչելու վերաբերյալ | E56: =SUM('Erebuni :Ararat'!E56) -> 7 | F56: =SUM('Erebuni :Ararat'!F56) -> 1 | G56: =SUM('Erebuni :Ararat'!G56) -> 6 | H56: =SUM('Erebuni :Ararat'!H56) -> 0 | I56: =SUM('Erebuni :Ararat'!I56) -> 0 | J56: =SUM('Erebuni :Ararat'!J56) -> 2 | K56: =SUM('Erebuni :Ararat'!K56) -> 2 | L56: =SUM('Erebuni :Ararat'!L56) -> 0 | ... AH56: =SUM('Erebuni :Ararat'!AH56) -> 0 | AJ56: =E56 -> 7 | AK56: =F56+G56+H56+I56 -> 7 | AL56: =J56 -> 2 | AM56: =K56+L56+M56 -> 2 | AN56: =F56+G56+K56 -> 9 | AO56: =X56+Y56+AA56 -> 9 | AP56: =N56 -> 1 | AQ56: =O56+P56+Q56+R56+S56 -> 1 | AR56: =S56 -> 0 | AS56: =T56+U56+V56 -> 0 | AT56: =X56 -> 1 | AU56: =N56+W56 -> 1 | AV56: =AE56 -> 1 | AW56: =AC56+AD56 -> 1 | AX56: =AH56 -> 0 | AY56: =AF56+AG56 -> 0
A57: 3.6 | B57: Ժառանգությունն ընդունելու բաց թողնված ժամկետը հարգելի համարելու վերաբերյալ | E57: =SUM('Erebuni :Ararat'!E57) -> 49 | F57: =SUM('Erebuni :Ararat'!F57) -> 5 | G57: =SUM('Erebuni :Ararat'!G57) -> 44 | H57: =SUM('Erebuni :Ararat'!H57) -> 0 | I57: =SUM('Erebuni :Ararat'!I57) -> 0 | J57: =SUM('Erebuni :Ararat'!J57) -> 58 | K57: =SUM('Erebuni :Ararat'!K57) -> 42 | L57: =SUM('Erebuni :Ararat'!L57) -> 15 | ... AH57: =SUM('Erebuni :Ararat'!AH57) -> 2 | AJ57: =E57 -> 49 | AK57: =F57+G57+H57+I57 -> 49 | AL57: =J57 -> 58 | AM57: =K57+L57+M57 -> 57 | AN57: =F57+G57+K57 -> 91 | AO57: =X57+Y57+AA57 -> 91 | AP57: =N57 -> 32 | AQ57: =O57+P57+Q57+R57+S57 -> 32 | AR57: =S57 -> 8 | AS57: =T57+U57+V57 -> 8 | AT57: =X57 -> 33 | AU57: =N57+W57 -> 33 | AV57: =AE57 -> 4 | AW57: =AC57+AD57 -> 4 | AX57: =AH57 -> 2 | AY57: =AF57+AG57 -> 2
A58: 3.7 | B58: Այլ վեճեր | E58: =SUM('Erebuni :Ararat'!E58) -> 215 | F58: =SUM('Erebuni :Ararat'!F58) -> 43 | G58: =SUM('Erebuni :Ararat'!G58) -> 172 | H58: =SUM('Erebuni :Ararat'!H58) -> 0 | I58: =SUM('Erebuni :Ararat'!I58) -> 0 | J58: =SUM('Erebuni :Ararat'!J58) -> 123 | K58: =SUM('Erebuni :Ararat'!K58) -> 99 | L58: =SUM('Erebuni :Ararat'!L58) -> 20 | ... AH58: =SUM('Erebuni :Ararat'!AH58) -> 5 | AJ58: =E58 -> 215 | AK58: =F58+G58+H58+I58 -> 215 | AL58: =J58 -> 123 | AM58: =K58+L58+M58 -> 122 | AN58: =F58+G58+K58 -> 314 | AO58: =X58+Y58+AA58 -> 312 | AP58: =N58 -> 100 | AQ58: =O58+P58+Q58+R58+S58 -> 100 | AR58: =S58 -> 17 | AS58: =T58+U58+V58 -> 17 | AT58: =X58 -> 102 | AU58: =N58+W58 -> 102 | AV58: =AE58 -> 19 | AW58: =AC58+AD58 -> 19 | AX58: =AH58 -> 5 | AY58: =AF58+AG58 -> 5
A59: 4 | B59: Ընտանեկան իրավահարաբերությունների վերաբերյալ դատական գործեր | E59: =SUM('Erebuni :Ararat'!E59) -> 1469 | F59: =SUM('Erebuni :Ararat'!F59) -> 117 | G59: =SUM('Erebuni :Ararat'!G59) -> 1350 | H59: =SUM('Erebuni :Ararat'!H59) -> 1 | I59: =SUM('Erebuni :Ararat'!I59) -> 0 | J59: =SUM('Erebuni :Ararat'!J59) -> 1662 | K59: =SUM('Erebuni :Ararat'!K59) -> 1456 | L59: =SUM('Erebuni :Ararat'!L59) -> 183 | ... AH59: =SUM('Erebuni :Ararat'!AH59) -> 21 | AJ59: =SUM(AJ60:AJ72) -> 1469 | AK59: =SUM(AK60:AK72) -> 1468 | AL59: =SUM(AL60:AL72) -> 1662 | AM59: =SUM(AM60:AM72) -> 1645 | AN59: =F59+G59+K59 -> 2923 | AO59: =X59+Y59+AA59 -> 2924 | AP59: =SUM(AP60:AP72) -> 1412 | AQ59: =SUM(AQ60:AQ72) -> 1412 | AR59: =SUM(AR60:AR72) -> 275 | AS59: =SUM(AS60:AS72) -> 275 | AT59: =SUM(AT60:AT72) -> 1416 | AU59: =SUM(AU60:AU72) -> 1416 | AV59: =SUM(AV60:AV72) -> 134 | AW59: =SUM(AW60:AW72) -> 134 | ... AY59: =SUM(AY60:AY72) -> 21
A60: 4.1 | B60: Ամուսնալուծության վերաբերյալ | E60: =SUM('Erebuni :Ararat'!E60) -> 704 | F60: =SUM('Erebuni :Ararat'!F60) -> 29 | G60: =SUM('Erebuni :Ararat'!G60) -> 674 | H60: =SUM('Erebuni :Ararat'!H60) -> 1 | I60: =SUM('Erebuni :Ararat'!I60) -> 0 | J60: =SUM('Erebuni :Ararat'!J60) -> 839 | K60: =SUM('Erebuni :Ararat'!K60) -> 731 | L60: =SUM('Erebuni :Ararat'!L60) -> 99 | ... AH60: =SUM('Erebuni :Ararat'!AH60) -> 8 | AJ60: =E60 -> 704 | AK60: =F60+G60+H60+I60 -> 704 | AL60: =J60 -> 839 | AM60: =K60+L60+M60 -> 830 | AN60: =F60+G60+K60 -> 1434 | AO60: =X60+Y60+AA60 -> 1434 | AP60: =N60 -> 741 | AQ60: =O60+P60+Q60+R60+S60 -> 741 | AR60: =S60 -> 128 | AS60: =T60+U60+V60 -> 128 | AT60: =X60 -> 744 | AU60: =N60+W60 -> 744 | AV60: =AE60 -> 39 | AW60: =AC60+AD60 -> 39 | AX60: =AH60 -> 8 | AY60: =AF60+AG60 -> 8
A61: 4.2 | B61: Ալիմենտի պահանջի վերաբերյալ | E61: =SUM('Erebuni :Ararat'!E61) -> 301 | F61: =SUM('Erebuni :Ararat'!F61) -> 27 | G61: =SUM('Erebuni :Ararat'!G61) -> 273 | H61: =SUM('Erebuni :Ararat'!H61) -> 0 | I61: =SUM('Erebuni :Ararat'!I61) -> 0 | J61: =SUM('Erebuni :Ararat'!J61) -> 377 | K61: =SUM('Erebuni :Ararat'!K61) -> 346 | L61: =SUM('Erebuni :Ararat'!L61) -> 27 | ... AH61: =SUM('Erebuni :Ararat'!AH61) -> 8 | AJ61: =E61 -> 301 | AK61: =F61+G61+H61+I61 -> 300 | AL61: =J61 -> 377 | AM61: =K61+L61+M61 -> 376 | AN61: =F61+G61+K61 -> 646 | AO61: =X61+Y61+AA61 -> 645 | AP61: =N61 -> 317 | AQ61: =O61+P61+Q61+R61+S61 -> 317 | AR61: =S61 -> 58 | AS61: =T61+U61+V61 -> 58 | AT61: =X61 -> 317 | AU61: =N61+W61 -> 317 | AV61: =AE61 -> 41 | AW61: =AC61+AD61 -> 41 | AX61: =AH61 -> 8 | AY61: =AF61+AG61 -> 8
A62: 4.3 | B62: Ալիմենտի չափը փոփոխելու վերաբերյալ | E62: =SUM('Erebuni :Ararat'!E62) -> 52 | F62: =SUM('Erebuni :Ararat'!F62) -> 4 | G62: =SUM('Erebuni :Ararat'!G62) -> 48 | H62: =SUM('Erebuni :Ararat'!H62) -> 0 | I62: =SUM('Erebuni :Ararat'!I62) -> 0 | J62: =SUM('Erebuni :Ararat'!J62) -> 50 | K62: =SUM('Erebuni :Ararat'!K62) -> 42 | L62: =SUM('Erebuni :Ararat'!L62) -> 7 | ... AH62: =SUM('Erebuni :Ararat'!AH62) -> 2 | AJ62: =E62 -> 52 | AK62: =F62+G62+H62+I62 -> 52 | AL62: =J62 -> 50 | AM62: =K62+L62+M62 -> 49 | AN62: =F62+G62+K62 -> 94 | AO62: =X62+Y62+AA62 -> 94 | AP62: =N62 -> 52 | AQ62: =O62+P62+Q62+R62+S62 -> 52 | AR62: =S62 -> 6 | AS62: =T62+U62+V62 -> 6 | AT62: =X62 -> 52 | AU62: =N62+W62 -> 52 | AV62: =AE62 -> 11 | AW62: =AC62+AD62 -> 11 | AX62: =AH62 -> 2 | AY62: =AF62+AG62 -> 2
A63: 4.4 | B63: Ծնողական իրավունքներից զրկելու վերաբերյալ | E63: =SUM('Erebuni :Ararat'!E63) -> 21 | F63: =SUM('Erebuni :Ararat'!F63) -> 3 | G63: =SUM('Erebuni :Ararat'!G63) -> 18 | H63: =SUM('Erebuni :Ararat'!H63) -> 0 | I63: =SUM('Erebuni :Ararat'!I63) -> 0 | J63: =SUM('Erebuni :Ararat'!J63) -> 17 | K63: =SUM('Erebuni :Ararat'!K63) -> 13 | L63: =SUM('Erebuni :Ararat'!L63) -> 4 | ... AH63: =SUM('Erebuni :Ararat'!AH63) -> 0 | AJ63: =E63 -> 21 | AK63: =F63+G63+H63+I63 -> 21 | AL63: =J63 -> 17 | AM63: =K63+L63+M63 -> 17 | AN63: =F63+G63+K63 -> 34 | AO63: =X63+Y63+AA63 -> 34 | AP63: =N63 -> 16 | AQ63: =O63+P63+Q63+R63+S63 -> 16 | AR63: =S63 -> 6 | AS63: =T63+U63+V63 -> 6 | AT63: =X63 -> 16 | AU63: =N63+W63 -> 16 | AV63: =AE63 -> 5 | AW63: =AC63+AD63 -> 5 | AX63: =AH63 -> 0 | AY63: =AF63+AG63 -> 0
A64: 4.5 | B64: Ծնողական իրավունքները վերականգնելու վերաբերյալ | E64: =SUM('Erebuni :Ararat'!E64) -> 1 | F64: =SUM('Erebuni :Ararat'!F64) -> 1 | G64: =SUM('Erebuni :Ararat'!G64) -> 0 | H64: =SUM('Erebuni :Ararat'!H64) -> 0 | I64: =SUM('Erebuni :Ararat'!I64) -> 0 | J64: =SUM('Erebuni :Ararat'!J64) -> 0 | K64: =SUM('Erebuni :Ararat'!K64) -> 0 | L64: =SUM('Erebuni :Ararat'!L64) -> 0 | ... AH64: =SUM('Erebuni :Ararat'!AH64) -> 0 | AJ64: =E64 -> 1 | AK64: =F64+G64+H64+I64 -> 1 | AL64: =J64 -> 0 | AM64: =K64+L64+M64 -> 0 | AN64: =F64+G64+K64 -> 1 | AO64: =X64+Y64+AA64 -> 1 | AP64: =N64 -> 0 | AQ64: =O64+P64+Q64+R64+S64 -> 0 | AR64: =S64 -> 0 | AS64: =T64+U64+V64 -> 0 | AT64: =X64 -> 0 | AU64: =N64+W64 -> 0 | AV64: =AE64 -> 0 | AW64: =AC64+AD64 -> 0 | AX64: =AH64 -> 0 | AY64: =AF64+AG64 -> 0
A65: 4.6 | B65: Երեխայի որդեգրման վերաբերյալ | E65: =SUM('Erebuni :Ararat'!E65) -> 15 | F65: =SUM('Erebuni :Ararat'!F65) -> 0 | G65: =SUM('Erebuni :Ararat'!G65) -> 15 | H65: =SUM('Erebuni :Ararat'!H65) -> 0 | I65: =SUM('Erebuni :Ararat'!I65) -> 0 | J65: =SUM('Erebuni :Ararat'!J65) -> 45 | K65: =SUM('Erebuni :Ararat'!K65) -> 40 | L65: =SUM('Erebuni :Ararat'!L65) -> 4 | ... AH65: =SUM('Erebuni :Ararat'!AH65) -> 0 | AJ65: =E65 -> 15 | AK65: =F65+G65+H65+I65 -> 15 | AL65: =J65 -> 45 | AM65: =K65+L65+M65 -> 44 | AN65: =F65+G65+K65 -> 55 | AO65: =X65+Y65+AA65 -> 55 | AP65: =N65 -> 38 | AQ65: =O65+P65+Q65+R65+S65 -> 38 | AR65: =S65 -> 0 | AS65: =T65+U65+V65 -> 0 | AT65: =X65 -> 38 | AU65: =N65+W65 -> 38 | AV65: =AE65 -> 1 | AW65: =AC65+AD65 -> 1 | AX65: =AH65 -> 0 | AY65: =AF65+AG65 -> 0
A66: 4.7 | B66: Երեխայի որդեգրումը վերացնելու վերաբերյալ | E66: =SUM('Erebuni :Ararat'!E66) -> 6 | F66: =SUM('Erebuni :Ararat'!F66) -> 0 | G66: =SUM('Erebuni :Ararat'!G66) -> 6 | H66: =SUM('Erebuni :Ararat'!H66) -> 0 | I66: =SUM('Erebuni :Ararat'!I66) -> 0 | J66: =SUM('Erebuni :Ararat'!J66) -> 4 | K66: =SUM('Erebuni :Ararat'!K66) -> 3 | L66: =SUM('Erebuni :Ararat'!L66) -> 1 | ... AH66: =SUM('Erebuni :Ararat'!AH66) -> 0 | AJ66: =E66 -> 6 | AK66: =F66+G66+H66+I66 -> 6 | AL66: =J66 -> 4 | AM66: =K66+L66+M66 -> 4 | AN66: =F66+G66+K66 -> 9 | AO66: =X66+Y66+AA66 -> 9 | AP66: =N66 -> 5 | AQ66: =O66+P66+Q66+R66+S66 -> 5 | AR66: =S66 -> 2 | AS66: =T66+U66+V66 -> 2 | AT66: =X66 -> 5 | AU66: =N66+W66 -> 5 | AV66: =AE66 -> 0 | AW66: =AC66+AD66 -> 0 | AX66: =AH66 -> 0 | AY66: =AF66+AG66 -> 0
A67: 4.8 | B67: Հայրությունը ճանաչելու վերաբերյալ | E67: =SUM('Erebuni :Ararat'!E67) -> 89 | F67: =SUM('Erebuni :Ararat'!F67) -> 22 | G67: =SUM('Erebuni :Ararat'!G67) -> 67 | H67: =SUM('Erebuni :Ararat'!H67) -> 0 | I67: =SUM('Erebuni :Ararat'!I67) -> 0 | J67: =SUM('Erebuni :Ararat'!J67) -> 75 | K67: =SUM('Erebuni :Ararat'!K67) -> 65 | L67: =SUM('Erebuni :Ararat'!L67) -> 7 | ... AH67: =SUM('Erebuni :Ararat'!AH67) -> 0 | AJ67: =E67 -> 89 | AK67: =F67+G67+H67+I67 -> 89 | AL67: =J67 -> 75 | AM67: =K67+L67+M67 -> 73 | AN67: =F67+G67+K67 -> 154 | AO67: =X67+Y67+AA67 -> 156 | AP67: =N67 -> 61 | AQ67: =O67+P67+Q67+R67+S67 -> 61 | AR67: =S67 -> 8 | AS67: =T67+U67+V67 -> 8 | AT67: =X67 -> 62 | AU67: =N67+W67 -> 62 | AV67: =AE67 -> 7 | AW67: =AC67+AD67 -> 7 | AX67: =AH67 -> 0 | AY67: =AF67+AG67 -> 0
A68: 4.9 | B68: Երեխայի բնակության վայրը որոշելու վերաբերյալ | E68: =SUM('Erebuni :Ararat'!E68) -> 72 | F68: =SUM('Erebuni :Ararat'!F68) -> 0 | G68: =SUM('Erebuni :Ararat'!G68) -> 72 | H68: =SUM('Erebuni :Ararat'!H68) -> 0 | I68: =SUM('Erebuni :Ararat'!I68) -> 0 | J68: =SUM('Erebuni :Ararat'!J68) -> 75 | K68: =SUM('Erebuni :Ararat'!K68) -> 67 | L68: =SUM('Erebuni :Ararat'!L68) -> 8 | ... AH68: =SUM('Erebuni :Ararat'!AH68) -> 1 | AJ68: =E68 -> 72 | AK68: =F68+G68+H68+I68 -> 72 | AL68: =J68 -> 75 | AM68: =K68+L68+M68 -> 75 | AN68: =F68+G68+K68 -> 139 | AO68: =X68+Y68+AA68 -> 139 | AP68: =N68 -> 54 | AQ68: =O68+P68+Q68+R68+S68 -> 54 | AR68: =S68 -> 24 | AS68: =T68+U68+V68 -> 24 | AT68: =X68 -> 54 | AU68: =N68+W68 -> 54 | AV68: =AE68 -> 6 | AW68: =AC68+AD68 -> 6 | AX68: =AH68 -> 1 | AY68: =AF68+AG68 -> 1
A69: 4.10 | B69: Երեխայի հետ տեսակցության կարգ սահմանելու վերաբերյալ | E69: =SUM('Erebuni :Ararat'!E69) -> 110 | F69: =SUM('Erebuni :Ararat'!F69) -> 10 | G69: =SUM('Erebuni :Ararat'!G69) -> 100 | H69: =SUM('Erebuni :Ararat'!H69) -> 0 | I69: =SUM('Erebuni :Ararat'!I69) -> 0 | J69: =SUM('Erebuni :Ararat'!J69) -> 108 | K69: =SUM('Erebuni :Ararat'!K69) -> 91 | L69: =SUM('Erebuni :Ararat'!L69) -> 15 | ... AH69: =SUM('Erebuni :Ararat'!AH69) -> 1 | AJ69: =E69 -> 110 | AK69: =F69+G69+H69+I69 -> 110 | AL69: =J69 -> 108 | AM69: =K69+L69+M69 -> 106 | AN69: =F69+G69+K69 -> 201 | AO69: =X69+Y69+AA69 -> 201 | AP69: =N69 -> 75 | AQ69: =O69+P69+Q69+R69+S69 -> 75 | AR69: =S69 -> 23 | AS69: =T69+U69+V69 -> 23 | AT69: =X69 -> 75 | AU69: =N69+W69 -> 75 | AV69: =AE69 -> 13 | AW69: =AC69+AD69 -> 13 | AX69: =AH69 -> 1 | AY69: =AF69+AG69 -> 1
A70: 4.11 | B70: Ամուսինների ընդհանուր գույքը բաժանելու վերաբերյալ | E70: =SUM('Erebuni :Ararat'!E70) -> 38 | F70: =SUM('Erebuni :Ararat'!F70) -> 11 | G70: =SUM('Erebuni :Ararat'!G70) -> 27 | H70: =SUM('Erebuni :Ararat'!H70) -> 0 | I70: =SUM('Erebuni :Ararat'!I70) -> 0 | J70: =SUM('Erebuni :Ararat'!J70) -> 31 | K70: =SUM('Erebuni :Ararat'!K70) -> 25 | L70: =SUM('Erebuni :Ararat'!L70) -> 5 | ... AH70: =SUM('Erebuni :Ararat'!AH70) -> 1 | AJ70: =E70 -> 38 | AK70: =F70+G70+H70+I70 -> 38 | AL70: =J70 -> 31 | AM70: =K70+L70+M70 -> 30 | AN70: =F70+G70+K70 -> 63 | AO70: =X70+Y70+AA70 -> 63 | AP70: =N70 -> 17 | AQ70: =O70+P70+Q70+R70+S70 -> 17 | AR70: =S70 -> 10 | AS70: =T70+U70+V70 -> 10 | AT70: =X70 -> 17 | AU70: =N70+W70 -> 17 | AV70: =AE70 -> 4 | AW70: =AC70+AD70 -> 4 | AX70: =AH70 -> 1 | AY70: =AF70+AG70 -> 1
A71: 4.12 | B71: Ամուսնական պայմանագրի փոփոխման կամ լուծման վերաբերյալ | E71: =SUM('Erebuni :Ararat'!E71) -> 1 | F71: =SUM('Erebuni :Ararat'!F71) -> 1 | G71: =SUM('Erebuni :Ararat'!G71) -> 0 | H71: =SUM('Erebuni :Ararat'!H71) -> 0 | I71: =SUM('Erebuni :Ararat'!I71) -> 0 | J71: =SUM('Erebuni :Ararat'!J71) -> 0 | K71: =SUM('Erebuni :Ararat'!K71) -> 0 | L71: =SUM('Erebuni :Ararat'!L71) -> 0 | ... AH71: =SUM('Erebuni :Ararat'!AH71) -> 0 | AJ71: =E71 -> 1 | AK71: =F71+G71+H71+I71 -> 1 | AL71: =J71 -> 0 | AM71: =K71+L71+M71 -> 0 | AN71: =F71+G71+K71 -> 1 | AO71: =X71+Y71+AA71 -> 1 | AP71: =N71 -> 1 | AQ71: =O71+P71+Q71+R71+S71 -> 1 | AR71: =S71 -> 1 | AS71: =T71+U71+V71 -> 1 | AT71: =X71 -> 1 | AU71: =N71+W71 -> 1 | AV71: =AE71 -> 0 | AW71: =AC71+AD71 -> 0 | AX71: =AH71 -> 0 | AY71: =AF71+AG71 -> 0
A72: 4.13 | B72: Այլ վեճեր | E72: =SUM('Erebuni :Ararat'!E72) -> 59 | F72: =SUM('Erebuni :Ararat'!F72) -> 9 | G72: =SUM('Erebuni :Ararat'!G72) -> 50 | H72: =SUM('Erebuni :Ararat'!H72) -> 0 | I72: =SUM('Erebuni :Ararat'!I72) -> 0 | J72: =SUM('Erebuni :Ararat'!J72) -> 41 | K72: =SUM('Erebuni :Ararat'!K72) -> 33 | L72: =SUM('Erebuni :Ararat'!L72) -> 6 | ... AH72: =SUM('Erebuni :Ararat'!AH72) -> 0 | AJ72: =E72 -> 59 | AK72: =F72+G72+H72+I72 -> 59 | AL72: =J72 -> 41 | AM72: =K72+L72+M72 -> 41 | AN72: =F72+G72+K72 -> 92 | AO72: =X72+Y72+AA72 -> 92 | AP72: =N72 -> 35 | AQ72: =O72+P72+Q72+R72+S72 -> 35 | AR72: =S72 -> 9 | AS72: =T72+U72+V72 -> 9 | AT72: =X72 -> 35 | AU72: =N72+W72 -> 35 | AV72: =AE72 -> 7 | AW72: =AC72+AD72 -> 7 | AX72: =AH72 -> 0 | AY72: =AF72+AG72 -> 0
A73: 5. | B73: Մտավոր սեփականության հետ կապվածիրավահարաբերությունների վերաբերյալ դատական գործեր | E73: =SUM('Erebuni :Ararat'!E73) -> 12 | F73: =SUM('Erebuni :Ararat'!F73) -> 0 | G73: =SUM('Erebuni :Ararat'!G73) -> 12 | H73: =SUM('Erebuni :Ararat'!H73) -> 0 | I73: =SUM('Erebuni :Ararat'!I73) -> 0 | J73: =SUM('Erebuni :Ararat'!J73) -> 5 | K73: =SUM('Erebuni :Ararat'!K73) -> 4 | L73: =SUM('Erebuni :Ararat'!L73) -> 1 | ... AH73: =SUM('Erebuni :Ararat'!AH73) -> 0 | AJ73: =SUM(AJ74:AJ79) -> 12 | AK73: =SUM(AK74:AK79) -> 12 | AL73: =SUM(AL74:AL79) -> 5 | AM73: =SUM(AM74:AM79) -> 5 | AN73: =F73+G73+K73 -> 16 | AO73: =X73+Y73+AA73 -> 16 | AP73: =SUM(AP74:AP79) -> 5 | AQ73: =SUM(AQ74:AQ79) -> 5 | AR73: =SUM(AR74:AR79) -> 2 | AS73: =SUM(AS74:AS79) -> 2 | AT73: =SUM(AT74:AT79) -> 5 | AU73: =SUM(AU74:AU79) -> 5 | AV73: =SUM(AV74:AV79) -> 1 | AW73: =SUM(AW74:AW79) -> 1 | AX73: =SUM(AX74:AX79) -> 0 | AY73: =AF73+AG73 -> 0
A74: 5.1 | B74: Լիցենզային պայմանագրի լուծման, փոփոխման և անվավերության վերաբերյալ | E74: =SUM('Erebuni :Ararat'!E74) -> 0 | F74: =SUM('Erebuni :Ararat'!F74) -> 0 | G74: =SUM('Erebuni :Ararat'!G74) -> 0 | H74: =SUM('Erebuni :Ararat'!H74) -> 0 | I74: =SUM('Erebuni :Ararat'!I74) -> 0 | J74: =SUM('Erebuni :Ararat'!J74) -> 0 | K74: =SUM('Erebuni :Ararat'!K74) -> 0 | L74: =SUM('Erebuni :Ararat'!L74) -> 0 | ... AH74: =SUM('Erebuni :Ararat'!AH74) -> 0 | AJ74: =E74 -> 0 | AK74: =F74+G74+H74+I74 -> 0 | AL74: =J74 -> 0 | AM74: =K74+L74+M74 -> 0 | AN74: =F74+G74+K74 -> 0 | AO74: =X74+Y74+AA74 -> 0 | AP74: =N74 -> 0 | AQ74: =O74+P74+Q74+R74+S74 -> 0 | AR74: =S74 -> 0 | AS74: =T74+U74+V74 -> 0 | AT74: =X74 -> 0 | AU74: =N74+W74 -> 0 | AV74: =AE74 -> 0 | AW74: =AC74+AD74 -> 0 | AX74: =AH74 -> 0 | AY74: =AF74+AG74 -> 0
A75: 5.2 | B75: Մտավոր գործունեության արդյունքներ ստեղծելու և օգտագործելու պայմանագրի լուծման, փոփոխման ու անվավերության վերաբերյալ | E75: =SUM('Erebuni :Ararat'!E75) -> 0 | F75: =SUM('Erebuni :Ararat'!F75) -> 0 | G75: =SUM('Erebuni :Ararat'!G75) -> 0 | H75: =SUM('Erebuni :Ararat'!H75) -> 0 | I75: =SUM('Erebuni :Ararat'!I75) -> 0 | J75: =SUM('Erebuni :Ararat'!J75) -> 0 | K75: =SUM('Erebuni :Ararat'!K75) -> 0 | L75: =SUM('Erebuni :Ararat'!L75) -> 0 | ... AH75: =SUM('Erebuni :Ararat'!AH75) -> 0 | AJ75: =E75 -> 0 | AK75: =F75+G75+H75+I75 -> 0 | AL75: =J75 -> 0 | AM75: =K75+L75+M75 -> 0 | AN75: =F75+G75+K75 -> 0 | AO75: =X75+Y75+AA75 -> 0 | AP75: =N75 -> 0 | AQ75: =O75+P75+Q75+R75+S75 -> 0 | AR75: =S75 -> 0 | AS75: =T75+U75+V75 -> 0 | AT75: =X75 -> 0 | AU75: =N75+W75 -> 0 | AV75: =AE75 -> 0 | AW75: =AC75+AD75 -> 0 | AX75: =AH75 -> 0 | AY75: =AF75+AG75 -> 0
A76: 5.3 | B76: Հեղինակային և հարակից իրավունքների վերաբերյալ | E76: =SUM('Erebuni :Ararat'!E76) -> 8 | F76: =SUM('Erebuni :Ararat'!F76) -> 0 | G76: =SUM('Erebuni :Ararat'!G76) -> 8 | H76: =SUM('Erebuni :Ararat'!H76) -> 0 | I76: =SUM('Erebuni :Ararat'!I76) -> 0 | J76: =SUM('Erebuni :Ararat'!J76) -> 2 | K76: =SUM('Erebuni :Ararat'!K76) -> 1 | L76: =SUM('Erebuni :Ararat'!L76) -> 1 | ... AH76: =SUM('Erebuni :Ararat'!AH76) -> 0 | AJ76: =E76 -> 8 | AK76: =F76+G76+H76+I76 -> 8 | AL76: =J76 -> 2 | AM76: =K76+L76+M76 -> 2 | AN76: =F76+G76+K76 -> 9 | AO76: =X76+Y76+AA76 -> 9 | AP76: =N76 -> 3 | AQ76: =O76+P76+Q76+R76+S76 -> 3 | AR76: =S76 -> 2 | AS76: =T76+U76+V76 -> 2 | AT76: =X76 -> 3 | AU76: =N76+W76 -> 3 | AV76: =AE76 -> 1 | AW76: =AC76+AD76 -> 1 | AX76: =AH76 -> 0 | AY76: =AF76+AG76 -> 0
A77: 5.4 | B77: Ֆիրմային անվանման վերաբերյալ | E77: =SUM('Erebuni :Ararat'!E77) -> 0 | F77: =SUM('Erebuni :Ararat'!F77) -> 0 | G77: =SUM('Erebuni :Ararat'!G77) -> 0 | H77: =SUM('Erebuni :Ararat'!H77) -> 0 | I77: =SUM('Erebuni :Ararat'!I77) -> 0 | J77: =SUM('Erebuni :Ararat'!J77) -> 0 | K77: =SUM('Erebuni :Ararat'!K77) -> 0 | L77: =SUM('Erebuni :Ararat'!L77) -> 0 | ... AH77: =SUM('Erebuni :Ararat'!AH77) -> 0 | AJ77: =E77 -> 0 | AK77: =F77+G77+H77+I77 -> 0 | AL77: =J77 -> 0 | AM77: =K77+L77+M77 -> 0 | AN77: =F77+G77+K77 -> 0 | AO77: =X77+Y77+AA77 -> 0 | AP77: =N77 -> 0 | AQ77: =O77+P77+Q77+R77+S77 -> 0 | AR77: =S77 -> 0 | AS77: =T77+U77+V77 -> 0 | AT77: =X77 -> 0 | AU77: =N77+W77 -> 0 | AV77: =AE77 -> 0 | AW77: =AC77+AD77 -> 0 | AX77: =AH77 -> 0 | AY77: =AF77+AG77 -> 0
A78: 5.5 | B78: Ապրանքային նշանի վերաբերյալ | E78: =SUM('Erebuni :Ararat'!E78) -> 3 | F78: =SUM('Erebuni :Ararat'!F78) -> 0 | G78: =SUM('Erebuni :Ararat'!G78) -> 3 | H78: =SUM('Erebuni :Ararat'!H78) -> 0 | I78: =SUM('Erebuni :Ararat'!I78) -> 0 | J78: =SUM('Erebuni :Ararat'!J78) -> 0 | K78: =SUM('Erebuni :Ararat'!K78) -> 0 | L78: =SUM('Erebuni :Ararat'!L78) -> 0 | ... AH78: =SUM('Erebuni :Ararat'!AH78) -> 0 | AJ78: =E78 -> 3 | AK78: =F78+G78+H78+I78 -> 3 | AL78: =J78 -> 0 | AM78: =K78+L78+M78 -> 0 | AN78: =F78+G78+K78 -> 3 | AO78: =X78+Y78+AA78 -> 3 | AP78: =N78 -> 1 | AQ78: =O78+P78+Q78+R78+S78 -> 1 | AR78: =S78 -> 0 | AS78: =T78+U78+V78 -> 0 | AT78: =X78 -> 1 | AU78: =N78+W78 -> 1 | AV78: =AE78 -> 0 | AW78: =AC78+AD78 -> 0 | AX78: =AH78 -> 0 | AY78: =AF78+AG78 -> 0
A79: 5.6 | B79: Այլ վեճեր | E79: =SUM('Erebuni :Ararat'!E79) -> 1 | F79: =SUM('Erebuni :Ararat'!F79) -> 0 | G79: =SUM('Erebuni :Ararat'!G79) -> 1 | H79: =SUM('Erebuni :Ararat'!H79) -> 0 | I79: =SUM('Erebuni :Ararat'!I79) -> 0 | J79: =SUM('Erebuni :Ararat'!J79) -> 3 | K79: =SUM('Erebuni :Ararat'!K79) -> 3 | L79: =SUM('Erebuni :Ararat'!L79) -> 0 | ... AH79: =SUM('Erebuni :Ararat'!AH79) -> 0 | AJ79: =E79 -> 1 | AK79: =F79+G79+H79+I79 -> 1 | AL79: =J79 -> 3 | AM79: =K79+L79+M79 -> 3 | AN79: =F79+G79+K79 -> 4 | AO79: =X79+Y79+AA79 -> 4 | AP79: =N79 -> 1 | AQ79: =O79+P79+Q79+R79+S79 -> 1 | AR79: =S79 -> 0 | AS79: =T79+U79+V79 -> 0 | AT79: =X79 -> 1 | AU79: =N79+W79 -> 1 | AV79: =AE79 -> 0 | AW79: =AC79+AD79 -> 0 | AX79: =AH79 -> 0 | AY79: =AF79+AG79 -> 0
A80: 6. | B80: Աշխատանքային իրավահարաբերությունների վերաբերյալ դատական գործեր | E80: =SUM('Erebuni :Ararat'!E80) -> 178 | F80: =SUM('Erebuni :Ararat'!F80) -> 18 | G80: =SUM('Erebuni :Ararat'!G80) -> 160 | H80: =SUM('Erebuni :Ararat'!H80) -> 0 | I80: =SUM('Erebuni :Ararat'!I80) -> 0 | J80: =SUM('Erebuni :Ararat'!J80) -> 135 | K80: =SUM('Erebuni :Ararat'!K80) -> 116 | L80: =SUM('Erebuni :Ararat'!L80) -> 18 | ... AH80: =SUM('Erebuni :Ararat'!AH80) -> 7 | AJ80: =SUM(AJ81:AJ86) -> 178 | AK80: =SUM(AK81:AK86) -> 178 | AL80: =SUM(AL81:AL86) -> 135 | AM80: =SUM(AM81:AM86) -> 135 | AN80: =F80+G80+K80 -> 294 | AO80: =X80+Y80+AA80 -> 291 | AP80: =SUM(AP81:AP86) -> 77 | AQ80: =SUM(AQ81:AQ86) -> 77 | AR80: =SUM(AR81:AR86) -> 28 | AS80: =SUM(AS81:AS86) -> 28 | AT80: =SUM(AT81:AT86) -> 77 | AU80: =SUM(AU81:AU86) -> 77 | AV80: =SUM(AV81:AV86) -> 26 | AW80: =SUM(AW81:AW86) -> 26 | ... AY80: =SUM(AY81:AY86) -> 7
A81: 6.1 | B81: Աշխատանքային պայմանագրերի վերաբերյալ | E81: =SUM('Erebuni :Ararat'!E81) -> 8 | F81: =SUM('Erebuni :Ararat'!F81) -> 1 | G81: =SUM('Erebuni :Ararat'!G81) -> 7 | H81: =SUM('Erebuni :Ararat'!H81) -> 0 | I81: =SUM('Erebuni :Ararat'!I81) -> 0 | J81: =SUM('Erebuni :Ararat'!J81) -> 6 | K81: =SUM('Erebuni :Ararat'!K81) -> 6 | L81: =SUM('Erebuni :Ararat'!L81) -> 0 | ... AH81: =SUM('Erebuni :Ararat'!AH81) -> 1 | AJ81: =E81 -> 8 | AK81: =F81+G81+H81+I81 -> 8 | AL81: =J81 -> 6 | AM81: =K81+L81+M81 -> 6 | AN81: =F81+G81+K81 -> 14 | AO81: =X81+Y81+AA81 -> 14 | AP81: =N81 -> 3 | AQ81: =O81+P81+Q81+R81+S81 -> 3 | AR81: =S81 -> 0 | AS81: =T81+U81+V81 -> 0 | AT81: =X81 -> 3 | AU81: =N81+W81 -> 3 | AV81: =AE81 -> 0 | AW81: =AC81+AD81 -> 0 | AX81: =AH81 -> 1 | AY81: =AF81+AG81 -> 1
A82: 6.2 | B82: Աշխատանքում վերականգնելու վերաբերյալ | E82: =SUM('Erebuni :Ararat'!E82) -> 54 | F82: =SUM('Erebuni :Ararat'!F82) -> 5 | G82: =SUM('Erebuni :Ararat'!G82) -> 49 | H82: =SUM('Erebuni :Ararat'!H82) -> 0 | I82: =SUM('Erebuni :Ararat'!I82) -> 0 | J82: =SUM('Erebuni :Ararat'!J82) -> 34 | K82: =SUM('Erebuni :Ararat'!K82) -> 33 | L82: =SUM('Erebuni :Ararat'!L82) -> 1 | ... AH82: =SUM('Erebuni :Ararat'!AH82) -> 2 | AJ82: =E82 -> 54 | AK82: =F82+G82+H82+I82 -> 54 | AL82: =J82 -> 34 | AM82: =K82+L82+M82 -> 34 | AN82: =F82+G82+K82 -> 87 | AO82: =X82+Y82+AA82 -> 88 | AP82: =N82 -> 21 | AQ82: =O82+P82+Q82+R82+S82 -> 21 | AR82: =S82 -> 2 | AS82: =T82+U82+V82 -> 2 | AT82: =X82 -> 21 | AU82: =N82+W82 -> 21 | AV82: =AE82 -> 15 | AW82: =AC82+AD82 -> 15 | AX82: =AH82 -> 2 | AY82: =AF82+AG82 -> 2
A83: 6.3 | B83: Գործադուլն անօրինական ճանաչելու վերաբերյալ | E83: =SUM('Erebuni :Ararat'!E83) -> 0 | F83: =SUM('Erebuni :Ararat'!F83) -> 0 | G83: =SUM('Erebuni :Ararat'!G83) -> 0 | H83: =SUM('Erebuni :Ararat'!H83) -> 0 | I83: =SUM('Erebuni :Ararat'!I83) -> 0 | J83: =SUM('Erebuni :Ararat'!J83) -> 0 | K83: =SUM('Erebuni :Ararat'!K83) -> 0 | L83: =SUM('Erebuni :Ararat'!L83) -> 0 | ... AH83: =SUM('Erebuni :Ararat'!AH83) -> 0 | AJ83: =E83 -> 0 | AK83: =F83+G83+H83+I83 -> 0 | AL83: =J83 -> 0 | AM83: =K83+L83+M83 -> 0 | AN83: =F83+G83+K83 -> 0 | AO83: =X83+Y83+AA83 -> 0 | AP83: =N83 -> 0 | AQ83: =O83+P83+Q83+R83+S83 -> 0 | AR83: =S83 -> 0 | AS83: =T83+U83+V83 -> 0 | AT83: =X83 -> 0 | AU83: =N83+W83 -> 0 | AV83: =AE83 -> 0 | AW83: =AC83+AD83 -> 0 | AX83: =AH83 -> 0 | AY83: =AF83+AG83 -> 0
A84: 6.4 | B84: Հարկադիր պարապուրդի հատուցման վերաբերյալ | E84: =SUM('Erebuni :Ararat'!E84) -> 2 | F84: =SUM('Erebuni :Ararat'!F84) -> 1 | G84: =SUM('Erebuni :Ararat'!G84) -> 1 | H84: =SUM('Erebuni :Ararat'!H84) -> 0 | I84: =SUM('Erebuni :Ararat'!I84) -> 0 | J84: =SUM('Erebuni :Ararat'!J84) -> 3 | K84: =SUM('Erebuni :Ararat'!K84) -> 2 | L84: =SUM('Erebuni :Ararat'!L84) -> 1 | ... AH84: =SUM('Erebuni :Ararat'!AH84) -> 0 | AJ84: =E84 -> 2 | AK84: =F84+G84+H84+I84 -> 2 | AL84: =J84 -> 3 | AM84: =K84+L84+M84 -> 3 | AN84: =F84+G84+K84 -> 4 | AO84: =X84+Y84+AA84 -> 4 | AP84: =N84 -> 0 | AQ84: =O84+P84+Q84+R84+S84 -> 0 | AR84: =S84 -> 0 | AS84: =T84+U84+V84 -> 0 | AT84: =X84 -> 0 | AU84: =N84+W84 -> 0 | AV84: =AE84 -> 0 | AW84: =AC84+AD84 -> 0 | AX84: =AH84 -> 0 | AY84: =AF84+AG84 -> 0
A85: 6.5 | B85: Չվճարված աշխատավարձի և/կամ այլ վճարների բռնագանձման վերաբերյալ | E85: =SUM('Erebuni :Ararat'!E85) -> 78 | F85: =SUM('Erebuni :Ararat'!F85) -> 11 | G85: =SUM('Erebuni :Ararat'!G85) -> 67 | H85: =SUM('Erebuni :Ararat'!H85) -> 0 | I85: =SUM('Erebuni :Ararat'!I85) -> 0 | J85: =SUM('Erebuni :Ararat'!J85) -> 63 | K85: =SUM('Erebuni :Ararat'!K85) -> 49 | L85: =SUM('Erebuni :Ararat'!L85) -> 14 | ... AH85: =SUM('Erebuni :Ararat'!AH85) -> 2 | AJ85: =E85 -> 78 | AK85: =F85+G85+H85+I85 -> 78 | AL85: =J85 -> 63 | AM85: =K85+L85+M85 -> 63 | AN85: =F85+G85+K85 -> 127 | AO85: =X85+Y85+AA85 -> 124 | AP85: =N85 -> 37 | AQ85: =O85+P85+Q85+R85+S85 -> 37 | AR85: =S85 -> 21 | AS85: =T85+U85+V85 -> 21 | AT85: =X85 -> 37 | AU85: =N85+W85 -> 37 | AV85: =AE85 -> 5 | AW85: =AC85+AD85 -> 5 | AX85: =AH85 -> 2 | AY85: =AF85+AG85 -> 2
A86: 6.6 | B86: Այլ վեճեր | E86: =SUM('Erebuni :Ararat'!E86) -> 36 | F86: =SUM('Erebuni :Ararat'!F86) -> 0 | G86: =SUM('Erebuni :Ararat'!G86) -> 36 | H86: =SUM('Erebuni :Ararat'!H86) -> 0 | I86: =SUM('Erebuni :Ararat'!I86) -> 0 | J86: =SUM('Erebuni :Ararat'!J86) -> 29 | K86: =SUM('Erebuni :Ararat'!K86) -> 26 | L86: =SUM('Erebuni :Ararat'!L86) -> 2 | ... AH86: =SUM('Erebuni :Ararat'!AH86) -> 2 | AJ86: =E86 -> 36 | AK86: =F86+G86+H86+I86 -> 36 | AL86: =J86 -> 29 | AM86: =K86+L86+M86 -> 29 | AN86: =F86+G86+K86 -> 62 | AO86: =X86+Y86+AA86 -> 61 | AP86: =N86 -> 16 | AQ86: =O86+P86+Q86+R86+S86 -> 16 | AR86: =S86 -> 5 | AS86: =T86+U86+V86 -> 5 | AT86: =X86 -> 16 | AU86: =N86+W86 -> 16 | AV86: =AE86 -> 6 | AW86: =AC86+AD86 -> 6 | AX86: =AH86 -> 2 | AY86: =AF86+AG86 -> 2
A87: 7. | B87: Իրավաբանական անձի գործունեությունից բխող իրավահարաբերությունների վերաբերյալ դատական գործեր | E87: =SUM('Erebuni :Ararat'!E87) -> 8 | F87: =SUM('Erebuni :Ararat'!F87) -> 3 | G87: =SUM('Erebuni :Ararat'!G87) -> 5 | H87: =SUM('Erebuni :Ararat'!H87) -> 0 | I87: =SUM('Erebuni :Ararat'!I87) -> 0 | J87: =SUM('Erebuni :Ararat'!J87) -> 7 | K87: =SUM('Erebuni :Ararat'!K87) -> 4 | L87: =SUM('Erebuni :Ararat'!L87) -> 3 | ... AH87: =SUM('Erebuni :Ararat'!AH87) -> 0 | AI87: =AI88+AI89 -> 0 | AJ87: =SUM(AJ88:AJ89) -> 8 | AK87: =SUM(AK88:AK89) -> 8 | AL87: =SUM(AL88:AL89) -> 7 | AM87: =SUM(AM88:AM89) -> 7 | AN87: =F87+G87+K87 -> 12 | AO87: =X87+Y87+AA87 -> 12 | AP87: =SUM(AP88:AP89) -> 5 | AQ87: =SUM(AQ88:AQ89) -> 5 | AR87: =SUM(AR88:AR89) -> 1 | AS87: =SUM(AS88:AS89) -> 1 | AT87: =SUM(AT88:AT89) -> 5 | AU87: =SUM(AU88:AU89) -> 5 | AV87: =SUM(AV88:AV89) -> 2 | AW87: =SUM(AW88:AW89) -> 2 | ... AY87: =SUM(AY88:AY89) -> 0
A88: 7.1 | B88: Կորպորատիվ վեճեր | E88: =SUM('Erebuni :Ararat'!E88) -> 3 | F88: =SUM('Erebuni :Ararat'!F88) -> 2 | G88: =SUM('Erebuni :Ararat'!G88) -> 1 | H88: =SUM('Erebuni :Ararat'!H88) -> 0 | I88: =SUM('Erebuni :Ararat'!I88) -> 0 | J88: =SUM('Erebuni :Ararat'!J88) -> 0 | K88: =SUM('Erebuni :Ararat'!K88) -> 0 | L88: =SUM('Erebuni :Ararat'!L88) -> 0 | ... AH88: =SUM('Erebuni :Ararat'!AH88) -> 0 | AJ88: =E88 -> 3 | AK88: =F88+G88+H88+I88 -> 3 | AL88: =J88 -> 0 | AM88: =K88+L88+M88 -> 0 | AN88: =F88+G88+K88 -> 3 | AO88: =X88+Y88+AA88 -> 3 | AP88: =N88 -> 1 | AQ88: =O88+P88+Q88+R88+S88 -> 1 | AR88: =S88 -> 0 | AS88: =T88+U88+V88 -> 0 | AT88: =X88 -> 1 | AU88: =N88+W88 -> 1 | AV88: =AE88 -> 1 | AW88: =AC88+AD88 -> 1 | AX88: =AH88 -> 0 | AY88: =AF88+AG88 -> 0
A89: 7.2 | B89: Այլ վեճեր | E89: =SUM('Erebuni :Ararat'!E89) -> 5 | F89: =SUM('Erebuni :Ararat'!F89) -> 1 | G89: =SUM('Erebuni :Ararat'!G89) -> 4 | H89: =SUM('Erebuni :Ararat'!H89) -> 0 | I89: =SUM('Erebuni :Ararat'!I89) -> 0 | J89: =SUM('Erebuni :Ararat'!J89) -> 7 | K89: =SUM('Erebuni :Ararat'!K89) -> 4 | L89: =SUM('Erebuni :Ararat'!L89) -> 3 | ... AH89: =SUM('Erebuni :Ararat'!AH89) -> 0 | AJ89: =E89 -> 5 | AK89: =F89+G89+H89+I89 -> 5 | AL89: =J89 -> 7 | AM89: =K89+L89+M89 -> 7 | AN89: =F89+G89+K89 -> 9 | AO89: =X89+Y89+AA89 -> 9 | AP89: =N89 -> 4 | AQ89: =O89+P89+Q89+R89+S89 -> 4 | AR89: =S89 -> 1 | AS89: =T89+U89+V89 -> 1 | AT89: =X89 -> 4 | AU89: =N89+W89 -> 4 | AV89: =AE89 -> 1 | AW89: =AC89+AD89 -> 1 | AX89: =AH89 -> 0 | AY89: =AF89+AG89 -> 0
A90: 8. | B90: Հատուկ վարույթի դատական գործեր | E90: =SUM('Erebuni :Ararat'!E90) -> 983 | F90: =SUM('Erebuni :Ararat'!F90) -> 176 | G90: =SUM('Erebuni :Ararat'!G90) -> 807 | H90: =SUM('Erebuni :Ararat'!H90) -> 0 | I90: =SUM('Erebuni :Ararat'!I90) -> 0 | J90: =SUM('Erebuni :Ararat'!J90) -> 1478 | K90: =SUM('Erebuni :Ararat'!K90) -> 1252 | L90: =SUM('Erebuni :Ararat'!L90) -> 188 | ... AH90: =SUM('Erebuni :Ararat'!AH90) -> 11 | AJ90: =SUM(AJ91:AJ111) -> 983 | AK90: =SUM(AK91:AK111) -> 983 | AL90: =SUM(AL91:AL111) -> 1478 | AM90: =SUM(AM91:AM111) -> 1469 | AN90: =F90+G90+K90 -> 2235 | AO90: =X90+Y90+AA90 -> 2236 | AP90: =SUM(AP91:AP111) -> 1212 | AQ90: =SUM(AQ91:AQ111) -> 1212 | AR90: =SUM(AR91:AR111) -> 133 | AS90: =SUM(AS91:AS111) -> 132 | AT90: =SUM(AT91:AT111) -> 1225 | AU90: =SUM(AU91:AU111) -> 1225 | AV90: =SUM(AV91:AV111) -> 56 | AW90: =SUM(AW91:AW111) -> 56 | ... AY90: =SUM(AY91:AY111) -> 11
A91: 8.1 | B91: Անչափահասին լրիվ գործունակ ճանաչելու /էմանսիպացիա/ վերաբերյալ | E91: =SUM('Erebuni :Ararat'!E91) -> 0 | F91: =SUM('Erebuni :Ararat'!F91) -> 0 | G91: =SUM('Erebuni :Ararat'!G91) -> 0 | H91: =SUM('Erebuni :Ararat'!H91) -> 0 | I91: =SUM('Erebuni :Ararat'!I91) -> 0 | J91: =SUM('Erebuni :Ararat'!J91) -> 0 | K91: =SUM('Erebuni :Ararat'!K91) -> 0 | L91: =SUM('Erebuni :Ararat'!L91) -> 0 | ... AH91: =SUM('Erebuni :Ararat'!AH91) -> 0 | AJ91: =E91 -> 0 | AK91: =F91+G91+H91+I91 -> 0 | AL91: =J91 -> 0 | AM91: =K91+L91+M91 -> 0 | AN91: =F91+G91+K91 -> 0 | AO91: =X91+Y91+AA91 -> 0 | AP91: =N91 -> 0 | AQ91: =O91+P91+Q91+R91+S91 -> 0 | AR91: =S91 -> 0 | AS91: =T91+U91+V91 -> 0 | AT91: =X91 -> 0 | AU91: =N91+W91 -> 0 | AV91: =AE91 -> 0 | AW91: =AC91+AD91 -> 0 | AX91: =AH91 -> 0 | AY91: =AF91+AG91 -> 0
A92: 8.2 | B92: Քաղաքացուն անգործունակ կամ սահմանափակ գործունակ ճանաչելու վերաբերյալ | E92: =SUM('Erebuni :Ararat'!E92) -> 244 | F92: =SUM('Erebuni :Ararat'!F92) -> 152 | G92: =SUM('Erebuni :Ararat'!G92) -> 92 | H92: =SUM('Erebuni :Ararat'!H92) -> 0 | I92: =SUM('Erebuni :Ararat'!I92) -> 0 | J92: =SUM('Erebuni :Ararat'!J92) -> 146 | K92: =SUM('Erebuni :Ararat'!K92) -> 133 | L92: =SUM('Erebuni :Ararat'!L92) -> 13 | ... AH92: =SUM('Erebuni :Ararat'!AH92) -> 0 | AJ92: =E92 -> 244 | AK92: =F92+G92+H92+I92 -> 244 | AL92: =J92 -> 146 | AM92: =K92+L92+M92 -> 146 | AN92: =F92+G92+K92 -> 377 | AO92: =X92+Y92+AA92 -> 377 | AP92: =N92 -> 132 | AQ92: =O92+P92+Q92+R92+S92 -> 132 | AR92: =S92 -> 26 | AS92: =T92+U92+V92 -> 26 | AT92: =X92 -> 132 | AU92: =N92+W92 -> 132 | AV92: =AE92 -> 2 | AW92: =AC92+AD92 -> 2 | AX92: =AH92 -> 0 | AY92: =AF92+AG92 -> 0
A93: 8.3 | B93: Քաղաքացուն հոգեբուժական հիվանդանոցային հարկադիր բուժման ենթարկելու վերաբերյալ | E93: =SUM('Erebuni :Ararat'!E93) -> 1 | F93: =SUM('Erebuni :Ararat'!F93) -> 0 | G93: =SUM('Erebuni :Ararat'!G93) -> 1 | H93: =SUM('Erebuni :Ararat'!H93) -> 0 | I93: =SUM('Erebuni :Ararat'!I93) -> 0 | J93: =SUM('Erebuni :Ararat'!J93) -> 15 | K93: =SUM('Erebuni :Ararat'!K93) -> 14 | L93: =SUM('Erebuni :Ararat'!L93) -> 1 | ... AH93: =SUM('Erebuni :Ararat'!AH93) -> 0 | AJ93: =E93 -> 1 | AK93: =F93+G93+H93+I93 -> 1 | AL93: =J93 -> 15 | AM93: =K93+L93+M93 -> 15 | AN93: =F93+G93+K93 -> 15 | AO93: =X93+Y93+AA93 -> 15 | AP93: =N93 -> 15 | AQ93: =O93+P93+Q93+R93+S93 -> 15 | AR93: =S93 -> 0 | AS93: =T93+U93+V93 -> 0 | AT93: =X93 -> 15 | AU93: =N93+W93 -> 15 | AV93: =AE93 -> 0 | AW93: =AC93+AD93 -> 0 | AX93: =AH93 -> 0 | AY93: =AF93+AG93 -> 0
A94: 8.4 | B94: Քաղաքացուն անհայտ բացակայող կամ մահացած ճանաչելու վերաբերյալ | E94: =SUM('Erebuni :Ararat'!E94) -> 113 | F94: =SUM('Erebuni :Ararat'!F94) -> 3 | G94: =SUM('Erebuni :Ararat'!G94) -> 110 | H94: =SUM('Erebuni :Ararat'!H94) -> 0 | I94: =SUM('Erebuni :Ararat'!I94) -> 0 | J94: =SUM('Erebuni :Ararat'!J94) -> 140 | K94: =SUM('Erebuni :Ararat'!K94) -> 111 | L94: =SUM('Erebuni :Ararat'!L94) -> 27 | ... AH94: =SUM('Erebuni :Ararat'!AH94) -> 1 | AJ94: =E94 -> 113 | AK94: =F94+G94+H94+I94 -> 113 | AL94: =J94 -> 140 | AM94: =K94+L94+M94 -> 139 | AN94: =F94+G94+K94 -> 224 | AO94: =X94+Y94+AA94 -> 223 | AP94: =N94 -> 105 | AQ94: =O94+P94+Q94+R94+S94 -> 105 | AR94: =S94 -> 15 | AS94: =T94+U94+V94 -> 15 | AT94: =X94 -> 105 | AU94: =N94+W94 -> 105 | AV94: =AE94 -> 8 | AW94: =AC94+AD94 -> 8 | AX94: =AH94 -> 1 | AY94: =AF94+AG94 -> 1
A95: 8.5 | B95: Քաղաքացիական կացության ակտերի գրառումների անճշտությունները պարզելու վերաբերյալ | E95: =SUM('Erebuni :Ararat'!E95) -> 3 | F95: =SUM('Erebuni :Ararat'!F95) -> 0 | G95: =SUM('Erebuni :Ararat'!G95) -> 3 | H95: =SUM('Erebuni :Ararat'!H95) -> 0 | I95: =SUM('Erebuni :Ararat'!I95) -> 0 | J95: =SUM('Erebuni :Ararat'!J95) -> 1 | K95: =SUM('Erebuni :Ararat'!K95) -> 1 | L95: =SUM('Erebuni :Ararat'!L95) -> 0 | ... AH95: =SUM('Erebuni :Ararat'!AH95) -> 0 | AJ95: =E95 -> 3 | AK95: =F95+G95+H95+I95 -> 3 | AL95: =J95 -> 1 | AM95: =K95+L95+M95 -> 1 | AN95: =F95+G95+K95 -> 4 | AO95: =X95+Y95+AA95 -> 4 | AP95: =N95 -> 2 | AQ95: =O95+P95+Q95+R95+S95 -> 2 | AR95: =S95 -> 1 | AS95: =T95+U95+V95 -> 1 | AT95: =X95 -> 2 | AU95: =N95+W95 -> 2 | AV95: =AE95 -> 0 | AW95: =AC95+AD95 -> 0 | AX95: =AH95 -> 0 | AY95: =AF95+AG95 -> 0
A96: 8.6 | B96: Գույքը տիրազուրկ ճանաչելու վերաբերյալ | E96: =SUM('Erebuni :Ararat'!E96) -> 26 | F96: =SUM('Erebuni :Ararat'!F96) -> 1 | G96: =SUM('Erebuni :Ararat'!G96) -> 25 | H96: =SUM('Erebuni :Ararat'!H96) -> 0 | I96: =SUM('Erebuni :Ararat'!I96) -> 0 | J96: =SUM('Erebuni :Ararat'!J96) -> 22 | K96: =SUM('Erebuni :Ararat'!K96) -> 18 | L96: =SUM('Erebuni :Ararat'!L96) -> 4 | ... AH96: =SUM('Erebuni :Ararat'!AH96) -> 1 | AJ96: =E96 -> 26 | AK96: =F96+G96+H96+I96 -> 26 | AL96: =J96 -> 22 | AM96: =K96+L96+M96 -> 22 | AN96: =F96+G96+K96 -> 44 | AO96: =X96+Y96+AA96 -> 44 | AP96: =N96 -> 27 | AQ96: =O96+P96+Q96+R96+S96 -> 27 | AR96: =S96 -> 6 | AS96: =T96+U96+V96 -> 6 | AT96: =X96 -> 27 | AU96: =N96+W96 -> 27 | AV96: =AE96 -> 8 | AW96: =AC96+AD96 -> 8 | AX96: =AH96 -> 1 | AY96: =AF96+AG96 -> 1
A97: 8.6.1 | B97: Այդ թվում՝ անշարժ գույքը | E97: =SUM('Erebuni :Ararat'!E97) -> 19 | F97: =SUM('Erebuni :Ararat'!F97) -> 0 | G97: =SUM('Erebuni :Ararat'!G97) -> 19 | H97: =SUM('Erebuni :Ararat'!H97) -> 0 | I97: =SUM('Erebuni :Ararat'!I97) -> 0 | J97: =SUM('Erebuni :Ararat'!J97) -> 13 | K97: =SUM('Erebuni :Ararat'!K97) -> 10 | L97: =SUM('Erebuni :Ararat'!L97) -> 2 | ... AH97: =SUM('Erebuni :Ararat'!AH97) -> 0 | AJ97: =E97 -> 19 | AK97: =F97+G97+H97+I97 -> 19 | AL97: =J97 -> 13 | AM97: =K97+L97+M97 -> 12 | AN97: =F97+G97+K97 -> 29 | AO97: =X97+Y97+AA97 -> 29 | AP97: =N97 -> 19 | AQ97: =O97+P97+Q97+R97+S97 -> 19 | AR97: =S97 -> 4 | AS97: =T97+U97+V97 -> 4 | AT97: =X97 -> 20 | AU97: =N97+W97 -> 20 | AV97: =AE97 -> 2 | AW97: =AC97+AD97 -> 2 | AX97: =AH97 -> 0 | AY97: =AF97+AG97 -> 0
A98: 8.6.2 | B98: Այդ թվում՝ շարժական գույքը | E98: =SUM('Erebuni :Ararat'!E98) -> 5 | F98: =SUM('Erebuni :Ararat'!F98) -> 1 | G98: =SUM('Erebuni :Ararat'!G98) -> 4 | H98: =SUM('Erebuni :Ararat'!H98) -> 0 | I98: =SUM('Erebuni :Ararat'!I98) -> 0 | J98: =SUM('Erebuni :Ararat'!J98) -> 12 | K98: =SUM('Erebuni :Ararat'!K98) -> 10 | L98: =SUM('Erebuni :Ararat'!L98) -> 2 | ... AH98: =SUM('Erebuni :Ararat'!AH98) -> 0 | AJ98: =E98 -> 5 | AK98: =F98+G98+H98+I98 -> 5 | AL98: =J98 -> 12 | AM98: =K98+L98+M98 -> 12 | AN98: =F98+G98+K98 -> 15 | AO98: =X98+Y98+AA98 -> 15 | AP98: =N98 -> 6 | AQ98: =O98+P98+Q98+R98+S98 -> 6 | AR98: =S98 -> 0 | AS98: =T98+U98+V98 -> 0 | AT98: =X98 -> 6 | AU98: =N98+W98 -> 6 | AV98: =AE98 -> 0 | AW98: =AC98+AD98 -> 0 | AX98: =AH98 -> 0 | AY98: =AF98+AG98 -> 0
A99: 8.7 | B99: Իրավաբանական նշանակություն ունեցող փաստերի հաստատման վերաբերյալ | E99: =SUM('Erebuni :Ararat'!E99) -> 77 | F99: =SUM('Erebuni :Ararat'!F99) -> 5 | G99: =SUM('Erebuni :Ararat'!G99) -> 72 | H99: =SUM('Erebuni :Ararat'!H99) -> 0 | I99: =SUM('Erebuni :Ararat'!I99) -> 0 | J99: =SUM('Erebuni :Ararat'!J99) -> 150 | K99: =SUM('Erebuni :Ararat'!K99) -> 120 | L99: =SUM('Erebuni :Ararat'!L99) -> 22 | ... AH99: =SUM('Erebuni :Ararat'!AH99) -> 0 | AJ99: =E99 -> 77 | AK99: =F99+G99+H99+I99 -> 77 | AL99: =J99 -> 150 | AM99: =K99+L99+M99 -> 149 | AN99: =F99+G99+K99 -> 197 | AO99: =X99+Y99+AA99 -> 199 | AP99: =N99 -> 110 | AQ99: =O99+P99+Q99+R99+S99 -> 110 | AR99: =S99 -> 7 | AS99: =T99+U99+V99 -> 7 | AT99: =X99 -> 111 | AU99: =N99+W99 -> 111 | AV99: =AE99 -> 7 | AW99: =AC99+AD99 -> 7 | AX99: =AH99 -> 0 | AY99: =AF99+AG99 -> 0
A100: 8.7.1 | B100: Անձանց ազգակցական կապը հաստատելու վերաբերյալ | E100: =SUM('Erebuni :Ararat'!E100) -> 123 | F100: =SUM('Erebuni :Ararat'!F100) -> 1 | G100: =SUM('Erebuni :Ararat'!G100) -> 122 | H100: =SUM('Erebuni :Ararat'!H100) -> 0 | I100: =SUM('Erebuni :Ararat'!I100) -> 0 | J100: =SUM('Erebuni :Ararat'!J100) -> 216 | K100: =SUM('Erebuni :Ararat'!K100) -> 192 | L100: =SUM('Erebuni :Ararat'!L100) -> 19 | ... AH100: =SUM('Erebuni :Ararat'!AH100) -> 1 | AJ100: =E100 -> 123 | AK100: =F100+G100+H100+I100 -> 123 | AL100: =J100 -> 216 | AM100: =K100+L100+M100 -> 215 | AN100: =F100+G100+K100 -> 315 | AO100: =X100+Y100+AA100 -> 316 | AP100: =N100 -> 191 | AQ100: =O100+P100+Q100+R100+S100 -> 191 | AR100: =S100 -> 10 | AS100: =T100+U100+V100 -> 10 | AT100: =X100 -> 191 | AU100: =N100+W100 -> 191 | AV100: =AE100 -> 3 | AW100: =AC100+AD100 -> 3 | AX100: =AH100 -> 1 | AY100: =AF100+AG100 -> 1
A101: 8.7.2 | B101: Անձի՝ ուրիշի խնամքի տակ գտնվելու վերաբերյալ | E101: =SUM('Erebuni :Ararat'!E101) -> 3 | F101: =SUM('Erebuni :Ararat'!F101) -> 1 | G101: =SUM('Erebuni :Ararat'!G101) -> 2 | H101: =SUM('Erebuni :Ararat'!H101) -> 0 | I101: =SUM('Erebuni :Ararat'!I101) -> 0 | J101: =SUM('Erebuni :Ararat'!J101) -> 2 | K101: =SUM('Erebuni :Ararat'!K101) -> 2 | L101: =SUM('Erebuni :Ararat'!L101) -> 0 | ... AH101: =SUM('Erebuni :Ararat'!AH101) -> 0 | AJ101: =E101 -> 3 | AK101: =F101+G101+H101+I101 -> 3 | AL101: =J101 -> 2 | AM101: =K101+L101+M101 -> 2 | AN101: =F101+G101+K101 -> 5 | AO101: =X101+Y101+AA101 -> 5 | AP101: =N101 -> 2 | AQ101: =O101+P101+Q101+R101+S101 -> 2 | AR101: =S101 -> 0 | AS101: =T101+U101+V101 -> 0 | AT101: =X101 -> 2 | AU101: =N101+W101 -> 2 | AV101: =AE101 -> 0 | AW101: =AC101+AD101 -> 0 | AX101: =AH101 -> 0 | AY101: =AF101+AG101 -> 0
A102: 8.7.3 | B102: Ծննդյան, որդեգրման, ամուսնության, ապահարզանի և մահվան գրանցման վերաբերյալ | E102: =SUM('Erebuni :Ararat'!E102) -> 42 | F102: =SUM('Erebuni :Ararat'!F102) -> 1 | G102: =SUM('Erebuni :Ararat'!G102) -> 41 | H102: =SUM('Erebuni :Ararat'!H102) -> 0 | I102: =SUM('Erebuni :Ararat'!I102) -> 0 | J102: =SUM('Erebuni :Ararat'!J102) -> 105 | K102: =SUM('Erebuni :Ararat'!K102) -> 96 | L102: =SUM('Erebuni :Ararat'!L102) -> 7 | ... AH102: =SUM('Erebuni :Ararat'!AH102) -> 2 | AJ102: =E102 -> 42 | AK102: =F102+G102+H102+I102 -> 42 | AL102: =J102 -> 105 | AM102: =K102+L102+M102 -> 105 | AN102: =F102+G102+K102 -> 138 | AO102: =X102+Y102+AA102 -> 138 | AP102: =N102 -> 91 | AQ102: =O102+P102+Q102+R102+S102 -> 91 | AR102: =S102 -> 4 | AS102: =T102+U102+V102 -> 4 | AT102: =X102 -> 91 | AU102: =N102+W102 -> 91 | AV102: =AE102 -> 3 | AW102: =AC102+AD102 -> 3 | AX102: =AH102 -> 2 | AY102: =AF102+AG102 -> 2
... A111: 8.10 | B111: Այլ վեճեր | E111: =SUM('Erebuni :Ararat'!E111) -> 28 | F111: =SUM('Erebuni :Ararat'!F111) -> 1 | G111: =SUM('Erebuni :Ararat'!G111) -> 27 | H111: =SUM('Erebuni :Ararat'!H111) -> 0 | I111: =SUM('Erebuni :Ararat'!I111) -> 0 | J111: =SUM('Erebuni :Ararat'!J111) -> 35 | K111: =SUM('Erebuni :Ararat'!K111) -> 24 | L111: =SUM('Erebuni :Ararat'!L111) -> 7 | ... AH111: =SUM('Erebuni :Ararat'!AH111) -> 2 | AJ111: =E111 -> 28 | AK111: =F111+G111+H111+I111 -> 28 | AL111: =J111 -> 35 | AM111: =K111+L111+M111 -> 34 | AN111: =F111+G111+K111 -> 52 | AO111: =X111+Y111+AA111 -> 52 | AP111: =N111 -> 33 | AQ111: =O111+P111+Q111+R111+S111 -> 33 | AR111: =S111 -> 6 | AS111: =T111+U111+V111 -> 6 | AT111: =X111 -> 34 | AU111: =N111+W111 -> 34 | AV111: =AE111 -> 7 | AW111: =AC111+AD111 -> 7 | AX111: =AH111 -> 2 | AY111: =AF111+AG111 -> 2
A112: 9. | B112: Հատուկ հայցային վարույթի դատական գործեր | E112: =SUM('Erebuni :Ararat'!E112) -> 2 | F112: =SUM('Erebuni :Ararat'!F112) -> 1 | G112: =SUM('Erebuni :Ararat'!G112) -> 1 | H112: =SUM('Erebuni :Ararat'!H112) -> 0 | I112: =SUM('Erebuni :Ararat'!I112) -> 0 | J112: =SUM('Erebuni :Ararat'!J112) -> 6 | K112: =SUM('Erebuni :Ararat'!K112) -> 2 | L112: =SUM('Erebuni :Ararat'!L112) -> 4 | ... AH112: =SUM('Erebuni :Ararat'!AH112) -> 0 | AJ112: =SUM(AJ113:AJ115) -> 2 | AK112: =SUM(AK113:AK115) -> 2 | AL112: =SUM(AL113:AL115) -> 6 | AM112: =SUM(AM113:AM115) -> 6 | AN112: =F112+G112+K112 -> 4 | AO112: =X112+Y112+AA112 -> 4 | AP112: =SUM(AP113:AP115) -> 1 | AQ112: =SUM(AQ113:AQ115) -> 1 | AR112: =SUM(AR113:AR115) -> 0 | AS112: =SUM(AS113:AS115) -> 0 | AT112: =SUM(AT113:AT115) -> 1 | AU112: =SUM(AU113:AU115) -> 1 | AV112: =SUM(AV113:AV115) -> 1 | AW112: =SUM(AW113:AW115) -> 1 | ... AY112: =SUM(AY113:AY115) -> 0
A113: 9.1 | B113: Քաղաքացու կյանքին կամ առողջությանն սպառնացող վտանգի վերաբերյալ | E113: =SUM('Erebuni :Ararat'!E113) -> 1 | F113: =SUM('Erebuni :Ararat'!F113) -> 0 | G113: =SUM('Erebuni :Ararat'!G113) -> 1 | H113: =SUM('Erebuni :Ararat'!H113) -> 0 | I113: =SUM('Erebuni :Ararat'!I113) -> 0 | J113: =SUM('Erebuni :Ararat'!J113) -> 6 | K113: =SUM('Erebuni :Ararat'!K113) -> 2 | L113: =SUM('Erebuni :Ararat'!L113) -> 4 | ... AH113: =SUM('Erebuni :Ararat'!AH113) -> 0 | AJ113: =E113 -> 1 | AK113: =F113+G113+H113+I113 -> 1 | AL113: =J113 -> 6 | AM113: =K113+L113+M113 -> 6 | AN113: =F113+G113+K113 -> 3 | AO113: =X113+Y113+AA113 -> 3 | AP113: =N113 -> 1 | AQ113: =O113+P113+Q113+R113+S113 -> 1 | AR113: =S113 -> 0 | AS113: =T113+U113+V113 -> 0 | AT113: =X113 -> 1 | AU113: =N113+W113 -> 1 | AV113: =AE113 -> 1 | AW113: =AC113+AD113 -> 1 | AX113: =AH113 -> 0 | AY113: =AF113+AG113 -> 0
A114: 9.2 | B114: ՀՀ Կենտրոնական բանկի և անվճարունակ բանկի կամ վարկային կազմակերպության ժամանակավոր ադմինիստրացիայի որոշումների բողոքարկման վերաբերյալ | E114: =SUM('Erebuni :Ararat'!E114) -> 0 | F114: =SUM('Erebuni :Ararat'!F114) -> 0 | G114: =SUM('Erebuni :Ararat'!G114) -> 0 | H114: =SUM('Erebuni :Ararat'!H114) -> 0 | I114: =SUM('Erebuni :Ararat'!I114) -> 0 | J114: =SUM('Erebuni :Ararat'!J114) -> 0 | K114: =SUM('Erebuni :Ararat'!K114) -> 0 | L114: =SUM('Erebuni :Ararat'!L114) -> 0 | ... AH114: =SUM('Erebuni :Ararat'!AH114) -> 0 | AJ114: =E114 -> 0 | AK114: =F114+G114+H114+I114 -> 0 | AL114: =J114 -> 0 | AM114: =K114+L114+M114 -> 0 | AN114: =F114+G114+K114 -> 0 | AO114: =X114+Y114+AA114 -> 0 | AP114: =N114 -> 0 | AQ114: =O114+P114+Q114+R114+S114 -> 0 | AR114: =S114 -> 0 | AS114: =T114+U114+V114 -> 0 | AT114: =X114 -> 0 | AU114: =N114+W114 -> 0 | AV114: =AE114 -> 0 | AW114: =AC114+AD114 -> 0 | AX114: =AH114 -> 0 | AY114: =AF114+AG114 -> 0
A115: 9.3 | B115: Այլ վեճեր | E115: =SUM('Erebuni :Ararat'!E115) -> 1 | F115: =SUM('Erebuni :Ararat'!F115) -> 1 | G115: =SUM('Erebuni :Ararat'!G115) -> 0 | H115: =SUM('Erebuni :Ararat'!H115) -> 0 | I115: =SUM('Erebuni :Ararat'!I115) -> 0 | J115: =SUM('Erebuni :Ararat'!J115) -> 0 | K115: =SUM('Erebuni :Ararat'!K115) -> 0 | L115: =SUM('Erebuni :Ararat'!L115) -> 0 | ... AH115: =SUM('Erebuni :Ararat'!AH115) -> 0 | AJ115: =E115 -> 1 | AK115: =F115+G115+H115+I115 -> 1 | AL115: =J115 -> 0 | AM115: =K115+L115+M115 -> 0 | AN115: =F115+G115+K115 -> 1 | AO115: =X115+Y115+AA115 -> 1 | AP115: =N115 -> 0 | AQ115: =O115+P115+Q115+R115+S115 -> 0 | AR115: =S115 -> 0 | AS115: =T115+U115+V115 -> 0 | AT115: =X115 -> 0 | AU115: =N115+W115 -> 0 | AV115: =AE115 -> 0 | AW115: =AC115+AD115 -> 0 | AX115: =AH115 -> 0 | AY115: =AF115+AG115 -> 0
A116: 11. | B116: Պարտավորական իրավահարաբերությունների վերաբերյալ դատական գործեր | E116: =SUM('Erebuni :Ararat'!E116) -> 31110 | F116: =SUM('Erebuni :Ararat'!F116) -> 2304 | G116: =SUM('Erebuni :Ararat'!G116) -> 28791 | H116: =SUM('Erebuni :Ararat'!H116) -> 11 | I116: =SUM('Erebuni :Ararat'!I116) -> 0 | J116: =SUM('Erebuni :Ararat'!J116) -> 39171 | K116: =SUM('Erebuni :Ararat'!K116) -> 36148 | L116: =SUM('Erebuni :Ararat'!L116) -> 2843 | ... AH116: =SUM('Erebuni :Ararat'!AH116) -> 133 | AJ116: =SUM(AJ117:AJ124) -> 31110 | AK116: =SUM(AK117:AK124) -> 31106 | AL116: =SUM(AL117:AL124) -> 39170 | AM116: =SUM(AM117:AM124) -> 39013 | AN116: =F116+G116+K116 -> 67243 | AO116: =X116+Y116+AA116 -> 67296 | AP116: =SUM(AP117:AP124) -> 32327 | AQ116: =SUM(AQ117:AQ124) -> 32327 | AR116: =SUM(AR117:AR124) -> 3029 | AS116: =SUM(AS117:AS124) -> 3030 | AT116: =SUM(AT117:AT124) -> 32331 | AU116: =SUM(AU117:AU124) -> 32331 | AV116: =SUM(AV117:AV124) -> 636 | AW116: =SUM(AW117:AW124) -> 636 | ... AY116: =SUM(AY117:AY124) -> 133
A117: 11.1 | B117: Գումարի պահանջի մասին | E117: =SUM('Erebuni :Ararat'!E117) -> 30602 | F117: =SUM('Erebuni :Ararat'!F117) -> 2199 | G117: =SUM('Erebuni :Ararat'!G117) -> 28388 | H117: =SUM('Erebuni :Ararat'!H117) -> 11 | I117: =SUM('Erebuni :Ararat'!I117) -> 0 | J117: =SUM('Erebuni :Ararat'!J117) -> 38765 | K117: =SUM('Erebuni :Ararat'!K117) -> 35807 | L117: =SUM('Erebuni :Ararat'!L117) -> 2782 | ... AH117: =SUM('Erebuni :Ararat'!AH117) -> 124 | AJ117: =E117 -> 30602 | AK117: =F117+G117+H117+I117 -> 30598 | AL117: =J117 -> 38765 | AM117: =K117+L117+M117 -> 38608 | AN117: =F117+G117+K117 -> 66394 | AO117: =X117+Y117+AA117 -> 66448 | AP117: =N117 -> 32089 | AQ117: =O117+P117+Q117+R117+S117 -> 32089 | AR117: =S117 -> 2963 | AS117: =T117+U117+V117 -> 2964 | AT117: =X117 -> 32091 | AU117: =N117+W117 -> 32091 | AV117: =AE117 -> 567 | AW117: =AC117+AD117 -> 567 | AX117: =AH117 -> 124 | AY117: =AF117+AG117 -> 124
A118: 11.2 | B118: Պարտավորությունը բնեղենով կատարելու պահանջի մասին | E118: =SUM('Erebuni :Ararat'!E118) -> 7 | F118: =SUM('Erebuni :Ararat'!F118) -> 1 | G118: =SUM('Erebuni :Ararat'!G118) -> 6 | H118: =SUM('Erebuni :Ararat'!H118) -> 0 | I118: =SUM('Erebuni :Ararat'!I118) -> 0 | J118: =SUM('Erebuni :Ararat'!J118) -> 8 | K118: =SUM('Erebuni :Ararat'!K118) -> 7 | L118: =SUM('Erebuni :Ararat'!L118) -> 1 | ... AH118: =SUM('Erebuni :Ararat'!AH118) -> 0 | AJ118: =E118 -> 7 | AK118: =F118+G118+H118+I118 -> 7 | AL118: =J118 -> 8 | AM118: =K118+L118+M118 -> 8 | AN118: =F118+G118+K118 -> 14 | AO118: =X118+Y118+AA118 -> 14 | AP118: =N118 -> 7 | AQ118: =O118+P118+Q118+R118+S118 -> 7 | AR118: =S118 -> 2 | AS118: =T118+U118+V118 -> 2 | AT118: =X118 -> 7 | AU118: =N118+W118 -> 7 | AV118: =AE118 -> 1 | AW118: =AC118+AD118 -> 1 | AX118: =AH118 -> 0 | AY118: =AF118+AG118 -> 0
A119: 11.3 | B119: Վնասը և բաց թողնված օգուտը հատուցելու պահանջի մասին | E119: =SUM('Erebuni :Ararat'!E119) -> 333 | F119: =SUM('Erebuni :Ararat'!F119) -> 78 | G119: =SUM('Erebuni :Ararat'!G119) -> 255 | H119: =SUM('Erebuni :Ararat'!H119) -> 0 | I119: =SUM('Erebuni :Ararat'!I119) -> 0 | J119: =SUM('Erebuni :Ararat'!J119) -> 311 | K119: =SUM('Erebuni :Ararat'!K119) -> 265 | L119: =SUM('Erebuni :Ararat'!L119) -> 44 | ... AH119: =SUM('Erebuni :Ararat'!AH119) -> 7 | AJ119: =E119 -> 333 | AK119: =F119+G119+H119+I119 -> 333 | AL119: =J119 -> 311 | AM119: =K119+L119+M119 -> 311 | AN119: =F119+G119+K119 -> 598 | AO119: =X119+Y119+AA119 -> 597 | AP119: =N119 -> 148 | AQ119: =O119+P119+Q119+R119+S119 -> 148 | AR119: =S119 -> 45 | AS119: =T119+U119+V119 -> 45 | AT119: =X119 -> 149 | AU119: =N119+W119 -> 149 | AV119: =AE119 -> 38 | AW119: =AC119+AD119 -> 38 | AX119: =AH119 -> 7 | AY119: =AF119+AG119 -> 7
A120: 11.4 | B120: Քաղաքացու կյանքին կամ առողջությանը պատճառված վնասի հատուցման վերաբերյալ | E120: =SUM('Erebuni :Ararat'!E120) -> 23 | F120: =SUM('Erebuni :Ararat'!F120) -> 3 | G120: =SUM('Erebuni :Ararat'!G120) -> 20 | H120: =SUM('Erebuni :Ararat'!H120) -> 0 | I120: =SUM('Erebuni :Ararat'!I120) -> 0 | J120: =SUM('Erebuni :Ararat'!J120) -> 8 | K120: =SUM('Erebuni :Ararat'!K120) -> 4 | L120: =SUM('Erebuni :Ararat'!L120) -> 3 | ... AH120: =SUM('Erebuni :Ararat'!AH120) -> 0 | AJ120: =E120 -> 23 | AK120: =F120+G120+H120+I120 -> 23 | AL120: =J120 -> 8 | AM120: =K120+L120+M120 -> 8 | AN120: =F120+G120+K120 -> 27 | AO120: =X120+Y120+AA120 -> 27 | AP120: =N120 -> 14 | AQ120: =O120+P120+Q120+R120+S120 -> 14 | AR120: =S120 -> 2 | AS120: =T120+U120+V120 -> 2 | AT120: =X120 -> 14 | AU120: =N120+W120 -> 14 | AV120: =AE120 -> 9 | AW120: =AC120+AD120 -> 9 | AX120: =AH120 -> 0 | AY120: =AF120+AG120 -> 0
A121: 11.5 | B121: Ապրանքների, աշխատանքների կամ ծառայությունների թերությունների հետևանքով պատճառված վնասների հատուցման վերաբերյալ | E121: =SUM('Erebuni :Ararat'!E121) -> 12 | F121: =SUM('Erebuni :Ararat'!F121) -> 1 | G121: =SUM('Erebuni :Ararat'!G121) -> 11 | H121: =SUM('Erebuni :Ararat'!H121) -> 0 | I121: =SUM('Erebuni :Ararat'!I121) -> 0 | J121: =SUM('Erebuni :Ararat'!J121) -> 7 | K121: =SUM('Erebuni :Ararat'!K121) -> 7 | L121: =SUM('Erebuni :Ararat'!L121) -> 0 | ... AH121: =SUM('Erebuni :Ararat'!AH121) -> 1 | AJ121: =E121 -> 12 | AK121: =F121+G121+H121+I121 -> 12 | AL121: =J121 -> 7 | AM121: =K121+L121+M121 -> 7 | AN121: =F121+G121+K121 -> 19 | AO121: =X121+Y121+AA121 -> 19 | AP121: =N121 -> 6 | AQ121: =O121+P121+Q121+R121+S121 -> 6 | AR121: =S121 -> 3 | AS121: =T121+U121+V121 -> 3 | AT121: =X121 -> 6 | AU121: =N121+W121 -> 6 | AV121: =AE121 -> 1 | AW121: =AC121+AD121 -> 1 | AX121: =AH121 -> 1 | AY121: =AF121+AG121 -> 1
...

Sheet Erebuni 
A1: 2016թ. 1-ԻՆ ԿԻՍԱՄՅԱԿ | E1: ՀԱՇՎԵՏՎՈՒԹՅՈՒՆ | AC1: Հավելված Հայաստանի Հանրապետության Դատարանների նախագահների խորհրդի 25.08.2016թ. թիվ 44-Լ որոշման
A2: ԵՐԵՎԱՆ ՔԱՂԱՔԻ ԷՐԵԲՈՒՆԻ ԵՎ ՆՈՒԲԱՐԱՇԵՆ ՎԱՐՉԱԿԱՆ ՇՐՋԱՆՆԵՐԻ ԸՆԴՀԱՆՈՒՐ ԻՐԱՎԱՍՈՒԹՅԱՆ ԱՌԱՋԻՆ ԱՏՅԱՆԻ ԴԱՏԱՐԱՆՈՒՄ ՔԱՂԱՔԱՑԻԱԿԱՆ ԳՈՐԾԵՐԻ ՔՆՆՈՒԹՅԱՆ ՎԵՐԱԲԵՐՅԱԼ
A3: Երևան քաղաքի Էրեբունի և Նուբարաշեն վարչական շրջանների ընդհանուր իրավասության առաջին ատյանի դատարանում քաղաքացիական մասնագիտացում ունեցող դատավորների հաստիքների քանակը` 4
A4: Ստուգիչ հավասարումներ՝ 1=2+3+4+5, 6=7+8+9, 2+3+7=20+21+23, 10=11+12+13+14+15, 15=16+17+18, 20=10+19, 27=25+26, 30=28+29 | E4: Հաշվետու ժամանակահատվածում նախորդ հաշվետու ժամանակահատվածից փոխանցված գործերի ընդհանուր թիվը | J4: Հաշվետու ժամանակահատվածումստացված գործերի (այդ թվում` հայցադիմումների, դիմումների) ընդհանուր թիվը | N4: Հաշվետու ժամանակահատվածում ավարտված գործերի ընդհանուր թիվը | Y4: Գործն ուղարկվել է ըստ ընդդատության | Z4: Հաշվետու ժամանակահատվածում կասեցված վարույթներով գործերի ընդհանուր թիվը | AA4: Հաշվետու ժամանակահատվածում անավարտ գործերի ընդհանուր թիվը | AB4: Այդ թվում՝ կասեցված | AC4: Բողոքարկված դատական ակտերի թիվը` ըստ տեսակների | AF4: Բեկանված դատական ակտերի թիվը` ըստ տեսակների
E7: Ընդամենը | F7: Այդ թվում`կասեցված վիճակում փոխանցված | G7: Այդ թվում՝ ընդունվել է վարույթ | H7: Այդ թվում՝ վերադարձվել է | I7: Այդ թվում՝ ընդունումը մերժվել է | J7: Ընդամենը | K7: Այդ թվում՝ ընդունվել է վարույթ | L7: Այդ թվում՝ վերադարձվել է | M7: Այդ թվում՝ ընդունումը մերժվել է | N7: Ընդամենը ավարտվել են գործեր գործն ըստ էության լուծող դատական ակտերի (վճիռների) կայացմամբ | O7: Այդ թվում՝ հայցի բավարարմամբ | P7: Այդ թվում՝ հայցի մասնակի բավարարմամբ | Q7: Այդ թվում՝ հայցի մերժմամբ | R7: Մասով կարճվել է, մասով մերժվել | S7: Այդ թվում՝ կարճվել են | W7: Հայցը թողնվել է առանց քննության | X7: Ընդամենն ավարտվել են գործեր | AC7: Այդ թվում` գործն ըստ էության լուծող դատական ակտեր | AD7: Այդ թվում` միջանկյալ դատական ակտեր | AE7: Ընդամենը | AF7: Այդ թվում` գործն ըստ էության լուծող դատական ակտեր | AG7: Այդ թվում` միջանկյալ դատական ակտեր | AH7: Ընդամենը
S10: Ընդամենը կարճվել են | T10: Այդ թվում՝ հաստատվել է կնքված հաշտության համաձայնությունը | U10: Այդ թվում՝ հացից, դիմումից հրաժարվելու հիմքով | V10: Այդ թվում՝ այլ հիմքով
A18: Քաղաքացիական գործերի դասակարգումը | E18: 1 | F18: 2 | G18: 3 | H18: 4 | I18: 5 | J18: 6 | K18: 7 | L18: 8 | M18: 9 | N18: 10 | O18: 11 | P18: 12 | Q18: 13 | R18: 14 | S18: 15 | T18: 16 | U18: 17 | V18: 18 | W18: 19 | X18: 20 | Y18: 21 | Z18: 22 | AA18: 23 | AB18: 24 | AC18: 25 | AD18: 26 | AE18: 27 | AF18: 28 | AG18: 29 | AH18: 30 | AJ18: 1=2+3+4+5 | AL18: 6=7+8+9 | AN18: 2+3+7=20+21+23 | AP18: 10=11+12+13+14+15 | AR18: 15=16+17+18 | AT18: 20=10+19 | AV18: 27=25+26 | AX18: 30=28+29
A19: 1. | B19: Գույքային իրավահարաբերությունների վերաբերյալ դատական գործեր | E19: =SUM(E20:E38) -> 177 | F19: =SUM(F20:F38) -> 78 | G19: =SUM(G20:G38) -> 99 | H19: =SUM(H20:H38) -> 0 | I19: =SUM(I20:I38) -> 0 | J19: =SUM(J20:J38) -> 80 | K19: =SUM(K20:K38) -> 51 | L19: =SUM(L20:L38) -> 28 | ... AH19: =SUM(AH20:AH38) -> 7 | AJ19: =SUM(AJ20:AJ38) -> 177 | AK19: =SUM(AK20:AK38) -> 177 | AL19: =SUM(AL20:AL38) -> 80 | AM19: =SUM(AM20:AM38) -> 79 | AN19: =SUM(AN20:AN38) -> 228 | AO19: =SUM(AO20:AO38) -> 228 | AP19: =SUM(AP20:AP38) -> 59 | AQ19: =SUM(AQ20:AQ38) -> 59 | ... AY19: =SUM(AY20:AY38) -> 7
A20: 1.1 | B20: Գույքի նկատմամբ սեփականության իրավունքը ճանաչելու վերաբերյալ | E20: 11 | F20: 3 | G20: 8 | J20: 11 | K20: 5 | L20: 6 | N20: 8 | O20: 3 | P20: 2 | S20: 3 | U20: 3 | X20: 8 | AA20: 8 | AC20: 3 | AE20: 3 | AJ20: =E20 -> 11 | AK20: =F20+G20+H20+I20 -> 11 | AL20: =J20 -> 11 | AM20: =K20+L20+M20 -> 11 | AN20: =F20+G20+K20 -> 16 | AO20: =X20+Y20+AA20 -> 16 | AP20: =N20 -> 8 | AQ20: =O20+P20+Q20+R20+S20 -> 8 | AR20: =S20 -> 3 | AS20: =T20+U20+V20 -> 3 | AT20: =X20 -> 8 | AU20: =N20+W20 -> 8 | AV20: =AE20 -> 3 | AW20: =AC20+AD20 -> 3 | AX20: =AH20 -> 0 | AY20: =AF20+AG20 -> 0
A21: 1.1.1 | B21: Այդ թվում՝ ձեռքբերման վաղեմության ուժով | E21: 13 | F21: 2 | G21: 11 | J21: 9 | K21: 5 | L21: 4 | N21: 6 | O21: 2 | Q21: 1 | S21: 3 | U21: 3 | X21: 6 | Z21: 2 | AA21: 12 | AB21: 4 | AC21: 3 | AE21: 3 | AF21: 1 | AG21: 1 | AH21: 2 | AJ21: =E21 -> 13 | AK21: =F21+G21+H21+I21 -> 13 | AL21: =J21 -> 9 | AM21: =K21+L21+M21 -> 9 | AN21: =F21+G21+K21 -> 18 | AO21: =X21+Y21+AA21 -> 18 | AP21: =N21 -> 6 | AQ21: =O21+P21+Q21+R21+S21 -> 6 | AR21: =S21 -> 3 | AS21: =T21+U21+V21 -> 3 | AT21: =X21 -> 6 | AU21: =N21+W21 -> 6 | AV21: =AE21 -> 3 | AW21: =AC21+AD21 -> 3 | AX21: =AH21 -> 2 | AY21: =AF21+AG21 -> 2
A22: 1.1.2 | B22: Այդ թվում՝ տիրազուրկ գույքի նկատմամբ | AJ22: =E22 -> 0 | AK22: =F22+G22+H22+I22 -> 0 | AL22: =J22 -> 0 | AM22: =K22+L22+M22 -> 0 | AN22: =F22+G22+K22 -> 0 | AO22: =X22+Y22+AA22 -> 0 | AP22: =N22 -> 0 | AQ22: =O22+P22+Q22+R22+S22 -> 0 | AR22: =S22 -> 0 | AS22: =T22+U22+V22 -> 0 | AT22: =X22 -> 0 | AU22: =N22+W22 -> 0 | AV22: =AE22 -> 0 | AW22: =AC22+AD22 -> 0 | AX22: =AH22 -> 0 | AY22: =AF22+AG22 -> 0
A23: 1.1.3 | B23: Այդ թվում՝ ինքնակամ կառույցի նկատմամբ | AJ23: =E23 -> 0 | AK23: =F23+G23+H23+I23 -> 0 | AL23: =J23 -> 0 | AM23: =K23+L23+M23 -> 0 | AN23: =F23+G23+K23 -> 0 | AO23: =X23+Y23+AA23 -> 0 | AP23: =N23 -> 0 | AQ23: =O23+P23+Q23+R23+S23 -> 0 | AR23: =S23 -> 0 | AS23: =T23+U23+V23 -> 0 | AT23: =X23 -> 0 | AU23: =N23+W23 -> 0 | AV23: =AE23 -> 0 | AW23: =AC23+AD23 -> 0 | AX23: =AH23 -> 0 | AY23: =AF23+AG23 -> 0
A24: 1.2 | B24: Սեփականության իրավունքի դադարեցման վերաբերյալ | E24: 3 | F24: 1 | G24: 2 | N24: 1 | P24: 1 | X24: 1 | AA24: 2 | AB24: 1 | AC24: 1 | AE24: 1 | AJ24: =E24 -> 3 | AK24: =F24+G24+H24+I24 -> 3 | AL24: =J24 -> 0 | AM24: =K24+L24+M24 -> 0 | AN24: =F24+G24+K24 -> 3 | AO24: =X24+Y24+AA24 -> 3 | AP24: =N24 -> 1 | AQ24: =O24+P24+Q24+R24+S24 -> 1 | AR24: =S24 -> 0 | AS24: =T24+U24+V24 -> 0 | AT24: =X24 -> 1 | AU24: =N24+W24 -> 1 | AV24: =AE24 -> 1 | AW24: =AC24+AD24 -> 1 | AX24: =AH24 -> 0 | AY24: =AF24+AG24 -> 0
A25: 1.3 | B25: Գույքի նկատմամբ օգտագործման իրավունքը ճանաչելու վերաբերյալ | E25: 1 | F25: 1 | AA25: 1 | AB25: 1 | AJ25: =E25 -> 1 | AK25: =F25+G25+H25+I25 -> 1 | AL25: =J25 -> 0 | AM25: =K25+L25+M25 -> 0 | AN25: =F25+G25+K25 -> 1 | AO25: =X25+Y25+AA25 -> 1 | AP25: =N25 -> 0 | AQ25: =O25+P25+Q25+R25+S25 -> 0 | AR25: =S25 -> 0 | AS25: =T25+U25+V25 -> 0 | AT25: =X25 -> 0 | AU25: =N25+W25 -> 0 | AV25: =AE25 -> 0 | AW25: =AC25+AD25 -> 0 | AX25: =AH25 -> 0 | AY25: =AF25+AG25 -> 0
A26: 1.3.1 | B26: Այդ թվում՝ բնակօգտագործման իրավունքը ճանաչելու վերաբերյալ | AJ26: =E26 -> 0 | AK26: =F26+G26+H26+I26 -> 0 | AL26: =J26 -> 0 | AM26: =K26+L26+M26 -> 0 | AN26: =F26+G26+K26 -> 0 | AO26: =X26+Y26+AA26 -> 0 | AP26: =N26 -> 0 | AQ26: =O26+P26+Q26+R26+S26 -> 0 | AR26: =S26 -> 0 | AS26: =T26+U26+V26 -> 0 | AT26: =X26 -> 0 | AU26: =N26+W26 -> 0 | AV26: =AE26 -> 0 | AW26: =AC26+AD26 -> 0 | AX26: =AH26 -> 0 | AY26: =AF26+AG26 -> 0
A27: 1.3.2 | B27: Այդ թվում՝ հողամասի նկատմամբ օգտագործման իրավունքը ճանաչելու վերաբերյալ | E27: 1 | G27: 1 | N27: 1 | S27: 1 | T27: 1 | X27: 1 | AJ27: =E27 -> 1 | AK27: =F27+G27+H27+I27 -> 1 | AL27: =J27 -> 0 | AM27: =K27+L27+M27 -> 0 | AN27: =F27+G27+K27 -> 1 | AO27: =X27+Y27+AA27 -> 1 | AP27: =N27 -> 1 | AQ27: =O27+P27+Q27+R27+S27 -> 1 | AR27: =S27 -> 1 | AS27: =T27+U27+V27 -> 1 | AT27: =X27 -> 1 | AU27: =N27+W27 -> 1 | AV27: =AE27 -> 0 | AW27: =AC27+AD27 -> 0 | AX27: =AH27 -> 0 | AY27: =AF27+AG27 -> 0
A28: 1.4 | B28: Գույքի նկատմամբ օգտագործման իրավունքը դադարեցնելու վերաբերյալ | AJ28: =E28 -> 0 | AK28: =F28+G28+H28+I28 -> 0 | AL28: =J28 -> 0 | AM28: =K28+L28+M28 -> 0 | AN28: =F28+G28+K28 -> 0 | AO28: =X28+Y28+AA28 -> 0 | AP28: =N28 -> 0 | AQ28: =O28+P28+Q28+R28+S28 -> 0 | AR28: =S28 -> 0 | AS28: =T28+U28+V28 -> 0 | AT28: =X28 -> 0 | AU28: =N28+W28 -> 0 | AV28: =AE28 -> 0 | AW28: =AC28+AD28 -> 0 | AX28: =AH28 -> 0 | AY28: =AF28+AG28 -> 0
A29: 1.4.1 | B29: Այդ թվում՝ բնակօգտագործման իրավունքը դադարեցնելու վերաբերյալ | J29: 1 | K29: 1 | Z29: 1 | AA29: 1 | AB29: 1 | AF29: 1 | AH29: 1 | AJ29: =E29 -> 0 | AK29: =F29+G29+H29+I29 -> 0 | AL29: =J29 -> 1 | AM29: =K29+L29+M29 -> 1 | AN29: =F29+G29+K29 -> 1 | AO29: =X29+Y29+AA29 -> 1 | AP29: =N29 -> 0 | AQ29: =O29+P29+Q29+R29+S29 -> 0 | AR29: =S29 -> 0 | AS29: =T29+U29+V29 -> 0 | AT29: =X29 -> 0 | AU29: =N29+W29 -> 0 | AV29: =AE29 -> 0 | AW29: =AC29+AD29 -> 0 | AX29: =AH29 -> 1 | AY29: =AF29+AG29 -> 1
A30: 1.4.1/1 | B30: Այդ թվում՝ փոխհատուցմամբ | AJ30: =E30 -> 0 | AK30: =F30+G30+H30+I30 -> 0 | AL30: =J30 -> 0 | AM30: =K30+L30+M30 -> 0 | AN30: =F30+G30+K30 -> 0 | AO30: =X30+Y30+AA30 -> 0 | AP30: =N30 -> 0 | AQ30: =O30+P30+Q30+R30+S30 -> 0 | AR30: =S30 -> 0 | AS30: =T30+U30+V30 -> 0 | AT30: =X30 -> 0 | AU30: =N30+W30 -> 0 | AV30: =AE30 -> 0 | AW30: =AC30+AD30 -> 0 | AX30: =AH30 -> 0 | AY30: =AF30+AG30 -> 0
A31: 1.5 | B31: Բնակարանից/ տարածքից/ վտարելու վերաբերյալ | E31: 24 | F31: 7 | G31: 17 | J31: 5 | K31: 4 | L31: 1 | N31: 7 | O31: 4 | S31: 3 | U31: 3 | X31: 7 | Z31: 2 | AA31: 21 | AB31: 6 | AC31: 2 | AE31: 2 | AJ31: =E31 -> 24 | AK31: =F31+G31+H31+I31 -> 24 | AL31: =J31 -> 5 | AM31: =K31+L31+M31 -> 5 | AN31: =F31+G31+K31 -> 28 | AO31: =X31+Y31+AA31 -> 28 | AP31: =N31 -> 7 | AQ31: =O31+P31+Q31+R31+S31 -> 7 | AR31: =S31 -> 3 | AS31: =T31+U31+V31 -> 3 | AT31: =X31 -> 7 | AU31: =N31+W31 -> 7 | AV31: =AE31 -> 2 | AW31: =AC31+AD31 -> 2 | AX31: =AH31 -> 0 | AY31: =AF31+AG31 -> 0
A32: 1.6 | B32: Գույքն ուրիշի ապօրինի տիրապետումից ետ վերադարձնելու վերաբերյալ | E32: 11 | F32: 4 | G32: 7 | J32: 4 | K32: 1 | L32: 3 | N32: 4 | O32: 4 | X32: 4 | Z32: 1 | AA32: 8 | AB32: 5 | AC32: 3 | AD32: 1 | AE32: 4 | AJ32: =E32 -> 11 | AK32: =F32+G32+H32+I32 -> 11 | AL32: =J32 -> 4 | AM32: =K32+L32+M32 -> 4 | AN32: =F32+G32+K32 -> 12 | AO32: =X32+Y32+AA32 -> 12 | AP32: =N32 -> 4 | AQ32: =O32+P32+Q32+R32+S32 -> 4 | AR32: =S32 -> 0 | AS32: =T32+U32+V32 -> 0 | AT32: =X32 -> 4 | AU32: =N32+W32 -> 4 | AV32: =AE32 -> 4 | AW32: =AC32+AD32 -> 4 | AX32: =AH32 -> 0 | AY32: =AF32+AG32 -> 0
A33: 1.6.1 | B33: Բարեխիղճ ձեռքբերողից իր գույքը հետ պահանջելու վերաբերյալ | AJ33: =E33 -> 0 | AK33: =F33+G33+H33+I33 -> 0 | AL33: =J33 -> 0 | AM33: =K33+L33+M33 -> 0 | AN33: =F33+G33+K33 -> 0 | AO33: =X33+Y33+AA33 -> 0 | AP33: =N33 -> 0 | AQ33: =O33+P33+Q33+R33+S33 -> 0 | AR33: =S33 -> 0 | AS33: =T33+U33+V33 -> 0 | AT33: =X33 -> 0 | AU33: =N33+W33 -> 0 | AV33: =AE33 -> 0 | AW33: =AC33+AD33 -> 0 | AX33: =AH33 -> 0 | AY33: =AF33+AG33 -> 0
A34: 1.7 | B34: Տիրապետումից զրկելու հետ չկապված իրավունքների խախտումը վերացնելու վերաբերյալ | E34: 5 | F34: 2 | G34: 3 | J34: 1 | L34: 1 | N34: 3 | Q34: 1 | S34: 2 | U34: 2 | X34: 3 | AA34: 2 | AB34: 1 | AJ34: =E34 -> 5 | AK34: =F34+G34+H34+I34 -> 5 | AL34: =J34 -> 1 | AM34: =K34+L34+M34 -> 1 | AN34: =F34+G34+K34 -> 5 | AO34: =X34+Y34+AA34 -> 5 | AP34: =N34 -> 3 | AQ34: =O34+P34+Q34+R34+S34 -> 3 | AR34: =S34 -> 2 | AS34: =T34+U34+V34 -> 2 | AT34: =X34 -> 3 | AU34: =N34+W34 -> 3 | AV34: =AE34 -> 0 | AW34: =AC34+AD34 -> 0 | AX34: =AH34 -> 0 | AY34: =AF34+AG34 -> 0
A35: 1.8 | B35: Ընդհանուր բաժնային սեփականությունից բաժինն առանձնացնելու վերաբերյալ | E35: 69 | F35: 42 | G35: 27 | J35: 26 | K35: 18 | L35: 7 | N35: 21 | O35: 5 | P35: 1 | Q35: 2 | S35: 13 | T35: 2 | U35: 10 | V35: 1 | X35: 21 | Z35: 19 | AA35: 66 | AB35: 44 | AC35: 6 | AD35: 1 | AE35: 7 | AF35: 2 | AH35: 2 | AJ35: =E35 -> 69 | AK35: =F35+G35+H35+I35 -> 69 | AL35: =J35 -> 26 | AM35: =K35+L35+M35 -> 25 | AN35: =F35+G35+K35 -> 87 | AO35: =X35+Y35+AA35 -> 87 | AP35: =N35 -> 21 | AQ35: =O35+P35+Q35+R35+S35 -> 21 | AR35: =S35 -> 13 | AS35: =T35+U35+V35 -> 13 | AT35: =X35 -> 21 | AU35: =N35+W35 -> 21 | AV35: =AE35 -> 7 | AW35: =AC35+AD35 -> 7 | AX35: =AH35 -> 2 | AY35: =AF35+AG35 -> 2
A36: 1.8.1 | B36: Համատեղ սեփականության ներքո գտնվող գույքը բաժանելու և դրանից բաժինն առանձնացնելու վերաբերյալ | E36: 22 | F36: 11 | G36: 11 | J36: 13 | K36: 9 | L36: 4 | N36: 4 | O36: 2 | S36: 2 | U36: 1 | V36: 1 | X36: 4 | Z36: 9 | AA36: 27 | AB36: 14 | AC36: 1 | AD36: 2 | AE36: 3 | AG36: 2 | AH36: 2 | AJ36: =E36 -> 22 | AK36: =F36+G36+H36+I36 -> 22 | AL36: =J36 -> 13 | AM36: =K36+L36+M36 -> 13 | AN36: =F36+G36+K36 -> 31 | AO36: =X36+Y36+AA36 -> 31 | AP36: =N36 -> 4 | AQ36: =O36+P36+Q36+R36+S36 -> 4 | AR36: =S36 -> 2 | AS36: =T36+U36+V36 -> 2 | AT36: =X36 -> 4 | AU36: =N36+W36 -> 4 | AV36: =AE36 -> 3 | AW36: =AC36+AD36 -> 3 | AX36: =AH36 -> 2 | AY36: =AF36+AG36 -> 2
A37: 1.8.3 | B37: Գույքի վրա բռնագանձում տարածելու պահանջի մասին | E37: 4 | F37: 3 | G37: 1 | J37: 2 | K37: 2 | Z37: 2 | AA37: 6 | AB37: 5 | AC37: 2 | AE37: 2 | AJ37: =E37 -> 4 | AK37: =F37+G37+H37+I37 -> 4 | AL37: =J37 -> 2 | AM37: =K37+L37+M37 -> 2 | AN37: =F37+G37+K37 -> 6 | AO37: =X37+Y37+AA37 -> 6 | AP37: =N37 -> 0 | AQ37: =O37+P37+Q37+R37+S37 -> 0 | AR37: =S37 -> 0 | AS37: =T37+U37+V37 -> 0 | AT37: =X37 -> 0 | AU37: =N37+W37 -> 0 | AV37: =AE37 -> 2 | AW37: =AC37+AD37 -> 2 | AX37: =AH37 -> 0 | AY37: =AF37+AG37 -> 0
A38: 1.9 | B38: Այլ վեճեր | E38: 13 | F38: 2 | G38: 11 | J38: 8 | K38: 6 | L38: 2 | N38: 4 | O38: 1 | Q38: 2 | S38: 1 | U38: 1 | X38: 4 | Z38: 1 | AA38: 15 | AB38: 2 | AC38: 1 | AE38: 1 | AJ38: =E38 -> 13 | AK38: =F38+G38+H38+I38 -> 13 | AL38: =J38 -> 8 | AM38: =K38+L38+M38 -> 8 | AN38: =F38+G38+K38 -> 19 | AO38: =X38+Y38+AA38 -> 19 | AP38: =N38 -> 4 | AQ38: =O38+P38+Q38+R38+S38 -> 4 | AR38: =S38 -> 1 | AS38: =T38+U38+V38 -> 1 | AT38: =X38 -> 4 | AU38: =N38+W38 -> 4 | AV38: =AE38 -> 1 | AW38: =AC38+AD38 -> 1 | AX38: =AH38 -> 0 | AY38: =AF38+AG38 -> 0
A39: 2. | B39: Գործարքների հետ կապված իրավահարաբերությունների վերաբերյալ դատական գործեր | E39: =SUM(E40:E50) -> 32 | F39: =SUM(F40:F50) -> 13 | G39: =SUM(G40:G50) -> 19 | H39: =SUM(H40:H50) -> 0 | I39: =SUM(I40:I50) -> 0 | J39: =SUM(J40:J50) -> 28 | K39: =SUM(K40:K50) -> 15 | L39: =SUM(L40:L50) -> 13 | ... AH39: =SUM(AH40:AH50) -> 2 | AJ39: =SUM(AJ40:AJ50) -> 32 | AK39: =SUM(AK40:AK50) -> 32 | AL39: =SUM(AL40:AL50) -> 28 | AM39: =SUM(AM40:AM50) -> 28 | AN39: =SUM(AN40:AN50) -> 47 | AO39: =SUM(AO40:AO50) -> 47 | AP39: =SUM(AP40:AP50) -> 14 | AQ39: =SUM(AQ40:AQ50) -> 14 | ... AY39: =SUM(AY40:AY50) -> 2
A40: 2.1 | B40: գործարքների անվավերության հետ կապված վեճեր | E40: 9 | F40: 4 | G40: 5 | J40: 3 | K40: 2 | L40: 1 | N40: 6 | P40: 2 | Q40: 1 | S40: 3 | T40: 1 | U40: 2 | X40: 6 | Z40: 2 | AA40: 5 | AB40: 3 | AC40: 4 | AD40: 1 | AE40: 5 | AF40: 1 | AH40: 1 | AJ40: =E40 -> 9 | AK40: =F40+G40+H40+I40 -> 9 | AL40: =J40 -> 3 | AM40: =K40+L40+M40 -> 3 | AN40: =F40+G40+K40 -> 11 | AO40: =X40+Y40+AA40 -> 11 | AP40: =N40 -> 6 | AQ40: =O40+P40+Q40+R40+S40 -> 6 | AR40: =S40 -> 3 | AS40: =T40+U40+V40 -> 3 | AT40: =X40 -> 6 | AU40: =N40+W40 -> 6 | AV40: =AE40 -> 5 | AW40: =AC40+AD40 -> 5 | AX40: =AH40 -> 1 | AY40: =AF40+AG40 -> 1
A41: 2.1.1 | B41: այդ թվում` վիճահարույց գործարքներն անվավեր ճանաչելու վերաբերյալ | AJ41: =E41 -> 0 | AK41: =F41+G41+H41+I41 -> 0 | AL41: =J41 -> 0 | AM41: =K41+L41+M41 -> 0 | AN41: =F41+G41+K41 -> 0 | AO41: =X41+Y41+AA41 -> 0 | AP41: =N41 -> 0 | AQ41: =O41+P41+Q41+R41+S41 -> 0 | AR41: =S41 -> 0 | AS41: =T41+U41+V41 -> 0 | AT41: =X41 -> 0 | AU41: =N41+W41 -> 0 | AV41: =AE41 -> 0 | AW41: =AC41+AD41 -> 0 | AX41: =AH41 -> 0 | AY41: =AF41+AG41 -> 0
A42: 2.1.2 | B42: այդ թվում` գործարքի առոչնչության հետևանքներ կիրառելու վերաբերյալ | E42: 4 | F42: 1 | G42: 3 | J42: 9 | K42: 5 | L42: 4 | N42: 2 | Q42: 1 | S42: 1 | U42: 1 | X42: 2 | AA42: 7 | AB42: 1 | AC42: 1 | AE42: 1 | AJ42: =E42 -> 4 | AK42: =F42+G42+H42+I42 -> 4 | AL42: =J42 -> 9 | AM42: =K42+L42+M42 -> 9 | AN42: =F42+G42+K42 -> 9 | AO42: =X42+Y42+AA42 -> 9 | AP42: =N42 -> 2 | AQ42: =O42+P42+Q42+R42+S42 -> 2 | AR42: =S42 -> 1 | AS42: =T42+U42+V42 -> 1 | AT42: =X42 -> 2 | AU42: =N42+W42 -> 2 | AV42: =AE42 -> 1 | AW42: =AC42+AD42 -> 1 | AX42: =AH42 -> 0 | AY42: =AF42+AG42 -> 0
A43: 2.2 | B43: Գործարքը վավեր ճանաչելու վերաբերյալ | E43: 2 | F43: 1 | G43: 1 | AA43: 2 | AJ43: =E43 -> 2 | AK43: =F43+G43+H43+I43 -> 2 | AL43: =J43 -> 0 | AM43: =K43+L43+M43 -> 0 | AN43: =F43+G43+K43 -> 2 | AO43: =X43+Y43+AA43 -> 2 | AP43: =N43 -> 0 | AQ43: =O43+P43+Q43+R43+S43 -> 0 | AR43: =S43 -> 0 | AS43: =T43+U43+V43 -> 0 | AT43: =X43 -> 0 | AU43: =N43+W43 -> 0 | AV43: =AE43 -> 0 | AW43: =AC43+AD43 -> 0 | AX43: =AH43 -> 0 | AY43: =AF43+AG43 -> 0
A44: 2.3 | B44: Գործարքից ծագող իրավունքները գրանցելու վերաբերյալ | AJ44: =E44 -> 0 | AK44: =F44+G44+H44+I44 -> 0 | AL44: =J44 -> 0 | AM44: =K44+L44+M44 -> 0 | AN44: =F44+G44+K44 -> 0 | AO44: =X44+Y44+AA44 -> 0 | AP44: =N44 -> 0 | AQ44: =O44+P44+Q44+R44+S44 -> 0 | AR44: =S44 -> 0 | AS44: =T44+U44+V44 -> 0 | AT44: =X44 -> 0 | AU44: =N44+W44 -> 0 | AV44: =AE44 -> 0 | AW44: =AC44+AD44 -> 0 | AX44: =AH44 -> 0 | AY44: =AF44+AG44 -> 0
A45: 2.4 | B45: Պայմանագիրն անվավեր ճանաչելու վերաբերյալ | E45: 13 | F45: 6 | G45: 7 | J45: 8 | K45: 5 | L45: 3 | N45: 4 | Q45: 3 | S45: 1 | U45: 1 | X45: 4 | Z45: 1 | AA45: 14 | AB45: 4 | AC45: 1 | AD45: 1 | AE45: 2 | AG45: 1 | AH45: 1 | AJ45: =E45 -> 13 | AK45: =F45+G45+H45+I45 -> 13 | AL45: =J45 -> 8 | AM45: =K45+L45+M45 -> 8 | AN45: =F45+G45+K45 -> 18 | AO45: =X45+Y45+AA45 -> 18 | AP45: =N45 -> 4 | AQ45: =O45+P45+Q45+R45+S45 -> 4 | AR45: =S45 -> 1 | AS45: =T45+U45+V45 -> 1 | AT45: =X45 -> 4 | AU45: =N45+W45 -> 4 | AV45: =AE45 -> 2 | AW45: =AC45+AD45 -> 2 | AX45: =AH45 -> 1 | AY45: =AF45+AG45 -> 1
A46: 2.5 | B46: Պայմանագրիը վավեր ճանաչելու վերաբերյալ | E46: 1 | G46: 1 | J46: 3 | K46: 2 | L46: 1 | N46: 1 | O46: 1 | X46: 1 | AA46: 2 | AC46: 1 | AE46: 1 | AJ46: =E46 -> 1 | AK46: =F46+G46+H46+I46 -> 1 | AL46: =J46 -> 3 | AM46: =K46+L46+M46 -> 3 | AN46: =F46+G46+K46 -> 3 | AO46: =X46+Y46+AA46 -> 3 | AP46: =N46 -> 1 | AQ46: =O46+P46+Q46+R46+S46 -> 1 | AR46: =S46 -> 0 | AS46: =T46+U46+V46 -> 0 | AT46: =X46 -> 1 | AU46: =N46+W46 -> 1 | AV46: =AE46 -> 1 | AW46: =AC46+AD46 -> 1 | AX46: =AH46 -> 0 | AY46: =AF46+AG46 -> 0
A47: 2.6 | B47: Պայմանագրից ծագող իրավունքները գրանցելու վերաբերյալ | AJ47: =E47 -> 0 | AK47: =F47+G47+H47+I47 -> 0 | AL47: =J47 -> 0 | AM47: =K47+L47+M47 -> 0 | AN47: =F47+G47+K47 -> 0 | AO47: =X47+Y47+AA47 -> 0 | AP47: =N47 -> 0 | AQ47: =O47+P47+Q47+R47+S47 -> 0 | AR47: =S47 -> 0 | AS47: =T47+U47+V47 -> 0 | AT47: =X47 -> 0 | AU47: =N47+W47 -> 0 | AV47: =AE47 -> 0 | AW47: =AC47+AD47 -> 0 | AX47: =AH47 -> 0 | AY47: =AF47+AG47 -> 0
A48: 2.7 | B48: Պայմանագիրը փոփոխելու և լուծելու վերաբերյալ | J48: 2 | L48: 2 | AJ48: =E48 -> 0 | AK48: =F48+G48+H48+I48 -> 0 | AL48: =J48 -> 2 | AM48: =K48+L48+M48 -> 2 | AN48: =F48+G48+K48 -> 0 | AO48: =X48+Y48+AA48 -> 0 | AP48: =N48 -> 0 | AQ48: =O48+P48+Q48+R48+S48 -> 0 | AR48: =S48 -> 0 | AS48: =T48+U48+V48 -> 0 | AT48: =X48 -> 0 | AU48: =N48+W48 -> 0 | AV48: =AE48 -> 0 | AW48: =AC48+AD48 -> 0 | AX48: =AH48 -> 0 | AY48: =AF48+AG48 -> 0
A49: 2.8 | B49: Պայմանագիր կնքելուն պարտավորեցնելու վերաբերյալ | AJ49: =E49 -> 0 | AK49: =F49+G49+H49+I49 -> 0 | AL49: =J49 -> 0 | AM49: =K49+L49+M49 -> 0 | AN49: =F49+G49+K49 -> 0 | AO49: =X49+Y49+AA49 -> 0 | AP49: =N49 -> 0 | AQ49: =O49+P49+Q49+R49+S49 -> 0 | AR49: =S49 -> 0 | AS49: =T49+U49+V49 -> 0 | AT49: =X49 -> 0 | AU49: =N49+W49 -> 0 | AV49: =AE49 -> 0 | AW49: =AC49+AD49 -> 0 | AX49: =AH49 -> 0 | AY49: =AF49+AG49 -> 0
A50: 2.9 | B50: Այլ վեճեր | E50: 3 | F50: 1 | G50: 2 | J50: 3 | K50: 1 | L50: 2 | N50: 1 | Q50: 1 | X50: 1 | AA50: 3 | AB50: 1 | AC50: 2 | AD50: 1 | AE50: 3 | AJ50: =E50 -> 3 | AK50: =F50+G50+H50+I50 -> 3 | AL50: =J50 -> 3 | AM50: =K50+L50+M50 -> 3 | AN50: =F50+G50+K50 -> 4 | AO50: =X50+Y50+AA50 -> 4 | AP50: =N50 -> 1 | AQ50: =O50+P50+Q50+R50+S50 -> 1 | AR50: =S50 -> 0 | AS50: =T50+U50+V50 -> 0 | AT50: =X50 -> 1 | AU50: =N50+W50 -> 1 | AV50: =AE50 -> 3 | AW50: =AC50+AD50 -> 3 | AX50: =AH50 -> 0 | AY50: =AF50+AG50 -> 0
A51: 3. | B51: Ժառանգության հետ կապված իրավահարաբերությունների վերաբերյալ դատական գործեր | E51: =SUM(E52:E58) -> 6 | F51: =SUM(F52:F58) -> 2 | G51: =SUM(G52:G58) -> 4 | H51: =SUM(H52:H58) -> 0 | I51: =SUM(I52:I58) -> 0 | J51: =SUM(J52:J58) -> 10 | K51: =SUM(K52:K58) -> 4 | L51: =SUM(L52:L58) -> 6 | ... AH51: =SUM(AH52:AH58) -> 1 | AJ51: =SUM(AJ52:AJ58) -> 6 | AK51: =SUM(AK52:AK58) -> 6 | AL51: =SUM(AL52:AL58) -> 10 | AM51: =SUM(AM52:AM58) -> 10 | AN51: =SUM(AN52:AN58) -> 10 | AO51: =SUM(AO52:AO58) -> 10 | AP51: =SUM(AP52:AP58) -> 2 | AQ51: =SUM(AQ52:AQ58) -> 2 | ... AY51: =SUM(AY52:AY58) -> 1
A52: 3.1 | B52: Կտակն անվավեր ճանաչելու վերաբերյալ | J52: 1 | K52: 1 | AA52: 1 | AJ52: =E52 -> 0 | AK52: =F52+G52+H52+I52 -> 0 | AL52: =J52 -> 1 | AM52: =K52+L52+M52 -> 1 | AN52: =F52+G52+K52 -> 1 | AO52: =X52+Y52+AA52 -> 1 | AP52: =N52 -> 0 | AQ52: =O52+P52+Q52+R52+S52 -> 0 | AR52: =S52 -> 0 | AS52: =T52+U52+V52 -> 0 | AT52: =X52 -> 0 | AU52: =N52+W52 -> 0 | AV52: =AE52 -> 0 | AW52: =AC52+AD52 -> 0 | AX52: =AH52 -> 0 | AY52: =AF52+AG52 -> 0
A53: 3.2 | B53: Անարժան ժառանգ ճանաչելու վերաբերյալ | AJ53: =E53 -> 0 | AK53: =F53+G53+H53+I53 -> 0 | AL53: =J53 -> 0 | AM53: =K53+L53+M53 -> 0 | AN53: =F53+G53+K53 -> 0 | AO53: =X53+Y53+AA53 -> 0 | AP53: =N53 -> 0 | AQ53: =O53+P53+Q53+R53+S53 -> 0 | AR53: =S53 -> 0 | AS53: =T53+U53+V53 -> 0 | AT53: =X53 -> 0 | AU53: =N53+W53 -> 0 | AV53: =AE53 -> 0 | AW53: =AC53+AD53 -> 0 | AX53: =AH53 -> 0 | AY53: =AF53+AG53 -> 0
A54: 3.3 | B54: Ժառանգությունը բաժանելու վերաբերյալ | AJ54: =E54 -> 0 | AK54: =F54+G54+H54+I54 -> 0 | AL54: =J54 -> 0 | AM54: =K54+L54+M54 -> 0 | AN54: =F54+G54+K54 -> 0 | AO54: =X54+Y54+AA54 -> 0 | AP54: =N54 -> 0 | AQ54: =O54+P54+Q54+R54+S54 -> 0 | AR54: =S54 -> 0 | AS54: =T54+U54+V54 -> 0 | AT54: =X54 -> 0 | AU54: =N54+W54 -> 0 | AV54: =AE54 -> 0 | AW54: =AC54+AD54 -> 0 | AX54: =AH54 -> 0 | AY54: =AF54+AG54 -> 0
A55: 3.4 | B55: Գույքն անժառանգ ճանաչելու վերաբերյալ | AJ55: =E55 -> 0 | AK55: =F55+G55+H55+I55 -> 0 | AL55: =J55 -> 0 | AM55: =K55+L55+M55 -> 0 | AN55: =F55+G55+K55 -> 0 | AO55: =X55+Y55+AA55 -> 0 | AP55: =N55 -> 0 | AQ55: =O55+P55+Q55+R55+S55 -> 0 | AR55: =S55 -> 0 | AS55: =T55+U55+V55 -> 0 | AT55: =X55 -> 0 | AU55: =N55+W55 -> 0 | AV55: =AE55 -> 0 | AW55: =AC55+AD55 -> 0 | AX55: =AH55 -> 0 | AY55: =AF55+AG55 -> 0
A56: 3.5 | B56: Ըստ օրենքի ժառանգության իրավունքի վկայագիրն անվավեր ճանաչելու վերաբերյալ | AJ56: =E56 -> 0 | AK56: =F56+G56+H56+I56 -> 0 | AL56: =J56 -> 0 | AM56: =K56+L56+M56 -> 0 | AN56: =F56+G56+K56 -> 0 | AO56: =X56+Y56+AA56 -> 0 | AP56: =N56 -> 0 | AQ56: =O56+P56+Q56+R56+S56 -> 0 | AR56: =S56 -> 0 | AS56: =T56+U56+V56 -> 0 | AT56: =X56 -> 0 | AU56: =N56+W56 -> 0 | AV56: =AE56 -> 0 | AW56: =AC56+AD56 -> 0 | AX56: =AH56 -> 0 | AY56: =AF56+AG56 -> 0
A57: 3.6 | B57: Ժառանգությունն ընդունելու բաց թողնված ժամկետը հարգելի համարելու վերաբերյալ | E57: 2 | G57: 2 | J57: 6 | K57: 1 | L57: 5 | N57: 2 | Q57: 1 | S57: 1 | T57: 1 | X57: 2 | AA57: 1 | AJ57: =E57 -> 2 | AK57: =F57+G57+H57+I57 -> 2 | AL57: =J57 -> 6 | AM57: =K57+L57+M57 -> 6 | AN57: =F57+G57+K57 -> 3 | AO57: =X57+Y57+AA57 -> 3 | AP57: =N57 -> 2 | AQ57: =O57+P57+Q57+R57+S57 -> 2 | AR57: =S57 -> 1 | AS57: =T57+U57+V57 -> 1 | AT57: =X57 -> 2 | AU57: =N57+W57 -> 2 | AV57: =AE57 -> 0 | AW57: =AC57+AD57 -> 0 | AX57: =AH57 -> 0 | AY57: =AF57+AG57 -> 0
A58: 3.7 | B58: Այլ վեճեր | E58: 4 | F58: 2 | G58: 2 | J58: 3 | K58: 2 | L58: 1 | AA58: 6 | AB58: 2 | AD58: 1 | AE58: 1 | AG58: 1 | AH58: 1 | AJ58: =E58 -> 4 | AK58: =F58+G58+H58+I58 -> 4 | AL58: =J58 -> 3 | AM58: =K58+L58+M58 -> 3 | AN58: =F58+G58+K58 -> 6 | AO58: =X58+Y58+AA58 -> 6 | AP58: =N58 -> 0 | AQ58: =O58+P58+Q58+R58+S58 -> 0 | AR58: =S58 -> 0 | AS58: =T58+U58+V58 -> 0 | AT58: =X58 -> 0 | AU58: =N58+W58 -> 0 | AV58: =AE58 -> 1 | AW58: =AC58+AD58 -> 1 | AX58: =AH58 -> 1 | AY58: =AF58+AG58 -> 1
A59: 4 | B59: Ընտանեկան իրավահարաբերությունների վերաբերյալ դատական գործեր | E59: =SUM(E60:E72) -> 64 | F59: =SUM(F60:F72) -> 7 | G59: =SUM(G60:G72) -> 57 | H59: =SUM(H60:H72) -> 0 | I59: =SUM(I60:I72) -> 0 | J59: =SUM(J60:J72) -> 103 | K59: =SUM(K60:K72) -> 79 | L59: =SUM(L60:L72) -> 23 | ... AH59: =SUM(AH60:AH72) -> 3 | AJ59: =SUM(AJ60:AJ72) -> 64 | AK59: =SUM(AK60:AK72) -> 64 | AL59: =SUM(AL60:AL72) -> 103 | AM59: =SUM(AM60:AM72) -> 102 | AN59: =SUM(AN60:AN72) -> 143 | AO59: =SUM(AO60:AO72) -> 143 | AP59: =SUM(AP60:AP72) -> 69 | AQ59: =SUM(AQ60:AQ72) -> 69 | ... AY59: =SUM(AY60:AY72) -> 3
A60: 4.1 | B60: Ամուսնալուծության վերաբերյալ | E60: 40 | F60: 2 | G60: 38 | J60: 67 | K60: 52 | L60: 14 | N60: 49 | O60: 30 | P60: 9 | S60: 10 | T60: 3 | U60: 7 | X60: 49 | Z60: 1 | AA60: 43 | AB60: 3 | AC60: 3 | AE60: 3 | AF60: 1 | AH60: 1 | AJ60: =E60 -> 40 | AK60: =F60+G60+H60+I60 -> 40 | AL60: =J60 -> 67 | AM60: =K60+L60+M60 -> 66 | AN60: =F60+G60+K60 -> 92 | AO60: =X60+Y60+AA60 -> 92 | AP60: =N60 -> 49 | AQ60: =O60+P60+Q60+R60+S60 -> 49 | AR60: =S60 -> 10 | AS60: =T60+U60+V60 -> 10 | AT60: =X60 -> 49 | AU60: =N60+W60 -> 49 | AV60: =AE60 -> 3 | AW60: =AC60+AD60 -> 3 | AX60: =AH60 -> 1 | AY60: =AF60+AG60 -> 1
A61: 4.2 | B61: Ալիմենտի պահանջի վերաբերյալ | E61: 9 | F61: 1 | G61: 8 | J61: 11 | K61: 10 | L61: 1 | N61: 8 | O61: 2 | P61: 6 | X61: 8 | AA61: 11 | AB61: 1 | AF61: 1 | AH61: 1 | AJ61: =E61 -> 9 | AK61: =F61+G61+H61+I61 -> 9 | AL61: =J61 -> 11 | AM61: =K61+L61+M61 -> 11 | AN61: =F61+G61+K61 -> 19 | AO61: =X61+Y61+AA61 -> 19 | AP61: =N61 -> 8 | AQ61: =O61+P61+Q61+R61+S61 -> 8 | AR61: =S61 -> 0 | AS61: =T61+U61+V61 -> 0 | AT61: =X61 -> 8 | AU61: =N61+W61 -> 8 | AV61: =AE61 -> 0 | AW61: =AC61+AD61 -> 0 | AX61: =AH61 -> 1 | AY61: =AF61+AG61 -> 1
A62: 4.3 | B62: Ալիմենտի չափը փոփոխելու վերաբերյալ | E62: 2 | F62: 1 | G62: 1 | J62: 1 | K62: 1 | N62: 1 | Q62: 1 | X62: 1 | AA62: 2 | AJ62: =E62 -> 2 | AK62: =F62+G62+H62+I62 -> 2 | AL62: =J62 -> 1 | AM62: =K62+L62+M62 -> 1 | AN62: =F62+G62+K62 -> 3 | AO62: =X62+Y62+AA62 -> 3 | AP62: =N62 -> 1 | AQ62: =O62+P62+Q62+R62+S62 -> 1 | AR62: =S62 -> 0 | AS62: =T62+U62+V62 -> 0 | AT62: =X62 -> 1 | AU62: =N62+W62 -> 1 | AV62: =AE62 -> 0 | AW62: =AC62+AD62 -> 0 | AX62: =AH62 -> 0 | AY62: =AF62+AG62 -> 0
A63: 4.4 | B63: Ծնողական իրավունքներից զրկելու վերաբերյալ | E63: 2 | G63: 2 | J63: 3 | K63: 2 | L63: 1 | N63: 1 | S63: 1 | U63: 1 | X63: 1 | AA63: 3 | AJ63: =E63 -> 2 | AK63: =F63+G63+H63+I63 -> 2 | AL63: =J63 -> 3 | AM63: =K63+L63+M63 -> 3 | AN63: =F63+G63+K63 -> 4 | AO63: =X63+Y63+AA63 -> 4 | AP63: =N63 -> 1 | AQ63: =O63+P63+Q63+R63+S63 -> 1 | AR63: =S63 -> 1 | AS63: =T63+U63+V63 -> 1 | AT63: =X63 -> 1 | AU63: =N63+W63 -> 1 | AV63: =AE63 -> 0 | AW63: =AC63+AD63 -> 0 | AX63: =AH63 -> 0 | AY63: =AF63+AG63 -> 0
A64: 4.5 | B64: Ծնողական իրավունքները վերականգնելու վերաբերյալ | AJ64: =E64 -> 0 | AK64: =F64+G64+H64+I64 -> 0 | AL64: =J64 -> 0 | AM64: =K64+L64+M64 -> 0 | AN64: =F64+G64+K64 -> 0 | AO64: =X64+Y64+AA64 -> 0 | AP64: =N64 -> 0 | AQ64: =O64+P64+Q64+R64+S64 -> 0 | AR64: =S64 -> 0 | AS64: =T64+U64+V64 -> 0 | AT64: =X64 -> 0 | AU64: =N64+W64 -> 0 | AV64: =AE64 -> 0 | AW64: =AC64+AD64 -> 0 | AX64: =AH64 -> 0 | AY64: =AF64+AG64 -> 0
A65: 4.6 | B65: Երեխայի որդեգրման վերաբերյալ | AJ65: =E65 -> 0 | AK65: =F65+G65+H65+I65 -> 0 | AL65: =J65 -> 0 | AM65: =K65+L65+M65 -> 0 | AN65: =F65+G65+K65 -> 0 | AO65: =X65+Y65+AA65 -> 0 | AP65: =N65 -> 0 | AQ65: =O65+P65+Q65+R65+S65 -> 0 | AR65: =S65 -> 0 | AS65: =T65+U65+V65 -> 0 | AT65: =X65 -> 0 | AU65: =N65+W65 -> 0 | AV65: =AE65 -> 0 | AW65: =AC65+AD65 -> 0 | AX65: =AH65 -> 0 | AY65: =AF65+AG65 -> 0
A66: 4.7 | B66: Երեխայի որդեգրումը վերացնելու վերաբերյալ | AJ66: =E66 -> 0 | AK66: =F66+G66+H66+I66 -> 0 | AL66: =J66 -> 0 | AM66: =K66+L66+M66 -> 0 | AN66: =F66+G66+K66 -> 0 | AO66: =X66+Y66+AA66 -> 0 | AP66: =N66 -> 0 | AQ66: =O66+P66+Q66+R66+S66 -> 0 | AR66: =S66 -> 0 | AS66: =T66+U66+V66 -> 0 | AT66: =X66 -> 0 | AU66: =N66+W66 -> 0 | AV66: =AE66 -> 0 | AW66: =AC66+AD66 -> 0 | AX66: =AH66 -> 0 | AY66: =AF66+AG66 -> 0
A67: 4.8 | B67: Հայրությունը ճանաչելու վերաբերյալ | E67: 1 | G67: 1 | J67: 4 | K67: 2 | L67: 2 | N67: 1 | O67: 1 | X67: 1 | AA67: 2 | AJ67: =E67 -> 1 | AK67: =F67+G67+H67+I67 -> 1 | AL67: =J67 -> 4 | AM67: =K67+L67+M67 -> 4 | AN67: =F67+G67+K67 -> 3 | AO67: =X67+Y67+AA67 -> 3 | AP67: =N67 -> 1 | AQ67: =O67+P67+Q67+R67+S67 -> 1 | AR67: =S67 -> 0 | AS67: =T67+U67+V67 -> 0 | AT67: =X67 -> 1 | AU67: =N67+W67 -> 1 | AV67: =AE67 -> 0 | AW67: =AC67+AD67 -> 0 | AX67: =AH67 -> 0 | AY67: =AF67+AG67 -> 0
A68: 4.9 | B68: Երեխայի բնակության վայրը որոշելու վերաբերյալ | J68: 3 | K68: 1 | L68: 2 | AA68: 1 | AJ68: =E68 -> 0 | AK68: =F68+G68+H68+I68 -> 0 | AL68: =J68 -> 3 | AM68: =K68+L68+M68 -> 3 | AN68: =F68+G68+K68 -> 1 | AO68: =X68+Y68+AA68 -> 1 | AP68: =N68 -> 0 | AQ68: =O68+P68+Q68+R68+S68 -> 0 | AR68: =S68 -> 0 | AS68: =T68+U68+V68 -> 0 | AT68: =X68 -> 0 | AU68: =N68+W68 -> 0 | AV68: =AE68 -> 0 | AW68: =AC68+AD68 -> 0 | AX68: =AH68 -> 0 | AY68: =AF68+AG68 -> 0
A69: 4.10 | B69: Երեխայի հետ տեսակցության կարգ սահմանելու վերաբերյալ | E69: 5 | F69: 1 | G69: 4 | J69: 9 | K69: 8 | L69: 1 | N69: 7 | O69: 2 | P69: 4 | S69: 1 | T69: 1 | X69: 7 | AA69: 6 | AB69: 1 | AF69: 1 | AH69: 1 | AJ69: =E69 -> 5 | AK69: =F69+G69+H69+I69 -> 5 | AL69: =J69 -> 9 | AM69: =K69+L69+M69 -> 9 | AN69: =F69+G69+K69 -> 13 | AO69: =X69+Y69+AA69 -> 13 | AP69: =N69 -> 7 | AQ69: =O69+P69+Q69+R69+S69 -> 7 | AR69: =S69 -> 1 | AS69: =T69+U69+V69 -> 1 | AT69: =X69 -> 7 | AU69: =N69+W69 -> 7 | AV69: =AE69 -> 0 | AW69: =AC69+AD69 -> 0 | AX69: =AH69 -> 1 | AY69: =AF69+AG69 -> 1
A70: 4.11 | B70: Ամուսինների ընդհանուր գույքը բաժանելու վերաբերյալ | E70: 1 | F70: 1 | AA70: 1 | AJ70: =E70 -> 1 | AK70: =F70+G70+H70+I70 -> 1 | AL70: =J70 -> 0 | AM70: =K70+L70+M70 -> 0 | AN70: =F70+G70+K70 -> 1 | AO70: =X70+Y70+AA70 -> 1 | AP70: =N70 -> 0 | AQ70: =O70+P70+Q70+R70+S70 -> 0 | AR70: =S70 -> 0 | AS70: =T70+U70+V70 -> 0 | AT70: =X70 -> 0 | AU70: =N70+W70 -> 0 | AV70: =AE70 -> 0 | AW70: =AC70+AD70 -> 0 | AX70: =AH70 -> 0 | AY70: =AF70+AG70 -> 0
A71: 4.12 | B71: Ամուսնական պայմանագրի փոփոխման կամ լուծման վերաբերյալ | AJ71: =E71 -> 0 | AK71: =F71+G71+H71+I71 -> 0 | AL71: =J71 -> 0 | AM71: =K71+L71+M71 -> 0 | AN71: =F71+G71+K71 -> 0 | AO71: =X71+Y71+AA71 -> 0 | AP71: =N71 -> 0 | AQ71: =O71+P71+Q71+R71+S71 -> 0 | AR71: =S71 -> 0 | AS71: =T71+U71+V71 -> 0 | AT71: =X71 -> 0 | AU71: =N71+W71 -> 0 | AV71: =AE71 -> 0 | AW71: =AC71+AD71 -> 0 | AX71: =AH71 -> 0 | AY71: =AF71+AG71 -> 0
A72: 4.13 | B72: Այլ վեճեր | E72: 4 | F72: 1 | G72: 3 | J72: 5 | K72: 3 | L72: 2 | N72: 2 | O72: 1 | Q72: 1 | X72: 2 | AA72: 5 | AB72: 1 | AJ72: =E72 -> 4 | AK72: =F72+G72+H72+I72 -> 4 | AL72: =J72 -> 5 | AM72: =K72+L72+M72 -> 5 | AN72: =F72+G72+K72 -> 7 | AO72: =X72+Y72+AA72 -> 7 | AP72: =N72 -> 2 | AQ72: =O72+P72+Q72+R72+S72 -> 2 | AR72: =S72 -> 0 | AS72: =T72+U72+V72 -> 0 | AT72: =X72 -> 2 | AU72: =N72+W72 -> 2 | AV72: =AE72 -> 0 | AW72: =AC72+AD72 -> 0 | AX72: =AH72 -> 0 | AY72: =AF72+AG72 -> 0
A73: 5. | B73: Մտավոր սեփականության հետ կապվածիրավահարաբերությունների վերաբերյալ դատական գործեր | E73: =SUM(E74:E79) -> 0 | F73: =SUM(F74:F79) -> 0 | G73: =SUM(G74:G79) -> 0 | H73: =SUM(H74:H79) -> 0 | I73: =SUM(I74:I79) -> 0 | J73: =SUM(J74:J79) -> 0 | K73: =SUM(K74:K79) -> 0 | L73: =SUM(L74:L79) -> 0 | ... AH73: =SUM(AH74:AH79) -> 0 | AJ73: =SUM(AJ74:AJ79) -> 0 | AK73: =SUM(AK74:AK79) -> 0 | AL73: =SUM(AL74:AL79) -> 0 | AM73: =SUM(AM74:AM79) -> 0 | AN73: =SUM(AN74:AN79) -> 0 | AO73: =SUM(AO74:AO79) -> 0 | AP73: =SUM(AP74:AP79) -> 0 | AQ73: =SUM(AQ74:AQ79) -> 0 | ... AX73: =SUM(AX74:AX79) -> 0 | AY73: =AF73+AG73 -> 0
A74: 5.1 | B74: Լիցենզային պայմանագրի լուծման, փոփոխման և անվավերության վերաբերյալ | AJ74: =E74 -> 0 | AK74: =F74+G74+H74+I74 -> 0 | AL74: =J74 -> 0 | AM74: =K74+L74+M74 -> 0 | AN74: =F74+G74+K74 -> 0 | AO74: =X74+Y74+AA74 -> 0 | AP74: =N74 -> 0 | AQ74: =O74+P74+Q74+R74+S74 -> 0 | AR74: =S74 -> 0 | AS74: =T74+U74+V74 -> 0 | AT74: =X74 -> 0 | AU74: =N74+W74 -> 0 | AV74: =AE74 -> 0 | AW74: =AC74+AD74 -> 0 | AX74: =AH74 -> 0 | AY74: =AF74+AG74 -> 0
A75: 5.2 | B75: Մտավոր գործունեության արդյունքներ ստեղծելու և օգտագործելու պայմանագրի լուծման, փոփոխման ու անվավերության վերաբերյալ | AJ75: =E75 -> 0 | AK75: =F75+G75+H75+I75 -> 0 | AL75: =J75 -> 0 | AM75: =K75+L75+M75 -> 0 | AN75: =F75+G75+K75 -> 0 | AO75: =X75+Y75+AA75 -> 0 | AP75: =N75 -> 0 | AQ75: =O75+P75+Q75+R75+S75 -> 0 | AR75: =S75 -> 0 | AS75: =T75+U75+V75 -> 0 | AT75: =X75 -> 0 | AU75: =N75+W75 -> 0 | AV75: =AE75 -> 0 | AW75: =AC75+AD75 -> 0 | AX75: =AH75 -> 0 | AY75: =AF75+AG75 -> 0
A76: 5.3 | B76: Հեղինակային և հարակից իրավունքների վերաբերյալ | AJ76: =E76 -> 0 | AK76: =F76+G76+H76+I76 -> 0 | AL76: =J76 -> 0 | AM76: =K76+L76+M76 -> 0 | AN76: =F76+G76+K76 -> 0 | AO76: =X76+Y76+AA76 -> 0 | AP76: =N76 -> 0 | AQ76: =O76+P76+Q76+R76+S76 -> 0 | AR76: =S76 -> 0 | AS76: =T76+U76+V76 -> 0 | AT76: =X76 -> 0 | AU76: =N76+W76 -> 0 | AV76: =AE76 -> 0 | AW76: =AC76+AD76 -> 0 | AX76: =AH76 -> 0 | AY76: =AF76+AG76 -> 0
A77: 5.4 | B77: Ֆիրմային անվանման վերաբերյալ | AJ77: =E77 -> 0 | AK77: =F77+G77+H77+I77 -> 0 | AL77: =J77 -> 0 | AM77: =K77+L77+M77 -> 0 | AN77: =F77+G77+K77 -> 0 | AO77: =X77+Y77+AA77 -> 0 | AP77: =N77 -> 0 | AQ77: =O77+P77+Q77+R77+S77 -> 0 | AR77: =S77 -> 0 | AS77: =T77+U77+V77 -> 0 | AT77: =X77 -> 0 | AU77: =N77+W77 -> 0 | AV77: =AE77 -> 0 | AW77: =AC77+AD77 -> 0 | AX77: =AH77 -> 0 | AY77: =AF77+AG77 -> 0
A78: 5.5 | B78: Ապրանքային նշանի վերաբերյալ | AJ78: =E78 -> 0 | AK78: =F78+G78+H78+I78 -> 0 | AL78: =J78 -> 0 | AM78: =K78+L78+M78 -> 0 | AN78: =F78+G78+K78 -> 0 | AO78: =X78+Y78+AA78 -> 0 | AP78: =N78 -> 0 | AQ78: =O78+P78+Q78+R78+S78 -> 0 | AR78: =S78 -> 0 | AS78: =T78+U78+V78 -> 0 | AT78: =X78 -> 0 | AU78: =N78+W78 -> 0 | AV78: =AE78 -> 0 | AW78: =AC78+AD78 -> 0 | AX78: =AH78 -> 0 | AY78: =AF78+AG78 -> 0
A79: 5.6 | B79: Այլ վեճեր | AJ79: =E79 -> 0 | AK79: =F79+G79+H79+I79 -> 0 | AL79: =J79 -> 0 | AM79: =K79+L79+M79 -> 0 | AN79: =F79+G79+K79 -> 0 | AO79: =X79+Y79+AA79 -> 0 | AP79: =N79 -> 0 | AQ79: =O79+P79+Q79+R79+S79 -> 0 | AR79: =S79 -> 0 | AS79: =T79+U79+V79 -> 0 | AT79: =X79 -> 0 | AU79: =N79+W79 -> 0 | AV79: =AE79 -> 0 | AW79: =AC79+AD79 -> 0 | AX79: =AH79 -> 0 | AY79: =AF79+AG79 -> 0
A80: 6. | B80: Աշխատանքային իրավահարաբերությունների վերաբերյալ դատական գործեր | E80: =SUM(E81:E86) -> 2 | F80: =SUM(F81:F86) -> 0 | G80: =SUM(G81:G86) -> 2 | H80: =SUM(H81:H86) -> 0 | I80: =SUM(I81:I86) -> 0 | J80: =SUM(J81:J86) -> 3 | K80: =SUM(K81:K86) -> 2 | L80: =SUM(L81:L86) -> 1 | ... AH80: =SUM(AH81:AH86) -> 0 | AJ80: =SUM(AJ81:AJ86) -> 2 | AK80: =SUM(AK81:AK86) -> 2 | AL80: =SUM(AL81:AL86) -> 3 | AM80: =SUM(AM81:AM86) -> 3 | AN80: =SUM(AN81:AN86) -> 4 | AO80: =SUM(AO81:AO86) -> 4 | AP80: =SUM(AP81:AP86) -> 0 | AQ80: =SUM(AQ81:AQ86) -> 0 | ... AY80: =SUM(AY81:AY86) -> 0
A81: 6.1 | B81: Աշխատանքային պայմանագրերի վերաբերյալ | AJ81: =E81 -> 0 | AK81: =F81+G81+H81+I81 -> 0 | AL81: =J81 -> 0 | AM81: =K81+L81+M81 -> 0 | AN81: =F81+G81+K81 -> 0 | AO81: =X81+Y81+AA81 -> 0 | AP81: =N81 -> 0 | AQ81: =O81+P81+Q81+R81+S81 -> 0 | AR81: =S81 -> 0 | AS81: =T81+U81+V81 -> 0 | AT81: =X81 -> 0 | AU81: =N81+W81 -> 0 | AV81: =AE81 -> 0 | AW81: =AC81+AD81 -> 0 | AX81: =AH81 -> 0 | AY81: =AF81+AG81 -> 0
A82: 6.2 | B82: Աշխատանքում վերականգնելու վերաբերյալ | AJ82: =E82 -> 0 | AK82: =F82+G82+H82+I82 -> 0 | AL82: =J82 -> 0 | AM82: =K82+L82+M82 -> 0 | AN82: =F82+G82+K82 -> 0 | AO82: =X82+Y82+AA82 -> 0 | AP82: =N82 -> 0 | AQ82: =O82+P82+Q82+R82+S82 -> 0 | AR82: =S82 -> 0 | AS82: =T82+U82+V82 -> 0 | AT82: =X82 -> 0 | AU82: =N82+W82 -> 0 | AV82: =AE82 -> 0 | AW82: =AC82+AD82 -> 0 | AX82: =AH82 -> 0 | AY82: =AF82+AG82 -> 0
A83: 6.3 | B83: Գործադուլն անօրինական ճանաչելու վերաբերյալ | AJ83: =E83 -> 0 | AK83: =F83+G83+H83+I83 -> 0 | AL83: =J83 -> 0 | AM83: =K83+L83+M83 -> 0 | AN83: =F83+G83+K83 -> 0 | AO83: =X83+Y83+AA83 -> 0 | AP83: =N83 -> 0 | AQ83: =O83+P83+Q83+R83+S83 -> 0 | AR83: =S83 -> 0 | AS83: =T83+U83+V83 -> 0 | AT83: =X83 -> 0 | AU83: =N83+W83 -> 0 | AV83: =AE83 -> 0 | AW83: =AC83+AD83 -> 0 | AX83: =AH83 -> 0 | AY83: =AF83+AG83 -> 0
A84: 6.4 | B84: Հարկադիր պարապուրդի հատուցման վերաբերյալ | E84: 1 | G84: 1 | AA84: 1 | AJ84: =E84 -> 1 | AK84: =F84+G84+H84+I84 -> 1 | AL84: =J84 -> 0 | AM84: =K84+L84+M84 -> 0 | AN84: =F84+G84+K84 -> 1 | AO84: =X84+Y84+AA84 -> 1 | AP84: =N84 -> 0 | AQ84: =O84+P84+Q84+R84+S84 -> 0 | AR84: =S84 -> 0 | AS84: =T84+U84+V84 -> 0 | AT84: =X84 -> 0 | AU84: =N84+W84 -> 0 | AV84: =AE84 -> 0 | AW84: =AC84+AD84 -> 0 | AX84: =AH84 -> 0 | AY84: =AF84+AG84 -> 0
A85: 6.5 | B85: Չվճարված աշխատավարձի և/կամ այլ վճարների բռնագանձման վերաբերյալ | J85: 3 | K85: 2 | L85: 1 | AA85: 2 | AJ85: =E85 -> 0 | AK85: =F85+G85+H85+I85 -> 0 | AL85: =J85 -> 3 | AM85: =K85+L85+M85 -> 3 | AN85: =F85+G85+K85 -> 2 | AO85: =X85+Y85+AA85 -> 2 | AP85: =N85 -> 0 | AQ85: =O85+P85+Q85+R85+S85 -> 0 | AR85: =S85 -> 0 | AS85: =T85+U85+V85 -> 0 | AT85: =X85 -> 0 | AU85: =N85+W85 -> 0 | AV85: =AE85 -> 0 | AW85: =AC85+AD85 -> 0 | AX85: =AH85 -> 0 | AY85: =AF85+AG85 -> 0
A86: 6.6 | B86: Այլ վեճեր | E86: 1 | G86: 1 | AA86: 1 | AJ86: =E86 -> 1 | AK86: =F86+G86+H86+I86 -> 1 | AL86: =J86 -> 0 | AM86: =K86+L86+M86 -> 0 | AN86: =F86+G86+K86 -> 1 | AO86: =X86+Y86+AA86 -> 1 | AP86: =N86 -> 0 | AQ86: =O86+P86+Q86+R86+S86 -> 0 | AR86: =S86 -> 0 | AS86: =T86+U86+V86 -> 0 | AT86: =X86 -> 0 | AU86: =N86+W86 -> 0 | AV86: =AE86 -> 0 | AW86: =AC86+AD86 -> 0 | AX86: =AH86 -> 0 | AY86: =AF86+AG86 -> 0
A87: 7. | B87: Իրավաբանական անձի գործունեությունից բխող իրավահարաբերությունների վերաբերյալ դատական գործեր | E87: =SUM(E88:E89) -> 0 | F87: =SUM(F88:F89) -> 0 | G87: =SUM(G88:G89) -> 0 | H87: =SUM(H88:H89) -> 0 | I87: =SUM(I88:I89) -> 0 | J87: =SUM(J88:J89) -> 0 | K87: =SUM(K88:K89) -> 0 | L87: =SUM(L88:L89) -> 0 | ... AH87: =SUM(AH88:AH89) -> 0 | AI87: =AI88+AI89 -> 0 | AJ87: =SUM(AJ88:AJ89) -> 0 | AK87: =SUM(AK88:AK89) -> 0 | AL87: =SUM(AL88:AL89) -> 0 | AM87: =SUM(AM88:AM89) -> 0 | AN87: =SUM(AN88:AN89) -> 0 | AO87: =SUM(AO88:AO89) -> 0 | AP87: =SUM(AP88:AP89) -> 0 | AQ87: =SUM(AQ88:AQ89) -> 0 | ... AY87: =SUM(AY88:AY89) -> 0
A88: 7.1 | B88: Կորպորատիվ վեճեր | AJ88: =E88 -> 0 | AK88: =F88+G88+H88+I88 -> 0 | AL88: =J88 -> 0 | AM88: =K88+L88+M88 -> 0 | AN88: =F88+G88+K88 -> 0 | AO88: =X88+Y88+AA88 -> 0 | AP88: =N88 -> 0 | AQ88: =O88+P88+Q88+R88+S88 -> 0 | AR88: =S88 -> 0 | AS88: =T88+U88+V88 -> 0 | AT88: =X88 -> 0 | AU88: =N88+W88 -> 0 | AV88: =AE88 -> 0 | AW88: =AC88+AD88 -> 0 | AX88: =AH88 -> 0 | AY88: =AF88+AG88 -> 0
A89: 7.2 | B89: Այլ վեճեր | AJ89: =E89 -> 0 | AK89: =F89+G89+H89+I89 -> 0 | AL89: =J89 -> 0 | AM89: =K89+L89+M89 -> 0 | AN89: =F89+G89+K89 -> 0 | AO89: =X89+Y89+AA89 -> 0 | AP89: =N89 -> 0 | AQ89: =O89+P89+Q89+R89+S89 -> 0 | AR89: =S89 -> 0 | AS89: =T89+U89+V89 -> 0 | AT89: =X89 -> 0 | AU89: =N89+W89 -> 0 | AV89: =AE89 -> 0 | AW89: =AC89+AD89 -> 0 | AX89: =AH89 -> 0 | AY89: =AF89+AG89 -> 0
A90: 8. | B90: Հատուկ վարույթի դատական գործեր | E90: =SUM(E91:E111) -> 48 | F90: =SUM(F91:F111) -> 11 | G90: =SUM(G91:G111) -> 37 | H90: =SUM(H91:H111) -> 0 | I90: =SUM(I91:I111) -> 0 | J90: =SUM(J91:J111) -> 70 | K90: =SUM(K91:K111) -> 47 | L90: =SUM(L91:L111) -> 22 | ... AH90: =SUM(AH91:AH111) -> 1 | AJ90: =SUM(AJ91:AJ111) -> 48 | AK90: =SUM(AK91:AK111) -> 48 | AL90: =SUM(AL91:AL111) -> 70 | AM90: =SUM(AM91:AM111) -> 70 | AN90: =SUM(AN91:AN111) -> 95 | AO90: =SUM(AO91:AO111) -> 95 | AP90: =SUM(AP91:AP111) -> 53 | AQ90: =SUM(AQ91:AQ111) -> 53 | ... AY90: =SUM(AY91:AY111) -> 1
A91: 8.1 | B91: Անչափահասին լրիվ գործունակ ճանաչելու /էմանսիպացիա/ վերաբերյալ | AJ91: =E91 -> 0 | AK91: =F91+G91+H91+I91 -> 0 | AL91: =J91 -> 0 | AM91: =K91+L91+M91 -> 0 | AN91: =F91+G91+K91 -> 0 | AO91: =X91+Y91+AA91 -> 0 | AP91: =N91 -> 0 | AQ91: =O91+P91+Q91+R91+S91 -> 0 | AR91: =S91 -> 0 | AS91: =T91+U91+V91 -> 0 | AT91: =X91 -> 0 | AU91: =N91+W91 -> 0 | AV91: =AE91 -> 0 | AW91: =AC91+AD91 -> 0 | AX91: =AH91 -> 0 | AY91: =AF91+AG91 -> 0
A92: 8.2 | B92: Քաղաքացուն անգործունակ կամ սահմանափակ գործունակ ճանաչելու վերաբերյալ | E92: 10 | F92: 8 | G92: 2 | J92: 10 | K92: 8 | L92: 2 | N92: 8 | O92: 7 | S92: 1 | U92: 1 | X92: 8 | Z92: 3 | AA92: 10 | AB92: 7 | AJ92: =E92 -> 10 | AK92: =F92+G92+H92+I92 -> 10 | AL92: =J92 -> 10 | AM92: =K92+L92+M92 -> 10 | AN92: =F92+G92+K92 -> 18 | AO92: =X92+Y92+AA92 -> 18 | AP92: =N92 -> 8 | AQ92: =O92+P92+Q92+R92+S92 -> 8 | AR92: =S92 -> 1 | AS92: =T92+U92+V92 -> 1 | AT92: =X92 -> 8 | AU92: =N92+W92 -> 8 | AV92: =AE92 -> 0 | AW92: =AC92+AD92 -> 0 | AX92: =AH92 -> 0 | AY92: =AF92+AG92 -> 0
A93: 8.3 | B93: Քաղաքացուն հոգեբուժական հիվանդանոցային հարկադիր բուժման ենթարկելու վերաբերյալ | AJ93: =E93 -> 0 | AK93: =F93+G93+H93+I93 -> 0 | AL93: =J93 -> 0 | AM93: =K93+L93+M93 -> 0 | AN93: =F93+G93+K93 -> 0 | AO93: =X93+Y93+AA93 -> 0 | AP93: =N93 -> 0 | AQ93: =O93+P93+Q93+R93+S93 -> 0 | AR93: =S93 -> 0 | AS93: =T93+U93+V93 -> 0 | AT93: =X93 -> 0 | AU93: =N93+W93 -> 0 | AV93: =AE93 -> 0 | AW93: =AC93+AD93 -> 0 | AX93: =AH93 -> 0 | AY93: =AF93+AG93 -> 0
A94: 8.4 | B94: Քաղաքացուն անհայտ բացակայող կամ մահացած ճանաչելու վերաբերյալ | E94: 1 | G94: 1 | J94: 9 | K94: 5 | L94: 4 | N94: 2 | O94: 1 | S94: 1 | U94: 1 | X94: 2 | AA94: 4 | AJ94: =E94 -> 1 | AK94: =F94+G94+H94+I94 -> 1 | AL94: =J94 -> 9 | AM94: =K94+L94+M94 -> 9 | AN94: =F94+G94+K94 -> 6 | AO94: =X94+Y94+AA94 -> 6 | AP94: =N94 -> 2 | AQ94: =O94+P94+Q94+R94+S94 -> 2 | AR94: =S94 -> 1 | AS94: =T94+U94+V94 -> 1 | AT94: =X94 -> 2 | AU94: =N94+W94 -> 2 | AV94: =AE94 -> 0 | AW94: =AC94+AD94 -> 0 | AX94: =AH94 -> 0 | AY94: =AF94+AG94 -> 0
A95: 8.5 | B95: Քաղաքացիական կացության ակտերի գրառումների անճշտությունները պարզելու վերաբերյալ | AJ95: =E95 -> 0 | AK95: =F95+G95+H95+I95 -> 0 | AL95: =J95 -> 0 | AM95: =K95+L95+M95 -> 0 | AN95: =F95+G95+K95 -> 0 | AO95: =X95+Y95+AA95 -> 0 | AP95: =N95 -> 0 | AQ95: =O95+P95+Q95+R95+S95 -> 0 | AR95: =S95 -> 0 | AS95: =T95+U95+V95 -> 0 | AT95: =X95 -> 0 | AU95: =N95+W95 -> 0 | AV95: =AE95 -> 0 | AW95: =AC95+AD95 -> 0 | AX95: =AH95 -> 0 | AY95: =AF95+AG95 -> 0
A96: 8.6 | B96: Գույքը տիրազուրկ ճանաչելու վերաբերյալ | E96: 3 | G96: 3 | J96: 2 | L96: 2 | N96: 3 | O96: 3 | X96: 3 | AC96: 1 | AE96: 1 | AJ96: =E96 -> 3 | AK96: =F96+G96+H96+I96 -> 3 | AL96: =J96 -> 2 | AM96: =K96+L96+M96 -> 2 | AN96: =F96+G96+K96 -> 3 | AO96: =X96+Y96+AA96 -> 3 | AP96: =N96 -> 3 | AQ96: =O96+P96+Q96+R96+S96 -> 3 | AR96: =S96 -> 0 | AS96: =T96+U96+V96 -> 0 | AT96: =X96 -> 3 | AU96: =N96+W96 -> 3 | AV96: =AE96 -> 1 | AW96: =AC96+AD96 -> 1 | AX96: =AH96 -> 0 | AY96: =AF96+AG96 -> 0
A97: 8.6.1 | B97: Այդ թվում՝ անշարժ գույքը | E97: 1 | G97: 1 | N97: 1 | O97: 1 | X97: 1 | AJ97: =E97 -> 1 | AK97: =F97+G97+H97+I97 -> 1 | AL97: =J97 -> 0 | AM97: =K97+L97+M97 -> 0 | AN97: =F97+G97+K97 -> 1 | AO97: =X97+Y97+AA97 -> 1 | AP97: =N97 -> 1 | AQ97: =O97+P97+Q97+R97+S97 -> 1 | AR97: =S97 -> 0 | AS97: =T97+U97+V97 -> 0 | AT97: =X97 -> 1 | AU97: =N97+W97 -> 1 | AV97: =AE97 -> 0 | AW97: =AC97+AD97 -> 0 | AX97: =AH97 -> 0 | AY97: =AF97+AG97 -> 0
A98: 8.6.2 | B98: Այդ թվում՝ շարժական գույքը | J98: 1 | K98: 1 | AA98: 1 | AJ98: =E98 -> 0 | AK98: =F98+G98+H98+I98 -> 0 | AL98: =J98 -> 1 | AM98: =K98+L98+M98 -> 1 | AN98: =F98+G98+K98 -> 1 | AO98: =X98+Y98+AA98 -> 1 | AP98: =N98 -> 0 | AQ98: =O98+P98+Q98+R98+S98 -> 0 | AR98: =S98 -> 0 | AS98: =T98+U98+V98 -> 0 | AT98: =X98 -> 0 | AU98: =N98+W98 -> 0 | AV98: =AE98 -> 0 | AW98: =AC98+AD98 -> 0 | AX98: =AH98 -> 0 | AY98: =AF98+AG98 -> 0
A99: 8.7 | B99: Իրավաբանական նշանակություն ունեցող փաստերի հաստատման վերաբերյալ | E99: 1 | G99: 1 | J99: 2 | K99: 2 | N99: 2 | O99: 1 | S99: 1 | U99: 1 | X99: 2 | Y99: 1 | AJ99: =E99 -> 1 | AK99: =F99+G99+H99+I99 -> 1 | AL99: =J99 -> 2 | AM99: =K99+L99+M99 -> 2 | AN99: =F99+G99+K99 -> 3 | AO99: =X99+Y99+AA99 -> 3 | AP99: =N99 -> 2 | AQ99: =O99+P99+Q99+R99+S99 -> 2 | AR99: =S99 -> 1 | AS99: =T99+U99+V99 -> 1 | AT99: =X99 -> 2 | AU99: =N99+W99 -> 2 | AV99: =AE99 -> 0 | AW99: =AC99+AD99 -> 0 | AX99: =AH99 -> 0 | AY99: =AF99+AG99 -> 0
A100: 8.7.1 | B100: Անձանց ազգակցական կապը հաստատելու վերաբերյալ | E100: 6 | G100: 6 | J100: 12 | K100: 9 | L100: 2 | M100: 1 | N100: 11 | O100: 8 | P100: 1 | S100: 2 | U100: 2 | X100: 11 | AA100: 4 | AJ100: =E100 -> 6 | AK100: =F100+G100+H100+I100 -> 6 | AL100: =J100 -> 12 | AM100: =K100+L100+M100 -> 12 | AN100: =F100+G100+K100 -> 15 | AO100: =X100+Y100+AA100 -> 15 | AP100: =N100 -> 11 | AQ100: =O100+P100+Q100+R100+S100 -> 11 | AR100: =S100 -> 2 | AS100: =T100+U100+V100 -> 2 | AT100: =X100 -> 11 | AU100: =N100+W100 -> 11 | AV100: =AE100 -> 0 | AW100: =AC100+AD100 -> 0 | AX100: =AH100 -> 0 | AY100: =AF100+AG100 -> 0
A101: 8.7.2 | B101: Անձի՝ ուրիշի խնամքի տակ գտնվելու վերաբերյալ | AJ101: =E101 -> 0 | AK101: =F101+G101+H101+I101 -> 0 | AL101: =J101 -> 0 | AM101: =K101+L101+M101 -> 0 | AN101: =F101+G101+K101 -> 0 | AO101: =X101+Y101+AA101 -> 0 | AP101: =N101 -> 0 | AQ101: =O101+P101+Q101+R101+S101 -> 0 | AR101: =S101 -> 0 | AS101: =T101+U101+V101 -> 0 | AT101: =X101 -> 0 | AU101: =N101+W101 -> 0 | AV101: =AE101 -> 0 | AW101: =AC101+AD101 -> 0 | AX101: =AH101 -> 0 | AY101: =AF101+AG101 -> 0
A102: 8.7.3 | B102: Ծննդյան, որդեգրման, ամուսնության, ապահարզանի և մահվան գրանցման վերաբերյալ | E102: 1 | G102: 1 | J102: 1 | K102: 1 | N102: 1 | O102: 1 | X102: 1 | AA102: 1 | AJ102: =E102 -> 1 | AK102: =F102+G102+H102+I102 -> 1 | AL102: =J102 -> 1 | AM102: =K102+L102+M102 -> 1 | AN102: =F102+G102+K102 -> 2 | AO102: =X102+Y102+AA102 -> 2 | AP102: =N102 -> 1 | AQ102: =O102+P102+Q102+R102+S102 -> 1 | AR102: =S102 -> 0 | AS102: =T102+U102+V102 -> 0 | AT102: =X102 -> 1 | AU102: =N102+W102 -> 1 | AV102: =AE102 -> 0 | AW102: =AC102+AD102 -> 0 | AX102: =AH102 -> 0 | AY102: =AF102+AG102 -> 0
A103: 8.7.4 | B103: Անձի՝ որոշակի ժամանակում և որոշակի հանգամանքներում մահվան վերաբերյալ | E103: 1 | G103: 1 | N103: 1 | O103: 1 | X103: 1 | AJ103: =E103 -> 1 | AK103: =F103+G103+H103+I103 -> 1 | AL103: =J103 -> 0 | AM103: =K103+L103+M103 -> 0 | AN103: =F103+G103+K103 -> 1 | AO103: =X103+Y103+AA103 -> 1 | AP103: =N103 -> 1 | AQ103: =O103+P103+Q103+R103+S103 -> 1 | AR103: =S103 -> 0 | AS103: =T103+U103+V103 -> 0 | AT103: =X103 -> 1 | AU103: =N103+W103 -> 1 | AV103: =AE103 -> 0 | AW103: =AC103+AD103 -> 0 | AX103: =AH103 -> 0 | AY103: =AF103+AG103 -> 0
A104: 8.7.5 | B104: Ժառանգությունն ընդունելու և ժառանգության բացման վայրի վերաբերյալ | E104: 17 | F104: 3 | G104: 14 | J104: 20 | K104: 13 | L104: 7 | N104: 14 | O104: 4 | P104: 3 | S104: 7 | T104: 5 | U104: 1 | V104: 1 | X104: 14 | Z104: 1 | AA104: 16 | AB104: 4 | AC104: 5 | AE104: 5 | AF104: 1 | AH104: 1 | AJ104: =E104 -> 17 | AK104: =F104+G104+H104+I104 -> 17 | AL104: =J104 -> 20 | AM104: =K104+L104+M104 -> 20 | AN104: =F104+G104+K104 -> 30 | AO104: =X104+Y104+AA104 -> 30 | AP104: =N104 -> 14 | AQ104: =O104+P104+Q104+R104+S104 -> 14 | AR104: =S104 -> 7 | AS104: =T104+U104+V104 -> 7 | AT104: =X104 -> 14 | AU104: =N104+W104 -> 14 | AV104: =AE104 -> 5 | AW104: =AC104+AD104 -> 5 | AX104: =AH104 -> 1 | AY104: =AF104+AG104 -> 1
A105: 8.7.6 | B105: Դժբախտ պատահարի վերաբերյալ | AJ105: =E105 -> 0 | AK105: =F105+G105+H105+I105 -> 0 | AL105: =J105 -> 0 | AM105: =K105+L105+M105 -> 0 | AN105: =F105+G105+K105 -> 0 | AO105: =X105+Y105+AA105 -> 0 | AP105: =N105 -> 0 | AQ105: =O105+P105+Q105+R105+S105 -> 0 | AR105: =S105 -> 0 | AS105: =T105+U105+V105 -> 0 | AT105: =X105 -> 0 | AU105: =N105+W105 -> 0 | AV105: =AE105 -> 0 | AW105: =AC105+AD105 -> 0 | AX105: =AH105 -> 0 | AY105: =AF105+AG105 -> 0
A106: 8.7.7 | B106: Իրավունք սահմանող փաստաթղթերի պատկանելության վերաբերյալ | E106: 7 | G106: 7 | J106: 13 | K106: 8 | L106: 5 | N106: 10 | O106: 8 | S106: 2 | U106: 2 | X106: 10 | AA106: 5 | AJ106: =E106 -> 7 | AK106: =F106+G106+H106+I106 -> 7 | AL106: =J106 -> 13 | AM106: =K106+L106+M106 -> 13 | AN106: =F106+G106+K106 -> 15 | AO106: =X106+Y106+AA106 -> 15 | AP106: =N106 -> 10 | AQ106: =O106+P106+Q106+R106+S106 -> 10 | AR106: =S106 -> 2 | AS106: =T106+U106+V106 -> 2 | AT106: =X106 -> 10 | AU106: =N106+W106 -> 10 | AV106: =AE106 -> 0 | AW106: =AC106+AD106 -> 0 | AX106: =AH106 -> 0 | AY106: =AF106+AG106 -> 0
A107: 8.7.8 | B107: Սեփականության իրավունքով գույքի տիրապետման վերաբերյալ | AJ107: =E107 -> 0 | AK107: =F107+G107+H107+I107 -> 0 | AL107: =J107 -> 0 | AM107: =K107+L107+M107 -> 0 | AN107: =F107+G107+K107 -> 0 | AO107: =X107+Y107+AA107 -> 0 | AP107: =N107 -> 0 | AQ107: =O107+P107+Q107+R107+S107 -> 0 | AR107: =S107 -> 0 | AS107: =T107+U107+V107 -> 0 | AT107: =X107 -> 0 | AU107: =N107+W107 -> 0 | AV107: =AE107 -> 0 | AW107: =AC107+AD107 -> 0 | AX107: =AH107 -> 0 | AY107: =AF107+AG107 -> 0
A108: 8.7.9 | B108: Անհաղթահարելի ուժի առկայության վերաբերյալ | AJ108: =E108 -> 0 | AK108: =F108+G108+H108+I108 -> 0 | AL108: =J108 -> 0 | AM108: =K108+L108+M108 -> 0 | AN108: =F108+G108+K108 -> 0 | AO108: =X108+Y108+AA108 -> 0 | AP108: =N108 -> 0 | AQ108: =O108+P108+Q108+R108+S108 -> 0 | AR108: =S108 -> 0 | AS108: =T108+U108+V108 -> 0 | AT108: =X108 -> 0 | AU108: =N108+W108 -> 0 | AV108: =AE108 -> 0 | AW108: =AC108+AD108 -> 0 | AX108: =AH108 -> 0 | AY108: =AF108+AG108 -> 0
A109: 8.7.10 | B109: Օրենքով նախատեսված այլ իրավաբանական փաստերի վերաբերյալ | AJ109: =E109 -> 0 | AK109: =F109+G109+H109+I109 -> 0 | AL109: =J109 -> 0 | AM109: =K109+L109+M109 -> 0 | AN109: =F109+G109+K109 -> 0 | AO109: =X109+Y109+AA109 -> 0 | AP109: =N109 -> 0 | AQ109: =O109+P109+Q109+R109+S109 -> 0 | AR109: =S109 -> 0 | AS109: =T109+U109+V109 -> 0 | AT109: =X109 -> 0 | AU109: =N109+W109 -> 0 | AV109: =AE109 -> 0 | AW109: =AC109+AD109 -> 0 | AX109: =AH109 -> 0 | AY109: =AF109+AG109 -> 0
A110: 8.8 | B110: Ըստ ներկայացնողի և օրդերային կորցրած արժեթղթերով հավաստված իրավունքները վերականգնելու վերաբերյալ | AJ110: =E110 -> 0 | AK110: =F110+G110+H110+I110 -> 0 | AL110: =J110 -> 0 | AM110: =K110+L110+M110 -> 0 | AN110: =F110+G110+K110 -> 0 | AO110: =X110+Y110+AA110 -> 0 | AP110: =N110 -> 0 | AQ110: =O110+P110+Q110+R110+S110 -> 0 | AR110: =S110 -> 0 | AS110: =T110+U110+V110 -> 0 | AT110: =X110 -> 0 | AU110: =N110+W110 -> 0 | AV110: =AE110 -> 0 | AW110: =AC110+AD110 -> 0 | AX110: =AH110 -> 0 | AY110: =AF110+AG110 -> 0
A111: 8.10 | B111: Այլ վեճեր | AJ111: =E111 -> 0 | AK111: =F111+G111+H111+I111 -> 0 | AL111: =J111 -> 0 | AM111: =K111+L111+M111 -> 0 | AN111: =F111+G111+K111 -> 0 | AO111: =X111+Y111+AA111 -> 0 | AP111: =N111 -> 0 | AQ111: =O111+P111+Q111+R111+S111 -> 0 | AR111: =S111 -> 0 | AS111: =T111+U111+V111 -> 0 | AT111: =X111 -> 0 | AU111: =N111+W111 -> 0 | AV111: =AE111 -> 0 | AW111: =AC111+AD111 -> 0 | AX111: =AH111 -> 0 | AY111: =AF111+AG111 -> 0
...

Sheet Kentron
A1: 2016թ. 1-ԻՆ ԿԻՍԱՄՅԱԿ | E1: ՀԱՇՎԵՏՎՈՒԹՅՈՒՆ | AC1: Հավելված Հայաստանի Հանրապետության Դատարանների նախագահների խորհրդի 25.08.2016թ. թիվ 44-Լ որոշման
A2: ԵՐԵՎԱՆ ՔԱՂԱՔԻ ԿԵՆՏՐՈՆ ԵՎ ՆՈՐՔ-ՄԱՐԱՇ ՎԱՐՉԱԿԱՆ ՇՐՋԱՆՆԵՐԻ ԸՆԴՀԱՆՈՒՐ ԻՐԱՎԱՍՈՒԹՅԱՆ ԱՌԱՋԻՆ ԱՏՅԱՆԻ ԴԱՏԱՐԱՆՈՒՄ ՔԱՂԱՔԱՑԻԱԿԱՆ ԳՈՐԾԵՐԻ ՔՆՆՈՒԹՅԱՆ ՎԵՐԱԲԵՐՅԱԼ
A3: Երևան քաղաքի Կենտրոն և Նորք- Մարաշ վարչական շրջանների ընդհանուր իրավասության առաջին ատյանի դատարանում քաղաքացիական մասնագիտացում ունեցող դատավորների հաստիքների քանակը` 9
A4: Ստուգիչ հավասարումներ՝ 1=2+3+4+5, 6=7+8+9, 2+3+7=20+21+23, 10=11+12+13+14+15, 15=16+17+18, 20=10+19, 27=25+26, 30=28+29 | E4: Հաշվետու ժամանակահատվածում նախորդ հաշվետու ժամանակահատվածից փոխանցված գործերի ընդհանուր թիվը | J4: Հաշվետու ժամանակահատվածումստացված գործերի (այդ թվում` հայցադիմումների, դիմումների) ընդհանուր թիվը | N4: Հաշվետու ժամանակահատվածում ավարտված գործերի ընդհանուր թիվը | Y4: Գործն ուղարկվել է ըստ ընդդատության | Z4: Հաշվետու ժամանակահատվածում կասեցված վարույթներով գործերի ընդհանուր թիվը | AA4: Հաշվետու ժամանակահատվածում անավարտ գործերի ընդհանուր թիվը | AB4: Այդ թվում՝ կասեցված | AC4: Բողոքարկված դատական ակտերի թիվը` ըստ տեսակների | AF4: Բեկանված դատական ակտերի թիվը` ըստ տեսակների
E7: Ընդամենը | F7: Այդ թվում`կասեցված վիճակում փոխանցված | G7: Այդ թվում՝ ընդունվել է վարույթ | H7: Այդ թվում՝ վերադարձվել է | I7: Այդ թվում՝ ընդունումը մերժվել է | J7: Ընդամենը | K7: Այդ թվում՝ ընդունվել է վարույթ | L7: Այդ թվում՝ վերադարձվել է | M7: Այդ թվում՝ ընդունումը մերժվել է | N7: Ընդամենը ավարտվել են գործեր գործն ըստ էության լուծող դատական ակտերի (վճիռների) կայացմամբ | O7: Այդ թվում՝ հայցի բավարարմամբ | P7: Այդ թվում՝ հայցի մասնակի բավարարմամբ | Q7: Այդ թվում՝ հայցի մերժմամբ | R7: Մասով կարճվել է, մասով մերժվել | S7: Այդ թվում՝ կարճվել են | W7: Հայցը թողնվել է առանց քննության | X7: Ընդամենն ավարտվել են գործեր | AC7: Այդ թվում` գործն ըստ էության լուծող դատական ակտեր | AD7: Այդ թվում` միջանկյալ դատական ակտեր | AE7: Ընդամենը | AF7: Այդ թվում` գործն ըստ էության լուծող դատական ակտեր | AG7: Այդ թվում` միջանկյալ դատական ակտեր | AH7: Ընդամենը
S10: Ընդամենը կարճվել են | T10: Այդ թվում՝ հաստատվել է կնքված հաշտության համաձայնությունը | U10: Այդ թվում՝ հացից, դիմումից հրաժարվելու հիմքով | V10: Այդ թվում՝ այլ հիմքով
A18: Քաղաքացիական գործերի դասակարգումը | E18: 1 | F18: 2 | G18: 3 | H18: 4 | I18: 5 | J18: 6 | K18: 7 | L18: 8 | M18: 9 | N18: 10 | O18: 11 | P18: 12 | Q18: 13 | R18: 14 | S18: 15 | T18: 16 | U18: 17 | V18: 18 | W18: 19 | X18: 20 | Y18: 21 | Z18: 22 | AA18: 23 | AB18: 24 | AC18: 25 | AD18: 26 | AE18: 27 | AF18: 28 | AG18: 29 | AH18: 30 | AJ18: 1=2+3+4+5 | AL18: 6=7+8+9 | AN18: 2+3+7=20+21+23 | AP18: 10=11+12+13+14+15 | AR18: 15=16+17+18 | AT18: 20=10+19 | AV18: 27=25+26 | AX18: 30=28+29
A19: 1. | B19: Գույքային իրավահարաբերությունների վերաբերյալ դատական գործեր | E19: =SUM(E20:E38) -> 479 | F19: =SUM(F20:F38) -> 115 | G19: =SUM(G20:G38) -> 364 | H19: =SUM(H20:H38) -> 0 | I19: =SUM(I20:I38) -> 0 | J19: =SUM(J20:J38) -> 151 | K19: =SUM(K20:K38) -> 138 | L19: =SUM(L20:L38) -> 13 | ... AH19: =SUM(AH20:AH38) -> 0 | AJ19: =SUM(AJ20:AJ38) -> 479 | AK19: =SUM(AK20:AK38) -> 479 | AL19: =SUM(AL20:AL38) -> 151 | AM19: =SUM(AM20:AM38) -> 151 | AN19: =SUM(AN20:AN38) -> 617 | AO19: =SUM(AO20:AO38) -> 617 | AP19: =SUM(AP20:AP38) -> 87 | AQ19: =SUM(AQ20:AQ38) -> 87 | ... AY19: =SUM(AY20:AY38) -> 0
A20: 1.1 | B20: Գույքի նկատմամբ սեփականության իրավունքը ճանաչելու վերաբերյալ | E20: 71 | F20: 15 | G20: 56 | J20: 22 | K20: 20 | L20: 2 | N20: 18 | O20: 3 | Q20: 11 | S20: 4 | U20: 4 | X20: 18 | Y20: 2 | Z20: 1 | AA20: 71 | AB20: 17 | AC20: 5 | AE20: 5 | AJ20: =E20 -> 71 | AK20: =F20+G20+H20+I20 -> 71 | AL20: =J20 -> 22 | AM20: =K20+L20+M20 -> 22 | AN20: =F20+G20+K20 -> 91 | AO20: =X20+Y20+AA20 -> 91 | AP20: =N20 -> 18 | AQ20: =O20+P20+Q20+R20+S20 -> 18 | AR20: =S20 -> 4 | AS20: =T20+U20+V20 -> 4 | AT20: =X20 -> 18 | AU20: =N20+W20 -> 18 | AV20: =AE20 -> 5 | AW20: =AC20+AD20 -> 5 | AX20: =AH20 -> 0 | AY20: =AF20+AG20 -> 0
A21: 1.1.1 | B21: Այդ թվում՝ ձեռքբերման վաղեմության ուժով | E21: 25 | F21: 1 | G21: 24 | J21: 6 | K21: 6 | N21: 11 | O21: 4 | Q21: 3 | S21: 4 | T21: 1 | U21: 3 | X21: 11 | AA21: 20 | AB21: 4 | AC21: 4 | AE21: 4 | AJ21: =E21 -> 25 | AK21: =F21+G21+H21+I21 -> 25 | AL21: =J21 -> 6 | AM21: =K21+L21+M21 -> 6 | AN21: =F21+G21+K21 -> 31 | AO21: =X21+Y21+AA21 -> 31 | AP21: =N21 -> 11 | AQ21: =O21+P21+Q21+R21+S21 -> 11 | AR21: =S21 -> 4 | AS21: =T21+U21+V21 -> 4 | AT21: =X21 -> 11 | AU21: =N21+W21 -> 11 | AV21: =AE21 -> 4 | AW21: =AC21+AD21 -> 4 | AX21: =AH21 -> 0 | AY21: =AF21+AG21 -> 0
A22: 1.1.2 | B22: Այդ թվում՝ տիրազուրկ գույքի նկատմամբ | AJ22: =E22 -> 0 | AK22: =F22+G22+H22+I22 -> 0 | AL22: =J22 -> 0 | AM22: =K22+L22+M22 -> 0 | AN22: =F22+G22+K22 -> 0 | AO22: =X22+Y22+AA22 -> 0 | AP22: =N22 -> 0 | AQ22: =O22+P22+Q22+R22+S22 -> 0 | AR22: =S22 -> 0 | AS22: =T22+U22+V22 -> 0 | AT22: =X22 -> 0 | AU22: =N22+W22 -> 0 | AV22: =AE22 -> 0 | AW22: =AC22+AD22 -> 0 | AX22: =AH22 -> 0 | AY22: =AF22+AG22 -> 0
A23: 1.1.3 | B23: Այդ թվում՝ ինքնակամ կառույցի նկատմամբ | AJ23: =E23 -> 0 | AK23: =F23+G23+H23+I23 -> 0 | AL23: =J23 -> 0 | AM23: =K23+L23+M23 -> 0 | AN23: =F23+G23+K23 -> 0 | AO23: =X23+Y23+AA23 -> 0 | AP23: =N23 -> 0 | AQ23: =O23+P23+Q23+R23+S23 -> 0 | AR23: =S23 -> 0 | AS23: =T23+U23+V23 -> 0 | AT23: =X23 -> 0 | AU23: =N23+W23 -> 0 | AV23: =AE23 -> 0 | AW23: =AC23+AD23 -> 0 | AX23: =AH23 -> 0 | AY23: =AF23+AG23 -> 0
A24: 1.2 | B24: Սեփականության իրավունքի դադարեցման վերաբերյալ | E24: 10 | F24: 1 | G24: 9 | J24: 9 | K24: 9 | N24: 2 | S24: 2 | U24: 2 | X24: 2 | AA24: 17 | AJ24: =E24 -> 10 | AK24: =F24+G24+H24+I24 -> 10 | AL24: =J24 -> 9 | AM24: =K24+L24+M24 -> 9 | AN24: =F24+G24+K24 -> 19 | AO24: =X24+Y24+AA24 -> 19 | AP24: =N24 -> 2 | AQ24: =O24+P24+Q24+R24+S24 -> 2 | AR24: =S24 -> 2 | AS24: =T24+U24+V24 -> 2 | AT24: =X24 -> 2 | AU24: =N24+W24 -> 2 | AV24: =AE24 -> 0 | AW24: =AC24+AD24 -> 0 | AX24: =AH24 -> 0 | AY24: =AF24+AG24 -> 0
A25: 1.3 | B25: Գույքի նկատմամբ օգտագործման իրավունքը ճանաչելու վերաբերյալ | E25: 1 | G25: 1 | J25: 1 | K25: 1 | AA25: 2 | AJ25: =E25 -> 1 | AK25: =F25+G25+H25+I25 -> 1 | AL25: =J25 -> 1 | AM25: =K25+L25+M25 -> 1 | AN25: =F25+G25+K25 -> 2 | AO25: =X25+Y25+AA25 -> 2 | AP25: =N25 -> 0 | AQ25: =O25+P25+Q25+R25+S25 -> 0 | AR25: =S25 -> 0 | AS25: =T25+U25+V25 -> 0 | AT25: =X25 -> 0 | AU25: =N25+W25 -> 0 | AV25: =AE25 -> 0 | AW25: =AC25+AD25 -> 0 | AX25: =AH25 -> 0 | AY25: =AF25+AG25 -> 0
A26: 1.3.1 | B26: Այդ թվում՝ բնակօգտագործման իրավունքը ճանաչելու վերաբերյալ | J26: 2 | K26: 1 | L26: 1 | AA26: 1 | AJ26: =E26 -> 0 | AK26: =F26+G26+H26+I26 -> 0 | AL26: =J26 -> 2 | AM26: =K26+L26+M26 -> 2 | AN26: =F26+G26+K26 -> 1 | AO26: =X26+Y26+AA26 -> 1 | AP26: =N26 -> 0 | AQ26: =O26+P26+Q26+R26+S26 -> 0 | AR26: =S26 -> 0 | AS26: =T26+U26+V26 -> 0 | AT26: =X26 -> 0 | AU26: =N26+W26 -> 0 | AV26: =AE26 -> 0 | AW26: =AC26+AD26 -> 0 | AX26: =AH26 -> 0 | AY26: =AF26+AG26 -> 0
A27: 1.3.2 | B27: Այդ թվում՝ հողամասի նկատմամբ օգտագործման իրավունքը ճանաչելու վերաբերյալ | AJ27: =E27 -> 0 | AK27: =F27+G27+H27+I27 -> 0 | AL27: =J27 -> 0 | AM27: =K27+L27+M27 -> 0 | AN27: =F27+G27+K27 -> 0 | AO27: =X27+Y27+AA27 -> 0 | AP27: =N27 -> 0 | AQ27: =O27+P27+Q27+R27+S27 -> 0 | AR27: =S27 -> 0 | AS27: =T27+U27+V27 -> 0 | AT27: =X27 -> 0 | AU27: =N27+W27 -> 0 | AV27: =AE27 -> 0 | AW27: =AC27+AD27 -> 0 | AX27: =AH27 -> 0 | AY27: =AF27+AG27 -> 0
A28: 1.4 | B28: Գույքի նկատմամբ օգտագործման իրավունքը դադարեցնելու վերաբերյալ | AJ28: =E28 -> 0 | AK28: =F28+G28+H28+I28 -> 0 | AL28: =J28 -> 0 | AM28: =K28+L28+M28 -> 0 | AN28: =F28+G28+K28 -> 0 | AO28: =X28+Y28+AA28 -> 0 | AP28: =N28 -> 0 | AQ28: =O28+P28+Q28+R28+S28 -> 0 | AR28: =S28 -> 0 | AS28: =T28+U28+V28 -> 0 | AT28: =X28 -> 0 | AU28: =N28+W28 -> 0 | AV28: =AE28 -> 0 | AW28: =AC28+AD28 -> 0 | AX28: =AH28 -> 0 | AY28: =AF28+AG28 -> 0
A29: 1.4.1 | B29: Այդ թվում՝ բնակօգտագործման իրավունքը դադարեցնելու վերաբերյալ | AJ29: =E29 -> 0 | AK29: =F29+G29+H29+I29 -> 0 | AL29: =J29 -> 0 | AM29: =K29+L29+M29 -> 0 | AN29: =F29+G29+K29 -> 0 | AO29: =X29+Y29+AA29 -> 0 | AP29: =N29 -> 0 | AQ29: =O29+P29+Q29+R29+S29 -> 0 | AR29: =S29 -> 0 | AS29: =T29+U29+V29 -> 0 | AT29: =X29 -> 0 | AU29: =N29+W29 -> 0 | AV29: =AE29 -> 0 | AW29: =AC29+AD29 -> 0 | AX29: =AH29 -> 0 | AY29: =AF29+AG29 -> 0
A30: 1.4.1/1 | B30: Այդ թվում՝ փոխհատուցմամբ | AJ30: =E30 -> 0 | AK30: =F30+G30+H30+I30 -> 0 | AL30: =J30 -> 0 | AM30: =K30+L30+M30 -> 0 | AN30: =F30+G30+K30 -> 0 | AO30: =X30+Y30+AA30 -> 0 | AP30: =N30 -> 0 | AQ30: =O30+P30+Q30+R30+S30 -> 0 | AR30: =S30 -> 0 | AS30: =T30+U30+V30 -> 0 | AT30: =X30 -> 0 | AU30: =N30+W30 -> 0 | AV30: =AE30 -> 0 | AW30: =AC30+AD30 -> 0 | AX30: =AH30 -> 0 | AY30: =AF30+AG30 -> 0
A31: 1.5 | B31: Բնակարանից/ տարածքից/ վտարելու վերաբերյալ | E31: 23 | F31: 6 | G31: 17 | J31: 5 | K31: 4 | L31: 1 | N31: 4 | O31: 3 | P31: 1 | X31: 4 | Z31: 1 | AA31: 23 | AB31: 5 | AC31: 1 | AE31: 1 | AJ31: =E31 -> 23 | AK31: =F31+G31+H31+I31 -> 23 | AL31: =J31 -> 5 | AM31: =K31+L31+M31 -> 5 | AN31: =F31+G31+K31 -> 27 | AO31: =X31+Y31+AA31 -> 27 | AP31: =N31 -> 4 | AQ31: =O31+P31+Q31+R31+S31 -> 4 | AR31: =S31 -> 0 | AS31: =T31+U31+V31 -> 0 | AT31: =X31 -> 4 | AU31: =N31+W31 -> 4 | AV31: =AE31 -> 1 | AW31: =AC31+AD31 -> 1 | AX31: =AH31 -> 0 | AY31: =AF31+AG31 -> 0
A32: 1.6 | B32: Գույքն ուրիշի ապօրինի տիրապետումից ետ վերադարձնելու վերաբերյալ | E32: 26 | F32: 6 | G32: 20 | J32: 6 | K32: 6 | N32: 4 | O32: 1 | Q32: 1 | S32: 2 | U32: 2 | X32: 4 | Y32: 1 | AA32: 27 | AB32: 12 | AC32: 2 | AD32: 1 | AE32: 3 | AJ32: =E32 -> 26 | AK32: =F32+G32+H32+I32 -> 26 | AL32: =J32 -> 6 | AM32: =K32+L32+M32 -> 6 | AN32: =F32+G32+K32 -> 32 | AO32: =X32+Y32+AA32 -> 32 | AP32: =N32 -> 4 | AQ32: =O32+P32+Q32+R32+S32 -> 4 | AR32: =S32 -> 2 | AS32: =T32+U32+V32 -> 2 | AT32: =X32 -> 4 | AU32: =N32+W32 -> 4 | AV32: =AE32 -> 3 | AW32: =AC32+AD32 -> 3 | AX32: =AH32 -> 0 | AY32: =AF32+AG32 -> 0
A33: 1.6.1 | B33: Բարեխիղճ ձեռքբերողից իր գույքը հետ պահանջելու վերաբերյալ | AJ33: =E33 -> 0 | AK33: =F33+G33+H33+I33 -> 0 | AL33: =J33 -> 0 | AM33: =K33+L33+M33 -> 0 | AN33: =F33+G33+K33 -> 0 | AO33: =X33+Y33+AA33 -> 0 | AP33: =N33 -> 0 | AQ33: =O33+P33+Q33+R33+S33 -> 0 | AR33: =S33 -> 0 | AS33: =T33+U33+V33 -> 0 | AT33: =X33 -> 0 | AU33: =N33+W33 -> 0 | AV33: =AE33 -> 0 | AW33: =AC33+AD33 -> 0 | AX33: =AH33 -> 0 | AY33: =AF33+AG33 -> 0
A34: 1.7 | B34: Տիրապետումից զրկելու հետ չկապված իրավունքների խախտումը վերացնելու վերաբերյալ | E34: 1 | G34: 1 | J34: 1 | K34: 1 | AA34: 2 | AJ34: =E34 -> 1 | AK34: =F34+G34+H34+I34 -> 1 | AL34: =J34 -> 1 | AM34: =K34+L34+M34 -> 1 | AN34: =F34+G34+K34 -> 2 | AO34: =X34+Y34+AA34 -> 2 | AP34: =N34 -> 0 | AQ34: =O34+P34+Q34+R34+S34 -> 0 | AR34: =S34 -> 0 | AS34: =T34+U34+V34 -> 0 | AT34: =X34 -> 0 | AU34: =N34+W34 -> 0 | AV34: =AE34 -> 0 | AW34: =AC34+AD34 -> 0 | AX34: =AH34 -> 0 | AY34: =AF34+AG34 -> 0
A35: 1.8 | B35: Ընդհանուր բաժնային սեփականությունից բաժինն առանձնացնելու վերաբերյալ | E35: 110 | F35: 34 | G35: 76 | J35: 42 | K35: 40 | L35: 2 | N35: 10 | O35: 3 | P35: 1 | S35: 6 | U35: 6 | X35: 10 | Z35: 11 | AA35: 140 | AB35: 29 | AJ35: =E35 -> 110 | AK35: =F35+G35+H35+I35 -> 110 | AL35: =J35 -> 42 | AM35: =K35+L35+M35 -> 42 | AN35: =F35+G35+K35 -> 150 | AO35: =X35+Y35+AA35 -> 150 | AP35: =N35 -> 10 | AQ35: =O35+P35+Q35+R35+S35 -> 10 | AR35: =S35 -> 6 | AS35: =T35+U35+V35 -> 6 | AT35: =X35 -> 10 | AU35: =N35+W35 -> 10 | AV35: =AE35 -> 0 | AW35: =AC35+AD35 -> 0 | AX35: =AH35 -> 0 | AY35: =AF35+AG35 -> 0
A36: 1.8.1 | B36: Համատեղ սեփականության ներքո գտնվող գույքը բաժանելու և դրանից բաժինն առանձնացնելու վերաբերյալ | E36: 17 | F36: 5 | G36: 12 | J36: 1 | K36: 1 | N36: 1 | O36: 1 | X36: 1 | AA36: 17 | AB36: 3 | AJ36: =E36 -> 17 | AK36: =F36+G36+H36+I36 -> 17 | AL36: =J36 -> 1 | AM36: =K36+L36+M36 -> 1 | AN36: =F36+G36+K36 -> 18 | AO36: =X36+Y36+AA36 -> 18 | AP36: =N36 -> 1 | AQ36: =O36+P36+Q36+R36+S36 -> 1 | AR36: =S36 -> 0 | AS36: =T36+U36+V36 -> 0 | AT36: =X36 -> 1 | AU36: =N36+W36 -> 1 | AV36: =AE36 -> 0 | AW36: =AC36+AD36 -> 0 | AX36: =AH36 -> 0 | AY36: =AF36+AG36 -> 0
A37: 1.8.3 | B37: Գույքի վրա բռնագանձում տարածելու պահանջի մասին | E37: 17 | F37: 7 | G37: 10 | J37: 2 | K37: 1 | L37: 1 | N37: 1 | O37: 1 | X37: 1 | AA37: 17 | AB37: 5 | AJ37: =E37 -> 17 | AK37: =F37+G37+H37+I37 -> 17 | AL37: =J37 -> 2 | AM37: =K37+L37+M37 -> 2 | AN37: =F37+G37+K37 -> 18 | AO37: =X37+Y37+AA37 -> 18 | AP37: =N37 -> 1 | AQ37: =O37+P37+Q37+R37+S37 -> 1 | AR37: =S37 -> 0 | AS37: =T37+U37+V37 -> 0 | AT37: =X37 -> 1 | AU37: =N37+W37 -> 1 | AV37: =AE37 -> 0 | AW37: =AC37+AD37 -> 0 | AX37: =AH37 -> 0 | AY37: =AF37+AG37 -> 0
A38: 1.9 | B38: Այլ վեճեր | E38: 178 | F38: 40 | G38: 138 | J38: 54 | K38: 48 | L38: 6 | N38: 36 | O38: 10 | Q38: 15 | S38: 11 | T38: 3 | U38: 6 | V38: 2 | X38: 36 | Z38: 24 | AA38: 190 | AB38: 56 | AC38: 8 | AD38: 1 | AE38: 9 | AJ38: =E38 -> 178 | AK38: =F38+G38+H38+I38 -> 178 | AL38: =J38 -> 54 | AM38: =K38+L38+M38 -> 54 | AN38: =F38+G38+K38 -> 226 | AO38: =X38+Y38+AA38 -> 226 | AP38: =N38 -> 36 | AQ38: =O38+P38+Q38+R38+S38 -> 36 | AR38: =S38 -> 11 | AS38: =T38+U38+V38 -> 11 | AT38: =X38 -> 36 | AU38: =N38+W38 -> 36 | AV38: =AE38 -> 9 | AW38: =AC38+AD38 -> 9 | AX38: =AH38 -> 0 | AY38: =AF38+AG38 -> 0
A39: 2. | B39: Գործարքների հետ կապված իրավահարաբերությունների վերաբերյալ դատական գործեր | E39: =SUM(E40:E50) -> 436 | F39: =SUM(F40:F50) -> 96 | G39: =SUM(G40:G50) -> 340 | H39: =SUM(H40:H50) -> 0 | I39: =SUM(I40:I50) -> 0 | J39: =SUM(J40:J50) -> 139 | K39: =SUM(K40:K50) -> 117 | L39: =SUM(L40:L50) -> 22 | ... AH39: =SUM(AH40:AH50) -> 0 | AJ39: =E39 -> 436 | AK39: =F39+G39+H39+I39 -> 436 | AL39: =J39 -> 139 | AM39: =K39+L39+M39 -> 139 | AN39: =F39+G39+K39 -> 553 | AO39: =X39+Y39+AA39 -> 548 | AP39: =N39 -> 107 | AQ39: =O39+P39+Q39+R39+S39 -> 107 | AR39: =SUM(AR40:AR50) -> 37 | AS39: =SUM(AS40:AS50) -> 37 | AT39: =X39 -> 108 | AU39: =N39+W39 -> 108 | AV39: =AE39 -> 28 | AW39: =SUM(AW40:AW50) -> 28 | AX39: =SUM(AX40:AX50) -> 0 | AY39: =SUM(AY40:AY50) -> 0
A40: 2.1 | B40: գործարքների անվավերության հետ կապված վեճեր | E40: 25 | F40: 5 | G40: 20 | J40: 4 | K40: 4 | N40: 6 | P40: 1 | Q40: 4 | S40: 1 | U40: 1 | X40: 6 | Z40: 1 | AA40: 23 | AB40: 6 | AC40: 1 | AE40: 1 | AJ40: =E40 -> 25 | AK40: =F40+G40+H40+I40 -> 25 | AL40: =J40 -> 4 | AM40: =K40+L40+M40 -> 4 | AN40: =F40+G40+K40 -> 29 | AO40: =X40+Y40+AA40 -> 29 | AP40: =N40 -> 6 | AQ40: =O40+P40+Q40+R40+S40 -> 6 | AR40: =S40 -> 1 | AS40: =T40+U40+V40 -> 1 | AT40: =X40 -> 6 | AU40: =N40+W40 -> 6 | AV40: =AE40 -> 1 | AW40: =AC40+AD40 -> 1 | AX40: =AH40 -> 0 | AY40: =AF40+AG40 -> 0
A41: 2.1.1 | B41: այդ թվում` վիճահարույց գործարքներն անվավեր ճանաչելու վերաբերյալ | AJ41: =E41 -> 0 | AK41: =F41+G41+H41+I41 -> 0 | AL41: =J41 -> 0 | AM41: =K41+L41+M41 -> 0 | AN41: =F41+G41+K41 -> 0 | AO41: =X41+Y41+AA41 -> 0 | AP41: =N41 -> 0 | AQ41: =O41+P41+Q41+R41+S41 -> 0 | AR41: =S41 -> 0 | AS41: =T41+U41+V41 -> 0 | AT41: =X41 -> 0 | AU41: =N41+W41 -> 0 | AV41: =AE41 -> 0 | AW41: =AC41+AD41 -> 0 | AX41: =AH41 -> 0 | AY41: =AF41+AG41 -> 0
A42: 2.1.2 | B42: այդ թվում` գործարքի առոչնչության հետևանքներ կիրառելու վերաբերյալ | E42: 34 | F42: 3 | G42: 31 | J42: 13 | K42: 10 | L42: 3 | N42: 14 | O42: 3 | P42: 1 | Q42: 7 | S42: 3 | U42: 3 | X42: 14 | AA42: 30 | AB42: 2 | AC42: 5 | AE42: 5 | AJ42: =E42 -> 34 | AK42: =F42+G42+H42+I42 -> 34 | AL42: =J42 -> 13 | AM42: =K42+L42+M42 -> 13 | AN42: =F42+G42+K42 -> 44 | AO42: =X42+Y42+AA42 -> 44 | AP42: =N42 -> 14 | AQ42: =O42+P42+Q42+R42+S42 -> 14 | AR42: =S42 -> 3 | AS42: =T42+U42+V42 -> 3 | AT42: =X42 -> 14 | AU42: =N42+W42 -> 14 | AV42: =AE42 -> 5 | AW42: =AC42+AD42 -> 5 | AX42: =AH42 -> 0 | AY42: =AF42+AG42 -> 0
A43: 2.2 | B43: Գործարքը վավեր ճանաչելու վերաբերյալ | AJ43: =E43 -> 0 | AK43: =F43+G43+H43+I43 -> 0 | AL43: =J43 -> 0 | AM43: =K43+L43+M43 -> 0 | AN43: =F43+G43+K43 -> 0 | AO43: =X43+Y43+AA43 -> 0 | AP43: =N43 -> 0 | AQ43: =O43+P43+Q43+R43+S43 -> 0 | AR43: =S43 -> 0 | AS43: =T43+U43+V43 -> 0 | AT43: =X43 -> 0 | AU43: =N43+W43 -> 0 | AV43: =AE43 -> 0 | AW43: =AC43+AD43 -> 0 | AX43: =AH43 -> 0 | AY43: =AF43+AG43 -> 0
A44: 2.3 | B44: Գործարքից ծագող իրավունքները գրանցելու վերաբերյալ | AJ44: =E44 -> 0 | AK44: =F44+G44+H44+I44 -> 0 | AL44: =J44 -> 0 | AM44: =K44+L44+M44 -> 0 | AN44: =F44+G44+K44 -> 0 | AO44: =X44+Y44+AA44 -> 0 | AP44: =N44 -> 0 | AQ44: =O44+P44+Q44+R44+S44 -> 0 | AR44: =S44 -> 0 | AS44: =T44+U44+V44 -> 0 | AT44: =X44 -> 0 | AU44: =N44+W44 -> 0 | AV44: =AE44 -> 0 | AW44: =AC44+AD44 -> 0 | AX44: =AH44 -> 0 | AY44: =AF44+AG44 -> 0
A45: 2.4 | B45: Պայմանագիրն անվավեր ճանաչելու վերաբերյալ | E45: 156 | F45: 26 | G45: 130 | J45: 59 | K45: 52 | L45: 7 | N45: 41 | O45: 4 | Q45: 24 | R45: 1 | S45: 12 | U45: 12 | X45: 41 | Y45: 1 | Z45: 8 | AA45: 166 | AB45: 27 | AC45: 10 | AD45: 1 | AE45: 11 | AJ45: =E45 -> 156 | AK45: =F45+G45+H45+I45 -> 156 | AL45: =J45 -> 59 | AM45: =K45+L45+M45 -> 59 | AN45: =F45+G45+K45 -> 208 | AO45: =X45+Y45+AA45 -> 208 | AP45: =N45 -> 41 | AQ45: =O45+P45+Q45+R45+S45 -> 41 | AR45: =S45 -> 12 | AS45: =T45+U45+V45 -> 12 | AT45: =X45 -> 41 | AU45: =N45+W45 -> 41 | AV45: =AE45 -> 11 | AW45: =AC45+AD45 -> 11 | AX45: =AH45 -> 0 | AY45: =AF45+AG45 -> 0
A46: 2.5 | B46: Պայմանագրիը վավեր ճանաչելու վերաբերյալ | E46: 28 | F46: 2 | G46: 26 | J46: 6 | K46: 4 | L46: 2 | N46: 2 | P46: 1 | Q46: 1 | X46: 2 | AA46: 30 | AB46: 1 | AC46: 1 | AE46: 1 | AJ46: =E46 -> 28 | AK46: =F46+G46+H46+I46 -> 28 | AL46: =J46 -> 6 | AM46: =K46+L46+M46 -> 6 | AN46: =F46+G46+K46 -> 32 | AO46: =X46+Y46+AA46 -> 32 | AP46: =N46 -> 2 | AQ46: =O46+P46+Q46+R46+S46 -> 2 | AR46: =S46 -> 0 | AS46: =T46+U46+V46 -> 0 | AT46: =X46 -> 2 | AU46: =N46+W46 -> 2 | AV46: =AE46 -> 1 | AW46: =AC46+AD46 -> 1 | AX46: =AH46 -> 0 | AY46: =AF46+AG46 -> 0
A47: 2.6 | B47: Պայմանագրից ծագող իրավունքները գրանցելու վերաբերյալ | AJ47: =E47 -> 0 | AK47: =F47+G47+H47+I47 -> 0 | AL47: =J47 -> 0 | AM47: =K47+L47+M47 -> 0 | AN47: =F47+G47+K47 -> 0 | AO47: =X47+Y47+AA47 -> 0 | AP47: =N47 -> 0 | AQ47: =O47+P47+Q47+R47+S47 -> 0 | AR47: =S47 -> 0 | AS47: =T47+U47+V47 -> 0 | AT47: =X47 -> 0 | AU47: =N47+W47 -> 0 | AV47: =AE47 -> 0 | AW47: =AC47+AD47 -> 0 | AX47: =AH47 -> 0 | AY47: =AF47+AG47 -> 0
A48: 2.7 | B48: Պայմանագիրը փոփոխելու և լուծելու վերաբերյալ | E48: 46 | F48: 16 | G48: 30 | J48: 13 | K48: 10 | L48: 3 | N48: 11 | O48: 2 | S48: 9 | T48: 1 | U48: 4 | V48: 4 | X48: 11 | Z48: 1 | AA48: 40 | AB48: 12 | AC48: 2 | AE48: 2 | AJ48: =E48 -> 46 | AK48: =F48+G48+H48+I48 -> 46 | AL48: =J48 -> 13 | AM48: =K48+L48+M48 -> 13 | AN48: =F48+G48+K48 -> 56 | AO48: =X48+Y48+AA48 -> 51 | AP48: =N48 -> 11 | AQ48: =O48+P48+Q48+R48+S48 -> 11 | AR48: =S48 -> 9 | AS48: =T48+U48+V48 -> 9 | AT48: =X48 -> 11 | AU48: =N48+W48 -> 11 | AV48: =AE48 -> 2 | AW48: =AC48+AD48 -> 2 | AX48: =AH48 -> 0 | AY48: =AF48+AG48 -> 0 | AZ48: 5 միացում
A49: 2.8 | B49: Պայմանագիր կնքելուն պարտավորեցնելու վերաբերյալ | E49: 63 | F49: 23 | G49: 40 | J49: 11 | K49: 6 | L49: 5 | N49: 11 | O49: 1 | Q49: 5 | S49: 5 | T49: 1 | U49: 3 | V49: 1 | X49: 11 | AA49: 58 | AB49: 21 | AC49: 1 | AE49: 1 | AJ49: =E49 -> 63 | AK49: =F49+G49+H49+I49 -> 63 | AL49: =J49 -> 11 | AM49: =K49+L49+M49 -> 11 | AN49: =F49+G49+K49 -> 69 | AO49: =X49+Y49+AA49 -> 69 | AP49: =N49 -> 11 | AQ49: =O49+P49+Q49+R49+S49 -> 11 | AR49: =S49 -> 5 | AS49: =T49+U49+V49 -> 5 | AT49: =X49 -> 11 | AU49: =N49+W49 -> 11 | AV49: =AE49 -> 1 | AW49: =AC49+AD49 -> 1 | AX49: =AH49 -> 0 | AY49: =AF49+AG49 -> 0
A50: 2.9 | B50: Այլ վեճեր | E50: 84 | F50: 21 | G50: 63 | J50: 33 | K50: 31 | L50: 2 | N50: 22 | O50: 6 | Q50: 9 | S50: 7 | T50: 2 | U50: 4 | V50: 1 | W50: 1 | X50: 23 | Z50: 1 | AA50: 92 | AB50: 20 | AC50: 7 | AE50: 7 | AJ50: =E50 -> 84 | AK50: =F50+G50+H50+I50 -> 84 | AL50: =J50 -> 33 | AM50: =K50+L50+M50 -> 33 | AN50: =F50+G50+K50 -> 115 | AO50: =X50+Y50+AA50 -> 115 | AP50: =N50 -> 22 | AQ50: =O50+P50+Q50+R50+S50 -> 22 | AR50: =S50 -> 7 | AS50: =T50+U50+V50 -> 7 | AT50: =X50 -> 23 | AU50: =N50+W50 -> 23 | AV50: =AE50 -> 7 | AW50: =AC50+AD50 -> 7 | AX50: =AH50 -> 0 | AY50: =AF50+AG50 -> 0
A51: 3. | B51: Ժառանգության հետ կապված իրավահարաբերությունների վերաբերյալ դատական գործեր | E51: =SUM(E52:E58) -> 46 | F51: =SUM(F52:F58) -> 9 | G51: =SUM(G52:G58) -> 37 | H51: =SUM(H52:H58) -> 0 | I51: =SUM(I52:I58) -> 0 | J51: =SUM(J52:J58) -> 20 | K51: =SUM(K52:K58) -> 18 | L51: =SUM(L52:L58) -> 2 | ... AH51: =SUM(AH52:AH58) -> 0 | AJ51: =E51 -> 46 | AK51: =F51+G51+H51+I51 -> 46 | AL51: =J51 -> 20 | AM51: =K51+L51+M51 -> 20 | AN51: =F51+G51+K51 -> 64 | AO51: =X51+Y51+AA51 -> 64 | AP51: =N51 -> 6 | AQ51: =O51+P51+Q51+R51+S51 -> 6 | AR51: =SUM(AR52:AR58) -> 0 | AS51: =SUM(AS52:AS58) -> 0 | AT51: =X51 -> 6 | AU51: =N51+W51 -> 6 | AV51: =AE51 -> 2 | AW51: =SUM(AW52:AW58) -> 2 | AX51: =SUM(AX52:AX58) -> 0 | AY51: =SUM(AY52:AY58) -> 0
A52: 3.1 | B52: Կտակն անվավեր ճանաչելու վերաբերյալ | E52: 2 | F52: 1 | G52: 1 | J52: 1 | K52: 1 | AA52: 3 | AB52: 1 | AJ52: =E52 -> 2 | AK52: =F52+G52+H52+I52 -> 2 | AL52: =J52 -> 1 | AM52: =K52+L52+M52 -> 1 | AN52: =F52+G52+K52 -> 3 | AO52: =X52+Y52+AA52 -> 3 | AP52: =N52 -> 0 | AQ52: =O52+P52+Q52+R52+S52 -> 0 | AR52: =S52 -> 0 | AS52: =T52+U52+V52 -> 0 | AT52: =X52 -> 0 | AU52: =N52+W52 -> 0 | AV52: =AE52 -> 0 | AW52: =AC52+AD52 -> 0 | AX52: =AH52 -> 0 | AY52: =AF52+AG52 -> 0
A53: 3.2 | B53: Անարժան ժառանգ ճանաչելու վերաբերյալ | AJ53: =E53 -> 0 | AK53: =F53+G53+H53+I53 -> 0 | AL53: =J53 -> 0 | AM53: =K53+L53+M53 -> 0 | AN53: =F53+G53+K53 -> 0 | AO53: =X53+Y53+AA53 -> 0 | AP53: =N53 -> 0 | AQ53: =O53+P53+Q53+R53+S53 -> 0 | AR53: =S53 -> 0 | AS53: =T53+U53+V53 -> 0 | AT53: =X53 -> 0 | AU53: =N53+W53 -> 0 | AV53: =AE53 -> 0 | AW53: =AC53+AD53 -> 0 | AX53: =AH53 -> 0 | AY53: =AF53+AG53 -> 0
A54: 3.3 | B54: Ժառանգությունը բաժանելու վերաբերյալ | AJ54: =E54 -> 0 | AK54: =F54+G54+H54+I54 -> 0 | AL54: =J54 -> 0 | AM54: =K54+L54+M54 -> 0 | AN54: =F54+G54+K54 -> 0 | AO54: =X54+Y54+AA54 -> 0 | AP54: =N54 -> 0 | AQ54: =O54+P54+Q54+R54+S54 -> 0 | AR54: =S54 -> 0 | AS54: =T54+U54+V54 -> 0 | AT54: =X54 -> 0 | AU54: =N54+W54 -> 0 | AV54: =AE54 -> 0 | AW54: =AC54+AD54 -> 0 | AX54: =AH54 -> 0 | AY54: =AF54+AG54 -> 0
A55: 3.4 | B55: Գույքն անժառանգ ճանաչելու վերաբերյալ | AJ55: =E55 -> 0 | AK55: =F55+G55+H55+I55 -> 0 | AL55: =J55 -> 0 | AM55: =K55+L55+M55 -> 0 | AN55: =F55+G55+K55 -> 0 | AO55: =X55+Y55+AA55 -> 0 | AP55: =N55 -> 0 | AQ55: =O55+P55+Q55+R55+S55 -> 0 | AR55: =S55 -> 0 | AS55: =T55+U55+V55 -> 0 | AT55: =X55 -> 0 | AU55: =N55+W55 -> 0 | AV55: =AE55 -> 0 | AW55: =AC55+AD55 -> 0 | AX55: =AH55 -> 0 | AY55: =AF55+AG55 -> 0
A56: 3.5 | B56: Ըստ օրենքի ժառանգության իրավունքի վկայագիրն անվավեր ճանաչելու վերաբերյալ | AJ56: =E56 -> 0 | AK56: =F56+G56+H56+I56 -> 0 | AL56: =J56 -> 0 | AM56: =K56+L56+M56 -> 0 | AN56: =F56+G56+K56 -> 0 | AO56: =X56+Y56+AA56 -> 0 | AP56: =N56 -> 0 | AQ56: =O56+P56+Q56+R56+S56 -> 0 | AR56: =S56 -> 0 | AS56: =T56+U56+V56 -> 0 | AT56: =X56 -> 0 | AU56: =N56+W56 -> 0 | AV56: =AE56 -> 0 | AW56: =AC56+AD56 -> 0 | AX56: =AH56 -> 0 | AY56: =AF56+AG56 -> 0
A57: 3.6 | B57: Ժառանգությունն ընդունելու բաց թողնված ժամկետը հարգելի համարելու վերաբերյալ | E57: 6 | G57: 6 | J57: 8 | K57: 7 | L57: 1 | N57: 2 | O57: 2 | X57: 2 | AA57: 11 | AJ57: =E57 -> 6 | AK57: =F57+G57+H57+I57 -> 6 | AL57: =J57 -> 8 | AM57: =K57+L57+M57 -> 8 | AN57: =F57+G57+K57 -> 13 | AO57: =X57+Y57+AA57 -> 13 | AP57: =N57 -> 2 | AQ57: =O57+P57+Q57+R57+S57 -> 2 | AR57: =S57 -> 0 | AS57: =T57+U57+V57 -> 0 | AT57: =X57 -> 2 | AU57: =N57+W57 -> 2 | AV57: =AE57 -> 0 | AW57: =AC57+AD57 -> 0 | AX57: =AH57 -> 0 | AY57: =AF57+AG57 -> 0
A58: 3.7 | B58: Այլ վեճեր | E58: 38 | F58: 8 | G58: 30 | J58: 11 | K58: 10 | L58: 1 | N58: 4 | O58: 1 | Q58: 3 | X58: 4 | AA58: 44 | AB58: 4 | AC58: 2 | AE58: 2 | AJ58: =E58 -> 38 | AK58: =F58+G58+H58+I58 -> 38 | AL58: =J58 -> 11 | AM58: =K58+L58+M58 -> 11 | AN58: =F58+G58+K58 -> 48 | AO58: =X58+Y58+AA58 -> 48 | AP58: =N58 -> 4 | AQ58: =O58+P58+Q58+R58+S58 -> 4 | AR58: =S58 -> 0 | AS58: =T58+U58+V58 -> 0 | AT58: =X58 -> 4 | AU58: =N58+W58 -> 4 | AV58: =AE58 -> 2 | AW58: =AC58+AD58 -> 2 | AX58: =AH58 -> 0 | AY58: =AF58+AG58 -> 0
A59: 4 | B59: Ընտանեկան իրավահարաբերությունների վերաբերյալ դատական գործեր | E59: =SUM(E60:E72) -> 138 | F59: =SUM(F60:F72) -> 14 | G59: =SUM(G60:G72) -> 124 | H59: =SUM(H60:H72) -> 0 | I59: =SUM(I60:I72) -> 0 | J59: =SUM(J60:J72) -> 105 | K59: =SUM(K60:K72) -> 98 | L59: =SUM(L60:L72) -> 7 | ... AH59: =SUM(AH60:AH72) -> 2 | AJ59: =E59 -> 138 | AK59: =F59+G59+H59+I59 -> 138 | AL59: =J59 -> 105 | AM59: =K59+L59+M59 -> 105 | AN59: =F59+G59+K59 -> 236 | AO59: =X59+Y59+AA59 -> 236 | AP59: =N59 -> 90 | AQ59: =O59+P59+Q59+R59+S59 -> 90 | AR59: =SUM(AR60:AR72) -> 11 | AS59: =SUM(AS60:AS72) -> 11 | AT59: =X59 -> 90 | AU59: =N59+W59 -> 90 | AV59: =AE59 -> 13 | AW59: =SUM(AW60:AW72) -> 13 | AX59: =SUM(AX60:AX72) -> 2 | AY59: =SUM(AY60:AY72) -> 2
A60: 4.1 | B60: Ամուսնալուծության վերաբերյալ | E60: 76 | F60: 6 | G60: 70 | J60: 45 | K60: 43 | L60: 2 | N60: 52 | O60: 35 | P60: 6 | Q60: 2 | S60: 9 | T60: 3 | U60: 6 | X60: 52 | AA60: 67 | AB60: 4 | AC60: 4 | AE60: 4 | AF60: 1 | AH60: 1 | AJ60: =E60 -> 76 | AK60: =F60+G60+H60+I60 -> 76 | AL60: =J60 -> 45 | AM60: =K60+L60+M60 -> 45 | AN60: =F60+G60+K60 -> 119 | AO60: =X60+Y60+AA60 -> 119 | AP60: =N60 -> 52 | AQ60: =O60+P60+Q60+R60+S60 -> 52 | AR60: =S60 -> 9 | AS60: =T60+U60+V60 -> 9 | AT60: =X60 -> 52 | AU60: =N60+W60 -> 52 | AV60: =AE60 -> 4 | AW60: =AC60+AD60 -> 4 | AX60: =AH60 -> 1 | AY60: =AF60+AG60 -> 1
A61: 4.2 | B61: Ալիմենտի պահանջի վերաբերյալ | E61: 22 | F61: 2 | G61: 20 | J61: 17 | K61: 15 | L61: 2 | N61: 7 | O61: 3 | P61: 4 | X61: 7 | AA61: 30 | AB61: 6 | AC61: 1 | AD61: 1 | AE61: 2 | AJ61: =E61 -> 22 | AK61: =F61+G61+H61+I61 -> 22 | AL61: =J61 -> 17 | AM61: =K61+L61+M61 -> 17 | AN61: =F61+G61+K61 -> 37 | AO61: =X61+Y61+AA61 -> 37 | AP61: =N61 -> 7 | AQ61: =O61+P61+Q61+R61+S61 -> 7 | AR61: =S61 -> 0 | AS61: =T61+U61+V61 -> 0 | AT61: =X61 -> 7 | AU61: =N61+W61 -> 7 | AV61: =AE61 -> 2 | AW61: =AC61+AD61 -> 2 | AX61: =AH61 -> 0 | AY61: =AF61+AG61 -> 0
A62: 4.3 | B62: Ալիմենտի չափը փոփոխելու վերաբերյալ | E62: 4 | F62: 1 | G62: 3 | J62: 3 | K62: 3 | N62: 1 | O62: 1 | X62: 1 | AA62: 6 | AB62: 1 | AC62: 1 | AD62: 1 | AE62: 2 | AJ62: =E62 -> 4 | AK62: =F62+G62+H62+I62 -> 4 | AL62: =J62 -> 3 | AM62: =K62+L62+M62 -> 3 | AN62: =F62+G62+K62 -> 7 | AO62: =X62+Y62+AA62 -> 7 | AP62: =N62 -> 1 | AQ62: =O62+P62+Q62+R62+S62 -> 1 | AR62: =S62 -> 0 | AS62: =T62+U62+V62 -> 0 | AT62: =X62 -> 1 | AU62: =N62+W62 -> 1 | AV62: =AE62 -> 2 | AW62: =AC62+AD62 -> 2 | AX62: =AH62 -> 0 | AY62: =AF62+AG62 -> 0
A63: 4.4 | B63: Ծնողական իրավունքներից զրկելու վերաբերյալ | E63: 4 | G63: 4 | N63: 1 | Q63: 1 | X63: 1 | AA63: 3 | AC63: 1 | AE63: 1 | AJ63: =E63 -> 4 | AK63: =F63+G63+H63+I63 -> 4 | AL63: =J63 -> 0 | AM63: =K63+L63+M63 -> 0 | AN63: =F63+G63+K63 -> 4 | AO63: =X63+Y63+AA63 -> 4 | AP63: =N63 -> 1 | AQ63: =O63+P63+Q63+R63+S63 -> 1 | AR63: =S63 -> 0 | AS63: =T63+U63+V63 -> 0 | AT63: =X63 -> 1 | AU63: =N63+W63 -> 1 | AV63: =AE63 -> 1 | AW63: =AC63+AD63 -> 1 | AX63: =AH63 -> 0 | AY63: =AF63+AG63 -> 0
A64: 4.5 | B64: Ծնողական իրավունքները վերականգնելու վերաբերյալ | AJ64: =E64 -> 0 | AK64: =F64+G64+H64+I64 -> 0 | AL64: =J64 -> 0 | AM64: =K64+L64+M64 -> 0 | AN64: =F64+G64+K64 -> 0 | AO64: =X64+Y64+AA64 -> 0 | AP64: =N64 -> 0 | AQ64: =O64+P64+Q64+R64+S64 -> 0 | AR64: =S64 -> 0 | AS64: =T64+U64+V64 -> 0 | AT64: =X64 -> 0 | AU64: =N64+W64 -> 0 | AV64: =AE64 -> 0 | AW64: =AC64+AD64 -> 0 | AX64: =AH64 -> 0 | AY64: =AF64+AG64 -> 0
A65: 4.6 | B65: Երեխայի որդեգրման վերաբերյալ | E65: 2 | G65: 2 | J65: 20 | K65: 20 | N65: 20 | O65: 20 | X65: 20 | AA65: 2 | AJ65: =E65 -> 2 | AK65: =F65+G65+H65+I65 -> 2 | AL65: =J65 -> 20 | AM65: =K65+L65+M65 -> 20 | AN65: =F65+G65+K65 -> 22 | AO65: =X65+Y65+AA65 -> 22 | AP65: =N65 -> 20 | AQ65: =O65+P65+Q65+R65+S65 -> 20 | AR65: =S65 -> 0 | AS65: =T65+U65+V65 -> 0 | AT65: =X65 -> 20 | AU65: =N65+W65 -> 20 | AV65: =AE65 -> 0 | AW65: =AC65+AD65 -> 0 | AX65: =AH65 -> 0 | AY65: =AF65+AG65 -> 0
A66: 4.7 | B66: Երեխայի որդեգրումը վերացնելու վերաբերյալ | E66: 2 | G66: 2 | AA66: 2 | AJ66: =E66 -> 2 | AK66: =F66+G66+H66+I66 -> 2 | AL66: =J66 -> 0 | AM66: =K66+L66+M66 -> 0 | AN66: =F66+G66+K66 -> 2 | AO66: =X66+Y66+AA66 -> 2 | AP66: =N66 -> 0 | AQ66: =O66+P66+Q66+R66+S66 -> 0 | AR66: =S66 -> 0 | AS66: =T66+U66+V66 -> 0 | AT66: =X66 -> 0 | AU66: =N66+W66 -> 0 | AV66: =AE66 -> 0 | AW66: =AC66+AD66 -> 0 | AX66: =AH66 -> 0 | AY66: =AF66+AG66 -> 0
A67: 4.8 | B67: Հայրությունը ճանաչելու վերաբերյալ | E67: 3 | F67: 1 | G67: 2 | J67: 3 | K67: 2 | L67: 1 | AA67: 5 | AB67: 2 | AJ67: =E67 -> 3 | AK67: =F67+G67+H67+I67 -> 3 | AL67: =J67 -> 3 | AM67: =K67+L67+M67 -> 3 | AN67: =F67+G67+K67 -> 5 | AO67: =X67+Y67+AA67 -> 5 | AP67: =N67 -> 0 | AQ67: =O67+P67+Q67+R67+S67 -> 0 | AR67: =S67 -> 0 | AS67: =T67+U67+V67 -> 0 | AT67: =X67 -> 0 | AU67: =N67+W67 -> 0 | AV67: =AE67 -> 0 | AW67: =AC67+AD67 -> 0 | AX67: =AH67 -> 0 | AY67: =AF67+AG67 -> 0
A68: 4.9 | B68: Երեխայի բնակության վայրը որոշելու վերաբերյալ | E68: 2 | G68: 2 | J68: 2 | K68: 1 | L68: 1 | N68: 1 | S68: 1 | U68: 1 | X68: 1 | AA68: 2 | AJ68: =E68 -> 2 | AK68: =F68+G68+H68+I68 -> 2 | AL68: =J68 -> 2 | AM68: =K68+L68+M68 -> 2 | AN68: =F68+G68+K68 -> 3 | AO68: =X68+Y68+AA68 -> 3 | AP68: =N68 -> 1 | AQ68: =O68+P68+Q68+R68+S68 -> 1 | AR68: =S68 -> 1 | AS68: =T68+U68+V68 -> 1 | AT68: =X68 -> 1 | AU68: =N68+W68 -> 1 | AV68: =AE68 -> 0 | AW68: =AC68+AD68 -> 0 | AX68: =AH68 -> 0 | AY68: =AF68+AG68 -> 0
A69: 4.10 | B69: Երեխայի հետ տեսակցության կարգ սահմանելու վերաբերյալ | E69: 4 | G69: 4 | J69: 6 | K69: 6 | N69: 2 | O69: 1 | P69: 1 | X69: 2 | AA69: 8 | AB69: 1 | AC69: 1 | AE69: 1 | AJ69: =E69 -> 4 | AK69: =F69+G69+H69+I69 -> 4 | AL69: =J69 -> 6 | AM69: =K69+L69+M69 -> 6 | AN69: =F69+G69+K69 -> 10 | AO69: =X69+Y69+AA69 -> 10 | AP69: =N69 -> 2 | AQ69: =O69+P69+Q69+R69+S69 -> 2 | AR69: =S69 -> 0 | AS69: =T69+U69+V69 -> 0 | AT69: =X69 -> 2 | AU69: =N69+W69 -> 2 | AV69: =AE69 -> 1 | AW69: =AC69+AD69 -> 1 | AX69: =AH69 -> 0 | AY69: =AF69+AG69 -> 0
A70: 4.11 | B70: Ամուսինների ընդհանուր գույքը բաժանելու վերաբերյալ | E70: 9 | F70: 3 | G70: 6 | J70: 3 | K70: 3 | N70: 2 | P70: 1 | Q70: 1 | X70: 2 | AA70: 10 | AB70: 3 | AC70: 1 | AE70: 1 | AF70: 1 | AH70: 1 | AJ70: =E70 -> 9 | AK70: =F70+G70+H70+I70 -> 9 | AL70: =J70 -> 3 | AM70: =K70+L70+M70 -> 3 | AN70: =F70+G70+K70 -> 12 | AO70: =X70+Y70+AA70 -> 12 | AP70: =N70 -> 2 | AQ70: =O70+P70+Q70+R70+S70 -> 2 | AR70: =S70 -> 0 | AS70: =T70+U70+V70 -> 0 | AT70: =X70 -> 2 | AU70: =N70+W70 -> 2 | AV70: =AE70 -> 1 | AW70: =AC70+AD70 -> 1 | AX70: =AH70 -> 1 | AY70: =AF70+AG70 -> 1
A71: 4.12 | B71: Ամուսնական պայմանագրի փոփոխման կամ լուծման վերաբերյալ | AJ71: =E71 -> 0 | AK71: =F71+G71+H71+I71 -> 0 | AL71: =J71 -> 0 | AM71: =K71+L71+M71 -> 0 | AN71: =F71+G71+K71 -> 0 | AO71: =X71+Y71+AA71 -> 0 | AP71: =N71 -> 0 | AQ71: =O71+P71+Q71+R71+S71 -> 0 | AR71: =S71 -> 0 | AS71: =T71+U71+V71 -> 0 | AT71: =X71 -> 0 | AU71: =N71+W71 -> 0 | AV71: =AE71 -> 0 | AW71: =AC71+AD71 -> 0 | AX71: =AH71 -> 0 | AY71: =AF71+AG71 -> 0
A72: 4.13 | B72: Այլ վեճեր | E72: 10 | F72: 1 | G72: 9 | J72: 6 | K72: 5 | L72: 1 | N72: 4 | O72: 1 | Q72: 2 | S72: 1 | V72: 1 | X72: 4 | AA72: 11 | AB72: 1 | AC72: 2 | AE72: 2 | AJ72: =E72 -> 10 | AK72: =F72+G72+H72+I72 -> 10 | AL72: =J72 -> 6 | AM72: =K72+L72+M72 -> 6 | AN72: =F72+G72+K72 -> 15 | AO72: =X72+Y72+AA72 -> 15 | AP72: =N72 -> 4 | AQ72: =O72+P72+Q72+R72+S72 -> 4 | AR72: =S72 -> 1 | AS72: =T72+U72+V72 -> 1 | AT72: =X72 -> 4 | AU72: =N72+W72 -> 4 | AV72: =AE72 -> 2 | AW72: =AC72+AD72 -> 2 | AX72: =AH72 -> 0 | AY72: =AF72+AG72 -> 0
A73: 5. | B73: Մտավոր սեփականության հետ կապվածիրավահարաբերությունների վերաբերյալ դատական գործեր | E73: =SUM(E74:E79) -> 7 | F73: =SUM(F74:F79) -> 0 | G73: =SUM(G74:G79) -> 7 | H73: =SUM(H74:H79) -> 0 | I73: =SUM(I74:I79) -> 0 | J73: =SUM(J74:J79) -> 2 | K73: =SUM(K74:K79) -> 1 | L73: =SUM(L74:L79) -> 1 | ... AH73: =SUM(AH74:AH79) -> 0 | AJ73: =E73 -> 7 | AK73: =F73+G73+H73+I73 -> 7 | AL73: =J73 -> 2 | AM73: =K73+L73+M73 -> 2 | AN73: =F73+G73+K73 -> 8 | AO73: =X73+Y73+AA73 -> 8 | AP73: =N73 -> 1 | AQ73: =O73+P73+Q73+R73+S73 -> 1 | AR73: =SUM(AR74:AR79) -> 0 | AS73: =SUM(AS74:AS79) -> 0 | AT73: =X73 -> 1 | AU73: =N73+W73 -> 1 | AV73: =AE73 -> 1 | AW73: =SUM(AW74:AW79) -> 1 | AX73: =SUM(AX74:AX79) -> 0 | AY73: =AF73+AG73 -> 0
A74: 5.1 | B74: Լիցենզային պայմանագրի լուծման, փոփոխման և անվավերության վերաբերյալ | AJ74: =E74 -> 0 | AK74: =F74+G74+H74+I74 -> 0 | AL74: =J74 -> 0 | AM74: =K74+L74+M74 -> 0 | AN74: =F74+G74+K74 -> 0 | AO74: =X74+Y74+AA74 -> 0 | AP74: =N74 -> 0 | AQ74: =O74+P74+Q74+R74+S74 -> 0 | AR74: =S74 -> 0 | AS74: =T74+U74+V74 -> 0 | AT74: =X74 -> 0 | AU74: =N74+W74 -> 0 | AV74: =AE74 -> 0 | AW74: =AC74+AD74 -> 0 | AX74: =AH74 -> 0 | AY74: =AF74+AG74 -> 0
A75: 5.2 | B75: Մտավոր գործունեության արդյունքներ ստեղծելու և օգտագործելու պայմանագրի լուծման, փոփոխման ու անվավերության վերաբերյալ | AJ75: =E75 -> 0 | AK75: =F75+G75+H75+I75 -> 0 | AL75: =J75 -> 0 | AM75: =K75+L75+M75 -> 0 | AN75: =F75+G75+K75 -> 0 | AO75: =X75+Y75+AA75 -> 0 | AP75: =N75 -> 0 | AQ75: =O75+P75+Q75+R75+S75 -> 0 | AR75: =T75 -> 0 | AS75: =U75+V75+W75 -> 0 | AT75: =X75 -> 0 | AU75: =N75+W75 -> 0 | AV75: =AE75 -> 0 | AW75: =AD75+AE75 -> 0 | AX75: =AH75 -> 0 | AY75: =AG75+AH75 -> 0
A76: 5.3 | B76: Հեղինակային և հարակից իրավունքների վերաբերյալ | E76: 5 | G76: 5 | J76: 2 | K76: 1 | L76: 1 | N76: 1 | P76: 1 | X76: 1 | Z76: 1 | AA76: 5 | AB76: 1 | AC76: 1 | AE76: 1 | AJ76: =E76 -> 5 | AK76: =F76+G76+H76+I76 -> 5 | AL76: =J76 -> 2 | AM76: =K76+L76+M76 -> 2 | AN76: =F76+G76+K76 -> 6 | AO76: =X76+Y76+AA76 -> 6 | AP76: =N76 -> 1 | AQ76: =O76+P76+Q76+R76+S76 -> 1 | AR76: =T76 -> 0 | AS76: =U76+V76+W76 -> 0 | AT76: =X76 -> 1 | AU76: =N76+W76 -> 1 | AV76: =AE76 -> 1 | AW76: =AD76+AE76 -> 1 | AX76: =AH76 -> 0 | AY76: =AG76+AH76 -> 0
A77: 5.4 | B77: Ֆիրմային անվանման վերաբերյալ | AJ77: =E77 -> 0 | AK77: =F77+G77+H77+I77 -> 0 | AL77: =J77 -> 0 | AM77: =K77+L77+M77 -> 0 | AN77: =F77+G77+K77 -> 0 | AO77: =X77+Y77+AA77 -> 0 | AP77: =N77 -> 0 | AQ77: =O77+P77+Q77+R77+S77 -> 0 | AR77: =T77 -> 0 | AS77: =U77+V77+W77 -> 0 | AT77: =X77 -> 0 | AU77: =N77+W77 -> 0 | AV77: =AE77 -> 0 | AW77: =AD77+AE77 -> 0 | AX77: =AH77 -> 0 | AY77: =AG77+AH77 -> 0
A78: 5.5 | B78: Ապրանքային նշանի վերաբերյալ | E78: 2 | G78: 2 | Z78: 1 | AA78: 2 | AB78: 1 | AJ78: =E78 -> 2 | AK78: =F78+G78+H78+I78 -> 2 | AL78: =J78 -> 0 | AM78: =K78+L78+M78 -> 0 | AN78: =F78+G78+K78 -> 2 | AO78: =X78+Y78+AA78 -> 2 | AP78: =N78 -> 0 | AQ78: =O78+P78+Q78+R78+S78 -> 0 | AR78: =T78 -> 0 | AS78: =U78+V78+W78 -> 0 | AT78: =X78 -> 0 | AU78: =N78+W78 -> 0 | AV78: =AE78 -> 0 | AW78: =AD78+AE78 -> 0 | AX78: =AH78 -> 0 | AY78: =AG78+AH78 -> 0
A79: 5.6 | B79: Այլ վեճեր | AJ79: =E79 -> 0 | AK79: =F79+G79+H79+I79 -> 0 | AL79: =J79 -> 0 | AM79: =K79+L79+M79 -> 0 | AN79: =F79+G79+K79 -> 0 | AO79: =X79+Y79+AA79 -> 0 | AP79: =N79 -> 0 | AQ79: =O79+P79+Q79+R79+S79 -> 0 | AR79: =T79 -> 0 | AS79: =U79+V79+W79 -> 0 | AT79: =X79 -> 0 | AU79: =N79+W79 -> 0 | AV79: =AE79 -> 0 | AW79: =AD79+AE79 -> 0 | AX79: =AH79 -> 0 | AY79: =AG79+AH79 -> 0
A80: 6. | B80: Աշխատանքային իրավահարաբերությունների վերաբերյալ դատական գործեր | E80: =SUM(E81:E86) -> 72 | F80: =SUM(F81:F86) -> 8 | G80: =SUM(G81:G86) -> 64 | H80: =SUM(H81:H86) -> 0 | I80: =SUM(I81:I86) -> 0 | J80: =SUM(J81:J86) -> 43 | K80: =SUM(K81:K86) -> 39 | L80: =SUM(L81:L86) -> 4 | ... AH80: =SUM(AH81:AH86) -> 0 | AJ80: =E80 -> 72 | AK80: =F80+G80+H80+I80 -> 72 | AL80: =J80 -> 43 | AM80: =K80+L80+M80 -> 43 | AN80: =F80+G80+K80 -> 111 | AO80: =X80+Y80+AA80 -> 110 | AP80: =N80 -> 24 | AQ80: =O80+P80+Q80+R80+S80 -> 24 | AR80: =SUM(AR81:AR86) -> 12 | AS80: =SUM(AS81:AS86) -> 12 | AT80: =X80 -> 24 | AU80: =N80+W80 -> 24 | AV80: =AE80 -> 6 | AW80: =SUM(AW81:AW86) -> 6 | AX80: =SUM(AX81:AX86) -> 0 | AY80: =SUM(AY81:AY86) -> 0
A81: 6.1 | B81: Աշխատանքային պայմանագրերի վերաբերյալ | E81: 2 | G81: 2 | J81: 1 | K81: 1 | AA81: 3 | AJ81: =E81 -> 2 | AK81: =F81+G81+H81+I81 -> 2 | AL81: =J81 -> 1 | AM81: =K81+L81+M81 -> 1 | AN81: =F81+G81+K81 -> 3 | AO81: =X81+Y81+AA81 -> 3 | AP81: =N81 -> 0 | AQ81: =O81+P81+Q81+R81+S81 -> 0 | AR81: =S81 -> 0 | AS81: =T81+U81+V81 -> 0 | AT81: =X81 -> 0 | AU81: =N81+W81 -> 0 | AV81: =AE81 -> 0 | AW81: =AC81+AD81 -> 0 | AX81: =AH81 -> 0 | AY81: =AF81+AG81 -> 0
A82: 6.2 | B82: Աշխատանքում վերականգնելու վերաբերյալ | E82: 25 | F82: 3 | G82: 22 | J82: 15 | K82: 15 | N82: 6 | P82: 2 | Q82: 3 | R82: 1 | X82: 6 | AA82: 33 | AB82: 1 | AC82: 3 | AE82: 3 | AJ82: =E82 -> 25 | AK82: =F82+G82+H82+I82 -> 25 | AL82: =J82 -> 15 | AM82: =K82+L82+M82 -> 15 | AN82: =F82+G82+K82 -> 40 | AO82: =X82+Y82+AA82 -> 39 | AP82: =N82 -> 6 | AQ82: =O82+P82+Q82+R82+S82 -> 6 | AR82: =S82 -> 0 | AS82: =T82+U82+V82 -> 0 | AT82: =X82 -> 6 | AU82: =N82+W82 -> 6 | AV82: =AE82 -> 3 | AW82: =AC82+AD82 -> 3 | AX82: =AH82 -> 0 | AY82: =AF82+AG82 -> 0 | AZ82: 1 միաց
A83: 6.3 | B83: Գործադուլն անօրինական ճանաչելու վերաբերյալ | AJ83: =E83 -> 0 | AK83: =F83+G83+H83+I83 -> 0 | AL83: =J83 -> 0 | AM83: =K83+L83+M83 -> 0 | AN83: =F83+G83+K83 -> 0 | AO83: =X83+Y83+AA83 -> 0 | AP83: =N83 -> 0 | AQ83: =O83+P83+Q83+R83+S83 -> 0 | AR83: =S83 -> 0 | AS83: =T83+U83+V83 -> 0 | AT83: =X83 -> 0 | AU83: =N83+W83 -> 0 | AV83: =AE83 -> 0 | AW83: =AC83+AD83 -> 0 | AX83: =AH83 -> 0 | AY83: =AF83+AG83 -> 0
A84: 6.4 | B84: Հարկադիր պարապուրդի հատուցման վերաբերյալ | AJ84: =E84 -> 0 | AK84: =F84+G84+H84+I84 -> 0 | AL84: =J84 -> 0 | AM84: =K84+L84+M84 -> 0 | AN84: =F84+G84+K84 -> 0 | AO84: =X84+Y84+AA84 -> 0 | AP84: =N84 -> 0 | AQ84: =O84+P84+Q84+R84+S84 -> 0 | AR84: =S84 -> 0 | AS84: =T84+U84+V84 -> 0 | AT84: =X84 -> 0 | AU84: =N84+W84 -> 0 | AV84: =AE84 -> 0 | AW84: =AC84+AD84 -> 0 | AX84: =AH84 -> 0 | AY84: =AF84+AG84 -> 0
A85: 6.5 | B85: Չվճարված աշխատավարձի և/կամ այլ վճարների բռնագանձման վերաբերյալ | E85: 38 | F85: 5 | G85: 33 | J85: 17 | K85: 14 | L85: 3 | N85: 14 | O85: 3 | Q85: 2 | S85: 9 | U85: 5 | V85: 4 | X85: 14 | Y85: 1 | AA85: 37 | AB85: 7 | AC85: 1 | AE85: 1 | AJ85: =E85 -> 38 | AK85: =F85+G85+H85+I85 -> 38 | AL85: =J85 -> 17 | AM85: =K85+L85+M85 -> 17 | AN85: =F85+G85+K85 -> 52 | AO85: =X85+Y85+AA85 -> 52 | AP85: =N85 -> 14 | AQ85: =O85+P85+Q85+R85+S85 -> 14 | AR85: =S85 -> 9 | AS85: =T85+U85+V85 -> 9 | AT85: =X85 -> 14 | AU85: =N85+W85 -> 14 | AV85: =AE85 -> 1 | AW85: =AC85+AD85 -> 1 | AX85: =AH85 -> 0 | AY85: =AF85+AG85 -> 0
A86: 6.6 | B86: Այլ վեճեր | E86: 7 | G86: 7 | J86: 10 | K86: 9 | L86: 1 | N86: 4 | Q86: 1 | S86: 3 | U86: 2 | V86: 1 | X86: 4 | Z86: 1 | AA86: 12 | AB86: 1 | AC86: 1 | AD86: 1 | AE86: 2 | AJ86: =E86 -> 7 | AK86: =F86+G86+H86+I86 -> 7 | AL86: =J86 -> 10 | AM86: =K86+L86+M86 -> 10 | AN86: =F86+G86+K86 -> 16 | AO86: =X86+Y86+AA86 -> 16 | AP86: =N86 -> 4 | AQ86: =O86+P86+Q86+R86+S86 -> 4 | AR86: =S86 -> 3 | AS86: =T86+U86+V86 -> 3 | AT86: =X86 -> 4 | AU86: =N86+W86 -> 4 | AV86: =AE86 -> 2 | AW86: =AC86+AD86 -> 2 | AX86: =AH86 -> 0 | AY86: =AF86+AG86 -> 0
A87: 7. | B87: Իրավաբանական անձի գործունեությունից բխող իրավահարաբերությունների վերաբերյալ դատական գործեր | E87: =SUM(E88:E89) -> 0 | F87: =SUM(F88:F89) -> 0 | G87: =SUM(G88:G89) -> 0 | H87: =SUM(H88:H89) -> 0 | I87: =SUM(I88:I89) -> 0 | J87: =SUM(J88:J89) -> 0 | K87: =SUM(K88:K89) -> 0 | L87: =SUM(L88:L89) -> 0 | ... AH87: =SUM(AH88:AH89) -> 0 | AI87: =AI88+AI89 -> 0 | AJ87: =E87 -> 0 | AK87: =F87+G87+H87+I87 -> 0 | AL87: =J87 -> 0 | AM87: =K87+L87+M87 -> 0 | AN87: =F87+G87+K87 -> 0 | AO87: =X87+Y87+AA87 -> 0 | AP87: =N87 -> 0 | AQ87: =O87+P87+Q87+R87+S87 -> 0 | AR87: =SUM(AR88:AR89) -> 0 | AS87: =SUM(AS88:AS89) -> 0 | AT87: =X87 -> 0 | AU87: =N87+W87 -> 0 | AV87: =AE87 -> 0 | AW87: =SUM(AW88:AW89) -> 0 | AX87: =SUM(AX88:AX89) -> 0 | AY87: =SUM(AY88:AY89) -> 0
A88: 7.1 | B88: Կորպորատիվ վեճեր | AJ88: =E88 -> 0 | AK88: =F88+G88+H88+I88 -> 0 | AL88: =J88 -> 0 | AM88: =K88+L88+M88 -> 0 | AN88: =F88+G88+K88 -> 0 | AO88: =X88+Y88+AA88 -> 0 | AP88: =N88 -> 0 | AQ88: =O88+P88+Q88+R88+S88 -> 0 | AR88: =S88 -> 0 | AS88: =T88+U88+V88 -> 0 | AT88: =X88 -> 0 | AU88: =N88+W88 -> 0 | AV88: =AE88 -> 0 | AW88: =AC88+AD88 -> 0 | AX88: =AH88 -> 0 | AY88: =AF88+AG88 -> 0
A89: 7.2 | B89: Այլ վեճեր | AJ89: =E89 -> 0 | AK89: =F89+G89+H89+I89 -> 0 | AL89: =J89 -> 0 | AM89: =K89+L89+M89 -> 0 | AN89: =F89+G89+K89 -> 0 | AO89: =X89+Y89+AA89 -> 0 | AP89: =N89 -> 0 | AQ89: =O89+P89+Q89+R89+S89 -> 0 | AR89: =S89 -> 0 | AS89: =T89+U89+V89 -> 0 | AT89: =X89 -> 0 | AU89: =N89+W89 -> 0 | AV89: =AE89 -> 0 | AW89: =AC89+AD89 -> 0 | AX89: =AH89 -> 0 | AY89: =AF89+AG89 -> 0
A90: 8. | B90: Հատուկ վարույթի դատական գործեր | E90: =SUM(E91:E111) -> 89 | F90: =SUM(F91:F111) -> 4 | G90: =SUM(G91:G111) -> 85 | H90: =SUM(H91:H111) -> 0 | I90: =SUM(I91:I111) -> 0 | J90: =SUM(J91:J111) -> 51 | K90: =SUM(K91:K111) -> 48 | L90: =SUM(L91:L111) -> 3 | ... AH90: =SUM(AH91:AH111) -> 2 | AJ90: =E90 -> 89 | AK90: =F90+G90+H90+I90 -> 89 | AL90: =J90 -> 51 | AM90: =K90+L90+M90 -> 51 | AN90: =F90+G90+K90 -> 137 | AO90: =X90+Y90+AA90 -> 137 | AP90: =N90 -> 59 | AQ90: =O90+P90+Q90+R90+S90 -> 59 | AR90: =SUM(AR91:AR111) -> 14 | AS90: =SUM(AS91:AS111) -> 14 | AT90: =X90 -> 60 | AU90: =N90+W90 -> 60 | AV90: =AE90 -> 6 | AW90: =SUM(AW91:AW111) -> 6 | AX90: =SUM(AX91:AX111) -> 2 | AY90: =SUM(AY91:AY111) -> 2
A91: 8.1 | B91: Անչափահասին լրիվ գործունակ ճանաչելու /էմանսիպացիա/ վերաբերյալ | AJ91: =E91 -> 0 | AK91: =F91+G91+H91+I91 -> 0 | AL91: =J91 -> 0 | AM91: =K91+L91+M91 -> 0 | AN91: =F91+G91+K91 -> 0 | AO91: =X91+Y91+AA91 -> 0 | AP91: =N91 -> 0 | AQ91: =O91+P91+Q91+R91+S91 -> 0 | AR91: =S91 -> 0 | AS91: =T91+U91+V91 -> 0 | AT91: =X91 -> 0 | AU91: =N91+W91 -> 0 | AV91: =AE91 -> 0 | AW91: =AC91+AD91 -> 0 | AX91: =AH91 -> 0 | AY91: =AF91+AG91 -> 0
A92: 8.2 | B92: Քաղաքացուն անգործունակ կամ սահմանափակ գործունակ ճանաչելու վերաբերյալ | E92: 18 | G92: 18 | J92: 9 | K92: 9 | N92: 9 | O92: 5 | S92: 4 | U92: 4 | X92: 9 | Z92: 5 | AA92: 18 | AB92: 8 | AJ92: =E92 -> 18 | AK92: =F92+G92+H92+I92 -> 18 | AL92: =J92 -> 9 | AM92: =K92+L92+M92 -> 9 | AN92: =F92+G92+K92 -> 27 | AO92: =X92+Y92+AA92 -> 27 | AP92: =N92 -> 9 | AQ92: =O92+P92+Q92+R92+S92 -> 9 | AR92: =S92 -> 4 | AS92: =T92+U92+V92 -> 4 | AT92: =X92 -> 9 | AU92: =N92+W92 -> 9 | AV92: =AE92 -> 0 | AW92: =AC92+AD92 -> 0 | AX92: =AH92 -> 0 | AY92: =AF92+AG92 -> 0
A93: 8.3 | B93: Քաղաքացուն հոգեբուժական հիվանդանոցային հարկադիր բուժման ենթարկելու վերաբերյալ | J93: 3 | K93: 3 | N93: 3 | O93: 1 | Q93: 2 | X93: 3 | AJ93: =E93 -> 0 | AK93: =F93+G93+H93+I93 -> 0 | AL93: =J93 -> 3 | AM93: =K93+L93+M93 -> 3 | AN93: =F93+G93+K93 -> 3 | AO93: =X93+Y93+AA93 -> 3 | AP93: =N93 -> 3 | AQ93: =O93+P93+Q93+R93+S93 -> 3 | AR93: =S93 -> 0 | AS93: =T93+U93+V93 -> 0 | AT93: =X93 -> 3 | AU93: =N93+W93 -> 3 | AV93: =AE93 -> 0 | AW93: =AC93+AD93 -> 0 | AX93: =AH93 -> 0 | AY93: =AF93+AG93 -> 0
A94: 8.4 | B94: Քաղաքացուն անհայտ բացակայող կամ մահացած ճանաչելու վերաբերյալ | E94: 15 | G94: 15 | J94: 5 | K94: 5 | N94: 10 | O94: 3 | Q94: 4 | S94: 3 | U94: 3 | X94: 10 | AA94: 10 | AB94: 1 | AD94: 1 | AE94: 1 | AG94: 1 | AH94: 1 | AJ94: =E94 -> 15 | AK94: =F94+G94+H94+I94 -> 15 | AL94: =J94 -> 5 | AM94: =K94+L94+M94 -> 5 | AN94: =F94+G94+K94 -> 20 | AO94: =X94+Y94+AA94 -> 20 | AP94: =N94 -> 10 | AQ94: =O94+P94+Q94+R94+S94 -> 10 | AR94: =S94 -> 3 | AS94: =T94+U94+V94 -> 3 | AT94: =X94 -> 10 | AU94: =N94+W94 -> 10 | AV94: =AE94 -> 1 | AW94: =AC94+AD94 -> 1 | AX94: =AH94 -> 1 | AY94: =AF94+AG94 -> 1
A95: 8.5 | B95: Քաղաքացիական կացության ակտերի գրառումների անճշտությունները պարզելու վերաբերյալ | E95: 1 | G95: 1 | N95: 1 | O95: 1 | X95: 1 | AJ95: =E95 -> 1 | AK95: =F95+G95+H95+I95 -> 1 | AL95: =J95 -> 0 | AM95: =K95+L95+M95 -> 0 | AN95: =F95+G95+K95 -> 1 | AO95: =X95+Y95+AA95 -> 1 | AP95: =N95 -> 1 | AQ95: =O95+P95+Q95+R95+S95 -> 1 | AR95: =S95 -> 0 | AS95: =T95+U95+V95 -> 0 | AT95: =X95 -> 1 | AU95: =N95+W95 -> 1 | AV95: =AE95 -> 0 | AW95: =AC95+AD95 -> 0 | AX95: =AH95 -> 0 | AY95: =AF95+AG95 -> 0
A96: 8.6 | B96: Գույքը տիրազուրկ ճանաչելու վերաբերյալ | E96: 8 | G96: 8 | J96: 5 | K96: 5 | N96: 7 | O96: 4 | Q96: 1 | S96: 2 | U96: 2 | X96: 7 | AA96: 6 | AB96: 1 | AC96: 1 | AE96: 1 | AJ96: =E96 -> 8 | AK96: =F96+G96+H96+I96 -> 8 | AL96: =J96 -> 5 | AM96: =K96+L96+M96 -> 5 | AN96: =F96+G96+K96 -> 13 | AO96: =X96+Y96+AA96 -> 13 | AP96: =N96 -> 7 | AQ96: =O96+P96+Q96+R96+S96 -> 7 | AR96: =S96 -> 2 | AS96: =T96+U96+V96 -> 2 | AT96: =X96 -> 7 | AU96: =N96+W96 -> 7 | AV96: =AE96 -> 1 | AW96: =AC96+AD96 -> 1 | AX96: =AH96 -> 0 | AY96: =AF96+AG96 -> 0
A97: 8.6.1 | B97: Այդ թվում՝ անշարժ գույքը | AJ97: =E97 -> 0 | AK97: =F97+G97+H97+I97 -> 0 | AL97: =J97 -> 0 | AM97: =K97+L97+M97 -> 0 | AN97: =F97+G97+K97 -> 0 | AO97: =X97+Y97+AA97 -> 0 | AP97: =N97 -> 0 | AQ97: =O97+P97+Q97+R97+S97 -> 0 | AR97: =S97 -> 0 | AS97: =T97+U97+V97 -> 0 | AT97: =X97 -> 0 | AU97: =N97+W97 -> 0 | AV97: =AE97 -> 0 | AW97: =AC97+AD97 -> 0 | AX97: =AH97 -> 0 | AY97: =AF97+AG97 -> 0
A98: 8.6.2 | B98: Այդ թվում՝ շարժական գույքը | AJ98: =E98 -> 0 | AK98: =F98+G98+H98+I98 -> 0 | AL98: =J98 -> 0 | AM98: =K98+L98+M98 -> 0 | AN98: =F98+G98+K98 -> 0 | AO98: =X98+Y98+AA98 -> 0 | AP98: =N98 -> 0 | AQ98: =O98+P98+Q98+R98+S98 -> 0 | AR98: =S98 -> 0 | AS98: =T98+U98+V98 -> 0 | AT98: =X98 -> 0 | AU98: =N98+W98 -> 0 | AV98: =AE98 -> 0 | AW98: =AC98+AD98 -> 0 | AX98: =AH98 -> 0 | AY98: =AF98+AG98 -> 0
A99: 8.7 | B99: Իրավաբանական նշանակություն ունեցող փաստերի հաստատման վերաբերյալ | E99: 24 | F99: 3 | G99: 21 | J99: 17 | K99: 15 | L99: 2 | N99: 17 | O99: 12 | P99: 1 | Q99: 1 | S99: 3 | U99: 3 | X99: 17 | AA99: 22 | AB99: 2 | AJ99: =E99 -> 24 | AK99: =F99+G99+H99+I99 -> 24 | AL99: =J99 -> 17 | AM99: =K99+L99+M99 -> 17 | AN99: =F99+G99+K99 -> 39 | AO99: =X99+Y99+AA99 -> 39 | AP99: =N99 -> 17 | AQ99: =O99+P99+Q99+R99+S99 -> 17 | AR99: =S99 -> 3 | AS99: =T99+U99+V99 -> 3 | AT99: =X99 -> 17 | AU99: =N99+W99 -> 17 | AV99: =AE99 -> 0 | AW99: =AC99+AD99 -> 0 | AX99: =AH99 -> 0 | AY99: =AF99+AG99 -> 0
A100: 8.7.1 | B100: Անձանց ազգակցական կապը հաստատելու վերաբերյալ | E100: 6 | G100: 6 | J100: 2 | K100: 2 | N100: 4 | O100: 4 | X100: 4 | AA100: 4 | AB100: 1 | AJ100: =E100 -> 6 | AK100: =F100+G100+H100+I100 -> 6 | AL100: =J100 -> 2 | AM100: =K100+L100+M100 -> 2 | AN100: =F100+G100+K100 -> 8 | AO100: =X100+Y100+AA100 -> 8 | AP100: =N100 -> 4 | AQ100: =O100+P100+Q100+R100+S100 -> 4 | AR100: =S100 -> 0 | AS100: =T100+U100+V100 -> 0 | AT100: =X100 -> 4 | AU100: =N100+W100 -> 4 | AV100: =AE100 -> 0 | AW100: =AC100+AD100 -> 0 | AX100: =AH100 -> 0 | AY100: =AF100+AG100 -> 0
A101: 8.7.2 | B101: Անձի՝ ուրիշի խնամքի տակ գտնվելու վերաբերյալ | AJ101: =E101 -> 0 | AK101: =F101+G101+H101+I101 -> 0 | AL101: =J101 -> 0 | AM101: =K101+L101+M101 -> 0 | AN101: =F101+G101+K101 -> 0 | AO101: =X101+Y101+AA101 -> 0 | AP101: =N101 -> 0 | AQ101: =O101+P101+Q101+R101+S101 -> 0 | AR101: =S101 -> 0 | AS101: =T101+U101+V101 -> 0 | AT101: =X101 -> 0 | AU101: =N101+W101 -> 0 | AV101: =AE101 -> 0 | AW101: =AC101+AD101 -> 0 | AX101: =AH101 -> 0 | AY101: =AF101+AG101 -> 0
A102: 8.7.3 | B102: Ծննդյան, որդեգրման, ամուսնության, ապահարզանի և մահվան գրանցման վերաբերյալ | E102: 1 | G102: 1 | J102: 2 | K102: 2 | AA102: 3 | AD102: 1 | AE102: 1 | AG102: 1 | AH102: 1 | AJ102: =E102 -> 1 | AK102: =F102+G102+H102+I102 -> 1 | AL102: =J102 -> 2 | AM102: =K102+L102+M102 -> 2 | AN102: =F102+G102+K102 -> 3 | AO102: =X102+Y102+AA102 -> 3 | AP102: =N102 -> 0 | AQ102: =O102+P102+Q102+R102+S102 -> 0 | AR102: =S102 -> 0 | AS102: =T102+U102+V102 -> 0 | AT102: =X102 -> 0 | AU102: =N102+W102 -> 0 | AV102: =AE102 -> 1 | AW102: =AC102+AD102 -> 1 | AX102: =AH102 -> 1 | AY102: =AF102+AG102 -> 1
A103: 8.7.4 | B103: Անձի՝ որոշակի ժամանակում և որոշակի հանգամանքներում մահվան վերաբերյալ | AJ103: =E103 -> 0 | AK103: =F103+G103+H103+I103 -> 0 | AL103: =J103 -> 0 | AM103: =K103+L103+M103 -> 0 | AN103: =F103+G103+K103 -> 0 | AO103: =X103+Y103+AA103 -> 0 | AP103: =N103 -> 0 | AQ103: =O103+P103+Q103+R103+S103 -> 0 | AR103: =S103 -> 0 | AS103: =T103+U103+V103 -> 0 | AT103: =X103 -> 0 | AU103: =N103+W103 -> 0 | AV103: =AE103 -> 0 | AW103: =AC103+AD103 -> 0 | AX103: =AH103 -> 0 | AY103: =AF103+AG103 -> 0
A104: 8.7.5 | B104: Ժառանգությունն ընդունելու և ժառանգության բացման վայրի վերաբերյալ | E104: 1 | G104: 1 | J104: 2 | K104: 2 | N104: 1 | S104: 1 | U104: 1 | W104: 1 | X104: 2 | AA104: 1 | AD104: 1 | AE104: 1 | AJ104: =E104 -> 1 | AK104: =F104+G104+H104+I104 -> 1 | AL104: =J104 -> 2 | AM104: =K104+L104+M104 -> 2 | AN104: =F104+G104+K104 -> 3 | AO104: =X104+Y104+AA104 -> 3 | AP104: =N104 -> 1 | AQ104: =O104+P104+Q104+R104+S104 -> 1 | AR104: =S104 -> 1 | AS104: =T104+U104+V104 -> 1 | AT104: =X104 -> 2 | AU104: =N104+W104 -> 2 | AV104: =AE104 -> 1 | AW104: =AC104+AD104 -> 1 | AX104: =AH104 -> 0 | AY104: =AF104+AG104 -> 0
A105: 8.7.6 | B105: Դժբախտ պատահարի վերաբերյալ | AJ105: =E105 -> 0 | AK105: =F105+G105+H105+I105 -> 0 | AL105: =J105 -> 0 | AM105: =K105+L105+M105 -> 0 | AN105: =F105+G105+K105 -> 0 | AO105: =X105+Y105+AA105 -> 0 | AP105: =N105 -> 0 | AQ105: =O105+P105+Q105+R105+S105 -> 0 | AR105: =S105 -> 0 | AS105: =T105+U105+V105 -> 0 | AT105: =X105 -> 0 | AU105: =N105+W105 -> 0 | AV105: =AE105 -> 0 | AW105: =AC105+AD105 -> 0 | AX105: =AH105 -> 0 | AY105: =AF105+AG105 -> 0
A106: 8.7.7 | B106: Իրավունք սահմանող փաստաթղթերի պատկանելության վերաբերյալ | E106: 5 | G106: 5 | N106: 3 | O106: 3 | X106: 3 | AA106: 2 | AJ106: =E106 -> 5 | AK106: =F106+G106+H106+I106 -> 5 | AL106: =J106 -> 0 | AM106: =K106+L106+M106 -> 0 | AN106: =F106+G106+K106 -> 5 | AO106: =X106+Y106+AA106 -> 5 | AP106: =N106 -> 3 | AQ106: =O106+P106+Q106+R106+S106 -> 3 | AR106: =S106 -> 0 | AS106: =T106+U106+V106 -> 0 | AT106: =X106 -> 3 | AU106: =N106+W106 -> 3 | AV106: =AE106 -> 0 | AW106: =AC106+AD106 -> 0 | AX106: =AH106 -> 0 | AY106: =AF106+AG106 -> 0
A107: 8.7.8 | B107: Սեփականության իրավունքով գույքի տիրապետման վերաբերյալ | E107: 5 | G107: 5 | J107: 2 | K107: 2 | N107: 2 | O107: 2 | X107: 2 | AA107: 5 | AB107: 2 | AC107: 1 | AE107: 1 | AJ107: =E107 -> 5 | AK107: =F107+G107+H107+I107 -> 5 | AL107: =J107 -> 2 | AM107: =K107+L107+M107 -> 2 | AN107: =F107+G107+K107 -> 7 | AO107: =X107+Y107+AA107 -> 7 | AP107: =N107 -> 2 | AQ107: =O107+P107+Q107+R107+S107 -> 2 | AR107: =S107 -> 0 | AS107: =T107+U107+V107 -> 0 | AT107: =X107 -> 2 | AU107: =N107+W107 -> 2 | AV107: =AE107 -> 1 | AW107: =AC107+AD107 -> 1 | AX107: =AH107 -> 0 | AY107: =AF107+AG107 -> 0
A108: 8.7.9 | B108: Անհաղթահարելի ուժի առկայության վերաբերյալ | AJ108: =E108 -> 0 | AK108: =F108+G108+H108+I108 -> 0 | AL108: =J108 -> 0 | AM108: =K108+L108+M108 -> 0 | AN108: =F108+G108+K108 -> 0 | AO108: =X108+Y108+AA108 -> 0 | AP108: =N108 -> 0 | AQ108: =O108+P108+Q108+R108+S108 -> 0 | AR108: =S108 -> 0 | AS108: =T108+U108+V108 -> 0 | AT108: =X108 -> 0 | AU108: =N108+W108 -> 0 | AV108: =AE108 -> 0 | AW108: =AC108+AD108 -> 0 | AX108: =AH108 -> 0 | AY108: =AF108+AG108 -> 0
A109: 8.7.10 | B109: Օրենքով նախատեսված այլ իրավաբանական փաստերի վերաբերյալ | AJ109: =E109 -> 0 | AK109: =F109+G109+H109+I109 -> 0 | AL109: =J109 -> 0 | AM109: =K109+L109+M109 -> 0 | AN109: =F109+G109+K109 -> 0 | AO109: =X109+Y109+AA109 -> 0 | AP109: =N109 -> 0 | AQ109: =O109+P109+Q109+R109+S109 -> 0 | AR109: =S109 -> 0 | AS109: =T109+U109+V109 -> 0 | AT109: =X109 -> 0 | AU109: =N109+W109 -> 0 | AV109: =AE109 -> 0 | AW109: =AC109+AD109 -> 0 | AX109: =AH109 -> 0 | AY109: =AF109+AG109 -> 0
A110: 8.8 | B110: Ըստ ներկայացնողի և օրդերային կորցրած արժեթղթերով հավաստված իրավունքները վերականգնելու վերաբերյալ | AJ110: =E110 -> 0 | AK110: =F110+G110+H110+I110 -> 0 | AL110: =J110 -> 0 | AM110: =K110+L110+M110 -> 0 | AN110: =F110+G110+K110 -> 0 | AO110: =X110+Y110+AA110 -> 0 | AP110: =N110 -> 0 | AQ110: =O110+P110+Q110+R110+S110 -> 0 | AR110: =S110 -> 0 | AS110: =T110+U110+V110 -> 0 | AT110: =X110 -> 0 | AU110: =N110+W110 -> 0 | AV110: =AE110 -> 0 | AW110: =AC110+AD110 -> 0 | AX110: =AH110 -> 0 | AY110: =AF110+AG110 -> 0
A111: 8.10 | B111: Այլ վեճեր | E111: 5 | F111: 1 | G111: 4 | J111: 4 | K111: 3 | L111: 1 | N111: 2 | O111: 1 | S111: 1 | T111: 1 | X111: 2 | AA111: 6 | AC111: 1 | AE111: 1 | AJ111: =E111 -> 5 | AK111: =F111+G111+H111+I111 -> 5 | AL111: =J111 -> 4 | AM111: =K111+L111+M111 -> 4 | AN111: =F111+G111+K111 -> 8 | AO111: =X111+Y111+AA111 -> 8 | AP111: =N111 -> 2 | AQ111: =O111+P111+Q111+R111+S111 -> 2 | AR111: =S111 -> 1 | AS111: =T111+U111+V111 -> 1 | AT111: =X111 -> 2 | AU111: =N111+W111 -> 2 | AV111: =AE111 -> 1 | AW111: =AC111+AD111 -> 1 | AX111: =AH111 -> 0 | AY111: =AF111+AG111 -> 0
...

Sheet Ajapnyak
A1: 2016թ. 1-ԻՆ ԿԻՍԱՄՅԱԿ | E1: ՀԱՇՎԵՏՎՈՒԹՅՈՒՆ | AC1: Հավելված Հայաստանի Հանրապետության Դատարանների նախագահների խորհրդի 25.08.2016թ. թիվ 44-Լ որոշման
A2: ԵՐԵՎԱՆ ՔԱՂԱՔԻ ԱՋԱՓՆՅԱԿ ԵՎ ԴԱՎԹԱՇԵՆ ՎԱՐՉԱԿԱՆ ՇՐՋԱՆՆԵՐԻ ԸՆԴՀԱՆՈՒՐ ԻՐԱՎԱՍՈՒԹՅԱՆ ԱՌԱՋԻՆ ԱՏՅԱՆԻ ԴԱՏԱՐԱՆՈՒՄ ՔԱՂԱՔԱՑԻԱԿԱՆ ԳՈՐԾԵՐԻ ՔՆՆՈՒԹՅԱՆ ՎԵՐԱԲԵՐՅԱԼ
A3: Երևան քաղաքի Աջափնյակ և Դավթաշեն վարչական շրջանների ընդհանուր իրավասության առաջին ատյանի դատարանում քաղաքացիական մասնագիտացում ունեցող դատավորների հաստիքների քանակը` 5
A4: Ստուգիչ հավասարումներ՝ 1=2+3+4+5, 6=7+8+9, 2+3+7=20+21+23, 10=11+12+13+14+15, 15=16+17+18, 20=10+19, 27=25+26, 30=28+29 | E4: Հաշվետու ժամանակահատվածում նախորդ հաշվետու ժամանակահատվածից փոխանցված գործերի ընդհանուր թիվը | J4: Հաշվետու ժամանակահատվածումստացված գործերի (այդ թվում` հայցադիմումների, դիմումների) ընդհանուր թիվը | N4: Հաշվետու ժամանակահատվածում ավարտված գործերի ընդհանուր թիվը | Y4: Գործն ուղարկվել է ըստ ընդդատության | Z4: Հաշվետու ժամանակահատվածում կասեցված վարույթներով գործերի ընդհանուր թիվը | AA4: Հաշվետու ժամանակահատվածում անավարտ գործերի ընդհանուր թիվը | AB4: Այդ թվում՝ կասեցված | AC4: Բողոքարկված դատական ակտերի թիվը` ըստ տեսակների | AF4: Բեկանված դատական ակտերի թիվը` ըստ տեսակների
E7: Ընդամենը | F7: Այդ թվում`կասեցված վիճակում փոխանցված | G7: Այդ թվում՝ ընդունվել է վարույթ | H7: Այդ թվում՝ վերադարձվել է | I7: Այդ թվում՝ ընդունումը մերժվել է | J7: Ընդամենը | K7: Այդ թվում՝ ընդունվել է վարույթ | L7: Այդ թվում՝ վերադարձվել է | M7: Այդ թվում՝ ընդունումը մերժվել է | N7: Ընդամենը ավարտվել են գործեր գործն ըստ էության լուծող դատական ակտերի (վճիռների) կայացմամբ | O7: Այդ թվում՝ հայցի բավարարմամբ | P7: Այդ թվում՝ հայցի մասնակի բավարարմամբ | Q7: Այդ թվում՝ հայցի մերժմամբ | R7: Մասով կարճվել է, մասով մերժվել | S7: Այդ թվում՝ կարճվել են | W7: Հայցը թողնվել է առանց քննության | X7: Ընդամենն ավարտվել են գործեր | AC7: Այդ թվում` գործն ըստ էության լուծող դատական ակտեր | AD7: Այդ թվում` միջանկյալ դատական ակտեր | AE7: Ընդամենը | AF7: Այդ թվում` գործն ըստ էության լուծող դատական ակտեր | AG7: Այդ թվում` միջանկյալ դատական ակտեր | AH7: Ընդամենը
S10: Ընդամենը կարճվել են | T10: Այդ թվում՝ հաստատվել է կնքված հաշտության համաձայնությունը | U10: Այդ թվում՝ հացից, դիմումից հրաժարվելու հիմքով | V10: Այդ թվում՝ այլ հիմքով
A18: Քաղաքացիական գործերի դասակարգումը | E18: 1 | F18: 2 | G18: 3 | H18: 4 | I18: 5 | J18: 6 | K18: 7 | L18: 8 | M18: 9 | N18: 10 | O18: 11 | P18: 12 | Q18: 13 | R18: 14 | S18: 15 | T18: 16 | U18: 17 | V18: 18 | W18: 19 | X18: 20 | Y18: 21 | Z18: 22 | AA18: 23 | AB18: 24 | AC18: 25 | AD18: 26 | AE18: 27 | AF18: 28 | AG18: 29 | AH18: 30 | AJ18: 1=2+3+4+5 | AL18: 6=7+8+9 | AN18: 2+3+7=20+21+23 | AP18: 10=11+12+13+14+15 | AR18: 15=16+17+18 | AT18: 20=10+19 | AV18: 27=25+26 | AX18: 30=28+29
A19: 1. | B19: Գույքային իրավահարաբերությունների վերաբերյալ դատական գործեր | E19: =SUM(E20:E38) -> 329 | F19: =SUM(F20:F38) -> 67 | G19: =SUM(G20:G38) -> 262 | H19: =SUM(H20:H38) -> 0 | I19: =SUM(I20:I38) -> 0 | J19: =SUM(J20:J38) -> 73 | K19: =SUM(K20:K38) -> 63 | L19: =SUM(L20:L38) -> 10 | ... AH19: =SUM(AH20:AH38) -> 1 | AJ19: =SUM(AJ20:AJ38) -> 329 | AK19: =SUM(AK20:AK38) -> 329 | AL19: =SUM(AL20:AL38) -> 73 | AM19: =SUM(AM20:AM38) -> 73 | AN19: =SUM(AN20:AN38) -> 392 | AO19: =SUM(AO20:AO38) -> 392 | AP19: =SUM(AP20:AP38) -> 48 | AQ19: =SUM(AQ20:AQ38) -> 48 | ... AY19: =SUM(AY20:AY38) -> 1
A20: 1.1 | B20: Գույքի նկատմամբ սեփականության իրավունքը ճանաչելու վերաբերյալ | E20: 32 | F20: 5 | G20: 27 | H20: 0 | I20: 0 | J20: 4 | K20: 3 | L20: 1 | M20: 0 | N20: 4 | O20: 1 | P20: 0 | Q20: 0 | R20: 0 | S20: 3 | T20: 0 | U20: 3 | V20: 0 | W20: 0 | X20: 4 | Y20: 0 | Z20: 0 | AA20: 31 | AB20: 4 | AC20: 0 | AD20: 0 | AE20: 0 | AF20: 0 | AG20: 0 | AH20: 0 | AJ20: =E20 -> 32 | AK20: =F20+G20+H20+I20 -> 32 | AL20: =J20 -> 4 | AM20: =K20+L20+M20 -> 4 | AN20: =F20+G20+K20 -> 35 | AO20: =X20+Y20+AA20 -> 35 | AP20: =N20 -> 4 | AQ20: =O20+P20+Q20+R20+S20 -> 4 | AR20: =S20 -> 3 | AS20: =T20+U20+V20 -> 3 | AT20: =X20 -> 4 | AU20: =N20+W20 -> 4 | AV20: =AE20 -> 0 | AW20: =AC20+AD20 -> 0 | AX20: =AH20 -> 0 | AY20: =AF20+AG20 -> 0
A21: 1.1.1 | B21: Այդ թվում՝ ձեռքբերման վաղեմության ուժով | E21: 24 | F21: 5 | G21: 19 | H21: 0 | I21: 0 | J21: 5 | K21: 5 | L21: 0 | M21: 0 | N21: 4 | O21: 0 | P21: 0 | Q21: 2 | R21: 0 | S21: 2 | T21: 1 | U21: 1 | V21: 0 | W21: 0 | X21: 4 | Y21: 0 | Z21: 0 | AA21: 25 | AB21: 3 | AC21: 1 | AD21: 0 | AE21: 1 | AJ21: =E21 -> 24 | AK21: =F21+G21+H21+I21 -> 24 | AL21: =J21 -> 5 | AM21: =K21+L21+M21 -> 5 | AN21: =F21+G21+K21 -> 29 | AO21: =X21+Y21+AA21 -> 29 | AP21: =N21 -> 4 | AQ21: =O21+P21+Q21+R21+S21 -> 4 | AR21: =S21 -> 2 | AS21: =T21+U21+V21 -> 2 | AT21: =X21 -> 4 | AU21: =N21+W21 -> 4 | AV21: =AE21 -> 1 | AW21: =AC21+AD21 -> 1 | AX21: =AH21 -> 0 | AY21: =AF21+AG21 -> 0
A22: 1.1.2 | B22: Այդ թվում՝ տիրազուրկ գույքի նկատմամբ | AJ22: =E22 -> 0 | AK22: =F22+G22+H22+I22 -> 0 | AL22: =J22 -> 0 | AM22: =K22+L22+M22 -> 0 | AN22: =F22+G22+K22 -> 0 | AO22: =X22+Y22+AA22 -> 0 | AP22: =N22 -> 0 | AQ22: =O22+P22+Q22+R22+S22 -> 0 | AR22: =S22 -> 0 | AS22: =T22+U22+V22 -> 0 | AT22: =X22 -> 0 | AU22: =N22+W22 -> 0 | AV22: =AE22 -> 0 | AW22: =AC22+AD22 -> 0 | AX22: =AH22 -> 0 | AY22: =AF22+AG22 -> 0
A23: 1.1.3 | B23: Այդ թվում՝ ինքնակամ կառույցի նկատմամբ | AJ23: =E23 -> 0 | AK23: =F23+G23+H23+I23 -> 0 | AL23: =J23 -> 0 | AM23: =K23+L23+M23 -> 0 | AN23: =F23+G23+K23 -> 0 | AO23: =X23+Y23+AA23 -> 0 | AP23: =N23 -> 0 | AQ23: =O23+P23+Q23+R23+S23 -> 0 | AR23: =S23 -> 0 | AS23: =T23+U23+V23 -> 0 | AT23: =X23 -> 0 | AU23: =N23+W23 -> 0 | AV23: =AE23 -> 0 | AW23: =AC23+AD23 -> 0 | AX23: =AH23 -> 0 | AY23: =AF23+AG23 -> 0
A24: 1.2 | B24: Սեփականության իրավունքի դադարեցման վերաբերյալ | E24: 5 | F24: 0 | G24: 5 | N24: 2 | S24: 2 | U24: 2 | X24: 2 | Y24: 0 | Z24: 0 | AA24: 3 | AJ24: =E24 -> 5 | AK24: =F24+G24+H24+I24 -> 5 | AL24: =J24 -> 0 | AM24: =K24+L24+M24 -> 0 | AN24: =F24+G24+K24 -> 5 | AO24: =X24+Y24+AA24 -> 5 | AP24: =N24 -> 2 | AQ24: =O24+P24+Q24+R24+S24 -> 2 | AR24: =S24 -> 2 | AS24: =T24+U24+V24 -> 2 | AT24: =X24 -> 2 | AU24: =N24+W24 -> 2 | AV24: =AE24 -> 0 | AW24: =AC24+AD24 -> 0 | AX24: =AH24 -> 0 | AY24: =AF24+AG24 -> 0
A25: 1.3 | B25: Գույքի նկատմամբ օգտագործման իրավունքը ճանաչելու վերաբերյալ | AJ25: =E25 -> 0 | AK25: =F25+G25+H25+I25 -> 0 | AL25: =J25 -> 0 | AM25: =K25+L25+M25 -> 0 | AN25: =F25+G25+K25 -> 0 | AO25: =X25+Y25+AA25 -> 0 | AP25: =N25 -> 0 | AQ25: =O25+P25+Q25+R25+S25 -> 0 | AR25: =S25 -> 0 | AS25: =T25+U25+V25 -> 0 | AT25: =X25 -> 0 | AU25: =N25+W25 -> 0 | AV25: =AE25 -> 0 | AW25: =AC25+AD25 -> 0 | AX25: =AH25 -> 0 | AY25: =AF25+AG25 -> 0
A26: 1.3.1 | B26: Այդ թվում՝ բնակօգտագործման իրավունքը ճանաչելու վերաբերյալ | E26: 2 | F26: 0 | G26: 2 | N26: 1 | Q26: 1 | X26: 1 | AA26: 1 | AJ26: =E26 -> 2 | AK26: =F26+G26+H26+I26 -> 2 | AL26: =J26 -> 0 | AM26: =K26+L26+M26 -> 0 | AN26: =F26+G26+K26 -> 2 | AO26: =X26+Y26+AA26 -> 2 | AP26: =N26 -> 1 | AQ26: =O26+P26+Q26+R26+S26 -> 1 | AR26: =S26 -> 0 | AS26: =T26+U26+V26 -> 0 | AT26: =X26 -> 1 | AU26: =N26+W26 -> 1 | AV26: =AE26 -> 0 | AW26: =AC26+AD26 -> 0 | AX26: =AH26 -> 0 | AY26: =AF26+AG26 -> 0
A27: 1.3.2 | B27: Այդ թվում՝ հողամասի նկատմամբ օգտագործման իրավունքը ճանաչելու վերաբերյալ | E27: 1 | F27: 0 | G27: 1 | AA27: 1 | AJ27: =E27 -> 1 | AK27: =F27+G27+H27+I27 -> 1 | AL27: =J27 -> 0 | AM27: =K27+L27+M27 -> 0 | AN27: =F27+G27+K27 -> 1 | AO27: =X27+Y27+AA27 -> 1 | AP27: =N27 -> 0 | AQ27: =O27+P27+Q27+R27+S27 -> 0 | AR27: =S27 -> 0 | AS27: =T27+U27+V27 -> 0 | AT27: =X27 -> 0 | AU27: =N27+W27 -> 0 | AV27: =AE27 -> 0 | AW27: =AC27+AD27 -> 0 | AX27: =AH27 -> 0 | AY27: =AF27+AG27 -> 0
A28: 1.4 | B28: Գույքի նկատմամբ օգտագործման իրավունքը դադարեցնելու վերաբերյալ | AJ28: =E28 -> 0 | AK28: =F28+G28+H28+I28 -> 0 | AL28: =J28 -> 0 | AM28: =K28+L28+M28 -> 0 | AN28: =F28+G28+K28 -> 0 | AO28: =X28+Y28+AA28 -> 0 | AP28: =N28 -> 0 | AQ28: =O28+P28+Q28+R28+S28 -> 0 | AR28: =S28 -> 0 | AS28: =T28+U28+V28 -> 0 | AT28: =X28 -> 0 | AU28: =N28+W28 -> 0 | AV28: =AE28 -> 0 | AW28: =AC28+AD28 -> 0 | AX28: =AH28 -> 0 | AY28: =AF28+AG28 -> 0
A29: 1.4.1 | B29: Այդ թվում՝ բնակօգտագործման իրավունքը դադարեցնելու վերաբերյալ | E29: 5 | F29: 2 | G29: 3 | J29: 1 | K29: 1 | N29: 1 | O29: 1 | X29: 1 | AA29: 5 | AB29: 2 | AC29: 1 | AD29: 0 | AE29: 1 | AJ29: =E29 -> 5 | AK29: =F29+G29+H29+I29 -> 5 | AL29: =J29 -> 1 | AM29: =K29+L29+M29 -> 1 | AN29: =F29+G29+K29 -> 6 | AO29: =X29+Y29+AA29 -> 6 | AP29: =N29 -> 1 | AQ29: =O29+P29+Q29+R29+S29 -> 1 | AR29: =S29 -> 0 | AS29: =T29+U29+V29 -> 0 | AT29: =X29 -> 1 | AU29: =N29+W29 -> 1 | AV29: =AE29 -> 1 | AW29: =AC29+AD29 -> 1 | AX29: =AH29 -> 0 | AY29: =AF29+AG29 -> 0
A30: 1.4.1/1 | B30: Այդ թվում՝ փոխհատուցմամբ | E30: 3 | F30: 1 | G30: 2 | AA30: 3 | AB30: 1 | AJ30: =E30 -> 3 | AK30: =F30+G30+H30+I30 -> 3 | AL30: =J30 -> 0 | AM30: =K30+L30+M30 -> 0 | AN30: =F30+G30+K30 -> 3 | AO30: =X30+Y30+AA30 -> 3 | AP30: =N30 -> 0 | AQ30: =O30+P30+Q30+R30+S30 -> 0 | AR30: =S30 -> 0 | AS30: =T30+U30+V30 -> 0 | AT30: =X30 -> 0 | AU30: =N30+W30 -> 0 | AV30: =AE30 -> 0 | AW30: =AC30+AD30 -> 0 | AX30: =AH30 -> 0 | AY30: =AF30+AG30 -> 0
A31: 1.5 | B31: Բնակարանից/ տարածքից/ վտարելու վերաբերյալ | E31: 24 | F31: 7 | G31: 17 | J31: 7 | K31: 7 | N31: 3 | O31: 1 | P31: 2 | X31: 3 | Z31: 1 | AA31: 28 | AB31: 8 | AC31: 1 | AD31: 0 | AE31: 1 | AJ31: =E31 -> 24 | AK31: =F31+G31+H31+I31 -> 24 | AL31: =J31 -> 7 | AM31: =K31+L31+M31 -> 7 | AN31: =F31+G31+K31 -> 31 | AO31: =X31+Y31+AA31 -> 31 | AP31: =N31 -> 3 | AQ31: =O31+P31+Q31+R31+S31 -> 3 | AR31: =S31 -> 0 | AS31: =T31+U31+V31 -> 0 | AT31: =X31 -> 3 | AU31: =N31+W31 -> 3 | AV31: =AE31 -> 1 | AW31: =AC31+AD31 -> 1 | AX31: =AH31 -> 0 | AY31: =AF31+AG31 -> 0
A32: 1.6 | B32: Գույքն ուրիշի ապօրինի տիրապետումից ետ վերադարձնելու վերաբերյալ | E32: 32 | F32: 6 | G32: 26 | J32: 6 | K32: 6 | N32: 9 | O32: 5 | Q32: 2 | S32: 2 | U32: 2 | X32: 9 | AA32: 29 | AB32: 6 | AC32: 1 | AD32: 0 | AE32: 1 | AJ32: =E32 -> 32 | AK32: =F32+G32+H32+I32 -> 32 | AL32: =J32 -> 6 | AM32: =K32+L32+M32 -> 6 | AN32: =F32+G32+K32 -> 38 | AO32: =X32+Y32+AA32 -> 38 | AP32: =N32 -> 9 | AQ32: =O32+P32+Q32+R32+S32 -> 9 | AR32: =S32 -> 2 | AS32: =T32+U32+V32 -> 2 | AT32: =X32 -> 9 | AU32: =N32+W32 -> 9 | AV32: =AE32 -> 1 | AW32: =AC32+AD32 -> 1 | AX32: =AH32 -> 0 | AY32: =AF32+AG32 -> 0
A33: 1.6.1 | B33: Բարեխիղճ ձեռքբերողից իր գույքը հետ պահանջելու վերաբերյալ | AJ33: =E33 -> 0 | AK33: =F33+G33+H33+I33 -> 0 | AL33: =J33 -> 0 | AM33: =K33+L33+M33 -> 0 | AN33: =F33+G33+K33 -> 0 | AO33: =X33+Y33+AA33 -> 0 | AP33: =N33 -> 0 | AQ33: =O33+P33+Q33+R33+S33 -> 0 | AR33: =S33 -> 0 | AS33: =T33+U33+V33 -> 0 | AT33: =X33 -> 0 | AU33: =N33+W33 -> 0 | AV33: =AE33 -> 0 | AW33: =AC33+AD33 -> 0 | AX33: =AH33 -> 0 | AY33: =AF33+AG33 -> 0
A34: 1.7 | B34: Տիրապետումից զրկելու հետ չկապված իրավունքների խախտումը վերացնելու վերաբերյալ | E34: 17 | F34: 4 | G34: 13 | J34: 2 | K34: 2 | AA34: 19 | AB34: 4 | AJ34: =E34 -> 17 | AK34: =F34+G34+H34+I34 -> 17 | AL34: =J34 -> 2 | AM34: =K34+L34+M34 -> 2 | AN34: =F34+G34+K34 -> 19 | AO34: =X34+Y34+AA34 -> 19 | AP34: =N34 -> 0 | AQ34: =O34+P34+Q34+R34+S34 -> 0 | AR34: =S34 -> 0 | AS34: =T34+U34+V34 -> 0 | AT34: =X34 -> 0 | AU34: =N34+W34 -> 0 | AV34: =AE34 -> 0 | AW34: =AC34+AD34 -> 0 | AX34: =AH34 -> 0 | AY34: =AF34+AG34 -> 0
A35: 1.8 | B35: Ընդհանուր բաժնային սեփականությունից բաժինն առանձնացնելու վերաբերյալ | E35: 57 | F35: 15 | G35: 42 | J35: 5 | K35: 5 | N35: 5 | O35: 1 | S35: 4 | T35: 1 | U35: 3 | X35: 5 | Z35: 4 | AA35: 57 | AB35: 16 | AJ35: =E35 -> 57 | AK35: =F35+G35+H35+I35 -> 57 | AL35: =J35 -> 5 | AM35: =K35+L35+M35 -> 5 | AN35: =F35+G35+K35 -> 62 | AO35: =X35+Y35+AA35 -> 62 | AP35: =N35 -> 5 | AQ35: =O35+P35+Q35+R35+S35 -> 5 | AR35: =S35 -> 4 | AS35: =T35+U35+V35 -> 4 | AT35: =X35 -> 5 | AU35: =N35+W35 -> 5 | AV35: =AE35 -> 0 | AW35: =AC35+AD35 -> 0 | AX35: =AH35 -> 0 | AY35: =AF35+AG35 -> 0
A36: 1.8.1 | B36: Համատեղ սեփականության ներքո գտնվող գույքը բաժանելու և դրանից բաժինն առանձնացնելու վերաբերյալ | E36: 87 | F36: 12 | G36: 75 | J36: 26 | K36: 21 | L36: 5 | N36: 10 | O36: 2 | P36: 1 | Q36: 2 | S36: 5 | U36: 5 | X36: 10 | Z36: 6 | AA36: 98 | AB36: 12 | AC36: 2 | AD36: 3 | AE36: 5 | AF36: 0 | AG36: 1 | AH36: 1 | AJ36: =E36 -> 87 | AK36: =F36+G36+H36+I36 -> 87 | AL36: =J36 -> 26 | AM36: =K36+L36+M36 -> 26 | AN36: =F36+G36+K36 -> 108 | AO36: =X36+Y36+AA36 -> 108 | AP36: =N36 -> 10 | AQ36: =O36+P36+Q36+R36+S36 -> 10 | AR36: =S36 -> 5 | AS36: =T36+U36+V36 -> 5 | AT36: =X36 -> 10 | AU36: =N36+W36 -> 10 | AV36: =AE36 -> 5 | AW36: =AC36+AD36 -> 5 | AX36: =AH36 -> 1 | AY36: =AF36+AG36 -> 1
A37: 1.8.3 | B37: Գույքի վրա բռնագանձում տարածելու պահանջի մասին | E37: 7 | F37: 2 | G37: 5 | J37: 4 | K37: 4 | N37: 1 | P37: 1 | X37: 1 | AA37: 10 | AB37: 2 | AC37: 1 | AD37: 0 | AE37: 1 | AJ37: =E37 -> 7 | AK37: =F37+G37+H37+I37 -> 7 | AL37: =J37 -> 4 | AM37: =K37+L37+M37 -> 4 | AN37: =F37+G37+K37 -> 11 | AO37: =X37+Y37+AA37 -> 11 | AP37: =N37 -> 1 | AQ37: =O37+P37+Q37+R37+S37 -> 1 | AR37: =S37 -> 0 | AS37: =T37+U37+V37 -> 0 | AT37: =X37 -> 1 | AU37: =N37+W37 -> 1 | AV37: =AE37 -> 1 | AW37: =AC37+AD37 -> 1 | AX37: =AH37 -> 0 | AY37: =AF37+AG37 -> 0
A38: 1.9 | B38: Այլ վեճեր | E38: 33 | F38: 8 | G38: 25 | J38: 13 | K38: 9 | L38: 4 | N38: 8 | O38: 1 | Q38: 4 | S38: 3 | U38: 2 | V38: 1 | X38: 8 | AA38: 34 | AB38: 8 | AC38: 3 | AD38: 1 | AE38: 4 | AJ38: =E38 -> 33 | AK38: =F38+G38+H38+I38 -> 33 | AL38: =J38 -> 13 | AM38: =K38+L38+M38 -> 13 | AN38: =F38+G38+K38 -> 42 | AO38: =X38+Y38+AA38 -> 42 | AP38: =N38 -> 8 | AQ38: =O38+P38+Q38+R38+S38 -> 8 | AR38: =S38 -> 3 | AS38: =T38+U38+V38 -> 3 | AT38: =X38 -> 8 | AU38: =N38+W38 -> 8 | AV38: =AE38 -> 4 | AW38: =AC38+AD38 -> 4 | AX38: =AH38 -> 0 | AY38: =AF38+AG38 -> 0
A39: 2. | B39: Գործարքների հետ կապված իրավահարաբերությունների վերաբերյալ դատական գործեր | E39: =SUM(E40:E50) -> 135 | F39: =SUM(F40:F50) -> 51 | G39: =SUM(G40:G50) -> 84 | H39: =SUM(H40:H50) -> 0 | I39: =SUM(I40:I50) -> 0 | J39: =SUM(J40:J50) -> 23 | K39: =SUM(K40:K50) -> 22 | L39: =SUM(L40:L50) -> 0 | ... AH39: =SUM(AH40:AH50) -> 0 | AJ39: =SUM(AJ40:AJ50) -> 135 | AK39: =SUM(AK40:AK50) -> 135 | AL39: =SUM(AL40:AL50) -> 23 | AM39: =SUM(AM40:AM50) -> 23 | AN39: =SUM(AN40:AN50) -> 157 | AO39: =SUM(AO40:AO50) -> 157 | AP39: =SUM(AP40:AP50) -> 21 | AQ39: =SUM(AQ40:AQ50) -> 21 | ... AY39: =SUM(AY40:AY50) -> 0
A40: 2.1 | B40: գործարքների անվավերության հետ կապված վեճեր | E40: 9 | F40: 2 | G40: 7 | J40: 3 | K40: 3 | N40: 1 | S40: 1 | U40: 1 | X40: 1 | AA40: 11 | AB40: 2 | AJ40: =E40 -> 9 | AK40: =F40+G40+H40+I40 -> 9 | AL40: =J40 -> 3 | AM40: =K40+L40+M40 -> 3 | AN40: =F40+G40+K40 -> 12 | AO40: =X40+Y40+AA40 -> 12 | AP40: =N40 -> 1 | AQ40: =O40+P40+Q40+R40+S40 -> 1 | AR40: =S40 -> 1 | AS40: =T40+U40+V40 -> 1 | AT40: =X40 -> 1 | AU40: =N40+W40 -> 1 | AV40: =AE40 -> 0 | AW40: =AC40+AD40 -> 0 | AX40: =AH40 -> 0 | AY40: =AF40+AG40 -> 0
A41: 2.1.1 | B41: այդ թվում` վիճահարույց գործարքներն անվավեր ճանաչելու վերաբերյալ | AJ41: =E41 -> 0 | AK41: =F41+G41+H41+I41 -> 0 | AL41: =J41 -> 0 | AM41: =K41+L41+M41 -> 0 | AN41: =F41+G41+K41 -> 0 | AO41: =X41+Y41+AA41 -> 0 | AP41: =N41 -> 0 | AQ41: =O41+P41+Q41+R41+S41 -> 0 | AR41: =S41 -> 0 | AS41: =T41+U41+V41 -> 0 | AT41: =X41 -> 0 | AU41: =N41+W41 -> 0 | AV41: =AE41 -> 0 | AW41: =AC41+AD41 -> 0 | AX41: =AH41 -> 0 | AY41: =AF41+AG41 -> 0
A42: 2.1.2 | B42: այդ թվում` գործարքի առոչնչության հետևանքներ կիրառելու վերաբերյալ | E42: 6 | F42: 1 | G42: 5 | N42: 1 | Q42: 1 | X42: 1 | AA42: 5 | AB42: 1 | AJ42: =E42 -> 6 | AK42: =F42+G42+H42+I42 -> 6 | AL42: =J42 -> 0 | AM42: =K42+L42+M42 -> 0 | AN42: =F42+G42+K42 -> 6 | AO42: =X42+Y42+AA42 -> 6 | AP42: =N42 -> 1 | AQ42: =O42+P42+Q42+R42+S42 -> 1 | AR42: =S42 -> 0 | AS42: =T42+U42+V42 -> 0 | AT42: =X42 -> 1 | AU42: =N42+W42 -> 1 | AV42: =AE42 -> 0 | AW42: =AC42+AD42 -> 0 | AX42: =AH42 -> 0 | AY42: =AF42+AG42 -> 0
A43: 2.2 | B43: Գործարքը վավեր ճանաչելու վերաբերյալ | E43: 6 | F43: 1 | G43: 5 | J43: 1 | K43: 1 | N43: 3 | Q43: 2 | S43: 1 | U43: 1 | X43: 3 | AA43: 4 | AB43: 1 | AJ43: =E43 -> 6 | AK43: =F43+G43+H43+I43 -> 6 | AL43: =J43 -> 1 | AM43: =K43+L43+M43 -> 1 | AN43: =F43+G43+K43 -> 7 | AO43: =X43+Y43+AA43 -> 7 | AP43: =N43 -> 3 | AQ43: =O43+P43+Q43+R43+S43 -> 3 | AR43: =S43 -> 1 | AS43: =T43+U43+V43 -> 1 | AT43: =X43 -> 3 | AU43: =N43+W43 -> 3 | AV43: =AE43 -> 0 | AW43: =AC43+AD43 -> 0 | AX43: =AH43 -> 0 | AY43: =AF43+AG43 -> 0
A44: 2.3 | B44: Գործարքից ծագող իրավունքները գրանցելու վերաբերյալ | AJ44: =E44 -> 0 | AK44: =F44+G44+H44+I44 -> 0 | AL44: =J44 -> 0 | AM44: =K44+L44+M44 -> 0 | AN44: =F44+G44+K44 -> 0 | AO44: =X44+Y44+AA44 -> 0 | AP44: =N44 -> 0 | AQ44: =O44+P44+Q44+R44+S44 -> 0 | AR44: =S44 -> 0 | AS44: =T44+U44+V44 -> 0 | AT44: =X44 -> 0 | AU44: =N44+W44 -> 0 | AV44: =AE44 -> 0 | AW44: =AC44+AD44 -> 0 | AX44: =AH44 -> 0 | AY44: =AF44+AG44 -> 0
A45: 2.4 | B45: Պայմանագիրն անվավեր ճանաչելու վերաբերյալ | E45: 49 | F45: 15 | G45: 34 | J45: 11 | K45: 11 | N45: 10 | O45: 1 | Q45: 6 | S45: 3 | U45: 3 | X45: 10 | AA45: 50 | AB45: 15 | AC45: 2 | AD45: 0 | AE45: 2 | AJ45: =E45 -> 49 | AK45: =F45+G45+H45+I45 -> 49 | AL45: =J45 -> 11 | AM45: =K45+L45+M45 -> 11 | AN45: =F45+G45+K45 -> 60 | AO45: =X45+Y45+AA45 -> 60 | AP45: =N45 -> 10 | AQ45: =O45+P45+Q45+R45+S45 -> 10 | AR45: =S45 -> 3 | AS45: =T45+U45+V45 -> 3 | AT45: =X45 -> 10 | AU45: =N45+W45 -> 10 | AV45: =AE45 -> 2 | AW45: =AC45+AD45 -> 2 | AX45: =AH45 -> 0 | AY45: =AF45+AG45 -> 0
