Workbook

Sheet Ընդամենը
A1: 2016թ. 1-ԻՆ ԿԻՍԱՄՅԱԿ | E1: ՀԱՇՎԵՏՎՈՒԹՅՈՒՆ | AC1: Հավելված Հայաստանի Հանրապետության Դատարանների նախագահների խորհրդի 25.08.2016թ. թիվ 44-Լ որոշման
A2: ՀՀ ԸՆԴՀԱՆՈՒՐ ԻՐԱՎԱՍՈՒԹՅԱՆ ԱՌԱՋԻՆ ԱՏՅԱՆԻ ԴԱՏԱՐԱՆՈՒՄ ՔԱՂԱՔԱՑԻԱԿԱՆ ԳՈՐԾԵՐԻ ՔՆՆՈՒԹՅԱՆ ՎԵՐԱԲԵՐՅԱԼ
A4: Ստուգիչ հավասարումներ՝ 1=2+3+4+5, 6=7+8+9, 2+3+7=20+21+23, 10=11+12+13+14+15, 15=16+17+18, 20=10+19, 27=25+26, 30=28+29 | E4: Հաշվետու ժամանակահատվածում նախորդ հաշվետու ժամանակահատվածից փոխանցված գործերի ընդհանուր թիվը | J4: Հաշվետու ժամանակահատվածումստացված գործերի (այդ թվում` հայցադիմումների, դիմումների) ընդհանուր թիվը | N4: Հաշվետու ժամանակահատվածում ավարտված գործերի ընդհանուր թիվը | Y4: Գործն ուղարկվել է ըստ ընդդատության | Z4: Հաշվետու ժամանակահատվածում կասեցված վարույթներով գործերի ընդհանուր թիվը | AA4: Հաշվետու ժամանակահատվածում անավարտ գործերի ընդհանուր թիվը | AB4: Այդ թվում՝ կասեցված | AC4: Բողոքարկված դատական ակտերի թիվը` ըստ տեսակների | AF4: Բեկանված դատական ակտերի թիվը` ըստ տեսակների
E7: Ընդամենը | F7: Այդ թվում`կասեցված վիճակում փոխանցված | G7: Այդ թվում՝ ընդունվել է վարույթ | H7: Այդ թվում՝ վերադարձվել է | I7: Այդ թվում՝ ընդունումը մերժվել է | J7: Ընդամենը | K7: Այդ թվում՝ ընդունվել է վարույթ | L7: Այդ թվում՝ վերադարձվել է | M7: Այդ թվում՝ ընդունումը մերժվել է | N7: Ընդամենը ավարտվել են գործեր գործն ըստ էության լուծող դատական ակտերի (վճիռների) կայացմամբ | O7: Այդ թվում՝ հայցի բավարարմամբ | P7: Այդ թվում՝ հայցի մասնակի բավարարմամբ | Q7: Այդ թվում՝ հայցի մերժմամբ | R7: Մասով կարճվել է, մասով մերժվել | S7: Այդ թվում՝ կարճվել են | W7: Հայցը թողնվել է առանց քննության | X7: Ընդամենն ավարտվել են գործեր | AC7: Այդ թվում` գործն ըստ էության լուծող դատական ակտեր | AD7: Այդ թվում` միջանկյալ դատական ակտեր | AE7: Ընդամենը | AF7: Այդ թվում` գործն ըստ էության լուծող դատական ակտեր | AG7: Այդ թվում` միջանկյալ դատական ակտեր | AH7: Ընդամենը
S10: Ընդամենը կարճվել են | T10: Այդ թվում՝ հաստատվել է կնքված հաշտության համաձայնությունը | U10: Այդ թվում՝ հացից, դիմումից հրաժարվելու հիմքով | V10: Այդ թվում՝ այլ հիմքով
A18: Քաղաքացիական գործերի դասակարգումը | E18: 1 | F18: 2 | G18: 3 | H18: 4 | I18: 5 | J18: 6 | K18: 7 | L18: 8 | M18: 9 | N18: 10 | O18: 11 | P18: 12 | Q18: 13 | R18: 14 | S18: 15 | T18: 16 | U18: 17 | V18: 18 | W18: 19 | X18: 20 | Y18: 21 | Z18: 22 | AA18: 23 | AB18: 24 | AC18: 25 | AD18: 26 | AE18: 27 | AF18: 28 | AG18: 29 | AH18: 30 | AJ18: 1=2+3+4+5 | AL18: 6=7+8+9 | AN18: 2+3+7=20+21+23 | AP18: 10=11+12+13+14+15 | AR18: 15=16+17+18 | AT18: 20=10+19 | AV18: 27=25+26 | AX18: 30=28+29
A19: 1. | B19: Գույքային իրավահարաբերությունների վերաբերյալ դատական գործեր | E19: =SUM('Erebuni :Ararat'!E19) -> 3457 | F19: =SUM('Erebuni :Ararat'!F19) -> 1202 | G19: =SUM('Erebuni :Ararat'!G19) -> 2254 | H19: =SUM('Erebuni :Ararat'!H19) -> 1 | I19: =SUM('Erebuni :Ararat'!I19) -> 0 | J19: =SUM('Erebuni :Ararat'!J19) -> 1414 | K19: =SUM('Erebuni :Ararat'!K19) -> 1202 | L19: =SUM('Erebuni :Ararat'!L19) -> 184 | ... AI19: =SUM('Erebuni :Ararat'!AI19) -> 0 | AJ19: =SUM(AJ20:AJ38) -> 3457 | AK19: =SUM(AK20:AK38) -> 3457 | AL19: =SUM(AL20:AL38) -> 1414 | AM19: =SUM(AM20:AM38) -> 1400 | AN19: =SUM(AN20:AN38) -> 4658 | AO19: =SUM(AO20:AO38) -> 4662 | AP19: =SUM(AP20:AP38) -> 1063 | AQ19: =SUM(AQ20:AQ38) -> 1063 | ... AY19: =SUM(AY20:AY38) -> 50
A20: 1.1 | B20: Գույքի նկատմամբ սեփականության իրավունքը ճանաչելու վերաբերյալ | E20: =SUM('Erebuni :Ararat'!E20) -> 301 | F20: =SUM('Erebuni :Ararat'!F20) -> 56 | G20: =SUM('Erebuni :Ararat'!G20) -> 245 | H20: =SUM('Erebuni :Ararat'!H20) -> 0 | I20: =SUM('Erebuni :Ararat'!I20) -> 0 | J20: =SUM('Erebuni :Ararat'!J20) -> 168 | K20: =SUM('Erebuni :Ararat'!K20) -> 143 | L20: =SUM('Erebuni :Ararat'!L20) -> 20 | ... AH20: =SUM('Erebuni :Ararat'!AH20) -> 10 | AJ20: =E20 -> 301 | AK20: =F20+G20+H20+I20 -> 301 | AL20: =J20 -> 168 | AM20: =K20+L20+M20 -> 168 | AN20: =F20+G20+K20 -> 444 | AO20: =X20+Y20+AA20 -> 443 | AP20: =N20 -> 137 | AQ20: =O20+P20+Q20+R20+S20 -> 137 | AR20: =S20 -> 51 | AS20: =T20+U20+V20 -> 51 | AT20: =X20 -> 138 | AU20: =N20+W20 -> 138 | AV20: =AE20 -> 28 | AW20: =AC20+AD20 -> 28 | AX20: =AH20 -> 10 | AY20: =AF20+AG20 -> 10
A21: 1.1.1 | B21: Այդ թվում՝ ձեռքբերման վաղեմության ուժով | E21: =SUM('Erebuni :Ararat'!E21) -> 224 | F21: =SUM('Erebuni :Ararat'!F21) -> 29 | G21: =SUM('Erebuni :Ararat'!G21) -> 195 | H21: =SUM('Erebuni :Ararat'!H21) -> 0 | I21: =SUM('Erebuni :Ararat'!I21) -> 0 | J21: =SUM('Erebuni :Ararat'!J21) -> 137 | K21: =SUM('Erebuni :Ararat'!K21) -> 123 | L21: =SUM('Erebuni :Ararat'!L21) -> 12 | ... AH21: =SUM('Erebuni :Ararat'!AH21) -> 7 | AJ21: =E21 -> 224 | AK21: =F21+G21+H21+I21 -> 224 | AL21: =J21 -> 137 | AM21: =K21+L21+M21 -> 135 | AN21: =F21+G21+K21 -> 347 | AO21: =X21+Y21+AA21 -> 347 | AP21: =N21 -> 121 | AQ21: =O21+P21+Q21+R21+S21 -> 121 | AR21: =S21 -> 27 | AS21: =T21+U21+V21 -> 27 | AT21: =X21 -> 123 | AU21: =N21+W21 -> 123 | AV21: =AE21 -> 24 | AW21: =AC21+AD21 -> 24 | AX21: =AH21 -> 7 | AY21: =AF21+AG21 -> 7
A22: 1.1.2 | B22: Այդ թվում՝ տիրազուրկ գույքի նկատմամբ | E22: =SUM('Erebuni :Ararat'!E22) -> 2 | F22: =SUM('Erebuni :Ararat'!F22) -> 0 | G22: =SUM('Erebuni :Ararat'!G22) -> 2 | H22: =SUM('Erebuni :Ararat'!H22) -> 0 | I22: =SUM('Erebuni :Ararat'!I22) -> 0 | J22: =SUM('Erebuni :Ararat'!J22) -> 14 | K22: =SUM('Erebuni :Ararat'!K22) -> 10 | L22: =SUM('Erebuni :Ararat'!L22) -> 4 | ... AH22: =SUM('Erebuni :Ararat'!AH22) -> 0 | AJ22: =E22 -> 2 | AK22: =F22+G22+H22+I22 -> 2 | AL22: =J22 -> 14 | AM22: =K22+L22+M22 -> 14 | AN22: =F22+G22+K22 -> 12 | AO22: =X22+Y22+AA22 -> 12 | AP22: =N22 -> 5 | AQ22: =O22+P22+Q22+R22+S22 -> 5 | AR22: =S22 -> 0 | AS22: =T22+U22+V22 -> 0 | AT22: =X22 -> 5 | AU22: =N22+W22 -> 5 | AV22: =AE22 -> 0 | AW22: =AC22+AD22 -> 0 | AX22: =AH22 -> 0 | AY22: =AF22+AG22 -> 0
A23: 1.1.3 | B23: Այդ թվում՝ ինքնակամ կառույցի նկատմամբ | E23: =SUM('Erebuni :Ararat'!E23) -> 1 | F23: =SUM('Erebuni :Ararat'!F23) -> 1 | G23: =SUM('Erebuni :Ararat'!G23) -> 0 | H23: =SUM('Erebuni :Ararat'!H23) -> 0 | I23: =SUM('Erebuni :Ararat'!I23) -> 0 | J23: =SUM('Erebuni :Ararat'!J23) -> 0 | K23: =SUM('Erebuni :Ararat'!K23) -> 0 | L23: =SUM('Erebuni :Ararat'!L23) -> 0 | ... AH23: =SUM('Erebuni :Ararat'!AH23) -> 0 | AJ23: =E23 -> 1 | AK23: =F23+G23+H23+I23 -> 1 | AL23: =J23 -> 0 | AM23: =K23+L23+M23 -> 0 | AN23: =F23+G23+K23 -> 1 | AO23: =X23+Y23+AA23 -> 1 | AP23: =N23 -> 0 | AQ23: =O23+P23+Q23+R23+S23 -> 0 | AR23: =S23 -> 0 | AS23: =T23+U23+V23 -> 0 | AT23: =X23 -> 0 | AU23: =N23+W23 -> 0 | AV23: =AE23 -> 0 | AW23: =AC23+AD23 -> 0 | AX23: =AH23 -> 0 | AY23: =AF23+AG23 -> 0
A24: 1.2 | B24: Սեփականության իրավունքի դադարեցման վերաբերյալ | E24: =SUM('Erebuni :Ararat'!E24) -> 35 | F24: =SUM('Erebuni :Ararat'!F24) -> 7 | G24: =SUM('Erebuni :Ararat'!G24) -> 28 | H24: =SUM('Erebuni :Ararat'!H24) -> 0 | I24: =SUM('Erebuni :Ararat'!I24) -> 0 | J24: =SUM('Erebuni :Ararat'!J24) -> 22 | K24: =SUM('Erebuni :Ararat'!K24) -> 18 | L24: =SUM('Erebuni :Ararat'!L24) -> 3 | ... AH24: =SUM('Erebuni :Ararat'!AH24) -> 0 | AJ24: =E24 -> 35 | AK24: =F24+G24+H24+I24 -> 35 | AL24: =J24 -> 22 | AM24: =K24+L24+M24 -> 22 | AN24: =F24+G24+K24 -> 53 | AO24: =X24+Y24+AA24 -> 53 | AP24: =N24 -> 11 | AQ24: =O24+P24+Q24+R24+S24 -> 11 | AR24: =S24 -> 6 | AS24: =T24+U24+V24 -> 6 | AT24: =X24 -> 11 | AU24: =N24+W24 -> 11 | AV24: =AE24 -> 2 | AW24: =AC24+AD24 -> 2 | AX24: =AH24 -> 0 | AY24: =AF24+AG24 -> 0
A25: 1.3 | B25: Գույքի նկատմամբ օգտագործման իրավունքը ճանաչելու վերաբերյալ | E25: =SUM('Erebuni :Ararat'!E25) -> 6 | F25: =SUM('Erebuni :Ararat'!F25) -> 3 | G25: =SUM('Erebuni :Ararat'!G25) -> 3 | H25: =SUM('Erebuni :Ararat'!H25) -> 0 | I25: =SUM('Erebuni :Ararat'!I25) -> 0 | J25: =SUM('Erebuni :Ararat'!J25) -> 4 | K25: =SUM('Erebuni :Ararat'!K25) -> 4 | L25: =SUM('Erebuni :Ararat'!L25) -> 0 | ... AH25: =SUM('Erebuni :Ararat'!AH25) -> 0 | AJ25: =E25 -> 6 | AK25: =F25+G25+H25+I25 -> 6 | AL25: =J25 -> 4 | AM25: =K25+L25+M25 -> 4 | AN25: =F25+G25+K25 -> 10 | AO25: =X25+Y25+AA25 -> 10 | AP25: =N25 -> 2 | AQ25: =O25+P25+Q25+R25+S25 -> 2 | AR25: =S25 -> 1 | AS25: =T25+U25+V25 -> 1 | AT25: =X25 -> 2 | AU25: =N25+W25 -> 2 | AV25: =AE25 -> 0 | AW25: =AC25+AD25 -> 0 | AX25: =AH25 -> 0 | AY25: =AF25+AG25 -> 0
A26: 1.3.1 | B26: Այդ թվում՝ բնակօգտագործման իրավունքը ճանաչելու վերաբերյալ | E26: =SUM('Erebuni :Ararat'!E26) -> 6 | F26: =SUM('Erebuni :Ararat'!F26) -> 1 | G26: =SUM('Erebuni :Ararat'!G26) -> 5 | H26: =SUM('Erebuni :Ararat'!H26) -> 0 | I26: =SUM('Erebuni :Ararat'!I26) -> 0 | J26: =SUM('Erebuni :Ararat'!J26) -> 5 | K26: =SUM('Erebuni :Ararat'!K26) -> 2 | L26: =SUM('Erebuni :Ararat'!L26) -> 3 | ... AH26: =SUM('Erebuni :Ararat'!AH26) -> 0 | AJ26: =E26 -> 6 | AK26: =F26+G26+H26+I26 -> 6 | AL26: =J26 -> 5 | AM26: =K26+L26+M26 -> 5 | AN26: =F26+G26+K26 -> 8 | AO26: =X26+Y26+AA26 -> 8 | AP26: =N26 -> 4 | AQ26: =O26+P26+Q26+R26+S26 -> 4 | AR26: =S26 -> 0 | AS26: =T26+U26+V26 -> 0 | AT26: =X26 -> 4 | AU26: =N26+W26 -> 4 | AV26: =AE26 -> 1 | AW26: =AC26+AD26 -> 1 | AX26: =AH26 -> 0 | AY26: =AF26+AG26 -> 0
A27: 1.3.2 | B27: Այդ թվում՝ հողամասի նկատմամբ օգտագործման իրավունքը ճանաչելու վերաբերյալ | E27: =SUM('Erebuni :Ararat'!E27) -> 10 | F27: =SUM('Erebuni :Ararat'!F27) -> 3 | G27: =SUM('Erebuni :Ararat'!G27) -> 7 | H27: =SUM('Erebuni :Ararat'!H27) -> 0 | I27: =SUM('Erebuni :Ararat'!I27) -> 0 | J27: =SUM('Erebuni :Ararat'!J27) -> 2 | K27: =SUM('Erebuni :Ararat'!K27) -> 1 | L27: =SUM('Erebuni :Ararat'!L27) -> 1 | ... AH27: =SUM('Erebuni :Ararat'!AH27) -> 0 | AJ27: =E27 -> 10 | AK27: =F27+G27+H27+I27 -> 10 | AL27: =J27 -> 2 | AM27: =K27+L27+M27 -> 2 | AN27: =F27+G27+K27 -> 11 | AO27: =X27+Y27+AA27 -> 11 | AP27: =N27 -> 3 | AQ27: =O27+P27+Q27+R27+S27 -> 3 | AR27: =S27 -> 2 | AS27: =T27+U27+V27 -> 2 | AT27: =X27 -> 3 | AU27: =N27+W27 -> 3 | AV27: =AE27 -> 1 | AW27: =AC27+AD27 -> 1 | AX27: =AH27 -> 0 | AY27: =AF27+AG27 -> 0
A28: 1.4 | B28: Գույքի նկատմամբ օգտագործման իրավունքը դադարեցնելու վերաբերյալ | E28: =SUM('Erebuni :Ararat'!E28) -> 3 | F28: =SUM('Erebuni :Ararat'!F28) -> 1 | G28: =SUM('Erebuni :Ararat'!G28) -> 2 | H28: =SUM('Erebuni :Ararat'!H28) -> 0 | I28: =SUM('Erebuni :Ararat'!I28) -> 0 | J28: =SUM('Erebuni :Ararat'!J28) -> 0 | K28: =SUM('Erebuni :Ararat'!K28) -> 0 | L28: =SUM('Erebuni :Ararat'!L28) -> 0 | ... AH28: =SUM('Erebuni :Ararat'!AH28) -> 0 | AJ28: =E28 -> 3 | AK28: =F28+G28+H28+I28 -> 3 | AL28: =J28 -> 0 | AM28: =K28+L28+M28 -> 0 | AN28: =F28+G28+K28 -> 3 | AO28: =X28+Y28+AA28 -> 3 | AP28: =N28 -> 0 | AQ28: =O28+P28+Q28+R28+S28 -> 0 | AR28: =S28 -> 0 | AS28: =T28+U28+V28 -> 0 | AT28: =X28 -> 0 | AU28: =N28+W28 -> 0 | AV28: =AE28 -> 0 | AW28: =AC28+AD28 -> 0 | AX28: =AH28 -> 0 | AY28: =AF28+AG28 -> 0
A29: 1.4.1 | B29: Այդ թվում՝ բնակօգտագործման իրավունքը դադարեցնելու վերաբերյալ | E29: =SUM('Erebuni :Ararat'!E29) -> 18 | F29: =SUM('Erebuni :Ararat'!F29) -> 6 | G29: =SUM('Erebuni :Ararat'!G29) -> 12 | H29: =SUM('Erebuni :Ararat'!H29) -> 0 | I29: =SUM('Erebuni :Ararat'!I29) -> 0 | J29: =SUM('Erebuni :Ararat'!J29) -> 2 | K29: =SUM('Erebuni :Ararat'!K29) -> 2 | L29: =SUM('Erebuni :Ararat'!L29) -> 0 | ... AH29: =SUM('Erebuni :Ararat'!AH29) -> 1 | AJ29: =E29 -> 18 | AK29: =F29+G29+H29+I29 -> 18 | AL29: =J29 -> 2 | AM29: =K29+L29+M29 -> 2 | AN29: =F29+G29+K29 -> 20 | AO29: =X29+Y29+AA29 -> 20 | AP29: =N29 -> 6 | AQ29: =O29+P29+Q29+R29+S29 -> 6 | AR29: =S29 -> 0 | AS29: =T29+U29+V29 -> 0 | AT29: =X29 -> 6 | AU29: =N29+W29 -> 6 | AV29: =AE29 -> 4 | AW29: =AC29+AD29 -> 4 | AX29: =AH29 -> 1 | AY29: =AF29+AG29 -> 1
A30: 1.4.1/1 | B30: Այդ թվում՝ փոխհատուցմամբ | E30: =SUM('Erebuni :Ararat'!E30) -> 12 | F30: =SUM('Erebuni :Ararat'!F30) -> 5 | G30: =SUM('Erebuni :Ararat'!G30) -> 7 | H30: =SUM('Erebuni :Ararat'!H30) -> 0 | I30: =SUM('Erebuni :Ararat'!I30) -> 0 | J30: =SUM('Erebuni :Ararat'!J30) -> 5 | K30: =SUM('Erebuni :Ararat'!K30) -> 3 | L30: =SUM('Erebuni :Ararat'!L30) -> 2 | ... AH30: =SUM('Erebuni :Ararat'!AH30) -> 1 | AJ30: =E30 -> 12 | AK30: =F30+G30+H30+I30 -> 12 | AL30: =J30 -> 5 | AM30: =K30+L30+M30 -> 5 | AN30: =F30+G30+K30 -> 15 | AO30: =X30+Y30+AA30 -> 15 | AP30: =N30 -> 1 | AQ30: =O30+P30+Q30+R30+S30 -> 1 | AR30: =S30 -> 0 | AS30: =T30+U30+V30 -> 0 | AT30: =X30 -> 1 | AU30: =N30+W30 -> 1 | AV30: =AE30 -> 0 | AW30: =AC30+AD30 -> 0 | AX30: =AH30 -> 1 | AY30: =AF30+AG30 -> 1
A31: 1.5 | B31: Բնակարանից/ տարածքից/ վտարելու վերաբերյալ | E31: =SUM('Erebuni :Ararat'!E31) -> 221 | F31: =SUM('Erebuni :Ararat'!F31) -> 61 | G31: =SUM('Erebuni :Ararat'!G31) -> 160 | H31: =SUM('Erebuni :Ararat'!H31) -> 0 | I31: =SUM('Erebuni :Ararat'!I31) -> 0 | J31: =SUM('Erebuni :Ararat'!J31) -> 75 | K31: =SUM('Erebuni :Ararat'!K31) -> 68 | L31: =SUM('Erebuni :Ararat'!L31) -> 5 | ... AH31: =SUM('Erebuni :Ararat'!AH31) -> 2 | AJ31: =E31 -> 221 | AK31: =F31+G31+H31+I31 -> 221 | AL31: =J31 -> 75 | AM31: =K31+L31+M31 -> 73 | AN31: =F31+G31+K31 -> 289 | AO31: =X31+Y31+AA31 -> 290 | AP31: =N31 -> 74 | AQ31: =O31+P31+Q31+R31+S31 -> 74 | AR31: =S31 -> 16 | AS31: =T31+U31+V31 -> 16 | AT31: =X31 -> 74 | AU31: =N31+W31 -> 74 | AV31: =AE31 -> 25 | AW31: =AC31+AD31 -> 25 | AX31: =AH31 -> 2 | AY31: =AF31+AG31 -> 2
A32: 1.6 | B32: Գույքն ուրիշի ապօրինի տիրապետումից ետ վերադարձնելու վերաբերյալ | E32: =SUM('Erebuni :Ararat'!E32) -> 272 | F32: =SUM('Erebuni :Ararat'!F32) -> 78 | G32: =SUM('Erebuni :Ararat'!G32) -> 194 | H32: =SUM('Erebuni :Ararat'!H32) -> 0 | I32: =SUM('Erebuni :Ararat'!I32) -> 0 | J32: =SUM('Erebuni :Ararat'!J32) -> 111 | K32: =SUM('Erebuni :Ararat'!K32) -> 94 | L32: =SUM('Erebuni :Ararat'!L32) -> 15 | ... AH32: =SUM('Erebuni :Ararat'!AH32) -> 1 | AJ32: =E32 -> 272 | AK32: =F32+G32+H32+I32 -> 272 | AL32: =J32 -> 111 | AM32: =K32+L32+M32 -> 109 | AN32: =F32+G32+K32 -> 366 | AO32: =X32+Y32+AA32 -> 367 | AP32: =N32 -> 89 | AQ32: =O32+P32+Q32+R32+S32 -> 89 | AR32: =S32 -> 23 | AS32: =T32+U32+V32 -> 23 | AT32: =X32 -> 89 | AU32: =N32+W32 -> 89 | AV32: =AE32 -> 22 | AW32: =AC32+AD32 -> 22 | AX32: =AH32 -> 1 | AY32: =AF32+AG32 -> 1
A33: 1.6.1 | B33: Բարեխիղճ ձեռքբերողից իր գույքը հետ պահանջելու վերաբերյալ | E33: =SUM('Erebuni :Ararat'!E33) -> 0 | F33: =SUM('Erebuni :Ararat'!F33) -> 0 | G33: =SUM('Erebuni :Ararat'!G33) -> 0 | H33: =SUM('Erebuni :Ararat'!H33) -> 0 | I33: =SUM('Erebuni :Ararat'!I33) -> 0 | J33: =SUM('Erebuni :Ararat'!J33) -> 0 | K33: =SUM('Erebuni :Ararat'!K33) -> 0 | L33: =SUM('Erebuni :Ararat'!L33) -> 0 | ... AH33: =SUM('Erebuni :Ararat'!AH33) -> 0 | AJ33: =E33 -> 0 | AK33: =F33+G33+H33+I33 -> 0 | AL33: =J33 -> 0 | AM33: =K33+L33+M33 -> 0 | AN33: =F33+G33+K33 -> 0 | AO33: =X33+Y33+AA33 -> 0 | AP33: =N33 -> 0 | AQ33: =O33+P33+Q33+R33+S33 -> 0 | AR33: =S33 -> 0 | AS33: =T33+U33+V33 -> 0 | AT33: =X33 -> 0 | AU33: =N33+W33 -> 0 | AV33: =AE33 -> 3 | AW33: =AC33+AD33 -> 3 | AX33: =AH33 -> 0 | AY33: =AF33+AG33 -> 0
A34: 1.7 | B34: Տիրապետումից զրկելու հետ չկապված իրավունքների խախտումը վերացնելու վերաբերյալ | E34: =SUM('Erebuni :Ararat'!E34) -> 55 | F34: =SUM('Erebuni :Ararat'!F34) -> 13 | G34: =SUM('Erebuni :Ararat'!G34) -> 42 | H34: =SUM('Erebuni :Ararat'!H34) -> 0 | I34: =SUM('Erebuni :Ararat'!I34) -> 0 | J34: =SUM('Erebuni :Ararat'!J34) -> 20 | K34: =SUM('Erebuni :Ararat'!K34) -> 17 | L34: =SUM('Erebuni :Ararat'!L34) -> 3 | ... AH34: =SUM('Erebuni :Ararat'!AH34) -> 1 | AJ34: =E34 -> 55 | AK34: =F34+G34+H34+I34 -> 55 | AL34: =J34 -> 20 | AM34: =K34+L34+M34 -> 20 | AN34: =F34+G34+K34 -> 72 | AO34: =X34+Y34+AA34 -> 72 | AP34: =N34 -> 12 | AQ34: =O34+P34+Q34+R34+S34 -> 12 | AR34: =S34 -> 9 | AS34: =T34+U34+V34 -> 9 | AT34: =X34 -> 12 | AU34: =N34+W34 -> 12 | AV34: =AE34 -> 3 | AW34: =AC34+AD34 -> 3 | AX34: =AH34 -> 1 | AY34: =AF34+AG34 -> 1
A35: 1.8 | B35: Ընդհանուր բաժնային սեփականությունից բաժինն առանձնացնելու վերաբերյալ | E35: =SUM('Erebuni :Ararat'!E35) -> 1094 | F35: =SUM('Erebuni :Ararat'!F35) -> 538 | G35: =SUM('Erebuni :Ararat'!G35) -> 556 | H35: =SUM('Erebuni :Ararat'!H35) -> 0 | I35: =SUM('Erebuni :Ararat'!I35) -> 0 | J35: =SUM('Erebuni :Ararat'!J35) -> 396 | K35: =SUM('Erebuni :Ararat'!K35) -> 341 | L35: =SUM('Erebuni :Ararat'!L35) -> 45 | ... AH35: =SUM('Erebuni :Ararat'!AH35) -> 7 | AJ35: =E35 -> 1094 | AK35: =F35+G35+H35+I35 -> 1094 | AL35: =J35 -> 396 | AM35: =K35+L35+M35 -> 388 | AN35: =F35+G35+K35 -> 1435 | AO35: =X35+Y35+AA35 -> 1439 | AP35: =N35 -> 251 | AQ35: =O35+P35+Q35+R35+S35 -> 251 | AR35: =S35 -> 109 | AS35: =T35+U35+V35 -> 109 | AT35: =X35 -> 251 | AU35: =N35+W35 -> 251 | AV35: =AE35 -> 37 | AW35: =AC35+AD35 -> 37 | AX35: =AH35 -> 7 | AY35: =AF35+AG35 -> 7
A36: 1.8.1 | B36: Համատեղ սեփականության ներքո գտնվող գույքը բաժանելու և դրանից բաժինն առանձնացնելու վերաբերյալ | E36: =SUM('Erebuni :Ararat'!E36) -> 457 | F36: =SUM('Erebuni :Ararat'!F36) -> 171 | G36: =SUM('Erebuni :Ararat'!G36) -> 285 | H36: =SUM('Erebuni :Ararat'!H36) -> 1 | I36: =SUM('Erebuni :Ararat'!I36) -> 0 | J36: =SUM('Erebuni :Ararat'!J36) -> 181 | K36: =SUM('Erebuni :Ararat'!K36) -> 147 | L36: =SUM('Erebuni :Ararat'!L36) -> 33 | ... AH36: =SUM('Erebuni :Ararat'!AH36) -> 8 | AJ36: =E36 -> 457 | AK36: =F36+G36+H36+I36 -> 457 | AL36: =J36 -> 181 | AM36: =K36+L36+M36 -> 181 | AN36: =F36+G36+K36 -> 603 | AO36: =X36+Y36+AA36 -> 603 | AP36: =N36 -> 109 | AQ36: =O36+P36+Q36+R36+S36 -> 109 | AR36: =S36 -> 45 | AS36: =T36+U36+V36 -> 45 | AT36: =X36 -> 109 | AU36: =N36+W36 -> 109 | AV36: =AE36 -> 17 | AW36: =AC36+AD36 -> 17 | AX36: =AH36 -> 8 | AY36: =AF36+AG36 -> 8
... A38: 1.9 | B38: Այլ վեճեր | E38: =SUM('Erebuni :Ararat'!E38) -> 619 | F38: =SUM('Erebuni :Ararat'!F38) -> 173 | G38: =SUM('Erebuni :Ararat'!G38) -> 446 | H38: =SUM('Erebuni :Ararat'!H38) -> 0 | I38: =SUM('Erebuni :Ararat'!I38) -> 0 | J38: =SUM('Erebuni :Ararat'!J38) -> 227 | K38: =SUM('Erebuni :Ararat'!K38) -> 192 | L38: =SUM('Erebuni :Ararat'!L38) -> 30 | ... AH38: =SUM('Erebuni :Ararat'!AH38) -> 12 | AJ38: =E38 -> 619 | AK38: =F38+G38+H38+I38 -> 619 | AL38: =J38 -> 227 | AM38: =K38+L38+M38 -> 227 | AN38: =F38+G38+K38 -> 811 | AO38: =X38+Y38+AA38 -> 810 | AP38: =N38 -> 205 | AQ38: =O38+P38+Q38+R38+S38 -> 205 | AR38: =S38 -> 60 | AS38: =T38+U38+V38 -> 60 | AT38: =X38 -> 205 | AU38: =N38+W38 -> 205 | AV38: =AE38 -> 49 | AW38: =AC38+AD38 -> 49 | AX38: =AH38 -> 12 | AY38: =AF38+AG38 -> 12
A39: 2. | B39: Գործարքների հետ կապված իրավահարաբերությունների վերաբերյալ դատական գործեր | E39: =SUM('Erebuni :Ararat'!E39) -> 1255 | F39: =SUM('Erebuni :Ararat'!F39) -> 244 | G39: =SUM('Erebuni :Ararat'!G39) -> 1011 | H39: =SUM('Erebuni :Ararat'!H39) -> 0 | I39: =SUM('Erebuni :Ararat'!I39) -> 0 | J39: =SUM('Erebuni :Ararat'!J39) -> 603 | K39: =SUM('Erebuni :Ararat'!K39) -> 506 | L39: =SUM('Erebuni :Ararat'!L39) -> 89 | ... AH39: =SUM('Erebuni :Ararat'!AH39) -> 15 | AJ39: =SUM(AJ40:AJ50) -> 1255 | AK39: =SUM(AK40:AK50) -> 1255 | AL39: =SUM(AL40:AL50) -> 603 | AM39: =SUM(AM40:AM50) -> 603 | AN39: =F39+G39+K39 -> 1761 | AO39: =X39+Y39+AA39 -> 1755 | AP39: =SUM(AP40:AP50) -> 563 | AQ39: =SUM(AQ40:AQ50) -> 563 | AR39: =SUM(AR40:AR50) -> 122 | AS39: =SUM(AS40:AS50) -> 122 | AT39: =SUM(AT40:AT50) -> 564 | AU39: =SUM(AU40:AU50) -> 564 | AV39: =SUM(AV40:AV50) -> 124 | AW39: =SUM(AW40:AW50) -> 124 | ... AY39: =SUM(AY40:AY50) -> 15
A40: 2.1 | B40: գործարքների անվավերության հետ կապված վեճեր | E40: =SUM('Erebuni :Ararat'!E40) -> 123 | F40: =SUM('Erebuni :Ararat'!F40) -> 27 | G40: =SUM('Erebuni :Ararat'!G40) -> 96 | H40: =SUM('Erebuni :Ararat'!H40) -> 0 | I40: =SUM('Erebuni :Ararat'!I40) -> 0 | J40: =SUM('Erebuni :Ararat'!J40) -> 63 | K40: =SUM('Erebuni :Ararat'!K40) -> 47 | L40: =SUM('Erebuni :Ararat'!L40) -> 13 | ... AH40: =SUM('Erebuni :Ararat'!AH40) -> 5 | AJ40: =E40 -> 123 | AK40: =F40+G40+H40+I40 -> 123 | AL40: =J40 -> 63 | AM40: =K40+L40+M40 -> 63 | AN40: =F40+G40+K40 -> 170 | AO40: =X40+Y40+AA40 -> 169 | AP40: =N40 -> 45 | AQ40: =O40+P40+Q40+R40+S40 -> 45 | AR40: =S40 -> 18 | AS40: =T40+U40+V40 -> 18 | AT40: =X40 -> 45 | AU40: =N40+W40 -> 45 | AV40: =AE40 -> 15 | AW40: =AC40+AD40 -> 15 | AX40: =AH40 -> 5 | AY40: =AF40+AG40 -> 5
A41: 2.1.1 | B41: այդ թվում` վիճահարույց գործարքներն անվավեր ճանաչելու վերաբերյալ | E41: =SUM('Erebuni :Ararat'!E41) -> 4 | F41: =SUM('Erebuni :Ararat'!F41) -> 0 | G41: =SUM('Erebuni :Ararat'!G41) -> 4 | H41: =SUM('Erebuni :Ararat'!H41) -> 0 | I41: =SUM('Erebuni :Ararat'!I41) -> 0 | J41: =SUM('Erebuni :Ararat'!J41) -> 2 | K41: =SUM('Erebuni :Ararat'!K41) -> 2 | L41: =SUM('Erebuni :Ararat'!L41) -> 0 | ... AH41: =SUM('Erebuni :Ararat'!AH41) -> 1 | AJ41: =E41 -> 4 | AK41: =F41+G41+H41+I41 -> 4 | AL41: =J41 -> 2 | AM41: =K41+L41+M41 -> 2 | AN41: =F41+G41+K41 -> 6 | AO41: =X41+Y41+AA41 -> 7 | AP41: =N41 -> 1 | AQ41: =O41+P41+Q41+R41+S41 -> 1 | AR41: =S41 -> 0 | AS41: =T41+U41+V41 -> 0 | AT41: =X41 -> 1 | AU41: =N41+W41 -> 1 | AV41: =AE41 -> 1 | AW41: =AC41+AD41 -> 1 | AX41: =AH41 -> 1 | AY41: =AF41+AG41 -> 1
A42: 2.1.2 | B42: այդ թվում` գործարքի առոչնչության հետևանքներ կիրառելու վերաբերյալ | E42: =SUM('Erebuni :Ararat'!E42) -> 103 | F42: =SUM('Erebuni :Ararat'!F42) -> 7 | G42: =SUM('Erebuni :Ararat'!G42) -> 96 | H42: =SUM('Erebuni :Ararat'!H42) -> 0 | I42: =SUM('Erebuni :Ararat'!I42) -> 0 | J42: =SUM('Erebuni :Ararat'!J42) -> 61 | K42: =SUM('Erebuni :Ararat'!K42) -> 46 | L42: =SUM('Erebuni :Ararat'!L42) -> 14 | ... AH42: =SUM('Erebuni :Ararat'!AH42) -> 0 | AJ42: =E42 -> 103 | AK42: =F42+G42+H42+I42 -> 103 | AL42: =J42 -> 61 | AM42: =K42+L42+M42 -> 61 | AN42: =F42+G42+K42 -> 149 | AO42: =X42+Y42+AA42 -> 149 | AP42: =N42 -> 46 | AQ42: =O42+P42+Q42+R42+S42 -> 46 | AR42: =S42 -> 11 | AS42: =T42+U42+V42 -> 11 | AT42: =X42 -> 46 | AU42: =N42+W42 -> 46 | AV42: =AE42 -> 25 | AW42: =AC42+AD42 -> 25 | AX42: =AH42 -> 0 | AY42: =AF42+AG42 -> 0
A43: 2.2 | B43: Գործարքը վավեր ճանաչելու վերաբերյալ | E43: =SUM('Erebuni :Ararat'!E43) -> 36 | F43: =SUM('Erebuni :Ararat'!F43) -> 7 | G43: =SUM('Erebuni :Ararat'!G43) -> 29 | H43: =SUM('Erebuni :Ararat'!H43) -> 0 | I43: =SUM('Erebuni :Ararat'!I43) -> 0 | J43: =SUM('Erebuni :Ararat'!J43) -> 48 | K43: =SUM('Erebuni :Ararat'!K43) -> 43 | L43: =SUM('Erebuni :Ararat'!L43) -> 4 | ... AH43: =SUM('Erebuni :Ararat'!AH43) -> 0 | AJ43: =E43 -> 36 | AK43: =F43+G43+H43+I43 -> 36 | AL43: =J43 -> 48 | AM43: =K43+L43+M43 -> 48 | AN43: =F43+G43+K43 -> 79 | AO43: =X43+Y43+AA43 -> 79 | AP43: =N43 -> 36 | AQ43: =O43+P43+Q43+R43+S43 -> 36 | AR43: =S43 -> 7 | AS43: =T43+U43+V43 -> 7 | AT43: =X43 -> 36 | AU43: =N43+W43 -> 36 | AV43: =AE43 -> 2 | AW43: =AC43+AD43 -> 2 | AX43: =AH43 -> 0 | AY43: =AF43+AG43 -> 0
A44: 2.3 | B44: Գործարքից ծագող իրավունքները գրանցելու վերաբերյալ | E44: =SUM('Erebuni :Ararat'!E44) -> 1 | F44: =SUM('Erebuni :Ararat'!F44) -> 0 | G44: =SUM('Erebuni :Ararat'!G44) -> 1 | H44: =SUM('Erebuni :Ararat'!H44) -> 0 | I44: =SUM('Erebuni :Ararat'!I44) -> 0 | J44: =SUM('Erebuni :Ararat'!J44) -> 0 | K44: =SUM('Erebuni :Ararat'!K44) -> 0 | L44: =SUM('Erebuni :Ararat'!L44) -> 0 | ... AH44: =SUM('Erebuni :Ararat'!AH44) -> 0 | AJ44: =E44 -> 1 | AK44: =F44+G44+H44+I44 -> 1 | AL44: =J44 -> 0 | AM44: =K44+L44+M44 -> 0 | AN44: =F44+G44+K44 -> 1 | AO44: =X44+Y44+AA44 -> 1 | AP44: =N44 -> 1 | AQ44: =O44+P44+Q44+R44+S44 -> 1 | AR44: =S44 -> 0 | AS44: =T44+U44+V44 -> 0 | AT44: =X44 -> 1 | AU44: =N44+W44 -> 1 | AV44: =AE44 -> 0 | AW44: =AC44+AD44 -> 0 | AX44: =AH44 -> 0 | AY44: =AF44+AG44 -> 0
A45: 2.4 | B45: Պայմանագիրն անվավեր ճանաչելու վերաբերյալ | E45: =SUM('Erebuni :Ararat'!E45) -> 347 | F45: =SUM('Erebuni :Ararat'!F45) -> 71 | G45: =SUM('Erebuni :Ararat'!G45) -> 276 | H45: =SUM('Erebuni :Ararat'!H45) -> 0 | I45: =SUM('Erebuni :Ararat'!I45) -> 0 | J45: =SUM('Erebuni :Ararat'!J45) -> 175 | K45: =SUM('Erebuni :Ararat'!K45) -> 150 | L45: =SUM('Erebuni :Ararat'!L45) -> 25 | ... AH45: =SUM('Erebuni :Ararat'!AH45) -> 7 | AJ45: =E45 -> 347 | AK45: =F45+G45+H45+I45 -> 347 | AL45: =J45 -> 175 | AM45: =K45+L45+M45 -> 175 | AN45: =F45+G45+K45 -> 497 | AO45: =X45+Y45+AA45 -> 497 | AP45: =N45 -> 106 | AQ45: =O45+P45+Q45+R45+S45 -> 106 | AR45: =S45 -> 32 | AS45: =T45+U45+V45 -> 32 | AT45: =X45 -> 106 | AU45: =N45+W45 -> 106 | AV45: =AE45 -> 36 | AW45: =AC45+AD45 -> 36 | AX45: =AH45 -> 7 | AY45: =AF45+AG45 -> 7
A46: 2.5 | B46: Պայմանագրիը վավեր ճանաչելու վերաբերյալ | E46: =SUM('Erebuni :Ararat'!E46) -> 49 | F46: =SUM('Erebuni :Ararat'!F46) -> 7 | G46: =SUM('Erebuni :Ararat'!G46) -> 42 | H46: =SUM('Erebuni :Ararat'!H46) -> 0 | I46: =SUM('Erebuni :Ararat'!I46) -> 0 | J46: =SUM('Erebuni :Ararat'!J46) -> 22 | K46: =SUM('Erebuni :Ararat'!K46) -> 19 | L46: =SUM('Erebuni :Ararat'!L46) -> 3 | ... AH46: =SUM('Erebuni :Ararat'!AH46) -> 0 | AJ46: =E46 -> 49 | AK46: =F46+G46+H46+I46 -> 49 | AL46: =J46 -> 22 | AM46: =K46+L46+M46 -> 22 | AN46: =F46+G46+K46 -> 68 | AO46: =X46+Y46+AA46 -> 68 | AP46: =N46 -> 17 | AQ46: =O46+P46+Q46+R46+S46 -> 17 | AR46: =S46 -> 3 | AS46: =T46+U46+V46 -> 3 | AT46: =X46 -> 17 | AU46: =N46+W46 -> 17 | AV46: =AE46 -> 3 | AW46: =AC46+AD46 -> 3 | AX46: =AH46 -> 0 | AY46: =AF46+AG46 -> 0
A47: 2.6 | B47: Պայմանագրից ծագող իրավունքները գրանցելու վերաբերյալ | E47: =SUM('Erebuni :Ararat'!E47) -> 0 | F47: =SUM('Erebuni :Ararat'!F47) -> 0 | G47: =SUM('Erebuni :Ararat'!G47) -> 0 | H47: =SUM('Erebuni :Ararat'!H47) -> 0 | I47: =SUM('Erebuni :Ararat'!I47) -> 0 | J47: =SUM('Erebuni :Ararat'!J47) -> 0 | K47: =SUM('Erebuni :Ararat'!K47) -> 0 | L47: =SUM('Erebuni :Ararat'!L47) -> 0 | ... AH47: =SUM('Erebuni :Ararat'!AH47) -> 0 | AJ47: =E47 -> 0 | AK47: =F47+G47+H47+I47 -> 0 | AL47: =J47 -> 0 | AM47: =K47+L47+M47 -> 0 | AN47: =F47+G47+K47 -> 0 | AO47: =X47+Y47+AA47 -> 0 | AP47: =N47 -> 0 | AQ47: =O47+P47+Q47+R47+S47 -> 0 | AR47: =S47 -> 0 | AS47: =T47+U47+V47 -> 0 | AT47: =X47 -> 0 | AU47: =N47+W47 -> 0 | AV47: =AE47 -> 0 | AW47: =AC47+AD47 -> 0 | AX47: =AH47 -> 0 | AY47: =AF47+AG47 -> 0
A48: 2.7 | B48: Պայմանագիրը փոփոխելու և լուծելու վերաբերյալ | E48: =SUM('Erebuni :Ararat'!E48) -> 126 | F48: =SUM('Erebuni :Ararat'!F48) -> 27 | G48: =SUM('Erebuni :Ararat'!G48) -> 99 | H48: =SUM('Erebuni :Ararat'!H48) -> 0 | I48: =SUM('Erebuni :Ararat'!I48) -> 0 | J48: =SUM('Erebuni :Ararat'!J48) -> 43 | K48: =SUM('Erebuni :Ararat'!K48) -> 32 | L48: =SUM('Erebuni :Ararat'!L48) -> 11 | ... AH48: =SUM('Erebuni :Ararat'!AH48) -> 0 | AJ48: =E48 -> 126 | AK48: =F48+G48+H48+I48 -> 126 | AL48: =J48 -> 43 | AM48: =K48+L48+M48 -> 43 | AN48: =F48+G48+K48 -> 158 | AO48: =X48+Y48+AA48 -> 153 | AP48: =N48 -> 49 | AQ48: =O48+P48+Q48+R48+S48 -> 49 | AR48: =S48 -> 18 | AS48: =T48+U48+V48 -> 18 | AT48: =X48 -> 49 | AU48: =N48+W48 -> 49 | AV48: =AE48 -> 12 | AW48: =AC48+AD48 -> 12 | AX48: =AH48 -> 0 | AY48: =AF48+AG48 -> 0
A49: 2.8 | B49: Պայմանագիր կնքելուն պարտավորեցնելու վերաբերյալ | E49: =SUM('Erebuni :Ararat'!E49) -> 96 | F49: =SUM('Erebuni :Ararat'!F49) -> 36 | G49: =SUM('Erebuni :Ararat'!G49) -> 60 | H49: =SUM('Erebuni :Ararat'!H49) -> 0 | I49: =SUM('Erebuni :Ararat'!I49) -> 0 | J49: =SUM('Erebuni :Ararat'!J49) -> 40 | K49: =SUM('Erebuni :Ararat'!K49) -> 34 | L49: =SUM('Erebuni :Ararat'!L49) -> 6 | ... AH49: =SUM('Erebuni :Ararat'!AH49) -> 0 | AJ49: =E49 -> 96 | AK49: =F49+G49+H49+I49 -> 96 | AL49: =J49 -> 40 | AM49: =K49+L49+M49 -> 40 | AN49: =F49+G49+K49 -> 130 | AO49: =X49+Y49+AA49 -> 129 | AP49: =N49 -> 21 | AQ49: =O49+P49+Q49+R49+S49 -> 21 | AR49: =S49 -> 9 | AS49: =T49+U49+V49 -> 9 | AT49: =X49 -> 21 | AU49: =N49+W49 -> 21 | AV49: =AE49 -> 3 | AW49: =AC49+AD49 -> 3 | AX49: =AH49 -> 0 | AY49: =AF49+AG49 -> 0
A50: 2.9 | B50: Այլ վեճեր | E50: =SUM('Erebuni :Ararat'!E50) -> 370 | F50: =SUM('Erebuni :Ararat'!F50) -> 62 | G50: =SUM('Erebuni :Ararat'!G50) -> 308 | H50: =SUM('Erebuni :Ararat'!H50) -> 0 | I50: =SUM('Erebuni :Ararat'!I50) -> 0 | J50: =SUM('Erebuni :Ararat'!J50) -> 149 | K50: =SUM('Erebuni :Ararat'!K50) -> 133 | L50: =SUM('Erebuni :Ararat'!L50) -> 13 | ... AH50: =SUM('Erebuni :Ararat'!AH50) -> 2 | AJ50: =E50 -> 370 | AK50: =F50+G50+H50+I50 -> 370 | AL50: =J50 -> 149 | AM50: =K50+L50+M50 -> 149 | AN50: =F50+G50+K50 -> 503 | AO50: =X50+Y50+AA50 -> 503 | AP50: =N50 -> 241 | AQ50: =O50+P50+Q50+R50+S50 -> 241 | AR50: =S50 -> 24 | AS50: =T50+U50+V50 -> 24 | AT50: =X50 -> 242 | AU50: =N50+W50 -> 242 | AV50: =AE50 -> 27 | AW50: =AC50+AD50 -> 27 | AX50: =AH50 -> 2 | AY50: =AF50+AG50 -> 2
A51: 3. | B51: Ժառանգության հետ կապված իրավահարաբերությունների վերաբերյալ դատական գործեր | E51: =SUM('Erebuni :Ararat'!E51) -> 290 | F51: =SUM('Erebuni :Ararat'!F51) -> 55 | G51: =SUM('Erebuni :Ararat'!G51) -> 235 | H51: =SUM('Erebuni :Ararat'!H51) -> 0 | I51: =SUM('Erebuni :Ararat'!I51) -> 0 | J51: =SUM('Erebuni :Ararat'!J51) -> 197 | K51: =SUM('Erebuni :Ararat'!K51) -> 156 | L51: =SUM('Erebuni :Ararat'!L51) -> 36 | ... AH51: =SUM('Erebuni :Ararat'!AH51) -> 8 | AJ51: =SUM(AJ52:AJ58) -> 290 | AK51: =SUM(AK52:AK58) -> 290 | AL51: =SUM(AL52:AL58) -> 197 | AM51: =SUM(AM52:AM58) -> 195 | AN51: =F51+G51+K51 -> 446 | AO51: =X51+Y51+AA51 -> 444 | AP51: =SUM(AP52:AP58) -> 141 | AQ51: =SUM(AQ52:AQ58) -> 141 | AR51: =SUM(AR52:AR58) -> 28 | AS51: =SUM(AS52:AS58) -> 28 | AT51: =SUM(AT52:AT58) -> 144 | AU51: =SUM(AU52:AU58) -> 144 | AV51: =SUM(AV52:AV58) -> 28 | AW51: =SUM(AW52:AW58) -> 28 | ... AY51: =SUM(AY52:AY58) -> 8
A52: 3.1 | B52: Կտակն անվավեր ճանաչելու վերաբերյալ | E52: =SUM('Erebuni :Ararat'!E52) -> 12 | F52: =SUM('Erebuni :Ararat'!F52) -> 4 | G52: =SUM('Erebuni :Ararat'!G52) -> 8 | H52: =SUM('Erebuni :Ararat'!H52) -> 0 | I52: =SUM('Erebuni :Ararat'!I52) -> 0 | J52: =SUM('Erebuni :Ararat'!J52) -> 8 | K52: =SUM('Erebuni :Ararat'!K52) -> 8 | L52: =SUM('Erebuni :Ararat'!L52) -> 0 | ... AH52: =SUM('Erebuni :Ararat'!AH52) -> 1 | AJ52: =E52 -> 12 | AK52: =F52+G52+H52+I52 -> 12 | AL52: =J52 -> 8 | AM52: =K52+L52+M52 -> 8 | AN52: =F52+G52+K52 -> 20 | AO52: =X52+Y52+AA52 -> 20 | AP52: =N52 -> 5 | AQ52: =O52+P52+Q52+R52+S52 -> 5 | AR52: =S52 -> 3 | AS52: =T52+U52+V52 -> 3 | AT52: =X52 -> 5 | AU52: =N52+W52 -> 5 | AV52: =AE52 -> 2 | AW52: =AC52+AD52 -> 2 | AX52: =AH52 -> 1 | AY52: =AF52+AG52 -> 1
A53: 3.2 | B53: Անարժան ժառանգ ճանաչելու վերաբերյալ | E53: =SUM('Erebuni :Ararat'!E53) -> 1 | F53: =SUM('Erebuni :Ararat'!F53) -> 0 | G53: =SUM('Erebuni :Ararat'!G53) -> 1 | H53: =SUM('Erebuni :Ararat'!H53) -> 0 | I53: =SUM('Erebuni :Ararat'!I53) -> 0 | J53: =SUM('Erebuni :Ararat'!J53) -> 1 | K53: =SUM('Erebuni :Ararat'!K53) -> 1 | L53: =SUM('Erebuni :Ararat'!L53) -> 0 | ... AH53: =SUM('Erebuni :Ararat'!AH53) -> 0 | AJ53: =E53 -> 1 | AK53: =F53+G53+H53+I53 -> 1 | AL53: =J53 -> 1 | AM53: =K53+L53+M53 -> 1 | AN53: =F53+G53+K53 -> 2 | AO53: =X53+Y53+AA53 -> 2 | AP53: =N53 -> 1 | AQ53: =O53+P53+Q53+R53+S53 -> 1 | AR53: =S53 -> 0 | AS53: =T53+U53+V53 -> 0 | AT53: =X53 -> 1 | AU53: =N53+W53 -> 1 | AV53: =AE53 -> 1 | AW53: =AC53+AD53 -> 1 | AX53: =AH53 -> 0 | AY53: =AF53+AG53 -> 0
...

Sheet Erebuni 
A1: 2016թ. 1-ԻՆ ԿԻՍԱՄՅԱԿ | E1: ՀԱՇՎԵՏՎՈՒԹՅՈՒՆ | AC1: Հավելված Հայաստանի Հանրապետության Դատարանների նախագահների խորհրդի 25.08.2016թ. թիվ 44-Լ որոշման
A2: ԵՐԵՎԱՆ ՔԱՂԱՔԻ ԷՐԵԲՈՒՆԻ ԵՎ ՆՈՒԲԱՐԱՇԵՆ ՎԱՐՉԱԿԱՆ ՇՐՋԱՆՆԵՐԻ ԸՆԴՀԱՆՈՒՐ ԻՐԱՎԱՍՈՒԹՅԱՆ ԱՌԱՋԻՆ ԱՏՅԱՆԻ ԴԱՏԱՐԱՆՈՒՄ ՔԱՂԱՔԱՑԻԱԿԱՆ ԳՈՐԾԵՐԻ ՔՆՆՈՒԹՅԱՆ ՎԵՐԱԲԵՐՅԱԼ
A3: Երևան քաղաքի Էրեբունի և Նուբարաշեն վարչական շրջանների ընդհանուր իրավասության առաջին ատյանի դատարանում քաղաքացիական մասնագիտացում ունեցող դատավորների հաստիքների քանակը` 4
A4: Ստուգիչ հավասարումներ՝ 1=2+3+4+5, 6=7+8+9, 2+3+7=20+21+23, 10=11+12+13+14+15, 15=16+17+18, 20=10+19, 27=25+26, 30=28+29 | E4: Հաշվետու ժամանակահատվածում նախորդ հաշվետու ժամանակահատվածից փոխանցված գործերի ընդհանուր թիվը | J4: Հաշվետու ժամանակահատվածումստացված գործերի (այդ թվում` հայցադիմումների, դիմումների) ընդհանուր թիվը | N4: Հաշվետու ժամանակահատվածում ավարտված գործերի ընդհանուր թիվը | Y4: Գործն ուղարկվել է ըստ ընդդատության | Z4: Հաշվետու ժամանակահատվածում կասեցված վարույթներով գործերի ընդհանուր թիվը | AA4: Հաշվետու ժամանակահատվածում անավարտ գործերի ընդհանուր թիվը | AB4: Այդ թվում՝ կասեցված | AC4: Բողոքարկված դատական ակտերի թիվը` ըստ տեսակների | AF4: Բեկանված դատական ակտերի թիվը` ըստ տեսակների
E7: Ընդամենը | F7: Այդ թվում`կասեցված վիճակում փոխանցված | G7: Այդ թվում՝ ընդունվել է վարույթ | H7: Այդ թվում՝ վերադարձվել է | I7: Այդ թվում՝ ընդունումը մերժվել է | J7: Ընդամենը | K7: Այդ թվում՝ ընդունվել է վարույթ | L7: Այդ թվում՝ վերադարձվել է | M7: Այդ թվում՝ ընդունումը մերժվել է | N7: Ընդամենը ավարտվել են գործեր գործն ըստ էության լուծող դատական ակտերի (վճիռների) կայացմամբ | O7: Այդ թվում՝ հայցի բավարարմամբ | P7: Այդ թվում՝ հայցի մասնակի բավարարմամբ | Q7: Այդ թվում՝ հայցի մերժմամբ | R7: Մասով կարճվել է, մասով մերժվել | S7: Այդ թվում՝ կարճվել են | W7: Հայցը թողնվել է առանց քննության | X7: Ընդամենն ավարտվել են գործեր | AC7: Այդ թվում` գործն ըստ էության լուծող դատական ակտեր | AD7: Այդ թվում` միջանկյալ դատական ակտեր | AE7: Ընդամենը | AF7: Այդ թվում` գործն ըստ էության լուծող դատական ակտեր | AG7: Այդ թվում` միջանկյալ դատական ակտեր | AH7: Ընդամենը
S10: Ընդամենը կարճվել են | T10: Այդ թվում՝ հաստատվել է կնքված հաշտության համաձայնությունը | U10: Այդ թվում՝ հացից, դիմումից հրաժարվելու հիմքով | V10: Այդ թվում՝ այլ հիմքով
A18: Քաղաքացիական գործերի դասակարգումը | E18: 1 | F18: 2 | G18: 3 | H18: 4 | I18: 5 | J18: 6 | K18: 7 | L18: 8 | M18: 9 | N18: 10 | O18: 11 | P18: 12 | Q18: 13 | R18: 14 | S18: 15 | T18: 16 | U18: 17 | V18: 18 | W18: 19 | X18: 20 | Y18: 21 | Z18: 22 | AA18: 23 | AB18: 24 | AC18: 25 | AD18: 26 | AE18: 27 | AF18: 28 | AG18: 29 | AH18: 30 | AJ18: 1=2+3+4+5 | AL18: 6=7+8+9 | AN18: 2+3+7=20+21+23 | AP18: 10=11+12+13+14+15 | AR18: 15=16+17+18 | AT18: 20=10+19 | AV18: 27=25+26 | AX18: 30=28+29
A19: 1. | B19: Գույքային իրավահարաբերությունների վերաբերյալ դատական գործեր | E19: =SUM(E20:E38) -> 177 | F19: =SUM(F20:F38) -> 78 | G19: =SUM(G20:G38) -> 99 | H19: =SUM(H20:H38) -> 0 | I19: =SUM(I20:I38) -> 0 | J19: =SUM(J20:J38) -> 80 | K19: =SUM(K20:K38) -> 51 | L19: =SUM(L20:L38) -> 28 | ... AH19: =SUM(AH20:AH38) -> 7 | AJ19: =SUM(AJ20:AJ38) -> 177 | AK19: =SUM(AK20:AK38) -> 177 | AL19: =SUM(AL20:AL38) -> 80 | AM19: =SUM(AM20:AM38) -> 79 | AN19: =SUM(AN20:AN38) -> 228 | AO19: =SUM(AO20:AO38) -> 228 | AP19: =SUM(AP20:AP38) -> 59 | AQ19: =SUM(AQ20:AQ38) -> 59 | ... AY19: =SUM(AY20:AY38) -> 7
A20: 1.1 | B20: Գույքի նկատմամբ սեփականության իրավունքը ճանաչելու վերաբերյալ | E20: 11 | F20: 3 | G20: 8 | J20: 11 | K20: 5 | L20: 6 | N20: 8 | O20: 3 | P20: 2 | S20: 3 | U20: 3 | X20: 8 | AA20: 8 | AC20: 3 | AE20: 3 | AJ20: =E20 -> 11 | AK20: =F20+G20+H20+I20 -> 11 | AL20: =J20 -> 11 | AM20: =K20+L20+M20 -> 11 | AN20: =F20+G20+K20 -> 16 | AO20: =X20+Y20+AA20 -> 16 | AP20: =N20 -> 8 | AQ20: =O20+P20+Q20+R20+S20 -> 8 | AR20: =S20 -> 3 | AS20: =T20+U20+V20 -> 3 | AT20: =X20 -> 8 | AU20: =N20+W20 -> 8 | AV20: =AE20 -> 3 | AW20: =AC20+AD20 -> 3 | AX20: =AH20 -> 0 | AY20: =AF20+AG20 -> 0
A21: 1.1.1 | B21: Այդ թվում՝ ձեռքբերման վաղեմության ուժով | E21: 13 | F21: 2 | G21: 11 | J21: 9 | K21: 5 | L21: 4 | N21: 6 | O21: 2 | Q21: 1 | S21: 3 | U21: 3 | X21: 6 | Z21: 2 | AA21: 12 | AB21: 4 | AC21: 3 | AE21: 3 | AF21: 1 | AG21: 1 | AH21: 2 | AJ21: =E21 -> 13 | AK21: =F21+G21+H21+I21 -> 13 | AL21: =J21 -> 9 | AM21: =K21+L21+M21 -> 9 | AN21: =F21+G21+K21 -> 18 | AO21: =X21+Y21+AA21 -> 18 | AP21: =N21 -> 6 | AQ21: =O21+P21+Q21+R21+S21 -> 6 | AR21: =S21 -> 3 | AS21: =T21+U21+V21 -> 3 | AT21: =X21 -> 6 | AU21: =N21+W21 -> 6 | AV21: =AE21 -> 3 | AW21: =AC21+AD21 -> 3 | AX21: =AH21 -> 2 | AY21: =AF21+AG21 -> 2
A22: 1.1.2 | B22: Այդ թվում՝ տիրազուրկ գույքի նկատմամբ | AJ22: =E22 -> 0 | AK22: =F22+G22+H22+I22 -> 0 | AL22: =J22 -> 0 | AM22: =K22+L22+M22 -> 0 | AN22: =F22+G22+K22 -> 0 | AO22: =X22+Y22+AA22 -> 0 | AP22: =N22 -> 0 | AQ22: =O22+P22+Q22+R22+S22 -> 0 | AR22: =S22 -> 0 | AS22: =T22+U22+V22 -> 0 | AT22: =X22 -> 0 | AU22: =N22+W22 -> 0 | AV22: =AE22 -> 0 | AW22: =AC22+AD22 -> 0 | AX22: =AH22 -> 0 | AY22: =AF22+AG22 -> 0
A23: 1.1.3 | B23: Այդ թվում՝ ինքնակամ կառույցի նկատմամբ | AJ23: =E23 -> 0 | AK23: =F23+G23+H23+I23 -> 0 | AL23: =J23 -> 0 | AM23: =K23+L23+M23 -> 0 | AN23: =F23+G23+K23 -> 0 | AO23: =X23+Y23+AA23 -> 0 | AP23: =N23 -> 0 | AQ23: =O23+P23+Q23+R23+S23 -> 0 | AR23: =S23 -> 0 | AS23: =T23+U23+V23 -> 0 | AT23: =X23 -> 0 | AU23: =N23+W23 -> 0 | AV23: =AE23 -> 0 | AW23: =AC23+AD23 -> 0 | AX23: =AH23 -> 0 | AY23: =AF23+AG23 -> 0
A24: 1.2 | B24: Սեփականության իրավունքի դադարեցման վերաբերյալ | E24: 3 | F24: 1 | G24: 2 | N24: 1 | P24: 1 | X24: 1 | AA24: 2 | AB24: 1 | AC24: 1 | AE24: 1 | AJ24: =E24 -> 3 | AK24: =F24+G24+H24+I24 -> 3 | AL24: =J24 -> 0 | AM24: =K24+L24+M24 -> 0 | AN24: =F24+G24+K24 -> 3 | AO24: =X24+Y24+AA24 -> 3 | AP24: =N24 -> 1 | AQ24: =O24+P24+Q24+R24+S24 -> 1 | AR24: =S24 -> 0 | AS24: =T24+U24+V24 -> 0 | AT24: =X24 -> 1 | AU24: =N24+W24 -> 1 | AV24: =AE24 -> 1 | AW24: =AC24+AD24 -> 1 | AX24: =AH24 -> 0 | AY24: =AF24+AG24 -> 0
A25: 1.3 | B25: Գույքի նկատմամբ օգտագործման իրավունքը ճանաչելու վերաբերյալ | E25: 1 | F25: 1 | AA25: 1 | AB25: 1 | AJ25: =E25 -> 1 | AK25: =F25+G25+H25+I25 -> 1 | AL25: =J25 -> 0 | AM25: =K25+L25+M25 -> 0 | AN25: =F25+G25+K25 -> 1 | AO25: =X25+Y25+AA25 -> 1 | AP25: =N25 -> 0 | AQ25: =O25+P25+Q25+R25+S25 -> 0 | AR25: =S25 -> 0 | AS25: =T25+U25+V25 -> 0 | AT25: =X25 -> 0 | AU25: =N25+W25 -> 0 | AV25: =AE25 -> 0 | AW25: =AC25+AD25 -> 0 | AX25: =AH25 -> 0 | AY25: =AF25+AG25 -> 0
A26: 1.3.1 | B26: Այդ թվում՝ բնակօգտագործման իրավունքը ճանաչելու վերաբերյալ | AJ26: =E26 -> 0 | AK26: =F26+G26+H26+I26 -> 0 | AL26: =J26 -> 0 | AM26: =K26+L26+M26 -> 0 | AN26: =F26+G26+K26 -> 0 | AO26: =X26+Y26+AA26 -> 0 | AP26: =N26 -> 0 | AQ26: =O26+P26+Q26+R26+S26 -> 0 | AR26: =S26 -> 0 | AS26: =T26+U26+V26 -> 0 | AT26: =X26 -> 0 | AU26: =N26+W26 -> 0 | AV26: =AE26 -> 0 | AW26: =AC26+AD26 -> 0 | AX26: =AH26 -> 0 | AY26: =AF26+AG26 -> 0
A27: 1.3.2 | B27: Այդ թվում՝ հողամասի նկատմամբ օգտագործման իրավունքը ճանաչելու վերաբերյալ | E27: 1 | G27: 1 | N27: 1 | S27: 1 | T27: 1 | X27: 1 | AJ27: =E27 -> 1 | AK27: =F27+G27+H27+I27 -> 1 | AL27: =J27 -> 0 | AM27: =K27+L27+M27 -> 0 | AN27: =F27+G27+K27 -> 1 | AO27: =X27+Y27+AA27 -> 1 | AP27: =N27 -> 1 | AQ27: =O27+P27+Q27+R27+S27 -> 1 | AR27: =S27 -> 1 | AS27: =T27+U27+V27 -> 1 | AT27: =X27 -> 1 | AU27: =N27+W27 -> 1 | AV27: =AE27 -> 0 | AW27: =AC27+AD27 -> 0 | AX27: =AH27 -> 0 | AY27: =AF27+AG27 -> 0
A28: 1.4 | B28: Գույքի նկատմամբ օգտագործման իրավունքը դադարեցնելու վերաբերյալ | AJ28: =E28 -> 0 | AK28: =F28+G28+H28+I28 -> 0 | AL28: =J28 -> 0 | AM28: =K28+L28+M28 -> 0 | AN28: =F28+G28+K28 -> 0 | AO28: =X28+Y28+AA28 -> 0 | AP28: =N28 -> 0 | AQ28: =O28+P28+Q28+R28+S28 -> 0 | AR28: =S28 -> 0 | AS28: =T28+U28+V28 -> 0 | AT28: =X28 -> 0 | AU28: =N28+W28 -> 0 | AV28: =AE28 -> 0 | AW28: =AC28+AD28 -> 0 | AX28: =AH28 -> 0 | AY28: =AF28+AG28 -> 0
A29: 1.4.1 | B29: Այդ թվում՝ բնակօգտագործման իրավունքը դադարեցնելու վերաբերյալ | J29: 1 | K29: 1 | Z29: 1 | AA29: 1 | AB29: 1 | AF29: 1 | AH29: 1 | AJ29: =E29 -> 0 | AK29: =F29+G29+H29+I29 -> 0 | AL29: =J29 -> 1 | AM29: =K29+L29+M29 -> 1 | AN29: =F29+G29+K29 -> 1 | AO29: =X29+Y29+AA29 -> 1 | AP29: =N29 -> 0 | AQ29: =O29+P29+Q29+R29+S29 -> 0 | AR29: =S29 -> 0 | AS29: =T29+U29+V29 -> 0 | AT29: =X29 -> 0 | AU29: =N29+W29 -> 0 | AV29: =AE29 -> 0 | AW29: =AC29+AD29 -> 0 | AX29: =AH29 -> 1 | AY29: =AF29+AG29 -> 1
A30: 1.4.1/1 | B30: Այդ թվում՝ փոխհատուցմամբ | AJ30: =E30 -> 0 | AK30: =F30+G30+H30+I30 -> 0 | AL30: =J30 -> 0 | AM30: =K30+L30+M30 -> 0 | AN30: =F30+G30+K30 -> 0 | AO30: =X30+Y30+AA30 -> 0 | AP30: =N30 -> 0 | AQ30: =O30+P30+Q30+R30+S30 -> 0 | AR30: =S30 -> 0 | AS30: =T30+U30+V30 -> 0 | AT30: =X30 -> 0 | AU30: =N30+W30 -> 0 | AV30: =AE30 -> 0 | AW30: =AC30+AD30 -> 0 | AX30: =AH30 -> 0 | AY30: =AF30+AG30 -> 0
A31: 1.5 | B31: Բնակարանից/ տարածքից/ վտարելու վերաբերյալ | E31: 24 | F31: 7 | G31: 17 | J31: 5 | K31: 4 | L31: 1 | N31: 7 | O31: 4 | S31: 3 | U31: 3 | X31: 7 | Z31: 2 | AA31: 21 | AB31: 6 | AC31: 2 | AE31: 2 | AJ31: =E31 -> 24 | AK31: =F31+G31+H31+I31 -> 24 | AL31: =J31 -> 5 | AM31: =K31+L31+M31 -> 5 | AN31: =F31+G31+K31 -> 28 | AO31: =X31+Y31+AA31 -> 28 | AP31: =N31 -> 7 | AQ31: =O31+P31+Q31+R31+S31 -> 7 | AR31: =S31 -> 3 | AS31: =T31+U31+V31 -> 3 | AT31: =X31 -> 7 | AU31: =N31+W31 -> 7 | AV31: =AE31 -> 2 | AW31: =AC31+AD31 -> 2 | AX31: =AH31 -> 0 | AY31: =AF31+AG31 -> 0
A32: 1.6 | B32: Գույքն ուրիշի ապօրինի տիրապետումից ետ վերադարձնելու վերաբերյալ | E32: 11 | F32: 4 | G32: 7 | J32: 4 | K32: 1 | L32: 3 | N32: 4 | O32: 4 | X32: 4 | Z32: 1 | AA32: 8 | AB32: 5 | AC32: 3 | AD32: 1 | AE32: 4 | AJ32: =E32 -> 11 | AK32: =F32+G32+H32+I32 -> 11 | AL32: =J32 -> 4 | AM32: =K32+L32+M32 -> 4 | AN32: =F32+G32+K32 -> 12 | AO32: =X32+Y32+AA32 -> 12 | AP32: =N32 -> 4 | AQ32: =O32+P32+Q32+R32+S32 -> 4 | AR32: =S32 -> 0 | AS32: =T32+U32+V32 -> 0 | AT32: =X32 -> 4 | AU32: =N32+W32 -> 4 | AV32: =AE32 -> 4 | AW32: =AC32+AD32 -> 4 | AX32: =AH32 -> 0 | AY32: =AF32+AG32 -> 0
A33: 1.6.1 | B33: Բարեխիղճ ձեռքբերողից իր գույքը հետ պահանջելու վերաբերյալ | AJ33: =E33 -> 0 | AK33: =F33+G33+H33+I33 -> 0 | AL33: =J33 -> 0 | AM33: =K33+L33+M33 -> 0 | AN33: =F33+G33+K33 -> 0 | AO33: =X33+Y33+AA33 -> 0 | AP33: =N33 -> 0 | AQ33: =O33+P33+Q33+R33+S33 -> 0 | AR33: =S33 -> 0 | AS33: =T33+U33+V33 -> 0 | AT33: =X33 -> 0 | AU33: =N33+W33 -> 0 | AV33: =AE33 -> 0 | AW33: =AC33+AD33 -> 0 | AX33: =AH33 -> 0 | AY33: =AF33+AG33 -> 0
A34: 1.7 | B34: Տիրապետումից զրկելու հետ չկապված իրավունքների խախտումը վերացնելու վերաբերյալ | E34: 5 | F34: 2 | G34: 3 | J34: 1 | L34: 1 | N34: 3 | Q34: 1 | S34: 2 | U34: 2 | X34: 3 | AA34: 2 | AB34: 1 | AJ34: =E34 -> 5 | AK34: =F34+G34+H34+I34 -> 5 | AL34: =J34 -> 1 | AM34: =K34+L34+M34 -> 1 | AN34: =F34+G34+K34 -> 5 | AO34: =X34+Y34+AA34 -> 5 | AP34: =N34 -> 3 | AQ34: =O34+P34+Q34+R34+S34 -> 3 | AR34: =S34 -> 2 | AS34: =T34+U34+V34 -> 2 | AT34: =X34 -> 3 | AU34: =N34+W34 -> 3 | AV34: =AE34 -> 0 | AW34: =AC34+AD34 -> 0 | AX34: =AH34 -> 0 | AY34: =AF34+AG34 -> 0
A35: 1.8 | B35: Ընդհանուր բաժնային սեփականությունից բաժինն առանձնացնելու վերաբերյալ | E35: 69 | F35: 42 | G35: 27 | J35: 26 | K35: 18 | L35: 7 | N35: 21 | O35: 5 | P35: 1 | Q35: 2 | S35: 13 | T35: 2 | U35: 10 | V35: 1 | X35: 21 | Z35: 19 | AA35: 66 | AB35: 44 | AC35: 6 | AD35: 1 | AE35: 7 | AF35: 2 | AH35: 2 | AJ35: =E35 -> 69 | AK35: =F35+G35+H35+I35 -> 69 | AL35: =J35 -> 26 | AM35: =K35+L35+M35 -> 25 | AN35: =F35+G35+K35 -> 87 | AO35: =X35+Y35+AA35 -> 87 | AP35: =N35 -> 21 | AQ35: =O35+P35+Q35+R35+S35 -> 21 | AR35: =S35 -> 13 | AS35: =T35+U35+V35 -> 13 | AT35: =X35 -> 21 | AU35: =N35+W35 -> 21 | AV35: =AE35 -> 7 | AW35: =AC35+AD35 -> 7 | AX35: =AH35 -> 2 | AY35: =AF35+AG35 -> 2
A36: 1.8.1 | B36: Համատեղ սեփականության ներքո գտնվող գույքը բաժանելու և դրանից բաժինն առանձնացնելու վերաբերյալ | E36: 22 | F36: 11 | G36: 11 | J36: 13 | K36: 9 | L36: 4 | N36: 4 | O36: 2 | S36: 2 | U36: 1 | V36: 1 | X36: 4 | Z36: 9 | AA36: 27 | AB36: 14 | AC36: 1 | AD36: 2 | AE36: 3 | AG36: 2 | AH36: 2 | AJ36: =E36 -> 22 | AK36: =F36+G36+H36+I36 -> 22 | AL36: =J36 -> 13 | AM36: =K36+L36+M36 -> 13 | AN36: =F36+G36+K36 -> 31 | AO36: =X36+Y36+AA36 -> 31 | AP36: =N36 -> 4 | AQ36: =O36+P36+Q36+R36+S36 -> 4 | AR36: =S36 -> 2 | AS36: =T36+U36+V36 -> 2 | AT36: =X36 -> 4 | AU36: =N36+W36 -> 4 | AV36: =AE36 -> 3 | AW36: =AC36+AD36 -> 3 | AX36: =AH36 -> 2 | AY36: =AF36+AG36 -> 2
A37: 1.8.3 | B37: Գույքի վրա բռնագանձում տարածելու պահանջի մասին | E37: 4 | F37: 3 | G37: 1 | J37: 2 | K37: 2 | Z37: 2 | AA37: 6 | AB37: 5 | AC37: 2 | AE37: 2 | AJ37: =E37 -> 4 | AK37: =F37+G37+H37+I37 -> 4 | AL37: =J37 -> 2 | AM37: =K37+L37+M37 -> 2 | AN37: =F37+G37+K37 -> 6 | AO37: =X37+Y37+AA37 -> 6 | AP37: =N37 -> 0 | AQ37: =O37+P37+Q37+R37+S37 -> 0 | AR37: =S37 -> 0 | AS37: =T37+U37+V37 -> 0 | AT37: =X37 -> 0 | AU37: =N37+W37 -> 0 | AV37: =AE37 -> 2 | AW37: =AC37+AD37 -> 2 | AX37: =AH37 -> 0 | AY37: =AF37+AG37 -> 0
A38: 1.9 | B38: Այլ վեճեր | E38: 13 | F38: 2 | G38: 11 | J38: 8 | K38: 6 | L38: 2 | N38: 4 | O38: 1 | Q38: 2 | S38: 1 | U38: 1 | X38: 4 | Z38: 1 | AA38: 15 | AB38: 2 | AC38: 1 | AE38: 1 | AJ38: =E38 -> 13 | AK38: =F38+G38+H38+I38 -> 13 | AL38: =J38 -> 8 | AM38: =K38+L38+M38 -> 8 | AN38: =F38+G38+K38 -> 19 | AO38: =X38+Y38+AA38 -> 19 | AP38: =N38 -> 4 | AQ38: =O38+P38+Q38+R38+S38 -> 4 | AR38: =S38 -> 1 | AS38: =T38+U38+V38 -> 1 | AT38: =X38 -> 4 | AU38: =N38+W38 -> 4 | AV38: =AE38 -> 1 | AW38: =AC38+AD38 -> 1 | AX38: =AH38 -> 0 | AY38: =AF38+AG38 -> 0
A39: 2. | B39: Գործարքների հետ կապված իրավահարաբերությունների վերաբերյալ դատական գործեր | E39: =SUM(E40:E50) -> 32 | F39: =SUM(F40:F50) -> 13 | G39: =SUM(G40:G50) -> 19 | H39: =SUM(H40:H50) -> 0 | I39: =SUM(I40:I50) -> 0 | J39: =SUM(J40:J50) -> 28 | K39: =SUM(K40:K50) -> 15 | L39: =SUM(L40:L50) -> 13 | ... AH39: =SUM(AH40:AH50) -> 2 | AJ39: =SUM(AJ40:AJ50) -> 32 | AK39: =SUM(AK40:AK50) -> 32 | AL39: =SUM(AL40:AL50) -> 28 | AM39: =SUM(AM40:AM50) -> 28 | AN39: =SUM(AN40:AN50) -> 47 | AO39: =SUM(AO40:AO50) -> 47 | AP39: =SUM(AP40:AP50) -> 14 | AQ39: =SUM(AQ40:AQ50) -> 14 | ... AY39: =SUM(AY40:AY50) -> 2
A40: 2.1 | B40: գործարքների անվավերության հետ կապված վեճեր | E40: 9 | F40: 4 | G40: 5 | J40: 3 | K40: 2 | L40: 1 | N40: 6 | P40: 2 | Q40: 1 | S40: 3 | T40: 1 | U40: 2 | X40: 6 | Z40: 2 | AA40: 5 | AB40: 3 | AC40: 4 | AD40: 1 | AE40: 5 | AF40: 1 | AH40: 1 | AJ40: =E40 -> 9 | AK40: =F40+G40+H40+I40 -> 9 | AL40: =J40 -> 3 | AM40: =K40+L40+M40 -> 3 | AN40: =F40+G40+K40 -> 11 | AO40: =X40+Y40+AA40 -> 11 | AP40: =N40 -> 6 | AQ40: =O40+P40+Q40+R40+S40 -> 6 | AR40: =S40 -> 3 | AS40: =T40+U40+V40 -> 3 | AT40: =X40 -> 6 | AU40: =N40+W40 -> 6 | AV40: =AE40 -> 5 | AW40: =AC40+AD40 -> 5 | AX40: =AH40 -> 1 | AY40: =AF40+AG40 -> 1
A41: 2.1.1 | B41: այդ թվում` վիճահարույց գործարքներն անվավեր ճանաչելու վերաբերյալ | AJ41: =E41 -> 0 | AK41: =F41+G41+H41+I41 -> 0 | AL41: =J41 -> 0 | AM41: =K41+L41+M41 -> 0 | AN41: =F41+G41+K41 -> 0 | AO41: =X41+Y41+AA41 -> 0 | AP41: =N41 -> 0 | AQ41: =O41+P41+Q41+R41+S41 -> 0 | AR41: =S41 -> 0 | AS41: =T41+U41+V41 -> 0 | AT41: =X41 -> 0 | AU41: =N41+W41 -> 0 | AV41: =AE41 -> 0 | AW41: =AC41+AD41 -> 0 | AX41: =AH41 -> 0 | AY41: =AF41+AG41 -> 0
A42: 2.1.2 | B42: այդ թվում` գործարքի առոչնչության հետևանքներ կիրառելու վերաբերյալ | E42: 4 | F42: 1 | G42: 3 | J42: 9 | K42: 5 | L42: 4 | N42: 2 | Q42: 1 | S42: 1 | U42: 1 | X42: 2 | AA42: 7 | AB42: 1 | AC42: 1 | AE42: 1 | AJ42: =E42 -> 4 | AK42: =F42+G42+H42+I42 -> 4 | AL42: =J42 -> 9 | AM42: =K42+L42+M42 -> 9 | AN42: =F42+G42+K42 -> 9 | AO42: =X42+Y42+AA42 -> 9 | AP42: =N42 -> 2 | AQ42: =O42+P42+Q42+R42+S42 -> 2 | AR42: =S42 -> 1 | AS42: =T42+U42+V42 -> 1 | AT42: =X42 -> 2 | AU42: =N42+W42 -> 2 | AV42: =AE42 -> 1 | AW42: =AC42+AD42 -> 1 | AX42: =AH42 -> 0 | AY42: =AF42+AG42 -> 0
A43: 2.2 | B43: Գործարքը վավեր ճանաչելու վերաբերյալ | E43: 2 | F43: 1 | G43: 1 | AA43: 2 | AJ43: =E43 -> 2 | AK43: =F43+G43+H43+I43 -> 2 | AL43: =J43 -> 0 | AM43: =K43+L43+M43 -> 0 | AN43: =F43+G43+K43 -> 2 | AO43: =X43+Y43+AA43 -> 2 | AP43: =N43 -> 0 | AQ43: =O43+P43+Q43+R43+S43 -> 0 | AR43: =S43 -> 0 | AS43: =T43+U43+V43 -> 0 | AT43: =X43 -> 0 | AU43: =N43+W43 -> 0 | AV43: =AE43 -> 0 | AW43: =AC43+AD43 -> 0 | AX43: =AH43 -> 0 | AY43: =AF43+AG43 -> 0
A44: 2.3 | B44: Գործարքից ծագող իրավունքները գրանցելու վերաբերյալ | AJ44: =E44 -> 0 | AK44: =F44+G44+H44+I44 -> 0 | AL44: =J44 -> 0 | AM44: =K44+L44+M44 -> 0 | AN44: =F44+G44+K44 -> 0 | AO44: =X44+Y44+AA44 -> 0 | AP44: =N44 -> 0 | AQ44: =O44+P44+Q44+R44+S44 -> 0 | AR44: =S44 -> 0 | AS44: =T44+U44+V44 -> 0 | AT44: =X44 -> 0 | AU44: =N44+W44 -> 0 | AV44: =AE44 -> 0 | AW44: =AC44+AD44 -> 0 | AX44: =AH44 -> 0 | AY44: =AF44+AG44 -> 0
A45: 2.4 | B45: Պայմանագիրն անվավեր ճանաչելու վերաբերյալ | E45: 13 | F45: 6 | G45: 7 | J45: 8 | K45: 5 | L45: 3 | N45: 4 | Q45: 3 | S45: 1 | U45: 1 | X45: 4 | Z45: 1 | AA45: 14 | AB45: 4 | AC45: 1 | AD45: 1 | AE45: 2 | AG45: 1 | AH45: 1 | AJ45: =E45 -> 13 | AK45: =F45+G45+H45+I45 -> 13 | AL45: =J45 -> 8 | AM45: =K45+L45+M45 -> 8 | AN45: =F45+G45+K45 -> 18 | AO45: =X45+Y45+AA45 -> 18 | AP45: =N45 -> 4 | AQ45: =O45+P45+Q45+R45+S45 -> 4 | AR45: =S45 -> 1 | AS45: =T45+U45+V45 -> 1 | AT45: =X45 -> 4 | AU45: =N45+W45 -> 4 | AV45: =AE45 -> 2 | AW45: =AC45+AD45 -> 2 | AX45: =AH45 -> 1 | AY45: =AF45+AG45 -> 1
A46: 2.5 | B46: Պայմանագրիը վավեր ճանաչելու վերաբերյալ | E46: 1 | G46: 1 | J46: 3 | K46: 2 | L46: 1 | N46: 1 | O46: 1 | X46: 1 | AA46: 2 | AC46: 1 | AE46: 1 | AJ46: =E46 -> 1 | AK46: =F46+G46+H46+I46 -> 1 | AL46: =J46 -> 3 | AM46: =K46+L46+M46 -> 3 | AN46: =F46+G46+K46 -> 3 | AO46: =X46+Y46+AA46 -> 3 | AP46: =N46 -> 1 | AQ46: =O46+P46+Q46+R46+S46 -> 1 | AR46: =S46 -> 0 | AS46: =T46+U46+V46 -> 0 | AT46: =X46 -> 1 | AU46: =N46+W46 -> 1 | AV46: =AE46 -> 1 | AW46: =AC46+AD46 -> 1 | AX46: =AH46 -> 0 | AY46: =AF46+AG46 -> 0
A47: 2.6 | B47: Պայմանագրից ծագող իրավունքները գրանցելու վերաբերյալ | AJ47: =E47 -> 0 | AK47: =F47+G47+H47+I47 -> 0 | AL47: =J47 -> 0 | AM47: =K47+L47+M47 -> 0 | AN47: =F47+G47+K47 -> 0 | AO47: =X47+Y47+AA47 -> 0 | AP47: =N47 -> 0 | AQ47: =O47+P47+Q47+R47+S47 -> 0 | AR47: =S47 -> 0 | AS47: =T47+U47+V47 -> 0 | AT47: =X47 -> 0 | AU47: =N47+W47 -> 0 | AV47: =AE47 -> 0 | AW47: =AC47+AD47 -> 0 | AX47: =AH47 -> 0 | AY47: =AF47+AG47 -> 0
A48: 2.7 | B48: Պայմանագիրը փոփոխելու և լուծելու վերաբերյալ | J48: 2 | L48: 2 | AJ48: =E48 -> 0 | AK48: =F48+G48+H48+I48 -> 0 | AL48: =J48 -> 2 | AM48: =K48+L48+M48 -> 2 | AN48: =F48+G48+K48 -> 0 | AO48: =X48+Y48+AA48 -> 0 | AP48: =N48 -> 0 | AQ48: =O48+P48+Q48+R48+S48 -> 0 | AR48: =S48 -> 0 | AS48: =T48+U48+V48 -> 0 | AT48: =X48 -> 0 | AU48: =N48+W48 -> 0 | AV48: =AE48 -> 0 | AW48: =AC48+AD48 -> 0 | AX48: =AH48 -> 0 | AY48: =AF48+AG48 -> 0
A49: 2.8 | B49: Պայմանագիր կնքելուն պարտավորեցնելու վերաբերյալ | AJ49: =E49 -> 0 | AK49: =F49+G49+H49+I49 -> 0 | AL49: =J49 -> 0 | AM49: =K49+L49+M49 -> 0 | AN49: =F49+G49+K49 -> 0 | AO49: =X49+Y49+AA49 -> 0 | AP49: =N49 -> 0 | AQ49: =O49+P49+Q49+R49+S49 -> 0 | AR49: =S49 -> 0 | AS49: =T49+U49+V49 -> 0 | AT49: =X49 -> 0 | AU49: =N49+W49 -> 0 | AV49: =AE49 -> 0 | AW49: =AC49+AD49 -> 0 | AX49: =AH49 -> 0 | AY49: =AF49+AG49 -> 0
A50: 2.9 | B50: Այլ վեճեր | E50: 3 | F50: 1 | G50: 2 | J50: 3 | K50: 1 | L50: 2 | N50: 1 | Q50: 1 | X50: 1 | AA50: 3 | AB50: 1 | AC50: 2 | AD50: 1 | AE50: 3 | AJ50: =E50 -> 3 | AK50: =F50+G50+H50+I50 -> 3 | AL50: =J50 -> 3 | AM50: =K50+L50+M50 -> 3 | AN50: =F50+G50+K50 -> 4 | AO50: =X50+Y50+AA50 -> 4 | AP50: =N50 -> 1 | AQ50: =O50+P50+Q50+R50+S50 -> 1 | AR50: =S50 -> 0 | AS50: =T50+U50+V50 -> 0 | AT50: =X50 -> 1 | AU50: =N50+W50 -> 1 | AV50: =AE50 -> 3 | AW50: =AC50+AD50 -> 3 | AX50: =AH50 -> 0 | AY50: =AF50+AG50 -> 0
A51: 3. | B51: Ժառանգության հետ կապված իրավահարաբերությունների վերաբերյալ դատական գործեր | E51: =SUM(E52:E58) -> 6 | F51: =SUM(F52:F58) -> 2 | G51: =SUM(G52:G58) -> 4 | H51: =SUM(H52:H58) -> 0 | I51: =SUM(I52:I58) -> 0 | J51: =SUM(J52:J58) -> 10 | K51: =SUM(K52:K58) -> 4 | L51: =SUM(L52:L58) -> 6 | ... AH51: =SUM(AH52:AH58) -> 1 | AJ51: =SUM(AJ52:AJ58) -> 6 | AK51: =SUM(AK52:AK58) -> 6 | AL51: =SUM(AL52:AL58) -> 10 | AM51: =SUM(AM52:AM58) -> 10 | AN51: =SUM(AN52:AN58) -> 10 | AO51: =SUM(AO52:AO58) -> 10 | AP51: =SUM(AP52:AP58) -> 2 | AQ51: =SUM(AQ52:AQ58) -> 2 | ... AY51: =SUM(AY52:AY58) -> 1
...

Sheet Kentron
A1: 2016թ. 1-ԻՆ ԿԻՍԱՄՅԱԿ | E1: ՀԱՇՎԵՏՎՈՒԹՅՈՒՆ | AC1: Հավելված Հայաստանի Հանրապետության Դատարանների նախագահների խորհրդի 25.08.2016թ. թիվ 44-Լ որոշման
A2: ԵՐԵՎԱՆ ՔԱՂԱՔԻ ԿԵՆՏՐՈՆ ԵՎ ՆՈՐՔ-ՄԱՐԱՇ ՎԱՐՉԱԿԱՆ ՇՐՋԱՆՆԵՐԻ ԸՆԴՀԱՆՈՒՐ ԻՐԱՎԱՍՈՒԹՅԱՆ ԱՌԱՋԻՆ ԱՏՅԱՆԻ ԴԱՏԱՐԱՆՈՒՄ ՔԱՂԱՔԱՑԻԱԿԱՆ ԳՈՐԾԵՐԻ ՔՆՆՈՒԹՅԱՆ ՎԵՐԱԲԵՐՅԱԼ
A3: Երևան քաղաքի Կենտրոն և Նորք- Մարաշ վարչական շրջանների ընդհանուր իրավասության առաջին ատյանի դատարանում քաղաքացիական մասնագիտացում ունեցող դատավորների հաստիքների քանակը` 9
A4: Ստուգիչ հավասարումներ՝ 1=2+3+4+5, 6=7+8+9, 2+3+7=20+21+23, 10=11+12+13+14+15, 15=16+17+18, 20=10+19, 27=25+26, 30=28+29 | E4: Հաշվետու ժամանակահատվածում նախորդ հաշվետու ժամանակահատվածից փոխանցված գործերի ընդհանուր թիվը | J4: Հաշվետու ժամանակահատվածումստացված գործերի (այդ թվում` հայցադիմումների, դիմումների) ընդհանուր թիվը | N4: Հաշվետու ժամանակահատվածում ավարտված գործերի ընդհանուր թիվը | Y4: Գործն ուղարկվել է ըստ ընդդատության | Z4: Հաշվետու ժամանակահատվածում կասեցված վարույթներով գործերի ընդհանուր թիվը | AA4: Հաշվետու ժամանակահատվածում անավարտ գործերի ընդհանուր թիվը | AB4: Այդ թվում՝ կասեցված | AC4: Բողոքարկված դատական ակտերի թիվը` ըստ տեսակների | AF4: Բեկանված դատական ակտերի թիվը` ըստ տեսակների
E7: Ընդամենը | F7: Այդ թվում`կասեցված վիճակում փոխանցված | G7: Այդ թվում՝ ընդունվել է վարույթ | H7: Այդ թվում՝ վերադարձվել է | I7: Այդ թվում՝ ընդունումը մերժվել է | J7: Ընդամենը | K7: Այդ թվում՝ ընդունվել է վարույթ | L7: Այդ թվում՝ վերադարձվել է | M7: Այդ թվում՝ ընդունումը մերժվել է | N7: Ընդամենը ավարտվել են գործեր գործն ըստ էության լուծող դատական ակտերի (վճիռների) կայացմամբ | O7: Այդ թվում՝ հայցի բավարարմամբ | P7: Այդ թվում՝ հայցի մասնակի բավարարմամբ | Q7: Այդ թվում՝ հայցի մերժմամբ | R7: Մասով կարճվել է, մասով մերժվել | S7: Այդ թվում՝ կարճվել են | W7: Հայցը թողնվել է առանց քննության | X7: Ընդամենն ավարտվել են գործեր | AC7: Այդ թվում` գործն ըստ էության լուծող դատական ակտեր | AD7: Այդ թվում` միջանկյալ դատական ակտեր | AE7: Ընդամենը | AF7: Այդ թվում` գործն ըստ էության լուծող դատական ակտեր | AG7: Այդ թվում` միջանկյալ դատական ակտեր | AH7: Ընդամենը
S10: Ընդամենը կարճվել են | T10: Այդ թվում՝ հաստատվել է կնքված հաշտության համաձայնությունը | U10: Այդ թվում՝ հացից, դիմումից հրաժարվելու հիմքով | V10: Այդ թվում՝ այլ հիմքով
A18: Քաղաքացիական գործերի դասակարգումը | E18: 1 | F18: 2 | G18: 3 | H18: 4 | I18: 5 | J18: 6 | K18: 7 | L18: 8 | M18: 9 | N18: 10 | O18: 11 | P18: 12 | Q18: 13 | R18: 14 | S18: 15 | T18: 16 | U18: 17 | V18: 18 | W18: 19 | X18: 20 | Y18: 21 | Z18: 22 | AA18: 23 | AB18: 24 | AC18: 25 | AD18: 26 | AE18: 27 | AF18: 28 | AG18: 29 | AH18: 30 | AJ18: 1=2+3+4+5 | AL18: 6=7+8+9 | AN18: 2+3+7=20+21+23 | AP18: 10=11+12+13+14+15 | AR18: 15=16+17+18 | AT18: 20=10+19 | AV18: 27=25+26 | AX18: 30=28+29
A19: 1. | B19: Գույքային իրավահարաբերությունների վերաբերյալ դատական գործեր | E19: =SUM(E20:E38) -> 479 | F19: =SUM(F20:F38) -> 115 | G19: =SUM(G20:G38) -> 364 | H19: =SUM(H20:H38) -> 0 | I19: =SUM(I20:I38) -> 0 | J19: =SUM(J20:J38) -> 151 | K19: =SUM(K20:K38) -> 138 | L19: =SUM(L20:L38) -> 13 | ... AH19: =SUM(AH20:AH38) -> 0 | AJ19: =SUM(AJ20:AJ38) -> 479 | AK19: =SUM(AK20:AK38) -> 479 | AL19: =SUM(AL20:AL38) -> 151 | AM19: =SUM(AM20:AM38) -> 151 | AN19: =SUM(AN20:AN38) -> 617 | AO19: =SUM(AO20:AO38) -> 617 | AP19: =SUM(AP20:AP38) -> 87 | AQ19: =SUM(AQ20:AQ38) -> 87 | ... AY19: =SUM(AY20:AY38) -> 0
A20: 1.1 | B20: Գույքի նկատմամբ սեփականության իրավունքը ճանաչելու վերաբերյալ | E20: 71 | F20: 15 | G20: 56 | J20: 22 | K20: 20 | L20: 2 | N20: 18 | O20: 3 | Q20: 11 | S20: 4 | U20: 4 | X20: 18 | Y20: 2 | Z20: 1 | AA20: 71 | AB20: 17 | AC20: 5 | AE20: 5 | AJ20: =E20 -> 71 | AK20: =F20+G20+H20+I20 -> 71 | AL20: =J20 -> 22 | AM20: =K20+L20+M20 -> 22 | AN20: =F20+G20+K20 -> 91 | AO20: =X20+Y20+AA20 -> 91 | AP20: =N20 -> 18 | AQ20: =O20+P20+Q20+R20+S20 -> 18 | AR20: =S20 -> 4 | AS20: =T20+U20+V20 -> 4 | AT20: =X20 -> 18 | AU20: =N20+W20 -> 18 | AV20: =AE20 -> 5 | AW20: =AC20+AD20 -> 5 | AX20: =AH20 -> 0 | AY20: =AF20+AG20 -> 0
A21: 1.1.1 | B21: Այդ թվում՝ ձեռքբերման վաղեմության ուժով | E21: 25 | F21: 1 | G21: 24 | J21: 6 | K21: 6 | N21: 11 | O21: 4 | Q21: 3 | S21: 4 | T21: 1 | U21: 3 | X21: 11 | AA21: 20 | AB21: 4 | AC21: 4 | AE21: 4 | AJ21: =E21 -> 25 | AK21: =F21+G21+H21+I21 -> 25 | AL21: =J21 -> 6 | AM21: =K21+L21+M21 -> 6 | AN21: =F21+G21+K21 -> 31 | AO21: =X21+Y21+AA21 -> 31 | AP21: =N21 -> 11 | AQ21: =O21+P21+Q21+R21+S21 -> 11 | AR21: =S21 -> 4 | AS21: =T21+U21+V21 -> 4 | AT21: =X21 -> 11 | AU21: =N21+W21 -> 11 | AV21: =AE21 -> 4 | AW21: =AC21+AD21 -> 4 | AX21: =AH21 -> 0 | AY21: =AF21+AG21 -> 0
A22: 1.1.2 | B22: Այդ թվում՝ տիրազուրկ գույքի նկատմամբ | AJ22: =E22 -> 0 | AK22: =F22+G22+H22+I22 -> 0 | AL22: =J22 -> 0 | AM22: =K22+L22+M22 -> 0 | AN22: =F22+G22+K22 -> 0 | AO22: =X22+Y22+AA22 -> 0 | AP22: =N22 -> 0 | AQ22: =O22+P22+Q22+R22+S22 -> 0 | AR22: =S22 -> 0 | AS22: =T22+U22+V22 -> 0 | AT22: =X22 -> 0 | AU22: =N22+W22 -> 0 | AV22: =AE22 -> 0 | AW22: =AC22+AD22 -> 0 | AX22: =AH22 -> 0 | AY22: =AF22+AG22 -> 0
A23: 1.1.3 | B23: Այդ թվում՝ ինքնակամ կառույցի նկատմամբ | AJ23: =E23 -> 0 | AK23: =F23+G23+H23+I23 -> 0 | AL23: =J23 -> 0 | AM23: =K23+L23+M23 -> 0 | AN23: =F23+G23+K23 -> 0 | AO23: =X23+Y23+AA23 -> 0 | AP23: =N23 -> 0 | AQ23: =O23+P23+Q23+R23+S23 -> 0 | AR23: =S23 -> 0 | AS23: =T23+U23+V23 -> 0 | AT23: =X23 -> 0 | AU23: =N23+W23 -> 0 | AV23: =AE23 -> 0 | AW23: =AC23+AD23 -> 0 | AX23: =AH23 -> 0 | AY23: =AF23+AG23 -> 0
A24: 1.2 | B24: Սեփականության իրավունքի դադարեցման վերաբերյալ | E24: 10 | F24: 1 | G24: 9 | J24: 9 | K24: 9 | N24: 2 | S24: 2 | U24: 2 | X24: 2 | AA24: 17 | AJ24: =E24 -> 10 | AK24: =F24+G24+H24+I24 -> 10 | AL24: =J24 -> 9 | AM24: =K24+L24+M24 -> 9 | AN24: =F24+G24+K24 -> 19 | AO24: =X24+Y24+AA24 -> 19 | AP24: =N24 -> 2 | AQ24: =O24+P24+Q24+R24+S24 -> 2 | AR24: =S24 -> 2 | AS24: =T24+U24+V24 -> 2 | AT24: =X24 -> 2 | AU24: =N24+W24 -> 2 | AV24: =AE24 -> 0 | AW24: =AC24+AD24 -> 0 | AX24: =AH24 -> 0 | AY24: =AF24+AG24 -> 0
A25: 1.3 | B25: Գույքի նկատմամբ օգտագործման իրավունքը ճանաչելու վերաբերյալ | E25: 1 | G25: 1 | J25: 1 | K25: 1 | AA25: 2 | AJ25: =E25 -> 1 | AK25: =F25+G25+H25+I25 -> 1 | AL25: =J25 -> 1 | AM25: =K25+L25+M25 -> 1 | AN25: =F25+G25+K25 -> 2 | AO25: =X25+Y25+AA25 -> 2 | AP25: =N25 -> 0 | AQ25: =O25+P25+Q25+R25+S25 -> 0 | AR25: =S25 -> 0 | AS25: =T25+U25+V25 -> 0 | AT25: =X25 -> 0 | AU25: =N25+W25 -> 0 | AV25: =AE25 -> 0 | AW25: =AC25+AD25 -> 0 | AX25: =AH25 -> 0 | AY25: =AF25+AG25 -> 0
A26: 1.3.1 | B26: Այդ թվում՝ բնակօգտագործման իրավունքը ճանաչելու վերաբերյալ | J26: 2 | K26: 1 | L26: 1 | AA26: 1 | AJ26: =E26 -> 0 | AK26: =F26+G26+H26+I26 -> 0 | AL26: =J26 -> 2 | AM26: =K26+L26+M26 -> 2 | AN26: =F26+G26+K26 -> 1 | AO26: =X26+Y26+AA26 -> 1 | AP26: =N26 -> 0 | AQ26: =O26+P26+Q26+R26+S26 -> 0 | AR26: =S26 -> 0 | AS26: =T26+U26+V26 -> 0 | AT26: =X26 -> 0 | AU26: =N26+W26 -> 0 | AV26: =AE26 -> 0 | AW26: =AC26+AD26 -> 0 | AX26: =AH26 -> 0 | AY26: =AF26+AG26 -> 0
A27: 1.3.2 | B27: Այդ թվում՝ հողամասի նկատմամբ օգտագործման իրավունքը ճանաչելու վերաբերյալ | AJ27: =E27 -> 0 | AK27: =F27+G27+H27+I27 -> 0 | AL27: =J27 -> 0 | AM27: =K27+L27+M27 -> 0 | AN27: =F27+G27+K27 -> 0 | AO27: =X27+Y27+AA27 -> 0 | AP27: =N27 -> 0 | AQ27: =O27+P27+Q27+R27+S27 -> 0 | AR27: =S27 -> 0 | AS27: =T27+U27+V27 -> 0 | AT27: =X27 -> 0 | AU27: =N27+W27 -> 0 | AV27: =AE27 -> 0 | AW27: =AC27+AD27 -> 0 | AX27: =AH27 -> 0 | AY27: =AF27+AG27 -> 0
A28: 1.4 | B28: Գույքի նկատմամբ օգտագործման իրավունքը դադարեցնելու վերաբերյալ | AJ28: =E28 -> 0 | AK28: =F28+G28+H28+I28 -> 0 | AL28: =J28 -> 0 | AM28: =K28+L28+M28 -> 0 | AN28: =F28+G28+K28 -> 0 | AO28: =X28+Y28+AA28 -> 0 | AP28: =N28 -> 0 | AQ28: =O28+P28+Q28+R28+S28 -> 0 | AR28: =S28 -> 0 | AS28: =T28+U28+V28 -> 0 | AT28: =X28 -> 0 | AU28: =N28+W28 -> 0 | AV28: =AE28 -> 0 | AW28: =AC28+AD28 -> 0 | AX28: =AH28 -> 0 | AY28: =AF28+AG28 -> 0
A29: 1.4.1 | B29: Այդ թվում՝ բնակօգտագործման իրավունքը դադարեցնելու վերաբերյալ | AJ29: =E29 -> 0 | AK29: =F29+G29+H29+I29 -> 0 | AL29: =J29 -> 0 | AM29: =K29+L29+M29 -> 0 | AN29: =F29+G29+K29 -> 0 | AO29: =X29+Y29+AA29 -> 0 | AP29: =N29 -> 0 | AQ29: =O29+P29+Q29+R29+S29 -> 0 | AR29: =S29 -> 0 | AS29: =T29+U29+V29 -> 0 | AT29: =X29 -> 0 | AU29: =N29+W29 -> 0 | AV29: =AE29 -> 0 | AW29: =AC29+AD29 -> 0 | AX29: =AH29 -> 0 | AY29: =AF29+AG29 -> 0
A30: 1.4.1/1 | B30: Այդ թվում՝ փոխհատուցմամբ | AJ30: =E30 -> 0 | AK30: =F30+G30+H30+I30 -> 0 | AL30: =J30 -> 0 | AM30: =K30+L30+M30 -> 0 | AN30: =F30+G30+K30 -> 0 | AO30: =X30+Y30+AA30 -> 0 | AP30: =N30 -> 0 | AQ30: =O30+P30+Q30+R30+S30 -> 0 | AR30: =S30 -> 0 | AS30: =T30+U30+V30 -> 0 | AT30: =X30 -> 0 | AU30: =N30+W30 -> 0 | AV30: =AE30 -> 0 | AW30: =AC30+AD30 -> 0 | AX30: =AH30 -> 0 | AY30: =AF30+AG30 -> 0
A31: 1.5 | B31: Բնակարանից/ տարածքից/ վտարելու վերաբերյալ | E31: 23 | F31: 6 | G31: 17 | J31: 5 | K31: 4 | L31: 1 | N31: 4 | O31: 3 | P31: 1 | X31: 4 | Z31: 1 | AA31: 23 | AB31: 5 | AC31: 1 | AE31: 1 | AJ31: =E31 -> 23 | AK31: =F31+G31+H31+I31 -> 23 | AL31: =J31 -> 5 | AM31: =K31+L31+M31 -> 5 | AN31: =F31+G31+K31 -> 27 | AO31: =X31+Y31+AA31 -> 27 | AP31: =N31 -> 4 | AQ31: =O31+P31+Q31+R31+S31 -> 4 | AR31: =S31 -> 0 | AS31: =T31+U31+V31 -> 0 | AT31: =X31 -> 4 | AU31: =N31+W31 -> 4 | AV31: =AE31 -> 1 | AW31: =AC31+AD31 -> 1 | AX31: =AH31 -> 0 | AY31: =AF31+AG31 -> 0
