Workbook

Sheet Ընդհամենը
A1: Ð²ÞìºîìàôÂÚàôÜ
A2: ºðºì²ÜÆ ²ՎԱՆ ºì ՆՈՐ ՆՈՐՔ ì²ðâ²Î²Ü Þðæ²ÜÜºðÆ ÀÜ¸Ð²Üàôð Æð²ì²êàôÂÚ²Ü ²è²æÆÜ ²îÚ²ÜÆ ¸²î²ð²ÜÆ
H3: ¶àðÌàôÜºàôÂÚ²Ü ìºð²´ºðÚ²È êÜ²ÜÎàôÂÚ²Ü ¶àðÌºðՈՎ 2015թ.
A4: ìÇ×³Ï³·ñ³Ï³Ý ïáÕÇ Ñ³Ù³ñÁ | B4: êïáõ·Çã Ñ³í³ë³ñáõÙÝ»ñ` 1+7=8+16+17, 2=3+4, 2=5+6+7, 7=9+10+11+12 | E4: ²Ý³í³ñï ·áñÍ»ñÇ ÙÝ³óáñ¹Á Ñ³ßí»ïáõ Å³Ù³Ý³Ï³ßñç³ÝÇ ëÏ½µáõÙ | F4: êï³óí³Í ¹ÇÙáõÙÝ»ñÇ (·áñÍ»ñ) ù³Ý³ÏÁ | L4: öáË³Ýóí»É ¿ ³ÛÉ ¹³ï³íáñÇ (Ï³½ÙÇ ÷á÷áËáõÃÛáõÝ) | M4: ì³ñáõÛÃ ÁÝ¹áõÝí³Í ¹ÇÙáõÙÝ»ñáí Ï³Û³óí³Í ¹³ï³Ï³Ý ³Ïï»ñ | Q4: Ü»ñÏ³Û³óí»É ¿ ýÇÝ³Ýë³Ï³Ý ³éáÕç³óÙ³Ý Íñ³·Çñ | T4: ²í³ñïí»É »Ý ·áñÍ»ñ Ñ³ßí»ïáõ Å³Ù³Ý³Ï³ßñç³ÝáõÙ | U4: ²Ý³í³ñï ·áñÍ»ñÇ ÙÝ³óáñ¹Á Ñ³ßí»ïáõ Å³Ù³Ý³Ï³ßñç³ÝÇ í»ñçáõÙ | V4: ´áÕáù³ñÏí»É »Ý í»ñ³ùÝÝÇã ¹³ï³ñ³Ý
F6: ÀÝ¹³Ù»ÝÁ | G6: ³Û¹ ÃíáõÙ Ñ³ñÏ³¹ñí³Í ëÝ³ÝÏáõÃÛáõÝ | H6: ³Û¹ ÃíáõÙ Ï³Ù³íáñ ëÝ³ÝÏáõÃÛáõÝ | I6: ëï³óí³Í ¹ÇÙáõÙÝ»ñÇ ÁÝÃ³óùÁ | M6: Ï³Û³óí»É ¿ å³ñï³å³ÝÇÝ ëÝ³ÝÏ ×³Ý³ã»Éáõ Ù³ëÇÝ í×Çé | N6: å³ñï³å³ÝÇÝ ëÝ³ÝÏ ×³Ý³ã»Éáõ ¹ÇÙáõÙÁ Ù»ñÅí»É ¿ | O6: ¹ÇÙáõÙÁ ÃáÕÝí»É ¿ ³é³Ýó ùÝÝáõÃÛ³Ý | P6: ³Ý³í³ñï (³Û¹ ÃíáõÙ Ï³ë»óí³Í) | Q6: ÀÝ¹³Ù»ÝÁ | R6: ÃáÕÝí»É ¿ ³é³Ýó ùÝÝ³ñÏÙ³Ý | S6: Ñ³ëï³ïí»É ¿
I8: ¸ÇÙáõÙÇ ÁÝ¹áõÝáõÙÁ Ù»ñÅí»É ¿ | J8: ¸ÇÙáõÙÁ í»ñ³¹³ñÓí»É ¿ | K8: ÀÝ¹áõÝí»É ¿ í³ñáõÛÃ
E18: 1 | F18: 2 | G18: 3 | H18: 4 | I18: 5 | J18: 6 | K18: 7 | L18: 8 | M18: 9 | N18: 10 | O18: 11 | P18: 12 | Q18: 13 | R18: 14 | S18: 15 | T18: 16 | U18: 17 | V18: 18 | W18: 1+7=8+16+17 | Y18: 2=3+4 | AA18: 2=5+6+7 | AC18: 7=9+10+11+12
A19: 1 | B19: Æñ³í³µ³Ý³Ï³Ý ³ÝÓÇ ëÝ³ÝÏáõÃÛ³Ý í»ñ³µ»ñÛ³É | E19: =Ա.Դավթյան!E19+Ն.Մարգարյան!E19+Ա.Բաբայան!E19+Ա.Պետրոսյան!#REF! -> #REF! | F19: =Ա.Դավթյան!F19+Ն.Մարգարյան!F19+Ա.Բաբայան!F19+Ա.Պետրոսյան!F19 -> 76 | G19: =Ա.Դավթյան!G19+Ն.Մարգարյան!G19+Ա.Բաբայան!G19+Ա.Պետրոսյան!G19 -> 75 | H19: =Ա.Դավթյան!H19+Ն.Մարգարյան!H19+Ա.Բաբայան!H19+Ա.Պետրոսյան!H19 -> 1 | I19: =Ա.Դավթյան!I19+Ն.Մարգարյան!I19+Ա.Բաբայան!I19+Ա.Պետրոսյան!I19 -> 0 | J19: =Ա.Դավթյան!J19+Ն.Մարգարյան!J19+Ա.Բաբայան!J19+Ա.Պետրոսյան!J19 -> 16 | K19: =Ա.Դավթյան!K19+Ն.Մարգարյան!K19+Ա.Բաբայան!K19+Ա.Պետրոսյան!K19 -> 60 | L19: =Ա.Դավթյան!L19+Ն.Մարգարյան!L19+Ա.Բաբայան!L19+Ա.Պետրոսյան!L19 -> 0 | M19: =Ա.Դավթյան!M19+Ն.Մարգարյան!M19+Ա.Բաբայան!M19+Ա.Պետրոսյան!M19 -> 10 | ... T19: =Ա.Դավթյան!T19+Ն.Մարգարյան!T19+Ա.Բաբայան!T19+Ա.Պետրոսյան!T19 -> 26 | U19: =Ա.Դավթյան!U19+Ն.Մարգարյան!U19+Ա.Բաբայան!U19+Ա.Պետրոսյան!E19 -> 83 | V19: =Ա.Դավթյան!V19+Ն.Մարգարյան!V19+Ա.Բաբայան!V19+Ա.Պետրոսյան!V19 -> 0 | W19: =E19+K19 -> #REF! | X19: =L19+T19+U19 -> 109 | Y19: =F19 -> 76 | Z19: =G19+H19 -> 76 | AA19: =F19 -> 76 | AB19: =I19+J19+K19 -> 76 | AC19: =K19 -> 60 | AD19: =M19+N19+O19+P19 -> 10
A20: 2 | B20: ²ÝÑ³ï Ó»éÝ»ñ»óÇ ëÝ³ÝÏáõÃÛ³Ý í»ñ³µ»ñÛ³É | E20: =Ա.Դավթյան!E20+Ն.Մարգարյան!E20+Ա.Բաբայան!E20+Ա.Պետրոսյան!#REF! -> #REF! | F20: =Ա.Դավթյան!F20+Ն.Մարգարյան!F20+Ա.Բաբայան!F20+Ա.Պետրոսյան!F20 -> 12 | G20: =Ա.Դավթյան!G20+Ն.Մարգարյան!G20+Ա.Բաբայան!G20+Ա.Պետրոսյան!G20 -> 10 | H20: =Ա.Դավթյան!H20+Ն.Մարգարյան!H20+Ա.Բաբայան!H20+Ա.Պետրոսյան!H20 -> 2 | I20: =Ա.Դավթյան!I20+Ն.Մարգարյան!I20+Ա.Բաբայան!I20+Ա.Պետրոսյան!I20 -> 1 | J20: =Ա.Դավթյան!J20+Ն.Մարգարյան!J20+Ա.Բաբայան!J20+Ա.Պետրոսյան!J20 -> 5 | K20: =Ա.Դավթյան!K20+Ն.Մարգարյան!K20+Ա.Բաբայան!K20+Ա.Պետրոսյան!K20 -> 6 | L20: =Ա.Դավթյան!L20+Ն.Մարգարյան!L20+Ա.Բաբայան!L20+Ա.Պետրոսյան!L20 -> 0 | M20: =Ա.Դավթյան!M20+Ն.Մարգարյան!M20+Ա.Բաբայան!M20+Ա.Պետրոսյան!M20 -> 2 | ... T20: =Ա.Դավթյան!T20+Ն.Մարգարյան!T20+Ա.Բաբայան!T20+Ա.Պետրոսյան!T20 -> 7 | U20: =Ա.Դավթյան!U20+Ն.Մարգարյան!U20+Ա.Բաբայան!U20+Ա.Պետրոսյան!E20 -> 9 | V20: =Ա.Դավթյան!V20+Ն.Մարգարյան!V20+Ա.Բաբայան!V20+Ա.Պետրոսյան!V20 -> 1 | W20: =E20+K20 -> #REF! | X20: =L20+T20+U20 -> 16 | Y20: =F20 -> 12 | Z20: =G20+H20 -> 12 | AA20: =F20 -> 12 | AB20: =I20+J20+K20 -> 12 | AC20: =K20 -> 6 | AD20: =M20+N20+O20+P20 -> 2
A21: 3 | B21: üÇ½ÇÏ³Ï³Ý ³ÝÓ³Ýó ëÝ³ÝÏáõÃÛ³Ý í»ñ³µ»ñÛ³É | E21: =Ա.Դավթյան!E21+Ն.Մարգարյան!E21+Ա.Բաբայան!E21+Ա.Պետրոսյան!#REF! -> #REF! | F21: =Ա.Դավթյան!F21+Ն.Մարգարյան!F21+Ա.Բաբայան!F21+Ա.Պետրոսյան!F21 -> 50 | G21: =Ա.Դավթյան!G21+Ն.Մարգարյան!G21+Ա.Բաբայան!G21+Ա.Պետրոսյան!G21 -> 48 | H21: =Ա.Դավթյան!H21+Ն.Մարգարյան!H21+Ա.Բաբայան!H21+Ա.Պետրոսյան!H21 -> 2 | I21: =Ա.Դավթյան!I21+Ն.Մարգարյան!I21+Ա.Բաբայան!I21+Ա.Պետրոսյան!I21 -> 0 | J21: =Ա.Դավթյան!J21+Ն.Մարգարյան!J21+Ա.Բաբայան!J21+Ա.Պետրոսյան!J21 -> 11 | K21: =Ա.Դավթյան!K21+Ն.Մարգարյան!K21+Ա.Բաբայան!K21+Ա.Պետրոսյան!K21 -> 39 | L21: =Ա.Դավթյան!L21+Ն.Մարգարյան!L21+Ա.Բաբայան!L21+Ա.Պետրոսյան!L21 -> 0 | M21: =Ա.Դավթյան!M21+Ն.Մարգարյան!M21+Ա.Բաբայան!M21+Ա.Պետրոսյան!M21 -> 14 | ... T21: =Ա.Դավթյան!T21+Ն.Մարգարյան!T21+Ա.Բաբայան!T21+Ա.Պետրոսյան!T21 -> 20 | U21: =Ա.Դավթյան!U21+Ն.Մարգարյան!U21+Ա.Բաբայան!U21+Ա.Պետրոսյան!E21 -> 127 | V21: =Ա.Դավթյան!V21+Ն.Մարգարյան!V21+Ա.Բաբայան!V21+Ա.Պետրոսյան!V21 -> 6 | W21: =E21+K21 -> #REF! | X21: =L21+T21+U21 -> 147 | Y21: =F21 -> 50 | Z21: =G21+H21 -> 50 | AA21: =F21 -> 50 | AB21: =I21+J21+K21 -> 50 | AC21: =K21 -> 39 | AD21: =M21+N21+O21+P21 -> 14
A22: 4 | B22: ԸՆԴՀԱՄԵՆԸ | E22: =Ա.Դավթյան!E22+Ն.Մարգարյան!E22+Ա.Բաբայան!E22+Ա.Պետրոսյան!E22 -> 176 | F22: =Ա.Դավթյան!F22+Ն.Մարգարյան!F22+Ա.Բաբայան!F22+Ա.Պետրոսյան!F22 -> 138 | G22: =Ա.Դավթյան!G22+Ն.Մարգարյան!G22+Ա.Բաբայան!G22+Ա.Պետրոսյան!G22 -> 133 | H22: =Ա.Դավթյան!H22+Ն.Մարգարյան!H22+Ա.Բաբայան!H22+Ա.Պետրոսյան!H22 -> 5 | I22: =Ա.Դավթյան!I22+Ն.Մարգարյան!I22+Ա.Բաբայան!I22+Ա.Պետրոսյան!I22 -> 1 | J22: =Ա.Դավթյան!J22+Ն.Մարգարյան!J22+Ա.Բաբայան!J22+Ա.Պետրոսյան!J22 -> 32 | K22: =Ա.Դավթյան!K22+Ն.Մարգարյան!K22+Ա.Բաբայան!K22+Ա.Պետրոսյան!K22 -> 105 | L22: =Ա.Դավթյան!L22+Ն.Մարգարյան!L22+Ա.Բաբայան!L22+Ա.Պետրոսյան!L22 -> 0 | ... V22: =Ա.Դավթյան!V22+Ն.Մարգարյան!V22+Ա.Բաբայան!V22+Ա.Պետրոսյան!V22 -> 6 | W22: =E22+K22 -> 281 | X22: =L22+T22+U22 -> 314 | Y22: =F22 -> 138 | Z22: =G22+H22 -> 138 | AA22: =F22 -> 138 | AB22: =I22+J22+K22 -> 138 | AC22: =K22 -> 105 | AD22: =M22+N22+O22+P22 -> 26

Sheet Ա.Դավթյան
A1: Ð²ÞìºîìàôÂÚàôÜ
A2: ºðºì²ÜÆ ²ՎԱՆ ºì ՆՈՐ ՆՈՐՔ ì²ðâ²Î²Ü Þðæ²ÜÜºðÆ ÀÜ¸Ð²Üàôð Æð²ì²êàôÂÚ²Ü ²è²æÆÜ ²îÚ²ÜÆ ¸²î²ð²ÜÆ ¸²î²ìàð
A3: ². ¸²ìÂÚ²ÜÆ | H3: ¶àðÌàôÜºàôÂÚ²Ü ìºð²´ºðÚ²È êÜ²ÜÎàôÂÚ²Ü ¶àðÌºðàì 2016թ. 1-ÆÜ ÎÆê²ØÚ²Î
A4: ìÇ×³Ï³·ñ³Ï³Ý ïáÕÇ Ñ³Ù³ñÁ | E4: ²Ý³í³ñï ·áñÍ»ñÇ ÙÝ³óáñ¹Á Ñ³ßí»ïáõ Å³Ù³Ý³Ï³ßñç³ÝÇ ëÏ½µáõÙ | F4: êï³óí³Í ¹ÇÙáõÙÝ»ñÇ (·áñÍ»ñ) ù³Ý³ÏÁ | L4: öáË³Ýóí»É ¿ ³ÛÉ ¹³ï³íáñÇ (Ï³½ÙÇ ÷á÷áËáõÃÛáõÝ) | M4: ì³ñáõÛÃ ÁÝ¹áõÝí³Í ¹ÇÙáõÙÝ»ñáí Ï³Û³óí³Í ¹³ï³Ï³Ý ³Ïï»ñ | Q4: Ü»ñÏ³Û³óí»É ¿ ýÇÝ³Ýë³Ï³Ý ³éáÕç³óÙ³Ý Íñ³·Çñ | T4: ²í³ñïí»É »Ý ·áñÍ»ñ Ñ³ßí»ïáõ Å³Ù³Ý³Ï³ßñç³ÝáõÙ | U4: ²Ý³í³ñï ·áñÍ»ñÇ ÙÝ³óáñ¹Á Ñ³ßí»ïáõ Å³Ù³Ý³Ï³ßñç³ÝÇ í»ñçáõÙ | V4: ´áÕáù³ñÏí»É »Ý í»ñ³ùÝÝÇã ¹³ï³ñ³Ý
F6: ÀÝ¹³Ù»ÝÁ | G6: ³Û¹ ÃíáõÙ Ñ³ñÏ³¹ñí³Í ëÝ³ÝÏáõÃÛáõÝ | H6: ³Û¹ ÃíáõÙ Ï³Ù³íáñ ëÝ³ÝÏáõÃÛáõÝ | I6: ëï³óí³Í ¹ÇÙáõÙÝ»ñÇ ÁÝÃ³óùÁ | M6: Ï³Û³óí»É ¿ å³ñï³å³ÝÇÝ ëÝ³ÝÏ ×³Ý³ã»Éáõ Ù³ëÇÝ í×Çé | N6: å³ñï³å³ÝÇÝ ëÝ³ÝÏ ×³Ý³ã»Éáõ ¹ÇÙáõÙÁ Ù»ñÅí»É ¿ | O6: ¹ÇÙáõÙÁ ÃáÕÝí»É ¿ ³é³Ýó ùÝÝáõÃÛ³Ý | P6: ³Ý³í³ñï (³Û¹ ÃíáõÙ Ï³ë»óí³Í) | Q6: ÀÝ¹³Ù»ÝÁ | R6: ÃáÕÝí»É ¿ ³é³Ýó ùÝÝ³ñÏÙ³Ý | S6: Ñ³ëï³ïí»É ¿
I8: ¸ÇÙáõÙÇ ÁÝ¹áõÝáõÙÁ Ù»ñÅí»É ¿ | J8: ¸ÇÙáõÙÁ í»ñ³¹³ñÓí»É ¿ | K8: ÀÝ¹áõÝí»É ¿ í³ñáõÛÃ
E18: 1 | F18: 2 | G18: 3 | H18: 4 | I18: 5 | J18: 6 | K18: 7 | L18: 8 | M18: 9 | N18: 10 | O18: 11 | P18: 12 | Q18: 13 | R18: 14 | S18: 15 | T18: 16 | U18: 17 | V18: 18 | W18: 1+7=8+16+17 | Y18: 2=3+4 | AA18: 2=5+6+7 | AC18: 7=9+10+11+12
A19: 1 | B19: Æñ³í³µ³Ý³Ï³Ý ³ÝÓÇ ëÝ³ÝÏáõÃÛ³Ý í»ñ³µ»ñÛ³É | E19: 1 | U19: 1 | W19: =E19+K19 -> 1 | X19: =L19+T19+U19 -> 1 | Y19: =F19 -> 0 | Z19: =G19+H19 -> 0 | AA19: =F19 -> 0 | AB19: =I19+J19+K19 -> 0 | AC19: =K19 -> 0 | AD19: =M19+N19+O19+P19 -> 0
A20: 2 | B20: ²ÝÑ³ï Ó»éÝ»ñ»óÇ ëÝ³ÝÏáõÃÛ³Ý í»ñ³µ»ñÛ³É | W20: =E20+K20 -> 0 | X20: =L20+T20+U20 -> 0 | Y20: =F20 -> 0 | Z20: =G20+H20 -> 0 | AA20: =F20 -> 0 | AB20: =I20+J20+K20 -> 0 | AC20: =K20 -> 0 | AD20: =M20+N20+O20+P20 -> 0
A21: 3 | B21: üÇ½ÇÏ³Ï³Ý ³ÝÓ³Ýó ëÝ³ÝÏáõÃÛ³Ý í»ñ³µ»ñÛ³É | E21: 4 | F21: 1 | G21: 1 | J21: 1 | T21: 1 | U21: 4 | W21: =E21+K21 -> 4 | X21: =L21+T21+U21 -> 5 | Y21: =F21 -> 1 | Z21: =G21+H21 -> 1 | AA21: =F21 -> 1 | AB21: =I21+J21+K21 -> 1 | AC21: =K21 -> 0 | AD21: =M21+N21+O21+P21 -> 0
A22: 4 | B22: ԸՆԴՀԱՄԵՆԸ | E22: 5 | F22: 1 | G22: 1 | J22: 1 | T22: 1 | U22: 5 | W22: =E22+K22 -> 5 | X22: =L22+T22+U22 -> 6 | Y22: =F22 -> 1 | Z22: =G22+H22 -> 1 | AA22: =F22 -> 1 | AB22: =I22+J22+K22 -> 1 | AC22: =K22 -> 0 | AD22: =M22+N22+O22+P22 -> 0

Sheet Ն.Մարգարյան
A1: Ð²ÞìºîìàôÂÚàôÜ
A2: ºðºì²ÜÆ ²ՎԱՆ ºì ՆՈՐ ՆՈՐՔ ì²ðâ²Î²Ü Þðæ²ÜÜºðÆ ÀÜ¸Ð²Üàôð Æð²ì²êàôÂÚ²Ü ²è²æÆÜ ²îÚ²ÜÆ ¸²î²ð²ÜÆ ¸²î²ìàð
A3: Ü. Ø²ð¶²ðÚ²ÜÆ | H3: ¶àðÌàôÜºàôÂÚ²Ü ìºð²´ºðÚ²È êÜ²ÜÎàôÂÚ²Ü ¶àðÌºðàì 2016թ. 1-ÆÜ ÎÆê²ØÚ²Î
A4: ìÇ×³Ï³·ñ³Ï³Ý ïáÕÇ Ñ³Ù³ñÁ | E4: ²Ý³í³ñï ·áñÍ»ñÇ ÙÝ³óáñ¹Á Ñ³ßí»ïáõ Å³Ù³Ý³Ï³ßñç³ÝÇ ëÏ½µáõÙ | F4: êï³óí³Í ¹ÇÙáõÙÝ»ñÇ (·áñÍ»ñ) ù³Ý³ÏÁ | L4: öáË³Ýóí»É ¿ ³ÛÉ ¹³ï³íáñÇ (Ï³½ÙÇ ÷á÷áËáõÃÛáõÝ) | M4: ì³ñáõÛÃ ÁÝ¹áõÝí³Í ¹ÇÙáõÙÝ»ñáí Ï³Û³óí³Í ¹³ï³Ï³Ý ³Ïï»ñ | Q4: Ü»ñÏ³Û³óí»É ¿ ýÇÝ³Ýë³Ï³Ý ³éáÕç³óÙ³Ý Íñ³·Çñ | T4: ²í³ñïí»É »Ý ·áñÍ»ñ Ñ³ßí»ïáõ Å³Ù³Ý³Ï³ßñç³ÝáõÙ | U4: ²Ý³í³ñï ·áñÍ»ñÇ ÙÝ³óáñ¹Á Ñ³ßí»ïáõ Å³Ù³Ý³Ï³ßñç³ÝÇ í»ñçáõÙ | V4: ´áÕáù³ñÏí»É »Ý í»ñ³ùÝÝÇã ¹³ï³ñ³Ý
F6: ÀÝ¹³Ù»ÝÁ | G6: ³Û¹ ÃíáõÙ Ñ³ñÏ³¹ñí³Í ëÝ³ÝÏáõÃÛáõÝ | H6: ³Û¹ ÃíáõÙ Ï³Ù³íáñ ëÝ³ÝÏáõÃÛáõÝ | I6: ëï³óí³Í ¹ÇÙáõÙÝ»ñÇ ÁÝÃ³óùÁ | M6: Ï³Û³óí»É ¿ å³ñï³å³ÝÇÝ ëÝ³ÝÏ ×³Ý³ã»Éáõ Ù³ëÇÝ í×Çé | N6: å³ñï³å³ÝÇÝ ëÝ³ÝÏ ×³Ý³ã»Éáõ ¹ÇÙáõÙÁ Ù»ñÅí»É ¿ | O6: ¹ÇÙáõÙÁ ÃáÕÝí»É ¿ ³é³Ýó ùÝÝáõÃÛ³Ý | P6: ³Ý³í³ñï (³Û¹ ÃíáõÙ Ï³ë»óí³Í) | Q6: ÀÝ¹³Ù»ÝÁ | R6: ÃáÕÝí»É ¿ ³é³Ýó ùÝÝ³ñÏÙ³Ý | S6: Ñ³ëï³ïí»É ¿
I8: ¸ÇÙáõÙÇ ÁÝ¹áõÝáõÙÁ Ù»ñÅí»É ¿ | J8: ¸ÇÙáõÙÁ í»ñ³¹³ñÓí»É ¿ | K8: ÀÝ¹áõÝí»É ¿ í³ñáõÛÃ
E18: 1 | F18: 2 | G18: 3 | H18: 4 | I18: 5 | J18: 6 | K18: 7 | L18: 8 | M18: 9 | N18: 10 | O18: 11 | P18: 12 | Q18: 13 | R18: 14 | S18: 15 | T18: 16 | U18: 17 | V18: 18 | W18: 1+7=8+16+17 | Y18: 2=3+4 | AA18: 2=5+6+7 | AC18: 7=9+10+11+12
A19: 1 | B19: Æñ³í³µ³Ý³Ï³Ý ³ÝÓÇ ëÝ³ÝÏáõÃÛ³Ý í»ñ³µ»ñÛ³É | W19: =E19+K19 -> 0 | X19: =L19+T19+U19 -> 0 | Y19: =F19 -> 0 | Z19: =G19+H19 -> 0 | AA19: =F19 -> 0 | AB19: =I19+J19+K19 -> 0 | AC19: =K19 -> 0 | AD19: =M19+N19+O19+P19 -> 0
A20: 2 | B20: ²ÝÑ³ï Ó»éÝ»ñ»óÇ ëÝ³ÝÏáõÃÛ³Ý í»ñ³µ»ñÛ³É | F20: 1 | G20: 1 | J20: 1 | T20: 1 | W20: =E20+K20 -> 0 | X20: =L20+T20+U20 -> 1 | Y20: =F20 -> 1 | Z20: =G20+H20 -> 1 | AA20: =F20 -> 1 | AB20: =I20+J20+K20 -> 1 | AC20: =K20 -> 0 | AD20: =M20+N20+O20+P20 -> 0
A21: 3 | B21: üÇ½ÇÏ³Ï³Ý ³ÝÓ³Ýó ëÝ³ÝÏáõÃÛ³Ý í»ñ³µ»ñÛ³É | W21: =E21+K21 -> 0 | X21: =L21+T21+U21 -> 0 | Y21: =F21 -> 0 | Z21: =G21+H21 -> 0 | AA21: =F21 -> 0 | AB21: =I21+J21+K21 -> 0 | AC21: =K21 -> 0 | AD21: =M21+N21+O21+P21 -> 0
A22: 4 | B22: ԸՆԴՀԱՄԵՆԸ | F22: 1 | G22: 1 | J22: 1 | T22: 1 | W22: =E22+K22 -> 0 | X22: =L22+T22+U22 -> 1 | Y22: =F22 -> 1 | Z22: =G22+H22 -> 1 | AA22: =F22 -> 1 | AB22: =I22+J22+K22 -> 1 | AC22: =K22 -> 0 | AD22: =M22+N22+O22+P22 -> 0

Sheet Ա.Բաբայան
A1: Ð²ÞìºîìàôÂÚàôÜ
A2: ºðºì²ÜÆ ²ՎԱՆ ºì ՆՈՐ ՆՈՐՔ ì²ðâ²Î²Ü Þðæ²ÜÜºðÆ ÀÜ¸Ð²Üàôð Æð²ì²êàôÂÚ²Ü ²è²æÆÜ ²îÚ²ÜÆ ¸²î²ð²ÜÆ ¸²î²ìàð
A3: ². ´²´²Ú²ÜÆ | H3: ¶àðÌàôÜºàôÂÚ²Ü ìºð²´ºðÚ²È êÜ²ÜÎàôÂÚ²Ü ¶àðÌºðàì 2016թ. 1-ÆÜ ÎÆê²ØÚ²Î
A4: ìÇ×³Ï³·ñ³Ï³Ý ïáÕÇ Ñ³Ù³ñÁ | E4: ²Ý³í³ñï ·áñÍ»ñÇ ÙÝ³óáñ¹Á Ñ³ßí»ïáõ Å³Ù³Ý³Ï³ßñç³ÝÇ ëÏ½µáõÙ | F4: êï³óí³Í ¹ÇÙáõÙÝ»ñÇ (·áñÍ»ñ) ù³Ý³ÏÁ | L4: öáË³Ýóí»É ¿ ³ÛÉ ¹³ï³íáñÇ (Ï³½ÙÇ ÷á÷áËáõÃÛáõÝ) | M4: ì³ñáõÛÃ ÁÝ¹áõÝí³Í ¹ÇÙáõÙÝ»ñáí Ï³Û³óí³Í ¹³ï³Ï³Ý ³Ïï»ñ | Q4: Ü»ñÏ³Û³óí»É ¿ ýÇÝ³Ýë³Ï³Ý ³éáÕç³óÙ³Ý Íñ³·Çñ | T4: ²í³ñïí»É »Ý ·áñÍ»ñ Ñ³ßí»ïáõ Å³Ù³Ý³Ï³ßñç³ÝáõÙ | U4: ²Ý³í³ñï ·áñÍ»ñÇ ÙÝ³óáñ¹Á Ñ³ßí»ïáõ Å³Ù³Ý³Ï³ßñç³ÝÇ í»ñçáõÙ | V4: ´áÕáù³ñÏí»É »Ý í»ñ³ùÝÝÇã ¹³ï³ñ³Ý
F6: ÀÝ¹³Ù»ÝÁ | G6: ³Û¹ ÃíáõÙ Ñ³ñÏ³¹ñí³Í ëÝ³ÝÏáõÃÛáõÝ | H6: ³Û¹ ÃíáõÙ Ï³Ù³íáñ ëÝ³ÝÏáõÃÛáõÝ | I6: ëï³óí³Í ¹ÇÙáõÙÝ»ñÇ ÁÝÃ³óùÁ | M6: Ï³Û³óí»É ¿ å³ñï³å³ÝÇÝ ëÝ³ÝÏ ×³Ý³ã»Éáõ Ù³ëÇÝ í×Çé | N6: å³ñï³å³ÝÇÝ ëÝ³ÝÏ ×³Ý³ã»Éáõ ¹ÇÙáõÙÁ Ù»ñÅí»É ¿ | O6: ¹ÇÙáõÙÁ ÃáÕÝí»É ¿ ³é³Ýó ùÝÝáõÃÛ³Ý | P6: ³Ý³í³ñï (³Û¹ ÃíáõÙ Ï³ë»óí³Í) | Q6: ÀÝ¹³Ù»ÝÁ | R6: ÃáÕÝí»É ¿ ³é³Ýó ùÝÝ³ñÏÙ³Ý | S6: Ñ³ëï³ïí»É ¿
I8: ¸ÇÙáõÙÇ ÁÝ¹áõÝáõÙÁ Ù»ñÅí»É ¿ | J8: ¸ÇÙáõÙÁ í»ñ³¹³ñÓí»É ¿ | K8: ÀÝ¹áõÝí»É ¿ í³ñáõÛÃ
E18: 1 | F18: 2 | G18: 3 | H18: 4 | I18: 5 | J18: 6 | K18: 7 | L18: 8 | M18: 9 | N18: 10 | O18: 11 | P18: 12 | Q18: 13 | R18: 14 | S18: 15 | T18: 16 | U18: 17 | V18: 18 | W18: 1+7=8+16+17 | Y18: 2=3+4 | AA18: 2=5+6+7 | AC18: 7=9+10+11+12
A19: 1 | B19: Æñ³í³µ³Ý³Ï³Ý ³ÝÓÇ ëÝ³ÝÏáõÃÛ³Ý í»ñ³µ»ñÛ³É | E19: 33 | F19: 32 | G19: 32 | J19: 5 | K19: 27 | M19: 4 | T19: 14 | U19: 53 | W19: =E19+K19 -> 60 | X19: =L19+T19+U19 -> 67 | Y19: =F19 -> 32 | Z19: =G19+H19 -> 32 | AA19: =F19 -> 32 | AB19: =I19+J19+K19 -> 32 | AC19: =K19 -> 27 | AD19: =M19+N19+O19+P19 -> 4
A20: 2 | B20: ²ÝÑ³ï Ó»éÝ»ñ»óÇ ëÝ³ÝÏáõÃÛ³Ý í»ñ³µ»ñÛ³É | E20: 5 | F20: 4 | G20: 2 | H20: 2 | J20: 2 | K20: 2 | M20: 2 | T20: 3 | U20: 6 | W20: =E20+K20 -> 7 | X20: =L20+T20+U20 -> 9 | Y20: =F20 -> 4 | Z20: =G20+H20 -> 4 | AA20: =F20 -> 4 | AB20: =I20+J20+K20 -> 4 | AC20: =K20 -> 2 | AD20: =M20+N20+O20+P20 -> 2
A21: 3 | B21: üÇ½ÇÏ³Ï³Ý ³ÝÓ³Ýó ëÝ³ÝÏáõÃÛ³Ý í»ñ³µ»ñÛ³É | E21: 38 | F21: 34 | G21: 34 | J21: 2 | K21: 32 | M21: 3 | T21: 10 | U21: 60 | V21: 3 | W21: =E21+K21 -> 70 | X21: =L21+T21+U21 -> 70 | Y21: =F21 -> 34 | Z21: =G21+H21 -> 34 | AA21: =F21 -> 34 | AB21: =I21+J21+K21 -> 34 | AC21: =K21 -> 32 | AD21: =M21+N21+O21+P21 -> 3
A22: 4 | B22: ԸՆԴՀԱՄԵՆԸ | E22: 76 | F22: 70 | G22: 68 | H22: 2 | J22: 9 | K22: 61 | M22: 9 | T22: 27 | U22: 119 | V22: 3 | W22: =E22+K22 -> 137 | X22: =L22+T22+U22 -> 146 | Y22: =F22 -> 70 | Z22: =G22+H22 -> 70 | AA22: =F22 -> 70 | AB22: =I22+J22+K22 -> 70 | AC22: =K22 -> 61 | AD22: =M22+N22+O22+P22 -> 9
C27: Ծանոթություն թիվ ԵԱՆԴ/0084/04/16 սնանկության գործը կարչվել է | I27: կարճվել է
C28: Ծանոթություն թիվ ԵԱՆԴ/0061/04/16 սնանկության գործը կարճվել է

Sheet Ա.Պետրոսյան
A1: Ð²ÞìºîìàôÂÚàôÜ
A2: ºðºì²ÜÆ ²ՎԱՆ ºì ՆՈՐ ՆՈՐՔ ì²ðâ²Î²Ü Þðæ²ÜÜºðÆ ÀÜ¸Ð²Üàôð Æð²ì²êàôÂÚ²Ü ²è²æÆÜ ²îÚ²ÜÆ ¸²î²ð²ÜÆ ¸²î²ìàð
A3: ². äºîðàêÚ²ÜÆ | H3: ¶àðÌàôÜºàôÂÚ²Ü ìºð²´ºðÚ²È êÜ²ÜÎàôÂÚ²Ü ¶àðÌºðàì 2016թ. 1-ÆÜ ÎÆê²ØÚ²Î
A4: ìÇ×³Ï³·ñ³Ï³Ý ïáÕÇ Ñ³Ù³ñÁ | E4: ²Ý³í³ñï ·áñÍ»ñÇ ÙÝ³óáñ¹Á Ñ³ßí»ïáõ Å³Ù³Ý³Ï³ßñç³ÝÇ ëÏ½µáõÙ | F4: êï³óí³Í ¹ÇÙáõÙÝ»ñÇ (·áñÍ»ñ) ù³Ý³ÏÁ | L4: öáË³Ýóí»É ¿ ³ÛÉ ¹³ï³íáñÇ (Ï³½ÙÇ ÷á÷áËáõÃÛáõÝ) | M4: ì³ñáõÛÃ ÁÝ¹áõÝí³Í ¹ÇÙáõÙÝ»ñáí Ï³Û³óí³Í ¹³ï³Ï³Ý ³Ïï»ñ | Q4: Ü»ñÏ³Û³óí»É ¿ ýÇÝ³Ýë³Ï³Ý ³éáÕç³óÙ³Ý Íñ³·Çñ | T4: ²í³ñïí»É »Ý ·áñÍ»ñ Ñ³ßí»ïáõ Å³Ù³Ý³Ï³ßñç³ÝáõÙ | U4: ²Ý³í³ñï ·áñÍ»ñÇ ÙÝ³óáñ¹Á Ñ³ßí»ïáõ Å³Ù³Ý³Ï³ßñç³ÝÇ í»ñçáõÙ | V4: ´áÕáù³ñÏí»É »Ý í»ñ³ùÝÝÇã ¹³ï³ñ³Ý
F6: ÀÝ¹³Ù»ÝÁ | G6: ³Û¹ ÃíáõÙ Ñ³ñÏ³¹ñí³Í ëÝ³ÝÏáõÃÛáõÝ | H6: ³Û¹ ÃíáõÙ Ï³Ù³íáñ ëÝ³ÝÏáõÃÛáõÝ | I6: ëï³óí³Í ¹ÇÙáõÙÝ»ñÇ ÁÝÃ³óùÁ | M6: Ï³Û³óí»É ¿ å³ñï³å³ÝÇÝ ëÝ³ÝÏ ×³Ý³ã»Éáõ Ù³ëÇÝ í×Çé | N6: å³ñï³å³ÝÇÝ ëÝ³ÝÏ ×³Ý³ã»Éáõ ¹ÇÙáõÙÁ Ù»ñÅí»É ¿ | O6: ¹ÇÙáõÙÁ ÃáÕÝí»É ¿ ³é³Ýó ùÝÝáõÃÛ³Ý | P6: ³Ý³í³ñï (³Û¹ ÃíáõÙ Ï³ë»óí³Í) | Q6: ÀÝ¹³Ù»ÝÁ | R6: ÃáÕÝí»É ¿ ³é³Ýó ùÝÝ³ñÏÙ³Ý | S6: Ñ³ëï³ïí»É ¿
I8: ¸ÇÙáõÙÇ ÁÝ¹áõÝáõÙÁ Ù»ñÅí»É ¿ | J8: ¸ÇÙáõÙÁ í»ñ³¹³ñÓí»É ¿ | K8: ÀÝ¹áõÝí»É ¿ í³ñáõÛÃ
E18: 1 | F18: 2 | G18: 3 | H18: 4 | I18: 5 | J18: 6 | K18: 7 | L18: 8 | M18: 9 | N18: 10 | O18: 11 | P18: 12 | Q18: 13 | R18: 14 | S18: 15 | T18: 16 | U18: 17 | V18: 18 | W18: 1+7=8+16+17 | Y18: 2=3+4 | AA18: 2=5+6+7 | AC18: 7=9+10+11+12
A19: 1 | B19: Æñ³í³µ³Ý³Ï³Ý ³ÝÓÇ ëÝ³ÝÏáõÃÛ³Ý í»ñ³µ»ñÛ³É | E19: 29 | F19: 44 | G19: 43 | H19: 1 | J19: 11 | K19: 33 | M19: 6 | T19: 12 | U19: 63 | W19: =E19+K19 -> 62 | X19: =L19+T19+U19 -> 75 | Y19: =F19 -> 44 | Z19: =G19+H19 -> 44 | AA19: =F19 -> 44 | AB19: =I19+J19+K19 -> 44 | AC19: =K19 -> 33 | AD19: =M19+N19+O19+P19 -> 6
A20: 2 | B20: ²ÝÑ³ï Ó»éÝ»ñ»óÇ ëÝ³ÝÏáõÃÛ³Ý í»ñ³µ»ñÛ³É | E20: 3 | F20: 7 | G20: 7 | I20: 1 | J20: 2 | K20: 4 | T20: 3 | U20: 7 | V20: 1 | W20: =E20+K20 -> 7 | X20: =L20+T20+U20 -> 10 | Y20: =F20 -> 7 | Z20: =G20+H20 -> 7 | AA20: =F20 -> 7 | AB20: =I20+J20+K20 -> 7 | AC20: =K20 -> 4 | AD20: =M20+N20+O20+P20 -> 0
A21: 3 | B21: üÇ½ÇÏ³Ï³Ý ³ÝÓ³Ýó ëÝ³ÝÏáõÃÛ³Ý í»ñ³µ»ñÛ³É | E21: 63 | F21: 15 | G21: 13 | H21: 2 | J21: 8 | K21: 7 | M21: 11 | T21: 9 | U21: 67 | V21: 3 | W21: =E21+K21 -> 70 | X21: =L21+T21+U21 -> 76 | Y21: =F21 -> 15 | Z21: =G21+H21 -> 15 | AA21: =F21 -> 15 | AB21: =I21+J21+K21 -> 15 | AC21: =K21 -> 7 | AD21: =M21+N21+O21+P21 -> 11
A22: 4 | B22: ԸՆԴՀԱՄԵՆԸ | E22: 95 | F22: 66 | G22: 63 | H22: 3 | I22: 1 | J22: 21 | K22: 44 | M22: 17 | T22: 24 | U22: 137 | V22: 3 | W22: =E22+K22 -> 139 | X22: =L22+T22+U22 -> 161 | Y22: =F22 -> 66 | Z22: =G22+H22 -> 66 | AA22: =F22 -> 66 | AB22: =I22+J22+K22 -> 66 | AC22: =K22 -> 44 | AD22: =M22+N22+O22+P22 -> 17
