Workbook

Sheet Ընդհանուր
A1: 2017Ã. | C1: Ð²ÞìºîìàôÂÚàôÜ
A2: ÐÐ ÀÜ¸Ð²Üàôð Æð²ì²êàôÂÚ²Ü ²è²æÆÜ ²îÚ²ÜÆ ¸²î²ð²ÜÜºðÆ ¶àðÌàôÜºàôÂÚ²Ü ìºð²´ºðÚ²È
A3: êÜ²ÜÎàôÂÚ²Ü ¶àðÌºðàì
A4: ìÇ×³Ï³·ñ³Ï³Ý ïáÕÇ Ñ³Ù³ñÁ | E4: ²Ý³í³ñï ·áñÍ»ñÇ ÙÝ³óáñ¹Á Ñ³ßí»ïáõ Å³Ù³Ý³Ï³ßñç³ÝÇ ëÏ½µáõÙ | F4: êï³óí³Í ¹ÇÙáõÙÝ»ñÇ (·áñÍ»ñ) ù³Ý³ÏÁ | L4: öáË³Ýóí»É ¿ ³ÛÉ ¹³ï³íáñÇ (Ï³½ÙÇ ÷á÷áËáõÃÛáõÝ) | M4: ì³ñáõÛÃ ÁÝ¹áõÝí³Í ¹ÇÙáõÙÝ»ñáí Ï³Û³óí³Í ¹³ï³Ï³Ý ³Ïï»ñ | Q4: Ü»ñÏ³Û³óí»É ¿ ýÇÝ³Ýë³Ï³Ý ³éáÕç³óÙ³Ý Íñ³·Çñ | T4: ²í³ñïí»É »Ý ·áñÍ»ñ Ñ³ßí»ïáõ Å³Ù³Ý³Ï³ßñç³ÝáõÙ | U4: ²Ý³í³ñï ·áñÍ»ñÇ ÙÝ³óáñ¹Á Ñ³ßí»ïáõ Å³Ù³Ý³Ï³ßñç³ÝÇ í»ñçáõÙ | V4: ´áÕáù³ñÏí»É »Ý í»ñ³ùÝÝÇã ¹³ï³ñ³Ý
F6: ÀÝ¹³Ù»ÝÁ | G6: ³Û¹ ÃíáõÙ Ñ³ñÏ³¹ñí³Í ëÝ³ÝÏáõÃÛáõÝ | H6: ³Û¹ ÃíáõÙ Ï³Ù³íáñ ëÝ³ÝÏáõÃÛáõÝ | I6: ëï³óí³Í ¹ÇÙáõÙÝ»ñÇ ÁÝÃ³óùÁ | M6: Ï³Û³óí»É ¿ å³ñï³å³ÝÇÝ ëÝ³ÝÏ ×³Ý³ã»Éáõ Ù³ëÇÝ í×Çé | N6: å³ñï³å³ÝÇÝ ëÝ³ÝÏ ×³Ý³ã»Éáõ ¹ÇÙáõÙÁ Ù»ñÅí»É ¿ | O6: ¹ÇÙáõÙÁ ÃáÕÝí»É ¿ ³é³Ýó ùÝÝáõÃÛ³Ý | P6: ³Ý³í³ñï (³Û¹ ÃíáõÙ Ï³ë»óí³Í) | Q6: ÀÝ¹³Ù»ÝÁ | R6: ÃáÕÝí»É ¿ ³é³Ýó ùÝÝ³ñÏÙ³Ý | S6: Ñ³ëï³ïí»É ¿
I8: ¸ÇÙáõÙÇ ÁÝ¹áõÝáõÙÁ Ù»ñÅí»É ¿ | J8: ¸ÇÙáõÙÁ í»ñ³¹³ñÓí»É ¿ | K8: ÀÝ¹áõÝí»É ¿ í³ñáõÛÃ
E18: 1 | F18: 2 | G18: 3 | H18: 4 | I18: 5 | J18: 6 | K18: 7 | L18: 8 | M18: 9 | N18: 10 | O18: 11 | P18: 12 | Q18: 13 | R18: 14 | S18: 15 | T18: 16 | U18: 17 | V18: 18 | W18: 1+7=8+16+17 | Y18: 2=3+4 | AA18: 2=5+6+7 | AC18: 7=9+10+11+12
A19: 1 | B19: Æñ³í³µ³Ý³Ï³Ý ³ÝÓÇ ëÝ³ÝÏáõÃÛ³Ý í»ñ³µ»ñÛ³É | E19: =SUM(Աջափնյակ:Սյունիք!E19) -> 3267 | F19: =SUM(Աջափնյակ:Սյունիք!F19) -> 777 | G19: =SUM(Աջափնյակ:Սյունիք!G19) -> 754 | H19: =SUM(Աջափնյակ:Սյունիք!H19) -> 23 | I19: =SUM(Աջափնյակ:Սյունիք!I19) -> 0 | J19: =SUM(Աջափնյակ:Սյունիք!J19) -> 100 | K19: =SUM(Աջափնյակ:Սյունիք!K19) -> 677 | L19: =SUM(Աջափնյակ:Սյունիք!L19) -> 16 | ... V19: =SUM(Աջափնյակ:Սյունիք!V19) -> 201 | W19: =E19+K19 -> 3944 | X19: =L19+T19+U19 -> 3941 | Y19: =F19 -> 777 | Z19: =G19+H19 -> 777 | AA19: =F19 -> 777 | AB19: =I19+J19+K19 -> 777 | AC19: =K19 -> 677 | AD19: =M19+N19+O19+P19 -> 662
A20: 2 | B20: ²ÝÑ³ï Ó»éÝ»ñ»óÇ ëÝ³ÝÏáõÃÛ³Ý í»ñ³µ»ñÛ³É | E20: =SUM(Աջափնյակ:Սյունիք!E20) -> 792 | F20: =SUM(Աջափնյակ:Սյունիք!F20) -> 295 | G20: =SUM(Աջափնյակ:Սյունիք!G20) -> 282 | H20: =SUM(Աջափնյակ:Սյունիք!H20) -> 13 | I20: =SUM(Աջափնյակ:Սյունիք!I20) -> 1 | J20: =SUM(Աջափնյակ:Սյունիք!J20) -> 42 | K20: =SUM(Աջափնյակ:Սյունիք!K20) -> 252 | L20: =SUM(Աջափնյակ:Սյունիք!L20) -> 11 | ... V20: =SUM(Աջափնյակ:Սյունիք!V20) -> 45 | W20: =E20+K20 -> 1044 | X20: =L20+T20+U20 -> 1044 | Y20: =F20 -> 295 | Z20: =G20+H20 -> 295 | AA20: =F20 -> 295 | AB20: =I20+J20+K20 -> 295 | AC20: =K20 -> 252 | AD20: =M20+N20+O20+P20 -> 252
A21: 3 | B21: üÇ½ÇÏ³Ï³Ý ³ÝÓ³Ýó ëÝ³ÝÏáõÃÛ³Ý í»ñ³µ»ñÛ³É | E21: =SUM(Աջափնյակ:Սյունիք!E21) -> 2646 | F21: =SUM(Աջափնյակ:Սյունիք!F21) -> 1477 | G21: =SUM(Աջափնյակ:Սյունիք!G21) -> 916 | H21: =SUM(Աջափնյակ:Սյունիք!H21) -> 561 | I21: =SUM(Աջափնյակ:Սյունիք!I21) -> 10 | J21: =SUM(Աջափնյակ:Սյունիք!J21) -> 463 | K21: =SUM(Աջափնյակ:Սյունիք!K21) -> 1004 | L21: =SUM(Աջափնյակ:Սյունիք!L21) -> 6 | ... V21: =SUM(Աջափնյակ:Սյունիք!V21) -> 119 | W21: =E21+K21 -> 3650 | X21: =L21+T21+U21 -> 3648 | Y21: =F21 -> 1477 | Z21: =G21+H21 -> 1477 | AA21: =F21 -> 1477 | AB21: =I21+J21+K21 -> 1477 | AC21: =K21 -> 1004 | AD21: =M21+N21+O21+P21 -> 994
A22: 4 | B22: ԸՆԴԱՄԵՆԸ | E22: =SUM(Աջափնյակ:Սյունիք!E22) -> 6705 | F22: =SUM(Աջափնյակ:Սյունիք!F22) -> 2549 | G22: =SUM(Աջափնյակ:Սյունիք!G22) -> 1952 | H22: =SUM(Աջափնյակ:Սյունիք!H22) -> 597 | I22: =SUM(Աջափնյակ:Սյունիք!I22) -> 11 | J22: =SUM(Աջափնյակ:Սյունիք!J22) -> 605 | K22: =SUM(Աջափնյակ:Սյունիք!K22) -> 1933 | L22: =SUM(Աջափնյակ:Սյունիք!L22) -> 33 | ... V22: =SUM(Աջափնյակ:Սյունիք!V22) -> 365 | W22: =SUM(W19:W21) -> 8638 | X22: =SUM(X19:X21) -> 8633 | Y22: =SUM(Y19:Y21) -> 2549 | Z22: =SUM(Z19:Z21) -> 2549 | AA22: =SUM(AA19:AA21) -> 2549 | AB22: =SUM(AB19:AB21) -> 2549 | AC22: =SUM(AC19:AC21) -> 1933 | AD22: =SUM(AD19:AD21) -> 1908
C26: Ì³ÝáÃáõÃÛáõÝ. 4 ·áñÍ áõÕ³ñÏí»É ¿ ÁÝ¹¹³ïáõÃÛ³Ùµ, 21 ·áñÍ Ï³ñ×í»É ¿, 1 ¹ÇÙáõÙÇ í»ñ³µ»ñÛ³É 29.12.2017Ã. ¹ñáõÃÛ³Ùµ áñáßáõÙ ãÇ Ï³Û³óí»É

Sheet Աջափնյակ
A1: 2017Ã. | C1: Ð²ÞìºîìàôÂÚàôÜ
A2: ºðºì²ÜÆ ²æ²öÜÚ²Î ºì ¸²ìÂ²ÞºÜ ì²ðâ²Î²Ü Þðæ²ÜÜºðÆ ÀÜ¸Ð²Üàôð Æð²ì²êàôÂÚ²Ü ²è²æÆÜ ²îÚ²ÜÆ ¸²î²ð²ÜÆ ¶àðÌàôÜºàôÂÚ²Ü ìºð²´ºðÚ²È
A3: êÜ²ÜÎàôÂÚ²Ü ¶àðÌºðàì
A4: ìÇ×³Ï³·ñ³Ï³Ý ïáÕÇ Ñ³Ù³ñÁ | E4: ²Ý³í³ñï ·áñÍ»ñÇ ÙÝ³óáñ¹Á Ñ³ßí»ïáõ Å³Ù³Ý³Ï³ßñç³ÝÇ ëÏ½µáõÙ | F4: êï³óí³Í ¹ÇÙáõÙÝ»ñÇ (·áñÍ»ñ) ù³Ý³ÏÁ | L4: öáË³Ýóí»É ¿ ³ÛÉ ¹³ï³íáñÇ (Ï³½ÙÇ ÷á÷áËáõÃÛáõÝ) | M4: ì³ñáõÛÃ ÁÝ¹áõÝí³Í ¹ÇÙáõÙÝ»ñáí Ï³Û³óí³Í ¹³ï³Ï³Ý ³Ïï»ñ | Q4: Ü»ñÏ³Û³óí»É ¿ ýÇÝ³Ýë³Ï³Ý ³éáÕç³óÙ³Ý Íñ³·Çñ | T4: ²í³ñïí»É »Ý ·áñÍ»ñ Ñ³ßí»ïáõ Å³Ù³Ý³Ï³ßñç³ÝáõÙ | U4: ²Ý³í³ñï ·áñÍ»ñÇ ÙÝ³óáñ¹Á Ñ³ßí»ïáõ Å³Ù³Ý³Ï³ßñç³ÝÇ í»ñçáõÙ | V4: ´áÕáù³ñÏí»É »Ý í»ñ³ùÝÝÇã ¹³ï³ñ³Ý
F6: ÀÝ¹³Ù»ÝÁ | G6: ³Û¹ ÃíáõÙ Ñ³ñÏ³¹ñí³Í ëÝ³ÝÏáõÃÛáõÝ | H6: ³Û¹ ÃíáõÙ Ï³Ù³íáñ ëÝ³ÝÏáõÃÛáõÝ | I6: ëï³óí³Í ¹ÇÙáõÙÝ»ñÇ ÁÝÃ³óùÁ | M6: Ï³Û³óí»É ¿ å³ñï³å³ÝÇÝ ëÝ³ÝÏ ×³Ý³ã»Éáõ Ù³ëÇÝ í×Çé | N6: å³ñï³å³ÝÇÝ ëÝ³ÝÏ ×³Ý³ã»Éáõ ¹ÇÙáõÙÁ Ù»ñÅí»É ¿ | O6: ¹ÇÙáõÙÁ ÃáÕÝí»É ¿ ³é³Ýó ùÝÝáõÃÛ³Ý | P6: ³Ý³í³ñï (³Û¹ ÃíáõÙ Ï³ë»óí³Í) | Q6: ÀÝ¹³Ù»ÝÁ | R6: ÃáÕÝí»É ¿ ³é³Ýó ùÝÝ³ñÏÙ³Ý | S6: Ñ³ëï³ïí»É ¿
I8: ¸ÇÙáõÙÇ ÁÝ¹áõÝáõÙÁ Ù»ñÅí»É ¿ | J8: ¸ÇÙáõÙÁ í»ñ³¹³ñÓí»É ¿ | K8: ÀÝ¹áõÝí»É ¿ í³ñáõÛÃ
E18: 1 | F18: 2 | G18: 3 | H18: 4 | I18: 5 | J18: 6 | K18: 7 | L18: 8 | M18: 9 | N18: 10 | O18: 11 | P18: 12 | Q18: 13 | R18: 14 | S18: 15 | T18: 16 | U18: 17 | V18: 18 | W18: 1+7=8+16+17 | Y18: 2=3+4 | AA18: 2=5+6+7 | AC18: 7=9+10+11+12
A19: 1 | B19: Æñ³í³µ³Ý³Ï³Ý ³ÝÓÇ ëÝ³ÝÏáõÃÛ³Ý í»ñ³µ»ñÛ³É | E19: 183 | F19: 62 | G19: 62 | H19: 0 | I19: 0 | J19: 16 | K19: 46 | L19: 0 | M19: 16 | N19: 1 | O19: 0 | P19: 29 | Q19: 0 | R19: 0 | S19: 0 | T19: 11 | U19: 218 | V19: 3 | W19: =E19+K19 -> 229 | X19: =L19+T19+U19 -> 229 | Y19: =F19 -> 62 | Z19: =G19+H19 -> 62 | AA19: =F19 -> 62 | AB19: =I19+J19+K19 -> 62 | AC19: =K19 -> 46 | AD19: =M19+N19+O19+P19 -> 46
A20: 2 | B20: ²ÝÑ³ï Ó»éÝ»ñ»óÇ ëÝ³ÝÏáõÃÛ³Ý í»ñ³µ»ñÛ³É | E20: 77 | F20: 27 | G20: 27 | H20: 0 | I20: 0 | J20: 5 | K20: 22 | L20: 0 | M20: 6 | N20: 4 | O20: 0 | P20: 12 | Q20: 0 | R20: 0 | S20: 0 | T20: 16 | U20: 83 | V20: 1 | W20: =E20+K20 -> 99 | X20: =L20+T20+U20 -> 99 | Y20: =F20 -> 27 | Z20: =G20+H20 -> 27 | AA20: =F20 -> 27 | AB20: =I20+J20+K20 -> 27 | AC20: =K20 -> 22 | AD20: =M20+N20+O20+P20 -> 22
A21: 3 | B21: üÇ½ÇÏ³Ï³Ý ³ÝÓ³Ýó ëÝ³ÝÏáõÃÛ³Ý í»ñ³µ»ñÛ³É | E21: 164 | F21: 81 | G21: 55 | H21: 26 | I21: 0 | J21: 42 | K21: 39 | L21: 0 | M21: 13 | N21: 7 | O21: 0 | P21: 19 | Q21: 0 | R21: 0 | S21: 0 | T21: 26 | U21: 177 | V21: 2 | W21: =E21+K21 -> 203 | X21: =L21+T21+U21 -> 203 | Y21: =F21 -> 81 | Z21: =G21+H21 -> 81 | AA21: =F21 -> 81 | AB21: =I21+J21+K21 -> 81 | AC21: =K21 -> 39 | AD21: =M21+N21+O21+P21 -> 39
A22: 4 | B22: ԸՆԴԱՄԵՆԸ | E22: =SUM(E19:E21) -> 424 | F22: =SUM(F19:F21) -> 170 | G22: =SUM(G19:G21) -> 144 | H22: =SUM(H19:H21) -> 26 | I22: =SUM(I19:I21) -> 0 | J22: =SUM(J19:J21) -> 63 | K22: =SUM(K19:K21) -> 107 | L22: =SUM(L19:L21) -> 0 | ... AD22: =SUM(AD19:AD21) -> 107

Sheet Արաբկիր
A1: 2017Ã. | C1: Ð²ÞìºîìàôÂÚàôÜ
A2: ºðºì²ÜÆ ²ð²´ÎÆð ºì ø²Ü²øºè-¼ºÚÂàôÜ ì²ðâ²Î²Ü Þðæ²ÜÜºðÆ ÀÜ¸Ð²Üàôð Æð²ì²êàôÂÚ²Ü ²è²æÆÜ ²îÚ²ÜÆ ¸²î²ð²ÜÆ
H3: ¶àðÌàôÜºàôÂÚ²Ü ìºð²´ºðÚ²È êÜ²ÜÎàôÂÚ²Ü ¶àðÌºðՈՎ
A4: ìÇ×³Ï³·ñ³Ï³Ý ïáÕÇ Ñ³Ù³ñÁ | E4: ²Ý³í³ñï ·áñÍ»ñÇ ÙÝ³óáñ¹Á Ñ³ßí»ïáõ Å³Ù³Ý³Ï³ßñç³ÝÇ ëÏ½µáõÙ | F4: êï³óí³Í ¹ÇÙáõÙÝ»ñÇ (·áñÍ»ñ) ù³Ý³ÏÁ | L4: öáË³Ýóí»É ¿ ³ÛÉ ¹³ï³íáñÇ (Ï³½ÙÇ ÷á÷áËáõÃÛáõÝ) | M4: ì³ñáõÛÃ ÁÝ¹áõÝí³Í ¹ÇÙáõÙÝ»ñáí Ï³Û³óí³Í ¹³ï³Ï³Ý ³Ïï»ñ | Q4: Ü»ñÏ³Û³óí»É ¿ ýÇÝ³Ýë³Ï³Ý ³éáÕç³óÙ³Ý Íñ³·Çñ | T4: ²í³ñïí»É »Ý ·áñÍ»ñ Ñ³ßí»ïáõ Å³Ù³Ý³Ï³ßñç³ÝáõÙ | U4: ²Ý³í³ñï ·áñÍ»ñÇ ÙÝ³óáñ¹Á Ñ³ßí»ïáõ Å³Ù³Ý³Ï³ßñç³ÝÇ í»ñçáõÙ | V4: ´áÕáù³ñÏí»É »Ý í»ñ³ùÝÝÇã ¹³ï³ñ³Ý
F6: ÀÝ¹³Ù»ÝÁ | G6: ³Û¹ ÃíáõÙ Ñ³ñÏ³¹ñí³Í ëÝ³ÝÏáõÃÛáõÝ | H6: ³Û¹ ÃíáõÙ Ï³Ù³íáñ ëÝ³ÝÏáõÃÛáõÝ | I6: ëï³óí³Í ¹ÇÙáõÙÝ»ñÇ ÁÝÃ³óùÁ | M6: Ï³Û³óí»É ¿ å³ñï³å³ÝÇÝ ëÝ³ÝÏ ×³Ý³ã»Éáõ Ù³ëÇÝ í×Çé | N6: å³ñï³å³ÝÇÝ ëÝ³ÝÏ ×³Ý³ã»Éáõ ¹ÇÙáõÙÁ Ù»ñÅí»É ¿ | O6: ¹ÇÙáõÙÁ ÃáÕÝí»É ¿ ³é³Ýó ùÝÝáõÃÛ³Ý | P6: ³Ý³í³ñï (³Û¹ ÃíáõÙ Ï³ë»óí³Í) | Q6: ÀÝ¹³Ù»ÝÁ | R6: ÃáÕÝí»É ¿ ³é³Ýó ùÝÝ³ñÏÙ³Ý | S6: Ñ³ëï³ïí»É ¿
I8: ¸ÇÙáõÙÇ ÁÝ¹áõÝáõÙÁ Ù»ñÅí»É ¿ | J8: ¸ÇÙáõÙÁ í»ñ³¹³ñÓí»É ¿ | K8: ÀÝ¹áõÝí»É ¿ í³ñáõÛÃ
E18: 1 | F18: 2 | G18: 3 | H18: 4 | I18: 5 | J18: 6 | K18: 7 | L18: 8 | M18: 9 | N18: 10 | O18: 11 | P18: 12 | Q18: 13 | R18: 14 | S18: 15 | T18: 16 | U18: 17 | V18: 18 | W18: 1+7=8+16+17 | Y18: 2=3+4 | AA18: 2=5+6+7 | AC18: 7=9+10+11+12
A19: 1 | B19: Æñ³í³µ³Ý³Ï³Ý ³ÝÓÇ ëÝ³ÝÏáõÃÛ³Ý í»ñ³µ»ñÛ³É | E19: 461 | F19: =[1]Ա.Դանիելյան!F19+'[1]Ռ. Բունիաթյան'!F19+[1]Ս.Հովսեփյան!F19+[1]Ս.Թադևոսյան!F19 -> 96 | G19: =[1]Ա.Դանիելյան!G19+'[1]Ռ. Բունիաթյան'!G19+[1]Ս.Հովսեփյան!G19+[1]Ս.Թադևոսյան!G19 -> 93 | H19: =[1]Ա.Դանիելյան!H19+'[1]Ռ. Բունիաթյան'!H19+[1]Ս.Հովսեփյան!H19+[1]Ս.Թադևոսյան!H19 -> 3 | I19: =[1]Ա.Դանիելյան!I19+'[1]Ռ. Բունիաթյան'!I19+[1]Ս.Հովսեփյան!I19+[1]Ս.Թադևոսյան!I19 -> 0 | J19: =[1]Ա.Դանիելյան!J19+'[1]Ռ. Բունիաթյան'!J19+[1]Ս.Հովսեփյան!J19+[1]Ս.Թադևոսյան!J19 -> 18 | K19: =[1]Ա.Դանիելյան!K19+'[1]Ռ. Բունիաթյան'!K19+[1]Ս.Հովսեփյան!K19+[1]Ս.Թադևոսյան!K19 -> 78 | L19: =[1]Ա.Դանիելյան!L19+'[1]Ռ. Բունիաթյան'!L19+[1]Ս.Հովսեփյան!L19+[1]Ս.Թադևոսյան!L19 -> 0 | M19: =[1]Ա.Դանիելյան!M19+'[1]Ռ. Բունիաթյան'!M19+[1]Ս.Հովսեփյան!M19+[1]Ս.Թադևոսյան!M19 -> 56 | ... U19: =[1]Ա.Դանիելյան!U19+'[1]Ռ. Բունիաթյան'!U19+[1]Ս.Հովսեփյան!U19+[1]Ս.Թադևոսյան!U19 -> 418 | V19: =[2]Ա.Դանիելյան!V19+'[2]Ռ. Բունիաթյան'!V19+[2]Ս.Հովսեփյան!V19+[2]Ս.Թադևոսյան!V19 -> 48 | W19: =E19+K19 -> 539 | X19: =L19+T19+U19 -> 539 | Y19: =F19 -> 96 | Z19: =G19+H19 -> 96 | AA19: =F19 -> 96 | AB19: =I19+J19+K19 -> 96 | AC19: =K19 -> 78 | AD19: =M19+N19+O19+P19 -> 78
A20: 2 | B20: ²ÝÑ³ï Ó»éÝ»ñ»óÇ ëÝ³ÝÏáõÃÛ³Ý í»ñ³µ»ñÛ³É | E20: 77 | F20: 24 | G20: 20 | H20: =[1]Ա.Դանիելյան!H20+'[1]Ռ. Բունիաթյան'!H20+[1]Ս.Հովսեփյան!H20+[1]Ս.Թադևոսյան!H20 -> 4 | I20: =[1]Ա.Դանիելյան!I20+'[1]Ռ. Բունիաթյան'!I20+[1]Ս.Հովսեփյան!I20+[1]Ս.Թադևոսյան!I20 -> 0 | J20: =[1]Ա.Դանիելյան!J20+'[1]Ռ. Բունիաթյան'!J20+[1]Ս.Հովսեփյան!J20+[1]Ս.Թադևոսյան!J20 -> 0 | K20: =[1]Ա.Դանիելյան!K20+'[1]Ռ. Բունիաթյան'!K20+[1]Ս.Հովսեփյան!K20+[1]Ս.Թադևոսյան!K20 -> 24 | L20: =[1]Ա.Դանիելյան!L20+'[1]Ռ. Բունիաթյան'!L20+[1]Ս.Հովսեփյան!L20+[1]Ս.Թադևոսյան!L20 -> 0 | M20: =[1]Ա.Դանիելյան!M20+'[1]Ռ. Բունիաթյան'!M20+[1]Ս.Հովսեփյան!M20+[1]Ս.Թադևոսյան!M20 -> 18 | N20: =[1]Ա.Դանիելյան!N20+'[1]Ռ. Բունիաթյան'!N20+[1]Ս.Հովսեփյան!N20+[1]Ս.Թադևոսյան!N20 -> 3 | O20: =[1]Ա.Դանիելյան!O20+'[1]Ռ. Բունիաթյան'!O20+[1]Ս.Հովսեփյան!O20+[1]Ս.Թադևոսյան!O20 -> 0 | ... U20: =[1]Ա.Դանիելյան!U20+'[1]Ռ. Բունիաթյան'!U20+[1]Ս.Հովսեփյան!U20+[1]Ս.Թադևոսյան!U20 -> 85 | V20: =[2]Ա.Դանիելյան!V20+'[2]Ռ. Բունիաթյան'!V20+[2]Ս.Հովսեփյան!V20+[2]Ս.Թադևոսյան!V20 -> 2 | W20: =E20+K20 -> 101 | X20: =L20+T20+U20 -> 101 | Y20: =F20 -> 24 | Z20: =G20+H20 -> 24 | AA20: =F20 -> 24 | AB20: =I20+J20+K20 -> 24 | AC20: =K20 -> 24 | AD20: =M20+N20+O20+P20 -> 24
A21: 3 | B21: üÇ½ÇÏ³Ï³Ý ³ÝÓ³Ýó ëÝ³ÝÏáõÃÛ³Ý í»ñ³µ»ñÛ³É | E21: 215 | F21: =[1]Ա.Դանիելյան!F21+'[1]Ռ. Բունիաթյան'!F21+[1]Ս.Հովսեփյան!F21+[1]Ս.Թադևոսյան!F21 -> 113 | G21: 70 | H21: =[1]Ա.Դանիելյան!H21+'[1]Ռ. Բունիաթյան'!H21+[1]Ս.Հովսեփյան!H21+[1]Ս.Թադևոսյան!H21 -> 43 | I21: =[1]Ա.Դանիելյան!I21+'[1]Ռ. Բունիաթյան'!I21+[1]Ս.Հովսեփյան!I21+[1]Ս.Թադևոսյան!I21 -> 1 | J21: =[1]Ա.Դանիելյան!J21+'[1]Ռ. Բունիաթյան'!J21+[1]Ս.Հովսեփյան!J21+[1]Ս.Թադևոսյան!J21 -> 39 | K21: =[1]Ա.Դանիելյան!K21+'[1]Ռ. Բունիաթյան'!K21+[1]Ս.Հովսեփյան!K21+[1]Ս.Թադևոսյան!K21 -> 73 | L21: =[1]Ա.Դանիելյան!L21+'[1]Ռ. Բունիաթյան'!L21+[1]Ս.Հովսեփյան!L21+[1]Ս.Թադևոսյան!L21 -> 0 | M21: =[1]Ա.Դանիելյան!M21+'[1]Ռ. Բունիաթյան'!M21+[1]Ս.Հովսեփյան!M21+[1]Ս.Թադևոսյան!M21 -> 45 | N21: =[1]Ա.Դանիելյան!N21+'[1]Ռ. Բունիաթյան'!N21+[1]Ս.Հովսեփյան!N21+[1]Ս.Թադևոսյան!N21 -> 5 | O21: =[1]Ա.Դանիելյան!O21+'[1]Ռ. Բունիաթյան'!O21+[1]Ս.Հովսեփյան!O21+[1]Ս.Թադևոսյան!O21 -> 0 | ... U21: =[1]Ա.Դանիելյան!U21+'[1]Ռ. Բունիաթյան'!U21+[1]Ս.Հովսեփյան!U21+[1]Ս.Թադևոսյան!U21 -> 221 | V21: =[2]Ա.Դանիելյան!V21+'[2]Ռ. Բունիաթյան'!V21+[2]Ս.Հովսեփյան!V21+[2]Ս.Թադևոսյան!V21 -> 11 | W21: =E21+K21 -> 288 | X21: =L21+T21+U21 -> 288 | Y21: =F21 -> 113 | Z21: =G21+H21 -> 113 | AA21: =F21 -> 113 | AB21: =I21+J21+K21 -> 113 | AC21: =K21 -> 73 | AD21: =M21+N21+O21+P21 -> 73
A22: 4 | B22: ԸՆԴԱՄԵՆԸ | E22: =SUM(E19:E21) -> 753 | F22: =SUM(F19:F21) -> 233 | G22: =SUM(G19:G21) -> 183 | H22: =SUM(H19:H21) -> 50 | I22: =SUM(I19:I21) -> 1 | J22: =SUM(J19:J21) -> 57 | K22: =SUM(K19:K21) -> 175 | L22: =SUM(L19:L21) -> 0 | ... AD22: =SUM(AD19:AD21) -> 175

Sheet Մալաթիա
A1: 2017Ã. | C1: Ð²ÞìºîìàôÂÚàôÜ
A2: ºðºì²ÜÆ Ø²È²ÂÆ²-êº´²êîÆ² ì²ðâ²Î²Ü Þðæ²ÜÆ ÀÜ¸Ð²Üàôð Æð²ì²êàôÂÚ²Ü ²è²æÆÜ ²îÚ²ÜÆ ¸²î²ð²ÜÆ
H3: ¶àðÌàôÜºàôÂÚ²Ü ìºð²´ºðÚ²È êÜ²ÜÎàôÂÚ²Ü ¶àðÌºðàì
A4: ìÇ×³Ï³·ñ³Ï³Ý ïáÕÇ Ñ³Ù³ñÁ | E4: ²Ý³í³ñï ·áñÍ»ñÇ ÙÝ³óáñ¹Á Ñ³ßí»ïáõ Å³Ù³Ý³Ï³ßñç³ÝÇ ëÏ½µáõÙ | F4: êï³óí³Í ¹ÇÙáõÙÝ»ñÇ (·áñÍ»ñ) ù³Ý³ÏÁ | L4: öáË³Ýóí»É ¿ ³ÛÉ ¹³ï³íáñÇ (Ï³½ÙÇ ÷á÷áËáõÃÛáõÝ) | M4: ì³ñáõÛÃ ÁÝ¹áõÝí³Í ¹ÇÙáõÙÝ»ñáí Ï³Û³óí³Í ¹³ï³Ï³Ý ³Ïï»ñ | Q4: Ü»ñÏ³Û³óí»É ¿ ýÇÝ³Ýë³Ï³Ý ³éáÕç³óÙ³Ý Íñ³·Çñ | T4: ²í³ñïí»É »Ý ·áñÍ»ñ Ñ³ßí»ïáõ Å³Ù³Ý³Ï³ßñç³ÝáõÙ | U4: ²Ý³í³ñï ·áñÍ»ñÇ ÙÝ³óáñ¹Á Ñ³ßí»ïáõ Å³Ù³Ý³Ï³ßñç³ÝÇ í»ñçáõÙ | V4: ´áÕáù³ñÏí»É »Ý í»ñ³ùÝÝÇã ¹³ï³ñ³Ý
F6: ÀÝ¹³Ù»ÝÁ | G6: ³Û¹ ÃíáõÙ Ñ³ñÏ³¹ñí³Í ëÝ³ÝÏáõÃÛáõÝ | H6: ³Û¹ ÃíáõÙ Ï³Ù³íáñ ëÝ³ÝÏáõÃÛáõÝ | I6: ëï³óí³Í ¹ÇÙáõÙÝ»ñÇ ÁÝÃ³óùÁ | M6: Ï³Û³óí»É ¿ å³ñï³å³ÝÇÝ ëÝ³ÝÏ ×³Ý³ã»Éáõ Ù³ëÇÝ í×Çé | N6: å³ñï³å³ÝÇÝ ëÝ³ÝÏ ×³Ý³ã»Éáõ ¹ÇÙáõÙÁ Ù»ñÅí»É ¿ | O6: ¹ÇÙáõÙÁ ÃáÕÝí»É ¿ ³é³Ýó ùÝÝáõÃÛ³Ý | P6: ³Ý³í³ñï (³Û¹ ÃíáõÙ Ï³ë»óí³Í) | Q6: ÀÝ¹³Ù»ÝÁ | R6: ÃáÕÝí»É ¿ ³é³Ýó ùÝÝ³ñÏÙ³Ý | S6: Ñ³ëï³ïí»É ¿
I8: ¸ÇÙáõÙÇ ÁÝ¹áõÝáõÙÁ Ù»ñÅí»É ¿ | J8: ¸ÇÙáõÙÁ í»ñ³¹³ñÓí»É ¿ | K8: ÀÝ¹áõÝí»É ¿ í³ñáõÛÃ
E18: 1 | F18: 2 | G18: 3 | H18: 4 | I18: 5 | J18: 6 | K18: 7 | L18: 8 | M18: 9 | N18: 10 | O18: 11 | P18: 12 | Q18: 13 | R18: 14 | S18: 15 | T18: 16 | U18: 17 | V18: 18 | W18: 1+7=8+16+17 | Y18: 2=3+4 | AA18: 2=5+6+7 | AC18: 7=9+10+11+12
A19: 1 | B19: Æñ³í³µ³Ý³Ï³Ý ³ÝÓÇ ëÝ³ÝÏáõÃÛ³Ý í»ñ³µ»ñÛ³É | E19: 153 | F19: 40 | G19: 37 | H19: 3 | J19: 4 | K19: 36 | M19: 21 | N19: 6 | O19: 1 | P19: 8 | Q19: 1 | S19: 1 | T19: 27 | U19: 162 | V19: 9 | W19: =E19+K19 -> 189 | X19: =L19+T19+U19 -> 189 | Y19: =F19 -> 40 | Z19: =G19+H19 -> 40 | AA19: =F19 -> 40 | AB19: =I19+J19+K19 -> 40 | AC19: =K19 -> 36 | AD19: =M19+N19+O19+P19 -> 36
A20: 2 | B20: ²ÝÑ³ï Ó»éÝ»ñ»óÇ ëÝ³ÝÏáõÃÛ³Ý í»ñ³µ»ñÛ³É | E20: 55 | F20: 15 | G20: 15 | J20: 2 | K20: 13 | M20: 5 | N20: 1 | O20: 2 | P20: 5 | T20: 9 | U20: 59 | V20: 6 | W20: =E20+K20 -> 68 | X20: =L20+T20+U20 -> 68 | Y20: =F20 -> 15 | Z20: =G20+H20 -> 15 | AA20: =F20 -> 15 | AB20: =I20+J20+K20 -> 15 | AC20: =K20 -> 13 | AD20: =M20+N20+O20+P20 -> 13
A21: 3 | B21: üÇ½ÇÏ³Ï³Ý ³ÝÓ³Ýó ëÝ³ÝÏáõÃÛ³Ý í»ñ³µ»ñÛ³É | E21: 180 | F21: 96 | G21: 65 | H21: 31 | I21: 1 | J21: 22 | K21: 73 | M21: 49 | N21: 5 | O21: 2 | P21: 17 | T21: 19 | U21: 234 | V21: 14 | W21: =E21+K21 -> 253 | X21: =L21+T21+U21 -> 253 | Y21: =F21 -> 96 | Z21: =G21+H21 -> 96 | AA21: =F21 -> 96 | AB21: =I21+J21+K21 -> 96 | AC21: =K21 -> 73 | AD21: =M21+N21+O21+P21 -> 73
A22: 4 | B22: ԸՆԴԱՄԵՆԸ | E22: =SUM(E19:E21) -> 388 | F22: =SUM(F19:F21) -> 151 | G22: =SUM(G19:G21) -> 117 | H22: =SUM(H19:H21) -> 34 | I22: =SUM(I19:I21) -> 1 | J22: =SUM(J19:J21) -> 28 | K22: =SUM(K19:K21) -> 122 | L22: =SUM(L19:L21) -> 0 | ... AD22: =SUM(AD19:AD21) -> 122

Sheet Կենտրոն
A1: 2017Ã. | C1: Ð²ÞìºîìàôÂÚàôÜ
A2: ºðºì²ÜÆ ԿԵՆՏՐՈՆ ºì ՆՈՐՔ ՄԱՐԱՇ ì²ðâ²Î²Ü Þðæ²ÜÜºðÆ ÀÜ¸Ð²Üàôð Æð²ì²êàôÂÚ²Ü ²è²æÆÜ ²îÚ²ÜÆ ¸²î²ð²ÜÆ
H3: ¶àðÌàôÜºàôÂÚ²Ü ìºð²´ºðÚ²È êÜ²ÜÎàôÂÚ²Ü ¶àðÌºðՈՎ
A4: ìÇ×³Ï³·ñ³Ï³Ý ïáÕÇ Ñ³Ù³ñÁ | E4: ²Ý³í³ñï ·áñÍ»ñÇ ÙÝ³óáñ¹Á Ñ³ßí»ïáõ Å³Ù³Ý³Ï³ßñç³ÝÇ ëÏ½µáõÙ | F4: êï³óí³Í ¹ÇÙáõÙÝ»ñÇ (·áñÍ»ñ) ù³Ý³ÏÁ | L4: öáË³Ýóí»É ¿ ³ÛÉ ¹³ï³íáñÇ (Ï³½ÙÇ ÷á÷áËáõÃÛáõÝ) | M4: ì³ñáõÛÃ ÁÝ¹áõÝí³Í ¹ÇÙáõÙÝ»ñáí Ï³Û³óí³Í ¹³ï³Ï³Ý ³Ïï»ñ | Q4: Ü»ñÏ³Û³óí»É ¿ ýÇÝ³Ýë³Ï³Ý ³éáÕç³óÙ³Ý Íñ³·Çñ | T4: ²í³ñïí»É »Ý ·áñÍ»ñ Ñ³ßí»ïáõ Å³Ù³Ý³Ï³ßñç³ÝáõÙ | U4: ²Ý³í³ñï ·áñÍ»ñÇ ÙÝ³óáñ¹Á Ñ³ßí»ïáõ Å³Ù³Ý³Ï³ßñç³ÝÇ í»ñçáõÙ | V4: ´áÕáù³ñÏí»É »Ý í»ñ³ùÝÝÇã ¹³ï³ñ³Ý
F6: ÀÝ¹³Ù»ÝÁ | G6: ³Û¹ ÃíáõÙ Ñ³ñÏ³¹ñí³Í ëÝ³ÝÏáõÃÛáõÝ | H6: ³Û¹ ÃíáõÙ Ï³Ù³íáñ ëÝ³ÝÏáõÃÛáõÝ | I6: ëï³óí³Í ¹ÇÙáõÙÝ»ñÇ ÁÝÃ³óùÁ | M6: Ï³Û³óí»É ¿ å³ñï³å³ÝÇÝ ëÝ³ÝÏ ×³Ý³ã»Éáõ Ù³ëÇÝ í×Çé | N6: å³ñï³å³ÝÇÝ ëÝ³ÝÏ ×³Ý³ã»Éáõ ¹ÇÙáõÙÁ Ù»ñÅí»É ¿ | O6: ¹ÇÙáõÙÁ ÃáÕÝí»É ¿ ³é³Ýó ùÝÝáõÃÛ³Ý | P6: ³Ý³í³ñï (³Û¹ ÃíáõÙ Ï³ë»óí³Í) | Q6: ÀÝ¹³Ù»ÝÁ | R6: ÃáÕÝí»É ¿ ³é³Ýó ùÝÝ³ñÏÙ³Ý | S6: Ñ³ëï³ïí»É ¿
I8: ¸ÇÙáõÙÇ ÁÝ¹áõÝáõÙÁ Ù»ñÅí»É ¿ | J8: ¸ÇÙáõÙÁ í»ñ³¹³ñÓí»É ¿ | K8: ÀÝ¹áõÝí»É ¿ í³ñáõÛÃ
E18: 1 | F18: 2 | G18: 3 | H18: 4 | I18: 5 | J18: 6 | K18: 7 | L18: 8 | M18: 9 | N18: 10 | O18: 11 | P18: 12 | Q18: 13 | R18: 14 | S18: 15 | T18: 16 | U18: 17 | V18: 18 | W18: 1+7=8+16+17 | Y18: 2=3+4 | AA18: 2=5+6+7 | AC18: 7=9+10+11+12
A19: 1 | B19: Æñ³í³µ³Ý³Ï³Ý ³ÝÓÇ ëÝ³ÝÏáõÃÛ³Ý í»ñ³µ»ñÛ³É | E19: 843 | F19: 124 | G19: 117 | H19: 7 | J19: 6 | K19: 118 | M19: 46 | N19: 10 | O19: 1 | P19: 60 | T19: 204 | U19: 755 | V19: 72 | W19: =E19+K19 -> 961 | X19: =L19+T19+U19 -> 959 | Y19: =F19 -> 124 | Z19: =G19+H19 -> 124 | AA19: =F19 -> 124 | AB19: =I19+J19+K19 -> 124 | AC19: =K19 -> 118 | AD19: =M19+N19+O19+P19 -> 117
A20: 2 | B20: ²ÝÑ³ï Ó»éÝ»ñ»óÇ ëÝ³ÝÏáõÃÛ³Ý í»ñ³µ»ñÛ³É | E20: 85 | F20: 22 | G20: 20 | H20: 2 | I20: 1 | J20: 1 | K20: 20 | M20: 10 | N20: 1 | P20: 9 | T20: 18 | U20: 87 | V20: 16 | W20: =E20+K20 -> 105 | X20: =L20+T20+U20 -> 105 | Y20: =F20 -> 22 | Z20: =G20+H20 -> 22 | AA20: =F20 -> 22 | AB20: =I20+J20+K20 -> 22 | AC20: =K20 -> 20 | AD20: =M20+N20+O20+P20 -> 20
A21: 3 | B21: üÇ½ÇÏ³Ï³Ý ³ÝÓ³Ýó ëÝ³ÝÏáõÃÛ³Ý í»ñ³µ»ñÛ³É | E21: 458 | F21: 119 | G21: 95 | H21: 24 | J21: 6 | K21: 113 | M21: 53 | N21: 8 | O21: 3 | P21: 49 | T21: 102 | U21: 469 | V21: 43 | W21: =E21+K21 -> 571 | X21: =L21+T21+U21 -> 571 | Y21: =F21 -> 119 | Z21: =G21+H21 -> 119 | AA21: =F21 -> 119 | AB21: =I21+J21+K21 -> 119 | AC21: =K21 -> 113 | AD21: =M21+N21+O21+P21 -> 113
A22: 4 | B22: ԸՆԴԱՄԵՆԸ | E22: =SUM(E19:E21) -> 1386 | F22: =SUM(F19:F21) -> 265 | G22: =SUM(G19:G21) -> 232 | H22: =SUM(H19:H21) -> 33 | I22: =SUM(I19:I21) -> 1 | J22: =SUM(J19:J21) -> 13 | K22: =SUM(K19:K21) -> 251 | L22: =SUM(L19:L21) -> 0 | ... AD22: =SUM(AD19:AD21) -> 250
C26: Ì³ÝáÃáõÃÛáõÝ. 2 գործ ուղարկվել է ընդդատությամբ,
C27: ëï³óí»É ¿ 2 ¹ÇÙáõÙ ëÝ³ÝÏáõÃÛ³Ý íï³Ý·Ç í»ñ³µ»ñÛ³É

Sheet Շենգավիթ
A1: 2017Ã. | C1: Ð²ÞìºîìàôÂÚàôÜ
A2: ºðºì²ÜÆ ՇԵՆԳԱՎԻԹ ì²ðâ²Î²Ü Þðæ²ÜÆ ÀÜ¸Ð²Üàôð Æð²ì²êàôÂÚ²Ü ²è²æÆÜ ²îÚ²ÜÆ ¸²î²ð²ÜÆ
H3: ¶àðÌàôÜºàôÂÚ²Ü ìºð²´ºðÚ²È êÜ²ÜÎàôÂÚ²Ü ¶àðÌºðՈՎ
A4: ìÇ×³Ï³·ñ³Ï³Ý ïáÕÇ Ñ³Ù³ñÁ | E4: ²Ý³í³ñï ·áñÍ»ñÇ ÙÝ³óáñ¹Á Ñ³ßí»ïáõ Å³Ù³Ý³Ï³ßñç³ÝÇ ëÏ½µáõÙ | F4: êï³óí³Í ¹ÇÙáõÙÝ»ñÇ (·áñÍ»ñ) ù³Ý³ÏÁ | L4: öáË³Ýóí»É ¿ ³ÛÉ ¹³ï³íáñÇ (Ï³½ÙÇ ÷á÷áËáõÃÛáõÝ) | M4: ì³ñáõÛÃ ÁÝ¹áõÝí³Í ¹ÇÙáõÙÝ»ñáí Ï³Û³óí³Í ¹³ï³Ï³Ý ³Ïï»ñ | Q4: Ü»ñÏ³Û³óí»É ¿ ýÇÝ³Ýë³Ï³Ý ³éáÕç³óÙ³Ý Íñ³·Çñ | T4: ²í³ñïí»É »Ý ·áñÍ»ñ Ñ³ßí»ïáõ Å³Ù³Ý³Ï³ßñç³ÝáõÙ | U4: ²Ý³í³ñï ·áñÍ»ñÇ ÙÝ³óáñ¹Á Ñ³ßí»ïáõ Å³Ù³Ý³Ï³ßñç³ÝÇ í»ñçáõÙ | V4: ´áÕáù³ñÏí»É »Ý í»ñ³ùÝÝÇã ¹³ï³ñ³Ý
F6: ÀÝ¹³Ù»ÝÁ | G6: ³Û¹ ÃíáõÙ Ñ³ñÏ³¹ñí³Í ëÝ³ÝÏáõÃÛáõÝ | H6: ³Û¹ ÃíáõÙ Ï³Ù³íáñ ëÝ³ÝÏáõÃÛáõÝ | I6: ëï³óí³Í ¹ÇÙáõÙÝ»ñÇ ÁÝÃ³óùÁ | M6: Ï³Û³óí»É ¿ å³ñï³å³ÝÇÝ ëÝ³ÝÏ ×³Ý³ã»Éáõ Ù³ëÇÝ í×Çé | N6: å³ñï³å³ÝÇÝ ëÝ³ÝÏ ×³Ý³ã»Éáõ ¹ÇÙáõÙÁ Ù»ñÅí»É ¿ | O6: ¹ÇÙáõÙÁ ÃáÕÝí»É ¿ ³é³Ýó ùÝÝáõÃÛ³Ý | P6: ³Ý³í³ñï (³Û¹ ÃíáõÙ Ï³ë»óí³Í) | Q6: ÀÝ¹³Ù»ÝÁ | R6: ÃáÕÝí»É ¿ ³é³Ýó ùÝÝ³ñÏÙ³Ý | S6: Ñ³ëï³ïí»É ¿
I8: ¸ÇÙáõÙÇ ÁÝ¹áõÝáõÙÁ Ù»ñÅí»É ¿ | J8: ¸ÇÙáõÙÁ í»ñ³¹³ñÓí»É ¿ | K8: ÀÝ¹áõÝí»É ¿ í³ñáõÛÃ
E18: 1 | F18: 2 | G18: 3 | H18: 4 | I18: 5 | J18: 6 | K18: 7 | L18: 8 | M18: 9 | N18: 10 | O18: 11 | P18: 12 | Q18: 13 | R18: 14 | S18: 15 | T18: 16 | U18: 17 | V18: 18 | W18: 1+7=8+16+17 | Y18: 2=3+4 | AA18: 2=5+6+7 | AC18: 7=9+10+11+12
A19: 1 | B19: Æñ³í³µ³Ý³Ï³Ý ³ÝÓÇ ëÝ³ÝÏáõÃÛ³Ý í»ñ³µ»ñÛ³É | E19: 191 | F19: 100 | G19: 100 | H19: 0 | I19: 0 | J19: 28 | K19: 72 | L19: 16 | M19: 30 | N19: 7 | O19: 0 | P19: 30 | Q19: 2 | R19: 1 | S19: 1 | T19: 42 | U19: 205 | V19: 18 | W19: =E19+K19 -> 263 | X19: =L19+T19+U19 -> 263 | Y19: =F19 -> 100 | Z19: =G19+H19 -> 100 | AA19: =F19 -> 100 | AB19: =I19+J19+K19 -> 100 | AC19: =K19 -> 72 | AD19: =M19+N19+O19+P19 -> 67
A20: 2 | B20: ²ÝÑ³ï Ó»éÝ»ñ»óÇ ëÝ³ÝÏáõÃÛ³Ý í»ñ³µ»ñÛ³É | E20: 50 | F20: 55 | G20: 55 | H20: =[3]Ա.Կուբանյան!H20+[3]Ա.Չիչոյան!H20 -> 0 | I20: =[3]Ա.Կուբանյան!I20+[3]Ա.Չիչոյան!I20 -> 0 | J20: 14 | K20: 41 | L20: 11 | M20: 13 | N20: 3 | O20: 0 | P20: 25 | Q20: 1 | R20: 0 | S20: 1 | T20: 13 | U20: 67 | V20: 8 | W20: =E20+K20 -> 91 | X20: =L20+T20+U20 -> 91 | Y20: =F20 -> 55 | Z20: =G20+H20 -> 55 | AA20: =F20 -> 55 | AB20: =I20+J20+K20 -> 55 | AC20: =K20 -> 41 | AD20: =M20+N20+O20+P20 -> 41
A21: 3 | B21: üÇ½ÇÏ³Ï³Ý ³ÝÓ³Ýó ëÝ³ÝÏáõÃÛ³Ý í»ñ³µ»ñÛ³É | E21: 133 | F21: 149 | G21: 124 | H21: 25 | I21: 3 | J21: 68 | K21: 78 | L21: 5 | M21: 25 | N21: 7 | O21: 0 | P21: 45 | Q21: 1 | R21: 0 | S21: 1 | T21: 28 | U21: 178 | V21: 8 | W21: =E21+K21 -> 211 | X21: =L21+T21+U21 -> 211 | Y21: =F21 -> 149 | Z21: =G21+H21 -> 149 | AA21: =F21 -> 149 | AB21: =I21+J21+K21 -> 149 | AC21: =K21 -> 78 | AD21: =M21+N21+O21+P21 -> 77
A22: 4 | B22: ԸՆԴԱՄԵՆԸ | E22: =SUM(E19:E21) -> 374 | F22: =SUM(F19:F21) -> 304 | G22: =SUM(G19:G21) -> 279 | H22: =SUM(H19:H21) -> 25 | I22: =SUM(I19:I21) -> 3 | J22: =SUM(J19:J21) -> 110 | K22: =SUM(K19:K21) -> 191 | L22: =SUM(L19:L21) -> 32 | ... AD22: =SUM(AD19:AD21) -> 185
D27: Ì³ÝáÃáõÃÛáõÝ. 6 գործ կարճվել է

Sheet Ավան
A1: 2017Ã. | C1: Ð²ÞìºîìàôÂÚàôÜ
A2: ºðºì²ÜÆ ²ՎԱՆ ºì ՆՈՐ ՆՈՐՔ ì²ðâ²Î²Ü Þðæ²ÜÜºðÆ ÀÜ¸Ð²Üàôð Æð²ì²êàôÂÚ²Ü ²è²æÆÜ ²îÚ²ÜÆ ¸²î²ð²ÜÆ
H3: ¶àðÌàôÜºàôÂÚ²Ü ìºð²´ºðÚ²È êÜ²ÜÎàôÂÚ²Ü ¶àðÌºðàì
A4: ìÇ×³Ï³·ñ³Ï³Ý ïáÕÇ Ñ³Ù³ñÁ | E4: ²Ý³í³ñï ·áñÍ»ñÇ ÙÝ³óáñ¹Á Ñ³ßí»ïáõ Å³Ù³Ý³Ï³ßñç³ÝÇ ëÏ½µáõÙ | F4: êï³óí³Í ¹ÇÙáõÙÝ»ñÇ (·áñÍ»ñ) ù³Ý³ÏÁ | L4: öáË³Ýóí»É ¿ ³ÛÉ ¹³ï³íáñÇ (Ï³½ÙÇ ÷á÷áËáõÃÛáõÝ) | M4: ì³ñáõÛÃ ÁÝ¹áõÝí³Í ¹ÇÙáõÙÝ»ñáí Ï³Û³óí³Í ¹³ï³Ï³Ý ³Ïï»ñ | Q4: Ü»ñÏ³Û³óí»É ¿ ýÇÝ³Ýë³Ï³Ý ³éáÕç³óÙ³Ý Íñ³·Çñ | T4: ²í³ñïí»É »Ý ·áñÍ»ñ Ñ³ßí»ïáõ Å³Ù³Ý³Ï³ßñç³ÝáõÙ | U4: ²Ý³í³ñï ·áñÍ»ñÇ ÙÝ³óáñ¹Á Ñ³ßí»ïáõ Å³Ù³Ý³Ï³ßñç³ÝÇ í»ñçáõÙ | V4: ´áÕáù³ñÏí»É »Ý í»ñ³ùÝÝÇã ¹³ï³ñ³Ý
F6: ÀÝ¹³Ù»ÝÁ | G6: ³Û¹ ÃíáõÙ Ñ³ñÏ³¹ñí³Í ëÝ³ÝÏáõÃÛáõÝ | H6: ³Û¹ ÃíáõÙ Ï³Ù³íáñ ëÝ³ÝÏáõÃÛáõÝ | I6: ëï³óí³Í ¹ÇÙáõÙÝ»ñÇ ÁÝÃ³óùÁ | M6: Ï³Û³óí»É ¿ å³ñï³å³ÝÇÝ ëÝ³ÝÏ ×³Ý³ã»Éáõ Ù³ëÇÝ í×Çé | N6: å³ñï³å³ÝÇÝ ëÝ³ÝÏ ×³Ý³ã»Éáõ ¹ÇÙáõÙÁ Ù»ñÅí»É ¿ | O6: ¹ÇÙáõÙÁ ÃáÕÝí»É ¿ ³é³Ýó ùÝÝáõÃÛ³Ý | P6: ³Ý³í³ñï (³Û¹ ÃíáõÙ Ï³ë»óí³Í) | Q6: ÀÝ¹³Ù»ÝÁ | R6: ÃáÕÝí»É ¿ ³é³Ýó ùÝÝ³ñÏÙ³Ý | S6: Ñ³ëï³ïí»É ¿
I8: ¸ÇÙáõÙÇ ÁÝ¹áõÝáõÙÁ Ù»ñÅí»É ¿ | J8: ¸ÇÙáõÙÁ í»ñ³¹³ñÓí»É ¿ | K8: ÀÝ¹áõÝí»É ¿ í³ñáõÛÃ
E18: 1 | F18: 2 | G18: 3 | H18: 4 | I18: 5 | J18: 6 | K18: 7 | L18: 8 | M18: 9 | N18: 10 | O18: 11 | P18: 12 | Q18: 13 | R18: 14 | S18: 15 | T18: 16 | U18: 17 | V18: 18 | W18: 1+7=8+16+17 | Y18: 2=3+4 | AA18: 2=5+6+7 | AC18: 7=9+10+11+12
A19: 1 | B19: Æñ³í³µ³Ý³Ï³Ý ³ÝÓÇ ëÝ³ÝÏáõÃÛ³Ý í»ñ³µ»ñÛ³É | E19: =SUM([4]Ա.Դավթյան:Ա.Պետրոսյան!E19) -> 168 | F19: 66 | G19: 66 | H19: =SUM([5]Ա.Դավթյան:Ա.Պետրոսյան!H19) -> 0 | I19: =SUM([5]Ա.Դավթյան:Ա.Պետրոսյան!I19) -> 0 | J19: =SUM([5]Ա.Դավթյան:Ա.Պետրոսյան!J19) -> 2 | K19: 64 | L19: =SUM([5]Ա.Դավթյան:Ա.Պետրոսյան!L19) -> 0 | M19: 32 | N19: =SUM([5]Ա.Դավթյան:Ա.Պետրոսյան!N19) -> 2 | O19: =SUM([5]Ա.Դավթյան:Ա.Պետրոսյան!O19) -> 0 | P19: 28 | Q19: 63 | R19: =SUM([5]Ա.Դավթյան:Ա.Պետրոսյան!R19) -> 0 | S19: =SUM([5]Ա.Դավթյան:Ա.Պետրոսյան!S19) -> 0 | T19: 42 | U19: =SUM([5]Ա.Դավթյան:Ա.Պետրոսյան!U19) -> 191 | V19: =SUM([5]Ա.Դավթյան:Ա.Պետրոսյան!V19) -> 12 | W19: =E19+K19 -> 232 | X19: =L19+T19+U19 -> 233 | Y19: =F19 -> 66 | Z19: =G19+H19 -> 66 | AA19: =F19 -> 66 | AB19: =I19+J19+K19 -> 66 | AC19: =K19 -> 64 | AD19: =M19+N19+O19+P19 -> 62
A20: 2 | B20: ²ÝÑ³ï Ó»éÝ»ñ»óÇ ëÝ³ÝÏáõÃÛ³Ý í»ñ³µ»ñÛ³É | E20: =SUM([4]Ա.Դավթյան:Ա.Պետրոսյան!E20) -> 25 | F20: 18 | G20: 18 | H20: =SUM([5]Ա.Դավթյան:Ա.Պետրոսյան!H20) -> 0 | I20: =SUM([5]Ա.Դավթյան:Ա.Պետրոսյան!I20) -> 0 | J20: 3 | K20: 15 | L20: =SUM([5]Ա.Դավթյան:Ա.Պետրոսյան!L20) -> 0 | M20: 15 | N20: =SUM([5]Ա.Դավթյան:Ա.Պետրոսյան!N20) -> 0 | O20: =SUM([5]Ա.Դավթյան:Ա.Պետրոսյան!O20) -> 0 | P20: =SUM([5]Ա.Դավթյան:Ա.Պետրոսյան!P20) -> 0 | Q20: 15 | R20: =SUM([5]Ա.Դավթյան:Ա.Պետրոսյան!R20) -> 0 | S20: =SUM([5]Ա.Դավթյան:Ա.Պետրոսյան!S20) -> 0 | T20: 5 | U20: =SUM([5]Ա.Դավթյան:Ա.Պետրոսյան!U20) -> 35 | V20: =SUM([5]Ա.Դավթյան:Ա.Պետրոսյան!V20) -> 4 | W20: =E20+K20 -> 40 | X20: =L20+T20+U20 -> 40 | Y20: =F20 -> 18 | Z20: =G20+H20 -> 18 | AA20: =F20 -> 18 | AB20: =I20+J20+K20 -> 18 | AC20: =K20 -> 15 | AD20: =M20+N20+O20+P20 -> 15
A21: 3 | B21: üÇ½ÇÏ³Ï³Ý ³ÝÓ³Ýó ëÝ³ÝÏáõÃÛ³Ý í»ñ³µ»ñÛ³É | E21: =SUM([4]Ա.Դավթյան:Ա.Պետրոսյան!E21) -> 93 | F21: 128 | G21: 93 | H21: 35 | I21: 1 | J21: 42 | K21: 85 | L21: =SUM([5]Ա.Դավթյան:Ա.Պետրոսյան!L21) -> 0 | M21: 39 | N21: =SUM([5]Ա.Դավթյան:Ա.Պետրոսյան!N21) -> 1 | O21: =SUM([5]Ա.Դավթյան:Ա.Պետրոսյան!O21) -> 0 | P21: 40 | Q21: 82 | R21: =SUM([5]Ա.Դավթյան:Ա.Պետրոսյան!R21) -> 0 | S21: =SUM([5]Ա.Դավթյան:Ա.Պետրոսյան!S21) -> 0 | T21: 27 | U21: =SUM([5]Ա.Դավթյան:Ա.Պետրոսյան!U21) -> 149 | V21: =SUM([5]Ա.Դավթյան:Ա.Պետրոսյան!V21) -> 14 | W21: =E21+K21 -> 178 | X21: =L21+T21+U21 -> 176 | Y21: =F21 -> 128 | Z21: =G21+H21 -> 128 | AA21: =F21 -> 128 | AB21: =I21+J21+K21 -> 128 | AC21: =K21 -> 85 | AD21: =M21+N21+O21+P21 -> 80
A22: 4 | B22: ԸՆԴԱՄԵՆԸ | E22: =SUM(E19:E21) -> 286 | F22: =SUM(F19:F21) -> 212 | G22: =SUM(G19:G21) -> 177 | H22: =SUM(H19:H21) -> 35 | I22: =SUM(I19:I21) -> 1 | J22: =SUM(J19:J21) -> 47 | K22: =SUM(K19:K21) -> 164 | L22: =SUM(L19:L21) -> 0 | ... AD22: =SUM(AD19:AD21) -> 157
D26: Ì³ÝáÃáõÃÛáõÝ. 1 ¹ÇÙáõÙÇ Ï³å³ÏóáõÃÛ³Ùµ 29.12.2017Ã. ¹ñáõÃÛ³Ùµ áñáßáõÙ ãÇ Ï³Û³óí»É,
D27: 6 գործ կարճí»É ¿

Sheet Էրեբունի
A1: 2017Ã. | C1: Ð²ÞìºîìàôÂÚàôÜ
A2: ºðºì²ÜÆ ԷՐԵԲՈՒՆԻ ԵՎ ՆՈՒԲԱՐԱՇԵՆ ì²ðâ²Î²Ü Þðæ²ÜÜºðÆ ÀÜ¸Ð²Üàôð Æð²ì²êàôÂÚ²Ü ²è²æÆÜ ²îÚ²ÜÆ ¸²î²ð²ÜÆ
H3: ¶àðÌàôÜºàôÂÚ²Ü ìºð²´ºðÚ²È êÜ²ÜÎàôÂÚ²Ü ¶àðÌºðՈՎ
A4: ìÇ×³Ï³·ñ³Ï³Ý ïáÕÇ Ñ³Ù³ñÁ | E4: ²Ý³í³ñï ·áñÍ»ñÇ ÙÝ³óáñ¹Á Ñ³ßí»ïáõ Å³Ù³Ý³Ï³ßñç³ÝÇ ëÏ½µáõÙ | F4: êï³óí³Í ¹ÇÙáõÙÝ»ñÇ (·áñÍ»ñ) ù³Ý³ÏÁ | L4: öáË³Ýóí»É ¿ ³ÛÉ ¹³ï³íáñÇ (Ï³½ÙÇ ÷á÷áËáõÃÛáõÝ) | M4: ì³ñáõÛÃ ÁÝ¹áõÝí³Í ¹ÇÙáõÙÝ»ñáí Ï³Û³óí³Í ¹³ï³Ï³Ý ³Ïï»ñ | Q4: Ü»ñÏ³Û³óí»É ¿ ýÇÝ³Ýë³Ï³Ý ³éáÕç³óÙ³Ý Íñ³·Çñ | T4: ²í³ñïí»É »Ý ·áñÍ»ñ Ñ³ßí»ïáõ Å³Ù³Ý³Ï³ßñç³ÝáõÙ | U4: ²Ý³í³ñï ·áñÍ»ñÇ ÙÝ³óáñ¹Á Ñ³ßí»ïáõ Å³Ù³Ý³Ï³ßñç³ÝÇ í»ñçáõÙ | V4: ´áÕáù³ñÏí»É »Ý í»ñ³ùÝÝÇã ¹³ï³ñ³Ý
F6: ÀÝ¹³Ù»ÝÁ | G6: ³Û¹ ÃíáõÙ Ñ³ñÏ³¹ñí³Í ëÝ³ÝÏáõÃÛáõÝ | H6: ³Û¹ ÃíáõÙ Ï³Ù³íáñ ëÝ³ÝÏáõÃÛáõÝ | I6: ëï³óí³Í ¹ÇÙáõÙÝ»ñÇ ÁÝÃ³óùÁ | M6: Ï³Û³óí»É ¿ å³ñï³å³ÝÇÝ ëÝ³ÝÏ ×³Ý³ã»Éáõ Ù³ëÇÝ í×Çé | N6: å³ñï³å³ÝÇÝ ëÝ³ÝÏ ×³Ý³ã»Éáõ ¹ÇÙáõÙÁ Ù»ñÅí»É ¿ | O6: ¹ÇÙáõÙÁ ÃáÕÝí»É ¿ ³é³Ýó ùÝÝáõÃÛ³Ý | P6: ³Ý³í³ñï (³Û¹ ÃíáõÙ Ï³ë»óí³Í) | Q6: ÀÝ¹³Ù»ÝÁ | R6: ÃáÕÝí»É ¿ ³é³Ýó ùÝÝ³ñÏÙ³Ý | S6: Ñ³ëï³ïí»É ¿
I8: ¸ÇÙáõÙÇ ÁÝ¹áõÝáõÙÁ Ù»ñÅí»É ¿ | J8: ¸ÇÙáõÙÁ í»ñ³¹³ñÓí»É ¿ | K8: ÀÝ¹áõÝí»É ¿ í³ñáõÛÃ
E18: 1 | F18: 2 | G18: 3 | H18: 4 | I18: 5 | J18: 6 | K18: 7 | L18: 8 | M18: 9 | N18: 10 | O18: 11 | P18: 12 | Q18: 13 | R18: 14 | S18: 15 | T18: 16 | U18: 17 | V18: 18 | W18: 1+7=8+16+17 | Y18: 2=3+4 | AA18: 2=5+6+7 | AC18: 7=9+10+11+12
A19: 1 | B19: Æñ³í³µ³Ý³Ï³Ý ³ÝÓÇ ëÝ³ÝÏáõÃÛ³Ý í»ñ³µ»ñÛ³É | E19: 83 | F19: 27 | G19: 27 | J19: 4 | K19: 23 | M19: 13 | N19: 1 | O19: 2 | P19: 7 | Q19: 1 | S19: 1 | T19: 36 | U19: 69 | V19: 1 | W19: =E19+K19 -> 106 | X19: =L19+T19+U19 -> 105 | Y19: =F19 -> 27 | Z19: =G19+H19 -> 27 | AA19: =F19 -> 27 | AB19: =I19+J19+K19 -> 27 | AC19: =K19 -> 23 | AD19: =M19+N19+O19+P19 -> 23
A20: 2 | B20: ²ÝÑ³ï Ó»éÝ»ñ»óÇ ëÝ³ÝÏáõÃÛ³Ý í»ñ³µ»ñÛ³É | E20: 32 | F20: 15 | G20: 15 | J20: 4 | K20: 11 | M20: 7 | O20: 2 | P20: 2 | T20: 11 | U20: 32 | W20: =E20+K20 -> 43 | X20: =L20+T20+U20 -> 43 | Y20: =F20 -> 15 | Z20: =G20+H20 -> 15 | AA20: =F20 -> 15 | AB20: =I20+J20+K20 -> 15 | AC20: =K20 -> 11 | AD20: =M20+N20+O20+P20 -> 11
A21: 3 | B21: üÇ½ÇÏ³Ï³Ý ³ÝÓ³Ýó ëÝ³ÝÏáõÃÛ³Ý í»ñ³µ»ñÛ³É | E21: 108 | F21: 126 | G21: 86 | H21: 40 | I21: 2 | J21: 66 | K21: 58 | M21: 39 | N21: 1 | O21: 3 | P21: 14 | T21: 51 | U21: 115 | V21: 1 | W21: =E21+K21 -> 166 | X21: =L21+T21+U21 -> 166 | Y21: =F21 -> 126 | Z21: =G21+H21 -> 126 | AA21: =F21 -> 126 | AB21: =I21+J21+K21 -> 126 | AC21: =K21 -> 58 | AD21: =M21+N21+O21+P21 -> 57
A22: 4 | B22: ԸՆԴԱՄԵՆԸ | E22: =SUM(E19:E21) -> 223 | F22: =SUM(F19:F21) -> 168 | G22: =SUM(G19:G21) -> 128 | H22: =SUM(H19:H21) -> 40 | I22: =SUM(I19:I21) -> 2 | J22: =SUM(J19:J21) -> 74 | K22: =SUM(K19:K21) -> 92 | L22: =SUM(L19:L21) -> 0 | ... AD22: =SUM(AD19:AD21) -> 91
F28: Ì³ÝáÃáõÃÛáõÝ. 1 գործ áõÕ³ñÏí»É ¿ ընդդատությ³Ùµ

Sheet Տավուշ
A1: 2017Ã. | C1: Ð²ÞìºîìàôÂÚàôÜ
A2: ՀՀ î²ìàõÞÆ Ø²ð¼Æ ÀÜ¸Ð²Üàôð Æð²ì²êàôÂÚ²Ü ²è²æÆÜ ²îÚ²ÜÆ ¸²î²ð²ÜÆ
H3: ¶àðÌàôÜºàôÂÚ²Ü ìºð²´ºðÚ²È êÜ²ÜÎàôÂÚ²Ü ¶àðÌºðàì
A4: ìÇ×³Ï³·ñ³Ï³Ý ïáÕÇ Ñ³Ù³ñÁ | E4: ²Ý³í³ñï ·áñÍ»ñÇ ÙÝ³óáñ¹Á Ñ³ßí»ïáõ Å³Ù³Ý³Ï³ßñç³ÝÇ ëÏ½µáõÙ | F4: êï³óí³Í ¹ÇÙáõÙÝ»ñÇ (·áñÍ»ñ) ù³Ý³ÏÁ | L4: öáË³Ýóí»É ¿ ³ÛÉ ¹³ï³íáñÇ (Ï³½ÙÇ ÷á÷áËáõÃÛáõÝ) | M4: ì³ñáõÛÃ ÁÝ¹áõÝí³Í ¹ÇÙáõÙÝ»ñáí Ï³Û³óí³Í ¹³ï³Ï³Ý ³Ïï»ñ | Q4: Ü»ñÏ³Û³óí»É ¿ ýÇÝ³Ýë³Ï³Ý ³éáÕç³óÙ³Ý Íñ³·Çñ | T4: ²í³ñïí»É »Ý ·áñÍ»ñ Ñ³ßí»ïáõ Å³Ù³Ý³Ï³ßñç³ÝáõÙ | U4: ²Ý³í³ñï ·áñÍ»ñÇ ÙÝ³óáñ¹Á Ñ³ßí»ïáõ Å³Ù³Ý³Ï³ßñç³ÝÇ í»ñçáõÙ | V4: ´áÕáù³ñÏí»É »Ý í»ñ³ùÝÝÇã ¹³ï³ñ³Ý
F6: ÀÝ¹³Ù»ÝÁ | G6: ³Û¹ ÃíáõÙ Ñ³ñÏ³¹ñí³Í ëÝ³ÝÏáõÃÛáõÝ | H6: ³Û¹ ÃíáõÙ Ï³Ù³íáñ ëÝ³ÝÏáõÃÛáõÝ | I6: ëï³óí³Í ¹ÇÙáõÙÝ»ñÇ ÁÝÃ³óùÁ | M6: Ï³Û³óí»É ¿ å³ñï³å³ÝÇÝ ëÝ³ÝÏ ×³Ý³ã»Éáõ Ù³ëÇÝ í×Çé | N6: å³ñï³å³ÝÇÝ ëÝ³ÝÏ ×³Ý³ã»Éáõ ¹ÇÙáõÙÁ Ù»ñÅí»É ¿ | O6: ¹ÇÙáõÙÁ ÃáÕÝí»É ¿ ³é³Ýó ùÝÝáõÃÛ³Ý | P6: ³Ý³í³ñï (³Û¹ ÃíáõÙ Ï³ë»óí³Í) | Q6: ÀÝ¹³Ù»ÝÁ | R6: ÃáÕÝí»É ¿ ³é³Ýó ùÝÝ³ñÏÙ³Ý | S6: Ñ³ëï³ïí»É ¿
I8: ¸ÇÙáõÙÇ ÁÝ¹áõÝáõÙÁ Ù»ñÅí»É ¿ | J8: ¸ÇÙáõÙÁ í»ñ³¹³ñÓí»É ¿ | K8: ÀÝ¹áõÝí»É ¿ í³ñáõÛÃ
E18: 1 | F18: 2 | G18: 3 | H18: 4 | I18: 5 | J18: 6 | K18: 7 | L18: 8 | M18: 9 | N18: 10 | O18: 11 | P18: 12 | Q18: 13 | R18: 14 | S18: 15 | T18: 16 | U18: 17 | V18: 18 | W18: 1+7=8+16+17 | Y18: 2=3+4 | AA18: 2=5+6+7 | AC18: 7=9+10+11+12
A19: 1 | B19: Æñ³í³µ³Ý³Ï³Ý ³ÝÓÇ ëÝ³ÝÏáõÃÛ³Ý í»ñ³µ»ñÛ³É | E19: 45 | F19: 15 | G19: 15 | J19: 2 | K19: 13 | M19: 8 | N19: 2 | P19: 2 | Q19: 1 | S19: 1 | T19: 19 | U19: 39 | V19: 1 | W19: =E19+K19 -> 58 | X19: =L19+T19+U19 -> 58 | Y19: =F19 -> 15 | Z19: =G19+H19 -> 15 | AA19: =F19 -> 15 | AB19: =I19+J19+K19 -> 15 | AC19: =K19 -> 13 | AD19: =M19+N19+O19+P19 -> 12
A20: 2 | B20: ²ÝÑ³ï Ó»éÝ»ñ»óÇ ëÝ³ÝÏáõÃÛ³Ý í»ñ³µ»ñÛ³É | E20: 29 | F20: 7 | G20: 6 | H20: 1 | J20: 1 | K20: 6 | M20: 6 | T20: 5 | U20: 30 | W20: =E20+K20 -> 35 | X20: =L20+T20+U20 -> 35 | Y20: =F20 -> 7 | Z20: =G20+H20 -> 7 | AA20: =F20 -> 7 | AB20: =I20+J20+K20 -> 7 | AC20: =K20 -> 6 | AD20: =M20+N20+O20+P20 -> 6
A21: 3 | B21: üÇ½ÇÏ³Ï³Ý ³ÝÓ³Ýó ëÝ³ÝÏáõÃÛ³Ý í»ñ³µ»ñÛ³É | E21: 42 | F21: 19 | G21: 3 | H21: 16 | J21: 6 | K21: 13 | M21: 7 | N21: 1 | P21: 4 | T21: 12 | U21: 43 | V21: 1 | W21: =E21+K21 -> 55 | X21: =L21+T21+U21 -> 55 | Y21: =F21 -> 19 | Z21: =G21+H21 -> 19 | AA21: =F21 -> 19 | AB21: =I21+J21+K21 -> 19 | AC21: =K21 -> 13 | AD21: =M21+N21+O21+P21 -> 12
A22: 4 | B22: ԸՆԴԱՄԵՆԸ | E22: =SUM(E19:E21) -> 116 | F22: =SUM(F19:F21) -> 41 | G22: =SUM(G19:G21) -> 24 | H22: =SUM(H19:H21) -> 17 | I22: =SUM(I19:I21) -> 0 | J22: =SUM(J19:J21) -> 9 | K22: =SUM(K19:K21) -> 32 | L22: =SUM(L19:L21) -> 0 | ... AD22: =SUM(AD19:AD21) -> 30
C28: Ì³ÝáÃáõÃÛáõÝ. 2 ·áñÍ Ï³ñ×í»É ¿

Sheet Շիրակ
A1: 2017Ã. | C1: Ð²ÞìºîìàôÂÚàôÜ
A2: ՀՀ ՇԻՐԱԿԻ ՄԱՐԶԻ ÀÜ¸Ð²Üàôð Æð²ì²êàôÂÚ²Ü ²è²æÆÜ ²îÚ²ÜÆ ¸²î²ð²ÜÆ
H3: ¶àðÌàôÜºàôÂÚ²Ü ìºð²´ºðÚ²È êÜ²ÜÎàôÂÚ²Ü ¶àðÌºðàì
A4: ìÇ×³Ï³·ñ³Ï³Ý ïáÕÇ Ñ³Ù³ñÁ | E4: ²Ý³í³ñï ·áñÍ»ñÇ ÙÝ³óáñ¹Á Ñ³ßí»ïáõ Å³Ù³Ý³Ï³ßñç³ÝÇ ëÏ½µáõÙ | F4: êï³óí³Í ¹ÇÙáõÙÝ»ñÇ (·áñÍ»ñ) ù³Ý³ÏÁ | L4: öáË³Ýóí»É ¿ ³ÛÉ ¹³ï³íáñÇ (Ï³½ÙÇ ÷á÷áËáõÃÛáõÝ) | M4: ì³ñáõÛÃ ÁÝ¹áõÝí³Í ¹ÇÙáõÙÝ»ñáí Ï³Û³óí³Í ¹³ï³Ï³Ý ³Ïï»ñ | Q4: Ü»ñÏ³Û³óí»É ¿ ýÇÝ³Ýë³Ï³Ý ³éáÕç³óÙ³Ý Íñ³·Çñ | T4: ²í³ñïí»É »Ý ·áñÍ»ñ Ñ³ßí»ïáõ Å³Ù³Ý³Ï³ßñç³ÝáõÙ | U4: ²Ý³í³ñï ·áñÍ»ñÇ ÙÝ³óáñ¹Á Ñ³ßí»ïáõ Å³Ù³Ý³Ï³ßñç³ÝÇ í»ñçáõÙ | V4: ´áÕáù³ñÏí»É »Ý í»ñ³ùÝÝÇã ¹³ï³ñ³Ý
F6: ÀÝ¹³Ù»ÝÁ | G6: ³Û¹ ÃíáõÙ Ñ³ñÏ³¹ñí³Í ëÝ³ÝÏáõÃÛáõÝ | H6: ³Û¹ ÃíáõÙ Ï³Ù³íáñ ëÝ³ÝÏáõÃÛáõÝ | I6: ëï³óí³Í ¹ÇÙáõÙÝ»ñÇ ÁÝÃ³óùÁ | M6: Ï³Û³óí»É ¿ å³ñï³å³ÝÇÝ ëÝ³ÝÏ ×³Ý³ã»Éáõ Ù³ëÇÝ í×Çé | N6: å³ñï³å³ÝÇÝ ëÝ³ÝÏ ×³Ý³ã»Éáõ ¹ÇÙáõÙÁ Ù»ñÅí»É ¿ | O6: ¹ÇÙáõÙÁ ÃáÕÝí»É ¿ ³é³Ýó ùÝÝáõÃÛ³Ý | P6: ³Ý³í³ñï (³Û¹ ÃíáõÙ Ï³ë»óí³Í) | Q6: ÀÝ¹³Ù»ÝÁ | R6: ÃáÕÝí»É ¿ ³é³Ýó ùÝÝ³ñÏÙ³Ý | S6: Ñ³ëï³ïí»É ¿
I8: ¸ÇÙáõÙÇ ÁÝ¹áõÝáõÙÁ Ù»ñÅí»É ¿ | J8: ¸ÇÙáõÙÁ í»ñ³¹³ñÓí»É ¿ | K8: ÀÝ¹áõÝí»É ¿ í³ñáõÛÃ
E18: 1 | F18: 2 | G18: 3 | H18: 4 | I18: 5 | J18: 6 | K18: 7 | L18: 8 | M18: 9 | N18: 10 | O18: 11 | P18: 12 | Q18: 13 | R18: 14 | S18: 15 | T18: 16 | U18: 17 | V18: 18 | W18: 1+7=8+16+17 | Y18: 2=3+4 | AA18: 2=5+6+7 | AC18: 7=9+10+11+12
A19: 1 | B19: Æñ³í³µ³Ý³Ï³Ý ³ÝÓÇ ëÝ³ÝÏáõÃÛ³Ý í»ñ³µ»ñÛ³É | E19: 144 | F19: 29 | G19: 29 | H19: 0 | I19: 0 | J19: 3 | K19: 26 | L19: 0 | M19: 15 | N19: 2 | O19: 0 | P19: 8 | Q19: 4 | R19: 1 | S19: 3 | T19: 16 | U19: 154 | V19: 0 | W19: =E19+K19 -> 170 | X19: =L19+T19+U19 -> 170 | Y19: =F19 -> 29 | Z19: =G19+H19 -> 29 | AA19: =F19 -> 29 | AB19: =I19+J19+K19 -> 29 | AC19: =K19 -> 26 | AD19: =M19+N19+O19+P19 -> 25
A20: 2 | B20: ²ÝÑ³ï Ó»éÝ»ñ»óÇ ëÝ³ÝÏáõÃÛ³Ý í»ñ³µ»ñÛ³É | E20: 67 | F20: 16 | G20: 15 | H20: 1 | I20: 0 | J20: 1 | K20: 15 | L20: 0 | M20: 12 | N20: 0 | O20: 0 | P20: 3 | Q20: 2 | R20: 1 | S20: 1 | T20: 7 | U20: 75 | V20: 0 | W20: =E20+K20 -> 82 | X20: =L20+T20+U20 -> 82 | Y20: =F20 -> 16 | Z20: =G20+H20 -> 16 | AA20: =F20 -> 16 | AB20: =I20+J20+K20 -> 16 | AC20: =K20 -> 15 | AD20: =M20+N20+O20+P20 -> 15
A21: 3 | B21: üÇ½ÇÏ³Ï³Ý ³ÝÓ³Ýó ëÝ³ÝÏáõÃÛ³Ý í»ñ³µ»ñÛ³É | E21: 168 | F21: 129 | G21: 47 | H21: 82 | I21: 0 | J21: 22 | K21: 107 | L21: 1 | M21: 67 | N21: 7 | O21: 0 | P21: 33 | Q21: 2 | R21: 1 | S21: 1 | T21: 39 | U21: 235 | V21: 0 | W21: =E21+K21 -> 275 | X21: =L21+T21+U21 -> 275 | Y21: =F21 -> 129 | Z21: =G21+H21 -> 129 | AA21: =F21 -> 129 | AB21: =I21+J21+K21 -> 129 | AC21: =K21 -> 107 | AD21: =M21+N21+O21+P21 -> 107
A22: 4 | B22: ԸՆԴԱՄԵՆԸ | E22: =SUM(E19:E21) -> 379 | F22: =SUM(F19:F21) -> 174 | G22: =SUM(G19:G21) -> 91 | H22: =SUM(H19:H21) -> 83 | I22: =SUM(I19:I21) -> 0 | J22: =SUM(J19:J21) -> 26 | K22: =SUM(K19:K21) -> 148 | L22: =SUM(L19:L21) -> 1 | ... AD22: =SUM(AD19:AD21) -> 147
D26: Ì³ÝáÃáõÃÛáõÝ. 1 գործ կարճվել է

Sheet Լոռի
A1: 2017Ã. | C1: Ð²ÞìºîìàôÂÚàôÜ
A2: ՀՀ Èàèàõ Ø²ð¼Æ ÀÜ¸Ð²Üàôð Æð²ì²êàôÂÚ²Ü ²è²æÆÜ ²îÚ²ÜÆ ¸²î²ð²ÜÆ
H3: ¶àðÌàôÜºàôÂÚ²Ü ìºð²´ºðÚ²È êÜ²ÜÎàôÂÚ²Ü ¶àðÌºðàì
A4: ìÇ×³Ï³·ñ³Ï³Ý ïáÕÇ Ñ³Ù³ñÁ | E4: ²Ý³í³ñï ·áñÍ»ñÇ ÙÝ³óáñ¹Á Ñ³ßí»ïáõ Å³Ù³Ý³Ï³ßñç³ÝÇ ëÏ½µáõÙ | F4: êï³óí³Í ¹ÇÙáõÙÝ»ñÇ (·áñÍ»ñ) ù³Ý³ÏÁ | L4: öáË³Ýóí»É ¿ ³ÛÉ ¹³ï³íáñÇ (Ï³½ÙÇ ÷á÷áËáõÃÛáõÝ) | M4: ì³ñáõÛÃ ÁÝ¹áõÝí³Í ¹ÇÙáõÙÝ»ñáí Ï³Û³óí³Í ¹³ï³Ï³Ý ³Ïï»ñ | Q4: Ü»ñÏ³Û³óí»É ¿ ýÇÝ³Ýë³Ï³Ý ³éáÕç³óÙ³Ý Íñ³·Çñ | T4: ²í³ñïí»É »Ý ·áñÍ»ñ Ñ³ßí»ïáõ Å³Ù³Ý³Ï³ßñç³ÝáõÙ | U4: ²Ý³í³ñï ·áñÍ»ñÇ ÙÝ³óáñ¹Á Ñ³ßí»ïáõ Å³Ù³Ý³Ï³ßñç³ÝÇ í»ñçáõÙ | V4: ´áÕáù³ñÏí»É »Ý í»ñ³ùÝÝÇã ¹³ï³ñ³Ý
F6: ÀÝ¹³Ù»ÝÁ | G6: ³Û¹ ÃíáõÙ Ñ³ñÏ³¹ñí³Í ëÝ³ÝÏáõÃÛáõÝ | H6: ³Û¹ ÃíáõÙ Ï³Ù³íáñ ëÝ³ÝÏáõÃÛáõÝ | I6: ëï³óí³Í ¹ÇÙáõÙÝ»ñÇ ÁÝÃ³óùÁ | M6: Ï³Û³óí»É ¿ å³ñï³å³ÝÇÝ ëÝ³ÝÏ ×³Ý³ã»Éáõ Ù³ëÇÝ í×Çé | N6: å³ñï³å³ÝÇÝ ëÝ³ÝÏ ×³Ý³ã»Éáõ ¹ÇÙáõÙÁ Ù»ñÅí»É ¿ | O6: ¹ÇÙáõÙÁ ÃáÕÝí»É ¿ ³é³Ýó ùÝÝáõÃÛ³Ý | P6: ³Ý³í³ñï (³Û¹ ÃíáõÙ Ï³ë»óí³Í) | Q6: ÀÝ¹³Ù»ÝÁ | R6: ÃáÕÝí»É ¿ ³é³Ýó ùÝÝ³ñÏÙ³Ý | S6: Ñ³ëï³ïí»É ¿
I8: ¸ÇÙáõÙÇ ÁÝ¹áõÝáõÙÁ Ù»ñÅí»É ¿ | J8: ¸ÇÙáõÙÁ í»ñ³¹³ñÓí»É ¿ | K8: ÀÝ¹áõÝí»É ¿ í³ñáõÛÃ
E18: 1 | F18: 2 | G18: 3 | H18: 4 | I18: 5 | J18: 6 | K18: 7 | L18: 8 | M18: 9 | N18: 10 | O18: 11 | P18: 12 | Q18: 13 | R18: 14 | S18: 15 | T18: 16 | U18: 17 | V18: 18 | W18: 1+7=8+16+17 | Y18: 2=3+4 | AA18: 2=5+6+7 | AC18: 7=9+10+11+12
A19: 1 | B19: Æñ³í³µ³Ý³Ï³Ý ³ÝÓÇ ëÝ³ÝÏáõÃÛ³Ý í»ñ³µ»ñÛ³É | E19: 152 | F19: =+G19+H19 -> 32 | G19: 30 | H19: 2 | J19: 1 | K19: 31 | M19: 28 | N19: 1 | Q19: 3 | S19: 3 | T19: 29 | U19: 154 | V19: 12 | W19: =E19+K19 -> 183 | X19: =L19+T19+U19 -> 183 | Y19: =F19 -> 32 | Z19: =G19+H19 -> 32 | AA19: =F19 -> 32 | AB19: =I19+J19+K19 -> 32 | AC19: =K19 -> 31 | AD19: =M19+N19+O19+P19 -> 29
A20: 2 | B20: ²ÝÑ³ï Ó»éÝ»ñ»óÇ ëÝ³ÝÏáõÃÛ³Ý í»ñ³µ»ñÛ³É | E20: 40 | F20: =+G20+H20 -> 16 | G20: 16 | J20: 1 | K20: 15 | M20: 13 | P20: 2 | Q20: 1 | S20: 1 | T20: 9 | U20: 46 | V20: 1 | W20: =E20+K20 -> 55 | X20: =L20+T20+U20 -> 55 | Y20: =F20 -> 16 | Z20: =G20+H20 -> 16 | AA20: =F20 -> 16 | AB20: =I20+J20+K20 -> 16 | AC20: =K20 -> 15 | AD20: =M20+N20+O20+P20 -> 15
A21: 3 | B21: üÇ½ÇÏ³Ï³Ý ³ÝÓ³Ýó ëÝ³ÝÏáõÃÛ³Ý í»ñ³µ»ñÛ³É | E21: 133 | F21: =+G21+H21 -> 96 | G21: 43 | H21: 53 | J21: 41 | K21: 55 | M21: 43 | N21: 2 | P21: 9 | Q21: 1 | S21: 1 | T21: 27 | U21: 161 | V21: 5 | W21: =E21+K21 -> 188 | X21: =L21+T21+U21 -> 188 | Y21: =F21 -> 96 | Z21: =G21+H21 -> 96 | AA21: =F21 -> 96 | AB21: =I21+J21+K21 -> 96 | AC21: =K21 -> 55 | AD21: =M21+N21+O21+P21 -> 54
A22: 4 | B22: ԸՆԴԱՄԵՆԸ | E22: =SUM(E19:E21) -> 325 | F22: =SUM(F19:F21) -> 144 | G22: =SUM(G19:G21) -> 89 | H22: =SUM(H19:H21) -> 55 | I22: =SUM(I19:I21) -> 0 | J22: =SUM(J19:J21) -> 43 | K22: =SUM(K19:K21) -> 101 | L22: =SUM(L19:L21) -> 0 | ... AD22: =SUM(AD19:AD21) -> 98
B24: Ì³ÝáÃáõÃÛáõÝ. 3 գործ կարճվել ¿

Sheet Կոտայք
A1: 2017Ã. | C1: Ð²ÞìºîìàôÂÚàôÜ
A2: ÐÐ Îàî²ÚøÆ Ø²ð¼Æ ÀÜ¸Ð²Üàôð Æð²ì²êàôÂÚ²Ü ²è²æÆÜ ²îÚ²ÜÆ ¸²î²ð²ÜÆ
H3: ¶àðÌàôÜºàôÂÚ²Ü ìºð²´ºðÚ²È êÜ²ÜÎàôÂÚ²Ü ¶àðÌºðՈՎ
A4: ìÇ×³Ï³·ñ³Ï³Ý ïáÕÇ Ñ³Ù³ñÁ | E4: ²Ý³í³ñï ·áñÍ»ñÇ ÙÝ³óáñ¹Á Ñ³ßí»ïáõ Å³Ù³Ý³Ï³ßñç³ÝÇ ëÏ½µáõÙ | F4: êï³óí³Í ¹ÇÙáõÙÝ»ñÇ (·áñÍ»ñ) ù³Ý³ÏÁ | L4: öáË³Ýóí»É ¿ ³ÛÉ ¹³ï³íáñÇ (Ï³½ÙÇ ÷á÷áËáõÃÛáõÝ) | M4: ì³ñáõÛÃ ÁÝ¹áõÝí³Í ¹ÇÙáõÙÝ»ñáí Ï³Û³óí³Í ¹³ï³Ï³Ý ³Ïï»ñ | Q4: Ü»ñÏ³Û³óí»É ¿ ýÇÝ³Ýë³Ï³Ý ³éáÕç³óÙ³Ý Íñ³·Çñ | T4: ²í³ñïí»É »Ý ·áñÍ»ñ Ñ³ßí»ïáõ Å³Ù³Ý³Ï³ßñç³ÝáõÙ | U4: ²Ý³í³ñï ·áñÍ»ñÇ ÙÝ³óáñ¹Á Ñ³ßí»ïáõ Å³Ù³Ý³Ï³ßñç³ÝÇ í»ñçáõÙ | V4: ´áÕáù³ñÏí»É »Ý í»ñ³ùÝÝÇã ¹³ï³ñ³Ý
F6: ÀÝ¹³Ù»ÝÁ | G6: ³Û¹ ÃíáõÙ Ñ³ñÏ³¹ñí³Í ëÝ³ÝÏáõÃÛáõÝ | H6: ³Û¹ ÃíáõÙ Ï³Ù³íáñ ëÝ³ÝÏáõÃÛáõÝ | I6: ëï³óí³Í ¹ÇÙáõÙÝ»ñÇ ÁÝÃ³óùÁ | M6: Ï³Û³óí»É ¿ å³ñï³å³ÝÇÝ ëÝ³ÝÏ ×³Ý³ã»Éáõ Ù³ëÇÝ í×Çé | N6: å³ñï³å³ÝÇÝ ëÝ³ÝÏ ×³Ý³ã»Éáõ ¹ÇÙáõÙÁ Ù»ñÅí»É ¿ | O6: ¹ÇÙáõÙÁ ÃáÕÝí»É ¿ ³é³Ýó ùÝÝáõÃÛ³Ý | P6: ³Ý³í³ñï (³Û¹ ÃíáõÙ Ï³ë»óí³Í) | Q6: ÀÝ¹³Ù»ÝÁ | R6: ÃáÕÝí»É ¿ ³é³Ýó ùÝÝ³ñÏÙ³Ý | S6: Ñ³ëï³ïí»É ¿
I8: ¸ÇÙáõÙÇ ÁÝ¹áõÝáõÙÁ Ù»ñÅí»É ¿ | J8: ¸ÇÙáõÙÁ í»ñ³¹³ñÓí»É ¿ | K8: ÀÝ¹áõÝí»É ¿ í³ñáõÛÃ
E18: 1 | F18: 2 | G18: 3 | H18: 4 | I18: 5 | J18: 6 | K18: 7 | L18: 8 | M18: 9 | N18: 10 | O18: 11 | P18: 12 | Q18: 13 | R18: 14 | S18: 15 | T18: 16 | U18: 17 | V18: 18 | W18: 1+7=8+16+17 | Y18: 2=3+4 | AA18: 2=5+6+7 | AC18: 7=9+10+11+12
A19: 1 | B19: Æñ³í³µ³Ý³Ï³Ý ³ÝÓÇ ëÝ³ÝÏáõÃÛ³Ý í»ñ³µ»ñÛ³É | E19: 259 | F19: 76 | G19: 73 | H19: 3 | J19: 2 | K19: 74 | M19: 34 | N19: 9 | P19: 29 | Q19: 4 | S19: 4 | T19: 55 | U19: 277 | V19: 5 | W19: =E19+K19 -> 333 | X19: =L19+T19+U19 -> 332 | Y19: =F19 -> 76 | Z19: =G19+H19 -> 76 | AA19: =F19 -> 76 | AB19: =I19+J19+K19 -> 76 | AC19: =K19 -> 74 | AD19: =M19+N19+O19+P19 -> 72
A20: 2 | B20: ²ÝÑ³ï Ó»éÝ»ñ»óÇ ëÝ³ÝÏáõÃÛ³Ý í»ñ³µ»ñÛ³É | E20: 71 | F20: 34 | G20: 30 | H20: 4 | J20: 1 | K20: 33 | M20: 18 | N20: 2 | P20: 13 | T20: 9 | U20: 95 | V20: 1 | W20: =E20+K20 -> 104 | X20: =L20+T20+U20 -> 104 | Y20: =F20 -> 34 | Z20: =G20+H20 -> 34 | AA20: =F20 -> 34 | AB20: =I20+J20+K20 -> 34 | AC20: =K20 -> 33 | AD20: =M20+N20+O20+P20 -> 33
A21: 3 | B21: üÇ½ÇÏ³Ï³Ý ³ÝÓ³Ýó ëÝ³ÝÏáõÃÛ³Ý í»ñ³µ»ñÛ³É | E21: 275 | F21: 147 | G21: 84 | H21: 63 | I21: 1 | J21: 16 | K21: 130 | M21: 89 | N21: 4 | P21: 36 | Q21: 2 | S21: 2 | T21: 45 | U21: 360 | V21: 1 | W21: =E21+K21 -> 405 | X21: =L21+T21+U21 -> 405 | Y21: =F21 -> 147 | Z21: =G21+H21 -> 147 | AA21: =F21 -> 147 | AB21: =I21+J21+K21 -> 147 | AC21: =K21 -> 130 | AD21: =M21+N21+O21+P21 -> 129
A22: 4 | B22: ԸՆԴԱՄԵՆԸ | E22: =SUM(E19:E21) -> 605 | F22: =SUM(F19:F21) -> 257 | G22: =SUM(G19:G21) -> 187 | H22: =SUM(H19:H21) -> 70 | I22: =SUM(I19:I21) -> 1 | J22: =SUM(J19:J21) -> 19 | K22: =SUM(K19:K21) -> 237 | L22: =SUM(L19:L21) -> 0 | ... AD22: =SUM(AD19:AD21) -> 234
E27: Ì³ÝáÃáõÃÛáõÝ. 2 ·áñÍ Ï³ñ×í»É ¿, 1 ·áñÍ áõÕ³ñÏí»É ¿ ÁÝ¹¹³ïáõÃÛ³Ùµ

Sheet Արմավիր
A1: 2017Ã. | C1: Ð²ÞìºîìàôÂÚàôÜ
A2: ՀՀ ²ðØ²ìÆðÆ Ø²ð¼Æ ÀÜ¸Ð²Üàôð Æð²ì²êàôÂÚ²Ü ²è²æÆÜ ²îÚ²ÜÆ ¸²î²ð²ÜÆ
H3: ¶àðÌàôÜºàôÂÚ²Ü ìºð²´ºðÚ²È êÜ²ÜÎàôÂÚ²Ü ¶àðÌºðàì
A4: ìÇ×³Ï³·ñ³Ï³Ý ïáÕÇ Ñ³Ù³ñÁ | E4: ²Ý³í³ñï ·áñÍ»ñÇ ÙÝ³óáñ¹Á Ñ³ßí»ïáõ Å³Ù³Ý³Ï³ßñç³ÝÇ ëÏ½µáõÙ | F4: êï³óí³Í ¹ÇÙáõÙÝ»ñÇ (·áñÍ»ñ) ù³Ý³ÏÁ | L4: öáË³Ýóí»É ¿ ³ÛÉ ¹³ï³íáñÇ (Ï³½ÙÇ ÷á÷áËáõÃÛáõÝ) | M4: ì³ñáõÛÃ ÁÝ¹áõÝí³Í ¹ÇÙáõÙÝ»ñáí Ï³Û³óí³Í ¹³ï³Ï³Ý ³Ïï»ñ | Q4: Ü»ñÏ³Û³óí»É ¿ ýÇÝ³Ýë³Ï³Ý ³éáÕç³óÙ³Ý Íñ³·Çñ | T4: ²í³ñïí»É »Ý ·áñÍ»ñ Ñ³ßí»ïáõ Å³Ù³Ý³Ï³ßñç³ÝáõÙ | U4: ²Ý³í³ñï ·áñÍ»ñÇ ÙÝ³óáñ¹Á Ñ³ßí»ïáõ Å³Ù³Ý³Ï³ßñç³ÝÇ í»ñçáõÙ | V4: ´áÕáù³ñÏí»É »Ý í»ñ³ùÝÝÇã ¹³ï³ñ³Ý
F6: ÀÝ¹³Ù»ÝÁ | G6: ³Û¹ ÃíáõÙ Ñ³ñÏ³¹ñí³Í ëÝ³ÝÏáõÃÛáõÝ | H6: ³Û¹ ÃíáõÙ Ï³Ù³íáñ ëÝ³ÝÏáõÃÛáõÝ | I6: ëï³óí³Í ¹ÇÙáõÙÝ»ñÇ ÁÝÃ³óùÁ | M6: Ï³Û³óí»É ¿ å³ñï³å³ÝÇÝ ëÝ³ÝÏ ×³Ý³ã»Éáõ Ù³ëÇÝ í×Çé | N6: å³ñï³å³ÝÇÝ ëÝ³ÝÏ ×³Ý³ã»Éáõ ¹ÇÙáõÙÁ Ù»ñÅí»É ¿ | O6: ¹ÇÙáõÙÁ ÃáÕÝí»É ¿ ³é³Ýó ùÝÝáõÃÛ³Ý | P6: ³Ý³í³ñï (³Û¹ ÃíáõÙ Ï³ë»óí³Í) | Q6: ÀÝ¹³Ù»ÝÁ | R6: ÃáÕÝí»É ¿ ³é³Ýó ùÝÝ³ñÏÙ³Ý | S6: Ñ³ëï³ïí»É ¿
I8: ¸ÇÙáõÙÇ ÁÝ¹áõÝáõÙÁ Ù»ñÅí»É ¿ | J8: ¸ÇÙáõÙÁ í»ñ³¹³ñÓí»É ¿ | K8: ÀÝ¹áõÝí»É ¿ í³ñáõÛÃ
E18: 1 | F18: 2 | G18: 3 | H18: 4 | I18: 5 | J18: 6 | K18: 7 | L18: 8 | M18: 9 | N18: 10 | O18: 11 | P18: 12 | Q18: 13 | R18: 14 | S18: 15 | T18: 16 | U18: 17 | V18: 18 | W18: 1+7=8+16+17 | Y18: 2=3+4 | AA18: 2=5+6+7 | AC18: 7=9+10+11+12
A19: 1 | B19: Æñ³í³µ³Ý³Ï³Ý ³ÝÓÇ ëÝ³ÝÏáõÃÛ³Ý í»ñ³µ»ñÛ³É | E19: =[6]Հ.Մելքոնյան!E19+[6]Գ.Ֆիդանյան!E19+'[6]Մ.Սիմոնյան '!E19 -> 91 | F19: 34 | G19: 32 | H19: 2 | I19: 0 | J19: 9 | K19: 25 | M19: 12 | N19: 3 | O19: =[6]Հ.Մելքոնյան!O19+[6]Գ.Ֆիդանյան!O19+'[6]Մ.Սիմոնյան '!O19 -> 0 | P19: 10 | Q19: =[6]Հ.Մելքոնյան!Q19+[6]Գ.Ֆիդանյան!Q19+'[6]Մ.Սիմոնյան '!Q19 -> 0 | R19: =[6]Հ.Մելքոնյան!R19+[6]Գ.Ֆիդանյան!R19+'[6]Մ.Սիմոնյան '!R19 -> 0 | S19: =[6]Հ.Մելքոնյան!S19+[6]Գ.Ֆիդանյան!S19+'[6]Մ.Սիմոնյան '!S19 -> 0 | T19: 15 | U19: 101 | V19: 2 | W19: =E19+K19 -> 116 | X19: =L19+T19+U19 -> 116 | Y19: =F19 -> 34 | Z19: =G19+H19 -> 34 | AA19: =F19 -> 34 | AB19: =I19+J19+K19 -> 34 | AC19: =K19 -> 25 | AD19: =M19+N19+O19+P19 -> 25
A20: 2 | B20: ²ÝÑ³ï Ó»éÝ»ñ»óÇ ëÝ³ÝÏáõÃÛ³Ý í»ñ³µ»ñÛ³É | E20: =[6]Հ.Մելքոնյան!E20+[6]Գ.Ֆիդանյան!E20+'[6]Մ.Սիմոնյան '!E20 -> 34 | F20: 21 | G20: 21 | H20: 0 | I20: 0 | J20: 2 | K20: 19 | M20: 10 | N20: 2 | O20: =[6]Հ.Մելքոնյան!O20+[6]Գ.Ֆիդանյան!O20+'[6]Մ.Սիմոնյան '!O20 -> 0 | P20: 7 | Q20: =[6]Հ.Մելքոնյան!Q20+[6]Գ.Ֆիդանյան!Q20+'[6]Մ.Սիմոնյան '!Q20 -> 0 | R20: =[6]Հ.Մելքոնյան!R20+[6]Գ.Ֆիդանյան!R20+'[6]Մ.Սիմոնյան '!R20 -> 0 | S20: =[6]Հ.Մելքոնյան!S20+[6]Գ.Ֆիդանյան!S20+'[6]Մ.Սիմոնյան '!S20 -> 0 | T20: 5 | U20: 48 | V20: =[6]Հ.Մելքոնյան!V20+[6]Գ.Ֆիդանյան!V20+'[6]Մ.Սիմոնյան '!V20 -> 0 | W20: =E20+K20 -> 53 | X20: =L20+T20+U20 -> 53 | Y20: =F20 -> 21 | Z20: =G20+H20 -> 21 | AA20: =F20 -> 21 | AB20: =I20+J20+K20 -> 21 | AC20: =K20 -> 19 | AD20: =M20+N20+O20+P20 -> 19
A21: 3 | B21: üÇ½ÇÏ³Ï³Ý ³ÝÓ³Ýó ëÝ³ÝÏáõÃÛ³Ý í»ñ³µ»ñÛ³É | E21: =[6]Հ.Մելքոնյան!E21+[6]Գ.Ֆիդանյան!E21+'[6]Մ.Սիմոնյան '!E21 -> 124 | F21: 39 | G21: 32 | H21: 7 | I21: 1 | J21: 16 | K21: 22 | M21: 11 | N21: =[6]Հ.Մելքոնյան!N21+[6]Գ.Ֆիդանյան!N21+'[6]Մ.Սիմոնյան '!N21 -> 0 | O21: =[6]Հ.Մելքոնյան!O21+[6]Գ.Ֆիդանյան!O21+'[6]Մ.Սիմոնյան '!O21 -> 0 | P21: 11 | Q21: =[6]Հ.Մելքոնյան!Q21+[6]Գ.Ֆիդանյան!Q21+'[6]Մ.Սիմոնյան '!Q21 -> 0 | R21: =[6]Հ.Մելքոնյան!R21+[6]Գ.Ֆիդանյան!R21+'[6]Մ.Սիմոնյան '!R21 -> 0 | S21: =[6]Հ.Մելքոնյան!S21+[6]Գ.Ֆիդանյան!S21+'[6]Մ.Սիմոնյան '!S21 -> 0 | T21: 9 | U21: 137 | V21: 2 | W21: =E21+K21 -> 146 | X21: =L21+T21+U21 -> 146 | Y21: =F21 -> 39 | Z21: =G21+H21 -> 39 | AA21: =F21 -> 39 | AB21: =I21+J21+K21 -> 39 | AC21: =K21 -> 22 | AD21: =M21+N21+O21+P21 -> 22
A22: 4 | B22: ԸՆԴԱՄԵՆԸ | E22: =SUM(E19:E21) -> 249 | F22: =SUM(F19:F21) -> 94 | G22: =SUM(G19:G21) -> 85 | H22: =SUM(H19:H21) -> 9 | I22: =SUM(I19:I21) -> 1 | J22: =SUM(J19:J21) -> 27 | K22: =SUM(K19:K21) -> 66 | L22: =SUM(L19:L21) -> 0 | ... AD22: =SUM(AD19:AD21) -> 66

Sheet Գեղարքունիք
A1: 2017Ã. | C1: Ð²ÞìºîìàôÂÚàôÜ
A2: ÐÐ ¶ºÔ²ðøàôÜÆøÆ Ø²ð¼Æ ÀÜ¸Ð²Üàôð Æð²ì²êàôÂÚ²Ü ²è²æÆÜ ²îÚ²ÜÆ ¸²î²ð²ÜÆ
H3: ¶àðÌàôÜºàôÂÚ²Ü ìºð²´ºðÚ²È êÜ²ÜÎàôÂÚ²Ü ¶àðÌºðՈՎ
A4: ìÇ×³Ï³·ñ³Ï³Ý ïáÕÇ Ñ³Ù³ñÁ | E4: ²Ý³í³ñï ·áñÍ»ñÇ ÙÝ³óáñ¹Á Ñ³ßí»ïáõ Å³Ù³Ý³Ï³ßñç³ÝÇ ëÏ½µáõÙ | F4: êï³óí³Í ¹ÇÙáõÙÝ»ñÇ (·áñÍ»ñ) ù³Ý³ÏÁ | L4: öáË³Ýóí»É ¿ ³ÛÉ ¹³ï³íáñÇ (Ï³½ÙÇ ÷á÷áËáõÃÛáõÝ) | M4: ì³ñáõÛÃ ÁÝ¹áõÝí³Í ¹ÇÙáõÙÝ»ñáí Ï³Û³óí³Í ¹³ï³Ï³Ý ³Ïï»ñ | Q4: Ü»ñÏ³Û³óí»É ¿ ýÇÝ³Ýë³Ï³Ý ³éáÕç³óÙ³Ý Íñ³·Çñ | T4: ²í³ñïí»É »Ý ·áñÍ»ñ Ñ³ßí»ïáõ Å³Ù³Ý³Ï³ßñç³ÝáõÙ | U4: ²Ý³í³ñï ·áñÍ»ñÇ ÙÝ³óáñ¹Á Ñ³ßí»ïáõ Å³Ù³Ý³Ï³ßñç³ÝÇ í»ñçáõÙ | V4: ´áÕáù³ñÏí»É »Ý í»ñ³ùÝÝÇã ¹³ï³ñ³Ý
F6: ÀÝ¹³Ù»ÝÁ | G6: ³Û¹ ÃíáõÙ Ñ³ñÏ³¹ñí³Í ëÝ³ÝÏáõÃÛáõÝ | H6: ³Û¹ ÃíáõÙ Ï³Ù³íáñ ëÝ³ÝÏáõÃÛáõÝ | I6: ëï³óí³Í ¹ÇÙáõÙÝ»ñÇ ÁÝÃ³óùÁ | M6: Ï³Û³óí»É ¿ å³ñï³å³ÝÇÝ ëÝ³ÝÏ ×³Ý³ã»Éáõ Ù³ëÇÝ í×Çé | N6: å³ñï³å³ÝÇÝ ëÝ³ÝÏ ×³Ý³ã»Éáõ ¹ÇÙáõÙÁ Ù»ñÅí»É ¿ | O6: ¹ÇÙáõÙÁ ÃáÕÝí»É ¿ ³é³Ýó ùÝÝáõÃÛ³Ý | P6: ³Ý³í³ñï (³Û¹ ÃíáõÙ Ï³ë»óí³Í) | Q6: ÀÝ¹³Ù»ÝÁ | R6: ÃáÕÝí»É ¿ ³é³Ýó ùÝÝ³ñÏÙ³Ý | S6: Ñ³ëï³ïí»É ¿
I8: ¸ÇÙáõÙÇ ÁÝ¹áõÝáõÙÁ Ù»ñÅí»É ¿ | J8: ¸ÇÙáõÙÁ í»ñ³¹³ñÓí»É ¿ | K8: ÀÝ¹áõÝí»É ¿ í³ñáõÛÃ
E18: 1 | F18: 2 | G18: 3 | H18: 4 | I18: 5 | J18: 6 | K18: 7 | L18: 8 | M18: 9 | N18: 10 | O18: 11 | P18: 12 | Q18: 13 | R18: 14 | S18: 15 | T18: 16 | U18: 17 | V18: 18 | W18: 1+7=8+16+17 | Y18: 2=3+4 | AA18: 2=5+6+7 | AC18: 7=9+10+11+12
A19: 1 | B19: Æñ³í³µ³Ý³Ï³Ý ³ÝÓÇ ëÝ³ÝÏáõÃÛ³Ý í»ñ³µ»ñÛ³É | E19: 96 | F19: 20 | G19: 19 | H19: 1 | K19: 20 | M19: 5 | N19: 1 | P19: 14 | T19: 5 | U19: 111 | V19: 2 | W19: =E19+K19 -> 116 | X19: =L19+T19+U19 -> 116 | Y19: =F19 -> 20 | Z19: =G19+H19 -> 20 | AA19: =F19 -> 20 | AB19: =I19+J19+K19 -> 20 | AC19: =K19 -> 20 | AD19: =M19+N19+O19+P19 -> 20
A20: 2 | B20: ²ÝÑ³ï Ó»éÝ»ñ»óÇ ëÝ³ÝÏáõÃÛ³Ý í»ñ³µ»ñÛ³É | E20: 18 | F20: 1 | G20: 1 | K20: 1 | P20: 1 | U20: 19 | W20: =E20+K20 -> 19 | X20: =L20+T20+U20 -> 19 | Y20: =F20 -> 1 | Z20: =G20+H20 -> 1 | AA20: =F20 -> 1 | AB20: =I20+J20+K20 -> 1 | AC20: =K20 -> 1 | AD20: =M20+N20+O20+P20 -> 1
A21: 3 | B21: üÇ½ÇÏ³Ï³Ý ³ÝÓ³Ýó ëÝ³ÝÏáõÃÛ³Ý í»ñ³µ»ñÛ³É | E21: 64 | F21: 5 | G21: 5 | K21: 5 | M21: 2 | N21: 1 | P21: 2 | T21: 2 | U21: 67 | V21: 1 | W21: =E21+K21 -> 69 | X21: =L21+T21+U21 -> 69 | Y21: =F21 -> 5 | Z21: =G21+H21 -> 5 | AA21: =F21 -> 5 | AB21: =I21+J21+K21 -> 5 | AC21: =K21 -> 5 | AD21: =M21+N21+O21+P21 -> 5
A22: 4 | B22: ԸՆԴԱՄԵՆԸ | E22: =SUM(E19:E21) -> 178 | F22: =SUM(F19:F21) -> 26 | G22: =SUM(G19:G21) -> 25 | H22: =SUM(H19:H21) -> 1 | I22: =SUM(I19:I21) -> 0 | J22: =SUM(J19:J21) -> 0 | K22: =SUM(K19:K21) -> 26 | L22: =SUM(L19:L21) -> 0 | ... AD22: =SUM(AD19:AD21) -> 26

Sheet Արագածոտն
A1: 2017Ã. | C1: Ð²ÞìºîìàôÂÚàôÜ
A2: ՀՀ ²ð²¶²ÌàîÜÆ Ø²ð¼Æ ÀÜ¸Ð²Üàôð Æð²ì²êàôÂÚ²Ü ²è²æÆÜ ²îÚ²ÜÆ ¸²î²ð²ÜÆ
H3: ¶àðÌàôÜºàôÂÚ²Ü ìºð²´ºðÚ²È êÜ²ÜÎàôÂÚ²Ü ¶àðÌºðàì
A4: ìÇ×³Ï³·ñ³Ï³Ý ïáÕÇ Ñ³Ù³ñÁ | E4: ²Ý³í³ñï ·áñÍ»ñÇ ÙÝ³óáñ¹Á Ñ³ßí»ïáõ Å³Ù³Ý³Ï³ßñç³ÝÇ ëÏ½µáõÙ | F4: êï³óí³Í ¹ÇÙáõÙÝ»ñÇ (·áñÍ»ñ) ù³Ý³ÏÁ | L4: öáË³Ýóí»É ¿ ³ÛÉ ¹³ï³íáñÇ (Ï³½ÙÇ ÷á÷áËáõÃÛáõÝ) | M4: ì³ñáõÛÃ ÁÝ¹áõÝí³Í ¹ÇÙáõÙÝ»ñáí Ï³Û³óí³Í ¹³ï³Ï³Ý ³Ïï»ñ | Q4: Ü»ñÏ³Û³óí»É ¿ ýÇÝ³Ýë³Ï³Ý ³éáÕç³óÙ³Ý Íñ³·Çñ | T4: ²í³ñïí»É »Ý ·áñÍ»ñ Ñ³ßí»ïáõ Å³Ù³Ý³Ï³ßñç³ÝáõÙ | U4: ²Ý³í³ñï ·áñÍ»ñÇ ÙÝ³óáñ¹Á Ñ³ßí»ïáõ Å³Ù³Ý³Ï³ßñç³ÝÇ í»ñçáõÙ | V4: ´áÕáù³ñÏí»É »Ý í»ñ³ùÝÝÇã ¹³ï³ñ³Ý
F6: ÀÝ¹³Ù»ÝÁ | G6: ³Û¹ ÃíáõÙ Ñ³ñÏ³¹ñí³Í ëÝ³ÝÏáõÃÛáõÝ | H6: ³Û¹ ÃíáõÙ Ï³Ù³íáñ ëÝ³ÝÏáõÃÛáõÝ | I6: ëï³óí³Í ¹ÇÙáõÙÝ»ñÇ ÁÝÃ³óùÁ | M6: Ï³Û³óí»É ¿ å³ñï³å³ÝÇÝ ëÝ³ÝÏ ×³Ý³ã»Éáõ Ù³ëÇÝ í×Çé | N6: å³ñï³å³ÝÇÝ ëÝ³ÝÏ ×³Ý³ã»Éáõ ¹ÇÙáõÙÁ Ù»ñÅí»É ¿ | O6: ¹ÇÙáõÙÁ ÃáÕÝí»É ¿ ³é³Ýó ùÝÝáõÃÛ³Ý | P6: ³Ý³í³ñï (³Û¹ ÃíáõÙ Ï³ë»óí³Í) | Q6: ÀÝ¹³Ù»ÝÁ | R6: ÃáÕÝí»É ¿ ³é³Ýó ùÝÝ³ñÏÙ³Ý | S6: Ñ³ëï³ïí»É ¿
I8: ¸ÇÙáõÙÇ ÁÝ¹áõÝáõÙÁ Ù»ñÅí»É ¿ | J8: ¸ÇÙáõÙÁ í»ñ³¹³ñÓí»É ¿ | K8: ÀÝ¹áõÝí»É ¿ í³ñáõÛÃ
E18: 1 | F18: 2 | G18: 3 | H18: 4 | I18: 5 | J18: 6 | K18: 7 | L18: 8 | M18: 9 | N18: 10 | O18: 11 | P18: 12 | Q18: 13 | R18: 14 | S18: 15 | T18: 16 | U18: 17 | V18: 18 | W18: 1+7=8+16+17 | Y18: 2=3+4 | AA18: 2=5+6+7 | AC18: 7=9+10+11+12
A19: 1 | B19: Æñ³í³µ³Ý³Ï³Ý ³ÝÓÇ ëÝ³ÝÏáõÃÛ³Ý í»ñ³µ»ñÛ³É | E19: 58 | F19: 5 | G19: 5 | H19: 0 | I19: 0 | J19: 1 | K19: 4 | L19: 0 | M19: 2 | N19: 0 | O19: 1 | P19: 1 | Q19: 0 | R19: 0 | S19: 0 | T19: 11 | U19: 51 | V19: 4 | W19: =E19+K19 -> 62 | X19: =L19+T19+U19 -> 62 | Y19: =F19 -> 5 | Z19: =G19+H19 -> 5 | AA19: =F19 -> 5 | AB19: =I19+J19+K19 -> 5 | AC19: =K19 -> 4 | AD19: =M19+N19+O19+P19 -> 4
A20: 2 | B20: ²ÝÑ³ï Ó»éÝ»ñ»óÇ ëÝ³ÝÏáõÃÛ³Ý í»ñ³µ»ñÛ³É | E20: 14 | F20: 2 | G20: 2 | H20: 0 | I20: 0 | J20: 0 | K20: 2 | L20: 0 | M20: 0 | N20: 0 | O20: 0 | P20: 2 | Q20: 0 | R20: 0 | S20: 0 | T20: 2 | U20: 14 | V20: 1 | W20: =E20+K20 -> 16 | X20: =L20+T20+U20 -> 16 | Y20: =F20 -> 2 | Z20: =G20+H20 -> 2 | AA20: =F20 -> 2 | AB20: =I20+J20+K20 -> 2 | AC20: =K20 -> 2 | AD20: =M20+N20+O20+P20 -> 2
A21: 3 | B21: üÇ½ÇÏ³Ï³Ý ³ÝÓ³Ýó ëÝ³ÝÏáõÃÛ³Ý í»ñ³µ»ñÛ³É | E21: 83 | F21: 32 | G21: 22 | H21: 10 | I21: 0 | J21: 7 | K21: 25 | L21: 0 | M21: 10 | N21: 1 | O21: 0 | P21: 14 | Q21: 0 | R21: 0 | S21: 0 | T21: 13 | U21: 95 | V21: 2 | W21: =E21+K21 -> 108 | X21: =L21+T21+U21 -> 108 | Y21: =F21 -> 32 | Z21: =G21+H21 -> 32 | AA21: =F21 -> 32 | AB21: =I21+J21+K21 -> 32 | AC21: =K21 -> 25 | AD21: =M21+N21+O21+P21 -> 25
A22: 4 | B22: ԸՆԴԱՄԵՆԸ | E22: =SUM(E19:E21) -> 155 | F22: =SUM(F19:F21) -> 39 | G22: =SUM(G19:G21) -> 29 | H22: =SUM(H19:H21) -> 10 | I22: =SUM(I19:I21) -> 0 | J22: =SUM(J19:J21) -> 8 | K22: =SUM(K19:K21) -> 31 | L22: =SUM(L19:L21) -> 0 | ... AD22: =SUM(AD19:AD21) -> 31

Sheet Արարատ
A1: 2017Ã. | C1: Ð²ÞìºîìàôÂÚàôÜ
A2: ՀՀ ²ð²ð²îÆ ºì ì²Úàò ÒàðÆ Ø²ð¼ºðÆ ÀÜ¸Ð²Üàôð Æð²ì²êàôÂÚ²Ü ²è²æÆÜ ²îÚ²ÜÆ ¸²î²ð²ÜÆ
H3: ¶àðÌàôÜºàôÂÚ²Ü ìºð²´ºðÚ²È êÜ²ÜÎàôÂÚ²Ü ¶àðÌºðàì
A4: ìÇ×³Ï³·ñ³Ï³Ý ïáÕÇ Ñ³Ù³ñÁ | E4: ²Ý³í³ñï ·áñÍ»ñÇ ÙÝ³óáñ¹Á Ñ³ßí»ïáõ Å³Ù³Ý³Ï³ßñç³ÝÇ ëÏ½µáõÙ | F4: êï³óí³Í ¹ÇÙáõÙÝ»ñÇ (·áñÍ»ñ) ù³Ý³ÏÁ | L4: öáË³Ýóí»É ¿ ³ÛÉ ¹³ï³íáñÇ (Ï³½ÙÇ ÷á÷áËáõÃÛáõÝ) | M4: ì³ñáõÛÃ ÁÝ¹áõÝí³Í ¹ÇÙáõÙÝ»ñáí Ï³Û³óí³Í ¹³ï³Ï³Ý ³Ïï»ñ | Q4: Ü»ñÏ³Û³óí»É ¿ ýÇÝ³Ýë³Ï³Ý ³éáÕç³óÙ³Ý Íñ³·Çñ | T4: ²í³ñïí»É »Ý ·áñÍ»ñ Ñ³ßí»ïáõ Å³Ù³Ý³Ï³ßñç³ÝáõÙ | U4: ²Ý³í³ñï ·áñÍ»ñÇ ÙÝ³óáñ¹Á Ñ³ßí»ïáõ Å³Ù³Ý³Ï³ßñç³ÝÇ í»ñçáõÙ | V4: ´áÕáù³ñÏí»É »Ý í»ñ³ùÝÝÇã ¹³ï³ñ³Ý
F6: ÀÝ¹³Ù»ÝÁ | G6: ³Û¹ ÃíáõÙ Ñ³ñÏ³¹ñí³Í ëÝ³ÝÏáõÃÛáõÝ | H6: ³Û¹ ÃíáõÙ Ï³Ù³íáñ ëÝ³ÝÏáõÃÛáõÝ | I6: ëï³óí³Í ¹ÇÙáõÙÝ»ñÇ ÁÝÃ³óùÁ | M6: Ï³Û³óí»É ¿ å³ñï³å³ÝÇÝ ëÝ³ÝÏ ×³Ý³ã»Éáõ Ù³ëÇÝ í×Çé | N6: å³ñï³å³ÝÇÝ ëÝ³ÝÏ ×³Ý³ã»Éáõ ¹ÇÙáõÙÁ Ù»ñÅí»É ¿ | O6: ¹ÇÙáõÙÁ ÃáÕÝí»É ¿ ³é³Ýó ùÝÝáõÃÛ³Ý | P6: ³Ý³í³ñï (³Û¹ ÃíáõÙ Ï³ë»óí³Í) | Q6: ÀÝ¹³Ù»ÝÁ | R6: ÃáÕÝí»É ¿ ³é³Ýó ùÝÝ³ñÏÙ³Ý | S6: Ñ³ëï³ïí»É ¿
I8: ¸ÇÙáõÙÇ ÁÝ¹áõÝáõÙÁ Ù»ñÅí»É ¿ | J8: ¸ÇÙáõÙÁ í»ñ³¹³ñÓí»É ¿ | K8: ÀÝ¹áõÝí»É ¿ í³ñáõÛÃ
E18: 1 | F18: 2 | G18: 3 | H18: 4 | I18: 5 | J18: 6 | K18: 7 | L18: 8 | M18: 9 | N18: 10 | O18: 11 | P18: 12 | Q18: 13 | R18: 14 | S18: 15 | T18: 16 | U18: 17 | V18: 18 | W18: 1+7=8+16+17 | Y18: 2=3+4 | AA18: 2=5+6+7 | AC18: 7=9+10+11+12
A19: 1 | B19: Æñ³í³µ³Ý³Ï³Ý ³ÝÓÇ ëÝ³ÝÏáõÃÛ³Ý í»ñ³µ»ñÛ³É | E19: 229 | F19: 29 | G19: 28 | H19: 1 | J19: 2 | K19: 27 | M19: 16 | N19: 4 | P19: 6 | Q19: 5 | R19: 2 | S19: 3 | T19: 16 | U19: 240 | V19: 11 | W19: =E19+K19 -> 256 | X19: =L19+T19+U19 -> 256 | Y19: =F19 -> 29 | Z19: =G19+H19 -> 29 | AA19: =F19 -> 29 | AB19: =I19+J19+K19 -> 29 | AC19: =K19 -> 27 | AD19: =M19+N19+O19+P19 -> 26
A20: 2 | B20: ²ÝÑ³ï Ó»éÝ»ñ»óÇ ëÝ³ÝÏáõÃÛ³Ý í»ñ³µ»ñÛ³É | E20: 72 | F20: 15 | G20: 15 | J20: 6 | K20: 9 | M20: 8 | P20: 1 | Q20: 1 | R20: 1 | T20: 7 | U20: 74 | V20: 5 | W20: =E20+K20 -> 81 | X20: =L20+T20+U20 -> 81 | Y20: =F20 -> 15 | Z20: =G20+H20 -> 15 | AA20: =F20 -> 15 | AB20: =I20+J20+K20 -> 15 | AC20: =K20 -> 9 | AD20: =M20+N20+O20+P20 -> 9
A21: 3 | B21: üÇ½ÇÏ³Ï³Ý ³ÝÓ³Ýó ëÝ³ÝÏáõÃÛ³Ý í»ñ³µ»ñÛ³É | E21: 232 | F21: 129 | G21: 76 | H21: 53 | J21: 45 | K21: 84 | M21: 33 | N21: 4 | P21: 47 | Q21: 1 | R21: 1 | T21: 30 | U21: 286 | V21: 14 | W21: =E21+K21 -> 316 | X21: =L21+T21+U21 -> 316 | Y21: =F21 -> 129 | Z21: =G21+H21 -> 129 | AA21: =F21 -> 129 | AB21: =I21+J21+K21 -> 129 | AC21: =K21 -> 84 | AD21: =M21+N21+O21+P21 -> 84
A22: 4 | B22: ԸՆԴԱՄԵՆԸ | E22: =SUM(E19:E21) -> 533 | F22: =SUM(F19:F21) -> 173 | G22: =SUM(G19:G21) -> 119 | H22: =SUM(H19:H21) -> 54 | I22: =SUM(I19:I21) -> 0 | J22: =SUM(J19:J21) -> 53 | K22: =SUM(K19:K21) -> 120 | L22: =SUM(L19:L21) -> 0 | ... AD22: =SUM(AD19:AD21) -> 119
D25: Ì³ÝáÃáõÃÛáõÝ. 1 գործ կարճվել է

Sheet Սյունիք
A1: 2017Ã. | C1: Ð²ÞìºîìàôÂÚàôÜ
A2: ՀՀ êÚàõÜÆøÆ Ø²ð¼Æ ÀÜ¸Ð²Üàôð Æð²ì²êàôÂÚ²Ü ²è²æÆÜ ²îÚ²ÜÆ ¸²î²ð²ÜÆ
H3: ¶àðÌàôÜºàôÂÚ²Ü ìºð²´ºðÚ²È êÜ²ÜÎàôÂÚ²Ü ¶àðÌºðàì
A4: ìÇ×³Ï³·ñ³Ï³Ý ïáÕÇ Ñ³Ù³ñÁ | E4: ²Ý³í³ñï ·áñÍ»ñÇ ÙÝ³óáñ¹Á Ñ³ßí»ïáõ Å³Ù³Ý³Ï³ßñç³ÝÇ ëÏ½µáõÙ | F4: êï³óí³Í ¹ÇÙáõÙÝ»ñÇ (·áñÍ»ñ) ù³Ý³ÏÁ | L4: öáË³Ýóí»É ¿ ³ÛÉ ¹³ï³íáñÇ (Ï³½ÙÇ ÷á÷áËáõÃÛáõÝ) | M4: ì³ñáõÛÃ ÁÝ¹áõÝí³Í ¹ÇÙáõÙÝ»ñáí Ï³Û³óí³Í ¹³ï³Ï³Ý ³Ïï»ñ | Q4: Ü»ñÏ³Û³óí»É ¿ ýÇÝ³Ýë³Ï³Ý ³éáÕç³óÙ³Ý Íñ³·Çñ | T4: ²í³ñïí»É »Ý ·áñÍ»ñ Ñ³ßí»ïáõ Å³Ù³Ý³Ï³ßñç³ÝáõÙ | U4: ²Ý³í³ñï ·áñÍ»ñÇ ÙÝ³óáñ¹Á Ñ³ßí»ïáõ Å³Ù³Ý³Ï³ßñç³ÝÇ í»ñçáõÙ | V4: ´áÕáù³ñÏí»É »Ý í»ñ³ùÝÝÇã ¹³ï³ñ³Ý
F6: ÀÝ¹³Ù»ÝÁ | G6: ³Û¹ ÃíáõÙ Ñ³ñÏ³¹ñí³Í ëÝ³ÝÏáõÃÛáõÝ | H6: ³Û¹ ÃíáõÙ Ï³Ù³íáñ ëÝ³ÝÏáõÃÛáõÝ | I6: ëï³óí³Í ¹ÇÙáõÙÝ»ñÇ ÁÝÃ³óùÁ | M6: Ï³Û³óí»É ¿ å³ñï³å³ÝÇÝ ëÝ³ÝÏ ×³Ý³ã»Éáõ Ù³ëÇÝ í×Çé | N6: å³ñï³å³ÝÇÝ ëÝ³ÝÏ ×³Ý³ã»Éáõ ¹ÇÙáõÙÁ Ù»ñÅí»É ¿ | O6: ¹ÇÙáõÙÁ ÃáÕÝí»É ¿ ³é³Ýó ùÝÝáõÃÛ³Ý | P6: ³Ý³í³ñï (³Û¹ ÃíáõÙ Ï³ë»óí³Í) | Q6: ÀÝ¹³Ù»ÝÁ | R6: ÃáÕÝí»É ¿ ³é³Ýó ùÝÝ³ñÏÙ³Ý | S6: Ñ³ëï³ïí»É ¿
I8: ¸ÇÙáõÙÇ ÁÝ¹áõÝáõÙÁ Ù»ñÅí»É ¿ | J8: ¸ÇÙáõÙÁ í»ñ³¹³ñÓí»É ¿ | K8: ÀÝ¹áõÝí»É ¿ í³ñáõÛÃ
E18: 1 | F18: 2 | G18: 3 | H18: 4 | I18: 5 | J18: 6 | K18: 7 | L18: 8 | M18: 9 | N18: 10 | O18: 11 | P18: 12 | Q18: 13 | R18: 14 | S18: 15 | T18: 16 | U18: 17 | V18: 18 | W18: 1+7=8+16+17 | Y18: 2=3+4 | AA18: 2=5+6+7 | AC18: 7=9+10+11+12
A19: 1 | B19: Æñ³í³µ³Ý³Ï³Ý ³ÝÓÇ ëÝ³ÝÏáõÃÛ³Ý í»ñ³µ»ñÛ³É | E19: 111 | F19: 22 | G19: 21 | H19: 1 | J19: 2 | K19: 20 | M19: 11 | P19: 9 | T19: 6 | U19: 125 | V19: 1 | W19: =E19+K19 -> 131 | X19: =L19+T19+U19 -> 131 | Y19: =F19 -> 22 | Z19: =G19+H19 -> 22 | AA19: =F19 -> 22 | AB19: =I19+J19+K19 -> 22 | AC19: =K19 -> 20 | AD19: =M19+N19+O19+P19 -> 20
A20: 2 | B20: ²ÝÑ³ï Ó»éÝ»ñ»óÇ ëÝ³ÝÏáõÃÛ³Ý í»ñ³µ»ñÛ³É | E20: 46 | F20: 7 | G20: 6 | H20: 1 | J20: 1 | K20: 6 | M20: 3 | P20: 3 | T20: 1 | U20: 51 | W20: =E20+K20 -> 52 | X20: =L20+T20+U20 -> 52 | Y20: =F20 -> 7 | Z20: =G20+H20 -> 7 | AA20: =F20 -> 7 | AB20: =I20+J20+K20 -> 7 | AC20: =K20 -> 6 | AD20: =M20+N20+O20+P20 -> 6
A21: 3 | B21: üÇ½ÇÏ³Ï³Ý ³ÝÓ³Ýó ëÝ³ÝÏáõÃÛ³Ý í»ñ³µ»ñÛ³É | E21: 174 | F21: 69 | G21: 16 | H21: 53 | I21: 0 | J21: 25 | K21: 44 | M21: 35 | N21: 2 | P21: 7 | T21: 4 | U21: 214 | W21: =E21+K21 -> 218 | X21: =L21+T21+U21 -> 218 | Y21: =F21 -> 69 | Z21: =G21+H21 -> 69 | AA21: =F21 -> 69 | AB21: =I21+J21+K21 -> 69 | AC21: =K21 -> 44 | AD21: =M21+N21+O21+P21 -> 44
A22: 4 | B22: ԸՆԴԱՄԵՆԸ | E22: =SUM(E19:E21) -> 331 | F22: =SUM(F19:F21) -> 98 | G22: =SUM(G19:G21) -> 43 | H22: =SUM(H19:H21) -> 55 | I22: =SUM(I19:I21) -> 0 | J22: =SUM(J19:J21) -> 28 | K22: =SUM(K19:K21) -> 70 | L22: =SUM(L19:L21) -> 0 | ... AD22: =SUM(AD19:AD21) -> 70
