Workbook

Sheet Ընդամենը
A1: 2015Ã. | D1: Ð²ÞìºîìàôÂÚàôÜ | P1: Ï³½Ùí³Í` ÐÐ Ï³é³í³ñáõÃÛ³Ý 19.03.2015Ã. ÃÇí 306-Ü áñáßÙ³Ý ÑÇÙ³Ý íñ³
A2: ØÇÝã¹³ï³Ï³Ý í³ñáõÛÃÇ ÝÏ³ïÙ³Ùµ ¹³ï³Ï³Ý í»ñ³ÑëÏáÕáõÃÛ³ÝÁ, ¹³ï³Ï³Ý ³Ïï»ñÇ ¨ ¹³ï³Ï³Ý Ñ³ÝÓÝ³ñ³ñáõÃÛáõÝÝ»ñÇ Ï³ï³ñÙ³Ý Ñ»ï Ï³åí³Í ÙÇçÝáñ¹áõÃÛáõÝÝ»ñÇ í»ñ³µ»ñÛ³É ¹³ï³Ï³Ý ·áñÍ»ñáí ÐÐ î³íáõßÇ Ù³ñ½Ç ÁÝ¹Ñ³Ýáõñ Çñ³í³ëáõÃÛ³Ý ³é³çÇÝ ³ïÛ³ÝÇ ¹³ï³ñ³ÝÇ ·áñÍáõÝ»áõÃÛ³Ý í»ñ³µ»ñÛ³É
A3: êïáõ·Çã Ñ³í³ë³ñáõÙ` 1+2=3+8+9, 8=4+5+6+7, | D3: Ð³ßí»ïáõ Å³Ù³Ý³Ï³Ñ³ïí³ÍÇ ëÏ½µáõÙ Ý³Ëáñ¹ Ñ³ßí»ïáõ Å³Ù³Ý³Ï³Ñ³ïí³ÍÇó ÷áË³Ýóí³Í ·áñÍ»ñÇ ÁÝ¹Ñ³Ýáõñ ÃÇíÁ | E3: Ð³ßí»ïáõ Å³Ù³Ý³Ï³Ñ³ïí³ÍáõÙ ëï³óí³Í ·áñÍ»ñÇ ÁÝ¹Ñ³Ýáõñ ÃÇíÁ | F3: öáË³Ýóí»É ¿ ³ÛÉ ¹³ï³íáñÇ Ï³Ù ³ÛÉ ¹³ï³ñ³Ý (Ï³½ÙÇ ÷á÷áËáõÃÛáõÝ, ÁÝ¹¹³ïáõÃÛáõÝ) | G3: Ð³ßí»ïáõ Å³Ù³Ý³Ï³Ñ³ïí³ÍáõÙ ³í³ñïí³Í ·áñÍ»ñÇ ÁÝ¹Ñ³Ýáõñ ÃÇíÁ | L3: Ð³ßí»ïáõ Å³Ù³Ý³Ï³Ñ³ïí³ÍáõÙ ³Ý³í³ñï ·áñÍ»ñÇ ÁÝ¹Ñ³Ýáõñ ÃÇíÁ | M3: ØÇçÝáñ¹áõÃÛáõÝÝ»ñáí Ï³Û³óí³Í ¹³ï³Ï³Ý ³Ïï»ñÇó µáÕáù³ñÏí³ÍÝ»ñÇ ù³Ý³ÏÁ | O3: ²Ý³í³ñï µáÕáùÝ»ñ | P3: ØÇçÝáñ¹áõÃÛáõÝÝ»ñáí Ï³Û³óí³Í ¨ µáÕáù³ñÏí³Í ¹³ï³Ï³Ý ³Ïï»ñÇó µ»Ï³Ýí³ÍÝ»ñÇ ù³Ý³ÏÁ | R3: ÙÇçÝáñ¹áõÃÛáõÝÝ»ñáí Ï³Û³óí³Í ¨ µáÕáù³ñÏí³Í ¹³ï³Ï³Ý ³Ïï»ñÇó ³Ý÷á÷áË ÃáÕÝí³ÍÝ»ñÇ ù³Ý³ÏÁ
G4: Ù»ñÅí»É ¿ | H4: µ³í³ñ³ñí»É ¿ | I4: µ³í³ñ³ñí»É ¿ Ù³ëÝ³ÏÇ | J4: ÃáÕÝí»É ¿ ³é³Ýó ùÝÝáõÃÛ³Ý | K4: ÀÝ¹³Ù»ÝÁ
M5: Ý³Ëáñ¹ ï³ñÇÝ»ñÇÝ Ï³Û³óí³Í ³Ïï»ñÇ ¹»Ù | N5: Ñ³ßí»ïáõ Å³Ù³Ý³Ï³ßñç³ÝáõÙ Ï³Û³óí³Í ³Ïï»ñÇ ¹»Ù | P5: Ý³Ëáñ¹ ï³ñÇÝ»ñÇÝ Ï³Û³óí³Í ³Ïï»ñÇ µ»Ï³ÝáõÙÝ»ñÁ | Q5: Ñ³ßí»ïáõ Å³Ù³Ý³Ï³ßñç³ÝáõÙ Ï³Û³óí³Í ³Ïï»ñÇ µ»Ï³ÝáõÙÝ»ñÁ
A6: 1. ØÇÝã¹³ï³Ï³Ý í³ñáõÛÃÇ ÝÏ³ïÙ³Ùµ ¹³ï³Ï³Ý í»ñ³ÑëÏáÕáõÃÛ³Ý áÉáñï | D6: 1 | E6: 2 | F6: 3 | G6: 4 | H6: 5 | I6: 6 | J6: 7 | K6: 8 | L6: 9 | M6: 10 | N6: 11 | O6: 12 | P6: 13 | Q6: 14 | R6: 15 | T6: 1+2=3+8+9 | V6: 8=4+5+6+7
A7: 1 | B7: Ï³É³ÝùÁ áñå»ë Ë³÷³ÝÙ³Ý ÙÇçáó ÏÇñ³é»Éáõ Ù³ëÇÝ ÙÇçÝáñ¹áõÃÛáõÝÝ»ñ | D7: ='Ս. Մարդանյան'!D7+Ա.Խաչիկյան!D7+'Ռ. Մելքոնյան'!D7+'Զ. Զաքինյան'!D7+'Ա. Կուրեխյան'!D7 -> 0 | E7: ='Ս. Մարդանյան'!E7+Ա.Խաչիկյան!E7+'Ռ. Մելքոնյան'!E7+'Զ. Զաքինյան'!E7+'Ա. Կուրեխյան'!E7 -> 83 | F7: ='Ս. Մարդանյան'!F7+Ա.Խաչիկյան!F7+'Ռ. Մելքոնյան'!F7+'Զ. Զաքինյան'!F7+'Ա. Կուրեխյան'!F7 -> 0 | G7: ='Ս. Մարդանյան'!G7+Ա.Խաչիկյան!G7+'Ռ. Մելքոնյան'!G7+'Զ. Զաքինյան'!G7+'Ա. Կուրեխյան'!G7 -> 13 | H7: ='Ս. Մարդանյան'!H7+Ա.Խաչիկյան!H7+'Ռ. Մելքոնյան'!H7+'Զ. Զաքինյան'!H7+'Ա. Կուրեխյան'!H7 -> 68 | I7: ='Ս. Մարդանյան'!I7+Ա.Խաչիկյան!I7+'Ռ. Մելքոնյան'!I7+'Զ. Զաքինյան'!I7+'Ա. Կուրեխյան'!I7 -> 1 | J7: ='Ս. Մարդանյան'!J7+Ա.Խաչիկյան!J7+'Ռ. Մելքոնյան'!J7+'Զ. Զաքինյան'!J7+'Ա. Կուրեխյան'!J7 -> 1 | K7: ='Ս. Մարդանյան'!K7+Ա.Խաչիկյան!K7+'Ռ. Մելքոնյան'!K7+'Զ. Զաքինյան'!K7+'Ա. Կուրեխյան'!K7 -> 83 | ... R7: ='Ս. Մարդանյան'!R7+Ա.Խաչիկյան!R7+'Ռ. Մելքոնյան'!R7+'Զ. Զաքինյան'!R7+'Ա. Կուրեխյան'!R7 -> 12 | S7: ='Ս. Մարդանյան'!S7+Ա.Խաչիկյան!S7+'Ռ. Մելքոնյան'!S7+'Զ. Զաքինյան'!S7+'Ա. Կուրեխյան'!S7+#REF!+#REF!+#REF! -> #REF! | T7: =D7+E7 -> 83 | U7: =F7+K7+L7 -> 83 | V7: =K7 -> 83 | W7: =G7+H7+I7+J7 -> 83
A8: 2 | B8: Ï³É³ÝùÇ Å³ÙÏ»ïÁ »ñÏ³ñ³óÝ»Éáõ Ù³ëÇÝ ÙÇçÝáñ¹áõÃÛáõÝÝ»ñ | D8: ='Ս. Մարդանյան'!D8+Ա.Խաչիկյան!D8+'Ռ. Մելքոնյան'!D8+'Զ. Զաքինյան'!D8+'Ա. Կուրեխյան'!D8 -> 0 | E8: ='Ս. Մարդանյան'!E8+Ա.Խաչիկյան!E8+'Ռ. Մելքոնյան'!E8+'Զ. Զաքինյան'!E8+'Ա. Կուրեխյան'!E8 -> 38 | F8: ='Ս. Մարդանյան'!F8+Ա.Խաչիկյան!F8+'Ռ. Մելքոնյան'!F8+'Զ. Զաքինյան'!F8+'Ա. Կուրեխյան'!F8 -> 0 | G8: ='Ս. Մարդանյան'!G8+Ա.Խաչիկյան!G8+'Ռ. Մելքոնյան'!G8+'Զ. Զաքինյան'!G8+'Ա. Կուրեխյան'!G8 -> 2 | H8: ='Ս. Մարդանյան'!H8+Ա.Խաչիկյան!H8+'Ռ. Մելքոնյան'!H8+'Զ. Զաքինյան'!H8+'Ա. Կուրեխյան'!H8 -> 28 | I8: ='Ս. Մարդանյան'!I8+Ա.Խաչիկյան!I8+'Ռ. Մելքոնյան'!I8+'Զ. Զաքինյան'!I8+'Ա. Կուրեխյան'!I8 -> 5 | J8: ='Ս. Մարդանյան'!J8+Ա.Խաչիկյան!J8+'Ռ. Մելքոնյան'!J8+'Զ. Զաքինյան'!J8+'Ա. Կուրեխյան'!J8 -> 0 | K8: ='Ս. Մարդանյան'!K8+Ա.Խաչիկյան!K8+'Ռ. Մելքոնյան'!K8+'Զ. Զաքինյան'!K8+'Ա. Կուրեխյան'!K8 -> 35 | ... R8: ='Ս. Մարդանյան'!R8+Ա.Խաչիկյան!R8+'Ռ. Մելքոնյան'!R8+'Զ. Զաքինյան'!R8+'Ա. Կուրեխյան'!R8 -> 7 | S8: ='Ս. Մարդանյան'!S8+Ա.Խաչիկյան!S8+'Ռ. Մելքոնյան'!S8+'Զ. Զաքինյան'!S8+'Ա. Կուրեխյան'!S8+#REF!+#REF!+#REF! -> #REF! | T8: =D8+E8 -> 38 | U8: =F8+K8+L8 -> 38 | V8: =K8 -> 35 | W8: =G8+H8+I8+J8 -> 35
A9: 3 | B9: Ï³É³ÝùÇ í»ñ³Ñ³ëï³ïÙ³Ý Ù³ëÇÝ ÙÇçÝáñ¹áõÃÛáõÝÝ»ñ | D9: ='Ս. Մարդանյան'!D9+Ա.Խաչիկյան!D9+'Ռ. Մելքոնյան'!D9+'Զ. Զաքինյան'!D9+'Ա. Կուրեխյան'!D9 -> 0 | E9: ='Ս. Մարդանյան'!E9+Ա.Խաչիկյան!E9+'Ռ. Մելքոնյան'!E9+'Զ. Զաքինյան'!E9+'Ա. Կուրեխյան'!E9 -> 10 | F9: ='Ս. Մարդանյան'!F9+Ա.Խաչիկյան!F9+'Ռ. Մելքոնյան'!F9+'Զ. Զաքինյան'!F9+'Ա. Կուրեխյան'!F9 -> 0 | G9: ='Ս. Մարդանյան'!G9+Ա.Խաչիկյան!G9+'Ռ. Մելքոնյան'!G9+'Զ. Զաքինյան'!G9+'Ա. Կուրեխյան'!G9 -> 1 | H9: ='Ս. Մարդանյան'!H9+Ա.Խաչիկյան!H9+'Ռ. Մելքոնյան'!H9+'Զ. Զաքինյան'!H9+'Ա. Կուրեխյան'!H9 -> 9 | I9: ='Ս. Մարդանյան'!I9+Ա.Խաչիկյան!I9+'Ռ. Մելքոնյան'!I9+'Զ. Զաքինյան'!I9+'Ա. Կուրեխյան'!I9 -> 0 | J9: ='Ս. Մարդանյան'!J9+Ա.Խաչիկյան!J9+'Ռ. Մելքոնյան'!J9+'Զ. Զաքինյան'!J9+'Ա. Կուրեխյան'!J9 -> 0 | K9: ='Ս. Մարդանյան'!K9+Ա.Խաչիկյան!K9+'Ռ. Մելքոնյան'!K9+'Զ. Զաքինյան'!K9+'Ա. Կուրեխյան'!K9 -> 10 | ... R9: ='Ս. Մարդանյան'!R9+Ա.Խաչիկյան!R9+'Ռ. Մելքոնյան'!R9+'Զ. Զաքինյան'!R9+'Ա. Կուրեխյան'!R9 -> 3 | S9: ='Ս. Մարդանյան'!S9+Ա.Խաչիկյան!S9+'Ռ. Մելքոնյան'!S9+'Զ. Զաքինյան'!S9+'Ա. Կուրեխյան'!S9+#REF!+#REF!+#REF! -> #REF! | T9: =D9+E9 -> 10 | U9: =F9+K9+L9 -> 10 | V9: =K9 -> 10 | W9: =G9+H9+I9+J9 -> 10
A10: 4 | B10: ·ñ³íÁ áñå»ë Ï³É³Ý³íáñÙ³Ý ³ÛÉÁÝïñ³Ýù³ÛÇÝ Ë³÷³ÝÙ³Ý ÙÇçáó ÏÇñ³é»Éáõ Ù³ëÇÝ ÙÇçÝáñ¹áõÃÛáõÝÝ»ñ | D10: ='Ս. Մարդանյան'!D10+Ա.Խաչիկյան!D10+'Ռ. Մելքոնյան'!D10+'Զ. Զաքինյան'!D10+'Ա. Կուրեխյան'!D10 -> 0 | E10: ='Ս. Մարդանյան'!E10+Ա.Խաչիկյան!E10+'Ռ. Մելքոնյան'!E10+'Զ. Զաքինյան'!E10+'Ա. Կուրեխյան'!E10 -> 4 | F10: ='Ս. Մարդանյան'!F10+Ա.Խաչիկյան!F10+'Ռ. Մելքոնյան'!F10+'Զ. Զաքինյան'!F10+'Ա. Կուրեխյան'!F10 -> 0 | G10: ='Ս. Մարդանյան'!G10+Ա.Խաչիկյան!G10+'Ռ. Մելքոնյան'!G10+'Զ. Զաքինյան'!G10+'Ա. Կուրեխյան'!G10 -> 1 | H10: ='Ս. Մարդանյան'!H10+Ա.Խաչիկյան!H10+'Ռ. Մելքոնյան'!H10+'Զ. Զաքինյան'!H10+'Ա. Կուրեխյան'!H10 -> 2 | I10: ='Ս. Մարդանյան'!I10+Ա.Խաչիկյան!I10+'Ռ. Մելքոնյան'!I10+'Զ. Զաքինյան'!I10+'Ա. Կուրեխյան'!I10 -> 0 | J10: ='Ս. Մարդանյան'!J10+Ա.Խաչիկյան!J10+'Ռ. Մելքոնյան'!J10+'Զ. Զաքինյան'!J10+'Ա. Կուրեխյան'!J10 -> 1 | K10: ='Ս. Մարդանյան'!K10+Ա.Խաչիկյան!K10+'Ռ. Մելքոնյան'!K10+'Զ. Զաքինյան'!K10+'Ա. Կուրեխյան'!K10 -> 4 | ... R10: ='Ս. Մարդանյան'!R10+Ա.Խաչիկյան!R10+'Ռ. Մելքոնյան'!R10+'Զ. Զաքինյան'!R10+'Ա. Կուրեխյան'!R10 -> 1 | S10: ='Ս. Մարդանյան'!S10+Ա.Խաչիկյան!S10+'Ռ. Մելքոնյան'!S10+'Զ. Զաքինյան'!S10+'Ա. Կուրեխյան'!S10+#REF!+#REF!+#REF! -> #REF! | T10: =D10+E10 -> 4 | U10: =F10+K10+L10 -> 4 | V10: =K10 -> 4 | W10: =G10+H10+I10+J10 -> 4
A11: 5 | B11: Ëáõ½³ñÏáõÃÛ³Ý Ï³ï³ñÙ³Ý Ù³ëÇÝ ÙÇçÝáñ¹áõÃÛáõÝÝ»ñ | D11: ='Ս. Մարդանյան'!D11+Ա.Խաչիկյան!D11+'Ռ. Մելքոնյան'!D11+'Զ. Զաքինյան'!D11+'Ա. Կուրեխյան'!D11 -> 0 | E11: ='Ս. Մարդանյան'!E11+Ա.Խաչիկյան!E11+'Ռ. Մելքոնյան'!E11+'Զ. Զաքինյան'!E11+'Ա. Կուրեխյան'!E11 -> 41 | F11: ='Ս. Մարդանյան'!F11+Ա.Խաչիկյան!F11+'Ռ. Մելքոնյան'!F11+'Զ. Զաքինյան'!F11+'Ա. Կուրեխյան'!F11 -> 0 | G11: ='Ս. Մարդանյան'!G11+Ա.Խաչիկյան!G11+'Ռ. Մելքոնյան'!G11+'Զ. Զաքինյան'!G11+'Ա. Կուրեխյան'!G11 -> 4 | H11: ='Ս. Մարդանյան'!H11+Ա.Խաչիկյան!H11+'Ռ. Մելքոնյան'!H11+'Զ. Զաքինյան'!H11+'Ա. Կուրեխյան'!H11 -> 30 | I11: ='Ս. Մարդանյան'!I11+Ա.Խաչիկյան!I11+'Ռ. Մելքոնյան'!I11+'Զ. Զաքինյան'!I11+'Ա. Կուրեխյան'!I11 -> 7 | J11: ='Ս. Մարդանյան'!J11+Ա.Խաչիկյան!J11+'Ռ. Մելքոնյան'!J11+'Զ. Զաքինյան'!J11+'Ա. Կուրեխյան'!J11 -> 0 | K11: ='Ս. Մարդանյան'!K11+Ա.Խաչիկյան!K11+'Ռ. Մելքոնյան'!K11+'Զ. Զաքինյան'!K11+'Ա. Կուրեխյան'!K11 -> 41 | ... R11: ='Ս. Մարդանյան'!R11+Ա.Խաչիկյան!R11+'Ռ. Մելքոնյան'!R11+'Զ. Զաքինյան'!R11+'Ա. Կուրեխյան'!R11 -> 1 | S11: ='Ս. Մարդանյան'!S11+Ա.Խաչիկյան!S11+'Ռ. Մելքոնյան'!S11+'Զ. Զաքինյան'!S11+'Ա. Կուրեխյան'!S11+#REF!+#REF!+#REF! -> #REF! | T11: =D11+E11 -> 41 | U11: =F11+K11+L11 -> 41 | V11: =K11 -> 41 | W11: =G11+H11+I11+J11 -> 41
A12: 6 | B12: µ³ÝÏ³ÛÇÝ, ³å³Ñáí³·ñ³Ï³Ý, Ýáï³ñ³Ï³Ý ·³ÕïÝÇù Ï³½ÙáÕ ï»Õ»ÏáõÃÛáõÝÝ»ñÇ ëï³óÙ³Ý Ñ³Ù³ñ Ëáõ½³ñÏáõÃÛ³Ý Ï³Ù ³é·ñ³íÙ³Ý Ï³ï³ñÙ³Ý Ù³ëÇÝ ÙÇçÝáñ¹áõÃÛáõÝÝ»ñ | D12: ='Ս. Մարդանյան'!D12+Ա.Խաչիկյան!D12+'Ռ. Մելքոնյան'!D12+'Զ. Զաքինյան'!D12+'Ա. Կուրեխյան'!D12 -> 0 | E12: ='Ս. Մարդանյան'!E12+Ա.Խաչիկյան!E12+'Ռ. Մելքոնյան'!E12+'Զ. Զաքինյան'!E12+'Ա. Կուրեխյան'!E12 -> 0 | F12: ='Ս. Մարդանյան'!F12+Ա.Խաչիկյան!F12+'Ռ. Մելքոնյան'!F12+'Զ. Զաքինյան'!F12+'Ա. Կուրեխյան'!F12 -> 0 | G12: ='Ս. Մարդանյան'!G12+Ա.Խաչիկյան!G12+'Ռ. Մելքոնյան'!G12+'Զ. Զաքինյան'!G12+'Ա. Կուրեխյան'!G12 -> 0 | H12: ='Ս. Մարդանյան'!H12+Ա.Խաչիկյան!H12+'Ռ. Մելքոնյան'!H12+'Զ. Զաքինյան'!H12+'Ա. Կուրեխյան'!H12 -> 0 | I12: ='Ս. Մարդանյան'!I12+Ա.Խաչիկյան!I12+'Ռ. Մելքոնյան'!I12+'Զ. Զաքինյան'!I12+'Ա. Կուրեխյան'!I12 -> 0 | J12: ='Ս. Մարդանյան'!J12+Ա.Խաչիկյան!J12+'Ռ. Մելքոնյան'!J12+'Զ. Զաքինյան'!J12+'Ա. Կուրեխյան'!J12 -> 0 | K12: ='Ս. Մարդանյան'!K12+Ա.Խաչիկյան!K12+'Ռ. Մելքոնյան'!K12+'Զ. Զաքինյան'!K12+'Ա. Կուրեխյան'!K12 -> 0 | ... R12: ='Ս. Մարդանյան'!R12+Ա.Խաչիկյան!R12+'Ռ. Մելքոնյան'!R12+'Զ. Զաքինյան'!R12+'Ա. Կուրեխյան'!R12 -> 0 | S12: ='Ս. Մարդանյան'!S12+Ա.Խաչիկյան!S12+'Ռ. Մելքոնյան'!S12+'Զ. Զաքինյան'!S12+'Ա. Կուրեխյան'!S12+#REF!+#REF!+#REF! -> #REF! | T12: =D12+E12 -> 0 | U12: =F12+K12+L12 -> 0 | V12: =K12 -> 0 | W12: =G12+H12+I12+J12 -> 0
A13: 7 | B13: Ý³Ù³Ï³·ñáõÃÛ³Ý, Ñ»é³·ñ³Ï³Ý, ÷áuï³ÛÇÝ Ñ³Õáñ¹áõÙÝ»ñÇ ÑëÏáÕáõÃÛ³Ý Ù³ëÇÝ ÙÇçÝáñ¹áõÃÛáõÝÝ»ñ | D13: ='Ս. Մարդանյան'!D13+Ա.Խաչիկյան!D13+'Ռ. Մելքոնյան'!D13+'Զ. Զաքինյան'!D13+'Ա. Կուրեխյան'!D13 -> 0 | E13: ='Ս. Մարդանյան'!E13+Ա.Խաչիկյան!E13+'Ռ. Մելքոնյան'!E13+'Զ. Զաքինյան'!E13+'Ա. Կուրեխյան'!E13 -> 0 | F13: ='Ս. Մարդանյան'!F13+Ա.Խաչիկյան!F13+'Ռ. Մելքոնյան'!F13+'Զ. Զաքինյան'!F13+'Ա. Կուրեխյան'!F13 -> 0 | G13: ='Ս. Մարդանյան'!G13+Ա.Խաչիկյան!G13+'Ռ. Մելքոնյան'!G13+'Զ. Զաքինյան'!G13+'Ա. Կուրեխյան'!G13 -> 0 | H13: ='Ս. Մարդանյան'!H13+Ա.Խաչիկյան!H13+'Ռ. Մելքոնյան'!H13+'Զ. Զաքինյան'!H13+'Ա. Կուրեխյան'!H13 -> 0 | I13: ='Ս. Մարդանյան'!I13+Ա.Խաչիկյան!I13+'Ռ. Մելքոնյան'!I13+'Զ. Զաքինյան'!I13+'Ա. Կուրեխյան'!I13 -> 0 | J13: ='Ս. Մարդանյան'!J13+Ա.Խաչիկյան!J13+'Ռ. Մելքոնյան'!J13+'Զ. Զաքինյան'!J13+'Ա. Կուրեխյան'!J13 -> 0 | K13: ='Ս. Մարդանյան'!K13+Ա.Խաչիկյան!K13+'Ռ. Մելքոնյան'!K13+'Զ. Զաքինյան'!K13+'Ա. Կուրեխյան'!K13 -> 0 | ... R13: ='Ս. Մարդանյան'!R13+Ա.Խաչիկյան!R13+'Ռ. Մելքոնյան'!R13+'Զ. Զաքինյան'!R13+'Ա. Կուրեխյան'!R13 -> 0 | S13: ='Ս. Մարդանյան'!S13+Ա.Խաչիկյան!S13+'Ռ. Մելքոնյան'!S13+'Զ. Զաքինյան'!S13+'Ա. Կուրեխյան'!S13+#REF!+#REF!+#REF! -> #REF! | T13: =D13+E13 -> 0 | U13: =F13+K13+L13 -> 0 | V13: =K13 -> 0 | W13: =G13+H13+I13+J13 -> 0
A14: 8 | B14: Ñ»é³Ëáu³ÛÇÝ Ï³Ù Ï³åÇ ³ÛÉ ÙÇçáóÝ»ñáí ï³ñíáÕ Ëáu³ÏóáõÃÛáõÝÝ»ñÇ ÉuÙ³Ý ¨ Ó³ÛÝ³·ñ³éÙ³Ý Ù³ëÇÝ ÙÇçÝáñ¹áõÃÛáõÝÝ»ñ | D14: ='Ս. Մարդանյան'!D14+Ա.Խաչիկյան!D14+'Ռ. Մելքոնյան'!D14+'Զ. Զաքինյան'!D14+'Ա. Կուրեխյան'!D14 -> 0 | E14: ='Ս. Մարդանյան'!E14+Ա.Խաչիկյան!E14+'Ռ. Մելքոնյան'!E14+'Զ. Զաքինյան'!E14+'Ա. Կուրեխյան'!E14 -> 0 | F14: ='Ս. Մարդանյան'!F14+Ա.Խաչիկյան!F14+'Ռ. Մելքոնյան'!F14+'Զ. Զաքինյան'!F14+'Ա. Կուրեխյան'!F14 -> 0 | G14: ='Ս. Մարդանյան'!G14+Ա.Խաչիկյան!G14+'Ռ. Մելքոնյան'!G14+'Զ. Զաքինյան'!G14+'Ա. Կուրեխյան'!G14 -> 0 | H14: ='Ս. Մարդանյան'!H14+Ա.Խաչիկյան!H14+'Ռ. Մելքոնյան'!H14+'Զ. Զաքինյան'!H14+'Ա. Կուրեխյան'!H14 -> 0 | I14: ='Ս. Մարդանյան'!I14+Ա.Խաչիկյան!I14+'Ռ. Մելքոնյան'!I14+'Զ. Զաքինյան'!I14+'Ա. Կուրեխյան'!I14 -> 0 | J14: ='Ս. Մարդանյան'!J14+Ա.Խաչիկյան!J14+'Ռ. Մելքոնյան'!J14+'Զ. Զաքինյան'!J14+'Ա. Կուրեխյան'!J14 -> 0 | K14: ='Ս. Մարդանյան'!K14+Ա.Խաչիկյան!K14+'Ռ. Մելքոնյան'!K14+'Զ. Զաքինյան'!K14+'Ա. Կուրեխյան'!K14 -> 0 | ... R14: ='Ս. Մարդանյան'!R14+Ա.Խաչիկյան!R14+'Ռ. Մելքոնյան'!R14+'Զ. Զաքինյան'!R14+'Ա. Կուրեխյան'!R14 -> 0 | S14: ='Ս. Մարդանյան'!S14+Ա.Խաչիկյան!S14+'Ռ. Մելքոնյան'!S14+'Զ. Զաքինյան'!S14+'Ա. Կուրեխյան'!S14+#REF!+#REF!+#REF! -> #REF! | T14: =D14+E14 -> 0 | U14: =F14+K14+L14 -> 0 | V14: =K14 -> 0 | W14: =G14+H14+I14+J14 -> 0
A15: 9 | B15: Ñ»é³ËáëÝ»ñÇ Ùáõïù³ÛÇÝ ¨ »Éù³ÛÇÝ í»ñÍ³ÝÙ³Ý ÃáõÛÉïíáõÃÛáõÝ ëï³Ý³Éáõ Ù³ëÇÝ ÙÇçÝáñ¹áõÃÛáõÝÝ»ñ | D15: ='Ս. Մարդանյան'!D15+Ա.Խաչիկյան!D15+'Ռ. Մելքոնյան'!D15+'Զ. Զաքինյան'!D15+'Ա. Կուրեխյան'!D15 -> 0 | E15: ='Ս. Մարդանյան'!E15+Ա.Խաչիկյան!E15+'Ռ. Մելքոնյան'!E15+'Զ. Զաքինյան'!E15+'Ա. Կուրեխյան'!E15 -> 50 | F15: ='Ս. Մարդանյան'!F15+Ա.Խաչիկյան!F15+'Ռ. Մելքոնյան'!F15+'Զ. Զաքինյան'!F15+'Ա. Կուրեխյան'!F15 -> 0 | G15: ='Ս. Մարդանյան'!G15+Ա.Խաչիկյան!G15+'Ռ. Մելքոնյան'!G15+'Զ. Զաքինյան'!G15+'Ա. Կուրեխյան'!G15 -> 6 | H15: ='Ս. Մարդանյան'!H15+Ա.Խաչիկյան!H15+'Ռ. Մելքոնյան'!H15+'Զ. Զաքինյան'!H15+'Ա. Կուրեխյան'!H15 -> 42 | I15: ='Ս. Մարդանյան'!I15+Ա.Խաչիկյան!I15+'Ռ. Մելքոնյան'!I15+'Զ. Զաքինյան'!I15+'Ա. Կուրեխյան'!I15 -> 2 | J15: ='Ս. Մարդանյան'!J15+Ա.Խաչիկյան!J15+'Ռ. Մելքոնյան'!J15+'Զ. Զաքինյան'!J15+'Ա. Կուրեխյան'!J15 -> 0 | K15: ='Ս. Մարդանյան'!K15+Ա.Խաչիկյան!K15+'Ռ. Մելքոնյան'!K15+'Զ. Զաքինյան'!K15+'Ա. Կուրեխյան'!K15 -> 50 | ... R15: ='Ս. Մարդանյան'!R15+Ա.Խաչիկյան!R15+'Ռ. Մելքոնյան'!R15+'Զ. Զաքինյան'!R15+'Ա. Կուրեխյան'!R15 -> 0 | S15: ='Ս. Մարդանյան'!S15+Ա.Խաչիկյան!S15+'Ռ. Մելքոնյան'!S15+'Զ. Զաքինյան'!S15+'Ա. Կուրեխյան'!S15+#REF!+#REF!+#REF! -> #REF! | T15: =D15+E15 -> 50 | U15: =F15+K15+L15 -> 50 | V15: =K15 -> 50 | W15: =G15+H15+I15+J15 -> 50
A16: 10 | B16: Ñ»ï³ùÝÝáõÃÛ³Ý Ù³ñÙÝÇ ³ßË³ïáÕÇ, ùÝÝÇãÇ, ¹³ï³Ë³½Ç oå»ñ³ïÇí-Ñ»ï³Ëáõ½³Ï³Ý ·áñÍáÕáõÃÛáõÝÝ»ñ Çñ³Ï³Ý³óÝáÕ Ù³ñÙÇÝÝ»ñÇ ³ÝoñÇÝ³Ï³Ý ¨ ³ÝÑÇÙÝ áñáßáõÙÝ»ñÇ ¨ ·áñÍáÕáõÃÛáõÝÝ»ñÇ ¹»Ù µáÕáùÝ»ñ | D16: ='Ս. Մարդանյան'!D16+Ա.Խաչիկյան!D16+'Ռ. Մելքոնյան'!D16+'Զ. Զաքինյան'!D16+'Ա. Կուրեխյան'!D16 -> 0 | E16: ='Ս. Մարդանյան'!E16+Ա.Խաչիկյան!E16+'Ռ. Մելքոնյան'!E16+'Զ. Զաքինյան'!E16+'Ա. Կուրեխյան'!E16 -> 23 | F16: ='Ս. Մարդանյան'!F16+Ա.Խաչիկյան!F16+'Ռ. Մելքոնյան'!F16+'Զ. Զաքինյան'!F16+'Ա. Կուրեխյան'!F16 -> 0 | G16: ='Ս. Մարդանյան'!G16+Ա.Խաչիկյան!G16+'Ռ. Մելքոնյան'!G16+'Զ. Զաքինյան'!G16+'Ա. Կուրեխյան'!G16 -> 17 | H16: ='Ս. Մարդանյան'!H16+Ա.Խաչիկյան!H16+'Ռ. Մելքոնյան'!H16+'Զ. Զաքինյան'!H16+'Ա. Կուրեխյան'!H16 -> 4 | I16: ='Ս. Մարդանյան'!I16+Ա.Խաչիկյան!I16+'Ռ. Մելքոնյան'!I16+'Զ. Զաքինյան'!I16+'Ա. Կուրեխյան'!I16 -> 1 | J16: ='Ս. Մարդանյան'!J16+Ա.Խաչիկյան!J16+'Ռ. Մելքոնյան'!J16+'Զ. Զաքինյան'!J16+'Ա. Կուրեխյան'!J16 -> 0 | K16: ='Ս. Մարդանյան'!K16+Ա.Խաչիկյան!K16+'Ռ. Մելքոնյան'!K16+'Զ. Զաքինյան'!K16+'Ա. Կուրեխյան'!K16 -> 22 | ... R16: ='Ս. Մարդանյան'!R16+Ա.Խաչիկյան!R16+'Ռ. Մելքոնյան'!R16+'Զ. Զաքինյան'!R16+'Ա. Կուրեխյան'!R16 -> 10 | S16: ='Ս. Մարդանյան'!S16+Ա.Խաչիկյան!S16+'Ռ. Մելքոնյան'!S16+'Զ. Զաքինյան'!S16+'Ա. Կուրեխյան'!S16+#REF!+#REF!+#REF! -> #REF! | T16: =D16+E16 -> 23 | U16: =F16+K16+L16 -> 23 | V16: =K16 -> 22 | W16: =G16+H16+I16+J16 -> 22
A17: 2. ¸³ï³Ï³Ý ³Ïï»ñÇ ¨ ¹³ï³Ï³Ý Ñ³ÝÓÝ³ñ³ñáõÃÛáõÝÝ»ñÇ Ï³ï³ñÙ³Ý Ñ»ï Ï³åí³Í Ñ³ñó»ñÇ ÉáõÍÙ³Ý áÉáñï | S17: ='Ս. Մարդանյան'!S17+Ա.Խաչիկյան!S17+'Ռ. Մելքոնյան'!S17+'Զ. Զաքինյան'!S17+'Ա. Կուրեխյան'!S17+#REF!+#REF!+#REF! -> #REF!
A18: 1 | B18: å³ïÅÇó å³ÛÙ³Ý³Ï³Ý í³Õ³Å³ÙÏ»ï ³½³ï»Éáõ Ù³ëÇÝ ÙÇçÝáñ¹áõÃÛáõÝÝ»ñ | D18: ='Ս. Մարդանյան'!D18+Ա.Խաչիկյան!D18+'Ռ. Մելքոնյան'!D18+'Զ. Զաքինյան'!D18+'Ա. Կուրեխյան'!D18 -> 0 | E18: ='Ս. Մարդանյան'!E18+Ա.Խաչիկյան!E18+'Ռ. Մելքոնյան'!E18+'Զ. Զաքինյան'!E18+'Ա. Կուրեխյան'!E18 -> 0 | F18: ='Ս. Մարդանյան'!F18+Ա.Խաչիկյան!F18+'Ռ. Մելքոնյան'!F18+'Զ. Զաքինյան'!F18+'Ա. Կուրեխյան'!F18 -> 0 | G18: ='Ս. Մարդանյան'!G18+Ա.Խաչիկյան!G18+'Ռ. Մելքոնյան'!G18+'Զ. Զաքինյան'!G18+'Ա. Կուրեխյան'!G18 -> 0 | H18: ='Ս. Մարդանյան'!H18+Ա.Խաչիկյան!H18+'Ռ. Մելքոնյան'!H18+'Զ. Զաքինյան'!H18+'Ա. Կուրեխյան'!H18 -> 0 | I18: ='Ս. Մարդանյան'!I18+Ա.Խաչիկյան!I18+'Ռ. Մելքոնյան'!I18+'Զ. Զաքինյան'!I18+'Ա. Կուրեխյան'!I18 -> 0 | J18: ='Ս. Մարդանյան'!J18+Ա.Խաչիկյան!J18+'Ռ. Մելքոնյան'!J18+'Զ. Զաքինյան'!J18+'Ա. Կուրեխյան'!J18 -> 0 | K18: ='Ս. Մարդանյան'!K18+Ա.Խաչիկյան!K18+'Ռ. Մելքոնյան'!K18+'Զ. Զաքինյան'!K18+'Ա. Կուրեխյան'!K18 -> 0 | ... R18: ='Ս. Մարդանյան'!R18+Ա.Խաչիկյան!R18+'Ռ. Մելքոնյան'!R18+'Զ. Զաքինյան'!R18+'Ա. Կուրեխյան'!R18 -> 0 | S18: ='Ս. Մարդանյան'!S18+Ա.Խաչիկյան!S18+'Ռ. Մելքոնյան'!S18+'Զ. Զաքինյան'!S18+'Ա. Կուրեխյան'!S18+#REF!+#REF!+#REF! -> #REF! | T18: =D18+E18 -> 0 | U18: =F18+K18+L18 -> 0 | V18: =K18 -> 0 | W18: =G18+H18+I18+J18 -> 0
A19: 2 | B19: å³ïÇÅÁ ÷á÷áË»Éáõ, Ñ»ï³Ó·»Éáõ ¨ å³ïÅÇó ³½³ï»Éáõ Ù³uÇÝ ÙÇçÝáñ¹áõÃÛáõÝÝ»ñ | D19: ='Ս. Մարդանյան'!D19+Ա.Խաչիկյան!D19+'Ռ. Մելքոնյան'!D19+'Զ. Զաքինյան'!D19+'Ա. Կուրեխյան'!D19 -> 0 | E19: ='Ս. Մարդանյան'!E19+Ա.Խաչիկյան!E19+'Ռ. Մելքոնյան'!E19+'Զ. Զաքինյան'!E19+'Ա. Կուրեխյան'!E19 -> 5 | F19: ='Ս. Մարդանյան'!F19+Ա.Խաչիկյան!F19+'Ռ. Մելքոնյան'!F19+'Զ. Զաքինյան'!F19+'Ա. Կուրեխյան'!F19 -> 0 | G19: ='Ս. Մարդանյան'!G19+Ա.Խաչիկյան!G19+'Ռ. Մելքոնյան'!G19+'Զ. Զաքինյան'!G19+'Ա. Կուրեխյան'!G19 -> 4 | H19: ='Ս. Մարդանյան'!H19+Ա.Խաչիկյան!H19+'Ռ. Մելքոնյան'!H19+'Զ. Զաքինյան'!H19+'Ա. Կուրեխյան'!H19 -> 1 | I19: ='Ս. Մարդանյան'!I19+Ա.Խաչիկյան!I19+'Ռ. Մելքոնյան'!I19+'Զ. Զաքինյան'!I19+'Ա. Կուրեխյան'!I19 -> 0 | J19: ='Ս. Մարդանյան'!J19+Ա.Խաչիկյան!J19+'Ռ. Մելքոնյան'!J19+'Զ. Զաքինյան'!J19+'Ա. Կուրեխյան'!J19 -> 0 | K19: ='Ս. Մարդանյան'!K19+Ա.Խաչիկյան!K19+'Ռ. Մելքոնյան'!K19+'Զ. Զաքինյան'!K19+'Ա. Կուրեխյան'!K19 -> 5 | ... R19: ='Ս. Մարդանյան'!R19+Ա.Խաչիկյան!R19+'Ռ. Մելքոնյան'!R19+'Զ. Զաքինյան'!R19+'Ա. Կուրեխյան'!R19 -> 0 | S19: ='Ս. Մարդանյան'!S19+Ա.Խաչիկյան!S19+'Ռ. Մելքոնյան'!S19+'Զ. Զաքինյան'!S19+'Ա. Կուրեխյան'!S19+#REF!+#REF!+#REF! -> #REF! | T19: =D19+E19 -> 5 | U19: =F19+K19+L19 -> 5 | V19: =K19 -> 5 | W19: =G19+H19+I19+J19 -> 5
A20: 3 | B20: Ñ³ñÏ³¹Çñ µáõÅÙ³Ý ï»ë³ÏÇ ÷á÷áËáõÃÛ³Ý Ù³ëÇÝ ÙÇçÝáñ¹áõÃÛáõÝÝ»ñ | D20: ='Ս. Մարդանյան'!D20+Ա.Խաչիկյան!D20+'Ռ. Մելքոնյան'!D20+'Զ. Զաքինյան'!D20+'Ա. Կուրեխյան'!D20 -> 0 | E20: ='Ս. Մարդանյան'!E20+Ա.Խաչիկյան!E20+'Ռ. Մելքոնյան'!E20+'Զ. Զաքինյան'!E20+'Ա. Կուրեխյան'!E20 -> 0 | F20: ='Ս. Մարդանյան'!F20+Ա.Խաչիկյան!F20+'Ռ. Մելքոնյան'!F20+'Զ. Զաքինյան'!F20+'Ա. Կուրեխյան'!F20 -> 0 | G20: ='Ս. Մարդանյան'!G20+Ա.Խաչիկյան!G20+'Ռ. Մելքոնյան'!G20+'Զ. Զաքինյան'!G20+'Ա. Կուրեխյան'!G20 -> 0 | H20: ='Ս. Մարդանյան'!H20+Ա.Խաչիկյան!H20+'Ռ. Մելքոնյան'!H20+'Զ. Զաքինյան'!H20+'Ա. Կուրեխյան'!H20 -> 0 | I20: ='Ս. Մարդանյան'!I20+Ա.Խաչիկյան!I20+'Ռ. Մելքոնյան'!I20+'Զ. Զաքինյան'!I20+'Ա. Կուրեխյան'!I20 -> 0 | J20: ='Ս. Մարդանյան'!J20+Ա.Խաչիկյան!J20+'Ռ. Մելքոնյան'!J20+'Զ. Զաքինյան'!J20+'Ա. Կուրեխյան'!J20 -> 0 | K20: ='Ս. Մարդանյան'!K20+Ա.Խաչիկյան!K20+'Ռ. Մելքոնյան'!K20+'Զ. Զաքինյան'!K20+'Ա. Կուրեխյան'!K20 -> 0 | ... R20: ='Ս. Մարդանյան'!R20+Ա.Խաչիկյան!R20+'Ռ. Մելքոնյան'!R20+'Զ. Զաքինյան'!R20+'Ա. Կուրեխյան'!R20 -> 0 | S20: ='Ս. Մարդանյան'!S20+Ա.Խաչիկյան!S20+'Ռ. Մելքոնյան'!S20+'Զ. Զաքինյան'!S20+'Ա. Կուրեխյան'!S20+#REF!+#REF!+#REF! -> #REF! | T20: =D20+E20 -> 0 | U20: =F20+K20+L20 -> 0 | V20: =K20 -> 0 | W20: =G20+H20+I20+J20 -> 0
A21: 4 | B21: ³ÛÉ ÙÇçÝáñ¹áõÃÛáõÝÝ»ñ | D21: ='Ս. Մարդանյան'!D21+Ա.Խաչիկյան!D21+'Ռ. Մելքոնյան'!D21+'Զ. Զաքինյան'!D21+'Ա. Կուրեխյան'!D21 -> 0 | E21: ='Ս. Մարդանյան'!E21+Ա.Խաչիկյան!E21+'Ռ. Մելքոնյան'!E21+'Զ. Զաքինյան'!E21+'Ա. Կուրեխյան'!E21 -> 20 | F21: ='Ս. Մարդանյան'!F21+Ա.Խաչիկյան!F21+'Ռ. Մելքոնյան'!F21+'Զ. Զաքինյան'!F21+'Ա. Կուրեխյան'!F21 -> 0 | G21: ='Ս. Մարդանյան'!G21+Ա.Խաչիկյան!G21+'Ռ. Մելքոնյան'!G21+'Զ. Զաքինյան'!G21+'Ա. Կուրեխյան'!G21 -> 7 | H21: ='Ս. Մարդանյան'!H21+Ա.Խաչիկյան!H21+'Ռ. Մելքոնյան'!H21+'Զ. Զաքինյան'!H21+'Ա. Կուրեխյան'!H21 -> 11 | I21: ='Ս. Մարդանյան'!I21+Ա.Խաչիկյան!I21+'Ռ. Մելքոնյան'!I21+'Զ. Զաքինյան'!I21+'Ա. Կուրեխյան'!I21 -> 2 | J21: ='Ս. Մարդանյան'!J21+Ա.Խաչիկյան!J21+'Ռ. Մելքոնյան'!J21+'Զ. Զաքինյան'!J21+'Ա. Կուրեխյան'!J21 -> 0 | K21: ='Ս. Մարդանյան'!K21+Ա.Խաչիկյան!K21+'Ռ. Մելքոնյան'!K21+'Զ. Զաքինյան'!K21+'Ա. Կուրեխյան'!K21 -> 20 | ... R21: ='Ս. Մարդանյան'!R21+Ա.Խաչիկյան!R21+'Ռ. Մելքոնյան'!R21+'Զ. Զաքինյան'!R21+'Ա. Կուրեխյան'!R21 -> 0 | S21: ='Ս. Մարդանյան'!S21+Ա.Խաչիկյան!S21+'Ռ. Մելքոնյան'!S21+'Զ. Զաքինյան'!S21+'Ա. Կուրեխյան'!S21+#REF!+#REF!+#REF! -> #REF! | T21: =D21+E21 -> 20 | U21: =F21+K21+L21 -> 20 | V21: =K21 -> 20 | W21: =G21+H21+I21+J21 -> 20
A22: 5 | B22: ¹³ï³Ï³Ý Ñ³ÝÓÝ³ñ³ñáõÃÛáõÝÝ»ñ | D22: ='Ս. Մարդանյան'!D22+Ա.Խաչիկյան!D22+'Ռ. Մելքոնյան'!D22+'Զ. Զաքինյան'!D22+'Ա. Կուրեխյան'!D22 -> 0 | E22: ='Ս. Մարդանյան'!E22+Ա.Խաչիկյան!E22+'Ռ. Մելքոնյան'!E22+'Զ. Զաքինյան'!E22+'Ա. Կուրեխյան'!E22 -> 4 | F22: ='Ս. Մարդանյան'!F22+Ա.Խաչիկյան!F22+'Ռ. Մելքոնյան'!F22+'Զ. Զաքինյան'!F22+'Ա. Կուրեխյան'!F22 -> 0 | G22: ='Ս. Մարդանյան'!G22+Ա.Խաչիկյան!G22+'Ռ. Մելքոնյան'!G22+'Զ. Զաքինյան'!G22+'Ա. Կուրեխյան'!G22 -> 0 | H22: ='Ս. Մարդանյան'!H22+Ա.Խաչիկյան!H22+'Ռ. Մելքոնյան'!H22+'Զ. Զաքինյան'!H22+'Ա. Կուրեխյան'!H22 -> 3 | I22: ='Ս. Մարդանյան'!I22+Ա.Խաչիկյան!I22+'Ռ. Մելքոնյան'!I22+'Զ. Զաքինյան'!I22+'Ա. Կուրեխյան'!I22 -> 0 | J22: ='Ս. Մարդանյան'!J22+Ա.Խաչիկյան!J22+'Ռ. Մելքոնյան'!J22+'Զ. Զաքինյան'!J22+'Ա. Կուրեխյան'!J22 -> 0 | K22: ='Ս. Մարդանյան'!K22+Ա.Խաչիկյան!K22+'Ռ. Մելքոնյան'!K22+'Զ. Զաքինյան'!K22+'Ա. Կուրեխյան'!K22 -> 3 | ... R22: ='Ս. Մարդանյան'!R22+Ա.Խաչիկյան!R22+'Ռ. Մելքոնյան'!R22+'Զ. Զաքինյան'!R22+'Ա. Կուրեխյան'!R22 -> 0 | S22: ='Ս. Մարդանյան'!S22+Ա.Խաչիկյան!S22+'Ռ. Մելքոնյան'!S22+'Զ. Զաքինյան'!S22+'Ա. Կուրեխյան'!S22+#REF!+#REF!+#REF! -> #REF! | T22: =D22+E22 -> 4 | U22: =F22+K22+L22 -> 4 | V22: =K22 -> 3 | W22: =G22+H22+I22+J22 -> 3
A23: ÀÜ¸²ØºÜÀ | D23: ='Ս. Մարդանյան'!D23+Ա.Խաչիկյան!D23+'Ռ. Մելքոնյան'!D23+'Զ. Զաքինյան'!D23+'Ա. Կուրեխյան'!D23 -> 0 | E23: ='Ս. Մարդանյան'!E23+Ա.Խաչիկյան!E23+'Ռ. Մելքոնյան'!E23+'Զ. Զաքինյան'!E23+'Ա. Կուրեխյան'!E23 -> 278 | F23: ='Ս. Մարդանյան'!F23+Ա.Խաչիկյան!F23+'Ռ. Մելքոնյան'!F23+'Զ. Զաքինյան'!F23+'Ա. Կուրեխյան'!F23 -> 0 | G23: ='Ս. Մարդանյան'!G23+Ա.Խաչիկյան!G23+'Ռ. Մելքոնյան'!G23+'Զ. Զաքինյան'!G23+'Ա. Կուրեխյան'!G23 -> 55 | H23: ='Ս. Մարդանյան'!H23+Ա.Խաչիկյան!H23+'Ռ. Մելքոնյան'!H23+'Զ. Զաքինյան'!H23+'Ա. Կուրեխյան'!H23 -> 198 | I23: ='Ս. Մարդանյան'!I23+Ա.Խաչիկյան!I23+'Ռ. Մելքոնյան'!I23+'Զ. Զաքինյան'!I23+'Ա. Կուրեխյան'!I23 -> 18 | J23: ='Ս. Մարդանյան'!J23+Ա.Խաչիկյան!J23+'Ռ. Մելքոնյան'!J23+'Զ. Զաքինյան'!J23+'Ա. Կուրեխյան'!J23 -> 2 | K23: ='Ս. Մարդանյան'!K23+Ա.Խաչիկյան!K23+'Ռ. Մելքոնյան'!K23+'Զ. Զաքինյան'!K23+'Ա. Կուրեխյան'!K23 -> 273 | ... R23: ='Ս. Մարդանյան'!R23+Ա.Խաչիկյան!R23+'Ռ. Մելքոնյան'!R23+'Զ. Զաքինյան'!R23+'Ա. Կուրեխյան'!R23 -> 34 | S23: ='Ս. Մարդանյան'!S23+Ա.Խաչիկյան!S23+'Ռ. Մելքոնյան'!S23+'Զ. Զաքինյան'!S23+'Ա. Կուրեխյան'!S23+#REF!+#REF!+#REF! -> #REF! | T23: =D23+E23 -> 278 | U23: =F23+K23+L23 -> 278 | V23: =K23 -> 273 | W23: =G23+H23+I23+J23 -> 273

Sheet Ս. Մարդանյան
A1: 2015Ã. | D1: Ð²ÞìºîìàôÂÚàôÜ | P1: Ð³í»Éí³Í Ð³Û³ëï³ÝÇ Ð³Ýñ³å»ïáõÃÛ³Ý ¸³ï³ñ³ÝÝ»ñÇ Ý³Ë³·³ÑÝ»ñÇ ËáñÑñ¹Ç 01.02.2016Ã. ÃÇí 11È áñáßÙ³Ý
A2: ØÇÝã¹³ï³Ï³Ý í³ñáõÛÃÇ ÝÏ³ïÙ³Ùµ ¹³ï³Ï³Ý í»ñ³ÑëÏáÕáõÃÛ³ÝÁ, ¹³ï³Ï³Ý ³Ïï»ñÇ ¨ ¹³ï³Ï³Ý Ñ³ÝÓÝ³ñ³ñáõÃÛáõÝÝ»ñÇ Ï³ï³ñÙ³Ý Ñ»ï Ï³åí³Í ÙÇçÝáñ¹áõÃÛáõÝÝ»ñÇ í»ñ³µ»ñÛ³É ¹³ï³Ï³Ý ·áñÍ»ñáí ÐÐ î³íáõßÇ Ù³ñ½Ç ÁÝ¹Ñ³Ýáõñ Çñ³í³ëáõÃÛ³Ý ³é³çÇÝ ³ïÛ³ÝÇ ¹³ï³ñ³ÝÇ ¹³ï³íáñ Սամվել Մարդանյանի ·áñÍáõÝ»áõÃÛ³Ý í»ñ³µ»ñÛ³É
A3: êïáõ·Çã Ñ³í³ë³ñáõÙ` 1+2=3+8+9, 8=4+5+6+7, | D3: Ð³ßí»ïáõ Å³Ù³Ý³Ï³Ñ³ïí³ÍÇ ëÏ½µáõÙ Ý³Ëáñ¹ Ñ³ßí»ïáõ Å³Ù³Ý³Ï³Ñ³ïí³ÍÇó ÷áË³Ýóí³Í ·áñÍ»ñÇ ÁÝ¹Ñ³Ýáõñ ÃÇíÁ | E3: Ð³ßí»ïáõ Å³Ù³Ý³Ï³Ñ³ïí³ÍáõÙ ëï³óí³Í ·áñÍ»ñÇ ÁÝ¹Ñ³Ýáõñ ÃÇíÁ | F3: öáË³Ýóí»É ¿ ³ÛÉ ¹³ï³íáñÇ Ï³Ù ³ÛÉ ¹³ï³ñ³Ý (Ï³½ÙÇ ÷á÷áËáõÃÛáõÝ, ÁÝ¹¹³ïáõÃÛáõÝ) | G3: Ð³ßí»ïáõ Å³Ù³Ý³Ï³Ñ³ïí³ÍáõÙ ³í³ñïí³Í ·áñÍ»ñÇ ÁÝ¹Ñ³Ýáõñ ÃÇíÁ | L3: Ð³ßí»ïáõ Å³Ù³Ý³Ï³Ñ³ïí³ÍáõÙ ³Ý³í³ñï ·áñÍ»ñÇ ÁÝ¹Ñ³Ýáõñ ÃÇíÁ | M3: ØÇçÝáñ¹áõÃÛáõÝÝ»ñáí Ï³Û³óí³Í ¹³ï³Ï³Ý ³Ïï»ñÇó µáÕáù³ñÏí³ÍÝ»ñÇ ù³Ý³ÏÁ | O3: ²Ý³í³ñï µáÕáùÝ»ñ | P3: ØÇçÝáñ¹áõÃÛáõÝÝ»ñáí Ï³Û³óí³Í ¨ µáÕáù³ñÏí³Í ¹³ï³Ï³Ý ³Ïï»ñÇó µ»Ï³Ýí³ÍÝ»ñÇ ù³Ý³ÏÁ | R3: ÙÇçÝáñ¹áõÃÛáõÝÝ»ñáí Ï³Û³óí³Í ¨ µáÕáù³ñÏí³Í ¹³ï³Ï³Ý ³Ïï»ñÇó ³Ý÷á÷áË ÃáÕÝí³ÍÝ»ñÇ ù³Ý³ÏÁ
G4: Ù»ñÅí»É ¿ | H4: µ³í³ñ³ñí»É ¿ | I4: µ³í³ñ³ñí»É ¿ Ù³ëÝ³ÏÇ | J4: ÃáÕÝí»É ¿ ³é³Ýó ùÝÝáõÃÛ³Ý | K4: ÀÝ¹³Ù»ÝÁ
M5: Ý³Ëáñ¹ ï³ñÇÝ»ñÇÝ Ï³Û³óí³Í ³Ïï»ñÇ ¹»Ù | N5: Ñ³ßí»ïáõ Å³Ù³Ý³Ï³ßñç³ÝáõÙ Ï³Û³óí³Í ³Ïï»ñÇ ¹»Ù | P5: Ý³Ëáñ¹ ï³ñÇÝ»ñÇÝ Ï³Û³óí³Í ³Ïï»ñÇ µ»Ï³ÝáõÙÝ»ñÁ | Q5: Ñ³ßí»ïáõ Å³Ù³Ý³Ï³ßñç³ÝáõÙ Ï³Û³óí³Í ³Ïï»ñÇ µ»Ï³ÝáõÙÝ»ñÁ
A6: 1. ØÇÝã¹³ï³Ï³Ý í³ñáõÛÃÇ ÝÏ³ïÙ³Ùµ ¹³ï³Ï³Ý í»ñ³ÑëÏáÕáõÃÛ³Ý áÉáñï | D6: 1 | E6: 2 | F6: 3 | G6: 4 | H6: 5 | I6: 6 | J6: 7 | K6: 8 | L6: 9 | M6: 10 | N6: 11 | O6: 12 | P6: 13 | Q6: 14 | R6: 15 | T6: 1+2=3+8+9 | V6: 8=4+5+6+7
A7: 1 | B7: Ï³É³ÝùÁ áñå»ë Ë³÷³ÝÙ³Ý ÙÇçáó ÏÇñ³é»Éáõ Ù³ëÇÝ ÙÇçÝáñ¹áõÃÛáõÝÝ»ñ | E7: 9 | G7: 1 | H7: 8 | K7: 9 | M7: 5 | N7: 3 | P7: 3 | R7: 3 | T7: =D7+E7 -> 9 | U7: =F7+K7+L7 -> 9 | V7: =K7 -> 9 | W7: =G7+H7+I7+J7 -> 9
A8: 2 | B8: Ï³É³ÝùÇ Å³ÙÏ»ïÁ »ñÏ³ñ³óÝ»Éáõ Ù³ëÇÝ ÙÇçÝáñ¹áõÃÛáõÝÝ»ñ | E8: 3 | G8: 1 | H8: 1 | I8: 1 | K8: 3 | T8: =D8+E8 -> 3 | U8: =F8+K8+L8 -> 3 | V8: =K8 -> 3 | W8: =G8+H8+I8+J8 -> 3
A9: 3 | B9: Ï³É³ÝùÇ í»ñ³Ñ³ëï³ïÙ³Ý Ù³ëÇÝ ÙÇçÝáñ¹áõÃÛáõÝÝ»ñ | E9: 1 | H9: 1 | K9: 1 | T9: =D9+E9 -> 1 | U9: =F9+K9+L9 -> 1 | V9: =K9 -> 1 | W9: =G9+H9+I9+J9 -> 1
A10: 4 | B10: ·ñ³íÁ áñå»ë Ï³É³Ý³íáñÙ³Ý ³ÛÉÁÝïñ³Ýù³ÛÇÝ Ë³÷³ÝÙ³Ý ÙÇçáó ÏÇñ³é»Éáõ Ù³ëÇÝ ÙÇçÝáñ¹áõÃÛáõÝÝ»ñ | M10: 2 | T10: =D10+E10 -> 0 | U10: =F10+K10+L10 -> 0 | V10: =K10 -> 0 | W10: =G10+H10+I10+J10 -> 0
A11: 5 | B11: Ëáõ½³ñÏáõÃÛ³Ý Ï³ï³ñÙ³Ý Ù³ëÇÝ ÙÇçÝáñ¹áõÃÛáõÝÝ»ñ | E11: 2 | G11: 2 | K11: 2 | T11: =D11+E11 -> 2 | U11: =F11+K11+L11 -> 2 | V11: =K11 -> 2 | W11: =G11+H11+I11+J11 -> 2
A12: 6 | B12: µ³ÝÏ³ÛÇÝ, ³å³Ñáí³·ñ³Ï³Ý, Ýáï³ñ³Ï³Ý ·³ÕïÝÇù Ï³½ÙáÕ ï»Õ»ÏáõÃÛáõÝÝ»ñÇ ëï³óÙ³Ý Ñ³Ù³ñ Ëáõ½³ñÏáõÃÛ³Ý Ï³Ù ³é·ñ³íÙ³Ý Ï³ï³ñÙ³Ý Ù³ëÇÝ ÙÇçÝáñ¹áõÃÛáõÝÝ»ñ | T12: =D12+E12 -> 0 | U12: =F12+K12+L12 -> 0 | V12: =K12 -> 0 | W12: =G12+H12+I12+J12 -> 0
A13: 7 | B13: Ý³Ù³Ï³·ñáõÃÛ³Ý, Ñ»é³·ñ³Ï³Ý, ÷áuï³ÛÇÝ Ñ³Õáñ¹áõÙÝ»ñÇ ÑëÏáÕáõÃÛ³Ý Ù³ëÇÝ ÙÇçÝáñ¹áõÃÛáõÝÝ»ñ | T13: =D13+E13 -> 0 | U13: =F13+K13+L13 -> 0 | V13: =K13 -> 0 | W13: =G13+H13+I13+J13 -> 0
A14: 8 | B14: Ñ»é³Ëáu³ÛÇÝ Ï³Ù Ï³åÇ ³ÛÉ ÙÇçáóÝ»ñáí ï³ñíáÕ Ëáu³ÏóáõÃÛáõÝÝ»ñÇ ÉuÙ³Ý ¨ Ó³ÛÝ³·ñ³éÙ³Ý Ù³ëÇÝ ÙÇçÝáñ¹áõÃÛáõÝÝ»ñ | T14: =D14+E14 -> 0 | U14: =F14+K14+L14 -> 0 | V14: =K14 -> 0 | W14: =G14+H14+I14+J14 -> 0
A15: 9 | B15: Ñ»é³ËáëÝ»ñÇ Ùáõïù³ÛÇÝ ¨ »Éù³ÛÇÝ í»ñÍ³ÝÙ³Ý ÃáõÛÉïíáõÃÛáõÝ ëï³Ý³Éáõ Ù³ëÇÝ ÙÇçÝáñ¹áõÃÛáõÝÝ»ñ | E15: 3 | G15: 1 | H15: 2 | K15: 3 | T15: =D15+E15 -> 3 | U15: =F15+K15+L15 -> 3 | V15: =K15 -> 3 | W15: =G15+H15+I15+J15 -> 3
A16: 10 | B16: Ñ»ï³ùÝÝáõÃÛ³Ý Ù³ñÙÝÇ ³ßË³ïáÕÇ, ùÝÝÇãÇ, ¹³ï³Ë³½Ç oå»ñ³ïÇí-Ñ»ï³Ëáõ½³Ï³Ý ·áñÍáÕáõÃÛáõÝÝ»ñ Çñ³Ï³Ý³óÝáÕ Ù³ñÙÇÝÝ»ñÇ ³ÝoñÇÝ³Ï³Ý ¨ ³ÝÑÇÙÝ áñáßáõÙÝ»ñÇ ¨ ·áñÍáÕáõÃÛáõÝÝ»ñÇ ¹»Ù µáÕáùÝ»ñ | T16: =D16+E16 -> 0 | U16: =F16+K16+L16 -> 0 | V16: =K16 -> 0 | W16: =G16+H16+I16+J16 -> 0
A17: 2. ¸³ï³Ï³Ý ³Ïï»ñÇ ¨ ¹³ï³Ï³Ý Ñ³ÝÓÝ³ñ³ñáõÃÛáõÝÝ»ñÇ Ï³ï³ñÙ³Ý Ñ»ï Ï³åí³Í Ñ³ñó»ñÇ ÉáõÍÙ³Ý áÉáñï
A18: 1 | B18: å³ïÅÇó å³ÛÙ³Ý³Ï³Ý í³Õ³Å³ÙÏ»ï ³½³ï»Éáõ Ù³ëÇÝ ÙÇçÝáñ¹áõÃÛáõÝÝ»ñ | T18: =J18+K18 -> 0 | U18: =F18+K18+L18 -> 0 | V18: =P18 -> 0 | W18: =L18+M18+N18+O18 -> 0
A19: 2 | B19: å³ïÇÅÁ ÷á÷áË»Éáõ, Ñ»ï³Ó·»Éáõ ¨ å³ïÅÇó ³½³ï»Éáõ Ù³uÇÝ ÙÇçÝáñ¹áõÃÛáõÝÝ»ñ | T19: =J19+K19 -> 0 | U19: =F19+K19+L19 -> 0 | V19: =P19 -> 0 | W19: =L19+M19+N19+O19 -> 0
A20: 3 | B20: Ñ³ñÏ³¹Çñ µáõÅÙ³Ý ï»ë³ÏÇ ÷á÷áËáõÃÛ³Ý Ù³ëÇÝ ÙÇçÝáñ¹áõÃÛáõÝÝ»ñ | T20: =J20+K20 -> 0 | U20: =F20+K20+L20 -> 0 | V20: =P20 -> 0 | W20: =L20+M20+N20+O20 -> 0
A21: 4 | B21: ³ÛÉ ÙÇçÝáñ¹áõÃÛáõÝÝ»ñ | T21: =J21+K21 -> 0 | U21: =F21+K21+L21 -> 0 | V21: =P21 -> 0 | W21: =L21+M21+N21+O21 -> 0
A22: 5 | B22: ¹³ï³Ï³Ý Ñ³ÝÓÝ³ñ³ñáõÃÛáõÝÝ»ñ | T22: =J22+K22 -> 0 | U22: =F22+K22+L22 -> 0 | V22: =P22 -> 0 | W22: =L22+M22+N22+O22 -> 0
A23: ÀÜ¸²ØºÜÀ | D23: =D7+D8+D9+D10+D11+D12+D13+D14+D15+D16+D18+D19+D20+D21+D22 -> 0 | E23: =E7+E8+E9+E10+E11+E12+E13+E14+E15+E16+E18+E19+E20+E21+E22 -> 18 | F23: =F7+F8+F9+F10+F11+F12+F13+F14+F15+F16+F18+F19+F20+F21+F22 -> 0 | G23: =G7+G8+G9+G10+G11+G12+G13+G14+G15+G16+G18+G19+G20+G21+G22 -> 5 | H23: =H7+H8+H9+H10+H11+H12+H13+H14+H15+H16+H18+H19+H20+H21+H22 -> 12 | I23: =I7+I8+I9+I10+I11+I12+I13+I14+I15+I16+I18+I19+I20+I21+I22 -> 1 | J23: =J7+J8+J9+J10+J11+J12+J13+J14+J15+J16+J18+J19+J20+J21+J22 -> 0 | K23: =K7+K8+K9+K10+K11+K12+K13+K14+K15+K16+K18+K19+K20+K21+K22 -> 18 | ... R23: =R7+R8+R9+R10+R11+R12+R13+R14+R15+R16+R18+R19+R20+R21+R22 -> 3 | T23: =SUM(T7:T16,T18:T22) -> 18 | U23: =F23+K23+L23 -> 18 | V23: =SUM(V7:V16,V18:V22) -> 18 | W23: =SUM(W7:W16,W18:W22) -> 18

Sheet Ա.Խաչիկյան
A1: 2015Ã. | D1: Ð²ÞìºîìàôÂÚàôÜ | P1: Ð³í»Éí³Í Ð³Û³ëï³ÝÇ Ð³Ýñ³å»ïáõÃÛ³Ý ¸³ï³ñ³ÝÝ»ñÇ Ý³Ë³·³ÑÝ»ñÇ ËáñÑñ¹Ç 01.02.2016Ã. ÃÇí 11È áñáßÙ³Ý
A2: ØÇÝã¹³ï³Ï³Ý í³ñáõÛÃÇ ÝÏ³ïÙ³Ùµ ¹³ï³Ï³Ý í»ñ³ÑëÏáÕáõÃÛ³ÝÁ, ¹³ï³Ï³Ý ³Ïï»ñÇ ¨ ¹³ï³Ï³Ý Ñ³ÝÓÝ³ñ³ñáõÃÛáõÝÝ»ñÇ Ï³ï³ñÙ³Ý Ñ»ï Ï³åí³Í ÙÇçÝáñ¹áõÃÛáõÝÝ»ñÇ í»ñ³µ»ñÛ³É ¹³ï³Ï³Ý ·áñÍ»ñáí ÐÐ î³íáõßÇ Ù³ñ½Ç ÁÝ¹Ñ³Ýáõñ Çñ³í³ëáõÃÛ³Ý ³é³çÇÝ ³ïÛ³ÝÇ ¹³ï³ñ³ÝÇ ¹³ï³íáñ Աշոտ Խաչիկյանի ·áñÍáõÝ»áõÃÛ³Ý í»ñ³µ»ñÛ³É
A3: êïáõ·Çã Ñ³í³ë³ñáõÙ` 1+2=3+8+9, 8=4+5+6+7, | D3: Ð³ßí»ïáõ Å³Ù³Ý³Ï³Ñ³ïí³ÍÇ ëÏ½µáõÙ Ý³Ëáñ¹ Ñ³ßí»ïáõ Å³Ù³Ý³Ï³Ñ³ïí³ÍÇó ÷áË³Ýóí³Í ·áñÍ»ñÇ ÁÝ¹Ñ³Ýáõñ ÃÇíÁ | E3: Ð³ßí»ïáõ Å³Ù³Ý³Ï³Ñ³ïí³ÍáõÙ ëï³óí³Í ·áñÍ»ñÇ ÁÝ¹Ñ³Ýáõñ ÃÇíÁ | F3: öáË³Ýóí»É ¿ ³ÛÉ ¹³ï³íáñÇ Ï³Ù ³ÛÉ ¹³ï³ñ³Ý (Ï³½ÙÇ ÷á÷áËáõÃÛáõÝ, ÁÝ¹¹³ïáõÃÛáõÝ) | G3: Ð³ßí»ïáõ Å³Ù³Ý³Ï³Ñ³ïí³ÍáõÙ ³í³ñïí³Í ·áñÍ»ñÇ ÁÝ¹Ñ³Ýáõñ ÃÇíÁ | L3: Ð³ßí»ïáõ Å³Ù³Ý³Ï³Ñ³ïí³ÍáõÙ ³Ý³í³ñï ·áñÍ»ñÇ ÁÝ¹Ñ³Ýáõñ ÃÇíÁ | M3: ØÇçÝáñ¹áõÃÛáõÝÝ»ñáí Ï³Û³óí³Í ¹³ï³Ï³Ý ³Ïï»ñÇó µáÕáù³ñÏí³ÍÝ»ñÇ ù³Ý³ÏÁ | O3: ²Ý³í³ñï µáÕáùÝ»ñ | P3: ØÇçÝáñ¹áõÃÛáõÝÝ»ñáí Ï³Û³óí³Í ¨ µáÕáù³ñÏí³Í ¹³ï³Ï³Ý ³Ïï»ñÇó µ»Ï³Ýí³ÍÝ»ñÇ ù³Ý³ÏÁ | R3: ÙÇçÝáñ¹áõÃÛáõÝÝ»ñáí Ï³Û³óí³Í ¨ µáÕáù³ñÏí³Í ¹³ï³Ï³Ý ³Ïï»ñÇó ³Ý÷á÷áË ÃáÕÝí³ÍÝ»ñÇ ù³Ý³ÏÁ
G4: Ù»ñÅí»É ¿ | H4: µ³í³ñ³ñí»É ¿ | I4: µ³í³ñ³ñí»É ¿ Ù³ëÝ³ÏÇ | J4: ÃáÕÝí»É ¿ ³é³Ýó ùÝÝáõÃÛ³Ý | K4: ÀÝ¹³Ù»ÝÁ
M5: Ý³Ëáñ¹ ï³ñÇÝ»ñÇÝ Ï³Û³óí³Í ³Ïï»ñÇ ¹»Ù | N5: Ñ³ßí»ïáõ Å³Ù³Ý³Ï³ßñç³ÝáõÙ Ï³Û³óí³Í ³Ïï»ñÇ ¹»Ù | P5: Ý³Ëáñ¹ ï³ñÇÝ»ñÇÝ Ï³Û³óí³Í ³Ïï»ñÇ µ»Ï³ÝáõÙÝ»ñÁ | Q5: Ñ³ßí»ïáõ Å³Ù³Ý³Ï³ßñç³ÝáõÙ Ï³Û³óí³Í ³Ïï»ñÇ µ»Ï³ÝáõÙÝ»ñÁ
A6: 1. ØÇÝã¹³ï³Ï³Ý í³ñáõÛÃÇ ÝÏ³ïÙ³Ùµ ¹³ï³Ï³Ý í»ñ³ÑëÏáÕáõÃÛ³Ý áÉáñï | D6: 1 | E6: 2 | F6: 3 | G6: 4 | H6: 5 | I6: 6 | J6: 7 | K6: 8 | L6: 9 | M6: 10 | N6: 11 | O6: 12 | P6: 13 | Q6: 14 | R6: 15 | T6: 1+2=3+8+9 | V6: 8=4+5+6+7
A7: 1 | B7: Ï³É³ÝùÁ áñå»ë Ë³÷³ÝÙ³Ý ÙÇçáó ÏÇñ³é»Éáõ Ù³ëÇÝ ÙÇçÝáñ¹áõÃÛáõÝÝ»ñ | T7: =D7+E7 -> 0 | U7: =F7+K7+L7 -> 0 | V7: =K7 -> 0 | W7: =G7+H7+I7+J7 -> 0
A8: 2 | B8: Ï³É³ÝùÇ Å³ÙÏ»ïÁ »ñÏ³ñ³óÝ»Éáõ Ù³ëÇÝ ÙÇçÝáñ¹áõÃÛáõÝÝ»ñ | T8: =D8+E8 -> 0 | U8: =F8+K8+L8 -> 0 | V8: =K8 -> 0 | W8: =G8+H8+I8+J8 -> 0
A9: 3 | B9: Ï³É³ÝùÇ í»ñ³Ñ³ëï³ïÙ³Ý Ù³ëÇÝ ÙÇçÝáñ¹áõÃÛáõÝÝ»ñ | E9: 2 | H9: 2 | K9: 2 | N9: 1 | R9: 1 | T9: =D9+E9 -> 2 | U9: =F9+K9+L9 -> 2 | V9: =K9 -> 2 | W9: =G9+H9+I9+J9 -> 2
A10: 4 | B10: ·ñ³íÁ áñå»ë Ï³É³Ý³íáñÙ³Ý ³ÛÉÁÝïñ³Ýù³ÛÇÝ Ë³÷³ÝÙ³Ý ÙÇçáó ÏÇñ³é»Éáõ Ù³ëÇÝ ÙÇçÝáñ¹áõÃÛáõÝÝ»ñ | T10: =D10+E10 -> 0 | U10: =F10+K10+L10 -> 0 | V10: =K10 -> 0 | W10: =G10+H10+I10+J10 -> 0
A11: 5 | B11: Ëáõ½³ñÏáõÃÛ³Ý Ï³ï³ñÙ³Ý Ù³ëÇÝ ÙÇçÝáñ¹áõÃÛáõÝÝ»ñ | E11: 3 | H11: 3 | K11: 3 | T11: =D11+E11 -> 3 | U11: =F11+K11+L11 -> 3 | V11: =K11 -> 3 | W11: =G11+H11+I11+J11 -> 3
A12: 6 | B12: µ³ÝÏ³ÛÇÝ, ³å³Ñáí³·ñ³Ï³Ý, Ýáï³ñ³Ï³Ý ·³ÕïÝÇù Ï³½ÙáÕ ï»Õ»ÏáõÃÛáõÝÝ»ñÇ ëï³óÙ³Ý Ñ³Ù³ñ Ëáõ½³ñÏáõÃÛ³Ý Ï³Ù ³é·ñ³íÙ³Ý Ï³ï³ñÙ³Ý Ù³ëÇÝ ÙÇçÝáñ¹áõÃÛáõÝÝ»ñ | T12: =D12+E12 -> 0 | U12: =F12+K12+L12 -> 0 | V12: =K12 -> 0 | W12: =G12+H12+I12+J12 -> 0
A13: 7 | B13: Ý³Ù³Ï³·ñáõÃÛ³Ý, Ñ»é³·ñ³Ï³Ý, ÷áuï³ÛÇÝ Ñ³Õáñ¹áõÙÝ»ñÇ ÑëÏáÕáõÃÛ³Ý Ù³ëÇÝ ÙÇçÝáñ¹áõÃÛáõÝÝ»ñ | T13: =D13+E13 -> 0 | U13: =F13+K13+L13 -> 0 | V13: =K13 -> 0 | W13: =G13+H13+I13+J13 -> 0
A14: 8 | B14: Ñ»é³Ëáu³ÛÇÝ Ï³Ù Ï³åÇ ³ÛÉ ÙÇçáóÝ»ñáí ï³ñíáÕ Ëáu³ÏóáõÃÛáõÝÝ»ñÇ ÉuÙ³Ý ¨ Ó³ÛÝ³·ñ³éÙ³Ý Ù³ëÇÝ ÙÇçÝáñ¹áõÃÛáõÝÝ»ñ | T14: =D14+E14 -> 0 | U14: =F14+K14+L14 -> 0 | V14: =K14 -> 0 | W14: =G14+H14+I14+J14 -> 0
A15: 9 | B15: Ñ»é³ËáëÝ»ñÇ Ùáõïù³ÛÇÝ ¨ »Éù³ÛÇÝ í»ñÍ³ÝÙ³Ý ÃáõÛÉïíáõÃÛáõÝ ëï³Ý³Éáõ Ù³ëÇÝ ÙÇçÝáñ¹áõÃÛáõÝÝ»ñ | T15: =D15+E15 -> 0 | U15: =F15+K15+L15 -> 0 | V15: =K15 -> 0 | W15: =G15+H15+I15+J15 -> 0
A16: 10 | B16: Ñ»ï³ùÝÝáõÃÛ³Ý Ù³ñÙÝÇ ³ßË³ïáÕÇ, ùÝÝÇãÇ, ¹³ï³Ë³½Ç oå»ñ³ïÇí-Ñ»ï³Ëáõ½³Ï³Ý ·áñÍáÕáõÃÛáõÝÝ»ñ Çñ³Ï³Ý³óÝáÕ Ù³ñÙÇÝÝ»ñÇ ³ÝoñÇÝ³Ï³Ý ¨ ³ÝÑÇÙÝ áñáßáõÙÝ»ñÇ ¨ ·áñÍáÕáõÃÛáõÝÝ»ñÇ ¹»Ù µáÕáùÝ»ñ | T16: =D16+E16 -> 0 | U16: =F16+K16+L16 -> 0 | V16: =K16 -> 0 | W16: =G16+H16+I16+J16 -> 0
A17: 2. ¸³ï³Ï³Ý ³Ïï»ñÇ ¨ ¹³ï³Ï³Ý Ñ³ÝÓÝ³ñ³ñáõÃÛáõÝÝ»ñÇ Ï³ï³ñÙ³Ý Ñ»ï Ï³åí³Í Ñ³ñó»ñÇ ÉáõÍÙ³Ý áÉáñï
A18: 1 | B18: å³ïÅÇó å³ÛÙ³Ý³Ï³Ý í³Õ³Å³ÙÏ»ï ³½³ï»Éáõ Ù³ëÇÝ ÙÇçÝáñ¹áõÃÛáõÝÝ»ñ | T18: =J18+K18 -> 0 | U18: =F18+K18+L18 -> 0 | V18: =P18 -> 0 | W18: =L18+M18+N18+O18 -> 0
A19: 2 | B19: å³ïÇÅÁ ÷á÷áË»Éáõ, Ñ»ï³Ó·»Éáõ ¨ å³ïÅÇó ³½³ï»Éáõ Ù³uÇÝ ÙÇçÝáñ¹áõÃÛáõÝÝ»ñ | T19: =J19+K19 -> 0 | U19: =F19+K19+L19 -> 0 | V19: =P19 -> 0 | W19: =L19+M19+N19+O19 -> 0
A20: 3 | B20: Ñ³ñÏ³¹Çñ µáõÅÙ³Ý ï»ë³ÏÇ ÷á÷áËáõÃÛ³Ý Ù³ëÇÝ ÙÇçÝáñ¹áõÃÛáõÝÝ»ñ | T20: =J20+K20 -> 0 | U20: =F20+K20+L20 -> 0 | V20: =P20 -> 0 | W20: =L20+M20+N20+O20 -> 0
A21: 4 | B21: ³ÛÉ ÙÇçÝáñ¹áõÃÛáõÝÝ»ñ | T21: =J21+K21 -> 0 | U21: =F21+K21+L21 -> 0 | V21: =P21 -> 0 | W21: =L21+M21+N21+O21 -> 0
A22: 5 | B22: ¹³ï³Ï³Ý Ñ³ÝÓÝ³ñ³ñáõÃÛáõÝÝ»ñ | E22: 2 | H22: 2 | K22: 2 | T22: =J22+K22 -> 2 | U22: =F22+K22+L22 -> 2 | V22: =P22 -> 0 | W22: =L22+M22+N22+O22 -> 0
A23: ÀÜ¸²ØºÜÀ | D23: =D7+D8+D9+D10+D11+D12+D13+D14+D15+D16+D18+D19+D20+D21+D22 -> 0 | E23: =E7+E8+E9+E10+E11+E12+E13+E14+E15+E16+E18+E19+E20+E21+E22 -> 7 | F23: =F7+F8+F9+F10+F11+F12+F13+F14+F15+F16+F18+F19+F20+F21+F22 -> 0 | G23: =G7+G8+G9+G10+G11+G12+G13+G14+G15+G16+G18+G19+G20+G21+G22 -> 0 | H23: =H7+H8+H9+H10+H11+H12+H13+H14+H15+H16+H18+H19+H20+H21+H22 -> 7 | I23: =I7+I8+I9+I10+I11+I12+I13+I14+I15+I16+I18+I19+I20+I21+I22 -> 0 | J23: =J7+J8+J9+J10+J11+J12+J13+J14+J15+J16+J18+J19+J20+J21+J22 -> 0 | K23: =K7+K8+K9+K10+K11+K12+K13+K14+K15+K16+K18+K19+K20+K21+K22 -> 7 | ... R23: =R7+R8+R9+R10+R11+R12+R13+R14+R15+R16+R18+R19+R20+R21+R22 -> 1 | T23: =SUM(T7:T16,T18:T22) -> 7 | U23: =F23+K23+L23 -> 7 | V23: =SUM(V7:V16,V18:V22) -> 5 | W23: =SUM(W7:W16,W18:W22) -> 5

Sheet Ռ. Մելքոնյան
A1: 2015Ã. | D1: Ð²ÞìºîìàôÂÚàôÜ | P1: Ð³í»Éí³Í Ð³Û³ëï³ÝÇ Ð³Ýñ³å»ïáõÃÛ³Ý ¸³ï³ñ³ÝÝ»ñÇ Ý³Ë³·³ÑÝ»ñÇ ËáñÑñ¹Ç 01.02.2016Ã. ÃÇí 11È áñáßÙ³Ý
A2: ØÇÝã¹³ï³Ï³Ý í³ñáõÛÃÇ ÝÏ³ïÙ³Ùµ ¹³ï³Ï³Ý í»ñ³ÑëÏáÕáõÃÛ³ÝÁ, ¹³ï³Ï³Ý ³Ïï»ñÇ ¨ ¹³ï³Ï³Ý Ñ³ÝÓÝ³ñ³ñáõÃÛáõÝÝ»ñÇ Ï³ï³ñÙ³Ý Ñ»ï Ï³åí³Í ÙÇçÝáñ¹áõÃÛáõÝÝ»ñÇ í»ñ³µ»ñÛ³É ¹³ï³Ï³Ý ·áñÍ»ñáí ÐÐ î³íáõßÇ Ù³ñ½Ç ÁÝ¹Ñ³Ýáõñ Çñ³í³ëáõÃÛ³Ý ³é³çÇÝ ³ïÛ³ÝÇ ¹³ï³ñ³ÝÇ ¹³ï³íáñ Ռաֆիկ Մելքոնյանի ·áñÍáõÝ»áõÃÛ³Ý í»ñ³µ»ñÛ³É
A3: êïáõ·Çã Ñ³í³ë³ñáõÙ` 1+2=3+8+9, 8=4+5+6+7, | D3: Ð³ßí»ïáõ Å³Ù³Ý³Ï³Ñ³ïí³ÍÇ ëÏ½µáõÙ Ý³Ëáñ¹ Ñ³ßí»ïáõ Å³Ù³Ý³Ï³Ñ³ïí³ÍÇó ÷áË³Ýóí³Í ·áñÍ»ñÇ ÁÝ¹Ñ³Ýáõñ ÃÇíÁ | E3: Ð³ßí»ïáõ Å³Ù³Ý³Ï³Ñ³ïí³ÍáõÙ ëï³óí³Í ·áñÍ»ñÇ ÁÝ¹Ñ³Ýáõñ ÃÇíÁ | F3: öáË³Ýóí»É ¿ ³ÛÉ ¹³ï³íáñÇ Ï³Ù ³ÛÉ ¹³ï³ñ³Ý (Ï³½ÙÇ ÷á÷áËáõÃÛáõÝ, ÁÝ¹¹³ïáõÃÛáõÝ) | G3: Ð³ßí»ïáõ Å³Ù³Ý³Ï³Ñ³ïí³ÍáõÙ ³í³ñïí³Í ·áñÍ»ñÇ ÁÝ¹Ñ³Ýáõñ ÃÇíÁ | L3: Ð³ßí»ïáõ Å³Ù³Ý³Ï³Ñ³ïí³ÍáõÙ ³Ý³í³ñï ·áñÍ»ñÇ ÁÝ¹Ñ³Ýáõñ ÃÇíÁ | M3: ØÇçÝáñ¹áõÃÛáõÝÝ»ñáí Ï³Û³óí³Í ¹³ï³Ï³Ý ³Ïï»ñÇó µáÕáù³ñÏí³ÍÝ»ñÇ ù³Ý³ÏÁ | O3: ²Ý³í³ñï µáÕáùÝ»ñ | P3: ØÇçÝáñ¹áõÃÛáõÝÝ»ñáí Ï³Û³óí³Í ¨ µáÕáù³ñÏí³Í ¹³ï³Ï³Ý ³Ïï»ñÇó µ»Ï³Ýí³ÍÝ»ñÇ ù³Ý³ÏÁ | R3: ÙÇçÝáñ¹áõÃÛáõÝÝ»ñáí Ï³Û³óí³Í ¨ µáÕáù³ñÏí³Í ¹³ï³Ï³Ý ³Ïï»ñÇó ³Ý÷á÷áË ÃáÕÝí³ÍÝ»ñÇ ù³Ý³ÏÁ
G4: Ù»ñÅí»É ¿ | H4: µ³í³ñ³ñí»É ¿ | I4: µ³í³ñ³ñí»É ¿ Ù³ëÝ³ÏÇ | J4: ÃáÕÝí»É ¿ ³é³Ýó ùÝÝáõÃÛ³Ý | K4: ÀÝ¹³Ù»ÝÁ
M5: Ý³Ëáñ¹ ï³ñÇÝ»ñÇÝ Ï³Û³óí³Í ³Ïï»ñÇ ¹»Ù | N5: Ñ³ßí»ïáõ Å³Ù³Ý³Ï³ßñç³ÝáõÙ Ï³Û³óí³Í ³Ïï»ñÇ ¹»Ù | P5: Ý³Ëáñ¹ ï³ñÇÝ»ñÇÝ Ï³Û³óí³Í ³Ïï»ñÇ µ»Ï³ÝáõÙÝ»ñÁ | Q5: Ñ³ßí»ïáõ Å³Ù³Ý³Ï³ßñç³ÝáõÙ Ï³Û³óí³Í ³Ïï»ñÇ µ»Ï³ÝáõÙÝ»ñÁ
A6: 1. ØÇÝã¹³ï³Ï³Ý í³ñáõÛÃÇ ÝÏ³ïÙ³Ùµ ¹³ï³Ï³Ý í»ñ³ÑëÏáÕáõÃÛ³Ý áÉáñï | D6: 1 | E6: 2 | F6: 3 | G6: 4 | H6: 5 | I6: 6 | J6: 7 | K6: 8 | L6: 9 | M6: 10 | N6: 11 | O6: 12 | P6: 13 | Q6: 14 | R6: 15 | T6: 1+2=3+8+9 | V6: 8=4+5+6+7
A7: 1 | B7: Ï³É³ÝùÁ áñå»ë Ë³÷³ÝÙ³Ý ÙÇçáó ÏÇñ³é»Éáõ Ù³ëÇÝ ÙÇçÝáñ¹áõÃÛáõÝÝ»ñ | E7: 39 | G7: 7 | H7: 31 | I7: 1 | K7: 39 | M7: 2 | N7: 10 | O7: 3 | R7: 7 | T7: =D7+E7 -> 39 | U7: =F7+K7+L7 -> 39 | V7: =K7 -> 39 | W7: =G7+H7+I7+J7 -> 39
A8: 2 | B8: Ï³É³ÝùÇ Å³ÙÏ»ïÁ »ñÏ³ñ³óÝ»Éáõ Ù³ëÇÝ ÙÇçÝáñ¹áõÃÛáõÝÝ»ñ | E8: 24 | G8: 1 | H8: 20 | I8: 3 | K8: 24 | M8: 5 | N8: 11 | O8: 3 | P8: 1 | Q8: 3 | R8: 5 | T8: =D8+E8 -> 24 | U8: =F8+K8+L8 -> 24 | V8: =K8 -> 24 | W8: =G8+H8+I8+J8 -> 24
A9: 3 | B9: Ï³É³ÝùÇ í»ñ³Ñ³ëï³ïÙ³Ý Ù³ëÇÝ ÙÇçÝáñ¹áõÃÛáõÝÝ»ñ | E9: 5 | G9: 1 | H9: 4 | K9: 5 | N9: 1 | R9: 1 | T9: =D9+E9 -> 5 | U9: =F9+K9+L9 -> 5 | V9: =K9 -> 5 | W9: =G9+H9+I9+J9 -> 5
A10: 4 | B10: ·ñ³íÁ áñå»ë Ï³É³Ý³íáñÙ³Ý ³ÛÉÁÝïñ³Ýù³ÛÇÝ Ë³÷³ÝÙ³Ý ÙÇçáó ÏÇñ³é»Éáõ Ù³ëÇÝ ÙÇçÝáñ¹áõÃÛáõÝÝ»ñ | E10: 1 | G10: 1 | K10: 1 | M10: 1 | P10: 1 | T10: =D10+E10 -> 1 | U10: =F10+K10+L10 -> 1 | V10: =K10 -> 1 | W10: =G10+H10+I10+J10 -> 1
A11: 5 | B11: Ëáõ½³ñÏáõÃÛ³Ý Ï³ï³ñÙ³Ý Ù³ëÇÝ ÙÇçÝáñ¹áõÃÛáõÝÝ»ñ | E11: 33 | G11: 1 | H11: 25 | I11: 7 | K11: 33 | N11: 1 | R11: 1 | T11: =D11+E11 -> 33 | U11: =F11+K11+L11 -> 33 | V11: =K11 -> 33 | W11: =G11+H11+I11+J11 -> 33
A12: 6 | B12: µ³ÝÏ³ÛÇÝ, ³å³Ñáí³·ñ³Ï³Ý, Ýáï³ñ³Ï³Ý ·³ÕïÝÇù Ï³½ÙáÕ ï»Õ»ÏáõÃÛáõÝÝ»ñÇ ëï³óÙ³Ý Ñ³Ù³ñ Ëáõ½³ñÏáõÃÛ³Ý Ï³Ù ³é·ñ³íÙ³Ý Ï³ï³ñÙ³Ý Ù³ëÇÝ ÙÇçÝáñ¹áõÃÛáõÝÝ»ñ | T12: =D12+E12 -> 0 | U12: =F12+K12+L12 -> 0 | V12: =K12 -> 0 | W12: =G12+H12+I12+J12 -> 0
A13: 7 | B13: Ý³Ù³Ï³·ñáõÃÛ³Ý, Ñ»é³·ñ³Ï³Ý, ÷áuï³ÛÇÝ Ñ³Õáñ¹áõÙÝ»ñÇ ÑëÏáÕáõÃÛ³Ý Ù³ëÇÝ ÙÇçÝáñ¹áõÃÛáõÝÝ»ñ | T13: =D13+E13 -> 0 | U13: =F13+K13+L13 -> 0 | V13: =K13 -> 0 | W13: =G13+H13+I13+J13 -> 0
A14: 8 | B14: Ñ»é³Ëáu³ÛÇÝ Ï³Ù Ï³åÇ ³ÛÉ ÙÇçáóÝ»ñáí ï³ñíáÕ Ëáu³ÏóáõÃÛáõÝÝ»ñÇ ÉuÙ³Ý ¨ Ó³ÛÝ³·ñ³éÙ³Ý Ù³ëÇÝ ÙÇçÝáñ¹áõÃÛáõÝÝ»ñ | T14: =D14+E14 -> 0 | U14: =F14+K14+L14 -> 0 | V14: =K14 -> 0 | W14: =G14+H14+I14+J14 -> 0
A15: 9 | B15: Ñ»é³ËáëÝ»ñÇ Ùáõïù³ÛÇÝ ¨ »Éù³ÛÇÝ í»ñÍ³ÝÙ³Ý ÃáõÛÉïíáõÃÛáõÝ ëï³Ý³Éáõ Ù³ëÇÝ ÙÇçÝáñ¹áõÃÛáõÝÝ»ñ | E15: 37 | G15: 2 | H15: 35 | K15: 37 | T15: =D15+E15 -> 37 | U15: =F15+K15+L15 -> 37 | V15: =K15 -> 37 | W15: =G15+H15+I15+J15 -> 37
A16: 10 | B16: Ñ»ï³ùÝÝáõÃÛ³Ý Ù³ñÙÝÇ ³ßË³ïáÕÇ, ùÝÝÇãÇ, ¹³ï³Ë³½Ç oå»ñ³ïÇí-Ñ»ï³Ëáõ½³Ï³Ý ·áñÍáÕáõÃÛáõÝÝ»ñ Çñ³Ï³Ý³óÝáÕ Ù³ñÙÇÝÝ»ñÇ ³ÝoñÇÝ³Ï³Ý ¨ ³ÝÑÇÙÝ áñáßáõÙÝ»ñÇ ¨ ·áñÍáÕáõÃÛáõÝÝ»ñÇ ¹»Ù µáÕáùÝ»ñ | E16: 12 | G16: 8 | H16: 2 | I16: 1 | K16: 11 | L16: 1 | M16: 5 | N16: 9 | O16: 1 | Q16: 2 | R16: 6 | T16: =D16+E16 -> 12 | U16: =F16+K16+L16 -> 12 | V16: =K16 -> 11 | W16: =G16+H16+I16+J16 -> 11
A17: 2. ¸³ï³Ï³Ý ³Ïï»ñÇ ¨ ¹³ï³Ï³Ý Ñ³ÝÓÝ³ñ³ñáõÃÛáõÝÝ»ñÇ Ï³ï³ñÙ³Ý Ñ»ï Ï³åí³Í Ñ³ñó»ñÇ ÉáõÍÙ³Ý áÉáñï
A18: 1 | B18: å³ïÅÇó å³ÛÙ³Ý³Ï³Ý í³Õ³Å³ÙÏ»ï ³½³ï»Éáõ Ù³ëÇÝ ÙÇçÝáñ¹áõÃÛáõÝÝ»ñ | T18: =J18+K18 -> 0 | U18: =F18+K18+L18 -> 0 | V18: =P18 -> 0 | W18: =L18+M18+N18+O18 -> 0
A19: 2 | B19: å³ïÇÅÁ ÷á÷áË»Éáõ, Ñ»ï³Ó·»Éáõ ¨ å³ïÅÇó ³½³ï»Éáõ Ù³uÇÝ ÙÇçÝáñ¹áõÃÛáõÝÝ»ñ | E19: 1 | G19: 1 | K19: 1 | M19: 1 | T19: =J19+K19 -> 1 | U19: =F19+K19+L19 -> 1 | V19: =P19 -> 0 | W19: =L19+M19+N19+O19 -> 1
A20: 3 | B20: Ñ³ñÏ³¹Çñ µáõÅÙ³Ý ï»ë³ÏÇ ÷á÷áËáõÃÛ³Ý Ù³ëÇÝ ÙÇçÝáñ¹áõÃÛáõÝÝ»ñ | T20: =J20+K20 -> 0 | U20: =F20+K20+L20 -> 0 | V20: =P20 -> 0 | W20: =L20+M20+N20+O20 -> 0
A21: 4 | B21: ³ÛÉ ÙÇçÝáñ¹áõÃÛáõÝÝ»ñ | E21: 14 | G21: 6 | H21: 8 | K21: 14 | M21: 2 | T21: =J21+K21 -> 14 | U21: =F21+K21+L21 -> 14 | V21: =P21 -> 0 | W21: =L21+M21+N21+O21 -> 2
A22: 5 | B22: ¹³ï³Ï³Ý Ñ³ÝÓÝ³ñ³ñáõÃÛáõÝÝ»ñ | E22: 1 | H22: 1 | K22: 1 | T22: =J22+K22 -> 1 | U22: =F22+K22+L22 -> 1 | V22: =P22 -> 0 | W22: =L22+M22+N22+O22 -> 0
A23: ÀÜ¸²ØºÜÀ | D23: =D7+D8+D9+D10+D11+D12+D13+D14+D15+D16+D18+D19+D20+D21+D22 -> 0 | E23: =E7+E8+E9+E10+E11+E12+E13+E14+E15+E16+E18+E19+E20+E21+E22 -> 167 | F23: =F7+F8+F9+F10+F11+F12+F13+F14+F15+F16+F18+F19+F20+F21+F22 -> 0 | G23: =G7+G8+G9+G10+G11+G12+G13+G14+G15+G16+G18+G19+G20+G21+G22 -> 28 | H23: =H7+H8+H9+H10+H11+H12+H13+H14+H15+H16+H18+H19+H20+H21+H22 -> 126 | I23: =I7+I8+I9+I10+I11+I12+I13+I14+I15+I16+I18+I19+I20+I21+I22 -> 12 | J23: =J7+J8+J9+J10+J11+J12+J13+J14+J15+J16+J18+J19+J20+J21+J22 -> 0 | K23: =K7+K8+K9+K10+K11+K12+K13+K14+K15+K16+K18+K19+K20+K21+K22 -> 166 | ... R23: =R7+R8+R9+R10+R11+R12+R13+R14+R15+R16+R18+R19+R20+R21+R22 -> 20 | T23: =SUM(T7:T16,T18:T22) -> 167 | U23: =F23+K23+L23 -> 167 | V23: =SUM(V7:V16,V18:V22) -> 150 | W23: =SUM(W7:W16,W18:W22) -> 153

Sheet Զ. Զաքինյան
A1: 2015Ã. | D1: Ð²ÞìºîìàôÂÚàôÜ | P1: Ð³í»Éí³Í Ð³Û³ëï³ÝÇ Ð³Ýñ³å»ïáõÃÛ³Ý ¸³ï³ñ³ÝÝ»ñÇ Ý³Ë³·³ÑÝ»ñÇ ËáñÑñ¹Ç 01.02.2016Ã. ÃÇí 11È áñáßÙ³Ý
A2: ØÇÝã¹³ï³Ï³Ý í³ñáõÛÃÇ ÝÏ³ïÙ³Ùµ ¹³ï³Ï³Ý í»ñ³ÑëÏáÕáõÃÛ³ÝÁ, ¹³ï³Ï³Ý ³Ïï»ñÇ ¨ ¹³ï³Ï³Ý Ñ³ÝÓÝ³ñ³ñáõÃÛáõÝÝ»ñÇ Ï³ï³ñÙ³Ý Ñ»ï Ï³åí³Í ÙÇçÝáñ¹áõÃÛáõÝÝ»ñÇ í»ñ³µ»ñÛ³É ¹³ï³Ï³Ý ·áñÍ»ñáí ÐÐ î³íáõßÇ Ù³ñ½Ç ÁÝ¹Ñ³Ýáõñ Çñ³í³ëáõÃÛ³Ý ³é³çÇÝ ³ïÛ³ÝÇ ¹³ï³ñ³ÝÇ ¹³ï³íáñ Զոյա Զաքինյանի ·áñÍáõÝ»áõÃÛ³Ý í»ñ³µ»ñÛ³É
A3: êïáõ·Çã Ñ³í³ë³ñáõÙ` 1+2=3+8+9, 8=4+5+6+7, | D3: Ð³ßí»ïáõ Å³Ù³Ý³Ï³Ñ³ïí³ÍÇ ëÏ½µáõÙ Ý³Ëáñ¹ Ñ³ßí»ïáõ Å³Ù³Ý³Ï³Ñ³ïí³ÍÇó ÷áË³Ýóí³Í ·áñÍ»ñÇ ÁÝ¹Ñ³Ýáõñ ÃÇíÁ | E3: Ð³ßí»ïáõ Å³Ù³Ý³Ï³Ñ³ïí³ÍáõÙ ëï³óí³Í ·áñÍ»ñÇ ÁÝ¹Ñ³Ýáõñ ÃÇíÁ | F3: öáË³Ýóí»É ¿ ³ÛÉ ¹³ï³íáñÇ Ï³Ù ³ÛÉ ¹³ï³ñ³Ý (Ï³½ÙÇ ÷á÷áËáõÃÛáõÝ, ÁÝ¹¹³ïáõÃÛáõÝ) | G3: Ð³ßí»ïáõ Å³Ù³Ý³Ï³Ñ³ïí³ÍáõÙ ³í³ñïí³Í ·áñÍ»ñÇ ÁÝ¹Ñ³Ýáõñ ÃÇíÁ | L3: Ð³ßí»ïáõ Å³Ù³Ý³Ï³Ñ³ïí³ÍáõÙ ³Ý³í³ñï ·áñÍ»ñÇ ÁÝ¹Ñ³Ýáõñ ÃÇíÁ | M3: ØÇçÝáñ¹áõÃÛáõÝÝ»ñáí Ï³Û³óí³Í ¹³ï³Ï³Ý ³Ïï»ñÇó µáÕáù³ñÏí³ÍÝ»ñÇ ù³Ý³ÏÁ | O3: ²Ý³í³ñï µáÕáùÝ»ñ | P3: ØÇçÝáñ¹áõÃÛáõÝÝ»ñáí Ï³Û³óí³Í ¨ µáÕáù³ñÏí³Í ¹³ï³Ï³Ý ³Ïï»ñÇó µ»Ï³Ýí³ÍÝ»ñÇ ù³Ý³ÏÁ | R3: ÙÇçÝáñ¹áõÃÛáõÝÝ»ñáí Ï³Û³óí³Í ¨ µáÕáù³ñÏí³Í ¹³ï³Ï³Ý ³Ïï»ñÇó ³Ý÷á÷áË ÃáÕÝí³ÍÝ»ñÇ ù³Ý³ÏÁ
G4: Ù»ñÅí»É ¿ | H4: µ³í³ñ³ñí»É ¿ | I4: µ³í³ñ³ñí»É ¿ Ù³ëÝ³ÏÇ | J4: ÃáÕÝí»É ¿ ³é³Ýó ùÝÝáõÃÛ³Ý | K4: ÀÝ¹³Ù»ÝÁ
M5: Ý³Ëáñ¹ ï³ñÇÝ»ñÇÝ Ï³Û³óí³Í ³Ïï»ñÇ ¹»Ù | N5: Ñ³ßí»ïáõ Å³Ù³Ý³Ï³ßñç³ÝáõÙ Ï³Û³óí³Í ³Ïï»ñÇ ¹»Ù | P5: Ý³Ëáñ¹ ï³ñÇÝ»ñÇÝ Ï³Û³óí³Í ³Ïï»ñÇ µ»Ï³ÝáõÙÝ»ñÁ | Q5: Ñ³ßí»ïáõ Å³Ù³Ý³Ï³ßñç³ÝáõÙ Ï³Û³óí³Í ³Ïï»ñÇ µ»Ï³ÝáõÙÝ»ñÁ
A6: 1. ØÇÝã¹³ï³Ï³Ý í³ñáõÛÃÇ ÝÏ³ïÙ³Ùµ ¹³ï³Ï³Ý í»ñ³ÑëÏáÕáõÃÛ³Ý áÉáñï | D6: 1 | E6: 2 | F6: 3 | G6: 4 | H6: 5 | I6: 6 | J6: 7 | K6: 8 | L6: 9 | M6: 10 | N6: 11 | O6: 12 | P6: 13 | Q6: 14 | R6: 15 | T6: 1+2=3+8+9 | V6: 8=4+5+6+7
A7: 1 | B7: Ï³É³ÝùÁ áñå»ë Ë³÷³ÝÙ³Ý ÙÇçáó ÏÇñ³é»Éáõ Ù³ëÇÝ ÙÇçÝáñ¹áõÃÛáõÝÝ»ñ | E7: 28 | G7: 5 | H7: 22 | J7: 1 | K7: 28 | M7: 2 | N7: 6 | O7: 3 | Q7: 1 | R7: 2 | T7: =D7+E7 -> 28 | U7: =F7+K7+L7 -> 28 | V7: =K7 -> 28 | W7: =G7+H7+I7+J7 -> 28
A8: 2 | B8: Ï³É³ÝùÇ Å³ÙÏ»ïÁ »ñÏ³ñ³óÝ»Éáõ Ù³ëÇÝ ÙÇçÝáñ¹áõÃÛáõÝÝ»ñ | E8: 10 | H8: 6 | I8: 1 | K8: 7 | L8: 3 | M8: 1 | N8: 1 | R8: 1 | T8: =D8+E8 -> 10 | U8: =F8+K8+L8 -> 10 | V8: =K8 -> 7 | W8: =G8+H8+I8+J8 -> 7
A9: 3 | B9: Ï³É³ÝùÇ í»ñ³Ñ³ëï³ïÙ³Ý Ù³ëÇÝ ÙÇçÝáñ¹áõÃÛáõÝÝ»ñ | E9: 2 | H9: 2 | K9: 2 | M9: 1 | N9: 1 | R9: 1 | T9: =D9+E9 -> 2 | U9: =F9+K9+L9 -> 2 | V9: =K9 -> 2 | W9: =G9+H9+I9+J9 -> 2
A10: 4 | B10: ·ñ³íÁ áñå»ë Ï³É³Ý³íáñÙ³Ý ³ÛÉÁÝïñ³Ýù³ÛÇÝ Ë³÷³ÝÙ³Ý ÙÇçáó ÏÇñ³é»Éáõ Ù³ëÇÝ ÙÇçÝáñ¹áõÃÛáõÝÝ»ñ | E10: 3 | H10: 2 | J10: 1 | K10: 3 | N10: 1 | R10: 1 | T10: =D10+E10 -> 3 | U10: =F10+K10+L10 -> 3 | V10: =K10 -> 3 | W10: =G10+H10+I10+J10 -> 3
A11: 5 | B11: Ëáõ½³ñÏáõÃÛ³Ý Ï³ï³ñÙ³Ý Ù³ëÇÝ ÙÇçÝáñ¹áõÃÛáõÝÝ»ñ | E11: 1 | H11: 1 | K11: 1 | T11: =D11+E11 -> 1 | U11: =F11+K11+L11 -> 1 | V11: =K11 -> 1 | W11: =G11+H11+I11+J11 -> 1
A12: 6 | B12: µ³ÝÏ³ÛÇÝ, ³å³Ñáí³·ñ³Ï³Ý, Ýáï³ñ³Ï³Ý ·³ÕïÝÇù Ï³½ÙáÕ ï»Õ»ÏáõÃÛáõÝÝ»ñÇ ëï³óÙ³Ý Ñ³Ù³ñ Ëáõ½³ñÏáõÃÛ³Ý Ï³Ù ³é·ñ³íÙ³Ý Ï³ï³ñÙ³Ý Ù³ëÇÝ ÙÇçÝáñ¹áõÃÛáõÝÝ»ñ | T12: =D12+E12 -> 0 | U12: =F12+K12+L12 -> 0 | V12: =K12 -> 0 | W12: =G12+H12+I12+J12 -> 0
A13: 7 | B13: Ý³Ù³Ï³·ñáõÃÛ³Ý, Ñ»é³·ñ³Ï³Ý, ÷áuï³ÛÇÝ Ñ³Õáñ¹áõÙÝ»ñÇ ÑëÏáÕáõÃÛ³Ý Ù³ëÇÝ ÙÇçÝáñ¹áõÃÛáõÝÝ»ñ | T13: =D13+E13 -> 0 | U13: =F13+K13+L13 -> 0 | V13: =K13 -> 0 | W13: =G13+H13+I13+J13 -> 0
A14: 8 | B14: Ñ»é³Ëáu³ÛÇÝ Ï³Ù Ï³åÇ ³ÛÉ ÙÇçáóÝ»ñáí ï³ñíáÕ Ëáu³ÏóáõÃÛáõÝÝ»ñÇ ÉuÙ³Ý ¨ Ó³ÛÝ³·ñ³éÙ³Ý Ù³ëÇÝ ÙÇçÝáñ¹áõÃÛáõÝÝ»ñ | T14: =D14+E14 -> 0 | U14: =F14+K14+L14 -> 0 | V14: =K14 -> 0 | W14: =G14+H14+I14+J14 -> 0
A15: 9 | B15: Ñ»é³ËáëÝ»ñÇ Ùáõïù³ÛÇÝ ¨ »Éù³ÛÇÝ í»ñÍ³ÝÙ³Ý ÃáõÛÉïíáõÃÛáõÝ ëï³Ý³Éáõ Ù³ëÇÝ ÙÇçÝáñ¹áõÃÛáõÝÝ»ñ | E15: 4 | G15: 1 | H15: 3 | K15: 4 | T15: =D15+E15 -> 4 | U15: =F15+K15+L15 -> 4 | V15: =K15 -> 4 | W15: =G15+H15+I15+J15 -> 4
A16: 10 | B16: Ñ»ï³ùÝÝáõÃÛ³Ý Ù³ñÙÝÇ ³ßË³ïáÕÇ, ùÝÝÇãÇ, ¹³ï³Ë³½Ç oå»ñ³ïÇí-Ñ»ï³Ëáõ½³Ï³Ý ·áñÍáÕáõÃÛáõÝÝ»ñ Çñ³Ï³Ý³óÝáÕ Ù³ñÙÇÝÝ»ñÇ ³ÝoñÇÝ³Ï³Ý ¨ ³ÝÑÇÙÝ áñáßáõÙÝ»ñÇ ¨ ·áñÍáÕáõÃÛáõÝÝ»ñÇ ¹»Ù µáÕáùÝ»ñ | E16: 11 | G16: 9 | H16: 2 | K16: 11 | M16: 3 | N16: 6 | O16: 2 | R16: 4 | T16: =D16+E16 -> 11 | U16: =F16+K16+L16 -> 11 | V16: =K16 -> 11 | W16: =G16+H16+I16+J16 -> 11
A17: 2. ¸³ï³Ï³Ý ³Ïï»ñÇ ¨ ¹³ï³Ï³Ý Ñ³ÝÓÝ³ñ³ñáõÃÛáõÝÝ»ñÇ Ï³ï³ñÙ³Ý Ñ»ï Ï³åí³Í Ñ³ñó»ñÇ ÉáõÍÙ³Ý áÉáñï
A18: 1 | B18: å³ïÅÇó å³ÛÙ³Ý³Ï³Ý í³Õ³Å³ÙÏ»ï ³½³ï»Éáõ Ù³ëÇÝ ÙÇçÝáñ¹áõÃÛáõÝÝ»ñ | T18: =J18+K18 -> 0 | U18: =F18+K18+L18 -> 0 | V18: =P18 -> 0 | W18: =L18+M18+N18+O18 -> 0
A19: 2 | B19: å³ïÇÅÁ ÷á÷áË»Éáõ, Ñ»ï³Ó·»Éáõ ¨ å³ïÅÇó ³½³ï»Éáõ Ù³uÇÝ ÙÇçÝáñ¹áõÃÛáõÝÝ»ñ | E19: 2 | G19: 1 | H19: 1 | K19: 2 | T19: =J19+K19 -> 2 | U19: =F19+K19+L19 -> 2 | V19: =P19 -> 0 | W19: =L19+M19+N19+O19 -> 0
A20: 3 | B20: Ñ³ñÏ³¹Çñ µáõÅÙ³Ý ï»ë³ÏÇ ÷á÷áËáõÃÛ³Ý Ù³ëÇÝ ÙÇçÝáñ¹áõÃÛáõÝÝ»ñ | T20: =J20+K20 -> 0 | U20: =F20+K20+L20 -> 0 | V20: =P20 -> 0 | W20: =L20+M20+N20+O20 -> 0
A21: 4 | B21: ³ÛÉ ÙÇçÝáñ¹áõÃÛáõÝÝ»ñ | E21: 4 | H21: 3 | I21: 1 | K21: 4 | T21: =J21+K21 -> 4 | U21: =F21+K21+L21 -> 4 | V21: =P21 -> 0 | W21: =L21+M21+N21+O21 -> 0
A22: 5 | B22: ¹³ï³Ï³Ý Ñ³ÝÓÝ³ñ³ñáõÃÛáõÝÝ»ñ | T22: =J22+K22 -> 0 | U22: =F22+K22+L22 -> 0 | V22: =P22 -> 0 | W22: =L22+M22+N22+O22 -> 0
A23: ÀÜ¸²ØºÜÀ | D23: =D7+D8+D9+D10+D11+D12+D13+D14+D15+D16+D18+D19+D20+D21+D22 -> 0 | E23: =E7+E8+E9+E10+E11+E12+E13+E14+E15+E16+E18+E19+E20+E21+E22 -> 65 | F23: =F7+F8+F9+F10+F11+F12+F13+F14+F15+F16+F18+F19+F20+F21+F22 -> 0 | G23: =G7+G8+G9+G10+G11+G12+G13+G14+G15+G16+G18+G19+G20+G21+G22 -> 16 | H23: =H7+H8+H9+H10+H11+H12+H13+H14+H15+H16+H18+H19+H20+H21+H22 -> 42 | I23: =I7+I8+I9+I10+I11+I12+I13+I14+I15+I16+I18+I19+I20+I21+I22 -> 2 | J23: =J7+J8+J9+J10+J11+J12+J13+J14+J15+J16+J18+J19+J20+J21+J22 -> 2 | K23: =K7+K8+K9+K10+K11+K12+K13+K14+K15+K16+K18+K19+K20+K21+K22 -> 62 | ... R23: =R7+R8+R9+R10+R11+R12+R13+R14+R15+R16+R18+R19+R20+R21+R22 -> 9 | T23: =SUM(T7:T16,T18:T22) -> 65 | U23: =F23+K23+L23 -> 65 | V23: =SUM(V7:V16,V18:V22) -> 56 | W23: =SUM(W7:W16,W18:W22) -> 56

Sheet Ա. Կուրեխյան
A1: 2015Ã. | D1: Ð²ÞìºîìàôÂÚàôÜ | P1: Ð³í»Éí³Í Ð³Û³ëï³ÝÇ Ð³Ýñ³å»ïáõÃÛ³Ý ¸³ï³ñ³ÝÝ»ñÇ Ý³Ë³·³ÑÝ»ñÇ ËáñÑñ¹Ç 01.02.2016Ã. ÃÇí 11È áñáßÙ³Ý
A2: ØÇÝã¹³ï³Ï³Ý í³ñáõÛÃÇ ÝÏ³ïÙ³Ùµ ¹³ï³Ï³Ý í»ñ³ÑëÏáÕáõÃÛ³ÝÁ, ¹³ï³Ï³Ý ³Ïï»ñÇ ¨ ¹³ï³Ï³Ý Ñ³ÝÓÝ³ñ³ñáõÃÛáõÝÝ»ñÇ Ï³ï³ñÙ³Ý Ñ»ï Ï³åí³Í ÙÇçÝáñ¹áõÃÛáõÝÝ»ñÇ í»ñ³µ»ñÛ³É ¹³ï³Ï³Ý ·áñÍ»ñáí ÐÐ î³íáõßÇ Ù³ñ½Ç ÁÝ¹Ñ³Ýáõñ Çñ³í³ëáõÃÛ³Ý ³é³çÇÝ ³ïÛ³ÝÇ ¹³ï³ñ³ÝÇ ¹³ï³íáñ Արման Կուրեխյանի ·áñÍáõÝ»áõÃÛ³Ý í»ñ³µ»ñÛ³É
A3: êïáõ·Çã Ñ³í³ë³ñáõÙ` 1+2=3+8+9, 8=4+5+6+7, | D3: Ð³ßí»ïáõ Å³Ù³Ý³Ï³Ñ³ïí³ÍÇ ëÏ½µáõÙ Ý³Ëáñ¹ Ñ³ßí»ïáõ Å³Ù³Ý³Ï³Ñ³ïí³ÍÇó ÷áË³Ýóí³Í ·áñÍ»ñÇ ÁÝ¹Ñ³Ýáõñ ÃÇíÁ | E3: Ð³ßí»ïáõ Å³Ù³Ý³Ï³Ñ³ïí³ÍáõÙ ëï³óí³Í ·áñÍ»ñÇ ÁÝ¹Ñ³Ýáõñ ÃÇíÁ | F3: öáË³Ýóí»É ¿ ³ÛÉ ¹³ï³íáñÇ Ï³Ù ³ÛÉ ¹³ï³ñ³Ý (Ï³½ÙÇ ÷á÷áËáõÃÛáõÝ, ÁÝ¹¹³ïáõÃÛáõÝ) | G3: Ð³ßí»ïáõ Å³Ù³Ý³Ï³Ñ³ïí³ÍáõÙ ³í³ñïí³Í ·áñÍ»ñÇ ÁÝ¹Ñ³Ýáõñ ÃÇíÁ | L3: Ð³ßí»ïáõ Å³Ù³Ý³Ï³Ñ³ïí³ÍáõÙ ³Ý³í³ñï ·áñÍ»ñÇ ÁÝ¹Ñ³Ýáõñ ÃÇíÁ | M3: ØÇçÝáñ¹áõÃÛáõÝÝ»ñáí Ï³Û³óí³Í ¹³ï³Ï³Ý ³Ïï»ñÇó µáÕáù³ñÏí³ÍÝ»ñÇ ù³Ý³ÏÁ | O3: ²Ý³í³ñï µáÕáùÝ»ñ | P3: ØÇçÝáñ¹áõÃÛáõÝÝ»ñáí Ï³Û³óí³Í ¨ µáÕáù³ñÏí³Í ¹³ï³Ï³Ý ³Ïï»ñÇó µ»Ï³Ýí³ÍÝ»ñÇ ù³Ý³ÏÁ | R3: ÙÇçÝáñ¹áõÃÛáõÝÝ»ñáí Ï³Û³óí³Í ¨ µáÕáù³ñÏí³Í ¹³ï³Ï³Ý ³Ïï»ñÇó ³Ý÷á÷áË ÃáÕÝí³ÍÝ»ñÇ ù³Ý³ÏÁ
G4: Ù»ñÅí»É ¿ | H4: µ³í³ñ³ñí»É ¿ | I4: µ³í³ñ³ñí»É ¿ Ù³ëÝ³ÏÇ | J4: ÃáÕÝí»É ¿ ³é³Ýó ùÝÝáõÃÛ³Ý | K4: ÀÝ¹³Ù»ÝÁ
M5: Ý³Ëáñ¹ ï³ñÇÝ»ñÇÝ Ï³Û³óí³Í ³Ïï»ñÇ ¹»Ù | N5: Ñ³ßí»ïáõ Å³Ù³Ý³Ï³ßñç³ÝáõÙ Ï³Û³óí³Í ³Ïï»ñÇ ¹»Ù | P5: Ý³Ëáñ¹ ï³ñÇÝ»ñÇÝ Ï³Û³óí³Í ³Ïï»ñÇ µ»Ï³ÝáõÙÝ»ñÁ | Q5: Ñ³ßí»ïáõ Å³Ù³Ý³Ï³ßñç³ÝáõÙ Ï³Û³óí³Í ³Ïï»ñÇ µ»Ï³ÝáõÙÝ»ñÁ
A6: 1. ØÇÝã¹³ï³Ï³Ý í³ñáõÛÃÇ ÝÏ³ïÙ³Ùµ ¹³ï³Ï³Ý í»ñ³ÑëÏáÕáõÃÛ³Ý áÉáñï | D6: 1 | E6: 2 | F6: 3 | G6: 4 | H6: 5 | I6: 6 | J6: 7 | K6: 8 | L6: 9 | M6: 10 | N6: 11 | O6: 12 | P6: 13 | Q6: 14 | R6: 15 | T6: 1+2=3+8+9 | V6: 8=4+5+6+7
A7: 1 | B7: Ï³É³ÝùÁ áñå»ë Ë³÷³ÝÙ³Ý ÙÇçáó ÏÇñ³é»Éáõ Ù³ëÇÝ ÙÇçÝáñ¹áõÃÛáõÝÝ»ñ | E7: 7 | H7: 7 | K7: 7 | M7: 1 | T7: =D7+E7 -> 7 | U7: =F7+K7+L7 -> 7 | V7: =K7 -> 7 | W7: =G7+H7+I7+J7 -> 7
A8: 2 | B8: Ï³É³ÝùÇ Å³ÙÏ»ïÁ »ñÏ³ñ³óÝ»Éáõ Ù³ëÇÝ ÙÇçÝáñ¹áõÃÛáõÝÝ»ñ | E8: 1 | H8: 1 | K8: 1 | N8: 1 | R8: 1 | T8: =D8+E8 -> 1 | U8: =F8+K8+L8 -> 1 | V8: =K8 -> 1 | W8: =G8+H8+I8+J8 -> 1
A9: 3 | B9: Ï³É³ÝùÇ í»ñ³Ñ³ëï³ïÙ³Ý Ù³ëÇÝ ÙÇçÝáñ¹áõÃÛáõÝÝ»ñ | T9: =D9+E9 -> 0 | U9: =F9+K9+L9 -> 0 | V9: =K9 -> 0 | W9: =G9+H9+I9+J9 -> 0
A10: 4 | B10: ·ñ³íÁ áñå»ë Ï³É³Ý³íáñÙ³Ý ³ÛÉÁÝïñ³Ýù³ÛÇÝ Ë³÷³ÝÙ³Ý ÙÇçáó ÏÇñ³é»Éáõ Ù³ëÇÝ ÙÇçÝáñ¹áõÃÛáõÝÝ»ñ | T10: =D10+E10 -> 0 | U10: =F10+K10+L10 -> 0 | V10: =K10 -> 0 | W10: =G10+H10+I10+J10 -> 0
A11: 5 | B11: Ëáõ½³ñÏáõÃÛ³Ý Ï³ï³ñÙ³Ý Ù³ëÇÝ ÙÇçÝáñ¹áõÃÛáõÝÝ»ñ | E11: 2 | G11: 1 | H11: 1 | K11: 2 | T11: =D11+E11 -> 2 | U11: =F11+K11+L11 -> 2 | V11: =K11 -> 2 | W11: =G11+H11+I11+J11 -> 2
A12: 6 | B12: µ³ÝÏ³ÛÇÝ, ³å³Ñáí³·ñ³Ï³Ý, Ýáï³ñ³Ï³Ý ·³ÕïÝÇù Ï³½ÙáÕ ï»Õ»ÏáõÃÛáõÝÝ»ñÇ ëï³óÙ³Ý Ñ³Ù³ñ Ëáõ½³ñÏáõÃÛ³Ý Ï³Ù ³é·ñ³íÙ³Ý Ï³ï³ñÙ³Ý Ù³ëÇÝ ÙÇçÝáñ¹áõÃÛáõÝÝ»ñ | T12: =D12+E12 -> 0 | U12: =F12+K12+L12 -> 0 | V12: =K12 -> 0 | W12: =G12+H12+I12+J12 -> 0
A13: 7 | B13: Ý³Ù³Ï³·ñáõÃÛ³Ý, Ñ»é³·ñ³Ï³Ý, ÷áuï³ÛÇÝ Ñ³Õáñ¹áõÙÝ»ñÇ ÑëÏáÕáõÃÛ³Ý Ù³ëÇÝ ÙÇçÝáñ¹áõÃÛáõÝÝ»ñ | T13: =D13+E13 -> 0 | U13: =F13+K13+L13 -> 0 | V13: =K13 -> 0 | W13: =G13+H13+I13+J13 -> 0
A14: 8 | B14: Ñ»é³Ëáu³ÛÇÝ Ï³Ù Ï³åÇ ³ÛÉ ÙÇçáóÝ»ñáí ï³ñíáÕ Ëáu³ÏóáõÃÛáõÝÝ»ñÇ ÉuÙ³Ý ¨ Ó³ÛÝ³·ñ³éÙ³Ý Ù³ëÇÝ ÙÇçÝáñ¹áõÃÛáõÝÝ»ñ | T14: =D14+E14 -> 0 | U14: =F14+K14+L14 -> 0 | V14: =K14 -> 0 | W14: =G14+H14+I14+J14 -> 0
A15: 9 | B15: Ñ»é³ËáëÝ»ñÇ Ùáõïù³ÛÇÝ ¨ »Éù³ÛÇÝ í»ñÍ³ÝÙ³Ý ÃáõÛÉïíáõÃÛáõÝ ëï³Ý³Éáõ Ù³ëÇÝ ÙÇçÝáñ¹áõÃÛáõÝÝ»ñ | E15: 6 | G15: 2 | H15: 2 | I15: 2 | K15: 6 | T15: =D15+E15 -> 6 | U15: =F15+K15+L15 -> 6 | V15: =K15 -> 6 | W15: =G15+H15+I15+J15 -> 6
A16: 10 | B16: Ñ»ï³ùÝÝáõÃÛ³Ý Ù³ñÙÝÇ ³ßË³ïáÕÇ, ùÝÝÇãÇ, ¹³ï³Ë³½Ç oå»ñ³ïÇí-Ñ»ï³Ëáõ½³Ï³Ý ·áñÍáÕáõÃÛáõÝÝ»ñ Çñ³Ï³Ý³óÝáÕ Ù³ñÙÇÝÝ»ñÇ ³ÝoñÇÝ³Ï³Ý ¨ ³ÝÑÇÙÝ áñáßáõÙÝ»ñÇ ¨ ·áñÍáÕáõÃÛáõÝÝ»ñÇ ¹»Ù µáÕáùÝ»ñ | T16: =D16+E16 -> 0 | U16: =F16+K16+L16 -> 0 | V16: =K16 -> 0 | W16: =G16+H16+I16+J16 -> 0
A17: 2. ¸³ï³Ï³Ý ³Ïï»ñÇ ¨ ¹³ï³Ï³Ý Ñ³ÝÓÝ³ñ³ñáõÃÛáõÝÝ»ñÇ Ï³ï³ñÙ³Ý Ñ»ï Ï³åí³Í Ñ³ñó»ñÇ ÉáõÍÙ³Ý áÉáñï
A18: 1 | B18: å³ïÅÇó å³ÛÙ³Ý³Ï³Ý í³Õ³Å³ÙÏ»ï ³½³ï»Éáõ Ù³ëÇÝ ÙÇçÝáñ¹áõÃÛáõÝÝ»ñ | T18: =J18+K18 -> 0 | U18: =F18+K18+L18 -> 0 | V18: =P18 -> 0 | W18: =L18+M18+N18+O18 -> 0
A19: 2 | B19: å³ïÇÅÁ ÷á÷áË»Éáõ, Ñ»ï³Ó·»Éáõ ¨ å³ïÅÇó ³½³ï»Éáõ Ù³uÇÝ ÙÇçÝáñ¹áõÃÛáõÝÝ»ñ | E19: 2 | G19: 2 | K19: 2 | T19: =J19+K19 -> 2 | U19: =F19+K19+L19 -> 2 | V19: =P19 -> 0 | W19: =L19+M19+N19+O19 -> 0
A20: 3 | B20: Ñ³ñÏ³¹Çñ µáõÅÙ³Ý ï»ë³ÏÇ ÷á÷áËáõÃÛ³Ý Ù³ëÇÝ ÙÇçÝáñ¹áõÃÛáõÝÝ»ñ | T20: =J20+K20 -> 0 | U20: =F20+K20+L20 -> 0 | V20: =P20 -> 0 | W20: =L20+M20+N20+O20 -> 0
A21: 4 | B21: ³ÛÉ ÙÇçÝáñ¹áõÃÛáõÝÝ»ñ | E21: 2 | G21: 1 | I21: 1 | K21: 2 | T21: =J21+K21 -> 2 | U21: =F21+K21+L21 -> 2 | V21: =P21 -> 0 | W21: =L21+M21+N21+O21 -> 0
A22: 5 | B22: ¹³ï³Ï³Ý Ñ³ÝÓÝ³ñ³ñáõÃÛáõÝÝ»ñ | E22: 1 | L22: 1 | T22: =J22+K22 -> 0 | U22: =F22+K22+L22 -> 1 | V22: =P22 -> 0 | W22: =L22+M22+N22+O22 -> 1
A23: ÀÜ¸²ØºÜÀ | D23: =D7+D8+D9+D10+D11+D12+D13+D14+D15+D16+D18+D19+D20+D21+D22 -> 0 | E23: =E7+E8+E9+E10+E11+E12+E13+E14+E15+E16+E18+E19+E20+E21+E22 -> 21 | F23: =F7+F8+F9+F10+F11+F12+F13+F14+F15+F16+F18+F19+F20+F21+F22 -> 0 | G23: =G7+G8+G9+G10+G11+G12+G13+G14+G15+G16+G18+G19+G20+G21+G22 -> 6 | H23: =H7+H8+H9+H10+H11+H12+H13+H14+H15+H16+H18+H19+H20+H21+H22 -> 11 | I23: =I7+I8+I9+I10+I11+I12+I13+I14+I15+I16+I18+I19+I20+I21+I22 -> 3 | J23: =J7+J8+J9+J10+J11+J12+J13+J14+J15+J16+J18+J19+J20+J21+J22 -> 0 | K23: =K7+K8+K9+K10+K11+K12+K13+K14+K15+K16+K18+K19+K20+K21+K22 -> 20 | ... R23: =R7+R8+R9+R10+R11+R12+R13+R14+R15+R16+R18+R19+R20+R21+R22 -> 1 | T23: =SUM(T7:T16,T18:T22) -> 20 | U23: =F23+K23+L23 -> 21 | V23: =SUM(V7:V16,V18:V22) -> 16 | W23: =SUM(W7:W16,W18:W22) -> 17
