Workbook

Sheet Քրեական գործեր-2024թ. կիս.
B1: 2024թ. 1-ին կիսամյակի | X1: Հավելված 2 Բարձրագույն դատական խորհրդի 2022թվականի դեկտեմբերի 26-ի թիվ ԲԴԽ-122-Ո-408 որոշման
A2: ՀԱՇՎԵՏՎՈՒԹՅՈՒՆ ՀՀ ԱՌԱՋԻՆ ԱՏՅԱՆԻ ԸՆԴՀԱՆՈՒՐ ԻՐԱՎԱՍՈՒԹՅԱՆ ԴԱՏԱՐԱՆՆԵՐՈՒՄ ՔՐԵԱԿԱՆ ԳՈՐԾԵՐԻ ՔՆՆՈՒԹՅԱՆ ՎԵՐԱԲԵՐՅԱԼ ՔՐԵԱԿԱՆ ՄԱՍՆԱԳԻՏԱՑՈՒՄ ՈՒՆԵՑՈՂ ԴԱՏԱՎՈՐՆԵՐԻ ԹԻՎԸ՝78
A3: Ստուգիչ հավասարումներ` 1+3=11+16+18, 11 =8+9+10 15= 12+13+14, 22=20+21, 25=23+24 | C3: ՀՀ քրեական օրենսգրքի հոդվածներ | D3: Հաշվետու ժամանակահատվածի սկզբում նախորդ հաշվետու ժամանակահատվածից փոխանցված գործերի ընդհանուր թիվը | E3: Այդ թվում` կասեցված վիճակում փոխանցված | F3: Հաշվետու ժամանակահատվածում ստացված գործերի ընդհանուր թիվը | G3: Որոշում է կայացվել քրեական գործը վերադարձնել հսկող դատախազին | H3: քանի գործով է կիրառվել համաձայնեցման վարույթ | I3: քանի գործով է կիրառվել համագործակցության վարույթ | J3: Հաշվետու ժամանակաշրջանում կայացվել է վերդիկտ | K3: Հաշվետու ժամանակաշրջանում կայացվել է դատավճիռ | L3: քրեական վարույթը կարճելու մաuին որոշում | M3: Հաշվետու ժամանակաշրջանում կայացվել է բժշկական հարկադրանքի դատավճիռ /ՀՀ ՔՐ. ԴԱՏ. ՕՐ. 432-ՐԴ ՀՈԴՎԱԾ/ | N3: ընդամենը | O3: Հաշվետու ժամանակահատվածում ավարտված գործերի ընդհանուր թիվը /ՀՀ ՔՐ. ԴԱՏ. ՕՐ. 14-ՐԴ ՀՈԴՎԱԾ/ | S3: Ուղարկվել է ըստ ընդդատության | T3: Հաշվետու ժամանակահատվածում կասեցված վարույթներով գործերի ընդհանուր թիվը | U3: Հաշվետու ժամանակահատվածում անավարտ գործերի ընդհանուր թիվը | V3: Այդ թվում՝ կասեցված | W3: Բողոքարկված վարութային ակտերի թիվը` ըստ տեսակների | Z3: բեկանված կամ փոփոխված ակտերի թիվը` ըստ տեսակների
O4: քրեական վարույթը կարճելու մաuին որոշումն ուժի մեջ մտնելով. | P4: Եզրափակիչ դատական ակտն ուժի մեջ է մտել | Q4: Եզրափակիչ դատական ակտը հանձնվել է կատարման | R4: Ընդամենը ավարտվել են գործեր | W4: Այդ թվում` եզրափակիչ դատական ակտերը | X4: Այդ թվում` եզրափակիչ դատավարական ակտերը | Y4: Ընդամենը | Z4: Այդ թվում` եզրափակիչ դատական ակտերը | AA4: Այդ թվում` եզրափակիչ դատավարական ակտերը | AB4: Ընդամենը | AC4: 1+3 | AD4: 11+16+18 | AE4: 11 | AF4: 8+9+10 | AG4: 15 | AH4: 12+13+14 | AI4: 22 | AJ4: 20+21 | AK4: 25 | AL4: 23+24
D5: 1 | E5: 2 | F5: 3 | G5: 4 | H5: 5 | I5: 6 | J5: 7 | K5: 8 | L5: 9 | M5: 10 | N5: 11 | O5: 12 | P5: 13 | Q5: 14 | R5: 15 | S5: 16 | T5: 17 | U5: 18 | V5: 19 | W5: 20 | X5: 21 | Y5: 22 | Z5: 23 | AA5: 24 | AB5: 25
A6: 1. | B6: Ընդամենը խաղաղության և մարդկության անվտանգության դեմ ուղղված հանցագործությունները | D6: =SUM(Արագածոտն!D6+Արարատ!D6+Արմավիր!D6+Գեղարքունիք!D6+Լոռի!D6+Սյունիք!D6+Շիրակ!D6+Տավուշ!D6+Կոտայք!D6+'Երևան '!D6) -> 0 | E6: =SUM(Արագածոտն!E6+Արարատ!E6+Արմավիր!E6+Գեղարքունիք!E6+Լոռի!E6+Սյունիք!E6+Շիրակ!E6+Տավուշ!E6+Կոտայք!E6+'Երևան '!E6) -> 0 | F6: =SUM(Արագածոտն!F6+Արարատ!F6+Արմավիր!F6+Գեղարքունիք!F6+Լոռի!F6+Սյունիք!F6+Շիրակ!F6+Տավուշ!F6+Կոտայք!F6+'Երևան '!F6) -> 0 | G6: =SUM(Արագածոտն!G6+Արարատ!G6+Արմավիր!G6+Գեղարքունիք!G6+Լոռի!G6+Սյունիք!G6+Շիրակ!G6+Տավուշ!G6+Կոտայք!G6+'Երևան '!G6) -> 0 | H6: =SUM(Արագածոտն!H6+Արարատ!H6+Արմավիր!H6+Գեղարքունիք!H6+Լոռի!H6+Սյունիք!H6+Շիրակ!H6+Տավուշ!H6+Կոտայք!H6+'Երևան '!H6) -> 0 | I6: =SUM(Արագածոտն!I6+Արարատ!I6+Արմավիր!I6+Գեղարքունիք!I6+Լոռի!I6+Սյունիք!I6+Շիրակ!I6+Տավուշ!I6+Կոտայք!I6+'Երևան '!I6) -> 0 | J6: =SUM(Արագածոտն!J6+Արարատ!J6+Արմավիր!J6+Գեղարքունիք!J6+Լոռի!J6+Սյունիք!J6+Շիրակ!J6+Տավուշ!J6+Կոտայք!J6+'Երևան '!J6) -> 0 | K6: =SUM(Արագածոտն!K6+Արարատ!K6+Արմավիր!K6+Գեղարքունիք!K6+Լոռի!K6+Սյունիք!K6+Շիրակ!K6+Տավուշ!K6+Կոտայք!K6+'Երևան '!K6) -> 0 | ... AB6: =SUM(Արագածոտն!AB6+Արարատ!AB6+Արմավիր!AB6+Գեղարքունիք!AB6+Լոռի!AB6+Սյունիք!AB6+Շիրակ!AB6+Տավուշ!AB6+Կոտայք!AB6+'Երևան '!AB6) -> 1 | AC6: =SUM(AC7:AC28) -> 0 | AD6: =+U6+S6+N6 -> 0 | AE6: =SUM(AE7:AE28) -> 0 | AF6: =SUM(AF7:AF28) -> 0 | AG6: =SUM(AG7:AG28) -> 0 | AH6: =SUM(AH7:AH28) -> 0 | AI6: =SUM(AI7:AI28) -> 0 | AJ6: =SUM(AJ7:AJ28) -> 0 | AK6: =SUM(AK7:AK28) -> 0 | AL6: =SUM(AL7:AL28) -> 0
A7: 1.1 | B7: Ցեղասպանությունը | C7: 133 | D7: =SUM(Արագածոտն!D7+Արարատ!D7+Արմավիր!D7+Գեղարքունիք!D7+Լոռի!D7+Սյունիք!D7+Շիրակ!D7+Տավուշ!D7+Կոտայք!D7+'Երևան '!D7) -> 0 | E7: =SUM(Արագածոտն!E7+Արարատ!E7+Արմավիր!E7+Գեղարքունիք!E7+Լոռի!E7+Սյունիք!E7+Շիրակ!E7+Տավուշ!E7+Կոտայք!E7+'Երևան '!E7) -> 0 | F7: =SUM(Արագածոտն!F7+Արարատ!F7+Արմավիր!F7+Գեղարքունիք!F7+Լոռի!F7+Սյունիք!F7+Շիրակ!F7+Տավուշ!F7+Կոտայք!F7+'Երևան '!F7) -> 0 | G7: =SUM(Արագածոտն!G7+Արարատ!G7+Արմավիր!G7+Գեղարքունիք!G7+Լոռի!G7+Սյունիք!G7+Շիրակ!G7+Տավուշ!G7+Կոտայք!G7+'Երևան '!G7) -> 0 | H7: =SUM(Արագածոտն!H7+Արարատ!H7+Արմավիր!H7+Գեղարքունիք!H7+Լոռի!H7+Սյունիք!H7+Շիրակ!H7+Տավուշ!H7+Կոտայք!H7+'Երևան '!H7) -> 0 | I7: =SUM(Արագածոտն!I7+Արարատ!I7+Արմավիր!I7+Գեղարքունիք!I7+Լոռի!I7+Սյունիք!I7+Շիրակ!I7+Տավուշ!I7+Կոտայք!I7+'Երևան '!I7) -> 0 | J7: =SUM(Արագածոտն!J7+Արարատ!J7+Արմավիր!J7+Գեղարքունիք!J7+Լոռի!J7+Սյունիք!J7+Շիրակ!J7+Տավուշ!J7+Կոտայք!J7+'Երևան '!J7) -> 0 | K7: =SUM(Արագածոտն!K7+Արարատ!K7+Արմավիր!K7+Գեղարքունիք!K7+Լոռի!K7+Սյունիք!K7+Շիրակ!K7+Տավուշ!K7+Կոտայք!K7+'Երևան '!K7) -> 0 | ... AB7: =SUM(Արագածոտն!AB7+Արարատ!AB7+Արմավիր!AB7+Գեղարքունիք!AB7+Լոռի!AB7+Սյունիք!AB7+Շիրակ!AB7+Տավուշ!AB7+Կոտայք!AB7+'Երևան '!AB7) -> 0 | AC7: =D7+F7 -> 0 | AD7: =E7+G7 -> 0 | AE7: =F7+H7 -> 0 | AF7: =G7+I7 -> 0 | AG7: =H7+J7 -> 0 | AH7: =I7+K7 -> 0 | AI7: =J7+L7 -> 0 | AJ7: =K7+M7 -> 0 | ... AL7: =M7+O7 -> 0
A8: 1.2 | B8: Ցեղասպանության ուղղակի և հրապարակային հրահրումը | C8: 134 | D8: =SUM(Արագածոտն!D8+Արարատ!D8+Արմավիր!D8+Գեղարքունիք!D8+Լոռի!D8+Սյունիք!D8+Շիրակ!D8+Տավուշ!D8+Կոտայք!D8+'Երևան '!D8) -> 0 | E8: =SUM(Արագածոտն!E8+Արարատ!E8+Արմավիր!E8+Գեղարքունիք!E8+Լոռի!E8+Սյունիք!E8+Շիրակ!E8+Տավուշ!E8+Կոտայք!E8+'Երևան '!E8) -> 0 | F8: =SUM(Արագածոտն!F8+Արարատ!F8+Արմավիր!F8+Գեղարքունիք!F8+Լոռի!F8+Սյունիք!F8+Շիրակ!F8+Տավուշ!F8+Կոտայք!F8+'Երևան '!F8) -> 0 | G8: =SUM(Արագածոտն!G8+Արարատ!G8+Արմավիր!G8+Գեղարքունիք!G8+Լոռի!G8+Սյունիք!G8+Շիրակ!G8+Տավուշ!G8+Կոտայք!G8+'Երևան '!G8) -> 0 | H8: =SUM(Արագածոտն!H8+Արարատ!H8+Արմավիր!H8+Գեղարքունիք!H8+Լոռի!H8+Սյունիք!H8+Շիրակ!H8+Տավուշ!H8+Կոտայք!H8+'Երևան '!H8) -> 0 | I8: =SUM(Արագածոտն!I8+Արարատ!I8+Արմավիր!I8+Գեղարքունիք!I8+Լոռի!I8+Սյունիք!I8+Շիրակ!I8+Տավուշ!I8+Կոտայք!I8+'Երևան '!I8) -> 0 | J8: =SUM(Արագածոտն!J8+Արարատ!J8+Արմավիր!J8+Գեղարքունիք!J8+Լոռի!J8+Սյունիք!J8+Շիրակ!J8+Տավուշ!J8+Կոտայք!J8+'Երևան '!J8) -> 0 | K8: =SUM(Արագածոտն!K8+Արարատ!K8+Արմավիր!K8+Գեղարքունիք!K8+Լոռի!K8+Սյունիք!K8+Շիրակ!K8+Տավուշ!K8+Կոտայք!K8+'Երևան '!K8) -> 0 | ... AB8: =SUM(Արագածոտն!AB8+Արարատ!AB8+Արմավիր!AB8+Գեղարքունիք!AB8+Լոռի!AB8+Սյունիք!AB8+Շիրակ!AB8+Տավուշ!AB8+Կոտայք!AB8+'Երևան '!AB8) -> 0 | AC8: =D8+F8 -> 0 | AD8: =E8+G8 -> 0 | AE8: =F8+H8 -> 0 | AF8: =G8+I8 -> 0 | AG8: =H8+J8 -> 0 | AH8: =I8+K8 -> 0 | AI8: =J8+L8 -> 0 | AJ8: =K8+M8 -> 0 | ... AL8: =M8+O8 -> 0
A9: 1.3 | B9: Մարդկայնության դեմ ուղղված հանցագործությունները | C9: 135 | D9: =SUM(Արագածոտն!D9+Արարատ!D9+Արմավիր!D9+Գեղարքունիք!D9+Լոռի!D9+Սյունիք!D9+Շիրակ!D9+Տավուշ!D9+Կոտայք!D9+'Երևան '!D9) -> 0 | E9: =SUM(Արագածոտն!E9+Արարատ!E9+Արմավիր!E9+Գեղարքունիք!E9+Լոռի!E9+Սյունիք!E9+Շիրակ!E9+Տավուշ!E9+Կոտայք!E9+'Երևան '!E9) -> 0 | F9: =SUM(Արագածոտն!F9+Արարատ!F9+Արմավիր!F9+Գեղարքունիք!F9+Լոռի!F9+Սյունիք!F9+Շիրակ!F9+Տավուշ!F9+Կոտայք!F9+'Երևան '!F9) -> 0 | G9: =SUM(Արագածոտն!G9+Արարատ!G9+Արմավիր!G9+Գեղարքունիք!G9+Լոռի!G9+Սյունիք!G9+Շիրակ!G9+Տավուշ!G9+Կոտայք!G9+'Երևան '!G9) -> 0 | H9: =SUM(Արագածոտն!H9+Արարատ!H9+Արմավիր!H9+Գեղարքունիք!H9+Լոռի!H9+Սյունիք!H9+Շիրակ!H9+Տավուշ!H9+Կոտայք!H9+'Երևան '!H9) -> 0 | I9: =SUM(Արագածոտն!I9+Արարատ!I9+Արմավիր!I9+Գեղարքունիք!I9+Լոռի!I9+Սյունիք!I9+Շիրակ!I9+Տավուշ!I9+Կոտայք!I9+'Երևան '!I9) -> 0 | J9: =SUM(Արագածոտն!J9+Արարատ!J9+Արմավիր!J9+Գեղարքունիք!J9+Լոռի!J9+Սյունիք!J9+Շիրակ!J9+Տավուշ!J9+Կոտայք!J9+'Երևան '!J9) -> 0 | K9: =SUM(Արագածոտն!K9+Արարատ!K9+Արմավիր!K9+Գեղարքունիք!K9+Լոռի!K9+Սյունիք!K9+Շիրակ!K9+Տավուշ!K9+Կոտայք!K9+'Երևան '!K9) -> 0 | ... AB9: =SUM(Արագածոտն!AB9+Արարատ!AB9+Արմավիր!AB9+Գեղարքունիք!AB9+Լոռի!AB9+Սյունիք!AB9+Շիրակ!AB9+Տավուշ!AB9+Կոտայք!AB9+'Երևան '!AB9) -> 0 | AC9: =D9+F9 -> 0 | AD9: =E9+G9 -> 0 | AE9: =F9+H9 -> 0 | AF9: =G9+I9 -> 0 | AG9: =H9+J9 -> 0 | AH9: =I9+K9 -> 0 | AI9: =J9+L9 -> 0 | AJ9: =K9+M9 -> 0 | ... AL9: =M9+O9 -> 0
A10: 1.4 | B10: Ցեղասպանությունը կամ մարդկայնության դեմ ուղղված հանցագործությունները հրապարակայնորեն հերքելը, արդարացնելը, դրանք քարոզելը կամ դրանց վտանգավորությունը նսեմացնելը | C10: 136 | D10: =SUM(Արագածոտն!D10+Արարատ!D10+Արմավիր!D10+Գեղարքունիք!D10+Լոռի!D10+Սյունիք!D10+Շիրակ!D10+Տավուշ!D10+Կոտայք!D10+'Երևան '!D10) -> 0 | E10: =SUM(Արագածոտն!E10+Արարատ!E10+Արմավիր!E10+Գեղարքունիք!E10+Լոռի!E10+Սյունիք!E10+Շիրակ!E10+Տավուշ!E10+Կոտայք!E10+'Երևան '!E10) -> 0 | F10: =SUM(Արագածոտն!F10+Արարատ!F10+Արմավիր!F10+Գեղարքունիք!F10+Լոռի!F10+Սյունիք!F10+Շիրակ!F10+Տավուշ!F10+Կոտայք!F10+'Երևան '!F10) -> 0 | G10: =SUM(Արագածոտն!G10+Արարատ!G10+Արմավիր!G10+Գեղարքունիք!G10+Լոռի!G10+Սյունիք!G10+Շիրակ!G10+Տավուշ!G10+Կոտայք!G10+'Երևան '!G10) -> 0 | H10: =SUM(Արագածոտն!H10+Արարատ!H10+Արմավիր!H10+Գեղարքունիք!H10+Լոռի!H10+Սյունիք!H10+Շիրակ!H10+Տավուշ!H10+Կոտայք!H10+'Երևան '!H10) -> 0 | I10: =SUM(Արագածոտն!I10+Արարատ!I10+Արմավիր!I10+Գեղարքունիք!I10+Լոռի!I10+Սյունիք!I10+Շիրակ!I10+Տավուշ!I10+Կոտայք!I10+'Երևան '!I10) -> 0 | J10: =SUM(Արագածոտն!J10+Արարատ!J10+Արմավիր!J10+Գեղարքունիք!J10+Լոռի!J10+Սյունիք!J10+Շիրակ!J10+Տավուշ!J10+Կոտայք!J10+'Երևան '!J10) -> 0 | K10: =SUM(Արագածոտն!K10+Արարատ!K10+Արմավիր!K10+Գեղարքունիք!K10+Լոռի!K10+Սյունիք!K10+Շիրակ!K10+Տավուշ!K10+Կոտայք!K10+'Երևան '!K10) -> 0 | ... AB10: =SUM(Արագածոտն!AB10+Արարատ!AB10+Արմավիր!AB10+Գեղարքունիք!AB10+Լոռի!AB10+Սյունիք!AB10+Շիրակ!AB10+Տավուշ!AB10+Կոտայք!AB10+'Երևան '!AB10) -> 1 | AC10: =D10+F10 -> 0 | AD10: =E10+G10 -> 0 | AE10: =F10+H10 -> 0 | AF10: =G10+I10 -> 0 | AG10: =H10+J10 -> 0 | AH10: =I10+K10 -> 0 | AI10: =J10+L10 -> 0 | AJ10: =K10+M10 -> 0 | ... AL10: =M10+O10 -> 0
A11: 1.5 | B11: Հովանավորվող անձի դեմ ուղղված պատերազմական հանցագործությունները | C11: 137 | D11: =SUM(Արագածոտն!D11+Արարատ!D11+Արմավիր!D11+Գեղարքունիք!D11+Լոռի!D11+Սյունիք!D11+Շիրակ!D11+Տավուշ!D11+Կոտայք!D11+'Երևան '!D11) -> 0 | E11: =SUM(Արագածոտն!E11+Արարատ!E11+Արմավիր!E11+Գեղարքունիք!E11+Լոռի!E11+Սյունիք!E11+Շիրակ!E11+Տավուշ!E11+Կոտայք!E11+'Երևան '!E11) -> 0 | F11: =SUM(Արագածոտն!F11+Արարատ!F11+Արմավիր!F11+Գեղարքունիք!F11+Լոռի!F11+Սյունիք!F11+Շիրակ!F11+Տավուշ!F11+Կոտայք!F11+'Երևան '!F11) -> 0 | G11: =SUM(Արագածոտն!G11+Արարատ!G11+Արմավիր!G11+Գեղարքունիք!G11+Լոռի!G11+Սյունիք!G11+Շիրակ!G11+Տավուշ!G11+Կոտայք!G11+'Երևան '!G11) -> 0 | H11: =SUM(Արագածոտն!H11+Արարատ!H11+Արմավիր!H11+Գեղարքունիք!H11+Լոռի!H11+Սյունիք!H11+Շիրակ!H11+Տավուշ!H11+Կոտայք!H11+'Երևան '!H11) -> 0 | I11: =SUM(Արագածոտն!I11+Արարատ!I11+Արմավիր!I11+Գեղարքունիք!I11+Լոռի!I11+Սյունիք!I11+Շիրակ!I11+Տավուշ!I11+Կոտայք!I11+'Երևան '!I11) -> 0 | J11: =SUM(Արագածոտն!J11+Արարատ!J11+Արմավիր!J11+Գեղարքունիք!J11+Լոռի!J11+Սյունիք!J11+Շիրակ!J11+Տավուշ!J11+Կոտայք!J11+'Երևան '!J11) -> 0 | K11: =SUM(Արագածոտն!K11+Արարատ!K11+Արմավիր!K11+Գեղարքունիք!K11+Լոռի!K11+Սյունիք!K11+Շիրակ!K11+Տավուշ!K11+Կոտայք!K11+'Երևան '!K11) -> 0 | ... AB11: =SUM(Արագածոտն!AB11+Արարատ!AB11+Արմավիր!AB11+Գեղարքունիք!AB11+Լոռի!AB11+Սյունիք!AB11+Շիրակ!AB11+Տավուշ!AB11+Կոտայք!AB11+'Երևան '!AB11) -> 0 | AC11: =D11+F11 -> 0 | AD11: =E11+G11 -> 0 | AE11: =F11+H11 -> 0 | AF11: =G11+I11 -> 0 | AG11: =H11+J11 -> 0 | AH11: =I11+K11 -> 0 | AI11: =J11+L11 -> 0 | AJ11: =K11+M11 -> 0 | ... AL11: =M11+O11 -> 0
A12: 1.6 | B12: Սեփականության կամ այլ իրավունքների դեմ ուղղված պատերազմական հանցագործությունները | C12: 138 | D12: =SUM(Արագածոտն!D12+Արարատ!D12+Արմավիր!D12+Գեղարքունիք!D12+Լոռի!D12+Սյունիք!D12+Շիրակ!D12+Տավուշ!D12+Կոտայք!D12+'Երևան '!D12) -> 0 | E12: =SUM(Արագածոտն!E12+Արարատ!E12+Արմավիր!E12+Գեղարքունիք!E12+Լոռի!E12+Սյունիք!E12+Շիրակ!E12+Տավուշ!E12+Կոտայք!E12+'Երևան '!E12) -> 0 | F12: =SUM(Արագածոտն!F12+Արարատ!F12+Արմավիր!F12+Գեղարքունիք!F12+Լոռի!F12+Սյունիք!F12+Շիրակ!F12+Տավուշ!F12+Կոտայք!F12+'Երևան '!F12) -> 0 | G12: =SUM(Արագածոտն!G12+Արարատ!G12+Արմավիր!G12+Գեղարքունիք!G12+Լոռի!G12+Սյունիք!G12+Շիրակ!G12+Տավուշ!G12+Կոտայք!G12+'Երևան '!G12) -> 0 | H12: =SUM(Արագածոտն!H12+Արարատ!H12+Արմավիր!H12+Գեղարքունիք!H12+Լոռի!H12+Սյունիք!H12+Շիրակ!H12+Տավուշ!H12+Կոտայք!H12+'Երևան '!H12) -> 0 | I12: =SUM(Արագածոտն!I12+Արարատ!I12+Արմավիր!I12+Գեղարքունիք!I12+Լոռի!I12+Սյունիք!I12+Շիրակ!I12+Տավուշ!I12+Կոտայք!I12+'Երևան '!I12) -> 0 | J12: =SUM(Արագածոտն!J12+Արարատ!J12+Արմավիր!J12+Գեղարքունիք!J12+Լոռի!J12+Սյունիք!J12+Շիրակ!J12+Տավուշ!J12+Կոտայք!J12+'Երևան '!J12) -> 0 | K12: =SUM(Արագածոտն!K12+Արարատ!K12+Արմավիր!K12+Գեղարքունիք!K12+Լոռի!K12+Սյունիք!K12+Շիրակ!K12+Տավուշ!K12+Կոտայք!K12+'Երևան '!K12) -> 0 | ... AB12: =SUM(Արագածոտն!AB12+Արարատ!AB12+Արմավիր!AB12+Գեղարքունիք!AB12+Լոռի!AB12+Սյունիք!AB12+Շիրակ!AB12+Տավուշ!AB12+Կոտայք!AB12+'Երևան '!AB12) -> 0 | AC12: =D12+F12 -> 0 | AD12: =E12+G12 -> 0 | AE12: =F12+H12 -> 0 | AF12: =G12+I12 -> 0 | AG12: =H12+J12 -> 0 | AH12: =I12+K12 -> 0 | AI12: =J12+L12 -> 0 | AJ12: =K12+M12 -> 0 | ... AL12: =M12+O12 -> 0
A13: 1.7 | B13: Մարդասիրական օգնության ցուցաբերման կամ տարբերանշանների դեմ ուղղված պատերազմական հանցագործությունները | C13: 139 | D13: =SUM(Արագածոտն!D13+Արարատ!D13+Արմավիր!D13+Գեղարքունիք!D13+Լոռի!D13+Սյունիք!D13+Շիրակ!D13+Տավուշ!D13+Կոտայք!D13+'Երևան '!D13) -> 0 | E13: =SUM(Արագածոտն!E13+Արարատ!E13+Արմավիր!E13+Գեղարքունիք!E13+Լոռի!E13+Սյունիք!E13+Շիրակ!E13+Տավուշ!E13+Կոտայք!E13+'Երևան '!E13) -> 0 | F13: =SUM(Արագածոտն!F13+Արարատ!F13+Արմավիր!F13+Գեղարքունիք!F13+Լոռի!F13+Սյունիք!F13+Շիրակ!F13+Տավուշ!F13+Կոտայք!F13+'Երևան '!F13) -> 0 | G13: =SUM(Արագածոտն!G13+Արարատ!G13+Արմավիր!G13+Գեղարքունիք!G13+Լոռի!G13+Սյունիք!G13+Շիրակ!G13+Տավուշ!G13+Կոտայք!G13+'Երևան '!G13) -> 0 | H13: =SUM(Արագածոտն!H13+Արարատ!H13+Արմավիր!H13+Գեղարքունիք!H13+Լոռի!H13+Սյունիք!H13+Շիրակ!H13+Տավուշ!H13+Կոտայք!H13+'Երևան '!H13) -> 0 | I13: =SUM(Արագածոտն!I13+Արարատ!I13+Արմավիր!I13+Գեղարքունիք!I13+Լոռի!I13+Սյունիք!I13+Շիրակ!I13+Տավուշ!I13+Կոտայք!I13+'Երևան '!I13) -> 0 | J13: =SUM(Արագածոտն!J13+Արարատ!J13+Արմավիր!J13+Գեղարքունիք!J13+Լոռի!J13+Սյունիք!J13+Շիրակ!J13+Տավուշ!J13+Կոտայք!J13+'Երևան '!J13) -> 0 | K13: =SUM(Արագածոտն!K13+Արարատ!K13+Արմավիր!K13+Գեղարքունիք!K13+Լոռի!K13+Սյունիք!K13+Շիրակ!K13+Տավուշ!K13+Կոտայք!K13+'Երևան '!K13) -> 0 | ... AB13: =SUM(Արագածոտն!AB13+Արարատ!AB13+Արմավիր!AB13+Գեղարքունիք!AB13+Լոռի!AB13+Սյունիք!AB13+Շիրակ!AB13+Տավուշ!AB13+Կոտայք!AB13+'Երևան '!AB13) -> 0 | AC13: =D13+F13 -> 0 | AD13: =E13+G13 -> 0 | AE13: =F13+H13 -> 0 | AF13: =G13+I13 -> 0 | AG13: =H13+J13 -> 0 | AH13: =I13+K13 -> 0 | AI13: =J13+L13 -> 0 | AJ13: =K13+M13 -> 0 | ... AL13: =M13+O13 -> 0
A14: 1.8 | B14: Պատերազմ վարելու արգելված եղանակների կիրառմամբ պատերազմական հանցագործությունները | C14: 140 | D14: =SUM(Արագածոտն!D14+Արարատ!D14+Արմավիր!D14+Գեղարքունիք!D14+Լոռի!D14+Սյունիք!D14+Շիրակ!D14+Տավուշ!D14+Կոտայք!D14+'Երևան '!D14) -> 0 | E14: =SUM(Արագածոտն!E14+Արարատ!E14+Արմավիր!E14+Գեղարքունիք!E14+Լոռի!E14+Սյունիք!E14+Շիրակ!E14+Տավուշ!E14+Կոտայք!E14+'Երևան '!E14) -> 0 | F14: =SUM(Արագածոտն!F14+Արարատ!F14+Արմավիր!F14+Գեղարքունիք!F14+Լոռի!F14+Սյունիք!F14+Շիրակ!F14+Տավուշ!F14+Կոտայք!F14+'Երևան '!F14) -> 0 | G14: =SUM(Արագածոտն!G14+Արարատ!G14+Արմավիր!G14+Գեղարքունիք!G14+Լոռի!G14+Սյունիք!G14+Շիրակ!G14+Տավուշ!G14+Կոտայք!G14+'Երևան '!G14) -> 0 | H14: =SUM(Արագածոտն!H14+Արարատ!H14+Արմավիր!H14+Գեղարքունիք!H14+Լոռի!H14+Սյունիք!H14+Շիրակ!H14+Տավուշ!H14+Կոտայք!H14+'Երևան '!H14) -> 0 | I14: =SUM(Արագածոտն!I14+Արարատ!I14+Արմավիր!I14+Գեղարքունիք!I14+Լոռի!I14+Սյունիք!I14+Շիրակ!I14+Տավուշ!I14+Կոտայք!I14+'Երևան '!I14) -> 0 | J14: =SUM(Արագածոտն!J14+Արարատ!J14+Արմավիր!J14+Գեղարքունիք!J14+Լոռի!J14+Սյունիք!J14+Շիրակ!J14+Տավուշ!J14+Կոտայք!J14+'Երևան '!J14) -> 0 | K14: =SUM(Արագածոտն!K14+Արարատ!K14+Արմավիր!K14+Գեղարքունիք!K14+Լոռի!K14+Սյունիք!K14+Շիրակ!K14+Տավուշ!K14+Կոտայք!K14+'Երևան '!K14) -> 0 | ... AB14: =SUM(Արագածոտն!AB14+Արարատ!AB14+Արմավիր!AB14+Գեղարքունիք!AB14+Լոռի!AB14+Սյունիք!AB14+Շիրակ!AB14+Տավուշ!AB14+Կոտայք!AB14+'Երևան '!AB14) -> 0 | AC14: =D14+F14 -> 0 | AD14: =E14+G14 -> 0 | AE14: =F14+H14 -> 0 | AF14: =G14+I14 -> 0 | AG14: =H14+J14 -> 0 | AH14: =I14+K14 -> 0 | AI14: =J14+L14 -> 0 | AJ14: =K14+M14 -> 0 | ... AL14: =M14+O14 -> 0
A15: 1.9 | B15: Պատերազմ վարելու արգելված միջոցների կիրառմամբ պատերազմական հանցագործությունները | C15: 141 | D15: =SUM(Արագածոտն!D15+Արարատ!D15+Արմավիր!D15+Գեղարքունիք!D15+Լոռի!D15+Սյունիք!D15+Շիրակ!D15+Տավուշ!D15+Կոտայք!D15+'Երևան '!D15) -> 0 | E15: =SUM(Արագածոտն!E15+Արարատ!E15+Արմավիր!E15+Գեղարքունիք!E15+Լոռի!E15+Սյունիք!E15+Շիրակ!E15+Տավուշ!E15+Կոտայք!E15+'Երևան '!E15) -> 0 | F15: =SUM(Արագածոտն!F15+Արարատ!F15+Արմավիր!F15+Գեղարքունիք!F15+Լոռի!F15+Սյունիք!F15+Շիրակ!F15+Տավուշ!F15+Կոտայք!F15+'Երևան '!F15) -> 0 | G15: =SUM(Արագածոտն!G15+Արարատ!G15+Արմավիր!G15+Գեղարքունիք!G15+Լոռի!G15+Սյունիք!G15+Շիրակ!G15+Տավուշ!G15+Կոտայք!G15+'Երևան '!G15) -> 0 | H15: =SUM(Արագածոտն!H15+Արարատ!H15+Արմավիր!H15+Գեղարքունիք!H15+Լոռի!H15+Սյունիք!H15+Շիրակ!H15+Տավուշ!H15+Կոտայք!H15+'Երևան '!H15) -> 0 | I15: =SUM(Արագածոտն!I15+Արարատ!I15+Արմավիր!I15+Գեղարքունիք!I15+Լոռի!I15+Սյունիք!I15+Շիրակ!I15+Տավուշ!I15+Կոտայք!I15+'Երևան '!I15) -> 0 | J15: =SUM(Արագածոտն!J15+Արարատ!J15+Արմավիր!J15+Գեղարքունիք!J15+Լոռի!J15+Սյունիք!J15+Շիրակ!J15+Տավուշ!J15+Կոտայք!J15+'Երևան '!J15) -> 0 | K15: =SUM(Արագածոտն!K15+Արարատ!K15+Արմավիր!K15+Գեղարքունիք!K15+Լոռի!K15+Սյունիք!K15+Շիրակ!K15+Տավուշ!K15+Կոտայք!K15+'Երևան '!K15) -> 0 | ... AB15: =SUM(Արագածոտն!AB15+Արարատ!AB15+Արմավիր!AB15+Գեղարքունիք!AB15+Լոռի!AB15+Սյունիք!AB15+Շիրակ!AB15+Տավուշ!AB15+Կոտայք!AB15+'Երևան '!AB15) -> 0 | AC15: =D15+F15 -> 0 | AD15: =E15+G15 -> 0 | AE15: =F15+H15 -> 0 | AF15: =G15+I15 -> 0 | AG15: =H15+J15 -> 0 | AH15: =I15+K15 -> 0 | AI15: =J15+L15 -> 0 | AJ15: =K15+M15 -> 0 | ... AL15: =M15+O15 -> 0
A16: 1.10 | B16: Դիակապտությունը | C16: 142 | D16: =SUM(Արագածոտն!D16+Արարատ!D16+Արմավիր!D16+Գեղարքունիք!D16+Լոռի!D16+Սյունիք!D16+Շիրակ!D16+Տավուշ!D16+Կոտայք!D16+'Երևան '!D16) -> 0 | E16: =SUM(Արագածոտն!E16+Արարատ!E16+Արմավիր!E16+Գեղարքունիք!E16+Լոռի!E16+Սյունիք!E16+Շիրակ!E16+Տավուշ!E16+Կոտայք!E16+'Երևան '!E16) -> 0 | F16: =SUM(Արագածոտն!F16+Արարատ!F16+Արմավիր!F16+Գեղարքունիք!F16+Լոռի!F16+Սյունիք!F16+Շիրակ!F16+Տավուշ!F16+Կոտայք!F16+'Երևան '!F16) -> 0 | G16: =SUM(Արագածոտն!G16+Արարատ!G16+Արմավիր!G16+Գեղարքունիք!G16+Լոռի!G16+Սյունիք!G16+Շիրակ!G16+Տավուշ!G16+Կոտայք!G16+'Երևան '!G16) -> 0 | H16: =SUM(Արագածոտն!H16+Արարատ!H16+Արմավիր!H16+Գեղարքունիք!H16+Լոռի!H16+Սյունիք!H16+Շիրակ!H16+Տավուշ!H16+Կոտայք!H16+'Երևան '!H16) -> 0 | I16: =SUM(Արագածոտն!I16+Արարատ!I16+Արմավիր!I16+Գեղարքունիք!I16+Լոռի!I16+Սյունիք!I16+Շիրակ!I16+Տավուշ!I16+Կոտայք!I16+'Երևան '!I16) -> 0 | J16: =SUM(Արագածոտն!J16+Արարատ!J16+Արմավիր!J16+Գեղարքունիք!J16+Լոռի!J16+Սյունիք!J16+Շիրակ!J16+Տավուշ!J16+Կոտայք!J16+'Երևան '!J16) -> 0 | K16: =SUM(Արագածոտն!K16+Արարատ!K16+Արմավիր!K16+Գեղարքունիք!K16+Լոռի!K16+Սյունիք!K16+Շիրակ!K16+Տավուշ!K16+Կոտայք!K16+'Երևան '!K16) -> 0 | ... AB16: =SUM(Արագածոտն!AB16+Արարատ!AB16+Արմավիր!AB16+Գեղարքունիք!AB16+Լոռի!AB16+Սյունիք!AB16+Շիրակ!AB16+Տավուշ!AB16+Կոտայք!AB16+'Երևան '!AB16) -> 0 | AC16: =D16+F16 -> 0 | AD16: =E16+G16 -> 0 | AE16: =F16+H16 -> 0 | AF16: =G16+I16 -> 0 | AG16: =H16+J16 -> 0 | AH16: =I16+K16 -> 0 | AI16: =J16+L16 -> 0 | AJ16: =K16+M16 -> 0 | ... AL16: =M16+O16 -> 0
A17: 1.11 | B17: Մարտադաշտում սպանվածների դիակներն անարգելը | C17: 143 | D17: =SUM(Արագածոտն!D17+Արարատ!D17+Արմավիր!D17+Գեղարքունիք!D17+Լոռի!D17+Սյունիք!D17+Շիրակ!D17+Տավուշ!D17+Կոտայք!D17+'Երևան '!D17) -> 0 | E17: =SUM(Արագածոտն!E17+Արարատ!E17+Արմավիր!E17+Գեղարքունիք!E17+Լոռի!E17+Սյունիք!E17+Շիրակ!E17+Տավուշ!E17+Կոտայք!E17+'Երևան '!E17) -> 0 | F17: =SUM(Արագածոտն!F17+Արարատ!F17+Արմավիր!F17+Գեղարքունիք!F17+Լոռի!F17+Սյունիք!F17+Շիրակ!F17+Տավուշ!F17+Կոտայք!F17+'Երևան '!F17) -> 0 | G17: =SUM(Արագածոտն!G17+Արարատ!G17+Արմավիր!G17+Գեղարքունիք!G17+Լոռի!G17+Սյունիք!G17+Շիրակ!G17+Տավուշ!G17+Կոտայք!G17+'Երևան '!G17) -> 0 | H17: =SUM(Արագածոտն!H17+Արարատ!H17+Արմավիր!H17+Գեղարքունիք!H17+Լոռի!H17+Սյունիք!H17+Շիրակ!H17+Տավուշ!H17+Կոտայք!H17+'Երևան '!H17) -> 0 | I17: =SUM(Արագածոտն!I17+Արարատ!I17+Արմավիր!I17+Գեղարքունիք!I17+Լոռի!I17+Սյունիք!I17+Շիրակ!I17+Տավուշ!I17+Կոտայք!I17+'Երևան '!I17) -> 0 | J17: =SUM(Արագածոտն!J17+Արարատ!J17+Արմավիր!J17+Գեղարքունիք!J17+Լոռի!J17+Սյունիք!J17+Շիրակ!J17+Տավուշ!J17+Կոտայք!J17+'Երևան '!J17) -> 0 | K17: =SUM(Արագածոտն!K17+Արարատ!K17+Արմավիր!K17+Գեղարքունիք!K17+Լոռի!K17+Սյունիք!K17+Շիրակ!K17+Տավուշ!K17+Կոտայք!K17+'Երևան '!K17) -> 0 | ... AB17: =SUM(Արագածոտն!AB17+Արարատ!AB17+Արմավիր!AB17+Գեղարքունիք!AB17+Լոռի!AB17+Սյունիք!AB17+Շիրակ!AB17+Տավուշ!AB17+Կոտայք!AB17+'Երևան '!AB17) -> 0 | AC17: =D17+F17 -> 0 | AD17: =E17+G17 -> 0 | AE17: =F17+H17 -> 0 | AF17: =G17+I17 -> 0 | AG17: =H17+J17 -> 0 | AH17: =I17+K17 -> 0 | AI17: =J17+L17 -> 0 | AJ17: =K17+M17 -> 0 | ... AL17: =M17+O17 -> 0
A18: 1.12 | B18: Զինված ընդհարման ժամանակ մշակութային արժեքները ոչնչացնելը, վնասելը, հափշտակելը կամ առգրավելը կամ դրանց նպատակային նշանակությունը փոփոխելը | C18: 144 | D18: =SUM(Արագածոտն!D18+Արարատ!D18+Արմավիր!D18+Գեղարքունիք!D18+Լոռի!D18+Սյունիք!D18+Շիրակ!D18+Տավուշ!D18+Կոտայք!D18+'Երևան '!D18) -> 0 | E18: =SUM(Արագածոտն!E18+Արարատ!E18+Արմավիր!E18+Գեղարքունիք!E18+Լոռի!E18+Սյունիք!E18+Շիրակ!E18+Տավուշ!E18+Կոտայք!E18+'Երևան '!E18) -> 0 | F18: =SUM(Արագածոտն!F18+Արարատ!F18+Արմավիր!F18+Գեղարքունիք!F18+Լոռի!F18+Սյունիք!F18+Շիրակ!F18+Տավուշ!F18+Կոտայք!F18+'Երևան '!F18) -> 0 | G18: =SUM(Արագածոտն!G18+Արարատ!G18+Արմավիր!G18+Գեղարքունիք!G18+Լոռի!G18+Սյունիք!G18+Շիրակ!G18+Տավուշ!G18+Կոտայք!G18+'Երևան '!G18) -> 0 | H18: =SUM(Արագածոտն!H18+Արարատ!H18+Արմավիր!H18+Գեղարքունիք!H18+Լոռի!H18+Սյունիք!H18+Շիրակ!H18+Տավուշ!H18+Կոտայք!H18+'Երևան '!H18) -> 0 | I18: =SUM(Արագածոտն!I18+Արարատ!I18+Արմավիր!I18+Գեղարքունիք!I18+Լոռի!I18+Սյունիք!I18+Շիրակ!I18+Տավուշ!I18+Կոտայք!I18+'Երևան '!I18) -> 0 | J18: =SUM(Արագածոտն!J18+Արարատ!J18+Արմավիր!J18+Գեղարքունիք!J18+Լոռի!J18+Սյունիք!J18+Շիրակ!J18+Տավուշ!J18+Կոտայք!J18+'Երևան '!J18) -> 0 | K18: =SUM(Արագածոտն!K18+Արարատ!K18+Արմավիր!K18+Գեղարքունիք!K18+Լոռի!K18+Սյունիք!K18+Շիրակ!K18+Տավուշ!K18+Կոտայք!K18+'Երևան '!K18) -> 0 | ... AB18: =SUM(Արագածոտն!AB18+Արարատ!AB18+Արմավիր!AB18+Գեղարքունիք!AB18+Լոռի!AB18+Սյունիք!AB18+Շիրակ!AB18+Տավուշ!AB18+Կոտայք!AB18+'Երևան '!AB18) -> 0 | AC18: =D18+F18 -> 0 | AD18: =E18+G18 -> 0 | AE18: =F18+H18 -> 0 | AF18: =G18+I18 -> 0 | AG18: =H18+J18 -> 0 | AH18: =I18+K18 -> 0 | AI18: =J18+L18 -> 0 | AJ18: =K18+M18 -> 0 | ... AL18: =M18+O18 -> 0
A19: 1.13 | B19: Պատերազմի կամ զինված ընդհարման ժամանակ մշակութային արժեքների պաշտպանության կանոնները խախտելը | C19: 145 | D19: =SUM(Արագածոտն!D19+Արարատ!D19+Արմավիր!D19+Գեղարքունիք!D19+Լոռի!D19+Սյունիք!D19+Շիրակ!D19+Տավուշ!D19+Կոտայք!D19+'Երևան '!D19) -> 0 | E19: =SUM(Արագածոտն!E19+Արարատ!E19+Արմավիր!E19+Գեղարքունիք!E19+Լոռի!E19+Սյունիք!E19+Շիրակ!E19+Տավուշ!E19+Կոտայք!E19+'Երևան '!E19) -> 0 | F19: =SUM(Արագածոտն!F19+Արարատ!F19+Արմավիր!F19+Գեղարքունիք!F19+Լոռի!F19+Սյունիք!F19+Շիրակ!F19+Տավուշ!F19+Կոտայք!F19+'Երևան '!F19) -> 0 | G19: =SUM(Արագածոտն!G19+Արարատ!G19+Արմավիր!G19+Գեղարքունիք!G19+Լոռի!G19+Սյունիք!G19+Շիրակ!G19+Տավուշ!G19+Կոտայք!G19+'Երևան '!G19) -> 0 | H19: =SUM(Արագածոտն!H19+Արարատ!H19+Արմավիր!H19+Գեղարքունիք!H19+Լոռի!H19+Սյունիք!H19+Շիրակ!H19+Տավուշ!H19+Կոտայք!H19+'Երևան '!H19) -> 0 | I19: =SUM(Արագածոտն!I19+Արարատ!I19+Արմավիր!I19+Գեղարքունիք!I19+Լոռի!I19+Սյունիք!I19+Շիրակ!I19+Տավուշ!I19+Կոտայք!I19+'Երևան '!I19) -> 0 | J19: =SUM(Արագածոտն!J19+Արարատ!J19+Արմավիր!J19+Գեղարքունիք!J19+Լոռի!J19+Սյունիք!J19+Շիրակ!J19+Տավուշ!J19+Կոտայք!J19+'Երևան '!J19) -> 0 | K19: =SUM(Արագածոտն!K19+Արարատ!K19+Արմավիր!K19+Գեղարքունիք!K19+Լոռի!K19+Սյունիք!K19+Շիրակ!K19+Տավուշ!K19+Կոտայք!K19+'Երևան '!K19) -> 0 | ... AB19: =SUM(Արագածոտն!AB19+Արարատ!AB19+Արմավիր!AB19+Գեղարքունիք!AB19+Լոռի!AB19+Սյունիք!AB19+Շիրակ!AB19+Տավուշ!AB19+Կոտայք!AB19+'Երևան '!AB19) -> 0 | AC19: =D19+F19 -> 0 | AD19: =E19+G19 -> 0 | AE19: =F19+H19 -> 0 | AF19: =G19+I19 -> 0 | AG19: =H19+J19 -> 0 | AH19: =I19+K19 -> 0 | AI19: =J19+L19 -> 0 | AJ19: =K19+M19 -> 0 | ... AL19: =M19+O19 -> 0
A20: 1.14 | B20: Ռասայական, ազգային, էթնիկական կամ կրոնական թշնամանք հարուցելու նպատակով մշակութային արժեքները ոչնչացնելը կամ վնասելը | C20: 146 | D20: =SUM(Արագածոտն!D20+Արարատ!D20+Արմավիր!D20+Գեղարքունիք!D20+Լոռի!D20+Սյունիք!D20+Շիրակ!D20+Տավուշ!D20+Կոտայք!D20+'Երևան '!D20) -> 0 | E20: =SUM(Արագածոտն!E20+Արարատ!E20+Արմավիր!E20+Գեղարքունիք!E20+Լոռի!E20+Սյունիք!E20+Շիրակ!E20+Տավուշ!E20+Կոտայք!E20+'Երևան '!E20) -> 0 | F20: =SUM(Արագածոտն!F20+Արարատ!F20+Արմավիր!F20+Գեղարքունիք!F20+Լոռի!F20+Սյունիք!F20+Շիրակ!F20+Տավուշ!F20+Կոտայք!F20+'Երևան '!F20) -> 0 | G20: =SUM(Արագածոտն!G20+Արարատ!G20+Արմավիր!G20+Գեղարքունիք!G20+Լոռի!G20+Սյունիք!G20+Շիրակ!G20+Տավուշ!G20+Կոտայք!G20+'Երևան '!G20) -> 0 | H20: =SUM(Արագածոտն!H20+Արարատ!H20+Արմավիր!H20+Գեղարքունիք!H20+Լոռի!H20+Սյունիք!H20+Շիրակ!H20+Տավուշ!H20+Կոտայք!H20+'Երևան '!H20) -> 0 | I20: =SUM(Արագածոտն!I20+Արարատ!I20+Արմավիր!I20+Գեղարքունիք!I20+Լոռի!I20+Սյունիք!I20+Շիրակ!I20+Տավուշ!I20+Կոտայք!I20+'Երևան '!I20) -> 0 | J20: =SUM(Արագածոտն!J20+Արարատ!J20+Արմավիր!J20+Գեղարքունիք!J20+Լոռի!J20+Սյունիք!J20+Շիրակ!J20+Տավուշ!J20+Կոտայք!J20+'Երևան '!J20) -> 0 | K20: =SUM(Արագածոտն!K20+Արարատ!K20+Արմավիր!K20+Գեղարքունիք!K20+Լոռի!K20+Սյունիք!K20+Շիրակ!K20+Տավուշ!K20+Կոտայք!K20+'Երևան '!K20) -> 0 | ... AB20: =SUM(Արագածոտն!AB20+Արարատ!AB20+Արմավիր!AB20+Գեղարքունիք!AB20+Լոռի!AB20+Սյունիք!AB20+Շիրակ!AB20+Տավուշ!AB20+Կոտայք!AB20+'Երևան '!AB20) -> 0 | AC20: =D20+F20 -> 0 | AD20: =E20+G20 -> 0 | AE20: =F20+H20 -> 0 | AF20: =G20+I20 -> 0 | AG20: =H20+J20 -> 0 | AH20: =I20+K20 -> 0 | AI20: =J20+L20 -> 0 | AJ20: =K20+M20 -> 0 | ... AL20: =M20+O20 -> 0
A21: 1.15 | B21: Վարձկանությունը | C21: 147 | D21: =SUM(Արագածոտն!D21+Արարատ!D21+Արմավիր!D21+Գեղարքունիք!D21+Լոռի!D21+Սյունիք!D21+Շիրակ!D21+Տավուշ!D21+Կոտայք!D21+'Երևան '!D21) -> 0 | E21: =SUM(Արագածոտն!E21+Արարատ!E21+Արմավիր!E21+Գեղարքունիք!E21+Լոռի!E21+Սյունիք!E21+Շիրակ!E21+Տավուշ!E21+Կոտայք!E21+'Երևան '!E21) -> 0 | F21: =SUM(Արագածոտն!F21+Արարատ!F21+Արմավիր!F21+Գեղարքունիք!F21+Լոռի!F21+Սյունիք!F21+Շիրակ!F21+Տավուշ!F21+Կոտայք!F21+'Երևան '!F21) -> 0 | G21: =SUM(Արագածոտն!G21+Արարատ!G21+Արմավիր!G21+Գեղարքունիք!G21+Լոռի!G21+Սյունիք!G21+Շիրակ!G21+Տավուշ!G21+Կոտայք!G21+'Երևան '!G21) -> 0 | H21: =SUM(Արագածոտն!H21+Արարատ!H21+Արմավիր!H21+Գեղարքունիք!H21+Լոռի!H21+Սյունիք!H21+Շիրակ!H21+Տավուշ!H21+Կոտայք!H21+'Երևան '!H21) -> 0 | I21: =SUM(Արագածոտն!I21+Արարատ!I21+Արմավիր!I21+Գեղարքունիք!I21+Լոռի!I21+Սյունիք!I21+Շիրակ!I21+Տավուշ!I21+Կոտայք!I21+'Երևան '!I21) -> 0 | J21: =SUM(Արագածոտն!J21+Արարատ!J21+Արմավիր!J21+Գեղարքունիք!J21+Լոռի!J21+Սյունիք!J21+Շիրակ!J21+Տավուշ!J21+Կոտայք!J21+'Երևան '!J21) -> 0 | K21: =SUM(Արագածոտն!K21+Արարատ!K21+Արմավիր!K21+Գեղարքունիք!K21+Լոռի!K21+Սյունիք!K21+Շիրակ!K21+Տավուշ!K21+Կոտայք!K21+'Երևան '!K21) -> 0 | ... AB21: =SUM(Արագածոտն!AB21+Արարատ!AB21+Արմավիր!AB21+Գեղարքունիք!AB21+Լոռի!AB21+Սյունիք!AB21+Շիրակ!AB21+Տավուշ!AB21+Կոտայք!AB21+'Երևան '!AB21) -> 0 | AC21: =D21+F21 -> 0 | AD21: =E21+G21 -> 0 | AE21: =F21+H21 -> 0 | AF21: =G21+I21 -> 0 | AG21: =H21+J21 -> 0 | AH21: =I21+K21 -> 0 | AI21: =J21+L21 -> 0 | AJ21: =K21+M21 -> 0 | ... AL21: =M21+O21 -> 0
A22: 1.16 | B22: Անգործությունը զինված ընդհարման ժամանակ | C22: 148 | D22: =SUM(Արագածոտն!D22+Արարատ!D22+Արմավիր!D22+Գեղարքունիք!D22+Լոռի!D22+Սյունիք!D22+Շիրակ!D22+Տավուշ!D22+Կոտայք!D22+'Երևան '!D22) -> 0 | E22: =SUM(Արագածոտն!E22+Արարատ!E22+Արմավիր!E22+Գեղարքունիք!E22+Լոռի!E22+Սյունիք!E22+Շիրակ!E22+Տավուշ!E22+Կոտայք!E22+'Երևան '!E22) -> 0 | F22: =SUM(Արագածոտն!F22+Արարատ!F22+Արմավիր!F22+Գեղարքունիք!F22+Լոռի!F22+Սյունիք!F22+Շիրակ!F22+Տավուշ!F22+Կոտայք!F22+'Երևան '!F22) -> 0 | G22: =SUM(Արագածոտն!G22+Արարատ!G22+Արմավիր!G22+Գեղարքունիք!G22+Լոռի!G22+Սյունիք!G22+Շիրակ!G22+Տավուշ!G22+Կոտայք!G22+'Երևան '!G22) -> 0 | H22: =SUM(Արագածոտն!H22+Արարատ!H22+Արմավիր!H22+Գեղարքունիք!H22+Լոռի!H22+Սյունիք!H22+Շիրակ!H22+Տավուշ!H22+Կոտայք!H22+'Երևան '!H22) -> 0 | I22: =SUM(Արագածոտն!I22+Արարատ!I22+Արմավիր!I22+Գեղարքունիք!I22+Լոռի!I22+Սյունիք!I22+Շիրակ!I22+Տավուշ!I22+Կոտայք!I22+'Երևան '!I22) -> 0 | J22: =SUM(Արագածոտն!J22+Արարատ!J22+Արմավիր!J22+Գեղարքունիք!J22+Լոռի!J22+Սյունիք!J22+Շիրակ!J22+Տավուշ!J22+Կոտայք!J22+'Երևան '!J22) -> 0 | K22: =SUM(Արագածոտն!K22+Արարատ!K22+Արմավիր!K22+Գեղարքունիք!K22+Լոռի!K22+Սյունիք!K22+Շիրակ!K22+Տավուշ!K22+Կոտայք!K22+'Երևան '!K22) -> 0 | ... AB22: =SUM(Արագածոտն!AB22+Արարատ!AB22+Արմավիր!AB22+Գեղարքունիք!AB22+Լոռի!AB22+Սյունիք!AB22+Շիրակ!AB22+Տավուշ!AB22+Կոտայք!AB22+'Երևան '!AB22) -> 0 | AC22: =D22+F22 -> 0 | AD22: =E22+G22 -> 0 | AE22: =F22+H22 -> 0 | AF22: =G22+I22 -> 0 | AG22: =H22+J22 -> 0 | AH22: =I22+K22 -> 0 | AI22: =J22+L22 -> 0 | AJ22: =K22+M22 -> 0 | ... AL22: =M22+O22 -> 0
A23: 1.17 | B23: Ագրեսիան | C23: 149 | D23: =SUM(Արագածոտն!D23+Արարատ!D23+Արմավիր!D23+Գեղարքունիք!D23+Լոռի!D23+Սյունիք!D23+Շիրակ!D23+Տավուշ!D23+Կոտայք!D23+'Երևան '!D23) -> 0 | E23: =SUM(Արագածոտն!E23+Արարատ!E23+Արմավիր!E23+Գեղարքունիք!E23+Լոռի!E23+Սյունիք!E23+Շիրակ!E23+Տավուշ!E23+Կոտայք!E23+'Երևան '!E23) -> 0 | F23: =SUM(Արագածոտն!F23+Արարատ!F23+Արմավիր!F23+Գեղարքունիք!F23+Լոռի!F23+Սյունիք!F23+Շիրակ!F23+Տավուշ!F23+Կոտայք!F23+'Երևան '!F23) -> 0 | G23: =SUM(Արագածոտն!G23+Արարատ!G23+Արմավիր!G23+Գեղարքունիք!G23+Լոռի!G23+Սյունիք!G23+Շիրակ!G23+Տավուշ!G23+Կոտայք!G23+'Երևան '!G23) -> 0 | H23: =SUM(Արագածոտն!H23+Արարատ!H23+Արմավիր!H23+Գեղարքունիք!H23+Լոռի!H23+Սյունիք!H23+Շիրակ!H23+Տավուշ!H23+Կոտայք!H23+'Երևան '!H23) -> 0 | I23: =SUM(Արագածոտն!I23+Արարատ!I23+Արմավիր!I23+Գեղարքունիք!I23+Լոռի!I23+Սյունիք!I23+Շիրակ!I23+Տավուշ!I23+Կոտայք!I23+'Երևան '!I23) -> 0 | J23: =SUM(Արագածոտն!J23+Արարատ!J23+Արմավիր!J23+Գեղարքունիք!J23+Լոռի!J23+Սյունիք!J23+Շիրակ!J23+Տավուշ!J23+Կոտայք!J23+'Երևան '!J23) -> 0 | K23: =SUM(Արագածոտն!K23+Արարատ!K23+Արմավիր!K23+Գեղարքունիք!K23+Լոռի!K23+Սյունիք!K23+Շիրակ!K23+Տավուշ!K23+Կոտայք!K23+'Երևան '!K23) -> 0 | ... AB23: =SUM(Արագածոտն!AB23+Արարատ!AB23+Արմավիր!AB23+Գեղարքունիք!AB23+Լոռի!AB23+Սյունիք!AB23+Շիրակ!AB23+Տավուշ!AB23+Կոտայք!AB23+'Երևան '!AB23) -> 0 | AC23: =D23+F23 -> 0 | AD23: =E23+G23 -> 0 | AE23: =F23+H23 -> 0 | AF23: =G23+I23 -> 0 | AG23: =H23+J23 -> 0 | AH23: =I23+K23 -> 0 | AI23: =J23+L23 -> 0 | AJ23: =K23+M23 -> 0 | ... AL23: =M23+O23 -> 0
A24: 1.18 | B24: Համավարակի կամ մարդկության անվտանգությանն անմիջական սպառնալիքի իրավիճակի պայմաններում ագրեսիվ ռազմական գործողություններ նախաձեռնելը, իրականացնելը կամ դրանք չդադարեցնելը | C24: 150 | D24: =SUM(Արագածոտն!D24+Արարատ!D24+Արմավիր!D24+Գեղարքունիք!D24+Լոռի!D24+Սյունիք!D24+Շիրակ!D24+Տավուշ!D24+Կոտայք!D24+'Երևան '!D24) -> 0 | E24: =SUM(Արագածոտն!E24+Արարատ!E24+Արմավիր!E24+Գեղարքունիք!E24+Լոռի!E24+Սյունիք!E24+Շիրակ!E24+Տավուշ!E24+Կոտայք!E24+'Երևան '!E24) -> 0 | F24: =SUM(Արագածոտն!F24+Արարատ!F24+Արմավիր!F24+Գեղարքունիք!F24+Լոռի!F24+Սյունիք!F24+Շիրակ!F24+Տավուշ!F24+Կոտայք!F24+'Երևան '!F24) -> 0 | G24: =SUM(Արագածոտն!G24+Արարատ!G24+Արմավիր!G24+Գեղարքունիք!G24+Լոռի!G24+Սյունիք!G24+Շիրակ!G24+Տավուշ!G24+Կոտայք!G24+'Երևան '!G24) -> 0 | H24: =SUM(Արագածոտն!H24+Արարատ!H24+Արմավիր!H24+Գեղարքունիք!H24+Լոռի!H24+Սյունիք!H24+Շիրակ!H24+Տավուշ!H24+Կոտայք!H24+'Երևան '!H24) -> 0 | I24: =SUM(Արագածոտն!I24+Արարատ!I24+Արմավիր!I24+Գեղարքունիք!I24+Լոռի!I24+Սյունիք!I24+Շիրակ!I24+Տավուշ!I24+Կոտայք!I24+'Երևան '!I24) -> 0 | J24: =SUM(Արագածոտն!J24+Արարատ!J24+Արմավիր!J24+Գեղարքունիք!J24+Լոռի!J24+Սյունիք!J24+Շիրակ!J24+Տավուշ!J24+Կոտայք!J24+'Երևան '!J24) -> 0 | K24: =SUM(Արագածոտն!K24+Արարատ!K24+Արմավիր!K24+Գեղարքունիք!K24+Լոռի!K24+Սյունիք!K24+Շիրակ!K24+Տավուշ!K24+Կոտայք!K24+'Երևան '!K24) -> 0 | ... AB24: =SUM(Արագածոտն!AB24+Արարատ!AB24+Արմավիր!AB24+Գեղարքունիք!AB24+Լոռի!AB24+Սյունիք!AB24+Շիրակ!AB24+Տավուշ!AB24+Կոտայք!AB24+'Երևան '!AB24) -> 0 | AC24: =D24+F24 -> 0 | AD24: =E24+G24 -> 0 | AE24: =F24+H24 -> 0 | AF24: =G24+I24 -> 0 | AG24: =H24+J24 -> 0 | AH24: =I24+K24 -> 0 | AI24: =J24+L24 -> 0 | AJ24: =K24+M24 -> 0 | ... AL24: =M24+O24 -> 0
A25: 1.19 | B25: Ագրեսիա իրականացնելու ուղղակի և հրապարակային կոչերը | C25: 151 | D25: =SUM(Արագածոտն!D25+Արարատ!D25+Արմավիր!D25+Գեղարքունիք!D25+Լոռի!D25+Սյունիք!D25+Շիրակ!D25+Տավուշ!D25+Կոտայք!D25+'Երևան '!D25) -> 0 | E25: =SUM(Արագածոտն!E25+Արարատ!E25+Արմավիր!E25+Գեղարքունիք!E25+Լոռի!E25+Սյունիք!E25+Շիրակ!E25+Տավուշ!E25+Կոտայք!E25+'Երևան '!E25) -> 0 | F25: =SUM(Արագածոտն!F25+Արարատ!F25+Արմավիր!F25+Գեղարքունիք!F25+Լոռի!F25+Սյունիք!F25+Շիրակ!F25+Տավուշ!F25+Կոտայք!F25+'Երևան '!F25) -> 0 | G25: =SUM(Արագածոտն!G25+Արարատ!G25+Արմավիր!G25+Գեղարքունիք!G25+Լոռի!G25+Սյունիք!G25+Շիրակ!G25+Տավուշ!G25+Կոտայք!G25+'Երևան '!G25) -> 0 | H25: =SUM(Արագածոտն!H25+Արարատ!H25+Արմավիր!H25+Գեղարքունիք!H25+Լոռի!H25+Սյունիք!H25+Շիրակ!H25+Տավուշ!H25+Կոտայք!H25+'Երևան '!H25) -> 0 | I25: =SUM(Արագածոտն!I25+Արարատ!I25+Արմավիր!I25+Գեղարքունիք!I25+Լոռի!I25+Սյունիք!I25+Շիրակ!I25+Տավուշ!I25+Կոտայք!I25+'Երևան '!I25) -> 0 | J25: =SUM(Արագածոտն!J25+Արարատ!J25+Արմավիր!J25+Գեղարքունիք!J25+Լոռի!J25+Սյունիք!J25+Շիրակ!J25+Տավուշ!J25+Կոտայք!J25+'Երևան '!J25) -> 0 | K25: =SUM(Արագածոտն!K25+Արարատ!K25+Արմավիր!K25+Գեղարքունիք!K25+Լոռի!K25+Սյունիք!K25+Շիրակ!K25+Տավուշ!K25+Կոտայք!K25+'Երևան '!K25) -> 0 | ... AB25: =SUM(Արագածոտն!AB25+Արարատ!AB25+Արմավիր!AB25+Գեղարքունիք!AB25+Լոռի!AB25+Սյունիք!AB25+Շիրակ!AB25+Տավուշ!AB25+Կոտայք!AB25+'Երևան '!AB25) -> 0 | AC25: =D25+F25 -> 0 | AD25: =E25+G25 -> 0 | AE25: =F25+H25 -> 0 | AF25: =G25+I25 -> 0 | AG25: =H25+J25 -> 0 | AH25: =I25+K25 -> 0 | AI25: =J25+L25 -> 0 | AJ25: =K25+M25 -> 0 | ... AL25: =M25+O25 -> 0
A26: 1.20 | B26: Միջազգային ահաբեկչությունը | C26: 152 | D26: =SUM(Արագածոտն!D26+Արարատ!D26+Արմավիր!D26+Գեղարքունիք!D26+Լոռի!D26+Սյունիք!D26+Շիրակ!D26+Տավուշ!D26+Կոտայք!D26+'Երևան '!D26) -> 0 | E26: =SUM(Արագածոտն!E26+Արարատ!E26+Արմավիր!E26+Գեղարքունիք!E26+Լոռի!E26+Սյունիք!E26+Շիրակ!E26+Տավուշ!E26+Կոտայք!E26+'Երևան '!E26) -> 0 | F26: =SUM(Արագածոտն!F26+Արարատ!F26+Արմավիր!F26+Գեղարքունիք!F26+Լոռի!F26+Սյունիք!F26+Շիրակ!F26+Տավուշ!F26+Կոտայք!F26+'Երևան '!F26) -> 0 | G26: =SUM(Արագածոտն!G26+Արարատ!G26+Արմավիր!G26+Գեղարքունիք!G26+Լոռի!G26+Սյունիք!G26+Շիրակ!G26+Տավուշ!G26+Կոտայք!G26+'Երևան '!G26) -> 0 | H26: =SUM(Արագածոտն!H26+Արարատ!H26+Արմավիր!H26+Գեղարքունիք!H26+Լոռի!H26+Սյունիք!H26+Շիրակ!H26+Տավուշ!H26+Կոտայք!H26+'Երևան '!H26) -> 0 | I26: =SUM(Արագածոտն!I26+Արարատ!I26+Արմավիր!I26+Գեղարքունիք!I26+Լոռի!I26+Սյունիք!I26+Շիրակ!I26+Տավուշ!I26+Կոտայք!I26+'Երևան '!I26) -> 0 | J26: =SUM(Արագածոտն!J26+Արարատ!J26+Արմավիր!J26+Գեղարքունիք!J26+Լոռի!J26+Սյունիք!J26+Շիրակ!J26+Տավուշ!J26+Կոտայք!J26+'Երևան '!J26) -> 0 | K26: =SUM(Արագածոտն!K26+Արարատ!K26+Արմավիր!K26+Գեղարքունիք!K26+Լոռի!K26+Սյունիք!K26+Շիրակ!K26+Տավուշ!K26+Կոտայք!K26+'Երևան '!K26) -> 0 | ... AB26: =SUM(Արագածոտն!AB26+Արարատ!AB26+Արմավիր!AB26+Գեղարքունիք!AB26+Լոռի!AB26+Սյունիք!AB26+Շիրակ!AB26+Տավուշ!AB26+Կոտայք!AB26+'Երևան '!AB26) -> 0 | AC26: =D26+F26 -> 0 | AD26: =E26+G26 -> 0 | AE26: =F26+H26 -> 0 | AF26: =G26+I26 -> 0 | AG26: =H26+J26 -> 0 | AH26: =I26+K26 -> 0 | AI26: =J26+L26 -> 0 | AJ26: =K26+M26 -> 0 | ... AL26: =M26+O26 -> 0
A27: 1.21 | B27: Զանգվածային ոչնչացման զենք ստեղծելը, տրամադրելը, փորձարկելը կամ կիրառելը | C27: 153 | D27: =SUM(Արագածոտն!D27+Արարատ!D27+Արմավիր!D27+Գեղարքունիք!D27+Լոռի!D27+Սյունիք!D27+Շիրակ!D27+Տավուշ!D27+Կոտայք!D27+'Երևան '!D27) -> 0 | E27: =SUM(Արագածոտն!E27+Արարատ!E27+Արմավիր!E27+Գեղարքունիք!E27+Լոռի!E27+Սյունիք!E27+Շիրակ!E27+Տավուշ!E27+Կոտայք!E27+'Երևան '!E27) -> 0 | F27: =SUM(Արագածոտն!F27+Արարատ!F27+Արմավիր!F27+Գեղարքունիք!F27+Լոռի!F27+Սյունիք!F27+Շիրակ!F27+Տավուշ!F27+Կոտայք!F27+'Երևան '!F27) -> 0 | G27: =SUM(Արագածոտն!G27+Արարատ!G27+Արմավիր!G27+Գեղարքունիք!G27+Լոռի!G27+Սյունիք!G27+Շիրակ!G27+Տավուշ!G27+Կոտայք!G27+'Երևան '!G27) -> 0 | H27: =SUM(Արագածոտն!H27+Արարատ!H27+Արմավիր!H27+Գեղարքունիք!H27+Լոռի!H27+Սյունիք!H27+Շիրակ!H27+Տավուշ!H27+Կոտայք!H27+'Երևան '!H27) -> 0 | I27: =SUM(Արագածոտն!I27+Արարատ!I27+Արմավիր!I27+Գեղարքունիք!I27+Լոռի!I27+Սյունիք!I27+Շիրակ!I27+Տավուշ!I27+Կոտայք!I27+'Երևան '!I27) -> 0 | J27: =SUM(Արագածոտն!J27+Արարատ!J27+Արմավիր!J27+Գեղարքունիք!J27+Լոռի!J27+Սյունիք!J27+Շիրակ!J27+Տավուշ!J27+Կոտայք!J27+'Երևան '!J27) -> 0 | K27: =SUM(Արագածոտն!K27+Արարատ!K27+Արմավիր!K27+Գեղարքունիք!K27+Լոռի!K27+Սյունիք!K27+Շիրակ!K27+Տավուշ!K27+Կոտայք!K27+'Երևան '!K27) -> 0 | ... AB27: =SUM(Արագածոտն!AB27+Արարատ!AB27+Արմավիր!AB27+Գեղարքունիք!AB27+Լոռի!AB27+Սյունիք!AB27+Շիրակ!AB27+Տավուշ!AB27+Կոտայք!AB27+'Երևան '!AB27) -> 0 | AC27: =D27+F27 -> 0 | AD27: =E27+G27 -> 0 | AE27: =F27+H27 -> 0 | AF27: =G27+I27 -> 0 | AG27: =H27+J27 -> 0 | AH27: =I27+K27 -> 0 | AI27: =J27+L27 -> 0 | AJ27: =K27+M27 -> 0 | ... AL27: =M27+O27 -> 0
A28: 1.22 | B28: Էկոցիդը | C28: 154 | D28: =SUM(Արագածոտն!D28+Արարատ!D28+Արմավիր!D28+Գեղարքունիք!D28+Լոռի!D28+Սյունիք!D28+Շիրակ!D28+Տավուշ!D28+Կոտայք!D28+'Երևան '!D28) -> 0 | E28: =SUM(Արագածոտն!E28+Արարատ!E28+Արմավիր!E28+Գեղարքունիք!E28+Լոռի!E28+Սյունիք!E28+Շիրակ!E28+Տավուշ!E28+Կոտայք!E28+'Երևան '!E28) -> 0 | F28: =SUM(Արագածոտն!F28+Արարատ!F28+Արմավիր!F28+Գեղարքունիք!F28+Լոռի!F28+Սյունիք!F28+Շիրակ!F28+Տավուշ!F28+Կոտայք!F28+'Երևան '!F28) -> 0 | G28: =SUM(Արագածոտն!G28+Արարատ!G28+Արմավիր!G28+Գեղարքունիք!G28+Լոռի!G28+Սյունիք!G28+Շիրակ!G28+Տավուշ!G28+Կոտայք!G28+'Երևան '!G28) -> 0 | H28: =SUM(Արագածոտն!H28+Արարատ!H28+Արմավիր!H28+Գեղարքունիք!H28+Լոռի!H28+Սյունիք!H28+Շիրակ!H28+Տավուշ!H28+Կոտայք!H28+'Երևան '!H28) -> 0 | I28: =SUM(Արագածոտն!I28+Արարատ!I28+Արմավիր!I28+Գեղարքունիք!I28+Լոռի!I28+Սյունիք!I28+Շիրակ!I28+Տավուշ!I28+Կոտայք!I28+'Երևան '!I28) -> 0 | J28: =SUM(Արագածոտն!J28+Արարատ!J28+Արմավիր!J28+Գեղարքունիք!J28+Լոռի!J28+Սյունիք!J28+Շիրակ!J28+Տավուշ!J28+Կոտայք!J28+'Երևան '!J28) -> 0 | K28: =SUM(Արագածոտն!K28+Արարատ!K28+Արմավիր!K28+Գեղարքունիք!K28+Լոռի!K28+Սյունիք!K28+Շիրակ!K28+Տավուշ!K28+Կոտայք!K28+'Երևան '!K28) -> 0 | ... AB28: =SUM(Արագածոտն!AB28+Արարատ!AB28+Արմավիր!AB28+Գեղարքունիք!AB28+Լոռի!AB28+Սյունիք!AB28+Շիրակ!AB28+Տավուշ!AB28+Կոտայք!AB28+'Երևան '!AB28) -> 0 | AC28: =D28+F28 -> 0 | AD28: =E28+G28 -> 0 | AE28: =F28+H28 -> 0 | AF28: =G28+I28 -> 0 | AG28: =H28+J28 -> 0 | AH28: =I28+K28 -> 0 | AI28: =J28+L28 -> 0 | AJ28: =K28+M28 -> 0 | ... AL28: =M28+O28 -> 0
A29: 2 | B29: Ընդամենը մարդու կյանքի դեմ ուղղված հանցագործությունները | D29: =SUM(Արագածոտն!D29+Արարատ!D29+Արմավիր!D29+Գեղարքունիք!D29+Լոռի!D29+Սյունիք!D29+Շիրակ!D29+Տավուշ!D29+Կոտայք!D29+'Երևան '!D29) -> 105 | E29: =SUM(Արագածոտն!E29+Արարատ!E29+Արմավիր!E29+Գեղարքունիք!E29+Լոռի!E29+Սյունիք!E29+Շիրակ!E29+Տավուշ!E29+Կոտայք!E29+'Երևան '!E29) -> 0 | F29: =SUM(Արագածոտն!F29+Արարատ!F29+Արմավիր!F29+Գեղարքունիք!F29+Լոռի!F29+Սյունիք!F29+Շիրակ!F29+Տավուշ!F29+Կոտայք!F29+'Երևան '!F29) -> 47 | G29: =SUM(Արագածոտն!G29+Արարատ!G29+Արմավիր!G29+Գեղարքունիք!G29+Լոռի!G29+Սյունիք!G29+Շիրակ!G29+Տավուշ!G29+Կոտայք!G29+'Երևան '!G29) -> 0 | H29: =SUM(Արագածոտն!H29+Արարատ!H29+Արմավիր!H29+Գեղարքունիք!H29+Լոռի!H29+Սյունիք!H29+Շիրակ!H29+Տավուշ!H29+Կոտայք!H29+'Երևան '!H29) -> 1 | I29: =SUM(Արագածոտն!I29+Արարատ!I29+Արմավիր!I29+Գեղարքունիք!I29+Լոռի!I29+Սյունիք!I29+Շիրակ!I29+Տավուշ!I29+Կոտայք!I29+'Երևան '!I29) -> 0 | J29: =SUM(Արագածոտն!J29+Արարատ!J29+Արմավիր!J29+Գեղարքունիք!J29+Լոռի!J29+Սյունիք!J29+Շիրակ!J29+Տավուշ!J29+Կոտայք!J29+'Երևան '!J29) -> 5 | K29: =SUM(Արագածոտն!K29+Արարատ!K29+Արմավիր!K29+Գեղարքունիք!K29+Լոռի!K29+Սյունիք!K29+Շիրակ!K29+Տավուշ!K29+Կոտայք!K29+'Երևան '!K29) -> 10 | ... AB29: =SUM(Արագածոտն!AB29+Արարատ!AB29+Արմավիր!AB29+Գեղարքունիք!AB29+Լոռի!AB29+Սյունիք!AB29+Շիրակ!AB29+Տավուշ!AB29+Կոտայք!AB29+'Երևան '!AB29) -> 2 | AC29: =SUM(AC30:AC40) -> 152 | AD29: =+U29+S29+N29 -> 149 | AE29: =SUM(AE30:AE40) -> 11 | AF29: =SUM(AF30:AF40) -> 11 | AG29: =SUM(AG30:AG40) -> 0 | AH29: =SUM(AH30:AH40) -> 0 | AI29: =SUM(AI30:AI40) -> 34 | AJ29: =SUM(AJ30:AJ40) -> 34 | AK29: =SUM(AK30:AK40) -> 2 | AL29: =SUM(AL30:AL40) -> 2
A30: 2.1 | B30: Սպանությունը | C30: 155 | D30: =SUM(Արագածոտն!D30+Արարատ!D30+Արմավիր!D30+Գեղարքունիք!D30+Լոռի!D30+Սյունիք!D30+Շիրակ!D30+Տավուշ!D30+Կոտայք!D30+'Երևան '!D30) -> 100 | E30: =SUM(Արագածոտն!E30+Արարատ!E30+Արմավիր!E30+Գեղարքունիք!E30+Լոռի!E30+Սյունիք!E30+Շիրակ!E30+Տավուշ!E30+Կոտայք!E30+'Երևան '!E30) -> 0 | F30: =SUM(Արագածոտն!F30+Արարատ!F30+Արմավիր!F30+Գեղարքունիք!F30+Լոռի!F30+Սյունիք!F30+Շիրակ!F30+Տավուշ!F30+Կոտայք!F30+'Երևան '!F30) -> 44 | G30: =SUM(Արագածոտն!G30+Արարատ!G30+Արմավիր!G30+Գեղարքունիք!G30+Լոռի!G30+Սյունիք!G30+Շիրակ!G30+Տավուշ!G30+Կոտայք!G30+'Երևան '!G30) -> 0 | H30: =SUM(Արագածոտն!H30+Արարատ!H30+Արմավիր!H30+Գեղարքունիք!H30+Լոռի!H30+Սյունիք!H30+Շիրակ!H30+Տավուշ!H30+Կոտայք!H30+'Երևան '!H30) -> 0 | I30: =SUM(Արագածոտն!I30+Արարատ!I30+Արմավիր!I30+Գեղարքունիք!I30+Լոռի!I30+Սյունիք!I30+Շիրակ!I30+Տավուշ!I30+Կոտայք!I30+'Երևան '!I30) -> 0 | J30: =SUM(Արագածոտն!J30+Արարատ!J30+Արմավիր!J30+Գեղարքունիք!J30+Լոռի!J30+Սյունիք!J30+Շիրակ!J30+Տավուշ!J30+Կոտայք!J30+'Երևան '!J30) -> 5 | K30: =SUM(Արագածոտն!K30+Արարատ!K30+Արմավիր!K30+Գեղարքունիք!K30+Լոռի!K30+Սյունիք!K30+Շիրակ!K30+Տավուշ!K30+Կոտայք!K30+'Երևան '!K30) -> 8 | ... AB30: =SUM(Արագածոտն!AB30+Արարատ!AB30+Արմավիր!AB30+Գեղարքունիք!AB30+Լոռի!AB30+Սյունիք!AB30+Շիրակ!AB30+Տավուշ!AB30+Կոտայք!AB30+'Երևան '!AB30) -> 2 | AC30: =D30+F30 -> 144 | AD30: =+U30+S30+N30 -> 141 | AE30: =N30 -> 9 | AF30: =SUM(K30:M30) -> 9 | AG30: =R30 -> 0 | AH30: =SUM(O30:Q30) -> 0 | AI30: =Y30 -> 33 | AJ30: =SUM(W30:X30) -> 33 | AK30: =AB30 -> 2 | AL30: =SUM(Z30:AA30) -> 2
A31: 2.2 | B31: Հոգեկան խիստ հուզմունքի վիճակում կատարված սպանությունը | C31: 156 | D31: =SUM(Արագածոտն!D31+Արարատ!D31+Արմավիր!D31+Գեղարքունիք!D31+Լոռի!D31+Սյունիք!D31+Շիրակ!D31+Տավուշ!D31+Կոտայք!D31+'Երևան '!D31) -> 0 | E31: =SUM(Արագածոտն!E31+Արարատ!E31+Արմավիր!E31+Գեղարքունիք!E31+Լոռի!E31+Սյունիք!E31+Շիրակ!E31+Տավուշ!E31+Կոտայք!E31+'Երևան '!E31) -> 0 | F31: =SUM(Արագածոտն!F31+Արարատ!F31+Արմավիր!F31+Գեղարքունիք!F31+Լոռի!F31+Սյունիք!F31+Շիրակ!F31+Տավուշ!F31+Կոտայք!F31+'Երևան '!F31) -> 0 | G31: =SUM(Արագածոտն!G31+Արարատ!G31+Արմավիր!G31+Գեղարքունիք!G31+Լոռի!G31+Սյունիք!G31+Շիրակ!G31+Տավուշ!G31+Կոտայք!G31+'Երևան '!G31) -> 0 | H31: =SUM(Արագածոտն!H31+Արարատ!H31+Արմավիր!H31+Գեղարքունիք!H31+Լոռի!H31+Սյունիք!H31+Շիրակ!H31+Տավուշ!H31+Կոտայք!H31+'Երևան '!H31) -> 0 | I31: =SUM(Արագածոտն!I31+Արարատ!I31+Արմավիր!I31+Գեղարքունիք!I31+Լոռի!I31+Սյունիք!I31+Շիրակ!I31+Տավուշ!I31+Կոտայք!I31+'Երևան '!I31) -> 0 | J31: =SUM(Արագածոտն!J31+Արարատ!J31+Արմավիր!J31+Գեղարքունիք!J31+Լոռի!J31+Սյունիք!J31+Շիրակ!J31+Տավուշ!J31+Կոտայք!J31+'Երևան '!J31) -> 0 | K31: =SUM(Արագածոտն!K31+Արարատ!K31+Արմավիր!K31+Գեղարքունիք!K31+Լոռի!K31+Սյունիք!K31+Շիրակ!K31+Տավուշ!K31+Կոտայք!K31+'Երևան '!K31) -> 0 | ... AB31: =SUM(Արագածոտն!AB31+Արարատ!AB31+Արմավիր!AB31+Գեղարքունիք!AB31+Լոռի!AB31+Սյունիք!AB31+Շիրակ!AB31+Տավուշ!AB31+Կոտայք!AB31+'Երևան '!AB31) -> 0 | AC31: =D31+F31 -> 0 | AD31: =+U31+S31+N31 -> 0 | AE31: =N31 -> 0 | AF31: =SUM(K31:M31) -> 0 | AG31: =R31 -> 0 | AH31: =SUM(O31:Q31) -> 0 | AI31: =Y31 -> 0 | AJ31: =SUM(W31:X31) -> 0 | AK31: =AB31 -> 0 | AL31: =SUM(Z31:AA31) -> 0
A32: 2.3 | B32: Ծննդկանի կամ ծննդաբերի կողմից երեխայի սպանությունը | C32: 157 | D32: =SUM(Արագածոտն!D32+Արարատ!D32+Արմավիր!D32+Գեղարքունիք!D32+Լոռի!D32+Սյունիք!D32+Շիրակ!D32+Տավուշ!D32+Կոտայք!D32+'Երևան '!D32) -> 0 | E32: =SUM(Արագածոտն!E32+Արարատ!E32+Արմավիր!E32+Գեղարքունիք!E32+Լոռի!E32+Սյունիք!E32+Շիրակ!E32+Տավուշ!E32+Կոտայք!E32+'Երևան '!E32) -> 0 | F32: =SUM(Արագածոտն!F32+Արարատ!F32+Արմավիր!F32+Գեղարքունիք!F32+Լոռի!F32+Սյունիք!F32+Շիրակ!F32+Տավուշ!F32+Կոտայք!F32+'Երևան '!F32) -> 1 | G32: =SUM(Արագածոտն!G32+Արարատ!G32+Արմավիր!G32+Գեղարքունիք!G32+Լոռի!G32+Սյունիք!G32+Շիրակ!G32+Տավուշ!G32+Կոտայք!G32+'Երևան '!G32) -> 0 | H32: =SUM(Արագածոտն!H32+Արարատ!H32+Արմավիր!H32+Գեղարքունիք!H32+Լոռի!H32+Սյունիք!H32+Շիրակ!H32+Տավուշ!H32+Կոտայք!H32+'Երևան '!H32) -> 0 | I32: =SUM(Արագածոտն!I32+Արարատ!I32+Արմավիր!I32+Գեղարքունիք!I32+Լոռի!I32+Սյունիք!I32+Շիրակ!I32+Տավուշ!I32+Կոտայք!I32+'Երևան '!I32) -> 0 | J32: =SUM(Արագածոտն!J32+Արարատ!J32+Արմավիր!J32+Գեղարքունիք!J32+Լոռի!J32+Սյունիք!J32+Շիրակ!J32+Տավուշ!J32+Կոտայք!J32+'Երևան '!J32) -> 0 | K32: =SUM(Արագածոտն!K32+Արարատ!K32+Արմավիր!K32+Գեղարքունիք!K32+Լոռի!K32+Սյունիք!K32+Շիրակ!K32+Տավուշ!K32+Կոտայք!K32+'Երևան '!K32) -> 0 | ... AB32: =SUM(Արագածոտն!AB32+Արարատ!AB32+Արմավիր!AB32+Գեղարքունիք!AB32+Լոռի!AB32+Սյունիք!AB32+Շիրակ!AB32+Տավուշ!AB32+Կոտայք!AB32+'Երևան '!AB32) -> 0 | AC32: =D32+F32 -> 1 | AD32: =+U32+S32+N32 -> 1 | AE32: =N32 -> 0 | AF32: =SUM(K32:M32) -> 0 | AG32: =R32 -> 0 | AH32: =SUM(O32:Q32) -> 0 | AI32: =Y32 -> 0 | AJ32: =SUM(W32:X32) -> 0 | AK32: =AB32 -> 0 | AL32: =SUM(Z32:AA32) -> 0
A33: 2.4 | B33: Ծննդկանի կամ ծննդաբերի կողմից երեխայի սպանությանը հանցակցելը | C33: 158 | D33: =SUM(Արագածոտն!D33+Արարատ!D33+Արմավիր!D33+Գեղարքունիք!D33+Լոռի!D33+Սյունիք!D33+Շիրակ!D33+Տավուշ!D33+Կոտայք!D33+'Երևան '!D33) -> 0 | E33: =SUM(Արագածոտն!E33+Արարատ!E33+Արմավիր!E33+Գեղարքունիք!E33+Լոռի!E33+Սյունիք!E33+Շիրակ!E33+Տավուշ!E33+Կոտայք!E33+'Երևան '!E33) -> 0 | F33: =SUM(Արագածոտն!F33+Արարատ!F33+Արմավիր!F33+Գեղարքունիք!F33+Լոռի!F33+Սյունիք!F33+Շիրակ!F33+Տավուշ!F33+Կոտայք!F33+'Երևան '!F33) -> 0 | G33: =SUM(Արագածոտն!G33+Արարատ!G33+Արմավիր!G33+Գեղարքունիք!G33+Լոռի!G33+Սյունիք!G33+Շիրակ!G33+Տավուշ!G33+Կոտայք!G33+'Երևան '!G33) -> 0 | H33: =SUM(Արագածոտն!H33+Արարատ!H33+Արմավիր!H33+Գեղարքունիք!H33+Լոռի!H33+Սյունիք!H33+Շիրակ!H33+Տավուշ!H33+Կոտայք!H33+'Երևան '!H33) -> 0 | I33: =SUM(Արագածոտն!I33+Արարատ!I33+Արմավիր!I33+Գեղարքունիք!I33+Լոռի!I33+Սյունիք!I33+Շիրակ!I33+Տավուշ!I33+Կոտայք!I33+'Երևան '!I33) -> 0 | J33: =SUM(Արագածոտն!J33+Արարատ!J33+Արմավիր!J33+Գեղարքունիք!J33+Լոռի!J33+Սյունիք!J33+Շիրակ!J33+Տավուշ!J33+Կոտայք!J33+'Երևան '!J33) -> 0 | K33: =SUM(Արագածոտն!K33+Արարատ!K33+Արմավիր!K33+Գեղարքունիք!K33+Լոռի!K33+Սյունիք!K33+Շիրակ!K33+Տավուշ!K33+Կոտայք!K33+'Երևան '!K33) -> 0 | ... AB33: =SUM(Արագածոտն!AB33+Արարատ!AB33+Արմավիր!AB33+Գեղարքունիք!AB33+Լոռի!AB33+Սյունիք!AB33+Շիրակ!AB33+Տավուշ!AB33+Կոտայք!AB33+'Երևան '!AB33) -> 0 | AC33: =D33+F33 -> 0 | AD33: =+U33+S33+N33 -> 0 | AE33: =N33 -> 0 | AF33: =SUM(K33:M33) -> 0 | AG33: =R33 -> 0 | AH33: =SUM(O33:Q33) -> 0 | AI33: =Y33 -> 0 | AJ33: =SUM(W33:X33) -> 0 | AK33: =AB33 -> 0 | AL33: =SUM(Z33:AA33) -> 0
A34: 2.5 | B34: Անհրաժեշտ պաշտպանության սահմանազանցմամբ սպանությունը | C34: 159 | D34: =SUM(Արագածոտն!D34+Արարատ!D34+Արմավիր!D34+Գեղարքունիք!D34+Լոռի!D34+Սյունիք!D34+Շիրակ!D34+Տավուշ!D34+Կոտայք!D34+'Երևան '!D34) -> 0 | E34: =SUM(Արագածոտն!E34+Արարատ!E34+Արմավիր!E34+Գեղարքունիք!E34+Լոռի!E34+Սյունիք!E34+Շիրակ!E34+Տավուշ!E34+Կոտայք!E34+'Երևան '!E34) -> 0 | F34: =SUM(Արագածոտն!F34+Արարատ!F34+Արմավիր!F34+Գեղարքունիք!F34+Լոռի!F34+Սյունիք!F34+Շիրակ!F34+Տավուշ!F34+Կոտայք!F34+'Երևան '!F34) -> 1 | G34: =SUM(Արագածոտն!G34+Արարատ!G34+Արմավիր!G34+Գեղարքունիք!G34+Լոռի!G34+Սյունիք!G34+Շիրակ!G34+Տավուշ!G34+Կոտայք!G34+'Երևան '!G34) -> 0 | H34: =SUM(Արագածոտն!H34+Արարատ!H34+Արմավիր!H34+Գեղարքունիք!H34+Լոռի!H34+Սյունիք!H34+Շիրակ!H34+Տավուշ!H34+Կոտայք!H34+'Երևան '!H34) -> 0 | I34: =SUM(Արագածոտն!I34+Արարատ!I34+Արմավիր!I34+Գեղարքունիք!I34+Լոռի!I34+Սյունիք!I34+Շիրակ!I34+Տավուշ!I34+Կոտայք!I34+'Երևան '!I34) -> 0 | J34: =SUM(Արագածոտն!J34+Արարատ!J34+Արմավիր!J34+Գեղարքունիք!J34+Լոռի!J34+Սյունիք!J34+Շիրակ!J34+Տավուշ!J34+Կոտայք!J34+'Երևան '!J34) -> 0 | K34: =SUM(Արագածոտն!K34+Արարատ!K34+Արմավիր!K34+Գեղարքունիք!K34+Լոռի!K34+Սյունիք!K34+Շիրակ!K34+Տավուշ!K34+Կոտայք!K34+'Երևան '!K34) -> 0 | ... AB34: =SUM(Արագածոտն!AB34+Արարատ!AB34+Արմավիր!AB34+Գեղարքունիք!AB34+Լոռի!AB34+Սյունիք!AB34+Շիրակ!AB34+Տավուշ!AB34+Կոտայք!AB34+'Երևան '!AB34) -> 0 | AC34: =D34+F34 -> 1 | AD34: =+U34+S34+N34 -> 1 | AE34: =N34 -> 0 | AF34: =SUM(K34:M34) -> 0 | AG34: =R34 -> 0 | AH34: =SUM(O34:Q34) -> 0 | AI34: =Y34 -> 0 | AJ34: =SUM(W34:X34) -> 0 | AK34: =AB34 -> 0 | AL34: =SUM(Z34:AA34) -> 0
A35: 2.6 | B35: Հակաիրավական ոտնձգություն կատարած անձին բռնելու համար անհրաժեշտ միջոցների սահմանազանցմամբ սպանությունը | C35: 160 | D35: =SUM(Արագածոտն!D35+Արարատ!D35+Արմավիր!D35+Գեղարքունիք!D35+Լոռի!D35+Սյունիք!D35+Շիրակ!D35+Տավուշ!D35+Կոտայք!D35+'Երևան '!D35) -> 0 | E35: =SUM(Արագածոտն!E35+Արարատ!E35+Արմավիր!E35+Գեղարքունիք!E35+Լոռի!E35+Սյունիք!E35+Շիրակ!E35+Տավուշ!E35+Կոտայք!E35+'Երևան '!E35) -> 0 | F35: =SUM(Արագածոտն!F35+Արարատ!F35+Արմավիր!F35+Գեղարքունիք!F35+Լոռի!F35+Սյունիք!F35+Շիրակ!F35+Տավուշ!F35+Կոտայք!F35+'Երևան '!F35) -> 0 | G35: =SUM(Արագածոտն!G35+Արարատ!G35+Արմավիր!G35+Գեղարքունիք!G35+Լոռի!G35+Սյունիք!G35+Շիրակ!G35+Տավուշ!G35+Կոտայք!G35+'Երևան '!G35) -> 0 | H35: =SUM(Արագածոտն!H35+Արարատ!H35+Արմավիր!H35+Գեղարքունիք!H35+Լոռի!H35+Սյունիք!H35+Շիրակ!H35+Տավուշ!H35+Կոտայք!H35+'Երևան '!H35) -> 0 | I35: =SUM(Արագածոտն!I35+Արարատ!I35+Արմավիր!I35+Գեղարքունիք!I35+Լոռի!I35+Սյունիք!I35+Շիրակ!I35+Տավուշ!I35+Կոտայք!I35+'Երևան '!I35) -> 0 | J35: =SUM(Արագածոտն!J35+Արարատ!J35+Արմավիր!J35+Գեղարքունիք!J35+Լոռի!J35+Սյունիք!J35+Շիրակ!J35+Տավուշ!J35+Կոտայք!J35+'Երևան '!J35) -> 0 | K35: =SUM(Արագածոտն!K35+Արարատ!K35+Արմավիր!K35+Գեղարքունիք!K35+Լոռի!K35+Սյունիք!K35+Շիրակ!K35+Տավուշ!K35+Կոտայք!K35+'Երևան '!K35) -> 0 | ... AB35: =SUM(Արագածոտն!AB35+Արարատ!AB35+Արմավիր!AB35+Գեղարքունիք!AB35+Լոռի!AB35+Սյունիք!AB35+Շիրակ!AB35+Տավուշ!AB35+Կոտայք!AB35+'Երևան '!AB35) -> 0 | AC35: =D35+F35 -> 0 | AD35: =+U35+S35+N35 -> 0 | AE35: =N35 -> 0 | AF35: =SUM(K35:M35) -> 0 | AG35: =R35 -> 0 | AH35: =SUM(O35:Q35) -> 0 | AI35: =Y35 -> 0 | AJ35: =SUM(W35:X35) -> 0 | AK35: =AB35 -> 0 | AL35: =SUM(Z35:AA35) -> 0
A36: 2.7 | B36: Տուժողի խնդրանքով սպանությունը | C36: 161 | D36: =SUM(Արագածոտն!D36+Արարատ!D36+Արմավիր!D36+Գեղարքունիք!D36+Լոռի!D36+Սյունիք!D36+Շիրակ!D36+Տավուշ!D36+Կոտայք!D36+'Երևան '!D36) -> 0 | E36: =SUM(Արագածոտն!E36+Արարատ!E36+Արմավիր!E36+Գեղարքունիք!E36+Լոռի!E36+Սյունիք!E36+Շիրակ!E36+Տավուշ!E36+Կոտայք!E36+'Երևան '!E36) -> 0 | F36: =SUM(Արագածոտն!F36+Արարատ!F36+Արմավիր!F36+Գեղարքունիք!F36+Լոռի!F36+Սյունիք!F36+Շիրակ!F36+Տավուշ!F36+Կոտայք!F36+'Երևան '!F36) -> 0 | G36: =SUM(Արագածոտն!G36+Արարատ!G36+Արմավիր!G36+Գեղարքունիք!G36+Լոռի!G36+Սյունիք!G36+Շիրակ!G36+Տավուշ!G36+Կոտայք!G36+'Երևան '!G36) -> 0 | H36: =SUM(Արագածոտն!H36+Արարատ!H36+Արմավիր!H36+Գեղարքունիք!H36+Լոռի!H36+Սյունիք!H36+Շիրակ!H36+Տավուշ!H36+Կոտայք!H36+'Երևան '!H36) -> 0 | I36: =SUM(Արագածոտն!I36+Արարատ!I36+Արմավիր!I36+Գեղարքունիք!I36+Լոռի!I36+Սյունիք!I36+Շիրակ!I36+Տավուշ!I36+Կոտայք!I36+'Երևան '!I36) -> 0 | J36: =SUM(Արագածոտն!J36+Արարատ!J36+Արմավիր!J36+Գեղարքունիք!J36+Լոռի!J36+Սյունիք!J36+Շիրակ!J36+Տավուշ!J36+Կոտայք!J36+'Երևան '!J36) -> 0 | K36: =SUM(Արագածոտն!K36+Արարատ!K36+Արմավիր!K36+Գեղարքունիք!K36+Լոռի!K36+Սյունիք!K36+Շիրակ!K36+Տավուշ!K36+Կոտայք!K36+'Երևան '!K36) -> 0 | ... AB36: =SUM(Արագածոտն!AB36+Արարատ!AB36+Արմավիր!AB36+Գեղարքունիք!AB36+Լոռի!AB36+Սյունիք!AB36+Շիրակ!AB36+Տավուշ!AB36+Կոտայք!AB36+'Երևան '!AB36) -> 0 | AC36: =D36+F36 -> 0 | AD36: =+U36+S36+N36 -> 0 | AE36: =N36 -> 0 | AF36: =SUM(K36:M36) -> 0 | AG36: =R36 -> 0 | AH36: =SUM(O36:Q36) -> 0 | AI36: =Y36 -> 0 | AJ36: =SUM(W36:X36) -> 0 | AK36: =AB36 -> 0 | AL36: =SUM(Z36:AA36) -> 0
A37: 2.8 | B37: Ինքնասպանության հասցնելը | C37: 162 | D37: =SUM(Արագածոտն!D37+Արարատ!D37+Արմավիր!D37+Գեղարքունիք!D37+Լոռի!D37+Սյունիք!D37+Շիրակ!D37+Տավուշ!D37+Կոտայք!D37+'Երևան '!D37) -> 2 | E37: =SUM(Արագածոտն!E37+Արարատ!E37+Արմավիր!E37+Գեղարքունիք!E37+Լոռի!E37+Սյունիք!E37+Շիրակ!E37+Տավուշ!E37+Կոտայք!E37+'Երևան '!E37) -> 0 | F37: =SUM(Արագածոտն!F37+Արարատ!F37+Արմավիր!F37+Գեղարքունիք!F37+Լոռի!F37+Սյունիք!F37+Շիրակ!F37+Տավուշ!F37+Կոտայք!F37+'Երևան '!F37) -> 0 | G37: =SUM(Արագածոտն!G37+Արարատ!G37+Արմավիր!G37+Գեղարքունիք!G37+Լոռի!G37+Սյունիք!G37+Շիրակ!G37+Տավուշ!G37+Կոտայք!G37+'Երևան '!G37) -> 0 | H37: =SUM(Արագածոտն!H37+Արարատ!H37+Արմավիր!H37+Գեղարքունիք!H37+Լոռի!H37+Սյունիք!H37+Շիրակ!H37+Տավուշ!H37+Կոտայք!H37+'Երևան '!H37) -> 0 | I37: =SUM(Արագածոտն!I37+Արարատ!I37+Արմավիր!I37+Գեղարքունիք!I37+Լոռի!I37+Սյունիք!I37+Շիրակ!I37+Տավուշ!I37+Կոտայք!I37+'Երևան '!I37) -> 0 | J37: =SUM(Արագածոտն!J37+Արարատ!J37+Արմավիր!J37+Գեղարքունիք!J37+Լոռի!J37+Սյունիք!J37+Շիրակ!J37+Տավուշ!J37+Կոտայք!J37+'Երևան '!J37) -> 0 | K37: =SUM(Արագածոտն!K37+Արարատ!K37+Արմավիր!K37+Գեղարքունիք!K37+Լոռի!K37+Սյունիք!K37+Շիրակ!K37+Տավուշ!K37+Կոտայք!K37+'Երևան '!K37) -> 1 | ... AB37: =SUM(Արագածոտն!AB37+Արարատ!AB37+Արմավիր!AB37+Գեղարքունիք!AB37+Լոռի!AB37+Սյունիք!AB37+Շիրակ!AB37+Տավուշ!AB37+Կոտայք!AB37+'Երևան '!AB37) -> 0 | AC37: =D37+F37 -> 2 | AD37: =+U37+S37+N37 -> 2 | AE37: =N37 -> 1 | AF37: =SUM(K37:M37) -> 1 | AG37: =R37 -> 0 | AH37: =SUM(O37:Q37) -> 0 | AI37: =Y37 -> 1 | AJ37: =SUM(W37:X37) -> 1 | AK37: =AB37 -> 0 | AL37: =SUM(Z37:AA37) -> 0
A38: 2.9 | B38: Ինքնասպանության հակելը | C38: 163 | D38: =SUM(Արագածոտն!D38+Արարատ!D38+Արմավիր!D38+Գեղարքունիք!D38+Լոռի!D38+Սյունիք!D38+Շիրակ!D38+Տավուշ!D38+Կոտայք!D38+'Երևան '!D38) -> 0 | E38: =SUM(Արագածոտն!E38+Արարատ!E38+Արմավիր!E38+Գեղարքունիք!E38+Լոռի!E38+Սյունիք!E38+Շիրակ!E38+Տավուշ!E38+Կոտայք!E38+'Երևան '!E38) -> 0 | F38: =SUM(Արագածոտն!F38+Արարատ!F38+Արմավիր!F38+Գեղարքունիք!F38+Լոռի!F38+Սյունիք!F38+Շիրակ!F38+Տավուշ!F38+Կոտայք!F38+'Երևան '!F38) -> 0 | G38: =SUM(Արագածոտն!G38+Արարատ!G38+Արմավիր!G38+Գեղարքունիք!G38+Լոռի!G38+Սյունիք!G38+Շիրակ!G38+Տավուշ!G38+Կոտայք!G38+'Երևան '!G38) -> 0 | H38: =SUM(Արագածոտն!H38+Արարատ!H38+Արմավիր!H38+Գեղարքունիք!H38+Լոռի!H38+Սյունիք!H38+Շիրակ!H38+Տավուշ!H38+Կոտայք!H38+'Երևան '!H38) -> 0 | I38: =SUM(Արագածոտն!I38+Արարատ!I38+Արմավիր!I38+Գեղարքունիք!I38+Լոռի!I38+Սյունիք!I38+Շիրակ!I38+Տավուշ!I38+Կոտայք!I38+'Երևան '!I38) -> 0 | J38: =SUM(Արագածոտն!J38+Արարատ!J38+Արմավիր!J38+Գեղարքունիք!J38+Լոռի!J38+Սյունիք!J38+Շիրակ!J38+Տավուշ!J38+Կոտայք!J38+'Երևան '!J38) -> 0 | K38: =SUM(Արագածոտն!K38+Արարատ!K38+Արմավիր!K38+Գեղարքունիք!K38+Լոռի!K38+Սյունիք!K38+Շիրակ!K38+Տավուշ!K38+Կոտայք!K38+'Երևան '!K38) -> 0 | ... AB38: =SUM(Արագածոտն!AB38+Արարատ!AB38+Արմավիր!AB38+Գեղարքունիք!AB38+Լոռի!AB38+Սյունիք!AB38+Շիրակ!AB38+Տավուշ!AB38+Կոտայք!AB38+'Երևան '!AB38) -> 0 | AC38: =D38+F38 -> 0 | AD38: =+U38+S38+N38 -> 0 | AE38: =N38 -> 0 | AF38: =SUM(K38:M38) -> 0 | AG38: =R38 -> 0 | AH38: =SUM(O38:Q38) -> 0 | AI38: =Y38 -> 0 | AJ38: =SUM(W38:X38) -> 0 | AK38: =AB38 -> 0 | AL38: =SUM(Z38:AA38) -> 0
A39: 2.10 | B39: Ինքնասպանությանը նպաստելը | C39: 164 | D39: =SUM(Արագածոտն!D39+Արարատ!D39+Արմավիր!D39+Գեղարքունիք!D39+Լոռի!D39+Սյունիք!D39+Շիրակ!D39+Տավուշ!D39+Կոտայք!D39+'Երևան '!D39) -> 0 | E39: =SUM(Արագածոտն!E39+Արարատ!E39+Արմավիր!E39+Գեղարքունիք!E39+Լոռի!E39+Սյունիք!E39+Շիրակ!E39+Տավուշ!E39+Կոտայք!E39+'Երևան '!E39) -> 0 | F39: =SUM(Արագածոտն!F39+Արարատ!F39+Արմավիր!F39+Գեղարքունիք!F39+Լոռի!F39+Սյունիք!F39+Շիրակ!F39+Տավուշ!F39+Կոտայք!F39+'Երևան '!F39) -> 0 | G39: =SUM(Արագածոտն!G39+Արարատ!G39+Արմավիր!G39+Գեղարքունիք!G39+Լոռի!G39+Սյունիք!G39+Շիրակ!G39+Տավուշ!G39+Կոտայք!G39+'Երևան '!G39) -> 0 | H39: =SUM(Արագածոտն!H39+Արարատ!H39+Արմավիր!H39+Գեղարքունիք!H39+Լոռի!H39+Սյունիք!H39+Շիրակ!H39+Տավուշ!H39+Կոտայք!H39+'Երևան '!H39) -> 0 | I39: =SUM(Արագածոտն!I39+Արարատ!I39+Արմավիր!I39+Գեղարքունիք!I39+Լոռի!I39+Սյունիք!I39+Շիրակ!I39+Տավուշ!I39+Կոտայք!I39+'Երևան '!I39) -> 0 | J39: =SUM(Արագածոտն!J39+Արարատ!J39+Արմավիր!J39+Գեղարքունիք!J39+Լոռի!J39+Սյունիք!J39+Շիրակ!J39+Տավուշ!J39+Կոտայք!J39+'Երևան '!J39) -> 0 | K39: =SUM(Արագածոտն!K39+Արարատ!K39+Արմավիր!K39+Գեղարքունիք!K39+Լոռի!K39+Սյունիք!K39+Շիրակ!K39+Տավուշ!K39+Կոտայք!K39+'Երևան '!K39) -> 0 | ... AB39: =SUM(Արագածոտն!AB39+Արարատ!AB39+Արմավիր!AB39+Գեղարքունիք!AB39+Լոռի!AB39+Սյունիք!AB39+Շիրակ!AB39+Տավուշ!AB39+Կոտայք!AB39+'Երևան '!AB39) -> 0 | AC39: =D39+F39 -> 0 | AD39: =+U39+S39+N39 -> 0 | AE39: =N39 -> 0 | AF39: =SUM(K39:M39) -> 0 | AG39: =R39 -> 0 | AH39: =SUM(O39:Q39) -> 0 | AI39: =Y39 -> 0 | AJ39: =SUM(W39:X39) -> 0 | AK39: =AB39 -> 0 | AL39: =SUM(Z39:AA39) -> 0
A40: 2.11 | B40: Անզգուշությամբ կյանքից զրկելը | C40: 165 | D40: =SUM(Արագածոտն!D40+Արարատ!D40+Արմավիր!D40+Գեղարքունիք!D40+Լոռի!D40+Սյունիք!D40+Շիրակ!D40+Տավուշ!D40+Կոտայք!D40+'Երևան '!D40) -> 3 | E40: =SUM(Արագածոտն!E40+Արարատ!E40+Արմավիր!E40+Գեղարքունիք!E40+Լոռի!E40+Սյունիք!E40+Շիրակ!E40+Տավուշ!E40+Կոտայք!E40+'Երևան '!E40) -> 0 | F40: =SUM(Արագածոտն!F40+Արարատ!F40+Արմավիր!F40+Գեղարքունիք!F40+Լոռի!F40+Սյունիք!F40+Շիրակ!F40+Տավուշ!F40+Կոտայք!F40+'Երևան '!F40) -> 1 | G40: =SUM(Արագածոտն!G40+Արարատ!G40+Արմավիր!G40+Գեղարքունիք!G40+Լոռի!G40+Սյունիք!G40+Շիրակ!G40+Տավուշ!G40+Կոտայք!G40+'Երևան '!G40) -> 0 | H40: =SUM(Արագածոտն!H40+Արարատ!H40+Արմավիր!H40+Գեղարքունիք!H40+Լոռի!H40+Սյունիք!H40+Շիրակ!H40+Տավուշ!H40+Կոտայք!H40+'Երևան '!H40) -> 1 | I40: =SUM(Արագածոտն!I40+Արարատ!I40+Արմավիր!I40+Գեղարքունիք!I40+Լոռի!I40+Սյունիք!I40+Շիրակ!I40+Տավուշ!I40+Կոտայք!I40+'Երևան '!I40) -> 0 | J40: =SUM(Արագածոտն!J40+Արարատ!J40+Արմավիր!J40+Գեղարքունիք!J40+Լոռի!J40+Սյունիք!J40+Շիրակ!J40+Տավուշ!J40+Կոտայք!J40+'Երևան '!J40) -> 0 | K40: =SUM(Արագածոտն!K40+Արարատ!K40+Արմավիր!K40+Գեղարքունիք!K40+Լոռի!K40+Սյունիք!K40+Շիրակ!K40+Տավուշ!K40+Կոտայք!K40+'Երևան '!K40) -> 1 | ... AB40: =SUM(Արագածոտն!AB40+Արարատ!AB40+Արմավիր!AB40+Գեղարքունիք!AB40+Լոռի!AB40+Սյունիք!AB40+Շիրակ!AB40+Տավուշ!AB40+Կոտայք!AB40+'Երևան '!AB40) -> 0 | AC40: =D40+F40 -> 4 | AD40: =+U40+S40+N40 -> 4 | AE40: =N40 -> 1 | AF40: =SUM(K40:M40) -> 1 | AG40: =R40 -> 0 | AH40: =SUM(O40:Q40) -> 0 | AI40: =Y40 -> 0 | AJ40: =SUM(W40:X40) -> 0 | AK40: =AB40 -> 0 | AL40: =SUM(Z40:AA40) -> 0
...

Sheet Արագածոտն
B1: 2024թ. 1-ին կիսամյակի | X1: Հավելված 2 Բարձրագույն դատական խորհրդի 2022թվականի դեկտեմբերի 26-ի թիվ ԲԴԽ-122-Ո-408 որոշման
A2: ՀԱՇՎԵՏՎՈՒԹՅՈՒՆ ՀՀ ԱՐԱԳԱԾՈՏՆԻ ՄԱՐԶԻ ԱՌԱՋԻՆ ԱՏՅԱՆԻ ԸՆԴՀԱՆՈՒՐ ԻՐԱՎԱՍՈՒԹՅԱՆ ԴԱՏԱՐԱՆՈՒՄ ՔՐԵԱԿԱՆ ԳՈՐԾԵՐԻ ՔՆՆՈՒԹՅԱՆ ՎԵՐԱԲԵՐՅԱԼ ՔՐԵԱԿԱՆ ՄԱՍՆԱԳԻՏԱՑՈՒՄ ՈՒՆԵՑՈՂ ԴԱՏԱՎՈՐՆԵՐԻ ԹԻՎԸ՝ 3
A3: Ստուգիչ հավասարումներ` 1+3=11+16+18, 11 =8+9+10 15= 12+13+14, 22=20+21, 25=23+24 | C3: ՀՀ քրեական օրենսգրքի հոդվածներ | D3: Հաշվետու ժամանակահատվածի սկզբում նախորդ հաշվետու ժամանակահատվածից փոխանցված գործերի ընդհանուր թիվը | E3: Այդ թվում` կասեցված վիճակում փոխանցված | F3: Հաշվետու ժամանակահատվածում ստացված գործերի ընդհանուր թիվը | G3: Որոշում է կայացվել քրեական գործը վերադարձնել հսկող դատախազին | H3: քանի գործով է կիրառվել համաձայնեցման վարույթ | I3: քանի գործով է կիրառվել համագործակցության վարույթ | J3: Հաշվետու ժամանակաշրջանում կայացվել է վերդիկտ | K3: Հաշվետու ժամանակաշրջանում կայացվել է դատավճիռ | L3: քրեական վարույթը կարճելու մաuին որոշում | M3: Հաշվետու ժամանակաշրջանում կայացվել է բժշկական հարկադրանքի դատավճիռ /ՀՀ ՔՐ. ԴԱՏ. ՕՐ. 432-ՐԴ ՀՈԴՎԱԾ/ | N3: ընդամենը | O3: Հաշվետու ժամանակահատվածում ավարտված գործերի ընդհանուր թիվը /ՀՀ ՔՐ. ԴԱՏ. ՕՐ. 14-ՐԴ ՀՈԴՎԱԾ/ | S3: Ուղարկվել է ըստ ընդդատության | T3: Հաշվետու ժամանակահատվածում կասեցված վարույթներով գործերի ընդհանուր թիվը | U3: Հաշվետու ժամանակահատվածում անավարտ գործերի ընդհանուր թիվը | V3: Այդ թվում՝ կասեցված | W3: Բողոքարկված վարութային ակտերի թիվը` ըստ տեսակների | Z3: բեկանված կամ փոփոխված ակտերի թիվը` ըստ տեսակների
O4: քրեական վարույթը կարճելու մաuին որոշումն ուժի մեջ մտնելով. | P4: Եզրափակիչ դատական ակտն ուժի մեջ է մտել | Q4: Եզրափակիչ դատական ակտը հանձնվել է կատարման | R4: Ընդամենը ավարտվել են գործեր | W4: Այդ թվում` եզրափակիչ դատական ակտերը | X4: Այդ թվում` եզրափակիչ դատավարական ակտերը | Y4: Ընդամենը | Z4: Այդ թվում` եզրափակիչ դատական ակտերը | AA4: Այդ թվում` եզրափակիչ դատավարական ակտերը | AB4: Ընդամենը | AC4: 1+3 | AD4: 11+16+18 | AE4: 11 | AF4: 8+9+10 | AG4: 15 | AH4: 12+13+14 | AI4: 22 | AJ4: 20+21 | AK4: 25 | AL4: 23+24
D5: 1 | E5: 2 | F5: 3 | G5: 4 | H5: 5 | I5: 6 | J5: 7 | K5: 8 | L5: 9 | M5: 10 | N5: 11 | O5: 12 | P5: 13 | Q5: 14 | R5: 15 | S5: 16 | T5: 17 | U5: 18 | V5: 19 | W5: 20 | X5: 21 | Y5: 22 | Z5: 23 | AA5: 24 | AB5: 25
A6: 1. | B6: Ընդամենը խաղաղության և մարդկության անվտանգության դեմ ուղղված հանցագործությունները | D6: 0 | E6: =SUM(E7:E28) -> 0 | F6: =SUM(F7:F28) -> 0 | G6: =SUM(G7:G28) -> 0 | H6: =SUM(H7:H28) -> 0 | I6: =SUM(I7:I28) -> 0 | J6: =SUM(J7:J28) -> 0 | K6: =SUM(K7:K28) -> 0 | L6: =SUM(L7:L28) -> 0 | ... AC6: =SUM(AC7:AC28) -> 0 | AD6: =+U6+S6+N6 -> 0 | AE6: =SUM(AE7:AE28) -> 0 | AF6: =SUM(AF7:AF28) -> 0 | AG6: =SUM(AG7:AG28) -> 0 | AH6: =SUM(AH7:AH28) -> 0 | AI6: =SUM(AI7:AI28) -> 0 | AJ6: =SUM(AJ7:AJ28) -> 0 | AK6: =SUM(AK7:AK28) -> 0 | AL6: =SUM(AL7:AL28) -> 0
A7: 1.1 | B7: Ցեղասպանությունը | C7: 133 | AC7: =D7+F7 -> 0 | AD7: =E7+G7 -> 0 | AE7: =F7+H7 -> 0 | AF7: =G7+I7 -> 0 | AG7: =H7+J7 -> 0 | AH7: =I7+K7 -> 0 | AI7: =J7+L7 -> 0 | AJ7: =K7+M7 -> 0 | ... AL7: =M7+O7 -> 0
A8: 1.2 | B8: Ցեղասպանության ուղղակի և հրապարակային հրահրումը | C8: 134 | AC8: =D8+F8 -> 0 | AD8: =E8+G8 -> 0 | AE8: =F8+H8 -> 0 | AF8: =G8+I8 -> 0 | AG8: =H8+J8 -> 0 | AH8: =I8+K8 -> 0 | AI8: =J8+L8 -> 0 | AJ8: =K8+M8 -> 0 | ... AL8: =M8+O8 -> 0
A9: 1.3 | B9: Մարդկայնության դեմ ուղղված հանցագործությունները | C9: 135 | AC9: =D9+F9 -> 0 | AD9: =E9+G9 -> 0 | AE9: =F9+H9 -> 0 | AF9: =G9+I9 -> 0 | AG9: =H9+J9 -> 0 | AH9: =I9+K9 -> 0 | AI9: =J9+L9 -> 0 | AJ9: =K9+M9 -> 0 | ... AL9: =M9+O9 -> 0
A10: 1.4 | B10: Ցեղասպանությունը կամ մարդկայնության դեմ ուղղված հանցագործությունները հրապարակայնորեն հերքելը, արդարացնելը, դրանք քարոզելը կամ դրանց վտանգավորությունը նսեմացնելը | C10: 136 | AC10: =D10+F10 -> 0 | AD10: =E10+G10 -> 0 | AE10: =F10+H10 -> 0 | AF10: =G10+I10 -> 0 | AG10: =H10+J10 -> 0 | AH10: =I10+K10 -> 0 | AI10: =J10+L10 -> 0 | AJ10: =K10+M10 -> 0 | ... AL10: =M10+O10 -> 0
