Workbook

Sheet Քրեական գործեր-2024թ. կիս.
B1: 2024թ. 1-ին կիսամյակի | X1: Հավելված 2 Բարձրագույն դատական խորհրդի 2022թվականի դեկտեմբերի 26-ի թիվ ԲԴԽ-122-Ո-408 որոշման
A2: ՀԱՇՎԵՏՎՈՒԹՅՈՒՆ ՀՀ ԱՌԱՋԻՆ ԱՏՅԱՆԻ ԸՆԴՀԱՆՈՒՐ ԻՐԱՎԱՍՈՒԹՅԱՆ ԴԱՏԱՐԱՆՆԵՐՈՒՄ ՔՐԵԱԿԱՆ ԳՈՐԾԵՐԻ ՔՆՆՈՒԹՅԱՆ ՎԵՐԱԲԵՐՅԱԼ ՔՐԵԱԿԱՆ ՄԱՍՆԱԳԻՏԱՑՈՒՄ ՈՒՆԵՑՈՂ ԴԱՏԱՎՈՐՆԵՐԻ ԹԻՎԸ՝78
A3: Ստուգիչ հավասարումներ` 1+3=11+16+18, 11 =8+9+10 15= 12+13+14, 22=20+21, 25=23+24 | C3: ՀՀ քրեական օրենսգրքի հոդվածներ | D3: Հաշվետու ժամանակահատվածի սկզբում նախորդ հաշվետու ժամանակահատվածից փոխանցված գործերի ընդհանուր թիվը | E3: Այդ թվում` կասեցված վիճակում փոխանցված | F3: Հաշվետու ժամանակահատվածում ստացված գործերի ընդհանուր թիվը | G3: Որոշում է կայացվել քրեական գործը վերադարձնել հսկող դատախազին | H3: քանի գործով է կիրառվել համաձայնեցման վարույթ | I3: քանի գործով է կիրառվել համագործակցության վարույթ | J3: Հաշվետու ժամանակաշրջանում կայացվել է վերդիկտ | K3: Հաշվետու ժամանակաշրջանում կայացվել է դատավճիռ | L3: քրեական վարույթը կարճելու մաuին որոշում | M3: Հաշվետու ժամանակաշրջանում կայացվել է բժշկական հարկադրանքի դատավճիռ /ՀՀ ՔՐ. ԴԱՏ. ՕՐ. 432-ՐԴ ՀՈԴՎԱԾ/ | N3: ընդամենը | O3: Հաշվետու ժամանակահատվածում ավարտված գործերի ընդհանուր թիվը /ՀՀ ՔՐ. ԴԱՏ. ՕՐ. 14-ՐԴ ՀՈԴՎԱԾ/ | S3: Ուղարկվել է ըստ ընդդատության | T3: Հաշվետու ժամանակահատվածում կասեցված վարույթներով գործերի ընդհանուր թիվը | U3: Հաշվետու ժամանակահատվածում անավարտ գործերի ընդհանուր թիվը | V3: Այդ թվում՝ կասեցված | W3: Բողոքարկված վարութային ակտերի թիվը` ըստ տեսակների | Z3: բեկանված կամ փոփոխված ակտերի թիվը` ըստ տեսակների
O4: քրեական վարույթը կարճելու մաuին որոշումն ուժի մեջ մտնելով. | P4: Եզրափակիչ դատական ակտն ուժի մեջ է մտել | Q4: Եզրափակիչ դատական ակտը հանձնվել է կատարման | R4: Ընդամենը ավարտվել են գործեր | W4: Այդ թվում` եզրափակիչ դատական ակտերը | X4: Այդ թվում` եզրափակիչ դատավարական ակտերը | Y4: Ընդամենը | Z4: Այդ թվում` եզրափակիչ դատական ակտերը | AA4: Այդ թվում` եզրափակիչ դատավարական ակտերը | AB4: Ընդամենը | AC4: 1+3 | AD4: 11+16+18 | AE4: 11 | AF4: 8+9+10 | AG4: 15 | AH4: 12+13+14 | AI4: 22 | AJ4: 20+21 | AK4: 25 | AL4: 23+24
D5: 1 | E5: 2 | F5: 3 | G5: 4 | H5: 5 | I5: 6 | J5: 7 | K5: 8 | L5: 9 | M5: 10 | N5: 11 | O5: 12 | P5: 13 | Q5: 14 | R5: 15 | S5: 16 | T5: 17 | U5: 18 | V5: 19 | W5: 20 | X5: 21 | Y5: 22 | Z5: 23 | AA5: 24 | AB5: 25
A6: 1. | B6: Ընդամենը խաղաղության և մարդկության անվտանգության դեմ ուղղված հանցագործությունները | D6: =SUM(Արագածոտն!D6+Արարատ!D6+Արմավիր!D6+Գեղարքունիք!D6+Լոռի!D6+Սյունիք!D6+Շիրակ!D6+Տավուշ!D6+Կոտայք!D6+'Երևան '!D6) -> 0 | E6: =SUM(Արագածոտն!E6+Արարատ!E6+Արմավիր!E6+Գեղարքունիք!E6+Լոռի!E6+Սյունիք!E6+Շիրակ!E6+Տավուշ!E6+Կոտայք!E6+'Երևան '!E6) -> 0 | F6: =SUM(Արագածոտն!F6+Արարատ!F6+Արմավիր!F6+Գեղարքունիք!F6+Լոռի!F6+Սյունիք!F6+Շիրակ!F6+Տավուշ!F6+Կոտայք!F6+'Երևան '!F6) -> 0 | G6: =SUM(Արագածոտն!G6+Արարատ!G6+Արմավիր!G6+Գեղարքունիք!G6+Լոռի!G6+Սյունիք!G6+Շիրակ!G6+Տավուշ!G6+Կոտայք!G6+'Երևան '!G6) -> 0 | H6: =SUM(Արագածոտն!H6+Արարատ!H6+Արմավիր!H6+Գեղարքունիք!H6+Լոռի!H6+Սյունիք!H6+Շիրակ!H6+Տավուշ!H6+Կոտայք!H6+'Երևան '!H6) -> 0 | I6: =SUM(Արագածոտն!I6+Արարատ!I6+Արմավիր!I6+Գեղարքունիք!I6+Լոռի!I6+Սյունիք!I6+Շիրակ!I6+Տավուշ!I6+Կոտայք!I6+'Երևան '!I6) -> 0 | J6: =SUM(Արագածոտն!J6+Արարատ!J6+Արմավիր!J6+Գեղարքունիք!J6+Լոռի!J6+Սյունիք!J6+Շիրակ!J6+Տավուշ!J6+Կոտայք!J6+'Երևան '!J6) -> 0 | K6: =SUM(Արագածոտն!K6+Արարատ!K6+Արմավիր!K6+Գեղարքունիք!K6+Լոռի!K6+Սյունիք!K6+Շիրակ!K6+Տավուշ!K6+Կոտայք!K6+'Երևան '!K6) -> 0 | ... AB6: =SUM(Արագածոտն!AB6+Արարատ!AB6+Արմավիր!AB6+Գեղարքունիք!AB6+Լոռի!AB6+Սյունիք!AB6+Շիրակ!AB6+Տավուշ!AB6+Կոտայք!AB6+'Երևան '!AB6) -> 1 | AC6: =SUM(AC7:AC28) -> 0 | AD6: =+U6+S6+N6 -> 0 | AE6: =SUM(AE7:AE28) -> 0 | AF6: =SUM(AF7:AF28) -> 0 | AG6: =SUM(AG7:AG28) -> 0 | AH6: =SUM(AH7:AH28) -> 0 | AI6: =SUM(AI7:AI28) -> 0 | AJ6: =SUM(AJ7:AJ28) -> 0 | AK6: =SUM(AK7:AK28) -> 0 | AL6: =SUM(AL7:AL28) -> 0
A7: 1.1 | B7: Ցեղասպանությունը | C7: 133 | D7: =SUM(Արագածոտն!D7+Արարատ!D7+Արմավիր!D7+Գեղարքունիք!D7+Լոռի!D7+Սյունիք!D7+Շիրակ!D7+Տավուշ!D7+Կոտայք!D7+'Երևան '!D7) -> 0 | E7: =SUM(Արագածոտն!E7+Արարատ!E7+Արմավիր!E7+Գեղարքունիք!E7+Լոռի!E7+Սյունիք!E7+Շիրակ!E7+Տավուշ!E7+Կոտայք!E7+'Երևան '!E7) -> 0 | F7: =SUM(Արագածոտն!F7+Արարատ!F7+Արմավիր!F7+Գեղարքունիք!F7+Լոռի!F7+Սյունիք!F7+Շիրակ!F7+Տավուշ!F7+Կոտայք!F7+'Երևան '!F7) -> 0 | G7: =SUM(Արագածոտն!G7+Արարատ!G7+Արմավիր!G7+Գեղարքունիք!G7+Լոռի!G7+Սյունիք!G7+Շիրակ!G7+Տավուշ!G7+Կոտայք!G7+'Երևան '!G7) -> 0 | H7: =SUM(Արագածոտն!H7+Արարատ!H7+Արմավիր!H7+Գեղարքունիք!H7+Լոռի!H7+Սյունիք!H7+Շիրակ!H7+Տավուշ!H7+Կոտայք!H7+'Երևան '!H7) -> 0 | I7: =SUM(Արագածոտն!I7+Արարատ!I7+Արմավիր!I7+Գեղարքունիք!I7+Լոռի!I7+Սյունիք!I7+Շիրակ!I7+Տավուշ!I7+Կոտայք!I7+'Երևան '!I7) -> 0 | J7: =SUM(Արագածոտն!J7+Արարատ!J7+Արմավիր!J7+Գեղարքունիք!J7+Լոռի!J7+Սյունիք!J7+Շիրակ!J7+Տավուշ!J7+Կոտայք!J7+'Երևան '!J7) -> 0 | K7: =SUM(Արագածոտն!K7+Արարատ!K7+Արմավիր!K7+Գեղարքունիք!K7+Լոռի!K7+Սյունիք!K7+Շիրակ!K7+Տավուշ!K7+Կոտայք!K7+'Երևան '!K7) -> 0 | ... AB7: =SUM(Արագածոտն!AB7+Արարատ!AB7+Արմավիր!AB7+Գեղարքունիք!AB7+Լոռի!AB7+Սյունիք!AB7+Շիրակ!AB7+Տավուշ!AB7+Կոտայք!AB7+'Երևան '!AB7) -> 0 | AC7: =D7+F7 -> 0 | AD7: =E7+G7 -> 0 | AE7: =F7+H7 -> 0 | AF7: =G7+I7 -> 0 | AG7: =H7+J7 -> 0 | AH7: =I7+K7 -> 0 | AI7: =J7+L7 -> 0 | AJ7: =K7+M7 -> 0 | ... AL7: =M7+O7 -> 0
A8: 1.2 | B8: Ցեղասպանության ուղղակի և հրապարակային հրահրումը | C8: 134 | D8: =SUM(Արագածոտն!D8+Արարատ!D8+Արմավիր!D8+Գեղարքունիք!D8+Լոռի!D8+Սյունիք!D8+Շիրակ!D8+Տավուշ!D8+Կոտայք!D8+'Երևան '!D8) -> 0 | E8: =SUM(Արագածոտն!E8+Արարատ!E8+Արմավիր!E8+Գեղարքունիք!E8+Լոռի!E8+Սյունիք!E8+Շիրակ!E8+Տավուշ!E8+Կոտայք!E8+'Երևան '!E8) -> 0 | F8: =SUM(Արագածոտն!F8+Արարատ!F8+Արմավիր!F8+Գեղարքունիք!F8+Լոռի!F8+Սյունիք!F8+Շիրակ!F8+Տավուշ!F8+Կոտայք!F8+'Երևան '!F8) -> 0 | G8: =SUM(Արագածոտն!G8+Արարատ!G8+Արմավիր!G8+Գեղարքունիք!G8+Լոռի!G8+Սյունիք!G8+Շիրակ!G8+Տավուշ!G8+Կոտայք!G8+'Երևան '!G8) -> 0 | H8: =SUM(Արագածոտն!H8+Արարատ!H8+Արմավիր!H8+Գեղարքունիք!H8+Լոռի!H8+Սյունիք!H8+Շիրակ!H8+Տավուշ!H8+Կոտայք!H8+'Երևան '!H8) -> 0 | I8: =SUM(Արագածոտն!I8+Արարատ!I8+Արմավիր!I8+Գեղարքունիք!I8+Լոռի!I8+Սյունիք!I8+Շիրակ!I8+Տավուշ!I8+Կոտայք!I8+'Երևան '!I8) -> 0 | J8: =SUM(Արագածոտն!J8+Արարատ!J8+Արմավիր!J8+Գեղարքունիք!J8+Լոռի!J8+Սյունիք!J8+Շիրակ!J8+Տավուշ!J8+Կոտայք!J8+'Երևան '!J8) -> 0 | K8: =SUM(Արագածոտն!K8+Արարատ!K8+Արմավիր!K8+Գեղարքունիք!K8+Լոռի!K8+Սյունիք!K8+Շիրակ!K8+Տավուշ!K8+Կոտայք!K8+'Երևան '!K8) -> 0 | ... AB8: =SUM(Արագածոտն!AB8+Արարատ!AB8+Արմավիր!AB8+Գեղարքունիք!AB8+Լոռի!AB8+Սյունիք!AB8+Շիրակ!AB8+Տավուշ!AB8+Կոտայք!AB8+'Երևան '!AB8) -> 0 | AC8: =D8+F8 -> 0 | AD8: =E8+G8 -> 0 | AE8: =F8+H8 -> 0 | AF8: =G8+I8 -> 0 | AG8: =H8+J8 -> 0 | AH8: =I8+K8 -> 0 | AI8: =J8+L8 -> 0 | AJ8: =K8+M8 -> 0 | ... AL8: =M8+O8 -> 0
A9: 1.3 | B9: Մարդկայնության դեմ ուղղված հանցագործությունները | C9: 135 | D9: =SUM(Արագածոտն!D9+Արարատ!D9+Արմավիր!D9+Գեղարքունիք!D9+Լոռի!D9+Սյունիք!D9+Շիրակ!D9+Տավուշ!D9+Կոտայք!D9+'Երևան '!D9) -> 0 | E9: =SUM(Արագածոտն!E9+Արարատ!E9+Արմավիր!E9+Գեղարքունիք!E9+Լոռի!E9+Սյունիք!E9+Շիրակ!E9+Տավուշ!E9+Կոտայք!E9+'Երևան '!E9) -> 0 | F9: =SUM(Արագածոտն!F9+Արարատ!F9+Արմավիր!F9+Գեղարքունիք!F9+Լոռի!F9+Սյունիք!F9+Շիրակ!F9+Տավուշ!F9+Կոտայք!F9+'Երևան '!F9) -> 0 | G9: =SUM(Արագածոտն!G9+Արարատ!G9+Արմավիր!G9+Գեղարքունիք!G9+Լոռի!G9+Սյունիք!G9+Շիրակ!G9+Տավուշ!G9+Կոտայք!G9+'Երևան '!G9) -> 0 | H9: =SUM(Արագածոտն!H9+Արարատ!H9+Արմավիր!H9+Գեղարքունիք!H9+Լոռի!H9+Սյունիք!H9+Շիրակ!H9+Տավուշ!H9+Կոտայք!H9+'Երևան '!H9) -> 0 | I9: =SUM(Արագածոտն!I9+Արարատ!I9+Արմավիր!I9+Գեղարքունիք!I9+Լոռի!I9+Սյունիք!I9+Շիրակ!I9+Տավուշ!I9+Կոտայք!I9+'Երևան '!I9) -> 0 | J9: =SUM(Արագածոտն!J9+Արարատ!J9+Արմավիր!J9+Գեղարքունիք!J9+Լոռի!J9+Սյունիք!J9+Շիրակ!J9+Տավուշ!J9+Կոտայք!J9+'Երևան '!J9) -> 0 | K9: =SUM(Արագածոտն!K9+Արարատ!K9+Արմավիր!K9+Գեղարքունիք!K9+Լոռի!K9+Սյունիք!K9+Շիրակ!K9+Տավուշ!K9+Կոտայք!K9+'Երևան '!K9) -> 0 | ... AB9: =SUM(Արագածոտն!AB9+Արարատ!AB9+Արմավիր!AB9+Գեղարքունիք!AB9+Լոռի!AB9+Սյունիք!AB9+Շիրակ!AB9+Տավուշ!AB9+Կոտայք!AB9+'Երևան '!AB9) -> 0 | AC9: =D9+F9 -> 0 | AD9: =E9+G9 -> 0 | AE9: =F9+H9 -> 0 | AF9: =G9+I9 -> 0 | AG9: =H9+J9 -> 0 | AH9: =I9+K9 -> 0 | AI9: =J9+L9 -> 0 | AJ9: =K9+M9 -> 0 | ... AL9: =M9+O9 -> 0
A10: 1.4 | B10: Ցեղասպանությունը կամ մարդկայնության դեմ ուղղված հանցագործությունները հրապարակայնորեն հերքելը, արդարացնելը, դրանք քարոզելը կամ դրանց վտանգավորությունը նսեմացնելը | C10: 136 | D10: =SUM(Արագածոտն!D10+Արարատ!D10+Արմավիր!D10+Գեղարքունիք!D10+Լոռի!D10+Սյունիք!D10+Շիրակ!D10+Տավուշ!D10+Կոտայք!D10+'Երևան '!D10) -> 0 | E10: =SUM(Արագածոտն!E10+Արարատ!E10+Արմավիր!E10+Գեղարքունիք!E10+Լոռի!E10+Սյունիք!E10+Շիրակ!E10+Տավուշ!E10+Կոտայք!E10+'Երևան '!E10) -> 0 | F10: =SUM(Արագածոտն!F10+Արարատ!F10+Արմավիր!F10+Գեղարքունիք!F10+Լոռի!F10+Սյունիք!F10+Շիրակ!F10+Տավուշ!F10+Կոտայք!F10+'Երևան '!F10) -> 0 | G10: =SUM(Արագածոտն!G10+Արարատ!G10+Արմավիր!G10+Գեղարքունիք!G10+Լոռի!G10+Սյունիք!G10+Շիրակ!G10+Տավուշ!G10+Կոտայք!G10+'Երևան '!G10) -> 0 | H10: =SUM(Արագածոտն!H10+Արարատ!H10+Արմավիր!H10+Գեղարքունիք!H10+Լոռի!H10+Սյունիք!H10+Շիրակ!H10+Տավուշ!H10+Կոտայք!H10+'Երևան '!H10) -> 0 | I10: =SUM(Արագածոտն!I10+Արարատ!I10+Արմավիր!I10+Գեղարքունիք!I10+Լոռի!I10+Սյունիք!I10+Շիրակ!I10+Տավուշ!I10+Կոտայք!I10+'Երևան '!I10) -> 0 | J10: =SUM(Արագածոտն!J10+Արարատ!J10+Արմավիր!J10+Գեղարքունիք!J10+Լոռի!J10+Սյունիք!J10+Շիրակ!J10+Տավուշ!J10+Կոտայք!J10+'Երևան '!J10) -> 0 | K10: =SUM(Արագածոտն!K10+Արարատ!K10+Արմավիր!K10+Գեղարքունիք!K10+Լոռի!K10+Սյունիք!K10+Շիրակ!K10+Տավուշ!K10+Կոտայք!K10+'Երևան '!K10) -> 0 | ... AB10: =SUM(Արագածոտն!AB10+Արարատ!AB10+Արմավիր!AB10+Գեղարքունիք!AB10+Լոռի!AB10+Սյունիք!AB10+Շիրակ!AB10+Տավուշ!AB10+Կոտայք!AB10+'Երևան '!AB10) -> 1 | AC10: =D10+F10 -> 0 | AD10: =E10+G10 -> 0 | AE10: =F10+H10 -> 0 | AF10: =G10+I10 -> 0 | AG10: =H10+J10 -> 0 | AH10: =I10+K10 -> 0 | AI10: =J10+L10 -> 0 | AJ10: =K10+M10 -> 0 | ... AL10: =M10+O10 -> 0
A11: 1.5 | B11: Հովանավորվող անձի դեմ ուղղված պատերազմական հանցագործությունները | C11: 137 | D11: =SUM(Արագածոտն!D11+Արարատ!D11+Արմավիր!D11+Գեղարքունիք!D11+Լոռի!D11+Սյունիք!D11+Շիրակ!D11+Տավուշ!D11+Կոտայք!D11+'Երևան '!D11) -> 0 | E11: =SUM(Արագածոտն!E11+Արարատ!E11+Արմավիր!E11+Գեղարքունիք!E11+Լոռի!E11+Սյունիք!E11+Շիրակ!E11+Տավուշ!E11+Կոտայք!E11+'Երևան '!E11) -> 0 | F11: =SUM(Արագածոտն!F11+Արարատ!F11+Արմավիր!F11+Գեղարքունիք!F11+Լոռի!F11+Սյունիք!F11+Շիրակ!F11+Տավուշ!F11+Կոտայք!F11+'Երևան '!F11) -> 0 | G11: =SUM(Արագածոտն!G11+Արարատ!G11+Արմավիր!G11+Գեղարքունիք!G11+Լոռի!G11+Սյունիք!G11+Շիրակ!G11+Տավուշ!G11+Կոտայք!G11+'Երևան '!G11) -> 0 | H11: =SUM(Արագածոտն!H11+Արարատ!H11+Արմավիր!H11+Գեղարքունիք!H11+Լոռի!H11+Սյունիք!H11+Շիրակ!H11+Տավուշ!H11+Կոտայք!H11+'Երևան '!H11) -> 0 | I11: =SUM(Արագածոտն!I11+Արարատ!I11+Արմավիր!I11+Գեղարքունիք!I11+Լոռի!I11+Սյունիք!I11+Շիրակ!I11+Տավուշ!I11+Կոտայք!I11+'Երևան '!I11) -> 0 | J11: =SUM(Արագածոտն!J11+Արարատ!J11+Արմավիր!J11+Գեղարքունիք!J11+Լոռի!J11+Սյունիք!J11+Շիրակ!J11+Տավուշ!J11+Կոտայք!J11+'Երևան '!J11) -> 0 | K11: =SUM(Արագածոտն!K11+Արարատ!K11+Արմավիր!K11+Գեղարքունիք!K11+Լոռի!K11+Սյունիք!K11+Շիրակ!K11+Տավուշ!K11+Կոտայք!K11+'Երևան '!K11) -> 0 | ... AB11: =SUM(Արագածոտն!AB11+Արարատ!AB11+Արմավիր!AB11+Գեղարքունիք!AB11+Լոռի!AB11+Սյունիք!AB11+Շիրակ!AB11+Տավուշ!AB11+Կոտայք!AB11+'Երևան '!AB11) -> 0 | AC11: =D11+F11 -> 0 | AD11: =E11+G11 -> 0 | AE11: =F11+H11 -> 0 | AF11: =G11+I11 -> 0 | AG11: =H11+J11 -> 0 | AH11: =I11+K11 -> 0 | AI11: =J11+L11 -> 0 | AJ11: =K11+M11 -> 0 | ... AL11: =M11+O11 -> 0
A12: 1.6 | B12: Սեփականության կամ այլ իրավունքների դեմ ուղղված պատերազմական հանցագործությունները | C12: 138 | D12: =SUM(Արագածոտն!D12+Արարատ!D12+Արմավիր!D12+Գեղարքունիք!D12+Լոռի!D12+Սյունիք!D12+Շիրակ!D12+Տավուշ!D12+Կոտայք!D12+'Երևան '!D12) -> 0 | E12: =SUM(Արագածոտն!E12+Արարատ!E12+Արմավիր!E12+Գեղարքունիք!E12+Լոռի!E12+Սյունիք!E12+Շիրակ!E12+Տավուշ!E12+Կոտայք!E12+'Երևան '!E12) -> 0 | F12: =SUM(Արագածոտն!F12+Արարատ!F12+Արմավիր!F12+Գեղարքունիք!F12+Լոռի!F12+Սյունիք!F12+Շիրակ!F12+Տավուշ!F12+Կոտայք!F12+'Երևան '!F12) -> 0 | G12: =SUM(Արագածոտն!G12+Արարատ!G12+Արմավիր!G12+Գեղարքունիք!G12+Լոռի!G12+Սյունիք!G12+Շիրակ!G12+Տավուշ!G12+Կոտայք!G12+'Երևան '!G12) -> 0 | H12: =SUM(Արագածոտն!H12+Արարատ!H12+Արմավիր!H12+Գեղարքունիք!H12+Լոռի!H12+Սյունիք!H12+Շիրակ!H12+Տավուշ!H12+Կոտայք!H12+'Երևան '!H12) -> 0 | I12: =SUM(Արագածոտն!I12+Արարատ!I12+Արմավիր!I12+Գեղարքունիք!I12+Լոռի!I12+Սյունիք!I12+Շիրակ!I12+Տավուշ!I12+Կոտայք!I12+'Երևան '!I12) -> 0 | J12: =SUM(Արագածոտն!J12+Արարատ!J12+Արմավիր!J12+Գեղարքունիք!J12+Լոռի!J12+Սյունիք!J12+Շիրակ!J12+Տավուշ!J12+Կոտայք!J12+'Երևան '!J12) -> 0 | K12: =SUM(Արագածոտն!K12+Արարատ!K12+Արմավիր!K12+Գեղարքունիք!K12+Լոռի!K12+Սյունիք!K12+Շիրակ!K12+Տավուշ!K12+Կոտայք!K12+'Երևան '!K12) -> 0 | ... AB12: =SUM(Արագածոտն!AB12+Արարատ!AB12+Արմավիր!AB12+Գեղարքունիք!AB12+Լոռի!AB12+Սյունիք!AB12+Շիրակ!AB12+Տավուշ!AB12+Կոտայք!AB12+'Երևան '!AB12) -> 0 | AC12: =D12+F12 -> 0 | AD12: =E12+G12 -> 0 | AE12: =F12+H12 -> 0 | AF12: =G12+I12 -> 0 | AG12: =H12+J12 -> 0 | AH12: =I12+K12 -> 0 | AI12: =J12+L12 -> 0 | AJ12: =K12+M12 -> 0 | ... AL12: =M12+O12 -> 0
A13: 1.7 | B13: Մարդասիրական օգնության ցուցաբերման կամ տարբերանշանների դեմ ուղղված պատերազմական հանցագործությունները | C13: 139 | D13: =SUM(Արագածոտն!D13+Արարատ!D13+Արմավիր!D13+Գեղարքունիք!D13+Լոռի!D13+Սյունիք!D13+Շիրակ!D13+Տավուշ!D13+Կոտայք!D13+'Երևան '!D13) -> 0 | E13: =SUM(Արագածոտն!E13+Արարատ!E13+Արմավիր!E13+Գեղարքունիք!E13+Լոռի!E13+Սյունիք!E13+Շիրակ!E13+Տավուշ!E13+Կոտայք!E13+'Երևան '!E13) -> 0 | F13: =SUM(Արագածոտն!F13+Արարատ!F13+Արմավիր!F13+Գեղարքունիք!F13+Լոռի!F13+Սյունիք!F13+Շիրակ!F13+Տավուշ!F13+Կոտայք!F13+'Երևան '!F13) -> 0 | G13: =SUM(Արագածոտն!G13+Արարատ!G13+Արմավիր!G13+Գեղարքունիք!G13+Լոռի!G13+Սյունիք!G13+Շիրակ!G13+Տավուշ!G13+Կոտայք!G13+'Երևան '!G13) -> 0 | H13: =SUM(Արագածոտն!H13+Արարատ!H13+Արմավիր!H13+Գեղարքունիք!H13+Լոռի!H13+Սյունիք!H13+Շիրակ!H13+Տավուշ!H13+Կոտայք!H13+'Երևան '!H13) -> 0 | I13: =SUM(Արագածոտն!I13+Արարատ!I13+Արմավիր!I13+Գեղարքունիք!I13+Լոռի!I13+Սյունիք!I13+Շիրակ!I13+Տավուշ!I13+Կոտայք!I13+'Երևան '!I13) -> 0 | J13: =SUM(Արագածոտն!J13+Արարատ!J13+Արմավիր!J13+Գեղարքունիք!J13+Լոռի!J13+Սյունիք!J13+Շիրակ!J13+Տավուշ!J13+Կոտայք!J13+'Երևան '!J13) -> 0 | K13: =SUM(Արագածոտն!K13+Արարատ!K13+Արմավիր!K13+Գեղարքունիք!K13+Լոռի!K13+Սյունիք!K13+Շիրակ!K13+Տավուշ!K13+Կոտայք!K13+'Երևան '!K13) -> 0 | ... AB13: =SUM(Արագածոտն!AB13+Արարատ!AB13+Արմավիր!AB13+Գեղարքունիք!AB13+Լոռի!AB13+Սյունիք!AB13+Շիրակ!AB13+Տավուշ!AB13+Կոտայք!AB13+'Երևան '!AB13) -> 0 | AC13: =D13+F13 -> 0 | AD13: =E13+G13 -> 0 | AE13: =F13+H13 -> 0 | AF13: =G13+I13 -> 0 | AG13: =H13+J13 -> 0 | AH13: =I13+K13 -> 0 | AI13: =J13+L13 -> 0 | AJ13: =K13+M13 -> 0 | ... AL13: =M13+O13 -> 0
A14: 1.8 | B14: Պատերազմ վարելու արգելված եղանակների կիրառմամբ պատերազմական հանցագործությունները | C14: 140 | D14: =SUM(Արագածոտն!D14+Արարատ!D14+Արմավիր!D14+Գեղարքունիք!D14+Լոռի!D14+Սյունիք!D14+Շիրակ!D14+Տավուշ!D14+Կոտայք!D14+'Երևան '!D14) -> 0 | E14: =SUM(Արագածոտն!E14+Արարատ!E14+Արմավիր!E14+Գեղարքունիք!E14+Լոռի!E14+Սյունիք!E14+Շիրակ!E14+Տավուշ!E14+Կոտայք!E14+'Երևան '!E14) -> 0 | F14: =SUM(Արագածոտն!F14+Արարատ!F14+Արմավիր!F14+Գեղարքունիք!F14+Լոռի!F14+Սյունիք!F14+Շիրակ!F14+Տավուշ!F14+Կոտայք!F14+'Երևան '!F14) -> 0 | G14: =SUM(Արագածոտն!G14+Արարատ!G14+Արմավիր!G14+Գեղարքունիք!G14+Լոռի!G14+Սյունիք!G14+Շիրակ!G14+Տավուշ!G14+Կոտայք!G14+'Երևան '!G14) -> 0 | H14: =SUM(Արագածոտն!H14+Արարատ!H14+Արմավիր!H14+Գեղարքունիք!H14+Լոռի!H14+Սյունիք!H14+Շիրակ!H14+Տավուշ!H14+Կոտայք!H14+'Երևան '!H14) -> 0 | I14: =SUM(Արագածոտն!I14+Արարատ!I14+Արմավիր!I14+Գեղարքունիք!I14+Լոռի!I14+Սյունիք!I14+Շիրակ!I14+Տավուշ!I14+Կոտայք!I14+'Երևան '!I14) -> 0 | J14: =SUM(Արագածոտն!J14+Արարատ!J14+Արմավիր!J14+Գեղարքունիք!J14+Լոռի!J14+Սյունիք!J14+Շիրակ!J14+Տավուշ!J14+Կոտայք!J14+'Երևան '!J14) -> 0 | K14: =SUM(Արագածոտն!K14+Արարատ!K14+Արմավիր!K14+Գեղարքունիք!K14+Լոռի!K14+Սյունիք!K14+Շիրակ!K14+Տավուշ!K14+Կոտայք!K14+'Երևան '!K14) -> 0 | ... AB14: =SUM(Արագածոտն!AB14+Արարատ!AB14+Արմավիր!AB14+Գեղարքունիք!AB14+Լոռի!AB14+Սյունիք!AB14+Շիրակ!AB14+Տավուշ!AB14+Կոտայք!AB14+'Երևան '!AB14) -> 0 | AC14: =D14+F14 -> 0 | AD14: =E14+G14 -> 0 | AE14: =F14+H14 -> 0 | AF14: =G14+I14 -> 0 | AG14: =H14+J14 -> 0 | AH14: =I14+K14 -> 0 | AI14: =J14+L14 -> 0 | AJ14: =K14+M14 -> 0 | ... AL14: =M14+O14 -> 0
A15: 1.9 | B15: Պատերազմ վարելու արգելված միջոցների կիրառմամբ պատերազմական հանցագործությունները | C15: 141 | D15: =SUM(Արագածոտն!D15+Արարատ!D15+Արմավիր!D15+Գեղարքունիք!D15+Լոռի!D15+Սյունիք!D15+Շիրակ!D15+Տավուշ!D15+Կոտայք!D15+'Երևան '!D15) -> 0 | E15: =SUM(Արագածոտն!E15+Արարատ!E15+Արմավիր!E15+Գեղարքունիք!E15+Լոռի!E15+Սյունիք!E15+Շիրակ!E15+Տավուշ!E15+Կոտայք!E15+'Երևան '!E15) -> 0 | F15: =SUM(Արագածոտն!F15+Արարատ!F15+Արմավիր!F15+Գեղարքունիք!F15+Լոռի!F15+Սյունիք!F15+Շիրակ!F15+Տավուշ!F15+Կոտայք!F15+'Երևան '!F15) -> 0 | G15: =SUM(Արագածոտն!G15+Արարատ!G15+Արմավիր!G15+Գեղարքունիք!G15+Լոռի!G15+Սյունիք!G15+Շիրակ!G15+Տավուշ!G15+Կոտայք!G15+'Երևան '!G15) -> 0 | H15: =SUM(Արագածոտն!H15+Արարատ!H15+Արմավիր!H15+Գեղարքունիք!H15+Լոռի!H15+Սյունիք!H15+Շիրակ!H15+Տավուշ!H15+Կոտայք!H15+'Երևան '!H15) -> 0 | I15: =SUM(Արագածոտն!I15+Արարատ!I15+Արմավիր!I15+Գեղարքունիք!I15+Լոռի!I15+Սյունիք!I15+Շիրակ!I15+Տավուշ!I15+Կոտայք!I15+'Երևան '!I15) -> 0 | J15: =SUM(Արագածոտն!J15+Արարատ!J15+Արմավիր!J15+Գեղարքունիք!J15+Լոռի!J15+Սյունիք!J15+Շիրակ!J15+Տավուշ!J15+Կոտայք!J15+'Երևան '!J15) -> 0 | K15: =SUM(Արագածոտն!K15+Արարատ!K15+Արմավիր!K15+Գեղարքունիք!K15+Լոռի!K15+Սյունիք!K15+Շիրակ!K15+Տավուշ!K15+Կոտայք!K15+'Երևան '!K15) -> 0 | ... AB15: =SUM(Արագածոտն!AB15+Արարատ!AB15+Արմավիր!AB15+Գեղարքունիք!AB15+Լոռի!AB15+Սյունիք!AB15+Շիրակ!AB15+Տավուշ!AB15+Կոտայք!AB15+'Երևան '!AB15) -> 0 | AC15: =D15+F15 -> 0 | AD15: =E15+G15 -> 0 | AE15: =F15+H15 -> 0 | AF15: =G15+I15 -> 0 | AG15: =H15+J15 -> 0 | AH15: =I15+K15 -> 0 | AI15: =J15+L15 -> 0 | AJ15: =K15+M15 -> 0 | ... AL15: =M15+O15 -> 0
A16: 1.10 | B16: Դիակապտությունը | C16: 142 | D16: =SUM(Արագածոտն!D16+Արարատ!D16+Արմավիր!D16+Գեղարքունիք!D16+Լոռի!D16+Սյունիք!D16+Շիրակ!D16+Տավուշ!D16+Կոտայք!D16+'Երևան '!D16) -> 0 | E16: =SUM(Արագածոտն!E16+Արարատ!E16+Արմավիր!E16+Գեղարքունիք!E16+Լոռի!E16+Սյունիք!E16+Շիրակ!E16+Տավուշ!E16+Կոտայք!E16+'Երևան '!E16) -> 0 | F16: =SUM(Արագածոտն!F16+Արարատ!F16+Արմավիր!F16+Գեղարքունիք!F16+Լոռի!F16+Սյունիք!F16+Շիրակ!F16+Տավուշ!F16+Կոտայք!F16+'Երևան '!F16) -> 0 | G16: =SUM(Արագածոտն!G16+Արարատ!G16+Արմավիր!G16+Գեղարքունիք!G16+Լոռի!G16+Սյունիք!G16+Շիրակ!G16+Տավուշ!G16+Կոտայք!G16+'Երևան '!G16) -> 0 | H16: =SUM(Արագածոտն!H16+Արարատ!H16+Արմավիր!H16+Գեղարքունիք!H16+Լոռի!H16+Սյունիք!H16+Շիրակ!H16+Տավուշ!H16+Կոտայք!H16+'Երևան '!H16) -> 0 | I16: =SUM(Արագածոտն!I16+Արարատ!I16+Արմավիր!I16+Գեղարքունիք!I16+Լոռի!I16+Սյունիք!I16+Շիրակ!I16+Տավուշ!I16+Կոտայք!I16+'Երևան '!I16) -> 0 | J16: =SUM(Արագածոտն!J16+Արարատ!J16+Արմավիր!J16+Գեղարքունիք!J16+Լոռի!J16+Սյունիք!J16+Շիրակ!J16+Տավուշ!J16+Կոտայք!J16+'Երևան '!J16) -> 0 | K16: =SUM(Արագածոտն!K16+Արարատ!K16+Արմավիր!K16+Գեղարքունիք!K16+Լոռի!K16+Սյունիք!K16+Շիրակ!K16+Տավուշ!K16+Կոտայք!K16+'Երևան '!K16) -> 0 | ... AB16: =SUM(Արագածոտն!AB16+Արարատ!AB16+Արմավիր!AB16+Գեղարքունիք!AB16+Լոռի!AB16+Սյունիք!AB16+Շիրակ!AB16+Տավուշ!AB16+Կոտայք!AB16+'Երևան '!AB16) -> 0 | AC16: =D16+F16 -> 0 | AD16: =E16+G16 -> 0 | AE16: =F16+H16 -> 0 | AF16: =G16+I16 -> 0 | AG16: =H16+J16 -> 0 | AH16: =I16+K16 -> 0 | AI16: =J16+L16 -> 0 | AJ16: =K16+M16 -> 0 | ... AL16: =M16+O16 -> 0
A17: 1.11 | B17: Մարտադաշտում սպանվածների դիակներն անարգելը | C17: 143 | D17: =SUM(Արագածոտն!D17+Արարատ!D17+Արմավիր!D17+Գեղարքունիք!D17+Լոռի!D17+Սյունիք!D17+Շիրակ!D17+Տավուշ!D17+Կոտայք!D17+'Երևան '!D17) -> 0 | E17: =SUM(Արագածոտն!E17+Արարատ!E17+Արմավիր!E17+Գեղարքունիք!E17+Լոռի!E17+Սյունիք!E17+Շիրակ!E17+Տավուշ!E17+Կոտայք!E17+'Երևան '!E17) -> 0 | F17: =SUM(Արագածոտն!F17+Արարատ!F17+Արմավիր!F17+Գեղարքունիք!F17+Լոռի!F17+Սյունիք!F17+Շիրակ!F17+Տավուշ!F17+Կոտայք!F17+'Երևան '!F17) -> 0 | G17: =SUM(Արագածոտն!G17+Արարատ!G17+Արմավիր!G17+Գեղարքունիք!G17+Լոռի!G17+Սյունիք!G17+Շիրակ!G17+Տավուշ!G17+Կոտայք!G17+'Երևան '!G17) -> 0 | H17: =SUM(Արագածոտն!H17+Արարատ!H17+Արմավիր!H17+Գեղարքունիք!H17+Լոռի!H17+Սյունիք!H17+Շիրակ!H17+Տավուշ!H17+Կոտայք!H17+'Երևան '!H17) -> 0 | I17: =SUM(Արագածոտն!I17+Արարատ!I17+Արմավիր!I17+Գեղարքունիք!I17+Լոռի!I17+Սյունիք!I17+Շիրակ!I17+Տավուշ!I17+Կոտայք!I17+'Երևան '!I17) -> 0 | J17: =SUM(Արագածոտն!J17+Արարատ!J17+Արմավիր!J17+Գեղարքունիք!J17+Լոռի!J17+Սյունիք!J17+Շիրակ!J17+Տավուշ!J17+Կոտայք!J17+'Երևան '!J17) -> 0 | K17: =SUM(Արագածոտն!K17+Արարատ!K17+Արմավիր!K17+Գեղարքունիք!K17+Լոռի!K17+Սյունիք!K17+Շիրակ!K17+Տավուշ!K17+Կոտայք!K17+'Երևան '!K17) -> 0 | ... AB17: =SUM(Արագածոտն!AB17+Արարատ!AB17+Արմավիր!AB17+Գեղարքունիք!AB17+Լոռի!AB17+Սյունիք!AB17+Շիրակ!AB17+Տավուշ!AB17+Կոտայք!AB17+'Երևան '!AB17) -> 0 | AC17: =D17+F17 -> 0 | AD17: =E17+G17 -> 0 | AE17: =F17+H17 -> 0 | AF17: =G17+I17 -> 0 | AG17: =H17+J17 -> 0 | AH17: =I17+K17 -> 0 | AI17: =J17+L17 -> 0 | AJ17: =K17+M17 -> 0 | ... AL17: =M17+O17 -> 0
A18: 1.12 | B18: Զինված ընդհարման ժամանակ մշակութային արժեքները ոչնչացնելը, վնասելը, հափշտակելը կամ առգրավելը կամ դրանց նպատակային նշանակությունը փոփոխելը | C18: 144 | D18: =SUM(Արագածոտն!D18+Արարատ!D18+Արմավիր!D18+Գեղարքունիք!D18+Լոռի!D18+Սյունիք!D18+Շիրակ!D18+Տավուշ!D18+Կոտայք!D18+'Երևան '!D18) -> 0 | E18: =SUM(Արագածոտն!E18+Արարատ!E18+Արմավիր!E18+Գեղարքունիք!E18+Լոռի!E18+Սյունիք!E18+Շիրակ!E18+Տավուշ!E18+Կոտայք!E18+'Երևան '!E18) -> 0 | F18: =SUM(Արագածոտն!F18+Արարատ!F18+Արմավիր!F18+Գեղարքունիք!F18+Լոռի!F18+Սյունիք!F18+Շիրակ!F18+Տավուշ!F18+Կոտայք!F18+'Երևան '!F18) -> 0 | G18: =SUM(Արագածոտն!G18+Արարատ!G18+Արմավիր!G18+Գեղարքունիք!G18+Լոռի!G18+Սյունիք!G18+Շիրակ!G18+Տավուշ!G18+Կոտայք!G18+'Երևան '!G18) -> 0 | H18: =SUM(Արագածոտն!H18+Արարատ!H18+Արմավիր!H18+Գեղարքունիք!H18+Լոռի!H18+Սյունիք!H18+Շիրակ!H18+Տավուշ!H18+Կոտայք!H18+'Երևան '!H18) -> 0 | I18: =SUM(Արագածոտն!I18+Արարատ!I18+Արմավիր!I18+Գեղարքունիք!I18+Լոռի!I18+Սյունիք!I18+Շիրակ!I18+Տավուշ!I18+Կոտայք!I18+'Երևան '!I18) -> 0 | J18: =SUM(Արագածոտն!J18+Արարատ!J18+Արմավիր!J18+Գեղարքունիք!J18+Լոռի!J18+Սյունիք!J18+Շիրակ!J18+Տավուշ!J18+Կոտայք!J18+'Երևան '!J18) -> 0 | K18: =SUM(Արագածոտն!K18+Արարատ!K18+Արմավիր!K18+Գեղարքունիք!K18+Լոռի!K18+Սյունիք!K18+Շիրակ!K18+Տավուշ!K18+Կոտայք!K18+'Երևան '!K18) -> 0 | ... AB18: =SUM(Արագածոտն!AB18+Արարատ!AB18+Արմավիր!AB18+Գեղարքունիք!AB18+Լոռի!AB18+Սյունիք!AB18+Շիրակ!AB18+Տավուշ!AB18+Կոտայք!AB18+'Երևան '!AB18) -> 0 | AC18: =D18+F18 -> 0 | AD18: =E18+G18 -> 0 | AE18: =F18+H18 -> 0 | AF18: =G18+I18 -> 0 | AG18: =H18+J18 -> 0 | AH18: =I18+K18 -> 0 | AI18: =J18+L18 -> 0 | AJ18: =K18+M18 -> 0 | ... AL18: =M18+O18 -> 0
A19: 1.13 | B19: Պատերազմի կամ զինված ընդհարման ժամանակ մշակութային արժեքների պաշտպանության կանոնները խախտելը | C19: 145 | D19: =SUM(Արագածոտն!D19+Արարատ!D19+Արմավիր!D19+Գեղարքունիք!D19+Լոռի!D19+Սյունիք!D19+Շիրակ!D19+Տավուշ!D19+Կոտայք!D19+'Երևան '!D19) -> 0 | E19: =SUM(Արագածոտն!E19+Արարատ!E19+Արմավիր!E19+Գեղարքունիք!E19+Լոռի!E19+Սյունիք!E19+Շիրակ!E19+Տավուշ!E19+Կոտայք!E19+'Երևան '!E19) -> 0 | F19: =SUM(Արագածոտն!F19+Արարատ!F19+Արմավիր!F19+Գեղարքունիք!F19+Լոռի!F19+Սյունիք!F19+Շիրակ!F19+Տավուշ!F19+Կոտայք!F19+'Երևան '!F19) -> 0 | G19: =SUM(Արագածոտն!G19+Արարատ!G19+Արմավիր!G19+Գեղարքունիք!G19+Լոռի!G19+Սյունիք!G19+Շիրակ!G19+Տավուշ!G19+Կոտայք!G19+'Երևան '!G19) -> 0 | H19: =SUM(Արագածոտն!H19+Արարատ!H19+Արմավիր!H19+Գեղարքունիք!H19+Լոռի!H19+Սյունիք!H19+Շիրակ!H19+Տավուշ!H19+Կոտայք!H19+'Երևան '!H19) -> 0 | I19: =SUM(Արագածոտն!I19+Արարատ!I19+Արմավիր!I19+Գեղարքունիք!I19+Լոռի!I19+Սյունիք!I19+Շիրակ!I19+Տավուշ!I19+Կոտայք!I19+'Երևան '!I19) -> 0 | J19: =SUM(Արագածոտն!J19+Արարատ!J19+Արմավիր!J19+Գեղարքունիք!J19+Լոռի!J19+Սյունիք!J19+Շիրակ!J19+Տավուշ!J19+Կոտայք!J19+'Երևան '!J19) -> 0 | K19: =SUM(Արագածոտն!K19+Արարատ!K19+Արմավիր!K19+Գեղարքունիք!K19+Լոռի!K19+Սյունիք!K19+Շիրակ!K19+Տավուշ!K19+Կոտայք!K19+'Երևան '!K19) -> 0 | ... AB19: =SUM(Արագածոտն!AB19+Արարատ!AB19+Արմավիր!AB19+Գեղարքունիք!AB19+Լոռի!AB19+Սյունիք!AB19+Շիրակ!AB19+Տավուշ!AB19+Կոտայք!AB19+'Երևան '!AB19) -> 0 | AC19: =D19+F19 -> 0 | AD19: =E19+G19 -> 0 | AE19: =F19+H19 -> 0 | AF19: =G19+I19 -> 0 | AG19: =H19+J19 -> 0 | AH19: =I19+K19 -> 0 | AI19: =J19+L19 -> 0 | AJ19: =K19+M19 -> 0 | ... AL19: =M19+O19 -> 0
A20: 1.14 | B20: Ռասայական, ազգային, էթնիկական կամ կրոնական թշնամանք հարուցելու նպատակով մշակութային արժեքները ոչնչացնելը կամ վնասելը | C20: 146 | D20: =SUM(Արագածոտն!D20+Արարատ!D20+Արմավիր!D20+Գեղարքունիք!D20+Լոռի!D20+Սյունիք!D20+Շիրակ!D20+Տավուշ!D20+Կոտայք!D20+'Երևան '!D20) -> 0 | E20: =SUM(Արագածոտն!E20+Արարատ!E20+Արմավիր!E20+Գեղարքունիք!E20+Լոռի!E20+Սյունիք!E20+Շիրակ!E20+Տավուշ!E20+Կոտայք!E20+'Երևան '!E20) -> 0 | F20: =SUM(Արագածոտն!F20+Արարատ!F20+Արմավիր!F20+Գեղարքունիք!F20+Լոռի!F20+Սյունիք!F20+Շիրակ!F20+Տավուշ!F20+Կոտայք!F20+'Երևան '!F20) -> 0 | G20: =SUM(Արագածոտն!G20+Արարատ!G20+Արմավիր!G20+Գեղարքունիք!G20+Լոռի!G20+Սյունիք!G20+Շիրակ!G20+Տավուշ!G20+Կոտայք!G20+'Երևան '!G20) -> 0 | H20: =SUM(Արագածոտն!H20+Արարատ!H20+Արմավիր!H20+Գեղարքունիք!H20+Լոռի!H20+Սյունիք!H20+Շիրակ!H20+Տավուշ!H20+Կոտայք!H20+'Երևան '!H20) -> 0 | I20: =SUM(Արագածոտն!I20+Արարատ!I20+Արմավիր!I20+Գեղարքունիք!I20+Լոռի!I20+Սյունիք!I20+Շիրակ!I20+Տավուշ!I20+Կոտայք!I20+'Երևան '!I20) -> 0 | J20: =SUM(Արագածոտն!J20+Արարատ!J20+Արմավիր!J20+Գեղարքունիք!J20+Լոռի!J20+Սյունիք!J20+Շիրակ!J20+Տավուշ!J20+Կոտայք!J20+'Երևան '!J20) -> 0 | K20: =SUM(Արագածոտն!K20+Արարատ!K20+Արմավիր!K20+Գեղարքունիք!K20+Լոռի!K20+Սյունիք!K20+Շիրակ!K20+Տավուշ!K20+Կոտայք!K20+'Երևան '!K20) -> 0 | ... AB20: =SUM(Արագածոտն!AB20+Արարատ!AB20+Արմավիր!AB20+Գեղարքունիք!AB20+Լոռի!AB20+Սյունիք!AB20+Շիրակ!AB20+Տավուշ!AB20+Կոտայք!AB20+'Երևան '!AB20) -> 0 | AC20: =D20+F20 -> 0 | AD20: =E20+G20 -> 0 | AE20: =F20+H20 -> 0 | AF20: =G20+I20 -> 0 | AG20: =H20+J20 -> 0 | AH20: =I20+K20 -> 0 | AI20: =J20+L20 -> 0 | AJ20: =K20+M20 -> 0 | ... AL20: =M20+O20 -> 0
A21: 1.15 | B21: Վարձկանությունը | C21: 147 | D21: =SUM(Արագածոտն!D21+Արարատ!D21+Արմավիր!D21+Գեղարքունիք!D21+Լոռի!D21+Սյունիք!D21+Շիրակ!D21+Տավուշ!D21+Կոտայք!D21+'Երևան '!D21) -> 0 | E21: =SUM(Արագածոտն!E21+Արարատ!E21+Արմավիր!E21+Գեղարքունիք!E21+Լոռի!E21+Սյունիք!E21+Շիրակ!E21+Տավուշ!E21+Կոտայք!E21+'Երևան '!E21) -> 0 | F21: =SUM(Արագածոտն!F21+Արարատ!F21+Արմավիր!F21+Գեղարքունիք!F21+Լոռի!F21+Սյունիք!F21+Շիրակ!F21+Տավուշ!F21+Կոտայք!F21+'Երևան '!F21) -> 0 | G21: =SUM(Արագածոտն!G21+Արարատ!G21+Արմավիր!G21+Գեղարքունիք!G21+Լոռի!G21+Սյունիք!G21+Շիրակ!G21+Տավուշ!G21+Կոտայք!G21+'Երևան '!G21) -> 0 | H21: =SUM(Արագածոտն!H21+Արարատ!H21+Արմավիր!H21+Գեղարքունիք!H21+Լոռի!H21+Սյունիք!H21+Շիրակ!H21+Տավուշ!H21+Կոտայք!H21+'Երևան '!H21) -> 0 | I21: =SUM(Արագածոտն!I21+Արարատ!I21+Արմավիր!I21+Գեղարքունիք!I21+Լոռի!I21+Սյունիք!I21+Շիրակ!I21+Տավուշ!I21+Կոտայք!I21+'Երևան '!I21) -> 0 | J21: =SUM(Արագածոտն!J21+Արարատ!J21+Արմավիր!J21+Գեղարքունիք!J21+Լոռի!J21+Սյունիք!J21+Շիրակ!J21+Տավուշ!J21+Կոտայք!J21+'Երևան '!J21) -> 0 | K21: =SUM(Արագածոտն!K21+Արարատ!K21+Արմավիր!K21+Գեղարքունիք!K21+Լոռի!K21+Սյունիք!K21+Շիրակ!K21+Տավուշ!K21+Կոտայք!K21+'Երևան '!K21) -> 0 | ... AB21: =SUM(Արագածոտն!AB21+Արարատ!AB21+Արմավիր!AB21+Գեղարքունիք!AB21+Լոռի!AB21+Սյունիք!AB21+Շիրակ!AB21+Տավուշ!AB21+Կոտայք!AB21+'Երևան '!AB21) -> 0 | AC21: =D21+F21 -> 0 | AD21: =E21+G21 -> 0 | AE21: =F21+H21 -> 0 | AF21: =G21+I21 -> 0 | AG21: =H21+J21 -> 0 | AH21: =I21+K21 -> 0 | AI21: =J21+L21 -> 0 | AJ21: =K21+M21 -> 0 | ... AL21: =M21+O21 -> 0
A22: 1.16 | B22: Անգործությունը զինված ընդհարման ժամանակ | C22: 148 | D22: =SUM(Արագածոտն!D22+Արարատ!D22+Արմավիր!D22+Գեղարքունիք!D22+Լոռի!D22+Սյունիք!D22+Շիրակ!D22+Տավուշ!D22+Կոտայք!D22+'Երևան '!D22) -> 0 | E22: =SUM(Արագածոտն!E22+Արարատ!E22+Արմավիր!E22+Գեղարքունիք!E22+Լոռի!E22+Սյունիք!E22+Շիրակ!E22+Տավուշ!E22+Կոտայք!E22+'Երևան '!E22) -> 0 | F22: =SUM(Արագածոտն!F22+Արարատ!F22+Արմավիր!F22+Գեղարքունիք!F22+Լոռի!F22+Սյունիք!F22+Շիրակ!F22+Տավուշ!F22+Կոտայք!F22+'Երևան '!F22) -> 0 | G22: =SUM(Արագածոտն!G22+Արարատ!G22+Արմավիր!G22+Գեղարքունիք!G22+Լոռի!G22+Սյունիք!G22+Շիրակ!G22+Տավուշ!G22+Կոտայք!G22+'Երևան '!G22) -> 0 | H22: =SUM(Արագածոտն!H22+Արարատ!H22+Արմավիր!H22+Գեղարքունիք!H22+Լոռի!H22+Սյունիք!H22+Շիրակ!H22+Տավուշ!H22+Կոտայք!H22+'Երևան '!H22) -> 0 | I22: =SUM(Արագածոտն!I22+Արարատ!I22+Արմավիր!I22+Գեղարքունիք!I22+Լոռի!I22+Սյունիք!I22+Շիրակ!I22+Տավուշ!I22+Կոտայք!I22+'Երևան '!I22) -> 0 | J22: =SUM(Արագածոտն!J22+Արարատ!J22+Արմավիր!J22+Գեղարքունիք!J22+Լոռի!J22+Սյունիք!J22+Շիրակ!J22+Տավուշ!J22+Կոտայք!J22+'Երևան '!J22) -> 0 | K22: =SUM(Արագածոտն!K22+Արարատ!K22+Արմավիր!K22+Գեղարքունիք!K22+Լոռի!K22+Սյունիք!K22+Շիրակ!K22+Տավուշ!K22+Կոտայք!K22+'Երևան '!K22) -> 0 | ... AB22: =SUM(Արագածոտն!AB22+Արարատ!AB22+Արմավիր!AB22+Գեղարքունիք!AB22+Լոռի!AB22+Սյունիք!AB22+Շիրակ!AB22+Տավուշ!AB22+Կոտայք!AB22+'Երևան '!AB22) -> 0 | AC22: =D22+F22 -> 0 | AD22: =E22+G22 -> 0 | AE22: =F22+H22 -> 0 | AF22: =G22+I22 -> 0 | AG22: =H22+J22 -> 0 | AH22: =I22+K22 -> 0 | AI22: =J22+L22 -> 0 | AJ22: =K22+M22 -> 0 | ... AL22: =M22+O22 -> 0
A23: 1.17 | B23: Ագրեսիան | C23: 149 | D23: =SUM(Արագածոտն!D23+Արարատ!D23+Արմավիր!D23+Գեղարքունիք!D23+Լոռի!D23+Սյունիք!D23+Շիրակ!D23+Տավուշ!D23+Կոտայք!D23+'Երևան '!D23) -> 0 | E23: =SUM(Արագածոտն!E23+Արարատ!E23+Արմավիր!E23+Գեղարքունիք!E23+Լոռի!E23+Սյունիք!E23+Շիրակ!E23+Տավուշ!E23+Կոտայք!E23+'Երևան '!E23) -> 0 | F23: =SUM(Արագածոտն!F23+Արարատ!F23+Արմավիր!F23+Գեղարքունիք!F23+Լոռի!F23+Սյունիք!F23+Շիրակ!F23+Տավուշ!F23+Կոտայք!F23+'Երևան '!F23) -> 0 | G23: =SUM(Արագածոտն!G23+Արարատ!G23+Արմավիր!G23+Գեղարքունիք!G23+Լոռի!G23+Սյունիք!G23+Շիրակ!G23+Տավուշ!G23+Կոտայք!G23+'Երևան '!G23) -> 0 | H23: =SUM(Արագածոտն!H23+Արարատ!H23+Արմավիր!H23+Գեղարքունիք!H23+Լոռի!H23+Սյունիք!H23+Շիրակ!H23+Տավուշ!H23+Կոտայք!H23+'Երևան '!H23) -> 0 | I23: =SUM(Արագածոտն!I23+Արարատ!I23+Արմավիր!I23+Գեղարքունիք!I23+Լոռի!I23+Սյունիք!I23+Շիրակ!I23+Տավուշ!I23+Կոտայք!I23+'Երևան '!I23) -> 0 | J23: =SUM(Արագածոտն!J23+Արարատ!J23+Արմավիր!J23+Գեղարքունիք!J23+Լոռի!J23+Սյունիք!J23+Շիրակ!J23+Տավուշ!J23+Կոտայք!J23+'Երևան '!J23) -> 0 | K23: =SUM(Արագածոտն!K23+Արարատ!K23+Արմավիր!K23+Գեղարքունիք!K23+Լոռի!K23+Սյունիք!K23+Շիրակ!K23+Տավուշ!K23+Կոտայք!K23+'Երևան '!K23) -> 0 | ... AB23: =SUM(Արագածոտն!AB23+Արարատ!AB23+Արմավիր!AB23+Գեղարքունիք!AB23+Լոռի!AB23+Սյունիք!AB23+Շիրակ!AB23+Տավուշ!AB23+Կոտայք!AB23+'Երևան '!AB23) -> 0 | AC23: =D23+F23 -> 0 | AD23: =E23+G23 -> 0 | AE23: =F23+H23 -> 0 | AF23: =G23+I23 -> 0 | AG23: =H23+J23 -> 0 | AH23: =I23+K23 -> 0 | AI23: =J23+L23 -> 0 | AJ23: =K23+M23 -> 0 | ... AL23: =M23+O23 -> 0
A24: 1.18 | B24: Համավարակի կամ մարդկության անվտանգությանն անմիջական սպառնալիքի իրավիճակի պայմաններում ագրեսիվ ռազմական գործողություններ նախաձեռնելը, իրականացնելը կամ դրանք չդադարեցնելը | C24: 150 | D24: =SUM(Արագածոտն!D24+Արարատ!D24+Արմավիր!D24+Գեղարքունիք!D24+Լոռի!D24+Սյունիք!D24+Շիրակ!D24+Տավուշ!D24+Կոտայք!D24+'Երևան '!D24) -> 0 | E24: =SUM(Արագածոտն!E24+Արարատ!E24+Արմավիր!E24+Գեղարքունիք!E24+Լոռի!E24+Սյունիք!E24+Շիրակ!E24+Տավուշ!E24+Կոտայք!E24+'Երևան '!E24) -> 0 | F24: =SUM(Արագածոտն!F24+Արարատ!F24+Արմավիր!F24+Գեղարքունիք!F24+Լոռի!F24+Սյունիք!F24+Շիրակ!F24+Տավուշ!F24+Կոտայք!F24+'Երևան '!F24) -> 0 | G24: =SUM(Արագածոտն!G24+Արարատ!G24+Արմավիր!G24+Գեղարքունիք!G24+Լոռի!G24+Սյունիք!G24+Շիրակ!G24+Տավուշ!G24+Կոտայք!G24+'Երևան '!G24) -> 0 | H24: =SUM(Արագածոտն!H24+Արարատ!H24+Արմավիր!H24+Գեղարքունիք!H24+Լոռի!H24+Սյունիք!H24+Շիրակ!H24+Տավուշ!H24+Կոտայք!H24+'Երևան '!H24) -> 0 | I24: =SUM(Արագածոտն!I24+Արարատ!I24+Արմավիր!I24+Գեղարքունիք!I24+Լոռի!I24+Սյունիք!I24+Շիրակ!I24+Տավուշ!I24+Կոտայք!I24+'Երևան '!I24) -> 0 | J24: =SUM(Արագածոտն!J24+Արարատ!J24+Արմավիր!J24+Գեղարքունիք!J24+Լոռի!J24+Սյունիք!J24+Շիրակ!J24+Տավուշ!J24+Կոտայք!J24+'Երևան '!J24) -> 0 | K24: =SUM(Արագածոտն!K24+Արարատ!K24+Արմավիր!K24+Գեղարքունիք!K24+Լոռի!K24+Սյունիք!K24+Շիրակ!K24+Տավուշ!K24+Կոտայք!K24+'Երևան '!K24) -> 0 | ... AB24: =SUM(Արագածոտն!AB24+Արարատ!AB24+Արմավիր!AB24+Գեղարքունիք!AB24+Լոռի!AB24+Սյունիք!AB24+Շիրակ!AB24+Տավուշ!AB24+Կոտայք!AB24+'Երևան '!AB24) -> 0 | AC24: =D24+F24 -> 0 | AD24: =E24+G24 -> 0 | AE24: =F24+H24 -> 0 | AF24: =G24+I24 -> 0 | AG24: =H24+J24 -> 0 | AH24: =I24+K24 -> 0 | AI24: =J24+L24 -> 0 | AJ24: =K24+M24 -> 0 | ... AL24: =M24+O24 -> 0
A25: 1.19 | B25: Ագրեսիա իրականացնելու ուղղակի և հրապարակային կոչերը | C25: 151 | D25: =SUM(Արագածոտն!D25+Արարատ!D25+Արմավիր!D25+Գեղարքունիք!D25+Լոռի!D25+Սյունիք!D25+Շիրակ!D25+Տավուշ!D25+Կոտայք!D25+'Երևան '!D25) -> 0 | E25: =SUM(Արագածոտն!E25+Արարատ!E25+Արմավիր!E25+Գեղարքունիք!E25+Լոռի!E25+Սյունիք!E25+Շիրակ!E25+Տավուշ!E25+Կոտայք!E25+'Երևան '!E25) -> 0 | F25: =SUM(Արագածոտն!F25+Արարատ!F25+Արմավիր!F25+Գեղարքունիք!F25+Լոռի!F25+Սյունիք!F25+Շիրակ!F25+Տավուշ!F25+Կոտայք!F25+'Երևան '!F25) -> 0 | G25: =SUM(Արագածոտն!G25+Արարատ!G25+Արմավիր!G25+Գեղարքունիք!G25+Լոռի!G25+Սյունիք!G25+Շիրակ!G25+Տավուշ!G25+Կոտայք!G25+'Երևան '!G25) -> 0 | H25: =SUM(Արագածոտն!H25+Արարատ!H25+Արմավիր!H25+Գեղարքունիք!H25+Լոռի!H25+Սյունիք!H25+Շիրակ!H25+Տավուշ!H25+Կոտայք!H25+'Երևան '!H25) -> 0 | I25: =SUM(Արագածոտն!I25+Արարատ!I25+Արմավիր!I25+Գեղարքունիք!I25+Լոռի!I25+Սյունիք!I25+Շիրակ!I25+Տավուշ!I25+Կոտայք!I25+'Երևան '!I25) -> 0 | J25: =SUM(Արագածոտն!J25+Արարատ!J25+Արմավիր!J25+Գեղարքունիք!J25+Լոռի!J25+Սյունիք!J25+Շիրակ!J25+Տավուշ!J25+Կոտայք!J25+'Երևան '!J25) -> 0 | K25: =SUM(Արագածոտն!K25+Արարատ!K25+Արմավիր!K25+Գեղարքունիք!K25+Լոռի!K25+Սյունիք!K25+Շիրակ!K25+Տավուշ!K25+Կոտայք!K25+'Երևան '!K25) -> 0 | ... AB25: =SUM(Արագածոտն!AB25+Արարատ!AB25+Արմավիր!AB25+Գեղարքունիք!AB25+Լոռի!AB25+Սյունիք!AB25+Շիրակ!AB25+Տավուշ!AB25+Կոտայք!AB25+'Երևան '!AB25) -> 0 | AC25: =D25+F25 -> 0 | AD25: =E25+G25 -> 0 | AE25: =F25+H25 -> 0 | AF25: =G25+I25 -> 0 | AG25: =H25+J25 -> 0 | AH25: =I25+K25 -> 0 | AI25: =J25+L25 -> 0 | AJ25: =K25+M25 -> 0 | ... AL25: =M25+O25 -> 0
A26: 1.20 | B26: Միջազգային ահաբեկչությունը | C26: 152 | D26: =SUM(Արագածոտն!D26+Արարատ!D26+Արմավիր!D26+Գեղարքունիք!D26+Լոռի!D26+Սյունիք!D26+Շիրակ!D26+Տավուշ!D26+Կոտայք!D26+'Երևան '!D26) -> 0 | E26: =SUM(Արագածոտն!E26+Արարատ!E26+Արմավիր!E26+Գեղարքունիք!E26+Լոռի!E26+Սյունիք!E26+Շիրակ!E26+Տավուշ!E26+Կոտայք!E26+'Երևան '!E26) -> 0 | F26: =SUM(Արագածոտն!F26+Արարատ!F26+Արմավիր!F26+Գեղարքունիք!F26+Լոռի!F26+Սյունիք!F26+Շիրակ!F26+Տավուշ!F26+Կոտայք!F26+'Երևան '!F26) -> 0 | G26: =SUM(Արագածոտն!G26+Արարատ!G26+Արմավիր!G26+Գեղարքունիք!G26+Լոռի!G26+Սյունիք!G26+Շիրակ!G26+Տավուշ!G26+Կոտայք!G26+'Երևան '!G26) -> 0 | H26: =SUM(Արագածոտն!H26+Արարատ!H26+Արմավիր!H26+Գեղարքունիք!H26+Լոռի!H26+Սյունիք!H26+Շիրակ!H26+Տավուշ!H26+Կոտայք!H26+'Երևան '!H26) -> 0 | I26: =SUM(Արագածոտն!I26+Արարատ!I26+Արմավիր!I26+Գեղարքունիք!I26+Լոռի!I26+Սյունիք!I26+Շիրակ!I26+Տավուշ!I26+Կոտայք!I26+'Երևան '!I26) -> 0 | J26: =SUM(Արագածոտն!J26+Արարատ!J26+Արմավիր!J26+Գեղարքունիք!J26+Լոռի!J26+Սյունիք!J26+Շիրակ!J26+Տավուշ!J26+Կոտայք!J26+'Երևան '!J26) -> 0 | K26: =SUM(Արագածոտն!K26+Արարատ!K26+Արմավիր!K26+Գեղարքունիք!K26+Լոռի!K26+Սյունիք!K26+Շիրակ!K26+Տավուշ!K26+Կոտայք!K26+'Երևան '!K26) -> 0 | ... AB26: =SUM(Արագածոտն!AB26+Արարատ!AB26+Արմավիր!AB26+Գեղարքունիք!AB26+Լոռի!AB26+Սյունիք!AB26+Շիրակ!AB26+Տավուշ!AB26+Կոտայք!AB26+'Երևան '!AB26) -> 0 | AC26: =D26+F26 -> 0 | AD26: =E26+G26 -> 0 | AE26: =F26+H26 -> 0 | AF26: =G26+I26 -> 0 | AG26: =H26+J26 -> 0 | AH26: =I26+K26 -> 0 | AI26: =J26+L26 -> 0 | AJ26: =K26+M26 -> 0 | ... AL26: =M26+O26 -> 0
A27: 1.21 | B27: Զանգվածային ոչնչացման զենք ստեղծելը, տրամադրելը, փորձարկելը կամ կիրառելը | C27: 153 | D27: =SUM(Արագածոտն!D27+Արարատ!D27+Արմավիր!D27+Գեղարքունիք!D27+Լոռի!D27+Սյունիք!D27+Շիրակ!D27+Տավուշ!D27+Կոտայք!D27+'Երևան '!D27) -> 0 | E27: =SUM(Արագածոտն!E27+Արարատ!E27+Արմավիր!E27+Գեղարքունիք!E27+Լոռի!E27+Սյունիք!E27+Շիրակ!E27+Տավուշ!E27+Կոտայք!E27+'Երևան '!E27) -> 0 | F27: =SUM(Արագածոտն!F27+Արարատ!F27+Արմավիր!F27+Գեղարքունիք!F27+Լոռի!F27+Սյունիք!F27+Շիրակ!F27+Տավուշ!F27+Կոտայք!F27+'Երևան '!F27) -> 0 | G27: =SUM(Արագածոտն!G27+Արարատ!G27+Արմավիր!G27+Գեղարքունիք!G27+Լոռի!G27+Սյունիք!G27+Շիրակ!G27+Տավուշ!G27+Կոտայք!G27+'Երևան '!G27) -> 0 | H27: =SUM(Արագածոտն!H27+Արարատ!H27+Արմավիր!H27+Գեղարքունիք!H27+Լոռի!H27+Սյունիք!H27+Շիրակ!H27+Տավուշ!H27+Կոտայք!H27+'Երևան '!H27) -> 0 | I27: =SUM(Արագածոտն!I27+Արարատ!I27+Արմավիր!I27+Գեղարքունիք!I27+Լոռի!I27+Սյունիք!I27+Շիրակ!I27+Տավուշ!I27+Կոտայք!I27+'Երևան '!I27) -> 0 | J27: =SUM(Արագածոտն!J27+Արարատ!J27+Արմավիր!J27+Գեղարքունիք!J27+Լոռի!J27+Սյունիք!J27+Շիրակ!J27+Տավուշ!J27+Կոտայք!J27+'Երևան '!J27) -> 0 | K27: =SUM(Արագածոտն!K27+Արարատ!K27+Արմավիր!K27+Գեղարքունիք!K27+Լոռի!K27+Սյունիք!K27+Շիրակ!K27+Տավուշ!K27+Կոտայք!K27+'Երևան '!K27) -> 0 | ... AB27: =SUM(Արագածոտն!AB27+Արարատ!AB27+Արմավիր!AB27+Գեղարքունիք!AB27+Լոռի!AB27+Սյունիք!AB27+Շիրակ!AB27+Տավուշ!AB27+Կոտայք!AB27+'Երևան '!AB27) -> 0 | AC27: =D27+F27 -> 0 | AD27: =E27+G27 -> 0 | AE27: =F27+H27 -> 0 | AF27: =G27+I27 -> 0 | AG27: =H27+J27 -> 0 | AH27: =I27+K27 -> 0 | AI27: =J27+L27 -> 0 | AJ27: =K27+M27 -> 0 | ... AL27: =M27+O27 -> 0
A28: 1.22 | B28: Էկոցիդը | C28: 154 | D28: =SUM(Արագածոտն!D28+Արարատ!D28+Արմավիր!D28+Գեղարքունիք!D28+Լոռի!D28+Սյունիք!D28+Շիրակ!D28+Տավուշ!D28+Կոտայք!D28+'Երևան '!D28) -> 0 | E28: =SUM(Արագածոտն!E28+Արարատ!E28+Արմավիր!E28+Գեղարքունիք!E28+Լոռի!E28+Սյունիք!E28+Շիրակ!E28+Տավուշ!E28+Կոտայք!E28+'Երևան '!E28) -> 0 | F28: =SUM(Արագածոտն!F28+Արարատ!F28+Արմավիր!F28+Գեղարքունիք!F28+Լոռի!F28+Սյունիք!F28+Շիրակ!F28+Տավուշ!F28+Կոտայք!F28+'Երևան '!F28) -> 0 | G28: =SUM(Արագածոտն!G28+Արարատ!G28+Արմավիր!G28+Գեղարքունիք!G28+Լոռի!G28+Սյունիք!G28+Շիրակ!G28+Տավուշ!G28+Կոտայք!G28+'Երևան '!G28) -> 0 | H28: =SUM(Արագածոտն!H28+Արարատ!H28+Արմավիր!H28+Գեղարքունիք!H28+Լոռի!H28+Սյունիք!H28+Շիրակ!H28+Տավուշ!H28+Կոտայք!H28+'Երևան '!H28) -> 0 | I28: =SUM(Արագածոտն!I28+Արարատ!I28+Արմավիր!I28+Գեղարքունիք!I28+Լոռի!I28+Սյունիք!I28+Շիրակ!I28+Տավուշ!I28+Կոտայք!I28+'Երևան '!I28) -> 0 | J28: =SUM(Արագածոտն!J28+Արարատ!J28+Արմավիր!J28+Գեղարքունիք!J28+Լոռի!J28+Սյունիք!J28+Շիրակ!J28+Տավուշ!J28+Կոտայք!J28+'Երևան '!J28) -> 0 | K28: =SUM(Արագածոտն!K28+Արարատ!K28+Արմավիր!K28+Գեղարքունիք!K28+Լոռի!K28+Սյունիք!K28+Շիրակ!K28+Տավուշ!K28+Կոտայք!K28+'Երևան '!K28) -> 0 | ... AB28: =SUM(Արագածոտն!AB28+Արարատ!AB28+Արմավիր!AB28+Գեղարքունիք!AB28+Լոռի!AB28+Սյունիք!AB28+Շիրակ!AB28+Տավուշ!AB28+Կոտայք!AB28+'Երևան '!AB28) -> 0 | AC28: =D28+F28 -> 0 | AD28: =E28+G28 -> 0 | AE28: =F28+H28 -> 0 | AF28: =G28+I28 -> 0 | AG28: =H28+J28 -> 0 | AH28: =I28+K28 -> 0 | AI28: =J28+L28 -> 0 | AJ28: =K28+M28 -> 0 | ... AL28: =M28+O28 -> 0
A29: 2 | B29: Ընդամենը մարդու կյանքի դեմ ուղղված հանցագործությունները | D29: =SUM(Արագածոտն!D29+Արարատ!D29+Արմավիր!D29+Գեղարքունիք!D29+Լոռի!D29+Սյունիք!D29+Շիրակ!D29+Տավուշ!D29+Կոտայք!D29+'Երևան '!D29) -> 105 | E29: =SUM(Արագածոտն!E29+Արարատ!E29+Արմավիր!E29+Գեղարքունիք!E29+Լոռի!E29+Սյունիք!E29+Շիրակ!E29+Տավուշ!E29+Կոտայք!E29+'Երևան '!E29) -> 0 | F29: =SUM(Արագածոտն!F29+Արարատ!F29+Արմավիր!F29+Գեղարքունիք!F29+Լոռի!F29+Սյունիք!F29+Շիրակ!F29+Տավուշ!F29+Կոտայք!F29+'Երևան '!F29) -> 47 | G29: =SUM(Արագածոտն!G29+Արարատ!G29+Արմավիր!G29+Գեղարքունիք!G29+Լոռի!G29+Սյունիք!G29+Շիրակ!G29+Տավուշ!G29+Կոտայք!G29+'Երևան '!G29) -> 0 | H29: =SUM(Արագածոտն!H29+Արարատ!H29+Արմավիր!H29+Գեղարքունիք!H29+Լոռի!H29+Սյունիք!H29+Շիրակ!H29+Տավուշ!H29+Կոտայք!H29+'Երևան '!H29) -> 1 | I29: =SUM(Արագածոտն!I29+Արարատ!I29+Արմավիր!I29+Գեղարքունիք!I29+Լոռի!I29+Սյունիք!I29+Շիրակ!I29+Տավուշ!I29+Կոտայք!I29+'Երևան '!I29) -> 0 | J29: =SUM(Արագածոտն!J29+Արարատ!J29+Արմավիր!J29+Գեղարքունիք!J29+Լոռի!J29+Սյունիք!J29+Շիրակ!J29+Տավուշ!J29+Կոտայք!J29+'Երևան '!J29) -> 5 | K29: =SUM(Արագածոտն!K29+Արարատ!K29+Արմավիր!K29+Գեղարքունիք!K29+Լոռի!K29+Սյունիք!K29+Շիրակ!K29+Տավուշ!K29+Կոտայք!K29+'Երևան '!K29) -> 10 | ... AB29: =SUM(Արագածոտն!AB29+Արարատ!AB29+Արմավիր!AB29+Գեղարքունիք!AB29+Լոռի!AB29+Սյունիք!AB29+Շիրակ!AB29+Տավուշ!AB29+Կոտայք!AB29+'Երևան '!AB29) -> 2 | AC29: =SUM(AC30:AC40) -> 152 | AD29: =+U29+S29+N29 -> 149 | AE29: =SUM(AE30:AE40) -> 11 | AF29: =SUM(AF30:AF40) -> 11 | AG29: =SUM(AG30:AG40) -> 0 | AH29: =SUM(AH30:AH40) -> 0 | AI29: =SUM(AI30:AI40) -> 34 | AJ29: =SUM(AJ30:AJ40) -> 34 | AK29: =SUM(AK30:AK40) -> 2 | AL29: =SUM(AL30:AL40) -> 2
A30: 2.1 | B30: Սպանությունը | C30: 155 | D30: =SUM(Արագածոտն!D30+Արարատ!D30+Արմավիր!D30+Գեղարքունիք!D30+Լոռի!D30+Սյունիք!D30+Շիրակ!D30+Տավուշ!D30+Կոտայք!D30+'Երևան '!D30) -> 100 | E30: =SUM(Արագածոտն!E30+Արարատ!E30+Արմավիր!E30+Գեղարքունիք!E30+Լոռի!E30+Սյունիք!E30+Շիրակ!E30+Տավուշ!E30+Կոտայք!E30+'Երևան '!E30) -> 0 | F30: =SUM(Արագածոտն!F30+Արարատ!F30+Արմավիր!F30+Գեղարքունիք!F30+Լոռի!F30+Սյունիք!F30+Շիրակ!F30+Տավուշ!F30+Կոտայք!F30+'Երևան '!F30) -> 44 | G30: =SUM(Արագածոտն!G30+Արարատ!G30+Արմավիր!G30+Գեղարքունիք!G30+Լոռի!G30+Սյունիք!G30+Շիրակ!G30+Տավուշ!G30+Կոտայք!G30+'Երևան '!G30) -> 0 | H30: =SUM(Արագածոտն!H30+Արարատ!H30+Արմավիր!H30+Գեղարքունիք!H30+Լոռի!H30+Սյունիք!H30+Շիրակ!H30+Տավուշ!H30+Կոտայք!H30+'Երևան '!H30) -> 0 | I30: =SUM(Արագածոտն!I30+Արարատ!I30+Արմավիր!I30+Գեղարքունիք!I30+Լոռի!I30+Սյունիք!I30+Շիրակ!I30+Տավուշ!I30+Կոտայք!I30+'Երևան '!I30) -> 0 | J30: =SUM(Արագածոտն!J30+Արարատ!J30+Արմավիր!J30+Գեղարքունիք!J30+Լոռի!J30+Սյունիք!J30+Շիրակ!J30+Տավուշ!J30+Կոտայք!J30+'Երևան '!J30) -> 5 | K30: =SUM(Արագածոտն!K30+Արարատ!K30+Արմավիր!K30+Գեղարքունիք!K30+Լոռի!K30+Սյունիք!K30+Շիրակ!K30+Տավուշ!K30+Կոտայք!K30+'Երևան '!K30) -> 8 | ... AB30: =SUM(Արագածոտն!AB30+Արարատ!AB30+Արմավիր!AB30+Գեղարքունիք!AB30+Լոռի!AB30+Սյունիք!AB30+Շիրակ!AB30+Տավուշ!AB30+Կոտայք!AB30+'Երևան '!AB30) -> 2 | AC30: =D30+F30 -> 144 | AD30: =+U30+S30+N30 -> 141 | AE30: =N30 -> 9 | AF30: =SUM(K30:M30) -> 9 | AG30: =R30 -> 0 | AH30: =SUM(O30:Q30) -> 0 | AI30: =Y30 -> 33 | AJ30: =SUM(W30:X30) -> 33 | AK30: =AB30 -> 2 | AL30: =SUM(Z30:AA30) -> 2
A31: 2.2 | B31: Հոգեկան խիստ հուզմունքի վիճակում կատարված սպանությունը | C31: 156 | D31: =SUM(Արագածոտն!D31+Արարատ!D31+Արմավիր!D31+Գեղարքունիք!D31+Լոռի!D31+Սյունիք!D31+Շիրակ!D31+Տավուշ!D31+Կոտայք!D31+'Երևան '!D31) -> 0 | E31: =SUM(Արագածոտն!E31+Արարատ!E31+Արմավիր!E31+Գեղարքունիք!E31+Լոռի!E31+Սյունիք!E31+Շիրակ!E31+Տավուշ!E31+Կոտայք!E31+'Երևան '!E31) -> 0 | F31: =SUM(Արագածոտն!F31+Արարատ!F31+Արմավիր!F31+Գեղարքունիք!F31+Լոռի!F31+Սյունիք!F31+Շիրակ!F31+Տավուշ!F31+Կոտայք!F31+'Երևան '!F31) -> 0 | G31: =SUM(Արագածոտն!G31+Արարատ!G31+Արմավիր!G31+Գեղարքունիք!G31+Լոռի!G31+Սյունիք!G31+Շիրակ!G31+Տավուշ!G31+Կոտայք!G31+'Երևան '!G31) -> 0 | H31: =SUM(Արագածոտն!H31+Արարատ!H31+Արմավիր!H31+Գեղարքունիք!H31+Լոռի!H31+Սյունիք!H31+Շիրակ!H31+Տավուշ!H31+Կոտայք!H31+'Երևան '!H31) -> 0 | I31: =SUM(Արագածոտն!I31+Արարատ!I31+Արմավիր!I31+Գեղարքունիք!I31+Լոռի!I31+Սյունիք!I31+Շիրակ!I31+Տավուշ!I31+Կոտայք!I31+'Երևան '!I31) -> 0 | J31: =SUM(Արագածոտն!J31+Արարատ!J31+Արմավիր!J31+Գեղարքունիք!J31+Լոռի!J31+Սյունիք!J31+Շիրակ!J31+Տավուշ!J31+Կոտայք!J31+'Երևան '!J31) -> 0 | K31: =SUM(Արագածոտն!K31+Արարատ!K31+Արմավիր!K31+Գեղարքունիք!K31+Լոռի!K31+Սյունիք!K31+Շիրակ!K31+Տավուշ!K31+Կոտայք!K31+'Երևան '!K31) -> 0 | ... AB31: =SUM(Արագածոտն!AB31+Արարատ!AB31+Արմավիր!AB31+Գեղարքունիք!AB31+Լոռի!AB31+Սյունիք!AB31+Շիրակ!AB31+Տավուշ!AB31+Կոտայք!AB31+'Երևան '!AB31) -> 0 | AC31: =D31+F31 -> 0 | AD31: =+U31+S31+N31 -> 0 | AE31: =N31 -> 0 | AF31: =SUM(K31:M31) -> 0 | AG31: =R31 -> 0 | AH31: =SUM(O31:Q31) -> 0 | AI31: =Y31 -> 0 | AJ31: =SUM(W31:X31) -> 0 | AK31: =AB31 -> 0 | AL31: =SUM(Z31:AA31) -> 0
A32: 2.3 | B32: Ծննդկանի կամ ծննդաբերի կողմից երեխայի սպանությունը | C32: 157 | D32: =SUM(Արագածոտն!D32+Արարատ!D32+Արմավիր!D32+Գեղարքունիք!D32+Լոռի!D32+Սյունիք!D32+Շիրակ!D32+Տավուշ!D32+Կոտայք!D32+'Երևան '!D32) -> 0 | E32: =SUM(Արագածոտն!E32+Արարատ!E32+Արմավիր!E32+Գեղարքունիք!E32+Լոռի!E32+Սյունիք!E32+Շիրակ!E32+Տավուշ!E32+Կոտայք!E32+'Երևան '!E32) -> 0 | F32: =SUM(Արագածոտն!F32+Արարատ!F32+Արմավիր!F32+Գեղարքունիք!F32+Լոռի!F32+Սյունիք!F32+Շիրակ!F32+Տավուշ!F32+Կոտայք!F32+'Երևան '!F32) -> 1 | G32: =SUM(Արագածոտն!G32+Արարատ!G32+Արմավիր!G32+Գեղարքունիք!G32+Լոռի!G32+Սյունիք!G32+Շիրակ!G32+Տավուշ!G32+Կոտայք!G32+'Երևան '!G32) -> 0 | H32: =SUM(Արագածոտն!H32+Արարատ!H32+Արմավիր!H32+Գեղարքունիք!H32+Լոռի!H32+Սյունիք!H32+Շիրակ!H32+Տավուշ!H32+Կոտայք!H32+'Երևան '!H32) -> 0 | I32: =SUM(Արագածոտն!I32+Արարատ!I32+Արմավիր!I32+Գեղարքունիք!I32+Լոռի!I32+Սյունիք!I32+Շիրակ!I32+Տավուշ!I32+Կոտայք!I32+'Երևան '!I32) -> 0 | J32: =SUM(Արագածոտն!J32+Արարատ!J32+Արմավիր!J32+Գեղարքունիք!J32+Լոռի!J32+Սյունիք!J32+Շիրակ!J32+Տավուշ!J32+Կոտայք!J32+'Երևան '!J32) -> 0 | K32: =SUM(Արագածոտն!K32+Արարատ!K32+Արմավիր!K32+Գեղարքունիք!K32+Լոռի!K32+Սյունիք!K32+Շիրակ!K32+Տավուշ!K32+Կոտայք!K32+'Երևան '!K32) -> 0 | ... AB32: =SUM(Արագածոտն!AB32+Արարատ!AB32+Արմավիր!AB32+Գեղարքունիք!AB32+Լոռի!AB32+Սյունիք!AB32+Շիրակ!AB32+Տավուշ!AB32+Կոտայք!AB32+'Երևան '!AB32) -> 0 | AC32: =D32+F32 -> 1 | AD32: =+U32+S32+N32 -> 1 | AE32: =N32 -> 0 | AF32: =SUM(K32:M32) -> 0 | AG32: =R32 -> 0 | AH32: =SUM(O32:Q32) -> 0 | AI32: =Y32 -> 0 | AJ32: =SUM(W32:X32) -> 0 | AK32: =AB32 -> 0 | AL32: =SUM(Z32:AA32) -> 0
A33: 2.4 | B33: Ծննդկանի կամ ծննդաբերի կողմից երեխայի սպանությանը հանցակցելը | C33: 158 | D33: =SUM(Արագածոտն!D33+Արարատ!D33+Արմավիր!D33+Գեղարքունիք!D33+Լոռի!D33+Սյունիք!D33+Շիրակ!D33+Տավուշ!D33+Կոտայք!D33+'Երևան '!D33) -> 0 | E33: =SUM(Արագածոտն!E33+Արարատ!E33+Արմավիր!E33+Գեղարքունիք!E33+Լոռի!E33+Սյունիք!E33+Շիրակ!E33+Տավուշ!E33+Կոտայք!E33+'Երևան '!E33) -> 0 | F33: =SUM(Արագածոտն!F33+Արարատ!F33+Արմավիր!F33+Գեղարքունիք!F33+Լոռի!F33+Սյունիք!F33+Շիրակ!F33+Տավուշ!F33+Կոտայք!F33+'Երևան '!F33) -> 0 | G33: =SUM(Արագածոտն!G33+Արարատ!G33+Արմավիր!G33+Գեղարքունիք!G33+Լոռի!G33+Սյունիք!G33+Շիրակ!G33+Տավուշ!G33+Կոտայք!G33+'Երևան '!G33) -> 0 | H33: =SUM(Արագածոտն!H33+Արարատ!H33+Արմավիր!H33+Գեղարքունիք!H33+Լոռի!H33+Սյունիք!H33+Շիրակ!H33+Տավուշ!H33+Կոտայք!H33+'Երևան '!H33) -> 0 | I33: =SUM(Արագածոտն!I33+Արարատ!I33+Արմավիր!I33+Գեղարքունիք!I33+Լոռի!I33+Սյունիք!I33+Շիրակ!I33+Տավուշ!I33+Կոտայք!I33+'Երևան '!I33) -> 0 | J33: =SUM(Արագածոտն!J33+Արարատ!J33+Արմավիր!J33+Գեղարքունիք!J33+Լոռի!J33+Սյունիք!J33+Շիրակ!J33+Տավուշ!J33+Կոտայք!J33+'Երևան '!J33) -> 0 | K33: =SUM(Արագածոտն!K33+Արարատ!K33+Արմավիր!K33+Գեղարքունիք!K33+Լոռի!K33+Սյունիք!K33+Շիրակ!K33+Տավուշ!K33+Կոտայք!K33+'Երևան '!K33) -> 0 | ... AB33: =SUM(Արագածոտն!AB33+Արարատ!AB33+Արմավիր!AB33+Գեղարքունիք!AB33+Լոռի!AB33+Սյունիք!AB33+Շիրակ!AB33+Տավուշ!AB33+Կոտայք!AB33+'Երևան '!AB33) -> 0 | AC33: =D33+F33 -> 0 | AD33: =+U33+S33+N33 -> 0 | AE33: =N33 -> 0 | AF33: =SUM(K33:M33) -> 0 | AG33: =R33 -> 0 | AH33: =SUM(O33:Q33) -> 0 | AI33: =Y33 -> 0 | AJ33: =SUM(W33:X33) -> 0 | AK33: =AB33 -> 0 | AL33: =SUM(Z33:AA33) -> 0
A34: 2.5 | B34: Անհրաժեշտ պաշտպանության սահմանազանցմամբ սպանությունը | C34: 159 | D34: =SUM(Արագածոտն!D34+Արարատ!D34+Արմավիր!D34+Գեղարքունիք!D34+Լոռի!D34+Սյունիք!D34+Շիրակ!D34+Տավուշ!D34+Կոտայք!D34+'Երևան '!D34) -> 0 | E34: =SUM(Արագածոտն!E34+Արարատ!E34+Արմավիր!E34+Գեղարքունիք!E34+Լոռի!E34+Սյունիք!E34+Շիրակ!E34+Տավուշ!E34+Կոտայք!E34+'Երևան '!E34) -> 0 | F34: =SUM(Արագածոտն!F34+Արարատ!F34+Արմավիր!F34+Գեղարքունիք!F34+Լոռի!F34+Սյունիք!F34+Շիրակ!F34+Տավուշ!F34+Կոտայք!F34+'Երևան '!F34) -> 1 | G34: =SUM(Արագածոտն!G34+Արարատ!G34+Արմավիր!G34+Գեղարքունիք!G34+Լոռի!G34+Սյունիք!G34+Շիրակ!G34+Տավուշ!G34+Կոտայք!G34+'Երևան '!G34) -> 0 | H34: =SUM(Արագածոտն!H34+Արարատ!H34+Արմավիր!H34+Գեղարքունիք!H34+Լոռի!H34+Սյունիք!H34+Շիրակ!H34+Տավուշ!H34+Կոտայք!H34+'Երևան '!H34) -> 0 | I34: =SUM(Արագածոտն!I34+Արարատ!I34+Արմավիր!I34+Գեղարքունիք!I34+Լոռի!I34+Սյունիք!I34+Շիրակ!I34+Տավուշ!I34+Կոտայք!I34+'Երևան '!I34) -> 0 | J34: =SUM(Արագածոտն!J34+Արարատ!J34+Արմավիր!J34+Գեղարքունիք!J34+Լոռի!J34+Սյունիք!J34+Շիրակ!J34+Տավուշ!J34+Կոտայք!J34+'Երևան '!J34) -> 0 | K34: =SUM(Արագածոտն!K34+Արարատ!K34+Արմավիր!K34+Գեղարքունիք!K34+Լոռի!K34+Սյունիք!K34+Շիրակ!K34+Տավուշ!K34+Կոտայք!K34+'Երևան '!K34) -> 0 | ... AB34: =SUM(Արագածոտն!AB34+Արարատ!AB34+Արմավիր!AB34+Գեղարքունիք!AB34+Լոռի!AB34+Սյունիք!AB34+Շիրակ!AB34+Տավուշ!AB34+Կոտայք!AB34+'Երևան '!AB34) -> 0 | AC34: =D34+F34 -> 1 | AD34: =+U34+S34+N34 -> 1 | AE34: =N34 -> 0 | AF34: =SUM(K34:M34) -> 0 | AG34: =R34 -> 0 | AH34: =SUM(O34:Q34) -> 0 | AI34: =Y34 -> 0 | AJ34: =SUM(W34:X34) -> 0 | AK34: =AB34 -> 0 | AL34: =SUM(Z34:AA34) -> 0
A35: 2.6 | B35: Հակաիրավական ոտնձգություն կատարած անձին բռնելու համար անհրաժեշտ միջոցների սահմանազանցմամբ սպանությունը | C35: 160 | D35: =SUM(Արագածոտն!D35+Արարատ!D35+Արմավիր!D35+Գեղարքունիք!D35+Լոռի!D35+Սյունիք!D35+Շիրակ!D35+Տավուշ!D35+Կոտայք!D35+'Երևան '!D35) -> 0 | E35: =SUM(Արագածոտն!E35+Արարատ!E35+Արմավիր!E35+Գեղարքունիք!E35+Լոռի!E35+Սյունիք!E35+Շիրակ!E35+Տավուշ!E35+Կոտայք!E35+'Երևան '!E35) -> 0 | F35: =SUM(Արագածոտն!F35+Արարատ!F35+Արմավիր!F35+Գեղարքունիք!F35+Լոռի!F35+Սյունիք!F35+Շիրակ!F35+Տավուշ!F35+Կոտայք!F35+'Երևան '!F35) -> 0 | G35: =SUM(Արագածոտն!G35+Արարատ!G35+Արմավիր!G35+Գեղարքունիք!G35+Լոռի!G35+Սյունիք!G35+Շիրակ!G35+Տավուշ!G35+Կոտայք!G35+'Երևան '!G35) -> 0 | H35: =SUM(Արագածոտն!H35+Արարատ!H35+Արմավիր!H35+Գեղարքունիք!H35+Լոռի!H35+Սյունիք!H35+Շիրակ!H35+Տավուշ!H35+Կոտայք!H35+'Երևան '!H35) -> 0 | I35: =SUM(Արագածոտն!I35+Արարատ!I35+Արմավիր!I35+Գեղարքունիք!I35+Լոռի!I35+Սյունիք!I35+Շիրակ!I35+Տավուշ!I35+Կոտայք!I35+'Երևան '!I35) -> 0 | J35: =SUM(Արագածոտն!J35+Արարատ!J35+Արմավիր!J35+Գեղարքունիք!J35+Լոռի!J35+Սյունիք!J35+Շիրակ!J35+Տավուշ!J35+Կոտայք!J35+'Երևան '!J35) -> 0 | K35: =SUM(Արագածոտն!K35+Արարատ!K35+Արմավիր!K35+Գեղարքունիք!K35+Լոռի!K35+Սյունիք!K35+Շիրակ!K35+Տավուշ!K35+Կոտայք!K35+'Երևան '!K35) -> 0 | ... AB35: =SUM(Արագածոտն!AB35+Արարատ!AB35+Արմավիր!AB35+Գեղարքունիք!AB35+Լոռի!AB35+Սյունիք!AB35+Շիրակ!AB35+Տավուշ!AB35+Կոտայք!AB35+'Երևան '!AB35) -> 0 | AC35: =D35+F35 -> 0 | AD35: =+U35+S35+N35 -> 0 | AE35: =N35 -> 0 | AF35: =SUM(K35:M35) -> 0 | AG35: =R35 -> 0 | AH35: =SUM(O35:Q35) -> 0 | AI35: =Y35 -> 0 | AJ35: =SUM(W35:X35) -> 0 | AK35: =AB35 -> 0 | AL35: =SUM(Z35:AA35) -> 0
A36: 2.7 | B36: Տուժողի խնդրանքով սպանությունը | C36: 161 | D36: =SUM(Արագածոտն!D36+Արարատ!D36+Արմավիր!D36+Գեղարքունիք!D36+Լոռի!D36+Սյունիք!D36+Շիրակ!D36+Տավուշ!D36+Կոտայք!D36+'Երևան '!D36) -> 0 | E36: =SUM(Արագածոտն!E36+Արարատ!E36+Արմավիր!E36+Գեղարքունիք!E36+Լոռի!E36+Սյունիք!E36+Շիրակ!E36+Տավուշ!E36+Կոտայք!E36+'Երևան '!E36) -> 0 | F36: =SUM(Արագածոտն!F36+Արարատ!F36+Արմավիր!F36+Գեղարքունիք!F36+Լոռի!F36+Սյունիք!F36+Շիրակ!F36+Տավուշ!F36+Կոտայք!F36+'Երևան '!F36) -> 0 | G36: =SUM(Արագածոտն!G36+Արարատ!G36+Արմավիր!G36+Գեղարքունիք!G36+Լոռի!G36+Սյունիք!G36+Շիրակ!G36+Տավուշ!G36+Կոտայք!G36+'Երևան '!G36) -> 0 | H36: =SUM(Արագածոտն!H36+Արարատ!H36+Արմավիր!H36+Գեղարքունիք!H36+Լոռի!H36+Սյունիք!H36+Շիրակ!H36+Տավուշ!H36+Կոտայք!H36+'Երևան '!H36) -> 0 | I36: =SUM(Արագածոտն!I36+Արարատ!I36+Արմավիր!I36+Գեղարքունիք!I36+Լոռի!I36+Սյունիք!I36+Շիրակ!I36+Տավուշ!I36+Կոտայք!I36+'Երևան '!I36) -> 0 | J36: =SUM(Արագածոտն!J36+Արարատ!J36+Արմավիր!J36+Գեղարքունիք!J36+Լոռի!J36+Սյունիք!J36+Շիրակ!J36+Տավուշ!J36+Կոտայք!J36+'Երևան '!J36) -> 0 | K36: =SUM(Արագածոտն!K36+Արարատ!K36+Արմավիր!K36+Գեղարքունիք!K36+Լոռի!K36+Սյունիք!K36+Շիրակ!K36+Տավուշ!K36+Կոտայք!K36+'Երևան '!K36) -> 0 | ... AB36: =SUM(Արագածոտն!AB36+Արարատ!AB36+Արմավիր!AB36+Գեղարքունիք!AB36+Լոռի!AB36+Սյունիք!AB36+Շիրակ!AB36+Տավուշ!AB36+Կոտայք!AB36+'Երևան '!AB36) -> 0 | AC36: =D36+F36 -> 0 | AD36: =+U36+S36+N36 -> 0 | AE36: =N36 -> 0 | AF36: =SUM(K36:M36) -> 0 | AG36: =R36 -> 0 | AH36: =SUM(O36:Q36) -> 0 | AI36: =Y36 -> 0 | AJ36: =SUM(W36:X36) -> 0 | AK36: =AB36 -> 0 | AL36: =SUM(Z36:AA36) -> 0
A37: 2.8 | B37: Ինքնասպանության հասցնելը | C37: 162 | D37: =SUM(Արագածոտն!D37+Արարատ!D37+Արմավիր!D37+Գեղարքունիք!D37+Լոռի!D37+Սյունիք!D37+Շիրակ!D37+Տավուշ!D37+Կոտայք!D37+'Երևան '!D37) -> 2 | E37: =SUM(Արագածոտն!E37+Արարատ!E37+Արմավիր!E37+Գեղարքունիք!E37+Լոռի!E37+Սյունիք!E37+Շիրակ!E37+Տավուշ!E37+Կոտայք!E37+'Երևան '!E37) -> 0 | F37: =SUM(Արագածոտն!F37+Արարատ!F37+Արմավիր!F37+Գեղարքունիք!F37+Լոռի!F37+Սյունիք!F37+Շիրակ!F37+Տավուշ!F37+Կոտայք!F37+'Երևան '!F37) -> 0 | G37: =SUM(Արագածոտն!G37+Արարատ!G37+Արմավիր!G37+Գեղարքունիք!G37+Լոռի!G37+Սյունիք!G37+Շիրակ!G37+Տավուշ!G37+Կոտայք!G37+'Երևան '!G37) -> 0 | H37: =SUM(Արագածոտն!H37+Արարատ!H37+Արմավիր!H37+Գեղարքունիք!H37+Լոռի!H37+Սյունիք!H37+Շիրակ!H37+Տավուշ!H37+Կոտայք!H37+'Երևան '!H37) -> 0 | I37: =SUM(Արագածոտն!I37+Արարատ!I37+Արմավիր!I37+Գեղարքունիք!I37+Լոռի!I37+Սյունիք!I37+Շիրակ!I37+Տավուշ!I37+Կոտայք!I37+'Երևան '!I37) -> 0 | J37: =SUM(Արագածոտն!J37+Արարատ!J37+Արմավիր!J37+Գեղարքունիք!J37+Լոռի!J37+Սյունիք!J37+Շիրակ!J37+Տավուշ!J37+Կոտայք!J37+'Երևան '!J37) -> 0 | K37: =SUM(Արագածոտն!K37+Արարատ!K37+Արմավիր!K37+Գեղարքունիք!K37+Լոռի!K37+Սյունիք!K37+Շիրակ!K37+Տավուշ!K37+Կոտայք!K37+'Երևան '!K37) -> 1 | ... AB37: =SUM(Արագածոտն!AB37+Արարատ!AB37+Արմավիր!AB37+Գեղարքունիք!AB37+Լոռի!AB37+Սյունիք!AB37+Շիրակ!AB37+Տավուշ!AB37+Կոտայք!AB37+'Երևան '!AB37) -> 0 | AC37: =D37+F37 -> 2 | AD37: =+U37+S37+N37 -> 2 | AE37: =N37 -> 1 | AF37: =SUM(K37:M37) -> 1 | AG37: =R37 -> 0 | AH37: =SUM(O37:Q37) -> 0 | AI37: =Y37 -> 1 | AJ37: =SUM(W37:X37) -> 1 | AK37: =AB37 -> 0 | AL37: =SUM(Z37:AA37) -> 0
A38: 2.9 | B38: Ինքնասպանության հակելը | C38: 163 | D38: =SUM(Արագածոտն!D38+Արարատ!D38+Արմավիր!D38+Գեղարքունիք!D38+Լոռի!D38+Սյունիք!D38+Շիրակ!D38+Տավուշ!D38+Կոտայք!D38+'Երևան '!D38) -> 0 | E38: =SUM(Արագածոտն!E38+Արարատ!E38+Արմավիր!E38+Գեղարքունիք!E38+Լոռի!E38+Սյունիք!E38+Շիրակ!E38+Տավուշ!E38+Կոտայք!E38+'Երևան '!E38) -> 0 | F38: =SUM(Արագածոտն!F38+Արարատ!F38+Արմավիր!F38+Գեղարքունիք!F38+Լոռի!F38+Սյունիք!F38+Շիրակ!F38+Տավուշ!F38+Կոտայք!F38+'Երևան '!F38) -> 0 | G38: =SUM(Արագածոտն!G38+Արարատ!G38+Արմավիր!G38+Գեղարքունիք!G38+Լոռի!G38+Սյունիք!G38+Շիրակ!G38+Տավուշ!G38+Կոտայք!G38+'Երևան '!G38) -> 0 | H38: =SUM(Արագածոտն!H38+Արարատ!H38+Արմավիր!H38+Գեղարքունիք!H38+Լոռի!H38+Սյունիք!H38+Շիրակ!H38+Տավուշ!H38+Կոտայք!H38+'Երևան '!H38) -> 0 | I38: =SUM(Արագածոտն!I38+Արարատ!I38+Արմավիր!I38+Գեղարքունիք!I38+Լոռի!I38+Սյունիք!I38+Շիրակ!I38+Տավուշ!I38+Կոտայք!I38+'Երևան '!I38) -> 0 | J38: =SUM(Արագածոտն!J38+Արարատ!J38+Արմավիր!J38+Գեղարքունիք!J38+Լոռի!J38+Սյունիք!J38+Շիրակ!J38+Տավուշ!J38+Կոտայք!J38+'Երևան '!J38) -> 0 | K38: =SUM(Արագածոտն!K38+Արարատ!K38+Արմավիր!K38+Գեղարքունիք!K38+Լոռի!K38+Սյունիք!K38+Շիրակ!K38+Տավուշ!K38+Կոտայք!K38+'Երևան '!K38) -> 0 | ... AB38: =SUM(Արագածոտն!AB38+Արարատ!AB38+Արմավիր!AB38+Գեղարքունիք!AB38+Լոռի!AB38+Սյունիք!AB38+Շիրակ!AB38+Տավուշ!AB38+Կոտայք!AB38+'Երևան '!AB38) -> 0 | AC38: =D38+F38 -> 0 | AD38: =+U38+S38+N38 -> 0 | AE38: =N38 -> 0 | AF38: =SUM(K38:M38) -> 0 | AG38: =R38 -> 0 | AH38: =SUM(O38:Q38) -> 0 | AI38: =Y38 -> 0 | AJ38: =SUM(W38:X38) -> 0 | AK38: =AB38 -> 0 | AL38: =SUM(Z38:AA38) -> 0
A39: 2.10 | B39: Ինքնասպանությանը նպաստելը | C39: 164 | D39: =SUM(Արագածոտն!D39+Արարատ!D39+Արմավիր!D39+Գեղարքունիք!D39+Լոռի!D39+Սյունիք!D39+Շիրակ!D39+Տավուշ!D39+Կոտայք!D39+'Երևան '!D39) -> 0 | E39: =SUM(Արագածոտն!E39+Արարատ!E39+Արմավիր!E39+Գեղարքունիք!E39+Լոռի!E39+Սյունիք!E39+Շիրակ!E39+Տավուշ!E39+Կոտայք!E39+'Երևան '!E39) -> 0 | F39: =SUM(Արագածոտն!F39+Արարատ!F39+Արմավիր!F39+Գեղարքունիք!F39+Լոռի!F39+Սյունիք!F39+Շիրակ!F39+Տավուշ!F39+Կոտայք!F39+'Երևան '!F39) -> 0 | G39: =SUM(Արագածոտն!G39+Արարատ!G39+Արմավիր!G39+Գեղարքունիք!G39+Լոռի!G39+Սյունիք!G39+Շիրակ!G39+Տավուշ!G39+Կոտայք!G39+'Երևան '!G39) -> 0 | H39: =SUM(Արագածոտն!H39+Արարատ!H39+Արմավիր!H39+Գեղարքունիք!H39+Լոռի!H39+Սյունիք!H39+Շիրակ!H39+Տավուշ!H39+Կոտայք!H39+'Երևան '!H39) -> 0 | I39: =SUM(Արագածոտն!I39+Արարատ!I39+Արմավիր!I39+Գեղարքունիք!I39+Լոռի!I39+Սյունիք!I39+Շիրակ!I39+Տավուշ!I39+Կոտայք!I39+'Երևան '!I39) -> 0 | J39: =SUM(Արագածոտն!J39+Արարատ!J39+Արմավիր!J39+Գեղարքունիք!J39+Լոռի!J39+Սյունիք!J39+Շիրակ!J39+Տավուշ!J39+Կոտայք!J39+'Երևան '!J39) -> 0 | K39: =SUM(Արագածոտն!K39+Արարատ!K39+Արմավիր!K39+Գեղարքունիք!K39+Լոռի!K39+Սյունիք!K39+Շիրակ!K39+Տավուշ!K39+Կոտայք!K39+'Երևան '!K39) -> 0 | ... AB39: =SUM(Արագածոտն!AB39+Արարատ!AB39+Արմավիր!AB39+Գեղարքունիք!AB39+Լոռի!AB39+Սյունիք!AB39+Շիրակ!AB39+Տավուշ!AB39+Կոտայք!AB39+'Երևան '!AB39) -> 0 | AC39: =D39+F39 -> 0 | AD39: =+U39+S39+N39 -> 0 | AE39: =N39 -> 0 | AF39: =SUM(K39:M39) -> 0 | AG39: =R39 -> 0 | AH39: =SUM(O39:Q39) -> 0 | AI39: =Y39 -> 0 | AJ39: =SUM(W39:X39) -> 0 | AK39: =AB39 -> 0 | AL39: =SUM(Z39:AA39) -> 0
A40: 2.11 | B40: Անզգուշությամբ կյանքից զրկելը | C40: 165 | D40: =SUM(Արագածոտն!D40+Արարատ!D40+Արմավիր!D40+Գեղարքունիք!D40+Լոռի!D40+Սյունիք!D40+Շիրակ!D40+Տավուշ!D40+Կոտայք!D40+'Երևան '!D40) -> 3 | E40: =SUM(Արագածոտն!E40+Արարատ!E40+Արմավիր!E40+Գեղարքունիք!E40+Լոռի!E40+Սյունիք!E40+Շիրակ!E40+Տավուշ!E40+Կոտայք!E40+'Երևան '!E40) -> 0 | F40: =SUM(Արագածոտն!F40+Արարատ!F40+Արմավիր!F40+Գեղարքունիք!F40+Լոռի!F40+Սյունիք!F40+Շիրակ!F40+Տավուշ!F40+Կոտայք!F40+'Երևան '!F40) -> 1 | G40: =SUM(Արագածոտն!G40+Արարատ!G40+Արմավիր!G40+Գեղարքունիք!G40+Լոռի!G40+Սյունիք!G40+Շիրակ!G40+Տավուշ!G40+Կոտայք!G40+'Երևան '!G40) -> 0 | H40: =SUM(Արագածոտն!H40+Արարատ!H40+Արմավիր!H40+Գեղարքունիք!H40+Լոռի!H40+Սյունիք!H40+Շիրակ!H40+Տավուշ!H40+Կոտայք!H40+'Երևան '!H40) -> 1 | I40: =SUM(Արագածոտն!I40+Արարատ!I40+Արմավիր!I40+Գեղարքունիք!I40+Լոռի!I40+Սյունիք!I40+Շիրակ!I40+Տավուշ!I40+Կոտայք!I40+'Երևան '!I40) -> 0 | J40: =SUM(Արագածոտն!J40+Արարատ!J40+Արմավիր!J40+Գեղարքունիք!J40+Լոռի!J40+Սյունիք!J40+Շիրակ!J40+Տավուշ!J40+Կոտայք!J40+'Երևան '!J40) -> 0 | K40: =SUM(Արագածոտն!K40+Արարատ!K40+Արմավիր!K40+Գեղարքունիք!K40+Լոռի!K40+Սյունիք!K40+Շիրակ!K40+Տավուշ!K40+Կոտայք!K40+'Երևան '!K40) -> 1 | ... AB40: =SUM(Արագածոտն!AB40+Արարատ!AB40+Արմավիր!AB40+Գեղարքունիք!AB40+Լոռի!AB40+Սյունիք!AB40+Շիրակ!AB40+Տավուշ!AB40+Կոտայք!AB40+'Երևան '!AB40) -> 0 | AC40: =D40+F40 -> 4 | AD40: =+U40+S40+N40 -> 4 | AE40: =N40 -> 1 | AF40: =SUM(K40:M40) -> 1 | AG40: =R40 -> 0 | AH40: =SUM(O40:Q40) -> 0 | AI40: =Y40 -> 0 | AJ40: =SUM(W40:X40) -> 0 | AK40: =AB40 -> 0 | AL40: =SUM(Z40:AA40) -> 0
A41: 3. | B41: Ընդամենը ռողջության դեմ ուղղված հանցագործությունները | D41: =SUM(Արագածոտն!D41+Արարատ!D41+Արմավիր!D41+Գեղարքունիք!D41+Լոռի!D41+Սյունիք!D41+Շիրակ!D41+Տավուշ!D41+Կոտայք!D41+'Երևան '!D41) -> 284 | E41: =SUM(Արագածոտն!E41+Արարատ!E41+Արմավիր!E41+Գեղարքունիք!E41+Լոռի!E41+Սյունիք!E41+Շիրակ!E41+Տավուշ!E41+Կոտայք!E41+'Երևան '!E41) -> 0 | F41: =SUM(Արագածոտն!F41+Արարատ!F41+Արմավիր!F41+Գեղարքունիք!F41+Լոռի!F41+Սյունիք!F41+Շիրակ!F41+Տավուշ!F41+Կոտայք!F41+'Երևան '!F41) -> 185 | G41: =SUM(Արագածոտն!G41+Արարատ!G41+Արմավիր!G41+Գեղարքունիք!G41+Լոռի!G41+Սյունիք!G41+Շիրակ!G41+Տավուշ!G41+Կոտայք!G41+'Երևան '!G41) -> 1 | H41: =SUM(Արագածոտն!H41+Արարատ!H41+Արմավիր!H41+Գեղարքունիք!H41+Լոռի!H41+Սյունիք!H41+Շիրակ!H41+Տավուշ!H41+Կոտայք!H41+'Երևան '!H41) -> 12 | I41: =SUM(Արագածոտն!I41+Արարատ!I41+Արմավիր!I41+Գեղարքունիք!I41+Լոռի!I41+Սյունիք!I41+Շիրակ!I41+Տավուշ!I41+Կոտայք!I41+'Երևան '!I41) -> 0 | J41: =SUM(Արագածոտն!J41+Արարատ!J41+Արմավիր!J41+Գեղարքունիք!J41+Լոռի!J41+Սյունիք!J41+Շիրակ!J41+Տավուշ!J41+Կոտայք!J41+'Երևան '!J41) -> 20 | K41: =SUM(Արագածոտն!K41+Արարատ!K41+Արմավիր!K41+Գեղարքունիք!K41+Լոռի!K41+Սյունիք!K41+Շիրակ!K41+Տավուշ!K41+Կոտայք!K41+'Երևան '!K41) -> 89 | ... AB41: =SUM(Արագածոտն!AB41+Արարատ!AB41+Արմավիր!AB41+Գեղարքունիք!AB41+Լոռի!AB41+Սյունիք!AB41+Շիրակ!AB41+Տավուշ!AB41+Կոտայք!AB41+'Երևան '!AB41) -> 2 | AC41: =SUM(AC42:AC49) -> 469 | AD41: =+U41+S41+N41 -> 466 | AE41: =SUM(AE42:AE49) -> 116 | AF41: =SUM(AF42:AF49) -> 116 | AG41: =SUM(AG42:AG49) -> 0 | AH41: =SUM(AH42:AH49) -> 0 | AI41: =SUM(AI42:AI49) -> 55 | AJ41: =SUM(AJ42:AJ49) -> 55 | AK41: =SUM(AK42:AK49) -> 2 | AL41: =SUM(AL42:AL49) -> 2
A42: 3.1 | B42: Առողջությանը ծանր վնաս պատճառելը | C42: 166 | D42: =SUM(Արագածոտն!D42+Արարատ!D42+Արմավիր!D42+Գեղարքունիք!D42+Լոռի!D42+Սյունիք!D42+Շիրակ!D42+Տավուշ!D42+Կոտայք!D42+'Երևան '!D42) -> 165 | E42: =SUM(Արագածոտն!E42+Արարատ!E42+Արմավիր!E42+Գեղարքունիք!E42+Լոռի!E42+Սյունիք!E42+Շիրակ!E42+Տավուշ!E42+Կոտայք!E42+'Երևան '!E42) -> 0 | F42: =SUM(Արագածոտն!F42+Արարատ!F42+Արմավիր!F42+Գեղարքունիք!F42+Լոռի!F42+Սյունիք!F42+Շիրակ!F42+Տավուշ!F42+Կոտայք!F42+'Երևան '!F42) -> 74 | G42: =SUM(Արագածոտն!G42+Արարատ!G42+Արմավիր!G42+Գեղարքունիք!G42+Լոռի!G42+Սյունիք!G42+Շիրակ!G42+Տավուշ!G42+Կոտայք!G42+'Երևան '!G42) -> 1 | H42: =SUM(Արագածոտն!H42+Արարատ!H42+Արմավիր!H42+Գեղարքունիք!H42+Լոռի!H42+Սյունիք!H42+Շիրակ!H42+Տավուշ!H42+Կոտայք!H42+'Երևան '!H42) -> 5 | I42: =SUM(Արագածոտն!I42+Արարատ!I42+Արմավիր!I42+Գեղարքունիք!I42+Լոռի!I42+Սյունիք!I42+Շիրակ!I42+Տավուշ!I42+Կոտայք!I42+'Երևան '!I42) -> 0 | J42: =SUM(Արագածոտն!J42+Արարատ!J42+Արմավիր!J42+Գեղարքունիք!J42+Լոռի!J42+Սյունիք!J42+Շիրակ!J42+Տավուշ!J42+Կոտայք!J42+'Երևան '!J42) -> 11 | K42: =SUM(Արագածոտն!K42+Արարատ!K42+Արմավիր!K42+Գեղարքունիք!K42+Լոռի!K42+Սյունիք!K42+Շիրակ!K42+Տավուշ!K42+Կոտայք!K42+'Երևան '!K42) -> 35 | ... AB42: =SUM(Արագածոտն!AB42+Արարատ!AB42+Արմավիր!AB42+Գեղարքունիք!AB42+Լոռի!AB42+Սյունիք!AB42+Շիրակ!AB42+Տավուշ!AB42+Կոտայք!AB42+'Երևան '!AB42) -> 2 | AC42: =D42+F42 -> 239 | AD42: =+U42+S42+N42 -> 238 | AE42: =N42 -> 38 | AF42: =SUM(K42:M42) -> 38 | AG42: =R42 -> 0 | AH42: =SUM(O42:Q42) -> 0 | AI42: =Y42 -> 39 | AJ42: =SUM(W42:X42) -> 39 | AK42: =AB42 -> 2 | AL42: =SUM(Z42:AA42) -> 2
A43: 3.2 | B43: Առողջությանը միջին ծանրության վնաս պատճառելը | C43: 167 | D43: =SUM(Արագածոտն!D43+Արարատ!D43+Արմավիր!D43+Գեղարքունիք!D43+Լոռի!D43+Սյունիք!D43+Շիրակ!D43+Տավուշ!D43+Կոտայք!D43+'Երևան '!D43) -> 38 | E43: =SUM(Արագածոտն!E43+Արարատ!E43+Արմավիր!E43+Գեղարքունիք!E43+Լոռի!E43+Սյունիք!E43+Շիրակ!E43+Տավուշ!E43+Կոտայք!E43+'Երևան '!E43) -> 0 | F43: =SUM(Արագածոտն!F43+Արարատ!F43+Արմավիր!F43+Գեղարքունիք!F43+Լոռի!F43+Սյունիք!F43+Շիրակ!F43+Տավուշ!F43+Կոտայք!F43+'Երևան '!F43) -> 27 | G43: =SUM(Արագածոտն!G43+Արարատ!G43+Արմավիր!G43+Գեղարքունիք!G43+Լոռի!G43+Սյունիք!G43+Շիրակ!G43+Տավուշ!G43+Կոտայք!G43+'Երևան '!G43) -> 0 | H43: =SUM(Արագածոտն!H43+Արարատ!H43+Արմավիր!H43+Գեղարքունիք!H43+Լոռի!H43+Սյունիք!H43+Շիրակ!H43+Տավուշ!H43+Կոտայք!H43+'Երևան '!H43) -> 4 | I43: =SUM(Արագածոտն!I43+Արարատ!I43+Արմավիր!I43+Գեղարքունիք!I43+Լոռի!I43+Սյունիք!I43+Շիրակ!I43+Տավուշ!I43+Կոտայք!I43+'Երևան '!I43) -> 0 | J43: =SUM(Արագածոտն!J43+Արարատ!J43+Արմավիր!J43+Գեղարքունիք!J43+Լոռի!J43+Սյունիք!J43+Շիրակ!J43+Տավուշ!J43+Կոտայք!J43+'Երևան '!J43) -> 3 | K43: =SUM(Արագածոտն!K43+Արարատ!K43+Արմավիր!K43+Գեղարքունիք!K43+Լոռի!K43+Սյունիք!K43+Շիրակ!K43+Տավուշ!K43+Կոտայք!K43+'Երևան '!K43) -> 16 | ... AB43: =SUM(Արագածոտն!AB43+Արարատ!AB43+Արմավիր!AB43+Գեղարքունիք!AB43+Լոռի!AB43+Սյունիք!AB43+Շիրակ!AB43+Տավուշ!AB43+Կոտայք!AB43+'Երևան '!AB43) -> 0 | AC43: =D43+F43 -> 65 | AD43: =+U43+S43+N43 -> 65 | AE43: =N43 -> 24 | AF43: =SUM(K43:M43) -> 24 | AG43: =R43 -> 0 | AH43: =SUM(O43:Q43) -> 0 | AI43: =Y43 -> 8 | AJ43: =SUM(W43:X43) -> 8 | AK43: =AB43 -> 0 | AL43: =SUM(Z43:AA43) -> 0
A44: 3.3 | B44: Առողջությանը ծանր կամ միջին ծանրության վնաս պատճառելը հոգեկան խիստ հուզմունքի վիճակում | C44: 168 | D44: =SUM(Արագածոտն!D44+Արարատ!D44+Արմավիր!D44+Գեղարքունիք!D44+Լոռի!D44+Սյունիք!D44+Շիրակ!D44+Տավուշ!D44+Կոտայք!D44+'Երևան '!D44) -> 0 | E44: =SUM(Արագածոտն!E44+Արարատ!E44+Արմավիր!E44+Գեղարքունիք!E44+Լոռի!E44+Սյունիք!E44+Շիրակ!E44+Տավուշ!E44+Կոտայք!E44+'Երևան '!E44) -> 0 | F44: =SUM(Արագածոտն!F44+Արարատ!F44+Արմավիր!F44+Գեղարքունիք!F44+Լոռի!F44+Սյունիք!F44+Շիրակ!F44+Տավուշ!F44+Կոտայք!F44+'Երևան '!F44) -> 0 | G44: =SUM(Արագածոտն!G44+Արարատ!G44+Արմավիր!G44+Գեղարքունիք!G44+Լոռի!G44+Սյունիք!G44+Շիրակ!G44+Տավուշ!G44+Կոտայք!G44+'Երևան '!G44) -> 0 | H44: =SUM(Արագածոտն!H44+Արարատ!H44+Արմավիր!H44+Գեղարքունիք!H44+Լոռի!H44+Սյունիք!H44+Շիրակ!H44+Տավուշ!H44+Կոտայք!H44+'Երևան '!H44) -> 0 | I44: =SUM(Արագածոտն!I44+Արարատ!I44+Արմավիր!I44+Գեղարքունիք!I44+Լոռի!I44+Սյունիք!I44+Շիրակ!I44+Տավուշ!I44+Կոտայք!I44+'Երևան '!I44) -> 0 | J44: =SUM(Արագածոտն!J44+Արարատ!J44+Արմավիր!J44+Գեղարքունիք!J44+Լոռի!J44+Սյունիք!J44+Շիրակ!J44+Տավուշ!J44+Կոտայք!J44+'Երևան '!J44) -> 0 | K44: =SUM(Արագածոտն!K44+Արարատ!K44+Արմավիր!K44+Գեղարքունիք!K44+Լոռի!K44+Սյունիք!K44+Շիրակ!K44+Տավուշ!K44+Կոտայք!K44+'Երևան '!K44) -> 0 | ... AB44: =SUM(Արագածոտն!AB44+Արարատ!AB44+Արմավիր!AB44+Գեղարքունիք!AB44+Լոռի!AB44+Սյունիք!AB44+Շիրակ!AB44+Տավուշ!AB44+Կոտայք!AB44+'Երևան '!AB44) -> 0 | AC44: =D44+F44 -> 0 | AD44: =+U44+S44+N44 -> 0 | AE44: =N44 -> 0 | AF44: =SUM(K44:M44) -> 0 | AG44: =R44 -> 0 | AH44: =SUM(O44:Q44) -> 0 | AI44: =Y44 -> 0 | AJ44: =SUM(W44:X44) -> 0 | AK44: =AB44 -> 0 | AL44: =SUM(Z44:AA44) -> 0
A45: 3.4 | B45: Առողջությանը ծանր կամ միջին ծանրության վնաս պատճառելը hակաիրավական ոտնձգություն կատարած անձին բռնելու համար անհրաժեշտ միջոցների սահմանազանցմամբ | C45: 169 | D45: =SUM(Արագածոտն!D45+Արարատ!D45+Արմավիր!D45+Գեղարքունիք!D45+Լոռի!D45+Սյունիք!D45+Շիրակ!D45+Տավուշ!D45+Կոտայք!D45+'Երևան '!D45) -> 0 | E45: =SUM(Արագածոտն!E45+Արարատ!E45+Արմավիր!E45+Գեղարքունիք!E45+Լոռի!E45+Սյունիք!E45+Շիրակ!E45+Տավուշ!E45+Կոտայք!E45+'Երևան '!E45) -> 0 | F45: =SUM(Արագածոտն!F45+Արարատ!F45+Արմավիր!F45+Գեղարքունիք!F45+Լոռի!F45+Սյունիք!F45+Շիրակ!F45+Տավուշ!F45+Կոտայք!F45+'Երևան '!F45) -> 0 | G45: =SUM(Արագածոտն!G45+Արարատ!G45+Արմավիր!G45+Գեղարքունիք!G45+Լոռի!G45+Սյունիք!G45+Շիրակ!G45+Տավուշ!G45+Կոտայք!G45+'Երևան '!G45) -> 0 | H45: =SUM(Արագածոտն!H45+Արարատ!H45+Արմավիր!H45+Գեղարքունիք!H45+Լոռի!H45+Սյունիք!H45+Շիրակ!H45+Տավուշ!H45+Կոտայք!H45+'Երևան '!H45) -> 0 | I45: =SUM(Արագածոտն!I45+Արարատ!I45+Արմավիր!I45+Գեղարքունիք!I45+Լոռի!I45+Սյունիք!I45+Շիրակ!I45+Տավուշ!I45+Կոտայք!I45+'Երևան '!I45) -> 0 | J45: =SUM(Արագածոտն!J45+Արարատ!J45+Արմավիր!J45+Գեղարքունիք!J45+Լոռի!J45+Սյունիք!J45+Շիրակ!J45+Տավուշ!J45+Կոտայք!J45+'Երևան '!J45) -> 0 | K45: =SUM(Արագածոտն!K45+Արարատ!K45+Արմավիր!K45+Գեղարքունիք!K45+Լոռի!K45+Սյունիք!K45+Շիրակ!K45+Տավուշ!K45+Կոտայք!K45+'Երևան '!K45) -> 0 | ... AB45: =SUM(Արագածոտն!AB45+Արարատ!AB45+Արմավիր!AB45+Գեղարքունիք!AB45+Լոռի!AB45+Սյունիք!AB45+Շիրակ!AB45+Տավուշ!AB45+Կոտայք!AB45+'Երևան '!AB45) -> 0 | AC45: =D45+F45 -> 0 | AD45: =+U45+S45+N45 -> 0 | AE45: =N45 -> 0 | AF45: =SUM(K45:M45) -> 0 | AG45: =R45 -> 0 | AH45: =SUM(O45:Q45) -> 0 | AI45: =Y45 -> 0 | AJ45: =SUM(W45:X45) -> 0 | AK45: =AB45 -> 0 | AL45: =SUM(Z45:AA45) -> 0
A46: 3.5 | B46: Առողջությանը ծանր կամ միջին ծանրության վնաս պատճառելն անհրաժեշտ պաշտպանության սահմանազանցմամբ | C46: 170 | D46: =SUM(Արագածոտն!D46+Արարատ!D46+Արմավիր!D46+Գեղարքունիք!D46+Լոռի!D46+Սյունիք!D46+Շիրակ!D46+Տավուշ!D46+Կոտայք!D46+'Երևան '!D46) -> 0 | E46: =SUM(Արագածոտն!E46+Արարատ!E46+Արմավիր!E46+Գեղարքունիք!E46+Լոռի!E46+Սյունիք!E46+Շիրակ!E46+Տավուշ!E46+Կոտայք!E46+'Երևան '!E46) -> 0 | F46: =SUM(Արագածոտն!F46+Արարատ!F46+Արմավիր!F46+Գեղարքունիք!F46+Լոռի!F46+Սյունիք!F46+Շիրակ!F46+Տավուշ!F46+Կոտայք!F46+'Երևան '!F46) -> 0 | G46: =SUM(Արագածոտն!G46+Արարատ!G46+Արմավիր!G46+Գեղարքունիք!G46+Լոռի!G46+Սյունիք!G46+Շիրակ!G46+Տավուշ!G46+Կոտայք!G46+'Երևան '!G46) -> 0 | H46: =SUM(Արագածոտն!H46+Արարատ!H46+Արմավիր!H46+Գեղարքունիք!H46+Լոռի!H46+Սյունիք!H46+Շիրակ!H46+Տավուշ!H46+Կոտայք!H46+'Երևան '!H46) -> 0 | I46: =SUM(Արագածոտն!I46+Արարատ!I46+Արմավիր!I46+Գեղարքունիք!I46+Լոռի!I46+Սյունիք!I46+Շիրակ!I46+Տավուշ!I46+Կոտայք!I46+'Երևան '!I46) -> 0 | J46: =SUM(Արագածոտն!J46+Արարատ!J46+Արմավիր!J46+Գեղարքունիք!J46+Լոռի!J46+Սյունիք!J46+Շիրակ!J46+Տավուշ!J46+Կոտայք!J46+'Երևան '!J46) -> 0 | K46: =SUM(Արագածոտն!K46+Արարատ!K46+Արմավիր!K46+Գեղարքունիք!K46+Լոռի!K46+Սյունիք!K46+Շիրակ!K46+Տավուշ!K46+Կոտայք!K46+'Երևան '!K46) -> 0 | ... AB46: =SUM(Արագածոտն!AB46+Արարատ!AB46+Արմավիր!AB46+Գեղարքունիք!AB46+Լոռի!AB46+Սյունիք!AB46+Շիրակ!AB46+Տավուշ!AB46+Կոտայք!AB46+'Երևան '!AB46) -> 0 | AC46: =D46+F46 -> 0 | AD46: =+U46+S46+N46 -> 0 | AE46: =N46 -> 0 | AF46: =SUM(K46:M46) -> 0 | AG46: =R46 -> 0 | AH46: =SUM(O46:Q46) -> 0 | AI46: =Y46 -> 1 | AJ46: =SUM(W46:X46) -> 1 | AK46: =AB46 -> 0 | AL46: =SUM(Z46:AA46) -> 0
A47: 3.6 | B47: Առողջությանը թեթև վնաս պատճառելը | C47: 171 | D47: =SUM(Արագածոտն!D47+Արարատ!D47+Արմավիր!D47+Գեղարքունիք!D47+Լոռի!D47+Սյունիք!D47+Շիրակ!D47+Տավուշ!D47+Կոտայք!D47+'Երևան '!D47) -> 78 | E47: =SUM(Արագածոտն!E47+Արարատ!E47+Արմավիր!E47+Գեղարքունիք!E47+Լոռի!E47+Սյունիք!E47+Շիրակ!E47+Տավուշ!E47+Կոտայք!E47+'Երևան '!E47) -> 0 | F47: =SUM(Արագածոտն!F47+Արարատ!F47+Արմավիր!F47+Գեղարքունիք!F47+Լոռի!F47+Սյունիք!F47+Շիրակ!F47+Տավուշ!F47+Կոտայք!F47+'Երևան '!F47) -> 78 | G47: =SUM(Արագածոտն!G47+Արարատ!G47+Արմավիր!G47+Գեղարքունիք!G47+Լոռի!G47+Սյունիք!G47+Շիրակ!G47+Տավուշ!G47+Կոտայք!G47+'Երևան '!G47) -> 0 | H47: =SUM(Արագածոտն!H47+Արարատ!H47+Արմավիր!H47+Գեղարքունիք!H47+Լոռի!H47+Սյունիք!H47+Շիրակ!H47+Տավուշ!H47+Կոտայք!H47+'Երևան '!H47) -> 3 | I47: =SUM(Արագածոտն!I47+Արարատ!I47+Արմավիր!I47+Գեղարքունիք!I47+Լոռի!I47+Սյունիք!I47+Շիրակ!I47+Տավուշ!I47+Կոտայք!I47+'Երևան '!I47) -> 0 | J47: =SUM(Արագածոտն!J47+Արարատ!J47+Արմավիր!J47+Գեղարքունիք!J47+Լոռի!J47+Սյունիք!J47+Շիրակ!J47+Տավուշ!J47+Կոտայք!J47+'Երևան '!J47) -> 6 | K47: =SUM(Արագածոտն!K47+Արարատ!K47+Արմավիր!K47+Գեղարքունիք!K47+Լոռի!K47+Սյունիք!K47+Շիրակ!K47+Տավուշ!K47+Կոտայք!K47+'Երևան '!K47) -> 36 | ... AB47: =SUM(Արագածոտն!AB47+Արարատ!AB47+Արմավիր!AB47+Գեղարքունիք!AB47+Լոռի!AB47+Սյունիք!AB47+Շիրակ!AB47+Տավուշ!AB47+Կոտայք!AB47+'Երևան '!AB47) -> 0 | AC47: =D47+F47 -> 156 | AD47: =+U47+S47+N47 -> 154 | AE47: =N47 -> 52 | AF47: =SUM(K47:M47) -> 52 | AG47: =R47 -> 0 | AH47: =SUM(O47:Q47) -> 0 | AI47: =Y47 -> 7 | AJ47: =SUM(W47:X47) -> 7 | AK47: =AB47 -> 0 | AL47: =SUM(Z47:AA47) -> 0
A48: 3.7 | B48: Անզգուշությամբ առողջությանը ծանր վնաս պատճառելը | C48: 172 | D48: =SUM(Արագածոտն!D48+Արարատ!D48+Արմավիր!D48+Գեղարքունիք!D48+Լոռի!D48+Սյունիք!D48+Շիրակ!D48+Տավուշ!D48+Կոտայք!D48+'Երևան '!D48) -> 2 | E48: =SUM(Արագածոտն!E48+Արարատ!E48+Արմավիր!E48+Գեղարքունիք!E48+Լոռի!E48+Սյունիք!E48+Շիրակ!E48+Տավուշ!E48+Կոտայք!E48+'Երևան '!E48) -> 0 | F48: =SUM(Արագածոտն!F48+Արարատ!F48+Արմավիր!F48+Գեղարքունիք!F48+Լոռի!F48+Սյունիք!F48+Շիրակ!F48+Տավուշ!F48+Կոտայք!F48+'Երևան '!F48) -> 4 | G48: =SUM(Արագածոտն!G48+Արարատ!G48+Արմավիր!G48+Գեղարքունիք!G48+Լոռի!G48+Սյունիք!G48+Շիրակ!G48+Տավուշ!G48+Կոտայք!G48+'Երևան '!G48) -> 0 | H48: =SUM(Արագածոտն!H48+Արարատ!H48+Արմավիր!H48+Գեղարքունիք!H48+Լոռի!H48+Սյունիք!H48+Շիրակ!H48+Տավուշ!H48+Կոտայք!H48+'Երևան '!H48) -> 0 | I48: =SUM(Արագածոտն!I48+Արարատ!I48+Արմավիր!I48+Գեղարքունիք!I48+Լոռի!I48+Սյունիք!I48+Շիրակ!I48+Տավուշ!I48+Կոտայք!I48+'Երևան '!I48) -> 0 | J48: =SUM(Արագածոտն!J48+Արարատ!J48+Արմավիր!J48+Գեղարքունիք!J48+Լոռի!J48+Սյունիք!J48+Շիրակ!J48+Տավուշ!J48+Կոտայք!J48+'Երևան '!J48) -> 0 | K48: =SUM(Արագածոտն!K48+Արարատ!K48+Արմավիր!K48+Գեղարքունիք!K48+Լոռի!K48+Սյունիք!K48+Շիրակ!K48+Տավուշ!K48+Կոտայք!K48+'Երևան '!K48) -> 2 | ... AB48: =SUM(Արագածոտն!AB48+Արարատ!AB48+Արմավիր!AB48+Գեղարքունիք!AB48+Լոռի!AB48+Սյունիք!AB48+Շիրակ!AB48+Տավուշ!AB48+Կոտայք!AB48+'Երևան '!AB48) -> 0 | AC48: =D48+F48 -> 6 | AD48: =+U48+S48+N48 -> 6 | AE48: =N48 -> 2 | AF48: =SUM(K48:M48) -> 2 | AG48: =R48 -> 0 | AH48: =SUM(O48:Q48) -> 0 | AI48: =Y48 -> 0 | AJ48: =SUM(W48:X48) -> 0 | AK48: =AB48 -> 0 | AL48: =SUM(Z48:AA48) -> 0
A49: 3.8 | B49: Անզգուշությամբ առողջությանը միջին ծանրության վնաս պատճառելը | C49: 173 | D49: =SUM(Արագածոտն!D49+Արարատ!D49+Արմավիր!D49+Գեղարքունիք!D49+Լոռի!D49+Սյունիք!D49+Շիրակ!D49+Տավուշ!D49+Կոտայք!D49+'Երևան '!D49) -> 1 | E49: =SUM(Արագածոտն!E49+Արարատ!E49+Արմավիր!E49+Գեղարքունիք!E49+Լոռի!E49+Սյունիք!E49+Շիրակ!E49+Տավուշ!E49+Կոտայք!E49+'Երևան '!E49) -> 0 | F49: =SUM(Արագածոտն!F49+Արարատ!F49+Արմավիր!F49+Գեղարքունիք!F49+Լոռի!F49+Սյունիք!F49+Շիրակ!F49+Տավուշ!F49+Կոտայք!F49+'Երևան '!F49) -> 2 | G49: =SUM(Արագածոտն!G49+Արարատ!G49+Արմավիր!G49+Գեղարքունիք!G49+Լոռի!G49+Սյունիք!G49+Շիրակ!G49+Տավուշ!G49+Կոտայք!G49+'Երևան '!G49) -> 0 | H49: =SUM(Արագածոտն!H49+Արարատ!H49+Արմավիր!H49+Գեղարքունիք!H49+Լոռի!H49+Սյունիք!H49+Շիրակ!H49+Տավուշ!H49+Կոտայք!H49+'Երևան '!H49) -> 0 | I49: =SUM(Արագածոտն!I49+Արարատ!I49+Արմավիր!I49+Գեղարքունիք!I49+Լոռի!I49+Սյունիք!I49+Շիրակ!I49+Տավուշ!I49+Կոտայք!I49+'Երևան '!I49) -> 0 | J49: =SUM(Արագածոտն!J49+Արարատ!J49+Արմավիր!J49+Գեղարքունիք!J49+Լոռի!J49+Սյունիք!J49+Շիրակ!J49+Տավուշ!J49+Կոտայք!J49+'Երևան '!J49) -> 0 | K49: =SUM(Արագածոտն!K49+Արարատ!K49+Արմավիր!K49+Գեղարքունիք!K49+Լոռի!K49+Սյունիք!K49+Շիրակ!K49+Տավուշ!K49+Կոտայք!K49+'Երևան '!K49) -> 0 | ... AB49: =SUM(Արագածոտն!AB49+Արարատ!AB49+Արմավիր!AB49+Գեղարքունիք!AB49+Լոռի!AB49+Սյունիք!AB49+Շիրակ!AB49+Տավուշ!AB49+Կոտայք!AB49+'Երևան '!AB49) -> 0 | AC49: =D49+F49 -> 3 | AD49: =+U49+S49+N49 -> 3 | AE49: =N49 -> 0 | AF49: =SUM(K49:M49) -> 0 | AG49: =R49 -> 0 | AH49: =SUM(O49:Q49) -> 0 | AI49: =Y49 -> 0 | AJ49: =SUM(W49:X49) -> 0 | AK49: =AB49 -> 0 | AL49: =SUM(Z49:AA49) -> 0
A50: 4. | B50: Ընդամենը կյանքը և առողջությունը վտանգող հանցագործությունները | D50: =SUM(Արագածոտն!D50+Արարատ!D50+Արմավիր!D50+Գեղարքունիք!D50+Լոռի!D50+Սյունիք!D50+Շիրակ!D50+Տավուշ!D50+Կոտայք!D50+'Երևան '!D50) -> 3 | E50: =SUM(Արագածոտն!E50+Արարատ!E50+Արմավիր!E50+Գեղարքունիք!E50+Լոռի!E50+Սյունիք!E50+Շիրակ!E50+Տավուշ!E50+Կոտայք!E50+'Երևան '!E50) -> 0 | F50: =SUM(Արագածոտն!F50+Արարատ!F50+Արմավիր!F50+Գեղարքունիք!F50+Լոռի!F50+Սյունիք!F50+Շիրակ!F50+Տավուշ!F50+Կոտայք!F50+'Երևան '!F50) -> 1 | G50: =SUM(Արագածոտն!G50+Արարատ!G50+Արմավիր!G50+Գեղարքունիք!G50+Լոռի!G50+Սյունիք!G50+Շիրակ!G50+Տավուշ!G50+Կոտայք!G50+'Երևան '!G50) -> 0 | H50: =SUM(Արագածոտն!H50+Արարատ!H50+Արմավիր!H50+Գեղարքունիք!H50+Լոռի!H50+Սյունիք!H50+Շիրակ!H50+Տավուշ!H50+Կոտայք!H50+'Երևան '!H50) -> 0 | I50: =SUM(Արագածոտն!I50+Արարատ!I50+Արմավիր!I50+Գեղարքունիք!I50+Լոռի!I50+Սյունիք!I50+Շիրակ!I50+Տավուշ!I50+Կոտայք!I50+'Երևան '!I50) -> 0 | J50: =SUM(Արագածոտն!J50+Արարատ!J50+Արմավիր!J50+Գեղարքունիք!J50+Լոռի!J50+Սյունիք!J50+Շիրակ!J50+Տավուշ!J50+Կոտայք!J50+'Երևան '!J50) -> 0 | K50: =SUM(Արագածոտն!K50+Արարատ!K50+Արմավիր!K50+Գեղարքունիք!K50+Լոռի!K50+Սյունիք!K50+Շիրակ!K50+Տավուշ!K50+Կոտայք!K50+'Երևան '!K50) -> 0 | ... AB50: =SUM(Արագածոտն!AB50+Արարատ!AB50+Արմավիր!AB50+Գեղարքունիք!AB50+Լոռի!AB50+Սյունիք!AB50+Շիրակ!AB50+Տավուշ!AB50+Կոտայք!AB50+'Երևան '!AB50) -> 0 | AC50: =SUM(AC51:AC64) -> 4 | AD50: =+U50+S50+N50 -> 4 | AE50: =SUM(AE51:AE64) -> 0 | AF50: =SUM(AF51:AF64) -> 0 | AG50: =SUM(AG51:AG64) -> 0 | AH50: =SUM(AH51:AH64) -> 0 | AI50: =SUM(AI51:AI64) -> 0 | AJ50: =SUM(AJ51:AJ64) -> 0 | AK50: =SUM(AK51:AK64) -> 0 | AL50: =SUM(AL51:AL64) -> 0
A51: 4.1 | B51: Հղիության ապօրինի արհեստական ընդհատում (աբորտ) կատարելը | C51: 174 | D51: =SUM(Արագածոտն!D51+Արարատ!D51+Արմավիր!D51+Գեղարքունիք!D51+Լոռի!D51+Սյունիք!D51+Շիրակ!D51+Տավուշ!D51+Կոտայք!D51+'Երևան '!D51) -> 0 | E51: =SUM(Արագածոտն!E51+Արարատ!E51+Արմավիր!E51+Գեղարքունիք!E51+Լոռի!E51+Սյունիք!E51+Շիրակ!E51+Տավուշ!E51+Կոտայք!E51+'Երևան '!E51) -> 0 | F51: =SUM(Արագածոտն!F51+Արարատ!F51+Արմավիր!F51+Գեղարքունիք!F51+Լոռի!F51+Սյունիք!F51+Շիրակ!F51+Տավուշ!F51+Կոտայք!F51+'Երևան '!F51) -> 0 | G51: =SUM(Արագածոտն!G51+Արարատ!G51+Արմավիր!G51+Գեղարքունիք!G51+Լոռի!G51+Սյունիք!G51+Շիրակ!G51+Տավուշ!G51+Կոտայք!G51+'Երևան '!G51) -> 0 | H51: =SUM(Արագածոտն!H51+Արարատ!H51+Արմավիր!H51+Գեղարքունիք!H51+Լոռի!H51+Սյունիք!H51+Շիրակ!H51+Տավուշ!H51+Կոտայք!H51+'Երևան '!H51) -> 0 | I51: =SUM(Արագածոտն!I51+Արարատ!I51+Արմավիր!I51+Գեղարքունիք!I51+Լոռի!I51+Սյունիք!I51+Շիրակ!I51+Տավուշ!I51+Կոտայք!I51+'Երևան '!I51) -> 0 | J51: =SUM(Արագածոտն!J51+Արարատ!J51+Արմավիր!J51+Գեղարքունիք!J51+Լոռի!J51+Սյունիք!J51+Շիրակ!J51+Տավուշ!J51+Կոտայք!J51+'Երևան '!J51) -> 0 | K51: =SUM(Արագածոտն!K51+Արարատ!K51+Արմավիր!K51+Գեղարքունիք!K51+Լոռի!K51+Սյունիք!K51+Շիրակ!K51+Տավուշ!K51+Կոտայք!K51+'Երևան '!K51) -> 0 | ... AB51: =SUM(Արագածոտն!AB51+Արարատ!AB51+Արմավիր!AB51+Գեղարքունիք!AB51+Լոռի!AB51+Սյունիք!AB51+Շիրակ!AB51+Տավուշ!AB51+Կոտայք!AB51+'Երևան '!AB51) -> 0 | AC51: =D51+F51 -> 0 | AD51: =+U51+S51+N51 -> 0 | AE51: =N51 -> 0 | AF51: =SUM(K51:M51) -> 0 | AG51: =R51 -> 0 | AH51: =SUM(O51:Q51) -> 0 | AI51: =Y51 -> 0 | AJ51: =SUM(W51:X51) -> 0 | AK51: =AB51 -> 0 | AL51: =SUM(Z51:AA51) -> 0
A52: 4.2 | B52: Հղիության արհեստական ընդհատում (աբորտ) կատարելը կամ ամլացումը | C52: 175 | D52: =SUM(Արագածոտն!D52+Արարատ!D52+Արմավիր!D52+Գեղարքունիք!D52+Լոռի!D52+Սյունիք!D52+Շիրակ!D52+Տավուշ!D52+Կոտայք!D52+'Երևան '!D52) -> 0 | E52: =SUM(Արագածոտն!E52+Արարատ!E52+Արմավիր!E52+Գեղարքունիք!E52+Լոռի!E52+Սյունիք!E52+Շիրակ!E52+Տավուշ!E52+Կոտայք!E52+'Երևան '!E52) -> 0 | F52: =SUM(Արագածոտն!F52+Արարատ!F52+Արմավիր!F52+Գեղարքունիք!F52+Լոռի!F52+Սյունիք!F52+Շիրակ!F52+Տավուշ!F52+Կոտայք!F52+'Երևան '!F52) -> 0 | G52: =SUM(Արագածոտն!G52+Արարատ!G52+Արմավիր!G52+Գեղարքունիք!G52+Լոռի!G52+Սյունիք!G52+Շիրակ!G52+Տավուշ!G52+Կոտայք!G52+'Երևան '!G52) -> 0 | H52: =SUM(Արագածոտն!H52+Արարատ!H52+Արմավիր!H52+Գեղարքունիք!H52+Լոռի!H52+Սյունիք!H52+Շիրակ!H52+Տավուշ!H52+Կոտայք!H52+'Երևան '!H52) -> 0 | I52: =SUM(Արագածոտն!I52+Արարատ!I52+Արմավիր!I52+Գեղարքունիք!I52+Լոռի!I52+Սյունիք!I52+Շիրակ!I52+Տավուշ!I52+Կոտայք!I52+'Երևան '!I52) -> 0 | J52: =SUM(Արագածոտն!J52+Արարատ!J52+Արմավիր!J52+Գեղարքունիք!J52+Լոռի!J52+Սյունիք!J52+Շիրակ!J52+Տավուշ!J52+Կոտայք!J52+'Երևան '!J52) -> 0 | K52: =SUM(Արագածոտն!K52+Արարատ!K52+Արմավիր!K52+Գեղարքունիք!K52+Լոռի!K52+Սյունիք!K52+Շիրակ!K52+Տավուշ!K52+Կոտայք!K52+'Երևան '!K52) -> 0 | ... AB52: =SUM(Արագածոտն!AB52+Արարատ!AB52+Արմավիր!AB52+Գեղարքունիք!AB52+Լոռի!AB52+Սյունիք!AB52+Շիրակ!AB52+Տավուշ!AB52+Կոտայք!AB52+'Երևան '!AB52) -> 0 | AC52: =D52+F52 -> 0 | AD52: =+U52+S52+N52 -> 0 | AE52: =N52 -> 0 | AF52: =SUM(K52:M52) -> 0 | AG52: =R52 -> 0 | AH52: =SUM(O52:Q52) -> 0 | AI52: =Y52 -> 0 | AJ52: =SUM(W52:X52) -> 0 | AK52: =AB52 -> 0 | AL52: =SUM(Z52:AA52) -> 0
A53: 4.3 | B53: Հղիության արհեստական ընդհատմանը (աբորտ կատարելուն) կամ ամլացմանը հարկադրելը | C53: 176 | D53: =SUM(Արագածոտն!D53+Արարատ!D53+Արմավիր!D53+Գեղարքունիք!D53+Լոռի!D53+Սյունիք!D53+Շիրակ!D53+Տավուշ!D53+Կոտայք!D53+'Երևան '!D53) -> 1 | E53: =SUM(Արագածոտն!E53+Արարատ!E53+Արմավիր!E53+Գեղարքունիք!E53+Լոռի!E53+Սյունիք!E53+Շիրակ!E53+Տավուշ!E53+Կոտայք!E53+'Երևան '!E53) -> 0 | F53: =SUM(Արագածոտն!F53+Արարատ!F53+Արմավիր!F53+Գեղարքունիք!F53+Լոռի!F53+Սյունիք!F53+Շիրակ!F53+Տավուշ!F53+Կոտայք!F53+'Երևան '!F53) -> 0 | G53: =SUM(Արագածոտն!G53+Արարատ!G53+Արմավիր!G53+Գեղարքունիք!G53+Լոռի!G53+Սյունիք!G53+Շիրակ!G53+Տավուշ!G53+Կոտայք!G53+'Երևան '!G53) -> 0 | H53: =SUM(Արագածոտն!H53+Արարատ!H53+Արմավիր!H53+Գեղարքունիք!H53+Լոռի!H53+Սյունիք!H53+Շիրակ!H53+Տավուշ!H53+Կոտայք!H53+'Երևան '!H53) -> 0 | I53: =SUM(Արագածոտն!I53+Արարատ!I53+Արմավիր!I53+Գեղարքունիք!I53+Լոռի!I53+Սյունիք!I53+Շիրակ!I53+Տավուշ!I53+Կոտայք!I53+'Երևան '!I53) -> 0 | J53: =SUM(Արագածոտն!J53+Արարատ!J53+Արմավիր!J53+Գեղարքունիք!J53+Լոռի!J53+Սյունիք!J53+Շիրակ!J53+Տավուշ!J53+Կոտայք!J53+'Երևան '!J53) -> 0 | K53: =SUM(Արագածոտն!K53+Արարատ!K53+Արմավիր!K53+Գեղարքունիք!K53+Լոռի!K53+Սյունիք!K53+Շիրակ!K53+Տավուշ!K53+Կոտայք!K53+'Երևան '!K53) -> 0 | ... AB53: =SUM(Արագածոտն!AB53+Արարատ!AB53+Արմավիր!AB53+Գեղարքունիք!AB53+Լոռի!AB53+Սյունիք!AB53+Շիրակ!AB53+Տավուշ!AB53+Կոտայք!AB53+'Երևան '!AB53) -> 0 | AC53: =D53+F53 -> 1 | AD53: =+U53+S53+N53 -> 1 | AE53: =N53 -> 0 | AF53: =SUM(K53:M53) -> 0 | AG53: =R53 -> 0 | AH53: =SUM(O53:Q53) -> 0 | AI53: =Y53 -> 0 | AJ53: =SUM(W53:X53) -> 0 | AK53: =AB53 -> 0 | AL53: =SUM(Z53:AA53) -> 0
A54: 4.4 | B54: Մարդու իմունային անբավարարության վիրուսով վարակելը | C54: 177 | D54: =SUM(Արագածոտն!D54+Արարատ!D54+Արմավիր!D54+Գեղարքունիք!D54+Լոռի!D54+Սյունիք!D54+Շիրակ!D54+Տավուշ!D54+Կոտայք!D54+'Երևան '!D54) -> 1 | E54: =SUM(Արագածոտն!E54+Արարատ!E54+Արմավիր!E54+Գեղարքունիք!E54+Լոռի!E54+Սյունիք!E54+Շիրակ!E54+Տավուշ!E54+Կոտայք!E54+'Երևան '!E54) -> 0 | F54: =SUM(Արագածոտն!F54+Արարատ!F54+Արմավիր!F54+Գեղարքունիք!F54+Լոռի!F54+Սյունիք!F54+Շիրակ!F54+Տավուշ!F54+Կոտայք!F54+'Երևան '!F54) -> 0 | G54: =SUM(Արագածոտն!G54+Արարատ!G54+Արմավիր!G54+Գեղարքունիք!G54+Լոռի!G54+Սյունիք!G54+Շիրակ!G54+Տավուշ!G54+Կոտայք!G54+'Երևան '!G54) -> 0 | H54: =SUM(Արագածոտն!H54+Արարատ!H54+Արմավիր!H54+Գեղարքունիք!H54+Լոռի!H54+Սյունիք!H54+Շիրակ!H54+Տավուշ!H54+Կոտայք!H54+'Երևան '!H54) -> 0 | I54: =SUM(Արագածոտն!I54+Արարատ!I54+Արմավիր!I54+Գեղարքունիք!I54+Լոռի!I54+Սյունիք!I54+Շիրակ!I54+Տավուշ!I54+Կոտայք!I54+'Երևան '!I54) -> 0 | J54: =SUM(Արագածոտն!J54+Արարատ!J54+Արմավիր!J54+Գեղարքունիք!J54+Լոռի!J54+Սյունիք!J54+Շիրակ!J54+Տավուշ!J54+Կոտայք!J54+'Երևան '!J54) -> 0 | K54: =SUM(Արագածոտն!K54+Արարատ!K54+Արմավիր!K54+Գեղարքունիք!K54+Լոռի!K54+Սյունիք!K54+Շիրակ!K54+Տավուշ!K54+Կոտայք!K54+'Երևան '!K54) -> 0 | ... AB54: =SUM(Արագածոտն!AB54+Արարատ!AB54+Արմավիր!AB54+Գեղարքունիք!AB54+Լոռի!AB54+Սյունիք!AB54+Շիրակ!AB54+Տավուշ!AB54+Կոտայք!AB54+'Երևան '!AB54) -> 0 | AC54: =D54+F54 -> 1 | AD54: =+U54+S54+N54 -> 1 | AE54: =N54 -> 0 | AF54: =SUM(K54:M54) -> 0 | AG54: =R54 -> 0 | AH54: =SUM(O54:Q54) -> 0 | AI54: =Y54 -> 0 | AJ54: =SUM(W54:X54) -> 0 | AK54: =AB54 -> 0 | AL54: =SUM(Z54:AA54) -> 0
A55: 4.5 | B55: Մարդու իմունային անբավարարության վիրուսով անզգուշությամբ վարակելը | C55: 178 | D55: =SUM(Արագածոտն!D55+Արարատ!D55+Արմավիր!D55+Գեղարքունիք!D55+Լոռի!D55+Սյունիք!D55+Շիրակ!D55+Տավուշ!D55+Կոտայք!D55+'Երևան '!D55) -> 0 | E55: =SUM(Արագածոտն!E55+Արարատ!E55+Արմավիր!E55+Գեղարքունիք!E55+Լոռի!E55+Սյունիք!E55+Շիրակ!E55+Տավուշ!E55+Կոտայք!E55+'Երևան '!E55) -> 0 | F55: =SUM(Արագածոտն!F55+Արարատ!F55+Արմավիր!F55+Գեղարքունիք!F55+Լոռի!F55+Սյունիք!F55+Շիրակ!F55+Տավուշ!F55+Կոտայք!F55+'Երևան '!F55) -> 0 | G55: =SUM(Արագածոտն!G55+Արարատ!G55+Արմավիր!G55+Գեղարքունիք!G55+Լոռի!G55+Սյունիք!G55+Շիրակ!G55+Տավուշ!G55+Կոտայք!G55+'Երևան '!G55) -> 0 | H55: =SUM(Արագածոտն!H55+Արարատ!H55+Արմավիր!H55+Գեղարքունիք!H55+Լոռի!H55+Սյունիք!H55+Շիրակ!H55+Տավուշ!H55+Կոտայք!H55+'Երևան '!H55) -> 0 | I55: =SUM(Արագածոտն!I55+Արարատ!I55+Արմավիր!I55+Գեղարքունիք!I55+Լոռի!I55+Սյունիք!I55+Շիրակ!I55+Տավուշ!I55+Կոտայք!I55+'Երևան '!I55) -> 0 | J55: =SUM(Արագածոտն!J55+Արարատ!J55+Արմավիր!J55+Գեղարքունիք!J55+Լոռի!J55+Սյունիք!J55+Շիրակ!J55+Տավուշ!J55+Կոտայք!J55+'Երևան '!J55) -> 0 | K55: =SUM(Արագածոտն!K55+Արարատ!K55+Արմավիր!K55+Գեղարքունիք!K55+Լոռի!K55+Սյունիք!K55+Շիրակ!K55+Տավուշ!K55+Կոտայք!K55+'Երևան '!K55) -> 0 | ... AB55: =SUM(Արագածոտն!AB55+Արարատ!AB55+Արմավիր!AB55+Գեղարքունիք!AB55+Լոռի!AB55+Սյունիք!AB55+Շիրակ!AB55+Տավուշ!AB55+Կոտայք!AB55+'Երևան '!AB55) -> 0 | AC55: =D55+F55 -> 0 | AD55: =+U55+S55+N55 -> 0 | AE55: =N55 -> 0 | AF55: =SUM(K55:M55) -> 0 | AG55: =R55 -> 0 | AH55: =SUM(O55:Q55) -> 0 | AI55: =Y55 -> 0 | AJ55: =SUM(W55:X55) -> 0 | AK55: =AB55 -> 0 | AL55: =SUM(Z55:AA55) -> 0
A56: 4.6 | B56: Սեռավարակով վարակելը | C56: 179 | D56: =SUM(Արագածոտն!D56+Արարատ!D56+Արմավիր!D56+Գեղարքունիք!D56+Լոռի!D56+Սյունիք!D56+Շիրակ!D56+Տավուշ!D56+Կոտայք!D56+'Երևան '!D56) -> 0 | E56: =SUM(Արագածոտն!E56+Արարատ!E56+Արմավիր!E56+Գեղարքունիք!E56+Լոռի!E56+Սյունիք!E56+Շիրակ!E56+Տավուշ!E56+Կոտայք!E56+'Երևան '!E56) -> 0 | F56: =SUM(Արագածոտն!F56+Արարատ!F56+Արմավիր!F56+Գեղարքունիք!F56+Լոռի!F56+Սյունիք!F56+Շիրակ!F56+Տավուշ!F56+Կոտայք!F56+'Երևան '!F56) -> 0 | G56: =SUM(Արագածոտն!G56+Արարատ!G56+Արմավիր!G56+Գեղարքունիք!G56+Լոռի!G56+Սյունիք!G56+Շիրակ!G56+Տավուշ!G56+Կոտայք!G56+'Երևան '!G56) -> 0 | H56: =SUM(Արագածոտն!H56+Արարատ!H56+Արմավիր!H56+Գեղարքունիք!H56+Լոռի!H56+Սյունիք!H56+Շիրակ!H56+Տավուշ!H56+Կոտայք!H56+'Երևան '!H56) -> 0 | I56: =SUM(Արագածոտն!I56+Արարատ!I56+Արմավիր!I56+Գեղարքունիք!I56+Լոռի!I56+Սյունիք!I56+Շիրակ!I56+Տավուշ!I56+Կոտայք!I56+'Երևան '!I56) -> 0 | J56: =SUM(Արագածոտն!J56+Արարատ!J56+Արմավիր!J56+Գեղարքունիք!J56+Լոռի!J56+Սյունիք!J56+Շիրակ!J56+Տավուշ!J56+Կոտայք!J56+'Երևան '!J56) -> 0 | K56: =SUM(Արագածոտն!K56+Արարատ!K56+Արմավիր!K56+Գեղարքունիք!K56+Լոռի!K56+Սյունիք!K56+Շիրակ!K56+Տավուշ!K56+Կոտայք!K56+'Երևան '!K56) -> 0 | ... AB56: =SUM(Արագածոտն!AB56+Արարատ!AB56+Արմավիր!AB56+Գեղարքունիք!AB56+Լոռի!AB56+Սյունիք!AB56+Շիրակ!AB56+Տավուշ!AB56+Կոտայք!AB56+'Երևան '!AB56) -> 0 | AC56: =D56+F56 -> 0 | AD56: =+U56+S56+N56 -> 0 | AE56: =N56 -> 0 | AF56: =SUM(K56:M56) -> 0 | AG56: =R56 -> 0 | AH56: =SUM(O56:Q56) -> 0 | AI56: =Y56 -> 0 | AJ56: =SUM(W56:X56) -> 0 | AK56: =AB56 -> 0 | AL56: =SUM(Z56:AA56) -> 0
A57: 4.7 | B57: Սեռավարակով անզգուշությամբ վարակելը | C57: 180 | D57: =SUM(Արագածոտն!D57+Արարատ!D57+Արմավիր!D57+Գեղարքունիք!D57+Լոռի!D57+Սյունիք!D57+Շիրակ!D57+Տավուշ!D57+Կոտայք!D57+'Երևան '!D57) -> 0 | E57: =SUM(Արագածոտն!E57+Արարատ!E57+Արմավիր!E57+Գեղարքունիք!E57+Լոռի!E57+Սյունիք!E57+Շիրակ!E57+Տավուշ!E57+Կոտայք!E57+'Երևան '!E57) -> 0 | F57: =SUM(Արագածոտն!F57+Արարատ!F57+Արմավիր!F57+Գեղարքունիք!F57+Լոռի!F57+Սյունիք!F57+Շիրակ!F57+Տավուշ!F57+Կոտայք!F57+'Երևան '!F57) -> 0 | G57: =SUM(Արագածոտն!G57+Արարատ!G57+Արմավիր!G57+Գեղարքունիք!G57+Լոռի!G57+Սյունիք!G57+Շիրակ!G57+Տավուշ!G57+Կոտայք!G57+'Երևան '!G57) -> 0 | H57: =SUM(Արագածոտն!H57+Արարատ!H57+Արմավիր!H57+Գեղարքունիք!H57+Լոռի!H57+Սյունիք!H57+Շիրակ!H57+Տավուշ!H57+Կոտայք!H57+'Երևան '!H57) -> 0 | I57: =SUM(Արագածոտն!I57+Արարատ!I57+Արմավիր!I57+Գեղարքունիք!I57+Լոռի!I57+Սյունիք!I57+Շիրակ!I57+Տավուշ!I57+Կոտայք!I57+'Երևան '!I57) -> 0 | J57: =SUM(Արագածոտն!J57+Արարատ!J57+Արմավիր!J57+Գեղարքունիք!J57+Լոռի!J57+Սյունիք!J57+Շիրակ!J57+Տավուշ!J57+Կոտայք!J57+'Երևան '!J57) -> 0 | K57: =SUM(Արագածոտն!K57+Արարատ!K57+Արմավիր!K57+Գեղարքունիք!K57+Լոռի!K57+Սյունիք!K57+Շիրակ!K57+Տավուշ!K57+Կոտայք!K57+'Երևան '!K57) -> 0 | ... AB57: =SUM(Արագածոտն!AB57+Արարատ!AB57+Արմավիր!AB57+Գեղարքունիք!AB57+Լոռի!AB57+Սյունիք!AB57+Շիրակ!AB57+Տավուշ!AB57+Կոտայք!AB57+'Երևան '!AB57) -> 0 | AC57: =D57+F57 -> 0 | AD57: =+U57+S57+N57 -> 0 | AE57: =N57 -> 0 | AF57: =SUM(K57:M57) -> 0 | AG57: =R57 -> 0 | AH57: =SUM(O57:Q57) -> 0 | AI57: =Y57 -> 0 | AJ57: =SUM(W57:X57) -> 0 | AK57: =AB57 -> 0 | AL57: =SUM(Z57:AA57) -> 0
A58: 4.8 | B58: Շրջապատի համար վտանգ ներկայացնող հիվանդությամբ վարակելը | C58: 181 | D58: =SUM(Արագածոտն!D58+Արարատ!D58+Արմավիր!D58+Գեղարքունիք!D58+Լոռի!D58+Սյունիք!D58+Շիրակ!D58+Տավուշ!D58+Կոտայք!D58+'Երևան '!D58) -> 0 | E58: =SUM(Արագածոտն!E58+Արարատ!E58+Արմավիր!E58+Գեղարքունիք!E58+Լոռի!E58+Սյունիք!E58+Շիրակ!E58+Տավուշ!E58+Կոտայք!E58+'Երևան '!E58) -> 0 | F58: =SUM(Արագածոտն!F58+Արարատ!F58+Արմավիր!F58+Գեղարքունիք!F58+Լոռի!F58+Սյունիք!F58+Շիրակ!F58+Տավուշ!F58+Կոտայք!F58+'Երևան '!F58) -> 0 | G58: =SUM(Արագածոտն!G58+Արարատ!G58+Արմավիր!G58+Գեղարքունիք!G58+Լոռի!G58+Սյունիք!G58+Շիրակ!G58+Տավուշ!G58+Կոտայք!G58+'Երևան '!G58) -> 0 | H58: =SUM(Արագածոտն!H58+Արարատ!H58+Արմավիր!H58+Գեղարքունիք!H58+Լոռի!H58+Սյունիք!H58+Շիրակ!H58+Տավուշ!H58+Կոտայք!H58+'Երևան '!H58) -> 0 | I58: =SUM(Արագածոտն!I58+Արարատ!I58+Արմավիր!I58+Գեղարքունիք!I58+Լոռի!I58+Սյունիք!I58+Շիրակ!I58+Տավուշ!I58+Կոտայք!I58+'Երևան '!I58) -> 0 | J58: =SUM(Արագածոտն!J58+Արարատ!J58+Արմավիր!J58+Գեղարքունիք!J58+Լոռի!J58+Սյունիք!J58+Շիրակ!J58+Տավուշ!J58+Կոտայք!J58+'Երևան '!J58) -> 0 | K58: =SUM(Արագածոտն!K58+Արարատ!K58+Արմավիր!K58+Գեղարքունիք!K58+Լոռի!K58+Սյունիք!K58+Շիրակ!K58+Տավուշ!K58+Կոտայք!K58+'Երևան '!K58) -> 0 | ... AB58: =SUM(Արագածոտն!AB58+Արարատ!AB58+Արմավիր!AB58+Գեղարքունիք!AB58+Լոռի!AB58+Սյունիք!AB58+Շիրակ!AB58+Տավուշ!AB58+Կոտայք!AB58+'Երևան '!AB58) -> 0 | AC58: =D58+F58 -> 0 | AD58: =+U58+S58+N58 -> 0 | AE58: =N58 -> 0 | AF58: =SUM(K58:M58) -> 0 | AG58: =R58 -> 0 | AH58: =SUM(O58:Q58) -> 0 | AI58: =Y58 -> 0 | AJ58: =SUM(W58:X58) -> 0 | AK58: =AB58 -> 0 | AL58: =SUM(Z58:AA58) -> 0
A59: 4.9 | B59: Վտանգի մեջ թողնելը | C59: 182 | D59: =SUM(Արագածոտն!D59+Արարատ!D59+Արմավիր!D59+Գեղարքունիք!D59+Լոռի!D59+Սյունիք!D59+Շիրակ!D59+Տավուշ!D59+Կոտայք!D59+'Երևան '!D59) -> 0 | E59: =SUM(Արագածոտն!E59+Արարատ!E59+Արմավիր!E59+Գեղարքունիք!E59+Լոռի!E59+Սյունիք!E59+Շիրակ!E59+Տավուշ!E59+Կոտայք!E59+'Երևան '!E59) -> 0 | F59: =SUM(Արագածոտն!F59+Արարատ!F59+Արմավիր!F59+Գեղարքունիք!F59+Լոռի!F59+Սյունիք!F59+Շիրակ!F59+Տավուշ!F59+Կոտայք!F59+'Երևան '!F59) -> 1 | G59: =SUM(Արագածոտն!G59+Արարատ!G59+Արմավիր!G59+Գեղարքունիք!G59+Լոռի!G59+Սյունիք!G59+Շիրակ!G59+Տավուշ!G59+Կոտայք!G59+'Երևան '!G59) -> 0 | H59: =SUM(Արագածոտն!H59+Արարատ!H59+Արմավիր!H59+Գեղարքունիք!H59+Լոռի!H59+Սյունիք!H59+Շիրակ!H59+Տավուշ!H59+Կոտայք!H59+'Երևան '!H59) -> 0 | I59: =SUM(Արագածոտն!I59+Արարատ!I59+Արմավիր!I59+Գեղարքունիք!I59+Լոռի!I59+Սյունիք!I59+Շիրակ!I59+Տավուշ!I59+Կոտայք!I59+'Երևան '!I59) -> 0 | J59: =SUM(Արագածոտն!J59+Արարատ!J59+Արմավիր!J59+Գեղարքունիք!J59+Լոռի!J59+Սյունիք!J59+Շիրակ!J59+Տավուշ!J59+Կոտայք!J59+'Երևան '!J59) -> 0 | K59: =SUM(Արագածոտն!K59+Արարատ!K59+Արմավիր!K59+Գեղարքունիք!K59+Լոռի!K59+Սյունիք!K59+Շիրակ!K59+Տավուշ!K59+Կոտայք!K59+'Երևան '!K59) -> 0 | ... AB59: =SUM(Արագածոտն!AB59+Արարատ!AB59+Արմավիր!AB59+Գեղարքունիք!AB59+Լոռի!AB59+Սյունիք!AB59+Շիրակ!AB59+Տավուշ!AB59+Կոտայք!AB59+'Երևան '!AB59) -> 0 | AC59: =D59+F59 -> 1 | AD59: =+U59+S59+N59 -> 1 | AE59: =N59 -> 0 | AF59: =SUM(K59:M59) -> 0 | AG59: =R59 -> 0 | AH59: =SUM(O59:Q59) -> 0 | AI59: =Y59 -> 0 | AJ59: =SUM(W59:X59) -> 0 | AK59: =AB59 -> 0 | AL59: =SUM(Z59:AA59) -> 0
A60: 4.10 | B60: Մարդու սաղմի, պտղի, մարդու կամ դիակի բջիջների, հյուսվածքների, օրգանների կամ կենսաբանական նյութերի կամ հեղուկների ապօրինի շրջանառությունը | C60: 183 | D60: =SUM(Արագածոտն!D60+Արարատ!D60+Արմավիր!D60+Գեղարքունիք!D60+Լոռի!D60+Սյունիք!D60+Շիրակ!D60+Տավուշ!D60+Կոտայք!D60+'Երևան '!D60) -> 0 | E60: =SUM(Արագածոտն!E60+Արարատ!E60+Արմավիր!E60+Գեղարքունիք!E60+Լոռի!E60+Սյունիք!E60+Շիրակ!E60+Տավուշ!E60+Կոտայք!E60+'Երևան '!E60) -> 0 | F60: =SUM(Արագածոտն!F60+Արարատ!F60+Արմավիր!F60+Գեղարքունիք!F60+Լոռի!F60+Սյունիք!F60+Շիրակ!F60+Տավուշ!F60+Կոտայք!F60+'Երևան '!F60) -> 0 | G60: =SUM(Արագածոտն!G60+Արարատ!G60+Արմավիր!G60+Գեղարքունիք!G60+Լոռի!G60+Սյունիք!G60+Շիրակ!G60+Տավուշ!G60+Կոտայք!G60+'Երևան '!G60) -> 0 | H60: =SUM(Արագածոտն!H60+Արարատ!H60+Արմավիր!H60+Գեղարքունիք!H60+Լոռի!H60+Սյունիք!H60+Շիրակ!H60+Տավուշ!H60+Կոտայք!H60+'Երևան '!H60) -> 0 | I60: =SUM(Արագածոտն!I60+Արարատ!I60+Արմավիր!I60+Գեղարքունիք!I60+Լոռի!I60+Սյունիք!I60+Շիրակ!I60+Տավուշ!I60+Կոտայք!I60+'Երևան '!I60) -> 0 | J60: =SUM(Արագածոտն!J60+Արարատ!J60+Արմավիր!J60+Գեղարքունիք!J60+Լոռի!J60+Սյունիք!J60+Շիրակ!J60+Տավուշ!J60+Կոտայք!J60+'Երևան '!J60) -> 0 | K60: =SUM(Արագածոտն!K60+Արարատ!K60+Արմավիր!K60+Գեղարքունիք!K60+Լոռի!K60+Սյունիք!K60+Շիրակ!K60+Տավուշ!K60+Կոտայք!K60+'Երևան '!K60) -> 0 | ... AB60: =SUM(Արագածոտն!AB60+Արարատ!AB60+Արմավիր!AB60+Գեղարքունիք!AB60+Լոռի!AB60+Սյունիք!AB60+Շիրակ!AB60+Տավուշ!AB60+Կոտայք!AB60+'Երևան '!AB60) -> 0 | AC60: =D60+F60 -> 0 | AD60: =+U60+S60+N60 -> 0 | AE60: =N60 -> 0 | AF60: =SUM(K60:M60) -> 0 | AG60: =R60 -> 0 | AH60: =SUM(O60:Q60) -> 0 | AI60: =Y60 -> 0 | AJ60: =SUM(W60:X60) -> 0 | AK60: =AB60 -> 0 | AL60: =SUM(Z60:AA60) -> 0
A61: 4.11 | B61: Փոխպատվաստման կանոնները խախտելը | C61: 184 | D61: =SUM(Արագածոտն!D61+Արարատ!D61+Արմավիր!D61+Գեղարքունիք!D61+Լոռի!D61+Սյունիք!D61+Շիրակ!D61+Տավուշ!D61+Կոտայք!D61+'Երևան '!D61) -> 0 | E61: =SUM(Արագածոտն!E61+Արարատ!E61+Արմավիր!E61+Գեղարքունիք!E61+Լոռի!E61+Սյունիք!E61+Շիրակ!E61+Տավուշ!E61+Կոտայք!E61+'Երևան '!E61) -> 0 | F61: =SUM(Արագածոտն!F61+Արարատ!F61+Արմավիր!F61+Գեղարքունիք!F61+Լոռի!F61+Սյունիք!F61+Շիրակ!F61+Տավուշ!F61+Կոտայք!F61+'Երևան '!F61) -> 0 | G61: =SUM(Արագածոտն!G61+Արարատ!G61+Արմավիր!G61+Գեղարքունիք!G61+Լոռի!G61+Սյունիք!G61+Շիրակ!G61+Տավուշ!G61+Կոտայք!G61+'Երևան '!G61) -> 0 | H61: =SUM(Արագածոտն!H61+Արարատ!H61+Արմավիր!H61+Գեղարքունիք!H61+Լոռի!H61+Սյունիք!H61+Շիրակ!H61+Տավուշ!H61+Կոտայք!H61+'Երևան '!H61) -> 0 | I61: =SUM(Արագածոտն!I61+Արարատ!I61+Արմավիր!I61+Գեղարքունիք!I61+Լոռի!I61+Սյունիք!I61+Շիրակ!I61+Տավուշ!I61+Կոտայք!I61+'Երևան '!I61) -> 0 | J61: =SUM(Արագածոտն!J61+Արարատ!J61+Արմավիր!J61+Գեղարքունիք!J61+Լոռի!J61+Սյունիք!J61+Շիրակ!J61+Տավուշ!J61+Կոտայք!J61+'Երևան '!J61) -> 0 | K61: =SUM(Արագածոտն!K61+Արարատ!K61+Արմավիր!K61+Գեղարքունիք!K61+Լոռի!K61+Սյունիք!K61+Շիրակ!K61+Տավուշ!K61+Կոտայք!K61+'Երևան '!K61) -> 0 | ... AB61: =SUM(Արագածոտն!AB61+Արարատ!AB61+Արմավիր!AB61+Գեղարքունիք!AB61+Լոռի!AB61+Սյունիք!AB61+Շիրակ!AB61+Տավուշ!AB61+Կոտայք!AB61+'Երևան '!AB61) -> 0 | AC61: =D61+F61 -> 0 | AD61: =+U61+S61+N61 -> 0 | AE61: =N61 -> 0 | AF61: =SUM(K61:M61) -> 0 | AG61: =R61 -> 0 | AH61: =SUM(O61:Q61) -> 0 | AI61: =Y61 -> 0 | AJ61: =SUM(W61:X61) -> 0 | AK61: =AB61 -> 0 | AL61: =SUM(Z61:AA61) -> 0
A62: 4.12 | B62: Անձին առանց իր համաձայնության բժշկական, գիտական կամ այլ փորձի ենթարկելը | C62: 185 | D62: =SUM(Արագածոտն!D62+Արարատ!D62+Արմավիր!D62+Գեղարքունիք!D62+Լոռի!D62+Սյունիք!D62+Շիրակ!D62+Տավուշ!D62+Կոտայք!D62+'Երևան '!D62) -> 0 | E62: =SUM(Արագածոտն!E62+Արարատ!E62+Արմավիր!E62+Գեղարքունիք!E62+Լոռի!E62+Սյունիք!E62+Շիրակ!E62+Տավուշ!E62+Կոտայք!E62+'Երևան '!E62) -> 0 | F62: =SUM(Արագածոտն!F62+Արարատ!F62+Արմավիր!F62+Գեղարքունիք!F62+Լոռի!F62+Սյունիք!F62+Շիրակ!F62+Տավուշ!F62+Կոտայք!F62+'Երևան '!F62) -> 0 | G62: =SUM(Արագածոտն!G62+Արարատ!G62+Արմավիր!G62+Գեղարքունիք!G62+Լոռի!G62+Սյունիք!G62+Շիրակ!G62+Տավուշ!G62+Կոտայք!G62+'Երևան '!G62) -> 0 | H62: =SUM(Արագածոտն!H62+Արարատ!H62+Արմավիր!H62+Գեղարքունիք!H62+Լոռի!H62+Սյունիք!H62+Շիրակ!H62+Տավուշ!H62+Կոտայք!H62+'Երևան '!H62) -> 0 | I62: =SUM(Արագածոտն!I62+Արարատ!I62+Արմավիր!I62+Գեղարքունիք!I62+Լոռի!I62+Սյունիք!I62+Շիրակ!I62+Տավուշ!I62+Կոտայք!I62+'Երևան '!I62) -> 0 | J62: =SUM(Արագածոտն!J62+Արարատ!J62+Արմավիր!J62+Գեղարքունիք!J62+Լոռի!J62+Սյունիք!J62+Շիրակ!J62+Տավուշ!J62+Կոտայք!J62+'Երևան '!J62) -> 0 | K62: =SUM(Արագածոտն!K62+Արարատ!K62+Արմավիր!K62+Գեղարքունիք!K62+Լոռի!K62+Սյունիք!K62+Շիրակ!K62+Տավուշ!K62+Կոտայք!K62+'Երևան '!K62) -> 0 | ... AB62: =SUM(Արագածոտն!AB62+Արարատ!AB62+Արմավիր!AB62+Գեղարքունիք!AB62+Լոռի!AB62+Սյունիք!AB62+Շիրակ!AB62+Տավուշ!AB62+Կոտայք!AB62+'Երևան '!AB62) -> 0 | AC62: =D62+F62 -> 0 | AD62: =+U62+S62+N62 -> 0 | AE62: =N62 -> 0 | AF62: =SUM(K62:M62) -> 0 | AG62: =R62 -> 0 | AH62: =SUM(O62:Q62) -> 0 | AI62: =Y62 -> 0 | AJ62: =SUM(W62:X62) -> 0 | AK62: =AB62 -> 0 | AL62: =SUM(Z62:AA62) -> 0
A63: 4.13 | B63: Մարդու վերարտադրողական կլոնավորումը կամ եվգենիկական փորձերը | C63: 186 | D63: =SUM(Արագածոտն!D63+Արարատ!D63+Արմավիր!D63+Գեղարքունիք!D63+Լոռի!D63+Սյունիք!D63+Շիրակ!D63+Տավուշ!D63+Կոտայք!D63+'Երևան '!D63) -> 0 | E63: =SUM(Արագածոտն!E63+Արարատ!E63+Արմավիր!E63+Գեղարքունիք!E63+Լոռի!E63+Սյունիք!E63+Շիրակ!E63+Տավուշ!E63+Կոտայք!E63+'Երևան '!E63) -> 0 | F63: =SUM(Արագածոտն!F63+Արարատ!F63+Արմավիր!F63+Գեղարքունիք!F63+Լոռի!F63+Սյունիք!F63+Շիրակ!F63+Տավուշ!F63+Կոտայք!F63+'Երևան '!F63) -> 0 | G63: =SUM(Արագածոտն!G63+Արարատ!G63+Արմավիր!G63+Գեղարքունիք!G63+Լոռի!G63+Սյունիք!G63+Շիրակ!G63+Տավուշ!G63+Կոտայք!G63+'Երևան '!G63) -> 0 | H63: =SUM(Արագածոտն!H63+Արարատ!H63+Արմավիր!H63+Գեղարքունիք!H63+Լոռի!H63+Սյունիք!H63+Շիրակ!H63+Տավուշ!H63+Կոտայք!H63+'Երևան '!H63) -> 0 | I63: =SUM(Արագածոտն!I63+Արարատ!I63+Արմավիր!I63+Գեղարքունիք!I63+Լոռի!I63+Սյունիք!I63+Շիրակ!I63+Տավուշ!I63+Կոտայք!I63+'Երևան '!I63) -> 0 | J63: =SUM(Արագածոտն!J63+Արարատ!J63+Արմավիր!J63+Գեղարքունիք!J63+Լոռի!J63+Սյունիք!J63+Շիրակ!J63+Տավուշ!J63+Կոտայք!J63+'Երևան '!J63) -> 0 | K63: =SUM(Արագածոտն!K63+Արարատ!K63+Արմավիր!K63+Գեղարքունիք!K63+Լոռի!K63+Սյունիք!K63+Շիրակ!K63+Տավուշ!K63+Կոտայք!K63+'Երևան '!K63) -> 0 | ... AB63: =SUM(Արագածոտն!AB63+Արարատ!AB63+Արմավիր!AB63+Գեղարքունիք!AB63+Լոռի!AB63+Սյունիք!AB63+Շիրակ!AB63+Տավուշ!AB63+Կոտայք!AB63+'Երևան '!AB63) -> 0 | AC63: =D63+F63 -> 0 | AD63: =+U63+S63+N63 -> 0 | AE63: =N63 -> 0 | AF63: =SUM(K63:M63) -> 0 | AG63: =R63 -> 0 | AH63: =SUM(O63:Q63) -> 0 | AI63: =Y63 -> 0 | AJ63: =SUM(W63:X63) -> 0 | AK63: =AB63 -> 0 | AL63: =SUM(Z63:AA63) -> 0
A64: 4.14 | B64: Բուժաշխատողի կողմից մասնագիտական պարտականությունները չկատարելը կամ ոչ պատշաճ կատարելը | C64: 187 | D64: =SUM(Արագածոտն!D64+Արարատ!D64+Արմավիր!D64+Գեղարքունիք!D64+Լոռի!D64+Սյունիք!D64+Շիրակ!D64+Տավուշ!D64+Կոտայք!D64+'Երևան '!D64) -> 1 | E64: =SUM(Արագածոտն!E64+Արարատ!E64+Արմավիր!E64+Գեղարքունիք!E64+Լոռի!E64+Սյունիք!E64+Շիրակ!E64+Տավուշ!E64+Կոտայք!E64+'Երևան '!E64) -> 0 | F64: =SUM(Արագածոտն!F64+Արարատ!F64+Արմավիր!F64+Գեղարքունիք!F64+Լոռի!F64+Սյունիք!F64+Շիրակ!F64+Տավուշ!F64+Կոտայք!F64+'Երևան '!F64) -> 0 | G64: =SUM(Արագածոտն!G64+Արարատ!G64+Արմավիր!G64+Գեղարքունիք!G64+Լոռի!G64+Սյունիք!G64+Շիրակ!G64+Տավուշ!G64+Կոտայք!G64+'Երևան '!G64) -> 0 | H64: =SUM(Արագածոտն!H64+Արարատ!H64+Արմավիր!H64+Գեղարքունիք!H64+Լոռի!H64+Սյունիք!H64+Շիրակ!H64+Տավուշ!H64+Կոտայք!H64+'Երևան '!H64) -> 0 | I64: =SUM(Արագածոտն!I64+Արարատ!I64+Արմավիր!I64+Գեղարքունիք!I64+Լոռի!I64+Սյունիք!I64+Շիրակ!I64+Տավուշ!I64+Կոտայք!I64+'Երևան '!I64) -> 0 | J64: =SUM(Արագածոտն!J64+Արարատ!J64+Արմավիր!J64+Գեղարքունիք!J64+Լոռի!J64+Սյունիք!J64+Շիրակ!J64+Տավուշ!J64+Կոտայք!J64+'Երևան '!J64) -> 0 | K64: =SUM(Արագածոտն!K64+Արարատ!K64+Արմավիր!K64+Գեղարքունիք!K64+Լոռի!K64+Սյունիք!K64+Շիրակ!K64+Տավուշ!K64+Կոտայք!K64+'Երևան '!K64) -> 0 | ... AB64: =SUM(Արագածոտն!AB64+Արարատ!AB64+Արմավիր!AB64+Գեղարքունիք!AB64+Լոռի!AB64+Սյունիք!AB64+Շիրակ!AB64+Տավուշ!AB64+Կոտայք!AB64+'Երևան '!AB64) -> 0 | AC64: =D64+F64 -> 1 | AD64: =+U64+S64+N64 -> 1 | AE64: =N64 -> 0 | AF64: =SUM(K64:M64) -> 0 | AG64: =R64 -> 0 | AH64: =SUM(O64:Q64) -> 0 | AI64: =Y64 -> 0 | AJ64: =SUM(W64:X64) -> 0 | AK64: =AB64 -> 0 | AL64: =SUM(Z64:AA64) -> 0
A65: 5. | B65: Ընդամենը ազատության, պատվի, արժանապատվության, ֆիզիկական կամ հոգեկան անձեռնմխելիության դեմ ուղղված հանցագործությունները | D65: =SUM(Արագածոտն!D65+Արարատ!D65+Արմավիր!D65+Գեղարքունիք!D65+Լոռի!D65+Սյունիք!D65+Շիրակ!D65+Տավուշ!D65+Կոտայք!D65+'Երևան '!D65) -> 260 | E65: =SUM(Արագածոտն!E65+Արարատ!E65+Արմավիր!E65+Գեղարքունիք!E65+Լոռի!E65+Սյունիք!E65+Շիրակ!E65+Տավուշ!E65+Կոտայք!E65+'Երևան '!E65) -> 0 | F65: =SUM(Արագածոտն!F65+Արարատ!F65+Արմավիր!F65+Գեղարքունիք!F65+Լոռի!F65+Սյունիք!F65+Շիրակ!F65+Տավուշ!F65+Կոտայք!F65+'Երևան '!F65) -> 259 | G65: =SUM(Արագածոտն!G65+Արարատ!G65+Արմավիր!G65+Գեղարքունիք!G65+Լոռի!G65+Սյունիք!G65+Շիրակ!G65+Տավուշ!G65+Կոտայք!G65+'Երևան '!G65) -> 0 | H65: =SUM(Արագածոտն!H65+Արարատ!H65+Արմավիր!H65+Գեղարքունիք!H65+Լոռի!H65+Սյունիք!H65+Շիրակ!H65+Տավուշ!H65+Կոտայք!H65+'Երևան '!H65) -> 18 | I65: =SUM(Արագածոտն!I65+Արարատ!I65+Արմավիր!I65+Գեղարքունիք!I65+Լոռի!I65+Սյունիք!I65+Շիրակ!I65+Տավուշ!I65+Կոտայք!I65+'Երևան '!I65) -> 0 | J65: =SUM(Արագածոտն!J65+Արարատ!J65+Արմավիր!J65+Գեղարքունիք!J65+Լոռի!J65+Սյունիք!J65+Շիրակ!J65+Տավուշ!J65+Կոտայք!J65+'Երևան '!J65) -> 39 | K65: =SUM(Արագածոտն!K65+Արարատ!K65+Արմավիր!K65+Գեղարքունիք!K65+Լոռի!K65+Սյունիք!K65+Շիրակ!K65+Տավուշ!K65+Կոտայք!K65+'Երևան '!K65) -> 165 | ... AB65: =SUM(Արագածոտն!AB65+Արարատ!AB65+Արմավիր!AB65+Գեղարքունիք!AB65+Լոռի!AB65+Սյունիք!AB65+Շիրակ!AB65+Տավուշ!AB65+Կոտայք!AB65+'Երևան '!AB65) -> 0 | AC65: =SUM(AC66:AC75) -> 519 | AD65: =+U65+S65+N65 -> 514 | AE65: =SUM(AE66:AE75) -> 200 | AF65: =SUM(AF66:AF75) -> 200 | AG65: =SUM(AG66:AG75) -> 0 | AH65: =SUM(AH66:AH75) -> 0 | AI65: =SUM(AI66:AI75) -> 37 | AJ65: =SUM(AJ66:AJ75) -> 37 | AK65: =SUM(AK66:AK75) -> 0 | AL65: =SUM(AL66:AL75) -> 0
A66: 5.1 | B66: Մարդու թրաֆիքինգը կամ շահագործումը | C66: 188 | D66: =SUM(Արագածոտն!D66+Արարատ!D66+Արմավիր!D66+Գեղարքունիք!D66+Լոռի!D66+Սյունիք!D66+Շիրակ!D66+Տավուշ!D66+Կոտայք!D66+'Երևան '!D66) -> 5 | E66: =SUM(Արագածոտն!E66+Արարատ!E66+Արմավիր!E66+Գեղարքունիք!E66+Լոռի!E66+Սյունիք!E66+Շիրակ!E66+Տավուշ!E66+Կոտայք!E66+'Երևան '!E66) -> 0 | F66: =SUM(Արագածոտն!F66+Արարատ!F66+Արմավիր!F66+Գեղարքունիք!F66+Լոռի!F66+Սյունիք!F66+Շիրակ!F66+Տավուշ!F66+Կոտայք!F66+'Երևան '!F66) -> 0 | G66: =SUM(Արագածոտն!G66+Արարատ!G66+Արմավիր!G66+Գեղարքունիք!G66+Լոռի!G66+Սյունիք!G66+Շիրակ!G66+Տավուշ!G66+Կոտայք!G66+'Երևան '!G66) -> 0 | H66: =SUM(Արագածոտն!H66+Արարատ!H66+Արմավիր!H66+Գեղարքունիք!H66+Լոռի!H66+Սյունիք!H66+Շիրակ!H66+Տավուշ!H66+Կոտայք!H66+'Երևան '!H66) -> 0 | I66: =SUM(Արագածոտն!I66+Արարատ!I66+Արմավիր!I66+Գեղարքունիք!I66+Լոռի!I66+Սյունիք!I66+Շիրակ!I66+Տավուշ!I66+Կոտայք!I66+'Երևան '!I66) -> 0 | J66: =SUM(Արագածոտն!J66+Արարատ!J66+Արմավիր!J66+Գեղարքունիք!J66+Լոռի!J66+Սյունիք!J66+Շիրակ!J66+Տավուշ!J66+Կոտայք!J66+'Երևան '!J66) -> 0 | K66: =SUM(Արագածոտն!K66+Արարատ!K66+Արմավիր!K66+Գեղարքունիք!K66+Լոռի!K66+Սյունիք!K66+Շիրակ!K66+Տավուշ!K66+Կոտայք!K66+'Երևան '!K66) -> 0 | ... AB66: =SUM(Արագածոտն!AB66+Արարատ!AB66+Արմավիր!AB66+Գեղարքունիք!AB66+Լոռի!AB66+Սյունիք!AB66+Շիրակ!AB66+Տավուշ!AB66+Կոտայք!AB66+'Երևան '!AB66) -> 0 | AC66: =D66+F66 -> 5 | AD66: =+U66+S66+N66 -> 5 | AE66: =N66 -> 0 | AF66: =SUM(K66:M66) -> 0 | AG66: =R66 -> 0 | AH66: =SUM(O66:Q66) -> 0 | AI66: =Y66 -> 1 | AJ66: =SUM(W66:X66) -> 1 | AK66: =AB66 -> 0 | AL66: =SUM(Z66:AA66) -> 0
A67: 5.2 | B67: Երեխայի կամ անօգնական վիճակում գտնվողի թրաֆիքինգը կամ շահագործումը | C67: 189 | D67: =SUM(Արագածոտն!D67+Արարատ!D67+Արմավիր!D67+Գեղարքունիք!D67+Լոռի!D67+Սյունիք!D67+Շիրակ!D67+Տավուշ!D67+Կոտայք!D67+'Երևան '!D67) -> 0 | E67: =SUM(Արագածոտն!E67+Արարատ!E67+Արմավիր!E67+Գեղարքունիք!E67+Լոռի!E67+Սյունիք!E67+Շիրակ!E67+Տավուշ!E67+Կոտայք!E67+'Երևան '!E67) -> 0 | F67: =SUM(Արագածոտն!F67+Արարատ!F67+Արմավիր!F67+Գեղարքունիք!F67+Լոռի!F67+Սյունիք!F67+Շիրակ!F67+Տավուշ!F67+Կոտայք!F67+'Երևան '!F67) -> 2 | G67: =SUM(Արագածոտն!G67+Արարատ!G67+Արմավիր!G67+Գեղարքունիք!G67+Լոռի!G67+Սյունիք!G67+Շիրակ!G67+Տավուշ!G67+Կոտայք!G67+'Երևան '!G67) -> 0 | H67: =SUM(Արագածոտն!H67+Արարատ!H67+Արմավիր!H67+Գեղարքունիք!H67+Լոռի!H67+Սյունիք!H67+Շիրակ!H67+Տավուշ!H67+Կոտայք!H67+'Երևան '!H67) -> 0 | I67: =SUM(Արագածոտն!I67+Արարատ!I67+Արմավիր!I67+Գեղարքունիք!I67+Լոռի!I67+Սյունիք!I67+Շիրակ!I67+Տավուշ!I67+Կոտայք!I67+'Երևան '!I67) -> 0 | J67: =SUM(Արագածոտն!J67+Արարատ!J67+Արմավիր!J67+Գեղարքունիք!J67+Լոռի!J67+Սյունիք!J67+Շիրակ!J67+Տավուշ!J67+Կոտայք!J67+'Երևան '!J67) -> 0 | K67: =SUM(Արագածոտն!K67+Արարատ!K67+Արմավիր!K67+Գեղարքունիք!K67+Լոռի!K67+Սյունիք!K67+Շիրակ!K67+Տավուշ!K67+Կոտայք!K67+'Երևան '!K67) -> 0 | ... AB67: =SUM(Արագածոտն!AB67+Արարատ!AB67+Արմավիր!AB67+Գեղարքունիք!AB67+Լոռի!AB67+Սյունիք!AB67+Շիրակ!AB67+Տավուշ!AB67+Կոտայք!AB67+'Երևան '!AB67) -> 0 | AC67: =D67+F67 -> 2 | AD67: =+U67+S67+N67 -> 2 | AE67: =N67 -> 0 | AF67: =SUM(K67:M67) -> 0 | AG67: =R67 -> 0 | AH67: =SUM(O67:Q67) -> 0 | AI67: =Y67 -> 0 | AJ67: =SUM(W67:X67) -> 0 | AK67: =AB67 -> 0 | AL67: =SUM(Z67:AA67) -> 0
A68: 5.3 | B68: Շահագործման վիճակում գտնվող մարդու ծառայությունից օգտվելը | C68: 190 | D68: =SUM(Արագածոտն!D68+Արարատ!D68+Արմավիր!D68+Գեղարքունիք!D68+Լոռի!D68+Սյունիք!D68+Շիրակ!D68+Տավուշ!D68+Կոտայք!D68+'Երևան '!D68) -> 0 | E68: =SUM(Արագածոտն!E68+Արարատ!E68+Արմավիր!E68+Գեղարքունիք!E68+Լոռի!E68+Սյունիք!E68+Շիրակ!E68+Տավուշ!E68+Կոտայք!E68+'Երևան '!E68) -> 0 | F68: =SUM(Արագածոտն!F68+Արարատ!F68+Արմավիր!F68+Գեղարքունիք!F68+Լոռի!F68+Սյունիք!F68+Շիրակ!F68+Տավուշ!F68+Կոտայք!F68+'Երևան '!F68) -> 0 | G68: =SUM(Արագածոտն!G68+Արարատ!G68+Արմավիր!G68+Գեղարքունիք!G68+Լոռի!G68+Սյունիք!G68+Շիրակ!G68+Տավուշ!G68+Կոտայք!G68+'Երևան '!G68) -> 0 | H68: =SUM(Արագածոտն!H68+Արարատ!H68+Արմավիր!H68+Գեղարքունիք!H68+Լոռի!H68+Սյունիք!H68+Շիրակ!H68+Տավուշ!H68+Կոտայք!H68+'Երևան '!H68) -> 0 | I68: =SUM(Արագածոտն!I68+Արարատ!I68+Արմավիր!I68+Գեղարքունիք!I68+Լոռի!I68+Սյունիք!I68+Շիրակ!I68+Տավուշ!I68+Կոտայք!I68+'Երևան '!I68) -> 0 | J68: =SUM(Արագածոտն!J68+Արարատ!J68+Արմավիր!J68+Գեղարքունիք!J68+Լոռի!J68+Սյունիք!J68+Շիրակ!J68+Տավուշ!J68+Կոտայք!J68+'Երևան '!J68) -> 0 | K68: =SUM(Արագածոտն!K68+Արարատ!K68+Արմավիր!K68+Գեղարքունիք!K68+Լոռի!K68+Սյունիք!K68+Շիրակ!K68+Տավուշ!K68+Կոտայք!K68+'Երևան '!K68) -> 0 | ... AB68: =SUM(Արագածոտն!AB68+Արարատ!AB68+Արմավիր!AB68+Գեղարքունիք!AB68+Լոռի!AB68+Սյունիք!AB68+Շիրակ!AB68+Տավուշ!AB68+Կոտայք!AB68+'Երևան '!AB68) -> 0 | AC68: =D68+F68 -> 0 | AD68: =+U68+S68+N68 -> 0 | AE68: =N68 -> 0 | AF68: =SUM(K68:M68) -> 0 | AG68: =R68 -> 0 | AH68: =SUM(O68:Q68) -> 0 | AI68: =Y68 -> 0 | AJ68: =SUM(W68:X68) -> 0 | AK68: =AB68 -> 0 | AL68: =SUM(Z68:AA68) -> 0
A69: 5.4 | B69: Մարդուն առևանգելը | C69: 191 | D69: =SUM(Արագածոտն!D69+Արարատ!D69+Արմավիր!D69+Գեղարքունիք!D69+Լոռի!D69+Սյունիք!D69+Շիրակ!D69+Տավուշ!D69+Կոտայք!D69+'Երևան '!D69) -> 17 | E69: =SUM(Արագածոտն!E69+Արարատ!E69+Արմավիր!E69+Գեղարքունիք!E69+Լոռի!E69+Սյունիք!E69+Շիրակ!E69+Տավուշ!E69+Կոտայք!E69+'Երևան '!E69) -> 0 | F69: =SUM(Արագածոտն!F69+Արարատ!F69+Արմավիր!F69+Գեղարքունիք!F69+Լոռի!F69+Սյունիք!F69+Շիրակ!F69+Տավուշ!F69+Կոտայք!F69+'Երևան '!F69) -> 17 | G69: =SUM(Արագածոտն!G69+Արարատ!G69+Արմավիր!G69+Գեղարքունիք!G69+Լոռի!G69+Սյունիք!G69+Շիրակ!G69+Տավուշ!G69+Կոտայք!G69+'Երևան '!G69) -> 0 | H69: =SUM(Արագածոտն!H69+Արարատ!H69+Արմավիր!H69+Գեղարքունիք!H69+Լոռի!H69+Սյունիք!H69+Շիրակ!H69+Տավուշ!H69+Կոտայք!H69+'Երևան '!H69) -> 2 | I69: =SUM(Արագածոտն!I69+Արարատ!I69+Արմավիր!I69+Գեղարքունիք!I69+Լոռի!I69+Սյունիք!I69+Շիրակ!I69+Տավուշ!I69+Կոտայք!I69+'Երևան '!I69) -> 0 | J69: =SUM(Արագածոտն!J69+Արարատ!J69+Արմավիր!J69+Գեղարքունիք!J69+Լոռի!J69+Սյունիք!J69+Շիրակ!J69+Տավուշ!J69+Կոտայք!J69+'Երևան '!J69) -> 1 | K69: =SUM(Արագածոտն!K69+Արարատ!K69+Արմավիր!K69+Գեղարքունիք!K69+Լոռի!K69+Սյունիք!K69+Շիրակ!K69+Տավուշ!K69+Կոտայք!K69+'Երևան '!K69) -> 7 | ... AB69: =SUM(Արագածոտն!AB69+Արարատ!AB69+Արմավիր!AB69+Գեղարքունիք!AB69+Լոռի!AB69+Սյունիք!AB69+Շիրակ!AB69+Տավուշ!AB69+Կոտայք!AB69+'Երևան '!AB69) -> 0 | AC69: =D69+F69 -> 34 | AD69: =+U69+S69+N69 -> 32 | AE69: =N69 -> 9 | AF69: =SUM(K69:M69) -> 9 | AG69: =R69 -> 0 | AH69: =SUM(O69:Q69) -> 0 | AI69: =Y69 -> 9 | AJ69: =SUM(W69:X69) -> 9 | AK69: =AB69 -> 0 | AL69: =SUM(Z69:AA69) -> 0
A70: 5.5 | B70: Ազատությունից ապօրինի զրկելը | C70: 192 | D70: =SUM(Արագածոտն!D70+Արարատ!D70+Արմավիր!D70+Գեղարքունիք!D70+Լոռի!D70+Սյունիք!D70+Շիրակ!D70+Տավուշ!D70+Կոտայք!D70+'Երևան '!D70) -> 3 | E70: =SUM(Արագածոտն!E70+Արարատ!E70+Արմավիր!E70+Գեղարքունիք!E70+Լոռի!E70+Սյունիք!E70+Շիրակ!E70+Տավուշ!E70+Կոտայք!E70+'Երևան '!E70) -> 0 | F70: =SUM(Արագածոտն!F70+Արարատ!F70+Արմավիր!F70+Գեղարքունիք!F70+Լոռի!F70+Սյունիք!F70+Շիրակ!F70+Տավուշ!F70+Կոտայք!F70+'Երևան '!F70) -> 3 | G70: =SUM(Արագածոտն!G70+Արարատ!G70+Արմավիր!G70+Գեղարքունիք!G70+Լոռի!G70+Սյունիք!G70+Շիրակ!G70+Տավուշ!G70+Կոտայք!G70+'Երևան '!G70) -> 0 | H70: =SUM(Արագածոտն!H70+Արարատ!H70+Արմավիր!H70+Գեղարքունիք!H70+Լոռի!H70+Սյունիք!H70+Շիրակ!H70+Տավուշ!H70+Կոտայք!H70+'Երևան '!H70) -> 1 | I70: =SUM(Արագածոտն!I70+Արարատ!I70+Արմավիր!I70+Գեղարքունիք!I70+Լոռի!I70+Սյունիք!I70+Շիրակ!I70+Տավուշ!I70+Կոտայք!I70+'Երևան '!I70) -> 0 | J70: =SUM(Արագածոտն!J70+Արարատ!J70+Արմավիր!J70+Գեղարքունիք!J70+Լոռի!J70+Սյունիք!J70+Շիրակ!J70+Տավուշ!J70+Կոտայք!J70+'Երևան '!J70) -> 0 | K70: =SUM(Արագածոտն!K70+Արարատ!K70+Արմավիր!K70+Գեղարքունիք!K70+Լոռի!K70+Սյունիք!K70+Շիրակ!K70+Տավուշ!K70+Կոտայք!K70+'Երևան '!K70) -> 1 | ... AB70: =SUM(Արագածոտն!AB70+Արարատ!AB70+Արմավիր!AB70+Գեղարքունիք!AB70+Լոռի!AB70+Սյունիք!AB70+Շիրակ!AB70+Տավուշ!AB70+Կոտայք!AB70+'Երևան '!AB70) -> 0 | AC70: =D70+F70 -> 6 | AD70: =+U70+S70+N70 -> 6 | AE70: =N70 -> 2 | AF70: =SUM(K70:M70) -> 2 | AG70: =R70 -> 0 | AH70: =SUM(O70:Q70) -> 0 | AI70: =Y70 -> 5 | AJ70: =SUM(W70:X70) -> 5 | AK70: =AB70 -> 0 | AL70: =SUM(Z70:AA70) -> 0
A71: 5.6 | B71: Հոգեբուժական կազմակերպությունում ապօրինի տեղավորելը կամ պահելը | C71: 193 | D71: =SUM(Արագածոտն!D71+Արարատ!D71+Արմավիր!D71+Գեղարքունիք!D71+Լոռի!D71+Սյունիք!D71+Շիրակ!D71+Տավուշ!D71+Կոտայք!D71+'Երևան '!D71) -> 0 | E71: =SUM(Արագածոտն!E71+Արարատ!E71+Արմավիր!E71+Գեղարքունիք!E71+Լոռի!E71+Սյունիք!E71+Շիրակ!E71+Տավուշ!E71+Կոտայք!E71+'Երևան '!E71) -> 0 | F71: =SUM(Արագածոտն!F71+Արարատ!F71+Արմավիր!F71+Գեղարքունիք!F71+Լոռի!F71+Սյունիք!F71+Շիրակ!F71+Տավուշ!F71+Կոտայք!F71+'Երևան '!F71) -> 0 | G71: =SUM(Արագածոտն!G71+Արարատ!G71+Արմավիր!G71+Գեղարքունիք!G71+Լոռի!G71+Սյունիք!G71+Շիրակ!G71+Տավուշ!G71+Կոտայք!G71+'Երևան '!G71) -> 0 | H71: =SUM(Արագածոտն!H71+Արարատ!H71+Արմավիր!H71+Գեղարքունիք!H71+Լոռի!H71+Սյունիք!H71+Շիրակ!H71+Տավուշ!H71+Կոտայք!H71+'Երևան '!H71) -> 0 | I71: =SUM(Արագածոտն!I71+Արարատ!I71+Արմավիր!I71+Գեղարքունիք!I71+Լոռի!I71+Սյունիք!I71+Շիրակ!I71+Տավուշ!I71+Կոտայք!I71+'Երևան '!I71) -> 0 | J71: =SUM(Արագածոտն!J71+Արարատ!J71+Արմավիր!J71+Գեղարքունիք!J71+Լոռի!J71+Սյունիք!J71+Շիրակ!J71+Տավուշ!J71+Կոտայք!J71+'Երևան '!J71) -> 0 | K71: =SUM(Արագածոտն!K71+Արարատ!K71+Արմավիր!K71+Գեղարքունիք!K71+Լոռի!K71+Սյունիք!K71+Շիրակ!K71+Տավուշ!K71+Կոտայք!K71+'Երևան '!K71) -> 0 | ... AB71: =SUM(Արագածոտն!AB71+Արարատ!AB71+Արմավիր!AB71+Գեղարքունիք!AB71+Լոռի!AB71+Սյունիք!AB71+Շիրակ!AB71+Տավուշ!AB71+Կոտայք!AB71+'Երևան '!AB71) -> 0 | AC71: =D71+F71 -> 0 | AD71: =+U71+S71+N71 -> 0 | AE71: =N71 -> 0 | AF71: =SUM(K71:M71) -> 0 | AG71: =R71 -> 0 | AH71: =SUM(O71:Q71) -> 0 | AI71: =Y71 -> 0 | AJ71: =SUM(W71:X71) -> 0 | AK71: =AB71 -> 0 | AL71: =SUM(Z71:AA71) -> 0
A72: 5.7 | B72: Հոգեկան ներգործությունը | C72: 194 | D72: =SUM(Արագածոտն!D72+Արարատ!D72+Արմավիր!D72+Գեղարքունիք!D72+Լոռի!D72+Սյունիք!D72+Շիրակ!D72+Տավուշ!D72+Կոտայք!D72+'Երևան '!D72) -> 28 | E72: =SUM(Արագածոտն!E72+Արարատ!E72+Արմավիր!E72+Գեղարքունիք!E72+Լոռի!E72+Սյունիք!E72+Շիրակ!E72+Տավուշ!E72+Կոտայք!E72+'Երևան '!E72) -> 0 | F72: =SUM(Արագածոտն!F72+Արարատ!F72+Արմավիր!F72+Գեղարքունիք!F72+Լոռի!F72+Սյունիք!F72+Շիրակ!F72+Տավուշ!F72+Կոտայք!F72+'Երևան '!F72) -> 19 | G72: =SUM(Արագածոտն!G72+Արարատ!G72+Արմավիր!G72+Գեղարքունիք!G72+Լոռի!G72+Սյունիք!G72+Շիրակ!G72+Տավուշ!G72+Կոտայք!G72+'Երևան '!G72) -> 0 | H72: =SUM(Արագածոտն!H72+Արարատ!H72+Արմավիր!H72+Գեղարքունիք!H72+Լոռի!H72+Սյունիք!H72+Շիրակ!H72+Տավուշ!H72+Կոտայք!H72+'Երևան '!H72) -> 3 | I72: =SUM(Արագածոտն!I72+Արարատ!I72+Արմավիր!I72+Գեղարքունիք!I72+Լոռի!I72+Սյունիք!I72+Շիրակ!I72+Տավուշ!I72+Կոտայք!I72+'Երևան '!I72) -> 0 | J72: =SUM(Արագածոտն!J72+Արարատ!J72+Արմավիր!J72+Գեղարքունիք!J72+Լոռի!J72+Սյունիք!J72+Շիրակ!J72+Տավուշ!J72+Կոտայք!J72+'Երևան '!J72) -> 4 | K72: =SUM(Արագածոտն!K72+Արարատ!K72+Արմավիր!K72+Գեղարքունիք!K72+Լոռի!K72+Սյունիք!K72+Շիրակ!K72+Տավուշ!K72+Կոտայք!K72+'Երևան '!K72) -> 12 | ... AB72: =SUM(Արագածոտն!AB72+Արարատ!AB72+Արմավիր!AB72+Գեղարքունիք!AB72+Լոռի!AB72+Սյունիք!AB72+Շիրակ!AB72+Տավուշ!AB72+Կոտայք!AB72+'Երևան '!AB72) -> 0 | AC72: =D72+F72 -> 47 | AD72: =+U72+S72+N72 -> 47 | AE72: =N72 -> 20 | AF72: =SUM(K72:M72) -> 20 | AG72: =R72 -> 0 | AH72: =SUM(O72:Q72) -> 0 | AI72: =Y72 -> 5 | AJ72: =SUM(W72:X72) -> 5 | AK72: =AB72 -> 0 | AL72: =SUM(Z72:AA72) -> 0
A73: 5.8 | B73: Ֆիզիկական ներգործությունը | C73: 195 | D73: =SUM(Արագածոտն!D73+Արարատ!D73+Արմավիր!D73+Գեղարքունիք!D73+Լոռի!D73+Սյունիք!D73+Շիրակ!D73+Տավուշ!D73+Կոտայք!D73+'Երևան '!D73) -> 196 | E73: =SUM(Արագածոտն!E73+Արարատ!E73+Արմավիր!E73+Գեղարքունիք!E73+Լոռի!E73+Սյունիք!E73+Շիրակ!E73+Տավուշ!E73+Կոտայք!E73+'Երևան '!E73) -> 0 | F73: =SUM(Արագածոտն!F73+Արարատ!F73+Արմավիր!F73+Գեղարքունիք!F73+Լոռի!F73+Սյունիք!F73+Շիրակ!F73+Տավուշ!F73+Կոտայք!F73+'Երևան '!F73) -> 203 | G73: =SUM(Արագածոտն!G73+Արարատ!G73+Արմավիր!G73+Գեղարքունիք!G73+Լոռի!G73+Սյունիք!G73+Շիրակ!G73+Տավուշ!G73+Կոտայք!G73+'Երևան '!G73) -> 0 | H73: =SUM(Արագածոտն!H73+Արարատ!H73+Արմավիր!H73+Գեղարքունիք!H73+Լոռի!H73+Սյունիք!H73+Շիրակ!H73+Տավուշ!H73+Կոտայք!H73+'Երևան '!H73) -> 11 | I73: =SUM(Արագածոտն!I73+Արարատ!I73+Արմավիր!I73+Գեղարքունիք!I73+Լոռի!I73+Սյունիք!I73+Շիրակ!I73+Տավուշ!I73+Կոտայք!I73+'Երևան '!I73) -> 0 | J73: =SUM(Արագածոտն!J73+Արարատ!J73+Արմավիր!J73+Գեղարքունիք!J73+Լոռի!J73+Սյունիք!J73+Շիրակ!J73+Տավուշ!J73+Կոտայք!J73+'Երևան '!J73) -> 33 | K73: =SUM(Արագածոտն!K73+Արարատ!K73+Արմավիր!K73+Գեղարքունիք!K73+Լոռի!K73+Սյունիք!K73+Շիրակ!K73+Տավուշ!K73+Կոտայք!K73+'Երևան '!K73) -> 140 | ... AB73: =SUM(Արագածոտն!AB73+Արարատ!AB73+Արմավիր!AB73+Գեղարքունիք!AB73+Լոռի!AB73+Սյունիք!AB73+Շիրակ!AB73+Տավուշ!AB73+Կոտայք!AB73+'Երևան '!AB73) -> 0 | AC73: =D73+F73 -> 399 | AD73: =+U73+S73+N73 -> 396 | AE73: =N73 -> 164 | AF73: =SUM(K73:M73) -> 164 | AG73: =R73 -> 0 | AH73: =SUM(O73:Q73) -> 0 | AI73: =Y73 -> 13 | AJ73: =SUM(W73:X73) -> 13 | AK73: =AB73 -> 0 | AL73: =SUM(Z73:AA73) -> 0
A74: 5.9 | B74: Ֆիզիկական ուժեղ ցավ կամ հոգեկան ուժեղ տառապանք պատճառելը | C74: 196 | D74: =SUM(Արագածոտն!D74+Արարատ!D74+Արմավիր!D74+Գեղարքունիք!D74+Լոռի!D74+Սյունիք!D74+Շիրակ!D74+Տավուշ!D74+Կոտայք!D74+'Երևան '!D74) -> 11 | E74: =SUM(Արագածոտն!E74+Արարատ!E74+Արմավիր!E74+Գեղարքունիք!E74+Լոռի!E74+Սյունիք!E74+Շիրակ!E74+Տավուշ!E74+Կոտայք!E74+'Երևան '!E74) -> 0 | F74: =SUM(Արագածոտն!F74+Արարատ!F74+Արմավիր!F74+Գեղարքունիք!F74+Լոռի!F74+Սյունիք!F74+Շիրակ!F74+Տավուշ!F74+Կոտայք!F74+'Երևան '!F74) -> 15 | G74: =SUM(Արագածոտն!G74+Արարատ!G74+Արմավիր!G74+Գեղարքունիք!G74+Լոռի!G74+Սյունիք!G74+Շիրակ!G74+Տավուշ!G74+Կոտայք!G74+'Երևան '!G74) -> 0 | H74: =SUM(Արագածոտն!H74+Արարատ!H74+Արմավիր!H74+Գեղարքունիք!H74+Լոռի!H74+Սյունիք!H74+Շիրակ!H74+Տավուշ!H74+Կոտայք!H74+'Երևան '!H74) -> 1 | I74: =SUM(Արագածոտն!I74+Արարատ!I74+Արմավիր!I74+Գեղարքունիք!I74+Լոռի!I74+Սյունիք!I74+Շիրակ!I74+Տավուշ!I74+Կոտայք!I74+'Երևան '!I74) -> 0 | J74: =SUM(Արագածոտն!J74+Արարատ!J74+Արմավիր!J74+Գեղարքունիք!J74+Լոռի!J74+Սյունիք!J74+Շիրակ!J74+Տավուշ!J74+Կոտայք!J74+'Երևան '!J74) -> 1 | K74: =SUM(Արագածոտն!K74+Արարատ!K74+Արմավիր!K74+Գեղարքունիք!K74+Լոռի!K74+Սյունիք!K74+Շիրակ!K74+Տավուշ!K74+Կոտայք!K74+'Երևան '!K74) -> 5 | ... AB74: =SUM(Արագածոտն!AB74+Արարատ!AB74+Արմավիր!AB74+Գեղարքունիք!AB74+Լոռի!AB74+Սյունիք!AB74+Շիրակ!AB74+Տավուշ!AB74+Կոտայք!AB74+'Երևան '!AB74) -> 0 | AC74: =D74+F74 -> 26 | AD74: =+U74+S74+N74 -> 26 | AE74: =N74 -> 5 | AF74: =SUM(K74:M74) -> 5 | AG74: =R74 -> 0 | AH74: =SUM(O74:Q74) -> 0 | AI74: =Y74 -> 4 | AJ74: =SUM(W74:X74) -> 4 | AK74: =AB74 -> 0 | AL74: =SUM(Z74:AA74) -> 0
A75: 5.10 | B75: Ամուսնությանը, ամուսնալուծությանը կամ երեխա ունենալուն հարկադրելը | C75: 197 | D75: =SUM(Արագածոտն!D75+Արարատ!D75+Արմավիր!D75+Գեղարքունիք!D75+Լոռի!D75+Սյունիք!D75+Շիրակ!D75+Տավուշ!D75+Կոտայք!D75+'Երևան '!D75) -> 0 | E75: =SUM(Արագածոտն!E75+Արարատ!E75+Արմավիր!E75+Գեղարքունիք!E75+Լոռի!E75+Սյունիք!E75+Շիրակ!E75+Տավուշ!E75+Կոտայք!E75+'Երևան '!E75) -> 0 | F75: =SUM(Արագածոտն!F75+Արարատ!F75+Արմավիր!F75+Գեղարքունիք!F75+Լոռի!F75+Սյունիք!F75+Շիրակ!F75+Տավուշ!F75+Կոտայք!F75+'Երևան '!F75) -> 0 | G75: =SUM(Արագածոտն!G75+Արարատ!G75+Արմավիր!G75+Գեղարքունիք!G75+Լոռի!G75+Սյունիք!G75+Շիրակ!G75+Տավուշ!G75+Կոտայք!G75+'Երևան '!G75) -> 0 | H75: =SUM(Արագածոտն!H75+Արարատ!H75+Արմավիր!H75+Գեղարքունիք!H75+Լոռի!H75+Սյունիք!H75+Շիրակ!H75+Տավուշ!H75+Կոտայք!H75+'Երևան '!H75) -> 0 | I75: =SUM(Արագածոտն!I75+Արարատ!I75+Արմավիր!I75+Գեղարքունիք!I75+Լոռի!I75+Սյունիք!I75+Շիրակ!I75+Տավուշ!I75+Կոտայք!I75+'Երևան '!I75) -> 0 | J75: =SUM(Արագածոտն!J75+Արարատ!J75+Արմավիր!J75+Գեղարքունիք!J75+Լոռի!J75+Սյունիք!J75+Շիրակ!J75+Տավուշ!J75+Կոտայք!J75+'Երևան '!J75) -> 0 | K75: =SUM(Արագածոտն!K75+Արարատ!K75+Արմավիր!K75+Գեղարքունիք!K75+Լոռի!K75+Սյունիք!K75+Շիրակ!K75+Տավուշ!K75+Կոտայք!K75+'Երևան '!K75) -> 0 | ... AB75: =SUM(Արագածոտն!AB75+Արարատ!AB75+Արմավիր!AB75+Գեղարքունիք!AB75+Լոռի!AB75+Սյունիք!AB75+Շիրակ!AB75+Տավուշ!AB75+Կոտայք!AB75+'Երևան '!AB75) -> 0 | AC75: =D75+F75 -> 0 | AD75: =+U75+S75+N75 -> 0 | AE75: =N75 -> 0 | AF75: =SUM(K75:M75) -> 0 | AG75: =R75 -> 0 | AH75: =SUM(O75:Q75) -> 0 | AI75: =Y75 -> 0 | AJ75: =SUM(W75:X75) -> 0 | AK75: =AB75 -> 0 | AL75: =SUM(Z75:AA75) -> 0
A76: 6 | B76: Ընդամենը սեռական ազատության և սեռական անձեռնմխելիության դեմ ուղղված հանցագործությունները | D76: =SUM(Արագածոտն!D76+Արարատ!D76+Արմավիր!D76+Գեղարքունիք!D76+Լոռի!D76+Սյունիք!D76+Շիրակ!D76+Տավուշ!D76+Կոտայք!D76+'Երևան '!D76) -> 50 | E76: =SUM(Արագածոտն!E76+Արարատ!E76+Արմավիր!E76+Գեղարքունիք!E76+Լոռի!E76+Սյունիք!E76+Շիրակ!E76+Տավուշ!E76+Կոտայք!E76+'Երևան '!E76) -> 0 | F76: =SUM(Արագածոտն!F76+Արարատ!F76+Արմավիր!F76+Գեղարքունիք!F76+Լոռի!F76+Սյունիք!F76+Շիրակ!F76+Տավուշ!F76+Կոտայք!F76+'Երևան '!F76) -> 26 | G76: =SUM(Արագածոտն!G76+Արարատ!G76+Արմավիր!G76+Գեղարքունիք!G76+Լոռի!G76+Սյունիք!G76+Շիրակ!G76+Տավուշ!G76+Կոտայք!G76+'Երևան '!G76) -> 0 | H76: =SUM(Արագածոտն!H76+Արարատ!H76+Արմավիր!H76+Գեղարքունիք!H76+Լոռի!H76+Սյունիք!H76+Շիրակ!H76+Տավուշ!H76+Կոտայք!H76+'Երևան '!H76) -> 2 | I76: =SUM(Արագածոտն!I76+Արարատ!I76+Արմավիր!I76+Գեղարքունիք!I76+Լոռի!I76+Սյունիք!I76+Շիրակ!I76+Տավուշ!I76+Կոտայք!I76+'Երևան '!I76) -> 0 | J76: =SUM(Արագածոտն!J76+Արարատ!J76+Արմավիր!J76+Գեղարքունիք!J76+Լոռի!J76+Սյունիք!J76+Շիրակ!J76+Տավուշ!J76+Կոտայք!J76+'Երևան '!J76) -> 5 | K76: =SUM(Արագածոտն!K76+Արարատ!K76+Արմավիր!K76+Գեղարքունիք!K76+Լոռի!K76+Սյունիք!K76+Շիրակ!K76+Տավուշ!K76+Կոտայք!K76+'Երևան '!K76) -> 14 | ... AB76: =SUM(Արագածոտն!AB76+Արարատ!AB76+Արմավիր!AB76+Գեղարքունիք!AB76+Լոռի!AB76+Սյունիք!AB76+Շիրակ!AB76+Տավուշ!AB76+Կոտայք!AB76+'Երևան '!AB76) -> 0 | AC76: =SUM(AC77:AC81) -> 76 | AD76: =+U76+S76+N76 -> 76 | AE76: =SUM(AE77:AE81) -> 17 | AF76: =SUM(AF77:AF81) -> 17 | AG76: =SUM(AG77:AG81) -> 0 | AH76: =SUM(AH77:AH81) -> 0 | AI76: =SUM(AI77:AI81) -> 16 | AJ76: =SUM(AJ77:AJ81) -> 16 | AK76: =SUM(AK77:AK81) -> 0 | AL76: =SUM(AL77:AL81) -> 0
A77: 6.1 | B77: Սեքսուալ բնույթի բռնի գործողությունները | C77: 198 | D77: =SUM(Արագածոտն!D77+Արարատ!D77+Արմավիր!D77+Գեղարքունիք!D77+Լոռի!D77+Սյունիք!D77+Շիրակ!D77+Տավուշ!D77+Կոտայք!D77+'Երևան '!D77) -> 32 | E77: =SUM(Արագածոտն!E77+Արարատ!E77+Արմավիր!E77+Գեղարքունիք!E77+Լոռի!E77+Սյունիք!E77+Շիրակ!E77+Տավուշ!E77+Կոտայք!E77+'Երևան '!E77) -> 0 | F77: =SUM(Արագածոտն!F77+Արարատ!F77+Արմավիր!F77+Գեղարքունիք!F77+Լոռի!F77+Սյունիք!F77+Շիրակ!F77+Տավուշ!F77+Կոտայք!F77+'Երևան '!F77) -> 12 | G77: =SUM(Արագածոտն!G77+Արարատ!G77+Արմավիր!G77+Գեղարքունիք!G77+Լոռի!G77+Սյունիք!G77+Շիրակ!G77+Տավուշ!G77+Կոտայք!G77+'Երևան '!G77) -> 0 | H77: =SUM(Արագածոտն!H77+Արարատ!H77+Արմավիր!H77+Գեղարքունիք!H77+Լոռի!H77+Սյունիք!H77+Շիրակ!H77+Տավուշ!H77+Կոտայք!H77+'Երևան '!H77) -> 1 | I77: =SUM(Արագածոտն!I77+Արարատ!I77+Արմավիր!I77+Գեղարքունիք!I77+Լոռի!I77+Սյունիք!I77+Շիրակ!I77+Տավուշ!I77+Կոտայք!I77+'Երևան '!I77) -> 0 | J77: =SUM(Արագածոտն!J77+Արարատ!J77+Արմավիր!J77+Գեղարքունիք!J77+Լոռի!J77+Սյունիք!J77+Շիրակ!J77+Տավուշ!J77+Կոտայք!J77+'Երևան '!J77) -> 2 | K77: =SUM(Արագածոտն!K77+Արարատ!K77+Արմավիր!K77+Գեղարքունիք!K77+Լոռի!K77+Սյունիք!K77+Շիրակ!K77+Տավուշ!K77+Կոտայք!K77+'Երևան '!K77) -> 5 | ... AB77: =SUM(Արագածոտն!AB77+Արարատ!AB77+Արմավիր!AB77+Գեղարքունիք!AB77+Լոռի!AB77+Սյունիք!AB77+Շիրակ!AB77+Տավուշ!AB77+Կոտայք!AB77+'Երևան '!AB77) -> 0 | AC77: =D77+F77 -> 44 | AD77: =+U77+S77+N77 -> 45 | AE77: =N77 -> 5 | AF77: =SUM(K77:M77) -> 5 | AG77: =R77 -> 0 | AH77: =SUM(O77:Q77) -> 0 | AI77: =Y77 -> 11 | AJ77: =SUM(W77:X77) -> 11 | AK77: =AB77 -> 0 | AL77: =SUM(Z77:AA77) -> 0
A78: 6.2 | B78: Սեքսուալ բնույթի գործողություններին հարկադրելը | C78: 199 | D78: =SUM(Արագածոտն!D78+Արարատ!D78+Արմավիր!D78+Գեղարքունիք!D78+Լոռի!D78+Սյունիք!D78+Շիրակ!D78+Տավուշ!D78+Կոտայք!D78+'Երևան '!D78) -> 5 | E78: =SUM(Արագածոտն!E78+Արարատ!E78+Արմավիր!E78+Գեղարքունիք!E78+Լոռի!E78+Սյունիք!E78+Շիրակ!E78+Տավուշ!E78+Կոտայք!E78+'Երևան '!E78) -> 0 | F78: =SUM(Արագածոտն!F78+Արարատ!F78+Արմավիր!F78+Գեղարքունիք!F78+Լոռի!F78+Սյունիք!F78+Շիրակ!F78+Տավուշ!F78+Կոտայք!F78+'Երևան '!F78) -> 3 | G78: =SUM(Արագածոտն!G78+Արարատ!G78+Արմավիր!G78+Գեղարքունիք!G78+Լոռի!G78+Սյունիք!G78+Շիրակ!G78+Տավուշ!G78+Կոտայք!G78+'Երևան '!G78) -> 0 | H78: =SUM(Արագածոտն!H78+Արարատ!H78+Արմավիր!H78+Գեղարքունիք!H78+Լոռի!H78+Սյունիք!H78+Շիրակ!H78+Տավուշ!H78+Կոտայք!H78+'Երևան '!H78) -> 1 | I78: =SUM(Արագածոտն!I78+Արարատ!I78+Արմավիր!I78+Գեղարքունիք!I78+Լոռի!I78+Սյունիք!I78+Շիրակ!I78+Տավուշ!I78+Կոտայք!I78+'Երևան '!I78) -> 0 | J78: =SUM(Արագածոտն!J78+Արարատ!J78+Արմավիր!J78+Գեղարքունիք!J78+Լոռի!J78+Սյունիք!J78+Շիրակ!J78+Տավուշ!J78+Կոտայք!J78+'Երևան '!J78) -> 1 | K78: =SUM(Արագածոտն!K78+Արարատ!K78+Արմավիր!K78+Գեղարքունիք!K78+Լոռի!K78+Սյունիք!K78+Շիրակ!K78+Տավուշ!K78+Կոտայք!K78+'Երևան '!K78) -> 3 | ... AB78: =SUM(Արագածոտն!AB78+Արարատ!AB78+Արմավիր!AB78+Գեղարքունիք!AB78+Լոռի!AB78+Սյունիք!AB78+Շիրակ!AB78+Տավուշ!AB78+Կոտայք!AB78+'Երևան '!AB78) -> 0 | AC78: =D78+F78 -> 8 | AD78: =+U78+S78+N78 -> 8 | AE78: =N78 -> 3 | AF78: =SUM(K78:M78) -> 3 | AG78: =R78 -> 0 | AH78: =SUM(O78:Q78) -> 0 | AI78: =Y78 -> 2 | AJ78: =SUM(W78:X78) -> 2 | AK78: =AB78 -> 0 | AL78: =SUM(Z78:AA78) -> 0
A79: 6.3 | B79: Սեքսուալ բնույթի գործողություններ կատարելը 16 տարին չլրացած անձի նկատմամբ | C79: 200 | D79: =SUM(Արագածոտն!D79+Արարատ!D79+Արմավիր!D79+Գեղարքունիք!D79+Լոռի!D79+Սյունիք!D79+Շիրակ!D79+Տավուշ!D79+Կոտայք!D79+'Երևան '!D79) -> 7 | E79: =SUM(Արագածոտն!E79+Արարատ!E79+Արմավիր!E79+Գեղարքունիք!E79+Լոռի!E79+Սյունիք!E79+Շիրակ!E79+Տավուշ!E79+Կոտայք!E79+'Երևան '!E79) -> 0 | F79: =SUM(Արագածոտն!F79+Արարատ!F79+Արմավիր!F79+Գեղարքունիք!F79+Լոռի!F79+Սյունիք!F79+Շիրակ!F79+Տավուշ!F79+Կոտայք!F79+'Երևան '!F79) -> 7 | G79: =SUM(Արագածոտն!G79+Արարատ!G79+Արմավիր!G79+Գեղարքունիք!G79+Լոռի!G79+Սյունիք!G79+Շիրակ!G79+Տավուշ!G79+Կոտայք!G79+'Երևան '!G79) -> 0 | H79: =SUM(Արագածոտն!H79+Արարատ!H79+Արմավիր!H79+Գեղարքունիք!H79+Լոռի!H79+Սյունիք!H79+Շիրակ!H79+Տավուշ!H79+Կոտայք!H79+'Երևան '!H79) -> 0 | I79: =SUM(Արագածոտն!I79+Արարատ!I79+Արմավիր!I79+Գեղարքունիք!I79+Լոռի!I79+Սյունիք!I79+Շիրակ!I79+Տավուշ!I79+Կոտայք!I79+'Երևան '!I79) -> 0 | J79: =SUM(Արագածոտն!J79+Արարատ!J79+Արմավիր!J79+Գեղարքունիք!J79+Լոռի!J79+Սյունիք!J79+Շիրակ!J79+Տավուշ!J79+Կոտայք!J79+'Երևան '!J79) -> 2 | K79: =SUM(Արագածոտն!K79+Արարատ!K79+Արմավիր!K79+Գեղարքունիք!K79+Լոռի!K79+Սյունիք!K79+Շիրակ!K79+Տավուշ!K79+Կոտայք!K79+'Երևան '!K79) -> 4 | ... AB79: =SUM(Արագածոտն!AB79+Արարատ!AB79+Արմավիր!AB79+Գեղարքունիք!AB79+Լոռի!AB79+Սյունիք!AB79+Շիրակ!AB79+Տավուշ!AB79+Կոտայք!AB79+'Երևան '!AB79) -> 0 | AC79: =D79+F79 -> 14 | AD79: =+U79+S79+N79 -> 13 | AE79: =N79 -> 6 | AF79: =SUM(K79:M79) -> 6 | AG79: =R79 -> 0 | AH79: =SUM(O79:Q79) -> 0 | AI79: =Y79 -> 3 | AJ79: =SUM(W79:X79) -> 3 | AK79: =AB79 -> 0 | AL79: =SUM(Z79:AA79) -> 0
A80: 6.4 | B80: Անառակաբարո արարք կատարելը | C80: 201 | D80: =SUM(Արագածոտն!D80+Արարատ!D80+Արմավիր!D80+Գեղարքունիք!D80+Լոռի!D80+Սյունիք!D80+Շիրակ!D80+Տավուշ!D80+Կոտայք!D80+'Երևան '!D80) -> 5 | E80: =SUM(Արագածոտն!E80+Արարատ!E80+Արմավիր!E80+Գեղարքունիք!E80+Լոռի!E80+Սյունիք!E80+Շիրակ!E80+Տավուշ!E80+Կոտայք!E80+'Երևան '!E80) -> 0 | F80: =SUM(Արագածոտն!F80+Արարատ!F80+Արմավիր!F80+Գեղարքունիք!F80+Լոռի!F80+Սյունիք!F80+Շիրակ!F80+Տավուշ!F80+Կոտայք!F80+'Երևան '!F80) -> 4 | G80: =SUM(Արագածոտն!G80+Արարատ!G80+Արմավիր!G80+Գեղարքունիք!G80+Լոռի!G80+Սյունիք!G80+Շիրակ!G80+Տավուշ!G80+Կոտայք!G80+'Երևան '!G80) -> 0 | H80: =SUM(Արագածոտն!H80+Արարատ!H80+Արմավիր!H80+Գեղարքունիք!H80+Լոռի!H80+Սյունիք!H80+Շիրակ!H80+Տավուշ!H80+Կոտայք!H80+'Երևան '!H80) -> 0 | I80: =SUM(Արագածոտն!I80+Արարատ!I80+Արմավիր!I80+Գեղարքունիք!I80+Լոռի!I80+Սյունիք!I80+Շիրակ!I80+Տավուշ!I80+Կոտայք!I80+'Երևան '!I80) -> 0 | J80: =SUM(Արագածոտն!J80+Արարատ!J80+Արմավիր!J80+Գեղարքունիք!J80+Լոռի!J80+Սյունիք!J80+Շիրակ!J80+Տավուշ!J80+Կոտայք!J80+'Երևան '!J80) -> 0 | K80: =SUM(Արագածոտն!K80+Արարատ!K80+Արմավիր!K80+Գեղարքունիք!K80+Լոռի!K80+Սյունիք!K80+Շիրակ!K80+Տավուշ!K80+Կոտայք!K80+'Երևան '!K80) -> 2 | ... AB80: =SUM(Արագածոտն!AB80+Արարատ!AB80+Արմավիր!AB80+Գեղարքունիք!AB80+Լոռի!AB80+Սյունիք!AB80+Շիրակ!AB80+Տավուշ!AB80+Կոտայք!AB80+'Երևան '!AB80) -> 0 | AC80: =D80+F80 -> 9 | AD80: =+U80+S80+N80 -> 9 | AE80: =N80 -> 3 | AF80: =SUM(K80:M80) -> 3 | AG80: =R80 -> 0 | AH80: =SUM(O80:Q80) -> 0 | AI80: =Y80 -> 0 | AJ80: =SUM(W80:X80) -> 0 | AK80: =AB80 -> 0 | AL80: =SUM(Z80:AA80) -> 0
A81: 6.5 | B81: 16 տարին չլրացած անձին սեռական հարաբերություն կամ սեքսուալ բնույթի այլ գործողություններ կամ մանկական պոռնոգրաֆիա ստեղծել կամ արտադրել առաջարկելը (գրումինգ) | C81: 202 | D81: =SUM(Արագածոտն!D81+Արարատ!D81+Արմավիր!D81+Գեղարքունիք!D81+Լոռի!D81+Սյունիք!D81+Շիրակ!D81+Տավուշ!D81+Կոտայք!D81+'Երևան '!D81) -> 1 | E81: =SUM(Արագածոտն!E81+Արարատ!E81+Արմավիր!E81+Գեղարքունիք!E81+Լոռի!E81+Սյունիք!E81+Շիրակ!E81+Տավուշ!E81+Կոտայք!E81+'Երևան '!E81) -> 0 | F81: =SUM(Արագածոտն!F81+Արարատ!F81+Արմավիր!F81+Գեղարքունիք!F81+Լոռի!F81+Սյունիք!F81+Շիրակ!F81+Տավուշ!F81+Կոտայք!F81+'Երևան '!F81) -> 0 | G81: =SUM(Արագածոտն!G81+Արարատ!G81+Արմավիր!G81+Գեղարքունիք!G81+Լոռի!G81+Սյունիք!G81+Շիրակ!G81+Տավուշ!G81+Կոտայք!G81+'Երևան '!G81) -> 0 | H81: =SUM(Արագածոտն!H81+Արարատ!H81+Արմավիր!H81+Գեղարքունիք!H81+Լոռի!H81+Սյունիք!H81+Շիրակ!H81+Տավուշ!H81+Կոտայք!H81+'Երևան '!H81) -> 0 | I81: =SUM(Արագածոտն!I81+Արարատ!I81+Արմավիր!I81+Գեղարքունիք!I81+Լոռի!I81+Սյունիք!I81+Շիրակ!I81+Տավուշ!I81+Կոտայք!I81+'Երևան '!I81) -> 0 | J81: =SUM(Արագածոտն!J81+Արարատ!J81+Արմավիր!J81+Գեղարքունիք!J81+Լոռի!J81+Սյունիք!J81+Շիրակ!J81+Տավուշ!J81+Կոտայք!J81+'Երևան '!J81) -> 0 | K81: =SUM(Արագածոտն!K81+Արարատ!K81+Արմավիր!K81+Գեղարքունիք!K81+Լոռի!K81+Սյունիք!K81+Շիրակ!K81+Տավուշ!K81+Կոտայք!K81+'Երևան '!K81) -> 0 | ... AB81: =SUM(Արագածոտն!AB81+Արարատ!AB81+Արմավիր!AB81+Գեղարքունիք!AB81+Լոռի!AB81+Սյունիք!AB81+Շիրակ!AB81+Տավուշ!AB81+Կոտայք!AB81+'Երևան '!AB81) -> 0 | AC81: =D81+F81 -> 1 | AD81: =+U81+S81+N81 -> 1 | AE81: =N81 -> 0 | AF81: =SUM(K81:M81) -> 0 | AG81: =R81 -> 0 | AH81: =SUM(O81:Q81) -> 0 | AI81: =Y81 -> 0 | AJ81: =SUM(W81:X81) -> 0 | AK81: =AB81 -> 0 | AL81: =SUM(Z81:AA81) -> 0
A82: 7 | B82: Սահմանադրական իրավունքների և ազատությունների դեմ ուղղված հանցագործությունները | D82: =SUM(Արագածոտն!D82+Արարատ!D82+Արմավիր!D82+Գեղարքունիք!D82+Լոռի!D82+Սյունիք!D82+Շիրակ!D82+Տավուշ!D82+Կոտայք!D82+'Երևան '!D82) -> 14 | E82: =SUM(Արագածոտն!E82+Արարատ!E82+Արմավիր!E82+Գեղարքունիք!E82+Լոռի!E82+Սյունիք!E82+Շիրակ!E82+Տավուշ!E82+Կոտայք!E82+'Երևան '!E82) -> 0 | F82: =SUM(Արագածոտն!F82+Արարատ!F82+Արմավիր!F82+Գեղարքունիք!F82+Լոռի!F82+Սյունիք!F82+Շիրակ!F82+Տավուշ!F82+Կոտայք!F82+'Երևան '!F82) -> 8 | G82: =SUM(Արագածոտն!G82+Արարատ!G82+Արմավիր!G82+Գեղարքունիք!G82+Լոռի!G82+Սյունիք!G82+Շիրակ!G82+Տավուշ!G82+Կոտայք!G82+'Երևան '!G82) -> 0 | H82: =SUM(Արագածոտն!H82+Արարատ!H82+Արմավիր!H82+Գեղարքունիք!H82+Լոռի!H82+Սյունիք!H82+Շիրակ!H82+Տավուշ!H82+Կոտայք!H82+'Երևան '!H82) -> 0 | I82: =SUM(Արագածոտն!I82+Արարատ!I82+Արմավիր!I82+Գեղարքունիք!I82+Լոռի!I82+Սյունիք!I82+Շիրակ!I82+Տավուշ!I82+Կոտայք!I82+'Երևան '!I82) -> 0 | J82: =SUM(Արագածոտն!J82+Արարատ!J82+Արմավիր!J82+Գեղարքունիք!J82+Լոռի!J82+Սյունիք!J82+Շիրակ!J82+Տավուշ!J82+Կոտայք!J82+'Երևան '!J82) -> 0 | K82: =SUM(Արագածոտն!K82+Արարատ!K82+Արմավիր!K82+Գեղարքունիք!K82+Լոռի!K82+Սյունիք!K82+Շիրակ!K82+Տավուշ!K82+Կոտայք!K82+'Երևան '!K82) -> 5 | ... AB82: =SUM(Արագածոտն!AB82+Արարատ!AB82+Արմավիր!AB82+Գեղարքունիք!AB82+Լոռի!AB82+Սյունիք!AB82+Շիրակ!AB82+Տավուշ!AB82+Կոտայք!AB82+'Երևան '!AB82) -> 0 | AC82: =SUM(AC83:AC118) -> 22 | AD82: =+U82+S82+N82 -> 21 | AE82: =SUM(AE83:AE118) -> 6 | AF82: =SUM(AF83:AF118) -> 6 | AG82: =SUM(AG83:AG118) -> 0 | AH82: =SUM(AH83:AH118) -> 0 | AI82: =SUM(AI83:AI118) -> 1 | AJ82: =SUM(AJ83:AJ118) -> 1 | AK82: =SUM(AK83:AK118) -> 0 | AL82: =SUM(AL83:AL118) -> 0
A83: 7.1 | B83: Խտրականությունը | C83: 203 | D83: =SUM(Արագածոտն!D83+Արարատ!D83+Արմավիր!D83+Գեղարքունիք!D83+Լոռի!D83+Սյունիք!D83+Շիրակ!D83+Տավուշ!D83+Կոտայք!D83+'Երևան '!D83) -> 0 | E83: =SUM(Արագածոտն!E83+Արարատ!E83+Արմավիր!E83+Գեղարքունիք!E83+Լոռի!E83+Սյունիք!E83+Շիրակ!E83+Տավուշ!E83+Կոտայք!E83+'Երևան '!E83) -> 0 | F83: =SUM(Արագածոտն!F83+Արարատ!F83+Արմավիր!F83+Գեղարքունիք!F83+Լոռի!F83+Սյունիք!F83+Շիրակ!F83+Տավուշ!F83+Կոտայք!F83+'Երևան '!F83) -> 0 | G83: =SUM(Արագածոտն!G83+Արարատ!G83+Արմավիր!G83+Գեղարքունիք!G83+Լոռի!G83+Սյունիք!G83+Շիրակ!G83+Տավուշ!G83+Կոտայք!G83+'Երևան '!G83) -> 0 | H83: =SUM(Արագածոտն!H83+Արարատ!H83+Արմավիր!H83+Գեղարքունիք!H83+Լոռի!H83+Սյունիք!H83+Շիրակ!H83+Տավուշ!H83+Կոտայք!H83+'Երևան '!H83) -> 0 | I83: =SUM(Արագածոտն!I83+Արարատ!I83+Արմավիր!I83+Գեղարքունիք!I83+Լոռի!I83+Սյունիք!I83+Շիրակ!I83+Տավուշ!I83+Կոտայք!I83+'Երևան '!I83) -> 0 | J83: =SUM(Արագածոտն!J83+Արարատ!J83+Արմավիր!J83+Գեղարքունիք!J83+Լոռի!J83+Սյունիք!J83+Շիրակ!J83+Տավուշ!J83+Կոտայք!J83+'Երևան '!J83) -> 0 | K83: =SUM(Արագածոտն!K83+Արարատ!K83+Արմավիր!K83+Գեղարքունիք!K83+Լոռի!K83+Սյունիք!K83+Շիրակ!K83+Տավուշ!K83+Կոտայք!K83+'Երևան '!K83) -> 0 | ... AB83: =SUM(Արագածոտն!AB83+Արարատ!AB83+Արմավիր!AB83+Գեղարքունիք!AB83+Լոռի!AB83+Սյունիք!AB83+Շիրակ!AB83+Տավուշ!AB83+Կոտայք!AB83+'Երևան '!AB83) -> 0 | AC83: =D83+F83 -> 0 | AD83: =+U83+S83+N83 -> 0 | AE83: =N83 -> 0 | AF83: =SUM(K83:M83) -> 0 | AG83: =R83 -> 0 | AH83: =SUM(O83:Q83) -> 0 | AI83: =Y83 -> 0 | AJ83: =SUM(W83:X83) -> 0 | AK83: =AB83 -> 0 | AL83: =SUM(Z83:AA83) -> 0
A84: 7.2 | B84: Անձնական կամ ընտանեկան կյանքի գաղտնիությունը խախտելը | C84: 204 | D84: =SUM(Արագածոտն!D84+Արարատ!D84+Արմավիր!D84+Գեղարքունիք!D84+Լոռի!D84+Սյունիք!D84+Շիրակ!D84+Տավուշ!D84+Կոտայք!D84+'Երևան '!D84) -> 4 | E84: =SUM(Արագածոտն!E84+Արարատ!E84+Արմավիր!E84+Գեղարքունիք!E84+Լոռի!E84+Սյունիք!E84+Շիրակ!E84+Տավուշ!E84+Կոտայք!E84+'Երևան '!E84) -> 0 | F84: =SUM(Արագածոտն!F84+Արարատ!F84+Արմավիր!F84+Գեղարքունիք!F84+Լոռի!F84+Սյունիք!F84+Շիրակ!F84+Տավուշ!F84+Կոտայք!F84+'Երևան '!F84) -> 3 | G84: =SUM(Արագածոտն!G84+Արարատ!G84+Արմավիր!G84+Գեղարքունիք!G84+Լոռի!G84+Սյունիք!G84+Շիրակ!G84+Տավուշ!G84+Կոտայք!G84+'Երևան '!G84) -> 0 | H84: =SUM(Արագածոտն!H84+Արարատ!H84+Արմավիր!H84+Գեղարքունիք!H84+Լոռի!H84+Սյունիք!H84+Շիրակ!H84+Տավուշ!H84+Կոտայք!H84+'Երևան '!H84) -> 0 | I84: =SUM(Արագածոտն!I84+Արարատ!I84+Արմավիր!I84+Գեղարքունիք!I84+Լոռի!I84+Սյունիք!I84+Շիրակ!I84+Տավուշ!I84+Կոտայք!I84+'Երևան '!I84) -> 0 | J84: =SUM(Արագածոտն!J84+Արարատ!J84+Արմավիր!J84+Գեղարքունիք!J84+Լոռի!J84+Սյունիք!J84+Շիրակ!J84+Տավուշ!J84+Կոտայք!J84+'Երևան '!J84) -> 0 | K84: =SUM(Արագածոտն!K84+Արարատ!K84+Արմավիր!K84+Գեղարքունիք!K84+Լոռի!K84+Սյունիք!K84+Շիրակ!K84+Տավուշ!K84+Կոտայք!K84+'Երևան '!K84) -> 2 | ... AB84: =SUM(Արագածոտն!AB84+Արարատ!AB84+Արմավիր!AB84+Գեղարքունիք!AB84+Լոռի!AB84+Սյունիք!AB84+Շիրակ!AB84+Տավուշ!AB84+Կոտայք!AB84+'Երևան '!AB84) -> 0 | AC84: =D84+F84 -> 7 | AD84: =+U84+S84+N84 -> 6 | AE84: =N84 -> 3 | AF84: =SUM(K84:M84) -> 3 | AG84: =R84 -> 0 | AH84: =SUM(O84:Q84) -> 0 | AI84: =Y84 -> 1 | AJ84: =SUM(W84:X84) -> 1 | AK84: =AB84 -> 0 | AL84: =SUM(Z84:AA84) -> 0
A85: 7.3 | B85: Բժշկական գաղտնիքը հրապարակելը | C85: 205 | D85: =SUM(Արագածոտն!D85+Արարատ!D85+Արմավիր!D85+Գեղարքունիք!D85+Լոռի!D85+Սյունիք!D85+Շիրակ!D85+Տավուշ!D85+Կոտայք!D85+'Երևան '!D85) -> 0 | E85: =SUM(Արագածոտն!E85+Արարատ!E85+Արմավիր!E85+Գեղարքունիք!E85+Լոռի!E85+Սյունիք!E85+Շիրակ!E85+Տավուշ!E85+Կոտայք!E85+'Երևան '!E85) -> 0 | F85: =SUM(Արագածոտն!F85+Արարատ!F85+Արմավիր!F85+Գեղարքունիք!F85+Լոռի!F85+Սյունիք!F85+Շիրակ!F85+Տավուշ!F85+Կոտայք!F85+'Երևան '!F85) -> 0 | G85: =SUM(Արագածոտն!G85+Արարատ!G85+Արմավիր!G85+Գեղարքունիք!G85+Լոռի!G85+Սյունիք!G85+Շիրակ!G85+Տավուշ!G85+Կոտայք!G85+'Երևան '!G85) -> 0 | H85: =SUM(Արագածոտն!H85+Արարատ!H85+Արմավիր!H85+Գեղարքունիք!H85+Լոռի!H85+Սյունիք!H85+Շիրակ!H85+Տավուշ!H85+Կոտայք!H85+'Երևան '!H85) -> 0 | I85: =SUM(Արագածոտն!I85+Արարատ!I85+Արմավիր!I85+Գեղարքունիք!I85+Լոռի!I85+Սյունիք!I85+Շիրակ!I85+Տավուշ!I85+Կոտայք!I85+'Երևան '!I85) -> 0 | J85: =SUM(Արագածոտն!J85+Արարատ!J85+Արմավիր!J85+Գեղարքունիք!J85+Լոռի!J85+Սյունիք!J85+Շիրակ!J85+Տավուշ!J85+Կոտայք!J85+'Երևան '!J85) -> 0 | K85: =SUM(Արագածոտն!K85+Արարատ!K85+Արմավիր!K85+Գեղարքունիք!K85+Լոռի!K85+Սյունիք!K85+Շիրակ!K85+Տավուշ!K85+Կոտայք!K85+'Երևան '!K85) -> 0 | ... AB85: =SUM(Արագածոտն!AB85+Արարատ!AB85+Արմավիր!AB85+Գեղարքունիք!AB85+Լոռի!AB85+Սյունիք!AB85+Շիրակ!AB85+Տավուշ!AB85+Կոտայք!AB85+'Երևան '!AB85) -> 0 | AC85: =D85+F85 -> 0 | AD85: =+U85+S85+N85 -> 0 | AE85: =N85 -> 0 | AF85: =SUM(K85:M85) -> 0 | AG85: =R85 -> 0 | AH85: =SUM(O85:Q85) -> 0 | AI85: =Y85 -> 0 | AJ85: =SUM(W85:X85) -> 0 | AK85: =AB85 -> 0 | AL85: =SUM(Z85:AA85) -> 0
A86: 7.4 | B86: Նամակագրության, հեռախոսային խոսակցությունների և հաղորդակցության այլ ձևերի գաղտնիությունը խախտելը | C86: 206 | D86: =SUM(Արագածոտն!D86+Արարատ!D86+Արմավիր!D86+Գեղարքունիք!D86+Լոռի!D86+Սյունիք!D86+Շիրակ!D86+Տավուշ!D86+Կոտայք!D86+'Երևան '!D86) -> 0 | E86: =SUM(Արագածոտն!E86+Արարատ!E86+Արմավիր!E86+Գեղարքունիք!E86+Լոռի!E86+Սյունիք!E86+Շիրակ!E86+Տավուշ!E86+Կոտայք!E86+'Երևան '!E86) -> 0 | F86: =SUM(Արագածոտն!F86+Արարատ!F86+Արմավիր!F86+Գեղարքունիք!F86+Լոռի!F86+Սյունիք!F86+Շիրակ!F86+Տավուշ!F86+Կոտայք!F86+'Երևան '!F86) -> 0 | G86: =SUM(Արագածոտն!G86+Արարատ!G86+Արմավիր!G86+Գեղարքունիք!G86+Լոռի!G86+Սյունիք!G86+Շիրակ!G86+Տավուշ!G86+Կոտայք!G86+'Երևան '!G86) -> 0 | H86: =SUM(Արագածոտն!H86+Արարատ!H86+Արմավիր!H86+Գեղարքունիք!H86+Լոռի!H86+Սյունիք!H86+Շիրակ!H86+Տավուշ!H86+Կոտայք!H86+'Երևան '!H86) -> 0 | I86: =SUM(Արագածոտն!I86+Արարատ!I86+Արմավիր!I86+Գեղարքունիք!I86+Լոռի!I86+Սյունիք!I86+Շիրակ!I86+Տավուշ!I86+Կոտայք!I86+'Երևան '!I86) -> 0 | J86: =SUM(Արագածոտն!J86+Արարատ!J86+Արմավիր!J86+Գեղարքունիք!J86+Լոռի!J86+Սյունիք!J86+Շիրակ!J86+Տավուշ!J86+Կոտայք!J86+'Երևան '!J86) -> 0 | K86: =SUM(Արագածոտն!K86+Արարատ!K86+Արմավիր!K86+Գեղարքունիք!K86+Լոռի!K86+Սյունիք!K86+Շիրակ!K86+Տավուշ!K86+Կոտայք!K86+'Երևան '!K86) -> 0 | ... AB86: =SUM(Արագածոտն!AB86+Արարատ!AB86+Արմավիր!AB86+Գեղարքունիք!AB86+Լոռի!AB86+Սյունիք!AB86+Շիրակ!AB86+Տավուշ!AB86+Կոտայք!AB86+'Երևան '!AB86) -> 0 | AC86: =D86+F86 -> 0 | AD86: =+U86+S86+N86 -> 0 | AE86: =N86 -> 0 | AF86: =SUM(K86:M86) -> 0 | AG86: =R86 -> 0 | AH86: =SUM(O86:Q86) -> 0 | AI86: =Y86 -> 0 | AJ86: =SUM(W86:X86) -> 0 | AK86: =AB86 -> 0 | AL86: =SUM(Z86:AA86) -> 0
A87: 7.5 | B87: Բնակարանի անձեռնմխելիությունը խախտելը | C87: 207 | D87: =SUM(Արագածոտն!D87+Արարատ!D87+Արմավիր!D87+Գեղարքունիք!D87+Լոռի!D87+Սյունիք!D87+Շիրակ!D87+Տավուշ!D87+Կոտայք!D87+'Երևան '!D87) -> 8 | E87: =SUM(Արագածոտն!E87+Արարատ!E87+Արմավիր!E87+Գեղարքունիք!E87+Լոռի!E87+Սյունիք!E87+Շիրակ!E87+Տավուշ!E87+Կոտայք!E87+'Երևան '!E87) -> 0 | F87: =SUM(Արագածոտն!F87+Արարատ!F87+Արմավիր!F87+Գեղարքունիք!F87+Լոռի!F87+Սյունիք!F87+Շիրակ!F87+Տավուշ!F87+Կոտայք!F87+'Երևան '!F87) -> 3 | G87: =SUM(Արագածոտն!G87+Արարատ!G87+Արմավիր!G87+Գեղարքունիք!G87+Լոռի!G87+Սյունիք!G87+Շիրակ!G87+Տավուշ!G87+Կոտայք!G87+'Երևան '!G87) -> 0 | H87: =SUM(Արագածոտն!H87+Արարատ!H87+Արմավիր!H87+Գեղարքունիք!H87+Լոռի!H87+Սյունիք!H87+Շիրակ!H87+Տավուշ!H87+Կոտայք!H87+'Երևան '!H87) -> 0 | I87: =SUM(Արագածոտն!I87+Արարատ!I87+Արմավիր!I87+Գեղարքունիք!I87+Լոռի!I87+Սյունիք!I87+Շիրակ!I87+Տավուշ!I87+Կոտայք!I87+'Երևան '!I87) -> 0 | J87: =SUM(Արագածոտն!J87+Արարատ!J87+Արմավիր!J87+Գեղարքունիք!J87+Լոռի!J87+Սյունիք!J87+Շիրակ!J87+Տավուշ!J87+Կոտայք!J87+'Երևան '!J87) -> 0 | K87: =SUM(Արագածոտն!K87+Արարատ!K87+Արմավիր!K87+Գեղարքունիք!K87+Լոռի!K87+Սյունիք!K87+Շիրակ!K87+Տավուշ!K87+Կոտայք!K87+'Երևան '!K87) -> 3 | ... AB87: =SUM(Արագածոտն!AB87+Արարատ!AB87+Արմավիր!AB87+Գեղարքունիք!AB87+Լոռի!AB87+Սյունիք!AB87+Շիրակ!AB87+Տավուշ!AB87+Կոտայք!AB87+'Երևան '!AB87) -> 0 | AC87: =D87+F87 -> 11 | AD87: =+U87+S87+N87 -> 11 | AE87: =N87 -> 3 | AF87: =SUM(K87:M87) -> 3 | AG87: =R87 -> 0 | AH87: =SUM(O87:Q87) -> 0 | AI87: =Y87 -> 0 | AJ87: =SUM(W87:X87) -> 0 | AK87: =AB87 -> 0 | AL87: =SUM(Z87:AA87) -> 0
A88: 7.6 | B88: Անձին տեղեկություններ տրամադրելուց հրաժարվելը | C88: 208 | D88: =SUM(Արագածոտն!D88+Արարատ!D88+Արմավիր!D88+Գեղարքունիք!D88+Լոռի!D88+Սյունիք!D88+Շիրակ!D88+Տավուշ!D88+Կոտայք!D88+'Երևան '!D88) -> 0 | E88: =SUM(Արագածոտն!E88+Արարատ!E88+Արմավիր!E88+Գեղարքունիք!E88+Լոռի!E88+Սյունիք!E88+Շիրակ!E88+Տավուշ!E88+Կոտայք!E88+'Երևան '!E88) -> 0 | F88: =SUM(Արագածոտն!F88+Արարատ!F88+Արմավիր!F88+Գեղարքունիք!F88+Լոռի!F88+Սյունիք!F88+Շիրակ!F88+Տավուշ!F88+Կոտայք!F88+'Երևան '!F88) -> 0 | G88: =SUM(Արագածոտն!G88+Արարատ!G88+Արմավիր!G88+Գեղարքունիք!G88+Լոռի!G88+Սյունիք!G88+Շիրակ!G88+Տավուշ!G88+Կոտայք!G88+'Երևան '!G88) -> 0 | H88: =SUM(Արագածոտն!H88+Արարատ!H88+Արմավիր!H88+Գեղարքունիք!H88+Լոռի!H88+Սյունիք!H88+Շիրակ!H88+Տավուշ!H88+Կոտայք!H88+'Երևան '!H88) -> 0 | I88: =SUM(Արագածոտն!I88+Արարատ!I88+Արմավիր!I88+Գեղարքունիք!I88+Լոռի!I88+Սյունիք!I88+Շիրակ!I88+Տավուշ!I88+Կոտայք!I88+'Երևան '!I88) -> 0 | J88: =SUM(Արագածոտն!J88+Արարատ!J88+Արմավիր!J88+Գեղարքունիք!J88+Լոռի!J88+Սյունիք!J88+Շիրակ!J88+Տավուշ!J88+Կոտայք!J88+'Երևան '!J88) -> 0 | K88: =SUM(Արագածոտն!K88+Արարատ!K88+Արմավիր!K88+Գեղարքունիք!K88+Լոռի!K88+Սյունիք!K88+Շիրակ!K88+Տավուշ!K88+Կոտայք!K88+'Երևան '!K88) -> 0 | ... AB88: =SUM(Արագածոտն!AB88+Արարատ!AB88+Արմավիր!AB88+Գեղարքունիք!AB88+Լոռի!AB88+Սյունիք!AB88+Շիրակ!AB88+Տավուշ!AB88+Կոտայք!AB88+'Երևան '!AB88) -> 0 | AC88: =D88+F88 -> 0 | AD88: =+U88+S88+N88 -> 0 | AE88: =N88 -> 0 | AF88: =SUM(K88:M88) -> 0 | AG88: =R88 -> 0 | AH88: =SUM(O88:Q88) -> 0 | AI88: =Y88 -> 0 | AJ88: =SUM(W88:X88) -> 0 | AK88: =AB88 -> 0 | AL88: =SUM(Z88:AA88) -> 0
A89: 7.7 | B89: Խղճի կամ դավանանքի ազատության իրավունքի իրականացումը խոչընդոտելը | C89: 209 | D89: =SUM(Արագածոտն!D89+Արարատ!D89+Արմավիր!D89+Գեղարքունիք!D89+Լոռի!D89+Սյունիք!D89+Շիրակ!D89+Տավուշ!D89+Կոտայք!D89+'Երևան '!D89) -> 0 | E89: =SUM(Արագածոտն!E89+Արարատ!E89+Արմավիր!E89+Գեղարքունիք!E89+Լոռի!E89+Սյունիք!E89+Շիրակ!E89+Տավուշ!E89+Կոտայք!E89+'Երևան '!E89) -> 0 | F89: =SUM(Արագածոտն!F89+Արարատ!F89+Արմավիր!F89+Գեղարքունիք!F89+Լոռի!F89+Սյունիք!F89+Շիրակ!F89+Տավուշ!F89+Կոտայք!F89+'Երևան '!F89) -> 0 | G89: =SUM(Արագածոտն!G89+Արարատ!G89+Արմավիր!G89+Գեղարքունիք!G89+Լոռի!G89+Սյունիք!G89+Շիրակ!G89+Տավուշ!G89+Կոտայք!G89+'Երևան '!G89) -> 0 | H89: =SUM(Արագածոտն!H89+Արարատ!H89+Արմավիր!H89+Գեղարքունիք!H89+Լոռի!H89+Սյունիք!H89+Շիրակ!H89+Տավուշ!H89+Կոտայք!H89+'Երևան '!H89) -> 0 | I89: =SUM(Արագածոտն!I89+Արարատ!I89+Արմավիր!I89+Գեղարքունիք!I89+Լոռի!I89+Սյունիք!I89+Շիրակ!I89+Տավուշ!I89+Կոտայք!I89+'Երևան '!I89) -> 0 | J89: =SUM(Արագածոտն!J89+Արարատ!J89+Արմավիր!J89+Գեղարքունիք!J89+Լոռի!J89+Սյունիք!J89+Շիրակ!J89+Տավուշ!J89+Կոտայք!J89+'Երևան '!J89) -> 0 | K89: =SUM(Արագածոտն!K89+Արարատ!K89+Արմավիր!K89+Գեղարքունիք!K89+Լոռի!K89+Սյունիք!K89+Շիրակ!K89+Տավուշ!K89+Կոտայք!K89+'Երևան '!K89) -> 0 | ... AB89: =SUM(Արագածոտն!AB89+Արարատ!AB89+Արմավիր!AB89+Գեղարքունիք!AB89+Լոռի!AB89+Սյունիք!AB89+Շիրակ!AB89+Տավուշ!AB89+Կոտայք!AB89+'Երևան '!AB89) -> 0 | AC89: =D89+F89 -> 0 | AD89: =+U89+S89+N89 -> 0 | AE89: =N89 -> 0 | AF89: =SUM(K89:M89) -> 0 | AG89: =R89 -> 0 | AH89: =SUM(O89:Q89) -> 0 | AI89: =Y89 -> 0 | AJ89: =SUM(W89:X89) -> 0 | AK89: =AB89 -> 0 | AL89: =SUM(Z89:AA89) -> 0
A90: 7.8 | B90: Ընտրական կամ հանրաքվեին մասնակցելու իրավունքի իրականացումը, ընտրական հանձնաժողովների աշխատանքներին կամ ընտրությանը կամ հանրաքվեին մասնակցող անձանց իրավունքների կամ պարտականությունների իրականացումը խոչընդոտելը | C90: 210 | D90: =SUM(Արագածոտն!D90+Արարատ!D90+Արմավիր!D90+Գեղարքունիք!D90+Լոռի!D90+Սյունիք!D90+Շիրակ!D90+Տավուշ!D90+Կոտայք!D90+'Երևան '!D90) -> 0 | E90: =SUM(Արագածոտն!E90+Արարատ!E90+Արմավիր!E90+Գեղարքունիք!E90+Լոռի!E90+Սյունիք!E90+Շիրակ!E90+Տավուշ!E90+Կոտայք!E90+'Երևան '!E90) -> 0 | F90: =SUM(Արագածոտն!F90+Արարատ!F90+Արմավիր!F90+Գեղարքունիք!F90+Լոռի!F90+Սյունիք!F90+Շիրակ!F90+Տավուշ!F90+Կոտայք!F90+'Երևան '!F90) -> 0 | G90: =SUM(Արագածոտն!G90+Արարատ!G90+Արմավիր!G90+Գեղարքունիք!G90+Լոռի!G90+Սյունիք!G90+Շիրակ!G90+Տավուշ!G90+Կոտայք!G90+'Երևան '!G90) -> 0 | H90: =SUM(Արագածոտն!H90+Արարատ!H90+Արմավիր!H90+Գեղարքունիք!H90+Լոռի!H90+Սյունիք!H90+Շիրակ!H90+Տավուշ!H90+Կոտայք!H90+'Երևան '!H90) -> 0 | I90: =SUM(Արագածոտն!I90+Արարատ!I90+Արմավիր!I90+Գեղարքունիք!I90+Լոռի!I90+Սյունիք!I90+Շիրակ!I90+Տավուշ!I90+Կոտայք!I90+'Երևան '!I90) -> 0 | J90: =SUM(Արագածոտն!J90+Արարատ!J90+Արմավիր!J90+Գեղարքունիք!J90+Լոռի!J90+Սյունիք!J90+Շիրակ!J90+Տավուշ!J90+Կոտայք!J90+'Երևան '!J90) -> 0 | K90: =SUM(Արագածոտն!K90+Արարատ!K90+Արմավիր!K90+Գեղարքունիք!K90+Լոռի!K90+Սյունիք!K90+Շիրակ!K90+Տավուշ!K90+Կոտայք!K90+'Երևան '!K90) -> 0 | ... AB90: =SUM(Արագածոտն!AB90+Արարատ!AB90+Արմավիր!AB90+Գեղարքունիք!AB90+Լոռի!AB90+Սյունիք!AB90+Շիրակ!AB90+Տավուշ!AB90+Կոտայք!AB90+'Երևան '!AB90) -> 0 | AC90: =D90+F90 -> 0 | AD90: =+U90+S90+N90 -> 0 | AE90: =N90 -> 0 | AF90: =SUM(K90:M90) -> 0 | AG90: =R90 -> 0 | AH90: =SUM(O90:Q90) -> 0 | AI90: =Y90 -> 0 | AJ90: =SUM(W90:X90) -> 0 | AK90: =AB90 -> 0 | AL90: =SUM(Z90:AA90) -> 0
A91: 7.9 | B91: Քարոզչություն կատարելուն կամ քարոզչություն կատարելուց հրաժարվելուն հարկադրելը կամ քարոզչություն կատարելուն այլ կերպ խոչընդոտելը | C91: 211 | D91: =SUM(Արագածոտն!D91+Արարատ!D91+Արմավիր!D91+Գեղարքունիք!D91+Լոռի!D91+Սյունիք!D91+Շիրակ!D91+Տավուշ!D91+Կոտայք!D91+'Երևան '!D91) -> 1 | E91: =SUM(Արագածոտն!E91+Արարատ!E91+Արմավիր!E91+Գեղարքունիք!E91+Լոռի!E91+Սյունիք!E91+Շիրակ!E91+Տավուշ!E91+Կոտայք!E91+'Երևան '!E91) -> 0 | F91: =SUM(Արագածոտն!F91+Արարատ!F91+Արմավիր!F91+Գեղարքունիք!F91+Լոռի!F91+Սյունիք!F91+Շիրակ!F91+Տավուշ!F91+Կոտայք!F91+'Երևան '!F91) -> 0 | G91: =SUM(Արագածոտն!G91+Արարատ!G91+Արմավիր!G91+Գեղարքունիք!G91+Լոռի!G91+Սյունիք!G91+Շիրակ!G91+Տավուշ!G91+Կոտայք!G91+'Երևան '!G91) -> 0 | H91: =SUM(Արագածոտն!H91+Արարատ!H91+Արմավիր!H91+Գեղարքունիք!H91+Լոռի!H91+Սյունիք!H91+Շիրակ!H91+Տավուշ!H91+Կոտայք!H91+'Երևան '!H91) -> 0 | I91: =SUM(Արագածոտն!I91+Արարատ!I91+Արմավիր!I91+Գեղարքունիք!I91+Լոռի!I91+Սյունիք!I91+Շիրակ!I91+Տավուշ!I91+Կոտայք!I91+'Երևան '!I91) -> 0 | J91: =SUM(Արագածոտն!J91+Արարատ!J91+Արմավիր!J91+Գեղարքունիք!J91+Լոռի!J91+Սյունիք!J91+Շիրակ!J91+Տավուշ!J91+Կոտայք!J91+'Երևան '!J91) -> 0 | K91: =SUM(Արագածոտն!K91+Արարատ!K91+Արմավիր!K91+Գեղարքունիք!K91+Լոռի!K91+Սյունիք!K91+Շիրակ!K91+Տավուշ!K91+Կոտայք!K91+'Երևան '!K91) -> 0 | ... AB91: =SUM(Արագածոտն!AB91+Արարատ!AB91+Արմավիր!AB91+Գեղարքունիք!AB91+Լոռի!AB91+Սյունիք!AB91+Շիրակ!AB91+Տավուշ!AB91+Կոտայք!AB91+'Երևան '!AB91) -> 0 | AC91: =D91+F91 -> 1 | AD91: =+U91+S91+N91 -> 1 | AE91: =N91 -> 0 | AF91: =SUM(K91:M91) -> 0 | AG91: =R91 -> 0 | AH91: =SUM(O91:Q91) -> 0 | AI91: =Y91 -> 0 | AJ91: =SUM(W91:X91) -> 0 | AK91: =AB91 -> 0 | AL91: =SUM(Z91:AA91) -> 0
A92: 7.10 | B92: Ընտրությունների կամ քվեարկության արդյունքները կեղծելը | C92: 212 | D92: =SUM(Արագածոտն!D92+Արարատ!D92+Արմավիր!D92+Գեղարքունիք!D92+Լոռի!D92+Սյունիք!D92+Շիրակ!D92+Տավուշ!D92+Կոտայք!D92+'Երևան '!D92) -> 0 | E92: =SUM(Արագածոտն!E92+Արարատ!E92+Արմավիր!E92+Գեղարքունիք!E92+Լոռի!E92+Սյունիք!E92+Շիրակ!E92+Տավուշ!E92+Կոտայք!E92+'Երևան '!E92) -> 0 | F92: =SUM(Արագածոտն!F92+Արարատ!F92+Արմավիր!F92+Գեղարքունիք!F92+Լոռի!F92+Սյունիք!F92+Շիրակ!F92+Տավուշ!F92+Կոտայք!F92+'Երևան '!F92) -> 0 | G92: =SUM(Արագածոտն!G92+Արարատ!G92+Արմավիր!G92+Գեղարքունիք!G92+Լոռի!G92+Սյունիք!G92+Շիրակ!G92+Տավուշ!G92+Կոտայք!G92+'Երևան '!G92) -> 0 | H92: =SUM(Արագածոտն!H92+Արարատ!H92+Արմավիր!H92+Գեղարքունիք!H92+Լոռի!H92+Սյունիք!H92+Շիրակ!H92+Տավուշ!H92+Կոտայք!H92+'Երևան '!H92) -> 0 | I92: =SUM(Արագածոտն!I92+Արարատ!I92+Արմավիր!I92+Գեղարքունիք!I92+Լոռի!I92+Սյունիք!I92+Շիրակ!I92+Տավուշ!I92+Կոտայք!I92+'Երևան '!I92) -> 0 | J92: =SUM(Արագածոտն!J92+Արարատ!J92+Արմավիր!J92+Գեղարքունիք!J92+Լոռի!J92+Սյունիք!J92+Շիրակ!J92+Տավուշ!J92+Կոտայք!J92+'Երևան '!J92) -> 0 | K92: =SUM(Արագածոտն!K92+Արարատ!K92+Արմավիր!K92+Գեղարքունիք!K92+Լոռի!K92+Սյունիք!K92+Շիրակ!K92+Տավուշ!K92+Կոտայք!K92+'Երևան '!K92) -> 0 | ... AB92: =SUM(Արագածոտն!AB92+Արարատ!AB92+Արմավիր!AB92+Գեղարքունիք!AB92+Լոռի!AB92+Սյունիք!AB92+Շիրակ!AB92+Տավուշ!AB92+Կոտայք!AB92+'Երևան '!AB92) -> 0 | AC92: =D92+F92 -> 0 | AD92: =+U92+S92+N92 -> 0 | AE92: =N92 -> 0 | AF92: =SUM(K92:M92) -> 0 | AG92: =R92 -> 0 | AH92: =SUM(O92:Q92) -> 0 | AI92: =Y92 -> 0 | AJ92: =SUM(W92:X92) -> 0 | AK92: =AB92 -> 0 | AL92: =SUM(Z92:AA92) -> 0
A93: 7.11 | B93: Ընտրողների ցուցակները կազմելու, դրանք քաղաքացիներին կամ կուսակցություններին տրամադրելու կամ հրապարակելու կարգը խախտելը | C93: 213 | D93: =SUM(Արագածոտն!D93+Արարատ!D93+Արմավիր!D93+Գեղարքունիք!D93+Լոռի!D93+Սյունիք!D93+Շիրակ!D93+Տավուշ!D93+Կոտայք!D93+'Երևան '!D93) -> 0 | E93: =SUM(Արագածոտն!E93+Արարատ!E93+Արմավիր!E93+Գեղարքունիք!E93+Լոռի!E93+Սյունիք!E93+Շիրակ!E93+Տավուշ!E93+Կոտայք!E93+'Երևան '!E93) -> 0 | F93: =SUM(Արագածոտն!F93+Արարատ!F93+Արմավիր!F93+Գեղարքունիք!F93+Լոռի!F93+Սյունիք!F93+Շիրակ!F93+Տավուշ!F93+Կոտայք!F93+'Երևան '!F93) -> 0 | G93: =SUM(Արագածոտն!G93+Արարատ!G93+Արմավիր!G93+Գեղարքունիք!G93+Լոռի!G93+Սյունիք!G93+Շիրակ!G93+Տավուշ!G93+Կոտայք!G93+'Երևան '!G93) -> 0 | H93: =SUM(Արագածոտն!H93+Արարատ!H93+Արմավիր!H93+Գեղարքունիք!H93+Լոռի!H93+Սյունիք!H93+Շիրակ!H93+Տավուշ!H93+Կոտայք!H93+'Երևան '!H93) -> 0 | I93: =SUM(Արագածոտն!I93+Արարատ!I93+Արմավիր!I93+Գեղարքունիք!I93+Լոռի!I93+Սյունիք!I93+Շիրակ!I93+Տավուշ!I93+Կոտայք!I93+'Երևան '!I93) -> 0 | J93: =SUM(Արագածոտն!J93+Արարատ!J93+Արմավիր!J93+Գեղարքունիք!J93+Լոռի!J93+Սյունիք!J93+Շիրակ!J93+Տավուշ!J93+Կոտայք!J93+'Երևան '!J93) -> 0 | K93: =SUM(Արագածոտն!K93+Արարատ!K93+Արմավիր!K93+Գեղարքունիք!K93+Լոռի!K93+Սյունիք!K93+Շիրակ!K93+Տավուշ!K93+Կոտայք!K93+'Երևան '!K93) -> 0 | ... AB93: =SUM(Արագածոտն!AB93+Արարատ!AB93+Արմավիր!AB93+Գեղարքունիք!AB93+Լոռի!AB93+Սյունիք!AB93+Շիրակ!AB93+Տավուշ!AB93+Կոտայք!AB93+'Երևան '!AB93) -> 0 | AC93: =D93+F93 -> 0 | AD93: =+U93+S93+N93 -> 0 | AE93: =N93 -> 0 | AF93: =SUM(K93:M93) -> 0 | AG93: =R93 -> 0 | AH93: =SUM(O93:Q93) -> 0 | AI93: =Y93 -> 0 | AJ93: =SUM(W93:X93) -> 0 | AK93: =AB93 -> 0 | AL93: =SUM(Z93:AA93) -> 0
A94: 7.12 | B94: Մեկից ավելի անգամ կամ այլ անձի փոխարեն քվեարկելը | C94: 214 | D94: =SUM(Արագածոտն!D94+Արարատ!D94+Արմավիր!D94+Գեղարքունիք!D94+Լոռի!D94+Սյունիք!D94+Շիրակ!D94+Տավուշ!D94+Կոտայք!D94+'Երևան '!D94) -> 0 | E94: =SUM(Արագածոտն!E94+Արարատ!E94+Արմավիր!E94+Գեղարքունիք!E94+Լոռի!E94+Սյունիք!E94+Շիրակ!E94+Տավուշ!E94+Կոտայք!E94+'Երևան '!E94) -> 0 | F94: =SUM(Արագածոտն!F94+Արարատ!F94+Արմավիր!F94+Գեղարքունիք!F94+Լոռի!F94+Սյունիք!F94+Շիրակ!F94+Տավուշ!F94+Կոտայք!F94+'Երևան '!F94) -> 0 | G94: =SUM(Արագածոտն!G94+Արարատ!G94+Արմավիր!G94+Գեղարքունիք!G94+Լոռի!G94+Սյունիք!G94+Շիրակ!G94+Տավուշ!G94+Կոտայք!G94+'Երևան '!G94) -> 0 | H94: =SUM(Արագածոտն!H94+Արարատ!H94+Արմավիր!H94+Գեղարքունիք!H94+Լոռի!H94+Սյունիք!H94+Շիրակ!H94+Տավուշ!H94+Կոտայք!H94+'Երևան '!H94) -> 0 | I94: =SUM(Արագածոտն!I94+Արարատ!I94+Արմավիր!I94+Գեղարքունիք!I94+Լոռի!I94+Սյունիք!I94+Շիրակ!I94+Տավուշ!I94+Կոտայք!I94+'Երևան '!I94) -> 0 | J94: =SUM(Արագածոտն!J94+Արարատ!J94+Արմավիր!J94+Գեղարքունիք!J94+Լոռի!J94+Սյունիք!J94+Շիրակ!J94+Տավուշ!J94+Կոտայք!J94+'Երևան '!J94) -> 0 | K94: =SUM(Արագածոտն!K94+Արարատ!K94+Արմավիր!K94+Գեղարքունիք!K94+Լոռի!K94+Սյունիք!K94+Շիրակ!K94+Տավուշ!K94+Կոտայք!K94+'Երևան '!K94) -> 0 | ... AB94: =SUM(Արագածոտն!AB94+Արարատ!AB94+Արմավիր!AB94+Գեղարքունիք!AB94+Լոռի!AB94+Սյունիք!AB94+Շիրակ!AB94+Տավուշ!AB94+Կոտայք!AB94+'Երևան '!AB94) -> 0 | AC94: =D94+F94 -> 0 | AD94: =+U94+S94+N94 -> 0 | AE94: =N94 -> 0 | AF94: =SUM(K94:M94) -> 0 | AG94: =R94 -> 0 | AH94: =SUM(O94:Q94) -> 0 | AI94: =Y94 -> 0 | AJ94: =SUM(W94:X94) -> 0 | AK94: =AB94 -> 0 | AL94: =SUM(Z94:AA94) -> 0
A95: 7.13 | B95: Քվեարկության գաղտնիությունը խախտելը | C95: 215 | D95: =SUM(Արագածոտն!D95+Արարատ!D95+Արմավիր!D95+Գեղարքունիք!D95+Լոռի!D95+Սյունիք!D95+Շիրակ!D95+Տավուշ!D95+Կոտայք!D95+'Երևան '!D95) -> 0 | E95: =SUM(Արագածոտն!E95+Արարատ!E95+Արմավիր!E95+Գեղարքունիք!E95+Լոռի!E95+Սյունիք!E95+Շիրակ!E95+Տավուշ!E95+Կոտայք!E95+'Երևան '!E95) -> 0 | F95: =SUM(Արագածոտն!F95+Արարատ!F95+Արմավիր!F95+Գեղարքունիք!F95+Լոռի!F95+Սյունիք!F95+Շիրակ!F95+Տավուշ!F95+Կոտայք!F95+'Երևան '!F95) -> 0 | G95: =SUM(Արագածոտն!G95+Արարատ!G95+Արմավիր!G95+Գեղարքունիք!G95+Լոռի!G95+Սյունիք!G95+Շիրակ!G95+Տավուշ!G95+Կոտայք!G95+'Երևան '!G95) -> 0 | H95: =SUM(Արագածոտն!H95+Արարատ!H95+Արմավիր!H95+Գեղարքունիք!H95+Լոռի!H95+Սյունիք!H95+Շիրակ!H95+Տավուշ!H95+Կոտայք!H95+'Երևան '!H95) -> 0 | I95: =SUM(Արագածոտն!I95+Արարատ!I95+Արմավիր!I95+Գեղարքունիք!I95+Լոռի!I95+Սյունիք!I95+Շիրակ!I95+Տավուշ!I95+Կոտայք!I95+'Երևան '!I95) -> 0 | J95: =SUM(Արագածոտն!J95+Արարատ!J95+Արմավիր!J95+Գեղարքունիք!J95+Լոռի!J95+Սյունիք!J95+Շիրակ!J95+Տավուշ!J95+Կոտայք!J95+'Երևան '!J95) -> 0 | K95: =SUM(Արագածոտն!K95+Արարատ!K95+Արմավիր!K95+Գեղարքունիք!K95+Լոռի!K95+Սյունիք!K95+Շիրակ!K95+Տավուշ!K95+Կոտայք!K95+'Երևան '!K95) -> 0 | ... AB95: =SUM(Արագածոտն!AB95+Արարատ!AB95+Արմավիր!AB95+Գեղարքունիք!AB95+Լոռի!AB95+Սյունիք!AB95+Շիրակ!AB95+Տավուշ!AB95+Կոտայք!AB95+'Երևան '!AB95) -> 0 | AC95: =D95+F95 -> 0 | AD95: =+U95+S95+N95 -> 0 | AE95: =N95 -> 0 | AF95: =SUM(K95:M95) -> 0 | AG95: =R95 -> 0 | AH95: =SUM(O95:Q95) -> 0 | AI95: =Y95 -> 0 | AJ95: =SUM(W95:X95) -> 0 | AK95: =AB95 -> 0 | AL95: =SUM(Z95:AA95) -> 0
A96: 7.14 | B96: Կեղծ ընտրական քվեաթերթիկներ կամ քվեարկության ծրարներ, դրոշմանիշներ, կտրոններ պատրաստելը կամ ակնհայտ կեղծ ընտրական քվեաթերթիկներ կամ քվեարկության ծրարներ, դրոշմանիշներ, կտրոններ հանձնելը կամ դրանք իրացնելը | C96: 216 | D96: =SUM(Արագածոտն!D96+Արարատ!D96+Արմավիր!D96+Գեղարքունիք!D96+Լոռի!D96+Սյունիք!D96+Շիրակ!D96+Տավուշ!D96+Կոտայք!D96+'Երևան '!D96) -> 0 | E96: =SUM(Արագածոտն!E96+Արարատ!E96+Արմավիր!E96+Գեղարքունիք!E96+Լոռի!E96+Սյունիք!E96+Շիրակ!E96+Տավուշ!E96+Կոտայք!E96+'Երևան '!E96) -> 0 | F96: =SUM(Արագածոտն!F96+Արարատ!F96+Արմավիր!F96+Գեղարքունիք!F96+Լոռի!F96+Սյունիք!F96+Շիրակ!F96+Տավուշ!F96+Կոտայք!F96+'Երևան '!F96) -> 0 | G96: =SUM(Արագածոտն!G96+Արարատ!G96+Արմավիր!G96+Գեղարքունիք!G96+Լոռի!G96+Սյունիք!G96+Շիրակ!G96+Տավուշ!G96+Կոտայք!G96+'Երևան '!G96) -> 0 | H96: =SUM(Արագածոտն!H96+Արարատ!H96+Արմավիր!H96+Գեղարքունիք!H96+Լոռի!H96+Սյունիք!H96+Շիրակ!H96+Տավուշ!H96+Կոտայք!H96+'Երևան '!H96) -> 0 | I96: =SUM(Արագածոտն!I96+Արարատ!I96+Արմավիր!I96+Գեղարքունիք!I96+Լոռի!I96+Սյունիք!I96+Շիրակ!I96+Տավուշ!I96+Կոտայք!I96+'Երևան '!I96) -> 0 | J96: =SUM(Արագածոտն!J96+Արարատ!J96+Արմավիր!J96+Գեղարքունիք!J96+Լոռի!J96+Սյունիք!J96+Շիրակ!J96+Տավուշ!J96+Կոտայք!J96+'Երևան '!J96) -> 0 | K96: =SUM(Արագածոտն!K96+Արարատ!K96+Արմավիր!K96+Գեղարքունիք!K96+Լոռի!K96+Սյունիք!K96+Շիրակ!K96+Տավուշ!K96+Կոտայք!K96+'Երևան '!K96) -> 0 | ... AB96: =SUM(Արագածոտն!AB96+Արարատ!AB96+Արմավիր!AB96+Գեղարքունիք!AB96+Լոռի!AB96+Սյունիք!AB96+Շիրակ!AB96+Տավուշ!AB96+Կոտայք!AB96+'Երևան '!AB96) -> 0 | AC96: =D96+F96 -> 0 | AD96: =+U96+S96+N96 -> 0 | AE96: =N96 -> 0 | AF96: =SUM(K96:M96) -> 0 | AG96: =R96 -> 0 | AH96: =SUM(O96:Q96) -> 0 | AI96: =Y96 -> 0 | AJ96: =SUM(W96:X96) -> 0 | AK96: =AB96 -> 0 | AL96: =SUM(Z96:AA96) -> 0
A97: 7.15 | B97: Ընտրական գործընթացի պատշաճ կազմակերպման համար անհրաժեշտ առարկաները հափշտակելը | C97: 217 | D97: =SUM(Արագածոտն!D97+Արարատ!D97+Արմավիր!D97+Գեղարքունիք!D97+Լոռի!D97+Սյունիք!D97+Շիրակ!D97+Տավուշ!D97+Կոտայք!D97+'Երևան '!D97) -> 0 | E97: =SUM(Արագածոտն!E97+Արարատ!E97+Արմավիր!E97+Գեղարքունիք!E97+Լոռի!E97+Սյունիք!E97+Շիրակ!E97+Տավուշ!E97+Կոտայք!E97+'Երևան '!E97) -> 0 | F97: =SUM(Արագածոտն!F97+Արարատ!F97+Արմավիր!F97+Գեղարքունիք!F97+Լոռի!F97+Սյունիք!F97+Շիրակ!F97+Տավուշ!F97+Կոտայք!F97+'Երևան '!F97) -> 0 | G97: =SUM(Արագածոտն!G97+Արարատ!G97+Արմավիր!G97+Գեղարքունիք!G97+Լոռի!G97+Սյունիք!G97+Շիրակ!G97+Տավուշ!G97+Կոտայք!G97+'Երևան '!G97) -> 0 | H97: =SUM(Արագածոտն!H97+Արարատ!H97+Արմավիր!H97+Գեղարքունիք!H97+Լոռի!H97+Սյունիք!H97+Շիրակ!H97+Տավուշ!H97+Կոտայք!H97+'Երևան '!H97) -> 0 | I97: =SUM(Արագածոտն!I97+Արարատ!I97+Արմավիր!I97+Գեղարքունիք!I97+Լոռի!I97+Սյունիք!I97+Շիրակ!I97+Տավուշ!I97+Կոտայք!I97+'Երևան '!I97) -> 0 | J97: =SUM(Արագածոտն!J97+Արարատ!J97+Արմավիր!J97+Գեղարքունիք!J97+Լոռի!J97+Սյունիք!J97+Շիրակ!J97+Տավուշ!J97+Կոտայք!J97+'Երևան '!J97) -> 0 | K97: =SUM(Արագածոտն!K97+Արարատ!K97+Արմավիր!K97+Գեղարքունիք!K97+Լոռի!K97+Սյունիք!K97+Շիրակ!K97+Տավուշ!K97+Կոտայք!K97+'Երևան '!K97) -> 0 | ... AB97: =SUM(Արագածոտն!AB97+Արարատ!AB97+Արմավիր!AB97+Գեղարքունիք!AB97+Լոռի!AB97+Սյունիք!AB97+Շիրակ!AB97+Տավուշ!AB97+Կոտայք!AB97+'Երևան '!AB97) -> 0 | AC97: =D97+F97 -> 0 | AD97: =+U97+S97+N97 -> 0 | AE97: =N97 -> 0 | AF97: =SUM(K97:M97) -> 0 | AG97: =R97 -> 0 | AH97: =SUM(O97:Q97) -> 0 | AI97: =Y97 -> 0 | AJ97: =SUM(W97:X97) -> 0 | AK97: =AB97 -> 0 | AL97: =SUM(Z97:AA97) -> 0
A98: 7.16 | B98: Ընտրակաշառք ստանալը | C98: 218 | D98: =SUM(Արագածոտն!D98+Արարատ!D98+Արմավիր!D98+Գեղարքունիք!D98+Լոռի!D98+Սյունիք!D98+Շիրակ!D98+Տավուշ!D98+Կոտայք!D98+'Երևան '!D98) -> 0 | E98: =SUM(Արագածոտն!E98+Արարատ!E98+Արմավիր!E98+Գեղարքունիք!E98+Լոռի!E98+Սյունիք!E98+Շիրակ!E98+Տավուշ!E98+Կոտայք!E98+'Երևան '!E98) -> 0 | F98: =SUM(Արագածոտն!F98+Արարատ!F98+Արմավիր!F98+Գեղարքունիք!F98+Լոռի!F98+Սյունիք!F98+Շիրակ!F98+Տավուշ!F98+Կոտայք!F98+'Երևան '!F98) -> 0 | G98: =SUM(Արագածոտն!G98+Արարատ!G98+Արմավիր!G98+Գեղարքունիք!G98+Լոռի!G98+Սյունիք!G98+Շիրակ!G98+Տավուշ!G98+Կոտայք!G98+'Երևան '!G98) -> 0 | H98: =SUM(Արագածոտն!H98+Արարատ!H98+Արմավիր!H98+Գեղարքունիք!H98+Լոռի!H98+Սյունիք!H98+Շիրակ!H98+Տավուշ!H98+Կոտայք!H98+'Երևան '!H98) -> 0 | I98: =SUM(Արագածոտն!I98+Արարատ!I98+Արմավիր!I98+Գեղարքունիք!I98+Լոռի!I98+Սյունիք!I98+Շիրակ!I98+Տավուշ!I98+Կոտայք!I98+'Երևան '!I98) -> 0 | J98: =SUM(Արագածոտն!J98+Արարատ!J98+Արմավիր!J98+Գեղարքունիք!J98+Լոռի!J98+Սյունիք!J98+Շիրակ!J98+Տավուշ!J98+Կոտայք!J98+'Երևան '!J98) -> 0 | K98: =SUM(Արագածոտն!K98+Արարատ!K98+Արմավիր!K98+Գեղարքունիք!K98+Լոռի!K98+Սյունիք!K98+Շիրակ!K98+Տավուշ!K98+Կոտայք!K98+'Երևան '!K98) -> 0 | ... AB98: =SUM(Արագածոտն!AB98+Արարատ!AB98+Արմավիր!AB98+Գեղարքունիք!AB98+Լոռի!AB98+Սյունիք!AB98+Շիրակ!AB98+Տավուշ!AB98+Կոտայք!AB98+'Երևան '!AB98) -> 0 | AC98: =D98+F98 -> 0 | AD98: =+U98+S98+N98 -> 0 | AE98: =N98 -> 0 | AF98: =SUM(K98:M98) -> 0 | AG98: =R98 -> 0 | AH98: =SUM(O98:Q98) -> 0 | AI98: =Y98 -> 0 | AJ98: =SUM(W98:X98) -> 0 | AK98: =AB98 -> 0 | AL98: =SUM(Z98:AA98) -> 0
A99: 7.17 | B99: Ընտրակաշառք տալը | C99: 219 | D99: =SUM(Արագածոտն!D99+Արարատ!D99+Արմավիր!D99+Գեղարքունիք!D99+Լոռի!D99+Սյունիք!D99+Շիրակ!D99+Տավուշ!D99+Կոտայք!D99+'Երևան '!D99) -> 0 | E99: =SUM(Արագածոտն!E99+Արարատ!E99+Արմավիր!E99+Գեղարքունիք!E99+Լոռի!E99+Սյունիք!E99+Շիրակ!E99+Տավուշ!E99+Կոտայք!E99+'Երևան '!E99) -> 0 | F99: =SUM(Արագածոտն!F99+Արարատ!F99+Արմավիր!F99+Գեղարքունիք!F99+Լոռի!F99+Սյունիք!F99+Շիրակ!F99+Տավուշ!F99+Կոտայք!F99+'Երևան '!F99) -> 0 | G99: =SUM(Արագածոտն!G99+Արարատ!G99+Արմավիր!G99+Գեղարքունիք!G99+Լոռի!G99+Սյունիք!G99+Շիրակ!G99+Տավուշ!G99+Կոտայք!G99+'Երևան '!G99) -> 0 | H99: =SUM(Արագածոտն!H99+Արարատ!H99+Արմավիր!H99+Գեղարքունիք!H99+Լոռի!H99+Սյունիք!H99+Շիրակ!H99+Տավուշ!H99+Կոտայք!H99+'Երևան '!H99) -> 0 | I99: =SUM(Արագածոտն!I99+Արարատ!I99+Արմավիր!I99+Գեղարքունիք!I99+Լոռի!I99+Սյունիք!I99+Շիրակ!I99+Տավուշ!I99+Կոտայք!I99+'Երևան '!I99) -> 0 | J99: =SUM(Արագածոտն!J99+Արարատ!J99+Արմավիր!J99+Գեղարքունիք!J99+Լոռի!J99+Սյունիք!J99+Շիրակ!J99+Տավուշ!J99+Կոտայք!J99+'Երևան '!J99) -> 0 | K99: =SUM(Արագածոտն!K99+Արարատ!K99+Արմավիր!K99+Գեղարքունիք!K99+Լոռի!K99+Սյունիք!K99+Շիրակ!K99+Տավուշ!K99+Կոտայք!K99+'Երևան '!K99) -> 0 | ... AB99: =SUM(Արագածոտն!AB99+Արարատ!AB99+Արմավիր!AB99+Գեղարքունիք!AB99+Լոռի!AB99+Սյունիք!AB99+Շիրակ!AB99+Տավուշ!AB99+Կոտայք!AB99+'Երևան '!AB99) -> 0 | AC99: =D99+F99 -> 0 | AD99: =+U99+S99+N99 -> 0 | AE99: =N99 -> 0 | AF99: =SUM(K99:M99) -> 0 | AG99: =R99 -> 0 | AH99: =SUM(O99:Q99) -> 0 | AI99: =Y99 -> 0 | AJ99: =SUM(W99:X99) -> 0 | AK99: =AB99 -> 0 | AL99: =SUM(Z99:AA99) -> 0
A100: 7.18 | B100: Ընտրակաշառքի միջնորդությունը | C100: 220 | D100: =SUM(Արագածոտն!D100+Արարատ!D100+Արմավիր!D100+Գեղարքունիք!D100+Լոռի!D100+Սյունիք!D100+Շիրակ!D100+Տավուշ!D100+Կոտայք!D100+'Երևան '!D100) -> 0 | E100: =SUM(Արագածոտն!E100+Արարատ!E100+Արմավիր!E100+Գեղարքունիք!E100+Լոռի!E100+Սյունիք!E100+Շիրակ!E100+Տավուշ!E100+Կոտայք!E100+'Երևան '!E100) -> 0 | F100: =SUM(Արագածոտն!F100+Արարատ!F100+Արմավիր!F100+Գեղարքունիք!F100+Լոռի!F100+Սյունիք!F100+Շիրակ!F100+Տավուշ!F100+Կոտայք!F100+'Երևան '!F100) -> 0 | G100: =SUM(Արագածոտն!G100+Արարատ!G100+Արմավիր!G100+Գեղարքունիք!G100+Լոռի!G100+Սյունիք!G100+Շիրակ!G100+Տավուշ!G100+Կոտայք!G100+'Երևան '!G100) -> 0 | H100: =SUM(Արագածոտն!H100+Արարատ!H100+Արմավիր!H100+Գեղարքունիք!H100+Լոռի!H100+Սյունիք!H100+Շիրակ!H100+Տավուշ!H100+Կոտայք!H100+'Երևան '!H100) -> 0 | I100: =SUM(Արագածոտն!I100+Արարատ!I100+Արմավիր!I100+Գեղարքունիք!I100+Լոռի!I100+Սյունիք!I100+Շիրակ!I100+Տավուշ!I100+Կոտայք!I100+'Երևան '!I100) -> 0 | J100: =SUM(Արագածոտն!J100+Արարատ!J100+Արմավիր!J100+Գեղարքունիք!J100+Լոռի!J100+Սյունիք!J100+Շիրակ!J100+Տավուշ!J100+Կոտայք!J100+'Երևան '!J100) -> 0 | K100: =SUM(Արագածոտն!K100+Արարատ!K100+Արմավիր!K100+Գեղարքունիք!K100+Լոռի!K100+Սյունիք!K100+Շիրակ!K100+Տավուշ!K100+Կոտայք!K100+'Երևան '!K100) -> 0 | ... AB100: =SUM(Արագածոտն!AB100+Արարատ!AB100+Արմավիր!AB100+Գեղարքունիք!AB100+Լոռի!AB100+Սյունիք!AB100+Շիրակ!AB100+Տավուշ!AB100+Կոտայք!AB100+'Երևան '!AB100) -> 0 | AC100: =D100+F100 -> 0 | AD100: =+U100+S100+N100 -> 0 | AE100: =N100 -> 0 | AF100: =SUM(K100:M100) -> 0 | AG100: =R100 -> 0 | AH100: =SUM(O100:Q100) -> 0 | AI100: =Y100 -> 0 | AJ100: =SUM(W100:X100) -> 0 | AK100: =AB100 -> 0 | AL100: =SUM(Z100:AA100) -> 0
...

Sheet Արագածոտն
B1: 2024թ. 1-ին կիսամյակի | X1: Հավելված 2 Բարձրագույն դատական խորհրդի 2022թվականի դեկտեմբերի 26-ի թիվ ԲԴԽ-122-Ո-408 որոշման
A2: ՀԱՇՎԵՏՎՈՒԹՅՈՒՆ ՀՀ ԱՐԱԳԱԾՈՏՆԻ ՄԱՐԶԻ ԱՌԱՋԻՆ ԱՏՅԱՆԻ ԸՆԴՀԱՆՈՒՐ ԻՐԱՎԱՍՈՒԹՅԱՆ ԴԱՏԱՐԱՆՈՒՄ ՔՐԵԱԿԱՆ ԳՈՐԾԵՐԻ ՔՆՆՈՒԹՅԱՆ ՎԵՐԱԲԵՐՅԱԼ ՔՐԵԱԿԱՆ ՄԱՍՆԱԳԻՏԱՑՈՒՄ ՈՒՆԵՑՈՂ ԴԱՏԱՎՈՐՆԵՐԻ ԹԻՎԸ՝ 3
A3: Ստուգիչ հավասարումներ` 1+3=11+16+18, 11 =8+9+10 15= 12+13+14, 22=20+21, 25=23+24 | C3: ՀՀ քրեական օրենսգրքի հոդվածներ | D3: Հաշվետու ժամանակահատվածի սկզբում նախորդ հաշվետու ժամանակահատվածից փոխանցված գործերի ընդհանուր թիվը | E3: Այդ թվում` կասեցված վիճակում փոխանցված | F3: Հաշվետու ժամանակահատվածում ստացված գործերի ընդհանուր թիվը | G3: Որոշում է կայացվել քրեական գործը վերադարձնել հսկող դատախազին | H3: քանի գործով է կիրառվել համաձայնեցման վարույթ | I3: քանի գործով է կիրառվել համագործակցության վարույթ | J3: Հաշվետու ժամանակաշրջանում կայացվել է վերդիկտ | K3: Հաշվետու ժամանակաշրջանում կայացվել է դատավճիռ | L3: քրեական վարույթը կարճելու մաuին որոշում | M3: Հաշվետու ժամանակաշրջանում կայացվել է բժշկական հարկադրանքի դատավճիռ /ՀՀ ՔՐ. ԴԱՏ. ՕՐ. 432-ՐԴ ՀՈԴՎԱԾ/ | N3: ընդամենը | O3: Հաշվետու ժամանակահատվածում ավարտված գործերի ընդհանուր թիվը /ՀՀ ՔՐ. ԴԱՏ. ՕՐ. 14-ՐԴ ՀՈԴՎԱԾ/ | S3: Ուղարկվել է ըստ ընդդատության | T3: Հաշվետու ժամանակահատվածում կասեցված վարույթներով գործերի ընդհանուր թիվը | U3: Հաշվետու ժամանակահատվածում անավարտ գործերի ընդհանուր թիվը | V3: Այդ թվում՝ կասեցված | W3: Բողոքարկված վարութային ակտերի թիվը` ըստ տեսակների | Z3: բեկանված կամ փոփոխված ակտերի թիվը` ըստ տեսակների
O4: քրեական վարույթը կարճելու մաuին որոշումն ուժի մեջ մտնելով. | P4: Եզրափակիչ դատական ակտն ուժի մեջ է մտել | Q4: Եզրափակիչ դատական ակտը հանձնվել է կատարման | R4: Ընդամենը ավարտվել են գործեր | W4: Այդ թվում` եզրափակիչ դատական ակտերը | X4: Այդ թվում` եզրափակիչ դատավարական ակտերը | Y4: Ընդամենը | Z4: Այդ թվում` եզրափակիչ դատական ակտերը | AA4: Այդ թվում` եզրափակիչ դատավարական ակտերը | AB4: Ընդամենը | AC4: 1+3 | AD4: 11+16+18 | AE4: 11 | AF4: 8+9+10 | AG4: 15 | AH4: 12+13+14 | AI4: 22 | AJ4: 20+21 | AK4: 25 | AL4: 23+24
D5: 1 | E5: 2 | F5: 3 | G5: 4 | H5: 5 | I5: 6 | J5: 7 | K5: 8 | L5: 9 | M5: 10 | N5: 11 | O5: 12 | P5: 13 | Q5: 14 | R5: 15 | S5: 16 | T5: 17 | U5: 18 | V5: 19 | W5: 20 | X5: 21 | Y5: 22 | Z5: 23 | AA5: 24 | AB5: 25
A6: 1. | B6: Ընդամենը խաղաղության և մարդկության անվտանգության դեմ ուղղված հանցագործությունները | D6: 0 | E6: =SUM(E7:E28) -> 0 | F6: =SUM(F7:F28) -> 0 | G6: =SUM(G7:G28) -> 0 | H6: =SUM(H7:H28) -> 0 | I6: =SUM(I7:I28) -> 0 | J6: =SUM(J7:J28) -> 0 | K6: =SUM(K7:K28) -> 0 | L6: =SUM(L7:L28) -> 0 | ... AC6: =SUM(AC7:AC28) -> 0 | AD6: =+U6+S6+N6 -> 0 | AE6: =SUM(AE7:AE28) -> 0 | AF6: =SUM(AF7:AF28) -> 0 | AG6: =SUM(AG7:AG28) -> 0 | AH6: =SUM(AH7:AH28) -> 0 | AI6: =SUM(AI7:AI28) -> 0 | AJ6: =SUM(AJ7:AJ28) -> 0 | AK6: =SUM(AK7:AK28) -> 0 | AL6: =SUM(AL7:AL28) -> 0
A7: 1.1 | B7: Ցեղասպանությունը | C7: 133 | AC7: =D7+F7 -> 0 | AD7: =E7+G7 -> 0 | AE7: =F7+H7 -> 0 | AF7: =G7+I7 -> 0 | AG7: =H7+J7 -> 0 | AH7: =I7+K7 -> 0 | AI7: =J7+L7 -> 0 | AJ7: =K7+M7 -> 0 | ... AL7: =M7+O7 -> 0
A8: 1.2 | B8: Ցեղասպանության ուղղակի և հրապարակային հրահրումը | C8: 134 | AC8: =D8+F8 -> 0 | AD8: =E8+G8 -> 0 | AE8: =F8+H8 -> 0 | AF8: =G8+I8 -> 0 | AG8: =H8+J8 -> 0 | AH8: =I8+K8 -> 0 | AI8: =J8+L8 -> 0 | AJ8: =K8+M8 -> 0 | ... AL8: =M8+O8 -> 0
A9: 1.3 | B9: Մարդկայնության դեմ ուղղված հանցագործությունները | C9: 135 | AC9: =D9+F9 -> 0 | AD9: =E9+G9 -> 0 | AE9: =F9+H9 -> 0 | AF9: =G9+I9 -> 0 | AG9: =H9+J9 -> 0 | AH9: =I9+K9 -> 0 | AI9: =J9+L9 -> 0 | AJ9: =K9+M9 -> 0 | ... AL9: =M9+O9 -> 0
A10: 1.4 | B10: Ցեղասպանությունը կամ մարդկայնության դեմ ուղղված հանցագործությունները հրապարակայնորեն հերքելը, արդարացնելը, դրանք քարոզելը կամ դրանց վտանգավորությունը նսեմացնելը | C10: 136 | AC10: =D10+F10 -> 0 | AD10: =E10+G10 -> 0 | AE10: =F10+H10 -> 0 | AF10: =G10+I10 -> 0 | AG10: =H10+J10 -> 0 | AH10: =I10+K10 -> 0 | AI10: =J10+L10 -> 0 | AJ10: =K10+M10 -> 0 | ... AL10: =M10+O10 -> 0
A11: 1.5 | B11: Հովանավորվող անձի դեմ ուղղված պատերազմական հանցագործությունները | C11: 137 | AC11: =D11+F11 -> 0 | AD11: =E11+G11 -> 0 | AE11: =F11+H11 -> 0 | AF11: =G11+I11 -> 0 | AG11: =H11+J11 -> 0 | AH11: =I11+K11 -> 0 | AI11: =J11+L11 -> 0 | AJ11: =K11+M11 -> 0 | ... AL11: =M11+O11 -> 0
A12: 1.6 | B12: Սեփականության կամ այլ իրավունքների դեմ ուղղված պատերազմական հանցագործությունները | C12: 138 | AC12: =D12+F12 -> 0 | AD12: =E12+G12 -> 0 | AE12: =F12+H12 -> 0 | AF12: =G12+I12 -> 0 | AG12: =H12+J12 -> 0 | AH12: =I12+K12 -> 0 | AI12: =J12+L12 -> 0 | AJ12: =K12+M12 -> 0 | ... AL12: =M12+O12 -> 0
A13: 1.7 | B13: Մարդասիրական օգնության ցուցաբերման կամ տարբերանշանների դեմ ուղղված պատերազմական հանցագործությունները | C13: 139 | AC13: =D13+F13 -> 0 | AD13: =E13+G13 -> 0 | AE13: =F13+H13 -> 0 | AF13: =G13+I13 -> 0 | AG13: =H13+J13 -> 0 | AH13: =I13+K13 -> 0 | AI13: =J13+L13 -> 0 | AJ13: =K13+M13 -> 0 | ... AL13: =M13+O13 -> 0
A14: 1.8 | B14: Պատերազմ վարելու արգելված եղանակների կիրառմամբ պատերազմական հանցագործությունները | C14: 140 | AC14: =D14+F14 -> 0 | AD14: =E14+G14 -> 0 | AE14: =F14+H14 -> 0 | AF14: =G14+I14 -> 0 | AG14: =H14+J14 -> 0 | AH14: =I14+K14 -> 0 | AI14: =J14+L14 -> 0 | AJ14: =K14+M14 -> 0 | ... AL14: =M14+O14 -> 0
A15: 1.9 | B15: Պատերազմ վարելու արգելված միջոցների կիրառմամբ պատերազմական հանցագործությունները | C15: 141 | AC15: =D15+F15 -> 0 | AD15: =E15+G15 -> 0 | AE15: =F15+H15 -> 0 | AF15: =G15+I15 -> 0 | AG15: =H15+J15 -> 0 | AH15: =I15+K15 -> 0 | AI15: =J15+L15 -> 0 | AJ15: =K15+M15 -> 0 | ... AL15: =M15+O15 -> 0
A16: 1.10 | B16: Դիակապտությունը | C16: 142 | AC16: =D16+F16 -> 0 | AD16: =E16+G16 -> 0 | AE16: =F16+H16 -> 0 | AF16: =G16+I16 -> 0 | AG16: =H16+J16 -> 0 | AH16: =I16+K16 -> 0 | AI16: =J16+L16 -> 0 | AJ16: =K16+M16 -> 0 | ... AL16: =M16+O16 -> 0
A17: 1.11 | B17: Մարտադաշտում սպանվածների դիակներն անարգելը | C17: 143 | AC17: =D17+F17 -> 0 | AD17: =E17+G17 -> 0 | AE17: =F17+H17 -> 0 | AF17: =G17+I17 -> 0 | AG17: =H17+J17 -> 0 | AH17: =I17+K17 -> 0 | AI17: =J17+L17 -> 0 | AJ17: =K17+M17 -> 0 | ... AL17: =M17+O17 -> 0
A18: 1.12 | B18: Զինված ընդհարման ժամանակ մշակութային արժեքները ոչնչացնելը, վնասելը, հափշտակելը կամ առգրավելը կամ դրանց նպատակային նշանակությունը փոփոխելը | C18: 144 | AC18: =D18+F18 -> 0 | AD18: =E18+G18 -> 0 | AE18: =F18+H18 -> 0 | AF18: =G18+I18 -> 0 | AG18: =H18+J18 -> 0 | AH18: =I18+K18 -> 0 | AI18: =J18+L18 -> 0 | AJ18: =K18+M18 -> 0 | ... AL18: =M18+O18 -> 0
A19: 1.13 | B19: Պատերազմի կամ զինված ընդհարման ժամանակ մշակութային արժեքների պաշտպանության կանոնները խախտելը | C19: 145 | AC19: =D19+F19 -> 0 | AD19: =E19+G19 -> 0 | AE19: =F19+H19 -> 0 | AF19: =G19+I19 -> 0 | AG19: =H19+J19 -> 0 | AH19: =I19+K19 -> 0 | AI19: =J19+L19 -> 0 | AJ19: =K19+M19 -> 0 | ... AL19: =M19+O19 -> 0
A20: 1.14 | B20: Ռասայական, ազգային, էթնիկական կամ կրոնական թշնամանք հարուցելու նպատակով մշակութային արժեքները ոչնչացնելը կամ վնասելը | C20: 146 | AC20: =D20+F20 -> 0 | AD20: =E20+G20 -> 0 | AE20: =F20+H20 -> 0 | AF20: =G20+I20 -> 0 | AG20: =H20+J20 -> 0 | AH20: =I20+K20 -> 0 | AI20: =J20+L20 -> 0 | AJ20: =K20+M20 -> 0 | ... AL20: =M20+O20 -> 0
A21: 1.15 | B21: Վարձկանությունը | C21: 147 | AC21: =D21+F21 -> 0 | AD21: =E21+G21 -> 0 | AE21: =F21+H21 -> 0 | AF21: =G21+I21 -> 0 | AG21: =H21+J21 -> 0 | AH21: =I21+K21 -> 0 | AI21: =J21+L21 -> 0 | AJ21: =K21+M21 -> 0 | ... AL21: =M21+O21 -> 0
A22: 1.16 | B22: Անգործությունը զինված ընդհարման ժամանակ | C22: 148 | AC22: =D22+F22 -> 0 | AD22: =E22+G22 -> 0 | AE22: =F22+H22 -> 0 | AF22: =G22+I22 -> 0 | AG22: =H22+J22 -> 0 | AH22: =I22+K22 -> 0 | AI22: =J22+L22 -> 0 | AJ22: =K22+M22 -> 0 | ... AL22: =M22+O22 -> 0
A23: 1.17 | B23: Ագրեսիան | C23: 149 | AC23: =D23+F23 -> 0 | AD23: =E23+G23 -> 0 | AE23: =F23+H23 -> 0 | AF23: =G23+I23 -> 0 | AG23: =H23+J23 -> 0 | AH23: =I23+K23 -> 0 | AI23: =J23+L23 -> 0 | AJ23: =K23+M23 -> 0 | ... AL23: =M23+O23 -> 0
A24: 1.18 | B24: Համավարակի կամ մարդկության անվտանգությանն անմիջական սպառնալիքի իրավիճակի պայմաններում ագրեսիվ ռազմական գործողություններ նախաձեռնելը, իրականացնելը կամ դրանք չդադարեցնելը | C24: 150 | AC24: =D24+F24 -> 0 | AD24: =E24+G24 -> 0 | AE24: =F24+H24 -> 0 | AF24: =G24+I24 -> 0 | AG24: =H24+J24 -> 0 | AH24: =I24+K24 -> 0 | AI24: =J24+L24 -> 0 | AJ24: =K24+M24 -> 0 | ... AL24: =M24+O24 -> 0
A25: 1.19 | B25: Ագրեսիա իրականացնելու ուղղակի և հրապարակային կոչերը | C25: 151 | AC25: =D25+F25 -> 0 | AD25: =E25+G25 -> 0 | AE25: =F25+H25 -> 0 | AF25: =G25+I25 -> 0 | AG25: =H25+J25 -> 0 | AH25: =I25+K25 -> 0 | AI25: =J25+L25 -> 0 | AJ25: =K25+M25 -> 0 | ... AL25: =M25+O25 -> 0
A26: 1.20 | B26: Միջազգային ահաբեկչությունը | C26: 152 | AC26: =D26+F26 -> 0 | AD26: =E26+G26 -> 0 | AE26: =F26+H26 -> 0 | AF26: =G26+I26 -> 0 | AG26: =H26+J26 -> 0 | AH26: =I26+K26 -> 0 | AI26: =J26+L26 -> 0 | AJ26: =K26+M26 -> 0 | ... AL26: =M26+O26 -> 0
A27: 1.21 | B27: Զանգվածային ոչնչացման զենք ստեղծելը, տրամադրելը, փորձարկելը կամ կիրառելը | C27: 153 | AC27: =D27+F27 -> 0 | AD27: =E27+G27 -> 0 | AE27: =F27+H27 -> 0 | AF27: =G27+I27 -> 0 | AG27: =H27+J27 -> 0 | AH27: =I27+K27 -> 0 | AI27: =J27+L27 -> 0 | AJ27: =K27+M27 -> 0 | ... AL27: =M27+O27 -> 0
A28: 1.22 | B28: Էկոցիդը | C28: 154 | AC28: =D28+F28 -> 0 | AD28: =E28+G28 -> 0 | AE28: =F28+H28 -> 0 | AF28: =G28+I28 -> 0 | AG28: =H28+J28 -> 0 | AH28: =I28+K28 -> 0 | AI28: =J28+L28 -> 0 | AJ28: =K28+M28 -> 0 | ... AL28: =M28+O28 -> 0
A29: 2 | B29: Ընդհամենը մարդու կյանքի դեմ ուղղված հանցագործությունները | D29: =SUM(D30:D40) -> 1 | E29: =SUM(E30:E40) -> 0 | F29: =SUM(F30:F40) -> 2 | G29: =SUM(G30:G40) -> 0 | H29: =SUM(H30:H40) -> 0 | I29: =SUM(I30:I40) -> 0 | J29: =SUM(J30:J40) -> 0 | K29: =SUM(K30:K40) -> 0 | ... AC29: =SUM(AC30:AC40) -> 3 | AD29: =+U29+S29+N29 -> 3 | AE29: =SUM(AE30:AE40) -> 0 | AF29: =SUM(AF30:AF40) -> 0 | AG29: =SUM(AG30:AG40) -> 0 | AH29: =SUM(AH30:AH40) -> 0 | AI29: =SUM(AI30:AI40) -> 0 | AJ29: =SUM(AJ30:AJ40) -> 0 | AK29: =SUM(AK30:AK40) -> 0 | AL29: =SUM(AL30:AL40) -> 0
A30: 2.1 | B30: Սպանությունը | C30: 155 | D30: 1 | F30: 2 | U30: 3 | AC30: =D30+F30 -> 3 | AD30: =+U30+S30+N30 -> 3 | AE30: =N30 -> 0 | AF30: =SUM(K30:M30) -> 0 | AG30: =R30 -> 0 | AH30: =SUM(O30:Q30) -> 0 | AI30: =Y30 -> 0 | AJ30: =SUM(W30:X30) -> 0 | AK30: =AB30 -> 0 | AL30: =SUM(Z30:AA30) -> 0
A31: 2.2 | B31: Հոգեկան խիստ հուզմունքի վիճակում կատարված սպանությունը | C31: 156 | AC31: =D31+F31 -> 0 | AD31: =+U31+S31+N31 -> 0 | AE31: =N31 -> 0 | AF31: =SUM(K31:M31) -> 0 | AG31: =R31 -> 0 | AH31: =SUM(O31:Q31) -> 0 | AI31: =Y31 -> 0 | AJ31: =SUM(W31:X31) -> 0 | AK31: =AB31 -> 0 | AL31: =SUM(Z31:AA31) -> 0
A32: 2.3 | B32: Ծննդկանի կամ ծննդաբերի կողմից երեխայի սպանությունը | C32: 157 | AC32: =D32+F32 -> 0 | AD32: =+U32+S32+N32 -> 0 | AE32: =N32 -> 0 | AF32: =SUM(K32:M32) -> 0 | AG32: =R32 -> 0 | AH32: =SUM(O32:Q32) -> 0 | AI32: =Y32 -> 0 | AJ32: =SUM(W32:X32) -> 0 | AK32: =AB32 -> 0 | AL32: =SUM(Z32:AA32) -> 0
A33: 2.4 | B33: Ծննդկանի կամ ծննդաբերի կողմից երեխայի սպանությանը հանցակցելը | C33: 158 | AC33: =D33+F33 -> 0 | AD33: =+U33+S33+N33 -> 0 | AE33: =N33 -> 0 | AF33: =SUM(K33:M33) -> 0 | AG33: =R33 -> 0 | AH33: =SUM(O33:Q33) -> 0 | AI33: =Y33 -> 0 | AJ33: =SUM(W33:X33) -> 0 | AK33: =AB33 -> 0 | AL33: =SUM(Z33:AA33) -> 0
A34: 2.5 | B34: Անհրաժեշտ պաշտպանության սահմանազանցմամբ սպանությունը | C34: 159 | AC34: =D34+F34 -> 0 | AD34: =+U34+S34+N34 -> 0 | AE34: =N34 -> 0 | AF34: =SUM(K34:M34) -> 0 | AG34: =R34 -> 0 | AH34: =SUM(O34:Q34) -> 0 | AI34: =Y34 -> 0 | AJ34: =SUM(W34:X34) -> 0 | AK34: =AB34 -> 0 | AL34: =SUM(Z34:AA34) -> 0
A35: 2.6 | B35: Հակաիրավական ոտնձգություն կատարած անձին բռնելու համար անհրաժեշտ միջոցների սահմանազանցմամբ սպանությունը | C35: 160 | AC35: =D35+F35 -> 0 | AD35: =+U35+S35+N35 -> 0 | AE35: =N35 -> 0 | AF35: =SUM(K35:M35) -> 0 | AG35: =R35 -> 0 | AH35: =SUM(O35:Q35) -> 0 | AI35: =Y35 -> 0 | AJ35: =SUM(W35:X35) -> 0 | AK35: =AB35 -> 0 | AL35: =SUM(Z35:AA35) -> 0
A36: 2.7 | B36: Տուժողի խնդրանքով սպանությունը | C36: 161 | AC36: =D36+F36 -> 0 | AD36: =+U36+S36+N36 -> 0 | AE36: =N36 -> 0 | AF36: =SUM(K36:M36) -> 0 | AG36: =R36 -> 0 | AH36: =SUM(O36:Q36) -> 0 | AI36: =Y36 -> 0 | AJ36: =SUM(W36:X36) -> 0 | AK36: =AB36 -> 0 | AL36: =SUM(Z36:AA36) -> 0
A37: 2.8 | B37: Ինքնասպանության հասցնելը | C37: 162 | AC37: =D37+F37 -> 0 | AD37: =+U37+S37+N37 -> 0 | AE37: =N37 -> 0 | AF37: =SUM(K37:M37) -> 0 | AG37: =R37 -> 0 | AH37: =SUM(O37:Q37) -> 0 | AI37: =Y37 -> 0 | AJ37: =SUM(W37:X37) -> 0 | AK37: =AB37 -> 0 | AL37: =SUM(Z37:AA37) -> 0
A38: 2.9 | B38: Ինքնասպանության հակելը | C38: 163 | AC38: =D38+F38 -> 0 | AD38: =+U38+S38+N38 -> 0 | AE38: =N38 -> 0 | AF38: =SUM(K38:M38) -> 0 | AG38: =R38 -> 0 | AH38: =SUM(O38:Q38) -> 0 | AI38: =Y38 -> 0 | AJ38: =SUM(W38:X38) -> 0 | AK38: =AB38 -> 0 | AL38: =SUM(Z38:AA38) -> 0
A39: 2.10 | B39: Ինքնասպանությանը նպաստելը | C39: 164 | AC39: =D39+F39 -> 0 | AD39: =+U39+S39+N39 -> 0 | AE39: =N39 -> 0 | AF39: =SUM(K39:M39) -> 0 | AG39: =R39 -> 0 | AH39: =SUM(O39:Q39) -> 0 | AI39: =Y39 -> 0 | AJ39: =SUM(W39:X39) -> 0 | AK39: =AB39 -> 0 | AL39: =SUM(Z39:AA39) -> 0
A40: 2.11 | B40: Անզգուշությամբ կյանքից զրկելը | C40: 165 | AC40: =D40+F40 -> 0 | AD40: =+U40+S40+N40 -> 0 | AE40: =N40 -> 0 | AF40: =SUM(K40:M40) -> 0 | AG40: =R40 -> 0 | AH40: =SUM(O40:Q40) -> 0 | AI40: =Y40 -> 0 | AJ40: =SUM(W40:X40) -> 0 | AK40: =AB40 -> 0 | AL40: =SUM(Z40:AA40) -> 0
A41: 3. | B41: Ընդհամենը ռողջության դեմ ուղղված հանցագործությունները | D41: =SUM(D42:D49) -> 17 | E41: =SUM(E42:E49) -> 0 | F41: =SUM(F42:F49) -> 10 | G41: =SUM(G42:G49) -> 0 | H41: =SUM(H42:H49) -> 0 | I41: =SUM(I42:I49) -> 0 | J41: =SUM(J42:J49) -> 0 | K41: =SUM(K42:K49) -> 4 | ... AC41: =SUM(AC42:AC49) -> 27 | AD41: =+U41+S41+N41 -> 26 | AE41: =SUM(AE42:AE49) -> 7 | AF41: =SUM(AF42:AF49) -> 7 | AG41: =SUM(AG42:AG49) -> 0 | AH41: =SUM(AH42:AH49) -> 0 | AI41: =SUM(AI42:AI49) -> 3 | AJ41: =SUM(AJ42:AJ49) -> 3 | AK41: =SUM(AK42:AK49) -> 0 | AL41: =SUM(AL42:AL49) -> 0
A42: 3.1 | B42: Առողջությանը ծանր վնաս պատճառելը | C42: 166 | D42: 10 | F42: 3 | K42: 1 | L42: 1 | N42: 2 | U42: 11 | X42: 1 | Y42: 1 | AC42: =D42+F42 -> 13 | AD42: =+U42+S42+N42 -> 13 | AE42: =N42 -> 2 | AF42: =SUM(K42:M42) -> 2 | AG42: =R42 -> 0 | AH42: =SUM(O42:Q42) -> 0 | AI42: =Y42 -> 1 | AJ42: =SUM(W42:X42) -> 1 | AK42: =AB42 -> 0 | AL42: =SUM(Z42:AA42) -> 0
A43: 3.2 | B43: Առողջությանը միջին ծանրության վնաս պատճառելը | C43: 167 | AC43: =D43+F43 -> 0 | AD43: =+U43+S43+N43 -> 0 | AE43: =N43 -> 0 | AF43: =SUM(K43:M43) -> 0 | AG43: =R43 -> 0 | AH43: =SUM(O43:Q43) -> 0 | AI43: =Y43 -> 0 | AJ43: =SUM(W43:X43) -> 0 | AK43: =AB43 -> 0 | AL43: =SUM(Z43:AA43) -> 0
A44: 3.3 | B44: Առողջությանը ծանր կամ միջին ծանրության վնաս պատճառելը հոգեկան խիստ հուզմունքի վիճակում | C44: 168 | AC44: =D44+F44 -> 0 | AD44: =+U44+S44+N44 -> 0 | AE44: =N44 -> 0 | AF44: =SUM(K44:M44) -> 0 | AG44: =R44 -> 0 | AH44: =SUM(O44:Q44) -> 0 | AI44: =Y44 -> 0 | AJ44: =SUM(W44:X44) -> 0 | AK44: =AB44 -> 0 | AL44: =SUM(Z44:AA44) -> 0
A45: 3.4 | B45: Առողջությանը ծանր կամ միջին ծանրության վնաս պատճառելը hակաիրավական ոտնձգություն կատարած անձին բռնելու համար անհրաժեշտ միջոցների սահմանազանցմամբ | C45: 169 | AC45: =D45+F45 -> 0 | AD45: =+U45+S45+N45 -> 0 | AE45: =N45 -> 0 | AF45: =SUM(K45:M45) -> 0 | AG45: =R45 -> 0 | AH45: =SUM(O45:Q45) -> 0 | AI45: =Y45 -> 0 | AJ45: =SUM(W45:X45) -> 0 | AK45: =AB45 -> 0 | AL45: =SUM(Z45:AA45) -> 0
A46: 3.5 | B46: Առողջությանը ծանր կամ միջին ծանրության վնաս պատճառելն անհրաժեշտ պաշտպանության սահմանազանցմամբ | C46: 170 | AC46: =D46+F46 -> 0 | AD46: =+U46+S46+N46 -> 0 | AE46: =N46 -> 0 | AF46: =SUM(K46:M46) -> 0 | AG46: =R46 -> 0 | AH46: =SUM(O46:Q46) -> 0 | AI46: =Y46 -> 0 | AJ46: =SUM(W46:X46) -> 0 | AK46: =AB46 -> 0 | AL46: =SUM(Z46:AA46) -> 0
A47: 3.6 | B47: Առողջությանը թեթև վնաս պատճառելը | C47: 171 | D47: 6 | F47: 6 | K47: 3 | L47: 2 | N47: 5 | U47: 6 | X47: 2 | Y47: 2 | AC47: =D47+F47 -> 12 | AD47: =+U47+S47+N47 -> 11 | AE47: =N47 -> 5 | AF47: =SUM(K47:M47) -> 5 | AG47: =R47 -> 0 | AH47: =SUM(O47:Q47) -> 0 | AI47: =Y47 -> 2 | AJ47: =SUM(W47:X47) -> 2 | AK47: =AB47 -> 0 | AL47: =SUM(Z47:AA47) -> 0
A48: 3.7 | B48: Անզգուշությամբ առողջությանը ծանր վնաս պատճառելը | C48: 172 | F48: 1 | U48: 1 | AC48: =D48+F48 -> 1 | AD48: =+U48+S48+N48 -> 1 | AE48: =N48 -> 0 | AF48: =SUM(K48:M48) -> 0 | AG48: =R48 -> 0 | AH48: =SUM(O48:Q48) -> 0 | AI48: =Y48 -> 0 | AJ48: =SUM(W48:X48) -> 0 | AK48: =AB48 -> 0 | AL48: =SUM(Z48:AA48) -> 0
A49: 3.8 | B49: Անզգուշությամբ առողջությանը միջին ծանրության վնաս պատճառելը | C49: 173 | D49: 1 | U49: 1 | AC49: =D49+F49 -> 1 | AD49: =+U49+S49+N49 -> 1 | AE49: =N49 -> 0 | AF49: =SUM(K49:M49) -> 0 | AG49: =R49 -> 0 | AH49: =SUM(O49:Q49) -> 0 | AI49: =Y49 -> 0 | AJ49: =SUM(W49:X49) -> 0 | AK49: =AB49 -> 0 | AL49: =SUM(Z49:AA49) -> 0
A50: 4. | B50: Ընդհամենը կյանքը և առողջությունը վտանգող հանցագործությունները | D50: =SUM(D51:D64) -> 0 | E50: =SUM(E51:E64) -> 0 | F50: =SUM(F51:F64) -> 0 | G50: =SUM(G51:G64) -> 0 | H50: =SUM(H51:H64) -> 0 | I50: =SUM(I51:I64) -> 0 | J50: =SUM(J51:J64) -> 0 | K50: =SUM(K51:K64) -> 0 | ... AC50: =SUM(AC51:AC64) -> 0 | AD50: =+U50+S50+N50 -> 0 | AE50: =SUM(AE51:AE64) -> 0 | AF50: =SUM(AF51:AF64) -> 0 | AG50: =SUM(AG51:AG64) -> 0 | AH50: =SUM(AH51:AH64) -> 0 | AI50: =SUM(AI51:AI64) -> 0 | AJ50: =SUM(AJ51:AJ64) -> 0 | AK50: =SUM(AK51:AK64) -> 0 | AL50: =SUM(AL51:AL64) -> 0
A51: 4.1 | B51: Հղիության ապօրինի արհեստական ընդհատում (աբորտ) կատարելը | C51: 174 | AC51: =D51+F51 -> 0 | AD51: =+U51+S51+N51 -> 0 | AE51: =N51 -> 0 | AF51: =SUM(K51:M51) -> 0 | AG51: =R51 -> 0 | AH51: =SUM(O51:Q51) -> 0 | AI51: =Y51 -> 0 | AJ51: =SUM(W51:X51) -> 0 | AK51: =AB51 -> 0 | AL51: =SUM(Z51:AA51) -> 0
A52: 4.2 | B52: Հղիության արհեստական ընդհատում (աբորտ) կատարելը կամ ամլացումը | C52: 175 | AC52: =D52+F52 -> 0 | AD52: =+U52+S52+N52 -> 0 | AE52: =N52 -> 0 | AF52: =SUM(K52:M52) -> 0 | AG52: =R52 -> 0 | AH52: =SUM(O52:Q52) -> 0 | AI52: =Y52 -> 0 | AJ52: =SUM(W52:X52) -> 0 | AK52: =AB52 -> 0 | AL52: =SUM(Z52:AA52) -> 0
A53: 4.3 | B53: Հղիության արհեստական ընդհատմանը (աբորտ կատարելուն) կամ ամլացմանը հարկադրելը | C53: 176 | AC53: =D53+F53 -> 0 | AD53: =+U53+S53+N53 -> 0 | AE53: =N53 -> 0 | AF53: =SUM(K53:M53) -> 0 | AG53: =R53 -> 0 | AH53: =SUM(O53:Q53) -> 0 | AI53: =Y53 -> 0 | AJ53: =SUM(W53:X53) -> 0 | AK53: =AB53 -> 0 | AL53: =SUM(Z53:AA53) -> 0
A54: 4.4 | B54: Մարդու իմունային անբավարարության վիրուսով վարակելը | C54: 177 | AC54: =D54+F54 -> 0 | AD54: =+U54+S54+N54 -> 0 | AE54: =N54 -> 0 | AF54: =SUM(K54:M54) -> 0 | AG54: =R54 -> 0 | AH54: =SUM(O54:Q54) -> 0 | AI54: =Y54 -> 0 | AJ54: =SUM(W54:X54) -> 0 | AK54: =AB54 -> 0 | AL54: =SUM(Z54:AA54) -> 0
A55: 4.5 | B55: Մարդու իմունային անբավարարության վիրուսով անզգուշությամբ վարակելը | C55: 178 | AC55: =D55+F55 -> 0 | AD55: =+U55+S55+N55 -> 0 | AE55: =N55 -> 0 | AF55: =SUM(K55:M55) -> 0 | AG55: =R55 -> 0 | AH55: =SUM(O55:Q55) -> 0 | AI55: =Y55 -> 0 | AJ55: =SUM(W55:X55) -> 0 | AK55: =AB55 -> 0 | AL55: =SUM(Z55:AA55) -> 0
A56: 4.6 | B56: Սեռավարակով վարակելը | C56: 179 | AC56: =D56+F56 -> 0 | AD56: =+U56+S56+N56 -> 0 | AE56: =N56 -> 0 | AF56: =SUM(K56:M56) -> 0 | AG56: =R56 -> 0 | AH56: =SUM(O56:Q56) -> 0 | AI56: =Y56 -> 0 | AJ56: =SUM(W56:X56) -> 0 | AK56: =AB56 -> 0 | AL56: =SUM(Z56:AA56) -> 0
A57: 4.7 | B57: Սեռավարակով անզգուշությամբ վարակելը | C57: 180 | AC57: =D57+F57 -> 0 | AD57: =+U57+S57+N57 -> 0 | AE57: =N57 -> 0 | AF57: =SUM(K57:M57) -> 0 | AG57: =R57 -> 0 | AH57: =SUM(O57:Q57) -> 0 | AI57: =Y57 -> 0 | AJ57: =SUM(W57:X57) -> 0 | AK57: =AB57 -> 0 | AL57: =SUM(Z57:AA57) -> 0
A58: 4.8 | B58: Շրջապատի համար վտանգ ներկայացնող հիվանդությամբ վարակելը | C58: 181 | AC58: =D58+F58 -> 0 | AD58: =+U58+S58+N58 -> 0 | AE58: =N58 -> 0 | AF58: =SUM(K58:M58) -> 0 | AG58: =R58 -> 0 | AH58: =SUM(O58:Q58) -> 0 | AI58: =Y58 -> 0 | AJ58: =SUM(W58:X58) -> 0 | AK58: =AB58 -> 0 | AL58: =SUM(Z58:AA58) -> 0
A59: 4.9 | B59: Վտանգի մեջ թողնելը | C59: 182 | AC59: =D59+F59 -> 0 | AD59: =+U59+S59+N59 -> 0 | AE59: =N59 -> 0 | AF59: =SUM(K59:M59) -> 0 | AG59: =R59 -> 0 | AH59: =SUM(O59:Q59) -> 0 | AI59: =Y59 -> 0 | AJ59: =SUM(W59:X59) -> 0 | AK59: =AB59 -> 0 | AL59: =SUM(Z59:AA59) -> 0
A60: 4.10 | B60: Մարդու սաղմի, պտղի, մարդու կամ դիակի բջիջների, հյուսվածքների, օրգանների կամ կենսաբանական նյութերի կամ հեղուկների ապօրինի շրջանառությունը | C60: 183 | AC60: =D60+F60 -> 0 | AD60: =+U60+S60+N60 -> 0 | AE60: =N60 -> 0 | AF60: =SUM(K60:M60) -> 0 | AG60: =R60 -> 0 | AH60: =SUM(O60:Q60) -> 0 | AI60: =Y60 -> 0 | AJ60: =SUM(W60:X60) -> 0 | AK60: =AB60 -> 0 | AL60: =SUM(Z60:AA60) -> 0
A61: 4.11 | B61: Փոխպատվաստման կանոնները խախտելը | C61: 184 | AC61: =D61+F61 -> 0 | AD61: =+U61+S61+N61 -> 0 | AE61: =N61 -> 0 | AF61: =SUM(K61:M61) -> 0 | AG61: =R61 -> 0 | AH61: =SUM(O61:Q61) -> 0 | AI61: =Y61 -> 0 | AJ61: =SUM(W61:X61) -> 0 | AK61: =AB61 -> 0 | AL61: =SUM(Z61:AA61) -> 0
A62: 4.12 | B62: Անձին առանց իր համաձայնության բժշկական, գիտական կամ այլ փորձի ենթարկելը | C62: 185 | AC62: =D62+F62 -> 0 | AD62: =+U62+S62+N62 -> 0 | AE62: =N62 -> 0 | AF62: =SUM(K62:M62) -> 0 | AG62: =R62 -> 0 | AH62: =SUM(O62:Q62) -> 0 | AI62: =Y62 -> 0 | AJ62: =SUM(W62:X62) -> 0 | AK62: =AB62 -> 0 | AL62: =SUM(Z62:AA62) -> 0
A63: 4.13 | B63: Մարդու վերարտադրողական կլոնավորումը կամ եվգենիկական փորձերը | C63: 186 | AC63: =D63+F63 -> 0 | AD63: =+U63+S63+N63 -> 0 | AE63: =N63 -> 0 | AF63: =SUM(K63:M63) -> 0 | AG63: =R63 -> 0 | AH63: =SUM(O63:Q63) -> 0 | AI63: =Y63 -> 0 | AJ63: =SUM(W63:X63) -> 0 | AK63: =AB63 -> 0 | AL63: =SUM(Z63:AA63) -> 0
A64: 4.14 | B64: Բուժաշխատողի կողմից մասնագիտական պարտականությունները չկատարելը կամ ոչ պատշաճ կատարելը | C64: 187 | AC64: =D64+F64 -> 0 | AD64: =+U64+S64+N64 -> 0 | AE64: =N64 -> 0 | AF64: =SUM(K64:M64) -> 0 | AG64: =R64 -> 0 | AH64: =SUM(O64:Q64) -> 0 | AI64: =Y64 -> 0 | AJ64: =SUM(W64:X64) -> 0 | AK64: =AB64 -> 0 | AL64: =SUM(Z64:AA64) -> 0
A65: 5. | B65: Ընդհամենը ազատության, պատվի, արժանապատվության, ֆիզիկական կամ հոգեկան անձեռնմխելիության դեմ ուղղված հանցագործությունները | D65: =SUM(D66:D75) -> 5 | E65: =SUM(E66:E75) -> 0 | F65: =SUM(F66:F75) -> 18 | G65: =SUM(G66:G75) -> 0 | H65: =SUM(H66:H75) -> 0 | I65: =SUM(I66:I75) -> 0 | J65: =SUM(J66:J75) -> 0 | K65: =SUM(K66:K75) -> 13 | ... AC65: =SUM(AC66:AC75) -> 23 | AD65: =+U65+S65+N65 -> 22 | AE65: =SUM(AE66:AE75) -> 13 | AF65: =SUM(AF66:AF75) -> 13 | AG65: =SUM(AG66:AG75) -> 0 | AH65: =SUM(AH66:AH75) -> 0 | AI65: =SUM(AI66:AI75) -> 3 | AJ65: =SUM(AJ66:AJ75) -> 3 | AK65: =SUM(AK66:AK75) -> 0 | AL65: =SUM(AL66:AL75) -> 0
A66: 5.1 | B66: Մարդու թրաֆիքինգը կամ շահագործումը | C66: 188 | AC66: =D66+F66 -> 0 | AD66: =+U66+S66+N66 -> 0 | AE66: =N66 -> 0 | AF66: =SUM(K66:M66) -> 0 | AG66: =R66 -> 0 | AH66: =SUM(O66:Q66) -> 0 | AI66: =Y66 -> 0 | AJ66: =SUM(W66:X66) -> 0 | AK66: =AB66 -> 0 | AL66: =SUM(Z66:AA66) -> 0
A67: 5.2 | B67: Երեխայի կամ անօգնական վիճակում գտնվողի թրաֆիքինգը կամ շահագործումը | C67: 189 | AC67: =D67+F67 -> 0 | AD67: =+U67+S67+N67 -> 0 | AE67: =N67 -> 0 | AF67: =SUM(K67:M67) -> 0 | AG67: =R67 -> 0 | AH67: =SUM(O67:Q67) -> 0 | AI67: =Y67 -> 0 | AJ67: =SUM(W67:X67) -> 0 | AK67: =AB67 -> 0 | AL67: =SUM(Z67:AA67) -> 0
A68: 5.3 | B68: Շահագործման վիճակում գտնվող մարդու ծառայությունից օգտվելը | C68: 190 | AC68: =D68+F68 -> 0 | AD68: =+U68+S68+N68 -> 0 | AE68: =N68 -> 0 | AF68: =SUM(K68:M68) -> 0 | AG68: =R68 -> 0 | AH68: =SUM(O68:Q68) -> 0 | AI68: =Y68 -> 0 | AJ68: =SUM(W68:X68) -> 0 | AK68: =AB68 -> 0 | AL68: =SUM(Z68:AA68) -> 0
A69: 5.4 | B69: Մարդուն առևանգելը | C69: 191 | F69: 1 | AC69: =D69+F69 -> 1 | AD69: =+U69+S69+N69 -> 0 | AE69: =N69 -> 0 | AF69: =SUM(K69:M69) -> 0 | AG69: =R69 -> 0 | AH69: =SUM(O69:Q69) -> 0 | AI69: =Y69 -> 0 | AJ69: =SUM(W69:X69) -> 0 | AK69: =AB69 -> 0 | AL69: =SUM(Z69:AA69) -> 0
A70: 5.5 | B70: Ազատությունից ապօրինի զրկելը | C70: 192 | AC70: =D70+F70 -> 0 | AD70: =+U70+S70+N70 -> 0 | AE70: =N70 -> 0 | AF70: =SUM(K70:M70) -> 0 | AG70: =R70 -> 0 | AH70: =SUM(O70:Q70) -> 0 | AI70: =Y70 -> 0 | AJ70: =SUM(W70:X70) -> 0 | AK70: =AB70 -> 0 | AL70: =SUM(Z70:AA70) -> 0
A71: 5.6 | B71: Հոգեբուժական կազմակերպությունում ապօրինի տեղավորելը կամ պահելը | C71: 193 | AC71: =D71+F71 -> 0 | AD71: =+U71+S71+N71 -> 0 | AE71: =N71 -> 0 | AF71: =SUM(K71:M71) -> 0 | AG71: =R71 -> 0 | AH71: =SUM(O71:Q71) -> 0 | AI71: =Y71 -> 0 | AJ71: =SUM(W71:X71) -> 0 | AK71: =AB71 -> 0 | AL71: =SUM(Z71:AA71) -> 0
A72: 5.7 | B72: Հոգեկան ներգործությունը | C72: 194 | AC72: =D72+F72 -> 0 | AD72: =+U72+S72+N72 -> 0 | AE72: =N72 -> 0 | AF72: =SUM(K72:M72) -> 0 | AG72: =R72 -> 0 | AH72: =SUM(O72:Q72) -> 0 | AI72: =Y72 -> 0 | AJ72: =SUM(W72:X72) -> 0 | AK72: =AB72 -> 0 | AL72: =SUM(Z72:AA72) -> 0
A73: 5.8 | B73: Ֆիզիկական ներգործությունը | C73: 195 | D73: 5 | F73: 17 | K73: 13 | N73: 13 | U73: 9 | X73: 3 | Y73: 3 | AC73: =D73+F73 -> 22 | AD73: =+U73+S73+N73 -> 22 | AE73: =N73 -> 13 | AF73: =SUM(K73:M73) -> 13 | AG73: =R73 -> 0 | AH73: =SUM(O73:Q73) -> 0 | AI73: =Y73 -> 3 | AJ73: =SUM(W73:X73) -> 3 | AK73: =AB73 -> 0 | AL73: =SUM(Z73:AA73) -> 0
A74: 5.9 | B74: Ֆիզիկական ուժեղ ցավ կամ հոգեկան ուժեղ տառապանք պատճառելը | C74: 196 | AC74: =D74+F74 -> 0 | AD74: =+U74+S74+N74 -> 0 | AE74: =N74 -> 0 | AF74: =SUM(K74:M74) -> 0 | AG74: =R74 -> 0 | AH74: =SUM(O74:Q74) -> 0 | AI74: =Y74 -> 0 | AJ74: =SUM(W74:X74) -> 0 | AK74: =AB74 -> 0 | AL74: =SUM(Z74:AA74) -> 0
A75: 5.10 | B75: Ամուսնությանը, ամուսնալուծությանը կամ երեխա ունենալուն հարկադրելը | C75: 197 | AC75: =D75+F75 -> 0 | AD75: =+U75+S75+N75 -> 0 | AE75: =N75 -> 0 | AF75: =SUM(K75:M75) -> 0 | AG75: =R75 -> 0 | AH75: =SUM(O75:Q75) -> 0 | AI75: =Y75 -> 0 | AJ75: =SUM(W75:X75) -> 0 | AK75: =AB75 -> 0 | AL75: =SUM(Z75:AA75) -> 0
A76: 6 | B76: Ընդհամենը սեռական ազատության և սեռական անձեռնմխելիության դեմ ուղղված հանցագործությունները | D76: =SUM(D77:D81) -> 0 | E76: =SUM(E77:E81) -> 0 | F76: =SUM(F77:F81) -> 1 | G76: =SUM(G77:G81) -> 0 | H76: =SUM(H77:H81) -> 0 | I76: =SUM(I77:I81) -> 0 | J76: =SUM(J77:J81) -> 0 | K76: =SUM(K77:K81) -> 1 | ... AC76: =SUM(AC77:AC81) -> 1 | AD76: =+U76+S76+N76 -> 1 | AE76: =SUM(AE77:AE81) -> 1 | AF76: =SUM(AF77:AF81) -> 1 | AG76: =SUM(AG77:AG81) -> 0 | AH76: =SUM(AH77:AH81) -> 0 | AI76: =SUM(AI77:AI81) -> 0 | AJ76: =SUM(AJ77:AJ81) -> 0 | AK76: =SUM(AK77:AK81) -> 0 | AL76: =SUM(AL77:AL81) -> 0
A77: 6.1 | B77: Սեքսուալ բնույթի բռնի գործողությունները | C77: 198 | AC77: =D77+F77 -> 0 | AD77: =+U77+S77+N77 -> 0 | AE77: =N77 -> 0 | AF77: =SUM(K77:M77) -> 0 | AG77: =R77 -> 0 | AH77: =SUM(O77:Q77) -> 0 | AI77: =Y77 -> 0 | AJ77: =SUM(W77:X77) -> 0 | AK77: =AB77 -> 0 | AL77: =SUM(Z77:AA77) -> 0
A78: 6.2 | B78: Սեքսուալ բնույթի գործողություններին հարկադրելը | C78: 199 | AC78: =D78+F78 -> 0 | AD78: =+U78+S78+N78 -> 0 | AE78: =N78 -> 0 | AF78: =SUM(K78:M78) -> 0 | AG78: =R78 -> 0 | AH78: =SUM(O78:Q78) -> 0 | AI78: =Y78 -> 0 | AJ78: =SUM(W78:X78) -> 0 | AK78: =AB78 -> 0 | AL78: =SUM(Z78:AA78) -> 0
A79: 6.3 | B79: Սեքսուալ բնույթի գործողություններ կատարելը 16 տարին չլրացած անձի նկատմամբ | C79: 200 | F79: 1 | K79: 1 | N79: 1 | AC79: =D79+F79 -> 1 | AD79: =+U79+S79+N79 -> 1 | AE79: =N79 -> 1 | AF79: =SUM(K79:M79) -> 1 | AG79: =R79 -> 0 | AH79: =SUM(O79:Q79) -> 0 | AI79: =Y79 -> 0 | AJ79: =SUM(W79:X79) -> 0 | AK79: =AB79 -> 0 | AL79: =SUM(Z79:AA79) -> 0
A80: 6.4 | B80: Անառակաբարո արարք կատարելը | C80: 201 | AC80: =D80+F80 -> 0 | AD80: =+U80+S80+N80 -> 0 | AE80: =N80 -> 0 | AF80: =SUM(K80:M80) -> 0 | AG80: =R80 -> 0 | AH80: =SUM(O80:Q80) -> 0 | AI80: =Y80 -> 0 | AJ80: =SUM(W80:X80) -> 0 | AK80: =AB80 -> 0 | AL80: =SUM(Z80:AA80) -> 0
A81: 6.5 | B81: 16 տարին չլրացած անձին սեռական հարաբերություն կամ սեքսուալ բնույթի այլ գործողություններ կամ մանկական պոռնոգրաֆիա ստեղծել կամ արտադրել առաջարկելը (գրումինգ) | C81: 202 | AC81: =D81+F81 -> 0 | AD81: =+U81+S81+N81 -> 0 | AE81: =N81 -> 0 | AF81: =SUM(K81:M81) -> 0 | AG81: =R81 -> 0 | AH81: =SUM(O81:Q81) -> 0 | AI81: =Y81 -> 0 | AJ81: =SUM(W81:X81) -> 0 | AK81: =AB81 -> 0 | AL81: =SUM(Z81:AA81) -> 0
A82: 7 | B82: Սահմանադրական իրավունքների և ազատությունների դեմ ուղղված հանցագործությունները | D82: =SUM(D83:D118) -> 0 | E82: =SUM(E83:E118) -> 0 | F82: =SUM(F83:F118) -> 0 | G82: =SUM(G83:G118) -> 0 | H82: =SUM(H83:H118) -> 0 | I82: =SUM(I83:I118) -> 0 | J82: =SUM(J83:J118) -> 0 | K82: =SUM(K83:K118) -> 0 | ... AC82: =SUM(AC83:AC118) -> 0 | AD82: =+U82+S82+N82 -> 0 | AE82: =SUM(AE83:AE118) -> 0 | AF82: =SUM(AF83:AF118) -> 0 | AG82: =SUM(AG83:AG118) -> 0 | AH82: =SUM(AH83:AH118) -> 0 | AI82: =SUM(AI83:AI118) -> 0 | AJ82: =SUM(AJ83:AJ118) -> 0 | AK82: =SUM(AK83:AK118) -> 0 | AL82: =SUM(AL83:AL118) -> 0
A83: 7.1 | B83: Խտրականությունը | C83: 203 | AC83: =D83+F83 -> 0 | AD83: =+U83+S83+N83 -> 0 | AE83: =N83 -> 0 | AF83: =SUM(K83:M83) -> 0 | AG83: =R83 -> 0 | AH83: =SUM(O83:Q83) -> 0 | AI83: =Y83 -> 0 | AJ83: =SUM(W83:X83) -> 0 | AK83: =AB83 -> 0 | AL83: =SUM(Z83:AA83) -> 0
A84: 7.2 | B84: Անձնական կամ ընտանեկան կյանքի գաղտնիությունը խախտելը | C84: 204 | AC84: =D84+F84 -> 0 | AD84: =+U84+S84+N84 -> 0 | AE84: =N84 -> 0 | AF84: =SUM(K84:M84) -> 0 | AG84: =R84 -> 0 | AH84: =SUM(O84:Q84) -> 0 | AI84: =Y84 -> 0 | AJ84: =SUM(W84:X84) -> 0 | AK84: =AB84 -> 0 | AL84: =SUM(Z84:AA84) -> 0
A85: 7.3 | B85: Բժշկական գաղտնիքը հրապարակելը | C85: 205 | AC85: =D85+F85 -> 0 | AD85: =+U85+S85+N85 -> 0 | AE85: =N85 -> 0 | AF85: =SUM(K85:M85) -> 0 | AG85: =R85 -> 0 | AH85: =SUM(O85:Q85) -> 0 | AI85: =Y85 -> 0 | AJ85: =SUM(W85:X85) -> 0 | AK85: =AB85 -> 0 | AL85: =SUM(Z85:AA85) -> 0
A86: 7.4 | B86: Նամակագրության, հեռախոսային խոսակցությունների և հաղորդակցության այլ ձևերի գաղտնիությունը խախտելը | C86: 206 | AC86: =D86+F86 -> 0 | AD86: =+U86+S86+N86 -> 0 | AE86: =N86 -> 0 | AF86: =SUM(K86:M86) -> 0 | AG86: =R86 -> 0 | AH86: =SUM(O86:Q86) -> 0 | AI86: =Y86 -> 0 | AJ86: =SUM(W86:X86) -> 0 | AK86: =AB86 -> 0 | AL86: =SUM(Z86:AA86) -> 0
A87: 7.5 | B87: Բնակարանի անձեռնմխելիությունը խախտելը | C87: 207 | AC87: =D87+F87 -> 0 | AD87: =+U87+S87+N87 -> 0 | AE87: =N87 -> 0 | AF87: =SUM(K87:M87) -> 0 | AG87: =R87 -> 0 | AH87: =SUM(O87:Q87) -> 0 | AI87: =Y87 -> 0 | AJ87: =SUM(W87:X87) -> 0 | AK87: =AB87 -> 0 | AL87: =SUM(Z87:AA87) -> 0
A88: 7.6 | B88: Անձին տեղեկություններ տրամադրելուց հրաժարվելը | C88: 208 | AC88: =D88+F88 -> 0 | AD88: =+U88+S88+N88 -> 0 | AE88: =N88 -> 0 | AF88: =SUM(K88:M88) -> 0 | AG88: =R88 -> 0 | AH88: =SUM(O88:Q88) -> 0 | AI88: =Y88 -> 0 | AJ88: =SUM(W88:X88) -> 0 | AK88: =AB88 -> 0 | AL88: =SUM(Z88:AA88) -> 0
A89: 7.7 | B89: Խղճի կամ դավանանքի ազատության իրավունքի իրականացումը խոչընդոտելը | C89: 209 | AC89: =D89+F89 -> 0 | AD89: =+U89+S89+N89 -> 0 | AE89: =N89 -> 0 | AF89: =SUM(K89:M89) -> 0 | AG89: =R89 -> 0 | AH89: =SUM(O89:Q89) -> 0 | AI89: =Y89 -> 0 | AJ89: =SUM(W89:X89) -> 0 | AK89: =AB89 -> 0 | AL89: =SUM(Z89:AA89) -> 0
A90: 7.8 | B90: Ընտրական կամ հանրաքվեին մասնակցելու իրավունքի իրականացումը, ընտրական հանձնաժողովների աշխատանքներին կամ ընտրությանը կամ հանրաքվեին մասնակցող անձանց իրավունքների կամ պարտականությունների իրականացումը խոչընդոտելը | C90: 210 | AC90: =D90+F90 -> 0 | AD90: =+U90+S90+N90 -> 0 | AE90: =N90 -> 0 | AF90: =SUM(K90:M90) -> 0 | AG90: =R90 -> 0 | AH90: =SUM(O90:Q90) -> 0 | AI90: =Y90 -> 0 | AJ90: =SUM(W90:X90) -> 0 | AK90: =AB90 -> 0 | AL90: =SUM(Z90:AA90) -> 0
A91: 7.9 | B91: Քարոզչություն կատարելուն կամ քարոզչություն կատարելուց հրաժարվելուն հարկադրելը կամ քարոզչություն կատարելուն այլ կերպ խոչընդոտելը | C91: 211 | AC91: =D91+F91 -> 0 | AD91: =+U91+S91+N91 -> 0 | AE91: =N91 -> 0 | AF91: =SUM(K91:M91) -> 0 | AG91: =R91 -> 0 | AH91: =SUM(O91:Q91) -> 0 | AI91: =Y91 -> 0 | AJ91: =SUM(W91:X91) -> 0 | AK91: =AB91 -> 0 | AL91: =SUM(Z91:AA91) -> 0
A92: 7.10 | B92: Ընտրությունների կամ քվեարկության արդյունքները կեղծելը | C92: 212 | AC92: =D92+F92 -> 0 | AD92: =+U92+S92+N92 -> 0 | AE92: =N92 -> 0 | AF92: =SUM(K92:M92) -> 0 | AG92: =R92 -> 0 | AH92: =SUM(O92:Q92) -> 0 | AI92: =Y92 -> 0 | AJ92: =SUM(W92:X92) -> 0 | AK92: =AB92 -> 0 | AL92: =SUM(Z92:AA92) -> 0
A93: 7.11 | B93: Ընտրողների ցուցակները կազմելու, դրանք քաղաքացիներին կամ կուսակցություններին տրամադրելու կամ հրապարակելու կարգը խախտելը | C93: 213 | AC93: =D93+F93 -> 0 | AD93: =+U93+S93+N93 -> 0 | AE93: =N93 -> 0 | AF93: =SUM(K93:M93) -> 0 | AG93: =R93 -> 0 | AH93: =SUM(O93:Q93) -> 0 | AI93: =Y93 -> 0 | AJ93: =SUM(W93:X93) -> 0 | AK93: =AB93 -> 0 | AL93: =SUM(Z93:AA93) -> 0
A94: 7.12 | B94: Մեկից ավելի անգամ կամ այլ անձի փոխարեն քվեարկելը | C94: 214 | AC94: =D94+F94 -> 0 | AD94: =+U94+S94+N94 -> 0 | AE94: =N94 -> 0 | AF94: =SUM(K94:M94) -> 0 | AG94: =R94 -> 0 | AH94: =SUM(O94:Q94) -> 0 | AI94: =Y94 -> 0 | AJ94: =SUM(W94:X94) -> 0 | AK94: =AB94 -> 0 | AL94: =SUM(Z94:AA94) -> 0
A95: 7.13 | B95: Քվեարկության գաղտնիությունը խախտելը | C95: 215 | AC95: =D95+F95 -> 0 | AD95: =+U95+S95+N95 -> 0 | AE95: =N95 -> 0 | AF95: =SUM(K95:M95) -> 0 | AG95: =R95 -> 0 | AH95: =SUM(O95:Q95) -> 0 | AI95: =Y95 -> 0 | AJ95: =SUM(W95:X95) -> 0 | AK95: =AB95 -> 0 | AL95: =SUM(Z95:AA95) -> 0
A96: 7.14 | B96: Կեղծ ընտրական քվեաթերթիկներ կամ քվեարկության ծրարներ, դրոշմանիշներ, կտրոններ պատրաստելը կամ ակնհայտ կեղծ ընտրական քվեաթերթիկներ կամ քվեարկության ծրարներ, դրոշմանիշներ, կտրոններ հանձնելը կամ դրանք իրացնելը | C96: 216 | AC96: =D96+F96 -> 0 | AD96: =+U96+S96+N96 -> 0 | AE96: =N96 -> 0 | AF96: =SUM(K96:M96) -> 0 | AG96: =R96 -> 0 | AH96: =SUM(O96:Q96) -> 0 | AI96: =Y96 -> 0 | AJ96: =SUM(W96:X96) -> 0 | AK96: =AB96 -> 0 | AL96: =SUM(Z96:AA96) -> 0
A97: 7.15 | B97: Ընտրական գործընթացի պատշաճ կազմակերպման համար անհրաժեշտ առարկաները հափշտակելը | C97: 217 | AC97: =D97+F97 -> 0 | AD97: =+U97+S97+N97 -> 0 | AE97: =N97 -> 0 | AF97: =SUM(K97:M97) -> 0 | AG97: =R97 -> 0 | AH97: =SUM(O97:Q97) -> 0 | AI97: =Y97 -> 0 | AJ97: =SUM(W97:X97) -> 0 | AK97: =AB97 -> 0 | AL97: =SUM(Z97:AA97) -> 0
A98: 7.16 | B98: Ընտրակաշառք ստանալը | C98: 218 | AC98: =D98+F98 -> 0 | AD98: =+U98+S98+N98 -> 0 | AE98: =N98 -> 0 | AF98: =SUM(K98:M98) -> 0 | AG98: =R98 -> 0 | AH98: =SUM(O98:Q98) -> 0 | AI98: =Y98 -> 0 | AJ98: =SUM(W98:X98) -> 0 | AK98: =AB98 -> 0 | AL98: =SUM(Z98:AA98) -> 0
A99: 7.17 | B99: Ընտրակաշառք տալը | C99: 219 | AC99: =D99+F99 -> 0 | AD99: =+U99+S99+N99 -> 0 | AE99: =N99 -> 0 | AF99: =SUM(K99:M99) -> 0 | AG99: =R99 -> 0 | AH99: =SUM(O99:Q99) -> 0 | AI99: =Y99 -> 0 | AJ99: =SUM(W99:X99) -> 0 | AK99: =AB99 -> 0 | AL99: =SUM(Z99:AA99) -> 0
A100: 7.18 | B100: Ընտրակաշառքի միջնորդությունը | C100: 220 | AC100: =D100+F100 -> 0 | AD100: =+U100+S100+N100 -> 0 | AE100: =N100 -> 0 | AF100: =SUM(K100:M100) -> 0 | AG100: =R100 -> 0 | AH100: =SUM(O100:Q100) -> 0 | AI100: =Y100 -> 0 | AJ100: =SUM(W100:X100) -> 0 | AK100: =AB100 -> 0 | AL100: =SUM(Z100:AA100) -> 0
...

Sheet Արարատ
B1: 2024թ. 1-ին կիսամյակի | X1: Հավելված 2 Բարձրագույն դատական խորհրդի 2022թվականի դեկտեմբերի 26-ի թիվ ԲԴԽ-122-Ո-408 որոշման
A2: ՀԱՇՎԵՏՎՈՒԹՅՈՒՆ ՀՀԱՐԱՐԱՏ և ՎԱՅՈՑ ՁՈՐԻ ՄԱՐԶԵՐԻ ԱՌԱՋԻՆ ԱՏՅԱՆԻ ԸՆԴՀԱՆՈՒՐ ԻՐԱՎԱՍՈՒԹՅԱՆ ԴԱՏԱՐԱՆՈՒՄ ՔՐԵԱԿԱՆ ԳՈՐԾԵՐԻ ՔՆՆՈՒԹՅԱՆ ՎԵՐԱԲԵՐՅԱԼ ՔՐԵԱԿԱՆ ՄԱՍՆԱԳԻՏԱՑՈՒՄ ՈՒՆԵՑՈՂ ԴԱՏԱՎՈՐՆԵՐԻ ԹԻՎԸ՝ 6
A3: Ստուգիչ հավասարումներ` 1+3=11+17+19, 11 =8+9+10 15= 12+13+14, 22=20+21, 25=23+24 | C3: ՀՀ քրեական օրենսգրքի հոդվածներ | D3: Հաշվետու ժամանակահատվածի սկզբում նախորդ հաշվետու ժամանակահատվածից փոխանցված գործերի ընդհանուր թիվը | E3: Այդ թվում` կասեցված վիճակում փոխանցված | F3: Հաշվետու ժամանակահատվածում ստացված գործերի ընդհանուր թիվը | G3: Որոշում է կայացվել քրեական գործը վերադարձնել հսկող դատախազին | H3: քանի գործով է կիրառվել համաձայնեցման վարույթ | I3: քանի գործով է կիրառվել համագործակցության վարույթ | J3: Հաշվետու ժամանակաշրջանում կայացվել է վերդիկտ | K3: Հաշվետու ժամանակաշրջանում կայացվել է դատավճիռ | L3: քրեական վարույթը կարճելու մաuին որոշում | M3: Հաշվետու ժամանակաշրջանում կայացվել է բժշկական հարկադրանքի դատավճիռ /ՀՀ ՔՐ. ԴԱՏ. ՕՐ. 432-ՐԴ ՀՈԴՎԱԾ/ | N3: ընդամենը | O3: Հաշվետու ժամանակահատվածում ավարտված գործերի ընդհանուր թիվը /ՀՀ ՔՐ. ԴԱՏ. ՕՐ. 14-ՐԴ ՀՈԴՎԱԾ/ | S3: Ուղարկվել է ըստ ընդդատության | T3: Հաշվետու ժամանակահատվածում կասեցված վարույթներով գործերի ընդհանուր թիվը | U3: Հաշվետու ժամանակահատվածում անավարտ գործերի ընդհանուր թիվը | V3: Այդ թվում՝ կասեցված | W3: Բողոքարկված վարութային ակտերի թիվը` ըստ տեսակների | Z3: բեկանված կամ փոփոխված ակտերի թիվը` ըստ տեսակների
O4: քրեական վարույթը կարճելու մաuին որոշումն ուժի մեջ մտնելով. | P4: Եզրափակիչ դատական ակտն ուժի մեջ է մտել | Q4: Եզրափակիչ դատական ակտը հանձնվել է կատարման | R4: Ընդամենը ավարտվել են գործեր | W4: Այդ թվում` եզրափակիչ դատական ակտերը | X4: Այդ թվում` եզրափակիչ դատավարական ակտերը | Y4: Ընդամենը | Z4: Այդ թվում` եզրափակիչ դատական ակտերը | AA4: Այդ թվում` եզրափակիչ դատավարական ակտերը | AB4: Ընդամենը | AC4: 1+3 | AD4: 11+17+19 | AE4: 11 | AF4: 8+9+10 | AG4: 15 | AH4: 12+13+14 | AI4: 22 | AJ4: 20+21 | AK4: 25 | AL4: 23+24
D5: 1 | E5: 2 | F5: 3 | G5: 4 | H5: 5 | I5: 6 | J5: 7 | K5: 8 | L5: 9 | M5: 10 | N5: 11 | O5: 12 | P5: 13 | Q5: 14 | R5: 15 | S5: 16 | T5: 17 | U5: 18 | V5: 19 | W5: 20 | X5: 21 | Y5: 22 | Z5: 23 | AA5: 24 | AB5: 25
A6: 1. | B6: Ընդամենը խաղաղության և մարդկության անվտանգության դեմ ուղղված հանցագործությունները | D6: =SUM(D7:D28) -> 0 | E6: =SUM(E7:E28) -> 0 | F6: =SUM(F7:F28) -> 0 | G6: =SUM(G7:G28) -> 0 | H6: =SUM(H7:H28) -> 0 | I6: =SUM(I7:I28) -> 0 | J6: =SUM(J7:J28) -> 0 | K6: =SUM(K7:K28) -> 0 | ... AL6: =SUM(AL7:AL28) -> 0
A7: 1.1 | B7: Ցեղասպանությունը | C7: 133 | AC7: =D7+F7 -> 0 | AD7: =N7+T7+V7 -> 0 | AE7: =N7 -> 0 | AF7: =SUM(K7:M7) -> 0 | AG7: =R7 -> 0 | AH7: =SUM(O7:Q7) -> 0 | AI7: =Y7 -> 0 | AJ7: =SUM(W7:X7) -> 0 | AK7: =AB7 -> 0 | AL7: =SUM(Z7:AA7) -> 0
A8: 1.2 | B8: Ցեղասպանության ուղղակի և հրապարակային հրահրումը | C8: 134 | AC8: =D8+F8 -> 0 | AD8: =N8+T8+V8 -> 0 | AE8: =N8 -> 0 | AF8: =SUM(K8:M8) -> 0 | AG8: =R8 -> 0 | AH8: =SUM(O8:Q8) -> 0 | AI8: =Y8 -> 0 | AJ8: =SUM(W8:X8) -> 0 | AK8: =AB8 -> 0 | AL8: =SUM(Z8:AA8) -> 0
A9: 1.3 | B9: Մարդկայնության դեմ ուղղված հանցագործությունները | C9: 135 | AC9: =D9+F9 -> 0 | AD9: =N9+T9+V9 -> 0 | AE9: =N9 -> 0 | AF9: =SUM(K9:M9) -> 0 | AG9: =R9 -> 0 | AH9: =SUM(O9:Q9) -> 0 | AI9: =Y9 -> 0 | AJ9: =SUM(W9:X9) -> 0 | AK9: =AB9 -> 0 | AL9: =SUM(Z9:AA9) -> 0
A10: 1.4 | B10: Ցեղասպանությունը կամ մարդկայնության դեմ ուղղված հանցագործությունները հրապարակայնորեն հերքելը, արդարացնելը, դրանք քարոզելը կամ դրանց վտանգավորությունը նսեմացնելը | C10: 136 | AC10: =D10+F10 -> 0 | AD10: =N10+T10+V10 -> 0 | AE10: =N10 -> 0 | AF10: =SUM(K10:M10) -> 0 | AG10: =R10 -> 0 | AH10: =SUM(O10:Q10) -> 0 | AI10: =Y10 -> 0 | AJ10: =SUM(W10:X10) -> 0 | AK10: =AB10 -> 0 | AL10: =SUM(Z10:AA10) -> 0
A11: 1.5 | B11: Հովանավորվող անձի դեմ ուղղված պատերազմական հանցագործությունները | C11: 137 | AC11: =D11+F11 -> 0 | AD11: =N11+T11+V11 -> 0 | AE11: =N11 -> 0 | AF11: =SUM(K11:M11) -> 0 | AG11: =R11 -> 0 | AH11: =SUM(O11:Q11) -> 0 | AI11: =Y11 -> 0 | AJ11: =SUM(W11:X11) -> 0 | AK11: =AB11 -> 0 | AL11: =SUM(Z11:AA11) -> 0
A12: 1.6 | B12: Սեփականության կամ այլ իրավունքների դեմ ուղղված պատերազմական հանցագործությունները | C12: 138 | AC12: =D12+F12 -> 0 | AD12: =N12+T12+V12 -> 0 | AE12: =N12 -> 0 | AF12: =SUM(K12:M12) -> 0 | AG12: =R12 -> 0 | AH12: =SUM(O12:Q12) -> 0 | AI12: =Y12 -> 0 | AJ12: =SUM(W12:X12) -> 0 | AK12: =AB12 -> 0 | AL12: =SUM(Z12:AA12) -> 0
A13: 1.7 | B13: Մարդասիրական օգնության ցուցաբերման կամ տարբերանշանների դեմ ուղղված պատերազմական հանցագործությունները | C13: 139 | AC13: =D13+F13 -> 0 | AD13: =N13+T13+V13 -> 0 | AE13: =N13 -> 0 | AF13: =SUM(K13:M13) -> 0 | AG13: =R13 -> 0 | AH13: =SUM(O13:Q13) -> 0 | AI13: =Y13 -> 0 | AJ13: =SUM(W13:X13) -> 0 | AK13: =AB13 -> 0 | AL13: =SUM(Z13:AA13) -> 0
A14: 1.8 | B14: Պատերազմ վարելու արգելված եղանակների կիրառմամբ պատերազմական հանցագործությունները | C14: 140 | AC14: =D14+F14 -> 0 | AD14: =N14+T14+V14 -> 0 | AE14: =N14 -> 0 | AF14: =SUM(K14:M14) -> 0 | AG14: =R14 -> 0 | AH14: =SUM(O14:Q14) -> 0 | AI14: =Y14 -> 0 | AJ14: =SUM(W14:X14) -> 0 | AK14: =AB14 -> 0 | AL14: =SUM(Z14:AA14) -> 0
A15: 1.9 | B15: Պատերազմ վարելու արգելված միջոցների կիրառմամբ պատերազմական հանցագործությունները | C15: 141 | AC15: =D15+J15 -> 0 | AD15: =N15+T15+V15 -> 0 | AE15: =N15 -> 0 | AF15: =SUM(K15:M15) -> 0 | AG15: =R15 -> 0 | AH15: =SUM(O15:Q15) -> 0 | AI15: =Y15 -> 0 | AJ15: =SUM(W15:X15) -> 0 | AK15: =AB15 -> 0 | AL15: =SUM(Z15:AA15) -> 0
A16: 1.10 | B16: Դիակապտությունը | C16: 142 | AC16: =D16+F16 -> 0 | AD16: =N16+T16+V16 -> 0 | AE16: =N16 -> 0 | AF16: =SUM(K16:M16) -> 0 | AG16: =R16 -> 0 | AH16: =SUM(O16:Q16) -> 0 | AI16: =Y16 -> 0 | AJ16: =SUM(W16:X16) -> 0 | AK16: =AB16 -> 0 | AL16: =SUM(Z16:AA16) -> 0
A17: 1.11 | B17: Մարտադաշտում սպանվածների դիակներն անարգելը | C17: 143 | AC17: =D17+F17 -> 0 | AD17: =N17+T17+V17 -> 0 | AE17: =N17 -> 0 | AF17: =SUM(K17:M17) -> 0 | AG17: =R17 -> 0 | AH17: =SUM(O17:Q17) -> 0 | AI17: =Y17 -> 0 | AJ17: =SUM(W17:X17) -> 0 | AK17: =AB17 -> 0 | AL17: =SUM(Z17:AA17) -> 0
A18: 1.12 | B18: Զինված ընդհարման ժամանակ մշակութային արժեքները ոչնչացնելը, վնասելը, հափշտակելը կամ առգրավելը կամ դրանց նպատակային նշանակությունը փոփոխելը | C18: 144 | AC18: =D18+F18 -> 0 | AD18: =N18+T18+V18 -> 0 | AE18: =N18 -> 0 | AF18: =SUM(K18:M18) -> 0 | AG18: =R18 -> 0 | AH18: =SUM(O18:Q18) -> 0 | AI18: =Y18 -> 0 | AJ18: =SUM(W18:X18) -> 0 | AK18: =AB18 -> 0 | AL18: =SUM(Z18:AA18) -> 0
A19: 1.13 | B19: Պատերազմի կամ զինված ընդհարման ժամանակ մշակութային արժեքների պաշտպանության կանոնները խախտելը | C19: 145 | AC19: =D19+F19 -> 0 | AD19: =N19+T19+V19 -> 0 | AE19: =N19 -> 0 | AF19: =SUM(K19:M19) -> 0 | AG19: =R19 -> 0 | AH19: =SUM(O19:Q19) -> 0 | AI19: =Y19 -> 0 | AJ19: =SUM(W19:X19) -> 0 | AK19: =AB19 -> 0 | AL19: =SUM(Z19:AA19) -> 0
A20: 1.14 | B20: Ռասայական, ազգային, էթնիկական կամ կրոնական թշնամանք հարուցելու նպատակով մշակութային արժեքները ոչնչացնելը կամ վնասելը | C20: 146 | AC20: =D20+F20 -> 0 | AD20: =N20+T20+V20 -> 0 | AE20: =N20 -> 0 | AF20: =SUM(K20:M20) -> 0 | AG20: =R20 -> 0 | AH20: =SUM(O20:Q20) -> 0 | AI20: =Y20 -> 0 | AJ20: =SUM(W20:X20) -> 0 | AK20: =AB20 -> 0 | AL20: =SUM(Z20:AA20) -> 0
A21: 1.15 | B21: Վարձկանությունը | C21: 147 | AC21: =D21+F21 -> 0 | AD21: =N21+T21+V21 -> 0 | AE21: =N21 -> 0 | AF21: =SUM(K21:M21) -> 0 | AG21: =R21 -> 0 | AH21: =SUM(O21:Q21) -> 0 | AI21: =Y21 -> 0 | AJ21: =SUM(W21:X21) -> 0 | AK21: =AB21 -> 0 | AL21: =SUM(Z21:AA21) -> 0
A22: 1.16 | B22: Անգործությունը զինված ընդհարման ժամանակ | C22: 148 | AC22: =D22+F22 -> 0 | AD22: =N22+T22+V22 -> 0 | AE22: =N22 -> 0 | AF22: =SUM(K22:M22) -> 0 | AG22: =R22 -> 0 | AH22: =SUM(O22:Q22) -> 0 | AI22: =Y22 -> 0 | AJ22: =SUM(W22:X22) -> 0 | AK22: =AB22 -> 0 | AL22: =SUM(Z22:AA22) -> 0
A23: 1.17 | B23: Ագրեսիան | C23: 149 | AC23: =D23+F23 -> 0 | AD23: =N23+T23+V23 -> 0 | AE23: =N23 -> 0 | AF23: =SUM(K23:M23) -> 0 | AG23: =R23 -> 0 | AH23: =SUM(O23:Q23) -> 0 | AI23: =Y23 -> 0 | AJ23: =SUM(W23:X23) -> 0 | AK23: =AB23 -> 0 | AL23: =SUM(Z23:AA23) -> 0
A24: 1.18 | B24: Համավարակի կամ մարդկության անվտանգությանն անմիջական սպառնալիքի իրավիճակի պայմաններում ագրեսիվ ռազմական գործողություններ նախաձեռնելը, իրականացնելը կամ դրանք չդադարեցնելը | C24: 150 | AC24: =D24+F24 -> 0 | AD24: =N24+T24+V24 -> 0 | AE24: =N24 -> 0 | AF24: =SUM(K24:M24) -> 0 | AG24: =R24 -> 0 | AH24: =SUM(O24:Q24) -> 0 | AI24: =Y24 -> 0 | AJ24: =SUM(W24:X24) -> 0 | AK24: =AB24 -> 0 | AL24: =SUM(Z24:AA24) -> 0
A25: 1.19 | B25: Ագրեսիա իրականացնելու ուղղակի և հրապարակային կոչերը | C25: 151 | AC25: =D25+F25 -> 0 | AD25: =N25+T25+V25 -> 0 | AE25: =N25 -> 0 | AF25: =SUM(K25:M25) -> 0 | AG25: =R25 -> 0 | AH25: =SUM(O25:Q25) -> 0 | AI25: =Y25 -> 0 | AJ25: =SUM(W25:X25) -> 0 | AK25: =AB25 -> 0 | AL25: =SUM(Z25:AA25) -> 0
A26: 1.20 | B26: Միջազգային ահաբեկչությունը | C26: 152 | AC26: =D26+F26 -> 0 | AD26: =N26+T26+V26 -> 0 | AE26: =N26 -> 0 | AF26: =SUM(K26:M26) -> 0 | AG26: =R26 -> 0 | AH26: =SUM(O26:Q26) -> 0 | AI26: =Y26 -> 0 | AJ26: =SUM(W26:X26) -> 0 | AK26: =AB26 -> 0 | AL26: =SUM(Z26:AA26) -> 0
A27: 1.21 | B27: Զանգվածային ոչնչացման զենք ստեղծելը, տրամադրելը, փորձարկելը կամ կիրառելը | C27: 153 | AC27: =D27+F27 -> 0 | AD27: =N27+T27+V27 -> 0 | AE27: =N27 -> 0 | AF27: =SUM(K27:M27) -> 0 | AG27: =R27 -> 0 | AH27: =SUM(O27:Q27) -> 0 | AI27: =Y27 -> 0 | AJ27: =SUM(W27:X27) -> 0 | AK27: =AB27 -> 0 | AL27: =SUM(Z27:AA27) -> 0
A28: 1.22 | B28: Էկոցիդը | C28: 154 | AC28: =D28+F28 -> 0 | AD28: =N28+T28+V28 -> 0 | AE28: =N28 -> 0 | AF28: =SUM(K28:M28) -> 0 | AG28: =R28 -> 0 | AH28: =SUM(O28:Q28) -> 0 | AI28: =Y28 -> 0 | AJ28: =SUM(W28:X28) -> 0 | AK28: =AB28 -> 0 | AL28: =SUM(Z28:AA28) -> 0
A29: 2 | B29: Ընդհամենը մարդու կյանքի դեմ ուղղված հանցագործությունները | D29: =SUM(D30:D40) -> 9 | E29: =SUM(E30:E40) -> 0 | F29: =SUM(F30:F40) -> 2 | G29: =SUM(G30:G40) -> 0 | H29: =SUM(H30:H40) -> 0 | I29: =SUM(I30:I40) -> 0 | J29: =SUM(J30:J40) -> 0 | K29: =SUM(K30:K40) -> 0 | ... AL29: =SUM(AL30:AL40) -> 0
A30: 2.1 | B30: Սպանությունը | C30: 155 | D30: 8 | F30: 2 | U30: 10 | X30: 1 | Y30: 1 | AC30: =D30+F30 -> 10 | AD30: =N30+T30+V30 -> 0 | AE30: =N30 -> 0 | AF30: =SUM(K30:M30) -> 0 | AG30: =R30 -> 0 | AH30: =SUM(O30:Q30) -> 0 | AI30: =Y30 -> 1 | AJ30: =SUM(W30:X30) -> 1 | AK30: =AB30 -> 0 | AL30: =SUM(Z30:AA30) -> 0
A31: 2.2 | B31: Հոգեկան խիստ հուզմունքի վիճակում կատարված սպանությունը | C31: 156 | AC31: =D31+F31 -> 0 | AD31: =N31+T31+V31 -> 0 | AE31: =N31 -> 0 | AF31: =SUM(K31:M31) -> 0 | AG31: =R31 -> 0 | AH31: =SUM(O31:Q31) -> 0 | AI31: =Y31 -> 0 | AJ31: =SUM(W31:X31) -> 0 | AK31: =AB31 -> 0 | AL31: =SUM(Z31:AA31) -> 0
A32: 2.3 | B32: Ծննդկանի կամ ծննդաբերի կողմից երեխայի սպանությունը | C32: 157 | AC32: =D32+F32 -> 0 | AD32: =N32+T32+V32 -> 0 | AE32: =N32 -> 0 | AF32: =SUM(K32:M32) -> 0 | AG32: =R32 -> 0 | AH32: =SUM(O32:Q32) -> 0 | AI32: =Y32 -> 0 | AJ32: =SUM(W32:X32) -> 0 | AK32: =AB32 -> 0 | AL32: =SUM(Z32:AA32) -> 0
A33: 2.4 | B33: Ծննդկանի կամ ծննդաբերի կողմից երեխայի սպանությանը հանցակցելը | C33: 158 | AC33: =D33+F33 -> 0 | AD33: =N33+T33+V33 -> 0 | AE33: =N33 -> 0 | AF33: =SUM(K33:M33) -> 0 | AG33: =R33 -> 0 | AH33: =SUM(O33:Q33) -> 0 | AI33: =Y33 -> 0 | AJ33: =SUM(W33:X33) -> 0 | AK33: =AB33 -> 0 | AL33: =SUM(Z33:AA33) -> 0
A34: 2.5 | B34: Անհրաժեշտ պաշտպանության սահմանազանցմամբ սպանությունը | C34: 159 | AC34: =D34+F34 -> 0 | AD34: =N34+T34+V34 -> 0 | AE34: =N34 -> 0 | AF34: =SUM(K34:M34) -> 0 | AG34: =R34 -> 0 | AH34: =SUM(O34:Q34) -> 0 | AI34: =Y34 -> 0 | AJ34: =SUM(W34:X34) -> 0 | AK34: =AB34 -> 0 | AL34: =SUM(Z34:AA34) -> 0
A35: 2.6 | B35: Հակաիրավական ոտնձգություն կատարած անձին բռնելու համար անհրաժեշտ միջոցների սահմանազանցմամբ սպանությունը | C35: 160 | AC35: =D35+F35 -> 0 | AD35: =N35+T35+V35 -> 0 | AE35: =N35 -> 0 | AF35: =SUM(K35:M35) -> 0 | AG35: =R35 -> 0 | AH35: =SUM(O35:Q35) -> 0 | AI35: =Y35 -> 0 | AJ35: =SUM(W35:X35) -> 0 | AK35: =AB35 -> 0 | AL35: =SUM(Z35:AA35) -> 0
A36: 2.7 | B36: Տուժողի խնդրանքով սպանությունը | C36: 161 | AC36: =D36+F36 -> 0 | AD36: =N36+T36+V36 -> 0 | AE36: =N36 -> 0 | AF36: =SUM(K36:M36) -> 0 | AG36: =R36 -> 0 | AH36: =SUM(O36:Q36) -> 0 | AI36: =Y36 -> 0 | AJ36: =SUM(W36:X36) -> 0 | AK36: =AB36 -> 0 | AL36: =SUM(Z36:AA36) -> 0
A37: 2.8 | B37: Ինքնասպանության հասցնելը | C37: 162 | AC37: =D37+F37 -> 0 | AD37: =N37+T37+V37 -> 0 | AE37: =N37 -> 0 | AF37: =SUM(K37:M37) -> 0 | AG37: =R37 -> 0 | AH37: =SUM(O37:Q37) -> 0 | AI37: =Y37 -> 0 | AJ37: =SUM(W37:X37) -> 0 | AK37: =AB37 -> 0 | AL37: =SUM(Z37:AA37) -> 0
A38: 2.9 | B38: Ինքնասպանության հակելը | C38: 163 | AC38: =D38+F38 -> 0 | AD38: =N38+T38+V38 -> 0 | AE38: =N38 -> 0 | AF38: =SUM(K38:M38) -> 0 | AG38: =R38 -> 0 | AH38: =SUM(O38:Q38) -> 0 | AI38: =Y38 -> 0 | AJ38: =SUM(W38:X38) -> 0 | AK38: =AB38 -> 0 | AL38: =SUM(Z38:AA38) -> 0
A39: 2.10 | B39: Ինքնասպանությանը նպաստելը | C39: 164 | AC39: =D39+F39 -> 0 | AD39: =N39+T39+V39 -> 0 | AE39: =N39 -> 0 | AF39: =SUM(K39:M39) -> 0 | AG39: =R39 -> 0 | AH39: =SUM(O39:Q39) -> 0 | AI39: =Y39 -> 0 | AJ39: =SUM(W39:X39) -> 0 | AK39: =AB39 -> 0 | AL39: =SUM(Z39:AA39) -> 0
A40: 2.11 | B40: Անզգուշությամբ կյանքից զրկելը | C40: 165 | D40: 1 | U40: 1 | AC40: =D40+F40 -> 1 | AD40: =N40+T40+V40 -> 0 | AE40: =N40 -> 0 | AF40: =SUM(K40:M40) -> 0 | AG40: =R40 -> 0 | AH40: =SUM(O40:Q40) -> 0 | AI40: =Y40 -> 0 | AJ40: =SUM(W40:X40) -> 0 | AK40: =AB40 -> 0 | AL40: =SUM(Z40:AA40) -> 0
A41: 3. | B41: Ընդհամենը ռողջության դեմ ուղղված հանցագործությունները | D41: =SUM(D42:D49) -> 49 | E41: =SUM(E42:E49) -> 0 | F41: =SUM(F42:F49) -> 30 | G41: =SUM(G42:G49) -> 0 | H41: =SUM(H42:H49) -> 5 | I41: =SUM(I42:I49) -> 0 | J41: =SUM(J42:J49) -> 2 | K41: =SUM(K42:K49) -> 15 | ... AL41: =SUM(AL42:AL49) -> 0
A42: 3.1 | B42: Առողջությանը ծանր վնաս պատճառելը | C42: 166 | D42: 26 | F42: 8 | H42: 1 | J42: 1 | K42: 5 | N42: 5 | U42: 29 | W42: 1 | Y42: 1 | AC42: =D42+F42 -> 34 | AD42: =N42+T42+V42 -> 5 | AE42: =N42 -> 5 | AF42: =SUM(K42:M42) -> 5 | AG42: =R42 -> 0 | AH42: =SUM(O42:Q42) -> 0 | AI42: =Y42 -> 1 | AJ42: =SUM(W42:X42) -> 1 | AK42: =AB42 -> 0 | AL42: =SUM(Z42:AA42) -> 0
A43: 3.2 | B43: Առողջությանը միջին ծանրության վնաս պատճառելը | C43: 167 | D43: 9 | F43: 2 | H43: 1 | J43: 1 | K43: 2 | N43: 2 | U43: 9 | X43: 1 | Y43: 1 | AC43: =D43+F43 -> 11 | AD43: =N43+T43+V43 -> 2 | AE43: =N43 -> 2 | AF43: =SUM(K43:M43) -> 2 | AG43: =R43 -> 0 | AH43: =SUM(O43:Q43) -> 0 | AI43: =Y43 -> 1 | AJ43: =SUM(W43:X43) -> 1 | AK43: =AB43 -> 0 | AL43: =SUM(Z43:AA43) -> 0
A44: 3.3 | B44: Առողջությանը ծանր կամ միջին ծանրության վնաս պատճառելը հոգեկան խիստ հուզմունքի վիճակում | C44: 168 | AC44: =D44+F44 -> 0 | AD44: =N44+T44+V44 -> 0 | AE44: =N44 -> 0 | AF44: =SUM(K44:M44) -> 0 | AG44: =R44 -> 0 | AH44: =SUM(O44:Q44) -> 0 | AI44: =Y44 -> 0 | AJ44: =SUM(W44:X44) -> 0 | AK44: =AB44 -> 0 | AL44: =SUM(Z44:AA44) -> 0
