Workbook

Sheet Վ. Ռշտունի
B1: 2017Ã. 1-ին կիսամյակ | D1: Ð²ÞìºîìàôÂÚàôÜ | AK1: Ð³í»Éí³Í Ð³Û³ëï³ÝÇ Ð³Ýñ³å»ïáõÃÛ³Ý ¸³ï³ñ³ÝÝ»ñÇ Ý³Ë³·³ÑÝ»ñÇ ËáñÑñ¹Ç 25.08.2017Ã. ÃÇí 35-È áñáßÙ³Ý
B2: ÐÐ ìºð²øÜÜÆâ øðº²Î²Ü ¸²î²ð²ÜԻ ¸²î²ìàð ì. èÞîàôÜàôÜ Ð²ÜÒÜì²Ì ´àÔàøÜºðÆ øÜÜàôÂÚ²Ü ìºð²´ºðÚ²È
B3: ÐÐ í»ñ³ùÝÝÇã ùñ»³Ï³Ý ¹³ï³ñ³ÝáõÙ ¹³ï³íáñÝ»ñÇ Ñ³ëïÇùÝ»ñÇ ÃÇíÁ` 16
D4: Ð³ßí»ïáõ Å³Ù³Ý³Ï³Ñ³ïí³ÍÇ ëÏ½µáõÙ Ý³Ëáñ¹ Ñ³ßí»ïáõ Å³Ù³Ý³Ï³Ñ³ïí³ÍÇó ÷áË³Ýóí³Í ·áñÍ»ñÇ ÁÝ¹Ñ³Ýáõñ ÃÇíÁ | G4: Ð³ßí»ïáõ Å³Ù³Ý³Ï³Ñ³ïí³ÍáõÙ ëï³óí³Í µáÕáùÝ»ñÇ ÁÝ¹Ñ³Ýáõñ ÃÇíÁ | M4: ´áÕáù³ñÏí³Í ³Ïï»ñÇ ù³Ý³ÏÁ, áñáÝó ¹»Ù µ»ñí³Í µáÕáùÝ»ñÝ Ñ³ßí»ïáõ Å³Ù³Ý³Ï³ßñç³ÝáõÙ ÁÝ¹áõÝí»É »Ý í³ñáõÛÃ | N4: Ð³ßí»ïáõ Å³Ù³Ý³Ï³ßñç³ÝáõÙ ùÝÝí³Í ·áñÍ»ñáí Ï³Û³óí³Í áñáßáõÙÝ»ñ | AB4: Ð³ßí»ïáõ Å³Ù³Ý³Ï³Ñ³ïí³ÍáõÙ ³í³ñïí³Í ·áñÍ»ñÇ ÁÝ¹Ñ³Ýáõñ ÃÇíÁ | AF4: Ð³ßí»ïáõ Å³Ù³Ý³Ï³Ñ³ïí³ÍáõÙ Ï³ë»óí³Í í³ñáõÛÃÝ»ñáí ·áñÍ»ñÇ ÁÝ¹Ñ³Ýáõñ ÃÇíÁ | AG4: Ð³ßí»ïáõ Å³Ù³Ý³Ï³Ñ³ïí³ÍáõÙ ³Ý³í³ñï ·áñÍ»ñÇ ÁÝ¹Ñ³Ýáõñ ÃÇíÁ | AH4: ²Û¹ ÃíáõÙ` Ï³ë»óí³Í | AI4: ´áÕáù³ñÏí³Í ¹³ï³Ï³Ý ³Ïï»ñÇ ÃÇíÁ` Áëï ï»ë³ÏÝ»ñÇ | AL4: ´»Ï³Ýí³Í ¹³ï³Ï³Ý ³Ïï»ñÇ ÃÇíÁ` Áëï ï»ë³ÏÝ»ñÇ | AO4: ´áÕáù³ñÏí»É »Ý í×é³µ»Ï ¹³ï³ñ³Ý
AI5: ²Û¹ ÃíáõÙ` ·áñÍÝ Áëï ¿áõÃÛ³Ý ÉáõÍáÕ ¹³ï³Ï³Ý ³Ïï»ñ | AJ5: ²Û¹ ÃíáõÙ` գործն ըստ էության չլուծող¹³ï³Ï³Ý ³Ïï»ñ | AK5: ÀÝ¹³Ù»ÝÁ | AL5: ²Û¹ ÃíáõÙ` ·áñÍÝ Áëï ¿áõÃÛ³Ý ÉáõÍáÕ ¹³ï³Ï³Ý ³Ïï»ñ | AM5: ²Û¹ ÃíáõÙ` գործն ըստ էության չլուծող¹³ï³Ï³Ý ³Ïï»ñ | AN5: ÀÝ¹³Ù»ÝÁ
D6: ÀÝ¹³Ù»ÝÁ | E6: Այդ թվում` վարույթ ընդունված µáÕáùÝ»ñáí փոխանցված | F6: Այդ թվում` չքննարկված µáÕáùÝ»ñáí փոխանցված | G6: ÀÝ¹³Ù»ÝÁ | H6: Այդ թվում` ընդունվել է վարույթ | I6: Այդ թվում` թողնվել է առանց քննության | J6: Այդ թվում` ÁÝ¹áõÝáõÙÁ մերժվել է | K6: Այդ թվում` í»ñ³ùÝÝÇã í³ñáõÛÃÁ Ï³ñ×í»É ¿ | L6: Այդ թվում` չի քննարկվել | N6: ¸³ï³Ï³Ý ³ÏïÁ ÃáÕÝí»É ¿ ûñÇÝ³Ï³Ý áõÅÇ Ù»ç | O6: ¸³ï³Ï³Ý ³ÏïÝ ³ÙµáÕçáõÃÛ³Ùµ µ»Ï³Ýí»É ¿ ¨ Ï³Û³óí»É ¿ ·áñÍÝ Áëï ¿áõÃÛ³Ý ÉáõÍáÕ ¹³ï³Ï³Ý ³Ïï | P6: ¸³ï³Ï³Ý ³ÏïÁ Ù³ëÝ³ÏÇáñ»Ý µ»Ï³Ýí»É ¿ ¨ µ»Ï³Ýí³Í Ù³ëáí Ï³Û³óí»É ¿ ·áñÍÝ Áëï ¿áõÃÛ³Ý ÉáõÍáÕ ¹³ï³Ï³Ý ³Ïï | Q6: ¸³ï³Ï³Ý ³ÏïÝ ³ÙµáÕçáõÃÛ³Ùµ µ»Ï³Ýí»É ¿ ¨ ·áñÍÝ áõÕ³ñÏí»É ¿ Ýáñ ùÝÝáõÃÛ³Ý | R6: ¹³ï³Ï³Ý ³ÏïÁ Ù³ëÝ³ÏÇáñ»Ý µ»Ï³Ýí»É ¿ ¨ ·áñÍÝ áõÕ³ñÏí»É ¿ Ýáñ ùÝÝáõÃÛ³Ý | S6: ø³Õ.Ñ³ÛóÇ Ù³ëáí ³ÙµáÕçáõÃÛ³Ùµ µ»Ï³Ýí»É ¿ ¹³ï³Ï³Ý ³ÏïÁ ¨ Ñ³ëï³ïí»É ¿ ÏáÕÙ»ñÇ Ñ³ßïáõÃÛ³Ý Ñ³Ù³Ó³ÛÝáõÃÛáõÝÁ | T6: ø³Õ.Ñ³ÛóÇ Ù³ëáí Ù³ëÝ³ÏÇáñ»Ý µ»Ï³Ýí»É ¿ ¹³ï³Ï³Ý ³ÏïÁ ¨ µ»Ï³Ýí³Í Ù³ëáí Ñ³ëï³ïí»É ¿ ÏáÕÙ»ñÇ Ñ³ßïáõÃÛ³Ý Ñ³Ù³Ó³ÛÝáõÃÛáõÝÁ | U6: ²ÙµáÕçáõÃÛ³Ùµ µ»Ï³Ýí»É ¿ ¹³ï³Ï³Ý ³ÏïÁ ¨ ·áñÍÇ í³ñáõÛÃÁ Ï³ñ×í»É ¿ | V6: Ø³ëÝ³ÏÇáñ»Ý µ»Ï³Ýí»É ¿ ¹³ï³Ï³Ý ³ÏïÁ ¨ ³Û¹ Ù³ëáí ·áñÍÇ í³ñáõÛÃÁ Ï³ñ×í»É ¿ | W6: ¸³ï³Ï³Ý ³ÏïÝ ³ÙµáÕçáõÃÛ³Ùµ µ»Ï³Ýí»É ¨ ÷á÷áËí»É ¿ | X6: ¸³ï³Ï³Ý ³ÏïÁ Ù³ëÝ³ÏÇáñ»Ý µ»Ï³Ýí»É ¿ ¨ ³Û¹ Ù³ëáí ÷á÷áËí»É | Y6: Դ³ï³Ï³Ý ³ÏïÁ µ»Ï³Ýí»É ¿ ¨ ù³Õ. Ñ³ÛóÁ ÃáÕÝí»É ¿ ³é³Ýó ùÝÝáõÃÛ³Ý | Z6: Գործն ըստ էության չլուծող դատական ակտը թողնվել է օրինական ուժի մեջ | AA6: Կայացվել է գործն ըստ էության չլուծող նոր դատական ակտ | AB6: ²Û¹ ÃíáõÙ` ·áñÍÝ Áëï ¿áõÃÛ³Ý ÉáõÍ»Éáõ ÑÇÙùáí ³í³ñïí³Í | AC6: ²Û¹ ÃíáõÙ` ·áñÍÇ í³ñáõÛÃÁ Ï³ñ×»Éáõ ÑÇÙùáí ³í³ñïí³Í | AD6: ²Û¹ ÃíáõÙ` ³ÛÉ ÑÇÙùáí ³í³ñïí³Í | AE6: ÀÝ¹³Ù»ÝÁ
C8: ¸²î²ð²ÜÜºð | D8: 1 | E8: 2 | F8: 3 | G8: 4 | H8: 5 | I8: 6 | J8: 7 | K8: 8 | L8: 9 | M8: 10 | N8: 11 | O8: 12 | P8: 13 | Q8: 14 | R8: 15 | S8: 16 | T8: 17 | U8: 18 | V8: 19 | W8: 20 | X8: 21 | Y8: 22 | Z8: 23 | AA8: 24 | AB8: 25 | AC8: 26 | AD8: 27 | AE8: 28 | AF8: 29 | AG8: 30 | AH8: 31 | AI8: 32 | AJ8: 33 | AK8: 34 | AL8: 35 | AM8: 36 | AN8: 37 | AO8: 38
A9: 1 | B9: 1 | C9: ºñ¨³Ý ù³Õ³ùÇ Î»ÝïñáÝ ¨ Üáñù-Ø³ñ³ß í³ñã³Ï³Ý ßñç³ÝÝ»ñÇ ÁÝ¹Ñ³Ýáõñ Çñ³í³ëáõÃÛ³Ý ³é³çÇÝ ³ïÛ³ÝÇ ¹³ï³ñ³Ý | D9: 1 | E9: 1 | G9: 4 | H9: 4 | M9: 5 | Z9: 2 | AA9: 4 | AD9: 6 | AE9: 6 | AJ9: 5 | AK9: 5 | AM9: 4 | AN9: 4 | AO9: 1
A10: 0 | B10: 2 | C10: ºñ¨³Ý ù³Õ³ùÇ ²ñ³µÏÇñ ¨ ø³Ý³ù»é-¼»ÛÃáõÝ í³ñã³Ï³Ý ßñç³ÝÝ»ñÇ ÁÝ¹Ñ³Ýáõñ Çñ³í³ëáõÃÛ³Ý ¹³ï³ñ³Ý | D10: 2 | E10: 2 | G10: 5 | H10: 3 | L10: 2 | M10: 3 | Z10: 1 | AA10: 4 | AD10: 5 | AE10: 5 | AJ10: 3 | AK10: 3 | AM10: 4 | AN10: 4 | AO10: 2
A11: 0 | B11: 3 | C11: ºñ¨³Ý ù³Õ³ùÇ Þ»Ý·³íÇÃ í³ñã³Ï³Ý ßñç³ÝÇ ÁÝ¹Ñ³Ýáõñ Çñ³í³ëáõÃÛ³Ý ³é³çÇÝ ³ïÛ³ÝÇ ¹³ï³ñ³Ý | G11: 4 | H11: 4 | M11: 4 | AA11: 2 | AD11: 2 | AE11: 2 | AG11: 2 | AJ11: 4 | AK11: 4 | AM11: 2 | AN11: 2 | AO11: 2
A12: 0 | B12: 4 | C12: ºñ¨³Ý ù³Õ³ùÇ ²ç³÷ÝÛ³Ï ¨ ¸³íÃ³ß»Ý í³ñã³Ï³Ý ßñç³ÝÝ»ñÇ ÁÝ¹Ñ³Ýáõñ Çñ³í³ëáõÃÛ³Ý ³é³çÇÝ ³ïÛ³ÝÇ ¹³ï³ñ³Ý | D12: 1 | E12: 1 | G12: 1 | H12: 1 | M12: 1 | AA12: 2 | AD12: 2 | AE12: 2 | AJ12: 1 | AK12: 1 | AM12: 2 | AN12: 2
A13: 0 | B13: 5 | C13: ºñ¨³Ý ù³Õ³ùÇ ²í³Ý ¨ Üáñ-Üáñù í³ñã³Ï³Ý ßñç³ÝÝ»ñÇ ÁÝ¹Ñ³Ýáõñ Çñ³í³ëáõÃÛ³Ý ³é³çÇÝ ³ïÛ³ÝÇ ¹³ï³ñ³Ý | D13: 1 | E13: 1 | Z13: 1 | AD13: 1 | AE13: 1 | AO13: 1
A14: 0 | B14: 6 | C14: ºñ¨³Ý ù³Õ³ùÇ ¾ñ»µáõÝÇ-Üáõµ³ñ³ß»Ý í³ñã³Ï³Ý ßñç³ÝÝ»ñÇ ÁÝ¹Ñ³Ýáõñ Çñ³í³ëáõÃÛ³Ý ³é³çÇÝ ³ïÛ³ÝÇ ¹³ï³ñ³Ý | G14: 1 | H14: 1 | M14: 1 | AA14: 1 | AD14: 1 | AE14: 1 | AJ14: 1 | AK14: 1 | AM14: 1 | AN14: 1
A15: 0 | B15: 7 | C15: ºñ¨³Ý ù³Õ³ùÇ Ø³É³ÃÇ³-ê»µ³ëïÇ³ í³ñã³Ï³Ý ßñç³ÝÇ ÁÝ¹Ñ³Ýáõñ Çñ³í³ëáõÃÛ³ÝÇ ³é³çÇÝ ³ïÛ³ÝÇ ¹³ï³ñ³Ý
A16: 0 | B16: 8 | C16: ÐÐ Èáéáõ Ù³ñ½Ç ÁÝ¹Ñ³Ýáõñ Çñ³í³ëáõÃÛ³Ý ³é³çÇÝ ³ïÛ³ÝÇ ¹³ï³ñ³Ý | D16: 1 | E16: 1 | M16: 1 | AA16: 2 | AD16: 2 | AE16: 2 | AJ16: 1 | AK16: 1 | AM16: 2 | AN16: 2
A17: 0 | B17: 9 | C17: ÐÐ ÞÇñ³ÏÇ Ù³ñ½Ç ÁÝ¹Ñ³Ýáõñ Çñ³í³ëáõÃÛ³Ý ³é³çÇÝ ³ïÛ³ÝÇ¹³ï³ñ³Ý | G17: 2 | H17: 2 | M17: 2 | AG17: 2 | AJ17: 2 | AK17: 2 | AO17: 1
A18: 0 | B18: 10 | C18: ÐÐ ²ñÙ³íÇñÇ Ù³ñ½Ç ÁÝ¹Ñ³Ýáõñ Çñ³í³ëáõÃÛ³Ý ³é³çÇÝ ³ïÛ³ÝÇ ¹³ï³ñ³Ý
A19: 0 | B19: 11 | C19: ÐÐ Îáï³ÛùÇ Ù³ñ½Ç ÁÝ¹Ñ³Ýáõñ Çñ³í³ëáõÃÛ³Ý ³é³çÇÝ ³ïÛ³ÝÇ ¹³ï³ñ³Ý | D19: 1 | E19: 1 | G19: 1 | H19: 1 | Z19: 1 | AD19: 1 | AE19: 1 | AJ19: 1 | AK19: 1
A20: 0 | B20: 12 | C20: ÐÐ ²ñ³ñ³ïÇ ¨ ì³Ûáó ÒáñÇ Ù³ñ½»ñÇ ÁÝ¹Ñ³Ýáõñ Çñ³í³ëáõÃÛ³Ý ³é³çÇÝ ³ïÛ³ÝÇ ¹³ï³ñ³Ý | AJ20: =SUM('Վ. Ռշտունի:Ա. Ազարյան'!AJ21) -> 22
A21: 0 | B21: 13 | C21: ÐÐ ¶»Õ³ñùáõÝÇùÇ Ù³ñ½Ç ÁÝ¹Ñ³Ýáõñ Çñ³í³ëáõÃÛ³Ý ³é³çÇÝ ³ïÛ³ÝÇ ¹³ï³ñ³Ý
A22: 0 | B22: 14 | C22: ÐÐ ²ñ³·³ÍáïÝÇ Ù³ñ½Ç ÁÝ¹Ñ³Ýáõñ Çñ³í³ëáõÃÛ³Ý ³é³çÇÝ ³ïÛ³ÝÇ ¹³ï³ñ³Ý | G22: 1 | H22: 1 | M22: 1 | AG22: 1 | AJ22: 1 | AK22: 1 | AO22: 1
A23: 0 | B23: 15 | C23: ÐÐ êÛáõÝÇùÇ Ù³ñ½Ç ÁÝ¹Ñ³Ýáõñ Çñ³í³ëáõÃÛ³Ý ³é³çÇÝ ³ïÛ³ÝÇ ¹³ï³ñ³Ý | G23: 1 | H23: 1 | M23: 1 | AA23: 1 | AD23: 1 | AE23: 1 | AJ23: 1 | AK23: 1 | AM23: 1 | AN23: 1
A24: 0 | B24: 16 | C24: ÐÐ î³íáõßÇ Ù³ñ½Ç ÁÝ¹Ñ³Ýáõñ Çñ³í³ëáõÃÛ³Ý ³é³çÇÝ ³ïÛ³ÝÇ ¹³ï³ñ³Ý
B25: 19 | C25: ÈáõÍ³ñí³Í ¹³ï³ñ³ÝÝ»ñ
A26: 0 | B26: 20 | C26: ÀÝ¹³Ù»ÝÁ | D26: =SUM(D9:D25) -> 7 | E26: =SUM(E9:E25) -> 7 | F26: =SUM(F9:F25) -> 0 | G26: =SUM(G9:G25) -> 20 | H26: =SUM(H9:H25) -> 18 | I26: =SUM(I9:I25) -> 0 | J26: =SUM(J9:J25) -> 0 | K26: =SUM(K9:K25) -> 0 | ... AO26: =SUM(AO9:AO25) -> 8
A27: 0
A28: 0
A29: 0
A30: 1
A31: 0

Sheet Տ. Սահակյան
B1: 2017Ã. 1-ին կիսամյակ | D1: Ð²ÞìºîìàôÂÚàôÜ | AK1: Ð³í»Éí³Í Ð³Û³ëï³ÝÇ Ð³Ýñ³å»ïáõÃÛ³Ý ¸³ï³ñ³ÝÝ»ñÇ Ý³Ë³·³ÑÝ»ñÇ ËáñÑñ¹Ç 25.08.2017Ã. ÃÇí 35-È áñáßÙ³Ý
B2: ÐÐ ìºð²øÜÜÆâ øðº²Î²Ü ¸²î²ð²ÜԻ ¸²î²ìàð î. ê²Ð²ÎÚ²ÜÆÜ Ð²ÜÒÜì²Ì ´àÔàøÜºðÆ øÜÜàôÂÚ²Ü ìºð²´ºðÚ²È
B3: ÐÐ í»ñ³ùÝÝÇã ùñ»³Ï³Ý ¹³ï³ñ³ÝáõÙ ¹³ï³íáñÝ»ñÇ Ñ³ëïÇùÝ»ñÇ ÃÇíÁ` 16
D4: Ð³ßí»ïáõ Å³Ù³Ý³Ï³Ñ³ïí³ÍÇ ëÏ½µáõÙ Ý³Ëáñ¹ Ñ³ßí»ïáõ Å³Ù³Ý³Ï³Ñ³ïí³ÍÇó ÷áË³Ýóí³Í ·áñÍ»ñÇ ÁÝ¹Ñ³Ýáõñ ÃÇíÁ | G4: Ð³ßí»ïáõ Å³Ù³Ý³Ï³Ñ³ïí³ÍáõÙ ëï³óí³Í µáÕáùÝ»ñÇ ÁÝ¹Ñ³Ýáõñ ÃÇíÁ | M4: ´áÕáù³ñÏí³Í ³Ïï»ñÇ ù³Ý³ÏÁ, áñáÝó ¹»Ù µ»ñí³Í µáÕáùÝ»ñÝ Ñ³ßí»ïáõ Å³Ù³Ý³Ï³ßñç³ÝáõÙ ÁÝ¹áõÝí»É »Ý í³ñáõÛÃ | N4: Ð³ßí»ïáõ Å³Ù³Ý³Ï³ßñç³ÝáõÙ ùÝÝí³Í ·áñÍ»ñáí Ï³Û³óí³Í áñáßáõÙÝ»ñ | AB4: Ð³ßí»ïáõ Å³Ù³Ý³Ï³Ñ³ïí³ÍáõÙ ³í³ñïí³Í ·áñÍ»ñÇ ÁÝ¹Ñ³Ýáõñ ÃÇíÁ | AF4: Ð³ßí»ïáõ Å³Ù³Ý³Ï³Ñ³ïí³ÍáõÙ Ï³ë»óí³Í í³ñáõÛÃÝ»ñáí ·áñÍ»ñÇ ÁÝ¹Ñ³Ýáõñ ÃÇíÁ | AG4: Ð³ßí»ïáõ Å³Ù³Ý³Ï³Ñ³ïí³ÍáõÙ ³Ý³í³ñï ·áñÍ»ñÇ ÁÝ¹Ñ³Ýáõñ ÃÇíÁ | AH4: ²Û¹ ÃíáõÙ` Ï³ë»óí³Í | AI4: ´áÕáù³ñÏí³Í ¹³ï³Ï³Ý ³Ïï»ñÇ ÃÇíÁ` Áëï ï»ë³ÏÝ»ñÇ | AL4: ´»Ï³Ýí³Í ¹³ï³Ï³Ý ³Ïï»ñÇ ÃÇíÁ` Áëï ï»ë³ÏÝ»ñÇ | AO4: ´áÕáù³ñÏí»É »Ý í×é³µ»Ï ¹³ï³ñ³Ý
AI5: ²Û¹ ÃíáõÙ` ·áñÍÝ Áëï ¿áõÃÛ³Ý ÉáõÍáÕ ¹³ï³Ï³Ý ³Ïï»ñ | AJ5: ²Û¹ ÃíáõÙ` գործն ըստ էության չլուծող¹³ï³Ï³Ý ³Ïï»ñ | AK5: ÀÝ¹³Ù»ÝÁ | AL5: ²Û¹ ÃíáõÙ` ·áñÍÝ Áëï ¿áõÃÛ³Ý ÉáõÍáÕ ¹³ï³Ï³Ý ³Ïï»ñ | AM5: ²Û¹ ÃíáõÙ` գործն ըստ էության չլուծող¹³ï³Ï³Ý ³Ïï»ñ | AN5: ÀÝ¹³Ù»ÝÁ
D6: ÀÝ¹³Ù»ÝÁ | E6: Այդ թվում` վարույթ ընդունված µáÕáùÝ»ñáí փոխանցված | F6: Այդ թվում` չքննարկված µáÕáùÝ»ñáí փոխանցված | G6: ÀÝ¹³Ù»ÝÁ | H6: Այդ թվում` ընդունվել է վարույթ | I6: Այդ թվում` թողնվել է առանց քննության | J6: Այդ թվում` ÁÝ¹áõÝáõÙÁ մերժվել է | K6: Այդ թվում` í»ñ³ùÝÝÇã í³ñáõÛÃÁ Ï³ñ×í»É ¿ | L6: Այդ թվում` չի քննարկվել | N6: ¸³ï³Ï³Ý ³ÏïÁ ÃáÕÝí»É ¿ ûñÇÝ³Ï³Ý áõÅÇ Ù»ç | O6: ¸³ï³Ï³Ý ³ÏïÝ ³ÙµáÕçáõÃÛ³Ùµ µ»Ï³Ýí»É ¿ ¨ Ï³Û³óí»É ¿ ·áñÍÝ Áëï ¿áõÃÛ³Ý ÉáõÍáÕ ¹³ï³Ï³Ý ³Ïï | P6: ¸³ï³Ï³Ý ³ÏïÁ Ù³ëÝ³ÏÇáñ»Ý µ»Ï³Ýí»É ¿ ¨ µ»Ï³Ýí³Í Ù³ëáí Ï³Û³óí»É ¿ ·áñÍÝ Áëï ¿áõÃÛ³Ý ÉáõÍáÕ ¹³ï³Ï³Ý ³Ïï | Q6: ¸³ï³Ï³Ý ³ÏïÝ ³ÙµáÕçáõÃÛ³Ùµ µ»Ï³Ýí»É ¿ ¨ ·áñÍÝ áõÕ³ñÏí»É ¿ Ýáñ ùÝÝáõÃÛ³Ý | R6: ¹³ï³Ï³Ý ³ÏïÁ Ù³ëÝ³ÏÇáñ»Ý µ»Ï³Ýí»É ¿ ¨ ·áñÍÝ áõÕ³ñÏí»É ¿ Ýáñ ùÝÝáõÃÛ³Ý | S6: ø³Õ.Ñ³ÛóÇ Ù³ëáí ³ÙµáÕçáõÃÛ³Ùµ µ»Ï³Ýí»É ¿ ¹³ï³Ï³Ý ³ÏïÁ ¨ Ñ³ëï³ïí»É ¿ ÏáÕÙ»ñÇ Ñ³ßïáõÃÛ³Ý Ñ³Ù³Ó³ÛÝáõÃÛáõÝÁ | T6: ø³Õ.Ñ³ÛóÇ Ù³ëáí Ù³ëÝ³ÏÇáñ»Ý µ»Ï³Ýí»É ¿ ¹³ï³Ï³Ý ³ÏïÁ ¨ µ»Ï³Ýí³Í Ù³ëáí Ñ³ëï³ïí»É ¿ ÏáÕÙ»ñÇ Ñ³ßïáõÃÛ³Ý Ñ³Ù³Ó³ÛÝáõÃÛáõÝÁ | U6: ²ÙµáÕçáõÃÛ³Ùµ µ»Ï³Ýí»É ¿ ¹³ï³Ï³Ý ³ÏïÁ ¨ ·áñÍÇ í³ñáõÛÃÁ Ï³ñ×í»É ¿ | V6: Ø³ëÝ³ÏÇáñ»Ý µ»Ï³Ýí»É ¿ ¹³ï³Ï³Ý ³ÏïÁ ¨ ³Û¹ Ù³ëáí ·áñÍÇ í³ñáõÛÃÁ Ï³ñ×í»É ¿ | W6: ¸³ï³Ï³Ý ³ÏïÝ ³ÙµáÕçáõÃÛ³Ùµ µ»Ï³Ýí»É ¨ ÷á÷áËí»É ¿ | X6: ¸³ï³Ï³Ý ³ÏïÁ Ù³ëÝ³ÏÇáñ»Ý µ»Ï³Ýí»É ¿ ¨ ³Û¹ Ù³ëáí ÷á÷áËí»É | Y6: Դ³ï³Ï³Ý ³ÏïÁ µ»Ï³Ýí»É ¿ ¨ ù³Õ. Ñ³ÛóÁ ÃáÕÝí»É ¿ ³é³Ýó ùÝÝáõÃÛ³Ý | Z6: Գործն ըստ էության չլուծող դատական ակտը թողնվել է օրինական ուժի մեջ | AA6: Կայացվել է գործն ըստ էության չլուծող նոր դատական ակտ | AB6: ²Û¹ ÃíáõÙ` ·áñÍÝ Áëï ¿áõÃÛ³Ý ÉáõÍ»Éáõ ÑÇÙùáí ³í³ñïí³Í | AC6: ²Û¹ ÃíáõÙ` ·áñÍÇ í³ñáõÛÃÁ Ï³ñ×»Éáõ ÑÇÙùáí ³í³ñïí³Í | AD6: ²Û¹ ÃíáõÙ` ³ÛÉ ÑÇÙùáí ³í³ñïí³Í | AE6: ÀÝ¹³Ù»ÝÁ
C8: ¸²î²ð²ÜÜºð | D8: 1 | E8: 2 | F8: 3 | G8: 4 | H8: 5 | I8: 6 | J8: 7 | K8: 8 | L8: 9 | M8: 10 | N8: 11 | O8: 12 | P8: 13 | Q8: 14 | R8: 15 | S8: 16 | T8: 17 | U8: 18 | V8: 19 | W8: 20 | X8: 21 | Y8: 22 | Z8: 23 | AA8: 24 | AB8: 25 | AC8: 26 | AD8: 27 | AE8: 28 | AF8: 29 | AG8: 30 | AH8: 31 | AI8: 32 | AJ8: 33 | AK8: 34 | AL8: 35 | AM8: 36 | AN8: 37 | AO8: 38
A9: 1 | B9: 1 | C9: ºñ¨³Ý ù³Õ³ùÇ Î»ÝïñáÝ ¨ Üáñù-Ø³ñ³ß í³ñã³Ï³Ý ßñç³ÝÝ»ñÇ ÁÝ¹Ñ³Ýáõñ Çñ³í³ëáõÃÛ³Ý ³é³çÇÝ ³ïÛ³ÝÇ ¹³ï³ñ³Ý | D9: 5 | E9: 2 | F9: 3 | G9: 23 | H9: 23 | M9: 20 | N9: 3 | R9: 1 | Z9: 12 | AA9: 2 | AB9: 4 | AD9: 14 | AE9: 18 | AG9: 4 | AI9: 4 | AJ9: 20 | AK9: 24 | AL9: 1 | AM9: 2 | AN9: 3 | AO9: 13
A10: 0 | B10: 2 | C10: ºñ¨³Ý ù³Õ³ùÇ ²ñ³µÏÇñ ¨ ø³Ý³ù»é-¼»ÛÃáõÝ í³ñã³Ï³Ý ßñç³ÝÝ»ñÇ ÁÝ¹Ñ³Ýáõñ Çñ³í³ëáõÃÛ³Ý ¹³ï³ñ³Ý | D10: 2 | E10: 1 | F10: 1 | G10: 35 | H10: 35 | M10: 33 | N10: 1 | Z10: 25 | AB10: 1 | AD10: 25 | AE10: 26 | AG10: 8 | AI10: 3 | AJ10: 26 | AK10: 29 | AO10: 14
A11: 0 | B11: 3 | C11: ºñ¨³Ý ù³Õ³ùÇ Þ»Ý·³íÇÃ í³ñã³Ï³Ý ßñç³ÝÇ ÁÝ¹Ñ³Ýáõñ Çñ³í³ëáõÃÛ³Ý ³é³çÇÝ ³ïÛ³ÝÇ ¹³ï³ñ³Ý | G11: 12 | H11: 12 | M11: 7 | N11: 1 | R11: 1 | U11: 1 | X11: 1 | Z11: 3 | AB11: 3 | AC11: 1 | AD11: 3 | AE11: 7 | AI11: 3 | AJ11: 3 | AK11: 6 | AL11: 3 | AN11: 3 | AO11: 2
A12: 0 | B12: 4 | C12: ºñ¨³Ý ù³Õ³ùÇ ²ç³÷ÝÛ³Ï ¨ ¸³íÃ³ß»Ý í³ñã³Ï³Ý ßñç³ÝÝ»ñÇ ÁÝ¹Ñ³Ýáõñ Çñ³í³ëáõÃÛ³Ý ³é³çÇÝ ³ïÛ³ÝÇ ¹³ï³ñ³Ý | G12: 3 | H12: 3 | M12: 3 | X12: 1 | Z12: 1 | AA12: 1 | AB12: 1 | AD12: 2 | AE12: 3 | AI12: 1 | AJ12: 2 | AK12: 3 | AL12: 1 | AM12: 1 | AN12: 2 | AO12: 1
A13: 0 | B13: 5 | C13: ºñ¨³Ý ù³Õ³ùÇ ²í³Ý ¨ Üáñ-Üáñù í³ñã³Ï³Ý ßñç³ÝÝ»ñÇ ÁÝ¹Ñ³Ýáõñ Çñ³í³ëáõÃÛ³Ý ³é³çÇÝ ³ïÛ³ÝÇ ¹³ï³ñ³Ý | D13: 2 | E13: 2 | G13: 5 | H13: 5 | M13: 4 | Z13: 4 | AA13: 1 | AD13: 5 | AE13: 5 | AG13: 1 | AI13: 1 | AJ13: 3 | AK13: 4 | AM13: 1 | AN13: 1 | AO13: 3
A14: 0 | B14: 6 | C14: ºñ¨³Ý ù³Õ³ùÇ ¾ñ»µáõÝÇ-Üáõµ³ñ³ß»Ý í³ñã³Ï³Ý ßñç³ÝÝ»ñÇ ÁÝ¹Ñ³Ýáõñ Çñ³í³ëáõÃÛ³Ý ³é³çÇÝ ³ïÛ³ÝÇ ¹³ï³ñ³Ý | D14: 1 | F14: 1 | G14: 2 | H14: 2 | M14: 2 | S14: 1 | X14: 1 | AB14: 2 | AE14: 2 | AI14: 2 | AK14: 2 | AL14: 2 | AN14: 2
A15: 0 | B15: 7 | C15: ºñ¨³Ý ù³Õ³ùÇ Ø³É³ÃÇ³-ê»µ³ëïÇ³ í³ñã³Ï³Ý ßñç³ÝÇ ÁÝ¹Ñ³Ýáõñ Çñ³í³ëáõÃÛ³ÝÇ ³é³çÇÝ ³ïÛ³ÝÇ ¹³ï³ñ³Ý | D15: 4 | E15: 3 | F15: 1 | G15: 4 | H15: 4 | M15: 4 | N15: 2 | Z15: 4 | AB15: 2 | AD15: 4 | AE15: 6 | AG15: 1 | AJ15: 5 | AK15: 5 | AO15: 1
A16: 0 | B16: 8 | C16: ÐÐ Èáéáõ Ù³ñ½Ç ÁÝ¹Ñ³Ýáõñ Çñ³í³ëáõÃÛ³Ý ³é³çÇÝ ³ïÛ³ÝÇ ¹³ï³ñ³Ý | G16: 7 | H16: 7 | M16: 7 | N16: 2 | Z16: 4 | AB16: 2 | AD16: 4 | AE16: 6 | AG16: 1 | AI16: 3 | AJ16: 4 | AK16: 7 | AO16: 1
A17: 0 | B17: 9 | C17: ÐÐ ÞÇñ³ÏÇ Ù³ñ½Ç ÁÝ¹Ñ³Ýáõñ Çñ³í³ëáõÃÛ³Ý ³é³çÇÝ ³ïÛ³ÝÇ¹³ï³ñ³Ý | D17: 2 | E17: 2 | G17: 7 | H17: 7 | M17: 6 | N17: 2 | V17: 1 | Z17: 2 | AB17: 2 | AC17: 1 | AD17: 2 | AE17: 5 | AG17: 3 | AI17: 5 | AJ17: 4 | AK17: 9 | AL17: 1 | AN17: 1 | AO17: 1
A18: 0 | B18: 10 | C18: ÐÐ ²ñÙ³íÇñÇ Ù³ñ½Ç ÁÝ¹Ñ³Ýáõñ Çñ³í³ëáõÃÛ³Ý ³é³çÇÝ ³ïÛ³ÝÇ ¹³ï³ñ³Ý | D18: 4 | E18: 2 | F18: 2 | G18: 4 | H18: 4 | M18: 5 | N18: 4 | Z18: 2 | AB18: 4 | AD18: 2 | AE18: 6 | AG18: 1 | AI18: 2 | AJ18: 2 | AK18: 4 | AO18: 2
A19: 0 | B19: 11 | C19: ÐÐ Îáï³ÛùÇ Ù³ñ½Ç ÁÝ¹Ñ³Ýáõñ Çñ³í³ëáõÃÛ³Ý ³é³çÇÝ ³ïÛ³ÝÇ ¹³ï³ñ³Ý | D19: 4 | E19: 1 | F19: 3 | G19: 5 | H19: 5 | M19: 6 | N19: 1 | R19: 1 | V19: 1 | X19: 1 | Z19: 3 | AB19: 3 | AC19: 1 | AD19: 3 | AE19: 7 | AI19: 1 | AJ19: 4 | AK19: 5 | AL19: 3 | AN19: 3 | AO19: 4
A20: 0 | B20: 12 | C20: ÐÐ ²ñ³ñ³ïÇ ¨ ì³Ûáó ÒáñÇ Ù³ñ½»ñÇ ÁÝ¹Ñ³Ýáõñ Çñ³í³ëáõÃÛ³Ý ³é³çÇÝ ³ïÛ³ÝÇ ¹³ï³ñ³Ý | D20: 1 | E20: 1 | G20: 14 | H20: 14 | M20: 10 | N20: 7 | X20: 1 | Z20: 1 | AB20: 8 | AD20: 1 | AE20: 9 | AG20: 2 | AI20: 8 | AJ20: 1 | AK20: 9 | AL20: 1 | AN20: 1 | AO20: 2
A21: 0 | B21: 13 | C21: ÐÐ ¶»Õ³ñùáõÝÇùÇ Ù³ñ½Ç ÁÝ¹Ñ³Ýáõñ Çñ³í³ëáõÃÛ³Ý ³é³çÇÝ ³ïÛ³ÝÇ ¹³ï³ñ³Ý | D21: 1 | E21: 1 | G21: 4 | H21: 4 | M21: 4 | N21: 3 | Z21: 2 | AB21: 3 | AD21: 2 | AE21: 5 | AI21: 2 | AJ21: 2 | AK21: 4
A22: 0 | B22: 14 | C22: ÐÐ ²ñ³·³ÍáïÝÇ Ù³ñ½Ç ÁÝ¹Ñ³Ýáõñ Çñ³í³ëáõÃÛ³Ý ³é³çÇÝ ³ïÛ³ÝÇ ¹³ï³ñ³Ý | M22: 1 | N22: 1 | AB22: 1 | AE22: 1 | AO22: 1
A23: 0 | B23: 15 | C23: ÐÐ êÛáõÝÇùÇ Ù³ñ½Ç ÁÝ¹Ñ³Ýáõñ Çñ³í³ëáõÃÛ³Ý ³é³çÇÝ ³ïÛ³ÝÇ ¹³ï³ñ³Ý | D23: 4 | F23: 4 | G23: 6 | H23: 6 | M23: 9 | N23: 5 | X23: 2 | Z23: 1 | AB23: 7 | AD23: 1 | AE23: 8 | AG23: 1 | AI23: 6 | AJ23: 1 | AK23: 7 | AL23: 2 | AN23: 2 | AO23: 1
A24: 0 | B24: 16 | C24: ÐÐ î³íáõßÇ Ù³ñ½Ç ÁÝ¹Ñ³Ýáõñ Çñ³í³ëáõÃÛ³Ý ³é³çÇÝ ³ïÛ³ÝÇ ¹³ï³ñ³Ý | G24: 4 | H24: 4 | M24: 2 | X24: 1 | AB24: 1 | AE24: 1 | AG24: 1 | AI24: 2 | AK24: 2 | AL24: 1 | AN24: 1 | AO24: 1
B25: 19 | C25: ÈáõÍ³ñí³Í ¹³ï³ñ³ÝÝ»ñ
A26: 0 | B26: 20 | C26: ÀÝ¹³Ù»ÝÁ | D26: =SUM(D9:D25) -> 30 | E26: =SUM(E9:E25) -> 15 | F26: =SUM(F9:F25) -> 15 | G26: =SUM(G9:G25) -> 135 | H26: =SUM(H9:H25) -> 135 | I26: =SUM(I9:I25) -> 0 | J26: =SUM(J9:J25) -> 0 | K26: =SUM(K9:K25) -> 0 | ... AO26: =SUM(AO9:AO25) -> 47
A27: 0
A28: 0
A29: 0
A30: 1
A31: 0

Sheet Ս. Չիչոյան
B1: 2017Ã. 1-ին կիսամյակ | D1: Ð²ÞìºîìàôÂÚàôÜ | AK1: Ð³í»Éí³Í Ð³Û³ëï³ÝÇ Ð³Ýñ³å»ïáõÃÛ³Ý ¸³ï³ñ³ÝÝ»ñÇ Ý³Ë³·³ÑÝ»ñÇ ËáñÑñ¹Ç 25.08.2017Ã. ÃÇí 35-È áñáßÙ³Ý
B2: ÐÐ ìºð²øÜÜÆâ øðº²Î²Ü ¸²î²ð²ÜԻ ¸²î²ìàð ê. âÆâàÚ²ÜÆÜ Ð²ÜÒÜì²Ì ´àÔàøÜºðÆ øÜÜàôÂÚ²Ü ìºð²´ºðÚ²È
B3: ÐÐ í»ñ³ùÝÝÇã ùñ»³Ï³Ý ¹³ï³ñ³ÝáõÙ ¹³ï³íáñÝ»ñÇ Ñ³ëïÇùÝ»ñÇ ÃÇíÁ` 16
D4: Ð³ßí»ïáõ Å³Ù³Ý³Ï³Ñ³ïí³ÍÇ ëÏ½µáõÙ Ý³Ëáñ¹ Ñ³ßí»ïáõ Å³Ù³Ý³Ï³Ñ³ïí³ÍÇó ÷áË³Ýóí³Í ·áñÍ»ñÇ ÁÝ¹Ñ³Ýáõñ ÃÇíÁ | G4: Ð³ßí»ïáõ Å³Ù³Ý³Ï³Ñ³ïí³ÍáõÙ ëï³óí³Í µáÕáùÝ»ñÇ ÁÝ¹Ñ³Ýáõñ ÃÇíÁ | M4: ´áÕáù³ñÏí³Í ³Ïï»ñÇ ù³Ý³ÏÁ, áñáÝó ¹»Ù µ»ñí³Í µáÕáùÝ»ñÝ Ñ³ßí»ïáõ Å³Ù³Ý³Ï³ßñç³ÝáõÙ ÁÝ¹áõÝí»É »Ý í³ñáõÛÃ | N4: Ð³ßí»ïáõ Å³Ù³Ý³Ï³ßñç³ÝáõÙ ùÝÝí³Í ·áñÍ»ñáí Ï³Û³óí³Í áñáßáõÙÝ»ñ | AB4: Ð³ßí»ïáõ Å³Ù³Ý³Ï³Ñ³ïí³ÍáõÙ ³í³ñïí³Í ·áñÍ»ñÇ ÁÝ¹Ñ³Ýáõñ ÃÇíÁ | AF4: Ð³ßí»ïáõ Å³Ù³Ý³Ï³Ñ³ïí³ÍáõÙ Ï³ë»óí³Í í³ñáõÛÃÝ»ñáí ·áñÍ»ñÇ ÁÝ¹Ñ³Ýáõñ ÃÇíÁ | AG4: Ð³ßí»ïáõ Å³Ù³Ý³Ï³Ñ³ïí³ÍáõÙ ³Ý³í³ñï ·áñÍ»ñÇ ÁÝ¹Ñ³Ýáõñ ÃÇíÁ | AH4: ²Û¹ ÃíáõÙ` Ï³ë»óí³Í | AI4: ´áÕáù³ñÏí³Í ¹³ï³Ï³Ý ³Ïï»ñÇ ÃÇíÁ` Áëï ï»ë³ÏÝ»ñÇ | AL4: ´»Ï³Ýí³Í ¹³ï³Ï³Ý ³Ïï»ñÇ ÃÇíÁ` Áëï ï»ë³ÏÝ»ñÇ | AO4: ´áÕáù³ñÏí»É »Ý í×é³µ»Ï ¹³ï³ñ³Ý
AI5: ²Û¹ ÃíáõÙ` ·áñÍÝ Áëï ¿áõÃÛ³Ý ÉáõÍáÕ ¹³ï³Ï³Ý ³Ïï»ñ | AJ5: ²Û¹ ÃíáõÙ` գործն ըստ էության չլուծող¹³ï³Ï³Ý ³Ïï»ñ | AK5: ÀÝ¹³Ù»ÝÁ | AL5: ²Û¹ ÃíáõÙ` ·áñÍÝ Áëï ¿áõÃÛ³Ý ÉáõÍáÕ ¹³ï³Ï³Ý ³Ïï»ñ | AM5: ²Û¹ ÃíáõÙ` գործն ըստ էության չլուծող¹³ï³Ï³Ý ³Ïï»ñ | AN5: ÀÝ¹³Ù»ÝÁ
D6: ÀÝ¹³Ù»ÝÁ | E6: Այդ թվում` վարույթ ընդունված µáÕáùÝ»ñáí փոխանցված | F6: Այդ թվում` չքննարկված µáÕáùÝ»ñáí փոխանցված | G6: ÀÝ¹³Ù»ÝÁ | H6: Այդ թվում` ընդունվել է վարույթ | I6: Այդ թվում` թողնվել է առանց քննության | J6: Այդ թվում` ÁÝ¹áõÝáõÙÁ մերժվել է | K6: Այդ թվում` í»ñ³ùÝÝÇã í³ñáõÛÃÁ Ï³ñ×í»É ¿ | L6: Այդ թվում` չի քննարկվել | N6: ¸³ï³Ï³Ý ³ÏïÁ ÃáÕÝí»É ¿ ûñÇÝ³Ï³Ý áõÅÇ Ù»ç | O6: ¸³ï³Ï³Ý ³ÏïÝ ³ÙµáÕçáõÃÛ³Ùµ µ»Ï³Ýí»É ¿ ¨ Ï³Û³óí»É ¿ ·áñÍÝ Áëï ¿áõÃÛ³Ý ÉáõÍáÕ ¹³ï³Ï³Ý ³Ïï | P6: ¸³ï³Ï³Ý ³ÏïÁ Ù³ëÝ³ÏÇáñ»Ý µ»Ï³Ýí»É ¿ ¨ µ»Ï³Ýí³Í Ù³ëáí Ï³Û³óí»É ¿ ·áñÍÝ Áëï ¿áõÃÛ³Ý ÉáõÍáÕ ¹³ï³Ï³Ý ³Ïï | Q6: ¸³ï³Ï³Ý ³ÏïÝ ³ÙµáÕçáõÃÛ³Ùµ µ»Ï³Ýí»É ¿ ¨ ·áñÍÝ áõÕ³ñÏí»É ¿ Ýáñ ùÝÝáõÃÛ³Ý | R6: ¹³ï³Ï³Ý ³ÏïÁ Ù³ëÝ³ÏÇáñ»Ý µ»Ï³Ýí»É ¿ ¨ ·áñÍÝ áõÕ³ñÏí»É ¿ Ýáñ ùÝÝáõÃÛ³Ý | S6: ø³Õ.Ñ³ÛóÇ Ù³ëáí ³ÙµáÕçáõÃÛ³Ùµ µ»Ï³Ýí»É ¿ ¹³ï³Ï³Ý ³ÏïÁ ¨ Ñ³ëï³ïí»É ¿ ÏáÕÙ»ñÇ Ñ³ßïáõÃÛ³Ý Ñ³Ù³Ó³ÛÝáõÃÛáõÝÁ | T6: ø³Õ.Ñ³ÛóÇ Ù³ëáí Ù³ëÝ³ÏÇáñ»Ý µ»Ï³Ýí»É ¿ ¹³ï³Ï³Ý ³ÏïÁ ¨ µ»Ï³Ýí³Í Ù³ëáí Ñ³ëï³ïí»É ¿ ÏáÕÙ»ñÇ Ñ³ßïáõÃÛ³Ý Ñ³Ù³Ó³ÛÝáõÃÛáõÝÁ | U6: ²ÙµáÕçáõÃÛ³Ùµ µ»Ï³Ýí»É ¿ ¹³ï³Ï³Ý ³ÏïÁ ¨ ·áñÍÇ í³ñáõÛÃÁ Ï³ñ×í»É ¿ | V6: Ø³ëÝ³ÏÇáñ»Ý µ»Ï³Ýí»É ¿ ¹³ï³Ï³Ý ³ÏïÁ ¨ ³Û¹ Ù³ëáí ·áñÍÇ í³ñáõÛÃÁ Ï³ñ×í»É ¿ | W6: ¸³ï³Ï³Ý ³ÏïÝ ³ÙµáÕçáõÃÛ³Ùµ µ»Ï³Ýí»É ¨ ÷á÷áËí»É ¿ | X6: ¸³ï³Ï³Ý ³ÏïÁ Ù³ëÝ³ÏÇáñ»Ý µ»Ï³Ýí»É ¿ ¨ ³Û¹ Ù³ëáí ÷á÷áËí»É | Y6: Դ³ï³Ï³Ý ³ÏïÁ µ»Ï³Ýí»É ¿ ¨ ù³Õ. Ñ³ÛóÁ ÃáÕÝí»É ¿ ³é³Ýó ùÝÝáõÃÛ³Ý | Z6: Գործն ըստ էության չլուծող դատական ակտը թողնվել է օրինական ուժի մեջ | AA6: Կայացվել է գործն ըստ էության չլուծող նոր դատական ակտ | AB6: ²Û¹ ÃíáõÙ` ·áñÍÝ Áëï ¿áõÃÛ³Ý ÉáõÍ»Éáõ ÑÇÙùáí ³í³ñïí³Í | AC6: ²Û¹ ÃíáõÙ` ·áñÍÇ í³ñáõÛÃÁ Ï³ñ×»Éáõ ÑÇÙùáí ³í³ñïí³Í | AD6: ²Û¹ ÃíáõÙ` ³ÛÉ ÑÇÙùáí ³í³ñïí³Í | AE6: ÀÝ¹³Ù»ÝÁ
C8: ¸²î²ð²ÜÜºð | D8: 1 | E8: 2 | F8: 3 | G8: 4 | H8: 5 | I8: 6 | J8: 7 | K8: 8 | L8: 9 | M8: 10 | N8: 11 | O8: 12 | P8: 13 | Q8: 14 | R8: 15 | S8: 16 | T8: 17 | U8: 18 | V8: 19 | W8: 20 | X8: 21 | Y8: 22 | Z8: 23 | AA8: 24 | AB8: 25 | AC8: 26 | AD8: 27 | AE8: 28 | AF8: 29 | AG8: 30 | AH8: 31 | AI8: 32 | AJ8: 33 | AK8: 34 | AL8: 35 | AM8: 36 | AN8: 37 | AO8: 38
A9: 1 | B9: 1 | C9: ºñ¨³Ý ù³Õ³ùÇ Î»ÝïñáÝ ¨ Üáñù-Ø³ñ³ß í³ñã³Ï³Ý ßñç³ÝÝ»ñÇ ÁÝ¹Ñ³Ýáõñ Çñ³í³ëáõÃÛ³Ý ³é³çÇÝ ³ïÛ³ÝÇ ¹³ï³ñ³Ý | D9: 1 | E9: 1 | G9: 30 | H9: 30 | M9: 27 | Z9: 20 | AA9: 3 | AD9: 23 | AE9: 23 | AG9: 5 | AI9: 2 | AJ9: 26 | AK9: 28 | AM9: 3 | AN9: 3 | AO9: 10
A10: 0 | B10: 2 | C10: ºñ¨³Ý ù³Õ³ùÇ ²ñ³µÏÇñ ¨ ø³Ý³ù»é-¼»ÛÃáõÝ í³ñã³Ï³Ý ßñç³ÝÝ»ñÇ ÁÝ¹Ñ³Ýáõñ Çñ³í³ëáõÃÛ³Ý ¹³ï³ñ³Ý | D10: 3 | E10: 3 | G10: 22 | H10: 22 | M10: 23 | N10: 2 | X10: 1 | Z10: 22 | AA10: 1 | AB10: 3 | AD10: 23 | AE10: 26 | AI10: 2 | AJ10: 21 | AK10: 23 | AL10: 1 | AM10: 1 | AN10: 2 | AO10: 9
A11: 0 | B11: 3 | C11: ºñ¨³Ý ù³Õ³ùÇ Þ»Ý·³íÇÃ í³ñã³Ï³Ý ßñç³ÝÇ ÁÝ¹Ñ³Ýáõñ Çñ³í³ëáõÃÛ³Ý ³é³çÇÝ ³ïÛ³ÝÇ ¹³ï³ñ³Ý | D11: 2 | E11: 2 | G11: 2 | H11: 2 | M11: 2 | N11: 3 | Z11: 1 | AB11: 3 | AD11: 1 | AE11: 4 | AI11: 1 | AJ11: 1 | AK11: 2 | AO11: 1
A12: 0 | B12: 4 | C12: ºñ¨³Ý ù³Õ³ùÇ ²ç³÷ÝÛ³Ï ¨ ¸³íÃ³ß»Ý í³ñã³Ï³Ý ßñç³ÝÝ»ñÇ ÁÝ¹Ñ³Ýáõñ Çñ³í³ëáõÃÛ³Ý ³é³çÇÝ ³ïÛ³ÝÇ ¹³ï³ñ³Ý | D12: 3 | E12: 3 | G12: 3 | H12: 3 | M12: 3 | N12: 1 | X12: 1 | Z12: 2 | AA12: 1 | AB12: 2 | AD12: 3 | AE12: 5 | AG12: 1 | AI12: 1 | AJ12: 2 | AK12: 3 | AL12: 1 | AM12: 1 | AN12: 2 | AO12: 1
A13: 0 | B13: 5 | C13: ºñ¨³Ý ù³Õ³ùÇ ²í³Ý ¨ Üáñ-Üáñù í³ñã³Ï³Ý ßñç³ÝÝ»ñÇ ÁÝ¹Ñ³Ýáõñ Çñ³í³ëáõÃÛ³Ý ³é³çÇÝ ³ïÛ³ÝÇ ¹³ï³ñ³Ý | G13: 6 | H13: 5 | L13: 1 | M13: 6 | N13: 1 | Z13: 4 | AB13: 1 | AD13: 4 | AE13: 5 | AG13: 1 | AI13: 1 | AJ13: 5 | AK13: 6 | AO13: 1
A14: 0 | B14: 6 | C14: ºñ¨³Ý ù³Õ³ùÇ ¾ñ»µáõÝÇ-Üáõµ³ñ³ß»Ý í³ñã³Ï³Ý ßñç³ÝÝ»ñÇ ÁÝ¹Ñ³Ýáõñ Çñ³í³ëáõÃÛ³Ý ³é³çÇÝ ³ïÛ³ÝÇ ¹³ï³ñ³Ý | D14: 2 | E14: 2 | G14: 4 | H14: 4 | M14: 4 | N14: 1 | Z14: 4 | AB14: 1 | AD14: 4 | AE14: 5 | AG14: 1 | AJ14: 4 | AK14: 4 | AO14: 3
A15: 0 | B15: 7 | C15: ºñ¨³Ý ù³Õ³ùÇ Ø³É³ÃÇ³-ê»µ³ëïÇ³ í³ñã³Ï³Ý ßñç³ÝÇ ÁÝ¹Ñ³Ýáõñ Çñ³í³ëáõÃÛ³ÝÇ ³é³çÇÝ ³ïÛ³ÝÇ ¹³ï³ñ³Ý | G15: 6 | H15: 6 | M15: 5 | N15: 2 | Z15: 2 | AB15: 2 | AD15: 2 | AE15: 4 | AG15: 1 | AI15: 3 | AJ15: 2 | AK15: 5 | AO15: 1
A16: 0 | B16: 8 | C16: ÐÐ Èáéáõ Ù³ñ½Ç ÁÝ¹Ñ³Ýáõñ Çñ³í³ëáõÃÛ³Ý ³é³çÇÝ ³ïÛ³ÝÇ ¹³ï³ñ³Ý | G16: 4 | H16: 4 | M16: 6 | N16: 1 | Z16: 4 | AB16: 1 | AD16: 4 | AE16: 5 | AG16: 1 | AI16: 1 | AJ16: 5 | AK16: 6 | AO16: 1
A17: 0 | B17: 9 | C17: ÐÐ ÞÇñ³ÏÇ Ù³ñ½Ç ÁÝ¹Ñ³Ýáõñ Çñ³í³ëáõÃÛ³Ý ³é³çÇÝ ³ïÛ³ÝÇ¹³ï³ñ³Ý | G17: 2 | H17: 2 | M17: 3 | Z17: 1 | AD17: 1 | AE17: 1 | AG17: 2 | AI17: 3 | AJ17: 1 | AK17: 4
A18: 0 | B18: 10 | C18: ÐÐ ²ñÙ³íÇñÇ Ù³ñ½Ç ÁÝ¹Ñ³Ýáõñ Çñ³í³ëáõÃÛ³Ý ³é³çÇÝ ³ïÛ³ÝÇ ¹³ï³ñ³Ý | G18: 4 | H18: 4 | M18: 3 | N18: 1 | Z18: 1 | AB18: 1 | AD18: 1 | AE18: 2 | AG18: 1 | AI18: 2 | AJ18: 1 | AK18: 3
A19: 0 | B19: 11 | C19: ÐÐ Îáï³ÛùÇ Ù³ñ½Ç ÁÝ¹Ñ³Ýáõñ Çñ³í³ëáõÃÛ³Ý ³é³çÇÝ ³ïÛ³ÝÇ ¹³ï³ñ³Ý | D19: 2 | E19: 2 | G19: 7 | H19: 6 | L19: 1 | M19: 6 | N19: 1 | Z19: 4 | AB19: 1 | AD19: 4 | AE19: 5 | AG19: 3 | AI19: 2 | AJ19: 4 | AK19: 6 | AO19: 2
A20: 0 | B20: 12 | C20: ÐÐ ²ñ³ñ³ïÇ ¨ ì³Ûáó ÒáñÇ Ù³ñ½»ñÇ ÁÝ¹Ñ³Ýáõñ Çñ³í³ëáõÃÛ³Ý ³é³çÇÝ ³ïÛ³ÝÇ ¹³ï³ñ³Ý | D20: 1 | E20: 1 | G20: 4 | H20: 4 | M20: 3 | N20: 1 | X20: 1 | Z20: 1 | AB20: 2 | AD20: 1 | AE20: 3 | AG20: 1 | AI20: 2 | AJ20: =SUM('Վ. Ռշտունի:Ա. Ազարյան'!AJ21) -> 22 | AK20: 3 | AL20: 1 | AN20: 1 | AO20: 2
A21: 0 | B21: 13 | C21: ÐÐ ¶»Õ³ñùáõÝÇùÇ Ù³ñ½Ç ÁÝ¹Ñ³Ýáõñ Çñ³í³ëáõÃÛ³Ý ³é³çÇÝ ³ïÛ³ÝÇ ¹³ï³ñ³Ý | G21: 5 | H21: 5 | M21: 2 | N21: 1 | AB21: 1 | AE21: 1 | AG21: 1 | AI21: 2 | AK21: 2
A22: 0 | B22: 14 | C22: ÐÐ ²ñ³·³ÍáïÝÇ Ù³ñ½Ç ÁÝ¹Ñ³Ýáõñ Çñ³í³ëáõÃÛ³Ý ³é³çÇÝ ³ïÛ³ÝÇ ¹³ï³ñ³Ý | D22: 1 | E22: 1 | G22: 1 | H22: 1 | M22: 1 | N22: 1 | Z22: 1 | AB22: 1 | AD22: 1 | AE22: 2 | AI22: 1 | AK22: 1 | AO22: 1
A23: 0 | B23: 15 | C23: ÐÐ êÛáõÝÇùÇ Ù³ñ½Ç ÁÝ¹Ñ³Ýáõñ Çñ³í³ëáõÃÛ³Ý ³é³çÇÝ ³ïÛ³ÝÇ ¹³ï³ñ³Ý | G23: 12 | H23: 12 | M23: 10 | N23: 3 | X23: 1 | Z23: 5 | AB23: 4 | AD23: 5 | AE23: 9 | AG23: 1 | AI23: 5 | AJ23: 6 | AK23: 11 | AL23: 1 | AN23: 1
A24: 0 | B24: 16 | C24: ÐÐ î³íáõßÇ Ù³ñ½Ç ÁÝ¹Ñ³Ýáõñ Çñ³í³ëáõÃÛ³Ý ³é³çÇÝ ³ïÛ³ÝÇ ¹³ï³ñ³Ý | G24: 3 | H24: 3 | M24: 3 | N24: 2 | Z24: 1 | AB24: 2 | AD24: 1 | AE24: 3 | AI24: 2 | AJ24: 2 | AK24: 4
B25: 19 | C25: ÈáõÍ³ñí³Í ¹³ï³ñ³ÝÝ»ñ
A26: 0 | B26: 20 | C26: ÀÝ¹³Ù»ÝÁ | D26: =SUM(D9:D25) -> 15 | E26: =SUM(E9:E25) -> 15 | F26: =SUM(F9:F25) -> 0 | G26: =SUM(G9:G25) -> 115 | H26: =SUM(H9:H25) -> 113 | I26: =SUM(I9:I25) -> 0 | J26: =SUM(J9:J25) -> 0 | K26: =SUM(K9:K25) -> 0 | ... AO26: =SUM(AO9:AO25) -> 32
A27: 0
A28: 0
A29: 0
A30: 1
A31: 0

Sheet Ս. Համբարձումյան
B1: 2017Ã. 1-ին կիսամյակ | D1: Ð²ÞìºîìàôÂÚàôÜ | AK1: Ð³í»Éí³Í Ð³Û³ëï³ÝÇ Ð³Ýñ³å»ïáõÃÛ³Ý ¸³ï³ñ³ÝÝ»ñÇ Ý³Ë³·³ÑÝ»ñÇ ËáñÑñ¹Ç 25.08.2017Ã. ÃÇí 35-È áñáßÙ³Ý
B2: ÐÐ ìºð²øÜÜÆâ øðº²Î²Ü ¸²î²ð²ÜԻ ¸²î²ìàð ê. Ð²Ø´²ðÒàôØÚ²ÜÆÜ Ð²ÜÒÜì²Ì ´àÔàøÜºðÆ øÜÜàôÂÚ²Ü ìºð²´ºðÚ²È
B3: ÐÐ í»ñ³ùÝÝÇã ùñ»³Ï³Ý ¹³ï³ñ³ÝáõÙ ¹³ï³íáñÝ»ñÇ Ñ³ëïÇùÝ»ñÇ ÃÇíÁ` 16
D4: Ð³ßí»ïáõ Å³Ù³Ý³Ï³Ñ³ïí³ÍÇ ëÏ½µáõÙ Ý³Ëáñ¹ Ñ³ßí»ïáõ Å³Ù³Ý³Ï³Ñ³ïí³ÍÇó ÷áË³Ýóí³Í ·áñÍ»ñÇ ÁÝ¹Ñ³Ýáõñ ÃÇíÁ | G4: Ð³ßí»ïáõ Å³Ù³Ý³Ï³Ñ³ïí³ÍáõÙ ëï³óí³Í µáÕáùÝ»ñÇ ÁÝ¹Ñ³Ýáõñ ÃÇíÁ | M4: ´áÕáù³ñÏí³Í ³Ïï»ñÇ ù³Ý³ÏÁ, áñáÝó ¹»Ù µ»ñí³Í µáÕáùÝ»ñÝ Ñ³ßí»ïáõ Å³Ù³Ý³Ï³ßñç³ÝáõÙ ÁÝ¹áõÝí»É »Ý í³ñáõÛÃ | N4: Ð³ßí»ïáõ Å³Ù³Ý³Ï³ßñç³ÝáõÙ ùÝÝí³Í ·áñÍ»ñáí Ï³Û³óí³Í áñáßáõÙÝ»ñ | AB4: Ð³ßí»ïáõ Å³Ù³Ý³Ï³Ñ³ïí³ÍáõÙ ³í³ñïí³Í ·áñÍ»ñÇ ÁÝ¹Ñ³Ýáõñ ÃÇíÁ | AF4: Ð³ßí»ïáõ Å³Ù³Ý³Ï³Ñ³ïí³ÍáõÙ Ï³ë»óí³Í í³ñáõÛÃÝ»ñáí ·áñÍ»ñÇ ÁÝ¹Ñ³Ýáõñ ÃÇíÁ | AG4: Ð³ßí»ïáõ Å³Ù³Ý³Ï³Ñ³ïí³ÍáõÙ ³Ý³í³ñï ·áñÍ»ñÇ ÁÝ¹Ñ³Ýáõñ ÃÇíÁ | AH4: ²Û¹ ÃíáõÙ` Ï³ë»óí³Í | AI4: ´áÕáù³ñÏí³Í ¹³ï³Ï³Ý ³Ïï»ñÇ ÃÇíÁ` Áëï ï»ë³ÏÝ»ñÇ | AL4: ´»Ï³Ýí³Í ¹³ï³Ï³Ý ³Ïï»ñÇ ÃÇíÁ` Áëï ï»ë³ÏÝ»ñÇ | AO4: ´áÕáù³ñÏí»É »Ý í×é³µ»Ï ¹³ï³ñ³Ý
AI5: ²Û¹ ÃíáõÙ` ·áñÍÝ Áëï ¿áõÃÛ³Ý ÉáõÍáÕ ¹³ï³Ï³Ý ³Ïï»ñ | AJ5: ²Û¹ ÃíáõÙ` գործն ըստ էության չլուծող¹³ï³Ï³Ý ³Ïï»ñ | AK5: ÀÝ¹³Ù»ÝÁ | AL5: ²Û¹ ÃíáõÙ` ·áñÍÝ Áëï ¿áõÃÛ³Ý ÉáõÍáÕ ¹³ï³Ï³Ý ³Ïï»ñ | AM5: ²Û¹ ÃíáõÙ` գործն ըստ էության չլուծող¹³ï³Ï³Ý ³Ïï»ñ | AN5: ÀÝ¹³Ù»ÝÁ
D6: ÀÝ¹³Ù»ÝÁ | E6: Այդ թվում` վարույթ ընդունված µáÕáùÝ»ñáí փոխանցված | F6: Այդ թվում` չքննարկված µáÕáùÝ»ñáí փոխանցված | G6: ÀÝ¹³Ù»ÝÁ | H6: Այդ թվում` ընդունվել է վարույթ | I6: Այդ թվում` թողնվել է առանց քննության | J6: Այդ թվում` ÁÝ¹áõÝáõÙÁ մերժվել է | K6: Այդ թվում` í»ñ³ùÝÝÇã í³ñáõÛÃÁ Ï³ñ×í»É ¿ | L6: Այդ թվում` չի քննարկվել | N6: ¸³ï³Ï³Ý ³ÏïÁ ÃáÕÝí»É ¿ ûñÇÝ³Ï³Ý áõÅÇ Ù»ç | O6: ¸³ï³Ï³Ý ³ÏïÝ ³ÙµáÕçáõÃÛ³Ùµ µ»Ï³Ýí»É ¿ ¨ Ï³Û³óí»É ¿ ·áñÍÝ Áëï ¿áõÃÛ³Ý ÉáõÍáÕ ¹³ï³Ï³Ý ³Ïï | P6: ¸³ï³Ï³Ý ³ÏïÁ Ù³ëÝ³ÏÇáñ»Ý µ»Ï³Ýí»É ¿ ¨ µ»Ï³Ýí³Í Ù³ëáí Ï³Û³óí»É ¿ ·áñÍÝ Áëï ¿áõÃÛ³Ý ÉáõÍáÕ ¹³ï³Ï³Ý ³Ïï | Q6: ¸³ï³Ï³Ý ³ÏïÝ ³ÙµáÕçáõÃÛ³Ùµ µ»Ï³Ýí»É ¿ ¨ ·áñÍÝ áõÕ³ñÏí»É ¿ Ýáñ ùÝÝáõÃÛ³Ý | R6: ¹³ï³Ï³Ý ³ÏïÁ Ù³ëÝ³ÏÇáñ»Ý µ»Ï³Ýí»É ¿ ¨ ·áñÍÝ áõÕ³ñÏí»É ¿ Ýáñ ùÝÝáõÃÛ³Ý | S6: ø³Õ.Ñ³ÛóÇ Ù³ëáí ³ÙµáÕçáõÃÛ³Ùµ µ»Ï³Ýí»É ¿ ¹³ï³Ï³Ý ³ÏïÁ ¨ Ñ³ëï³ïí»É ¿ ÏáÕÙ»ñÇ Ñ³ßïáõÃÛ³Ý Ñ³Ù³Ó³ÛÝáõÃÛáõÝÁ | T6: ø³Õ.Ñ³ÛóÇ Ù³ëáí Ù³ëÝ³ÏÇáñ»Ý µ»Ï³Ýí»É ¿ ¹³ï³Ï³Ý ³ÏïÁ ¨ µ»Ï³Ýí³Í Ù³ëáí Ñ³ëï³ïí»É ¿ ÏáÕÙ»ñÇ Ñ³ßïáõÃÛ³Ý Ñ³Ù³Ó³ÛÝáõÃÛáõÝÁ | U6: ²ÙµáÕçáõÃÛ³Ùµ µ»Ï³Ýí»É ¿ ¹³ï³Ï³Ý ³ÏïÁ ¨ ·áñÍÇ í³ñáõÛÃÁ Ï³ñ×í»É ¿ | V6: Ø³ëÝ³ÏÇáñ»Ý µ»Ï³Ýí»É ¿ ¹³ï³Ï³Ý ³ÏïÁ ¨ ³Û¹ Ù³ëáí ·áñÍÇ í³ñáõÛÃÁ Ï³ñ×í»É ¿ | W6: ¸³ï³Ï³Ý ³ÏïÝ ³ÙµáÕçáõÃÛ³Ùµ µ»Ï³Ýí»É ¨ ÷á÷áËí»É ¿ | X6: ¸³ï³Ï³Ý ³ÏïÁ Ù³ëÝ³ÏÇáñ»Ý µ»Ï³Ýí»É ¿ ¨ ³Û¹ Ù³ëáí ÷á÷áËí»É | Y6: Դ³ï³Ï³Ý ³ÏïÁ µ»Ï³Ýí»É ¿ ¨ ù³Õ. Ñ³ÛóÁ ÃáÕÝí»É ¿ ³é³Ýó ùÝÝáõÃÛ³Ý | Z6: Գործն ըստ էության չլուծող դատական ակտը թողնվել է օրինական ուժի մեջ | AA6: Կայացվել է գործն ըստ էության չլուծող նոր դատական ակտ | AB6: ²Û¹ ÃíáõÙ` ·áñÍÝ Áëï ¿áõÃÛ³Ý ÉáõÍ»Éáõ ÑÇÙùáí ³í³ñïí³Í | AC6: ²Û¹ ÃíáõÙ` ·áñÍÇ í³ñáõÛÃÁ Ï³ñ×»Éáõ ÑÇÙùáí ³í³ñïí³Í | AD6: ²Û¹ ÃíáõÙ` ³ÛÉ ÑÇÙùáí ³í³ñïí³Í | AE6: ÀÝ¹³Ù»ÝÁ
C8: ¸²î²ð²ÜÜºð | D8: 1 | E8: 2 | F8: 3 | G8: 4 | H8: 5 | I8: 6 | J8: 7 | K8: 8 | L8: 9 | M8: 10 | N8: 11 | O8: 12 | P8: 13 | Q8: 14 | R8: 15 | S8: 16 | T8: 17 | U8: 18 | V8: 19 | W8: 20 | X8: 21 | Y8: 22 | Z8: 23 | AA8: 24 | AB8: 25 | AC8: 26 | AD8: 27 | AE8: 28 | AF8: 29 | AG8: 30 | AH8: 31 | AI8: 32 | AJ8: 33 | AK8: 34 | AL8: 35 | AM8: 36 | AN8: 37 | AO8: 38
A9: 1 | B9: 1 | C9: ºñ¨³Ý ù³Õ³ùÇ Î»ÝïñáÝ ¨ Üáñù-Ø³ñ³ß í³ñã³Ï³Ý ßñç³ÝÝ»ñÇ ÁÝ¹Ñ³Ýáõñ Çñ³í³ëáõÃÛ³Ý ³é³çÇÝ ³ïÛ³ÝÇ ¹³ï³ñ³Ý | D9: 5 | E9: 3 | F9: 2 | G9: 35 | H9: 30 | L9: 5 | M9: 22 | N9: 3 | Q9: 1 | U9: 1 | Z9: 10 | AA9: 3 | AB9: 4 | AC9: 1 | AD9: 13 | AE9: 18 | AG9: 7 | AI9: 9 | AJ9: 12 | AK9: 21 | AL9: 2 | AM9: 3 | AN9: 5 | AO9: 7
A10: 0 | B10: 2 | C10: ºñ¨³Ý ù³Õ³ùÇ ²ñ³µÏÇñ ¨ ø³Ý³ù»é-¼»ÛÃáõÝ í³ñã³Ï³Ý ßñç³ÝÝ»ñÇ ÁÝ¹Ñ³Ýáõñ Çñ³í³ëáõÃÛ³Ý ¹³ï³ñ³Ý | D10: 4 | E10: 4 | G10: 18 | H10: 17 | L10: 1 | M10: 15 | N10: 3 | Z10: 11 | AA10: 1 | AB10: 3 | AD10: 12 | AE10: 15 | AG10: 4 | AI10: 4 | AJ10: 15 | AK10: 19 | AM10: 1 | AN10: 1 | AO10: 4
A11: 0 | B11: 3 | C11: ºñ¨³Ý ù³Õ³ùÇ Þ»Ý·³íÇÃ í³ñã³Ï³Ý ßñç³ÝÇ ÁÝ¹Ñ³Ýáõñ Çñ³í³ëáõÃÛ³Ý ³é³çÇÝ ³ïÛ³ÝÇ ¹³ï³ñ³Ý | D11: 1 | E11: 1 | G11: 12 | H11: 11 | L11: 1 | M11: 9 | N11: 1 | Z11: 4 | AA11: 1 | AB11: 1 | AD11: 5 | AE11: 6 | AG11: 4 | AI11: 3 | AJ11: 7 | AK11: 10 | AM11: 1 | AN11: 1 | AO11: 4
A12: 0 | B12: 4 | C12: ºñ¨³Ý ù³Õ³ùÇ ²ç³÷ÝÛ³Ï ¨ ¸³íÃ³ß»Ý í³ñã³Ï³Ý ßñç³ÝÝ»ñÇ ÁÝ¹Ñ³Ýáõñ Çñ³í³ëáõÃÛ³Ý ³é³çÇÝ ³ïÛ³ÝÇ ¹³ï³ñ³Ý | G12: 5 | H12: 5 | M12: 6 | N12: 2 | X12: 1 | Z12: 2 | AB12: 3 | AD12: 2 | AE12: 5 | AG12: 1 | AI12: 4 | AJ12: 2 | AK12: 6 | AL12: 1 | AN12: 1 | AO12: 2
A13: 0 | B13: 5 | C13: ºñ¨³Ý ù³Õ³ùÇ ²í³Ý ¨ Üáñ-Üáñù í³ñã³Ï³Ý ßñç³ÝÝ»ñÇ ÁÝ¹Ñ³Ýáõñ Çñ³í³ëáõÃÛ³Ý ³é³çÇÝ ³ïÛ³ÝÇ ¹³ï³ñ³Ý | D13: 1 | E13: 1 | G13: 3 | H13: 3 | M13: 2 | U13: 1 | AA13: 1 | AC13: 1 | AD13: 1 | AE13: 2 | AG13: 1 | AI13: 1 | AJ13: 2 | AK13: 3 | AL13: 1 | AM13: 1 | AN13: 2
A14: 0 | B14: 6 | C14: ºñ¨³Ý ù³Õ³ùÇ ¾ñ»µáõÝÇ-Üáõµ³ñ³ß»Ý í³ñã³Ï³Ý ßñç³ÝÝ»ñÇ ÁÝ¹Ñ³Ýáõñ Çñ³í³ëáõÃÛ³Ý ³é³çÇÝ ³ïÛ³ÝÇ ¹³ï³ñ³Ý | D14: 3 | E14: 3 | G14: 7 | H14: 7 | M14: 5 | X14: 1 | Z14: 6 | AB14: 1 | AD14: 6 | AE14: 7 | AG14: 1 | AI14: 1 | AJ14: 6 | AK14: 7 | AL14: 1 | AN14: 1 | AO14: 3
A15: 0 | B15: 7 | C15: ºñ¨³Ý ù³Õ³ùÇ Ø³É³ÃÇ³-ê»µ³ëïÇ³ í³ñã³Ï³Ý ßñç³ÝÇ ÁÝ¹Ñ³Ýáõñ Çñ³í³ëáõÃÛ³ÝÇ ³é³çÇÝ ³ïÛ³ÝÇ ¹³ï³ñ³Ý | D15: 2 | E15: 2 | G15: 8 | H15: 8 | M15: 6 | N15: 1 | Z15: 6 | AA15: 1 | AB15: 1 | AD15: 7 | AE15: 8 | AI15: 2 | AJ15: 5 | AK15: 7 | AM15: 1 | AN15: 1 | AO15: 4
A16: 0 | B16: 8 | C16: ÐÐ Èáéáõ Ù³ñ½Ç ÁÝ¹Ñ³Ýáõñ Çñ³í³ëáõÃÛ³Ý ³é³çÇÝ ³ïÛ³ÝÇ ¹³ï³ñ³Ý | D16: 3 | E16: 3 | G16: 7 | H16: 7 | M16: 5 | N16: 1 | X16: 1 | Z16: 3 | AA16: 1 | AB16: 2 | AD16: 4 | AE16: 6 | AG16: 2 | AI16: 2 | AJ16: 4 | AK16: 6 | AL16: 1 | AM16: 1 | AN16: 2 | AO16: 2
A17: 0 | B17: 9 | C17: ÐÐ ÞÇñ³ÏÇ Ù³ñ½Ç ÁÝ¹Ñ³Ýáõñ Çñ³í³ëáõÃÛ³Ý ³é³çÇÝ ³ïÛ³ÝÇ¹³ï³ñ³Ý | D17: 4 | E17: 4 | G17: 4 | H17: 4 | M17: 4 | N17: 2 | Z17: 4 | AA17: 1 | AB17: 2 | AD17: 5 | AE17: 7 | AG17: 1 | AI17: 2 | AJ17: 2 | AK17: 4 | AM17: 1 | AN17: 1 | AO17: 1
A18: 0 | B18: 10 | C18: ÐÐ ²ñÙ³íÇñÇ Ù³ñ½Ç ÁÝ¹Ñ³Ýáõñ Çñ³í³ëáõÃÛ³Ý ³é³çÇÝ ³ïÛ³ÝÇ ¹³ï³ñ³Ý | D18: 3 | E18: 3 | G18: 4 | H18: 4 | M18: 4 | N18: 3 | Q18: 1 | W18: 1 | AB18: 5 | AE18: 5 | AG18: 2 | AI18: 4 | AK18: 4 | AL18: 2 | AN18: 2 | AO18: 2
A19: 0 | B19: 11 | C19: ÐÐ Îáï³ÛùÇ Ù³ñ½Ç ÁÝ¹Ñ³Ýáõñ Çñ³í³ëáõÃÛ³Ý ³é³çÇÝ ³ïÛ³ÝÇ ¹³ï³ñ³Ý | D19: 2 | E19: 1 | F19: 1 | G19: 12 | H19: 11 | L19: 1 | M19: 10 | W19: 1 | X19: 2 | Z19: 2 | AA19: 3 | AB19: 3 | AD19: 5 | AE19: 8 | AG19: 3 | AI19: 2 | AJ19: 7 | AK19: 9 | AL19: 3 | AM19: 3 | AN19: 6 | AO19: 1
A20: 0 | B20: 12 | C20: ÐÐ ²ñ³ñ³ïÇ ¨ ì³Ûáó ÒáñÇ Ù³ñ½»ñÇ ÁÝ¹Ñ³Ýáõñ Çñ³í³ëáõÃÛ³Ý ³é³çÇÝ ³ïÛ³ÝÇ ¹³ï³ñ³Ý | D20: 4 | E20: 4 | G20: 10 | H20: 10 | M20: 6 | N20: 7 | Z20: 2 | AB20: 7 | AD20: 2 | AE20: 9 | AG20: 1 | AI20: 4 | AJ20: =SUM('Վ. Ռշտունի:Ա. Ազարյան'!AJ21) -> 22 | AK20: 7 | AO20: 4
A21: 0 | B21: 13 | C21: ÐÐ ¶»Õ³ñùáõÝÇùÇ Ù³ñ½Ç ÁÝ¹Ñ³Ýáõñ Çñ³í³ëáõÃÛ³Ý ³é³çÇÝ ³ïÛ³ÝÇ ¹³ï³ñ³Ý | D21: 2 | E21: 1 | F21: 1 | G21: 2 | H21: 2 | M21: 2 | N21: 1 | Q21: 1 | U21: 1 | AB21: 2 | AC21: 1 | AE21: 3 | AI21: 1 | AJ21: 1 | AK21: 2 | AL21: 2 | AN21: 2 | AO21: 1
A22: 0 | B22: 14 | C22: ÐÐ ²ñ³·³ÍáïÝÇ Ù³ñ½Ç ÁÝ¹Ñ³Ýáõñ Çñ³í³ëáõÃÛ³Ý ³é³çÇÝ ³ïÛ³ÝÇ ¹³ï³ñ³Ý | G22: 5 | H22: 5 | M22: 5 | N22: 3 | Z22: 2 | AB22: 3 | AD22: 2 | AE22: 5 | AI22: 3 | AJ22: 2 | AK22: 5 | AO22: 1
A23: 0 | B23: 15 | C23: ÐÐ êÛáõÝÇùÇ Ù³ñ½Ç ÁÝ¹Ñ³Ýáõñ Çñ³í³ëáõÃÛ³Ý ³é³çÇÝ ³ïÛ³ÝÇ ¹³ï³ñ³Ý | D23: 5 | E23: 4 | F23: 1 | G23: 7 | H23: 7 | M23: 7 | N23: 3 | X23: 1 | Z23: 2 | AA23: 2 | AB23: 4 | AD23: 4 | AE23: 8 | AG23: 3 | AI23: 4 | AJ23: 3 | AK23: 7 | AL23: 1 | AM23: 2 | AN23: 3 | AO23: 2
A24: 0 | B24: 16 | C24: ÐÐ î³íáõßÇ Ù³ñ½Ç ÁÝ¹Ñ³Ýáõñ Çñ³í³ëáõÃÛ³Ý ³é³çÇÝ ³ïÛ³ÝÇ ¹³ï³ñ³Ý | D24: 1 | E24: 1 | G24: 5 | H24: 5 | M24: 5 | N24: 2 | Z24: 1 | AB24: 2 | AD24: 1 | AE24: 3 | AG24: 3 | AH24: 1 | AI24: 4 | AJ24: 1 | AK24: 5 | AO24: 1
B25: 19 | C25: ÈáõÍ³ñí³Í ¹³ï³ñ³ÝÝ»ñ
A26: 0 | B26: 20 | C26: ÀÝ¹³Ù»ÝÁ | D26: =SUM(D9:D25) -> 40 | E26: =SUM(E9:E25) -> 35 | F26: =SUM(F9:F25) -> 5 | G26: =SUM(G9:G25) -> 144 | H26: =SUM(H9:H25) -> 136 | I26: =SUM(I9:I25) -> 0 | J26: =SUM(J9:J25) -> 0 | K26: =SUM(K9:K25) -> 0 | ... AO26: =SUM(AO9:AO25) -> 39
A27: 0
A28: 0
A29: 0
A30: 1
A31: 0

Sheet Ռ. Մխիթարյան
B1: 2017Ã. 1-ին կիսամյակ | D1: Ð²ÞìºîìàôÂÚàôÜ | AK1: Ð³í»Éí³Í Ð³Û³ëï³ÝÇ Ð³Ýñ³å»ïáõÃÛ³Ý ¸³ï³ñ³ÝÝ»ñÇ Ý³Ë³·³ÑÝ»ñÇ ËáñÑñ¹Ç 25.08.2017Ã. ÃÇí 35-È áñáßÙ³Ý
B2: ÐÐ ìºð²øÜÜÆâ øðº²Î²Ü ¸²î²ð²ÜԻ ¸²î²ìàð è. ØÊÆÂ²ðÚ²ÜÆÜ Ð²ÜÒÜì²Ì ´àÔàøÜºðÆ øÜÜàôÂÚ²Ü ìºð²´ºðÚ²È
B3: ÐÐ í»ñ³ùÝÝÇã ùñ»³Ï³Ý ¹³ï³ñ³ÝáõÙ ¹³ï³íáñÝ»ñÇ Ñ³ëïÇùÝ»ñÇ ÃÇíÁ` 16
D4: Ð³ßí»ïáõ Å³Ù³Ý³Ï³Ñ³ïí³ÍÇ ëÏ½µáõÙ Ý³Ëáñ¹ Ñ³ßí»ïáõ Å³Ù³Ý³Ï³Ñ³ïí³ÍÇó ÷áË³Ýóí³Í ·áñÍ»ñÇ ÁÝ¹Ñ³Ýáõñ ÃÇíÁ | G4: Ð³ßí»ïáõ Å³Ù³Ý³Ï³Ñ³ïí³ÍáõÙ ëï³óí³Í µáÕáùÝ»ñÇ ÁÝ¹Ñ³Ýáõñ ÃÇíÁ | M4: ´áÕáù³ñÏí³Í ³Ïï»ñÇ ù³Ý³ÏÁ, áñáÝó ¹»Ù µ»ñí³Í µáÕáùÝ»ñÝ Ñ³ßí»ïáõ Å³Ù³Ý³Ï³ßñç³ÝáõÙ ÁÝ¹áõÝí»É »Ý í³ñáõÛÃ | N4: Ð³ßí»ïáõ Å³Ù³Ý³Ï³ßñç³ÝáõÙ ùÝÝí³Í ·áñÍ»ñáí Ï³Û³óí³Í áñáßáõÙÝ»ñ | AB4: Ð³ßí»ïáõ Å³Ù³Ý³Ï³Ñ³ïí³ÍáõÙ ³í³ñïí³Í ·áñÍ»ñÇ ÁÝ¹Ñ³Ýáõñ ÃÇíÁ | AF4: Ð³ßí»ïáõ Å³Ù³Ý³Ï³Ñ³ïí³ÍáõÙ Ï³ë»óí³Í í³ñáõÛÃÝ»ñáí ·áñÍ»ñÇ ÁÝ¹Ñ³Ýáõñ ÃÇíÁ | AG4: Ð³ßí»ïáõ Å³Ù³Ý³Ï³Ñ³ïí³ÍáõÙ ³Ý³í³ñï ·áñÍ»ñÇ ÁÝ¹Ñ³Ýáõñ ÃÇíÁ | AH4: ²Û¹ ÃíáõÙ` Ï³ë»óí³Í | AI4: ´áÕáù³ñÏí³Í ¹³ï³Ï³Ý ³Ïï»ñÇ ÃÇíÁ` Áëï ï»ë³ÏÝ»ñÇ | AL4: ´»Ï³Ýí³Í ¹³ï³Ï³Ý ³Ïï»ñÇ ÃÇíÁ` Áëï ï»ë³ÏÝ»ñÇ | AO4: ´áÕáù³ñÏí»É »Ý í×é³µ»Ï ¹³ï³ñ³Ý
AI5: ²Û¹ ÃíáõÙ` ·áñÍÝ Áëï ¿áõÃÛ³Ý ÉáõÍáÕ ¹³ï³Ï³Ý ³Ïï»ñ | AJ5: ²Û¹ ÃíáõÙ` գործն ըստ էության չլուծող¹³ï³Ï³Ý ³Ïï»ñ | AK5: ÀÝ¹³Ù»ÝÁ | AL5: ²Û¹ ÃíáõÙ` ·áñÍÝ Áëï ¿áõÃÛ³Ý ÉáõÍáÕ ¹³ï³Ï³Ý ³Ïï»ñ | AM5: ²Û¹ ÃíáõÙ` գործն ըստ էության չլուծող¹³ï³Ï³Ý ³Ïï»ñ | AN5: ÀÝ¹³Ù»ÝÁ
D6: ÀÝ¹³Ù»ÝÁ | E6: Այդ թվում` վարույթ ընդունված µáÕáùÝ»ñáí փոխանցված | F6: Այդ թվում` չքննարկված µáÕáùÝ»ñáí փոխանցված | G6: ÀÝ¹³Ù»ÝÁ | H6: Այդ թվում` ընդունվել է վարույթ | I6: Այդ թվում` թողնվել է առանց քննության | J6: Այդ թվում` ÁÝ¹áõÝáõÙÁ մերժվել է | K6: Այդ թվում` í»ñ³ùÝÝÇã í³ñáõÛÃÁ Ï³ñ×í»É ¿ | L6: Այդ թվում` չի քննարկվել | N6: ¸³ï³Ï³Ý ³ÏïÁ ÃáÕÝí»É ¿ ûñÇÝ³Ï³Ý áõÅÇ Ù»ç | O6: ¸³ï³Ï³Ý ³ÏïÝ ³ÙµáÕçáõÃÛ³Ùµ µ»Ï³Ýí»É ¿ ¨ Ï³Û³óí»É ¿ ·áñÍÝ Áëï ¿áõÃÛ³Ý ÉáõÍáÕ ¹³ï³Ï³Ý ³Ïï | P6: ¸³ï³Ï³Ý ³ÏïÁ Ù³ëÝ³ÏÇáñ»Ý µ»Ï³Ýí»É ¿ ¨ µ»Ï³Ýí³Í Ù³ëáí Ï³Û³óí»É ¿ ·áñÍÝ Áëï ¿áõÃÛ³Ý ÉáõÍáÕ ¹³ï³Ï³Ý ³Ïï | Q6: ¸³ï³Ï³Ý ³ÏïÝ ³ÙµáÕçáõÃÛ³Ùµ µ»Ï³Ýí»É ¿ ¨ ·áñÍÝ áõÕ³ñÏí»É ¿ Ýáñ ùÝÝáõÃÛ³Ý | R6: ¹³ï³Ï³Ý ³ÏïÁ Ù³ëÝ³ÏÇáñ»Ý µ»Ï³Ýí»É ¿ ¨ ·áñÍÝ áõÕ³ñÏí»É ¿ Ýáñ ùÝÝáõÃÛ³Ý | S6: ø³Õ.Ñ³ÛóÇ Ù³ëáí ³ÙµáÕçáõÃÛ³Ùµ µ»Ï³Ýí»É ¿ ¹³ï³Ï³Ý ³ÏïÁ ¨ Ñ³ëï³ïí»É ¿ ÏáÕÙ»ñÇ Ñ³ßïáõÃÛ³Ý Ñ³Ù³Ó³ÛÝáõÃÛáõÝÁ | T6: ø³Õ.Ñ³ÛóÇ Ù³ëáí Ù³ëÝ³ÏÇáñ»Ý µ»Ï³Ýí»É ¿ ¹³ï³Ï³Ý ³ÏïÁ ¨ µ»Ï³Ýí³Í Ù³ëáí Ñ³ëï³ïí»É ¿ ÏáÕÙ»ñÇ Ñ³ßïáõÃÛ³Ý Ñ³Ù³Ó³ÛÝáõÃÛáõÝÁ | U6: ²ÙµáÕçáõÃÛ³Ùµ µ»Ï³Ýí»É ¿ ¹³ï³Ï³Ý ³ÏïÁ ¨ ·áñÍÇ í³ñáõÛÃÁ Ï³ñ×í»É ¿ | V6: Ø³ëÝ³ÏÇáñ»Ý µ»Ï³Ýí»É ¿ ¹³ï³Ï³Ý ³ÏïÁ ¨ ³Û¹ Ù³ëáí ·áñÍÇ í³ñáõÛÃÁ Ï³ñ×í»É ¿ | W6: ¸³ï³Ï³Ý ³ÏïÝ ³ÙµáÕçáõÃÛ³Ùµ µ»Ï³Ýí»É ¨ ÷á÷áËí»É ¿ | X6: ¸³ï³Ï³Ý ³ÏïÁ Ù³ëÝ³ÏÇáñ»Ý µ»Ï³Ýí»É ¿ ¨ ³Û¹ Ù³ëáí ÷á÷áËí»É | Y6: Դ³ï³Ï³Ý ³ÏïÁ µ»Ï³Ýí»É ¿ ¨ ù³Õ. Ñ³ÛóÁ ÃáÕÝí»É ¿ ³é³Ýó ùÝÝáõÃÛ³Ý | Z6: Գործն ըստ էության չլուծող դատական ակտը թողնվել է օրինական ուժի մեջ | AA6: Կայացվել է գործն ըստ էության չլուծող նոր դատական ակտ | AB6: ²Û¹ ÃíáõÙ` ·áñÍÝ Áëï ¿áõÃÛ³Ý ÉáõÍ»Éáõ ÑÇÙùáí ³í³ñïí³Í | AC6: ²Û¹ ÃíáõÙ` ·áñÍÇ í³ñáõÛÃÁ Ï³ñ×»Éáõ ÑÇÙùáí ³í³ñïí³Í | AD6: ²Û¹ ÃíáõÙ` ³ÛÉ ÑÇÙùáí ³í³ñïí³Í | AE6: ÀÝ¹³Ù»ÝÁ
C8: ¸²î²ð²ÜÜºð | D8: 1 | E8: 2 | F8: 3 | G8: 4 | H8: 5 | I8: 6 | J8: 7 | K8: 8 | L8: 9 | M8: 10 | N8: 11 | O8: 12 | P8: 13 | Q8: 14 | R8: 15 | S8: 16 | T8: 17 | U8: 18 | V8: 19 | W8: 20 | X8: 21 | Y8: 22 | Z8: 23 | AA8: 24 | AB8: 25 | AC8: 26 | AD8: 27 | AE8: 28 | AF8: 29 | AG8: 30 | AH8: 31 | AI8: 32 | AJ8: 33 | AK8: 34 | AL8: 35 | AM8: 36 | AN8: 37 | AO8: 38
A9: 1 | B9: 1 | C9: ºñ¨³Ý ù³Õ³ùÇ Î»ÝïñáÝ ¨ Üáñù-Ø³ñ³ß í³ñã³Ï³Ý ßñç³ÝÝ»ñÇ ÁÝ¹Ñ³Ýáõñ Çñ³í³ëáõÃÛ³Ý ³é³çÇÝ ³ïÛ³ÝÇ ¹³ï³ñ³Ý | D9: 8 | E9: 7 | F9: 1 | G9: 27 | H9: 27 | M9: 19 | N9: 8 | Q9: 1 | Z9: 3 | AA9: 2 | AB9: 9 | AD9: 5 | AE9: 14 | AG9: 12 | AI9: 12 | AJ9: 7 | AK9: 19 | AL9: 1 | AM9: 2 | AN9: 3 | AO9: 8
A10: 0 | B10: 2 | C10: ºñ¨³Ý ù³Õ³ùÇ ²ñ³µÏÇñ ¨ ø³Ý³ù»é-¼»ÛÃáõÝ í³ñã³Ï³Ý ßñç³ÝÝ»ñÇ ÁÝ¹Ñ³Ýáõñ Çñ³í³ëáõÃÛ³Ý ¹³ï³ñ³Ý | D10: 9 | E10: 7 | F10: 2 | G10: 18 | H10: 18 | M10: 18 | N10: 6 | U10: 1 | X10: 2 | Z10: 11 | AA10: 2 | AB10: 8 | AC10: 1 | AD10: 13 | AE10: 22 | AG10: 3 | AI10: 3 | AJ10: 15 | AK10: 18 | AL10: 3 | AM10: 2 | AN10: 5 | AO10: 12
A11: 0 | B11: 3 | C11: ºñ¨³Ý ù³Õ³ùÇ Þ»Ý·³íÇÃ í³ñã³Ï³Ý ßñç³ÝÇ ÁÝ¹Ñ³Ýáõñ Çñ³í³ëáõÃÛ³Ý ³é³çÇÝ ³ïÛ³ÝÇ ¹³ï³ñ³Ý | D11: 3 | E11: 3 | G11: 3 | H11: 3 | M11: 2 | N11: 3 | X11: 1 | AB11: 4 | AE11: 4 | AG11: 1 | AI11: 2 | AJ11: 1 | AK11: 3 | AL11: 1 | AN11: 1 | AO11: 3
A12: 0 | B12: 4 | C12: ºñ¨³Ý ù³Õ³ùÇ ²ç³÷ÝÛ³Ï ¨ ¸³íÃ³ß»Ý í³ñã³Ï³Ý ßñç³ÝÝ»ñÇ ÁÝ¹Ñ³Ýáõñ Çñ³í³ëáõÃÛ³Ý ³é³çÇÝ ³ïÛ³ÝÇ ¹³ï³ñ³Ý | D12: 4 | E12: 3 | F12: 1 | G12: 3 | H12: 3 | M12: 3 | N12: 2 | Y12: 1 | AA12: 1 | AB12: 3 | AD12: 1 | AE12: 4 | AG12: 2 | AI12: 1 | AJ12: 1 | AK12: 2 | AL12: 1 | AM12: 1 | AN12: 2 | AO12: 1
A13: 0 | B13: 5 | C13: ºñ¨³Ý ù³Õ³ùÇ ²í³Ý ¨ Üáñ-Üáñù í³ñã³Ï³Ý ßñç³ÝÝ»ñÇ ÁÝ¹Ñ³Ýáõñ Çñ³í³ëáõÃÛ³Ý ³é³çÇÝ ³ïÛ³ÝÇ ¹³ï³ñ³Ý | D13: 3 | E13: 2 | F13: 1 | G13: 4 | H13: 4 | M13: 3 | N13: 1 | X13: 1 | Z13: 2 | AB13: 2 | AD13: 2 | AE13: 4 | AG13: 1 | AI13: 1 | AJ13: 2 | AK13: 3 | AL13: 1 | AN13: 1 | AO13: 2
A14: 0 | B14: 6 | C14: ºñ¨³Ý ù³Õ³ùÇ ¾ñ»µáõÝÇ-Üáõµ³ñ³ß»Ý í³ñã³Ï³Ý ßñç³ÝÝ»ñÇ ÁÝ¹Ñ³Ýáõñ Çñ³í³ëáõÃÛ³Ý ³é³çÇÝ ³ïÛ³ÝÇ ¹³ï³ñ³Ý | D14: 1 | E14: 1 | G14: 8 | H14: 8 | M14: 6 | U14: 1 | Z14: 3 | AA14: 1 | AC14: 1 | AD14: 4 | AE14: 5 | AG14: 2 | AI14: 2 | AJ14: 4 | AK14: 6 | AL14: 1 | AM14: 1 | AN14: 2 | AO14: 2
A15: 0 | B15: 7 | C15: ºñ¨³Ý ù³Õ³ùÇ Ø³É³ÃÇ³-ê»µ³ëïÇ³ í³ñã³Ï³Ý ßñç³ÝÇ ÁÝ¹Ñ³Ýáõñ Çñ³í³ëáõÃÛ³ÝÇ ³é³çÇÝ ³ïÛ³ÝÇ ¹³ï³ñ³Ý | D15: 2 | E15: 1 | F15: 1 | G15: 4 | H15: 4 | M15: 6 | N15: 3 | X15: 1 | AB15: 4 | AE15: 4 | AG15: 3 | AI15: 4 | AK15: 4 | AL15: 1 | AN15: 1
A16: 0 | B16: 8 | C16: ÐÐ Èáéáõ Ù³ñ½Ç ÁÝ¹Ñ³Ýáõñ Çñ³í³ëáõÃÛ³Ý ³é³çÇÝ ³ïÛ³ÝÇ ¹³ï³ñ³Ý | D16: 1 | E16: 1 | G16: 4 | H16: 4 | M16: 3 | N16: 2 | Z16: 2 | AB16: 2 | AD16: 2 | AE16: 4 | AI16: 1 | AJ16: 2 | AK16: 3 | AO16: 5
A17: 0 | B17: 9 | C17: ÐÐ ÞÇñ³ÏÇ Ù³ñ½Ç ÁÝ¹Ñ³Ýáõñ Çñ³í³ëáõÃÛ³Ý ³é³çÇÝ ³ïÛ³ÝÇ¹³ï³ñ³Ý | D17: 1 | E17: 1 | G17: 8 | H17: 8 | M17: 8 | N17: 1 | Z17: 3 | AA17: 1 | AB17: 1 | AD17: 4 | AE17: 5 | AG17: 4 | AI17: 3 | AJ17: 4 | AK17: 7 | AM17: 1 | AN17: 1
A18: 0 | B18: 10 | C18: ÐÐ ²ñÙ³íÇñÇ Ù³ñ½Ç ÁÝ¹Ñ³Ýáõñ Çñ³í³ëáõÃÛ³Ý ³é³çÇÝ ³ïÛ³ÝÇ ¹³ï³ñ³Ý | D18: 4 | E18: 4 | G18: 5 | H18: 5 | M18: 5 | N18: 2 | X18: 3 | Z18: 2 | AB18: 5 | AD18: 2 | AE18: 7 | AG18: 2 | AI18: 3 | AJ18: 4 | AK18: 7 | AL18: 3 | AN18: 3 | AO18: 3
A19: 0 | B19: 11 | C19: ÐÐ Îáï³ÛùÇ Ù³ñ½Ç ÁÝ¹Ñ³Ýáõñ Çñ³í³ëáõÃÛ³Ý ³é³çÇÝ ³ïÛ³ÝÇ ¹³ï³ñ³Ý | D19: 4 | E19: 4 | G19: 6 | H19: 6 | M19: 5 | N19: 3 | Q19: 1 | W19: 1 | Z19: 2 | AB19: 5 | AD19: 2 | AE19: 7 | AG19: 2 | AI19: 4 | AJ19: 1 | AK19: 5 | AL19: 2 | AN19: 2 | AO19: 3
A20: 0 | B20: 12 | C20: ÐÐ ²ñ³ñ³ïÇ ¨ ì³Ûáó ÒáñÇ Ù³ñ½»ñÇ ÁÝ¹Ñ³Ýáõñ Çñ³í³ëáõÃÛ³Ý ³é³çÇÝ ³ïÛ³ÝÇ ¹³ï³ñ³Ý | D20: 2 | E20: 2 | G20: 12 | H20: 12 | M20: 8 | N20: 3 | X20: 1 | AA20: 1 | AB20: 4 | AD20: 1 | AE20: 5 | AG20: 5 | AI20: 7 | AJ20: 3 | AK20: 10 | AL20: 1 | AM20: 1 | AN20: 2 | AO20: 1
A21: 0 | B21: 13 | C21: ÐÐ ¶»Õ³ñùáõÝÇùÇ Ù³ñ½Ç ÁÝ¹Ñ³Ýáõñ Çñ³í³ëáõÃÛ³Ý ³é³çÇÝ ³ïÛ³ÝÇ ¹³ï³ñ³Ý | D21: 2 | E21: 2 | G21: 2 | H21: 2 | W21: 1 | Z21: 1 | AB21: 1 | AD21: 1 | AE21: 2 | AI21: 1 | AK21: 1 | AL21: 1 | AN21: 1 | AO21: 1
A22: 0 | B22: 14 | C22: ÐÐ ²ñ³·³ÍáïÝÇ Ù³ñ½Ç ÁÝ¹Ñ³Ýáõñ Çñ³í³ëáõÃÛ³Ý ³é³çÇÝ ³ïÛ³ÝÇ ¹³ï³ñ³Ý | D22: 1 | E22: 1 | M22: 1 | N22: 1 | AA22: 1 | AB22: 1 | AD22: 1 | AE22: 2 | AI22: 1 | AK22: 1 | AM22: 1 | AN22: 1
A23: 0 | B23: 15 | C23: ÐÐ êÛáõÝÇùÇ Ù³ñ½Ç ÁÝ¹Ñ³Ýáõñ Çñ³í³ëáõÃÛ³Ý ³é³çÇÝ ³ïÛ³ÝÇ ¹³ï³ñ³Ý | D23: 1 | E23: 1 | G23: 7 | H23: 6 | L23: 1 | M23: 6 | N23: 1 | Q23: 1 | Z23: 5 | AB23: 2 | AD23: 5 | AE23: 7 | AI23: 2 | AJ23: 5 | AK23: 7 | AL23: 1 | AN23: 1 | AO23: 1
A24: 0 | B24: 16 | C24: ÐÐ î³íáõßÇ Ù³ñ½Ç ÁÝ¹Ñ³Ýáõñ Çñ³í³ëáõÃÛ³Ý ³é³çÇÝ ³ïÛ³ÝÇ ¹³ï³ñ³Ý | D24: 2 | E24: 2 | M24: 1 | X24: 2 | Z24: 1 | AB24: 2 | AD24: 1 | AE24: 3 | AJ24: 1 | AK24: 1 | AL24: 2 | AN24: 2 | AO24: 1
B25: 19 | C25: ÈáõÍ³ñí³Í ¹³ï³ñ³ÝÝ»ñ
A26: 0 | B26: 20 | C26: ÀÝ¹³Ù»ÝÁ | D26: =SUM(D9:D25) -> 48 | E26: =SUM(E9:E25) -> 42 | F26: =SUM(F9:F25) -> 6 | G26: =SUM(G9:G25) -> 111 | H26: =SUM(H9:H25) -> 110 | I26: =SUM(I9:I25) -> 0 | J26: =SUM(J9:J25) -> 0 | K26: =SUM(K9:K25) -> 0 | ... AO26: =SUM(AO9:AO25) -> 43
A27: 0
A28: 0
A29: 0
A30: 1
A31: 0

Sheet Ռ. Բարսեղյան
B1: 2017Ã. 1-ին կիսամյակ | D1: Ð²ÞìºîìàôÂÚàôÜ | AK1: Ð³í»Éí³Í Ð³Û³ëï³ÝÇ Ð³Ýñ³å»ïáõÃÛ³Ý ¸³ï³ñ³ÝÝ»ñÇ Ý³Ë³·³ÑÝ»ñÇ ËáñÑñ¹Ç 25.08.2017Ã. ÃÇí 35-È áñáßÙ³Ý
B2: ÐÐ ìºð²øÜÜÆâ øðº²Î²Ü ¸²î²ð²ÜԻ ¸²î²ìàð è. ´²ðêºÔÚ²ÜÆÜ Ð²ÜÒÜì²Ì ´àÔàøÜºðÆ øÜÜàôÂÚ²Ü ìºð²´ºðÚ²È
B3: ÐÐ í»ñ³ùÝÝÇã ùñ»³Ï³Ý ¹³ï³ñ³ÝáõÙ ¹³ï³íáñÝ»ñÇ Ñ³ëïÇùÝ»ñÇ ÃÇíÁ` 16
D4: Ð³ßí»ïáõ Å³Ù³Ý³Ï³Ñ³ïí³ÍÇ ëÏ½µáõÙ Ý³Ëáñ¹ Ñ³ßí»ïáõ Å³Ù³Ý³Ï³Ñ³ïí³ÍÇó ÷áË³Ýóí³Í ·áñÍ»ñÇ ÁÝ¹Ñ³Ýáõñ ÃÇíÁ | G4: Ð³ßí»ïáõ Å³Ù³Ý³Ï³Ñ³ïí³ÍáõÙ ëï³óí³Í µáÕáùÝ»ñÇ ÁÝ¹Ñ³Ýáõñ ÃÇíÁ | M4: ´áÕáù³ñÏí³Í ³Ïï»ñÇ ù³Ý³ÏÁ, áñáÝó ¹»Ù µ»ñí³Í µáÕáùÝ»ñÝ Ñ³ßí»ïáõ Å³Ù³Ý³Ï³ßñç³ÝáõÙ ÁÝ¹áõÝí»É »Ý í³ñáõÛÃ | N4: Ð³ßí»ïáõ Å³Ù³Ý³Ï³ßñç³ÝáõÙ ùÝÝí³Í ·áñÍ»ñáí Ï³Û³óí³Í áñáßáõÙÝ»ñ | AB4: Ð³ßí»ïáõ Å³Ù³Ý³Ï³Ñ³ïí³ÍáõÙ ³í³ñïí³Í ·áñÍ»ñÇ ÁÝ¹Ñ³Ýáõñ ÃÇíÁ | AF4: Ð³ßí»ïáõ Å³Ù³Ý³Ï³Ñ³ïí³ÍáõÙ Ï³ë»óí³Í í³ñáõÛÃÝ»ñáí ·áñÍ»ñÇ ÁÝ¹Ñ³Ýáõñ ÃÇíÁ | AG4: Ð³ßí»ïáõ Å³Ù³Ý³Ï³Ñ³ïí³ÍáõÙ ³Ý³í³ñï ·áñÍ»ñÇ ÁÝ¹Ñ³Ýáõñ ÃÇíÁ | AH4: ²Û¹ ÃíáõÙ` Ï³ë»óí³Í | AI4: ´áÕáù³ñÏí³Í ¹³ï³Ï³Ý ³Ïï»ñÇ ÃÇíÁ` Áëï ï»ë³ÏÝ»ñÇ | AL4: ´»Ï³Ýí³Í ¹³ï³Ï³Ý ³Ïï»ñÇ ÃÇíÁ` Áëï ï»ë³ÏÝ»ñÇ | AO4: ´áÕáù³ñÏí»É »Ý í×é³µ»Ï ¹³ï³ñ³Ý
AI5: ²Û¹ ÃíáõÙ` ·áñÍÝ Áëï ¿áõÃÛ³Ý ÉáõÍáÕ ¹³ï³Ï³Ý ³Ïï»ñ | AJ5: ²Û¹ ÃíáõÙ` գործն ըստ էության չլուծող¹³ï³Ï³Ý ³Ïï»ñ | AK5: ÀÝ¹³Ù»ÝÁ | AL5: ²Û¹ ÃíáõÙ` ·áñÍÝ Áëï ¿áõÃÛ³Ý ÉáõÍáÕ ¹³ï³Ï³Ý ³Ïï»ñ | AM5: ²Û¹ ÃíáõÙ` գործն ըստ էության չլուծող¹³ï³Ï³Ý ³Ïï»ñ | AN5: ÀÝ¹³Ù»ÝÁ
D6: ÀÝ¹³Ù»ÝÁ | E6: Այդ թվում` վարույթ ընդունված µáÕáùÝ»ñáí փոխանցված | F6: Այդ թվում` չքննարկված µáÕáùÝ»ñáí փոխանցված | G6: ÀÝ¹³Ù»ÝÁ | H6: Այդ թվում` ընդունվել է վարույթ | I6: Այդ թվում` թողնվել է առանց քննության | J6: Այդ թվում` ÁÝ¹áõÝáõÙÁ մերժվել է | K6: Այդ թվում` í»ñ³ùÝÝÇã í³ñáõÛÃÁ Ï³ñ×í»É ¿ | L6: Այդ թվում` չի քննարկվել | N6: ¸³ï³Ï³Ý ³ÏïÁ ÃáÕÝí»É ¿ ûñÇÝ³Ï³Ý áõÅÇ Ù»ç | O6: ¸³ï³Ï³Ý ³ÏïÝ ³ÙµáÕçáõÃÛ³Ùµ µ»Ï³Ýí»É ¿ ¨ Ï³Û³óí»É ¿ ·áñÍÝ Áëï ¿áõÃÛ³Ý ÉáõÍáÕ ¹³ï³Ï³Ý ³Ïï | P6: ¸³ï³Ï³Ý ³ÏïÁ Ù³ëÝ³ÏÇáñ»Ý µ»Ï³Ýí»É ¿ ¨ µ»Ï³Ýí³Í Ù³ëáí Ï³Û³óí»É ¿ ·áñÍÝ Áëï ¿áõÃÛ³Ý ÉáõÍáÕ ¹³ï³Ï³Ý ³Ïï | Q6: ¸³ï³Ï³Ý ³ÏïÝ ³ÙµáÕçáõÃÛ³Ùµ µ»Ï³Ýí»É ¿ ¨ ·áñÍÝ áõÕ³ñÏí»É ¿ Ýáñ ùÝÝáõÃÛ³Ý | R6: ¹³ï³Ï³Ý ³ÏïÁ Ù³ëÝ³ÏÇáñ»Ý µ»Ï³Ýí»É ¿ ¨ ·áñÍÝ áõÕ³ñÏí»É ¿ Ýáñ ùÝÝáõÃÛ³Ý | S6: ø³Õ.Ñ³ÛóÇ Ù³ëáí ³ÙµáÕçáõÃÛ³Ùµ µ»Ï³Ýí»É ¿ ¹³ï³Ï³Ý ³ÏïÁ ¨ Ñ³ëï³ïí»É ¿ ÏáÕÙ»ñÇ Ñ³ßïáõÃÛ³Ý Ñ³Ù³Ó³ÛÝáõÃÛáõÝÁ | T6: ø³Õ.Ñ³ÛóÇ Ù³ëáí Ù³ëÝ³ÏÇáñ»Ý µ»Ï³Ýí»É ¿ ¹³ï³Ï³Ý ³ÏïÁ ¨ µ»Ï³Ýí³Í Ù³ëáí Ñ³ëï³ïí»É ¿ ÏáÕÙ»ñÇ Ñ³ßïáõÃÛ³Ý Ñ³Ù³Ó³ÛÝáõÃÛáõÝÁ | U6: ²ÙµáÕçáõÃÛ³Ùµ µ»Ï³Ýí»É ¿ ¹³ï³Ï³Ý ³ÏïÁ ¨ ·áñÍÇ í³ñáõÛÃÁ Ï³ñ×í»É ¿ | V6: Ø³ëÝ³ÏÇáñ»Ý µ»Ï³Ýí»É ¿ ¹³ï³Ï³Ý ³ÏïÁ ¨ ³Û¹ Ù³ëáí ·áñÍÇ í³ñáõÛÃÁ Ï³ñ×í»É ¿ | W6: ¸³ï³Ï³Ý ³ÏïÝ ³ÙµáÕçáõÃÛ³Ùµ µ»Ï³Ýí»É ¨ ÷á÷áËí»É ¿ | X6: ¸³ï³Ï³Ý ³ÏïÁ Ù³ëÝ³ÏÇáñ»Ý µ»Ï³Ýí»É ¿ ¨ ³Û¹ Ù³ëáí ÷á÷áËí»É | Y6: Դ³ï³Ï³Ý ³ÏïÁ µ»Ï³Ýí»É ¿ ¨ ù³Õ. Ñ³ÛóÁ ÃáÕÝí»É ¿ ³é³Ýó ùÝÝáõÃÛ³Ý | Z6: Գործն ըստ էության չլուծող դատական ակտը թողնվել է օրինական ուժի մեջ | AA6: Կայացվել է գործն ըստ էության չլուծող նոր դատական ակտ | AB6: ²Û¹ ÃíáõÙ` ·áñÍÝ Áëï ¿áõÃÛ³Ý ÉáõÍ»Éáõ ÑÇÙùáí ³í³ñïí³Í | AC6: ²Û¹ ÃíáõÙ` ·áñÍÇ í³ñáõÛÃÁ Ï³ñ×»Éáõ ÑÇÙùáí ³í³ñïí³Í | AD6: ²Û¹ ÃíáõÙ` ³ÛÉ ÑÇÙùáí ³í³ñïí³Í | AE6: ÀÝ¹³Ù»ÝÁ
C8: ¸²î²ð²ÜÜºð | D8: 1 | E8: 2 | F8: 3 | G8: 4 | H8: 5 | I8: 6 | J8: 7 | K8: 8 | L8: 9 | M8: 10 | N8: 11 | O8: 12 | P8: 13 | Q8: 14 | R8: 15 | S8: 16 | T8: 17 | U8: 18 | V8: 19 | W8: 20 | X8: 21 | Y8: 22 | Z8: 23 | AA8: 24 | AB8: 25 | AC8: 26 | AD8: 27 | AE8: 28 | AF8: 29 | AG8: 30 | AH8: 31 | AI8: 32 | AJ8: 33 | AK8: 34 | AL8: 35 | AM8: 36 | AN8: 37 | AO8: 38
A9: 1 | B9: 1 | C9: ºñ¨³Ý ù³Õ³ùÇ Î»ÝïñáÝ ¨ Üáñù-Ø³ñ³ß í³ñã³Ï³Ý ßñç³ÝÝ»ñÇ ÁÝ¹Ñ³Ýáõñ Çñ³í³ëáõÃÛ³Ý ³é³çÇÝ ³ïÛ³ÝÇ ¹³ï³ñ³Ý | D9: 1 | E9: 1 | G9: 20 | H9: 20 | M9: 18 | N9: 1 | Z9: 10 | AB9: 1 | AD9: 10 | AE9: 11 | AG9: 8 | AI9: 2 | AJ9: 15 | AK9: 17 | AO9: 7
A10: 0 | B10: 2 | C10: ºñ¨³Ý ù³Õ³ùÇ ²ñ³µÏÇñ ¨ ø³Ý³ù»é-¼»ÛÃáõÝ í³ñã³Ï³Ý ßñç³ÝÝ»ñÇ ÁÝ¹Ñ³Ýáõñ Çñ³í³ëáõÃÛ³Ý ¹³ï³ñ³Ý | D10: 1 | E10: 1 | G10: 17 | H10: 15 | L10: 2 | M10: 18 | N10: 1 | Z10: 14 | AB10: 1 | AD10: 14 | AE10: 15 | AG10: 4 | AI10: 4 | AJ10: 16 | AK10: 20 | AO10: 10
A11: 0 | B11: 3 | C11: ºñ¨³Ý ù³Õ³ùÇ Þ»Ý·³íÇÃ í³ñã³Ï³Ý ßñç³ÝÇ ÁÝ¹Ñ³Ýáõñ Çñ³í³ëáõÃÛ³Ý ³é³çÇÝ ³ïÛ³ÝÇ ¹³ï³ñ³Ý | D11: 2 | E11: 2 | G11: 3 | H11: 3 | M11: 1 | N11: 2 | AB11: 2 | AE11: 2 | AG11: 1 | AI11: 1 | AK11: 1 | AO11: 3
A12: 0 | B12: 4 | C12: ºñ¨³Ý ù³Õ³ùÇ ²ç³÷ÝÛ³Ï ¨ ¸³íÃ³ß»Ý í³ñã³Ï³Ý ßñç³ÝÝ»ñÇ ÁÝ¹Ñ³Ýáõñ Çñ³í³ëáõÃÛ³Ý ³é³çÇÝ ³ïÛ³ÝÇ ¹³ï³ñ³Ý | D12: 4 | E12: 4 | G12: 9 | H12: 9 | M12: 8 | N12: 2 | Z12: 7 | AA12: 1 | AB12: 2 | AD12: 8 | AE12: 10 | AG12: 2 | AI12: 1 | AJ12: 6 | AK12: 7 | AM12: 1 | AN12: 1 | AO12: 3
A13: 0 | B13: 5 | C13: ºñ¨³Ý ù³Õ³ùÇ ²í³Ý ¨ Üáñ-Üáñù í³ñã³Ï³Ý ßñç³ÝÝ»ñÇ ÁÝ¹Ñ³Ýáõñ Çñ³í³ëáõÃÛ³Ý ³é³çÇÝ ³ïÛ³ÝÇ ¹³ï³ñ³Ý | G13: 5 | H13: 5 | M13: 6 | N13: 1 | Z13: 4 | AB13: 1 | AD13: 4 | AE13: 5 | AG13: 1 | AI13: 1 | AJ13: 5 | AK13: 6 | AO13: 1
A14: 0 | B14: 6 | C14: ºñ¨³Ý ù³Õ³ùÇ ¾ñ»µáõÝÇ-Üáõµ³ñ³ß»Ý í³ñã³Ï³Ý ßñç³ÝÝ»ñÇ ÁÝ¹Ñ³Ýáõñ Çñ³í³ëáõÃÛ³Ý ³é³çÇÝ ³ïÛ³ÝÇ ¹³ï³ñ³Ý | D14: 3 | E14: 3 | G14: 7 | H14: 7 | M14: 6 | X14: 1 | Z14: 5 | AA14: 2 | AB14: 1 | AD14: 7 | AE14: 8 | AG14: 1 | AJ14: 7 | AK14: 7 | AL14: 1 | AM14: 2 | AN14: 3
A15: 0 | B15: 7 | C15: ºñ¨³Ý ù³Õ³ùÇ Ø³É³ÃÇ³-ê»µ³ëïÇ³ í³ñã³Ï³Ý ßñç³ÝÇ ÁÝ¹Ñ³Ýáõñ Çñ³í³ëáõÃÛ³ÝÇ ³é³çÇÝ ³ïÛ³ÝÇ ¹³ï³ñ³Ý | D15: 1 | F15: 1 | G15: 4 | H15: 4 | M15: 4 | X15: 1 | Z15: 1 | AB15: 1 | AD15: 1 | AE15: 2 | AG15: 2 | AI15: 1 | AJ15: 3 | AK15: 4 | AL15: 1 | AN15: 1
A16: 0 | B16: 8 | C16: ÐÐ Èáéáõ Ù³ñ½Ç ÁÝ¹Ñ³Ýáõñ Çñ³í³ëáõÃÛ³Ý ³é³çÇÝ ³ïÛ³ÝÇ ¹³ï³ñ³Ý | G16: 4 | H16: 4 | M16: 4 | X16: 1 | Z16: 3 | AB16: 1 | AD16: 3 | AE16: 4 | AI16: 1 | AJ16: 3 | AK16: 4 | AL16: 1 | AN16: 1 | AO16: 1
A17: 0 | B17: 9 | C17: ÐÐ ÞÇñ³ÏÇ Ù³ñ½Ç ÁÝ¹Ñ³Ýáõñ Çñ³í³ëáõÃÛ³Ý ³é³çÇÝ ³ïÛ³ÝÇ¹³ï³ñ³Ý | D17: 1 | E17: 1 | G17: 4 | H17: 4 | M17: 5 | N17: 1 | Z17: 4 | AB17: 1 | AD17: 4 | AE17: 5 | AG17: 1 | AI17: 2 | AJ17: 3 | AK17: 5 | AO17: 2
A18: 0 | B18: 10 | C18: ÐÐ ²ñÙ³íÇñÇ Ù³ñ½Ç ÁÝ¹Ñ³Ýáõñ Çñ³í³ëáõÃÛ³Ý ³é³çÇÝ ³ïÛ³ÝÇ ¹³ï³ñ³Ý | D18: 3 | E18: 3 | G18: 6 | H18: 6 | M18: 8 | N18: 2 | W18: 1 | X18: 2 | Z18: 2 | AA18: 1 | AB18: 5 | AD18: 3 | AE18: 8 | AG18: 3 | AI18: 4 | AJ18: 4 | AK18: 8 | AL18: 3 | AM18: 1 | AN18: 4 | AO18: 2
A19: 0 | B19: 11 | C19: ÐÐ Îáï³ÛùÇ Ù³ñ½Ç ÁÝ¹Ñ³Ýáõñ Çñ³í³ëáõÃÛ³Ý ³é³çÇÝ ³ïÛ³ÝÇ ¹³ï³ñ³Ý | E19: 1 | G19: 5 | H19: 5 | M19: 5 | N19: 1 | X19: 1 | Z19: 3 | AB19: 2 | AD19: 3 | AE19: 5 | AI19: 2 | AJ19: 3 | AK19: 5 | AL19: 1 | AN19: 1 | AO19: 1
A20: 0 | B20: 12 | C20: ÐÐ ²ñ³ñ³ïÇ ¨ ì³Ûáó ÒáñÇ Ù³ñ½»ñÇ ÁÝ¹Ñ³Ýáõñ Çñ³í³ëáõÃÛ³Ý ³é³çÇÝ ³ïÛ³ÝÇ ¹³ï³ñ³Ý | D20: 1 | E20: 1 | G20: 2 | H20: 2 | M20: 3 | N20: 1 | X20: 1 | Z20: 2 | AB20: 2 | AD20: 2 | AE20: 4 | AI20: 1 | AJ20: =SUM('Վ. Ռշտունի:Ա. Ազարյան'!AJ21) -> 22 | AK20: 3 | AL20: 1 | AN20: 1 | AO20: 3
A21: 0 | B21: 13 | C21: ÐÐ ¶»Õ³ñùáõÝÇùÇ Ù³ñ½Ç ÁÝ¹Ñ³Ýáõñ Çñ³í³ëáõÃÛ³Ý ³é³çÇÝ ³ïÛ³ÝÇ ¹³ï³ñ³Ý | D21: 1 | G21: 4 | H21: 4 | M21: 3 | N21: 1 | X21: 1 | AB21: 2 | AE21: 2 | AG21: 2 | AI21: 3 | AK21: 3 | AL21: 1 | AN21: 1 | AO21: 2
A22: 0 | B22: 14 | C22: ÐÐ ²ñ³·³ÍáïÝÇ Ù³ñ½Ç ÁÝ¹Ñ³Ýáõñ Çñ³í³ëáõÃÛ³Ý ³é³çÇÝ ³ïÛ³ÝÇ ¹³ï³ñ³Ý | D22: 1 | E22: 2 | F22: 1 | G22: 3 | H22: 3 | M22: 4 | Z22: 1 | AA22: 1 | AD22: 2 | AE22: 2 | AG22: 2 | AJ22: 3 | AK22: 3 | AM22: 1 | AN22: 1 | AO22: 1
A23: 0 | B23: 15 | C23: ÐÐ êÛáõÝÇùÇ Ù³ñ½Ç ÁÝ¹Ñ³Ýáõñ Çñ³í³ëáõÃÛ³Ý ³é³çÇÝ ³ïÛ³ÝÇ ¹³ï³ñ³Ý | D23: 2 | G23: 12 | H23: 12 | M23: 8 | N23: 5 | Z23: 3 | AB23: 5 | AD23: 3 | AE23: 8 | AG23: 2 | AI23: 5 | AJ23: 3 | AK23: 8
A24: 0 | B24: 16 | C24: ÐÐ î³íáõßÇ Ù³ñ½Ç ÁÝ¹Ñ³Ýáõñ Çñ³í³ëáõÃÛ³Ý ³é³çÇÝ ³ïÛ³ÝÇ ¹³ï³ñ³Ý | G24: 1 | H24: 1 | M24: 1 | AG24: 1 | AI24: 1 | AK24: 1
B25: 19 | C25: ÈáõÍ³ñí³Í ¹³ï³ñ³ÝÝ»ñ
A26: 0 | B26: 20 | C26: ÀÝ¹³Ù»ÝÁ | D26: =SUM(D9:D25) -> 21 | E26: =SUM(E9:E25) -> 19 | F26: =SUM(F9:F25) -> 2 | G26: =SUM(G9:G25) -> 106 | H26: =SUM(H9:H25) -> 104 | I26: =SUM(I9:I25) -> 0 | J26: =SUM(J9:J25) -> 0 | K26: =SUM(K9:K25) -> 0 | ... AO26: =SUM(AO9:AO25) -> 36
A27: 0
A28: 0
A29: 0
A30: 1
A31: 0

Sheet Ն. Հովակիմյան
B1: 2017Ã. 1-ին կիսամյակ | D1: Ð²ÞìºîìàôÂÚàôÜ | AK1: Ð³í»Éí³Í Ð³Û³ëï³ÝÇ Ð³Ýñ³å»ïáõÃÛ³Ý ¸³ï³ñ³ÝÝ»ñÇ Ý³Ë³·³ÑÝ»ñÇ ËáñÑñ¹Ç 25.08.2017Ã. ÃÇí 35-È áñáßÙ³Ý
B2: ÐÐ ìºð²øÜÜÆâ øðº²Î²Ü ¸²î²ð²ÜԻ ¸²î²ìàð Ü. Ðàì²ÎÆØÚ²ÜÆÜ Ð²ÜÒÜì²Ì ´àÔàøÜºðÆ øÜÜàôÂÚ²Ü ìºð²´ºðÚ²È
B3: ÐÐ í»ñ³ùÝÝÇã ùñ»³Ï³Ý ¹³ï³ñ³ÝáõÙ ¹³ï³íáñÝ»ñÇ Ñ³ëïÇùÝ»ñÇ ÃÇíÁ` 16
D4: Ð³ßí»ïáõ Å³Ù³Ý³Ï³Ñ³ïí³ÍÇ ëÏ½µáõÙ Ý³Ëáñ¹ Ñ³ßí»ïáõ Å³Ù³Ý³Ï³Ñ³ïí³ÍÇó ÷áË³Ýóí³Í ·áñÍ»ñÇ ÁÝ¹Ñ³Ýáõñ ÃÇíÁ | G4: Ð³ßí»ïáõ Å³Ù³Ý³Ï³Ñ³ïí³ÍáõÙ ëï³óí³Í µáÕáùÝ»ñÇ ÁÝ¹Ñ³Ýáõñ ÃÇíÁ | M4: ´áÕáù³ñÏí³Í ³Ïï»ñÇ ù³Ý³ÏÁ, áñáÝó ¹»Ù µ»ñí³Í µáÕáùÝ»ñÝ Ñ³ßí»ïáõ Å³Ù³Ý³Ï³ßñç³ÝáõÙ ÁÝ¹áõÝí»É »Ý í³ñáõÛÃ | N4: Ð³ßí»ïáõ Å³Ù³Ý³Ï³ßñç³ÝáõÙ ùÝÝí³Í ·áñÍ»ñáí Ï³Û³óí³Í áñáßáõÙÝ»ñ | AB4: Ð³ßí»ïáõ Å³Ù³Ý³Ï³Ñ³ïí³ÍáõÙ ³í³ñïí³Í ·áñÍ»ñÇ ÁÝ¹Ñ³Ýáõñ ÃÇíÁ | AF4: Ð³ßí»ïáõ Å³Ù³Ý³Ï³Ñ³ïí³ÍáõÙ Ï³ë»óí³Í í³ñáõÛÃÝ»ñáí ·áñÍ»ñÇ ÁÝ¹Ñ³Ýáõñ ÃÇíÁ | AG4: Ð³ßí»ïáõ Å³Ù³Ý³Ï³Ñ³ïí³ÍáõÙ ³Ý³í³ñï ·áñÍ»ñÇ ÁÝ¹Ñ³Ýáõñ ÃÇíÁ | AH4: ²Û¹ ÃíáõÙ` Ï³ë»óí³Í | AI4: ´áÕáù³ñÏí³Í ¹³ï³Ï³Ý ³Ïï»ñÇ ÃÇíÁ` Áëï ï»ë³ÏÝ»ñÇ | AL4: ´»Ï³Ýí³Í ¹³ï³Ï³Ý ³Ïï»ñÇ ÃÇíÁ` Áëï ï»ë³ÏÝ»ñÇ | AO4: ´áÕáù³ñÏí»É »Ý í×é³µ»Ï ¹³ï³ñ³Ý
AI5: ²Û¹ ÃíáõÙ` ·áñÍÝ Áëï ¿áõÃÛ³Ý ÉáõÍáÕ ¹³ï³Ï³Ý ³Ïï»ñ | AJ5: ²Û¹ ÃíáõÙ` գործն ըստ էության չլուծող¹³ï³Ï³Ý ³Ïï»ñ | AK5: ÀÝ¹³Ù»ÝÁ | AL5: ²Û¹ ÃíáõÙ` ·áñÍÝ Áëï ¿áõÃÛ³Ý ÉáõÍáÕ ¹³ï³Ï³Ý ³Ïï»ñ | AM5: ²Û¹ ÃíáõÙ` գործն ըստ էության չլուծող¹³ï³Ï³Ý ³Ïï»ñ | AN5: ÀÝ¹³Ù»ÝÁ
D6: ÀÝ¹³Ù»ÝÁ | E6: Այդ թվում` վարույթ ընդունված µáÕáùÝ»ñáí փոխանցված | F6: Այդ թվում` չքննարկված µáÕáùÝ»ñáí փոխանցված | G6: ÀÝ¹³Ù»ÝÁ | H6: Այդ թվում` ընդունվել է վարույթ | I6: Այդ թվում` թողնվել է առանց քննության | J6: Այդ թվում` ÁÝ¹áõÝáõÙÁ մերժվել է | K6: Այդ թվում` í»ñ³ùÝÝÇã í³ñáõÛÃÁ Ï³ñ×í»É ¿ | L6: Այդ թվում` չի քննարկվել | N6: ¸³ï³Ï³Ý ³ÏïÁ ÃáÕÝí»É ¿ ûñÇÝ³Ï³Ý áõÅÇ Ù»ç | O6: ¸³ï³Ï³Ý ³ÏïÝ ³ÙµáÕçáõÃÛ³Ùµ µ»Ï³Ýí»É ¿ ¨ Ï³Û³óí»É ¿ ·áñÍÝ Áëï ¿áõÃÛ³Ý ÉáõÍáÕ ¹³ï³Ï³Ý ³Ïï | P6: ¸³ï³Ï³Ý ³ÏïÁ Ù³ëÝ³ÏÇáñ»Ý µ»Ï³Ýí»É ¿ ¨ µ»Ï³Ýí³Í Ù³ëáí Ï³Û³óí»É ¿ ·áñÍÝ Áëï ¿áõÃÛ³Ý ÉáõÍáÕ ¹³ï³Ï³Ý ³Ïï | Q6: ¸³ï³Ï³Ý ³ÏïÝ ³ÙµáÕçáõÃÛ³Ùµ µ»Ï³Ýí»É ¿ ¨ ·áñÍÝ áõÕ³ñÏí»É ¿ Ýáñ ùÝÝáõÃÛ³Ý | R6: ¹³ï³Ï³Ý ³ÏïÁ Ù³ëÝ³ÏÇáñ»Ý µ»Ï³Ýí»É ¿ ¨ ·áñÍÝ áõÕ³ñÏí»É ¿ Ýáñ ùÝÝáõÃÛ³Ý | S6: ø³Õ.Ñ³ÛóÇ Ù³ëáí ³ÙµáÕçáõÃÛ³Ùµ µ»Ï³Ýí»É ¿ ¹³ï³Ï³Ý ³ÏïÁ ¨ Ñ³ëï³ïí»É ¿ ÏáÕÙ»ñÇ Ñ³ßïáõÃÛ³Ý Ñ³Ù³Ó³ÛÝáõÃÛáõÝÁ | T6: ø³Õ.Ñ³ÛóÇ Ù³ëáí Ù³ëÝ³ÏÇáñ»Ý µ»Ï³Ýí»É ¿ ¹³ï³Ï³Ý ³ÏïÁ ¨ µ»Ï³Ýí³Í Ù³ëáí Ñ³ëï³ïí»É ¿ ÏáÕÙ»ñÇ Ñ³ßïáõÃÛ³Ý Ñ³Ù³Ó³ÛÝáõÃÛáõÝÁ | U6: ²ÙµáÕçáõÃÛ³Ùµ µ»Ï³Ýí»É ¿ ¹³ï³Ï³Ý ³ÏïÁ ¨ ·áñÍÇ í³ñáõÛÃÁ Ï³ñ×í»É ¿ | V6: Ø³ëÝ³ÏÇáñ»Ý µ»Ï³Ýí»É ¿ ¹³ï³Ï³Ý ³ÏïÁ ¨ ³Û¹ Ù³ëáí ·áñÍÇ í³ñáõÛÃÁ Ï³ñ×í»É ¿ | W6: ¸³ï³Ï³Ý ³ÏïÝ ³ÙµáÕçáõÃÛ³Ùµ µ»Ï³Ýí»É ¨ ÷á÷áËí»É ¿ | X6: ¸³ï³Ï³Ý ³ÏïÁ Ù³ëÝ³ÏÇáñ»Ý µ»Ï³Ýí»É ¿ ¨ ³Û¹ Ù³ëáí ÷á÷áËí»É | Y6: Դ³ï³Ï³Ý ³ÏïÁ µ»Ï³Ýí»É ¿ ¨ ù³Õ. Ñ³ÛóÁ ÃáÕÝí»É ¿ ³é³Ýó ùÝÝáõÃÛ³Ý | Z6: Գործն ըստ էության չլուծող դատական ակտը թողնվել է օրինական ուժի մեջ | AA6: Կայացվել է գործն ըստ էության չլուծող նոր դատական ակտ | AB6: ²Û¹ ÃíáõÙ` ·áñÍÝ Áëï ¿áõÃÛ³Ý ÉáõÍ»Éáõ ÑÇÙùáí ³í³ñïí³Í | AC6: ²Û¹ ÃíáõÙ` ·áñÍÇ í³ñáõÛÃÁ Ï³ñ×»Éáõ ÑÇÙùáí ³í³ñïí³Í | AD6: ²Û¹ ÃíáõÙ` ³ÛÉ ÑÇÙùáí ³í³ñïí³Í | AE6: ÀÝ¹³Ù»ÝÁ
C8: ¸²î²ð²ÜÜºð | D8: 1 | E8: 2 | F8: 3 | G8: 4 | H8: 5 | I8: 6 | J8: 7 | K8: 8 | L8: 9 | M8: 10 | N8: 11 | O8: 12 | P8: 13 | Q8: 14 | R8: 15 | S8: 16 | T8: 17 | U8: 18 | V8: 19 | W8: 20 | X8: 21 | Y8: 22 | Z8: 23 | AA8: 24 | AB8: 25 | AC8: 26 | AD8: 27 | AE8: 28 | AF8: 29 | AG8: 30 | AH8: 31 | AI8: 32 | AJ8: 33 | AK8: 34 | AL8: 35 | AM8: 36 | AN8: 37 | AO8: 38
A9: 1 | B9: 1 | C9: ºñ¨³Ý ù³Õ³ùÇ Î»ÝïñáÝ ¨ Üáñù-Ø³ñ³ß í³ñã³Ï³Ý ßñç³ÝÝ»ñÇ ÁÝ¹Ñ³Ýáõñ Çñ³í³ëáõÃÛ³Ý ³é³çÇÝ ³ïÛ³ÝÇ ¹³ï³ñ³Ý | G9: 26 | H9: 22 | L9: 4 | M9: 20 | X9: 1 | Z9: 10 | AA9: 1 | AB9: 1 | AD9: 11 | AE9: 12 | AG9: 8 | AI9: 7 | AJ9: 14 | AK9: 21 | AL9: 1 | AM9: 1 | AN9: 2 | AO9: 6
A10: 0 | B10: 2 | C10: ºñ¨³Ý ù³Õ³ùÇ ²ñ³µÏÇñ ¨ ø³Ý³ù»é-¼»ÛÃáõÝ í³ñã³Ï³Ý ßñç³ÝÝ»ñÇ ÁÝ¹Ñ³Ýáõñ Çñ³í³ëáõÃÛ³Ý ¹³ï³ñ³Ý | G10: 15 | H10: 15 | M10: 14 | N10: 1 | U10: 1 | Z10: 11 | AB10: 1 | AC10: 1 | AD10: 11 | AE10: 13 | AG10: 1 | AI10: 2 | AJ10: 13 | AK10: 15 | AL10: 1 | AN10: 1 | AO10: 3
A11: 0 | B11: 3 | C11: ºñ¨³Ý ù³Õ³ùÇ Þ»Ý·³íÇÃ í³ñã³Ï³Ý ßñç³ÝÇ ÁÝ¹Ñ³Ýáõñ Çñ³í³ëáõÃÛ³Ý ³é³çÇÝ ³ïÛ³ÝÇ ¹³ï³ñ³Ý | G11: 8 | H11: 8 | M11: 6 | N11: 1 | Z11: 2 | AB11: 1 | AD11: 2 | AE11: 3 | AG11: 3 | AI11: 3 | AJ11: 4 | AK11: 7
A12: 0 | B12: 4 | C12: ºñ¨³Ý ù³Õ³ùÇ ²ç³÷ÝÛ³Ï ¨ ¸³íÃ³ß»Ý í³ñã³Ï³Ý ßñç³ÝÝ»ñÇ ÁÝ¹Ñ³Ýáõñ Çñ³í³ëáõÃÛ³Ý ³é³çÇÝ ³ïÛ³ÝÇ ¹³ï³ñ³Ý | G12: 4 | H12: 4 | M12: 2 | AG12: 2 | AI12: 2 | AK12: 2
A13: 0 | B13: 5 | C13: ºñ¨³Ý ù³Õ³ùÇ ²í³Ý ¨ Üáñ-Üáñù í³ñã³Ï³Ý ßñç³ÝÝ»ñÇ ÁÝ¹Ñ³Ýáõñ Çñ³í³ëáõÃÛ³Ý ³é³çÇÝ ³ïÛ³ÝÇ ¹³ï³ñ³Ý | G13: 5 | H13: 5 | M13: 5 | X13: 1 | Z13: 2 | AB13: 1 | AD13: 2 | AE13: 3 | AG13: 2 | AI13: 2 | AJ13: 3 | AK13: 5 | AL13: 1 | AN13: 1
A14: 0 | B14: 6 | C14: ºñ¨³Ý ù³Õ³ùÇ ¾ñ»µáõÝÇ-Üáõµ³ñ³ß»Ý í³ñã³Ï³Ý ßñç³ÝÝ»ñÇ ÁÝ¹Ñ³Ýáõñ Çñ³í³ëáõÃÛ³Ý ³é³çÇÝ ³ïÛ³ÝÇ ¹³ï³ñ³Ý | G14: 6 | H14: 5 | L14: 1 | M14: 1 | Z14: 1 | AD14: 1 | AE14: 1 | AI14: 1 | AJ14: 2 | AK14: 3 | AO14: 1
A15: 0 | B15: 7 | C15: ºñ¨³Ý ù³Õ³ùÇ Ø³É³ÃÇ³-ê»µ³ëïÇ³ í³ñã³Ï³Ý ßñç³ÝÇ ÁÝ¹Ñ³Ýáõñ Çñ³í³ëáõÃÛ³ÝÇ ³é³çÇÝ ³ïÛ³ÝÇ ¹³ï³ñ³Ý | G15: 4 | H15: 4 | M15: 3 | N15: 1 | Z15: 1 | AB15: 1 | AD15: 1 | AE15: 2 | AG15: 1 | AI15: 2 | AJ15: 1 | AK15: 3
A16: 0 | B16: 8 | C16: ÐÐ Èáéáõ Ù³ñ½Ç ÁÝ¹Ñ³Ýáõñ Çñ³í³ëáõÃÛ³Ý ³é³çÇÝ ³ïÛ³ÝÇ ¹³ï³ñ³Ý | G16: 2 | H16: 2 | M16: 2 | Z16: 2 | AD16: 2 | AE16: 2 | AJ16: 2 | AK16: 2
A17: 0 | B17: 9 | C17: ÐÐ ÞÇñ³ÏÇ Ù³ñ½Ç ÁÝ¹Ñ³Ýáõñ Çñ³í³ëáõÃÛ³Ý ³é³çÇÝ ³ïÛ³ÝÇ¹³ï³ñ³Ý | G17: 4 | H17: 4 | M17: 4 | N17: 1 | Z17: 1 | AB17: 1 | AD17: 1 | AE17: 2 | AG17: 2 | AI17: 1 | AJ17: 3 | AK17: 4
A18: 0 | B18: 10 | C18: ÐÐ ²ñÙ³íÇñÇ Ù³ñ½Ç ÁÝ¹Ñ³Ýáõñ Çñ³í³ëáõÃÛ³Ý ³é³çÇÝ ³ïÛ³ÝÇ ¹³ï³ñ³Ý | G18: 5 | H18: 4 | L18: 1 | M18: 3 | N18: 1 | AA18: 1 | AB18: 1 | AD18: 1 | AE18: 2 | AG18: 1 | AI18: 2 | AJ18: 1 | AK18: 3 | AM18: 1 | AN18: 1
A19: 0 | B19: 11 | C19: ÐÐ Îáï³ÛùÇ Ù³ñ½Ç ÁÝ¹Ñ³Ýáõñ Çñ³í³ëáõÃÛ³Ý ³é³çÇÝ ³ïÛ³ÝÇ ¹³ï³ñ³Ý | G19: 12 | H19: 12 | M19: 10 | N19: 1 | X19: 2 | Z19: 2 | AA19: 3 | AB19: 3 | AD19: 5 | AE19: 8 | AG19: 2 | AI19: 5 | AJ19: 7 | AK19: 12 | AL19: 2 | AM19: 3 | AN19: 5 | AO19: 1
A20: 0 | B20: 12 | C20: ÐÐ ²ñ³ñ³ïÇ ¨ ì³Ûáó ÒáñÇ Ù³ñ½»ñÇ ÁÝ¹Ñ³Ýáõñ Çñ³í³ëáõÃÛ³Ý ³é³çÇÝ ³ïÛ³ÝÇ ¹³ï³ñ³Ý | G20: 5 | H20: 5 | M20: 3 | N20: 1 | X20: 2 | AB20: 3 | AE20: 3 | AI20: 3 | AJ20: =SUM('Վ. Ռշտունի:Ա. Ազարյան'!AJ21) -> 22 | AK20: 5 | AL20: 2 | AN20: 2
A21: 0 | B21: 13 | C21: ÐÐ ¶»Õ³ñùáõÝÇùÇ Ù³ñ½Ç ÁÝ¹Ñ³Ýáõñ Çñ³í³ëáõÃÛ³Ý ³é³çÇÝ ³ïÛ³ÝÇ ¹³ï³ñ³Ý | G21: 5 | H21: 5 | M21: 3 | Z21: 1 | AA21: 1 | AD21: 2 | AE21: 2 | AG21: 1 | AI21: 2 | AJ21: 2 | AK21: 4 | AM21: 1 | AN21: 1
A22: 0 | B22: 14 | C22: ÐÐ ²ñ³·³ÍáïÝÇ Ù³ñ½Ç ÁÝ¹Ñ³Ýáõñ Çñ³í³ëáõÃÛ³Ý ³é³çÇÝ ³ïÛ³ÝÇ ¹³ï³ñ³Ý | G22: 5 | H22: 5 | M22: 3 | Z22: 3 | AD22: 3 | AE22: 3 | AJ22: 4 | AK22: 4 | AO22: 3
A23: 0 | B23: 15 | C23: ÐÐ êÛáõÝÇùÇ Ù³ñ½Ç ÁÝ¹Ñ³Ýáõñ Çñ³í³ëáõÃÛ³Ý ³é³çÇÝ ³ïÛ³ÝÇ ¹³ï³ñ³Ý | G23: 8 | H23: 6 | L23: 2 | M23: 4 | N23: 1 | Z23: 1 | AB23: 1 | AD23: 1 | AE23: 2 | AG23: 2 | AI23: 3 | AJ23: 3 | AK23: 6
A24: 0 | B24: 16 | C24: ÐÐ î³íáõßÇ Ù³ñ½Ç ÁÝ¹Ñ³Ýáõñ Çñ³í³ëáõÃÛ³Ý ³é³çÇÝ ³ïÛ³ÝÇ ¹³ï³ñ³Ý | G24: 5 | H24: 5 | M24: 5 | N24: 1 | Z24: 1 | AB24: 1 | AD24: 1 | AE24: 2 | AG24: 3 | AI24: 1 | AJ24: 4 | AK24: 5
B25: 19 | C25: ÈáõÍ³ñí³Í ¹³ï³ñ³ÝÝ»ñ
A26: 0 | B26: 20 | C26: ÀÝ¹³Ù»ÝÁ | D26: =SUM(D9:D25) -> 0 | E26: =SUM(E9:E25) -> 0 | F26: =SUM(F9:F25) -> 0 | G26: =SUM(G9:G25) -> 119 | H26: =SUM(H9:H25) -> 111 | I26: =SUM(I9:I25) -> 0 | J26: =SUM(J9:J25) -> 0 | K26: =SUM(K9:K25) -> 0 | ... AO26: =SUM(AO9:AO25) -> 14
A27: 0
A28: 0
A29: 0
A30: 1
A31: 0

Sheet Մ. Պետրոսյան
B1: 2017Ã. 1-ին կիսամյակ | D1: Ð²ÞìºîìàôÂÚàôÜ | AK1: Ð³í»Éí³Í Ð³Û³ëï³ÝÇ Ð³Ýñ³å»ïáõÃÛ³Ý ¸³ï³ñ³ÝÝ»ñÇ Ý³Ë³·³ÑÝ»ñÇ ËáñÑñ¹Ç 25.08.2017Ã. ÃÇí 35-È áñáßÙ³Ý
B2: ÐÐ ìºð²øÜÜÆâ øðº²Î²Ü ¸²î²ð²ÜԻ ¸²î²ìàð Ø. äºîðàêÚ²ÜÆÜ Ð²ÜÒÜì²Ì ´àÔàøÜºðÆ øÜÜàôÂÚ²Ü ìºð²´ºðÚ²È
B3: ÐÐ í»ñ³ùÝÝÇã ùñ»³Ï³Ý ¹³ï³ñ³ÝáõÙ ¹³ï³íáñÝ»ñÇ Ñ³ëïÇùÝ»ñÇ ÃÇíÁ` 16
D4: Ð³ßí»ïáõ Å³Ù³Ý³Ï³Ñ³ïí³ÍÇ ëÏ½µáõÙ Ý³Ëáñ¹ Ñ³ßí»ïáõ Å³Ù³Ý³Ï³Ñ³ïí³ÍÇó ÷áË³Ýóí³Í ·áñÍ»ñÇ ÁÝ¹Ñ³Ýáõñ ÃÇíÁ | G4: Ð³ßí»ïáõ Å³Ù³Ý³Ï³Ñ³ïí³ÍáõÙ ëï³óí³Í µáÕáùÝ»ñÇ ÁÝ¹Ñ³Ýáõñ ÃÇíÁ | M4: ´áÕáù³ñÏí³Í ³Ïï»ñÇ ù³Ý³ÏÁ, áñáÝó ¹»Ù µ»ñí³Í µáÕáùÝ»ñÝ Ñ³ßí»ïáõ Å³Ù³Ý³Ï³ßñç³ÝáõÙ ÁÝ¹áõÝí»É »Ý í³ñáõÛÃ | N4: Ð³ßí»ïáõ Å³Ù³Ý³Ï³ßñç³ÝáõÙ ùÝÝí³Í ·áñÍ»ñáí Ï³Û³óí³Í áñáßáõÙÝ»ñ | AB4: Ð³ßí»ïáõ Å³Ù³Ý³Ï³Ñ³ïí³ÍáõÙ ³í³ñïí³Í ·áñÍ»ñÇ ÁÝ¹Ñ³Ýáõñ ÃÇíÁ | AF4: Ð³ßí»ïáõ Å³Ù³Ý³Ï³Ñ³ïí³ÍáõÙ Ï³ë»óí³Í í³ñáõÛÃÝ»ñáí ·áñÍ»ñÇ ÁÝ¹Ñ³Ýáõñ ÃÇíÁ | AG4: Ð³ßí»ïáõ Å³Ù³Ý³Ï³Ñ³ïí³ÍáõÙ ³Ý³í³ñï ·áñÍ»ñÇ ÁÝ¹Ñ³Ýáõñ ÃÇíÁ | AH4: ²Û¹ ÃíáõÙ` Ï³ë»óí³Í | AI4: ´áÕáù³ñÏí³Í ¹³ï³Ï³Ý ³Ïï»ñÇ ÃÇíÁ` Áëï ï»ë³ÏÝ»ñÇ | AL4: ´»Ï³Ýí³Í ¹³ï³Ï³Ý ³Ïï»ñÇ ÃÇíÁ` Áëï ï»ë³ÏÝ»ñÇ | AO4: ´áÕáù³ñÏí»É »Ý í×é³µ»Ï ¹³ï³ñ³Ý
AI5: ²Û¹ ÃíáõÙ` ·áñÍÝ Áëï ¿áõÃÛ³Ý ÉáõÍáÕ ¹³ï³Ï³Ý ³Ïï»ñ | AJ5: ²Û¹ ÃíáõÙ` գործն ըստ էության չլուծող¹³ï³Ï³Ý ³Ïï»ñ | AK5: ÀÝ¹³Ù»ÝÁ | AL5: ²Û¹ ÃíáõÙ` ·áñÍÝ Áëï ¿áõÃÛ³Ý ÉáõÍáÕ ¹³ï³Ï³Ý ³Ïï»ñ | AM5: ²Û¹ ÃíáõÙ` գործն ըստ էության չլուծող¹³ï³Ï³Ý ³Ïï»ñ | AN5: ÀÝ¹³Ù»ÝÁ
D6: ÀÝ¹³Ù»ÝÁ | E6: Այդ թվում` վարույթ ընդունված µáÕáùÝ»ñáí փոխանցված | F6: Այդ թվում` չքննարկված µáÕáùÝ»ñáí փոխանցված | G6: ÀÝ¹³Ù»ÝÁ | H6: Այդ թվում` ընդունվել է վարույթ | I6: Այդ թվում` թողնվել է առանց քննության | J6: Այդ թվում` ÁÝ¹áõÝáõÙÁ մերժվել է | K6: Այդ թվում` í»ñ³ùÝÝÇã í³ñáõÛÃÁ Ï³ñ×í»É ¿ | L6: Այդ թվում` չի քննարկվել | N6: ¸³ï³Ï³Ý ³ÏïÁ ÃáÕÝí»É ¿ ûñÇÝ³Ï³Ý áõÅÇ Ù»ç | O6: ¸³ï³Ï³Ý ³ÏïÝ ³ÙµáÕçáõÃÛ³Ùµ µ»Ï³Ýí»É ¿ ¨ Ï³Û³óí»É ¿ ·áñÍÝ Áëï ¿áõÃÛ³Ý ÉáõÍáÕ ¹³ï³Ï³Ý ³Ïï | P6: ¸³ï³Ï³Ý ³ÏïÁ Ù³ëÝ³ÏÇáñ»Ý µ»Ï³Ýí»É ¿ ¨ µ»Ï³Ýí³Í Ù³ëáí Ï³Û³óí»É ¿ ·áñÍÝ Áëï ¿áõÃÛ³Ý ÉáõÍáÕ ¹³ï³Ï³Ý ³Ïï | Q6: ¸³ï³Ï³Ý ³ÏïÝ ³ÙµáÕçáõÃÛ³Ùµ µ»Ï³Ýí»É ¿ ¨ ·áñÍÝ áõÕ³ñÏí»É ¿ Ýáñ ùÝÝáõÃÛ³Ý | R6: ¹³ï³Ï³Ý ³ÏïÁ Ù³ëÝ³ÏÇáñ»Ý µ»Ï³Ýí»É ¿ ¨ ·áñÍÝ áõÕ³ñÏí»É ¿ Ýáñ ùÝÝáõÃÛ³Ý | S6: ø³Õ.Ñ³ÛóÇ Ù³ëáí ³ÙµáÕçáõÃÛ³Ùµ µ»Ï³Ýí»É ¿ ¹³ï³Ï³Ý ³ÏïÁ ¨ Ñ³ëï³ïí»É ¿ ÏáÕÙ»ñÇ Ñ³ßïáõÃÛ³Ý Ñ³Ù³Ó³ÛÝáõÃÛáõÝÁ | T6: ø³Õ.Ñ³ÛóÇ Ù³ëáí Ù³ëÝ³ÏÇáñ»Ý µ»Ï³Ýí»É ¿ ¹³ï³Ï³Ý ³ÏïÁ ¨ µ»Ï³Ýí³Í Ù³ëáí Ñ³ëï³ïí»É ¿ ÏáÕÙ»ñÇ Ñ³ßïáõÃÛ³Ý Ñ³Ù³Ó³ÛÝáõÃÛáõÝÁ | U6: ²ÙµáÕçáõÃÛ³Ùµ µ»Ï³Ýí»É ¿ ¹³ï³Ï³Ý ³ÏïÁ ¨ ·áñÍÇ í³ñáõÛÃÁ Ï³ñ×í»É ¿ | V6: Ø³ëÝ³ÏÇáñ»Ý µ»Ï³Ýí»É ¿ ¹³ï³Ï³Ý ³ÏïÁ ¨ ³Û¹ Ù³ëáí ·áñÍÇ í³ñáõÛÃÁ Ï³ñ×í»É ¿ | W6: ¸³ï³Ï³Ý ³ÏïÝ ³ÙµáÕçáõÃÛ³Ùµ µ»Ï³Ýí»É ¨ ÷á÷áËí»É ¿ | X6: ¸³ï³Ï³Ý ³ÏïÁ Ù³ëÝ³ÏÇáñ»Ý µ»Ï³Ýí»É ¿ ¨ ³Û¹ Ù³ëáí ÷á÷áËí»É | Y6: Դ³ï³Ï³Ý ³ÏïÁ µ»Ï³Ýí»É ¿ ¨ ù³Õ. Ñ³ÛóÁ ÃáÕÝí»É ¿ ³é³Ýó ùÝÝáõÃÛ³Ý | Z6: Գործն ըստ էության չլուծող դատական ակտը թողնվել է օրինական ուժի մեջ | AA6: Կայացվել է գործն ըստ էության չլուծող նոր դատական ակտ | AB6: ²Û¹ ÃíáõÙ` ·áñÍÝ Áëï ¿áõÃÛ³Ý ÉáõÍ»Éáõ ÑÇÙùáí ³í³ñïí³Í | AC6: ²Û¹ ÃíáõÙ` ·áñÍÇ í³ñáõÛÃÁ Ï³ñ×»Éáõ ÑÇÙùáí ³í³ñïí³Í | AD6: ²Û¹ ÃíáõÙ` ³ÛÉ ÑÇÙùáí ³í³ñïí³Í | AE6: ÀÝ¹³Ù»ÝÁ
C8: ¸²î²ð²ÜÜºð | D8: 1 | E8: 2 | F8: 3 | G8: 4 | H8: 5 | I8: 6 | J8: 7 | K8: 8 | L8: 9 | M8: 10 | N8: 11 | O8: 12 | P8: 13 | Q8: 14 | R8: 15 | S8: 16 | T8: 17 | U8: 18 | V8: 19 | W8: 20 | X8: 21 | Y8: 22 | Z8: 23 | AA8: 24 | AB8: 25 | AC8: 26 | AD8: 27 | AE8: 28 | AF8: 29 | AG8: 30 | AH8: 31 | AI8: 32 | AJ8: 33 | AK8: 34 | AL8: 35 | AM8: 36 | AN8: 37 | AO8: 38
A9: 1 | B9: 1 | C9: ºñ¨³Ý ù³Õ³ùÇ Î»ÝïñáÝ ¨ Üáñù-Ø³ñ³ß í³ñã³Ï³Ý ßñç³ÝÝ»ñÇ ÁÝ¹Ñ³Ýáõñ Çñ³í³ëáõÃÛ³Ý ³é³çÇÝ ³ïÛ³ÝÇ ¹³ï³ñ³Ý | D9: 2 | E9: 2 | G9: 24 | H9: 24 | M9: 20 | N9: 1 | X9: 1 | Z9: 12 | AA9: 2 | AB9: 2 | AD9: 14 | AE9: 16 | AG9: 6 | AI9: 8 | AJ9: 15 | AK9: 23 | AL9: 1 | AM9: 2 | AN9: 3 | AO9: 8
A10: 0 | B10: 2 | C10: ºñ¨³Ý ù³Õ³ùÇ ²ñ³µÏÇñ ¨ ø³Ý³ù»é-¼»ÛÃáõÝ í³ñã³Ï³Ý ßñç³ÝÝ»ñÇ ÁÝ¹Ñ³Ýáõñ Çñ³í³ëáõÃÛ³Ý ¹³ï³ñ³Ý | D10: 1 | F10: 1 | G10: 21 | H10: 21 | M10: 24 | N10: 3 | Z10: 14 | AA10: 3 | AB10: 3 | AD10: 17 | AE10: 20 | AG10: 4 | AI10: 3 | AJ10: 20 | AK10: 23 | AM10: 3 | AN10: 3 | AO10: 14
A11: 0 | B11: 3 | C11: ºñ¨³Ý ù³Õ³ùÇ Þ»Ý·³íÇÃ í³ñã³Ï³Ý ßñç³ÝÇ ÁÝ¹Ñ³Ýáõñ Çñ³í³ëáõÃÛ³Ý ³é³çÇÝ ³ïÛ³ÝÇ ¹³ï³ñ³Ý | D11: 1 | E11: 1 | G11: 14 | H11: 13 | L11: 1 | M11: 7 | N11: 2 | Z11: 3 | AA11: 1 | AB11: 2 | AD11: 4 | AE11: 6 | AG11: 2 | AI11: 4 | AJ11: 3 | AK11: 7 | AM11: 1 | AN11: 1 | AO11: 5
A12: 0 | B12: 4 | C12: ºñ¨³Ý ù³Õ³ùÇ ²ç³÷ÝÛ³Ï ¨ ¸³íÃ³ß»Ý í³ñã³Ï³Ý ßñç³ÝÝ»ñÇ ÁÝ¹Ñ³Ýáõñ Çñ³í³ëáõÃÛ³Ý ³é³çÇÝ ³ïÛ³ÝÇ ¹³ï³ñ³Ý | D12: 3 | E12: 3 | G12: 8 | H12: 8 | M12: 4 | N12: 2 | X12: 3 | AB12: 5 | AE12: 5 | AG12: 2 | AI12: 4 | AK12: 4 | AL12: 3 | AN12: 3 | AO12: 2
A13: 0 | B13: 5 | C13: ºñ¨³Ý ù³Õ³ùÇ ²í³Ý ¨ Üáñ-Üáñù í³ñã³Ï³Ý ßñç³ÝÝ»ñÇ ÁÝ¹Ñ³Ýáõñ Çñ³í³ëáõÃÛ³Ý ³é³çÇÝ ³ïÛ³ÝÇ ¹³ï³ñ³Ý | D13: 1 | E13: 1 | G13: 3 | H13: 3 | M13: 3 | W13: 1 | AA13: 1 | AB13: 1 | AD13: 1 | AE13: 2 | AG13: 2 | AI13: 1 | AJ13: 2 | AK13: 3 | AL13: 1 | AM13: 1 | AN13: 2
A14: 0 | B14: 6 | C14: ºñ¨³Ý ù³Õ³ùÇ ¾ñ»µáõÝÇ-Üáõµ³ñ³ß»Ý í³ñã³Ï³Ý ßñç³ÝÝ»ñÇ ÁÝ¹Ñ³Ýáõñ Çñ³í³ëáõÃÛ³Ý ³é³çÇÝ ³ïÛ³ÝÇ ¹³ï³ñ³Ý | D14: 3 | F14: 3 | G14: 7 | H14: 7 | M14: 9 | N14: 3 | X14: 2 | Z14: 2 | AA14: 1 | AB14: 5 | AD14: 3 | AE14: 8 | AG14: 1 | AI14: 3 | AJ14: 3 | AK14: 6 | AL14: 2 | AM14: 1 | AN14: 3 | AO14: 5
A15: 0 | B15: 7 | C15: ºñ¨³Ý ù³Õ³ùÇ Ø³É³ÃÇ³-ê»µ³ëïÇ³ í³ñã³Ï³Ý ßñç³ÝÇ ÁÝ¹Ñ³Ýáõñ Çñ³í³ëáõÃÛ³ÝÇ ³é³çÇÝ ³ïÛ³ÝÇ ¹³ï³ñ³Ý | D15: 3 | E15: 3 | G15: 1 | H15: 1 | N15: 1 | AA15: 1 | AB15: 1 | AD15: 1 | AE15: 2 | AG15: 1 | AI15: 1 | AK15: 1 | AM15: 1 | AN15: 1 | AO15: 1
A16: 0 | B16: 8 | C16: ÐÐ Èáéáõ Ù³ñ½Ç ÁÝ¹Ñ³Ýáõñ Çñ³í³ëáõÃÛ³Ý ³é³çÇÝ ³ïÛ³ÝÇ ¹³ï³ñ³Ý | D16: 3 | E16: 3 | G16: 5 | H16: 4 | L16: 1 | M16: 4 | N16: 2 | Z16: 1 | AB16: 2 | AD16: 1 | AE16: 3 | AG16: 4 | AI16: 3 | AJ16: 1 | AK16: 4
A17: 0 | B17: 9 | C17: ÐÐ ÞÇñ³ÏÇ Ù³ñ½Ç ÁÝ¹Ñ³Ýáõñ Çñ³í³ëáõÃÛ³Ý ³é³çÇÝ ³ïÛ³ÝÇ¹³ï³ñ³Ý | D17: 2 | E17: 2 | G17: 4 | H17: 4 | M17: 4 | N17: 3 | AA17: 3 | AB17: 3 | AD17: 3 | AE17: 6 | AI17: 1 | AJ17: 3 | AK17: 4 | AM17: 3 | AN17: 3 | AO17: 3
A18: 0 | B18: 10 | C18: ÐÐ ²ñÙ³íÇñÇ Ù³ñ½Ç ÁÝ¹Ñ³Ýáõñ Çñ³í³ëáõÃÛ³Ý ³é³çÇÝ ³ïÛ³ÝÇ ¹³ï³ñ³Ý | D18: 2 | E18: 1 | F18: 1 | G18: 7 | H18: 6 | L18: 1 | M18: 7 | N18: 1 | W18: 1 | X18: 1 | Z18: 1 | AA18: 1 | AB18: 3 | AD18: 2 | AE18: 5 | AG18: 3 | AI18: 2 | AJ18: 5 | AK18: 7 | AL18: 2 | AM18: 1 | AN18: 3 | AO18: 4
A19: 0 | B19: 11 | C19: ÐÐ Îáï³ÛùÇ Ù³ñ½Ç ÁÝ¹Ñ³Ýáõñ Çñ³í³ëáõÃÛ³Ý ³é³çÇÝ ³ïÛ³ÝÇ ¹³ï³ñ³Ý | D19: 2 | E19: 1 | F19: 1 | G19: 11 | H19: 10 | L19: 1 | M19: 8 | N19: 1 | X19: 1 | Z19: 3 | AB19: 2 | AD19: 3 | AE19: 5 | AG19: 4 | AI19: 4 | AJ19: 5 | AK19: 9 | AL19: 1 | AN19: 1 | AO19: 2
A20: 0 | B20: 12 | C20: ÐÐ ²ñ³ñ³ïÇ ¨ ì³Ûáó ÒáñÇ Ù³ñ½»ñÇ ÁÝ¹Ñ³Ýáõñ Çñ³í³ëáõÃÛ³Ý ³é³çÇÝ ³ïÛ³ÝÇ ¹³ï³ñ³Ý | D20: 3 | E20: 2 | F20: 1 | G20: 2 | H20: 2 | M20: 5 | N20: 2 | W20: 1 | Z20: 2 | AA20: 2 | AB20: 3 | AD20: 4 | AE20: 7 | AI20: 2 | AJ20: =SUM('Վ. Ռշտունի:Ա. Ազարյան'!AJ21) -> 22 | AK20: 5 | AL20: 1 | AM20: 2 | AN20: 3 | AO20: 3
A21: 0 | B21: 13 | C21: ÐÐ ¶»Õ³ñùáõÝÇùÇ Ù³ñ½Ç ÁÝ¹Ñ³Ýáõñ Çñ³í³ëáõÃÛ³Ý ³é³çÇÝ ³ïÛ³ÝÇ ¹³ï³ñ³Ý | G21: 11 | H21: 11 | M21: 5 | Q21: 1 | X21: 1 | Z21: 2 | AB21: 2 | AD21: 2 | AE21: 4 | AG21: 1 | AI21: 3 | AJ21: 2 | AK21: 5 | AL21: 2 | AN21: 2 | AO21: 1
A22: 0 | B22: 14 | C22: ÐÐ ²ñ³·³ÍáïÝÇ Ù³ñ½Ç ÁÝ¹Ñ³Ýáõñ Çñ³í³ëáõÃÛ³Ý ³é³çÇÝ ³ïÛ³ÝÇ ¹³ï³ñ³Ý | D22: 1 | E22: 1 | G22: 4 | H22: 4 | M22: 4 | Z22: 5 | AD22: 5 | AE22: 5 | AJ22: 3 | AK22: 3 | AO22: 2
A23: 0 | B23: 15 | C23: ÐÐ êÛáõÝÇùÇ Ù³ñ½Ç ÁÝ¹Ñ³Ýáõñ Çñ³í³ëáõÃÛ³Ý ³é³çÇÝ ³ïÛ³ÝÇ ¹³ï³ñ³Ý | D23: 2 | E23: 2 | G23: 14 | H23: 14 | M23: 7 | N23: 3 | Q23: 1 | Z23: 2 | AB23: 4 | AD23: 2 | AE23: 6 | AG23: 3 | AI23: 6 | AJ23: 2 | AK23: 8 | AL23: 1 | AN23: 1 | AO23: 2
A24: 0 | B24: 16 | C24: ÐÐ î³íáõßÇ Ù³ñ½Ç ÁÝ¹Ñ³Ýáõñ Çñ³í³ëáõÃÛ³Ý ³é³çÇÝ ³ïÛ³ÝÇ ¹³ï³ñ³Ý | D24: 1 | E24: 1 | X24: 1 | AB24: 1 | AE24: 1 | AJ24: 1 | AK24: 1 | AL24: 1 | AN24: 1
B25: 19 | C25: ÈáõÍ³ñí³Í ¹³ï³ñ³ÝÝ»ñ
A26: 0 | B26: 20 | C26: ÀÝ¹³Ù»ÝÁ | D26: =SUM(D9:D25) -> 30 | E26: =SUM(E9:E25) -> 23 | F26: =SUM(F9:F25) -> 7 | G26: =SUM(G9:G25) -> 136 | H26: =SUM(H9:H25) -> 132 | I26: =SUM(I9:I25) -> 0 | J26: =SUM(J9:J25) -> 0 | K26: =SUM(K9:K25) -> 0 | ... AO26: =SUM(AO9:AO25) -> 52
A27: 0
A28: 0
A29: 0
A30: 1
A31: 0

Sheet Մ. Պապոյան
