Workbook

Sheet Ընդամենը
A1: Ð²ÞìºîìàôÂÚàôÜ
A2: ՀՀ ÀÜ¸Ð²Üàôð Æð²ì²êàôÂÚ²Ü ²è²æÆÜ ²îÚ²ÜÆ ¸²î²ð²ÜՆԵՐÆ
H3: ¶àðÌàôÜºàôÂÚ²Ü ìºð²´ºðÚ²È êÜ²ÜÎàôÂÚ²Ü ¶àðÌºðàì 2016թ. 1-ԻՆ ԿԻՍԱՄՅԱԿ
A4: ìÇ×³Ï³·ñ³Ï³Ý ïáÕÇ Ñ³Ù³ñÁ | E4: ²Ý³í³ñï ·áñÍ»ñÇ ÙÝ³óáñ¹Á Ñ³ßí»ïáõ Å³Ù³Ý³Ï³ßñç³ÝÇ ëÏ½µáõÙ | F4: êï³óí³Í ¹ÇÙáõÙÝ»ñÇ (·áñÍ»ñ) ù³Ý³ÏÁ | L4: öáË³Ýóí»É ¿ ³ÛÉ ¹³ï³íáñÇ (Ï³½ÙÇ ÷á÷áËáõÃÛáõÝ) | M4: ì³ñáõÛÃ ÁÝ¹áõÝí³Í ¹ÇÙáõÙÝ»ñáí Ï³Û³óí³Í ¹³ï³Ï³Ý ³Ïï»ñ | Q4: Ü»ñÏ³Û³óí»É ¿ ýÇÝ³Ýë³Ï³Ý ³éáÕç³óÙ³Ý Íñ³·Çñ | T4: ²í³ñïí»É »Ý ·áñÍ»ñ Ñ³ßí»ïáõ Å³Ù³Ý³Ï³ßñç³ÝáõÙ | U4: ²Ý³í³ñï ·áñÍ»ñÇ ÙÝ³óáñ¹Á Ñ³ßí»ïáõ Å³Ù³Ý³Ï³ßñç³ÝÇ í»ñçáõÙ | V4: ´áÕáù³ñÏí»É »Ý í»ñ³ùÝÝÇã ¹³ï³ñ³Ý
F6: ÀÝ¹³Ù»ÝÁ | G6: ³Û¹ ÃíáõÙ Ñ³ñÏ³¹ñí³Í ëÝ³ÝÏáõÃÛáõÝ | H6: ³Û¹ ÃíáõÙ Ï³Ù³íáñ ëÝ³ÝÏáõÃÛáõÝ | I6: ëï³óí³Í ¹ÇÙáõÙÝ»ñÇ ÁÝÃ³óùÁ | M6: Ï³Û³óí»É ¿ å³ñï³å³ÝÇÝ ëÝ³ÝÏ ×³Ý³ã»Éáõ Ù³ëÇÝ í×Çé | N6: å³ñï³å³ÝÇÝ ëÝ³ÝÏ ×³Ý³ã»Éáõ ¹ÇÙáõÙÁ Ù»ñÅí»É ¿ | O6: ¹ÇÙáõÙÁ ÃáÕÝí»É ¿ ³é³Ýó ùÝÝáõÃÛ³Ý | P6: ³Ý³í³ñï (³Û¹ ÃíáõÙ Ï³ë»óí³Í) | Q6: ÀÝ¹³Ù»ÝÁ | R6: ÃáÕÝí»É ¿ ³é³Ýó ùÝÝ³ñÏÙ³Ý | S6: Ñ³ëï³ïí»É ¿
I8: ¸ÇÙáõÙÇ ÁÝ¹áõÝáõÙÁ Ù»ñÅí»É ¿ | J8: ¸ÇÙáõÙÁ í»ñ³¹³ñÓí»É ¿ | K8: ÀÝ¹áõÝí»É ¿ í³ñáõÛÃ
E18: 1 | F18: 2 | G18: 3 | H18: 4 | I18: 5 | J18: 6 | K18: 7 | L18: 8 | M18: 9 | N18: 10 | O18: 11 | P18: 12 | Q18: 13 | R18: 14 | S18: 15 | T18: 16 | U18: 17 | V18: 18 | W18: 1+7=8+16+17 | Y18: 2=3+4 | AA18: 2=5+6+7 | AC18: 7=9+10+11+12
A19: 1 | B19: Æñ³í³µ³Ý³Ï³Ý ³ÝÓÇ ëÝ³ÝÏáõÃÛ³Ý í»ñ³µ»ñÛ³É | E19: =SUM(Avan:Gexarquniq!E19) -> 1952 | F19: =SUM(Avan:Gexarquniq!F19) -> 726 | G19: =SUM(Avan:Gexarquniq!G19) -> 694 | H19: =SUM(Avan:Gexarquniq!H19) -> 32 | I19: =SUM(Avan:Gexarquniq!I19) -> 1 | J19: =SUM(Avan:Gexarquniq!J19) -> 80 | K19: =SUM(Avan:Gexarquniq!K19) -> 645 | L19: =SUM(Avan:Gexarquniq!L19) -> 102 | ... V19: =SUM(Avan:Gexarquniq!V19) -> 33 | W19: =E19+K19 -> 2597 | X19: =L19+T19+U19 -> 2597 | Y19: =F19 -> 726 | Z19: =G19+H19 -> 726 | AA19: =F19 -> 726 | AB19: =I19+J19+K19 -> 726 | AC19: =K19 -> 645 | AD19: =M19+N19+O19+P19 -> 644
A20: 2 | B20: ²ÝÑ³ï Ó»éÝ»ñ»óÇ ëÝ³ÝÏáõÃÛ³Ý í»ñ³µ»ñÛ³É | E20: =SUM(Avan:Gexarquniq!E20) -> 403 | F20: =SUM(Avan:Gexarquniq!F20) -> 202 | G20: =SUM(Avan:Gexarquniq!G20) -> 185 | H20: =SUM(Avan:Gexarquniq!H20) -> 17 | I20: =SUM(Avan:Gexarquniq!I20) -> 2 | J20: =SUM(Avan:Gexarquniq!J20) -> 42 | K20: =SUM(Avan:Gexarquniq!K20) -> 158 | L20: =SUM(Avan:Gexarquniq!L20) -> 43 | ... V20: =SUM(Avan:Gexarquniq!V20) -> 3 | W20: =E20+K20 -> 561 | X20: =L20+T20+U20 -> 560 | Y20: =F20 -> 202 | Z20: =G20+H20 -> 202 | AA20: =F20 -> 202 | AB20: =I20+J20+K20 -> 202 | AC20: =K20 -> 158 | AD20: =M20+N20+O20+P20 -> 158
A21: 3 | B21: üÇ½ÇÏ³Ï³Ý ³ÝÓ³Ýó ëÝ³ÝÏáõÃÛ³Ý í»ñ³µ»ñÛ³É | E21: =SUM(Avan:Gexarquniq!E21) -> 2069 | F21: =SUM(Avan:Gexarquniq!F21) -> 847 | G21: =SUM(Avan:Gexarquniq!G21) -> 727 | H21: =SUM(Avan:Gexarquniq!H21) -> 120 | I21: =SUM(Avan:Gexarquniq!I21) -> 1 | J21: =SUM(Avan:Gexarquniq!J21) -> 114 | K21: =SUM(Avan:Gexarquniq!K21) -> 731 | L21: =SUM(Avan:Gexarquniq!L21) -> 187 | ... V21: =SUM(Avan:Gexarquniq!V21) -> 53 | W21: =E21+K21 -> 2800 | X21: =L21+T21+U21 -> 2800 | Y21: =F21 -> 847 | Z21: =G21+H21 -> 847 | AA21: =F21 -> 847 | AB21: =I21+J21+K21 -> 846 | AC21: =K21 -> 731 | AD21: =M21+N21+O21+P21 -> 731
A22: 4 | B22: ԸՆԴՀԱՄԵՆԸ | E22: =SUM(Avan:Gexarquniq!E22) -> 4424 | F22: =SUM(Avan:Gexarquniq!F22) -> 1775 | G22: =SUM(Avan:Gexarquniq!G22) -> 1606 | H22: =SUM(Avan:Gexarquniq!H22) -> 169 | I22: =SUM(Avan:Gexarquniq!I22) -> 4 | J22: =SUM(Avan:Gexarquniq!J22) -> 237 | K22: =SUM(Avan:Gexarquniq!K22) -> 1534 | L22: =SUM(Avan:Gexarquniq!L22) -> 332 | ... V22: =SUM(Avan:Gexarquniq!V22) -> 84 | W22: =E22+K22 -> 5958 | X22: =L22+T22+U22 -> 5957 | Y22: =F22 -> 1775 | Z22: =G22+H22 -> 1775 | AA22: =F22 -> 1775 | AB22: =I22+J22+K22 -> 1775 | AC22: =K22 -> 1534 | AD22: =M22+N22+O22+P22 -> 1533

Sheet Avan
A1: Ð²ÞìºîìàôÂÚàôÜ
A2: ºðºì²ÜÆ ²ՎԱՆ ºì ՆՈՐ ՆՈՐՔ ì²ðâ²Î²Ü Þðæ²ÜÜºðÆ ÀÜ¸Ð²Üàôð Æð²ì²êàôÂÚ²Ü ²è²æÆÜ ²îÚ²ÜÆ ¸²î²ð²ÜÆ
H3: ¶àðÌàôÜºàôÂÚ²Ü ìºð²´ºðÚ²È êÜ²ÜÎàôÂÚ²Ü ¶àðÌºðàì 2016թ. 1-ԻՆ ԿԻՍԱՄՅԱԿ
A4: ìÇ×³Ï³·ñ³Ï³Ý ïáÕÇ Ñ³Ù³ñÁ | E4: ²Ý³í³ñï ·áñÍ»ñÇ ÙÝ³óáñ¹Á Ñ³ßí»ïáõ Å³Ù³Ý³Ï³ßñç³ÝÇ ëÏ½µáõÙ | F4: êï³óí³Í ¹ÇÙáõÙÝ»ñÇ (·áñÍ»ñ) ù³Ý³ÏÁ | L4: öáË³Ýóí»É ¿ ³ÛÉ ¹³ï³íáñÇ (Ï³½ÙÇ ÷á÷áËáõÃÛáõÝ) | M4: ì³ñáõÛÃ ÁÝ¹áõÝí³Í ¹ÇÙáõÙÝ»ñáí Ï³Û³óí³Í ¹³ï³Ï³Ý ³Ïï»ñ | Q4: Ü»ñÏ³Û³óí»É ¿ ýÇÝ³Ýë³Ï³Ý ³éáÕç³óÙ³Ý Íñ³·Çñ | T4: ²í³ñïí»É »Ý ·áñÍ»ñ Ñ³ßí»ïáõ Å³Ù³Ý³Ï³ßñç³ÝáõÙ | U4: ²Ý³í³ñï ·áñÍ»ñÇ ÙÝ³óáñ¹Á Ñ³ßí»ïáõ Å³Ù³Ý³Ï³ßñç³ÝÇ í»ñçáõÙ | V4: ´áÕáù³ñÏí»É »Ý í»ñ³ùÝÝÇã ¹³ï³ñ³Ý
F6: ÀÝ¹³Ù»ÝÁ | G6: ³Û¹ ÃíáõÙ Ñ³ñÏ³¹ñí³Í ëÝ³ÝÏáõÃÛáõÝ | H6: ³Û¹ ÃíáõÙ Ï³Ù³íáñ ëÝ³ÝÏáõÃÛáõÝ | I6: ëï³óí³Í ¹ÇÙáõÙÝ»ñÇ ÁÝÃ³óùÁ | M6: Ï³Û³óí»É ¿ å³ñï³å³ÝÇÝ ëÝ³ÝÏ ×³Ý³ã»Éáõ Ù³ëÇÝ í×Çé | N6: å³ñï³å³ÝÇÝ ëÝ³ÝÏ ×³Ý³ã»Éáõ ¹ÇÙáõÙÁ Ù»ñÅí»É ¿ | O6: ¹ÇÙáõÙÁ ÃáÕÝí»É ¿ ³é³Ýó ùÝÝáõÃÛ³Ý | P6: ³Ý³í³ñï (³Û¹ ÃíáõÙ Ï³ë»óí³Í) | Q6: ÀÝ¹³Ù»ÝÁ | R6: ÃáÕÝí»É ¿ ³é³Ýó ùÝÝ³ñÏÙ³Ý | S6: Ñ³ëï³ïí»É ¿
I8: ¸ÇÙáõÙÇ ÁÝ¹áõÝáõÙÁ Ù»ñÅí»É ¿ | J8: ¸ÇÙáõÙÁ í»ñ³¹³ñÓí»É ¿ | K8: ÀÝ¹áõÝí»É ¿ í³ñáõÛÃ
E18: 1 | F18: 2 | G18: 3 | H18: 4 | I18: 5 | J18: 6 | K18: 7 | L18: 8 | M18: 9 | N18: 10 | O18: 11 | P18: 12 | Q18: 13 | R18: 14 | S18: 15 | T18: 16 | U18: 17 | V18: 18 | W18: 1+7=8+16+17 | Y18: 2=3+4 | AA18: 2=5+6+7 | AC18: 7=9+10+11+12
A19: 1 | B19: Æñ³í³µ³Ý³Ï³Ý ³ÝÓÇ ëÝ³ÝÏáõÃÛ³Ý í»ñ³µ»ñÛ³É | E19: 65 | F19: 76 | G19: 75 | H19: 1 | J19: 16 | K19: 60 | M19: 10 | O19: 50 | T19: 26 | U19: 99 | W19: =E19+K19 -> 125 | X19: =L19+T19+U19 -> 125 | Y19: =F19 -> 76 | Z19: =G19+H19 -> 76 | AA19: =F19 -> 76 | AB19: =I19+J19+K19 -> 76 | AC19: =K19 -> 60 | AD19: =M19+N19+O19+P19 -> 60
A20: 2 | B20: ²ÝÑ³ï Ó»éÝ»ñ»óÇ ëÝ³ÝÏáõÃÛ³Ý í»ñ³µ»ñÛ³É | E20: 8 | F20: 12 | G20: 10 | H20: 2 | I20: 1 | J20: 5 | K20: 6 | M20: 2 | O20: 4 | T20: 7 | U20: 7 | W20: =E20+K20 -> 14 | X20: =L20+T20+U20 -> 14 | Y20: =F20 -> 12 | Z20: =G20+H20 -> 12 | AA20: =F20 -> 12 | AB20: =I20+J20+K20 -> 12 | AC20: =K20 -> 6 | AD20: =M20+N20+O20+P20 -> 6
A21: 3 | B21: üÇ½ÇÏ³Ï³Ý ³ÝÓ³Ýó ëÝ³ÝÏáõÃÛ³Ý í»ñ³µ»ñÛ³É | E21: 103 | F21: 49 | G21: 47 | H21: 2 | J21: 10 | K21: 39 | L21: 1 | M21: 14 | O21: 25 | T21: 20 | U21: 121 | W21: =E21+K21 -> 142 | X21: =L21+T21+U21 -> 142 | Y21: =F21 -> 49 | Z21: =G21+H21 -> 49 | AA21: =F21 -> 49 | AB21: =I21+J21+K21 -> 49 | AC21: =K21 -> 39 | AD21: =M21+N21+O21+P21 -> 39
A22: 4 | B22: ԸՆԴՀԱՄԵՆԸ | E22: 176 | F22: 137 | G22: 132 | H22: 5 | I22: 1 | J22: 31 | K22: 105 | L22: 1 | M22: 26 | O22: 79 | T22: 53 | U22: 227 | W22: =E22+K22 -> 281 | X22: =L22+T22+U22 -> 281 | Y22: =F22 -> 137 | Z22: =G22+H22 -> 137 | AA22: =F22 -> 137 | AB22: =I22+J22+K22 -> 137 | AC22: =K22 -> 105 | AD22: =M22+N22+O22+P22 -> 105

Sheet Shengavit
A1: Ð²ÞìºîìàôÂÚàôÜ
A2: ºðºì²ÜÆ ՇԵՆԳԱՎԻԹ ì²ðâ²Î²Ü Þðæ²ÜÆ ÀÜ¸Ð²Üàôð Æð²ì²êàôÂÚ²Ü ²è²æÆÜ ²îÚ²ÜÆ ¸²î²ð²ÜÆ
H3: ¶àðÌàôÜºàôÂÚ²Ü ìºð²´ºðÚ²È êÜ²ÜÎàôÂÚ²Ü ¶àðÌºðàì 2016թ. 1-ԻՆ ԿԻՍԱՄՅԱԿ
A4: ìÇ×³Ï³·ñ³Ï³Ý ïáÕÇ Ñ³Ù³ñÁ | E4: ²Ý³í³ñï ·áñÍ»ñÇ ÙÝ³óáñ¹Á Ñ³ßí»ïáõ Å³Ù³Ý³Ï³ßñç³ÝÇ ëÏ½µáõÙ | F4: êï³óí³Í ¹ÇÙáõÙÝ»ñÇ (·áñÍ»ñ) ù³Ý³ÏÁ | L4: öáË³Ýóí»É ¿ ³ÛÉ ¹³ï³íáñÇ (Ï³½ÙÇ ÷á÷áËáõÃÛáõÝ) | M4: ì³ñáõÛÃ ÁÝ¹áõÝí³Í ¹ÇÙáõÙÝ»ñáí Ï³Û³óí³Í ¹³ï³Ï³Ý ³Ïï»ñ | Q4: Ü»ñÏ³Û³óí»É ¿ ýÇÝ³Ýë³Ï³Ý ³éáÕç³óÙ³Ý Íñ³·Çñ | T4: ²í³ñïí»É »Ý ·áñÍ»ñ Ñ³ßí»ïáõ Å³Ù³Ý³Ï³ßñç³ÝáõÙ | U4: ²Ý³í³ñï ·áñÍ»ñÇ ÙÝ³óáñ¹Á Ñ³ßí»ïáõ Å³Ù³Ý³Ï³ßñç³ÝÇ í»ñçáõÙ | V4: ´áÕáù³ñÏí»É »Ý í»ñ³ùÝÝÇã ¹³ï³ñ³Ý
F6: ÀÝ¹³Ù»ÝÁ | G6: ³Û¹ ÃíáõÙ Ñ³ñÏ³¹ñí³Í ëÝ³ÝÏáõÃÛáõÝ | H6: ³Û¹ ÃíáõÙ Ï³Ù³íáñ ëÝ³ÝÏáõÃÛáõÝ | I6: ëï³óí³Í ¹ÇÙáõÙÝ»ñÇ ÁÝÃ³óùÁ | M6: Ï³Û³óí»É ¿ å³ñï³å³ÝÇÝ ëÝ³ÝÏ ×³Ý³ã»Éáõ Ù³ëÇÝ í×Çé | N6: å³ñï³å³ÝÇÝ ëÝ³ÝÏ ×³Ý³ã»Éáõ ¹ÇÙáõÙÁ Ù»ñÅí»É ¿ | O6: ¹ÇÙáõÙÁ ÃáÕÝí»É ¿ ³é³Ýó ùÝÝáõÃÛ³Ý | P6: ³Ý³í³ñï (³Û¹ ÃíáõÙ Ï³ë»óí³Í) | Q6: ÀÝ¹³Ù»ÝÁ | R6: ÃáÕÝí»É ¿ ³é³Ýó ùÝÝ³ñÏÙ³Ý | S6: Ñ³ëï³ïí»É ¿
I8: ¸ÇÙáõÙÇ ÁÝ¹áõÝáõÙÁ Ù»ñÅí»É ¿ | J8: ¸ÇÙáõÙÁ í»ñ³¹³ñÓí»É ¿ | K8: ÀÝ¹áõÝí»É ¿ í³ñáõÛÃ
E18: 1 | F18: 2 | G18: 3 | H18: 4 | I18: 5 | J18: 6 | K18: 7 | L18: 8 | M18: 9 | N18: 10 | O18: 11 | P18: 12 | Q18: 13 | R18: 14 | S18: 15 | T18: 16 | U18: 17 | V18: 18 | W18: 1+7=8+16+17 | Y18: 2=3+4 | AA18: 2=5+6+7 | AC18: 7=9+10+11+12
A19: 1 | B19: Æñ³í³µ³Ý³Ï³Ý ³ÝÓÇ ëÝ³ÝÏáõÃÛ³Ý í»ñ³µ»ñÛ³É | E19: =[1]Ա.Կուբանյան!E19+[1]Ա.Չիչոյան!E19 -> 105 | F19: =[1]Ա.Կուբանյան!F19+[1]Ա.Չիչոյան!F19 -> 36 | G19: =[1]Ա.Կուբանյան!G19+[1]Ա.Չիչոյան!G19 -> 35 | H19: =[1]Ա.Կուբանյան!H19+[1]Ա.Չիչոյան!H19 -> 1 | I19: =[1]Ա.Կուբանյան!I19+[1]Ա.Չիչոյան!I19 -> 0 | J19: =[1]Ա.Կուբանյան!J19+[1]Ա.Չիչոյան!J19 -> 12 | K19: 24 | L19: =[1]Ա.Կուբանյան!L19+[1]Ա.Չիչոյան!M19 -> 4 | M19: =[1]Ա.Կուբանյան!M19+[1]Ա.Չիչոյան!M19 -> 10 | N19: =[1]Ա.Կուբանյան!N19+[1]Ա.Չիչոյան!N19 -> 1 | O19: =[1]Ա.Կուբանյան!O19+[1]Ա.Չիչոյան!O19 -> 0 | P19: =[1]Ա.Կուբանյան!P19+[1]Ա.Չիչոյան!P19 -> 13 | Q19: =[1]Ա.Կուբանյան!Q19+[1]Ա.Չիչոյան!Q19 -> 0 | R19: =[1]Ա.Կուբանյան!R19+[1]Ա.Չիչոյան!R19 -> 0 | S19: =[1]Ա.Կուբանյան!S19+[1]Ա.Չիչոյան!S19 -> 0 | T19: =[1]Ա.Կուբանյան!T19+[1]Ա.Չիչոյան!T19 -> 21 | U19: 104 | V19: =[1]Ա.Կուբանյան!V19+[1]Ա.Չիչոյան!V19 -> 3 | W19: =E19+K19 -> 129 | X19: =L19+T19+U19 -> 129 | Y19: =F19 -> 36 | Z19: =G19+H19 -> 36 | AA19: =F19 -> 36 | AB19: =I19+J19+K19 -> 36 | AC19: =K19 -> 24 | AD19: =M19+N19+O19+P19 -> 24
A20: 2 | B20: ²ÝÑ³ï Ó»éÝ»ñ»óÇ ëÝ³ÝÏáõÃÛ³Ý í»ñ³µ»ñÛ³É | E20: 16 | F20: =[1]Ա.Կուբանյան!F20+[1]Ա.Չիչոյան!F20 -> 18 | G20: =[1]Ա.Կուբանյան!G20+[1]Ա.Չիչոյան!G20 -> 18 | H20: =[1]Ա.Կուբանյան!H20+[1]Ա.Չիչոյան!H20 -> 0 | I20: =[1]Ա.Կուբանյան!I20+[1]Ա.Չիչոյան!I20 -> 0 | J20: =[1]Ա.Կուբանյան!J20+[1]Ա.Չիչոյան!J20 -> 14 | K20: 4 | L20: =[1]Ա.Կուբանյան!L20+[1]Ա.Չիչոյան!M20 -> 1 | M20: =[1]Ա.Կուբանյան!M20+[1]Ա.Չիչոյան!M20 -> 1 | N20: =[1]Ա.Կուբանյան!N20+[1]Ա.Չիչոյան!N20 -> 0 | O20: =[1]Ա.Կուբանյան!O20+[1]Ա.Չիչոյան!O20 -> 0 | P20: =[1]Ա.Կուբանյան!P20+[1]Ա.Չիչոյան!P20 -> 3 | Q20: =[1]Ա.Կուբանյան!Q20+[1]Ա.Չիչոյան!Q20 -> 0 | R20: =[1]Ա.Կուբանյան!R20+[1]Ա.Չիչոյան!R20 -> 0 | S20: =[1]Ա.Կուբանյան!S20+[1]Ա.Չիչոյան!S20 -> 0 | T20: =[1]Ա.Կուբանյան!T20+[1]Ա.Չիչոյան!T20 -> 2 | U20: 17 | V20: =[1]Ա.Կուբանյան!V20+[1]Ա.Չիչոյան!V20 -> 0 | W20: =E20+K20 -> 20 | X20: =L20+T20+U20 -> 20 | Y20: =F20 -> 18 | Z20: =G20+H20 -> 18 | AA20: =F20 -> 18 | AB20: =I20+J20+K20 -> 18 | AC20: =K20 -> 4 | AD20: =M20+N20+O20+P20 -> 4
A21: 3 | B21: üÇ½ÇÏ³Ï³Ý ³ÝÓ³Ýó ëÝ³ÝÏáõÃÛ³Ý í»ñ³µ»ñÛ³É | E21: =[1]Ա.Կուբանյան!E21+[1]Ա.Չիչոյան!E21 -> 98 | F21: 59 | G21: =[1]Ա.Կուբանյան!G21+[1]Ա.Չիչոյան!G21 -> 50 | H21: =[1]Ա.Կուբանյան!H21+[1]Ա.Չիչոյան!H21 -> 9 | I21: =[1]Ա.Կուբանյան!I21+[1]Ա.Չիչոյան!I21 -> 0 | J21: 26 | K21: 32 | L21: =[1]Ա.Կուբանյան!L21+[1]Ա.Չիչոյան!M21 -> 3 | M21: 7 | N21: =[1]Ա.Կուբանյան!N21+[1]Ա.Չիչոյան!N21 -> 2 | O21: =[1]Ա.Կուբանյան!O21+[1]Ա.Չիչոյան!O21 -> 0 | P21: =[1]Ա.Կուբանյան!P21+[1]Ա.Չիչոյան!P21 -> 23 | Q21: =[1]Ա.Կուբանյան!Q21+[1]Ա.Չիչոյան!Q21 -> 0 | R21: =[1]Ա.Կուբանյան!R21+[1]Ա.Չիչոյան!R21 -> 0 | S21: =[1]Ա.Կուբանյան!S21+[1]Ա.Չիչոյան!S21 -> 0 | T21: =[1]Ա.Կուբանյան!T21+[1]Ա.Չիչոյան!T21 -> 18 | U21: 109 | V21: =[1]Ա.Կուբանյան!V21+[1]Ա.Չիչոյան!V21 -> 3 | W21: =E21+K21 -> 130 | X21: =L21+T21+U21 -> 130 | Y21: =F21 -> 59 | Z21: =G21+H21 -> 59 | AA21: =F21 -> 59 | AB21: =I21+J21+K21 -> 58 | AC21: =K21 -> 32 | AD21: =M21+N21+O21+P21 -> 32
A22: 4 | B22: ԸՆԴՀԱՄԵՆԸ | E22: =[1]Ա.Կուբանյան!E22+[1]Ա.Չիչոյան!E22 -> 219 | F22: =[1]Ա.Կուբանյան!F22+[1]Ա.Չիչոյան!F22 -> 113 | G22: =[1]Ա.Կուբանյան!G22+[1]Ա.Չիչոյան!G22 -> 103 | H22: =[1]Ա.Կուբանյան!H22+[1]Ա.Չիչոյան!H22 -> 10 | I22: =[1]Ա.Կուբանյան!I22+[1]Ա.Չիչոյան!I22 -> 0 | J22: =[1]Ա.Կուբանյան!J22+[1]Ա.Չիչոյան!J22 -> 53 | K22: 60 | L22: =[1]Ա.Կուբանյան!L22+[1]Ա.Չիչոյան!M22 -> 8 | M22: 18 | N22: =[1]Ա.Կուբանյան!N22+[1]Ա.Չիչոյան!N22 -> 3 | O22: =[1]Ա.Կուբանյան!O22+[1]Ա.Չիչոյան!O22 -> 0 | P22: =[1]Ա.Կուբանյան!P22+[1]Ա.Չիչոյան!P22 -> 39 | Q22: =[1]Ա.Կուբանյան!Q22+[1]Ա.Չիչոյան!Q22 -> 0 | R22: =[1]Ա.Կուբանյան!R22+[1]Ա.Չիչոյան!R22 -> 0 | S22: =[1]Ա.Կուբանյան!S22+[1]Ա.Չիչոյան!S22 -> 0 | T22: =[1]Ա.Կուբանյան!T22+[1]Ա.Չիչոյան!T22 -> 41 | U22: 230 | V22: =[1]Ա.Կուբանյան!V22+[1]Ա.Չիչոյան!V22 -> 1 | W22: =E22+K22 -> 279 | X22: =L22+T22+U22 -> 279 | Y22: =F22 -> 113 | Z22: =G22+H22 -> 113 | AA22: =F22 -> 113 | AB22: =I22+J22+K22 -> 113 | AC22: =K22 -> 60 | AD22: =M22+N22+O22+P22 -> 60

Sheet Ajapnyak
A1: Ð²ÞìºîìàôÂÚàôÜ
A2: ºðºì²ÜÆ ²æ²öÜÚ²Î ºì ¸²ìÂ²ÞºÜ ì²ðâ²Î²Ü Þðæ²ÜÜºðÆ ÀÜ¸Ð²Üàôð Æð²ì²êàôÂÚ²Ü ²è²æÆÜ ²îÚ²ÜÆ ¸²î²ð²ÜÆ
H3: ¶àðÌàôÜºàôÂÚ²Ü ìºð²´ºðÚ²È êÜ²ÜÎàôÂÚ²Ü ¶àðÌºðàì 2016թ. 1-ԻՆ ԿԻՍԱՄՅԱԿ
A4: ìÇ×³Ï³·ñ³Ï³Ý ïáÕÇ Ñ³Ù³ñÁ | E4: ²Ý³í³ñï ·áñÍ»ñÇ ÙÝ³óáñ¹Á Ñ³ßí»ïáõ Å³Ù³Ý³Ï³ßñç³ÝÇ ëÏ½µáõÙ | F4: êï³óí³Í ¹ÇÙáõÙÝ»ñÇ (·áñÍ»ñ) ù³Ý³ÏÁ | L4: öáË³Ýóí»É ¿ ³ÛÉ ¹³ï³íáñÇ (Ï³½ÙÇ ÷á÷áËáõÃÛáõÝ) | M4: ì³ñáõÛÃ ÁÝ¹áõÝí³Í ¹ÇÙáõÙÝ»ñáí Ï³Û³óí³Í ¹³ï³Ï³Ý ³Ïï»ñ | Q4: Ü»ñÏ³Û³óí»É ¿ ýÇÝ³Ýë³Ï³Ý ³éáÕç³óÙ³Ý Íñ³·Çñ | T4: ²í³ñïí»É »Ý ·áñÍ»ñ Ñ³ßí»ïáõ Å³Ù³Ý³Ï³ßñç³ÝáõÙ | U4: ²Ý³í³ñï ·áñÍ»ñÇ ÙÝ³óáñ¹Á Ñ³ßí»ïáõ Å³Ù³Ý³Ï³ßñç³ÝÇ í»ñçáõÙ | V4: ´áÕáù³ñÏí»É »Ý í»ñ³ùÝÝÇã ¹³ï³ñ³Ý
F6: ÀÝ¹³Ù»ÝÁ | G6: ³Û¹ ÃíáõÙ Ñ³ñÏ³¹ñí³Í ëÝ³ÝÏáõÃÛáõÝ | H6: ³Û¹ ÃíáõÙ Ï³Ù³íáñ ëÝ³ÝÏáõÃÛáõÝ | I6: ëï³óí³Í ¹ÇÙáõÙÝ»ñÇ ÁÝÃ³óùÁ | M6: Ï³Û³óí»É ¿ å³ñï³å³ÝÇÝ ëÝ³ÝÏ ×³Ý³ã»Éáõ Ù³ëÇÝ í×Çé | N6: å³ñï³å³ÝÇÝ ëÝ³ÝÏ ×³Ý³ã»Éáõ ¹ÇÙáõÙÁ Ù»ñÅí»É ¿ | O6: ¹ÇÙáõÙÁ ÃáÕÝí»É ¿ ³é³Ýó ùÝÝáõÃÛ³Ý | P6: ³Ý³í³ñï (³Û¹ ÃíáõÙ Ï³ë»óí³Í) | Q6: ÀÝ¹³Ù»ÝÁ | R6: ÃáÕÝí»É ¿ ³é³Ýó ùÝÝ³ñÏÙ³Ý | S6: Ñ³ëï³ïí»É ¿
I8: ¸ÇÙáõÙÇ ÁÝ¹áõÝáõÙÁ Ù»ñÅí»É ¿ | J8: ¸ÇÙáõÙÁ í»ñ³¹³ñÓí»É ¿ | K8: ÀÝ¹áõÝí»É ¿ í³ñáõÛÃ
E18: 1 | F18: 2 | G18: 3 | H18: 4 | I18: 5 | J18: 6 | K18: 7 | L18: 8 | M18: 9 | N18: 10 | O18: 11 | P18: 12 | Q18: 13 | R18: 14 | S18: 15 | T18: 16 | U18: 17 | V18: 18 | W18: 1+7=8+16+17 | Y18: 2=3+4 | AA18: 2=5+6+7 | AC18: 7=9+10+11+12
A19: 1 | B19: Æñ³í³µ³Ý³Ï³Ý ³ÝÓÇ ëÝ³ÝÏáõÃÛ³Ý í»ñ³µ»ñÛ³É | E19: 73 | F19: 28 | G19: 28 | H19: 0 | I19: 0 | J19: 9 | K19: 19 | L19: 0 | M19: 4 | N19: 1 | O19: 0 | P19: 14 | Q19: 0 | R19: 0 | S19: 0 | T19: 2 | U19: 90 | V19: 0 | W19: =E19+K19 -> 92 | X19: =L19+T19+U19 -> 92 | Y19: =F19 -> 28 | Z19: =G19+H19 -> 28 | AA19: =F19 -> 28 | AB19: =I19+J19+K19 -> 28 | AC19: =K19 -> 19 | AD19: =M19+N19+O19+P19 -> 19
A20: 2 | B20: ²ÝÑ³ï Ó»éÝ»ñ»óÇ ëÝ³ÝÏáõÃÛ³Ý í»ñ³µ»ñÛ³É | E20: 24 | F20: 14 | G20: 14 | H20: 0 | I20: 0 | J20: 5 | K20: 9 | L20: 0 | M20: 1 | N20: 0 | O20: 0 | P20: 8 | Q20: 0 | R20: 0 | S20: 0 | T20: 0 | U20: 33 | V20: 0 | W20: =E20+K20 -> 33 | X20: =L20+T20+U20 -> 33 | Y20: =F20 -> 14 | Z20: =G20+H20 -> 14 | AA20: =F20 -> 14 | AB20: =I20+J20+K20 -> 14 | AC20: =K20 -> 9 | AD20: =M20+N20+O20+P20 -> 9
A21: 3 | B21: üÇ½ÇÏ³Ï³Ý ³ÝÓ³Ýó ëÝ³ÝÏáõÃÛ³Ý í»ñ³µ»ñÛ³É | E21: 115 | F21: 41 | G21: 39 | H21: 2 | I21: 0 | J21: 12 | K21: 29 | L21: 0 | M21: 4 | N21: 0 | O21: 0 | P21: 25 | Q21: 0 | R21: 0 | S21: 0 | T21: 3 | U21: 141 | V21: 1 | W21: =E21+K21 -> 144 | X21: =L21+T21+U21 -> 144 | Y21: =F21 -> 41 | Z21: =G21+H21 -> 41 | AA21: =F21 -> 41 | AB21: =I21+J21+K21 -> 41 | AC21: =K21 -> 29 | AD21: =M21+N21+O21+P21 -> 29
A22: 4 | B22: ԸՆԴՀԱՄԵՆԸ | E22: 212 | F22: 83 | G22: 81 | H22: 2 | I22: 0 | J22: 26 | K22: 57 | L22: 0 | M22: 9 | N22: 1 | O22: 0 | P22: 47 | Q22: 0 | R22: 0 | S22: 0 | T22: 5 | U22: 264 | V22: 1 | W22: =E22+K22 -> 269 | X22: =L22+T22+U22 -> 269 | Y22: =F22 -> 83 | Z22: =G22+H22 -> 83 | AA22: =F22 -> 83 | AB22: =I22+J22+K22 -> 83 | AC22: =K22 -> 57 | AD22: =M22+N22+O22+P22 -> 57

Sheet Kentron
A1: Ð²ÞìºîìàôÂÚàôÜ
A2: ºðºì²ÜÆ ԿԵՆՏՐՈՆ ºì ՆՈՐՔ ՄԱՐԱՇ ì²ðâ²Î²Ü Þðæ²ÜÜºðÆ ÀÜ¸Ð²Üàôð Æð²ì²êàôÂÚ²Ü ²è²æÆÜ ²îÚ²ÜÆ ¸²î²ð²ÜÆ
H3: ¶àðÌàôÜºàôÂÚ²Ü ìºð²´ºðÚ²È êÜ²ÜÎàôÂÚ²Ü ¶àðÌºðàì 2016թ. 1-ԻՆ ԿԻՍԱՄՅԱԿ
A4: ìÇ×³Ï³·ñ³Ï³Ý ïáÕÇ Ñ³Ù³ñÁ | E4: ²Ý³í³ñï ·áñÍ»ñÇ ÙÝ³óáñ¹Á Ñ³ßí»ïáõ Å³Ù³Ý³Ï³ßñç³ÝÇ ëÏ½µáõÙ | F4: êï³óí³Í ¹ÇÙáõÙÝ»ñÇ (·áñÍ»ñ) ù³Ý³ÏÁ | L4: öáË³Ýóí»É ¿ ³ÛÉ ¹³ï³íáñÇ (Ï³½ÙÇ ÷á÷áËáõÃÛáõÝ) | M4: ì³ñáõÛÃ ÁÝ¹áõÝí³Í ¹ÇÙáõÙÝ»ñáí Ï³Û³óí³Í ¹³ï³Ï³Ý ³Ïï»ñ | Q4: Ü»ñÏ³Û³óí»É ¿ ýÇÝ³Ýë³Ï³Ý ³éáÕç³óÙ³Ý Íñ³·Çñ | T4: ²í³ñïí»É »Ý ·áñÍ»ñ Ñ³ßí»ïáõ Å³Ù³Ý³Ï³ßñç³ÝáõÙ | U4: ²Ý³í³ñï ·áñÍ»ñÇ ÙÝ³óáñ¹Á Ñ³ßí»ïáõ Å³Ù³Ý³Ï³ßñç³ÝÇ í»ñçáõÙ | V4: ´áÕáù³ñÏí»É »Ý í»ñ³ùÝÝÇã ¹³ï³ñ³Ý
F6: ÀÝ¹³Ù»ÝÁ | G6: ³Û¹ ÃíáõÙ Ñ³ñÏ³¹ñí³Í ëÝ³ÝÏáõÃÛáõÝ | H6: ³Û¹ ÃíáõÙ Ï³Ù³íáñ ëÝ³ÝÏáõÃÛáõÝ | I6: ëï³óí³Í ¹ÇÙáõÙÝ»ñÇ ÁÝÃ³óùÁ | M6: Ï³Û³óí»É ¿ å³ñï³å³ÝÇÝ ëÝ³ÝÏ ×³Ý³ã»Éáõ Ù³ëÇÝ í×Çé | N6: å³ñï³å³ÝÇÝ ëÝ³ÝÏ ×³Ý³ã»Éáõ ¹ÇÙáõÙÁ Ù»ñÅí»É ¿ | O6: ¹ÇÙáõÙÁ ÃáÕÝí»É ¿ ³é³Ýó ùÝÝáõÃÛ³Ý | P6: ³Ý³í³ñï (³Û¹ ÃíáõÙ Ï³ë»óí³Í) | Q6: ÀÝ¹³Ù»ÝÁ | R6: ÃáÕÝí»É ¿ ³é³Ýó ùÝÝ³ñÏÙ³Ý | S6: Ñ³ëï³ïí»É ¿
I8: ¸ÇÙáõÙÇ ÁÝ¹áõÝáõÙÁ Ù»ñÅí»É ¿ | J8: ¸ÇÙáõÙÁ í»ñ³¹³ñÓí»É ¿ | K8: ÀÝ¹áõÝí»É ¿ í³ñáõÛÃ
E18: 1 | F18: 2 | G18: 3 | H18: 4 | I18: 5 | J18: 6 | K18: 7 | L18: 8 | M18: 9 | N18: 10 | O18: 11 | P18: 12 | Q18: 13 | R18: 14 | S18: 15 | T18: 16 | U18: 17 | V18: 18 | W18: 1+7=8+16+17 | Y18: 2=3+4 | AA18: 2=5+6+7 | AC18: 7=9+10+11+12
A19: 1 | B19: Æñ³í³µ³Ý³Ï³Ý ³ÝÓÇ ëÝ³ÝÏáõÃÛ³Ý í»ñ³µ»ñÛ³É | E19: 563 | F19: 104 | G19: 101 | H19: 3 | J19: 2 | K19: 102 | M19: 57 | N19: 2 | P19: 43 | T19: 27 | U19: 638 | V19: 13 | W19: =E19+K19 -> 665 | X19: =L19+T19+U19 -> 665 | Y19: =F19 -> 104 | Z19: =G19+H19 -> 104 | AA19: =F19 -> 104 | AB19: =I19+J19+K19 -> 104 | AC19: =K19 -> 102 | AD19: =M19+N19+O19+P19 -> 102
A20: 2 | B20: ²ÝÑ³ï Ó»éÝ»ñ»óÇ ëÝ³ÝÏáõÃÛ³Ý í»ñ³µ»ñÛ³É | E20: 46 | F20: 17 | G20: 14 | H20: 3 | K20: 17 | M20: 12 | P20: 5 | T20: 8 | U20: 55 | V20: 1 | W20: =E20+K20 -> 63 | X20: =L20+T20+U20 -> 63 | Y20: =F20 -> 17 | Z20: =G20+H20 -> 17 | AA20: =F20 -> 17 | AB20: =I20+J20+K20 -> 17 | AC20: =K20 -> 17 | AD20: =M20+N20+O20+P20 -> 17
A21: 3 | B21: üÇ½ÇÏ³Ï³Ý ³ÝÓ³Ýó ëÝ³ÝÏáõÃÛ³Ý í»ñ³µ»ñÛ³É | E21: 390 | F21: 102 | G21: 93 | H21: 9 | J21: 9 | K21: 93 | M21: 58 | N21: 12 | P21: 23 | T21: 17 | U21: 466 | V21: 23 | W21: =E21+K21 -> 483 | X21: =L21+T21+U21 -> 483 | Y21: =F21 -> 102 | Z21: =G21+H21 -> 102 | AA21: =F21 -> 102 | AB21: =I21+J21+K21 -> 102 | AC21: =K21 -> 93 | AD21: =M21+N21+O21+P21 -> 93
A22: 4 | B22: ԸՆԴՀԱՄԵՆԸ | E22: 999 | F22: 223 | G22: 208 | H22: 15 | J22: 11 | K22: 212 | M22: 127 | N22: 14 | P22: 71 | T22: 52 | U22: 1159 | V22: 37 | W22: =E22+K22 -> 1211 | X22: =L22+T22+U22 -> 1211 | Y22: =F22 -> 223 | Z22: =G22+H22 -> 223 | AA22: =F22 -> 223 | AB22: =I22+J22+K22 -> 223 | AC22: =K22 -> 212 | AD22: =M22+N22+O22+P22 -> 212

Sheet Erebuni
A1: Ð²ÞìºîìàôÂÚàôÜ
A2: ºðºì²ÜÆ ԷՐԵԲՈՒՆԻ ԵՎ ՆՈՒԲԱՐԱՇԵՆ ì²ðâ²Î²Ü Þðæ²ÜÜºðÆ ÀÜ¸Ð²Üàôð Æð²ì²êàôÂÚ²Ü ²è²æÆÜ ²îÚ²ÜÆ ¸²î²ð²ÜÆ
H3: ¶àðÌàôÜºàôÂÚ²Ü ìºð²´ºðÚ²È êÜ²ÜÎàôÂÚ²Ü ¶àðÌºðàì 2016թ. 1-ԻՆ ԿԻՍԱՄՅԱԿ
A4: ìÇ×³Ï³·ñ³Ï³Ý ïáÕÇ Ñ³Ù³ñÁ | E4: ²Ý³í³ñï ·áñÍ»ñÇ ÙÝ³óáñ¹Á Ñ³ßí»ïáõ Å³Ù³Ý³Ï³ßñç³ÝÇ ëÏ½µáõÙ | F4: êï³óí³Í ¹ÇÙáõÙÝ»ñÇ (·áñÍ»ñ) ù³Ý³ÏÁ | L4: öáË³Ýóí»É ¿ ³ÛÉ ¹³ï³íáñÇ (Ï³½ÙÇ ÷á÷áËáõÃÛáõÝ) | M4: ì³ñáõÛÃ ÁÝ¹áõÝí³Í ¹ÇÙáõÙÝ»ñáí Ï³Û³óí³Í ¹³ï³Ï³Ý ³Ïï»ñ | Q4: Ü»ñÏ³Û³óí»É ¿ ýÇÝ³Ýë³Ï³Ý ³éáÕç³óÙ³Ý Íñ³·Çñ | T4: ²í³ñïí»É »Ý ·áñÍ»ñ Ñ³ßí»ïáõ Å³Ù³Ý³Ï³ßñç³ÝáõÙ | U4: ²Ý³í³ñï ·áñÍ»ñÇ ÙÝ³óáñ¹Á Ñ³ßí»ïáõ Å³Ù³Ý³Ï³ßñç³ÝÇ í»ñçáõÙ | V4: ´áÕáù³ñÏí»É »Ý í»ñ³ùÝÝÇã ¹³ï³ñ³Ý
F6: ÀÝ¹³Ù»ÝÁ | G6: ³Û¹ ÃíáõÙ Ñ³ñÏ³¹ñí³Í ëÝ³ÝÏáõÃÛáõÝ | H6: ³Û¹ ÃíáõÙ Ï³Ù³íáñ ëÝ³ÝÏáõÃÛáõÝ | I6: ëï³óí³Í ¹ÇÙáõÙÝ»ñÇ ÁÝÃ³óùÁ | M6: Ï³Û³óí»É ¿ å³ñï³å³ÝÇÝ ëÝ³ÝÏ ×³Ý³ã»Éáõ Ù³ëÇÝ í×Çé | N6: å³ñï³å³ÝÇÝ ëÝ³ÝÏ ×³Ý³ã»Éáõ ¹ÇÙáõÙÁ Ù»ñÅí»É ¿ | O6: ¹ÇÙáõÙÁ ÃáÕÝí»É ¿ ³é³Ýó ùÝÝáõÃÛ³Ý | P6: ³Ý³í³ñï (³Û¹ ÃíáõÙ Ï³ë»óí³Í) | Q6: ÀÝ¹³Ù»ÝÁ | R6: ÃáÕÝí»É ¿ ³é³Ýó ùÝÝ³ñÏÙ³Ý | S6: Ñ³ëï³ïí»É ¿
I8: ¸ÇÙáõÙÇ ÁÝ¹áõÝáõÙÁ Ù»ñÅí»É ¿ | J8: ¸ÇÙáõÙÁ í»ñ³¹³ñÓí»É ¿ | K8: ÀÝ¹áõÝí»É ¿ í³ñáõÛÃ
E18: 1 | F18: 2 | G18: 3 | H18: 4 | I18: 5 | J18: 6 | K18: 7 | L18: 8 | M18: 9 | N18: 10 | O18: 11 | P18: 12 | Q18: 13 | R18: 14 | S18: 15 | T18: 16 | U18: 17 | V18: 18 | W18: 1+7=8+16+17 | Y18: 2=3+4 | AA18: 2=5+6+7 | AC18: 7=9+10+11+12
A19: 1 | B19: Æñ³í³µ³Ý³Ï³Ý ³ÝÓÇ ëÝ³ÝÏáõÃÛ³Ý í»ñ³µ»ñÛ³É | E19: 44 | F19: 26 | G19: 26 | H19: 0 | I19: 0 | J19: 7 | K19: 19 | L19: 0 | M19: 13 | N19: 0 | O19: 0 | P19: 6 | Q19: 0 | R19: 0 | S19: 0 | T19: 6 | U19: 57 | V19: 2 | W19: =E19+K19 -> 63 | X19: =L19+T19+U19 -> 63 | Y19: =F19 -> 26 | Z19: =G19+H19 -> 26 | AA19: =F19 -> 26 | AB19: =I19+J19+K19 -> 26 | AC19: =K19 -> 19 | AD19: =M19+N19+O19+P19 -> 19
A20: 2 | B20: ²ÝÑ³ï Ó»éÝ»ñ»óÇ ëÝ³ÝÏáõÃÛ³Ý í»ñ³µ»ñÛ³É | E20: 14 | F20: 23 | G20: 22 | H20: 1 | I20: 0 | J20: 9 | K20: 14 | L20: 0 | M20: 4 | N20: 0 | O20: 1 | P20: 9 | Q20: 1 | R20: 1 | S20: 0 | T20: 4 | U20: 24 | V20: 0 | W20: =E20+K20 -> 28 | X20: =L20+T20+U20 -> 28 | Y20: =F20 -> 23 | Z20: =G20+H20 -> 23 | AA20: =F20 -> 23 | AB20: =I20+J20+K20 -> 23 | AC20: =K20 -> 14 | AD20: =M20+N20+O20+P20 -> 14
A21: 3 | B21: üÇ½ÇÏ³Ï³Ý ³ÝÓ³Ýó ëÝ³ÝÏáõÃÛ³Ý í»ñ³µ»ñÛ³É | E21: 81 | F21: 40 | G21: 38 | H21: 2 | I21: 0 | J21: 12 | K21: 28 | L21: 0 | M21: 13 | N21: 0 | O21: 0 | P21: 15 | Q21: 1 | R21: 0 | S21: 1 | T21: 10 | U21: 99 | V21: 1 | W21: =E21+K21 -> 109 | X21: =L21+T21+U21 -> 109 | Y21: =F21 -> 40 | Z21: =G21+H21 -> 40 | AA21: =F21 -> 40 | AB21: =I21+J21+K21 -> 40 | AC21: =K21 -> 28 | AD21: =M21+N21+O21+P21 -> 28
A22: 4 | B22: ԸՆԴՀԱՄԵՆԸ | E22: 139 | F22: 89 | G22: 86 | H22: 3 | I22: 0 | J22: 28 | K22: 61 | L22: 0 | M22: 30 | N22: 0 | O22: 1 | P22: 30 | Q22: 2 | R22: 1 | S22: 1 | T22: 20 | U22: 180 | V22: 3 | W22: =E22+K22 -> 200 | X22: =L22+T22+U22 -> 200 | Y22: =F22 -> 89 | Z22: =G22+H22 -> 89 | AA22: =F22 -> 89 | AB22: =I22+J22+K22 -> 89 | AC22: =K22 -> 61 | AD22: =M22+N22+O22+P22 -> 61

Sheet Malatia
A1: Ð²ÞìºîìàôÂÚàôÜ
A2: ºðºì²ÜÆ ՄԱԼԱԹԻԱ ՍԵԲԱՍՏԻԱ ì²ðâ²Î²Ü Þðæ²ÜÆ ÀÜ¸Ð²Üàôð Æð²ì²êàôÂÚ²Ü ²è²æÆÜ ²îÚ²ÜÆ ¸²î²ð²ÜÆ
H3: ¶àðÌàôÜºàôÂÚ²Ü ìºð²´ºðÚ²È êÜ²ÜÎàôÂÚ²Ü ¶àðÌºðàì 2016թ. 1-ԻՆ ԿԻՍԱՄՅԱԿ
A4: ìÇ×³Ï³·ñ³Ï³Ý ïáÕÇ Ñ³Ù³ñÁ | E4: ²Ý³í³ñï ·áñÍ»ñÇ ÙÝ³óáñ¹Á Ñ³ßí»ïáõ Å³Ù³Ý³Ï³ßñç³ÝÇ ëÏ½µáõÙ | F4: êï³óí³Í ¹ÇÙáõÙÝ»ñÇ (·áñÍ»ñ) ù³Ý³ÏÁ | L4: öáË³Ýóí»É ¿ ³ÛÉ ¹³ï³íáñÇ (Ï³½ÙÇ ÷á÷áËáõÃÛáõÝ) | M4: ì³ñáõÛÃ ÁÝ¹áõÝí³Í ¹ÇÙáõÙÝ»ñáí Ï³Û³óí³Í ¹³ï³Ï³Ý ³Ïï»ñ | Q4: Ü»ñÏ³Û³óí»É ¿ ýÇÝ³Ýë³Ï³Ý ³éáÕç³óÙ³Ý Íñ³·Çñ | T4: ²í³ñïí»É »Ý ·áñÍ»ñ Ñ³ßí»ïáõ Å³Ù³Ý³Ï³ßñç³ÝáõÙ | U4: ²Ý³í³ñï ·áñÍ»ñÇ ÙÝ³óáñ¹Á Ñ³ßí»ïáõ Å³Ù³Ý³Ï³ßñç³ÝÇ í»ñçáõÙ | V4: ´áÕáù³ñÏí»É »Ý í»ñ³ùÝÝÇã ¹³ï³ñ³Ý
F6: ÀÝ¹³Ù»ÝÁ | G6: ³Û¹ ÃíáõÙ Ñ³ñÏ³¹ñí³Í ëÝ³ÝÏáõÃÛáõÝ | H6: ³Û¹ ÃíáõÙ Ï³Ù³íáñ ëÝ³ÝÏáõÃÛáõÝ | I6: ëï³óí³Í ¹ÇÙáõÙÝ»ñÇ ÁÝÃ³óùÁ | M6: Ï³Û³óí»É ¿ å³ñï³å³ÝÇÝ ëÝ³ÝÏ ×³Ý³ã»Éáõ Ù³ëÇÝ í×Çé | N6: å³ñï³å³ÝÇÝ ëÝ³ÝÏ ×³Ý³ã»Éáõ ¹ÇÙáõÙÁ Ù»ñÅí»É ¿ | O6: ¹ÇÙáõÙÁ ÃáÕÝí»É ¿ ³é³Ýó ùÝÝáõÃÛ³Ý | P6: ³Ý³í³ñï (³Û¹ ÃíáõÙ Ï³ë»óí³Í) | Q6: ÀÝ¹³Ù»ÝÁ | R6: ÃáÕÝí»É ¿ ³é³Ýó ùÝÝ³ñÏÙ³Ý | S6: Ñ³ëï³ïí»É ¿
I8: ¸ÇÙáõÙÇ ÁÝ¹áõÝáõÙÁ Ù»ñÅí»É ¿ | J8: ¸ÇÙáõÙÁ í»ñ³¹³ñÓí»É ¿ | K8: ÀÝ¹áõÝí»É ¿ í³ñáõÛÃ
E18: 1 | F18: 2 | G18: 3 | H18: 4 | I18: 5 | J18: 6 | K18: 7 | L18: 8 | M18: 9 | N18: 10 | O18: 11 | P18: 12 | Q18: 13 | R18: 14 | S18: 15 | T18: 16 | U18: 17 | V18: 18 | W18: 1+7=8+16+17 | Y18: 2=3+4 | AA18: 2=5+6+7 | AC18: 7=9+10+11+12
A19: 1 | B19: Æñ³í³µ³Ý³Ï³Ý ³ÝÓÇ ëÝ³ÝÏáõÃÛ³Ý í»ñ³µ»ñÛ³É | E19: 85 | F19: 19 | G19: 19 | J19: 1 | K19: 18 | M19: 4 | P19: 14 | T19: 2 | U19: 101 | W19: =E19+K19 -> 103 | X19: =L19+T19+U19 -> 103 | Y19: =F19 -> 19 | Z19: =G19+H19 -> 19 | AA19: =F19 -> 19 | AB19: =I19+J19+K19 -> 19 | AC19: =K19 -> 18 | AD19: =M19+N19+O19+P19 -> 18
A20: 2 | B20: ²ÝÑ³ï Ó»éÝ»ñ»óÇ ëÝ³ÝÏáõÃÛ³Ý í»ñ³µ»ñÛ³É | E20: 24 | F20: 3 | G20: 3 | K20: 3 | M20: 2 | P20: 1 | U20: 27 | W20: =E20+K20 -> 27 | X20: =L20+T20+U20 -> 27 | Y20: =F20 -> 3 | Z20: =G20+H20 -> 3 | AA20: =F20 -> 3 | AB20: =I20+J20+K20 -> 3 | AC20: =K20 -> 3 | AD20: =M20+N20+O20+P20 -> 3
A21: 3 | B21: üÇ½ÇÏ³Ï³Ý ³ÝÓ³Ýó ëÝ³ÝÏáõÃÛ³Ý í»ñ³µ»ñÛ³É | E21: 134 | F21: 25 | G21: 22 | H21: 3 | J21: 2 | K21: 23 | M21: 4 | P21: 19 | T21: 2 | U21: 155 | W21: =E21+K21 -> 157 | X21: =L21+T21+U21 -> 157 | Y21: =F21 -> 25 | Z21: =G21+H21 -> 25 | AA21: =F21 -> 25 | AB21: =I21+J21+K21 -> 25 | AC21: =K21 -> 23 | AD21: =M21+N21+O21+P21 -> 23
A22: 4 | B22: ԸՆԴՀԱՄԵՆԸ | E22: 243 | F22: 47 | G22: 44 | H22: 3 | J22: 3 | K22: 44 | M22: 10 | P22: 34 | T22: 4 | U22: 283 | W22: =E22+K22 -> 287 | X22: =L22+T22+U22 -> 287 | Y22: =F22 -> 47 | Z22: =G22+H22 -> 47 | AA22: =F22 -> 47 | AB22: =I22+J22+K22 -> 47 | AC22: =K22 -> 44 | AD22: =M22+N22+O22+P22 -> 44

Sheet Arabkir
A1: Ð²ÞìºîìàôÂÚàôÜ
A2: ºðºì²ÜÆ ²ð²´ÎÆð ºì ø²Ü²øºè-¼ºÚÂàôÜ ì²ðâ²Î²Ü Þðæ²ÜÜºðÆ ÀÜ¸Ð²Üàôð Æð²ì²êàôÂÚ²Ü ²è²æÆÜ ²îÚ²ÜÆ ¸²î²ð²ÜÆ
H3: ¶àðÌàôÜºàôÂÚ²Ü ìºð²´ºðÚ²È êÜ²ÜÎàôÂÚ²Ü ¶àðÌºðàì 2016թ. 1-ԻՆ ԿԻՍԱՄՅԱԿ
A4: ìÇ×³Ï³·ñ³Ï³Ý ïáÕÇ Ñ³Ù³ñÁ | E4: ²Ý³í³ñï ·áñÍ»ñÇ ÙÝ³óáñ¹Á Ñ³ßí»ïáõ Å³Ù³Ý³Ï³ßñç³ÝÇ ëÏ½µáõÙ | F4: êï³óí³Í ¹ÇÙáõÙÝ»ñÇ (·áñÍ»ñ) ù³Ý³ÏÁ | L4: öáË³Ýóí»É ¿ ³ÛÉ ¹³ï³íáñÇ (Ï³½ÙÇ ÷á÷áËáõÃÛáõÝ) | M4: ì³ñáõÛÃ ÁÝ¹áõÝí³Í ¹ÇÙáõÙÝ»ñáí Ï³Û³óí³Í ¹³ï³Ï³Ý ³Ïï»ñ | Q4: Ü»ñÏ³Û³óí»É ¿ ýÇÝ³Ýë³Ï³Ý ³éáÕç³óÙ³Ý Íñ³·Çñ | T4: ²í³ñïí»É »Ý ·áñÍ»ñ Ñ³ßí»ïáõ Å³Ù³Ý³Ï³ßñç³ÝáõÙ | U4: ²Ý³í³ñï ·áñÍ»ñÇ ÙÝ³óáñ¹Á Ñ³ßí»ïáõ Å³Ù³Ý³Ï³ßñç³ÝÇ í»ñçáõÙ | V4: ´áÕáù³ñÏí»É »Ý í»ñ³ùÝÝÇã ¹³ï³ñ³Ý
F6: ÀÝ¹³Ù»ÝÁ | G6: ³Û¹ ÃíáõÙ Ñ³ñÏ³¹ñí³Í ëÝ³ÝÏáõÃÛáõÝ | H6: ³Û¹ ÃíáõÙ Ï³Ù³íáñ ëÝ³ÝÏáõÃÛáõÝ | I6: ëï³óí³Í ¹ÇÙáõÙÝ»ñÇ ÁÝÃ³óùÁ | M6: Ï³Û³óí»É ¿ å³ñï³å³ÝÇÝ ëÝ³ÝÏ ×³Ý³ã»Éáõ Ù³ëÇÝ í×Çé | N6: å³ñï³å³ÝÇÝ ëÝ³ÝÏ ×³Ý³ã»Éáõ ¹ÇÙáõÙÁ Ù»ñÅí»É ¿ | O6: ¹ÇÙáõÙÁ ÃáÕÝí»É ¿ ³é³Ýó ùÝÝáõÃÛ³Ý | P6: ³Ý³í³ñï (³Û¹ ÃíáõÙ Ï³ë»óí³Í) | Q6: ÀÝ¹³Ù»ÝÁ | R6: ÃáÕÝí»É ¿ ³é³Ýó ùÝÝ³ñÏÙ³Ý | S6: Ñ³ëï³ïí»É ¿
I8: ¸ÇÙáõÙÇ ÁÝ¹áõÝáõÙÁ Ù»ñÅí»É ¿ | J8: ¸ÇÙáõÙÁ í»ñ³¹³ñÓí»É ¿ | K8: ÀÝ¹áõÝí»É ¿ í³ñáõÛÃ
E18: 1 | F18: 2 | G18: 3 | H18: 4 | I18: 5 | J18: 6 | K18: 7 | L18: 8 | M18: 9 | N18: 10 | O18: 11 | P18: 12 | Q18: 13 | R18: 14 | S18: 15 | T18: 16 | U18: 17 | V18: 18 | W18: 1+7=8+16+17 | Y18: 2=3+4 | AA18: 2=5+6+7 | AC18: 7=9+10+11+12
A19: 1 | B19: Æñ³í³µ³Ý³Ï³Ý ³ÝÓÇ ëÝ³ÝÏáõÃÛ³Ý í»ñ³µ»ñÛ³É | E19: 209 | F19: 140 | G19: 140 | I19: 1 | J19: 11 | K19: 128 | M19: 29 | N19: 7 | P19: 92 | T19: 12 | U19: 325 | V19: 6 | W19: =E19+K19 -> 337 | X19: =L19+T19+U19 -> 337 | Y19: =F19 -> 140 | Z19: =G19+H19 -> 140 | AA19: =F19 -> 140 | AB19: =I19+J19+K19 -> 140 | AC19: =K19 -> 128 | AD19: =M19+N19+O19+P19 -> 128
A20: 2 | B20: ²ÝÑ³ï Ó»éÝ»ñ»óÇ ëÝ³ÝÏáõÃÛ³Ý í»ñ³µ»ñÛ³É | E20: 17 | F20: 15 | G20: 15 | J20: 1 | K20: 14 | M20: 2 | N20: 2 | P20: 10 | U20: 31 | V20: 2 | W20: =E20+K20 -> 31 | X20: =L20+T20+U20 -> 31 | Y20: =F20 -> 15 | Z20: =G20+H20 -> 15 | AA20: =F20 -> 15 | AB20: =I20+J20+K20 -> 15 | AC20: =K20 -> 14 | AD20: =M20+N20+O20+P20 -> 14
A21: 3 | B21: üÇ½ÇÏ³Ï³Ý ³ÝÓ³Ýó ëÝ³ÝÏáõÃÛ³Ý í»ñ³µ»ñÛ³É | E21: 163 | F21: 68 | G21: 63 | H21: 5 | I21: 1 | J21: 8 | K21: 59 | M21: 24 | N21: 3 | P21: 32 | T21: 12 | U21: 210 | V21: 5 | W21: =E21+K21 -> 222 | X21: =L21+T21+U21 -> 222 | Y21: =F21 -> 68 | Z21: =G21+H21 -> 68 | AA21: =F21 -> 68 | AB21: =I21+J21+K21 -> 68 | AC21: =K21 -> 59 | AD21: =M21+N21+O21+P21 -> 59
A22: 4 | B22: ԸՆԴԱՄԵՆԸ | E22: 389 | F22: 223 | G22: 218 | H22: 5 | I22: 2 | J22: 20 | K22: 201 | M22: 55 | N22: 12 | P22: 134 | T22: 24 | U22: 566 | V22: 13 | W22: =E22+K22 -> 590 | X22: =L22+T22+U22 -> 590 | Y22: =F22 -> 223 | Z22: =G22+H22 -> 223 | AA22: =F22 -> 223 | AB22: =I22+J22+K22 -> 223 | AC22: =K22 -> 201 | AD22: =M22+N22+O22+P22 -> 201

Sheet Syuniq
A1: Ð²ÞìºîìàôÂÚàôÜ
A2: êÚàôÜÆøÆ Ø²ð¼Æ ÀÜ¸Ð²Üàôð Æð²ì²êàôÂÚ²Ü ²è²æÆÜ ²îÚ²ÜÆ ¸²î²ð²ÜÆ
H3: ¶àðÌàôÜºàôÂÚ²Ü ìºð²´ºðÚ²È êÜ²ÜÎàôÂÚ²Ü ¶àðÌºðàì 2016թ. 1-ԻՆ ԿԻՍԱՄՅԱԿ
A4: ìÇ×³Ï³·ñ³Ï³Ý ïáÕÇ Ñ³Ù³ñÁ | E4: ²Ý³í³ñï ·áñÍ»ñÇ ÙÝ³óáñ¹Á Ñ³ßí»ïáõ Å³Ù³Ý³Ï³ßñç³ÝÇ ëÏ½µáõÙ | F4: êï³óí³Í ¹ÇÙáõÙÝ»ñÇ (·áñÍ»ñ) ù³Ý³ÏÁ | L4: öáË³Ýóí»É ¿ ³ÛÉ ¹³ï³íáñÇ (Ï³½ÙÇ ÷á÷áËáõÃÛáõÝ) | M4: ì³ñáõÛÃ ÁÝ¹áõÝí³Í ¹ÇÙáõÙÝ»ñáí Ï³Û³óí³Í ¹³ï³Ï³Ý ³Ïï»ñ | Q4: Ü»ñÏ³Û³óí»É ¿ ýÇÝ³Ýë³Ï³Ý ³éáÕç³óÙ³Ý Íñ³·Çñ | T4: ²í³ñïí»É »Ý ·áñÍ»ñ Ñ³ßí»ïáõ Å³Ù³Ý³Ï³ßñç³ÝáõÙ | U4: ²Ý³í³ñï ·áñÍ»ñÇ ÙÝ³óáñ¹Á Ñ³ßí»ïáõ Å³Ù³Ý³Ï³ßñç³ÝÇ í»ñçáõÙ | V4: ´áÕáù³ñÏí»É »Ý í»ñ³ùÝÝÇã ¹³ï³ñ³Ý
F6: ÀÝ¹³Ù»ÝÁ | G6: ³Û¹ ÃíáõÙ Ñ³ñÏ³¹ñí³Í ëÝ³ÝÏáõÃÛáõÝ | H6: ³Û¹ ÃíáõÙ Ï³Ù³íáñ ëÝ³ÝÏáõÃÛáõÝ | I6: ëï³óí³Í ¹ÇÙáõÙÝ»ñÇ ÁÝÃ³óùÁ | M6: Ï³Û³óí»É ¿ å³ñï³å³ÝÇÝ ëÝ³ÝÏ ×³Ý³ã»Éáõ Ù³ëÇÝ í×Çé | N6: å³ñï³å³ÝÇÝ ëÝ³ÝÏ ×³Ý³ã»Éáõ ¹ÇÙáõÙÁ Ù»ñÅí»É ¿ | O6: ¹ÇÙáõÙÁ ÃáÕÝí»É ¿ ³é³Ýó ùÝÝáõÃÛ³Ý | P6: ³Ý³í³ñï (³Û¹ ÃíáõÙ Ï³ë»óí³Í) | Q6: ÀÝ¹³Ù»ÝÁ | R6: ÃáÕÝí»É ¿ ³é³Ýó ùÝÝ³ñÏÙ³Ý | S6: Ñ³ëï³ïí»É ¿
I8: ¸ÇÙáõÙÇ ÁÝ¹áõÝáõÙÁ Ù»ñÅí»É ¿ | J8: ¸ÇÙáõÙÁ í»ñ³¹³ñÓí»É ¿ | K8: ÀÝ¹áõÝí»É ¿ í³ñáõÛÃ
E18: 1 | F18: 2 | G18: 3 | H18: 4 | I18: 5 | J18: 6 | K18: 7 | L18: 8 | M18: 9 | N18: 10 | O18: 11 | P18: 12 | Q18: 13 | R18: 14 | S18: 15 | T18: 16 | U18: 17 | V18: 18 | W18: 1+7=8+16+17 | Y18: 2=3+4 | AA18: 2=5+6+7 | AC18: 7=9+10+11+12
A19: 1 | B19: Æñ³í³µ³Ý³Ï³Ý ³ÝÓÇ ëÝ³ÝÏáõÃÛ³Ý í»ñ³µ»ñÛ³É | E19: 86 | F19: 9 | G19: 8 | H19: 1 | I19: 0 | J19: 2 | K19: 7 | L19: 0 | M19: 1 | N19: 0 | O19: 0 | P19: 6 | Q19: 0 | R19: 0 | S19: 0 | T19: 3 | U19: 89 | V19: 0 | W19: =E19+K19 -> 93 | X19: =L19+T19+U19 -> 92 | Y19: =F19 -> 9 | Z19: =G19+H19 -> 9 | AA19: =F19 -> 9 | AB19: =I19+J19+K19 -> 9 | AC19: =K19 -> 7 | AD19: =M19+N19+O19+P19 -> 7
A20: 2 | B20: ²ÝÑ³ï Ó»éÝ»ñ»óÇ ëÝ³ÝÏáõÃÛ³Ý í»ñ³µ»ñÛ³É | E20: 43 | F20: 0 | G20: 0 | H20: 0 | I20: 0 | J20: 0 | K20: 0 | L20: 0 | M20: 0 | N20: 0 | O20: 0 | P20: 0 | Q20: 0 | R20: 0 | S20: 0 | T20: 2 | U20: 41 | V20: 0 | W20: =E20+K20 -> 43 | X20: =L20+T20+U20 -> 43 | Y20: =F20 -> 0 | Z20: =G20+H20 -> 0 | AA20: =F20 -> 0 | AB20: =I20+J20+K20 -> 0 | AC20: =K20 -> 0 | AD20: =M20+N20+O20+P20 -> 0
A21: 3 | B21: üÇ½ÇÏ³Ï³Ý ³ÝÓ³Ýó ëÝ³ÝÏáõÃÛ³Ý í»ñ³µ»ñÛ³É | E21: 148 | F21: 13 | G21: 7 | H21: 6 | I21: 0 | J21: 4 | K21: 9 | L21: 0 | M21: 2 | N21: 2 | O21: 0 | P21: 5 | Q21: 0 | R21: 0 | S21: 0 | T21: 3 | U21: 154 | V21: 0 | W21: =E21+K21 -> 157 | X21: =L21+T21+U21 -> 157 | Y21: =F21 -> 13 | Z21: =G21+H21 -> 13 | AA21: =F21 -> 13 | AB21: =I21+J21+K21 -> 13 | AC21: =K21 -> 9 | AD21: =M21+N21+O21+P21 -> 9
A22: 4 | B22: ԸՆԴՀԱՄԵՆԸ | E22: 277 | F22: 22 | G22: 15 | H22: 7 | I22: 0 | J22: 6 | K22: 16 | L22: 0 | M22: 3 | N22: 2 | O22: 0 | P22: 11 | Q22: 0 | R22: 0 | S22: 0 | T22: 8 | U22: 284 | V22: 0 | W22: =E22+K22 -> 293 | X22: =L22+T22+U22 -> 292 | Y22: =F22 -> 22 | Z22: =G22+H22 -> 22 | AA22: =F22 -> 22 | AB22: =I22+J22+K22 -> 22 | AC22: =K22 -> 16 | AD22: =M22+N22+O22+P22 -> 16
B25: 1 գործով կայացվել է որոշում գործն ըստ ընդդատության ուղարկելու մասին

Sheet Ararat
A1: Ð²ÞìºîìàôÂÚàôÜ
A2: ²ð²ð²îÆ ºì ì²Úàò ÒàðÆ Ø²ð¼ºðÆ ÀÜ¸Ð²Üàôð Æð²ì²êàôÂÚ²Ü ²è²æÆÜ ²îÚ²ÜÆ ¸²î²ð²ÜÆ
H3: ¶àðÌàôÜºàôÂÚ²Ü ìºð²´ºðÚ²È êÜ²ÜÎàôÂÚ²Ü ¶àðÌºðàì 2016թ. 1-ԻՆ ԿԻՍԱՄՅԱԿ
A4: ìÇ×³Ï³·ñ³Ï³Ý ïáÕÇ Ñ³Ù³ñÁ | E4: ²Ý³í³ñï ·áñÍ»ñÇ ÙÝ³óáñ¹Á Ñ³ßí»ïáõ Å³Ù³Ý³Ï³ßñç³ÝÇ ëÏ½µáõÙ | F4: êï³óí³Í ¹ÇÙáõÙÝ»ñÇ (·áñÍ»ñ) ù³Ý³ÏÁ | L4: öáË³Ýóí»É ¿ ³ÛÉ ¹³ï³íáñÇ (Ï³½ÙÇ ÷á÷áËáõÃÛáõÝ) | M4: ì³ñáõÛÃ ÁÝ¹áõÝí³Í ¹ÇÙáõÙÝ»ñáí Ï³Û³óí³Í ¹³ï³Ï³Ý ³Ïï»ñ | Q4: Ü»ñÏ³Û³óí»É ¿ ýÇÝ³Ýë³Ï³Ý ³éáÕç³óÙ³Ý Íñ³·Çñ | T4: ²í³ñïí»É »Ý ·áñÍ»ñ Ñ³ßí»ïáõ Å³Ù³Ý³Ï³ßñç³ÝáõÙ | U4: ²Ý³í³ñï ·áñÍ»ñÇ ÙÝ³óáñ¹Á Ñ³ßí»ïáõ Å³Ù³Ý³Ï³ßñç³ÝÇ í»ñçáõÙ | V4: ´áÕáù³ñÏí»É »Ý í»ñ³ùÝÝÇã ¹³ï³ñ³Ý
F6: ÀÝ¹³Ù»ÝÁ | G6: ³Û¹ ÃíáõÙ Ñ³ñÏ³¹ñí³Í ëÝ³ÝÏáõÃÛáõÝ | H6: ³Û¹ ÃíáõÙ Ï³Ù³íáñ ëÝ³ÝÏáõÃÛáõÝ | I6: ëï³óí³Í ¹ÇÙáõÙÝ»ñÇ ÁÝÃ³óùÁ | M6: Ï³Û³óí»É ¿ å³ñï³å³ÝÇÝ ëÝ³ÝÏ ×³Ý³ã»Éáõ Ù³ëÇÝ í×Çé | N6: å³ñï³å³ÝÇÝ ëÝ³ÝÏ ×³Ý³ã»Éáõ ¹ÇÙáõÙÁ Ù»ñÅí»É ¿ | O6: ¹ÇÙáõÙÁ ÃáÕÝí»É ¿ ³é³Ýó ùÝÝáõÃÛ³Ý | P6: ³Ý³í³ñï (³Û¹ ÃíáõÙ Ï³ë»óí³Í) | Q6: ÀÝ¹³Ù»ÝÁ | R6: ÃáÕÝí»É ¿ ³é³Ýó ùÝÝ³ñÏÙ³Ý | S6: Ñ³ëï³ïí»É ¿
I8: ¸ÇÙáõÙÇ ÁÝ¹áõÝáõÙÁ Ù»ñÅí»É ¿ | J8: ¸ÇÙáõÙÁ í»ñ³¹³ñÓí»É ¿ | K8: ÀÝ¹áõÝí»É ¿ í³ñáõÛÃ
E18: 1 | F18: 2 | G18: 3 | H18: 4 | I18: 5 | J18: 6 | K18: 7 | L18: 8 | M18: 9 | N18: 10 | O18: 11 | P18: 12 | Q18: 13 | R18: 14 | S18: 15 | T18: 16 | U18: 17 | V18: 18 | W18: 1+7=8+16+17 | Y18: 2=3+4 | AA18: 2=5+6+7 | AC18: 7=9+10+11+12
A19: 1 | B19: Æñ³í³µ³Ý³Ï³Ý ³ÝÓÇ ëÝ³ÝÏáõÃÛ³Ý í»ñ³µ»ñÛ³É | E19: 151 | F19: 42 | G19: 38 | H19: 4 | J19: 4 | K19: 38 | M19: 9 | N19: 1 | P19: 28 | T19: 1 | U19: 188 | V19: 2 | W19: =E19+K19 -> 189 | X19: =L19+T19+U19 -> 189 | Y19: =F19 -> 42 | Z19: =G19+H19 -> 42 | AA19: =F19 -> 42 | AB19: =I19+J19+K19 -> 42 | AC19: =K19 -> 38 | AD19: =M19+N19+O19+P19 -> 38
A20: 2 | B20: ²ÝÑ³ï Ó»éÝ»ñ»óÇ ëÝ³ÝÏáõÃÛ³Ý í»ñ³µ»ñÛ³É | E20: 29 | F20: 18 | G20: 18 | J20: 3 | K20: 15 | M20: 8 | P20: 7 | U20: 44 | W20: =E20+K20 -> 44 | X20: =L20+T20+U20 -> 44 | Y20: =F20 -> 18 | Z20: =G20+H20 -> 18 | AA20: =F20 -> 18 | AB20: =I20+J20+K20 -> 18 | AC20: =K20 -> 15 | AD20: =M20+N20+O20+P20 -> 15
A21: 3 | B21: üÇ½ÇÏ³Ï³Ý ³ÝÓ³Ýó ëÝ³ÝÏáõÃÛ³Ý í»ñ³µ»ñÛ³É | E21: 179 | F21: 53 | G21: 52 | H21: 1 | J21: 6 | K21: 47 | M21: 20 | P21: 27 | T21: 2 | U21: 224 | V21: 5 | W21: =E21+K21 -> 226 | X21: =L21+T21+U21 -> 226 | Y21: =F21 -> 53 | Z21: =G21+H21 -> 53 | AA21: =F21 -> 53 | AB21: =I21+J21+K21 -> 53 | AC21: =K21 -> 47 | AD21: =M21+N21+O21+P21 -> 47
A22: 4 | B22: ԸՆԴՀԱՄԵՆԸ | E22: 359 | F22: 113 | G22: 108 | H22: 5 | J22: 13 | K22: 100 | M22: 37 | N22: 1 | P22: 62 | T22: 3 | U22: 456 | V22: 7 | W22: =E22+K22 -> 459 | X22: =L22+T22+U22 -> 459 | Y22: =F22 -> 113 | Z22: =G22+H22 -> 113 | AA22: =F22 -> 113 | AB22: =I22+J22+K22 -> 113 | AC22: =K22 -> 100 | AD22: =M22+N22+O22+P22 -> 100

Sheet Armavir
A1: Ð²ÞìºîìàôÂÚàôÜ
A2: ²ðØ²ìÆðÆ Ø²ð¼Æ ÀÜ¸Ð²Üàôð Æð²ì²êàôÂÚ²Ü ²è²æÆÜ ²îÚ²ÜÆ ¸²î²ð²ÜÆ
H3: ¶àðÌàôÜºàôÂÚ²Ü ìºð²´ºðÚ²È êÜ²ÜÎàôÂÚ²Ü ¶àðÌºðàì 2016թ. 1-ԻՆ ԿԻՍԱՄՅԱԿ
A4: ìÇ×³Ï³·ñ³Ï³Ý ïáÕÇ Ñ³Ù³ñÁ | E4: ²Ý³í³ñï ·áñÍ»ñÇ ÙÝ³óáñ¹Á Ñ³ßí»ïáõ Å³Ù³Ý³Ï³ßñç³ÝÇ ëÏ½µáõÙ | F4: êï³óí³Í ¹ÇÙáõÙÝ»ñÇ (·áñÍ»ñ) ù³Ý³ÏÁ | L4: öáË³Ýóí»É ¿ ³ÛÉ ¹³ï³íáñÇ (Ï³½ÙÇ ÷á÷áËáõÃÛáõÝ) | M4: ì³ñáõÛÃ ÁÝ¹áõÝí³Í ¹ÇÙáõÙÝ»ñáí Ï³Û³óí³Í ¹³ï³Ï³Ý ³Ïï»ñ | Q4: Ü»ñÏ³Û³óí»É ¿ ýÇÝ³Ýë³Ï³Ý ³éáÕç³óÙ³Ý Íñ³·Çñ | T4: ²í³ñïí»É »Ý ·áñÍ»ñ Ñ³ßí»ïáõ Å³Ù³Ý³Ï³ßñç³ÝáõÙ | U4: ²Ý³í³ñï ·áñÍ»ñÇ ÙÝ³óáñ¹Á Ñ³ßí»ïáõ Å³Ù³Ý³Ï³ßñç³ÝÇ í»ñçáõÙ | V4: ´áÕáù³ñÏí»É »Ý í»ñ³ùÝÝÇã ¹³ï³ñ³Ý
F6: ÀÝ¹³Ù»ÝÁ | G6: ³Û¹ ÃíáõÙ Ñ³ñÏ³¹ñí³Í ëÝ³ÝÏáõÃÛáõÝ | H6: ³Û¹ ÃíáõÙ Ï³Ù³íáñ ëÝ³ÝÏáõÃÛáõÝ | I6: ëï³óí³Í ¹ÇÙáõÙÝ»ñÇ ÁÝÃ³óùÁ | M6: Ï³Û³óí»É ¿ å³ñï³å³ÝÇÝ ëÝ³ÝÏ ×³Ý³ã»Éáõ Ù³ëÇÝ í×Çé | N6: å³ñï³å³ÝÇÝ ëÝ³ÝÏ ×³Ý³ã»Éáõ ¹ÇÙáõÙÁ Ù»ñÅí»É ¿ | O6: ¹ÇÙáõÙÁ ÃáÕÝí»É ¿ ³é³Ýó ùÝÝáõÃÛ³Ý | P6: ³Ý³í³ñï (³Û¹ ÃíáõÙ Ï³ë»óí³Í) | Q6: ÀÝ¹³Ù»ÝÁ | R6: ÃáÕÝí»É ¿ ³é³Ýó ùÝÝ³ñÏÙ³Ý | S6: Ñ³ëï³ïí»É ¿
I8: ¸ÇÙáõÙÇ ÁÝ¹áõÝáõÙÁ Ù»ñÅí»É ¿ | J8: ¸ÇÙáõÙÁ í»ñ³¹³ñÓí»É ¿ | K8: ÀÝ¹áõÝí»É ¿ í³ñáõÛÃ
E18: 1 | F18: 2 | G18: 3 | H18: 4 | I18: 5 | J18: 6 | K18: 7 | L18: 8 | M18: 9 | N18: 10 | O18: 11 | P18: 12 | Q18: 13 | R18: 14 | S18: 15 | T18: 16 | U18: 17 | V18: 18 | W18: 1+7=8+16+17 | Y18: 2=3+4 | AA18: 2=5+6+7 | AC18: 7=9+10+11+12
A19: 1 | B19: Æñ³í³µ³Ý³Ï³Ý ³ÝÓÇ ëÝ³ÝÏáõÃÛ³Ý í»ñ³µ»ñÛ³É | E19: 51 | F19: 15 | G19: 11 | H19: 4 | J19: 1 | K19: 14 | L19: 4 | M19: 5 | P19: 9 | T19: 1 | U19: 60 | W19: =E19+K19 -> 65 | X19: =L19+T19+U19 -> 65 | Y19: =F19 -> 15 | Z19: =G19+H19 -> 15 | AA19: =F19 -> 15 | AB19: =I19+J19+K19 -> 15 | AC19: =K19 -> 14 | AD19: =M19+N19+O19+P19 -> 14
A20: 2 | B20: ²ÝÑ³ï Ó»éÝ»ñ»óÇ ëÝ³ÝÏáõÃÛ³Ý í»ñ³µ»ñÛ³É | E20: 15 | F20: 13 | G20: 8 | H20: 5 | K20: 13 | L20: 4 | M20: 4 | P20: 9 | T20: 1 | U20: 23 | W20: =E20+K20 -> 28 | X20: =L20+T20+U20 -> 28 | Y20: =F20 -> 13 | Z20: =G20+H20 -> 13 | AA20: =F20 -> 13 | AB20: =I20+J20+K20 -> 13 | AC20: =K20 -> 13 | AD20: =M20+N20+O20+P20 -> 13
A21: 3 | B21: üÇ½ÇÏ³Ï³Ý ³ÝÓ³Ýó ëÝ³ÝÏáõÃÛ³Ý í»ñ³µ»ñÛ³É | E21: 80 | F21: 58 | G21: 35 | H21: 23 | J21: 2 | K21: 56 | L21: 20 | M21: 22 | P21: 34 | T21: 6 | U21: 110 | V21: 3 | W21: =E21+K21 -> 136 | X21: =L21+T21+U21 -> 136 | Y21: =F21 -> 58 | Z21: =G21+H21 -> 58 | AA21: =F21 -> 58 | AB21: =I21+J21+K21 -> 58 | AC21: =K21 -> 56 | AD21: =M21+N21+O21+P21 -> 56
A22: 4 | B22: ԸՆԴՀԱՄԵՆԸ | E22: 146 | F22: 86 | G22: 54 | H22: 32 | J22: 3 | K22: 83 | L22: 28 | M22: 31 | P22: 52 | T22: 8 | U22: 193 | V22: 3 | W22: =E22+K22 -> 229 | X22: =L22+T22+U22 -> 229 | Y22: =F22 -> 86 | Z22: =G22+H22 -> 86 | AA22: =F22 -> 86 | AB22: =I22+J22+K22 -> 86 | AC22: =K22 -> 83 | AD22: =M22+N22+O22+P22 -> 83

Sheet Shirak
A1: Ð²ÞìºîìàôÂÚàôÜ
A2: ÞÆð²ÎÆ Ø²ð¼Æ ÀÜ¸Ð²Üàôð Æð²ì²êàôÂÚ²Ü ²è²æÆÜ ²îÚ²ÜÆ ¸²î²ð²ÜÆ
H3: ¶àðÌàôÜºàôÂÚ²Ü ìºð²´ºðÚ²È êÜ²ÜÎàôÂÚ²Ü ¶àðÌºðàì 2016թ. 1-ԻՆ ԿԻՍԱՄՅԱԿ
A4: ìÇ×³Ï³·ñ³Ï³Ý ïáÕÇ Ñ³Ù³ñÁ | E4: ²Ý³í³ñï ·áñÍ»ñÇ ÙÝ³óáñ¹Á Ñ³ßí»ïáõ Å³Ù³Ý³Ï³ßñç³ÝÇ ëÏ½µáõÙ | F4: êï³óí³Í ¹ÇÙáõÙÝ»ñÇ (·áñÍ»ñ) ù³Ý³ÏÁ | L4: öáË³Ýóí»É ¿ ³ÛÉ ¹³ï³íáñÇ (Ï³½ÙÇ ÷á÷áËáõÃÛáõÝ) | M4: ì³ñáõÛÃ ÁÝ¹áõÝí³Í ¹ÇÙáõÙÝ»ñáí Ï³Û³óí³Í ¹³ï³Ï³Ý ³Ïï»ñ | Q4: Ü»ñÏ³Û³óí»É ¿ ýÇÝ³Ýë³Ï³Ý ³éáÕç³óÙ³Ý Íñ³·Çñ | T4: ²í³ñïí»É »Ý ·áñÍ»ñ Ñ³ßí»ïáõ Å³Ù³Ý³Ï³ßñç³ÝáõÙ | U4: ²Ý³í³ñï ·áñÍ»ñÇ ÙÝ³óáñ¹Á Ñ³ßí»ïáõ Å³Ù³Ý³Ï³ßñç³ÝÇ í»ñçáõÙ | V4: ´áÕáù³ñÏí»É »Ý í»ñ³ùÝÝÇã ¹³ï³ñ³Ý
F6: ÀÝ¹³Ù»ÝÁ | G6: ³Û¹ ÃíáõÙ Ñ³ñÏ³¹ñí³Í ëÝ³ÝÏáõÃÛáõÝ | H6: ³Û¹ ÃíáõÙ Ï³Ù³íáñ ëÝ³ÝÏáõÃÛáõÝ | I6: ëï³óí³Í ¹ÇÙáõÙÝ»ñÇ ÁÝÃ³óùÁ | M6: Ï³Û³óí»É ¿ å³ñï³å³ÝÇÝ ëÝ³ÝÏ ×³Ý³ã»Éáõ Ù³ëÇÝ í×Çé | N6: å³ñï³å³ÝÇÝ ëÝ³ÝÏ ×³Ý³ã»Éáõ ¹ÇÙáõÙÁ Ù»ñÅí»É ¿ | O6: ¹ÇÙáõÙÁ ÃáÕÝí»É ¿ ³é³Ýó ùÝÝáõÃÛ³Ý | P6: ³Ý³í³ñï (³Û¹ ÃíáõÙ Ï³ë»óí³Í) | Q6: ÀÝ¹³Ù»ÝÁ | R6: ÃáÕÝí»É ¿ ³é³Ýó ùÝÝ³ñÏÙ³Ý | S6: Ñ³ëï³ïí»É ¿
I8: ¸ÇÙáõÙÇ ÁÝ¹áõÝáõÙÁ Ù»ñÅí»É ¿ | J8: ¸ÇÙáõÙÁ í»ñ³¹³ñÓí»É ¿ | K8: ÀÝ¹áõÝí»É ¿ í³ñáõÛÃ
E18: 1 | F18: 2 | G18: 3 | H18: 4 | I18: 5 | J18: 6 | K18: 7 | L18: 8 | M18: 9 | N18: 10 | O18: 11 | P18: 12 | Q18: 13 | R18: 14 | S18: 15 | T18: 16 | U18: 17 | V18: 18 | W18: 1+7=8+16+17 | Y18: 2=3+4 | AA18: 2=5+6+7 | AC18: 7=9+10+11+12
A19: 1 | B19: Æñ³í³µ³Ý³Ï³Ý ³ÝÓÇ ëÝ³ÝÏáõÃÛ³Ý í»ñ³µ»ñÛ³É | E19: 99 | F19: 36 | G19: 34 | H19: 2 | I19: 0 | J19: 1 | K19: 35 | L19: 0 | M19: 19 | N19: 0 | O19: 0 | P19: 15 | Q19: 0 | R19: 0 | S19: 0 | T19: 3 | U19: 131 | V19: 0 | W19: =E19+K19 -> 134 | X19: =L19+T19+U19 -> 134 | Y19: =F19 -> 36 | Z19: =+G19+H19 -> 36 | AA19: =F19 -> 36 | AB19: =I19+J19+K19 -> 36 | AC19: =K19 -> 35 | AD19: =M19+N19+O19+P19 -> 34
A20: 2 | B20: ²ÝÑ³ï Ó»éÝ»ñ»óÇ ëÝ³ÝÏáõÃÛ³Ý í»ñ³µ»ñÛ³É | E20: 45 | F20: 17 | G20: 15 | H20: 2 | I20: 1 | J20: 2 | K20: 14 | L20: 0 | M20: 10 | N20: 0 | O20: 0 | P20: 4 | Q20: 0 | R20: 0 | S20: 0 | T20: 1 | U20: 58 | V20: 0 | W20: =E20+K20 -> 59 | X20: =L20+T20+U20 -> 59 | Y20: =F20 -> 17 | Z20: =+G20+H20 -> 17 | AA20: =F20 -> 17 | AB20: =I20+J20+K20 -> 17 | AC20: =K20 -> 14 | AD20: =M20+N20+O20+P20 -> 14
A21: 3 | B21: üÇ½ÇÏ³Ï³Ý ³ÝÓ³Ýó ëÝ³ÝÏáõÃÛ³Ý í»ñ³µ»ñÛ³É | E21: 109 | F21: 55 | G21: 38 | H21: 17 | I21: 0 | J21: 10 | K21: 45 | L21: 0 | M21: 29 | N21: 3 | O21: 0 | P21: 13 | Q21: 0 | R21: 0 | S21: 0 | T21: 6 | U21: 148 | V21: 0 | W21: =E21+K21 -> 154 | X21: =L21+T21+U21 -> 154 | Y21: =F21 -> 55 | Z21: =+G21+H21 -> 55 | AA21: =F21 -> 55 | AB21: =I21+J21+K21 -> 55 | AC21: =K21 -> 45 | AD21: =M21+N21+O21+P21 -> 45
A22: 4 | B22: ԸՆԴՀԱՄԵՆԸ | E22: =SUM(E19:E21) -> 253 | F22: =SUM(F19:F21) -> 108 | G22: =SUM(G19:G21) -> 87 | H22: =SUM(H19:H21) -> 21 | I22: =SUM(I19:I21) -> 1 | J22: =SUM(J19:J21) -> 13 | K22: =SUM(K19:K21) -> 94 | L22: =SUM(L19:L21) -> 0 | ... AD22: =SUM(AD19:AD21) -> 93

Sheet Kotayq
A1: Ð²ÞìºîìàôÂÚàôÜ
A2: Îàî²ÚøÆ Ø²ð¼Æ ÀÜ¸Ð²Üàôð Æð²ì²êàôÂÚ²Ü ²è²æÆÜ ²îÚ²ÜÆ ¸²î²ð²ÜÆ
H3: ¶àðÌàôÜºàôÂÚ²Ü ìºð²´ºðÚ²È êÜ²ÜÎàôÂÚ²Ü ¶àðÌºðàì 2016թ. 1-ԻՆ ԿԻՍԱՄՅԱԿ
A4: ìÇ×³Ï³·ñ³Ï³Ý ïáÕÇ Ñ³Ù³ñÁ | E4: ²Ý³í³ñï ·áñÍ»ñÇ ÙÝ³óáñ¹Á Ñ³ßí»ïáõ Å³Ù³Ý³Ï³ßñç³ÝÇ ëÏ½µáõÙ | F4: êï³óí³Í ¹ÇÙáõÙÝ»ñÇ (·áñÍ»ñ) ù³Ý³ÏÁ | L4: öáË³Ýóí»É ¿ ³ÛÉ ¹³ï³íáñÇ (Ï³½ÙÇ ÷á÷áËáõÃÛáõÝ) | M4: ì³ñáõÛÃ ÁÝ¹áõÝí³Í ¹ÇÙáõÙÝ»ñáí Ï³Û³óí³Í ¹³ï³Ï³Ý ³Ïï»ñ | Q4: Ü»ñÏ³Û³óí»É ¿ ýÇÝ³Ýë³Ï³Ý ³éáÕç³óÙ³Ý Íñ³·Çñ | T4: ²í³ñïí»É »Ý ·áñÍ»ñ Ñ³ßí»ïáõ Å³Ù³Ý³Ï³ßñç³ÝáõÙ | U4: ²Ý³í³ñï ·áñÍ»ñÇ ÙÝ³óáñ¹Á Ñ³ßí»ïáõ Å³Ù³Ý³Ï³ßñç³ÝÇ í»ñçáõÙ | V4: ´áÕáù³ñÏí»É »Ý í»ñ³ùÝÝÇã ¹³ï³ñ³Ý
F6: ÀÝ¹³Ù»ÝÁ | G6: ³Û¹ ÃíáõÙ Ñ³ñÏ³¹ñí³Í ëÝ³ÝÏáõÃÛáõÝ | H6: ³Û¹ ÃíáõÙ Ï³Ù³íáñ ëÝ³ÝÏáõÃÛáõÝ | I6: ëï³óí³Í ¹ÇÙáõÙÝ»ñÇ ÁÝÃ³óùÁ | M6: Ï³Û³óí»É ¿ å³ñï³å³ÝÇÝ ëÝ³ÝÏ ×³Ý³ã»Éáõ Ù³ëÇÝ í×Çé | N6: å³ñï³å³ÝÇÝ ëÝ³ÝÏ ×³Ý³ã»Éáõ ¹ÇÙáõÙÁ Ù»ñÅí»É ¿ | O6: ¹ÇÙáõÙÁ ÃáÕÝí»É ¿ ³é³Ýó ùÝÝáõÃÛ³Ý | P6: ³Ý³í³ñï (³Û¹ ÃíáõÙ Ï³ë»óí³Í) | Q6: ÀÝ¹³Ù»ÝÁ | R6: ÃáÕÝí»É ¿ ³é³Ýó ùÝÝ³ñÏÙ³Ý | S6: Ñ³ëï³ïí»É ¿
I8: ¸ÇÙáõÙÇ ÁÝ¹áõÝáõÙÁ Ù»ñÅí»É ¿ | J8: ¸ÇÙáõÙÁ í»ñ³¹³ñÓí»É ¿ | K8: ÀÝ¹áõÝí»É ¿ í³ñáõÛÃ
E18: 1 | F18: 2 | G18: 3 | H18: 4 | I18: 5 | J18: 6 | K18: 7 | L18: 8 | M18: 9 | N18: 10 | O18: 11 | P18: 12 | Q18: 13 | R18: 14 | S18: 15 | T18: 16 | U18: 17 | V18: 18 | W18: 1+7=8+16+17 | Y18: 2=3+4 | AA18: 2=5+6+7 | AC18: 7=9+10+11+12
A19: 1 | B19: Æñ³í³µ³Ý³Ï³Ý ³ÝÓÇ ëÝ³ÝÏáõÃÛ³Ý í»ñ³µ»ñÛ³É | E19: 147 | F19: 151 | G19: 137 | H19: 14 | K19: 151 | L19: 94 | M19: 18 | P19: 133 | Q19: 1 | S19: 1 | T19: 22 | U19: 182 | V19: 3 | W19: =E19+K19 -> 298 | X19: =L19+T19+U19 -> 298 | Y19: =F19 -> 151 | Z19: =G19+H19 -> 151 | AA19: =F19 -> 151 | AB19: =I19+J19+K19 -> 151 | AC19: =K19 -> 151 | AD19: =M19+N19+O19+P19 -> 151
A20: 2 | B20: ²ÝÑ³ï Ó»éÝ»ñ»óÇ ëÝ³ÝÏáõÃÛ³Ý í»ñ³µ»ñÛ³É | E20: 48 | F20: 41 | G20: 39 | H20: 2 | K20: 41 | L20: 38 | M20: 8 | P20: 33 | Q20: 2 | S20: 2 | T20: 3 | U20: 48 | W20: =E20+K20 -> 89 | X20: =L20+T20+U20 -> 89 | Y20: =F20 -> 41 | Z20: =G20+H20 -> 41 | AA20: =F20 -> 41 | AB20: =I20+J20+K20 -> 41 | AC20: =K20 -> 41 | AD20: =M20+N20+O20+P20 -> 41
A21: 3 | B21: üÇ½ÇÏ³Ï³Ý ³ÝÓ³Ýó ëÝ³ÝÏáõÃÛ³Ý í»ñ³µ»ñÛ³É | E21: 213 | F21: 207 | G21: 171 | H21: 36 | J21: 3 | K21: 204 | L21: 162 | M21: 30 | P21: 174 | Q21: 1 | S21: 1 | T21: 14 | U21: 241 | V21: 7 | W21: =E21+K21 -> 417 | X21: =L21+T21+U21 -> 417 | Y21: =F21 -> 207 | Z21: =G21+H21 -> 207 | AA21: =F21 -> 207 | AB21: =I21+J21+K21 -> 207 | AC21: =K21 -> 204 | AD21: =M21+N21+O21+P21 -> 204
A22: 4 | B22: ԸՆԴՀԱՄԵՆԸ | E22: 408 | F22: 399 | G22: 347 | H22: 52 | J22: 3 | K22: 396 | L22: 294 | M22: 56 | P22: 340 | Q22: 4 | S22: 4 | T22: 39 | U22: 471 | V22: 10 | W22: =E22+K22 -> 804 | X22: =L22+T22+U22 -> 804 | Y22: =F22 -> 399 | Z22: =G22+H22 -> 399 | AA22: =F22 -> 399 | AB22: =I22+J22+K22 -> 399 | AC22: =K22 -> 396 | AD22: =M22+N22+O22+P22 -> 396

Sheet Aragacotn
A1: Ð²ÞìºîìàôÂÚàôÜ
A2: ²ð²¶²ÌàîÜÆ Ø²ð¼Æ ÀÜ¸Ð²Üàôð Æð²ì²êàôÂÚ²Ü ²è²æÆÜ ²îÚ²ÜÆ ¸²î²ð²ÜÆ
H3: ¶àðÌàôÜºàôÂÚ²Ü ìºð²´ºðÚ²È êÜ²ÜÎàôÂÚ²Ü ¶àðÌºðàì 2016թ. 1-ԻՆ ԿԻՍԱՄՅԱԿ
A4: ìÇ×³Ï³·ñ³Ï³Ý ïáÕÇ Ñ³Ù³ñÁ | E4: ²Ý³í³ñï ·áñÍ»ñÇ ÙÝ³óáñ¹Á Ñ³ßí»ïáõ Å³Ù³Ý³Ï³ßñç³ÝÇ ëÏ½µáõÙ | F4: êï³óí³Í ¹ÇÙáõÙÝ»ñÇ (·áñÍ»ñ) ù³Ý³ÏÁ | L4: öáË³Ýóí»É ¿ ³ÛÉ ¹³ï³íáñÇ (Ï³½ÙÇ ÷á÷áËáõÃÛáõÝ) | M4: ì³ñáõÛÃ ÁÝ¹áõÝí³Í ¹ÇÙáõÙÝ»ñáí Ï³Û³óí³Í ¹³ï³Ï³Ý ³Ïï»ñ | Q4: Ü»ñÏ³Û³óí»É ¿ ýÇÝ³Ýë³Ï³Ý ³éáÕç³óÙ³Ý Íñ³·Çñ | T4: ²í³ñïí»É »Ý ·áñÍ»ñ Ñ³ßí»ïáõ Å³Ù³Ý³Ï³ßñç³ÝáõÙ | U4: ²Ý³í³ñï ·áñÍ»ñÇ ÙÝ³óáñ¹Á Ñ³ßí»ïáõ Å³Ù³Ý³Ï³ßñç³ÝÇ í»ñçáõÙ | V4: ´áÕáù³ñÏí»É »Ý í»ñ³ùÝÝÇã ¹³ï³ñ³Ý
F6: ÀÝ¹³Ù»ÝÁ | G6: ³Û¹ ÃíáõÙ Ñ³ñÏ³¹ñí³Í ëÝ³ÝÏáõÃÛáõÝ | H6: ³Û¹ ÃíáõÙ Ï³Ù³íáñ ëÝ³ÝÏáõÃÛáõÝ | I6: ëï³óí³Í ¹ÇÙáõÙÝ»ñÇ ÁÝÃ³óùÁ | M6: Ï³Û³óí»É ¿ å³ñï³å³ÝÇÝ ëÝ³ÝÏ ×³Ý³ã»Éáõ Ù³ëÇÝ í×Çé | N6: å³ñï³å³ÝÇÝ ëÝ³ÝÏ ×³Ý³ã»Éáõ ¹ÇÙáõÙÁ Ù»ñÅí»É ¿ | O6: ¹ÇÙáõÙÁ ÃáÕÝí»É ¿ ³é³Ýó ùÝÝáõÃÛ³Ý | P6: ³Ý³í³ñï (³Û¹ ÃíáõÙ Ï³ë»óí³Í) | Q6: ÀÝ¹³Ù»ÝÁ | R6: ÃáÕÝí»É ¿ ³é³Ýó ùÝÝ³ñÏÙ³Ý | S6: Ñ³ëï³ïí»É ¿
I8: ¸ÇÙáõÙÇ ÁÝ¹áõÝáõÙÁ Ù»ñÅí»É ¿ | J8: ¸ÇÙáõÙÁ í»ñ³¹³ñÓí»É ¿ | K8: ÀÝ¹áõÝí»É ¿ í³ñáõÛÃ
E18: 1 | F18: 2 | G18: 3 | H18: 4 | I18: 5 | J18: 6 | K18: 7 | L18: 8 | M18: 9 | N18: 10 | O18: 11 | P18: 12 | Q18: 13 | R18: 14 | S18: 15 | T18: 16 | U18: 17 | V18: 18 | W18: 1+7=8+16+17 | Y18: 2=3+4 | AA18: 2=5+6+7 | AC18: 7=9+10+11+12
A19: 1 | B19: Æñ³í³µ³Ý³Ï³Ý ³ÝÓÇ ëÝ³ÝÏáõÃÛ³Ý í»ñ³µ»ñÛ³É | E19: 48 | F19: 5 | G19: 5 | J19: 1 | K19: 4 | M19: 3 | P19: 1 | T19: 8 | U19: 44 | W19: =E19+K19 -> 52 | X19: =L19+T19+U19 -> 52 | Y19: =F19 -> 5 | Z19: =G19+H19 -> 5 | AA19: =F19 -> 5 | AB19: =I19+J19+K19 -> 5 | AC19: =K19 -> 4 | AD19: =M19+N19+O19+P19 -> 4
A20: 2 | B20: ²ÝÑ³ï Ó»éÝ»ñ»óÇ ëÝ³ÝÏáõÃÛ³Ý í»ñ³µ»ñÛ³É | E20: 9 | T20: 1 | U20: 8 | W20: =E20+K20 -> 9 | X20: =L20+T20+U20 -> 9 | Y20: =F20 -> 0 | Z20: =G20+H20 -> 0 | AA20: =F20 -> 0 | AB20: =I20+J20+K20 -> 0 | AC20: =K20 -> 0 | AD20: =M20+N20+O20+P20 -> 0
A21: 3 | B21: üÇ½ÇÏ³Ï³Ý ³ÝÓ³Ýó ëÝ³ÝÏáõÃÛ³Ý í»ñ³µ»ñÛ³É | E21: 76 | F21: 27 | G21: 25 | H21: 2 | J21: 4 | K21: 23 | L21: 1 | M21: 16 | N21: 1 | P21: 6 | T21: 15 | U21: 83 | V21: 1 | W21: =E21+K21 -> 99 | X21: =L21+T21+U21 -> 99 | Y21: =F21 -> 27 | Z21: =G21+H21 -> 27 | AA21: =F21 -> 27 | AB21: =I21+J21+K21 -> 27 | AC21: =K21 -> 23 | AD21: =M21+N21+O21+P21 -> 23
A22: 4 | B22: ԸՆԴՀԱՄԵՆԸ | E22: 133 | F22: 32 | G22: 30 | H22: 2 | J22: 5 | K22: 27 | L22: 1 | M22: 19 | N22: 1 | P22: 7 | T22: 24 | U22: 135 | V22: 1 | W22: =E22+K22 -> 160 | X22: =L22+T22+U22 -> 160 | Y22: =F22 -> 32 | Z22: =G22+H22 -> 32 | AA22: =F22 -> 32 | AB22: =I22+J22+K22 -> 32 | AC22: =K22 -> 27 | AD22: =M22+N22+O22+P22 -> 27

Sheet Tavush
A1: Ð²ÞìºîìàôÂÚàôÜ
A2: î²ìàôÞÆ Ø²ð¼Æ ÀÜ¸Ð²Üàôð Æð²ì²êàôÂÚ²Ü ²è²æÆÜ ²îÚ²ÜÆ ¸²î²ð²ÜÆ
H3: ¶àðÌàôÜºàôÂÚ²Ü ìºð²´ºðÚ²È êÜ²ÜÎàôÂÚ²Ü ¶àðÌºðàì 2016թ. 1-ԻՆ ԿԻՍԱՄՅԱԿ
A4: ìÇ×³Ï³·ñ³Ï³Ý ïáÕÇ Ñ³Ù³ñÁ | E4: ²Ý³í³ñï ·áñÍ»ñÇ ÙÝ³óáñ¹Á Ñ³ßí»ïáõ Å³Ù³Ý³Ï³ßñç³ÝÇ ëÏ½µáõÙ | F4: êï³óí³Í ¹ÇÙáõÙÝ»ñÇ (·áñÍ»ñ) ù³Ý³ÏÁ | L4: öáË³Ýóí»É ¿ ³ÛÉ ¹³ï³íáñÇ (Ï³½ÙÇ ÷á÷áËáõÃÛáõÝ) | M4: ì³ñáõÛÃ ÁÝ¹áõÝí³Í ¹ÇÙáõÙÝ»ñáí Ï³Û³óí³Í ¹³ï³Ï³Ý ³Ïï»ñ | Q4: Ü»ñÏ³Û³óí»É ¿ ýÇÝ³Ýë³Ï³Ý ³éáÕç³óÙ³Ý Íñ³·Çñ | T4: ²í³ñïí»É »Ý ·áñÍ»ñ Ñ³ßí»ïáõ Å³Ù³Ý³Ï³ßñç³ÝáõÙ | U4: ²Ý³í³ñï ·áñÍ»ñÇ ÙÝ³óáñ¹Á Ñ³ßí»ïáõ Å³Ù³Ý³Ï³ßñç³ÝÇ í»ñçáõÙ | V4: ´áÕáù³ñÏí»É »Ý í»ñ³ùÝÝÇã ¹³ï³ñ³Ý
F6: ÀÝ¹³Ù»ÝÁ | G6: ³Û¹ ÃíáõÙ Ñ³ñÏ³¹ñí³Í ëÝ³ÝÏáõÃÛáõÝ | H6: ³Û¹ ÃíáõÙ Ï³Ù³íáñ ëÝ³ÝÏáõÃÛáõÝ | I6: ëï³óí³Í ¹ÇÙáõÙÝ»ñÇ ÁÝÃ³óùÁ | M6: Ï³Û³óí»É ¿ å³ñï³å³ÝÇÝ ëÝ³ÝÏ ×³Ý³ã»Éáõ Ù³ëÇÝ í×Çé | N6: å³ñï³å³ÝÇÝ ëÝ³ÝÏ ×³Ý³ã»Éáõ ¹ÇÙáõÙÁ Ù»ñÅí»É ¿ | O6: ¹ÇÙáõÙÁ ÃáÕÝí»É ¿ ³é³Ýó ùÝÝáõÃÛ³Ý | P6: ³Ý³í³ñï (³Û¹ ÃíáõÙ Ï³ë»óí³Í) | Q6: ÀÝ¹³Ù»ÝÁ | R6: ÃáÕÝí»É ¿ ³é³Ýó ùÝÝ³ñÏÙ³Ý | S6: Ñ³ëï³ïí»É ¿
I8: ¸ÇÙáõÙÇ ÁÝ¹áõÝáõÙÁ Ù»ñÅí»É ¿ | J8: ¸ÇÙáõÙÁ í»ñ³¹³ñÓí»É ¿ | K8: ÀÝ¹áõÝí»É ¿ í³ñáõÛÃ
E18: 1 | F18: 2 | G18: 3 | H18: 4 | I18: 5 | J18: 6 | K18: 7 | L18: 8 | M18: 9 | N18: 10 | O18: 11 | P18: 12 | Q18: 13 | R18: 14 | S18: 15 | T18: 16 | U18: 17 | V18: 18 | W18: 1+7=8+16+17 | Y18: 2=3+4 | AA18: 2=5+6+7 | AC18: 7=9+10+11+12
A19: 1 | B19: Æñ³í³µ³Ý³Ï³Ý ³ÝÓÇ ëÝ³ÝÏáõÃÛ³Ý í»ñ³µ»ñÛ³É | E19: 27 | F19: 3 | G19: 3 | K19: 3 | M19: 3 | T19: 4 | U19: 27 | V19: 1 | W19: =E19+K19 -> 30 | X19: =L19+T19+U19 -> 31 | Y19: =F19 -> 3 | Z19: =G19+H19 -> 3 | AA19: =F19 -> 3 | AB19: =I19+J19+K19 -> 3 | AC19: =K19 -> 3 | AD19: =M19+N19+O19+P19 -> 3
A20: 2 | B20: ²ÝÑ³ï Ó»éÝ»ñ»óÇ ëÝ³ÝÏáõÃÛ³Ý í»ñ³µ»ñÛ³É | E20: 22 | F20: 1 | G20: 1 | K20: 1 | M20: 1 | T20: 1 | U20: 21 | W20: =E20+K20 -> 23 | X20: =L20+T20+U20 -> 22 | Y20: =F20 -> 1 | Z20: =G20+H20 -> 1 | AA20: =F20 -> 1 | AB20: =I20+J20+K20 -> 1 | AC20: =K20 -> 1 | AD20: =M20+N20+O20+P20 -> 1
A21: 3 | B21: üÇ½ÇÏ³Ï³Ý ³ÝÓ³Ýó ëÝ³ÝÏáõÃÛ³Ý í»ñ³µ»ñÛ³É | E21: 30 | F21: 11 | G21: 10 | H21: 1 | J21: 3 | K21: 8 | M21: 8 | T21: 3 | U21: 35 | W21: =E21+K21 -> 38 | X21: =L21+T21+U21 -> 38 | Y21: =F21 -> 11 | Z21: =G21+H21 -> 11 | AA21: =F21 -> 11 | AB21: =I21+J21+K21 -> 11 | AC21: =K21 -> 8 | AD21: =M21+N21+O21+P21 -> 8
A22: 4 | B22: ԸՆԴՀԱՄԵՆԸ | E22: 79 | F22: 15 | G22: 14 | H22: 1 | J22: 3 | K22: 12 | M22: 12 | T22: 8 | U22: 83 | V22: 1 | W22: =E22+K22 -> 91 | X22: =L22+T22+U22 -> 91 | Y22: =F22 -> 15 | Z22: =G22+H22 -> 15 | AA22: =F22 -> 15 | AB22: =I22+J22+K22 -> 15 | AC22: =K22 -> 12 | AD22: =M22+N22+O22+P22 -> 12

Sheet Lori
A1: Ð²ÞìºîìàôÂÚàôÜ
A2: Èàèàô Ø²ð¼Æ ÀÜ¸Ð²Üàôð Æð²ì²êàôÂÚ²Ü ²è²æÆÜ ²îÚ²ÜÆ ¸²î²ð²ÜÆ
H3: ¶àðÌàôÜºàôÂÚ²Ü ìºð²´ºðÚ²È êÜ²ÜÎàôÂÚ²Ü ¶àðÌºðàì 2016թ. 1-ԻՆ ԿԻՍԱՄՅԱԿ
A4: ìÇ×³Ï³·ñ³Ï³Ý ïáÕÇ Ñ³Ù³ñÁ | E4: ²Ý³í³ñï ·áñÍ»ñÇ ÙÝ³óáñ¹Á Ñ³ßí»ïáõ Å³Ù³Ý³Ï³ßñç³ÝÇ ëÏ½µáõÙ | F4: êï³óí³Í ¹ÇÙáõÙÝ»ñÇ (·áñÍ»ñ) ù³Ý³ÏÁ | L4: öáË³Ýóí»É ¿ ³ÛÉ ¹³ï³íáñÇ (Ï³½ÙÇ ÷á÷áËáõÃÛáõÝ) | M4: ì³ñáõÛÃ ÁÝ¹áõÝí³Í ¹ÇÙáõÙÝ»ñáí Ï³Û³óí³Í ¹³ï³Ï³Ý ³Ïï»ñ | Q4: Ü»ñÏ³Û³óí»É ¿ ýÇÝ³Ýë³Ï³Ý ³éáÕç³óÙ³Ý Íñ³·Çñ | T4: ²í³ñïí»É »Ý ·áñÍ»ñ Ñ³ßí»ïáõ Å³Ù³Ý³Ï³ßñç³ÝáõÙ | U4: ²Ý³í³ñï ·áñÍ»ñÇ ÙÝ³óáñ¹Á Ñ³ßí»ïáõ Å³Ù³Ý³Ï³ßñç³ÝÇ í»ñçáõÙ | V4: ´áÕáù³ñÏí»É »Ý í»ñ³ùÝÝÇã ¹³ï³ñ³Ý
F6: ÀÝ¹³Ù»ÝÁ | G6: ³Û¹ ÃíáõÙ Ñ³ñÏ³¹ñí³Í ëÝ³ÝÏáõÃÛáõÝ | H6: ³Û¹ ÃíáõÙ Ï³Ù³íáñ ëÝ³ÝÏáõÃÛáõÝ | I6: ëï³óí³Í ¹ÇÙáõÙÝ»ñÇ ÁÝÃ³óùÁ | M6: Ï³Û³óí»É ¿ å³ñï³å³ÝÇÝ ëÝ³ÝÏ ×³Ý³ã»Éáõ Ù³ëÇÝ í×Çé | N6: å³ñï³å³ÝÇÝ ëÝ³ÝÏ ×³Ý³ã»Éáõ ¹ÇÙáõÙÁ Ù»ñÅí»É ¿ | O6: ¹ÇÙáõÙÁ ÃáÕÝí»É ¿ ³é³Ýó ùÝÝáõÃÛ³Ý | P6: ³Ý³í³ñï (³Û¹ ÃíáõÙ Ï³ë»óí³Í) | Q6: ÀÝ¹³Ù»ÝÁ | R6: ÃáÕÝí»É ¿ ³é³Ýó ùÝÝ³ñÏÙ³Ý | S6: Ñ³ëï³ïí»É ¿
I8: ¸ÇÙáõÙÇ ÁÝ¹áõÝáõÙÁ Ù»ñÅí»É ¿ | J8: ¸ÇÙáõÙÁ í»ñ³¹³ñÓí»É ¿ | K8: ÀÝ¹áõÝí»É ¿ í³ñáõÛÃ
E18: 1 | F18: 2 | G18: 3 | H18: 4 | I18: 5 | J18: 6 | K18: 7 | L18: 8 | M18: 9 | N18: 10 | O18: 11 | P18: 12 | Q18: 13 | R18: 14 | S18: 15 | T18: 16 | U18: 17 | V18: 18 | W18: 1+7=8+16+17 | Y18: 2=3+4 | AA18: 2=5+6+7 | AC18: 7=9+10+11+12
A19: 1 | B19: Æñ³í³µ³Ý³Ï³Ý ³ÝÓÇ ëÝ³ÝÏáõÃÛ³Ý í»ñ³µ»ñÛ³É | E19: 122 | F19: 27 | G19: 25 | H19: 2 | I19: 0 | J19: 10 | K19: =+F19-J19 -> 17 | L19: 0 | M19: 9 | N19: 0 | O19: 0 | P19: =+K19-M19-N19-O19 -> 8 | Q19: 0 | R19: 0 | S19: 0 | T19: 9 | U19: 130 | V19: 1 | W19: =E19+K19 -> 139 | X19: =L19+T19+U19 -> 139 | Y19: =F19 -> 27 | Z19: =H19+H19 -> 4 | AA19: =F19 -> 27 | AB19: =I19+J19+K19 -> 27 | AC19: =K19 -> 17 | AD19: =M19+N19+O19+P19 -> 17
A20: 2 | B20: ²ÝÑ³ï Ó»éÝ»ñ»óÇ ëÝ³ÝÏáõÃÛ³Ý í»ñ³µ»ñÛ³É | E20: 31 | F20: 8 | G20: 6 | H20: 2 | I20: 0 | J20: 3 | K20: =+F20-J20 -> 5 | L20: 0 | M20: 3 | N20: 0 | O20: 0 | P20: =+K20-M20-N20-O20 -> 2 | Q20: 2 | R20: 0 | S20: 2 | T20: 2 | U20: 34 | V20: 0 | W20: =E20+K20 -> 36 | X20: =L20+T20+U20 -> 36 | Y20: =F20 -> 8 | Z20: =H20+H20 -> 4 | AA20: =F20 -> 8 | AB20: =I20+J20+K20 -> 8 | AC20: =K20 -> 5 | AD20: =M20+N20+O20+P20 -> 5
A21: 3 | B21: üÇ½ÇÏ³Ï³Ý ³ÝÓ³Ýó ëÝ³ÝÏáõÃÛ³Ý í»ñ³µ»ñÛ³É | E21: 99 | F21: 24 | G21: 22 | H21: 2 | I21: 0 | J21: 2 | K21: =+F21-J21 -> 22 | L21: 0 | M21: 7 | N21: 0 | O21: 0 | P21: =+K21-M21-N21-O21 -> 15 | Q21: 0 | R21: 0 | S21: 0 | T21: 8 | U21: 113 | V21: 4 | W21: =E21+K21 -> 121 | X21: =L21+T21+U21 -> 121 | Y21: =F21 -> 24 | Z21: =H21+H21 -> 4 | AA21: =F21 -> 24 | AB21: =I21+J21+K21 -> 24 | AC21: =K21 -> 22 | AD21: =M21+N21+O21+P21 -> 22
A22: 4 | B22: ԸՆԴՀԱՄԵՆԸ | E22: =+E19+E20+E21 -> 252 | F22: =+F19+F20+F21 -> 59 | G22: =+G19+G20+G21 -> 53 | H22: =+H19+H20+H21 -> 6 | I22: =+I19+I20+I21 -> 0 | J22: =+J19+J20+J21 -> 15 | K22: =+K19+K20+K21 -> 44 | L22: =+L19+L20+L21 -> 0 | ... V22: =+V19+V20+V21 -> 5 | W22: =E22+K22 -> 296 | X22: =L22+T22+U22 -> 296 | Y22: =F22 -> 59 | Z22: =H22+H22 -> 12 | AA22: =F22 -> 59 | AB22: =I22+J22+K22 -> 59 | AC22: =K22 -> 44 | AD22: =M22+N22+O22+P22 -> 44

Sheet Gexarquniq
A1: Ð²ÞìºîìàôÂÚàôÜ
A2: ¶ºÔ²ðøàôÜÆøÆ Ø²ð¼Æ ÀÜ¸Ð²Üàôð Æð²ì²êàôÂÚ²Ü ²è²æÆÜ ²îÚ²ÜÆ ¸²î²ð²ÜÆ
H3: ¶àðÌàôÜºàôÂÚ²Ü ìºð²´ºðÚ²È êÜ²ÜÎàôÂÚ²Ü ¶àðÌºðàì 2016թ. 1-ԻՆ ԿԻՍԱՄՅԱԿ
A4: ìÇ×³Ï³·ñ³Ï³Ý ïáÕÇ Ñ³Ù³ñÁ | E4: ²Ý³í³ñï ·áñÍ»ñÇ ÙÝ³óáñ¹Á Ñ³ßí»ïáõ Å³Ù³Ý³Ï³ßñç³ÝÇ ëÏ½µáõÙ | F4: êï³óí³Í ¹ÇÙáõÙÝ»ñÇ (·áñÍ»ñ) ù³Ý³ÏÁ | L4: öáË³Ýóí»É ¿ ³ÛÉ ¹³ï³íáñÇ (Ï³½ÙÇ ÷á÷áËáõÃÛáõÝ) | M4: ì³ñáõÛÃ ÁÝ¹áõÝí³Í ¹ÇÙáõÙÝ»ñáí Ï³Û³óí³Í ¹³ï³Ï³Ý ³Ïï»ñ | Q4: Ü»ñÏ³Û³óí»É ¿ ýÇÝ³Ýë³Ï³Ý ³éáÕç³óÙ³Ý Íñ³·Çñ | T4: ²í³ñïí»É »Ý ·áñÍ»ñ Ñ³ßí»ïáõ Å³Ù³Ý³Ï³ßñç³ÝáõÙ | U4: ²Ý³í³ñï ·áñÍ»ñÇ ÙÝ³óáñ¹Á Ñ³ßí»ïáõ Å³Ù³Ý³Ï³ßñç³ÝÇ í»ñçáõÙ | V4: ´áÕáù³ñÏí»É »Ý í»ñ³ùÝÝÇã ¹³ï³ñ³Ý
F6: ÀÝ¹³Ù»ÝÁ | G6: ³Û¹ ÃíáõÙ Ñ³ñÏ³¹ñí³Í ëÝ³ÝÏáõÃÛáõÝ | H6: ³Û¹ ÃíáõÙ Ï³Ù³íáñ ëÝ³ÝÏáõÃÛáõÝ | I6: ëï³óí³Í ¹ÇÙáõÙÝ»ñÇ ÁÝÃ³óùÁ | M6: Ï³Û³óí»É ¿ å³ñï³å³ÝÇÝ ëÝ³ÝÏ ×³Ý³ã»Éáõ Ù³ëÇÝ í×Çé | N6: å³ñï³å³ÝÇÝ ëÝ³ÝÏ ×³Ý³ã»Éáõ ¹ÇÙáõÙÁ Ù»ñÅí»É ¿ | O6: ¹ÇÙáõÙÁ ÃáÕÝí»É ¿ ³é³Ýó ùÝÝáõÃÛ³Ý | P6: ³Ý³í³ñï (³Û¹ ÃíáõÙ Ï³ë»óí³Í) | Q6: ÀÝ¹³Ù»ÝÁ | R6: ÃáÕÝí»É ¿ ³é³Ýó ùÝÝ³ñÏÙ³Ý | S6: Ñ³ëï³ïí»É ¿
I8: ¸ÇÙáõÙÇ ÁÝ¹áõÝáõÙÁ Ù»ñÅí»É ¿ | J8: ¸ÇÙáõÙÁ í»ñ³¹³ñÓí»É ¿ | K8: ÀÝ¹áõÝí»É ¿ í³ñáõÛÃ
E18: 1 | F18: 2 | G18: 3 | H18: 4 | I18: 5 | J18: 6 | K18: 7 | L18: 8 | M18: 9 | N18: 10 | O18: 11 | P18: 12 | Q18: 13 | R18: 14 | S18: 15 | T18: 16 | U18: 17 | V18: 18 | W18: 1+7=8+16+17 | Y18: 2=3+4 | AA18: 2=5+6+7 | AC18: 7=9+10+11+12
A19: 1 | B19: Æñ³í³µ³Ý³Ï³Ý ³ÝÓÇ ëÝ³ÝÏáõÃÛ³Ý í»ñ³µ»ñÛ³É | E19: 77 | F19: 9 | G19: 9 | H19: 0 | I19: 0 | J19: 3 | K19: 6 | L19: 0 | M19: 2 | N19: 1 | O19: 1 | P19: 2 | Q19: 2 | R19: 0 | S19: 2 | T19: 2 | U19: 81 | V19: 2 | W19: =E19+K19 -> 83 | X19: =L19+T19+U19 -> 83 | Y19: =F19 -> 9 | Z19: =G19+H19 -> 9 | AA19: =F19 -> 9 | AB19: =I19+J19+K19 -> 9 | AC19: =K19 -> 6 | AD19: =M19+N19+O19+P19 -> 6
A20: 2 | B20: ²ÝÑ³ï Ó»éÝ»ñ»óÇ ëÝ³ÝÏáõÃÛ³Ý í»ñ³µ»ñÛ³É | E20: 12 | F20: 2 | G20: 2 | H20: 0 | I20: 0 | J20: 0 | K20: 2 | L20: 0 | M20: 0 | N20: 0 | O20: 0 | P20: 2 | Q20: 0 | R20: 0 | S20: 0 | T20: 0 | U20: 14 | V20: 0 | W20: =E20+K20 -> 14 | X20: =L20+T20+U20 -> 14 | Y20: =F20 -> 2 | Z20: =G20+H20 -> 2 | AA20: =F20 -> 2 | AB20: =I20+J20+K20 -> 2 | AC20: =K20 -> 2 | AD20: =M20+N20+O20+P20 -> 2
A21: 3 | B21: üÇ½ÇÏ³Ï³Ý ³ÝÓ³Ýó ëÝ³ÝÏáõÃÛ³Ý í»ñ³µ»ñÛ³É | E21: 51 | F21: 15 | G21: 15 | H21: 0 | I21: 0 | J21: 1 | K21: 14 | M21: 10 | N21: 0 | O21: 0 | P21: 4 | Q21: 0 | R21: 0 | S21: 0 | T21: 1 | U21: 64 | V21: 0 | W21: =E21+K21 -> 65 | X21: =L21+T21+U21 -> 65 | Y21: =F21 -> 15 | Z21: =G21+H21 -> 15 | AA21: =F21 -> 15 | AB21: =I21+J21+K21 -> 15 | AC21: =K21 -> 14 | AD21: =M21+N21+O21+P21 -> 14
A22: 4 | B22: ԸՆԴՀԱՄԵՆԸ | E22: =SUM(E19:E21) -> 140 | F22: =SUM(F19:F21) -> 26 | G22: =SUM(G19:G21) -> 26 | H22: =SUM(H19:H21) -> 0 | I22: =SUM(I19:I21) -> 0 | J22: =SUM(J19:J21) -> 4 | K22: =SUM(K19:K21) -> 22 | L22: =SUM(L19:L21) -> 0 | ... V22: =SUM(V19:V21) -> 2 | W22: =E22+K22 -> 162 | X22: =L22+T22+U22 -> 162 | Y22: =F22 -> 26 | Z22: =G22+H22 -> 26 | AA22: =F22 -> 26 | AB22: =I22+J22+K22 -> 26 | AC22: =K22 -> 22 | AD22: =M22+N22+O22+P22 -> 22
