Workbook

Sheet Ընդհամենը
A1: Ð²ÞìºîìàôÂÚàôÜ
A2: ²ðØ²ìÆðÆ Ø²ð¼Æ ÀÜ¸Ð²Üàôð Æð²ì²êàôÂÚ²Ü ²è²æÆÜ ²îÚ²ÜÆ ¸²î²ð²ÜÆ
H3: ¶àðÌàôÜºàôÂÚ²Ü ìºð²´ºðÚ²È êÜ²ÜÎàôÂÚ²Ü ¶àðÌºðՈՎ 2015թ.
A4: ìÇ×³Ï³·ñ³Ï³Ý ïáÕÇ Ñ³Ù³ñÁ | B4: êïáõ·Çã Ñ³í³ë³ñáõÙÝ»ñ` 1+7=8+16+17, 2=3+4, 2=5+6+7, 7=9+10+11+12 | E4: ²Ý³í³ñï ·áñÍ»ñÇ ÙÝ³óáñ¹Á Ñ³ßí»ïáõ Å³Ù³Ý³Ï³ßñç³ÝÇ ëÏ½µáõÙ | F4: êï³óí³Í ¹ÇÙáõÙÝ»ñÇ (·áñÍ»ñ) ù³Ý³ÏÁ | L4: öáË³Ýóí»É ¿ ³ÛÉ ¹³ï³íáñÇ (Ï³½ÙÇ ÷á÷áËáõÃÛáõÝ) | M4: ì³ñáõÛÃ ÁÝ¹áõÝí³Í ¹ÇÙáõÙÝ»ñáí Ï³Û³óí³Í ¹³ï³Ï³Ý ³Ïï»ñ | Q4: Ü»ñÏ³Û³óí»É ¿ ýÇÝ³Ýë³Ï³Ý ³éáÕç³óÙ³Ý Íñ³·Çñ | T4: ²í³ñïí»É »Ý ·áñÍ»ñ Ñ³ßí»ïáõ Å³Ù³Ý³Ï³ßñç³ÝáõÙ | U4: ²Ý³í³ñï ·áñÍ»ñÇ ÙÝ³óáñ¹Á Ñ³ßí»ïáõ Å³Ù³Ý³Ï³ßñç³ÝÇ í»ñçáõÙ | V4: ´áÕáù³ñÏí»É »Ý í»ñ³ùÝÝÇã ¹³ï³ñ³Ý
F6: ÀÝ¹³Ù»ÝÁ | G6: ³Û¹ ÃíáõÙ Ñ³ñÏ³¹ñí³Í ëÝ³ÝÏáõÃÛáõÝ | H6: ³Û¹ ÃíáõÙ Ï³Ù³íáñ ëÝ³ÝÏáõÃÛáõÝ | I6: ëï³óí³Í ¹ÇÙáõÙÝ»ñÇ ÁÝÃ³óùÁ | M6: Ï³Û³óí»É ¿ å³ñï³å³ÝÇÝ ëÝ³ÝÏ ×³Ý³ã»Éáõ Ù³ëÇÝ í×Çé | N6: å³ñï³å³ÝÇÝ ëÝ³ÝÏ ×³Ý³ã»Éáõ ¹ÇÙáõÙÁ Ù»ñÅí»É ¿ | O6: ¹ÇÙáõÙÁ ÃáÕÝí»É ¿ ³é³Ýó ùÝÝáõÃÛ³Ý | P6: ³Ý³í³ñï (³Û¹ ÃíáõÙ Ï³ë»óí³Í) | Q6: ÀÝ¹³Ù»ÝÁ | R6: ÃáÕÝí»É ¿ ³é³Ýó ùÝÝ³ñÏÙ³Ý | S6: Ñ³ëï³ïí»É ¿
I8: ¸ÇÙáõÙÇ ÁÝ¹áõÝáõÙÁ Ù»ñÅí»É ¿ | J8: ¸ÇÙáõÙÁ í»ñ³¹³ñÓí»É ¿ | K8: ÀÝ¹áõÝí»É ¿ í³ñáõÛÃ
E18: 1 | F18: 2 | G18: 3 | H18: 4 | I18: 5 | J18: 6 | K18: 7 | L18: 8 | M18: 9 | N18: 10 | O18: 11 | P18: 12 | Q18: 13 | R18: 14 | S18: 15 | T18: 16 | U18: 17 | V18: 18 | W18: 1+7=8+16+17 | Y18: 2=3+4 | AA18: 2=5+6+7 | AC18: 7=9+10+11+12
A19: 1 | B19: Æñ³í³µ³Ý³Ï³Ý ³ÝÓÇ ëÝ³ÝÏáõÃÛ³Ý í»ñ³µ»ñÛ³É | E19: =Գ.Ֆիդանյան!E19+Մ.Սիմոնյան!E19+Հ.Մելքոնյան!E19 -> 41 | F19: =Գ.Ֆիդանյան!F19+Մ.Սիմոնյան!F19+Հ.Մելքոնյան!F19 -> 36 | G19: =Գ.Ֆիդանյան!G19+Մ.Սիմոնյան!G19+Հ.Մելքոնյան!G19 -> 36 | H19: =Գ.Ֆիդանյան!H19+Մ.Սիմոնյան!H19+Հ.Մելքոնյան!H19 -> 0 | I19: =Գ.Ֆիդանյան!I19+Մ.Սիմոնյան!I19+Հ.Մելքոնյան!I19 -> 0 | J19: =Գ.Ֆիդանյան!J19+Մ.Սիմոնյան!J19+Հ.Մելքոնյան!J19 -> 5 | K19: =Գ.Ֆիդանյան!K19+Մ.Սիմոնյան!K19+Հ.Մելքոնյան!K19 -> 24 | L19: =Գ.Ֆիդանյան!L19+Մ.Սիմոնյան!L19+Հ.Մելքոնյան!L19 -> 7 | ... AD19: =Գ.Ֆիդանյան!AD19+Մ.Սիմոնյան!AD19+Հ.Մելքոնյան!AD19 -> 24
A20: 2 | B20: ²ÝÑ³ï Ó»éÝ»ñ»óÇ ëÝ³ÝÏáõÃÛ³Ý í»ñ³µ»ñÛ³É | E20: =Գ.Ֆիդանյան!E20+Մ.Սիմոնյան!E20+Հ.Մելքոնյան!E20 -> 7 | F20: =Գ.Ֆիդանյան!F20+Մ.Սիմոնյան!F20+Հ.Մելքոնյան!F20 -> #VALUE! | G20: =Գ.Ֆիդանյան!G20+Մ.Սիմոնյան!G20+Հ.Մելքոնյան!G20 -> 15 | H20: =Գ.Ֆիդանյան!H20+Մ.Սիմոնյան!H20+Հ.Մելքոնյան!H20 -> 0 | I20: =Գ.Ֆիդանյան!I20+Մ.Սիմոնյան!I20+Հ.Մելքոնյան!I20 -> 0 | J20: =Գ.Ֆիդանյան!J20+Մ.Սիմոնյան!J20+Հ.Մելքոնյան!J20 -> 4 | K20: =Գ.Ֆիդանյան!K20+Մ.Սիմոնյան!K20+Հ.Մելքոնյան!K20 -> 8 | L20: =Գ.Ֆիդանյան!L20+Մ.Սիմոնյան!L20+Հ.Մելքոնյան!L20 -> 3 | ... AD20: =Գ.Ֆիդանյան!AD20+Մ.Սիմոնյան!AD20+Հ.Մելքոնյան!AD20 -> 8
A21: 3 | B21: üÇ½ÇÏ³Ï³Ý ³ÝÓ³Ýó ëÝ³ÝÏáõÃÛ³Ý í»ñ³µ»ñÛ³É | E21: =Գ.Ֆիդանյան!E21+Մ.Սիմոնյան!E21+Հ.Մելքոնյան!E21 -> 45 | F21: =Գ.Ֆիդանյան!F21+Մ.Սիմոնյան!F21+Հ.Մելքոնյան!F21 -> 54 | G21: =Գ.Ֆիդանյան!G21+Մ.Սիմոնյան!G21+Հ.Մելքոնյան!G21 -> 53 | H21: =Գ.Ֆիդանյան!H21+Մ.Սիմոնյան!H21+Հ.Մելքոնյան!H21 -> 1 | I21: =Գ.Ֆիդանյան!I21+Մ.Սիմոնյան!I21+Հ.Մելքոնյան!I21 -> 0 | J21: =Գ.Ֆիդանյան!J21+Մ.Սիմոնյան!J21+Հ.Մելքոնյան!J21 -> 7 | K21: =Գ.Ֆիդանյան!K21+Մ.Սիմոնյան!K21+Հ.Մելքոնյան!K21 -> 42 | L21: =Գ.Ֆիդանյան!L21+Մ.Սիմոնյան!L21+Հ.Մելքոնյան!L21 -> 5 | ... AD21: =Գ.Ֆիդանյան!AD21+Մ.Սիմոնյան!AD21+Հ.Մելքոնյան!AD21 -> #VALUE!
A22: 4 | B22: ԸՆԴՀԱՄԵՆԸ | E22: =Գ.Ֆիդանյան!E22+Մ.Սիմոնյան!E22+Հ.Մելքոնյան!E22 -> 93 | F22: =Գ.Ֆիդանյան!F22+Մ.Սիմոնյան!F22+Հ.Մելքոնյան!F22 -> 105 | G22: =Գ.Ֆիդանյան!G22+Մ.Սիմոնյան!G22+Հ.Մելքոնյան!G22 -> 104 | H22: =Գ.Ֆիդանյան!H22+Մ.Սիմոնյան!H22+Հ.Մելքոնյան!H22 -> 1 | I22: =Գ.Ֆիդանյան!I22+Մ.Սիմոնյան!I22+Հ.Մելքոնյան!I22 -> 0 | J22: =Գ.Ֆիդանյան!J22+Մ.Սիմոնյան!J22+Հ.Մելքոնյան!J22 -> 16 | K22: =Գ.Ֆիդանյան!K22+Մ.Սիմոնյան!K22+Հ.Մելքոնյան!K22 -> 74 | L22: =Գ.Ֆիդանյան!L22+Մ.Սիմոնյան!L22+Հ.Մելքոնյան!L22 -> 15 | ... AD22: =Գ.Ֆիդանյան!AD22+Մ.Սիմոնյան!AD22+Հ.Մելքոնյան!AD22 -> #VALUE!

Sheet Գ.Ֆիդանյան
A1: Ð²ÞìºîìàôÂÚàôÜ
A2: ²ðØ²ìÆðÆ Ø²ð¼Æ ÀÜ¸Ð²Üàôð Æð²ì²êàôÂÚ²Ü ²è²æÆÜ ²îÚ²ÜÆ ¸²î²ð²ÜÆ
A3: Գ. ՖԻԴԱՆՅԱՆ | H3: ¶àðÌàôÜºàôÂÚ²Ü ìºð²´ºðÚ²È êÜ²ÜÎàôÂÚ²Ü ¶àðÌºðàì 2015թ.
A4: ìÇ×³Ï³·ñ³Ï³Ý ïáÕÇ Ñ³Ù³ñÁ | B4: êïáõ·Çã Ñ³í³ë³ñáõÙÝ»ñ` 1+7=8+16+17, 2=3+4, 2=5+6+7, 7=9+10+11+12 | E4: ²Ý³í³ñï ·áñÍ»ñÇ ÙÝ³óáñ¹Á Ñ³ßí»ïáõ Å³Ù³Ý³Ï³ßñç³ÝÇ ëÏ½µáõÙ | F4: êï³óí³Í ¹ÇÙáõÙÝ»ñÇ (·áñÍ»ñ) ù³Ý³ÏÁ | L4: öáË³Ýóí»É ¿ ³ÛÉ ¹³ï³íáñÇ (Ï³½ÙÇ ÷á÷áËáõÃÛáõÝ) | M4: ì³ñáõÛÃ ÁÝ¹áõÝí³Í ¹ÇÙáõÙÝ»ñáí Ï³Û³óí³Í ¹³ï³Ï³Ý ³Ïï»ñ | Q4: Ü»ñÏ³Û³óí»É ¿ ýÇÝ³Ýë³Ï³Ý ³éáÕç³óÙ³Ý Íñ³·Çñ | T4: ²í³ñïí»É »Ý ·áñÍ»ñ Ñ³ßí»ïáõ Å³Ù³Ý³Ï³ßñç³ÝáõÙ | U4: ²Ý³í³ñï ·áñÍ»ñÇ ÙÝ³óáñ¹Á Ñ³ßí»ïáõ Å³Ù³Ý³Ï³ßñç³ÝÇ í»ñçáõÙ | V4: ´áÕáù³ñÏí»É »Ý í»ñ³ùÝÝÇã ¹³ï³ñ³Ý
F6: ÀÝ¹³Ù»ÝÁ | G6: ³Û¹ ÃíáõÙ Ñ³ñÏ³¹ñí³Í ëÝ³ÝÏáõÃÛáõÝ | H6: ³Û¹ ÃíáõÙ Ï³Ù³íáñ ëÝ³ÝÏáõÃÛáõÝ | I6: ëï³óí³Í ¹ÇÙáõÙÝ»ñÇ ÁÝÃ³óùÁ | M6: Ï³Û³óí»É ¿ å³ñï³å³ÝÇÝ ëÝ³ÝÏ ×³Ý³ã»Éáõ Ù³ëÇÝ í×Çé | N6: å³ñï³å³ÝÇÝ ëÝ³ÝÏ ×³Ý³ã»Éáõ ¹ÇÙáõÙÁ Ù»ñÅí»É ¿ | O6: ¹ÇÙáõÙÁ ÃáÕÝí»É ¿ ³é³Ýó ùÝÝáõÃÛ³Ý | P6: ³Ý³í³ñï (³Û¹ ÃíáõÙ Ï³ë»óí³Í) | Q6: ÀÝ¹³Ù»ÝÁ | R6: ÃáÕÝí»É ¿ ³é³Ýó ùÝÝ³ñÏÙ³Ý | S6: Ñ³ëï³ïí»É ¿
I8: ¸ÇÙáõÙÇ ÁÝ¹áõÝáõÙÁ Ù»ñÅí»É ¿ | J8: ¸ÇÙáõÙÁ í»ñ³¹³ñÓí»É ¿ | K8: ÀÝ¹áõÝí»É ¿ í³ñáõÛÃ
E18: 1 | F18: 2 | G18: 3 | H18: 4 | I18: 5 | J18: 6 | K18: 7 | L18: 8 | M18: 9 | N18: 10 | O18: 11 | P18: 12 | Q18: 13 | R18: 14 | S18: 15 | T18: 16 | U18: 17 | V18: 18 | W18: 1+7=8+16+17 | Y18: 2=3+4 | AA18: 2=5+6+7 | AC18: 7=9+10+11+12
A19: 1 | B19: Æñ³í³µ³Ý³Ï³Ý ³ÝÓÇ ëÝ³ÝÏáõÃÛ³Ý í»ñ³µ»ñÛ³É | E19: 38 | F19: 29 | G19: 29 | J19: 5 | K19: 24 | M19: 11 | N19: 1 | O19: 2 | P19: 10 | T19: 13 | U19: 49 | W19: =E19+K19 -> 62 | X19: =L19+T19+U19 -> 62 | Y19: =F19 -> 29 | Z19: =H19+H19 -> 0 | AA19: =F19 -> 29 | AB19: =I19+J19+K19 -> 29 | AC19: =K19 -> 24 | AD19: =M19+N19+O19+P19 -> 24
A20: 2 | B20: ²ÝÑ³ï Ó»éÝ»ñ»óÇ ëÝ³ÝÏáõÃÛ³Ý í»ñ³µ»ñÛ³É | E20: 6 | F20: 11 | G20: 11 | J20: 3 | K20: 8 | M20: 5 | P20: 3 | U20: 14 | W20: =E20+K20 -> 14 | X20: =L20+T20+U20 -> 14 | Y20: =F20 -> 11 | Z20: =H20+H20 -> 0 | AA20: =F20 -> 11 | AB20: =I20+J20+K20 -> 11 | AC20: =K20 -> 8 | AD20: =M20+N20+O20+P20 -> 8
A21: 3 | B21: üÇ½ÇÏ³Ï³Ý ³ÝÓ³Ýó ëÝ³ÝÏáõÃÛ³Ý í»ñ³µ»ñÛ³É | E21: 43 | F21: 48 | G21: 47 | H21: 1 | J21: 7 | K21: 41 | L21: 1 | M21: 21 | N21: 3 | P21: 17 | T21: 7 | U21: 76 | V21: 3 | W21: =E21+K21 -> 84 | X21: =L21+T21+U21 -> 84 | Y21: =F21 -> 48 | Z21: =H21+H21 -> 2 | AA21: =F21 -> 48 | AB21: =I21+J21+K21 -> 48 | AC21: =K21 -> 41 | AD21: =M21+N21+O21+P21 -> 41
A22: 4 | B22: ԸՆԴՀԱՄԵՆԸ | E22: 87 | F22: 88 | G22: 87 | H22: 1 | J22: 15 | K22: 73 | L22: 1 | M22: 37 | N22: 4 | P22: 30 | T22: 20 | U22: 139 | V22: 3 | W22: =E22+K22 -> 160 | X22: =L22+T22+U22 -> 160 | Y22: =F22 -> 88 | Z22: =H22+H22 -> 2 | AA22: =F22 -> 88 | AB22: =I22+J22+K22 -> 88 | AC22: =K22 -> 73 | AD22: =M22+N22+O22+P22 -> 71

Sheet Մ.Սիմոնյան
A1: Ð²ÞìºîìàôÂÚàôÜ
A2: ²ðØ²ìÆðÆ Ø²ð¼Æ ÀÜ¸Ð²Üàôð Æð²ì²êàôÂÚ²Ü ²è²æÆÜ ²îÚ²ÜÆ ¸²î²ð²ÜÆ
A3: Ø.êÆØàÜÚ²Ü | H3: ¶àðÌàôÜºàôÂÚ²Ü ìºð²´ºðÚ²È êÜ²ÜÎàôÂÚ²Ü ¶àðÌºðàì 2015թ.
A4: ìÇ×³Ï³·ñ³Ï³Ý ïáÕÇ Ñ³Ù³ñÁ | B4: êïáõ·Çã Ñ³í³ë³ñáõÙÝ»ñ` 1+7=8+16+17, 2=3+4, 2=5+6+7, 7=9+10+11+12 | E4: ²Ý³í³ñï ·áñÍ»ñÇ ÙÝ³óáñ¹Á Ñ³ßí»ïáõ Å³Ù³Ý³Ï³ßñç³ÝÇ ëÏ½µáõÙ | F4: êï³óí³Í ¹ÇÙáõÙÝ»ñÇ (·áñÍ»ñ) ù³Ý³ÏÁ | L4: öáË³Ýóí»É ¿ ³ÛÉ ¹³ï³íáñÇ (Ï³½ÙÇ ÷á÷áËáõÃÛáõÝ) | M4: ì³ñáõÛÃ ÁÝ¹áõÝí³Í ¹ÇÙáõÙÝ»ñáí Ï³Û³óí³Í ¹³ï³Ï³Ý ³Ïï»ñ | Q4: Ü»ñÏ³Û³óí»É ¿ ýÇÝ³Ýë³Ï³Ý ³éáÕç³óÙ³Ý Íñ³·Çñ | T4: ²í³ñïí»É »Ý ·áñÍ»ñ Ñ³ßí»ïáõ Å³Ù³Ý³Ï³ßñç³ÝáõÙ | U4: ²Ý³í³ñï ·áñÍ»ñÇ ÙÝ³óáñ¹Á Ñ³ßí»ïáõ Å³Ù³Ý³Ï³ßñç³ÝÇ í»ñçáõÙ | V4: ´áÕáù³ñÏí»É »Ý í»ñ³ùÝÝÇã ¹³ï³ñ³Ý
F6: ÀÝ¹³Ù»ÝÁ | G6: ³Û¹ ÃíáõÙ Ñ³ñÏ³¹ñí³Í ëÝ³ÝÏáõÃÛáõÝ | H6: ³Û¹ ÃíáõÙ Ï³Ù³íáñ ëÝ³ÝÏáõÃÛáõÝ | I6: ëï³óí³Í ¹ÇÙáõÙÝ»ñÇ ÁÝÃ³óùÁ | M6: Ï³Û³óí»É ¿ å³ñï³å³ÝÇÝ ëÝ³ÝÏ ×³Ý³ã»Éáõ Ù³ëÇÝ í×Çé | N6: å³ñï³å³ÝÇÝ ëÝ³ÝÏ ×³Ý³ã»Éáõ ¹ÇÙáõÙÁ Ù»ñÅí»É ¿ | O6: ¹ÇÙáõÙÁ ÃáÕÝí»É ¿ ³é³Ýó ùÝÝáõÃÛ³Ý | P6: ³Ý³í³ñï (³Û¹ ÃíáõÙ Ï³ë»óí³Í) | Q6: ÀÝ¹³Ù»ÝÁ | R6: ÃáÕÝí»É ¿ ³é³Ýó ùÝÝ³ñÏÙ³Ý | S6: Ñ³ëï³ïí»É ¿
I8: ¸ÇÙáõÙÇ ÁÝ¹áõÝáõÙÁ Ù»ñÅí»É ¿ | J8: ¸ÇÙáõÙÁ í»ñ³¹³ñÓí»É ¿ | K8: ÀÝ¹áõÝí»É ¿ í³ñáõÛÃ
E18: 1 | F18: 2 | G18: 3 | H18: 4 | I18: 5 | J18: 6 | K18: 7 | L18: 8 | M18: 9 | N18: 10 | O18: 11 | P18: 12 | Q18: 13 | R18: 14 | S18: 15 | T18: 16 | U18: 17 | V18: 18 | W18: 1+7=8+16+17 | Y18: 2=3+4 | AA18: 2=5+6+7 | AC18: 7=9+10+11+12
A19: 1 | B19: Æñ³í³µ³Ý³Ï³Ý ³ÝÓÇ ëÝ³ÝÏáõÃÛ³Ý í»ñ³µ»ñÛ³É | E19: 2 | F19: 7 | G19: 7 | L19: 7 | U19: 2 | W19: =E19+K19 -> 2 | X19: =L19+T19+U19 -> 9 | Y19: =F19 -> 7 | Z19: =G19+H19 -> 7 | AA19: =F19 -> 7 | AB19: =I19+J19+K19 -> 0 | AC19: =K19 -> 0 | AD19: =M19+N19+O19+P19 -> 0
A20: 2 | B20: ²ÝÑ³ï Ó»éÝ»ñ»óÇ ëÝ³ÝÏáõÃÛ³Ý í»ñ³µ»ñÛ³É | E20: 1 | F20: 4 | G20: 4 | J20: 1 | L20: 3 | U20: 1 | W20: =E20+K20 -> 1 | X20: =L20+T20+U20 -> 4 | Y20: =F20 -> 4 | Z20: =G20+H20 -> 4 | AA20: =F20 -> 4 | AB20: =I20+J20+K20 -> 1 | AC20: =K20 -> 0 | AD20: =M20+N20+O20+P20 -> 0
A21: 3 | B21: üÇ½ÇÏ³Ï³Ý ³ÝÓ³Ýó ëÝ³ÝÏáõÃÛ³Ý í»ñ³µ»ñÛ³É | F21: 6 | G21: 6 | K21: 1 | L21: 4 | M21: 1 | U21: 2 | W21: =E21+K21 -> 1 | X21: =L21+T21+U21 -> 6 | Y21: =F21 -> 6 | Z21: =G21+H21 -> 6 | AA21: =F21 -> 6 | AB21: =I21+J21+K21 -> 1 | AC21: =K21 -> 1 | AD21: =M21+N21+O21+P21 -> #VALUE!
A22: 4 | B22: ԸՆԴՀԱՄԵՆԸ | E22: 3 | F22: 17 | G22: 17 | J22: 1 | K22: 1 | L22: 14 | M22: 1 | U22: 5 | W22: =E22+K22 -> 4 | X22: =L22+T22+U22 -> 19 | Y22: =F22 -> 17 | Z22: =G22+H22 -> 17 | AA22: =F22 -> 17 | AB22: =I22+J22+K22 -> 2 | AC22: =K22 -> 1 | AD22: =M22+N22+O22+P22 -> #VALUE!

Sheet Հ.Մելքոնյան
A1: Ð²ÞìºîìàôÂÚàôÜ
A2: ²ðØ²ìÆðÆ Ø²ð¼Æ ÀÜ¸Ð²Üàôð Æð²ì²êàôÂÚ²Ü ²è²æÆÜ ²îÚ²ÜÆ ¸²î²ð²ÜÆ
A3: Ð.ØºÈøàÜÚ²Ü | H3: ¶àðÌàôÜºàôÂÚ²Ü ìºð²´ºðÚ²È êÜ²ÜÎàôÂÚ²Ü ¶àðÌºðՈՎ 2015թ.
A4: ìÇ×³Ï³·ñ³Ï³Ý ïáÕÇ Ñ³Ù³ñÁ | B4: êïáõ·Çã Ñ³í³ë³ñáõÙÝ»ñ` 1+7=8+16+17, 2=3+4, 2=5+6+7, 7=9+10+11+12 | E4: ²Ý³í³ñï ·áñÍ»ñÇ ÙÝ³óáñ¹Á Ñ³ßí»ïáõ Å³Ù³Ý³Ï³ßñç³ÝÇ ëÏ½µáõÙ | F4: êï³óí³Í ¹ÇÙáõÙÝ»ñÇ (·áñÍ»ñ) ù³Ý³ÏÁ | L4: öáË³Ýóí»É ¿ ³ÛÉ ¹³ï³íáñÇ (Ï³½ÙÇ ÷á÷áËáõÃÛáõÝ) | M4: ì³ñáõÛÃ ÁÝ¹áõÝí³Í ¹ÇÙáõÙÝ»ñáí Ï³Û³óí³Í ¹³ï³Ï³Ý ³Ïï»ñ | Q4: Ü»ñÏ³Û³óí»É ¿ ýÇÝ³Ýë³Ï³Ý ³éáÕç³óÙ³Ý Íñ³·Çñ | T4: ²í³ñïí»É »Ý ·áñÍ»ñ Ñ³ßí»ïáõ Å³Ù³Ý³Ï³ßñç³ÝáõÙ | U4: ²Ý³í³ñï ·áñÍ»ñÇ ÙÝ³óáñ¹Á Ñ³ßí»ïáõ Å³Ù³Ý³Ï³ßñç³ÝÇ í»ñçáõÙ | V4: ´áÕáù³ñÏí»É »Ý í»ñ³ùÝÝÇã ¹³ï³ñ³Ý
F6: ÀÝ¹³Ù»ÝÁ | G6: ³Û¹ ÃíáõÙ Ñ³ñÏ³¹ñí³Í ëÝ³ÝÏáõÃÛáõÝ | H6: ³Û¹ ÃíáõÙ Ï³Ù³íáñ ëÝ³ÝÏáõÃÛáõÝ | I6: ëï³óí³Í ¹ÇÙáõÙÝ»ñÇ ÁÝÃ³óùÁ | M6: Ï³Û³óí»É ¿ å³ñï³å³ÝÇÝ ëÝ³ÝÏ ×³Ý³ã»Éáõ Ù³ëÇÝ í×Çé | N6: å³ñï³å³ÝÇÝ ëÝ³ÝÏ ×³Ý³ã»Éáõ ¹ÇÙáõÙÁ Ù»ñÅí»É ¿ | O6: ¹ÇÙáõÙÁ ÃáÕÝí»É ¿ ³é³Ýó ùÝÝáõÃÛ³Ý | P6: ³Ý³í³ñï (³Û¹ ÃíáõÙ Ï³ë»óí³Í) | Q6: ÀÝ¹³Ù»ÝÁ | R6: ÃáÕÝí»É ¿ ³é³Ýó ùÝÝ³ñÏÙ³Ý | S6: Ñ³ëï³ïí»É ¿
I8: ¸ÇÙáõÙÇ ÁÝ¹áõÝáõÙÁ Ù»ñÅí»É ¿ | J8: ¸ÇÙáõÙÁ í»ñ³¹³ñÓí»É ¿ | K8: ÀÝ¹áõÝí»É ¿ í³ñáõÛÃ
E18: 1 | F18: 2 | G18: 3 | H18: 4 | I18: 5 | J18: 6 | K18: 7 | L18: 8 | M18: 9 | N18: 10 | O18: 11 | P18: 12 | Q18: 13 | R18: 14 | S18: 15 | T18: 16 | U18: 17 | V18: 18 | W18: 1+7=8+16+17 | Y18: 2=3+4 | AA18: 2=5+6+7 | AC18: 7=9+10+11+12
A19: 1 | B19: Æñ³í³µ³Ý³Ï³Ý ³ÝÓÇ ëÝ³ÝÏáõÃÛ³Ý í»ñ³µ»ñÛ³É | E19: 1 | T19: 1 | W19: =E19+K19 -> 1 | X19: =L19+T19+U19 -> #VALUE! | Y19: =F19 -> 0 | Z19: =G19+H19 -> 0 | AA19: =F19 -> 0 | AB19: =I19+J19+K19 -> 0 | AC19: =K19 -> 0 | AD19: =M19+N19+O19+P19 -> 0
A20: 2 | B20: ²ÝÑ³ï Ó»éÝ»ñ»óÇ ëÝ³ÝÏáõÃÛ³Ý í»ñ³µ»ñÛ³É | W20: =E20+K20 -> 0 | X20: =L20+T20+U20 -> 0 | Y20: =F20 | Z20: =G20+H20 -> 0 | AA20: =F20 | AB20: =I20+J20+K20 -> 0 | AC20: =K20 -> 0 | AD20: =M20+N20+O20+P20 -> 0
A21: 3 | B21: üÇ½ÇÏ³Ï³Ý ³ÝÓ³Ýó ëÝ³ÝÏáõÃÛ³Ý í»ñ³µ»ñÛ³É | E21: 2 | U21: 2 | W21: =E21+K21 -> 2 | X21: =L21+T21+U21 -> #VALUE! | Y21: =F21 -> 0 | Z21: =G21+H21 -> 0 | AA21: =F21 -> 0 | AB21: =I21+J21+K21 -> 0 | AC21: =K21 -> 0 | AD21: =M21+N21+O21+P21 -> 0
A22: 4 | B22: ԸՆԴՀԱՄԵՆԸ | E22: 3 | T22: 1 | U22: 2 | W22: =E22+K22 -> 3 | X22: =L22+T22+U22 -> 3 | Y22: =F22 -> 0 | Z22: =G22+H22 -> 0 | AA22: =F22 -> 0 | AB22: =I22+J22+K22 -> 0 | AC22: =K22 -> 0 | AD22: =M22+N22+O22+P22 -> 0
