Workbook

Sheet Ընդամենը
A1: Ð²ÞìºîìàôÂÚàôÜ
A2: ՀՀ ÀÜ¸Ð²Üàôð Æð²ì²êàôÂÚ²Ü ²è²æÆÜ ²îÚ²ÜÆ ¸²î²ð²ÜՆԵՐÆ ¶àðÌàôÜºàôÂÚ²Ü ìºð²´ºðÚ²È
H3: êÜ²ÜÎàôÂÚ²Ü ¶àðÌºðՈՎ | U3: 2016Ã.
B4: êïáõ·Çã Ñ³í³ë³ñáõÙÝ»ñ` 1+7=8+16+17, 2=3+4, 2=5+6+7, 7=9+10+11+12 | E4: ²Ý³í³ñï ·áñÍ»ñÇ ÙÝ³óáñ¹Á Ñ³ßí»ïáõ Å³Ù³Ý³Ï³ßñç³ÝÇ ëÏ½µáõÙ | F4: êï³óí³Í ¹ÇÙáõÙÝ»ñÇ (·áñÍ»ñ) ù³Ý³ÏÁ | L4: öáË³Ýóí»É ¿ ³ÛÉ ¹³ï³íáñÇ (Ï³½ÙÇ ÷á÷áËáõÃÛáõÝ) | M4: ì³ñáõÛÃ ÁÝ¹áõÝí³Í ¹ÇÙáõÙÝ»ñáí Ï³Û³óí³Í ¹³ï³Ï³Ý ³Ïï»ñ | Q4: Ü»ñÏ³Û³óí»É ¿ ýÇÝ³Ýë³Ï³Ý ³éáÕç³óÙ³Ý Íñ³·Çñ | T4: ²í³ñïí»É »Ý ·áñÍ»ñ Ñ³ßí»ïáõ Å³Ù³Ý³Ï³ßñç³ÝáõÙ | U4: ²Ý³í³ñï ·áñÍ»ñÇ ÙÝ³óáñ¹Á Ñ³ßí»ïáõ Å³Ù³Ý³Ï³ßñç³ÝÇ í»ñçáõÙ | V4: ´áÕáù³ñÏí»É »Ý í»ñ³ùÝÝÇã ¹³ï³ñ³Ý
F6: ÀÝ¹³Ù»ÝÁ | G6: ³Û¹ ÃíáõÙ Ñ³ñÏ³¹ñí³Í ëÝ³ÝÏáõÃÛáõÝ | H6: ³Û¹ ÃíáõÙ Ï³Ù³íáñ ëÝ³ÝÏáõÃÛáõÝ | I6: ëï³óí³Í ¹ÇÙáõÙÝ»ñÇ ÁÝÃ³óùÁ | M6: Ï³Û³óí»É ¿ å³ñï³å³ÝÇÝ ëÝ³ÝÏ ×³Ý³ã»Éáõ Ù³ëÇÝ í×Çé | N6: å³ñï³å³ÝÇÝ ëÝ³ÝÏ ×³Ý³ã»Éáõ ¹ÇÙáõÙÁ Ù»ñÅí»É ¿ | O6: ¹ÇÙáõÙÁ ÃáÕÝí»É ¿ ³é³Ýó ùÝÝáõÃÛ³Ý | P6: ³Ý³í³ñï (³Û¹ ÃíáõÙ Ï³ë»óí³Í) | Q6: ÀÝ¹³Ù»ÝÁ | R6: ÃáÕÝí»É ¿ ³é³Ýó ùÝÝ³ñÏÙ³Ý | S6: Ñ³ëï³ïí»É ¿
I8: ¸ÇÙáõÙÇ ÁÝ¹áõÝáõÙÁ Ù»ñÅí»É ¿ | J8: ¸ÇÙáõÙÁ í»ñ³¹³ñÓí»É ¿ | K8: ÀÝ¹áõÝí»É ¿ í³ñáõÛÃ
E18: 1 | F18: 2 | G18: 3 | H18: 4 | I18: 5 | J18: 6 | K18: 7 | L18: 8 | M18: 9 | N18: 10 | O18: 11 | P18: 12 | Q18: 13 | R18: 14 | S18: 15 | T18: 16 | U18: 17 | V18: 18 | W18: 1+7=8+16+17 | Y18: 2=3+4 | AA18: 2=5+6+7 | AC18: 7=9+10+11+12
A19: 1 | B19: Æñ³í³µ³Ý³Ï³Ý ³ÝÓÇ ëÝ³ÝÏáõÃÛ³Ý í»ñ³µ»ñÛ³É | E19: =SUM(Kentron:Syuniq!E19) -> 1951 | F19: =SUM(Kentron:Syuniq!F19) -> 1967 | G19: =SUM(Kentron:Syuniq!G19) -> 1926 | H19: =SUM(Kentron:Syuniq!H19) -> 41 | I19: =SUM(Kentron:Syuniq!I19) -> 6 | J19: =SUM(Kentron:Syuniq!J19) -> 248 | K19: =SUM(Kentron:Syuniq!K19) -> 1713 | L19: =SUM(Kentron:Syuniq!L19) -> 0 | ... V19: =SUM(Kentron:Syuniq!V19) -> 57 | W19: =E19+K19 -> 3664 | X19: =L19+T19+U19 -> 3664 | Y19: =F19 -> 1967 | Z19: =G19+H19 -> 1967 | AA19: =F19 -> 1967 | AB19: =I19+J19+K19 -> 1967 | AC19: =K19 -> 1713 | AD19: =M19+N19+O19+P19 -> 1711
A20: 2 | B20: ²ÝÑ³ï Ó»éÝ»ñ»óÇ ëÝ³ÝÏáõÃÛ³Ý í»ñ³µ»ñÛ³É | E20: =SUM(Kentron:Syuniq!E20) -> 395 | F20: =SUM(Kentron:Syuniq!F20) -> 586 | G20: =SUM(Kentron:Syuniq!G20) -> 566 | H20: =SUM(Kentron:Syuniq!H20) -> 20 | I20: =SUM(Kentron:Syuniq!I20) -> 3 | J20: =SUM(Kentron:Syuniq!J20) -> 107 | K20: =SUM(Kentron:Syuniq!K20) -> 476 | L20: =SUM(Kentron:Syuniq!L20) -> 0 | ... V20: =SUM(Kentron:Syuniq!V20) -> 11 | W20: =E20+K20 -> 871 | X20: =L20+T20+U20 -> 870 | Y20: =F20 -> 586 | Z20: =G20+H20 -> 586 | AA20: =F20 -> 586 | AB20: =I20+J20+K20 -> 586 | AC20: =K20 -> 476 | AD20: =M20+N20+O20+P20 -> 476
A21: 3 | B21: üÇ½ÇÏ³Ï³Ý ³ÝÓ³Ýó ëÝ³ÝÏáõÃÛ³Ý í»ñ³µ»ñÛ³É | E21: =SUM(Kentron:Syuniq!E21) -> 2043 | F21: =SUM(Kentron:Syuniq!F21) -> 1303 | G21: =SUM(Kentron:Syuniq!G21) -> 1044 | H21: =SUM(Kentron:Syuniq!H21) -> 259 | I21: =SUM(Kentron:Syuniq!I21) -> 5 | J21: =SUM(Kentron:Syuniq!J21) -> 285 | K21: =SUM(Kentron:Syuniq!K21) -> 1013 | L21: =SUM(Kentron:Syuniq!L21) -> 0 | ... V21: =SUM(Kentron:Syuniq!V21) -> 75 | W21: =E21+K21 -> 3056 | X21: =L21+T21+U21 -> 3054 | Y21: =F21 -> 1303 | Z21: =G21+H21 -> 1303 | AA21: =F21 -> 1303 | AB21: =I21+J21+K21 -> 1303 | AC21: =K21 -> 1013 | AD21: =M21+N21+O21+P21 -> 1009
A22: 4 | B22: ԸՆԴՀԱՄԵՆԸ | E22: =SUM(Kentron:Syuniq!E22) -> 4389 | F22: =SUM(Kentron:Syuniq!F22) -> 3856 | G22: =SUM(Kentron:Syuniq!G22) -> 3536 | H22: =SUM(Kentron:Syuniq!H22) -> 320 | I22: =SUM(Kentron:Syuniq!I22) -> 14 | J22: =SUM(Kentron:Syuniq!J22) -> 640 | K22: =SUM(Kentron:Syuniq!K22) -> 3202 | L22: =SUM(Kentron:Syuniq!L22) -> 0 | ... V22: =SUM(Kentron:Syuniq!V22) -> 142 | W22: =E22+K22 -> 7591 | X22: =L22+T22+U22 -> 7589 | Y22: =F22 -> 3856 | Z22: =G22+H22 -> 3856 | AA22: =F22 -> 3856 | AB22: =I22+J22+K22 -> 3856 | AC22: =K22 -> 3202 | AD22: =M22+N22+O22+P22 -> 3196
B26: Թվով 6 գործ կարճվել է
B27: 1 գործ ուղարկվել է ըստ ընդդատության

Sheet Kentron
A1: Ð²ÞìºîìàôÂÚàôÜ
A2: ºðºì²ÜÆ ԿԵՆՏՐՈՆ ºì ՆՈՐՔ ՄԱՐԱՇ ì²ðâ²Î²Ü Þðæ²ÜÜºðÆ ÀÜ¸Ð²Üàôð Æð²ì²êàôÂÚ²Ü ²è²æÆÜ ²îÚ²ÜÆ ¸²î²ð²ÜÆ ¶àðÌàôÜºàôÂÚ²Ü ìºð²´ºðÚ²È
H3: êÜ²ÜÎàôÂÚ²Ü ¶àðÌºðՈՎ | U3: 2016Ã.
B4: êïáõ·Çã Ñ³í³ë³ñáõÙÝ»ñ` 1+7=8+16+17, 2=3+4, 2=5+6+7, 7=9+10+11+12 | E4: ²Ý³í³ñï ·áñÍ»ñÇ ÙÝ³óáñ¹Á Ñ³ßí»ïáõ Å³Ù³Ý³Ï³ßñç³ÝÇ ëÏ½µáõÙ | F4: êï³óí³Í ¹ÇÙáõÙÝ»ñÇ (·áñÍ»ñ) ù³Ý³ÏÁ | L4: öáË³Ýóí»É ¿ ³ÛÉ ¹³ï³íáñÇ (Ï³½ÙÇ ÷á÷áËáõÃÛáõÝ) | M4: ì³ñáõÛÃ ÁÝ¹áõÝí³Í ¹ÇÙáõÙÝ»ñáí Ï³Û³óí³Í ¹³ï³Ï³Ý ³Ïï»ñ | Q4: Ü»ñÏ³Û³óí»É ¿ ýÇÝ³Ýë³Ï³Ý ³éáÕç³óÙ³Ý Íñ³·Çñ | T4: ²í³ñïí»É »Ý ·áñÍ»ñ Ñ³ßí»ïáõ Å³Ù³Ý³Ï³ßñç³ÝáõÙ | U4: ²Ý³í³ñï ·áñÍ»ñÇ ÙÝ³óáñ¹Á Ñ³ßí»ïáõ Å³Ù³Ý³Ï³ßñç³ÝÇ í»ñçáõÙ | V4: ´áÕáù³ñÏí»É »Ý í»ñ³ùÝÝÇã ¹³ï³ñ³Ý
F6: ÀÝ¹³Ù»ÝÁ | G6: ³Û¹ ÃíáõÙ Ñ³ñÏ³¹ñí³Í ëÝ³ÝÏáõÃÛáõÝ | H6: ³Û¹ ÃíáõÙ Ï³Ù³íáñ ëÝ³ÝÏáõÃÛáõÝ | I6: ëï³óí³Í ¹ÇÙáõÙÝ»ñÇ ÁÝÃ³óùÁ | M6: Ï³Û³óí»É ¿ å³ñï³å³ÝÇÝ ëÝ³ÝÏ ×³Ý³ã»Éáõ Ù³ëÇÝ í×Çé | N6: å³ñï³å³ÝÇÝ ëÝ³ÝÏ ×³Ý³ã»Éáõ ¹ÇÙáõÙÁ Ù»ñÅí»É ¿ | O6: ¹ÇÙáõÙÁ ÃáÕÝí»É ¿ ³é³Ýó ùÝÝáõÃÛ³Ý | P6: ³Ý³í³ñï (³Û¹ ÃíáõÙ Ï³ë»óí³Í) | Q6: ÀÝ¹³Ù»ÝÁ | R6: ÃáÕÝí»É ¿ ³é³Ýó ùÝÝ³ñÏÙ³Ý | S6: Ñ³ëï³ïí»É ¿
I8: ¸ÇÙáõÙÇ ÁÝ¹áõÝáõÙÁ Ù»ñÅí»É ¿ | J8: ¸ÇÙáõÙÁ í»ñ³¹³ñÓí»É ¿ | K8: ÀÝ¹áõÝí»É ¿ í³ñáõÛÃ
E18: 1 | F18: 2 | G18: 3 | H18: 4 | I18: 5 | J18: 6 | K18: 7 | L18: 8 | M18: 9 | N18: 10 | O18: 11 | P18: 12 | Q18: 13 | R18: 14 | S18: 15 | T18: 16 | U18: 17 | V18: 18 | W18: 1+7=8+16+17 | Y18: 2=3+4 | AA18: 2=5+6+7 | AC18: 7=9+10+11+12
A19: 1 | B19: Æñ³í³µ³Ý³Ï³Ý ³ÝÓÇ ëÝ³ÝÏáõÃÛ³Ý í»ñ³µ»ñÛ³É | E19: 563 | F19: 414 | G19: 404 | H19: 10 | I19: 1 | J19: 13 | K19: 400 | M19: 132 | N19: 3 | O19: 0 | P19: 265 | Q19: 0 | R19: 0 | S19: 0 | T19: 120 | U19: 843 | V19: 21 | W19: =E19+K19 -> 963 | X19: =L19+T19+U19 -> 963 | Y19: =F19 -> 414 | Z19: =G19+H19 -> 414 | AA19: =F19 -> 414 | AB19: =I19+J19+K19 -> 414 | AC19: =K19 -> 400 | AD19: =M19+N19+O19+P19 -> 400
A20: 2 | B20: ²ÝÑ³ï Ó»éÝ»ñ»óÇ ëÝ³ÝÏáõÃÛ³Ý í»ñ³µ»ñÛ³É | E20: 46 | F20: 60 | G20: 57 | H20: 3 | I20: 0 | J20: 2 | K20: 58 | M20: 16 | N20: 0 | O20: 0 | P20: 42 | Q20: 0 | R20: 0 | S20: 0 | T20: 19 | U20: 85 | V20: 1 | W20: =E20+K20 -> 104 | X20: =L20+T20+U20 -> 104 | Y20: =F20 -> 60 | Z20: =G20+H20 -> 60 | AA20: =F20 -> 60 | AB20: =I20+J20+K20 -> 60 | AC20: =K20 -> 58 | AD20: =M20+N20+O20+P20 -> 58
A21: 3 | B21: üÇ½ÇÏ³Ï³Ý ³ÝÓ³Ýó ëÝ³ÝÏáõÃÛ³Ý í»ñ³µ»ñÛ³É | E21: 390 | F21: 185 | G21: 169 | H21: 16 | I21: 0 | J21: 17 | K21: 168 | M21: 82 | N21: 13 | O21: 0 | P21: 73 | Q21: 0 | R21: 0 | S21: 0 | T21: 100 | U21: 458 | V21: 25 | W21: =E21+K21 -> 558 | X21: =L21+T21+U21 -> 558 | Y21: =F21 -> 185 | Z21: =G21+H21 -> 185 | AA21: =F21 -> 185 | AB21: =I21+J21+K21 -> 185 | AC21: =K21 -> 168 | AD21: =M21+N21+O21+P21 -> 168
A22: 4 | B22: ԸՆԴՀԱՄԵՆԸ | E22: 999 | F22: 659 | G22: 630 | H22: 29 | I22: 1 | J22: 32 | K22: 626 | M22: 230 | N22: 16 | O22: 0 | P22: 380 | Q22: 0 | R22: 0 | S22: 0 | T22: 239 | U22: 1386 | V22: 47 | W22: =E22+K22 -> 1625 | X22: =L22+T22+U22 -> 1625 | Y22: =F22 -> 659 | Z22: =G22+H22 -> 659 | AA22: =F22 -> 659 | AB22: =I22+J22+K22 -> 659 | AC22: =K22 -> 626 | AD22: =M22+N22+O22+P22 -> 626

Sheet Avan
A1: Ð²ÞìºîìàôÂÚàôÜ
A2: ºðºì²ÜÆ ²ՎԱՆ ºì ՆՈՐ ՆՈՐՔ ì²ðâ²Î²Ü Þðæ²ÜÜºðÆ ÀÜ¸Ð²Üàôð Æð²ì²êàôÂÚ²Ü ²è²æÆÜ ²îÚ²ÜÆ ¸²î²ð²ÜÆ ¶àðÌàôÜºàôÂÚ²Ü ìºð²´ºðÚ²È
H3: êÜ²ÜÎàôÂÚ²Ü ¶àðÌºðՈՎ | U3: 2016Ã.
B4: êïáõ·Çã Ñ³í³ë³ñáõÙÝ»ñ` 1+7=8+16+17, 2=3+4, 2=5+6+7, 7=9+10+11+12 | E4: ²Ý³í³ñï ·áñÍ»ñÇ ÙÝ³óáñ¹Á Ñ³ßí»ïáõ Å³Ù³Ý³Ï³ßñç³ÝÇ ëÏ½µáõÙ | F4: êï³óí³Í ¹ÇÙáõÙÝ»ñÇ (·áñÍ»ñ) ù³Ý³ÏÁ | L4: öáË³Ýóí»É ¿ ³ÛÉ ¹³ï³íáñÇ (Ï³½ÙÇ ÷á÷áËáõÃÛáõÝ) | M4: ì³ñáõÛÃ ÁÝ¹áõÝí³Í ¹ÇÙáõÙÝ»ñáí Ï³Û³óí³Í ¹³ï³Ï³Ý ³Ïï»ñ | Q4: Ü»ñÏ³Û³óí»É ¿ ýÇÝ³Ýë³Ï³Ý ³éáÕç³óÙ³Ý Íñ³·Çñ | T4: ²í³ñïí»É »Ý ·áñÍ»ñ Ñ³ßí»ïáõ Å³Ù³Ý³Ï³ßñç³ÝáõÙ | U4: ²Ý³í³ñï ·áñÍ»ñÇ ÙÝ³óáñ¹Á Ñ³ßí»ïáõ Å³Ù³Ý³Ï³ßñç³ÝÇ í»ñçáõÙ | V4: ´áÕáù³ñÏí»É »Ý í»ñ³ùÝÝÇã ¹³ï³ñ³Ý
F6: ÀÝ¹³Ù»ÝÁ | G6: ³Û¹ ÃíáõÙ Ñ³ñÏ³¹ñí³Í ëÝ³ÝÏáõÃÛáõÝ | H6: ³Û¹ ÃíáõÙ Ï³Ù³íáñ ëÝ³ÝÏáõÃÛáõÝ | I6: ëï³óí³Í ¹ÇÙáõÙÝ»ñÇ ÁÝÃ³óùÁ | M6: Ï³Û³óí»É ¿ å³ñï³å³ÝÇÝ ëÝ³ÝÏ ×³Ý³ã»Éáõ Ù³ëÇÝ í×Çé | N6: å³ñï³å³ÝÇÝ ëÝ³ÝÏ ×³Ý³ã»Éáõ ¹ÇÙáõÙÁ Ù»ñÅí»É ¿ | O6: ¹ÇÙáõÙÁ ÃáÕÝí»É ¿ ³é³Ýó ùÝÝáõÃÛ³Ý | P6: ³Ý³í³ñï (³Û¹ ÃíáõÙ Ï³ë»óí³Í) | Q6: ÀÝ¹³Ù»ÝÁ | R6: ÃáÕÝí»É ¿ ³é³Ýó ùÝÝ³ñÏÙ³Ý | S6: Ñ³ëï³ïí»É ¿
I8: ¸ÇÙáõÙÇ ÁÝ¹áõÝáõÙÁ Ù»ñÅí»É ¿ | J8: ¸ÇÙáõÙÁ í»ñ³¹³ñÓí»É ¿ | K8: ÀÝ¹áõÝí»É ¿ í³ñáõÛÃ
E18: 1 | F18: 2 | G18: 3 | H18: 4 | I18: 5 | J18: 6 | K18: 7 | L18: 8 | M18: 9 | N18: 10 | O18: 11 | P18: 12 | Q18: 13 | R18: 14 | S18: 15 | T18: 16 | U18: 17 | V18: 18 | W18: 1+7=8+16+17 | Y18: 2=3+4 | AA18: 2=5+6+7 | AC18: 7=9+10+11+12
A19: 1 | B19: Æñ³í³µ³Ý³Ï³Ý ³ÝÓÇ ëÝ³ÝÏáõÃÛ³Ý í»ñ³µ»ñÛ³É | E19: 65 | F19: 183 | G19: 182 | H19: 1 | J19: 28 | K19: 155 | M19: 89 | N19: 1 | P19: 65 | T19: 44 | U19: 176 | V19: 3 | W19: =E19+K19 -> 220 | X19: =L19+T19+U19 -> 220 | Y19: =F19 -> 183 | Z19: =G19+H19 -> 183 | AA19: =F19 -> 183 | AB19: =I19+J19+K19 -> 183 | AC19: =K19 -> 155 | AD19: =M19+N19+O19+P19 -> 155
A20: 2 | B20: ²ÝÑ³ï Ó»éÝ»ñ»óÇ ëÝ³ÝÏáõÃÛ³Ý í»ñ³µ»ñÛ³É | E20: 8 | F20: 34 | G20: 32 | H20: 2 | I20: 1 | J20: 9 | K20: 24 | M20: 7 | N20: 1 | P20: 16 | T20: 12 | U20: 20 | W20: =E20+K20 -> 32 | X20: =L20+T20+U20 -> 32 | Y20: =F20 -> 34 | Z20: =G20+H20 -> 34 | AA20: =F20 -> 34 | AB20: =I20+J20+K20 -> 34 | AC20: =K20 -> 24 | AD20: =M20+N20+O20+P20 -> 24
A21: 3 | B21: üÇ½ÇÏ³Ï³Ý ³ÝÓ³Ýó ëÝ³ÝÏáõÃÛ³Ý í»ñ³µ»ñÛ³É | E21: 103 | F21: 97 | G21: 78 | H21: 19 | J21: 30 | K21: 67 | M21: 27 | P21: 40 | T21: 80 | U21: 90 | V21: 7 | W21: =E21+K21 -> 170 | X21: =L21+T21+U21 -> 170 | Y21: =F21 -> 97 | Z21: =G21+H21 -> 97 | AA21: =F21 -> 97 | AB21: =I21+J21+K21 -> 97 | AC21: =K21 -> 67 | AD21: =M21+N21+O21+P21 -> 67
A22: 4 | B22: ԸՆԴՀԱՄԵՆԸ | E22: =SUM(E19:E21) -> 176 | F22: =SUM(F19:F21) -> 314 | G22: =SUM(G19:G21) -> 292 | H22: =SUM(H19:H21) -> 22 | I22: =SUM(I19:I21) -> 1 | J22: =SUM(J19:J21) -> 67 | K22: =SUM(K19:K21) -> 246 | L22: =SUM(L19:L21) -> 0 | ... V22: =SUM(V19:V21) -> 10 | W22: =E22+K22 -> 422 | X22: =L22+T22+U22 -> 422 | Y22: =F22 -> 314 | Z22: =G22+H22 -> 314 | AA22: =F22 -> 314 | AB22: =I22+J22+K22 -> 314 | AC22: =K22 -> 246 | AD22: =M22+N22+O22+P22 -> 246

Sheet Ajapnyak
A1: Ð²ÞìºîìàôÂÚàôÜ
A2: ºðºì²ÜÆ ²æ²öÜÚ²Î ºì ¸²ìÂ²ÞºÜ ì²ðâ²Î²Ü Þðæ²ÜÜºðÆ ÀÜ¸Ð²Üàôð Æð²ì²êàôÂÚ²Ü ²è²æÆÜ ²îÚ²ÜÆ ¸²î²ð²ÜÆ ¶àðÌàôÜºàôÂÚ²Ü ìºð²´ºðÚ²È
H3: êÜ²ÜÎàôÂÚ²Ü ¶àðÌºðՈՎ | U3: 2016Ã.
B4: êïáõ·Çã Ñ³í³ë³ñáõÙÝ»ñ` 1+7=8+16+17, 2=3+4, 2=5+6+7, 7=9+10+11+12 | E4: ²Ý³í³ñï ·áñÍ»ñÇ ÙÝ³óáñ¹Á Ñ³ßí»ïáõ Å³Ù³Ý³Ï³ßñç³ÝÇ ëÏ½µáõÙ | F4: êï³óí³Í ¹ÇÙáõÙÝ»ñÇ (·áñÍ»ñ) ù³Ý³ÏÁ | L4: öáË³Ýóí»É ¿ ³ÛÉ ¹³ï³íáñÇ (Ï³½ÙÇ ÷á÷áËáõÃÛáõÝ) | M4: ì³ñáõÛÃ ÁÝ¹áõÝí³Í ¹ÇÙáõÙÝ»ñáí Ï³Û³óí³Í ¹³ï³Ï³Ý ³Ïï»ñ | Q4: Ü»ñÏ³Û³óí»É ¿ ýÇÝ³Ýë³Ï³Ý ³éáÕç³óÙ³Ý Íñ³·Çñ | T4: ²í³ñïí»É »Ý ·áñÍ»ñ Ñ³ßí»ïáõ Å³Ù³Ý³Ï³ßñç³ÝáõÙ | U4: ²Ý³í³ñï ·áñÍ»ñÇ ÙÝ³óáñ¹Á Ñ³ßí»ïáõ Å³Ù³Ý³Ï³ßñç³ÝÇ í»ñçáõÙ | V4: ´áÕáù³ñÏí»É »Ý í»ñ³ùÝÝÇã ¹³ï³ñ³Ý
F6: ÀÝ¹³Ù»ÝÁ | G6: ³Û¹ ÃíáõÙ Ñ³ñÏ³¹ñí³Í ëÝ³ÝÏáõÃÛáõÝ | H6: ³Û¹ ÃíáõÙ Ï³Ù³íáñ ëÝ³ÝÏáõÃÛáõÝ | I6: ëï³óí³Í ¹ÇÙáõÙÝ»ñÇ ÁÝÃ³óùÁ | M6: Ï³Û³óí»É ¿ å³ñï³å³ÝÇÝ ëÝ³ÝÏ ×³Ý³ã»Éáõ Ù³ëÇÝ í×Çé | N6: å³ñï³å³ÝÇÝ ëÝ³ÝÏ ×³Ý³ã»Éáõ ¹ÇÙáõÙÁ Ù»ñÅí»É ¿ | O6: ¹ÇÙáõÙÁ ÃáÕÝí»É ¿ ³é³Ýó ùÝÝáõÃÛ³Ý | P6: ³Ý³í³ñï (³Û¹ ÃíáõÙ Ï³ë»óí³Í) | Q6: ÀÝ¹³Ù»ÝÁ | R6: ÃáÕÝí»É ¿ ³é³Ýó ùÝÝ³ñÏÙ³Ý | S6: Ñ³ëï³ïí»É ¿
I8: ¸ÇÙáõÙÇ ÁÝ¹áõÝáõÙÁ Ù»ñÅí»É ¿ | J8: ¸ÇÙáõÙÁ í»ñ³¹³ñÓí»É ¿ | K8: ÀÝ¹áõÝí»É ¿ í³ñáõÛÃ
E18: 1 | F18: 2 | G18: 3 | H18: 4 | I18: 5 | J18: 6 | K18: 7 | L18: 8 | M18: 9 | N18: 10 | O18: 11 | P18: 12 | Q18: 13 | R18: 14 | S18: 15 | T18: 16 | U18: 17 | V18: 18 | W18: 1+7=8+16+17 | Y18: 2=3+4 | AA18: 2=5+6+7 | AC18: 7=9+10+11+12
A19: 1 | B19: Æñ³í³µ³Ý³Ï³Ý ³ÝÓÇ ëÝ³ÝÏáõÃÛ³Ý í»ñ³µ»ñÛ³É | E19: 73 | F19: 181 | G19: 181 | H19: 0 | I19: 0 | J19: 66 | K19: 115 | L19: 0 | M19: 18 | N19: 1 | O19: 0 | P19: 96 | Q19: 0 | R19: 0 | S19: 0 | T19: 5 | U19: 183 | V19: 1 | W19: =E19+K19 -> 188 | X19: =L19+T19+U19 -> 188 | Y19: =F19 -> 181 | Z19: =G19+H19 -> 181 | AA19: =F19 -> 181 | AB19: =I19+J19+K19 -> 181 | AC19: =K19 -> 115 | AD19: =M19+N19+O19+P19 -> 115
A20: 2 | B20: ²ÝÑ³ï Ó»éÝ»ñ»óÇ ëÝ³ÝÏáõÃÛ³Ý í»ñ³µ»ñÛ³É | E20: 24 | F20: 80 | G20: 78 | H20: 2 | I20: 0 | J20: 25 | K20: 55 | L20: 0 | M20: 5 | N20: 1 | O20: 0 | P20: 49 | Q20: 0 | R20: 0 | S20: 0 | T20: 2 | U20: 77 | V20: 0 | W20: =E20+K20 -> 79 | X20: =L20+T20+U20 -> 79 | Y20: =F20 -> 80 | Z20: =G20+H20 -> 80 | AA20: =F20 -> 80 | AB20: =I20+J20+K20 -> 80 | AC20: =K20 -> 55 | AD20: =M20+N20+O20+P20 -> 55
A21: 3 | B21: üÇ½ÇÏ³Ï³Ý ³ÝÓ³Ýó ëÝ³ÝÏáõÃÛ³Ý í»ñ³µ»ñÛ³É | E21: 115 | F21: 95 | G21: 88 | H21: 7 | I21: 0 | J21: 33 | K21: 62 | L21: 0 | M21: 8 | N21: 1 | O21: 0 | P21: 53 | Q21: 0 | R21: 0 | S21: 0 | T21: 13 | U21: 164 | V21: 4 | W21: =E21+K21 -> 177 | X21: =L21+T21+U21 -> 177 | Y21: =F21 -> 95 | Z21: =G21+H21 -> 95 | AA21: =F21 -> 95 | AB21: =I21+J21+K21 -> 95 | AC21: =K21 -> 62 | AD21: =M21+N21+O21+P21 -> 62
A22: 4 | B22: ԸՆԴՀԱՄԵՆԸ | E22: 212 | F22: 356 | G22: 347 | H22: 9 | I22: 0 | J22: 124 | K22: 232 | L22: 0 | M22: 31 | N22: 3 | O22: 0 | P22: 198 | Q22: 0 | R22: 0 | S22: 0 | T22: 20 | U22: 424 | V22: 5 | W22: =E22+K22 -> 444 | X22: =L22+T22+U22 -> 444 | Y22: =F22 -> 356 | Z22: =G22+H22 -> 356 | AA22: =F22 -> 356 | AB22: =I22+J22+K22 -> 356 | AC22: =K22 -> 232 | AD22: =M22+N22+O22+P22 -> 232

Sheet Shengavit
A1: Ð²ÞìºîìàôÂÚàôÜ
A2: ºðºì²ÜÆ ՇԵՆԳԱՎԻԹ ì²ðâ²Î²Ü Þðæ²ÜÆ ÀÜ¸Ð²Üàôð Æð²ì²êàôÂÚ²Ü ²è²æÆÜ ²îÚ²ÜÆ ¸²î²ð²ÜÆ ¶àðÌàôÜºàôÂÚ²Ü ìºð²´ºðÚ²È
H3: êÜ²ÜÎàôÂÚ²Ü ¶àðÌºðàì | T3: 2016Ã.
B4: êïáõ·Çã Ñ³í³ë³ñáõÙÝ»ñ` 1+7=8+16+17, 2=3+4, 2=5+6+7, 7=9+10+11+12 | E4: ²Ý³í³ñï ·áñÍ»ñÇ ÙÝ³óáñ¹Á Ñ³ßí»ïáõ Å³Ù³Ý³Ï³ßñç³ÝÇ ëÏ½µáõÙ | F4: êï³óí³Í ¹ÇÙáõÙÝ»ñÇ (·áñÍ»ñ) ù³Ý³ÏÁ | L4: öáË³Ýóí»É ¿ ³ÛÉ ¹³ï³íáñÇ (Ï³½ÙÇ ÷á÷áËáõÃÛáõÝ) | M4: ì³ñáõÛÃ ÁÝ¹áõÝí³Í ¹ÇÙáõÙÝ»ñáí Ï³Û³óí³Í ¹³ï³Ï³Ý ³Ïï»ñ | Q4: Ü»ñÏ³Û³óí»É ¿ ýÇÝ³Ýë³Ï³Ý ³éáÕç³óÙ³Ý Íñ³·Çñ | T4: ²í³ñïí»É »Ý ·áñÍ»ñ Ñ³ßí»ïáõ Å³Ù³Ý³Ï³ßñç³ÝáõÙ | U4: ²Ý³í³ñï ·áñÍ»ñÇ ÙÝ³óáñ¹Á Ñ³ßí»ïáõ Å³Ù³Ý³Ï³ßñç³ÝÇ í»ñçáõÙ | V4: ´áÕáù³ñÏí»É »Ý í»ñ³ùÝÝÇã ¹³ï³ñ³Ý
F6: ÀÝ¹³Ù»ÝÁ | G6: ³Û¹ ÃíáõÙ Ñ³ñÏ³¹ñí³Í ëÝ³ÝÏáõÃÛáõÝ | H6: ³Û¹ ÃíáõÙ Ï³Ù³íáñ ëÝ³ÝÏáõÃÛáõÝ | I6: ëï³óí³Í ¹ÇÙáõÙÝ»ñÇ ÁÝÃ³óùÁ | M6: Ï³Û³óí»É ¿ å³ñï³å³ÝÇÝ ëÝ³ÝÏ ×³Ý³ã»Éáõ Ù³ëÇÝ í×Çé | N6: å³ñï³å³ÝÇÝ ëÝ³ÝÏ ×³Ý³ã»Éáõ ¹ÇÙáõÙÁ Ù»ñÅí»É ¿ | O6: ¹ÇÙáõÙÁ ÃáÕÝí»É ¿ ³é³Ýó ùÝÝáõÃÛ³Ý | P6: ³Ý³í³ñï (³Û¹ ÃíáõÙ Ï³ë»óí³Í) | Q6: ÀÝ¹³Ù»ÝÁ | R6: ÃáÕÝí»É ¿ ³é³Ýó ùÝÝ³ñÏÙ³Ý | S6: Ñ³ëï³ïí»É ¿
I8: ¸ÇÙáõÙÇ ÁÝ¹áõÝáõÙÁ Ù»ñÅí»É ¿ | J8: ¸ÇÙáõÙÁ í»ñ³¹³ñÓí»É ¿ | K8: ÀÝ¹áõÝí»É ¿ í³ñáõÛÃ
E18: 1 | F18: 2 | G18: 3 | H18: 4 | I18: 5 | J18: 6 | K18: 7 | L18: 8 | M18: 9 | N18: 10 | O18: 11 | P18: 12 | Q18: 13 | R18: 14 | S18: 15 | T18: 16 | U18: 17 | V18: 18 | W18: 1+7=8+16+17 | Y18: 2=3+4 | AA18: 2=5+6+7 | AC18: 7=9+10+11+12
A19: 1 | B19: Æñ³í³µ³Ý³Ï³Ý ³ÝÓÇ ëÝ³ÝÏáõÃÛ³Ý í»ñ³µ»ñÛ³É | E19: =[2]Ա.Կուբանյան!E19+[2]Ա.Չիչոյան!E19 -> 105 | F19: 175 | G19: 174 | H19: =[2]Ա.Կուբանյան!H19+[2]Ա.Չիչոյան!H19 -> 1 | I19: 1 | J19: 41 | K19: 133 | M19: 32 | N19: 10 | O19: 4 | P19: 87 | Q19: 1 | R19: =[2]Ա.Կուբանյան!R19+[2]Ա.Չիչոյան!R19 -> 0 | S19: 1 | T19: 47 | U19: 191 | V19: 6 | W19: =E19+K19 -> 238 | X19: =L19+T19+U19 -> 238 | Y19: =F19 -> 175 | Z19: =G19+H19 -> 175 | AA19: =F19 -> 175 | AB19: =I19+J19+K19 -> 175 | AC19: =K19 -> 133 | AD19: =M19+N19+O19+P19 -> 133
A20: 2 | B20: ²ÝÑ³ï Ó»éÝ»ñ»óÇ ëÝ³ÝÏáõÃÛ³Ý í»ñ³µ»ñÛ³É | E20: =[2]Ա.Կուբանյան!E20+[2]Ա.Չիչոյան!E20 -> 16 | F20: 68 | G20: 68 | H20: =[2]Ա.Կուբանյան!H20+[2]Ա.Չիչոյան!H20 -> 0 | I20: =[2]Ա.Կուբանյան!I20+[2]Ա.Չիչոյան!I20 -> 0 | J20: 21 | K20: 47 | M20: 6 | N20: 7 | O20: 1 | P20: 33 | Q20: 1 | R20: 1 | S20: =[2]Ա.Կուբանյան!S20+[2]Ա.Չիչոյան!S20 -> 0 | T20: 12 | U20: 50 | V20: 3 | W20: =E20+K20 -> 63 | X20: =L20+T20+U20 -> 62 | Y20: =F20 -> 68 | Z20: =G20+H20 -> 68 | AA20: =F20 -> 68 | AB20: =I20+J20+K20 -> 68 | AC20: =K20 -> 47 | AD20: =M20+N20+O20+P20 -> 47
A21: 3 | B21: üÇ½ÇÏ³Ï³Ý ³ÝÓ³Ýó ëÝ³ÝÏáõÃÛ³Ý í»ñ³µ»ñÛ³É | E21: 99 | F21: 116 | G21: 90 | H21: 26 | I21: 1 | J21: 52 | K21: 63 | M21: 28 | N21: 4 | O21: 1 | P21: 30 | Q21: =[2]Ա.Կուբանյան!Q21+[2]Ա.Չիչոյան!Q21 -> 0 | R21: =[2]Ա.Կուբանյան!R21+[2]Ա.Չիչոյան!R21 -> 0 | S21: =[2]Ա.Կուբանյան!S21+[2]Ա.Չիչոյան!S21 -> 0 | T21: 29 | U21: 133 | V21: 10 | W21: =E21+K21 -> 162 | X21: =L21+T21+U21 -> 162 | Y21: =F21 -> 116 | Z21: =G21+H21 -> 116 | AA21: =F21 -> 116 | AB21: =I21+J21+K21 -> 116 | AC21: =K21 -> 63 | AD21: =M21+N21+O21+P21 -> 63
A22: 4 | B22: ԸՆԴՀԱՄԵՆԸ | E22: 220 | F22: 359 | G22: 332 | H22: 27 | I22: 2 | J22: 114 | K22: 243 | M22: 66 | N22: 21 | O22: 6 | P22: 150 | Q22: 2 | R22: 1 | S22: 1 | T22: 89 | U22: 374 | V22: 19 | W22: =E22+K22 -> 463 | X22: =L22+T22+U22 -> 463 | Y22: =F22 -> 359 | Z22: =G22+H22 -> 359 | AA22: =F22 -> 359 | AB22: =I22+J22+K22 -> 359 | AC22: =K22 -> 243 | AD22: =M22+N22+O22+P22 -> 243

Sheet Malatia
A1: Ð²ÞìºîìàôÂÚàôÜ
A2: ºðºì²ÜÆ ՄԱԼԱԹԻԱ-ՍԵԲԱՍՏԻԱ ì²ðâ²Î²Ü Þðæ²ÜÆ ÀÜ¸Ð²Üàôð Æð²ì²êàôÂÚ²Ü ²è²æÆÜ ²îÚ²ÜÆ ¸²î²ð²ÜÆ ¶àðÌàôÜºàôÂÚ²Ü ìºð²´ºðÚ²È
H3: êÜ²ÜÎàôÂÚ²Ü ¶àðÌºðàì | T3: 2016Ã.
B4: êïáõ·Çã Ñ³í³ë³ñáõÙÝ»ñ` 1+7=8+16+17, 2=3+4, 2=5+6+7, 7=9+10+11+12 | E4: ²Ý³í³ñï ·áñÍ»ñÇ ÙÝ³óáñ¹Á Ñ³ßí»ïáõ Å³Ù³Ý³Ï³ßñç³ÝÇ ëÏ½µáõÙ | F4: êï³óí³Í ¹ÇÙáõÙÝ»ñÇ (·áñÍ»ñ) ù³Ý³ÏÁ | L4: öáË³Ýóí»É ¿ ³ÛÉ ¹³ï³íáñÇ (Ï³½ÙÇ ÷á÷áËáõÃÛáõÝ) | M4: ì³ñáõÛÃ ÁÝ¹áõÝí³Í ¹ÇÙáõÙÝ»ñáí Ï³Û³óí³Í ¹³ï³Ï³Ý ³Ïï»ñ | Q4: Ü»ñÏ³Û³óí»É ¿ ýÇÝ³Ýë³Ï³Ý ³éáÕç³óÙ³Ý Íñ³·Çñ | T4: ²í³ñïí»É »Ý ·áñÍ»ñ Ñ³ßí»ïáõ Å³Ù³Ý³Ï³ßñç³ÝáõÙ | U4: ²Ý³í³ñï ·áñÍ»ñÇ ÙÝ³óáñ¹Á Ñ³ßí»ïáõ Å³Ù³Ý³Ï³ßñç³ÝÇ í»ñçáõÙ | V4: ´áÕáù³ñÏí»É »Ý í»ñ³ùÝÝÇã ¹³ï³ñ³Ý
F6: ÀÝ¹³Ù»ÝÁ | G6: ³Û¹ ÃíáõÙ Ñ³ñÏ³¹ñí³Í ëÝ³ÝÏáõÃÛáõÝ | H6: ³Û¹ ÃíáõÙ Ï³Ù³íáñ ëÝ³ÝÏáõÃÛáõÝ | I6: ëï³óí³Í ¹ÇÙáõÙÝ»ñÇ ÁÝÃ³óùÁ | M6: Ï³Û³óí»É ¿ å³ñï³å³ÝÇÝ ëÝ³ÝÏ ×³Ý³ã»Éáõ Ù³ëÇÝ í×Çé | N6: å³ñï³å³ÝÇÝ ëÝ³ÝÏ ×³Ý³ã»Éáõ ¹ÇÙáõÙÁ Ù»ñÅí»É ¿ | O6: ¹ÇÙáõÙÁ ÃáÕÝí»É ¿ ³é³Ýó ùÝÝáõÃÛ³Ý | P6: ³Ý³í³ñï (³Û¹ ÃíáõÙ Ï³ë»óí³Í) | Q6: ÀÝ¹³Ù»ÝÁ | R6: ÃáÕÝí»É ¿ ³é³Ýó ùÝÝ³ñÏÙ³Ý | S6: Ñ³ëï³ïí»É ¿
I8: ¸ÇÙáõÙÇ ÁÝ¹áõÝáõÙÁ Ù»ñÅí»É ¿ | J8: ¸ÇÙáõÙÁ í»ñ³¹³ñÓí»É ¿ | K8: ÀÝ¹áõÝí»É ¿ í³ñáõÛÃ
E18: 1 | F18: 2 | G18: 3 | H18: 4 | I18: 5 | J18: 6 | K18: 7 | L18: 8 | M18: 9 | N18: 10 | O18: 11 | P18: 12 | Q18: 13 | R18: 14 | S18: 15 | T18: 16 | U18: 17 | V18: 18 | W18: 1+7=8+16+17 | Y18: 2=3+4 | AA18: 2=5+6+7 | AC18: 7=9+10+11+12
A19: 1 | B19: Æñ³í³µ³Ý³Ï³Ý ³ÝÓÇ ëÝ³ÝÏáõÃÛ³Ý í»ñ³µ»ñÛ³É | E19: 85 | F19: 99 | G19: 99 | I19: 1 | J19: 21 | K19: 77 | M19: 21 | N19: 1 | P19: 55 | T19: 9 | U19: 153 | V19: 3 | W19: =E19+K19 -> 162 | X19: =L19+T19+U19 -> 162 | Y19: =F19 -> 99 | Z19: =G19+H19 -> 99 | AA19: =F19 -> 99 | AB19: =I19+J19+K19 -> 99 | AC19: =K19 -> 77 | AD19: =M19+N19+O19+P19 -> 77
A20: 2 | B20: ²ÝÑ³ï Ó»éÝ»ñ»óÇ ëÝ³ÝÏáõÃÛ³Ý í»ñ³µ»ñÛ³É | E20: 24 | F20: 36 | G20: 36 | J20: 4 | K20: 32 | M20: 5 | P20: 27 | T20: 1 | U20: 55 | V20: 3 | W20: =E20+K20 -> 56 | X20: =L20+T20+U20 -> 56 | Y20: =F20 -> 36 | Z20: =G20+H20 -> 36 | AA20: =F20 -> 36 | AB20: =I20+J20+K20 -> 36 | AC20: =K20 -> 32 | AD20: =M20+N20+O20+P20 -> 32
A21: 3 | B21: üÇ½ÇÏ³Ï³Ý ³ÝÓ³Ýó ëÝ³ÝÏáõÃÛ³Ý í»ñ³µ»ñÛ³É | E21: 134 | F21: 74 | G21: 64 | H21: 10 | J21: 15 | K21: 59 | M21: 8 | P21: 51 | T21: 13 | U21: 180 | V21: 2 | W21: =E21+K21 -> 193 | X21: =L21+T21+U21 -> 193 | Y21: =F21 -> 74 | Z21: =G21+H21 -> 74 | AA21: =F21 -> 74 | AB21: =I21+J21+K21 -> 74 | AC21: =K21 -> 59 | AD21: =M21+N21+O21+P21 -> 59
A22: 4 | B22: ԸՆԴՀԱՄԵՆԸ | E22: 243 | F22: 209 | G22: 199 | H22: 10 | I22: 1 | J22: 40 | K22: 168 | M22: 34 | N22: 1 | P22: 133 | T22: 23 | U22: 388 | V22: 8 | W22: =E22+K22 -> 411 | X22: =L22+T22+U22 -> 411 | Y22: =F22 -> 209 | Z22: =G22+H22 -> 209 | AA22: =F22 -> 209 | AB22: =I22+J22+K22 -> 209 | AC22: =K22 -> 168 | AD22: =M22+N22+O22+P22 -> 168

Sheet Arabkir
A1: Ð²ÞìºîìàôÂÚàôÜ
A2: ºðºì²ÜÆ ²ð²´ÎÆð ºì ø²Ü²øºè-¼ºÚÂàôÜ ì²ðâ²Î²Ü Þðæ²ÜÜºðÆ ÀÜ¸Ð²Üàôð Æð²ì²êàôÂÚ²Ü ²è²æÆÜ ²îÚ²ÜÆ ¸²î²ð²ÜÆ ¶àðÌàôÜºàôÂÚ²Ü ìºð²´ºðÚ²È
H3: êÜ²ÜÎàôÂÚ²Ü ¶àðÌºðàì | T3: 2016Ã.
B4: êïáõ·Çã Ñ³í³ë³ñáõÙÝ»ñ` 1+7=8+16+17, 2=3+4, 2=5+6+7, 7=9+10+11+12 | E4: ²Ý³í³ñï ·áñÍ»ñÇ ÙÝ³óáñ¹Á Ñ³ßí»ïáõ Å³Ù³Ý³Ï³ßñç³ÝÇ ëÏ½µáõÙ | F4: êï³óí³Í ¹ÇÙáõÙÝ»ñÇ (·áñÍ»ñ) ù³Ý³ÏÁ | L4: öáË³Ýóí»É ¿ ³ÛÉ ¹³ï³íáñÇ (Ï³½ÙÇ ÷á÷áËáõÃÛáõÝ) | M4: ì³ñáõÛÃ ÁÝ¹áõÝí³Í ¹ÇÙáõÙÝ»ñáí Ï³Û³óí³Í ¹³ï³Ï³Ý ³Ïï»ñ | Q4: Ü»ñÏ³Û³óí»É ¿ ýÇÝ³Ýë³Ï³Ý ³éáÕç³óÙ³Ý Íñ³·Çñ | T4: ²í³ñïí»É »Ý ·áñÍ»ñ Ñ³ßí»ïáõ Å³Ù³Ý³Ï³ßñç³ÝáõÙ | U4: ²Ý³í³ñï ·áñÍ»ñÇ ÙÝ³óáñ¹Á Ñ³ßí»ïáõ Å³Ù³Ý³Ï³ßñç³ÝÇ í»ñçáõÙ | V4: ´áÕáù³ñÏí»É »Ý í»ñ³ùÝÝÇã ¹³ï³ñ³Ý
F6: ÀÝ¹³Ù»ÝÁ | G6: ³Û¹ ÃíáõÙ Ñ³ñÏ³¹ñí³Í ëÝ³ÝÏáõÃÛáõÝ | H6: ³Û¹ ÃíáõÙ Ï³Ù³íáñ ëÝ³ÝÏáõÃÛáõÝ | I6: ëï³óí³Í ¹ÇÙáõÙÝ»ñÇ ÁÝÃ³óùÁ | M6: Ï³Û³óí»É ¿ å³ñï³å³ÝÇÝ ëÝ³ÝÏ ×³Ý³ã»Éáõ Ù³ëÇÝ í×Çé | N6: å³ñï³å³ÝÇÝ ëÝ³ÝÏ ×³Ý³ã»Éáõ ¹ÇÙáõÙÁ Ù»ñÅí»É ¿ | O6: ¹ÇÙáõÙÁ ÃáÕÝí»É ¿ ³é³Ýó ùÝÝáõÃÛ³Ý | P6: ³Ý³í³ñï (³Û¹ ÃíáõÙ Ï³ë»óí³Í) | Q6: ÀÝ¹³Ù»ÝÁ | R6: ÃáÕÝí»É ¿ ³é³Ýó ùÝÝ³ñÏÙ³Ý | S6: Ñ³ëï³ïí»É ¿
I8: ¸ÇÙáõÙÇ ÁÝ¹áõÝáõÙÁ Ù»ñÅí»É ¿ | J8: ¸ÇÙáõÙÁ í»ñ³¹³ñÓí»É ¿ | K8: ÀÝ¹áõÝí»É ¿ í³ñáõÛÃ
E18: 1 | F18: 2 | G18: 3 | H18: 4 | I18: 5 | J18: 6 | K18: 7 | L18: 8 | M18: 9 | N18: 10 | O18: 11 | P18: 12 | Q18: 13 | R18: 14 | S18: 15 | T18: 16 | U18: 17 | V18: 18 | W18: 1+7=8+16+17 | Y18: 2=3+4 | AA18: 2=5+6+7 | AC18: 7=9+10+11+12
A19: 1 | B19: Æñ³í³µ³Ý³Ï³Ý ³ÝÓÇ ëÝ³ÝÏáõÃÛ³Ý í»ñ³µ»ñÛ³É | E19: 209 | F19: =[1]Ա.Դանիելյան!F19+'[1]Ռ. Բունիաթյան'!F19+[1]Ս.Հովսեփյան!F19+[1]Ս.Թադևոսյան!F19 -> 310 | G19: =[1]Ա.Դանիելյան!G19+'[1]Ռ. Բունիաթյան'!G19+[1]Ս.Հովսեփյան!G19+[1]Ս.Թադևոսյան!G19 -> 310 | H19: =[1]Ա.Դանիելյան!H19+'[1]Ռ. Բունիաթյան'!H19+[1]Ս.Հովսեփյան!H19+[1]Ս.Թադևոսյան!H19 -> 0 | I19: =[1]Ա.Դանիելյան!I19+'[1]Ռ. Բունիաթյան'!I19+[1]Ս.Հովսեփյան!I19+[1]Ս.Թադևոսյան!I19 -> 1 | J19: =[1]Ա.Դանիելյան!J19+'[1]Ռ. Բունիաթյան'!J19+[1]Ս.Հովսեփյան!J19+[1]Ս.Թադևոսյան!J19 -> 27 | K19: =[1]Ա.Դանիելյան!K19+'[1]Ռ. Բունիաթյան'!K19+[1]Ս.Հովսեփյան!K19+[1]Ս.Թադևոսյան!K19 -> 282 | L19: =[1]Ա.Դանիելյան!L19+'[1]Ռ. Բունիաթյան'!L19+[1]Ս.Հովսեփյան!L19+[1]Ս.Թադևոսյան!L19 -> 0 | M19: =[1]Ա.Դանիելյան!M19+'[1]Ռ. Բունիաթյան'!M19+[1]Ս.Հովսեփյան!M19+[1]Ս.Թադևոսյան!M19 -> 154 | ... V19: =[1]Ա.Դանիելյան!V19+'[1]Ռ. Բունիաթյան'!V19+[1]Ս.Հովսեփյան!V19+[1]Ս.Թադևոսյան!V19 -> 6 | W19: =E19+K19 -> 491 | X19: =L19+T19+U19 -> 491 | Y19: =F19 -> 310 | Z19: =G19+H19 -> 310 | AA19: =F19 -> 310 | AB19: =I19+J19+K19 -> 310 | AC19: =K19 -> 282 | AD19: =M19+N19+O19+P19 -> 282
A20: 2 | B20: ²ÝÑ³ï Ó»éÝ»ñ»óÇ ëÝ³ÝÏáõÃÛ³Ý í»ñ³µ»ñÛ³É | E20: 17 | F20: =[1]Ա.Դանիելյան!F20+'[1]Ռ. Բունիաթյան'!F20+[1]Ս.Հովսեփյան!F20+[1]Ս.Թադևոսյան!F20 -> 78 | G20: =[1]Ա.Դանիելյան!G20+'[1]Ռ. Բունիաթյան'!G20+[1]Ս.Հովսեփյան!G20+[1]Ս.Թադևոսյան!G20 -> 78 | H20: =[1]Ա.Դանիելյան!H20+'[1]Ռ. Բունիաթյան'!H20+[1]Ս.Հովսեփյան!H20+[1]Ս.Թադևոսյան!H20 -> 0 | I20: =[1]Ա.Դանիելյան!I20+'[1]Ռ. Բունիաթյան'!I20+[1]Ս.Հովսեփյան!I20+[1]Ս.Թադևոսյան!I20 -> 1 | J20: =[1]Ա.Դանիելյան!J20+'[1]Ռ. Բունիաթյան'!J20+[1]Ս.Հովսեփյան!J20+[1]Ս.Թադևոսյան!J20 -> 10 | K20: =[1]Ա.Դանիելյան!K20+'[1]Ռ. Բունիաթյան'!K20+[1]Ս.Հովսեփյան!K20+[1]Ս.Թադևոսյան!K20 -> 67 | L20: =[1]Ա.Դանիելյան!L20+'[1]Ռ. Բունիաթյան'!L20+[1]Ս.Հովսեփյան!L20+[1]Ս.Թադևոսյան!L20 -> 0 | M20: =[1]Ա.Դանիելյան!M20+'[1]Ռ. Բունիաթյան'!M20+[1]Ս.Հովսեփյան!M20+[1]Ս.Թադևոսյան!M20 -> 37 | ... V20: =[1]Ա.Դանիելյան!V20+'[1]Ռ. Բունիաթյան'!V20+[1]Ս.Հովսեփյան!V20+[1]Ս.Թադևոսյան!V20 -> 2 | W20: =E20+K20 -> 84 | X20: =L20+T20+U20 -> 84 | Y20: =F20 -> 78 | Z20: =G20+H20 -> 78 | AA20: =F20 -> 78 | AB20: =I20+J20+K20 -> 78 | AC20: =K20 -> 67 | AD20: =M20+N20+O20+P20 -> 67
A21: 3 | B21: üÇ½ÇÏ³Ï³Ý ³ÝÓ³Ýó ëÝ³ÝÏáõÃÛ³Ý í»ñ³µ»ñÛ³É | E21: 163 | F21: =[1]Ա.Դանիելյան!F21+'[1]Ռ. Բունիաթյան'!F21+[1]Ս.Հովսեփյան!F21+[1]Ս.Թադևոսյան!F21 -> 113 | G21: =[1]Ա.Դանիելյան!G21+'[1]Ռ. Բունիաթյան'!G21+[1]Ս.Հովսեփյան!G21+[1]Ս.Թադևոսյան!G21 -> 100 | H21: =[1]Ա.Դանիելյան!H21+'[1]Ռ. Բունիաթյան'!H21+[1]Ս.Հովսեփյան!H21+[1]Ս.Թադևոսյան!H21 -> 13 | I21: =[1]Ա.Դանիելյան!I21+'[1]Ռ. Բունիաթյան'!I21+[1]Ս.Հովսեփյան!I21+[1]Ս.Թադևոսյան!I21 -> 1 | J21: =[1]Ա.Դանիելյան!J21+'[1]Ռ. Բունիաթյան'!J21+[1]Ս.Հովսեփյան!J21+[1]Ս.Թադևոսյան!J21 -> 30 | K21: =[1]Ա.Դանիելյան!K21+'[1]Ռ. Բունիաթյան'!K21+[1]Ս.Հովսեփյան!K21+[1]Ս.Թադևոսյան!K21 -> 82 | L21: =[1]Ա.Դանիելյան!L21+'[1]Ռ. Բունիաթյան'!L21+[1]Ս.Հովսեփյան!L21+[1]Ս.Թադևոսյան!L21 -> 0 | M21: =[1]Ա.Դանիելյան!M21+'[1]Ռ. Բունիաթյան'!M21+[1]Ս.Հովսեփյան!M21+[1]Ս.Թադևոսյան!M21 -> 55 | ... V21: =[1]Ա.Դանիելյան!V21+'[1]Ռ. Բունիաթյան'!V21+[1]Ս.Հովսեփյան!V21+[1]Ս.Թադևոսյան!V21 -> 6 | W21: =E21+K21 -> 245 | X21: =L21+T21+U21 -> 245 | Y21: =F21 -> 113 | Z21: =G21+H21 -> 113 | AA21: =F21 -> 113 | AB21: =I21+J21+K21 -> 113 | AC21: =K21 -> 82 | AD21: =M21+N21+O21+P21 -> 82
A22: 4 | B22: ԸՆԴԱՄԵՆԸ | E22: 389 | F22: 501 | G22: 488 | H22: 13 | I22: 3 | J22: 67 | K22: 431 | M22: 246 | N22: 18 | P22: 167 | T22: 67 | U22: 753 | V22: 13 | W22: =E22+K22 -> 820 | X22: =L22+T22+U22 -> 820 | Y22: =F22 -> 501 | Z22: =G22+H22 -> 501 | AA22: =F22 -> 501 | AB22: =I22+J22+K22 -> 501 | AC22: =K22 -> 431 | AD22: =M22+N22+O22+P22 -> 431

Sheet Erebuni
A1: Ð²ÞìºîìàôÂÚàôÜ
A2: ºðºì²ÜÆ ԷՐԵԲՈՒՆԻ ԵՎ ՆՈՒԲԱՐԱՇԵՆ ì²ðâ²Î²Ü Þðæ²ÜÜºðÆ ÀÜ¸Ð²Üàôð Æð²ì²êàôÂÚ²Ü ²è²æÆÜ ²îÚ²ÜÆ ¸²î²ð²ÜÆ ¶àðÌàôÜºàôÂÚ²Ü ìºð²´ºðÚ²È
H3: êÜ²ÜÎàôÂÚ²Ü ¶àðÌºðàì | T3: 2016Ã.
B4: êïáõ·Çã Ñ³í³ë³ñáõÙÝ»ñ` 1+7=8+16+17, 2=3+4, 2=5+6+7, 7=9+10+11+12 | E4: ²Ý³í³ñï ·áñÍ»ñÇ ÙÝ³óáñ¹Á Ñ³ßí»ïáõ Å³Ù³Ý³Ï³ßñç³ÝÇ ëÏ½µáõÙ | F4: êï³óí³Í ¹ÇÙáõÙÝ»ñÇ (·áñÍ»ñ) ù³Ý³ÏÁ | L4: öáË³Ýóí»É ¿ ³ÛÉ ¹³ï³íáñÇ (Ï³½ÙÇ ÷á÷áËáõÃÛáõÝ) | M4: ì³ñáõÛÃ ÁÝ¹áõÝí³Í ¹ÇÙáõÙÝ»ñáí Ï³Û³óí³Í ¹³ï³Ï³Ý ³Ïï»ñ | Q4: Ü»ñÏ³Û³óí»É ¿ ýÇÝ³Ýë³Ï³Ý ³éáÕç³óÙ³Ý Íñ³·Çñ | T4: ²í³ñïí»É »Ý ·áñÍ»ñ Ñ³ßí»ïáõ Å³Ù³Ý³Ï³ßñç³ÝáõÙ | U4: ²Ý³í³ñï ·áñÍ»ñÇ ÙÝ³óáñ¹Á Ñ³ßí»ïáõ Å³Ù³Ý³Ï³ßñç³ÝÇ í»ñçáõÙ | V4: ´áÕáù³ñÏí»É »Ý í»ñ³ùÝÝÇã ¹³ï³ñ³Ý
F6: ÀÝ¹³Ù»ÝÁ | G6: ³Û¹ ÃíáõÙ Ñ³ñÏ³¹ñí³Í ëÝ³ÝÏáõÃÛáõÝ | H6: ³Û¹ ÃíáõÙ Ï³Ù³íáñ ëÝ³ÝÏáõÃÛáõÝ | I6: ëï³óí³Í ¹ÇÙáõÙÝ»ñÇ ÁÝÃ³óùÁ | M6: Ï³Û³óí»É ¿ å³ñï³å³ÝÇÝ ëÝ³ÝÏ ×³Ý³ã»Éáõ Ù³ëÇÝ í×Çé | N6: å³ñï³å³ÝÇÝ ëÝ³ÝÏ ×³Ý³ã»Éáõ ¹ÇÙáõÙÁ Ù»ñÅí»É ¿ | O6: ¹ÇÙáõÙÁ ÃáÕÝí»É ¿ ³é³Ýó ùÝÝáõÃÛ³Ý | P6: ³Ý³í³ñï (³Û¹ ÃíáõÙ Ï³ë»óí³Í) | Q6: ÀÝ¹³Ù»ÝÁ | R6: ÃáÕÝí»É ¿ ³é³Ýó ùÝÝ³ñÏÙ³Ý | S6: Ñ³ëï³ïí»É ¿
I8: ¸ÇÙáõÙÇ ÁÝ¹áõÝáõÙÁ Ù»ñÅí»É ¿ | J8: ¸ÇÙáõÙÁ í»ñ³¹³ñÓí»É ¿ | K8: ÀÝ¹áõÝí»É ¿ í³ñáõÛÃ
E18: 1 | F18: 2 | G18: 3 | H18: 4 | I18: 5 | J18: 6 | K18: 7 | L18: 8 | M18: 9 | N18: 10 | O18: 11 | P18: 12 | Q18: 13 | R18: 14 | S18: 15 | T18: 16 | U18: 17 | V18: 18 | W18: 1+7=8+16+17 | Y18: 2=3+4 | AA18: 2=5+6+7 | AC18: 7=9+10+11+12
A19: 1 | B19: Æñ³í³µ³Ý³Ï³Ý ³ÝÓÇ ëÝ³ÝÏáõÃÛ³Ý í»ñ³µ»ñÛ³É | E19: 44 | F19: 68 | G19: 67 | H19: 1 | J19: 12 | K19: 56 | M19: 27 | O19: 1 | P19: 28 | T19: 17 | U19: 83 | V19: 1 | W19: =E19+K19 -> 100 | X19: =L19+T19+U19 -> 100 | Y19: =F19 -> 68 | Z19: =G19+H19 -> 68 | AA19: =F19 -> 68 | AB19: =I19+J19+K19 -> 68 | AC19: =K19 -> 56 | AD19: =M19+N19+O19+P19 -> 56
A20: 2 | B20: ²ÝÑ³ï Ó»éÝ»ñ»óÇ ëÝ³ÝÏáõÃÛ³Ý í»ñ³µ»ñÛ³É | E20: 14 | F20: 41 | G20: 40 | H20: 1 | J20: 18 | K20: 23 | M20: 13 | O20: 1 | P20: 9 | Q20: 1 | R20: 1 | T20: 5 | U20: 32 | W20: =E20+K20 -> 37 | X20: =L20+T20+U20 -> 37 | Y20: =F20 -> 41 | Z20: =G20+H20 -> 41 | AA20: =F20 -> 41 | AB20: =I20+J20+K20 -> 41 | AC20: =K20 -> 23 | AD20: =M20+N20+O20+P20 -> 23
A21: 3 | B21: üÇ½ÇÏ³Ï³Ý ³ÝÓ³Ýó ëÝ³ÝÏáõÃÛ³Ý í»ñ³µ»ñÛ³É | E21: 82 | F21: 82 | G21: 70 | H21: 12 | J21: 25 | K21: 57 | M21: 36 | N21: 3 | O21: 3 | P21: 15 | Q21: 2 | S21: 2 | T21: 31 | U21: 108 | V21: 1 | W21: =E21+K21 -> 139 | X21: =L21+T21+U21 -> 139 | Y21: =F21 -> 82 | Z21: =G21+H21 -> 82 | AA21: =F21 -> 82 | AB21: =I21+J21+K21 -> 82 | AC21: =K21 -> 57 | AD21: =M21+N21+O21+P21 -> 57
A22: 4 | B22: ԸՆԴՀԱՄԵՆԸ | E22: 140 | F22: 191 | G22: 177 | H22: 14 | J22: 55 | K22: 136 | M22: 76 | N22: 3 | O22: 5 | P22: 52 | Q22: 3 | R22: 1 | S22: 2 | T22: 53 | U22: 223 | V22: 2 | W22: =E22+K22 -> 276 | X22: =L22+T22+U22 -> 276 | Y22: =F22 -> 191 | Z22: =G22+H22 -> 191 | AA22: =F22 -> 191 | AB22: =I22+J22+K22 -> 191 | AC22: =K22 -> 136 | AD22: =M22+N22+O22+P22 -> 136

Sheet Armavir
A1: Ð²ÞìºîìàôÂÚàôÜ
A2: ²ðØ²ìÆðÆ Ø²ð¼Æ ÀÜ¸Ð²Üàôð Æð²ì²êàôÂÚ²Ü ²è²æÆÜ ²îÚ²ÜÆ ¸²î²ð²ÜÆ ¶àðÌàôÜºàôÂÚ²Ü ìºð²´ºðÚ²È
H3: êÜ²ÜÎàôÂÚ²Ü ¶àðÌºðàì | T3: 2016Ã.
B4: êïáõ·Çã Ñ³í³ë³ñáõÙÝ»ñ` 1+7=8+16+17, 2=3+4, 2=5+6+7, 7=9+10+11+12 | E4: ²Ý³í³ñï ·áñÍ»ñÇ ÙÝ³óáñ¹Á Ñ³ßí»ïáõ Å³Ù³Ý³Ï³ßñç³ÝÇ ëÏ½µáõÙ | F4: êï³óí³Í ¹ÇÙáõÙÝ»ñÇ (·áñÍ»ñ) ù³Ý³ÏÁ | L4: öáË³Ýóí»É ¿ ³ÛÉ ¹³ï³íáñÇ (Ï³½ÙÇ ÷á÷áËáõÃÛáõÝ) | M4: ì³ñáõÛÃ ÁÝ¹áõÝí³Í ¹ÇÙáõÙÝ»ñáí Ï³Û³óí³Í ¹³ï³Ï³Ý ³Ïï»ñ | Q4: Ü»ñÏ³Û³óí»É ¿ ýÇÝ³Ýë³Ï³Ý ³éáÕç³óÙ³Ý Íñ³·Çñ | T4: ²í³ñïí»É »Ý ·áñÍ»ñ Ñ³ßí»ïáõ Å³Ù³Ý³Ï³ßñç³ÝáõÙ | U4: ²Ý³í³ñï ·áñÍ»ñÇ ÙÝ³óáñ¹Á Ñ³ßí»ïáõ Å³Ù³Ý³Ï³ßñç³ÝÇ í»ñçáõÙ | V4: ´áÕáù³ñÏí»É »Ý í»ñ³ùÝÝÇã ¹³ï³ñ³Ý
F6: ÀÝ¹³Ù»ÝÁ | G6: ³Û¹ ÃíáõÙ Ñ³ñÏ³¹ñí³Í ëÝ³ÝÏáõÃÛáõÝ | H6: ³Û¹ ÃíáõÙ Ï³Ù³íáñ ëÝ³ÝÏáõÃÛáõÝ | I6: ëï³óí³Í ¹ÇÙáõÙÝ»ñÇ ÁÝÃ³óùÁ | M6: Ï³Û³óí»É ¿ å³ñï³å³ÝÇÝ ëÝ³ÝÏ ×³Ý³ã»Éáõ Ù³ëÇÝ í×Çé | N6: å³ñï³å³ÝÇÝ ëÝ³ÝÏ ×³Ý³ã»Éáõ ¹ÇÙáõÙÁ Ù»ñÅí»É ¿ | O6: ¹ÇÙáõÙÁ ÃáÕÝí»É ¿ ³é³Ýó ùÝÝáõÃÛ³Ý | P6: ³Ý³í³ñï (³Û¹ ÃíáõÙ Ï³ë»óí³Í) | Q6: ÀÝ¹³Ù»ÝÁ | R6: ÃáÕÝí»É ¿ ³é³Ýó ùÝÝ³ñÏÙ³Ý | S6: Ñ³ëï³ïí»É ¿
I8: ¸ÇÙáõÙÇ ÁÝ¹áõÝáõÙÁ Ù»ñÅí»É ¿ | J8: ¸ÇÙáõÙÁ í»ñ³¹³ñÓí»É ¿ | K8: ÀÝ¹áõÝí»É ¿ í³ñáõÛÃ
E18: 1 | F18: 2 | G18: 3 | H18: 4 | I18: 5 | J18: 6 | K18: 7 | L18: 8 | M18: 9 | N18: 10 | O18: 11 | P18: 12 | Q18: 13 | R18: 14 | S18: 15 | T18: 16 | U18: 17 | V18: 18 | W18: 1+7=8+16+17 | Y18: 2=3+4 | AA18: 2=5+6+7 | AC18: 7=9+10+11+12
A19: 1 | B19: Æñ³í³µ³Ý³Ï³Ý ³ÝÓÇ ëÝ³ÝÏáõÃÛ³Ý í»ñ³µ»ñÛ³É | E19: 51 | F19: 52 | G19: 52 | H19: 0 | I19: 0 | J19: 5 | K19: 47 | M19: 15 | N19: 1 | O19: 0 | P19: 31 | Q19: 0 | R19: 0 | S19: 0 | T19: 7 | U19: 91 | V19: 0 | W19: =E19+K19 -> 98 | X19: =L19+T19+U19 -> 98 | Y19: =F19 -> 52 | Z19: =G19+H19 -> 52 | AA19: =F19 -> 52 | AB19: =I19+J19+K19 -> 52 | AC19: =K19 -> 47 | AD19: =M19+N19+O19+P19 -> 47
A20: 2 | B20: ²ÝÑ³ï Ó»éÝ»ñ»óÇ ëÝ³ÝÏáõÃÛ³Ý í»ñ³µ»ñÛ³É | E20: 15 | F20: 26 | G20: 22 | H20: 4 | I20: 0 | J20: 4 | K20: 22 | M20: 11 | N20: 1 | O20: 0 | P20: 10 | Q20: 0 | R20: 0 | S20: 0 | T20: 3 | U20: 34 | V20: 0 | W20: =E20+K20 -> 37 | X20: =L20+T20+U20 -> 37 | Y20: =F20 -> 26 | Z20: =G20+H20 -> 26 | AA20: =F20 -> 26 | AB20: =I20+J20+K20 -> 26 | AC20: =K20 -> 22 | AD20: =M20+N20+O20+P20 -> 22
A21: 3 | B21: üÇ½ÇÏ³Ï³Ý ³ÝÓ³Ýó ëÝ³ÝÏáõÃÛ³Ý í»ñ³µ»ñÛ³É | E21: 80 | F21: 57 | G21: 49 | H21: 8 | I21: 0 | J21: 5 | K21: 52 | M21: 32 | N21: 0 | O21: 0 | P21: 20 | Q21: 0 | R21: 0 | S21: 0 | T21: 7 | U21: 124 | V21: 0 | W21: =E21+K21 -> 132 | X21: =L21+T21+U21 -> 131 | Y21: =F21 -> 57 | Z21: =G21+H21 -> 57 | AA21: =F21 -> 57 | AB21: =I21+J21+K21 -> 57 | AC21: =K21 -> 52 | AD21: =M21+N21+O21+P21 -> 52
A22: 4 | B22: ԸՆԴՀԱՄԵՆԸ | E22: =SUM(E19:E21) -> 146 | F22: =SUM(F19:F21) -> 135 | G22: =SUM(G19:G21) -> 123 | H22: =SUM(H19:H21) -> 12 | I22: =SUM(I19:I21) -> 0 | J22: =SUM(J19:J21) -> 14 | K22: =SUM(K19:K21) -> 121 | L22: =SUM(L19:L21) -> 0 | ... V22: =SUM(V19:V21) -> 0 | W22: =E22+K22 -> 267 | X22: =L22+T22+U22 -> 266 | Y22: =F22 -> 135 | Z22: =G22+H22 -> 135 | AA22: =F22 -> 135 | AB22: =I22+J22+K22 -> 135 | AC22: =K22 -> 121 | AD22: =M22+N22+O22+P22 -> 121

Sheet Aragacotn
A1: Ð²ÞìºîìàôÂÚàôÜ
A2: ²ð²¶²ÌàîÜÆ Ø²ð¼Æ ÀÜ¸Ð²Üàôð Æð²ì²êàôÂÚ²Ü ²è²æÆÜ ²îÚ²ÜÆ ¸²î²ð²ÜÆ ¶àðÌàôÜºàôÂÚ²Ü ìºð²´ºðÚ²È
H3: êÜ²ÜÎàôÂÚ²Ü ¶àðÌºðàì | T3: 2016Ã.
B4: êïáõ·Çã Ñ³í³ë³ñáõÙÝ»ñ` 1+7=8+16+17, 2=3+4, 2=5+6+7, 7=9+10+11+12 | E4: ²Ý³í³ñï ·áñÍ»ñÇ ÙÝ³óáñ¹Á Ñ³ßí»ïáõ Å³Ù³Ý³Ï³ßñç³ÝÇ ëÏ½µáõÙ | F4: êï³óí³Í ¹ÇÙáõÙÝ»ñÇ (·áñÍ»ñ) ù³Ý³ÏÁ | L4: öáË³Ýóí»É ¿ ³ÛÉ ¹³ï³íáñÇ (Ï³½ÙÇ ÷á÷áËáõÃÛáõÝ) | M4: ì³ñáõÛÃ ÁÝ¹áõÝí³Í ¹ÇÙáõÙÝ»ñáí Ï³Û³óí³Í ¹³ï³Ï³Ý ³Ïï»ñ | Q4: Ü»ñÏ³Û³óí»É ¿ ýÇÝ³Ýë³Ï³Ý ³éáÕç³óÙ³Ý Íñ³·Çñ | T4: ²í³ñïí»É »Ý ·áñÍ»ñ Ñ³ßí»ïáõ Å³Ù³Ý³Ï³ßñç³ÝáõÙ | U4: ²Ý³í³ñï ·áñÍ»ñÇ ÙÝ³óáñ¹Á Ñ³ßí»ïáõ Å³Ù³Ý³Ï³ßñç³ÝÇ í»ñçáõÙ | V4: ´áÕáù³ñÏí»É »Ý í»ñ³ùÝÝÇã ¹³ï³ñ³Ý
F6: ÀÝ¹³Ù»ÝÁ | G6: ³Û¹ ÃíáõÙ Ñ³ñÏ³¹ñí³Í ëÝ³ÝÏáõÃÛáõÝ | H6: ³Û¹ ÃíáõÙ Ï³Ù³íáñ ëÝ³ÝÏáõÃÛáõÝ | I6: ëï³óí³Í ¹ÇÙáõÙÝ»ñÇ ÁÝÃ³óùÁ | M6: Ï³Û³óí»É ¿ å³ñï³å³ÝÇÝ ëÝ³ÝÏ ×³Ý³ã»Éáõ Ù³ëÇÝ í×Çé | N6: å³ñï³å³ÝÇÝ ëÝ³ÝÏ ×³Ý³ã»Éáõ ¹ÇÙáõÙÁ Ù»ñÅí»É ¿ | O6: ¹ÇÙáõÙÁ ÃáÕÝí»É ¿ ³é³Ýó ùÝÝáõÃÛ³Ý | P6: ³Ý³í³ñï (³Û¹ ÃíáõÙ Ï³ë»óí³Í) | Q6: ÀÝ¹³Ù»ÝÁ | R6: ÃáÕÝí»É ¿ ³é³Ýó ùÝÝ³ñÏÙ³Ý | S6: Ñ³ëï³ïí»É ¿
I8: ¸ÇÙáõÙÇ ÁÝ¹áõÝáõÙÁ Ù»ñÅí»É ¿ | J8: ¸ÇÙáõÙÁ í»ñ³¹³ñÓí»É ¿ | K8: ÀÝ¹áõÝí»É ¿ í³ñáõÛÃ
E18: 1 | F18: 2 | G18: 3 | H18: 4 | I18: 5 | J18: 6 | K18: 7 | L18: 8 | M18: 9 | N18: 10 | O18: 11 | P18: 12 | Q18: 13 | R18: 14 | S18: 15 | T18: 16 | U18: 17 | V18: 18 | W18: 1+7=8+16+17 | Y18: 2=3+4 | AA18: 2=5+6+7 | AC18: 7=9+10+11+12
A19: 1 | B19: Æñ³í³µ³Ý³Ï³Ý ³ÝÓÇ ëÝ³ÝÏáõÃÛ³Ý í»ñ³µ»ñÛ³É | E19: =[3]Գ.Նարինյան!E19+[3]Գ.Խաչատրյան!E19 -> 48 | F19: 25 | G19: 25 | H19: =[3]Գ.Նարինյան!H19+[3]Գ.Խաչատրյան!H19 -> 0 | I19: =[3]Գ.Նարինյան!I19+[3]Գ.Խաչատրյան!I19 -> 0 | J19: =[3]Գ.Նարինյան!J19+[3]Գ.Խաչատրյան!J19 -> 2 | K19: 23 | M19: =[3]Գ.Նարինյան!M19+[3]Գ.Խաչատրյան!M19 -> 13 | N19: =[3]Գ.Նարինյան!N19+[3]Գ.Խաչատրյան!N19 -> 0 | O19: =[3]Գ.Նարինյան!O19+[3]Գ.Խաչատրյան!O19 -> 0 | P19: 10 | Q19: =[3]Գ.Նարինյան!Q19+[3]Գ.Խաչատրյան!Q19 -> 0 | R19: =[3]Գ.Նարինյան!R19+[3]Գ.Խաչատրյան!R19 -> 0 | S19: =[3]Գ.Նարինյան!S19+[3]Գ.Խաչատրյան!S19 -> 0 | T19: =[3]Գ.Նարինյան!T19+[3]Գ.Խաչատրյան!T19 -> 13 | U19: =[3]Գ.Նարինյան!U19+[3]Գ.Խաչատրյան!U19 -> 58 | V19: =[3]Գ.Նարինյան!V19+[3]Գ.Խաչատրյան!V19 -> 0 | W19: =E19+K19 -> 71 | X19: =L19+T19+U19 -> 71 | Y19: =F19 -> 25 | Z19: =G19+H19 -> 25 | AA19: =F19 -> 25 | AB19: =I19+J19+K19 -> 25 | AC19: =K19 -> 23 | AD19: =M19+N19+O19+P19 -> 23
A20: 2 | B20: ²ÝÑ³ï Ó»éÝ»ñ»óÇ ëÝ³ÝÏáõÃÛ³Ý í»ñ³µ»ñÛ³É | E20: =[3]Գ.Նարինյան!E20+[3]Գ.Խաչատրյան!E20 -> 9 | F20: 9 | G20: 9 | H20: =[3]Գ.Նարինյան!H20+[3]Գ.Խաչատրյան!H20 -> 0 | I20: =[3]Գ.Նարինյան!I20+[3]Գ.Խաչատրյան!I20 -> 0 | J20: =[3]Գ.Նարինյան!J20+[3]Գ.Խաչատրյան!J20 -> 3 | K20: 6 | M20: =[3]Գ.Նարինյան!M20+[3]Գ.Խաչատրյան!M20 -> 3 | N20: =[3]Գ.Նարինյան!N20+[3]Գ.Խաչատրյան!N20 -> 0 | O20: =[3]Գ.Նարինյան!O20+[3]Գ.Խաչատրյան!O20 -> 0 | P20: 3 | Q20: =[3]Գ.Նարինյան!Q20+[3]Գ.Խաչատրյան!Q20 -> 0 | R20: =[3]Գ.Նարինյան!R20+[3]Գ.Խաչատրյան!R20 -> 0 | S20: =[3]Գ.Նարինյան!S20+[3]Գ.Խաչատրյան!S20 -> 0 | T20: =[3]Գ.Նարինյան!T20+[3]Գ.Խաչատրյան!T20 -> 1 | U20: =[3]Գ.Նարինյան!U20+[3]Գ.Խաչատրյան!U20 -> 14 | V20: =[3]Գ.Նարինյան!V20+[3]Գ.Խաչատրյան!V20 -> 0 | W20: =E20+K20 -> 15 | X20: =L20+T20+U20 -> 15 | Y20: =F20 -> 9 | Z20: =G20+H20 -> 9 | AA20: =F20 -> 9 | AB20: =I20+J20+K20 -> 9 | AC20: =K20 -> 6 | AD20: =M20+N20+O20+P20 -> 6
A21: 3 | B21: üÇ½ÇÏ³Ï³Ý ³ÝÓ³Ýó ëÝ³ÝÏáõÃÛ³Ý í»ñ³µ»ñÛ³É | E21: =[3]Գ.Նարինյան!E21+[3]Գ.Խաչատրյան!E21 -> 76 | F21: 35 | G21: 30 | H21: =[3]Գ.Նարինյան!H21+[3]Գ.Խաչատրյան!H21 -> 5 | I21: =[3]Գ.Նարինյան!I21+[3]Գ.Խաչատրյան!I21 -> 0 | J21: =[3]Գ.Նարինյան!J21+[3]Գ.Խաչատրյան!J21 -> 9 | K21: 26 | M21: 14 | N21: =[3]Գ.Նարինյան!N21+[3]Գ.Խաչատրյան!N21 -> 1 | O21: =[3]Գ.Նարինյան!O21+[3]Գ.Խաչատրյան!O21 -> 0 | P21: 11 | Q21: =[3]Գ.Նարինյան!Q21+[3]Գ.Խաչատրյան!Q21 -> 0 | R21: =[3]Գ.Նարինյան!R21+[3]Գ.Խաչատրյան!R21 -> 0 | S21: =[3]Գ.Նարինյան!S21+[3]Գ.Խաչատրյան!S21 -> 0 | T21: =[3]Գ.Նարինյան!T21+[3]Գ.Խաչատրյան!T21 -> 19 | U21: =[3]Գ.Նարինյան!U21+[3]Գ.Խաչատրյան!U21 -> 83 | V21: =[3]Գ.Նարինյան!V21+[3]Գ.Խաչատրյան!V21 -> 1 | W21: =E21+K21 -> 102 | X21: =L21+T21+U21 -> 102 | Y21: =F21 -> 35 | Z21: =G21+H21 -> 35 | AA21: =F21 -> 35 | AB21: =I21+J21+K21 -> 35 | AC21: =K21 -> 26 | AD21: =M21+N21+O21+P21 -> 26
A22: 4 | B22: ԸՆԴՀԱՄԵՆԸ | E22: =SUM(E19:E21) -> 133 | F22: =SUM(F19:F21) -> 69 | G22: =SUM(G19:G21) -> 64 | H22: =SUM(H19:H21) -> 5 | I22: =SUM(I19:I21) -> 0 | J22: =SUM(J19:J21) -> 14 | K22: =SUM(K19:K21) -> 55 | L22: =SUM(L19:L21) -> 0 | ... V22: =SUM(V19:V21) -> 1 | W22: =E22+K22 -> 188 | X22: =L22+T22+U22 -> 188 | Y22: =F22 -> 69 | Z22: =G22+H22 -> 69 | AA22: =F22 -> 69 | AB22: =I22+J22+K22 -> 69 | AC22: =K22 -> 55 | AD22: =M22+N22+O22+P22 -> 55

Sheet Gexarquniq
A1: Ð²ÞìºîìàôÂÚàôÜ
A2: ¶ºÔ²ðøàôÜÆøÆ Ø²ð¼Æ ÀÜ¸Ð²Üàôð Æð²ì²êàôÂÚ²Ü ²è²æÆÜ ²îÚ²ÜÆ ¸²î²ð²ÜÆ ¶àðÌàôÜºàôÂÚ²Ü ìºð²´ºðÚ²È
H3: êÜ²ÜÎàôÂÚ²Ü ¶àðÌºðàì | T3: 2016Ã.
B4: êïáõ·Çã Ñ³í³ë³ñáõÙÝ»ñ` 1+7=8+16+17, 2=3+4, 2=5+6+7, 7=9+10+11+12 | E4: ²Ý³í³ñï ·áñÍ»ñÇ ÙÝ³óáñ¹Á Ñ³ßí»ïáõ Å³Ù³Ý³Ï³ßñç³ÝÇ ëÏ½µáõÙ | F4: êï³óí³Í ¹ÇÙáõÙÝ»ñÇ (·áñÍ»ñ) ù³Ý³ÏÁ | L4: öáË³Ýóí»É ¿ ³ÛÉ ¹³ï³íáñÇ (Ï³½ÙÇ ÷á÷áËáõÃÛáõÝ) | M4: ì³ñáõÛÃ ÁÝ¹áõÝí³Í ¹ÇÙáõÙÝ»ñáí Ï³Û³óí³Í ¹³ï³Ï³Ý ³Ïï»ñ | Q4: Ü»ñÏ³Û³óí»É ¿ ýÇÝ³Ýë³Ï³Ý ³éáÕç³óÙ³Ý Íñ³·Çñ | T4: ²í³ñïí»É »Ý ·áñÍ»ñ Ñ³ßí»ïáõ Å³Ù³Ý³Ï³ßñç³ÝáõÙ | U4: ²Ý³í³ñï ·áñÍ»ñÇ ÙÝ³óáñ¹Á Ñ³ßí»ïáõ Å³Ù³Ý³Ï³ßñç³ÝÇ í»ñçáõÙ | V4: ´áÕáù³ñÏí»É »Ý í»ñ³ùÝÝÇã ¹³ï³ñ³Ý
F6: ÀÝ¹³Ù»ÝÁ | G6: ³Û¹ ÃíáõÙ Ñ³ñÏ³¹ñí³Í ëÝ³ÝÏáõÃÛáõÝ | H6: ³Û¹ ÃíáõÙ Ï³Ù³íáñ ëÝ³ÝÏáõÃÛáõÝ | I6: ëï³óí³Í ¹ÇÙáõÙÝ»ñÇ ÁÝÃ³óùÁ | M6: Ï³Û³óí»É ¿ å³ñï³å³ÝÇÝ ëÝ³ÝÏ ×³Ý³ã»Éáõ Ù³ëÇÝ í×Çé | N6: å³ñï³å³ÝÇÝ ëÝ³ÝÏ ×³Ý³ã»Éáõ ¹ÇÙáõÙÁ Ù»ñÅí»É ¿ | O6: ¹ÇÙáõÙÁ ÃáÕÝí»É ¿ ³é³Ýó ùÝÝáõÃÛ³Ý | P6: ³Ý³í³ñï (³Û¹ ÃíáõÙ Ï³ë»óí³Í) | Q6: ÀÝ¹³Ù»ÝÁ | R6: ÃáÕÝí»É ¿ ³é³Ýó ùÝÝ³ñÏÙ³Ý | S6: Ñ³ëï³ïí»É ¿
I8: ¸ÇÙáõÙÇ ÁÝ¹áõÝáõÙÁ Ù»ñÅí»É ¿ | J8: ¸ÇÙáõÙÁ í»ñ³¹³ñÓí»É ¿ | K8: ÀÝ¹áõÝí»É ¿ í³ñáõÛÃ
E18: 1 | F18: 2 | G18: 3 | H18: 4 | I18: 5 | J18: 6 | K18: 7 | L18: 8 | M18: 9 | N18: 10 | O18: 11 | P18: 12 | Q18: 13 | R18: 14 | S18: 15 | T18: 16 | U18: 17 | V18: 18 | W18: 1+7=8+16+17 | Y18: 2=3+4 | AA18: 2=5+6+7 | AC18: 7=9+10+11+12
A19: 1 | B19: Æñ³í³µ³Ý³Ï³Ý ³ÝÓÇ ëÝ³ÝÏáõÃÛ³Ý í»ñ³µ»ñÛ³É | E19: 77 | F19: 28 | G19: 27 | H19: 1 | J19: 5 | K19: 23 | M19: 4 | N19: 1 | O19: 1 | P19: 17 | Q19: 2 | S19: 2 | T19: 4 | U19: 96 | V19: 2 | W19: =E19+K19 -> 100 | X19: =L19+T19+U19 -> 100 | Y19: =F19 -> 28 | Z19: =G19+H19 -> 28 | AA19: =F19 -> 28 | AB19: =I19+J19+K19 -> 28 | AC19: =K19 -> 23 | AD19: =M19+N19+O19+P19 -> 23
A20: 2 | B20: ²ÝÑ³ï Ó»éÝ»ñ»óÇ ëÝ³ÝÏáõÃÛ³Ý í»ñ³µ»ñÛ³É | E20: 12 | F20: 8 | G20: 8 | K20: 8 | M20: 1 | N20: 1 | P20: 6 | T20: 2 | U20: 18 | W20: =E20+K20 -> 20 | X20: =L20+T20+U20 -> 20 | Y20: =F20 -> 8 | Z20: =G20+H20 -> 8 | AA20: =F20 -> 8 | AB20: =I20+J20+K20 -> 8 | AC20: =K20 -> 8 | AD20: =M20+N20+O20+P20 -> 8
A21: 3 | B21: üÇ½ÇÏ³Ï³Ý ³ÝÓ³Ýó ëÝ³ÝÏáõÃÛ³Ý í»ñ³µ»ñÛ³É | E21: 51 | F21: 21 | G21: 21 | J21: 2 | K21: 19 | M21: 12 | O21: 7 | T21: 6 | U21: 64 | W21: =E21+K21 -> 70 | X21: =L21+T21+U21 -> 70 | Y21: =F21 -> 21 | Z21: =G21+H21 -> 21 | AA21: =F21 -> 21 | AB21: =I21+J21+K21 -> 21 | AC21: =K21 -> 19 | AD21: =M21+N21+O21+P21 -> 19
A22: 4 | B22: ԸՆԴՀԱՄԵՆԸ | E22: =SUM(E19:E21) -> 140 | F22: =SUM(F19:F21) -> 57 | G22: =SUM(G19:G21) -> 56 | H22: =SUM(H19:H21) -> 1 | I22: =SUM(I19:I21) -> 0 | J22: =SUM(J19:J21) -> 7 | K22: =SUM(K19:K21) -> 50 | L22: =SUM(L19:L21) -> 0 | ... V22: =SUM(V19:V21) -> 2 | W22: =E22+K22 -> 190 | X22: =L22+T22+U22 -> 190 | Y22: =F22 -> 57 | Z22: =G22+H22 -> 57 | AA22: =F22 -> 57 | AB22: =I22+J22+K22 -> 57 | AC22: =K22 -> 50 | AD22: =M22+N22+O22+P22 -> 50

Sheet Kotayq
A1: Ð²ÞìºîìàôÂÚàôÜ
A2: Îàî²ÚøÆ Ø²ð¼Æ ÀÜ¸Ð²Üàôð Æð²ì²êàôÂÚ²Ü ²è²æÆÜ ²îÚ²ÜÆ ¸²î²ð²ÜÆ ¶àðÌàôÜºàôÂÚ²Ü ìºð²´ºðÚ²È
H3: êÜ²ÜÎàôÂÚ²Ü ¶àðÌºðàì | T3: 2016Ã.
B4: êïáõ·Çã Ñ³í³ë³ñáõÙÝ»ñ` 1+7=8+16+17, 2=3+4, 2=5+6+7, 7=9+10+11+12 | E4: ²Ý³í³ñï ·áñÍ»ñÇ ÙÝ³óáñ¹Á Ñ³ßí»ïáõ Å³Ù³Ý³Ï³ßñç³ÝÇ ëÏ½µáõÙ | F4: êï³óí³Í ¹ÇÙáõÙÝ»ñÇ (·áñÍ»ñ) ù³Ý³ÏÁ | L4: öáË³Ýóí»É ¿ ³ÛÉ ¹³ï³íáñÇ (Ï³½ÙÇ ÷á÷áËáõÃÛáõÝ) | M4: ì³ñáõÛÃ ÁÝ¹áõÝí³Í ¹ÇÙáõÙÝ»ñáí Ï³Û³óí³Í ¹³ï³Ï³Ý ³Ïï»ñ | Q4: Ü»ñÏ³Û³óí»É ¿ ýÇÝ³Ýë³Ï³Ý ³éáÕç³óÙ³Ý Íñ³·Çñ | T4: ²í³ñïí»É »Ý ·áñÍ»ñ Ñ³ßí»ïáõ Å³Ù³Ý³Ï³ßñç³ÝáõÙ | U4: ²Ý³í³ñï ·áñÍ»ñÇ ÙÝ³óáñ¹Á Ñ³ßí»ïáõ Å³Ù³Ý³Ï³ßñç³ÝÇ í»ñçáõÙ | V4: ´áÕáù³ñÏí»É »Ý í»ñ³ùÝÝÇã ¹³ï³ñ³Ý
F6: ÀÝ¹³Ù»ÝÁ | G6: ³Û¹ ÃíáõÙ Ñ³ñÏ³¹ñí³Í ëÝ³ÝÏáõÃÛáõÝ | H6: ³Û¹ ÃíáõÙ Ï³Ù³íáñ ëÝ³ÝÏáõÃÛáõÝ | I6: ëï³óí³Í ¹ÇÙáõÙÝ»ñÇ ÁÝÃ³óùÁ | M6: Ï³Û³óí»É ¿ å³ñï³å³ÝÇÝ ëÝ³ÝÏ ×³Ý³ã»Éáõ Ù³ëÇÝ í×Çé | N6: å³ñï³å³ÝÇÝ ëÝ³ÝÏ ×³Ý³ã»Éáõ ¹ÇÙáõÙÁ Ù»ñÅí»É ¿ | O6: ¹ÇÙáõÙÁ ÃáÕÝí»É ¿ ³é³Ýó ùÝÝáõÃÛ³Ý | P6: ³Ý³í³ñï (³Û¹ ÃíáõÙ Ï³ë»óí³Í) | Q6: ÀÝ¹³Ù»ÝÁ | R6: ÃáÕÝí»É ¿ ³é³Ýó ùÝÝ³ñÏÙ³Ý | S6: Ñ³ëï³ïí»É ¿
I8: ¸ÇÙáõÙÇ ÁÝ¹áõÝáõÙÁ Ù»ñÅí»É ¿ | J8: ¸ÇÙáõÙÁ í»ñ³¹³ñÓí»É ¿ | K8: ÀÝ¹áõÝí»É ¿ í³ñáõÛÃ
E18: 1 | F18: 2 | G18: 3 | H18: 4 | I18: 5 | J18: 6 | K18: 7 | L18: 8 | M18: 9 | N18: 10 | O18: 11 | P18: 12 | Q18: 13 | R18: 14 | S18: 15 | T18: 16 | U18: 17 | V18: 18 | W18: 1+7=8+16+17 | Y18: 2=3+4 | AA18: 2=5+6+7 | AC18: 7=9+10+11+12
A19: 1 | B19: Æñ³í³µ³Ý³Ï³Ý ³ÝÓÇ ëÝ³ÝÏáõÃÛ³Ý í»ñ³µ»ñÛ³É | E19: 147 | F19: 156 | G19: 138 | H19: 18 | I19: 1 | J19: 2 | K19: 153 | M19: 50 | N19: 7 | P19: 96 | Q19: 2 | S19: 2 | T19: 41 | U19: 259 | V19: 7 | W19: =E19+K19 -> 300 | X19: =L19+T19+U19 -> 300 | Y19: =F19 -> 156 | Z19: =G19+H19 -> 156 | AA19: =F19 -> 156 | AB19: =I19+J19+K19 -> 156 | AC19: =K19 -> 153 | AD19: =M19+N19+O19+P19 -> 153
A20: 2 | B20: ²ÝÑ³ï Ó»éÝ»ñ»óÇ ëÝ³ÝÏáõÃÛ³Ý í»ñ³µ»ñÛ³É | E20: 48 | F20: 30 | G20: 28 | H20: 2 | K20: 30 | M20: 19 | N20: 1 | P20: 10 | Q20: 2 | S20: 2 | T20: 7 | U20: 71 | W20: =E20+K20 -> 78 | X20: =L20+T20+U20 -> 78 | Y20: =F20 -> 30 | Z20: =G20+H20 -> 30 | AA20: =F20 -> 30 | AB20: =I20+J20+K20 -> 30 | AC20: =K20 -> 30 | AD20: =M20+N20+O20+P20 -> 30
A21: 3 | B21: üÇ½ÇÏ³Ï³Ý ³ÝÓ³Ýó ëÝ³ÝÏáõÃÛ³Ý í»ñ³µ»ñÛ³É | E21: 213 | F21: 104 | G21: 56 | H21: 48 | I21: 1 | J21: 9 | K21: 94 | M21: 58 | N21: 6 | P21: 30 | Q21: 1 | S21: 1 | T21: 32 | U21: 275 | V21: 7 | W21: =E21+K21 -> 307 | X21: =L21+T21+U21 -> 307 | Y21: =F21 -> 104 | Z21: =G21+H21 -> 104 | AA21: =F21 -> 104 | AB21: =I21+J21+K21 -> 104 | AC21: =K21 -> 94 | AD21: =M21+N21+O21+P21 -> 94
A22: 4 | B22: ԸՆԴՀԱՄԵՆԸ | E22: =SUM(E19:E21) -> 408 | F22: =SUM(F19:F21) -> 290 | G22: =SUM(G19:G21) -> 222 | H22: =SUM(H19:H21) -> 68 | I22: =SUM(I19:I21) -> 2 | J22: =SUM(J19:J21) -> 11 | K22: =SUM(K19:K21) -> 277 | L22: =SUM(L19:L21) -> 0 | ... V22: =SUM(V19:V21) -> 14 | W22: =E22+K22 -> 685 | X22: =L22+T22+U22 -> 685 | Y22: =F22 -> 290 | Z22: =G22+H22 -> 290 | AA22: =F22 -> 290 | AB22: =I22+J22+K22 -> 290 | AC22: =K22 -> 277 | AD22: =M22+N22+O22+P22 -> 277

Sheet Ararat
A1: Ð²ÞìºîìàôÂÚàôÜ
A2: ²ð²ð²îÆ ºì ì²Úàò ÒàðÆ Ø²ð¼ºðÆ ÀÜ¸Ð²Üàôð Æð²ì²êàôÂÚ²Ü ²è²æÆÜ ²îÚ²ÜÆ ¸²î²ð²ÜÆ ¶àðÌàôÜºàôÂÚ²Ü ìºð²´ºðÚ²È
H3: êÜ²ÜÎàôÂÚ²Ü ¶àðÌºðàì | T3: 2016Ã.
B4: êïáõ·Çã Ñ³í³ë³ñáõÙÝ»ñ` 1+7=8+16+17, 2=3+4, 2=5+6+7, 7=9+10+11+12 | E4: ²Ý³í³ñï ·áñÍ»ñÇ ÙÝ³óáñ¹Á Ñ³ßí»ïáõ Å³Ù³Ý³Ï³ßñç³ÝÇ ëÏ½µáõÙ | F4: êï³óí³Í ¹ÇÙáõÙÝ»ñÇ (·áñÍ»ñ) ù³Ý³ÏÁ | L4: öáË³Ýóí»É ¿ ³ÛÉ ¹³ï³íáñÇ (Ï³½ÙÇ ÷á÷áËáõÃÛáõÝ) | M4: ì³ñáõÛÃ ÁÝ¹áõÝí³Í ¹ÇÙáõÙÝ»ñáí Ï³Û³óí³Í ¹³ï³Ï³Ý ³Ïï»ñ | Q4: Ü»ñÏ³Û³óí»É ¿ ýÇÝ³Ýë³Ï³Ý ³éáÕç³óÙ³Ý Íñ³·Çñ | T4: ²í³ñïí»É »Ý ·áñÍ»ñ Ñ³ßí»ïáõ Å³Ù³Ý³Ï³ßñç³ÝáõÙ | U4: ²Ý³í³ñï ·áñÍ»ñÇ ÙÝ³óáñ¹Á Ñ³ßí»ïáõ Å³Ù³Ý³Ï³ßñç³ÝÇ í»ñçáõÙ | V4: ´áÕáù³ñÏí»É »Ý í»ñ³ùÝÝÇã ¹³ï³ñ³Ý
F6: ÀÝ¹³Ù»ÝÁ | G6: ³Û¹ ÃíáõÙ Ñ³ñÏ³¹ñí³Í ëÝ³ÝÏáõÃÛáõÝ | H6: ³Û¹ ÃíáõÙ Ï³Ù³íáñ ëÝ³ÝÏáõÃÛáõÝ | I6: ëï³óí³Í ¹ÇÙáõÙÝ»ñÇ ÁÝÃ³óùÁ | M6: Ï³Û³óí»É ¿ å³ñï³å³ÝÇÝ ëÝ³ÝÏ ×³Ý³ã»Éáõ Ù³ëÇÝ í×Çé | N6: å³ñï³å³ÝÇÝ ëÝ³ÝÏ ×³Ý³ã»Éáõ ¹ÇÙáõÙÁ Ù»ñÅí»É ¿ | O6: ¹ÇÙáõÙÁ ÃáÕÝí»É ¿ ³é³Ýó ùÝÝáõÃÛ³Ý | P6: ³Ý³í³ñï (³Û¹ ÃíáõÙ Ï³ë»óí³Í) | Q6: ÀÝ¹³Ù»ÝÁ | R6: ÃáÕÝí»É ¿ ³é³Ýó ùÝÝ³ñÏÙ³Ý | S6: Ñ³ëï³ïí»É ¿
I8: ¸ÇÙáõÙÇ ÁÝ¹áõÝáõÙÁ Ù»ñÅí»É ¿ | J8: ¸ÇÙáõÙÁ í»ñ³¹³ñÓí»É ¿ | K8: ÀÝ¹áõÝí»É ¿ í³ñáõÛÃ
E18: 1 | F18: 2 | G18: 3 | H18: 4 | I18: 5 | J18: 6 | K18: 7 | L18: 8 | M18: 9 | N18: 10 | O18: 11 | P18: 12 | Q18: 13 | R18: 14 | S18: 15 | T18: 16 | U18: 17 | V18: 18 | W18: 1+7=8+16+17 | Y18: 2=3+4 | AA18: 2=5+6+7 | AC18: 7=9+10+11+12
A19: 1 | B19: Æñ³í³µ³Ý³Ï³Ý ³ÝÓÇ ëÝ³ÝÏáõÃÛ³Ý í»ñ³µ»ñÛ³É | E19: 151 | F19: 86 | G19: 86 | J19: 5 | K19: 81 | M19: 36 | N19: 3 | P19: 42 | Q19: 1 | S19: 1 | T19: 3 | U19: 229 | V19: 5 | W19: =E19+K19 -> 232 | X19: =L19+T19+U19 -> 232 | Y19: =F19 -> 86 | Z19: =G19+H19 -> 86 | AA19: =F19 -> 86 | AB19: =I19+J19+K19 -> 86 | AC19: =K19 -> 81 | AD19: =M19+N19+O19+P19 -> 81
A20: 2 | B20: ²ÝÑ³ï Ó»éÝ»ñ»óÇ ëÝ³ÝÏáõÃÛ³Ý í»ñ³µ»ñÛ³É | E20: 29 | F20: 46 | G20: 46 | J20: 3 | K20: 43 | M20: 27 | P20: 16 | U20: 72 | W20: =E20+K20 -> 72 | X20: =L20+T20+U20 -> 72 | Y20: =F20 -> 46 | Z20: =G20+H20 -> 46 | AA20: =F20 -> 46 | AB20: =I20+J20+K20 -> 46 | AC20: =K20 -> 43 | AD20: =M20+N20+O20+P20 -> 43
A21: 3 | B21: üÇ½ÇÏ³Ï³Ý ³ÝÓ³Ýó ëÝ³ÝÏáõÃÛ³Ý í»ñ³µ»ñÛ³É | E21: 177 | F21: 84 | G21: 75 | H21: 9 | J21: 12 | K21: 72 | M21: 33 | N21: 4 | P21: 35 | Q21: 4 | S21: 3 | T21: 17 | U21: 232 | V21: 7 | W21: =E21+K21 -> 249 | X21: =L21+T21+U21 -> 249 | Y21: =F21 -> 84 | Z21: =G21+H21 -> 84 | AA21: =F21 -> 84 | AB21: =I21+J21+K21 -> 84 | AC21: =K21 -> 72 | AD21: =M21+N21+O21+P21 -> 72
A22: 4 | B22: ԸՆԴՀԱՄԵՆԸ | E22: 357 | F22: 216 | G22: 207 | H22: 9 | J22: 20 | K22: 196 | M22: 96 | N22: 7 | P22: 93 | Q22: 5 | S22: 4 | T22: 20 | U22: 533 | V22: 12 | W22: =E22+K22 -> 553 | X22: =L22+T22+U22 -> 553 | Y22: =F22 -> 216 | Z22: =G22+H22 -> 216 | AA22: =F22 -> 216 | AB22: =I22+J22+K22 -> 216 | AC22: =K22 -> 196 | AD22: =M22+N22+O22+P22 -> 196

Sheet Tavush
A1: Ð²ÞìºîìàôÂÚàôÜ
A2: î²ìàôÞÆ Ø²ð¼Æ ÀÜ¸Ð²Üàôð Æð²ì²êàôÂÚ²Ü ²è²æÆÜ ²îÚ²ÜÆ ¸²î²ð²ÜÆ ¶àðÌàôÜºàôÂÚ²Ü ìºð²´ºðÚ²È
H3: êÜ²ÜÎàôÂÚ²Ü ¶àðÌºðàì | T3: 2016Ã.
B4: êïáõ·Çã Ñ³í³ë³ñáõÙÝ»ñ` 1+7=8+16+17, 2=3+4, 2=5+6+7, 7=9+10+11+12 | E4: ²Ý³í³ñï ·áñÍ»ñÇ ÙÝ³óáñ¹Á Ñ³ßí»ïáõ Å³Ù³Ý³Ï³ßñç³ÝÇ ëÏ½µáõÙ | F4: êï³óí³Í ¹ÇÙáõÙÝ»ñÇ (·áñÍ»ñ) ù³Ý³ÏÁ | L4: öáË³Ýóí»É ¿ ³ÛÉ ¹³ï³íáñÇ (Ï³½ÙÇ ÷á÷áËáõÃÛáõÝ) | M4: ì³ñáõÛÃ ÁÝ¹áõÝí³Í ¹ÇÙáõÙÝ»ñáí Ï³Û³óí³Í ¹³ï³Ï³Ý ³Ïï»ñ | Q4: Ü»ñÏ³Û³óí»É ¿ ýÇÝ³Ýë³Ï³Ý ³éáÕç³óÙ³Ý Íñ³·Çñ | T4: ²í³ñïí»É »Ý ·áñÍ»ñ Ñ³ßí»ïáõ Å³Ù³Ý³Ï³ßñç³ÝáõÙ | U4: ²Ý³í³ñï ·áñÍ»ñÇ ÙÝ³óáñ¹Á Ñ³ßí»ïáõ Å³Ù³Ý³Ï³ßñç³ÝÇ í»ñçáõÙ | V4: ´áÕáù³ñÏí»É »Ý í»ñ³ùÝÝÇã ¹³ï³ñ³Ý
F6: ÀÝ¹³Ù»ÝÁ | G6: ³Û¹ ÃíáõÙ Ñ³ñÏ³¹ñí³Í ëÝ³ÝÏáõÃÛáõÝ | H6: ³Û¹ ÃíáõÙ Ï³Ù³íáñ ëÝ³ÝÏáõÃÛáõÝ | I6: ëï³óí³Í ¹ÇÙáõÙÝ»ñÇ ÁÝÃ³óùÁ | M6: Ï³Û³óí»É ¿ å³ñï³å³ÝÇÝ ëÝ³ÝÏ ×³Ý³ã»Éáõ Ù³ëÇÝ í×Çé | N6: å³ñï³å³ÝÇÝ ëÝ³ÝÏ ×³Ý³ã»Éáõ ¹ÇÙáõÙÁ Ù»ñÅí»É ¿ | O6: ¹ÇÙáõÙÁ ÃáÕÝí»É ¿ ³é³Ýó ùÝÝáõÃÛ³Ý | P6: ³Ý³í³ñï (³Û¹ ÃíáõÙ Ï³ë»óí³Í) | Q6: ÀÝ¹³Ù»ÝÁ | R6: ÃáÕÝí»É ¿ ³é³Ýó ùÝÝ³ñÏÙ³Ý | S6: Ñ³ëï³ïí»É ¿
I8: ¸ÇÙáõÙÇ ÁÝ¹áõÝáõÙÁ Ù»ñÅí»É ¿ | J8: ¸ÇÙáõÙÁ í»ñ³¹³ñÓí»É ¿ | K8: ÀÝ¹áõÝí»É ¿ í³ñáõÛÃ
E18: 1 | F18: 2 | G18: 3 | H18: 4 | I18: 5 | J18: 6 | K18: 7 | L18: 8 | M18: 9 | N18: 10 | O18: 11 | P18: 12 | Q18: 13 | R18: 14 | S18: 15 | T18: 16 | U18: 17 | V18: 18 | W18: 1+7=8+16+17 | Y18: 2=3+4 | AA18: 2=5+6+7 | AC18: 7=9+10+11+12
A19: 1 | B19: Æñ³í³µ³Ý³Ï³Ý ³ÝÓÇ ëÝ³ÝÏáõÃÛ³Ý í»ñ³µ»ñÛ³É | E19: 24 | F19: 31 | G19: 31 | K19: 31 | M19: 19 | P19: 12 | T19: 10 | U19: 45 | V19: 1 | W19: =E19+K19 -> 55 | X19: =L19+T19+U19 -> 55 | Y19: =F19 -> 31 | Z19: =G19+H19 -> 31 | AA19: =F19 -> 31 | AB19: =I19+J19+K19 -> 31 | AC19: =K19 -> 31 | AD19: =M19+N19+O19+P19 -> 31
A20: 2 | B20: ²ÝÑ³ï Ó»éÝ»ñ»óÇ ëÝ³ÝÏáõÃÛ³Ý í»ñ³µ»ñÛ³É | E20: 19 | F20: 14 | G20: 13 | H20: 1 | J20: 1 | K20: 13 | M20: 8 | N20: 1 | P20: 4 | T20: 3 | U20: 29 | V20: 2 | W20: =E20+K20 -> 32 | X20: =L20+T20+U20 -> 32 | Y20: =F20 -> 14 | Z20: =G20+H20 -> 14 | AA20: =F20 -> 14 | AB20: =I20+J20+K20 -> 14 | AC20: =K20 -> 13 | AD20: =M20+N20+O20+P20 -> 13
A21: 3 | B21: üÇ½ÇÏ³Ï³Ý ³ÝÓ³Ýó ëÝ³ÝÏáõÃÛ³Ý í»ñ³µ»ñÛ³É | E21: 24 | F21: 31 | G21: 30 | H21: 1 | J21: 6 | K21: 25 | M21: 17 | N21: 2 | P21: 6 | T21: 7 | U21: 42 | W21: =E21+K21 -> 49 | X21: =L21+T21+U21 -> 49 | Y21: =F21 -> 31 | Z21: =G21+H21 -> 31 | AA21: =F21 -> 31 | AB21: =I21+J21+K21 -> 31 | AC21: =K21 -> 25 | AD21: =M21+N21+O21+P21 -> 25
A22: 4 | B22: ԸՆԴՀԱՄԵՆԸ | E22: 67 | F22: 76 | G22: 74 | H22: 2 | J22: 7 | K22: 69 | M22: 44 | N22: 3 | P22: 22 | T22: 20 | U22: 116 | V22: 3 | W22: =E22+K22 -> 136 | X22: =L22+T22+U22 -> 136 | Y22: =F22 -> 76 | Z22: =G22+H22 -> 76 | AA22: =F22 -> 76 | AB22: =I22+J22+K22 -> 76 | AC22: =K22 -> 69 | AD22: =M22+N22+O22+P22 -> 69

Sheet Shirak
A1: Ð²ÞìºîìàôÂÚàôÜ
A2: ÞÆð²ÎÆ Ø²ð¼Æ ÀÜ¸Ð²Üàôð Æð²ì²êàôÂÚ²Ü ²è²æÆÜ ²îÚ²ÜÆ ¸²î²ð²ÜÆ ¶àðÌàôÜºàôÂÚ²Ü ìºð²´ºðÚ²È
H3: êÜ²ÜÎàôÂÚ²Ü ¶àðÌºðàì | T3: 2016Ã.
B4: êïáõ·Çã Ñ³í³ë³ñáõÙÝ»ñ` 1+7=8+16+17, 2=3+4, 2=5+6+7, 7=9+10+11+12 | E4: ²Ý³í³ñï ·áñÍ»ñÇ ÙÝ³óáñ¹Á Ñ³ßí»ïáõ Å³Ù³Ý³Ï³ßñç³ÝÇ ëÏ½µáõÙ | F4: êï³óí³Í ¹ÇÙáõÙÝ»ñÇ (·áñÍ»ñ) ù³Ý³ÏÁ | L4: öáË³Ýóí»É ¿ ³ÛÉ ¹³ï³íáñÇ (Ï³½ÙÇ ÷á÷áËáõÃÛáõÝ) | M4: ì³ñáõÛÃ ÁÝ¹áõÝí³Í ¹ÇÙáõÙÝ»ñáí Ï³Û³óí³Í ¹³ï³Ï³Ý ³Ïï»ñ | Q4: Ü»ñÏ³Û³óí»É ¿ ýÇÝ³Ýë³Ï³Ý ³éáÕç³óÙ³Ý Íñ³·Çñ | T4: ²í³ñïí»É »Ý ·áñÍ»ñ Ñ³ßí»ïáõ Å³Ù³Ý³Ï³ßñç³ÝáõÙ | U4: ²Ý³í³ñï ·áñÍ»ñÇ ÙÝ³óáñ¹Á Ñ³ßí»ïáõ Å³Ù³Ý³Ï³ßñç³ÝÇ í»ñçáõÙ | V4: ´áÕáù³ñÏí»É »Ý í»ñ³ùÝÝÇã ¹³ï³ñ³Ý
F6: ÀÝ¹³Ù»ÝÁ | G6: ³Û¹ ÃíáõÙ Ñ³ñÏ³¹ñí³Í ëÝ³ÝÏáõÃÛáõÝ | H6: ³Û¹ ÃíáõÙ Ï³Ù³íáñ ëÝ³ÝÏáõÃÛáõÝ | I6: ëï³óí³Í ¹ÇÙáõÙÝ»ñÇ ÁÝÃ³óùÁ | M6: Ï³Û³óí»É ¿ å³ñï³å³ÝÇÝ ëÝ³ÝÏ ×³Ý³ã»Éáõ Ù³ëÇÝ í×Çé | N6: å³ñï³å³ÝÇÝ ëÝ³ÝÏ ×³Ý³ã»Éáõ ¹ÇÙáõÙÁ Ù»ñÅí»É ¿ | O6: ¹ÇÙáõÙÁ ÃáÕÝí»É ¿ ³é³Ýó ùÝÝáõÃÛ³Ý | P6: ³Ý³í³ñï (³Û¹ ÃíáõÙ Ï³ë»óí³Í) | Q6: ÀÝ¹³Ù»ÝÁ | R6: ÃáÕÝí»É ¿ ³é³Ýó ùÝÝ³ñÏÙ³Ý | S6: Ñ³ëï³ïí»É ¿
I8: ¸ÇÙáõÙÇ ÁÝ¹áõÝáõÙÁ Ù»ñÅí»É ¿ | J8: ¸ÇÙáõÙÁ í»ñ³¹³ñÓí»É ¿ | K8: ÀÝ¹áõÝí»É ¿ í³ñáõÛÃ
E18: 1 | F18: 2 | G18: 3 | H18: 4 | I18: 5 | J18: 6 | K18: 7 | L18: 8 | M18: 9 | N18: 10 | O18: 11 | P18: 12 | Q18: 13 | R18: 14 | S18: 15 | T18: 16 | U18: 17 | V18: 18 | W18: 1+7=8+16+17 | Y18: 2=3+4 | AA18: 2=5+6+7 | AC18: 7=9+10+11+12
A19: 1 | B19: Æñ³í³µ³Ý³Ï³Ý ³ÝÓÇ ëÝ³ÝÏáõÃÛ³Ý í»ñ³µ»ñÛ³É | E19: 98 | F19: 69 | G19: 68 | H19: 1 | I19: 0 | J19: 1 | K19: 68 | L19: 0 | M19: 44 | N19: 1 | O19: 0 | P19: 21 | Q19: 0 | R19: 0 | S19: 0 | T19: 22 | U19: 144 | V19: 0 | W19: =E19+K19 -> 166 | X19: =L19+T19+U19 -> 166 | Y19: =F19 -> 69 | Z19: =G19+H19 -> 69 | AA19: =F19 -> 69 | AB19: =I19+J19+K19 -> 69 | AC19: =K19 -> 68 | AD19: =M19+N19+O19+P19 -> 66
A20: 2 | B20: ²ÝÑ³ï Ó»éÝ»ñ»óÇ ëÝ³ÝÏáõÃÛ³Ý í»ñ³µ»ñÛ³É | E20: 40 | F20: 35 | G20: 32 | H20: 3 | I20: 1 | J20: 2 | K20: 32 | L20: 0 | M20: 20 | N20: 0 | O20: 0 | P20: 12 | Q20: 0 | R20: 0 | S20: 0 | T20: 5 | U20: 67 | V20: 0 | W20: =E20+K20 -> 72 | X20: =L20+T20+U20 -> 72 | Y20: =F20 -> 35 | Z20: =G20+H20 -> 35 | AA20: =F20 -> 35 | AB20: =I20+J20+K20 -> 35 | AC20: =K20 -> 32 | AD20: =M20+N20+O20+P20 -> 32
A21: 3 | B21: üÇ½ÇÏ³Ï³Ý ³ÝÓ³Ýó ëÝ³ÝÏáõÃÛ³Ý í»ñ³µ»ñÛ³É | E21: 91 | F21: 105 | G21: 67 | H21: 38 | I21: 0 | J21: 18 | K21: 87 | L21: 0 | M21: 65 | N21: 6 | O21: 0 | P21: 14 | Q21: 0 | R21: 0 | S21: 0 | T21: 9 | U21: 168 | V21: 0 | W21: =E21+K21 -> 178 | X21: =L21+T21+U21 -> 177 | Y21: =F21 -> 105 | Z21: =G21+H21 -> 105 | AA21: =F21 -> 105 | AB21: =I21+J21+K21 -> 105 | AC21: =K21 -> 87 | AD21: =M21+N21+O21+P21 -> 85
A22: 4 | B22: ԸՆԴՀԱՄԵՆԸ | E22: 229 | F22: 209 | G22: 167 | H22: 42 | I22: 1 | J22: 21 | K22: 187 | L22: 0 | M22: 129 | N22: 7 | O22: 0 | P22: 47 | Q22: 0 | R22: 0 | S22: 0 | T22: 36 | U22: 379 | V22: 0 | W22: =E22+K22 -> 416 | X22: =L22+T22+U22 -> 415 | Y22: =F22 -> 209 | Z22: =G22+H22 -> 209 | AA22: =F22 -> 209 | AB22: =I22+J22+K22 -> 209 | AC22: =K22 -> 187 | AD22: =M22+N22+O22+P22 -> 183
B25: Թվով 4 գործ կարճվել է
B26: 1 գործ ուղարկվել է ըստ ընդդատության

Sheet Lori
A1: Ð²ÞìºîìàôÂÚàôÜ
A2: Èàèàô Ø²ð¼Æ ÀÜ¸Ð²Üàôð Æð²ì²êàôÂÚ²Ü ²è²æÆÜ ²îÚ²ÜÆ ¸²î²ð²ÜÆ ¶àðÌàôÜºàôÂÚ²Ü ìºð²´ºðÚ²È
H3: êÜ²ÜÎàôÂÚ²Ü ¶àðÌºðàì | T3: 2016Ã.
B4: êïáõ·Çã Ñ³í³ë³ñáõÙÝ»ñ` 1+7=8+16+17, 2=3+4, 2=5+6+7, 7=9+10+11+12 | E4: ²Ý³í³ñï ·áñÍ»ñÇ ÙÝ³óáñ¹Á Ñ³ßí»ïáõ Å³Ù³Ý³Ï³ßñç³ÝÇ ëÏ½µáõÙ | F4: êï³óí³Í ¹ÇÙáõÙÝ»ñÇ (·áñÍ»ñ) ù³Ý³ÏÁ | L4: öáË³Ýóí»É ¿ ³ÛÉ ¹³ï³íáñÇ (Ï³½ÙÇ ÷á÷áËáõÃÛáõÝ) | M4: ì³ñáõÛÃ ÁÝ¹áõÝí³Í ¹ÇÙáõÙÝ»ñáí Ï³Û³óí³Í ¹³ï³Ï³Ý ³Ïï»ñ | Q4: Ü»ñÏ³Û³óí»É ¿ ýÇÝ³Ýë³Ï³Ý ³éáÕç³óÙ³Ý Íñ³·Çñ | T4: ²í³ñïí»É »Ý ·áñÍ»ñ Ñ³ßí»ïáõ Å³Ù³Ý³Ï³ßñç³ÝáõÙ | U4: ²Ý³í³ñï ·áñÍ»ñÇ ÙÝ³óáñ¹Á Ñ³ßí»ïáõ Å³Ù³Ý³Ï³ßñç³ÝÇ í»ñçáõÙ | V4: ´áÕáù³ñÏí»É »Ý í»ñ³ùÝÝÇã ¹³ï³ñ³Ý
F6: ÀÝ¹³Ù»ÝÁ | G6: ³Û¹ ÃíáõÙ Ñ³ñÏ³¹ñí³Í ëÝ³ÝÏáõÃÛáõÝ | H6: ³Û¹ ÃíáõÙ Ï³Ù³íáñ ëÝ³ÝÏáõÃÛáõÝ | I6: ëï³óí³Í ¹ÇÙáõÙÝ»ñÇ ÁÝÃ³óùÁ | M6: Ï³Û³óí»É ¿ å³ñï³å³ÝÇÝ ëÝ³ÝÏ ×³Ý³ã»Éáõ Ù³ëÇÝ í×Çé | N6: å³ñï³å³ÝÇÝ ëÝ³ÝÏ ×³Ý³ã»Éáõ ¹ÇÙáõÙÁ Ù»ñÅí»É ¿ | O6: ¹ÇÙáõÙÁ ÃáÕÝí»É ¿ ³é³Ýó ùÝÝáõÃÛ³Ý | P6: ³Ý³í³ñï (³Û¹ ÃíáõÙ Ï³ë»óí³Í) | Q6: ÀÝ¹³Ù»ÝÁ | R6: ÃáÕÝí»É ¿ ³é³Ýó ùÝÝ³ñÏÙ³Ý | S6: Ñ³ëï³ïí»É ¿
I8: ¸ÇÙáõÙÇ ÁÝ¹áõÝáõÙÁ Ù»ñÅí»É ¿ | J8: ¸ÇÙáõÙÁ í»ñ³¹³ñÓí»É ¿ | K8: ÀÝ¹áõÝí»É ¿ í³ñáõÛÃ
E18: 1 | F18: 2 | G18: 3 | H18: 4 | I18: 5 | J18: 6 | K18: 7 | L18: 8 | M18: 9 | N18: 10 | O18: 11 | P18: 12 | Q18: 13 | R18: 14 | S18: 15 | T18: 16 | U18: 17 | V18: 18 | W18: 1+7=8+16+17 | Y18: 2=3+4 | AA18: 2=5+6+7 | AC18: 7=9+10+11+12
A19: 1 | B19: Æñ³í³µ³Ý³Ï³Ý ³ÝÓÇ ëÝ³ÝÏáõÃÛ³Ý í»ñ³µ»ñÛ³É | E19: 122 | F19: =+G19+H19 -> 54 | G19: 52 | H19: 2 | J19: 11 | K19: 43 | L19: 0 | M19: 26 | P19: 17 | T19: 13 | U19: 152 | V19: 1 | W19: =E19+K19 -> 165 | X19: =L19+T19+U19 -> 165 | Y19: =F19 -> 54 | Z19: =G19+H19 -> 54 | AA19: =F19 -> 54 | AB19: =I19+J19+K19 -> 54 | AC19: =K19 -> 43 | AD19: =M19+N19+O19+P19 -> 43
A20: 2 | B20: ²ÝÑ³ï Ó»éÝ»ñ»óÇ ëÝ³ÝÏáõÃÛ³Ý í»ñ³µ»ñÛ³É | E20: 31 | F20: =+G20+H20 -> 17 | G20: 15 | H20: 2 | J20: 4 | K20: 13 | L20: 0 | M20: 9 | P20: 4 | Q20: 2 | S20: 2 | T20: 4 | U20: 40 | W20: =E20+K20 -> 44 | X20: =L20+T20+U20 -> 44 | Y20: =F20 -> 17 | Z20: =G20+H20 -> 17 | AA20: =F20 -> 17 | AB20: =I20+J20+K20 -> 17 | AC20: =K20 -> 13 | AD20: =M20+N20+O20+P20 -> 13
A21: 3 | B21: üÇ½ÇÏ³Ï³Ý ³ÝÓ³Ýó ëÝ³ÝÏáõÃÛ³Ý í»ñ³µ»ñÛ³É | E21: 99 | F21: =+G21+H21 -> 62 | G21: 44 | H21: 18 | J21: 13 | K21: 49 | L21: 0 | M21: 33 | N21: 1 | P21: 13 | Q21: 1 | S21: 1 | T21: 15 | U21: 133 | V21: 5 | W21: =E21+K21 -> 148 | X21: =L21+T21+U21 -> 148 | Y21: =F21 -> 62 | Z21: =G21+H21 -> 62 | AA21: =F21 -> 62 | AB21: =I21+J21+K21 -> 62 | AC21: =K21 -> 49 | AD21: =M21+N21+O21+P21 -> 47
A22: 4 | B22: ԸՆԴՀԱՄԵՆԸ | E22: =+E19+E20+E21 -> 252 | F22: =+F19+F20+F21 -> 133 | G22: =+G19+G20+G21 -> 111 | H22: =+H19+H20+H21 -> 22 | I22: =+I19+I20+I21 -> 0 | J22: =+J19+J20+J21 -> 28 | K22: =+K19+K20+K21 -> 105 | L22: =+L19+L20+L21 -> 0 | ... V22: =+V19+V20+V21 -> 6 | W22: =E22+K22 -> 357 | X22: =L22+T22+U22 -> 357 | Y22: =F22 -> 133 | Z22: =G22+H22 -> 133 | AA22: =F22 -> 133 | AB22: =I22+J22+K22 -> 133 | AC22: =K22 -> 105 | AD22: =M22+N22+O22+P22 -> 103
D26: Թվով 2 գործ կարճվել է

Sheet Syuniq
A1: Ð²ÞìºîìàôÂÚàôÜ
A2: êÚàôÜÆøÆ Ø²ð¼Æ ÀÜ¸Ð²Üàôð Æð²ì²êàôÂÚ²Ü ²è²æÆÜ ²îÚ²ÜÆ ¸²î²ð²ÜÆ ¶àðÌàôÜºàôÂÚ²Ü ìºð²´ºðÚ²È
H3: êÜ²ÜÎàôÂÚ²Ü ¶àðÌºðàì | T3: 2016Ã.
B4: êïáõ·Çã Ñ³í³ë³ñáõÙÝ»ñ` 1+7=8+16+17, 2=3+4, 2=5+6+7, 7=9+10+11+12 | E4: ²Ý³í³ñï ·áñÍ»ñÇ ÙÝ³óáñ¹Á Ñ³ßí»ïáõ Å³Ù³Ý³Ï³ßñç³ÝÇ ëÏ½µáõÙ | F4: êï³óí³Í ¹ÇÙáõÙÝ»ñÇ (·áñÍ»ñ) ù³Ý³ÏÁ | L4: öáË³Ýóí»É ¿ ³ÛÉ ¹³ï³íáñÇ (Ï³½ÙÇ ÷á÷áËáõÃÛáõÝ) | M4: ì³ñáõÛÃ ÁÝ¹áõÝí³Í ¹ÇÙáõÙÝ»ñáí Ï³Û³óí³Í ¹³ï³Ï³Ý ³Ïï»ñ | Q4: Ü»ñÏ³Û³óí»É ¿ ýÇÝ³Ýë³Ï³Ý ³éáÕç³óÙ³Ý Íñ³·Çñ | T4: ²í³ñïí»É »Ý ·áñÍ»ñ Ñ³ßí»ïáõ Å³Ù³Ý³Ï³ßñç³ÝáõÙ | U4: ²Ý³í³ñï ·áñÍ»ñÇ ÙÝ³óáñ¹Á Ñ³ßí»ïáõ Å³Ù³Ý³Ï³ßñç³ÝÇ í»ñçáõÙ | V4: ´áÕáù³ñÏí»É »Ý í»ñ³ùÝÝÇã ¹³ï³ñ³Ý
F6: ÀÝ¹³Ù»ÝÁ | G6: ³Û¹ ÃíáõÙ Ñ³ñÏ³¹ñí³Í ëÝ³ÝÏáõÃÛáõÝ | H6: ³Û¹ ÃíáõÙ Ï³Ù³íáñ ëÝ³ÝÏáõÃÛáõÝ | I6: ëï³óí³Í ¹ÇÙáõÙÝ»ñÇ ÁÝÃ³óùÁ | M6: Ï³Û³óí»É ¿ å³ñï³å³ÝÇÝ ëÝ³ÝÏ ×³Ý³ã»Éáõ Ù³ëÇÝ í×Çé | N6: å³ñï³å³ÝÇÝ ëÝ³ÝÏ ×³Ý³ã»Éáõ ¹ÇÙáõÙÁ Ù»ñÅí»É ¿ | O6: ¹ÇÙáõÙÁ ÃáÕÝí»É ¿ ³é³Ýó ùÝÝáõÃÛ³Ý | P6: ³Ý³í³ñï (³Û¹ ÃíáõÙ Ï³ë»óí³Í) | Q6: ÀÝ¹³Ù»ÝÁ | R6: ÃáÕÝí»É ¿ ³é³Ýó ùÝÝ³ñÏÙ³Ý | S6: Ñ³ëï³ïí»É ¿
I8: ¸ÇÙáõÙÇ ÁÝ¹áõÝáõÙÁ Ù»ñÅí»É ¿ | J8: ¸ÇÙáõÙÁ í»ñ³¹³ñÓí»É ¿ | K8: ÀÝ¹áõÝí»É ¿ í³ñáõÛÃ
E18: 1 | F18: 2 | G18: 3 | H18: 4 | I18: 5 | J18: 6 | K18: 7 | L18: 8 | M18: 9 | N18: 10 | O18: 11 | P18: 12 | Q18: 13 | R18: 14 | S18: 15 | T18: 16 | U18: 17 | V18: 18 | W18: 1+7=8+16+17 | Y18: 2=3+4 | AA18: 2=5+6+7 | AC18: 7=9+10+11+12
A19: 1 | B19: Æñ³í³µ³Ý³Ï³Ý ³ÝÓÇ ëÝ³ÝÏáõÃÛ³Ý í»ñ³µ»ñÛ³É | E19: 89 | F19: 36 | G19: 30 | H19: 6 | I19: 1 | J19: 9 | K19: 26 | L19: 0 | M19: 18 | N19: 1 | O19: 0 | P19: 7 | Q19: 0 | R19: 0 | S19: 0 | T19: 4 | U19: 111 | V19: 0 | W19: =E19+K19 -> 115 | X19: =L19+T19+U19 -> 115 | Y19: =F19 -> 36 | Z19: =G19+H19 -> 36 | AA19: =F19 -> 36 | AB19: =I19+J19+K19 -> 36 | AC19: =K19 -> 26 | AD19: =M19+N19+O19+P19 -> 26
A20: 2 | B20: ²ÝÑ³ï Ó»éÝ»ñ»óÇ ëÝ³ÝÏáõÃÛ³Ý í»ñ³µ»ñÛ³É | E20: 43 | F20: 4 | G20: 4 | H20: 0 | I20: 0 | J20: 1 | K20: 3 | L20: 0 | M20: 1 | N20: 0 | O20: 0 | P20: 2 | Q20: 0 | R20: 0 | S20: 0 | T20: 0 | U20: 46 | V20: 0 | W20: =E20+K20 -> 46 | X20: =L20+T20+U20 -> 46 | Y20: =F20 -> 4 | Z20: =G20+H20 -> 4 | AA20: =F20 -> 4 | AB20: =I20+J20+K20 -> 4 | AC20: =K20 -> 3 | AD20: =M20+N20+O20+P20 -> 3
A21: 3 | B21: üÇ½ÇÏ³Ï³Ý ³ÝÓ³Ýó ëÝ³ÝÏáõÃÛ³Ý í»ñ³µ»ñÛ³É | E21: 146 | F21: 42 | G21: 13 | H21: 29 | I21: 2 | J21: 9 | K21: 31 | L21: 0 | M21: 21 | N21: 2 | O21: 0 | P21: 8 | Q21: 0 | R21: 0 | S21: 0 | T21: 3 | U21: 174 | V21: 0 | W21: =E21+K21 -> 177 | X21: =L21+T21+U21 -> 177 | Y21: =F21 -> 42 | Z21: =G21+H21 -> 42 | AA21: =F21 -> 42 | AB21: =I21+J21+K21 -> 42 | AC21: =K21 -> 31 | AD21: =M21+N21+O21+P21 -> 31
A22: 4 | B22: ԸՆԴՀԱՄԵՆԸ | E22: 278 | F22: 82 | G22: 47 | H22: 35 | I22: 3 | J22: 19 | K22: 60 | L22: 0 | M22: 40 | N22: 3 | O22: 0 | P22: 17 | Q22: 0 | R22: 0 | S22: 0 | T22: 7 | U22: 331 | V22: 0 | W22: =E22+K22 -> 338 | X22: =L22+T22+U22 -> 338 | Y22: =F22 -> 82 | Z22: =G22+H22 -> 82 | AA22: =F22 -> 82 | AB22: =I22+J22+K22 -> 82 | AC22: =K22 -> 60 | AD22: =M22+N22+O22+P22 -> 60
