Workbook

Sheet Ընդամենը
A1: 2015Ã. | D1: Ð²ÞìºîìàôÂÚàôÜ | P1: Ï³½Ùí³Í` ÐÐ Ï³é³í³ñáõÃÛ³Ý 19.03.2015Ã. ÃÇí 306-Ü áñáßÙ³Ý ÑÇÙ³Ý íñ³
A2: ØÇÝã¹³ï³Ï³Ý í³ñáõÛÃÇ ÝÏ³ïÙ³Ùµ ¹³ï³Ï³Ý í»ñ³ÑëÏáÕáõÃÛ³ÝÁ, ¹³ï³Ï³Ý ³Ïï»ñÇ ¨ ¹³ï³Ï³Ý Ñ³ÝÓÝ³ñ³ñáõÃÛáõÝÝ»ñÇ Ï³ï³ñÙ³Ý Ñ»ï Ï³åí³Í ÙÇçÝáñ¹áõÃÛáõÝÝ»ñÇ í»ñ³µ»ñÛ³É ¹³ï³Ï³Ý ·áñÍ»ñáí ÐÐ î³íáõßÇ Ù³ñ½Ç ÁÝ¹Ñ³Ýáõñ Çñ³í³ëáõÃÛ³Ý ³é³çÇÝ ³ïÛ³ÝÇ ¹³ï³ñ³ÝÇ ·áñÍáõÝ»áõÃÛ³Ý í»ñ³µ»ñÛ³É
A3: êïáõ·Çã Ñ³í³ë³ñáõÙ` 1+2=3+8+9, 8=4+5+6+7, | D3: Ð³ßí»ïáõ Å³Ù³Ý³Ï³Ñ³ïí³ÍÇ ëÏ½µáõÙ Ý³Ëáñ¹ Ñ³ßí»ïáõ Å³Ù³Ý³Ï³Ñ³ïí³ÍÇó ÷áË³Ýóí³Í ·áñÍ»ñÇ ÁÝ¹Ñ³Ýáõñ ÃÇíÁ | E3: Ð³ßí»ïáõ Å³Ù³Ý³Ï³Ñ³ïí³ÍáõÙ ëï³óí³Í ·áñÍ»ñÇ ÁÝ¹Ñ³Ýáõñ ÃÇíÁ | F3: öáË³Ýóí»É ¿ ³ÛÉ ¹³ï³íáñÇ Ï³Ù ³ÛÉ ¹³ï³ñ³Ý (Ï³½ÙÇ ÷á÷áËáõÃÛáõÝ, ÁÝ¹¹³ïáõÃÛáõÝ) | G3: Ð³ßí»ïáõ Å³Ù³Ý³Ï³Ñ³ïí³ÍáõÙ ³í³ñïí³Í ·áñÍ»ñÇ ÁÝ¹Ñ³Ýáõñ ÃÇíÁ | L3: Ð³ßí»ïáõ Å³Ù³Ý³Ï³Ñ³ïí³ÍáõÙ ³Ý³í³ñï ·áñÍ»ñÇ ÁÝ¹Ñ³Ýáõñ ÃÇíÁ | M3: ØÇçÝáñ¹áõÃÛáõÝÝ»ñáí Ï³Û³óí³Í ¹³ï³Ï³Ý ³Ïï»ñÇó µáÕáù³ñÏí³ÍÝ»ñÇ ù³Ý³ÏÁ | O3: ²Ý³í³ñï µáÕáùÝ»ñ | P3: ØÇçÝáñ¹áõÃÛáõÝÝ»ñáí Ï³Û³óí³Í ¨ µáÕáù³ñÏí³Í ¹³ï³Ï³Ý ³Ïï»ñÇó µ»Ï³Ýí³ÍÝ»ñÇ ù³Ý³ÏÁ | R3: ÙÇçÝáñ¹áõÃÛáõÝÝ»ñáí Ï³Û³óí³Í ¨ µáÕáù³ñÏí³Í ¹³ï³Ï³Ý ³Ïï»ñÇó ³Ý÷á÷áË ÃáÕÝí³ÍÝ»ñÇ ù³Ý³ÏÁ
G4: Ù»ñÅí»É ¿ | H4: µ³í³ñ³ñí»É ¿ | I4: µ³í³ñ³ñí»É ¿ Ù³ëÝ³ÏÇ | J4: ÃáÕÝí»É ¿ ³é³Ýó ùÝÝáõÃÛ³Ý | K4: ÀÝ¹³Ù»ÝÁ
M5: Ý³Ëáñ¹ ï³ñÇÝ»ñÇÝ Ï³Û³óí³Í ³Ïï»ñÇ ¹»Ù | N5: Ñ³ßí»ïáõ Å³Ù³Ý³Ï³ßñç³ÝáõÙ Ï³Û³óí³Í ³Ïï»ñÇ ¹»Ù | P5: Ý³Ëáñ¹ ï³ñÇÝ»ñÇÝ Ï³Û³óí³Í ³Ïï»ñÇ µ»Ï³ÝáõÙÝ»ñÁ | Q5: Ñ³ßí»ïáõ Å³Ù³Ý³Ï³ßñç³ÝáõÙ Ï³Û³óí³Í ³Ïï»ñÇ µ»Ï³ÝáõÙÝ»ñÁ
A6: 1. ØÇÝã¹³ï³Ï³Ý í³ñáõÛÃÇ ÝÏ³ïÙ³Ùµ ¹³ï³Ï³Ý í»ñ³ÑëÏáÕáõÃÛ³Ý áÉáñï | D6: 1 | E6: 2 | F6: 3 | G6: 4 | H6: 5 | I6: 6 | J6: 7 | K6: 8 | L6: 9 | M6: 10 | N6: 11 | O6: 12 | P6: 13 | Q6: 14 | R6: 15 | T6: 1+2=3+8+9 | V6: 8=4+5+6+7
A7: 1 | B7: Ï³É³ÝùÁ áñå»ë Ë³÷³ÝÙ³Ý ÙÇçáó ÏÇñ³é»Éáõ Ù³ëÇÝ ÙÇçÝáñ¹áõÃÛáõÝÝ»ñ | D7: ='Ս. Մարդանյան'!D7+#REF!+'Ռ. Մելքոնյան'!D7+'Զ. Զաքինյան'!D7+#REF! -> #REF! | E7: ='Ս. Մարդանյան'!E7+#REF!+'Ռ. Մելքոնյան'!E7+'Զ. Զաքինյան'!E7+#REF! -> #REF! | F7: ='Ս. Մարդանյան'!F7+#REF!+'Ռ. Մելքոնյան'!F7+'Զ. Զաքինյան'!F7+#REF! -> #REF! | G7: ='Ս. Մարդանյան'!G7+#REF!+'Ռ. Մելքոնյան'!G7+'Զ. Զաքինյան'!G7+#REF! -> #REF! | H7: ='Ս. Մարդանյան'!H7+#REF!+'Ռ. Մելքոնյան'!H7+'Զ. Զաքինյան'!H7+#REF! -> #REF! | I7: ='Ս. Մարդանյան'!I7+#REF!+'Ռ. Մելքոնյան'!I7+'Զ. Զաքինյան'!I7+#REF! -> #REF! | J7: ='Ս. Մարդանյան'!J7+#REF!+'Ռ. Մելքոնյան'!J7+'Զ. Զաքինյան'!J7+#REF! -> #REF! | K7: ='Ս. Մարդանյան'!K7+#REF!+'Ռ. Մելքոնյան'!K7+'Զ. Զաքինյան'!K7+#REF! -> #REF! | ... R7: ='Ս. Մարդանյան'!R7+#REF!+'Ռ. Մելքոնյան'!R7+'Զ. Զաքինյան'!R7+#REF! -> #REF! | S7: ='Ս. Մարդանյան'!S7+#REF!+'Ռ. Մելքոնյան'!S7+'Զ. Զաքինյան'!S7+#REF!+#REF!+#REF!+#REF! -> #REF! | T7: =D7+E7 -> #REF! | U7: =F7+K7+L7 -> #REF! | V7: =K7 -> #REF! | W7: =G7+H7+I7+J7 -> #REF!
A8: 2 | B8: Ï³É³ÝùÇ Å³ÙÏ»ïÁ »ñÏ³ñ³óÝ»Éáõ Ù³ëÇÝ ÙÇçÝáñ¹áõÃÛáõÝÝ»ñ | D8: ='Ս. Մարդանյան'!D8+#REF!+'Ռ. Մելքոնյան'!D8+'Զ. Զաքինյան'!D8+#REF! -> #REF! | E8: ='Ս. Մարդանյան'!E8+#REF!+'Ռ. Մելքոնյան'!E8+'Զ. Զաքինյան'!E8+#REF! -> #REF! | F8: ='Ս. Մարդանյան'!F8+#REF!+'Ռ. Մելքոնյան'!F8+'Զ. Զաքինյան'!F8+#REF! -> #REF! | G8: ='Ս. Մարդանյան'!G8+#REF!+'Ռ. Մելքոնյան'!G8+'Զ. Զաքինյան'!G8+#REF! -> #REF! | H8: ='Ս. Մարդանյան'!H8+#REF!+'Ռ. Մելքոնյան'!H8+'Զ. Զաքինյան'!H8+#REF! -> #REF! | I8: ='Ս. Մարդանյան'!I8+#REF!+'Ռ. Մելքոնյան'!I8+'Զ. Զաքինյան'!I8+#REF! -> #REF! | J8: ='Ս. Մարդանյան'!J8+#REF!+'Ռ. Մելքոնյան'!J8+'Զ. Զաքինյան'!J8+#REF! -> #REF! | K8: ='Ս. Մարդանյան'!K8+#REF!+'Ռ. Մելքոնյան'!K8+'Զ. Զաքինյան'!K8+#REF! -> #REF! | ... R8: ='Ս. Մարդանյան'!R8+#REF!+'Ռ. Մելքոնյան'!R8+'Զ. Զաքինյան'!R8+#REF! -> #REF! | S8: ='Ս. Մարդանյան'!S8+#REF!+'Ռ. Մելքոնյան'!S8+'Զ. Զաքինյան'!S8+#REF!+#REF!+#REF!+#REF! -> #REF! | T8: =D8+E8 -> #REF! | U8: =F8+K8+L8 -> #REF! | V8: =K8 -> #REF! | W8: =G8+H8+I8+J8 -> #REF!
A9: 3 | B9: Ï³É³ÝùÇ í»ñ³Ñ³ëï³ïÙ³Ý Ù³ëÇÝ ÙÇçÝáñ¹áõÃÛáõÝÝ»ñ | D9: ='Ս. Մարդանյան'!D9+#REF!+'Ռ. Մելքոնյան'!D9+'Զ. Զաքինյան'!D9+#REF! -> #REF! | E9: ='Ս. Մարդանյան'!E9+#REF!+'Ռ. Մելքոնյան'!E9+'Զ. Զաքինյան'!E9+#REF! -> #REF! | F9: ='Ս. Մարդանյան'!F9+#REF!+'Ռ. Մելքոնյան'!F9+'Զ. Զաքինյան'!F9+#REF! -> #REF! | G9: ='Ս. Մարդանյան'!G9+#REF!+'Ռ. Մելքոնյան'!G9+'Զ. Զաքինյան'!G9+#REF! -> #REF! | H9: ='Ս. Մարդանյան'!H9+#REF!+'Ռ. Մելքոնյան'!H9+'Զ. Զաքինյան'!H9+#REF! -> #REF! | I9: ='Ս. Մարդանյան'!I9+#REF!+'Ռ. Մելքոնյան'!I9+'Զ. Զաքինյան'!I9+#REF! -> #REF! | J9: ='Ս. Մարդանյան'!J9+#REF!+'Ռ. Մելքոնյան'!J9+'Զ. Զաքինյան'!J9+#REF! -> #REF! | K9: ='Ս. Մարդանյան'!K9+#REF!+'Ռ. Մելքոնյան'!K9+'Զ. Զաքինյան'!K9+#REF! -> #REF! | ... R9: ='Ս. Մարդանյան'!R9+#REF!+'Ռ. Մելքոնյան'!R9+'Զ. Զաքինյան'!R9+#REF! -> #REF! | S9: ='Ս. Մարդանյան'!S9+#REF!+'Ռ. Մելքոնյան'!S9+'Զ. Զաքինյան'!S9+#REF!+#REF!+#REF!+#REF! -> #REF! | T9: =D9+E9 -> #REF! | U9: =F9+K9+L9 -> #REF! | V9: =K9 -> #REF! | W9: =G9+H9+I9+J9 -> #REF!
A10: 4 | B10: ·ñ³íÁ áñå»ë Ï³É³Ý³íáñÙ³Ý ³ÛÉÁÝïñ³Ýù³ÛÇÝ Ë³÷³ÝÙ³Ý ÙÇçáó ÏÇñ³é»Éáõ Ù³ëÇÝ ÙÇçÝáñ¹áõÃÛáõÝÝ»ñ | D10: ='Ս. Մարդանյան'!D10+#REF!+'Ռ. Մելքոնյան'!D10+'Զ. Զաքինյան'!D10+#REF! -> #REF! | E10: ='Ս. Մարդանյան'!E10+#REF!+'Ռ. Մելքոնյան'!E10+'Զ. Զաքինյան'!E10+#REF! -> #REF! | F10: ='Ս. Մարդանյան'!F10+#REF!+'Ռ. Մելքոնյան'!F10+'Զ. Զաքինյան'!F10+#REF! -> #REF! | G10: ='Ս. Մարդանյան'!G10+#REF!+'Ռ. Մելքոնյան'!G10+'Զ. Զաքինյան'!G10+#REF! -> #REF! | H10: ='Ս. Մարդանյան'!H10+#REF!+'Ռ. Մելքոնյան'!H10+'Զ. Զաքինյան'!H10+#REF! -> #REF! | I10: ='Ս. Մարդանյան'!I10+#REF!+'Ռ. Մելքոնյան'!I10+'Զ. Զաքինյան'!I10+#REF! -> #REF! | J10: ='Ս. Մարդանյան'!J10+#REF!+'Ռ. Մելքոնյան'!J10+'Զ. Զաքինյան'!J10+#REF! -> #REF! | K10: ='Ս. Մարդանյան'!K10+#REF!+'Ռ. Մելքոնյան'!K10+'Զ. Զաքինյան'!K10+#REF! -> #REF! | ... R10: ='Ս. Մարդանյան'!R10+#REF!+'Ռ. Մելքոնյան'!R10+'Զ. Զաքինյան'!R10+#REF! -> #REF! | S10: ='Ս. Մարդանյան'!S10+#REF!+'Ռ. Մելքոնյան'!S10+'Զ. Զաքինյան'!S10+#REF!+#REF!+#REF!+#REF! -> #REF! | T10: =D10+E10 -> #REF! | U10: =F10+K10+L10 -> #REF! | V10: =K10 -> #REF! | W10: =G10+H10+I10+J10 -> #REF!
A11: 5 | B11: Ëáõ½³ñÏáõÃÛ³Ý Ï³ï³ñÙ³Ý Ù³ëÇÝ ÙÇçÝáñ¹áõÃÛáõÝÝ»ñ | D11: ='Ս. Մարդանյան'!D11+#REF!+'Ռ. Մելքոնյան'!D11+'Զ. Զաքինյան'!D11+#REF! -> #REF! | E11: ='Ս. Մարդանյան'!E11+#REF!+'Ռ. Մելքոնյան'!E11+'Զ. Զաքինյան'!E11+#REF! -> #REF! | F11: ='Ս. Մարդանյան'!F11+#REF!+'Ռ. Մելքոնյան'!F11+'Զ. Զաքինյան'!F11+#REF! -> #REF! | G11: ='Ս. Մարդանյան'!G11+#REF!+'Ռ. Մելքոնյան'!G11+'Զ. Զաքինյան'!G11+#REF! -> #REF! | H11: ='Ս. Մարդանյան'!H11+#REF!+'Ռ. Մելքոնյան'!H11+'Զ. Զաքինյան'!H11+#REF! -> #REF! | I11: ='Ս. Մարդանյան'!I11+#REF!+'Ռ. Մելքոնյան'!I11+'Զ. Զաքինյան'!I11+#REF! -> #REF! | J11: ='Ս. Մարդանյան'!J11+#REF!+'Ռ. Մելքոնյան'!J11+'Զ. Զաքինյան'!J11+#REF! -> #REF! | K11: ='Ս. Մարդանյան'!K11+#REF!+'Ռ. Մելքոնյան'!K11+'Զ. Զաքինյան'!K11+#REF! -> #REF! | ... R11: ='Ս. Մարդանյան'!R11+#REF!+'Ռ. Մելքոնյան'!R11+'Զ. Զաքինյան'!R11+#REF! -> #REF! | S11: ='Ս. Մարդանյան'!S11+#REF!+'Ռ. Մելքոնյան'!S11+'Զ. Զաքինյան'!S11+#REF!+#REF!+#REF!+#REF! -> #REF! | T11: =D11+E11 -> #REF! | U11: =F11+K11+L11 -> #REF! | V11: =K11 -> #REF! | W11: =G11+H11+I11+J11 -> #REF!
A12: 6 | B12: µ³ÝÏ³ÛÇÝ, ³å³Ñáí³·ñ³Ï³Ý, Ýáï³ñ³Ï³Ý ·³ÕïÝÇù Ï³½ÙáÕ ï»Õ»ÏáõÃÛáõÝÝ»ñÇ ëï³óÙ³Ý Ñ³Ù³ñ Ëáõ½³ñÏáõÃÛ³Ý Ï³Ù ³é·ñ³íÙ³Ý Ï³ï³ñÙ³Ý Ù³ëÇÝ ÙÇçÝáñ¹áõÃÛáõÝÝ»ñ | D12: ='Ս. Մարդանյան'!D12+#REF!+'Ռ. Մելքոնյան'!D12+'Զ. Զաքինյան'!D12+#REF! -> #REF! | E12: ='Ս. Մարդանյան'!E12+#REF!+'Ռ. Մելքոնյան'!E12+'Զ. Զաքինյան'!E12+#REF! -> #REF! | F12: ='Ս. Մարդանյան'!F12+#REF!+'Ռ. Մելքոնյան'!F12+'Զ. Զաքինյան'!F12+#REF! -> #REF! | G12: ='Ս. Մարդանյան'!G12+#REF!+'Ռ. Մելքոնյան'!G12+'Զ. Զաքինյան'!G12+#REF! -> #REF! | H12: ='Ս. Մարդանյան'!H12+#REF!+'Ռ. Մելքոնյան'!H12+'Զ. Զաքինյան'!H12+#REF! -> #REF! | I12: ='Ս. Մարդանյան'!I12+#REF!+'Ռ. Մելքոնյան'!I12+'Զ. Զաքինյան'!I12+#REF! -> #REF! | J12: ='Ս. Մարդանյան'!J12+#REF!+'Ռ. Մելքոնյան'!J12+'Զ. Զաքինյան'!J12+#REF! -> #REF! | K12: ='Ս. Մարդանյան'!K12+#REF!+'Ռ. Մելքոնյան'!K12+'Զ. Զաքինյան'!K12+#REF! -> #REF! | ... R12: ='Ս. Մարդանյան'!R12+#REF!+'Ռ. Մելքոնյան'!R12+'Զ. Զաքինյան'!R12+#REF! -> #REF! | S12: ='Ս. Մարդանյան'!S12+#REF!+'Ռ. Մելքոնյան'!S12+'Զ. Զաքինյան'!S12+#REF!+#REF!+#REF!+#REF! -> #REF! | T12: =D12+E12 -> #REF! | U12: =F12+K12+L12 -> #REF! | V12: =K12 -> #REF! | W12: =G12+H12+I12+J12 -> #REF!
A13: 7 | B13: Ý³Ù³Ï³·ñáõÃÛ³Ý, Ñ»é³·ñ³Ï³Ý, ÷áuï³ÛÇÝ Ñ³Õáñ¹áõÙÝ»ñÇ ÑëÏáÕáõÃÛ³Ý Ù³ëÇÝ ÙÇçÝáñ¹áõÃÛáõÝÝ»ñ | D13: ='Ս. Մարդանյան'!D13+#REF!+'Ռ. Մելքոնյան'!D13+'Զ. Զաքինյան'!D13+#REF! -> #REF! | E13: ='Ս. Մարդանյան'!E13+#REF!+'Ռ. Մելքոնյան'!E13+'Զ. Զաքինյան'!E13+#REF! -> #REF! | F13: ='Ս. Մարդանյան'!F13+#REF!+'Ռ. Մելքոնյան'!F13+'Զ. Զաքինյան'!F13+#REF! -> #REF! | G13: ='Ս. Մարդանյան'!G13+#REF!+'Ռ. Մելքոնյան'!G13+'Զ. Զաքինյան'!G13+#REF! -> #REF! | H13: ='Ս. Մարդանյան'!H13+#REF!+'Ռ. Մելքոնյան'!H13+'Զ. Զաքինյան'!H13+#REF! -> #REF! | I13: ='Ս. Մարդանյան'!I13+#REF!+'Ռ. Մելքոնյան'!I13+'Զ. Զաքինյան'!I13+#REF! -> #REF! | J13: ='Ս. Մարդանյան'!J13+#REF!+'Ռ. Մելքոնյան'!J13+'Զ. Զաքինյան'!J13+#REF! -> #REF! | K13: ='Ս. Մարդանյան'!K13+#REF!+'Ռ. Մելքոնյան'!K13+'Զ. Զաքինյան'!K13+#REF! -> #REF! | ... R13: ='Ս. Մարդանյան'!R13+#REF!+'Ռ. Մելքոնյան'!R13+'Զ. Զաքինյան'!R13+#REF! -> #REF! | S13: ='Ս. Մարդանյան'!S13+#REF!+'Ռ. Մելքոնյան'!S13+'Զ. Զաքինյան'!S13+#REF!+#REF!+#REF!+#REF! -> #REF! | T13: =D13+E13 -> #REF! | U13: =F13+K13+L13 -> #REF! | V13: =K13 -> #REF! | W13: =G13+H13+I13+J13 -> #REF!
A14: 8 | B14: Ñ»é³Ëáu³ÛÇÝ Ï³Ù Ï³åÇ ³ÛÉ ÙÇçáóÝ»ñáí ï³ñíáÕ Ëáu³ÏóáõÃÛáõÝÝ»ñÇ ÉuÙ³Ý ¨ Ó³ÛÝ³·ñ³éÙ³Ý Ù³ëÇÝ ÙÇçÝáñ¹áõÃÛáõÝÝ»ñ | D14: ='Ս. Մարդանյան'!D14+#REF!+'Ռ. Մելքոնյան'!D14+'Զ. Զաքինյան'!D14+#REF! -> #REF! | E14: ='Ս. Մարդանյան'!E14+#REF!+'Ռ. Մելքոնյան'!E14+'Զ. Զաքինյան'!E14+#REF! -> #REF! | F14: ='Ս. Մարդանյան'!F14+#REF!+'Ռ. Մելքոնյան'!F14+'Զ. Զաքինյան'!F14+#REF! -> #REF! | G14: ='Ս. Մարդանյան'!G14+#REF!+'Ռ. Մելքոնյան'!G14+'Զ. Զաքինյան'!G14+#REF! -> #REF! | H14: ='Ս. Մարդանյան'!H14+#REF!+'Ռ. Մելքոնյան'!H14+'Զ. Զաքինյան'!H14+#REF! -> #REF! | I14: ='Ս. Մարդանյան'!I14+#REF!+'Ռ. Մելքոնյան'!I14+'Զ. Զաքինյան'!I14+#REF! -> #REF! | J14: ='Ս. Մարդանյան'!J14+#REF!+'Ռ. Մելքոնյան'!J14+'Զ. Զաքինյան'!J14+#REF! -> #REF! | K14: ='Ս. Մարդանյան'!K14+#REF!+'Ռ. Մելքոնյան'!K14+'Զ. Զաքինյան'!K14+#REF! -> #REF! | ... R14: ='Ս. Մարդանյան'!R14+#REF!+'Ռ. Մելքոնյան'!R14+'Զ. Զաքինյան'!R14+#REF! -> #REF! | S14: ='Ս. Մարդանյան'!S14+#REF!+'Ռ. Մելքոնյան'!S14+'Զ. Զաքինյան'!S14+#REF!+#REF!+#REF!+#REF! -> #REF! | T14: =D14+E14 -> #REF! | U14: =F14+K14+L14 -> #REF! | V14: =K14 -> #REF! | W14: =G14+H14+I14+J14 -> #REF!
A15: 9 | B15: Ñ»é³ËáëÝ»ñÇ Ùáõïù³ÛÇÝ ¨ »Éù³ÛÇÝ í»ñÍ³ÝÙ³Ý ÃáõÛÉïíáõÃÛáõÝ ëï³Ý³Éáõ Ù³ëÇÝ ÙÇçÝáñ¹áõÃÛáõÝÝ»ñ | D15: ='Ս. Մարդանյան'!D15+#REF!+'Ռ. Մելքոնյան'!D15+'Զ. Զաքինյան'!D15+#REF! -> #REF! | E15: ='Ս. Մարդանյան'!E15+#REF!+'Ռ. Մելքոնյան'!E15+'Զ. Զաքինյան'!E15+#REF! -> #REF! | F15: ='Ս. Մարդանյան'!F15+#REF!+'Ռ. Մելքոնյան'!F15+'Զ. Զաքինյան'!F15+#REF! -> #REF! | G15: ='Ս. Մարդանյան'!G15+#REF!+'Ռ. Մելքոնյան'!G15+'Զ. Զաքինյան'!G15+#REF! -> #REF! | H15: ='Ս. Մարդանյան'!H15+#REF!+'Ռ. Մելքոնյան'!H15+'Զ. Զաքինյան'!H15+#REF! -> #REF! | I15: ='Ս. Մարդանյան'!I15+#REF!+'Ռ. Մելքոնյան'!I15+'Զ. Զաքինյան'!I15+#REF! -> #REF! | J15: ='Ս. Մարդանյան'!J15+#REF!+'Ռ. Մելքոնյան'!J15+'Զ. Զաքինյան'!J15+#REF! -> #REF! | K15: ='Ս. Մարդանյան'!K15+#REF!+'Ռ. Մելքոնյան'!K15+'Զ. Զաքինյան'!K15+#REF! -> #REF! | ... R15: ='Ս. Մարդանյան'!R15+#REF!+'Ռ. Մելքոնյան'!R15+'Զ. Զաքինյան'!R15+#REF! -> #REF! | S15: ='Ս. Մարդանյան'!S15+#REF!+'Ռ. Մելքոնյան'!S15+'Զ. Զաքինյան'!S15+#REF!+#REF!+#REF!+#REF! -> #REF! | T15: =D15+E15 -> #REF! | U15: =F15+K15+L15 -> #REF! | V15: =K15 -> #REF! | W15: =G15+H15+I15+J15 -> #REF!
A16: 10 | B16: Ñ»ï³ùÝÝáõÃÛ³Ý Ù³ñÙÝÇ ³ßË³ïáÕÇ, ùÝÝÇãÇ, ¹³ï³Ë³½Ç oå»ñ³ïÇí-Ñ»ï³Ëáõ½³Ï³Ý ·áñÍáÕáõÃÛáõÝÝ»ñ Çñ³Ï³Ý³óÝáÕ Ù³ñÙÇÝÝ»ñÇ ³ÝoñÇÝ³Ï³Ý ¨ ³ÝÑÇÙÝ áñáßáõÙÝ»ñÇ ¨ ·áñÍáÕáõÃÛáõÝÝ»ñÇ ¹»Ù µáÕáùÝ»ñ | D16: ='Ս. Մարդանյան'!D16+#REF!+'Ռ. Մելքոնյան'!D16+'Զ. Զաքինյան'!D16+#REF! -> #REF! | E16: ='Ս. Մարդանյան'!E16+#REF!+'Ռ. Մելքոնյան'!E16+'Զ. Զաքինյան'!E16+#REF! -> #REF! | F16: ='Ս. Մարդանյան'!F16+#REF!+'Ռ. Մելքոնյան'!F16+'Զ. Զաքինյան'!F16+#REF! -> #REF! | G16: ='Ս. Մարդանյան'!G16+#REF!+'Ռ. Մելքոնյան'!G16+'Զ. Զաքինյան'!G16+#REF! -> #REF! | H16: ='Ս. Մարդանյան'!H16+#REF!+'Ռ. Մելքոնյան'!H16+'Զ. Զաքինյան'!H16+#REF! -> #REF! | I16: ='Ս. Մարդանյան'!I16+#REF!+'Ռ. Մելքոնյան'!I16+'Զ. Զաքինյան'!I16+#REF! -> #REF! | J16: ='Ս. Մարդանյան'!J16+#REF!+'Ռ. Մելքոնյան'!J16+'Զ. Զաքինյան'!J16+#REF! -> #REF! | K16: ='Ս. Մարդանյան'!K16+#REF!+'Ռ. Մելքոնյան'!K16+'Զ. Զաքինյան'!K16+#REF! -> #REF! | ... R16: ='Ս. Մարդանյան'!R16+#REF!+'Ռ. Մելքոնյան'!R16+'Զ. Զաքինյան'!R16+#REF! -> #REF! | S16: ='Ս. Մարդանյան'!S16+#REF!+'Ռ. Մելքոնյան'!S16+'Զ. Զաքինյան'!S16+#REF!+#REF!+#REF!+#REF! -> #REF! | T16: =D16+E16 -> #REF! | U16: =F16+K16+L16 -> #REF! | V16: =K16 -> #REF! | W16: =G16+H16+I16+J16 -> #REF!
A17: 2. ¸³ï³Ï³Ý ³Ïï»ñÇ ¨ ¹³ï³Ï³Ý Ñ³ÝÓÝ³ñ³ñáõÃÛáõÝÝ»ñÇ Ï³ï³ñÙ³Ý Ñ»ï Ï³åí³Í Ñ³ñó»ñÇ ÉáõÍÙ³Ý áÉáñï | S17: ='Ս. Մարդանյան'!S17+#REF!+'Ռ. Մելքոնյան'!S17+'Զ. Զաքինյան'!S17+#REF!+#REF!+#REF!+#REF! -> #REF!
A18: 1 | B18: å³ïÅÇó å³ÛÙ³Ý³Ï³Ý í³Õ³Å³ÙÏ»ï ³½³ï»Éáõ Ù³ëÇÝ ÙÇçÝáñ¹áõÃÛáõÝÝ»ñ | D18: ='Ս. Մարդանյան'!D18+#REF!+'Ռ. Մելքոնյան'!D18+'Զ. Զաքինյան'!D18+#REF! -> #REF! | E18: ='Ս. Մարդանյան'!E18+#REF!+'Ռ. Մելքոնյան'!E18+'Զ. Զաքինյան'!E18+#REF! -> #REF! | F18: ='Ս. Մարդանյան'!F18+#REF!+'Ռ. Մելքոնյան'!F18+'Զ. Զաքինյան'!F18+#REF! -> #REF! | G18: ='Ս. Մարդանյան'!G18+#REF!+'Ռ. Մելքոնյան'!G18+'Զ. Զաքինյան'!G18+#REF! -> #REF! | H18: ='Ս. Մարդանյան'!H18+#REF!+'Ռ. Մելքոնյան'!H18+'Զ. Զաքինյան'!H18+#REF! -> #REF! | I18: ='Ս. Մարդանյան'!I18+#REF!+'Ռ. Մելքոնյան'!I18+'Զ. Զաքինյան'!I18+#REF! -> #REF! | J18: ='Ս. Մարդանյան'!J18+#REF!+'Ռ. Մելքոնյան'!J18+'Զ. Զաքինյան'!J18+#REF! -> #REF! | K18: ='Ս. Մարդանյան'!K18+#REF!+'Ռ. Մելքոնյան'!K18+'Զ. Զաքինյան'!K18+#REF! -> #REF! | ... R18: ='Ս. Մարդանյան'!R18+#REF!+'Ռ. Մելքոնյան'!R18+'Զ. Զաքինյան'!R18+#REF! -> #REF! | S18: ='Ս. Մարդանյան'!S18+#REF!+'Ռ. Մելքոնյան'!S18+'Զ. Զաքինյան'!S18+#REF!+#REF!+#REF!+#REF! -> #REF! | T18: =J18+K18 -> #REF! | U18: =F18+K18+L18 -> #REF! | V18: =P18 -> #REF! | W18: =L18+M18+N18+O18 -> #REF!
A19: 2 | B19: å³ïÇÅÁ ÷á÷áË»Éáõ, Ñ»ï³Ó·»Éáõ ¨ å³ïÅÇó ³½³ï»Éáõ Ù³uÇÝ ÙÇçÝáñ¹áõÃÛáõÝÝ»ñ | D19: ='Ս. Մարդանյան'!D19+#REF!+'Ռ. Մելքոնյան'!D19+'Զ. Զաքինյան'!D19+#REF! -> #REF! | E19: ='Ս. Մարդանյան'!E19+#REF!+'Ռ. Մելքոնյան'!E19+'Զ. Զաքինյան'!E19+#REF! -> #REF! | F19: ='Ս. Մարդանյան'!F19+#REF!+'Ռ. Մելքոնյան'!F19+'Զ. Զաքինյան'!F19+#REF! -> #REF! | G19: ='Ս. Մարդանյան'!G19+#REF!+'Ռ. Մելքոնյան'!G19+'Զ. Զաքինյան'!G19+#REF! -> #REF! | H19: ='Ս. Մարդանյան'!H19+#REF!+'Ռ. Մելքոնյան'!H19+'Զ. Զաքինյան'!H19+#REF! -> #REF! | I19: ='Ս. Մարդանյան'!I19+#REF!+'Ռ. Մելքոնյան'!I19+'Զ. Զաքինյան'!I19+#REF! -> #REF! | J19: ='Ս. Մարդանյան'!J19+#REF!+'Ռ. Մելքոնյան'!J19+'Զ. Զաքինյան'!J19+#REF! -> #REF! | K19: ='Ս. Մարդանյան'!K19+#REF!+'Ռ. Մելքոնյան'!K19+'Զ. Զաքինյան'!K19+#REF! -> #REF! | ... R19: ='Ս. Մարդանյան'!R19+#REF!+'Ռ. Մելքոնյան'!R19+'Զ. Զաքինյան'!R19+#REF! -> #REF! | S19: ='Ս. Մարդանյան'!S19+#REF!+'Ռ. Մելքոնյան'!S19+'Զ. Զաքինյան'!S19+#REF!+#REF!+#REF!+#REF! -> #REF! | T19: =J19+K19 -> #REF! | U19: =F19+K19+L19 -> #REF! | V19: =P19 -> #REF! | W19: =L19+M19+N19+O19 -> #REF!
A20: 3 | B20: Ñ³ñÏ³¹Çñ µáõÅÙ³Ý ï»ë³ÏÇ ÷á÷áËáõÃÛ³Ý Ù³ëÇÝ ÙÇçÝáñ¹áõÃÛáõÝÝ»ñ | D20: ='Ս. Մարդանյան'!D20+#REF!+'Ռ. Մելքոնյան'!D20+'Զ. Զաքինյան'!D20+#REF! -> #REF! | E20: ='Ս. Մարդանյան'!E20+#REF!+'Ռ. Մելքոնյան'!E20+'Զ. Զաքինյան'!E20+#REF! -> #REF! | F20: ='Ս. Մարդանյան'!F20+#REF!+'Ռ. Մելքոնյան'!F20+'Զ. Զաքինյան'!F20+#REF! -> #REF! | G20: ='Ս. Մարդանյան'!G20+#REF!+'Ռ. Մելքոնյան'!G20+'Զ. Զաքինյան'!G20+#REF! -> #REF! | H20: ='Ս. Մարդանյան'!H20+#REF!+'Ռ. Մելքոնյան'!H20+'Զ. Զաքինյան'!H20+#REF! -> #REF! | I20: ='Ս. Մարդանյան'!I20+#REF!+'Ռ. Մելքոնյան'!I20+'Զ. Զաքինյան'!I20+#REF! -> #REF! | J20: ='Ս. Մարդանյան'!J20+#REF!+'Ռ. Մելքոնյան'!J20+'Զ. Զաքինյան'!J20+#REF! -> #REF! | K20: ='Ս. Մարդանյան'!K20+#REF!+'Ռ. Մելքոնյան'!K20+'Զ. Զաքինյան'!K20+#REF! -> #REF! | ... R20: ='Ս. Մարդանյան'!R20+#REF!+'Ռ. Մելքոնյան'!R20+'Զ. Զաքինյան'!R20+#REF! -> #REF! | S20: ='Ս. Մարդանյան'!S20+#REF!+'Ռ. Մելքոնյան'!S20+'Զ. Զաքինյան'!S20+#REF!+#REF!+#REF!+#REF! -> #REF! | T20: =J20+K20 -> #REF! | U20: =F20+K20+L20 -> #REF! | V20: =P20 -> #REF! | W20: =L20+M20+N20+O20 -> #REF!
A21: 4 | B21: ³ÛÉ ÙÇçÝáñ¹áõÃÛáõÝÝ»ñ | D21: ='Ս. Մարդանյան'!D21+#REF!+'Ռ. Մելքոնյան'!D21+'Զ. Զաքինյան'!D21+#REF! -> #REF! | E21: ='Ս. Մարդանյան'!E21+#REF!+'Ռ. Մելքոնյան'!E21+'Զ. Զաքինյան'!E21+#REF! -> #REF! | F21: ='Ս. Մարդանյան'!F21+#REF!+'Ռ. Մելքոնյան'!F21+'Զ. Զաքինյան'!F21+#REF! -> #REF! | G21: ='Ս. Մարդանյան'!G21+#REF!+'Ռ. Մելքոնյան'!G21+'Զ. Զաքինյան'!G21+#REF! -> #REF! | H21: ='Ս. Մարդանյան'!H21+#REF!+'Ռ. Մելքոնյան'!H21+'Զ. Զաքինյան'!H21+#REF! -> #REF! | I21: ='Ս. Մարդանյան'!I21+#REF!+'Ռ. Մելքոնյան'!I21+'Զ. Զաքինյան'!I21+#REF! -> #REF! | J21: ='Ս. Մարդանյան'!J21+#REF!+'Ռ. Մելքոնյան'!J21+'Զ. Զաքինյան'!J21+#REF! -> #REF! | K21: ='Ս. Մարդանյան'!K21+#REF!+'Ռ. Մելքոնյան'!K21+'Զ. Զաքինյան'!K21+#REF! -> #REF! | ... R21: ='Ս. Մարդանյան'!R21+#REF!+'Ռ. Մելքոնյան'!R21+'Զ. Զաքինյան'!R21+#REF! -> #REF! | S21: ='Ս. Մարդանյան'!S21+#REF!+'Ռ. Մելքոնյան'!S21+'Զ. Զաքինյան'!S21+#REF!+#REF!+#REF!+#REF! -> #REF! | T21: =J21+K21 -> #REF! | U21: =F21+K21+L21 -> #REF! | V21: =P21 -> #REF! | W21: =L21+M21+N21+O21 -> #REF!
A22: 5 | B22: ¹³ï³Ï³Ý Ñ³ÝÓÝ³ñ³ñáõÃÛáõÝÝ»ñ | D22: ='Ս. Մարդանյան'!D22+#REF!+'Ռ. Մելքոնյան'!D22+'Զ. Զաքինյան'!D22+#REF! -> #REF! | E22: ='Ս. Մարդանյան'!E22+#REF!+'Ռ. Մելքոնյան'!E22+'Զ. Զաքինյան'!E22+#REF! -> #REF! | F22: ='Ս. Մարդանյան'!F22+#REF!+'Ռ. Մելքոնյան'!F22+'Զ. Զաքինյան'!F22+#REF! -> #REF! | G22: ='Ս. Մարդանյան'!G22+#REF!+'Ռ. Մելքոնյան'!G22+'Զ. Զաքինյան'!G22+#REF! -> #REF! | H22: ='Ս. Մարդանյան'!H22+#REF!+'Ռ. Մելքոնյան'!H22+'Զ. Զաքինյան'!H22+#REF! -> #REF! | I22: ='Ս. Մարդանյան'!I22+#REF!+'Ռ. Մելքոնյան'!I22+'Զ. Զաքինյան'!I22+#REF! -> #REF! | J22: ='Ս. Մարդանյան'!J22+#REF!+'Ռ. Մելքոնյան'!J22+'Զ. Զաքինյան'!J22+#REF! -> #REF! | K22: ='Ս. Մարդանյան'!K22+#REF!+'Ռ. Մելքոնյան'!K22+'Զ. Զաքինյան'!K22+#REF! -> #REF! | ... R22: ='Ս. Մարդանյան'!R22+#REF!+'Ռ. Մելքոնյան'!R22+'Զ. Զաքինյան'!R22+#REF! -> #REF! | S22: ='Ս. Մարդանյան'!S22+#REF!+'Ռ. Մելքոնյան'!S22+'Զ. Զաքինյան'!S22+#REF!+#REF!+#REF!+#REF! -> #REF! | T22: =J22+K22 -> #REF! | U22: =F22+K22+L22 -> #REF! | V22: =P22 -> #REF! | W22: =L22+M22+N22+O22 -> #REF!
A23: ÀÜ¸²ØºÜÀ | D23: ='Ս. Մարդանյան'!D23+#REF!+'Ռ. Մելքոնյան'!D23+'Զ. Զաքինյան'!D23+#REF! -> #REF! | E23: ='Ս. Մարդանյան'!E23+#REF!+'Ռ. Մելքոնյան'!E23+'Զ. Զաքինյան'!E23+#REF! -> #REF! | F23: ='Ս. Մարդանյան'!F23+#REF!+'Ռ. Մելքոնյան'!F23+'Զ. Զաքինյան'!F23+#REF! -> #REF! | G23: ='Ս. Մարդանյան'!G23+#REF!+'Ռ. Մելքոնյան'!G23+'Զ. Զաքինյան'!G23+#REF! -> #REF! | H23: ='Ս. Մարդանյան'!H23+#REF!+'Ռ. Մելքոնյան'!H23+'Զ. Զաքինյան'!H23+#REF! -> #REF! | I23: ='Ս. Մարդանյան'!I23+#REF!+'Ռ. Մելքոնյան'!I23+'Զ. Զաքինյան'!I23+#REF! -> #REF! | J23: ='Ս. Մարդանյան'!J23+#REF!+'Ռ. Մելքոնյան'!J23+'Զ. Զաքինյան'!J23+#REF! -> #REF! | K23: ='Ս. Մարդանյան'!K23+#REF!+'Ռ. Մելքոնյան'!K23+'Զ. Զաքինյան'!K23+#REF! -> #REF! | ... R23: ='Ս. Մարդանյան'!R23+#REF!+'Ռ. Մելքոնյան'!R23+'Զ. Զաքինյան'!R23+#REF! -> #REF! | S23: ='Ս. Մարդանյան'!S23+#REF!+'Ռ. Մելքոնյան'!S23+'Զ. Զաքինյան'!S23+#REF!+#REF!+#REF!+#REF! -> #REF! | T23: =SUM(T7:T16,T18:T22) -> #REF! | U23: =F23+K23+L23 -> #REF! | V23: =SUM(V7:V16,V18:V22) -> #REF! | W23: =SUM(W7:W16,W18:W22) -> #REF!

Sheet Ս. Մարդանյան
A1: 2016Ã. 1-ԻՆ ԿԻՍԱՄՅԱԿ | D1: Ð²ÞìºîìàôÂÚàôÜ | P1: Ð³í»Éí³Í Ð³Û³ëï³ÝÇ Ð³Ýñ³å»ïáõÃÛ³Ý ¸³ï³ñ³ÝÝ»ñÇ Ý³Ë³·³ÑÝ»ñÇ ËáñÑñ¹Ç 25.08.2016Ã. ÃÇí 44-È áñáßÙ³Ý
A2: ØÇÝã¹³ï³Ï³Ý í³ñáõÛÃÇ ÝÏ³ïÙ³Ùµ ¹³ï³Ï³Ý í»ñ³ÑëÏáÕáõÃÛ³ÝÁ, ¹³ï³Ï³Ý ³Ïï»ñÇ ¨ ¹³ï³Ï³Ý Ñ³ÝÓÝ³ñ³ñáõÃÛáõÝÝ»ñÇ Ï³ï³ñÙ³Ý Ñ»ï Ï³åí³Í ÙÇçÝáñ¹áõÃÛáõÝÝ»ñÇ í»ñ³µ»ñÛ³É ¹³ï³Ï³Ý ·áñÍ»ñáí ÐÐ î³íáõßÇ Ù³ñ½Ç ÁÝ¹Ñ³Ýáõñ Çñ³í³ëáõÃÛ³Ý ³é³çÇÝ ³ïÛ³ÝÇ ¹³ï³ñ³ÝÇ ¹³ï³íáñ Ս. Մարդանյանի ·áñÍáõÝ»áõÃÛ³Ý í»ñ³µ»ñÛ³É
A3: êïáõ·Çã Ñ³í³ë³ñáõÙ` 1+2=3+8+9, 8=4+5+6+7, | D3: Ð³ßí»ïáõ Å³Ù³Ý³Ï³Ñ³ïí³ÍÇ ëÏ½µáõÙ Ý³Ëáñ¹ Ñ³ßí»ïáõ Å³Ù³Ý³Ï³Ñ³ïí³ÍÇó ÷áË³Ýóí³Í ·áñÍ»ñÇ ÁÝ¹Ñ³Ýáõñ ÃÇíÁ | E3: Ð³ßí»ïáõ Å³Ù³Ý³Ï³Ñ³ïí³ÍáõÙ ëï³óí³Í ·áñÍ»ñÇ ÁÝ¹Ñ³Ýáõñ ÃÇíÁ | F3: öáË³Ýóí»É ¿ ³ÛÉ ¹³ï³íáñÇ Ï³Ù ³ÛÉ ¹³ï³ñ³Ý (Ï³½ÙÇ ÷á÷áËáõÃÛáõÝ, ÁÝ¹¹³ïáõÃÛáõÝ) | G3: Ð³ßí»ïáõ Å³Ù³Ý³Ï³Ñ³ïí³ÍáõÙ ³í³ñïí³Í ·áñÍ»ñÇ ÁÝ¹Ñ³Ýáõñ ÃÇíÁ | L3: Ð³ßí»ïáõ Å³Ù³Ý³Ï³Ñ³ïí³ÍáõÙ ³Ý³í³ñï ·áñÍ»ñÇ ÁÝ¹Ñ³Ýáõñ ÃÇíÁ | M3: ØÇçÝáñ¹áõÃÛáõÝÝ»ñáí Ï³Û³óí³Í ¹³ï³Ï³Ý ³Ïï»ñÇó µáÕáù³ñÏí³ÍÝ»ñÇ ù³Ý³ÏÁ | O3: ²Ý³í³ñï µáÕáùÝ»ñ | P3: ØÇçÝáñ¹áõÃÛáõÝÝ»ñáí Ï³Û³óí³Í ¨ µáÕáù³ñÏí³Í ¹³ï³Ï³Ý ³Ïï»ñÇó µ»Ï³Ýí³ÍÝ»ñÇ ù³Ý³ÏÁ | R3: ÙÇçÝáñ¹áõÃÛáõÝÝ»ñáí Ï³Û³óí³Í ¨ µáÕáù³ñÏí³Í ¹³ï³Ï³Ý ³Ïï»ñÇó ³Ý÷á÷áË ÃáÕÝí³ÍÝ»ñÇ ù³Ý³ÏÁ
G4: Ù»ñÅí»É ¿ | H4: µ³í³ñ³ñí»É ¿ | I4: µ³í³ñ³ñí»É ¿ Ù³ëÝ³ÏÇ | J4: ÃáÕÝí»É ¿ ³é³Ýó ùÝÝáõÃÛ³Ý | K4: ÀÝ¹³Ù»ÝÁ
M5: Ý³Ëáñ¹ ï³ñÇÝ»ñÇÝ Ï³Û³óí³Í ³Ïï»ñÇ ¹»Ù | N5: Ñ³ßí»ïáõ Å³Ù³Ý³Ï³ßñç³ÝáõÙ Ï³Û³óí³Í ³Ïï»ñÇ ¹»Ù | P5: Ý³Ëáñ¹ ï³ñÇÝ»ñÇÝ Ï³Û³óí³Í ³Ïï»ñÇ µ»Ï³ÝáõÙÝ»ñÁ | Q5: Ñ³ßí»ïáõ Å³Ù³Ý³Ï³ßñç³ÝáõÙ Ï³Û³óí³Í ³Ïï»ñÇ µ»Ï³ÝáõÙÝ»ñÁ
A6: 1. ØÇÝã¹³ï³Ï³Ý í³ñáõÛÃÇ ÝÏ³ïÙ³Ùµ ¹³ï³Ï³Ý í»ñ³ÑëÏáÕáõÃÛ³Ý áÉáñï | D6: 1 | E6: 2 | F6: 3 | G6: 4 | H6: 5 | I6: 6 | J6: 7 | K6: 8 | L6: 9 | M6: 10 | N6: 11 | O6: 12 | P6: 13 | Q6: 14 | R6: 15 | T6: 1+2=3+8+9 | V6: 8=4+5+6+7
A7: 1 | B7: Ï³É³ÝùÁ áñå»ë Ë³÷³ÝÙ³Ý ÙÇçáó ÏÇñ³é»Éáõ Ù³ëÇÝ ÙÇçÝáñ¹áõÃÛáõÝÝ»ñ | E7: 4 | G7: 1 | H7: 3 | K7: 4 | N7: 2 | R7: 2 | T7: =D7+E7 -> 4 | U7: =F7+K7+L7 -> 4 | V7: =K7 -> 4 | W7: =G7+H7+I7+J7 -> 4
A8: 2 | B8: Ï³É³ÝùÇ Å³ÙÏ»ïÁ »ñÏ³ñ³óÝ»Éáõ Ù³ëÇÝ ÙÇçÝáñ¹áõÃÛáõÝÝ»ñ | E8: 3 | G8: 1 | H8: 1 | I8: 1 | K8: 3 | N8: 3 | O8: 2 | R8: 1 | T8: =D8+E8 -> 3 | U8: =F8+K8+L8 -> 3 | V8: =K8 -> 3 | W8: =G8+H8+I8+J8 -> 3
A9: 3 | B9: Ï³É³ÝùÇ í»ñ³Ñ³ëï³ïÙ³Ý Ù³ëÇÝ ÙÇçÝáñ¹áõÃÛáõÝÝ»ñ | E9: 2 | H9: 2 | K9: 2 | N9: 1 | R9: 1 | T9: =D9+E9 -> 2 | U9: =F9+K9+L9 -> 2 | V9: =K9 -> 2 | W9: =G9+H9+I9+J9 -> 2
A10: 4 | B10: ·ñ³íÁ áñå»ë Ï³É³Ý³íáñÙ³Ý ³ÛÉÁÝïñ³Ýù³ÛÇÝ Ë³÷³ÝÙ³Ý ÙÇçáó ÏÇñ³é»Éáõ Ù³ëÇÝ ÙÇçÝáñ¹áõÃÛáõÝÝ»ñ | T10: =D10+E10 -> 0 | U10: =F10+K10+L10 -> 0 | V10: =K10 -> 0 | W10: =G10+H10+I10+J10 -> 0
A11: 5 | B11: Ëáõ½³ñÏáõÃÛ³Ý Ï³ï³ñÙ³Ý Ù³ëÇÝ ÙÇçÝáñ¹áõÃÛáõÝÝ»ñ | E11: 1 | H11: 1 | K11: 1 | T11: =D11+E11 -> 1 | U11: =F11+K11+L11 -> 1 | V11: =K11 -> 1 | W11: =G11+H11+I11+J11 -> 1
A12: 6 | B12: µ³ÝÏ³ÛÇÝ, ³å³Ñáí³·ñ³Ï³Ý, Ýáï³ñ³Ï³Ý ·³ÕïÝÇù Ï³½ÙáÕ ï»Õ»ÏáõÃÛáõÝÝ»ñÇ ëï³óÙ³Ý Ñ³Ù³ñ Ëáõ½³ñÏáõÃÛ³Ý Ï³Ù ³é·ñ³íÙ³Ý Ï³ï³ñÙ³Ý Ù³ëÇÝ ÙÇçÝáñ¹áõÃÛáõÝÝ»ñ | T12: =D12+E12 -> 0 | U12: =F12+K12+L12 -> 0 | V12: =K12 -> 0 | W12: =G12+H12+I12+J12 -> 0
A13: 7 | B13: Ý³Ù³Ï³·ñáõÃÛ³Ý, Ñ»é³·ñ³Ï³Ý, ÷áuï³ÛÇÝ Ñ³Õáñ¹áõÙÝ»ñÇ ÑëÏáÕáõÃÛ³Ý Ù³ëÇÝ ÙÇçÝáñ¹áõÃÛáõÝÝ»ñ | T13: =D13+E13 -> 0 | U13: =F13+K13+L13 -> 0 | V13: =K13 -> 0 | W13: =G13+H13+I13+J13 -> 0
A14: 8 | B14: Ñ»é³Ëáu³ÛÇÝ Ï³Ù Ï³åÇ ³ÛÉ ÙÇçáóÝ»ñáí ï³ñíáÕ Ëáu³ÏóáõÃÛáõÝÝ»ñÇ ÉuÙ³Ý ¨ Ó³ÛÝ³·ñ³éÙ³Ý Ù³ëÇÝ ÙÇçÝáñ¹áõÃÛáõÝÝ»ñ | T14: =D14+E14 -> 0 | U14: =F14+K14+L14 -> 0 | V14: =K14 -> 0 | W14: =G14+H14+I14+J14 -> 0
A15: 9 | B15: Ñ»é³ËáëÝ»ñÇ Ùáõïù³ÛÇÝ ¨ »Éù³ÛÇÝ í»ñÍ³ÝÙ³Ý ÃáõÛÉïíáõÃÛáõÝ ëï³Ý³Éáõ Ù³ëÇÝ ÙÇçÝáñ¹áõÃÛáõÝÝ»ñ | E15: 1 | H15: 1 | K15: 1 | T15: =D15+E15 -> 1 | U15: =F15+K15+L15 -> 1 | V15: =K15 -> 1 | W15: =G15+H15+I15+J15 -> 1
A16: 10 | B16: Ñ»ï³ùÝÝáõÃÛ³Ý Ù³ñÙÝÇ ³ßË³ïáÕÇ, ùÝÝÇãÇ, ¹³ï³Ë³½Ç oå»ñ³ïÇí-Ñ»ï³Ëáõ½³Ï³Ý ·áñÍáÕáõÃÛáõÝÝ»ñ Çñ³Ï³Ý³óÝáÕ Ù³ñÙÇÝÝ»ñÇ ³ÝoñÇÝ³Ï³Ý ¨ ³ÝÑÇÙÝ áñáßáõÙÝ»ñÇ ¨ ·áñÍáÕáõÃÛáõÝÝ»ñÇ ¹»Ù µáÕáùÝ»ñ | T16: =D16+E16 -> 0 | U16: =F16+K16+L16 -> 0 | V16: =K16 -> 0 | W16: =G16+H16+I16+J16 -> 0
A17: 2. ¸³ï³Ï³Ý ³Ïï»ñÇ ¨ ¹³ï³Ï³Ý Ñ³ÝÓÝ³ñ³ñáõÃÛáõÝÝ»ñÇ Ï³ï³ñÙ³Ý Ñ»ï Ï³åí³Í Ñ³ñó»ñÇ ÉáõÍÙ³Ý áÉáñï
A18: 1 | B18: å³ïÅÇó å³ÛÙ³Ý³Ï³Ý í³Õ³Å³ÙÏ»ï ³½³ï»Éáõ Ù³ëÇÝ ÙÇçÝáñ¹áõÃÛáõÝÝ»ñ | T18: =J18+K18 -> 0 | U18: =F18+K18+L18 -> 0 | V18: =P18 -> 0 | W18: =L18+M18+N18+O18 -> 0
A19: 2 | B19: å³ïÇÅÁ ÷á÷áË»Éáõ, Ñ»ï³Ó·»Éáõ ¨ å³ïÅÇó ³½³ï»Éáõ Ù³uÇÝ ÙÇçÝáñ¹áõÃÛáõÝÝ»ñ | T19: =J19+K19 -> 0 | U19: =F19+K19+L19 -> 0 | V19: =P19 -> 0 | W19: =L19+M19+N19+O19 -> 0
A20: 3 | B20: Ñ³ñÏ³¹Çñ µáõÅÙ³Ý ï»ë³ÏÇ ÷á÷áËáõÃÛ³Ý Ù³ëÇÝ ÙÇçÝáñ¹áõÃÛáõÝÝ»ñ | T20: =J20+K20 -> 0 | U20: =F20+K20+L20 -> 0 | V20: =P20 -> 0 | W20: =L20+M20+N20+O20 -> 0
A21: 4 | B21: ³ÛÉ ÙÇçÝáñ¹áõÃÛáõÝÝ»ñ | T21: =J21+K21 -> 0 | U21: =F21+K21+L21 -> 0 | V21: =P21 -> 0 | W21: =L21+M21+N21+O21 -> 0
A22: 5 | B22: ¹³ï³Ï³Ý Ñ³ÝÓÝ³ñ³ñáõÃÛáõÝÝ»ñ | T22: =J22+K22 -> 0 | U22: =F22+K22+L22 -> 0 | V22: =P22 -> 0 | W22: =L22+M22+N22+O22 -> 0
A23: ÀÜ¸²ØºÜÀ | D23: =D7+D8+D9+D10+D11+D12+D13+D14+D15+D16+D18+D19+D20+D21+D22 -> 0 | E23: =E7+E8+E9+E10+E11+E12+E13+E14+E15+E16+E18+E19+E20+E21+E22 -> 11 | F23: =F7+F8+F9+F10+F11+F12+F13+F14+F15+F16+F18+F19+F20+F21+F22 -> 0 | G23: =G7+G8+G9+G10+G11+G12+G13+G14+G15+G16+G18+G19+G20+G21+G22 -> 2 | H23: =H7+H8+H9+H10+H11+H12+H13+H14+H15+H16+H18+H19+H20+H21+H22 -> 8 | I23: =I7+I8+I9+I10+I11+I12+I13+I14+I15+I16+I18+I19+I20+I21+I22 -> 1 | J23: =J7+J8+J9+J10+J11+J12+J13+J14+J15+J16+J18+J19+J20+J21+J22 -> 0 | K23: =K7+K8+K9+K10+K11+K12+K13+K14+K15+K16+K18+K19+K20+K21+K22 -> 11 | ... R23: =R7+R8+R9+R10+R11+R12+R13+R14+R15+R16+R18+R19+R20+R21+R22 -> 4 | T23: =SUM(T7:T16,T18:T22) -> 11 | U23: =F23+K23+L23 -> 11 | V23: =SUM(V7:V16,V18:V22) -> 11 | W23: =SUM(W7:W16,W18:W22) -> 11

Sheet Ռ. Մելքոնյան
A1: 2016Ã. 1-ԻՆ ԿԻՍԱՄՅԱԿ | D1: Ð²ÞìºîìàôÂÚàôÜ | P1: Ð³í»Éí³Í Ð³Û³ëï³ÝÇ Ð³Ýñ³å»ïáõÃÛ³Ý ¸³ï³ñ³ÝÝ»ñÇ Ý³Ë³·³ÑÝ»ñÇ ËáñÑñ¹Ç 25.08.2016Ã. ÃÇí 44-È áñáßÙ³Ý
A2: ØÇÝã¹³ï³Ï³Ý í³ñáõÛÃÇ ÝÏ³ïÙ³Ùµ ¹³ï³Ï³Ý í»ñ³ÑëÏáÕáõÃÛ³ÝÁ, ¹³ï³Ï³Ý ³Ïï»ñÇ ¨ ¹³ï³Ï³Ý Ñ³ÝÓÝ³ñ³ñáõÃÛáõÝÝ»ñÇ Ï³ï³ñÙ³Ý Ñ»ï Ï³åí³Í ÙÇçÝáñ¹áõÃÛáõÝÝ»ñÇ í»ñ³µ»ñÛ³É ¹³ï³Ï³Ý ·áñÍ»ñáí ÐÐ î³íáõßÇ Ù³ñ½Ç ÁÝ¹Ñ³Ýáõñ Çñ³í³ëáõÃÛ³Ý ³é³çÇÝ ³ïÛ³ÝÇ ¹³ï³ñ³ÝÇ ¹³ï³íáñ Ռ. Մելքոնյանի ·áñÍáõÝ»áõÃÛ³Ý í»ñ³µ»ñÛ³É
A3: êïáõ·Çã Ñ³í³ë³ñáõÙ` 1+2=3+8+9, 8=4+5+6+7, | D3: Ð³ßí»ïáõ Å³Ù³Ý³Ï³Ñ³ïí³ÍÇ ëÏ½µáõÙ Ý³Ëáñ¹ Ñ³ßí»ïáõ Å³Ù³Ý³Ï³Ñ³ïí³ÍÇó ÷áË³Ýóí³Í ·áñÍ»ñÇ ÁÝ¹Ñ³Ýáõñ ÃÇíÁ | E3: Ð³ßí»ïáõ Å³Ù³Ý³Ï³Ñ³ïí³ÍáõÙ ëï³óí³Í ·áñÍ»ñÇ ÁÝ¹Ñ³Ýáõñ ÃÇíÁ | F3: öáË³Ýóí»É ¿ ³ÛÉ ¹³ï³íáñÇ Ï³Ù ³ÛÉ ¹³ï³ñ³Ý (Ï³½ÙÇ ÷á÷áËáõÃÛáõÝ, ÁÝ¹¹³ïáõÃÛáõÝ) | G3: Ð³ßí»ïáõ Å³Ù³Ý³Ï³Ñ³ïí³ÍáõÙ ³í³ñïí³Í ·áñÍ»ñÇ ÁÝ¹Ñ³Ýáõñ ÃÇíÁ | L3: Ð³ßí»ïáõ Å³Ù³Ý³Ï³Ñ³ïí³ÍáõÙ ³Ý³í³ñï ·áñÍ»ñÇ ÁÝ¹Ñ³Ýáõñ ÃÇíÁ | M3: ØÇçÝáñ¹áõÃÛáõÝÝ»ñáí Ï³Û³óí³Í ¹³ï³Ï³Ý ³Ïï»ñÇó µáÕáù³ñÏí³ÍÝ»ñÇ ù³Ý³ÏÁ | O3: ²Ý³í³ñï µáÕáùÝ»ñ | P3: ØÇçÝáñ¹áõÃÛáõÝÝ»ñáí Ï³Û³óí³Í ¨ µáÕáù³ñÏí³Í ¹³ï³Ï³Ý ³Ïï»ñÇó µ»Ï³Ýí³ÍÝ»ñÇ ù³Ý³ÏÁ | R3: ÙÇçÝáñ¹áõÃÛáõÝÝ»ñáí Ï³Û³óí³Í ¨ µáÕáù³ñÏí³Í ¹³ï³Ï³Ý ³Ïï»ñÇó ³Ý÷á÷áË ÃáÕÝí³ÍÝ»ñÇ ù³Ý³ÏÁ
G4: Ù»ñÅí»É ¿ | H4: µ³í³ñ³ñí»É ¿ | I4: µ³í³ñ³ñí»É ¿ Ù³ëÝ³ÏÇ | J4: ÃáÕÝí»É ¿ ³é³Ýó ùÝÝáõÃÛ³Ý | K4: ÀÝ¹³Ù»ÝÁ
M5: Ý³Ëáñ¹ ï³ñÇÝ»ñÇÝ Ï³Û³óí³Í ³Ïï»ñÇ ¹»Ù | N5: Ñ³ßí»ïáõ Å³Ù³Ý³Ï³ßñç³ÝáõÙ Ï³Û³óí³Í ³Ïï»ñÇ ¹»Ù | P5: Ý³Ëáñ¹ ï³ñÇÝ»ñÇÝ Ï³Û³óí³Í ³Ïï»ñÇ µ»Ï³ÝáõÙÝ»ñÁ | Q5: Ñ³ßí»ïáõ Å³Ù³Ý³Ï³ßñç³ÝáõÙ Ï³Û³óí³Í ³Ïï»ñÇ µ»Ï³ÝáõÙÝ»ñÁ
A6: 1. ØÇÝã¹³ï³Ï³Ý í³ñáõÛÃÇ ÝÏ³ïÙ³Ùµ ¹³ï³Ï³Ý í»ñ³ÑëÏáÕáõÃÛ³Ý áÉáñï | D6: 1 | E6: 2 | F6: 3 | G6: 4 | H6: 5 | I6: 6 | J6: 7 | K6: 8 | L6: 9 | M6: 10 | N6: 11 | O6: 12 | P6: 13 | Q6: 14 | R6: 15 | T6: 1+2=3+8+9 | V6: 8=4+5+6+7
A7: 1 | B7: Ï³É³ÝùÁ áñå»ë Ë³÷³ÝÙ³Ý ÙÇçáó ÏÇñ³é»Éáõ Ù³ëÇÝ ÙÇçÝáñ¹áõÃÛáõÝÝ»ñ | E7: 10 | G7: 3 | H7: 7 | K7: 10 | N7: 3 | O7: 2 | R7: 1 | T7: =D7+E7 -> 10 | U7: =F7+K7+L7 -> 10 | V7: =K7 -> 10 | W7: =G7+H7+I7+J7 -> 10
A8: 2 | B8: Ï³É³ÝùÇ Å³ÙÏ»ïÁ »ñÏ³ñ³óÝ»Éáõ Ù³ëÇÝ ÙÇçÝáñ¹áõÃÛáõÝÝ»ñ | E8: 16 | G8: 1 | H8: 13 | I8: 2 | K8: 16 | N8: 8 | O8: 5 | R8: 3 | T8: =D8+E8 -> 16 | U8: =F8+K8+L8 -> 16 | V8: =K8 -> 16 | W8: =G8+H8+I8+J8 -> 16
A9: 3 | B9: Ï³É³ÝùÇ í»ñ³Ñ³ëï³ïÙ³Ý Ù³ëÇÝ ÙÇçÝáñ¹áõÃÛáõÝÝ»ñ | E9: 2 | H9: 2 | K9: 2 | N9: 1 | Q9: 1 | T9: =D9+E9 -> 2 | U9: =F9+K9+L9 -> 2 | V9: =K9 -> 2 | W9: =G9+H9+I9+J9 -> 2
A10: 4 | B10: ·ñ³íÁ áñå»ë Ï³É³Ý³íáñÙ³Ý ³ÛÉÁÝïñ³Ýù³ÛÇÝ Ë³÷³ÝÙ³Ý ÙÇçáó ÏÇñ³é»Éáõ Ù³ëÇÝ ÙÇçÝáñ¹áõÃÛáõÝÝ»ñ | T10: =D10+E10 -> 0 | U10: =F10+K10+L10 -> 0 | V10: =K10 -> 0 | W10: =G10+H10+I10+J10 -> 0
A11: 5 | B11: Ëáõ½³ñÏáõÃÛ³Ý Ï³ï³ñÙ³Ý Ù³ëÇÝ ÙÇçÝáñ¹áõÃÛáõÝÝ»ñ | E11: 28 | H11: 27 | I11: 1 | K11: 28 | T11: =D11+E11 -> 28 | U11: =F11+K11+L11 -> 28 | V11: =K11 -> 28 | W11: =G11+H11+I11+J11 -> 28
A12: 6 | B12: µ³ÝÏ³ÛÇÝ, ³å³Ñáí³·ñ³Ï³Ý, Ýáï³ñ³Ï³Ý ·³ÕïÝÇù Ï³½ÙáÕ ï»Õ»ÏáõÃÛáõÝÝ»ñÇ ëï³óÙ³Ý Ñ³Ù³ñ Ëáõ½³ñÏáõÃÛ³Ý Ï³Ù ³é·ñ³íÙ³Ý Ï³ï³ñÙ³Ý Ù³ëÇÝ ÙÇçÝáñ¹áõÃÛáõÝÝ»ñ | T12: =D12+E12 -> 0 | U12: =F12+K12+L12 -> 0 | V12: =K12 -> 0 | W12: =G12+H12+I12+J12 -> 0
A13: 7 | B13: Ý³Ù³Ï³·ñáõÃÛ³Ý, Ñ»é³·ñ³Ï³Ý, ÷áuï³ÛÇÝ Ñ³Õáñ¹áõÙÝ»ñÇ ÑëÏáÕáõÃÛ³Ý Ù³ëÇÝ ÙÇçÝáñ¹áõÃÛáõÝÝ»ñ | T13: =D13+E13 -> 0 | U13: =F13+K13+L13 -> 0 | V13: =K13 -> 0 | W13: =G13+H13+I13+J13 -> 0
A14: 8 | B14: Ñ»é³Ëáu³ÛÇÝ Ï³Ù Ï³åÇ ³ÛÉ ÙÇçáóÝ»ñáí ï³ñíáÕ Ëáu³ÏóáõÃÛáõÝÝ»ñÇ ÉuÙ³Ý ¨ Ó³ÛÝ³·ñ³éÙ³Ý Ù³ëÇÝ ÙÇçÝáñ¹áõÃÛáõÝÝ»ñ | T14: =D14+E14 -> 0 | U14: =F14+K14+L14 -> 0 | V14: =K14 -> 0 | W14: =G14+H14+I14+J14 -> 0
A15: 9 | B15: Ñ»é³ËáëÝ»ñÇ Ùáõïù³ÛÇÝ ¨ »Éù³ÛÇÝ í»ñÍ³ÝÙ³Ý ÃáõÛÉïíáõÃÛáõÝ ëï³Ý³Éáõ Ù³ëÇÝ ÙÇçÝáñ¹áõÃÛáõÝÝ»ñ | E15: 32 | G15: 1 | H15: 31 | K15: 32 | N15: 1 | Q15: 1 | T15: =D15+E15 -> 32 | U15: =F15+K15+L15 -> 32 | V15: =K15 -> 32 | W15: =G15+H15+I15+J15 -> 32
A16: 10 | B16: Ñ»ï³ùÝÝáõÃÛ³Ý Ù³ñÙÝÇ ³ßË³ïáÕÇ, ùÝÝÇãÇ, ¹³ï³Ë³½Ç oå»ñ³ïÇí-Ñ»ï³Ëáõ½³Ï³Ý ·áñÍáÕáõÃÛáõÝÝ»ñ Çñ³Ï³Ý³óÝáÕ Ù³ñÙÇÝÝ»ñÇ ³ÝoñÇÝ³Ï³Ý ¨ ³ÝÑÇÙÝ áñáßáõÙÝ»ñÇ ¨ ·áñÍáÕáõÃÛáõÝÝ»ñÇ ¹»Ù µáÕáùÝ»ñ | D16: 1 | E16: 3 | G16: 3 | I16: 1 | K16: 4 | N16: 3 | O16: 3 | T16: =D16+E16 -> 4 | U16: =F16+K16+L16 -> 4 | V16: =K16 -> 4 | W16: =G16+H16+I16+J16 -> 4
A17: 2. ¸³ï³Ï³Ý ³Ïï»ñÇ ¨ ¹³ï³Ï³Ý Ñ³ÝÓÝ³ñ³ñáõÃÛáõÝÝ»ñÇ Ï³ï³ñÙ³Ý Ñ»ï Ï³åí³Í Ñ³ñó»ñÇ ÉáõÍÙ³Ý áÉáñï
A18: 1 | B18: å³ïÅÇó å³ÛÙ³Ý³Ï³Ý í³Õ³Å³ÙÏ»ï ³½³ï»Éáõ Ù³ëÇÝ ÙÇçÝáñ¹áõÃÛáõÝÝ»ñ | T18: =J18+K18 -> 0 | U18: =F18+K18+L18 -> 0 | V18: =P18 -> 0 | W18: =L18+M18+N18+O18 -> 0
A19: 2 | B19: å³ïÇÅÁ ÷á÷áË»Éáõ, Ñ»ï³Ó·»Éáõ ¨ å³ïÅÇó ³½³ï»Éáõ Ù³uÇÝ ÙÇçÝáñ¹áõÃÛáõÝÝ»ñ | E19: 2 | G19: 1 | I19: 1 | K19: 2 | T19: =J19+K19 -> 2 | U19: =F19+K19+L19 -> 2 | V19: =P19 -> 0 | W19: =L19+M19+N19+O19 -> 0
A20: 3 | B20: Ñ³ñÏ³¹Çñ µáõÅÙ³Ý ï»ë³ÏÇ ÷á÷áËáõÃÛ³Ý Ù³ëÇÝ ÙÇçÝáñ¹áõÃÛáõÝÝ»ñ | T20: =J20+K20 -> 0 | U20: =F20+K20+L20 -> 0 | V20: =P20 -> 0 | W20: =L20+M20+N20+O20 -> 0
A21: 4 | B21: ³ÛÉ ÙÇçÝáñ¹áõÃÛáõÝÝ»ñ | E21: 5 | G21: 1 | H21: 4 | K21: 5 | T21: =J21+K21 -> 5 | U21: =F21+K21+L21 -> 5 | V21: =P21 -> 0 | W21: =L21+M21+N21+O21 -> 0
A22: 5 | B22: ¹³ï³Ï³Ý Ñ³ÝÓÝ³ñ³ñáõÃÛáõÝÝ»ñ | T22: =J22+K22 -> 0 | U22: =F22+K22+L22 -> 0 | V22: =P22 -> 0 | W22: =L22+M22+N22+O22 -> 0
A23: ÀÜ¸²ØºÜÀ | D23: =D7+D8+D9+D10+D11+D12+D13+D14+D15+D16+D18+D19+D20+D21+D22 -> 1 | E23: =E7+E8+E9+E10+E11+E12+E13+E14+E15+E16+E18+E19+E20+E21+E22 -> 98 | F23: =F7+F8+F9+F10+F11+F12+F13+F14+F15+F16+F18+F19+F20+F21+F22 -> 0 | G23: =G7+G8+G9+G10+G11+G12+G13+G14+G15+G16+G18+G19+G20+G21+G22 -> 10 | H23: =H7+H8+H9+H10+H11+H12+H13+H14+H15+H16+H18+H19+H20+H21+H22 -> 84 | I23: =I7+I8+I9+I10+I11+I12+I13+I14+I15+I16+I18+I19+I20+I21+I22 -> 5 | J23: =J7+J8+J9+J10+J11+J12+J13+J14+J15+J16+J18+J19+J20+J21+J22 -> 0 | K23: =K7+K8+K9+K10+K11+K12+K13+K14+K15+K16+K18+K19+K20+K21+K22 -> 99 | ... R23: =R7+R8+R9+R10+R11+R12+R13+R14+R15+R16+R18+R19+R20+R21+R22 -> 4 | T23: =SUM(T7:T16,T18:T22) -> 99 | U23: =F23+K23+L23 -> 99 | V23: =SUM(V7:V16,V18:V22) -> 92 | W23: =SUM(W7:W16,W18:W22) -> 92

Sheet Զ. Զաքինյան
A1: 2016Ã. 1-ԻՆ ԿԻՍԱՄՅԱԿ | D1: Ð²ÞìºîìàôÂÚàôÜ | P1: Ð³í»Éí³Í Ð³Û³ëï³ÝÇ Ð³Ýñ³å»ïáõÃÛ³Ý ¸³ï³ñ³ÝÝ»ñÇ Ý³Ë³·³ÑÝ»ñÇ ËáñÑñ¹Ç 25.08.2016Ã. ÃÇí 44-È áñáßÙ³Ý
A2: ØÇÝã¹³ï³Ï³Ý í³ñáõÛÃÇ ÝÏ³ïÙ³Ùµ ¹³ï³Ï³Ý í»ñ³ÑëÏáÕáõÃÛ³ÝÁ, ¹³ï³Ï³Ý ³Ïï»ñÇ ¨ ¹³ï³Ï³Ý Ñ³ÝÓÝ³ñ³ñáõÃÛáõÝÝ»ñÇ Ï³ï³ñÙ³Ý Ñ»ï Ï³åí³Í ÙÇçÝáñ¹áõÃÛáõÝÝ»ñÇ í»ñ³µ»ñÛ³É ¹³ï³Ï³Ý ·áñÍ»ñáí ÐÐ î³íáõßÇ Ù³ñ½Ç ÁÝ¹Ñ³Ýáõñ Çñ³í³ëáõÃÛ³Ý ³é³çÇÝ ³ïÛ³ÝÇ ¹³ï³ñ³ÝÇ ¹³ï³íáñ Զ. Զաքինյանի ·áñÍáõÝ»áõÃÛ³Ý í»ñ³µ»ñÛ³É
A3: êïáõ·Çã Ñ³í³ë³ñáõÙ` 1+2=3+8+9, 8=4+5+6+7, | D3: Ð³ßí»ïáõ Å³Ù³Ý³Ï³Ñ³ïí³ÍÇ ëÏ½µáõÙ Ý³Ëáñ¹ Ñ³ßí»ïáõ Å³Ù³Ý³Ï³Ñ³ïí³ÍÇó ÷áË³Ýóí³Í ·áñÍ»ñÇ ÁÝ¹Ñ³Ýáõñ ÃÇíÁ | E3: Ð³ßí»ïáõ Å³Ù³Ý³Ï³Ñ³ïí³ÍáõÙ ëï³óí³Í ·áñÍ»ñÇ ÁÝ¹Ñ³Ýáõñ ÃÇíÁ | F3: öáË³Ýóí»É ¿ ³ÛÉ ¹³ï³íáñÇ Ï³Ù ³ÛÉ ¹³ï³ñ³Ý (Ï³½ÙÇ ÷á÷áËáõÃÛáõÝ, ÁÝ¹¹³ïáõÃÛáõÝ) | G3: Ð³ßí»ïáõ Å³Ù³Ý³Ï³Ñ³ïí³ÍáõÙ ³í³ñïí³Í ·áñÍ»ñÇ ÁÝ¹Ñ³Ýáõñ ÃÇíÁ | L3: Ð³ßí»ïáõ Å³Ù³Ý³Ï³Ñ³ïí³ÍáõÙ ³Ý³í³ñï ·áñÍ»ñÇ ÁÝ¹Ñ³Ýáõñ ÃÇíÁ | M3: ØÇçÝáñ¹áõÃÛáõÝÝ»ñáí Ï³Û³óí³Í ¹³ï³Ï³Ý ³Ïï»ñÇó µáÕáù³ñÏí³ÍÝ»ñÇ ù³Ý³ÏÁ | O3: ²Ý³í³ñï µáÕáùÝ»ñ | P3: ØÇçÝáñ¹áõÃÛáõÝÝ»ñáí Ï³Û³óí³Í ¨ µáÕáù³ñÏí³Í ¹³ï³Ï³Ý ³Ïï»ñÇó µ»Ï³Ýí³ÍÝ»ñÇ ù³Ý³ÏÁ | R3: ÙÇçÝáñ¹áõÃÛáõÝÝ»ñáí Ï³Û³óí³Í ¨ µáÕáù³ñÏí³Í ¹³ï³Ï³Ý ³Ïï»ñÇó ³Ý÷á÷áË ÃáÕÝí³ÍÝ»ñÇ ù³Ý³ÏÁ
G4: Ù»ñÅí»É ¿ | H4: µ³í³ñ³ñí»É ¿ | I4: µ³í³ñ³ñí»É ¿ Ù³ëÝ³ÏÇ | J4: ÃáÕÝí»É ¿ ³é³Ýó ùÝÝáõÃÛ³Ý | K4: ÀÝ¹³Ù»ÝÁ
M5: Ý³Ëáñ¹ ï³ñÇÝ»ñÇÝ Ï³Û³óí³Í ³Ïï»ñÇ ¹»Ù | N5: Ñ³ßí»ïáõ Å³Ù³Ý³Ï³ßñç³ÝáõÙ Ï³Û³óí³Í ³Ïï»ñÇ ¹»Ù | P5: Ý³Ëáñ¹ ï³ñÇÝ»ñÇÝ Ï³Û³óí³Í ³Ïï»ñÇ µ»Ï³ÝáõÙÝ»ñÁ | Q5: Ñ³ßí»ïáõ Å³Ù³Ý³Ï³ßñç³ÝáõÙ Ï³Û³óí³Í ³Ïï»ñÇ µ»Ï³ÝáõÙÝ»ñÁ
A6: 1. ØÇÝã¹³ï³Ï³Ý í³ñáõÛÃÇ ÝÏ³ïÙ³Ùµ ¹³ï³Ï³Ý í»ñ³ÑëÏáÕáõÃÛ³Ý áÉáñï | D6: 1 | E6: 2 | F6: 3 | G6: 4 | H6: 5 | I6: 6 | J6: 7 | K6: 8 | L6: 9 | M6: 10 | N6: 11 | O6: 12 | P6: 13 | Q6: 14 | R6: 15 | T6: 1+2=3+8+9 | V6: 8=4+5+6+7
A7: 1 | B7: Ï³É³ÝùÁ áñå»ë Ë³÷³ÝÙ³Ý ÙÇçáó ÏÇñ³é»Éáõ Ù³ëÇÝ ÙÇçÝáñ¹áõÃÛáõÝÝ»ñ | E7: 17 | G7: 4 | H7: 13 | K7: 17 | N7: 2 | R7: 2 | T7: =D7+E7 -> 17 | U7: =F7+K7+L7 -> 17 | V7: =K7 -> 17 | W7: =G7+H7+I7+J7 -> 17
A8: 2 | B8: Ï³É³ÝùÇ Å³ÙÏ»ïÁ »ñÏ³ñ³óÝ»Éáõ Ù³ëÇÝ ÙÇçÝáñ¹áõÃÛáõÝÝ»ñ | D8: 3 | E8: 4 | G8: 1 | H8: 6 | K8: 7 | N8: 3 | R8: 3 | T8: =D8+E8 -> 7 | U8: =F8+K8+L8 -> 7 | V8: =K8 -> 7 | W8: =G8+H8+I8+J8 -> 7
A9: 3 | B9: Ï³É³ÝùÇ í»ñ³Ñ³ëï³ïÙ³Ý Ù³ëÇÝ ÙÇçÝáñ¹áõÃÛáõÝÝ»ñ | E9: 3 | H9: 3 | K9: 3 | T9: =D9+E9 -> 3 | U9: =F9+K9+L9 -> 3 | V9: =K9 -> 3 | W9: =G9+H9+I9+J9 -> 3
A10: 4 | B10: ·ñ³íÁ áñå»ë Ï³É³Ý³íáñÙ³Ý ³ÛÉÁÝïñ³Ýù³ÛÇÝ Ë³÷³ÝÙ³Ý ÙÇçáó ÏÇñ³é»Éáõ Ù³ëÇÝ ÙÇçÝáñ¹áõÃÛáõÝÝ»ñ | T10: =D10+E10 -> 0 | U10: =F10+K10+L10 -> 0 | V10: =K10 -> 0 | W10: =G10+H10+I10+J10 -> 0
A11: 5 | B11: Ëáõ½³ñÏáõÃÛ³Ý Ï³ï³ñÙ³Ý Ù³ëÇÝ ÙÇçÝáñ¹áõÃÛáõÝÝ»ñ | E11: 15 | H11: 15 | K11: 15 | T11: =D11+E11 -> 15 | U11: =F11+K11+L11 -> 15 | V11: =K11 -> 15 | W11: =G11+H11+I11+J11 -> 15
A12: 6 | B12: µ³ÝÏ³ÛÇÝ, ³å³Ñáí³·ñ³Ï³Ý, Ýáï³ñ³Ï³Ý ·³ÕïÝÇù Ï³½ÙáÕ ï»Õ»ÏáõÃÛáõÝÝ»ñÇ ëï³óÙ³Ý Ñ³Ù³ñ Ëáõ½³ñÏáõÃÛ³Ý Ï³Ù ³é·ñ³íÙ³Ý Ï³ï³ñÙ³Ý Ù³ëÇÝ ÙÇçÝáñ¹áõÃÛáõÝÝ»ñ | T12: =D12+E12 -> 0 | U12: =F12+K12+L12 -> 0 | V12: =K12 -> 0 | W12: =G12+H12+I12+J12 -> 0
A13: 7 | B13: Ý³Ù³Ï³·ñáõÃÛ³Ý, Ñ»é³·ñ³Ï³Ý, ÷áuï³ÛÇÝ Ñ³Õáñ¹áõÙÝ»ñÇ ÑëÏáÕáõÃÛ³Ý Ù³ëÇÝ ÙÇçÝáñ¹áõÃÛáõÝÝ»ñ | T13: =D13+E13 -> 0 | U13: =F13+K13+L13 -> 0 | V13: =K13 -> 0 | W13: =G13+H13+I13+J13 -> 0
A14: 8 | B14: Ñ»é³Ëáu³ÛÇÝ Ï³Ù Ï³åÇ ³ÛÉ ÙÇçáóÝ»ñáí ï³ñíáÕ Ëáu³ÏóáõÃÛáõÝÝ»ñÇ ÉuÙ³Ý ¨ Ó³ÛÝ³·ñ³éÙ³Ý Ù³ëÇÝ ÙÇçÝáñ¹áõÃÛáõÝÝ»ñ | E14: 5 | H14: 5 | K14: 5 | T14: =D14+E14 -> 5 | U14: =F14+K14+L14 -> 5 | V14: =K14 -> 5 | W14: =G14+H14+I14+J14 -> 5
A15: 9 | B15: Ñ»é³ËáëÝ»ñÇ Ùáõïù³ÛÇÝ ¨ »Éù³ÛÇÝ í»ñÍ³ÝÙ³Ý ÃáõÛÉïíáõÃÛáõÝ ëï³Ý³Éáõ Ù³ëÇÝ ÙÇçÝáñ¹áõÃÛáõÝÝ»ñ | T15: =D15+E15 -> 0 | U15: =F15+K15+L15 -> 0 | V15: =K15 -> 0 | W15: =G15+H15+I15+J15 -> 0
A16: 10 | B16: Ñ»ï³ùÝÝáõÃÛ³Ý Ù³ñÙÝÇ ³ßË³ïáÕÇ, ùÝÝÇãÇ, ¹³ï³Ë³½Ç oå»ñ³ïÇí-Ñ»ï³Ëáõ½³Ï³Ý ·áñÍáÕáõÃÛáõÝÝ»ñ Çñ³Ï³Ý³óÝáÕ Ù³ñÙÇÝÝ»ñÇ ³ÝoñÇÝ³Ï³Ý ¨ ³ÝÑÇÙÝ áñáßáõÙÝ»ñÇ ¨ ·áñÍáÕáõÃÛáõÝÝ»ñÇ ¹»Ù µáÕáùÝ»ñ | E16: 3 | G16: 2 | H16: 1 | K16: 3 | N16: 2 | O16: 2 | T16: =D16+E16 -> 3 | U16: =F16+K16+L16 -> 3 | V16: =K16 -> 3 | W16: =G16+H16+I16+J16 -> 3
A17: 2. ¸³ï³Ï³Ý ³Ïï»ñÇ ¨ ¹³ï³Ï³Ý Ñ³ÝÓÝ³ñ³ñáõÃÛáõÝÝ»ñÇ Ï³ï³ñÙ³Ý Ñ»ï Ï³åí³Í Ñ³ñó»ñÇ ÉáõÍÙ³Ý áÉáñï
A18: 1 | B18: å³ïÅÇó å³ÛÙ³Ý³Ï³Ý í³Õ³Å³ÙÏ»ï ³½³ï»Éáõ Ù³ëÇÝ ÙÇçÝáñ¹áõÃÛáõÝÝ»ñ | T18: =J18+K18 -> 0 | U18: =F18+K18+L18 -> 0 | V18: =P18 -> 0 | W18: =L18+M18+N18+O18 -> 0
A19: 2 | B19: å³ïÇÅÁ ÷á÷áË»Éáõ, Ñ»ï³Ó·»Éáõ ¨ å³ïÅÇó ³½³ï»Éáõ Ù³uÇÝ ÙÇçÝáñ¹áõÃÛáõÝÝ»ñ | T19: =J19+K19 -> 0 | U19: =F19+K19+L19 -> 0 | V19: =P19 -> 0 | W19: =L19+M19+N19+O19 -> 0
A20: 3 | B20: Ñ³ñÏ³¹Çñ µáõÅÙ³Ý ï»ë³ÏÇ ÷á÷áËáõÃÛ³Ý Ù³ëÇÝ ÙÇçÝáñ¹áõÃÛáõÝÝ»ñ | T20: =J20+K20 -> 0 | U20: =F20+K20+L20 -> 0 | V20: =P20 -> 0 | W20: =L20+M20+N20+O20 -> 0
A21: 4 | B21: ³ÛÉ ÙÇçÝáñ¹áõÃÛáõÝÝ»ñ | E21: 2 | H21: 2 | K21: 2 | T21: =J21+K21 -> 2 | U21: =F21+K21+L21 -> 2 | V21: =P21 -> 0 | W21: =L21+M21+N21+O21 -> 0
A22: 5 | B22: ¹³ï³Ï³Ý Ñ³ÝÓÝ³ñ³ñáõÃÛáõÝÝ»ñ | T22: =J22+K22 -> 0 | U22: =F22+K22+L22 -> 0 | V22: =P22 -> 0 | W22: =L22+M22+N22+O22 -> 0
A23: ÀÜ¸²ØºÜÀ | D23: =D7+D8+D9+D10+D11+D12+D13+D14+D15+D16+D18+D19+D20+D21+D22 -> 3 | E23: =E7+E8+E9+E10+E11+E12+E13+E14+E15+E16+E18+E19+E20+E21+E22 -> 49 | F23: =F7+F8+F9+F10+F11+F12+F13+F14+F15+F16+F18+F19+F20+F21+F22 -> 0 | G23: =G7+G8+G9+G10+G11+G12+G13+G14+G15+G16+G18+G19+G20+G21+G22 -> 7 | H23: =H7+H8+H9+H10+H11+H12+H13+H14+H15+H16+H18+H19+H20+H21+H22 -> 45 | I23: =I7+I8+I9+I10+I11+I12+I13+I14+I15+I16+I18+I19+I20+I21+I22 -> 0 | J23: =J7+J8+J9+J10+J11+J12+J13+J14+J15+J16+J18+J19+J20+J21+J22 -> 0 | K23: =K7+K8+K9+K10+K11+K12+K13+K14+K15+K16+K18+K19+K20+K21+K22 -> 52 | ... R23: =R7+R8+R9+R10+R11+R12+R13+R14+R15+R16+R18+R19+R20+R21+R22 -> 5 | T23: =SUM(T7:T16,T18:T22) -> 52 | U23: =F23+K23+L23 -> 52 | V23: =SUM(V7:V16,V18:V22) -> 50 | W23: =SUM(W7:W16,W18:W22) -> 50
