Workbook

Sheet Shirak
B2: Ð²ÞìºîìàôÂÚàôÜ
B4: ÐÐ ՇԻՐԱԿԻ ՄԱՐԶԻ ÀÜ¸Ð²Üàôð Æð²ì²êàôÂÚ²Ü ¸²î²ð²ՆàôØ øðº²Î²Ü ¶àðÌºðÆ øÜÜàôÂÚ²Ü ìºð²´ºðÚ²È
B5: 2009 Ã. ï³ñí³ Ñ³Ù³ñ
B7: êïáõ·Çã Ñ³í³ë³ñáõÙÝ»ñ` 1+2=6+9+10, 6=3+4+5 | E7: ÐÐ ùñ»³Ï³Ý ûñ»Ýë·ñùÇ Ñá¹í³ÍÝ»ñ | F7: ²Ý³í³ñï ·áñÍ»ñÇ ÙÝ³óáñ¹Á Ñ³ßí»ïáõ Å³Ù³Ý³Ï³ßñç³ÝÇ ëÏ½µáõÙ | G7: êï³óí»É »Ý ·áñÍ»ñ Ñ³ßí»ïáõ Å³Ù³Ý³Ï³ßñç³ÝáõÙ | H7: ²í³ñïí»É »Ý ·áñÍ»ñ Ñ³ßí»ïáõ Å³Ù³Ý³Ï³ßñç³ÝáõÙ | L7: úñÇÝ³Ï³Ý áõÅÇ Ù»ç ¿ Ùï»É | M7: ´áÕáù³ñÏí»É ¿ í»ñ³ùÝÝÇã ¹³ï³ñ³Ý | N7: àõÕ³ñÏí»É ¿ Áëï ÁÝ¹¹³ïáõÃÛ³Ý | O7: ²Ý³í³ñï ·áñÍ»ñÇ ÙÝ³óáñ¹Á Ñ³ßí»ïáõ Å³Ù³Ý³Ï³ßñç³ÝÇ í»ñçáõÙ | P7: ²Û¹ ÃíáõÙª Ï³ë»óí³Í
H8: øÝÝí»É ¿ Áëï ¿áõÃÛ³Ý ¨ ¹³ï³í×Çé Ï³Û³óí»É | I8: àñáßáõÙ ¿ Ï³Û³óí»É ùñ»³Ï³Ý ·áñÍÇ í³ñáõÛÃÁ Ï³ñ×»Éáõ ¨ ùñ»³Ï³Ý Ñ»ï³åÝ¹áõÙÁ ¹³¹³ñ»óÝ»Éáõ Ù³ëÇÝ | J8: àñáßáõÙ ¿ Ï³Û³óí»É ³ÝÙ»ÕëáõÝ³ÏÝ»ñÇ ÝÏ³ïÙ³Ùµ µÅßÏ³Ï³Ý µÝáõÛÃÇ Ñ³ñÏ³¹ñ³Ï³Ý ÙÇçáóÝ»ñ ÏÇñ³é»Éáõ Ù³ëÇÝ | K8: ÀÝ¹³Ù»ÝÁ ³í³ñïí»É »Ý ·áñÍ»ñ
F10: 1 | G10: 2 | H10: 3 | I10: 4 | J10: 5 | K10: 6 | L10: 7 | M10: 8 | N10: 9 | O10: 10 | P10: 11
A11: 1 | B11: 1. | C11: ÀÝ¹³Ù»ÝÁ ÏÛ³ÝùÇ ¨ ³éáÕçáõÃÛ³Ý ¹»Ù áõÕÕí³Í Ñ³Ýó³·áñÍáõÃÛáõÝÝ»ñÁ
A12: 0 | B12: 1.1 | C12: êå³ÝáõÃÛáõÝÁ | E12: 104 | F12: 1 | G12: 3 | H12: 2 | I12: 1 | J12: 1 | K12: 4 | L12: 4
A13: 0 | B13: 1.2 | C13: Ðá·»Ï³Ý ËÇëï Ñáõ½ÙáõÝùÇ íÇ×³ÏáõÙ Ï³ï³ñí³Í ëå³ÝáõÃÛáõÝÁ | E13: 105
A14: 0 | B14: 1.3 | C14: Øáñ ÏáÕÙÇó Ýáñ³ÍÇÝ »ñ»Ë³ÛÇ ëå³ÝáõÃÛáõÝÁ | E14: 106
A15: 0 | B15: 1.4 | C15: Ð³Ýó³Ýù Ï³ï³ñ³Í ³ÝÓÇÝ µéÝ»Éáõ Ñ³Ù³ñ ³ÝÑñ³Å»ßï ÙÇçáóÝ»ñÇ ë³ÑÙ³Ý³½³ÝóÙ³Ùµ ëå³ÝáõÃÛáõÝÁ | E15: 107
A16: 0 | B16: 1.5 | C16: ²ÝÑñ³Å»ßï å³ßïå³ÝáõÃÛ³Ý ë³ÑÙ³Ý³½³ÝóÙ³Ùµ ëå³ÝáõÃÛáõÝÁ | E16: 108
A17: 0 | B17: 1.6 | C17: ²Ý½·áõßáõÃÛ³Ùµ Ù³Ñ å³ï×³é»ÉÁ | E17: 109
A18: 0 | B18: 1.7 | C18: ÆÝùÝ³ëå³ÝáõÃÛ³Ý Ñ³ëóÝ»ÉÁ | E18: 110
A19: 0 | B19: 1.8 | C19: ÆÝùÝ³ëå³ÝáõÃÛ³Ý Ñ³Ï»ÉÁ | E19: 111
A20: 0 | B20: 1.9 | C20: ¸Çï³íáñáõÃÛ³Ùµ ³éáÕçáõÃÛ³ÝÁ Í³Ýñ íÝ³ë å³ï×³é»ÉÁ | E20: 112 | F20: 1 | G20: 11 | H20: 7 | K20: 7 | L20: 3 | M20: 4 | O20: 5 | P20: 1
A21: 0 | B21: 1.10 | C21: ¸Çï³íáñáõÃÛ³Ùµ ³éáÕçáõÃÛ³ÝÁ ÙÇçÇÝ Í³ÝñáõÃÛ³Ý íÝ³ë å³ï×³é»ÉÁ | E21: 113 | G21: 4 | H21: 1 | I21: 2 | K21: 3 | L21: 3 | O21: 1
A22: 0 | B22: 1.11 | C22: Ðá·»Ï³Ý ËÇëï Ñáõ½ÙáõÝùÇ íÇ×³ÏáõÙ ³éáÕçáõÃÛ³ÝÁ Í³Ýñ Ï³Ù ÙÇçÇÝ Í³ÝñáõÃÛ³Ý íÝ³ë å³ï×³é»ÉÁ | E22: 114
A23: 0 | B23: 1.12 | C23: Ð³Ýó³Ýù Ï³ï³ñ³Í ³ÝÓÇÝ µéÝ»Éáõ Ñ³Ù³ñ ³ÝÑñ³Å»ßï ÙÇçáóÝ»ñÇ ë³ÑÙ³Ý½³ÝóÙ³Ùµ ³éáÕçáõÃÛ³ÝÁ Í³Ýñ Ï³Ù ÙÇçÇÝ Í³ÝñáõÃÛ³Ý íÝ³ë å³ï×³é»ÉÁ | E23: 115
A24: 0 | B24: 1.13 | C24: ²éáÕçáõÃÛ³ÝÁ Í³Ýñ Ï³Ù ÙÇçÇÝ Í³ÝñáõÃÛ³Ý íÝ³ë å³ï×³é»ÉÁ ³ÝÑñ³Å»ßï å³ßïå³ÝáõÃÛ³Ý ë³ÑÙ³Ý³Ý³½³ÝóÙ³Ùµ | E24: 116 | G24: 1 | H24: 1 | K24: 1 | L24: 1
A25: 0 | B25: 1.14 | C25: ¸Çï³íáñáõÃÛ³Ùµ ³éáÕçáõÃÛ³ÝÁ Ã»Ã¨ íÝ³ë å³ï×³é»ÉÁ | E25: 117 | G25: 1 | H25: 1 | K25: 1 | L25: 1
A26: 0 | B26: 1.15 | C26: Ì»ÍÁ | E26: 118 | G26: 3 | H26: 2 | I26: 1 | K26: 3 | L26: 3 | M26: 1
A27: 0 | B27: 1.16 | C27: Êáßï³Ý·áõÙÁ | E27: 119
A28: 0 | B28: 1.17 | C28: ²Ý½·áõßáõÃÛ³Ùµ ³éáÕçáõÃÛ³ÝÁ Í³Ýñ íÝ³ë å³ï×³é»ÉÁ | E28: 120
A29: 0 | B29: 1.18 | C29: ²Ý½·áõßáõÃÛ³Ùµ ³éáÕçáõÃÛ³ÝÁ ÙÇçÇÝ Í³ÝñáõÃÛ³Ý íÝ³ë å³ï×³é»ÉÁ | E29: 121
A30: 0 | B30: 1.19 | C30: ²åûñÇÝÇ ³µáñï Ï³ï³ñ»ÉÁ | E30: 122
A31: 0 | B31: 1.20 | C31: Ø³ñ¹áõ ÇÙáõÝ³ÛÇÝ ³Ýµ³í³ñ³ñáõÃÛ³Ý íÇñáõëÇ Ñ³ñáõóÇãáí í³ñ³Ï»ÉÁ | E31: 123
A32: 0 | B32: 1.21 | C32: ì»Ý»ñ³Ï³Ý ÑÇí³Ý¹áõÃÛ³Ùµ Ï³Ù ³ÛÉ ë»é³í³ñ³ÏÝ»ñáí í³ñ³Ï»ÉÁ | E32: 124
A33: 0 | B33: 1.22 | C33: öáËå³ïí³ëïÙ³Ý íÇñ³Ñ³ïáõÃÛáõÝ Ï³ï³ñ»Éáõ Ï³ÝáÝÝ»ñÁ Ë³Ëï»ÉÁ | E33: 125
A34: 0 | B34: 1.23 | C34: Ø³ñÙÝÇ Ù³ë»ñ Ï³Ù ÑÛáõëí³ÍùÝ»ñ ï³ÉáõÝ Ñ³ñÏ³¹ñ»ÉÁ | E34: 126
A35: 0 | B35: 1.24 | C35: ²ÝÓÇÝ ³é³Ýó Çñ Ñ³ÝÓÝ³ñ³ñáõÃÛ³Ý µÅßÏ³Ï³Ý Ï³Ù ·Çï³Ï³Ý ÷áñÓ»ñÇ »ÝÃ³ñÏ»ÉÁ | E35: 127
A36: 0 | B36: 1.25 | C36: ìï³Ý·Ç Ù»ç ÃáÕÝ»ÉÁ | E36: 128
A37: 0 | B37: 1.26 | C37: ÐÇí³Ý¹ÇÝ û·ÝáõÃÛáõÝ óáõÛó ãï³ÉÁ | E37: 129
A38: 0 | B38: 1.27 | C38: ´ÅßÏ³Ï³Ý û·ÝáõÃÛáõÝ ¨ ëå³ë³ñÏáõÙ Çñ³Ï³Ý³óÝáÕÝ»ñÇ ÏáÕÙÇó Ù³ëÝ³·Çï³Ï³Ý å³ñï³Ï³ÝáõÃÛáõÝÝ»ñÁ ãÏ³ï³ñ»ÉÁ Ï³Ù áã å³ïß³× Ï³ï³ñ»ÉÁ | E38: 130 | G38: 1 | H38: 1 | K38: 1 | L38: 1
A39: 1 | B39: 1.28 | C39: ²ÛÉ Ñ³Ýó³·áñÍáõÃÛáõÝÝ»ñ
A40: 0 | B40: 2. | C40: ÀÝ¹³Ù»ÝÁ ³ÝÓÇ ³½³ïáõÃÛ³Ý, å³ïíÇ ¨ ³ñÅ³Ý³å³ïíáõÃÛ³Ý ¹»Ù áõÕÕí³Í Ñ³Ýó³·áñÍáõÃÛáõÝÝ»ñÁ
A41: 0 | B41: 2.1 | C41: Ø³ñ¹áõÝ ³é¨³Ý·»ÉÁ | E41: 131 | G41: 2 | H41: 2 | K41: 2 | L41: 2
B42: 2.2 | C42: Þ³Ñ³·áñÍÙ³Ý Ýå³ï³Ïáí Ù³ñ¹áõÝ Ñ³í³ù³·ñ»ÉÁ, ÷áË³¹ñ»ÉÁ, Ñ³ÝÓÝ»ÉÁ, Ã³ùóÝ»ÉÁ Ï³Ù ëï³Ý³ÉÁ | E42: 132
B43: 2.3 | C43: ²½³ïáõÃÛáõÝÇó ³åûñÇÝÇ ½ñÏ»ÉÁ | E43: 133
B44: 2.4 | C44: Ðá·»µáõÅ³Ï³Ý ÑÇí³Ý¹³ÝáóáõÙ ³åûñÇÝÇ ï»Õ³íáñ»ÉÁ Ï³Ù å³Ñ»ÉÁ | E44: 134
B45: 2.5 | C45: ¼ñå³ñïáõÃÛáõÝÁ | E45: 135
B46: 2.6 | C46: ìÇñ³íáñ³ÝùÁ | E46: 136
A47: 0 | B47: 2.7 | C47: êå³ÝáõÃÛ³Ý, ³éáÕçáõÃÛ³ÝÁ Í³Ýñ íÝ³ë å³ï×³é»Éáõ Ï³Ù ·áõÛù áãÝã³óÝ»Éáõ ëå³éÝ³ÉÇùÁ | E47: 137 | G47: 2 | H47: 2 | K47: 2 | L47: 2
A48: 0 | B48: 2.8 | C48: ²ÛÉ Ñ³Ýó³·áñÍáõÃÛáõÝÝ»ñ
B49: 3. | C49: ÀÝ¹³Ù»ÝÁ ë»é³Ï³Ý ³ÝÓ»éÝÙË»ÉÇáõÃÛ³Ý ¨ ë»é³Ï³Ý ³½³ïáõÃÛ³Ý ¹»Ù áõÕÕí³Í Ñ³Ýó³·áñÍáõÃÛáõÝÝ»ñÁ
A50: 0 | B50: 3.1 | C50: ´éÝ³µ³ñáõÃÛáõÝÁ | E50: 138
A51: 0 | B51: 3.2 | C51: ê»ùëáõ³É µÝáõÛÃÇ µéÝÇ ·áñÍáÕáõÃÛáõÝÝ»ñÁ | E51: 139
B52: 3.3 | C52: ê»ùëáõ³É µÝáõÛÃÇ ·áñÍáÕáõÃÛáõÝÝ»ñÇÝ Ñ³ñÏ³¹ñ»ÉÁ | E52: 140
B53: 3.4 | C53: ê»ùëáõ³É µÝáõÛÃÇ ·áñÍáÕáõÃÛáõÝÝ»ñ Ï³ï³ñ»ÉÁ ï³ëÝí»ó ï³ñÇÝ ãÉñ³ó³Í ³ÝÓÇ Ñ»ï | E53: 141
B54: 3.5 | C54: ²Ý³é³Ï³µ³ñá ·áñÍáÕáõÃÛáõÝÝ»ñÁ | E54: 142
B55: 3.6 | C55: ²ÛÉ Ñ³Ýó³·áñÍáõÃÛáõÝÝ»ñ
B56: 4. | C56: ÀÝ¹³Ù»ÝÁ Ù³ñ¹áõ ¨ ù³Õ³ù³óáõ ë³ÑÙ³Ý³¹ñ³Ï³Ý Çñ³íáõÝùÝ»ñÇ ¨ ³½³ïáõÃÛáõÝÝ»ñÇ ¹»Ù áõÕÕí³Í Ñ³Ýó³·áñÍáõÃÛáõÝÝ»ñÁ
B57: 4.1 | C57: ø³Õ³ù³óÇÝ»ñÇ Çñ³í³Ñ³í³ë³ñáõÃÛáõÝÁ Ë³Ëï»ÉÁ | E57: 143
B58: 4.2 | C58: ²ÝÓÝ³Ï³Ý Ï³Ù ÁÝï³Ý»Ï³Ý ÏÛ³ÝùÇ Ù³ëÇÝ ï»Õ»ÏáõÃÛáõÝÝ»ñ ³åûñÇÝÇ Ñ³í³ù»ÉÁ, å³Ñ»ÉÁ, û·ï³·áñÍ»ÉÁ Ï³Ù ï³ñ³Í»ÉÁ | E58: 144
B59: 4.3 | C59: ´ÅßÏ³Ï³Ý ·³ÕïÝÇùÁ Ññ³å³ñ³Ï»ÉÁ | E59: 145
B60: 4.4 | C60: Ü³Ù³Ï³·ñáõÃÛ³Ý, Ñ»é³Ëáë³ÛÇÝ Ëáë³ÏóáõÃÛáõÝÝ»ñÇ, ÷áëï³ÛÇÝ, Ñ»é³·ñ³Ï³Ý Ï³Ù ³ÛÉ Ñ³Õáñ¹áõÙÝ»ñÇ ·³ÕïÝÇáõÃÛáõÝÁ Ë³Ëï»ÉÁ | E60: 146
B61: 4.5 | C61: ´Ý³Ï³ñ³ÝÇ ³ÝÓ»éÝÙË»ÉÇáõÃÛáõÝÁ Ë³Ëï»ÉÁ | E61: 147
B62: 4.6 | C62: ²ÝÓÇÝ ï»Õ»ÏáõÃÛáõÝ Ý»ñÏ³Û³óÝ»Éáõó Ññ³Å³ñí»ÉÁ | E62: 148
B63: 4.7 | C63: ÀÝïñ³Ï³Ý Çñ³íáõÝùÇ Çñ³Ï³Ý³óÙ³ÝÁ, ÁÝïñ³Ï³Ý Ñ³ÝÓÝ³ÅáÕáíÝ»ñÇ ³ßË³ï³ÝùÝ»ñÇÝ Ï³Ù ÁÝïñáõÃÛ³ÝÁ Ù³ëÝ³ÏóáÕ ³ÝÓ³Ýó ÉÇ³½áñáõÃÛáõÝÝ»ñÇ Çñ³Ï³Ý³óÙ³ÝÁ ËáãÁÝ¹áï»ÉÁ | E63: 149
B64: 4.8 | C64: ÀÝïñáõÃÛáõÝÝ»ñÇ Ï³Ù ùí»³ñÏáõÃÛ³Ý ³ñ¹ÛáõÝùÝ»ñÁ Ï»ÕÍ»ÉÁ | E64: 150
B65: 4.9 | C65: ÀÝïñáõÃÛáõÝÝ»ñÇ ³ÝóÏ³óÙ³Ý ÁÝÃ³óùáõÙ Ã»ÏÝ³ÍáõÇ, Ïáõë³ÏóáõÃÛ³Ý (Ïáõë³ÏóáõÃÛáõÝÝ»ñÇ ¹³ßÇÝùÇ) í»ñ³µ»ñÛ³É ½ñå³ñïã³Ï³Ý ï»Õ»ÏáõÃÛáõÝÝ»ñ ï³ñ³Í»ÉÁ | E65: 151
B66: 4.10 | C66: ÀÝïñáÕÝ»ñÇ óáõó³ÏÝ»ñÁ Ï³½Ù»Éáõ Ï³ñ·Á Ë³Ëï»ÉÁ | E66: 152
B67: 4.11 | C67: Ø»ÏÇó ³í»ÉÇ ³Ý·³Ù Ï³Ù ³ÛÉ ³ÝÓÇ ÷áË³ñ»Ý ùí»³ñÏ»ÉÁ | E67: 153
A68: 0 | B68: 4.12 | C68: øí»³ñÏáõÃÛ³Ý ·³ÕïÝÇáõÃÛáõÝÁ Ë³Ëï»ÉÁ | E68: 154
B69: 4.13 | C69: Î»ÕÍ ÁÝïñ³Ï³Ý Ã»ñÃÇÏÝ»ñ Ï³Ù ùí»³ñÏáõÃÛ³Ý Íñ³ñÝ»ñ å³ïñ³ëï»ÉÁ Ï³Ù ³ÏÝÑ³Ûï Ï»ÕÍ ÁÝïñ³Ï³Ý ùí»³Ã»ñÃÇÏÝ»ñ Ï³Ù ùí»³ñÏáõÃÛ³Ý Íñ³ñÝ»ñ Ñ³ÝÓÝ»ÉÁ Ï³Ù Çñ³óÝ»ÉÁ | E69: 154.1
B70: 4.14 | C70: ÀÝïñáÕÇ Ï³ÙùÇ ³½³ï Çñ³Ï³Ý³óÙ³ÝÁ ËáãÁÝ¹áï»ÉÁ | E70: 154.2
B71: 4.15 | C71: ÀÝïñ³Ï³Ý Ñ³ÝÓÝ³ÅáÕáíÇ ÏÝÇùÁ ãí»ñ³¹³ñÓÝ»ÉÁ, ÏÝÇùÇ å³Ñå³ÝÙ³Ý ë³ÑÙ³Ýí³Í Ï³ñ·Á Ë³Ëï»ÉÁ | E71: 154.3
B72: 4.16 | C72: ¼»Ýùáíª ï»Õ³Ù³ë³ÛÇÝ Ï»ÝïñáÝ Ùáõïù ·áñÍ»ÉÁ | E72: 154.4
B73: 4.17 | C73: ìëï³Ñí³Í ³ÝÓÇÝ,ÁÝïñ³Ï³Ý Ñ³ÝÓÝ³ÅáÕáíÇ ³Ý¹³ÙÇÝ,¹Çïáñ¹ÇÝ Ï³Ù ½³Ý·í³Í³ÛÇÝ Éñ³ïíáõÃÛ³Ý ÙÇçáóÇ Ý»ñÏ³Û³óáõóãÇÝ ÁÝïñ³Ï³Ý ÷³ëï³ÃÕÃ»ñÇÝ Í³ÝáÃ³Ý³ÉáõÝ ËáãÁÝ¹áï»ÉÁ, ÁÝïñ³Ï³Ý Ñ³ÝÓÝ³ÅáÕáíÇ ³ñÓ³Ý³·ñáõÃÛáõÝÝ»ñÇ å³ï×»ÝÝ»ñ ãï³ÉÁ | E73: 154.5
B74: 4.18 | C74: ¶áñÍ³¹áõÉÇ Ù³ëÝ³Ïó»ÉáõÝ Ï³Ù ·áñÍ³¹áõÉÇ Ù³ëÝ³Ïó»Éáõó Ññ³Å³ñí»ÉáõÝ Ñ³ñÏ³¹ñ»ÉÁ | E74: 155
B75: 4.19 | C75: ÐÕÇ ÏÝáçÁ Ï³Ù ÙÇÝã¨ »ñ»ù ï³ñ»Ï³Ý »ñ»Ë³ áõÝ»óáÕ ³ÝÓÇÝ ³ßË³ï³ÝùÇ ÁÝ¹áõÝ»Éáõõó Ññ³Å³ñí»ÉÁ Ï³Ù ³ßË³ï³ÝùÇó ³ÝÑÇÙÝ ³½³ï»ÉÁ | E75: 156
B76: 4.20 | C76: ²ßË³ï³ÝùÇ å³ßïå³ÝáõÃÛ³Ý Ï³ÝáÝÝ»ñÁ Ë³Ëï»ÉÁ | E76: 157
B77: 4.21 | C77: Ð»ÕÇÝ³Ï³ÛÇÝ ¨ Ñ³ñ³ÏÇó Çñ³íáõÝùÝ»ñÁ Ë³Ëï»ÉÁ | E77: 158
B78: 4.22 | C78: ²ñïáÝ³·ñ³ÛÇÝ Çñ³íáõÝùÁ Ë³Ëï»ÉÁ | E78: 159
B79: 4.23 | C79: ÊÕ×Ç Ï³Ù ¹³í³Ý³ÝùÇ ³½³ïáõÃÛ³Ý Çñ³íáõÝùÇ Çñ³Ï³Ý³óÙ³ÝÁ ËáãÁÝ¹áï»ÉÁ | E79: 160
B80: 4.24 | C80: ØÇ³íáñáõÙÝ»ñ (Ñ³ë³ñ³Ï³Ï³Ý Ï³Ù ³ñÑ»ëï³Ïó³Ï³Ý ÙÇáõÃÛáõÝÝ»ñ) Ï³½Ù»Éáõ Ï³Ù Ïáõë³ÏóáõÃÛáõÝÝ»ñ ëï»ÕÍ»Éáõ Çñ³íáõÝùÇ Çñ³Ï³Ý³óÙ³ÝÁ Ï³Ù ¹ñ³Ýó ·áñÍáÕáõÃÛ³ÝÁ ËáãÁÝ¹áï»ÉÁ | E80: 161
... B83: 4.27 | C83: Èñ³·ñáÕÇ Ù³ëÝ³·Çï³Ï³Ý ûñÇÝ³Ï³Ý ·áñÍáÕáõÃÛ³ÝÁ ËáãÁÝ¹áï»ÉÁ | E83: 164
B84: 4.28 | C84: ²ÛÉ Ñ³Ýó³·áñÍáõÃÛáõÝÝ»ñ
B85: 5. | C85: ÀÝ¹³Ù»ÝÁ ÁÝï³ÝÇùÇ ¨ »ñ»Ë³ÛÇ ß³Ñ»ñÇ ¹»Ù áõÕÕí³Í Ñ³Ýó³·áñÍáõÃÛáõÝÝ»ñÁ
B86: 5.1 | C86: ²Ýã³÷³Ñ³ëÇÝ Ñ³Ýó³ÝùÇ Ï³ï³ñÙ³ÝÁ Ý»ñ·ñ³í»ÉÁ | E86: 165
B87: 5.2 | C87: ºñ»Ë³ÛÇÝ Ñ³Ï³Ñ³ë³ñ³Ï³Ï³Ý ·áñÍáÕáõÃÛáõÝÝ»ñ Ï³ï³ñ»ÉáõÝ Ý»ñ·ñ³í»ÉÁ | E87: 166
B88: 5.3 | C88: ÌÝáÕÝ»ñÇó »ñ»Ë³ÛÇÝ ³åûñÇÝÇ µ³Å³Ý»ÉÁ Ï³Ù »ñ»Ë³ÛÇÝ ÷áË»ÉÁ | E88: 167
B89: 5.4 | C89: ºñ»Ë³ÛÇ ³éù áõ í³×³éùÁ | E89: 168
B90: 5.5 | C90: àñ¹»·ñÙ³Ý ·³ÕïÝÇùÁ Ññ³å³ñ³Ï»ÉÁ Ï³Ù áñ¹»·ñÙ³Ý Ñ³Ù³Ó³ÛÝáõÃÛáõÝ ï³ÉáõÝ Ñ³Ï»ÉÁ Ï³Ù Ñ³ñÏ³¹ñ»ÉÁ | E90: 169
B91: 5.6 | C91: ø³Õ³ù³óÇ³Ï³Ý Ï³óáõÃÛ³Ý ³Ïï»ñÇ ·ñ³ÝóÙ³Ý Ù³ñÙÇÝÝ»ñÇÝ ëáõï ï»Õ»ÏáõÃÛáõÝÝ»ñ Ñ³Õáñ¹»ÉÁ | E91: 169.1
B92: 5.7 | C92: ºñ»Ë³ÛÇÝ ¹³ëïÇ³ñ³Ï»Éáõ å³ñï³Ï³ÝáõÃÛáõÝÁ ãÏ³ï³ñ»ÉÁ | E92: 170
B93: 5.8 | C93: ºñ»Ë³ÛÇ ÏÛ³ÝùÇ ³Ýíï³Ý·áõÃÛ³Ý ³å³ÑáíÙ³Ý Ï³Ù ³éáÕçáõÃÛ³Ý å³Ñå³ÝÙ³Ý å³ñï³Ï³ÝáõÃÛáõÝÁ ãÏ³ï³ñ»ÉÁ Ï³Ù áã å³ïß³× Ï³ï³ñ»ÉÁ | E93: 171
B94: 5.9 | C94: ÊÝ³Ù³Ï³ÉÇ Ï³Ù Ñá·³µ³ñÓáõÇ Çñ³íáõÝùÝ»ñÁ ã³ñ³ß³Ñ»ÉÁ | E94: 172
B95: 5.10 | C95: ÌÝáÕÇ ÏáÕÙÇó »ñ»Ë³ÛÇÝ å³Ñ»Éáõó ã³ñ³Ùïáñ»Ý Ëáõë³÷»ÉÁ | E95: 173
A96: 0 | B96: 5.11 | C96: ¼³í³ÏÇ ÏáÕÙÇó ³Ý³ßË³ïáõÝ³Ï ÍÝáÕÇÝ å³Ñ»Éáõó ã³ñ³Ùïáñ»Ý Ëáõë³÷»ÉÁ | E96: 174
B97: 5.12 | C97: ²ÛÉ Ñ³Ýó³·áñÍáõÃÛáõÝÝ»ñ
B98: 6. | C98: ÀÝ¹³Ù»ÝÁ ë»÷³Ï³ÝáõÃÛ³Ý ¹»Ù áõÕÕí³Í Ñ³Ýó³·áñÍáõÃÛáõÝÝ»ñÁ
B99: 6.1 | C99: ²í³½³ÏáõÃÛáõÝÁ | E99: 175 | G99: 2 | H99: 2 | K99: 2 | L99: 2 | M99: 1
B100: 6.2 | C100: ÎáÕáåáõïÁ | E100: 176 | G100: 2 | H100: 2 | K100: 2 | L100: 2
B101: 6.3 | C101: ¶áÕáõÃÛáõÝÁ | E101: 177 | F101: 3 | G101: 31 | H101: 25 | I101: 3 | J101: 1 | K101: 29 | L101: 28 | M101: 3 | O101: 5 | P101: 2
B102: 6.4 | C102: Ê³ñ¹³ËáõÃÛáõÝÁ | E102: 178 | F102: 1 | G102: 10 | H102: 10 | K102: 10 | L102: 7 | M102: 3 | O102: 1 | P102: 1
B103: 6.5 | C103: Úáõñ³óÝ»ÉÁ Ï³Ù í³ïÝ»ÉÁ | E103: 179 | F103: 1 | G103: 5 | H103: 5 | K103: 5 | L103: 4 | M103: 1 | O103: 1 | P103: 1
B104: 6.6 | C104: ²é³ÝÓÝ³ÏÇ ³ñÅ»ù áõÝ»óáÕ ³é³ñÏ³Ý»ñ Ñ³÷ßï³Ï»ÉÁ | E104: 180
B105: 6.7 | C105: Ð³÷ßï³ÏáõÃÛáõÝÁ, áñÁ Ï³ï³ñí»É ¿ Ñ³Ù³Ï³ñ·ã³ÛÇÝ ï»ËÝÇÏ³ÛÇ û·ï³·áñÍÙ³Ùµ | E105: 181
B106: 6.8 | C106: ÞáñÃáõÙÁ | E106: 182
...

Sheet Ajapnyak
B2: Ð²ÞìºîìàôÂÚàôÜ
B4: ÐÐ ÀÜ¸Ð²Üàôð Æð²ì²êàôÂÚ²Ü ¸²î²ð²ÜÜºðàôØ øðº²Î²Ü ¶àðÌºðÆ øÜÜàôÂÚ²Ü ìºð²´ºðÚ²È
B5: 2009Ã. Ñ³Ù³ñ
B7: êïáõ·Çã Ñ³í³ë³ñáõÙÝ»ñ` 1+2=6+9+10, 6=3+4+5 | E7: ÐÐ ùñ»³Ï³Ý ûñ»Ýë·ñùÇ Ñá¹í³ÍÝ»ñ | F7: ²Ý³í³ñï ·áñÍ»ñÇ ÙÝ³óáñ¹Á Ñ³ßí»ïáõ Å³Ù³Ý³Ï³ßñç³ÝÇ ëÏ½µáõÙ | G7: êï³óí»É »Ý ·áñÍ»ñ Ñ³ßí»ïáõ Å³Ù³Ý³Ï³ßñç³ÝáõÙ | H7: ²í³ñïí»É »Ý ·áñÍ»ñ Ñ³ßí»ïáõ Å³Ù³Ý³Ï³ßñç³ÝáõÙ | L7: úñÇÝ³Ï³Ý áõÅÇ Ù»ç ¿ Ùï»É | M7: ´áÕáù³ñÏí»É ¿ í»ñ³ùÝÝÇã ¹³ï³ñ³Ý | N7: àõÕ³ñÏí»É ¿ Áëï ÁÝ¹¹³ïáõÃÛ³Ý | O7: ²Ý³í³ñï ·áñÍ»ñÇ ÙÝ³óáñ¹Á Ñ³ßí»ïáõ Å³Ù³Ý³Ï³ßñç³ÝÇ í»ñçáõÙ | P7: ²Û¹ ÃíáõÙª Ï³ë»óí³Í
H8: øÝÝí»É ¿ Áëï ¿áõÃÛ³Ý ¨ ¹³ï³í×Çé Ï³Û³óí»É | I8: àñáßáõÙ ¿ Ï³Û³óí»É ùñ»³Ï³Ý ·áñÍÇ í³ñáõÛÃÁ Ï³ñ×»Éáõ ¨ ùñ»³Ï³Ý Ñ»ï³åÝ¹áõÙÁ ¹³¹³ñ»óÝ»Éáõ Ù³ëÇÝ | J8: àñáßáõÙ ¿ Ï³Û³óí»É ³ÝÙ»ÕëáõÝ³ÏÝ»ñÇ ÝÏ³ïÙ³Ùµ µÅßÏ³Ï³Ý µÝáõÛÃÇ Ñ³ñÏ³¹ñ³Ï³Ý ÙÇçáóÝ»ñ ÏÇñ³é»Éáõ Ù³ëÇÝ | K8: ÀÝ¹³Ù»ÝÁ ³í³ñïí»É »Ý ·áñÍ»ñ
F10: 1 | G10: 2 | H10: 3 | I10: 4 | J10: 5 | K10: 6 | L10: 7 | M10: 8 | N10: 9 | O10: 10 | P10: 11
A11: 1 | B11: 1. | C11: ÀÝ¹³Ù»ÝÁ ÏÛ³ÝùÇ ¨ ³éáÕçáõÃÛ³Ý ¹»Ù áõÕÕí³Í Ñ³Ýó³·áñÍáõÃÛáõÝÝ»ñÁ
A12: 0 | B12: 1.1 | C12: êå³ÝáõÃÛáõÝÁ | E12: 104 | F12: 0 | G12: 2 | H12: 0 | I12: 0 | J12: 0 | K12: 0 | L12: 0 | M12: 0 | N12: 0 | O12: 2 | P12: 0
A13: 0 | B13: 1.2 | C13: Ðá·»Ï³Ý ËÇëï Ñáõ½ÙáõÝùÇ íÇ×³ÏáõÙ Ï³ï³ñí³Í ëå³ÝáõÃÛáõÝÁ | E13: 105 | F13: 0 | G13: 0 | H13: 0 | I13: 0 | J13: 0 | K13: 0 | L13: 0 | M13: 0 | N13: 0 | O13: 0 | P13: 0
A14: 0 | B14: 1.3 | C14: Øáñ ÏáÕÙÇó Ýáñ³ÍÇÝ »ñ»Ë³ÛÇ ëå³ÝáõÃÛáõÝÁ | E14: 106 | F14: 0 | G14: 0 | H14: 0 | I14: 0 | J14: 0 | K14: 0 | L14: 0 | M14: 0 | N14: 0 | O14: 0 | P14: 0
A15: 0 | B15: 1.4 | C15: Ð³Ýó³Ýù Ï³ï³ñ³Í ³ÝÓÇÝ µéÝ»Éáõ Ñ³Ù³ñ ³ÝÑñ³Å»ßï ÙÇçáóÝ»ñÇ ë³ÑÙ³Ý³½³ÝóÙ³Ùµ ëå³ÝáõÃÛáõÝÁ | E15: 107 | F15: 0 | G15: 0 | H15: 0 | I15: 0 | J15: 0 | K15: 0 | L15: 0 | M15: 0 | N15: 0 | O15: 0 | P15: 0
A16: 0 | B16: 1.5 | C16: ²ÝÑñ³Å»ßï å³ßïå³ÝáõÃÛ³Ý ë³ÑÙ³Ý³½³ÝóÙ³Ùµ ëå³ÝáõÃÛáõÝÁ | E16: 108 | F16: 0 | G16: 0 | H16: 0 | I16: 0 | J16: 0 | K16: 0 | L16: 0 | M16: 0 | N16: 0 | O16: 0 | P16: 0
A17: 0 | B17: 1.6 | C17: ²Ý½·áõßáõÃÛ³Ùµ Ù³Ñ å³ï×³é»ÉÁ | E17: 109 | F17: 0 | G17: 0 | H17: 0 | I17: 0 | J17: 0 | K17: 0 | L17: 0 | M17: 0 | N17: 0 | O17: 0 | P17: 0
A18: 0 | B18: 1.7 | C18: ÆÝùÝ³ëå³ÝáõÃÛ³Ý Ñ³ëóÝ»ÉÁ | E18: 110 | F18: 0 | G18: 0 | H18: 0 | I18: 0 | J18: 0 | K18: 0 | L18: 0 | M18: 0 | N18: 0 | O18: 0 | P18: 0
A19: 0 | B19: 1.8 | C19: ÆÝùÝ³ëå³ÝáõÃÛ³Ý Ñ³Ï»ÉÁ | E19: 111 | F19: 0 | G19: 0 | H19: 0 | I19: 0 | J19: 0 | K19: 0 | L19: 0 | M19: 0 | N19: 0 | O19: 0 | P19: 0
A20: 0 | B20: 1.9 | C20: ¸Çï³íáñáõÃÛ³Ùµ ³éáÕçáõÃÛ³ÝÁ Í³Ýñ íÝ³ë å³ï×³é»ÉÁ | E20: 112 | F20: 0 | G20: 12 | H20: 11 | I20: 0 | J20: 0 | K20: 11 | L20: 8 | M20: 5 | N20: 0 | O20: 1 | P20: 0
A21: 0 | B21: 1.10 | C21: ¸Çï³íáñáõÃÛ³Ùµ ³éáÕçáõÃÛ³ÝÁ ÙÇçÇÝ Í³ÝñáõÃÛ³Ý íÝ³ë å³ï×³é»ÉÁ | E21: 113 | F21: 1 | G21: 3 | H21: 3 | I21: 0 | J21: 0 | K21: 3 | L21: 2 | M21: 0 | N21: 0 | O21: 1 | P21: 0
A22: 0 | B22: 1.11 | C22: Ðá·»Ï³Ý ËÇëï Ñáõ½ÙáõÝùÇ íÇ×³ÏáõÙ ³éáÕçáõÃÛ³ÝÁ Í³Ýñ Ï³Ù ÙÇçÇÝ Í³ÝñáõÃÛ³Ý íÝ³ë å³ï×³é»ÉÁ | E22: 114 | F22: 0 | G22: 0 | H22: 0 | I22: 0 | J22: 0 | K22: 0 | L22: 0 | M22: 0 | N22: 0 | O22: 0 | P22: 0
A23: 0 | B23: 1.12 | C23: Ð³Ýó³Ýù Ï³ï³ñ³Í ³ÝÓÇÝ µéÝ»Éáõ Ñ³Ù³ñ ³ÝÑñ³Å»ßï ÙÇçáóÝ»ñÇ ë³ÑÙ³Ý½³ÝóÙ³Ùµ ³éáÕçáõÃÛ³ÝÁ Í³Ýñ Ï³Ù ÙÇçÇÝ Í³ÝñáõÃÛ³Ý íÝ³ë å³ï×³é»ÉÁ | E23: 115 | F23: 0 | G23: 0 | H23: 0 | I23: 0 | J23: 0 | K23: 0 | L23: 0 | M23: 0 | N23: 0 | O23: 0 | P23: 0
A24: 0 | B24: 1.13 | C24: ²éáÕçáõÃÛ³ÝÁ Í³Ýñ Ï³Ù ÙÇçÇÝ Í³ÝñáõÃÛ³Ý íÝ³ë å³ï×³é»ÉÁ ³ÝÑñ³Å»ßï å³ßïå³ÝáõÃÛ³Ý ë³ÑÙ³Ý³Ý³½³ÝóÙ³Ùµ | E24: 116 | F24: 1 | G24: 1 | H24: 2 | I24: 0 | J24: 0 | K24: 2 | L24: 2 | M24: 0 | N24: 0 | O24: 0 | P24: 0
A25: 0 | B25: 1.14 | C25: ¸Çï³íáñáõÃÛ³Ùµ ³éáÕçáõÃÛ³ÝÁ Ã»Ã¨ íÝ³ë å³ï×³é»ÉÁ | E25: 117 | F25: 0 | G25: 3 | H25: 2 | I25: 1 | J25: 0 | K25: 3 | L25: 3 | M25: 1 | N25: 0 | O25: 0 | P25: 0
A26: 0 | B26: 1.15 | C26: Ì»ÍÁ | E26: 118 | F26: 0 | G26: 3 | H26: 0 | I26: 1 | J26: 1 | K26: 2 | L26: 1 | M26: 0 | N26: 0 | O26: 1 | P26: 0
A27: 0 | B27: 1.16 | C27: Êáßï³Ý·áõÙÁ | E27: 119 | F27: 0 | G27: 0 | H27: 0 | I27: 0 | J27: 0 | K27: 0 | L27: 0 | M27: 0 | N27: 0 | O27: 0 | P27: 0
A28: 0 | B28: 1.17 | C28: ²Ý½·áõßáõÃÛ³Ùµ ³éáÕçáõÃÛ³ÝÁ Í³Ýñ íÝ³ë å³ï×³é»ÉÁ | E28: 120 | F28: 0 | G28: 0 | H28: 0 | I28: 0 | J28: 0 | K28: 0 | L28: 0 | M28: 0 | N28: 0 | O28: 0 | P28: 0
A29: 0 | B29: 1.18 | C29: ²Ý½·áõßáõÃÛ³Ùµ ³éáÕçáõÃÛ³ÝÁ ÙÇçÇÝ Í³ÝñáõÃÛ³Ý íÝ³ë å³ï×³é»ÉÁ | E29: 121 | F29: 0 | G29: 0 | H29: 0 | I29: 0 | J29: 0 | K29: 0 | L29: 0 | M29: 0 | N29: 0 | O29: 0 | P29: 0
A30: 0 | B30: 1.19 | C30: ²åûñÇÝÇ ³µáñï Ï³ï³ñ»ÉÁ | E30: 122 | F30: 0 | G30: 0 | H30: 0 | I30: 0 | J30: 0 | K30: 0 | L30: 0 | M30: 0 | N30: 0 | O30: 0 | P30: 0
A31: 0 | B31: 1.20 | C31: Ø³ñ¹áõ ÇÙáõÝ³ÛÇÝ ³Ýµ³í³ñ³ñáõÃÛ³Ý íÇñáõëÇ Ñ³ñáõóÇãáí í³ñ³Ï»ÉÁ | E31: 123 | F31: 0 | G31: 0 | H31: 0 | I31: 0 | J31: 0 | K31: 0 | L31: 0 | M31: 0 | N31: 0 | O31: 0 | P31: 0
A32: 0 | B32: 1.21 | C32: ì»Ý»ñ³Ï³Ý ÑÇí³Ý¹áõÃÛ³Ùµ Ï³Ù ³ÛÉ ë»é³í³ñ³ÏÝ»ñáí í³ñ³Ï»ÉÁ | E32: 124 | F32: 0 | G32: 0 | H32: 0 | I32: 0 | J32: 0 | K32: 0 | L32: 0 | M32: 0 | N32: 0 | O32: 0 | P32: 0
... A38: 0 | B38: 1.27 | C38: ´ÅßÏ³Ï³Ý û·ÝáõÃÛáõÝ ¨ ëå³ë³ñÏáõÙ Çñ³Ï³Ý³óÝáÕÝ»ñÇ ÏáÕÙÇó Ù³ëÝ³·Çï³Ï³Ý å³ñï³Ï³ÝáõÃÛáõÝÝ»ñÁ ãÏ³ï³ñ»ÉÁ Ï³Ù áã å³ïß³× Ï³ï³ñ»ÉÁ | E38: 130 | F38: 0 | G38: 0 | H38: 0 | I38: 0 | J38: 0 | K38: 0 | L38: 0 | M38: 0 | N38: 0 | O38: 0 | P38: 0
A39: 1 | B39: 1.28 | C39: ²ÛÉ Ñ³Ýó³·áñÍáõÃÛáõÝÝ»ñ | F39: 1 | G39: 0 | H39: 0 | I39: 0 | J39: 0 | K39: 0 | L39: 0 | M39: 0 | N39: 0 | O39: 1 | P39: 1
A40: 0 | B40: 2. | C40: ÀÝ¹³Ù»ÝÁ ³ÝÓÇ ³½³ïáõÃÛ³Ý, å³ïíÇ ¨ ³ñÅ³Ý³å³ïíáõÃÛ³Ý ¹»Ù áõÕÕí³Í Ñ³Ýó³·áñÍáõÃÛáõÝÝ»ñÁ
A41: 0 | B41: 2.1 | C41: Ø³ñ¹áõÝ ³é¨³Ý·»ÉÁ | E41: 131 | F41: 0 | G41: 0 | H41: 0 | I41: 0 | J41: 0 | K41: 0 | L41: 0 | M41: 0 | N41: 0 | O41: 0 | P41: 0
B42: 2.2 | C42: Þ³Ñ³·áñÍÙ³Ý Ýå³ï³Ïáí Ù³ñ¹áõÝ Ñ³í³ù³·ñ»ÉÁ, ÷áË³¹ñ»ÉÁ, Ñ³ÝÓÝ»ÉÁ, Ã³ùóÝ»ÉÁ Ï³Ù ëï³Ý³ÉÁ | E42: 132 | F42: 0 | G42: 0 | H42: 0 | I42: 0 | J42: 0 | K42: 0 | L42: 0 | M42: 0 | N42: 0 | O42: 0 | P42: 0
B43: 2.3 | C43: ²½³ïáõÃÛáõÝÇó ³åûñÇÝÇ ½ñÏ»ÉÁ | E43: 133 | F43: 0 | G43: 0 | H43: 0 | I43: 0 | J43: 0 | K43: 0 | L43: 0 | M43: 0 | N43: 0 | O43: 0 | P43: 0
B44: 2.4 | C44: Ðá·»µáõÅ³Ï³Ý ÑÇí³Ý¹³ÝáóáõÙ ³åûñÇÝÇ ï»Õ³íáñ»ÉÁ Ï³Ù å³Ñ»ÉÁ | E44: 134 | F44: 0 | G44: 0 | H44: 0 | I44: 0 | J44: 0 | K44: 0 | L44: 0 | M44: 0 | N44: 0 | O44: 0 | P44: 0
B45: 2.5 | C45: ¼ñå³ñïáõÃÛáõÝÁ | E45: 135 | F45: 0 | G45: 0 | H45: 0 | I45: 0 | J45: 0 | K45: 0 | L45: 0 | M45: 0 | N45: 0 | O45: 0 | P45: 0
B46: 2.6 | C46: ìÇñ³íáñ³ÝùÁ | E46: 136 | F46: 0 | G46: 0 | H46: 0 | I46: 0 | J46: 0 | K46: 0 | L46: 0 | M46: 0 | N46: 0 | O46: 0 | P46: 0
A47: 0 | B47: 2.7 | C47: êå³ÝáõÃÛ³Ý, ³éáÕçáõÃÛ³ÝÁ Í³Ýñ íÝ³ë å³ï×³é»Éáõ Ï³Ù ·áõÛù áãÝã³óÝ»Éáõ ëå³éÝ³ÉÇùÁ | E47: 137 | F47: 0 | G47: 1 | H47: 0 | I47: 0 | J47: 0 | K47: 0 | L47: 0 | M47: 0 | N47: 0 | O47: 1 | P47: 0
A48: 0 | B48: 2.8 | C48: ²ÛÉ Ñ³Ýó³·áñÍáõÃÛáõÝÝ»ñ | F48: 0 | G48: 0 | H48: 0 | I48: 0 | J48: 0 | K48: 0 | L48: 0 | M48: 0 | N48: 0 | O48: 0 | P48: 0
B49: 3. | C49: ÀÝ¹³Ù»ÝÁ ë»é³Ï³Ý ³ÝÓ»éÝÙË»ÉÇáõÃÛ³Ý ¨ ë»é³Ï³Ý ³½³ïáõÃÛ³Ý ¹»Ù áõÕÕí³Í Ñ³Ýó³·áñÍáõÃÛáõÝÝ»ñÁ
A50: 0 | B50: 3.1 | C50: ´éÝ³µ³ñáõÃÛáõÝÁ | E50: 138 | F50: 0 | G50: 0 | H50: 0 | I50: 0 | J50: 0 | K50: 0 | L50: 0 | M50: 0 | N50: 0 | O50: 0 | P50: 0
A51: 0 | B51: 3.2 | C51: ê»ùëáõ³É µÝáõÛÃÇ µéÝÇ ·áñÍáÕáõÃÛáõÝÝ»ñÁ | E51: 139 | F51: 0 | G51: 0 | H51: 0 | I51: 0 | J51: 0 | K51: 0 | L51: 0 | M51: 0 | N51: 0 | O51: 0 | P51: 0
B52: 3.3 | C52: ê»ùëáõ³É µÝáõÛÃÇ ·áñÍáÕáõÃÛáõÝÝ»ñÇÝ Ñ³ñÏ³¹ñ»ÉÁ | E52: 140 | F52: 0 | G52: 0 | H52: 0 | I52: 0 | J52: 0 | K52: 0 | L52: 0 | M52: 0 | N52: 0 | O52: 0 | P52: 0
B53: 3.4 | C53: ê»ùëáõ³É µÝáõÛÃÇ ·áñÍáÕáõÃÛáõÝÝ»ñ Ï³ï³ñ»ÉÁ ï³ëÝí»ó ï³ñÇÝ ãÉñ³ó³Í ³ÝÓÇ Ñ»ï | E53: 141 | F53: 0 | G53: 0 | H53: 0 | I53: 0 | J53: 0 | K53: 0 | L53: 0 | M53: 0 | N53: 0 | O53: 0 | P53: 0
B54: 3.5 | C54: ²Ý³é³Ï³µ³ñá ·áñÍáÕáõÃÛáõÝÝ»ñÁ | E54: 142 | F54: 0 | G54: 0 | H54: 0 | I54: 0 | J54: 0 | K54: 0 | L54: 0 | M54: 0 | N54: 0 | O54: 0 | P54: 0
B55: 3.6 | C55: ²ÛÉ Ñ³Ýó³·áñÍáõÃÛáõÝÝ»ñ | F55: 0 | G55: 0 | H55: 0 | I55: 0 | J55: 0 | K55: 0 | L55: 0 | M55: 0 | N55: 0 | O55: 0 | P55: 0
B56: 4. | C56: ÀÝ¹³Ù»ÝÁ Ù³ñ¹áõ ¨ ù³Õ³ù³óáõ ë³ÑÙ³Ý³¹ñ³Ï³Ý Çñ³íáõÝùÝ»ñÇ ¨ ³½³ïáõÃÛáõÝÝ»ñÇ ¹»Ù áõÕÕí³Í Ñ³Ýó³·áñÍáõÃÛáõÝÝ»ñÁ
B57: 4.1 | C57: ø³Õ³ù³óÇÝ»ñÇ Çñ³í³Ñ³í³ë³ñáõÃÛáõÝÁ Ë³Ëï»ÉÁ | E57: 143 | F57: 0 | G57: 0 | H57: 0 | I57: 0 | J57: 0 | K57: 0 | L57: 0 | M57: 0 | N57: 0 | O57: 0 | P57: 0
B58: 4.2 | C58: ²ÝÓÝ³Ï³Ý Ï³Ù ÁÝï³Ý»Ï³Ý ÏÛ³ÝùÇ Ù³ëÇÝ ï»Õ»ÏáõÃÛáõÝÝ»ñ ³åûñÇÝÇ Ñ³í³ù»ÉÁ, å³Ñ»ÉÁ, û·ï³·áñÍ»ÉÁ Ï³Ù ï³ñ³Í»ÉÁ | E58: 144 | F58: 0 | G58: 0 | H58: 0 | I58: 0 | J58: 0 | K58: 0 | L58: 0 | M58: 0 | N58: 0 | O58: 0 | P58: 0
B59: 4.3 | C59: ´ÅßÏ³Ï³Ý ·³ÕïÝÇùÁ Ññ³å³ñ³Ï»ÉÁ | E59: 145 | F59: 0 | G59: 0 | H59: 0 | I59: 0 | J59: 0 | K59: 0 | L59: 0 | M59: 0 | N59: 0 | O59: 0 | P59: 0
B60: 4.4 | C60: Ü³Ù³Ï³·ñáõÃÛ³Ý, Ñ»é³Ëáë³ÛÇÝ Ëáë³ÏóáõÃÛáõÝÝ»ñÇ, ÷áëï³ÛÇÝ, Ñ»é³·ñ³Ï³Ý Ï³Ù ³ÛÉ Ñ³Õáñ¹áõÙÝ»ñÇ ·³ÕïÝÇáõÃÛáõÝÁ Ë³Ëï»ÉÁ | E60: 146 | F60: 0 | G60: 0 | H60: 0 | I60: 0 | J60: 0 | K60: 0 | L60: 0 | M60: 0 | N60: 0 | O60: 0 | P60: 0
B61: 4.5 | C61: ´Ý³Ï³ñ³ÝÇ ³ÝÓ»éÝÙË»ÉÇáõÃÛáõÝÁ Ë³Ëï»ÉÁ | E61: 147 | F61: 0 | G61: 0 | H61: 0 | I61: 0 | J61: 0 | K61: 0 | L61: 0 | M61: 0 | N61: 0 | O61: 0 | P61: 0
B62: 4.6 | C62: ²ÝÓÇÝ ï»Õ»ÏáõÃÛáõÝ Ý»ñÏ³Û³óÝ»Éáõó Ññ³Å³ñí»ÉÁ | E62: 148 | F62: 0 | G62: 0 | H62: 0 | I62: 0 | J62: 0 | K62: 0 | L62: 0 | M62: 0 | N62: 0 | O62: 0 | P62: 0
B63: 4.7 | C63: ÀÝïñ³Ï³Ý Çñ³íáõÝùÇ Çñ³Ï³Ý³óÙ³ÝÁ, ÁÝïñ³Ï³Ý Ñ³ÝÓÝ³ÅáÕáíÝ»ñÇ ³ßË³ï³ÝùÝ»ñÇÝ Ï³Ù ÁÝïñáõÃÛ³ÝÁ Ù³ëÝ³ÏóáÕ ³ÝÓ³Ýó ÉÇ³½áñáõÃÛáõÝÝ»ñÇ Çñ³Ï³Ý³óÙ³ÝÁ ËáãÁÝ¹áï»ÉÁ | E63: 149 | F63: 0 | G63: 0 | H63: 0 | I63: 0 | J63: 0 | K63: 0 | L63: 0 | M63: 0 | N63: 0 | O63: 0 | P63: 0
B64: 4.8 | C64: ÀÝïñáõÃÛáõÝÝ»ñÇ Ï³Ù ùí»³ñÏáõÃÛ³Ý ³ñ¹ÛáõÝùÝ»ñÁ Ï»ÕÍ»ÉÁ | E64: 150 | F64: 0 | G64: 0 | H64: 0 | I64: 0 | J64: 0 | K64: 0 | L64: 0 | M64: 0 | N64: 0 | O64: 0 | P64: 0
B65: 4.9 | C65: ÀÝïñáõÃÛáõÝÝ»ñÇ ³ÝóÏ³óÙ³Ý ÁÝÃ³óùáõÙ Ã»ÏÝ³ÍáõÇ, Ïáõë³ÏóáõÃÛ³Ý (Ïáõë³ÏóáõÃÛáõÝÝ»ñÇ ¹³ßÇÝùÇ) í»ñ³µ»ñÛ³É ½ñå³ñïã³Ï³Ý ï»Õ»ÏáõÃÛáõÝÝ»ñ ï³ñ³Í»ÉÁ | E65: 151 | F65: 0 | G65: 0 | H65: 0 | I65: 0 | J65: 0 | K65: 0 | L65: 0 | M65: 0 | N65: 0 | O65: 0 | P65: 0
B66: 4.10 | C66: ÀÝïñáÕÝ»ñÇ óáõó³ÏÝ»ñÁ Ï³½Ù»Éáõ Ï³ñ·Á Ë³Ëï»ÉÁ | E66: 152 | F66: 0 | G66: 0 | H66: 0 | I66: 0 | J66: 0 | K66: 0 | L66: 0 | M66: 0 | N66: 0 | O66: 0 | P66: 0
B67: 4.11 | C67: Ø»ÏÇó ³í»ÉÇ ³Ý·³Ù Ï³Ù ³ÛÉ ³ÝÓÇ ÷áË³ñ»Ý ùí»³ñÏ»ÉÁ | E67: 153 | F67: 0 | G67: 0 | H67: 0 | I67: 0 | J67: 0 | K67: 0 | L67: 0 | M67: 0 | N67: 0 | O67: 0 | P67: 0
A68: 0 | B68: 4.12 | C68: øí»³ñÏáõÃÛ³Ý ·³ÕïÝÇáõÃÛáõÝÁ Ë³Ëï»ÉÁ | E68: 154 | F68: 0 | G68: 0 | H68: 0 | I68: 0 | J68: 0 | K68: 0 | L68: 0 | M68: 0 | N68: 0 | O68: 0 | P68: 0
B69: 4.13 | C69: Î»ÕÍ ÁÝïñ³Ï³Ý Ã»ñÃÇÏÝ»ñ Ï³Ù ùí»³ñÏáõÃÛ³Ý Íñ³ñÝ»ñ å³ïñ³ëï»ÉÁ Ï³Ù ³ÏÝÑ³Ûï Ï»ÕÍ ÁÝïñ³Ï³Ý ùí»³Ã»ñÃÇÏÝ»ñ Ï³Ù ùí»³ñÏáõÃÛ³Ý Íñ³ñÝ»ñ Ñ³ÝÓÝ»ÉÁ Ï³Ù Çñ³óÝ»ÉÁ | E69: 154.1 | F69: 0 | G69: 0 | H69: 0 | I69: 0 | J69: 0 | K69: 0 | L69: 0 | M69: 0 | N69: 0 | O69: 0 | P69: 0
B70: 4.14 | C70: ÀÝïñáÕÇ Ï³ÙùÇ ³½³ï Çñ³Ï³Ý³óÙ³ÝÁ ËáãÁÝ¹áï»ÉÁ | E70: 154.2 | F70: 0 | G70: 0 | H70: 0 | I70: 0 | J70: 0 | K70: 0 | L70: 0 | M70: 0 | N70: 0 | O70: 0 | P70: 0
B71: 4.15 | C71: ÀÝïñ³Ï³Ý Ñ³ÝÓÝ³ÅáÕáíÇ ÏÝÇùÁ ãí»ñ³¹³ñÓÝ»ÉÁ, ÏÝÇùÇ å³Ñå³ÝÙ³Ý ë³ÑÙ³Ýí³Í Ï³ñ·Á Ë³Ëï»ÉÁ | E71: 154.3 | F71: 0 | G71: 0 | H71: 0 | I71: 0 | J71: 0 | K71: 0 | L71: 0 | M71: 0 | N71: 0 | O71: 0 | P71: 0
B72: 4.16 | C72: ¼»Ýùáíª ï»Õ³Ù³ë³ÛÇÝ Ï»ÝïñáÝ Ùáõïù ·áñÍ»ÉÁ | E72: 154.4 | F72: 0 | G72: 0 | H72: 0 | I72: 0 | J72: 0 | K72: 0 | L72: 0 | M72: 0 | N72: 0 | O72: 0 | P72: 0
B73: 4.17 | C73: ìëï³Ñí³Í ³ÝÓÇÝ,ÁÝïñ³Ï³Ý Ñ³ÝÓÝ³ÅáÕáíÇ ³Ý¹³ÙÇÝ,¹Çïáñ¹ÇÝ Ï³Ù ½³Ý·í³Í³ÛÇÝ Éñ³ïíáõÃÛ³Ý ÙÇçáóÇ Ý»ñÏ³Û³óáõóãÇÝ ÁÝïñ³Ï³Ý ÷³ëï³ÃÕÃ»ñÇÝ Í³ÝáÃ³Ý³ÉáõÝ ËáãÁÝ¹áï»ÉÁ, ÁÝïñ³Ï³Ý Ñ³ÝÓÝ³ÅáÕáíÇ ³ñÓ³Ý³·ñáõÃÛáõÝÝ»ñÇ å³ï×»ÝÝ»ñ ãï³ÉÁ | E73: 154.5 | F73: 0 | G73: 0 | H73: 0 | I73: 0 | J73: 0 | K73: 0 | L73: 0 | M73: 0 | N73: 0 | O73: 0 | P73: 0
B74: 4.18 | C74: ¶áñÍ³¹áõÉÇ Ù³ëÝ³Ïó»ÉáõÝ Ï³Ù ·áñÍ³¹áõÉÇ Ù³ëÝ³Ïó»Éáõó Ññ³Å³ñí»ÉáõÝ Ñ³ñÏ³¹ñ»ÉÁ | E74: 155 | F74: 0 | G74: 0 | H74: 0 | I74: 0 | J74: 0 | K74: 0 | L74: 0 | M74: 0 | N74: 0 | O74: 0 | P74: 0
B75: 4.19 | C75: ÐÕÇ ÏÝáçÁ Ï³Ù ÙÇÝã¨ »ñ»ù ï³ñ»Ï³Ý »ñ»Ë³ áõÝ»óáÕ ³ÝÓÇÝ ³ßË³ï³ÝùÇ ÁÝ¹áõÝ»Éáõõó Ññ³Å³ñí»ÉÁ Ï³Ù ³ßË³ï³ÝùÇó ³ÝÑÇÙÝ ³½³ï»ÉÁ | E75: 156 | F75: 0 | G75: 0 | H75: 0 | I75: 0 | J75: 0 | K75: 0 | L75: 0 | M75: 0 | N75: 0 | O75: 0 | P75: 0
B76: 4.20 | C76: ²ßË³ï³ÝùÇ å³ßïå³ÝáõÃÛ³Ý Ï³ÝáÝÝ»ñÁ Ë³Ëï»ÉÁ | E76: 157 | F76: 0 | G76: 0 | H76: 0 | I76: 0 | J76: 0 | K76: 0 | L76: 0 | M76: 0 | N76: 0 | O76: 0 | P76: 0
B77: 4.21 | C77: Ð»ÕÇÝ³Ï³ÛÇÝ ¨ Ñ³ñ³ÏÇó Çñ³íáõÝùÝ»ñÁ Ë³Ëï»ÉÁ | E77: 158 | F77: 0 | G77: 0 | H77: 0 | I77: 0 | J77: 0 | K77: 0 | L77: 0 | M77: 0 | N77: 0 | O77: 0 | P77: 0
B78: 4.22 | C78: ²ñïáÝ³·ñ³ÛÇÝ Çñ³íáõÝùÁ Ë³Ëï»ÉÁ | E78: 159 | F78: 0 | G78: 0 | H78: 0 | I78: 0 | J78: 0 | K78: 0 | L78: 0 | M78: 0 | N78: 0 | O78: 0 | P78: 0
B79: 4.23 | C79: ÊÕ×Ç Ï³Ù ¹³í³Ý³ÝùÇ ³½³ïáõÃÛ³Ý Çñ³íáõÝùÇ Çñ³Ï³Ý³óÙ³ÝÁ ËáãÁÝ¹áï»ÉÁ | E79: 160 | F79: 0 | G79: 0 | H79: 0 | I79: 0 | J79: 0 | K79: 0 | L79: 0 | M79: 0 | N79: 0 | O79: 0 | P79: 0
B80: 4.24 | C80: ØÇ³íáñáõÙÝ»ñ (Ñ³ë³ñ³Ï³Ï³Ý Ï³Ù ³ñÑ»ëï³Ïó³Ï³Ý ÙÇáõÃÛáõÝÝ»ñ) Ï³½Ù»Éáõ Ï³Ù Ïáõë³ÏóáõÃÛáõÝÝ»ñ ëï»ÕÍ»Éáõ Çñ³íáõÝùÇ Çñ³Ï³Ý³óÙ³ÝÁ Ï³Ù ¹ñ³Ýó ·áñÍáÕáõÃÛ³ÝÁ ËáãÁÝ¹áï»ÉÁ | E80: 161 | F80: 0 | G80: 0 | H80: 0 | I80: 0 | J80: 0 | K80: 0 | L80: 0 | M80: 0 | N80: 0 | O80: 0 | P80: 0
... B83: 4.27 | C83: Èñ³·ñáÕÇ Ù³ëÝ³·Çï³Ï³Ý ûñÇÝ³Ï³Ý ·áñÍáÕáõÃÛ³ÝÁ ËáãÁÝ¹áï»ÉÁ | E83: 164 | F83: 0 | G83: 0 | H83: 0 | I83: 0 | J83: 0 | K83: 0 | L83: 0 | M83: 0 | N83: 0 | O83: 0 | P83: 0
B84: 4.28 | C84: ²ÛÉ Ñ³Ýó³·áñÍáõÃÛáõÝÝ»ñ | F84: 0 | G84: 0 | H84: 0 | I84: 0 | J84: 0 | K84: 0 | L84: 0 | M84: 0 | N84: 0 | O84: 0 | P84: 0
B85: 5. | C85: ÀÝ¹³Ù»ÝÁ ÁÝï³ÝÇùÇ ¨ »ñ»Ë³ÛÇ ß³Ñ»ñÇ ¹»Ù áõÕÕí³Í Ñ³Ýó³·áñÍáõÃÛáõÝÝ»ñÁ
B86: 5.1 | C86: ²Ýã³÷³Ñ³ëÇÝ Ñ³Ýó³ÝùÇ Ï³ï³ñÙ³ÝÁ Ý»ñ·ñ³í»ÉÁ | E86: 165 | F86: 0 | G86: 0 | H86: 0 | I86: 0 | J86: 0 | K86: 0 | L86: 0 | M86: 0 | N86: 0 | O86: 0 | P86: 0
B87: 5.2 | C87: ºñ»Ë³ÛÇÝ Ñ³Ï³Ñ³ë³ñ³Ï³Ï³Ý ·áñÍáÕáõÃÛáõÝÝ»ñ Ï³ï³ñ»ÉáõÝ Ý»ñ·ñ³í»ÉÁ | E87: 166 | F87: 0 | G87: 0 | H87: 0 | I87: 0 | J87: 0 | K87: 0 | L87: 0 | M87: 0 | N87: 0 | O87: 0 | P87: 0
B88: 5.3 | C88: ÌÝáÕÝ»ñÇó »ñ»Ë³ÛÇÝ ³åûñÇÝÇ µ³Å³Ý»ÉÁ Ï³Ù »ñ»Ë³ÛÇÝ ÷áË»ÉÁ | E88: 167 | F88: 0 | G88: 0 | H88: 0 | I88: 0 | J88: 0 | K88: 0 | L88: 0 | M88: 0 | N88: 0 | O88: 0 | P88: 0
B89: 5.4 | C89: ºñ»Ë³ÛÇ ³éù áõ í³×³éùÁ | E89: 168 | F89: 0 | G89: 0 | H89: 0 | I89: 0 | J89: 0 | K89: 0 | L89: 0 | M89: 0 | N89: 0 | O89: 0 | P89: 0
B90: 5.5 | C90: àñ¹»·ñÙ³Ý ·³ÕïÝÇùÁ Ññ³å³ñ³Ï»ÉÁ Ï³Ù áñ¹»·ñÙ³Ý Ñ³Ù³Ó³ÛÝáõÃÛáõÝ ï³ÉáõÝ Ñ³Ï»ÉÁ Ï³Ù Ñ³ñÏ³¹ñ»ÉÁ | E90: 169 | F90: 0 | G90: 0 | H90: 0 | I90: 0 | J90: 0 | K90: 0 | L90: 0 | M90: 0 | N90: 0 | O90: 0 | P90: 0
B91: 5.6 | C91: ø³Õ³ù³óÇ³Ï³Ý Ï³óáõÃÛ³Ý ³Ïï»ñÇ ·ñ³ÝóÙ³Ý Ù³ñÙÇÝÝ»ñÇÝ ëáõï ï»Õ»ÏáõÃÛáõÝÝ»ñ Ñ³Õáñ¹»ÉÁ | E91: 169.1 | F91: 0 | G91: 0 | H91: 0 | I91: 0 | J91: 0 | K91: 0 | L91: 0 | M91: 0 | N91: 0 | O91: 0 | P91: 0
B92: 5.7 | C92: ºñ»Ë³ÛÇÝ ¹³ëïÇ³ñ³Ï»Éáõ å³ñï³Ï³ÝáõÃÛáõÝÁ ãÏ³ï³ñ»ÉÁ | E92: 170 | F92: 0 | G92: 0 | H92: 0 | I92: 0 | J92: 0 | K92: 0 | L92: 0 | M92: 0 | N92: 0 | O92: 0 | P92: 0
B93: 5.8 | C93: ºñ»Ë³ÛÇ ÏÛ³ÝùÇ ³Ýíï³Ý·áõÃÛ³Ý ³å³ÑáíÙ³Ý Ï³Ù ³éáÕçáõÃÛ³Ý å³Ñå³ÝÙ³Ý å³ñï³Ï³ÝáõÃÛáõÝÁ ãÏ³ï³ñ»ÉÁ Ï³Ù áã å³ïß³× Ï³ï³ñ»ÉÁ | E93: 171 | F93: 0 | G93: 0 | H93: 0 | I93: 0 | J93: 0 | K93: 0 | L93: 0 | M93: 0 | N93: 0 | O93: 0 | P93: 0
B94: 5.9 | C94: ÊÝ³Ù³Ï³ÉÇ Ï³Ù Ñá·³µ³ñÓáõÇ Çñ³íáõÝùÝ»ñÁ ã³ñ³ß³Ñ»ÉÁ | E94: 172 | F94: 0 | G94: 0 | H94: 0 | I94: 0 | J94: 0 | K94: 0 | L94: 0 | M94: 0 | N94: 0 | O94: 0 | P94: 0
B95: 5.10 | C95: ÌÝáÕÇ ÏáÕÙÇó »ñ»Ë³ÛÇÝ å³Ñ»Éáõó ã³ñ³Ùïáñ»Ý Ëáõë³÷»ÉÁ | E95: 173 | F95: 0 | G95: 0 | H95: 0 | I95: 0 | J95: 0 | K95: 0 | L95: 0 | M95: 0 | N95: 0 | O95: 0 | P95: 0
A96: 0 | B96: 5.11 | C96: ¼³í³ÏÇ ÏáÕÙÇó ³Ý³ßË³ïáõÝ³Ï ÍÝáÕÇÝ å³Ñ»Éáõó ã³ñ³Ùïáñ»Ý Ëáõë³÷»ÉÁ | E96: 174 | F96: 0 | G96: 0 | H96: 0 | I96: 0 | J96: 0 | K96: 0 | L96: 0 | M96: 0 | N96: 0 | O96: 0 | P96: 0
B97: 5.12 | C97: ²ÛÉ Ñ³Ýó³·áñÍáõÃÛáõÝÝ»ñ | F97: 0 | G97: 0 | H97: 0 | I97: 0 | J97: 0 | K97: 0 | L97: 0 | M97: 0 | N97: 0 | O97: 0 | P97: 0
B98: 6. | C98: ÀÝ¹³Ù»ÝÁ ë»÷³Ï³ÝáõÃÛ³Ý ¹»Ù áõÕÕí³Í Ñ³Ýó³·áñÍáõÃÛáõÝÝ»ñÁ
B99: 6.1 | C99: ²í³½³ÏáõÃÛáõÝÁ | E99: 175 | F99: 0 | G99: 3 | H99: 1 | I99: 0 | J99: 0 | K99: 1 | L99: 0 | M99: 0 | N99: 0 | O99: 2 | P99: 0
B100: 6.2 | C100: ÎáÕáåáõïÁ | E100: 176 | F100: 0 | G100: 3 | H100: 1 | I100: 0 | J100: 0 | K100: 1 | L100: 1 | M100: 0 | N100: 0 | O100: 2 | P100: 0
B101: 6.3 | C101: ¶áÕáõÃÛáõÝÁ | E101: 177 | F101: 0 | G101: 17 | H101: 9 | I101: 0 | J101: 0 | K101: 9 | L101: 8 | M101: 3 | N101: 1 | O101: 7 | P101: 0
B102: 6.4 | C102: Ê³ñ¹³ËáõÃÛáõÝÁ | E102: 178 | F102: 2 | G102: 11 | H102: 9 | I102: 0 | J102: 0 | K102: 9 | L102: 6 | M102: 6 | N102: 1 | O102: 3 | P102: 1
B103: 6.5 | C103: Úáõñ³óÝ»ÉÁ Ï³Ù í³ïÝ»ÉÁ | E103: 179 | F103: 0 | G103: 2 | H103: 1 | I103: 1 | J103: 0 | K103: 2 | L103: 2 | M103: 0 | N103: 0 | O103: 0 | P103: 0
B104: 6.6 | C104: ²é³ÝÓÝ³ÏÇ ³ñÅ»ù áõÝ»óáÕ ³é³ñÏ³Ý»ñ Ñ³÷ßï³Ï»ÉÁ | E104: 180 | F104: 0 | G104: 0 | H104: 0 | I104: 0 | J104: 0 | K104: 0 | L104: 0 | M104: 0 | N104: 0 | O104: 0 | P104: 0
B105: 6.7 | C105: Ð³÷ßï³ÏáõÃÛáõÝÁ, áñÁ Ï³ï³ñí»É ¿ Ñ³Ù³Ï³ñ·ã³ÛÇÝ ï»ËÝÇÏ³ÛÇ û·ï³·áñÍÙ³Ùµ | E105: 181 | F105: 0 | G105: 0 | H105: 0 | I105: 0 | J105: 0 | K105: 0 | L105: 0 | M105: 0 | N105: 0 | O105: 0 | P105: 0
B106: 6.8 | C106: ÞáñÃáõÙÁ | E106: 182 | F106: 0 | G106: 0 | H106: 0 | I106: 0 | J106: 0 | K106: 0 | L106: 0 | M106: 0 | N106: 0 | O106: 0 | P106: 0
B107: 6.9 | C107: ²íïáÙ»ù»Ý³ÛÇÝ Ï³Ù ïñ³Ýëåáñï³ÛÇÝ ³ÛÉ ÙÇçáóÇÝ ³åûñÇÝ³µ³ñ ïÇñ³Ý³ÉÝ ³é³Ýó Ñ³÷ßï³Ï»Éáõ Ýå³ï³ÏÇ | E107: 183 | F107: 0 | G107: 0 | H107: 0 | I107: 0 | J107: 0 | K107: 0 | L107: 0 | M107: 0 | N107: 0 | O107: 0 | P107: 0
B108: 6.10 | C108: ¶áõÛù³ÛÇÝ íÝ³ë å³ï×³é»ÉÁ Ë³µ»áõÃÛ³Ý Ï³Ù íëï³ÑáõÃÛáõÝÁ ã³ñ³ß³Ñ»Éáõ »Õ³Ý³Ïáí | E108: 184 | F108: 0 | G108: 0 | H108: 0 | I108: 0 | J108: 0 | K108: 0 | L108: 0 | M108: 0 | N108: 0 | O108: 0 | P108: 0
B109: 6.11 | C109: ¶áõÛùÁ ¹Çï³íáñáõÃÛ³Ùµ áãÝã³óÝ»ÉÁ Ï³Ù íÝ³ë»ÉÁ | E109: 185 | F109: 0 | G109: 2 | H109: 2 | I109: 0 | J109: 0 | K109: 2 | L109: 2 | M109: 1 | N109: 0 | O109: 0 | P109: 0
B110: 6.12 | C110: ¶áõÛùÝ ³Ý½·áõßáõÃÛ³Ùµ áãÝã³óÝ»ÉÁ Ï³Ù íÝ³ë»ÉÁ | E110: 186 | F110: 0 | G110: 0 | H110: 0 | I110: 0 | J110: 0 | K110: 0 | L110: 0 | M110: 0 | N110: 0 | O110: 0 | P110: 0
B111: 5.12 | C111: ²ÛÉ Ñ³Ýó³·áñÍáõÃÛáõÝÝ»ñ | F111: 0 | G111: 0 | H111: 0 | I111: 0 | J111: 0 | K111: 0 | L111: 0 | M111: 0 | N111: 0 | O111: 0 | P111: 0
...

Sheet Arabkir
B2: Ð²ÞìºîìàôÂÚàôÜ
B4: ÐÐ ºðºì²ÜÆ ²ð²´ÎÆð ºì ø²Ü²øºè-¼ºÚÂàôÜ ì²ðâ²Î²Ü Þðæ²ÜÜºðÆ ÀÜ¸Ð²Üàôð Æð²ì²êàôÂÚ²Ü ¸²î²ð²ÜàôØ øðº²Î²Ü ¶àðÌºðÆ øÜÜàôÂÚ²Ü ìºð²´ºðÚ²È
B5: 2009Ã. ï³ñí³ Ñ³Ù³ñ
B7: êïáõ·Çã Ñ³í³ë³ñáõÙÝ»ñ` 1+2=6+9+10, 6=3+4+5 | E7: ÐÐ ùñ»³Ï³Ý ûñ»Ýë·ñùÇ Ñá¹í³ÍÝ»ñ | F7: ²Ý³í³ñï ·áñÍ»ñÇ ÙÝ³óáñ¹Á Ñ³ßí»ïáõ Å³Ù³Ý³Ï³ßñç³ÝÇ ëÏ½µáõÙ | G7: êï³óí»É »Ý ·áñÍ»ñ Ñ³ßí»ïáõ Å³Ù³Ý³Ï³ßñç³ÝáõÙ | H7: ²í³ñïí»É »Ý ·áñÍ»ñ Ñ³ßí»ïáõ Å³Ù³Ý³Ï³ßñç³ÝáõÙ | L7: úñÇÝ³Ï³Ý áõÅÇ Ù»ç ¿ Ùï»É | M7: ´áÕáù³ñÏí»É ¿ í»ñ³ùÝÝÇã ¹³ï³ñ³Ý | N7: àõÕ³ñÏí»É ¿ Áëï ÁÝ¹¹³ïáõÃÛ³Ý | O7: ²Ý³í³ñï ·áñÍ»ñÇ ÙÝ³óáñ¹Á Ñ³ßí»ïáõ Å³Ù³Ý³Ï³ßñç³ÝÇ í»ñçáõÙ | P7: ²Û¹ ÃíáõÙª Ï³ë»óí³Í
H8: øÝÝí»É ¿ Áëï ¿áõÃÛ³Ý ¨ ¹³ï³í×Çé Ï³Û³óí»É | I8: àñáßáõÙ ¿ Ï³Û³óí»É ùñ»³Ï³Ý ·áñÍÇ í³ñáõÛÃÁ Ï³ñ×»Éáõ ¨ ùñ»³Ï³Ý Ñ»ï³åÝ¹áõÙÁ ¹³¹³ñ»óÝ»Éáõ Ù³ëÇÝ | J8: àñáßáõÙ ¿ Ï³Û³óí»É ³ÝÙ»ÕëáõÝ³ÏÝ»ñÇ ÝÏ³ïÙ³Ùµ µÅßÏ³Ï³Ý µÝáõÛÃÇ Ñ³ñÏ³¹ñ³Ï³Ý ÙÇçáóÝ»ñ ÏÇñ³é»Éáõ Ù³ëÇÝ | K8: ÀÝ¹³Ù»ÝÁ ³í³ñïí»É »Ý ·áñÍ»ñ
F10: 1 | G10: 2 | H10: 3 | I10: 4 | J10: 5 | K10: 6 | L10: 7 | M10: 8 | N10: 9 | O10: 10 | P10: 11
A11: 1 | B11: 1. | C11: ÀÝ¹³Ù»ÝÁ ÏÛ³ÝùÇ ¨ ³éáÕçáõÃÛ³Ý ¹»Ù áõÕÕí³Í Ñ³Ýó³·áñÍáõÃÛáõÝÝ»ñÁ
A12: 0 | B12: 1.1 | C12: êå³ÝáõÃÛáõÝÁ | E12: 104 | G12: 7 | H12: 5 | K12: 5 | L12: 3 | M12: 3 | O12: 2 | P12: 1
A13: 0 | B13: 1.2 | C13: Ðá·»Ï³Ý ËÇëï Ñáõ½ÙáõÝùÇ íÇ×³ÏáõÙ Ï³ï³ñí³Í ëå³ÝáõÃÛáõÝÁ | E13: 105
A14: 0 | B14: 1.3 | C14: Øáñ ÏáÕÙÇó Ýáñ³ÍÇÝ »ñ»Ë³ÛÇ ëå³ÝáõÃÛáõÝÁ | E14: 106
A15: 0 | B15: 1.4 | C15: Ð³Ýó³Ýù Ï³ï³ñ³Í ³ÝÓÇÝ µéÝ»Éáõ Ñ³Ù³ñ ³ÝÑñ³Å»ßï ÙÇçáóÝ»ñÇ ë³ÑÙ³Ý³½³ÝóÙ³Ùµ ëå³ÝáõÃÛáõÝÁ | E15: 107
A16: 0 | B16: 1.5 | C16: ²ÝÑñ³Å»ßï å³ßïå³ÝáõÃÛ³Ý ë³ÑÙ³Ý³½³ÝóÙ³Ùµ ëå³ÝáõÃÛáõÝÁ | E16: 108
A17: 0 | B17: 1.6 | C17: ²Ý½·áõßáõÃÛ³Ùµ Ù³Ñ å³ï×³é»ÉÁ | E17: 109
A18: 0 | B18: 1.7 | C18: ÆÝùÝ³ëå³ÝáõÃÛ³Ý Ñ³ëóÝ»ÉÁ | E18: 110
A19: 0 | B19: 1.8 | C19: ÆÝùÝ³ëå³ÝáõÃÛ³Ý Ñ³Ï»ÉÁ | E19: 111
A20: 0 | B20: 1.9 | C20: ¸Çï³íáñáõÃÛ³Ùµ ³éáÕçáõÃÛ³ÝÁ Í³Ýñ íÝ³ë å³ï×³é»ÉÁ | E20: 112 | G20: 13 | H20: 8 | K20: 8 | L20: 5 | O20: 5 | P20: 2
A21: 0 | B21: 1.10 | C21: ¸Çï³íáñáõÃÛ³Ùµ ³éáÕçáõÃÛ³ÝÁ ÙÇçÇÝ Í³ÝñáõÃÛ³Ý íÝ³ë å³ï×³é»ÉÁ | E21: 113 | G21: 6 | H21: 5 | K21: 5 | L21: 4 | M21: 1 | O21: 1
A22: 0 | B22: 1.11 | C22: Ðá·»Ï³Ý ËÇëï Ñáõ½ÙáõÝùÇ íÇ×³ÏáõÙ ³éáÕçáõÃÛ³ÝÁ Í³Ýñ Ï³Ù ÙÇçÇÝ Í³ÝñáõÃÛ³Ý íÝ³ë å³ï×³é»ÉÁ | E22: 114
A23: 0 | B23: 1.12 | C23: Ð³Ýó³Ýù Ï³ï³ñ³Í ³ÝÓÇÝ µéÝ»Éáõ Ñ³Ù³ñ ³ÝÑñ³Å»ßï ÙÇçáóÝ»ñÇ ë³ÑÙ³Ý½³ÝóÙ³Ùµ ³éáÕçáõÃÛ³ÝÁ Í³Ýñ Ï³Ù ÙÇçÇÝ Í³ÝñáõÃÛ³Ý íÝ³ë å³ï×³é»ÉÁ | E23: 115
A24: 0 | B24: 1.13 | C24: ²éáÕçáõÃÛ³ÝÁ Í³Ýñ Ï³Ù ÙÇçÇÝ Í³ÝñáõÃÛ³Ý íÝ³ë å³ï×³é»ÉÁ ³ÝÑñ³Å»ßï å³ßïå³ÝáõÃÛ³Ý ë³ÑÙ³Ý³Ý³½³ÝóÙ³Ùµ | E24: 116 | G24: 3 | H24: 3 | K24: 3 | L24: 1 | M24: 2
A25: 0 | B25: 1.14 | C25: ¸Çï³íáñáõÃÛ³Ùµ ³éáÕçáõÃÛ³ÝÁ Ã»Ã¨ íÝ³ë å³ï×³é»ÉÁ | E25: 117 | F25: 1 | G25: 5 | H25: 5 | K25: 5 | L25: 4 | M25: 1 | O25: 1
A26: 0 | B26: 1.15 | C26: Ì»ÍÁ | E26: 118 | G26: 1 | H26: 1 | K26: 1 | L26: 1
A27: 0 | B27: 1.16 | C27: Êáßï³Ý·áõÙÁ | E27: 119
A28: 0 | B28: 1.17 | C28: ²Ý½·áõßáõÃÛ³Ùµ ³éáÕçáõÃÛ³ÝÁ Í³Ýñ íÝ³ë å³ï×³é»ÉÁ | E28: 120 | G28: 1 | H28: 1 | K28: 1 | L28: 1 | M28: 1
A29: 0 | B29: 1.18 | C29: ²Ý½·áõßáõÃÛ³Ùµ ³éáÕçáõÃÛ³ÝÁ ÙÇçÇÝ Í³ÝñáõÃÛ³Ý íÝ³ë å³ï×³é»ÉÁ | E29: 121
A30: 0 | B30: 1.19 | C30: ²åûñÇÝÇ ³µáñï Ï³ï³ñ»ÉÁ | E30: 122
A31: 0 | B31: 1.20 | C31: Ø³ñ¹áõ ÇÙáõÝ³ÛÇÝ ³Ýµ³í³ñ³ñáõÃÛ³Ý íÇñáõëÇ Ñ³ñáõóÇãáí í³ñ³Ï»ÉÁ | E31: 123
A32: 0 | B32: 1.21 | C32: ì»Ý»ñ³Ï³Ý ÑÇí³Ý¹áõÃÛ³Ùµ Ï³Ù ³ÛÉ ë»é³í³ñ³ÏÝ»ñáí í³ñ³Ï»ÉÁ | E32: 124
A33: 0 | B33: 1.22 | C33: öáËå³ïí³ëïÙ³Ý íÇñ³Ñ³ïáõÃÛáõÝ Ï³ï³ñ»Éáõ Ï³ÝáÝÝ»ñÁ Ë³Ëï»ÉÁ | E33: 125
A34: 0 | B34: 1.23 | C34: Ø³ñÙÝÇ Ù³ë»ñ Ï³Ù ÑÛáõëí³ÍùÝ»ñ ï³ÉáõÝ Ñ³ñÏ³¹ñ»ÉÁ | E34: 126
A35: 0 | B35: 1.24 | C35: ²ÝÓÇÝ ³é³Ýó Çñ Ñ³ÝÓÝ³ñ³ñáõÃÛ³Ý µÅßÏ³Ï³Ý Ï³Ù ·Çï³Ï³Ý ÷áñÓ»ñÇ »ÝÃ³ñÏ»ÉÁ | E35: 127
A36: 0 | B36: 1.25 | C36: ìï³Ý·Ç Ù»ç ÃáÕÝ»ÉÁ | E36: 128
A37: 0 | B37: 1.26 | C37: ÐÇí³Ý¹ÇÝ û·ÝáõÃÛáõÝ óáõÛó ãï³ÉÁ | E37: 129
A38: 0 | B38: 1.27 | C38: ´ÅßÏ³Ï³Ý û·ÝáõÃÛáõÝ ¨ ëå³ë³ñÏáõÙ Çñ³Ï³Ý³óÝáÕÝ»ñÇ ÏáÕÙÇó Ù³ëÝ³·Çï³Ï³Ý å³ñï³Ï³ÝáõÃÛáõÝÝ»ñÁ ãÏ³ï³ñ»ÉÁ Ï³Ù áã å³ïß³× Ï³ï³ñ»ÉÁ | E38: 130
A39: 1 | B39: 1.28 | C39: ²ÛÉ Ñ³Ýó³·áñÍáõÃÛáõÝÝ»ñ
A40: 0 | B40: 2. | C40: ÀÝ¹³Ù»ÝÁ ³ÝÓÇ ³½³ïáõÃÛ³Ý, å³ïíÇ ¨ ³ñÅ³Ý³å³ïíáõÃÛ³Ý ¹»Ù áõÕÕí³Í Ñ³Ýó³·áñÍáõÃÛáõÝÝ»ñÁ
A41: 0 | B41: 2.1 | C41: Ø³ñ¹áõÝ ³é¨³Ý·»ÉÁ | E41: 131 | G41: 1 | P41: 1
B42: 2.2 | C42: Þ³Ñ³·áñÍÙ³Ý Ýå³ï³Ïáí Ù³ñ¹áõÝ Ñ³í³ù³·ñ»ÉÁ, ÷áË³¹ñ»ÉÁ, Ñ³ÝÓÝ»ÉÁ, Ã³ùóÝ»ÉÁ Ï³Ù ëï³Ý³ÉÁ | E42: 132
B43: 2.3 | C43: ²½³ïáõÃÛáõÝÇó ³åûñÇÝÇ ½ñÏ»ÉÁ | E43: 133
B44: 2.4 | C44: Ðá·»µáõÅ³Ï³Ý ÑÇí³Ý¹³ÝáóáõÙ ³åûñÇÝÇ ï»Õ³íáñ»ÉÁ Ï³Ù å³Ñ»ÉÁ | E44: 134
B45: 2.5 | C45: ¼ñå³ñïáõÃÛáõÝÁ | E45: 135 | F45: 1 | H45: 1 | K45: 1 | L45: 1
B46: 2.6 | C46: ìÇñ³íáñ³ÝùÁ | E46: 136 | G46: 1 | I46: 1 | K46: 1 | L46: 1
A47: 0 | B47: 2.7 | C47: êå³ÝáõÃÛ³Ý, ³éáÕçáõÃÛ³ÝÁ Í³Ýñ íÝ³ë å³ï×³é»Éáõ Ï³Ù ·áõÛù áãÝã³óÝ»Éáõ ëå³éÝ³ÉÇùÁ | E47: 137
A48: 0 | B48: 2.8 | C48: ²ÛÉ Ñ³Ýó³·áñÍáõÃÛáõÝÝ»ñ
B49: 3. | C49: ÀÝ¹³Ù»ÝÁ ë»é³Ï³Ý ³ÝÓ»éÝÙË»ÉÇáõÃÛ³Ý ¨ ë»é³Ï³Ý ³½³ïáõÃÛ³Ý ¹»Ù áõÕÕí³Í Ñ³Ýó³·áñÍáõÃÛáõÝÝ»ñÁ
A50: 0 | B50: 3.1 | C50: ´éÝ³µ³ñáõÃÛáõÝÁ | E50: 138
A51: 0 | B51: 3.2 | C51: ê»ùëáõ³É µÝáõÛÃÇ µéÝÇ ·áñÍáÕáõÃÛáõÝÝ»ñÁ | E51: 139
B52: 3.3 | C52: ê»ùëáõ³É µÝáõÛÃÇ ·áñÍáÕáõÃÛáõÝÝ»ñÇÝ Ñ³ñÏ³¹ñ»ÉÁ | E52: 140 | F52: 1 | G52: 1 | H52: 1 | K52: 1 | L52: 1 | O52: 1
B53: 3.4 | C53: ê»ùëáõ³É µÝáõÛÃÇ ·áñÍáÕáõÃÛáõÝÝ»ñ Ï³ï³ñ»ÉÁ ï³ëÝí»ó ï³ñÇÝ ãÉñ³ó³Í ³ÝÓÇ Ñ»ï | E53: 141
B54: 3.5 | C54: ²Ý³é³Ï³µ³ñá ·áñÍáÕáõÃÛáõÝÝ»ñÁ | E54: 142
B55: 3.6 | C55: ²ÛÉ Ñ³Ýó³·áñÍáõÃÛáõÝÝ»ñ
B56: 4. | C56: ÀÝ¹³Ù»ÝÁ Ù³ñ¹áõ ¨ ù³Õ³ù³óáõ ë³ÑÙ³Ý³¹ñ³Ï³Ý Çñ³íáõÝùÝ»ñÇ ¨ ³½³ïáõÃÛáõÝÝ»ñÇ ¹»Ù áõÕÕí³Í Ñ³Ýó³·áñÍáõÃÛáõÝÝ»ñÁ
B57: 4.1 | C57: ø³Õ³ù³óÇÝ»ñÇ Çñ³í³Ñ³í³ë³ñáõÃÛáõÝÁ Ë³Ëï»ÉÁ | E57: 143
B58: 4.2 | C58: ²ÝÓÝ³Ï³Ý Ï³Ù ÁÝï³Ý»Ï³Ý ÏÛ³ÝùÇ Ù³ëÇÝ ï»Õ»ÏáõÃÛáõÝÝ»ñ ³åûñÇÝÇ Ñ³í³ù»ÉÁ, å³Ñ»ÉÁ, û·ï³·áñÍ»ÉÁ Ï³Ù ï³ñ³Í»ÉÁ | E58: 144
B59: 4.3 | C59: ´ÅßÏ³Ï³Ý ·³ÕïÝÇùÁ Ññ³å³ñ³Ï»ÉÁ | E59: 145
B60: 4.4 | C60: Ü³Ù³Ï³·ñáõÃÛ³Ý, Ñ»é³Ëáë³ÛÇÝ Ëáë³ÏóáõÃÛáõÝÝ»ñÇ, ÷áëï³ÛÇÝ, Ñ»é³·ñ³Ï³Ý Ï³Ù ³ÛÉ Ñ³Õáñ¹áõÙÝ»ñÇ ·³ÕïÝÇáõÃÛáõÝÁ Ë³Ëï»ÉÁ | E60: 146
B61: 4.5 | C61: ´Ý³Ï³ñ³ÝÇ ³ÝÓ»éÝÙË»ÉÇáõÃÛáõÝÁ Ë³Ëï»ÉÁ | E61: 147
B62: 4.6 | C62: ²ÝÓÇÝ ï»Õ»ÏáõÃÛáõÝ Ý»ñÏ³Û³óÝ»Éáõó Ññ³Å³ñí»ÉÁ | E62: 148
B63: 4.7 | C63: ÀÝïñ³Ï³Ý Çñ³íáõÝùÇ Çñ³Ï³Ý³óÙ³ÝÁ, ÁÝïñ³Ï³Ý Ñ³ÝÓÝ³ÅáÕáíÝ»ñÇ ³ßË³ï³ÝùÝ»ñÇÝ Ï³Ù ÁÝïñáõÃÛ³ÝÁ Ù³ëÝ³ÏóáÕ ³ÝÓ³Ýó ÉÇ³½áñáõÃÛáõÝÝ»ñÇ Çñ³Ï³Ý³óÙ³ÝÁ ËáãÁÝ¹áï»ÉÁ | E63: 149
B64: 4.8 | C64: ÀÝïñáõÃÛáõÝÝ»ñÇ Ï³Ù ùí»³ñÏáõÃÛ³Ý ³ñ¹ÛáõÝùÝ»ñÁ Ï»ÕÍ»ÉÁ | E64: 150
B65: 4.9 | C65: ÀÝïñáõÃÛáõÝÝ»ñÇ ³ÝóÏ³óÙ³Ý ÁÝÃ³óùáõÙ Ã»ÏÝ³ÍáõÇ, Ïáõë³ÏóáõÃÛ³Ý (Ïáõë³ÏóáõÃÛáõÝÝ»ñÇ ¹³ßÇÝùÇ) í»ñ³µ»ñÛ³É ½ñå³ñïã³Ï³Ý ï»Õ»ÏáõÃÛáõÝÝ»ñ ï³ñ³Í»ÉÁ | E65: 151
B66: 4.10 | C66: ÀÝïñáÕÝ»ñÇ óáõó³ÏÝ»ñÁ Ï³½Ù»Éáõ Ï³ñ·Á Ë³Ëï»ÉÁ | E66: 152
B67: 4.11 | C67: Ø»ÏÇó ³í»ÉÇ ³Ý·³Ù Ï³Ù ³ÛÉ ³ÝÓÇ ÷áË³ñ»Ý ùí»³ñÏ»ÉÁ | E67: 153
A68: 0 | B68: 4.12 | C68: øí»³ñÏáõÃÛ³Ý ·³ÕïÝÇáõÃÛáõÝÁ Ë³Ëï»ÉÁ | E68: 154
B69: 4.13 | C69: Î»ÕÍ ÁÝïñ³Ï³Ý Ã»ñÃÇÏÝ»ñ Ï³Ù ùí»³ñÏáõÃÛ³Ý Íñ³ñÝ»ñ å³ïñ³ëï»ÉÁ Ï³Ù ³ÏÝÑ³Ûï Ï»ÕÍ ÁÝïñ³Ï³Ý ùí»³Ã»ñÃÇÏÝ»ñ Ï³Ù ùí»³ñÏáõÃÛ³Ý Íñ³ñÝ»ñ Ñ³ÝÓÝ»ÉÁ Ï³Ù Çñ³óÝ»ÉÁ | E69: 154.1
B70: 4.14 | C70: ÀÝïñáÕÇ Ï³ÙùÇ ³½³ï Çñ³Ï³Ý³óÙ³ÝÁ ËáãÁÝ¹áï»ÉÁ | E70: 154.2
B71: 4.15 | C71: ÀÝïñ³Ï³Ý Ñ³ÝÓÝ³ÅáÕáíÇ ÏÝÇùÁ ãí»ñ³¹³ñÓÝ»ÉÁ, ÏÝÇùÇ å³Ñå³ÝÙ³Ý ë³ÑÙ³Ýí³Í Ï³ñ·Á Ë³Ëï»ÉÁ | E71: 154.3
B72: 4.16 | C72: ¼»Ýùáíª ï»Õ³Ù³ë³ÛÇÝ Ï»ÝïñáÝ Ùáõïù ·áñÍ»ÉÁ | E72: 154.4
B73: 4.17 | C73: ìëï³Ñí³Í ³ÝÓÇÝ,ÁÝïñ³Ï³Ý Ñ³ÝÓÝ³ÅáÕáíÇ ³Ý¹³ÙÇÝ,¹Çïáñ¹ÇÝ Ï³Ù ½³Ý·í³Í³ÛÇÝ Éñ³ïíáõÃÛ³Ý ÙÇçáóÇ Ý»ñÏ³Û³óáõóãÇÝ ÁÝïñ³Ï³Ý ÷³ëï³ÃÕÃ»ñÇÝ Í³ÝáÃ³Ý³ÉáõÝ ËáãÁÝ¹áï»ÉÁ, ÁÝïñ³Ï³Ý Ñ³ÝÓÝ³ÅáÕáíÇ ³ñÓ³Ý³·ñáõÃÛáõÝÝ»ñÇ å³ï×»ÝÝ»ñ ãï³ÉÁ | E73: 154.5
B74: 4.18 | C74: ¶áñÍ³¹áõÉÇ Ù³ëÝ³Ïó»ÉáõÝ Ï³Ù ·áñÍ³¹áõÉÇ Ù³ëÝ³Ïó»Éáõó Ññ³Å³ñí»ÉáõÝ Ñ³ñÏ³¹ñ»ÉÁ | E74: 155
B75: 4.19 | C75: ÐÕÇ ÏÝáçÁ Ï³Ù ÙÇÝã¨ »ñ»ù ï³ñ»Ï³Ý »ñ»Ë³ áõÝ»óáÕ ³ÝÓÇÝ ³ßË³ï³ÝùÇ ÁÝ¹áõÝ»Éáõõó Ññ³Å³ñí»ÉÁ Ï³Ù ³ßË³ï³ÝùÇó ³ÝÑÇÙÝ ³½³ï»ÉÁ | E75: 156
B76: 4.20 | C76: ²ßË³ï³ÝùÇ å³ßïå³ÝáõÃÛ³Ý Ï³ÝáÝÝ»ñÁ Ë³Ëï»ÉÁ | E76: 157 | G76: 1 | H76: 1 | K76: 1 | L76: 1
B77: 4.21 | C77: Ð»ÕÇÝ³Ï³ÛÇÝ ¨ Ñ³ñ³ÏÇó Çñ³íáõÝùÝ»ñÁ Ë³Ëï»ÉÁ | E77: 158
B78: 4.22 | C78: ²ñïáÝ³·ñ³ÛÇÝ Çñ³íáõÝùÁ Ë³Ëï»ÉÁ | E78: 159
B79: 4.23 | C79: ÊÕ×Ç Ï³Ù ¹³í³Ý³ÝùÇ ³½³ïáõÃÛ³Ý Çñ³íáõÝùÇ Çñ³Ï³Ý³óÙ³ÝÁ ËáãÁÝ¹áï»ÉÁ | E79: 160
B80: 4.24 | C80: ØÇ³íáñáõÙÝ»ñ (Ñ³ë³ñ³Ï³Ï³Ý Ï³Ù ³ñÑ»ëï³Ïó³Ï³Ý ÙÇáõÃÛáõÝÝ»ñ) Ï³½Ù»Éáõ Ï³Ù Ïáõë³ÏóáõÃÛáõÝÝ»ñ ëï»ÕÍ»Éáõ Çñ³íáõÝùÇ Çñ³Ï³Ý³óÙ³ÝÁ Ï³Ù ¹ñ³Ýó ·áñÍáÕáõÃÛ³ÝÁ ËáãÁÝ¹áï»ÉÁ | E80: 161
B81: 4.25 | C81: ²ÝÓ³Ýó Çñ³íáõÝùÝ»ñÇ Ï³Ù ³ÝÓÇ ¹»Ù áïÝÓ·áÕ ÙÇ³íáñáõÙÝ»ñ Ï³½Ù»ÉÁ Ï³Ù Õ»Ï³í³ñ»ÉÁ | E81: 162
B82: 4.26 | C82: ÄáÕáíÝ»ñ, Ñ³Ýñ³Ñ³í³ùÝ»ñ, »ñÃ»ñ ¨ óáõÛó»ñ ³ÝóÏ³óÝ»ÉáõÝ Ï³Ù ¹ñ³Ýó Ù³ëÝ³Ïó»ÉáõÝ ËáãÁÝ¹áï»ÉÁ | E82: 163
B83: 4.27 | C83: Èñ³·ñáÕÇ Ù³ëÝ³·Çï³Ï³Ý ûñÇÝ³Ï³Ý ·áñÍáÕáõÃÛ³ÝÁ ËáãÁÝ¹áï»ÉÁ | E83: 164
B84: 4.28 | C84: ²ÛÉ Ñ³Ýó³·áñÍáõÃÛáõÝÝ»ñ
B85: 5. | C85: ÀÝ¹³Ù»ÝÁ ÁÝï³ÝÇùÇ ¨ »ñ»Ë³ÛÇ ß³Ñ»ñÇ ¹»Ù áõÕÕí³Í Ñ³Ýó³·áñÍáõÃÛáõÝÝ»ñÁ
B86: 5.1 | C86: ²Ýã³÷³Ñ³ëÇÝ Ñ³Ýó³ÝùÇ Ï³ï³ñÙ³ÝÁ Ý»ñ·ñ³í»ÉÁ | E86: 165
B87: 5.2 | C87: ºñ»Ë³ÛÇÝ Ñ³Ï³Ñ³ë³ñ³Ï³Ï³Ý ·áñÍáÕáõÃÛáõÝÝ»ñ Ï³ï³ñ»ÉáõÝ Ý»ñ·ñ³í»ÉÁ | E87: 166
B88: 5.3 | C88: ÌÝáÕÝ»ñÇó »ñ»Ë³ÛÇÝ ³åûñÇÝÇ µ³Å³Ý»ÉÁ Ï³Ù »ñ»Ë³ÛÇÝ ÷áË»ÉÁ | E88: 167
B89: 5.4 | C89: ºñ»Ë³ÛÇ ³éù áõ í³×³éùÁ | E89: 168
B90: 5.5 | C90: àñ¹»·ñÙ³Ý ·³ÕïÝÇùÁ Ññ³å³ñ³Ï»ÉÁ Ï³Ù áñ¹»·ñÙ³Ý Ñ³Ù³Ó³ÛÝáõÃÛáõÝ ï³ÉáõÝ Ñ³Ï»ÉÁ Ï³Ù Ñ³ñÏ³¹ñ»ÉÁ | E90: 169
B91: 5.6 | C91: ø³Õ³ù³óÇ³Ï³Ý Ï³óáõÃÛ³Ý ³Ïï»ñÇ ·ñ³ÝóÙ³Ý Ù³ñÙÇÝÝ»ñÇÝ ëáõï ï»Õ»ÏáõÃÛáõÝÝ»ñ Ñ³Õáñ¹»ÉÁ | E91: 169.1
B92: 5.7 | C92: ºñ»Ë³ÛÇÝ ¹³ëïÇ³ñ³Ï»Éáõ å³ñï³Ï³ÝáõÃÛáõÝÁ ãÏ³ï³ñ»ÉÁ | E92: 170
B93: 5.8 | C93: ºñ»Ë³ÛÇ ÏÛ³ÝùÇ ³Ýíï³Ý·áõÃÛ³Ý ³å³ÑáíÙ³Ý Ï³Ù ³éáÕçáõÃÛ³Ý å³Ñå³ÝÙ³Ý å³ñï³Ï³ÝáõÃÛáõÝÁ ãÏ³ï³ñ»ÉÁ Ï³Ù áã å³ïß³× Ï³ï³ñ»ÉÁ | E93: 171
B94: 5.9 | C94: ÊÝ³Ù³Ï³ÉÇ Ï³Ù Ñá·³µ³ñÓáõÇ Çñ³íáõÝùÝ»ñÁ ã³ñ³ß³Ñ»ÉÁ | E94: 172
B95: 5.10 | C95: ÌÝáÕÇ ÏáÕÙÇó »ñ»Ë³ÛÇÝ å³Ñ»Éáõó ã³ñ³Ùïáñ»Ý Ëáõë³÷»ÉÁ | E95: 173
A96: 0 | B96: 5.11 | C96: ¼³í³ÏÇ ÏáÕÙÇó ³Ý³ßË³ïáõÝ³Ï ÍÝáÕÇÝ å³Ñ»Éáõó ã³ñ³Ùïáñ»Ý Ëáõë³÷»ÉÁ | E96: 174
B97: 5.12 | C97: ²ÛÉ Ñ³Ýó³·áñÍáõÃÛáõÝÝ»ñ
B98: 6. | C98: ÀÝ¹³Ù»ÝÁ ë»÷³Ï³ÝáõÃÛ³Ý ¹»Ù áõÕÕí³Í Ñ³Ýó³·áñÍáõÃÛáõÝÝ»ñÁ
B99: 6.1 | C99: ²í³½³ÏáõÃÛáõÝÁ | E99: 175 | G99: 5 | H99: 3 | K99: 3 | L99: 1 | M99: 3 | O99: 2
B100: 6.2 | C100: ÎáÕáåáõïÁ | E100: 176 | F100: 1 | G100: 8 | H100: 9 | K100: 9 | L100: 6 | M100: 2
B101: 6.3 | C101: ¶áÕáõÃÛáõÝÁ | E101: 177 | F101: 3 | G101: 42 | H101: 33 | I101: 1 | J101: 1 | K101: 35 | L101: 11 | M101: 7 | N101: 1 | O101: 9 | P101: 1
B102: 6.4 | C102: Ê³ñ¹³ËáõÃÛáõÝÁ | E102: 178 | G102: 17 | H102: 12 | K102: 12 | L102: 8 | M102: 3 | O102: 5
B103: 6.5 | C103: Úáõñ³óÝ»ÉÁ Ï³Ù í³ïÝ»ÉÁ | E103: 179 | G103: 1 | H103: 1 | K103: 1 | L103: 1
B104: 6.6 | C104: ²é³ÝÓÝ³ÏÇ ³ñÅ»ù áõÝ»óáÕ ³é³ñÏ³Ý»ñ Ñ³÷ßï³Ï»ÉÁ | E104: 180
...

Sheet Aragacotn
B7: êïáõ·Çã Ñ³í³ë³ñáõÙÝ»ñ` 1+2=6+9+10, 6=3+4+5 | E7: ÐÐ ùñ»³Ï³Ý ûñ»Ýë·ñùÇ Ñá¹í³ÍÝ»ñ | F7: ²Ý³í³ñï ·áñÍ»ñÇ ÙÝ³óáñ¹Á Ñ³ßí»ïáõ Å³Ù³Ý³Ï³ßñç³ÝÇ ëÏ½µáõÙ | G7: êï³óí»É »Ý ·áñÍ»ñ Ñ³ßí»ïáõ Å³Ù³Ý³Ï³ßñç³ÝáõÙ | H7: ²í³ñïí»É »Ý ·áñÍ»ñ Ñ³ßí»ïáõ Å³Ù³Ý³Ï³ßñç³ÝáõÙ | L7: úñÇÝ³Ï³Ý áõÅÇ Ù»ç ¿ Ùï»É | M7: ´áÕáù³ñÏí»É ¿ í»ñ³ùÝÝÇã ¹³ï³ñ³Ý | N7: àõÕ³ñÏí»É ¿ Áëï ÁÝ¹¹³ïáõÃÛ³Ý | O7: ²Ý³í³ñï ·áñÍ»ñÇ ÙÝ³óáñ¹Á Ñ³ßí»ïáõ Å³Ù³Ý³Ï³ßñç³ÝÇ í»ñçáõÙ | P7: ²Û¹ ÃíáõÙª Ï³ë»óí³Í
H8: øÝÝí»É ¿ Áëï ¿áõÃÛ³Ý ¨ ¹³ï³í×Çé Ï³Û³óí»É | I8: àñáßáõÙ ¿ Ï³Û³óí»É ùñ»³Ï³Ý ·áñÍÇ í³ñáõÛÃÁ Ï³ñ×»Éáõ ¨ ùñ»³Ï³Ý Ñ»ï³åÝ¹áõÙÁ ¹³¹³ñ»óÝ»Éáõ Ù³ëÇÝ | J8: àñáßáõÙ ¿ Ï³Û³óí»É ³ÝÙ»ÕëáõÝ³ÏÝ»ñÇ ÝÏ³ïÙ³Ùµ µÅßÏ³Ï³Ý µÝáõÛÃÇ Ñ³ñÏ³¹ñ³Ï³Ý ÙÇçáóÝ»ñ ÏÇñ³é»Éáõ Ù³ëÇÝ | K8: ÀÝ¹³Ù»ÝÁ ³í³ñïí»É »Ý ·áñÍ»ñ
F10: 1 | G10: 2 | H10: 3 | I10: 4 | J10: 5 | K10: 6 | L10: 7 | M10: 8 | N10: 9 | O10: 10 | P10: 11
A11: 1 | B11: 1. | C11: ÀÝ¹³Ù»ÝÁ ÏÛ³ÝùÇ ¨ ³éáÕçáõÃÛ³Ý ¹»Ù áõÕÕí³Í Ñ³Ýó³·áñÍáõÃÛáõÝÝ»ñÁ
A12: 0 | B12: 1.1 | C12: êå³ÝáõÃÛáõÝÁ | E12: 104 | G12: 3 | J12: 1 | K12: 1 | O12: 2
A13: 0 | B13: 1.2 | C13: Ðá·»Ï³Ý ËÇëï Ñáõ½ÙáõÝùÇ íÇ×³ÏáõÙ Ï³ï³ñí³Í ëå³ÝáõÃÛáõÝÁ | E13: 105
A14: 0 | B14: 1.3 | C14: Øáñ ÏáÕÙÇó Ýáñ³ÍÇÝ »ñ»Ë³ÛÇ ëå³ÝáõÃÛáõÝÁ | E14: 106
A15: 0 | B15: 1.4 | C15: Ð³Ýó³Ýù Ï³ï³ñ³Í ³ÝÓÇÝ µéÝ»Éáõ Ñ³Ù³ñ ³ÝÑñ³Å»ßï ÙÇçáóÝ»ñÇ ë³ÑÙ³Ý³½³ÝóÙ³Ùµ ëå³ÝáõÃÛáõÝÁ | E15: 107
A16: 0 | B16: 1.5 | C16: ²ÝÑñ³Å»ßï å³ßïå³ÝáõÃÛ³Ý ë³ÑÙ³Ý³½³ÝóÙ³Ùµ ëå³ÝáõÃÛáõÝÁ | E16: 108
A17: 0 | B17: 1.6 | C17: ²Ý½·áõßáõÃÛ³Ùµ Ù³Ñ å³ï×³é»ÉÁ | E17: 109
A18: 0 | B18: 1.7 | C18: ÆÝùÝ³ëå³ÝáõÃÛ³Ý Ñ³ëóÝ»ÉÁ | E18: 110
A19: 0 | B19: 1.8 | C19: ÆÝùÝ³ëå³ÝáõÃÛ³Ý Ñ³Ï»ÉÁ | E19: 111
A20: 0 | B20: 1.9 | C20: ¸Çï³íáñáõÃÛ³Ùµ ³éáÕçáõÃÛ³ÝÁ Í³Ýñ íÝ³ë å³ï×³é»ÉÁ | E20: 112 | G20: 5 | H20: 4 | K20: 4 | L20: 3 | O20: 1
A21: 0 | B21: 1.10 | C21: ¸Çï³íáñáõÃÛ³Ùµ ³éáÕçáõÃÛ³ÝÁ ÙÇçÇÝ Í³ÝñáõÃÛ³Ý íÝ³ë å³ï×³é»ÉÁ | E21: 113 | G21: 1 | O21: 1
A22: 0 | B22: 1.11 | C22: Ðá·»Ï³Ý ËÇëï Ñáõ½ÙáõÝùÇ íÇ×³ÏáõÙ ³éáÕçáõÃÛ³ÝÁ Í³Ýñ Ï³Ù ÙÇçÇÝ Í³ÝñáõÃÛ³Ý íÝ³ë å³ï×³é»ÉÁ | E22: 114
A23: 0 | B23: 1.12 | C23: Ð³Ýó³Ýù Ï³ï³ñ³Í ³ÝÓÇÝ µéÝ»Éáõ Ñ³Ù³ñ ³ÝÑñ³Å»ßï ÙÇçáóÝ»ñÇ ë³ÑÙ³Ý½³ÝóÙ³Ùµ ³éáÕçáõÃÛ³ÝÁ Í³Ýñ Ï³Ù ÙÇçÇÝ Í³ÝñáõÃÛ³Ý íÝ³ë å³ï×³é»ÉÁ | E23: 115
A24: 0 | B24: 1.13 | C24: ²éáÕçáõÃÛ³ÝÁ Í³Ýñ Ï³Ù ÙÇçÇÝ Í³ÝñáõÃÛ³Ý íÝ³ë å³ï×³é»ÉÁ ³ÝÑñ³Å»ßï å³ßïå³ÝáõÃÛ³Ý ë³ÑÙ³Ý³Ý³½³ÝóÙ³Ùµ | E24: 116
A25: 0 | B25: 1.14 | C25: ¸Çï³íáñáõÃÛ³Ùµ ³éáÕçáõÃÛ³ÝÁ Ã»Ã¨ íÝ³ë å³ï×³é»ÉÁ | E25: 117
A26: 0 | B26: 1.15 | C26: Ì»ÍÁ | E26: 118 | G26: 1 | I26: 1 | K26: 1
A27: 0 | B27: 1.16 | C27: Êáßï³Ý·áõÙÁ | E27: 119
A28: 0 | B28: 1.17 | C28: ²Ý½·áõßáõÃÛ³Ùµ ³éáÕçáõÃÛ³ÝÁ Í³Ýñ íÝ³ë å³ï×³é»ÉÁ | E28: 120
A29: 0 | B29: 1.18 | C29: ²Ý½·áõßáõÃÛ³Ùµ ³éáÕçáõÃÛ³ÝÁ ÙÇçÇÝ Í³ÝñáõÃÛ³Ý íÝ³ë å³ï×³é»ÉÁ | E29: 121
A30: 0 | B30: 1.19 | C30: ²åûñÇÝÇ ³µáñï Ï³ï³ñ»ÉÁ | E30: 122
A31: 0 | B31: 1.20 | C31: Ø³ñ¹áõ ÇÙáõÝ³ÛÇÝ ³Ýµ³í³ñ³ñáõÃÛ³Ý íÇñáõëÇ Ñ³ñáõóÇãáí í³ñ³Ï»ÉÁ | E31: 123
A32: 0 | B32: 1.21 | C32: ì»Ý»ñ³Ï³Ý ÑÇí³Ý¹áõÃÛ³Ùµ Ï³Ù ³ÛÉ ë»é³í³ñ³ÏÝ»ñáí í³ñ³Ï»ÉÁ | E32: 124
A33: 0 | B33: 1.22 | C33: öáËå³ïí³ëïÙ³Ý íÇñ³Ñ³ïáõÃÛáõÝ Ï³ï³ñ»Éáõ Ï³ÝáÝÝ»ñÁ Ë³Ëï»ÉÁ | E33: 125
A34: 0 | B34: 1.23 | C34: Ø³ñÙÝÇ Ù³ë»ñ Ï³Ù ÑÛáõëí³ÍùÝ»ñ ï³ÉáõÝ Ñ³ñÏ³¹ñ»ÉÁ | E34: 126
A35: 0 | B35: 1.24 | C35: ²ÝÓÇÝ ³é³Ýó Çñ Ñ³ÝÓÝ³ñ³ñáõÃÛ³Ý µÅßÏ³Ï³Ý Ï³Ù ·Çï³Ï³Ý ÷áñÓ»ñÇ »ÝÃ³ñÏ»ÉÁ | E35: 127
A36: 0 | B36: 1.25 | C36: ìï³Ý·Ç Ù»ç ÃáÕÝ»ÉÁ | E36: 128
A37: 0 | B37: 1.26 | C37: ÐÇí³Ý¹ÇÝ û·ÝáõÃÛáõÝ óáõÛó ãï³ÉÁ | E37: 129
A38: 0 | B38: 1.27 | C38: ´ÅßÏ³Ï³Ý û·ÝáõÃÛáõÝ ¨ ëå³ë³ñÏáõÙ Çñ³Ï³Ý³óÝáÕÝ»ñÇ ÏáÕÙÇó Ù³ëÝ³·Çï³Ï³Ý å³ñï³Ï³ÝáõÃÛáõÝÝ»ñÁ ãÏ³ï³ñ»ÉÁ Ï³Ù áã å³ïß³× Ï³ï³ñ»ÉÁ | E38: 130
A39: 1 | B39: 1.28 | C39: ²ÛÉ Ñ³Ýó³·áñÍáõÃÛáõÝÝ»ñ
A40: 0 | B40: 2. | C40: ÀÝ¹³Ù»ÝÁ ³ÝÓÇ ³½³ïáõÃÛ³Ý, å³ïíÇ ¨ ³ñÅ³Ý³å³ïíáõÃÛ³Ý ¹»Ù áõÕÕí³Í Ñ³Ýó³·áñÍáõÃÛáõÝÝ»ñÁ
A41: 0 | B41: 2.1 | C41: Ø³ñ¹áõÝ ³é¨³Ý·»ÉÁ | E41: 131 | G41: 3 | H41: 2 | K41: 2 | L41: 2 | O41: 1
B42: 2.2 | C42: Þ³Ñ³·áñÍÙ³Ý Ýå³ï³Ïáí Ù³ñ¹áõÝ Ñ³í³ù³·ñ»ÉÁ, ÷áË³¹ñ»ÉÁ, Ñ³ÝÓÝ»ÉÁ, Ã³ùóÝ»ÉÁ Ï³Ù ëï³Ý³ÉÁ | E42: 132 | G42: 1 | H42: 1 | K42: 1 | M42: 1
B43: 2.3 | C43: ²½³ïáõÃÛáõÝÇó ³åûñÇÝÇ ½ñÏ»ÉÁ | E43: 133
B44: 2.4 | C44: Ðá·»µáõÅ³Ï³Ý ÑÇí³Ý¹³ÝáóáõÙ ³åûñÇÝÇ ï»Õ³íáñ»ÉÁ Ï³Ù å³Ñ»ÉÁ | E44: 134
B45: 2.5 | C45: ¼ñå³ñïáõÃÛáõÝÁ | E45: 135
B46: 2.6 | C46: ìÇñ³íáñ³ÝùÁ | E46: 136 | G46: 2 | I46: 1 | K46: 1 | L46: 1 | O46: 1
A47: 0 | B47: 2.7 | C47: êå³ÝáõÃÛ³Ý, ³éáÕçáõÃÛ³ÝÁ Í³Ýñ íÝ³ë å³ï×³é»Éáõ Ï³Ù ·áõÛù áãÝã³óÝ»Éáõ ëå³éÝ³ÉÇùÁ | E47: 137 | G47: 1 | H47: 1 | K47: 1 | L47: 1
A48: 0 | B48: 2.8 | C48: ²ÛÉ Ñ³Ýó³·áñÍáõÃÛáõÝÝ»ñ
B49: 3. | C49: ÀÝ¹³Ù»ÝÁ ë»é³Ï³Ý ³ÝÓ»éÝÙË»ÉÇáõÃÛ³Ý ¨ ë»é³Ï³Ý ³½³ïáõÃÛ³Ý ¹»Ù áõÕÕí³Í Ñ³Ýó³·áñÍáõÃÛáõÝÝ»ñÁ
A50: 0 | B50: 3.1 | C50: ´éÝ³µ³ñáõÃÛáõÝÁ | E50: 138 | G50: 1 | H50: 1 | K50: 1
A51: 0 | B51: 3.2 | C51: ê»ùëáõ³É µÝáõÛÃÇ µéÝÇ ·áñÍáÕáõÃÛáõÝÝ»ñÁ | E51: 139
B52: 3.3 | C52: ê»ùëáõ³É µÝáõÛÃÇ ·áñÍáÕáõÃÛáõÝÝ»ñÇÝ Ñ³ñÏ³¹ñ»ÉÁ | E52: 140
B53: 3.4 | C53: ê»ùëáõ³É µÝáõÛÃÇ ·áñÍáÕáõÃÛáõÝÝ»ñ Ï³ï³ñ»ÉÁ ï³ëÝí»ó ï³ñÇÝ ãÉñ³ó³Í ³ÝÓÇ Ñ»ï | E53: 141
B54: 3.5 | C54: ²Ý³é³Ï³µ³ñá ·áñÍáÕáõÃÛáõÝÝ»ñÁ | E54: 142 | G54: 1 | O54: 1
B55: 3.6 | C55: ²ÛÉ Ñ³Ýó³·áñÍáõÃÛáõÝÝ»ñ
B56: 4. | C56: ÀÝ¹³Ù»ÝÁ Ù³ñ¹áõ ¨ ù³Õ³ù³óáõ ë³ÑÙ³Ý³¹ñ³Ï³Ý Çñ³íáõÝùÝ»ñÇ ¨ ³½³ïáõÃÛáõÝÝ»ñÇ ¹»Ù áõÕÕí³Í Ñ³Ýó³·áñÍáõÃÛáõÝÝ»ñÁ
B57: 4.1 | C57: ø³Õ³ù³óÇÝ»ñÇ Çñ³í³Ñ³í³ë³ñáõÃÛáõÝÁ Ë³Ëï»ÉÁ | E57: 143
B58: 4.2 | C58: ²ÝÓÝ³Ï³Ý Ï³Ù ÁÝï³Ý»Ï³Ý ÏÛ³ÝùÇ Ù³ëÇÝ ï»Õ»ÏáõÃÛáõÝÝ»ñ ³åûñÇÝÇ Ñ³í³ù»ÉÁ, å³Ñ»ÉÁ, û·ï³·áñÍ»ÉÁ Ï³Ù ï³ñ³Í»ÉÁ | E58: 144
B59: 4.3 | C59: ´ÅßÏ³Ï³Ý ·³ÕïÝÇùÁ Ññ³å³ñ³Ï»ÉÁ | E59: 145
B60: 4.4 | C60: Ü³Ù³Ï³·ñáõÃÛ³Ý, Ñ»é³Ëáë³ÛÇÝ Ëáë³ÏóáõÃÛáõÝÝ»ñÇ, ÷áëï³ÛÇÝ, Ñ»é³·ñ³Ï³Ý Ï³Ù ³ÛÉ Ñ³Õáñ¹áõÙÝ»ñÇ ·³ÕïÝÇáõÃÛáõÝÁ Ë³Ëï»ÉÁ | E60: 146
B61: 4.5 | C61: ´Ý³Ï³ñ³ÝÇ ³ÝÓ»éÝÙË»ÉÇáõÃÛáõÝÁ Ë³Ëï»ÉÁ | E61: 147
B62: 4.6 | C62: ²ÝÓÇÝ ï»Õ»ÏáõÃÛáõÝ Ý»ñÏ³Û³óÝ»Éáõó Ññ³Å³ñí»ÉÁ | E62: 148
B63: 4.7 | C63: ÀÝïñ³Ï³Ý Çñ³íáõÝùÇ Çñ³Ï³Ý³óÙ³ÝÁ, ÁÝïñ³Ï³Ý Ñ³ÝÓÝ³ÅáÕáíÝ»ñÇ ³ßË³ï³ÝùÝ»ñÇÝ Ï³Ù ÁÝïñáõÃÛ³ÝÁ Ù³ëÝ³ÏóáÕ ³ÝÓ³Ýó ÉÇ³½áñáõÃÛáõÝÝ»ñÇ Çñ³Ï³Ý³óÙ³ÝÁ ËáãÁÝ¹áï»ÉÁ | E63: 149
B64: 4.8 | C64: ÀÝïñáõÃÛáõÝÝ»ñÇ Ï³Ù ùí»³ñÏáõÃÛ³Ý ³ñ¹ÛáõÝùÝ»ñÁ Ï»ÕÍ»ÉÁ | E64: 150
B65: 4.9 | C65: ÀÝïñáõÃÛáõÝÝ»ñÇ ³ÝóÏ³óÙ³Ý ÁÝÃ³óùáõÙ Ã»ÏÝ³ÍáõÇ, Ïáõë³ÏóáõÃÛ³Ý (Ïáõë³ÏóáõÃÛáõÝÝ»ñÇ ¹³ßÇÝùÇ) í»ñ³µ»ñÛ³É ½ñå³ñïã³Ï³Ý ï»Õ»ÏáõÃÛáõÝÝ»ñ ï³ñ³Í»ÉÁ | E65: 151
B66: 4.10 | C66: ÀÝïñáÕÝ»ñÇ óáõó³ÏÝ»ñÁ Ï³½Ù»Éáõ Ï³ñ·Á Ë³Ëï»ÉÁ | E66: 152
B67: 4.11 | C67: Ø»ÏÇó ³í»ÉÇ ³Ý·³Ù Ï³Ù ³ÛÉ ³ÝÓÇ ÷áË³ñ»Ý ùí»³ñÏ»ÉÁ | E67: 153
A68: 0 | B68: 4.12 | C68: øí»³ñÏáõÃÛ³Ý ·³ÕïÝÇáõÃÛáõÝÁ Ë³Ëï»ÉÁ | E68: 154
B69: 4.13 | C69: Î»ÕÍ ÁÝïñ³Ï³Ý Ã»ñÃÇÏÝ»ñ Ï³Ù ùí»³ñÏáõÃÛ³Ý Íñ³ñÝ»ñ å³ïñ³ëï»ÉÁ Ï³Ù ³ÏÝÑ³Ûï Ï»ÕÍ ÁÝïñ³Ï³Ý ùí»³Ã»ñÃÇÏÝ»ñ Ï³Ù ùí»³ñÏáõÃÛ³Ý Íñ³ñÝ»ñ Ñ³ÝÓÝ»ÉÁ Ï³Ù Çñ³óÝ»ÉÁ | E69: 154.1
B70: 4.14 | C70: ÀÝïñáÕÇ Ï³ÙùÇ ³½³ï Çñ³Ï³Ý³óÙ³ÝÁ ËáãÁÝ¹áï»ÉÁ | E70: 154.2
B71: 4.15 | C71: ÀÝïñ³Ï³Ý Ñ³ÝÓÝ³ÅáÕáíÇ ÏÝÇùÁ ãí»ñ³¹³ñÓÝ»ÉÁ, ÏÝÇùÇ å³Ñå³ÝÙ³Ý ë³ÑÙ³Ýí³Í Ï³ñ·Á Ë³Ëï»ÉÁ | E71: 154.3
B72: 4.16 | C72: ¼»Ýùáíª ï»Õ³Ù³ë³ÛÇÝ Ï»ÝïñáÝ Ùáõïù ·áñÍ»ÉÁ | E72: 154.4
B73: 4.17 | C73: ìëï³Ñí³Í ³ÝÓÇÝ,ÁÝïñ³Ï³Ý Ñ³ÝÓÝ³ÅáÕáíÇ ³Ý¹³ÙÇÝ,¹Çïáñ¹ÇÝ Ï³Ù ½³Ý·í³Í³ÛÇÝ Éñ³ïíáõÃÛ³Ý ÙÇçáóÇ Ý»ñÏ³Û³óáõóãÇÝ ÁÝïñ³Ï³Ý ÷³ëï³ÃÕÃ»ñÇÝ Í³ÝáÃ³Ý³ÉáõÝ ËáãÁÝ¹áï»ÉÁ, ÁÝïñ³Ï³Ý Ñ³ÝÓÝ³ÅáÕáíÇ ³ñÓ³Ý³·ñáõÃÛáõÝÝ»ñÇ å³ï×»ÝÝ»ñ ãï³ÉÁ | E73: 154.5
B74: 4.18 | C74: ¶áñÍ³¹áõÉÇ Ù³ëÝ³Ïó»ÉáõÝ Ï³Ù ·áñÍ³¹áõÉÇ Ù³ëÝ³Ïó»Éáõó Ññ³Å³ñí»ÉáõÝ Ñ³ñÏ³¹ñ»ÉÁ | E74: 155
B75: 4.19 | C75: ÐÕÇ ÏÝáçÁ Ï³Ù ÙÇÝã¨ »ñ»ù ï³ñ»Ï³Ý »ñ»Ë³ áõÝ»óáÕ ³ÝÓÇÝ ³ßË³ï³ÝùÇ ÁÝ¹áõÝ»Éáõõó Ññ³Å³ñí»ÉÁ Ï³Ù ³ßË³ï³ÝùÇó ³ÝÑÇÙÝ ³½³ï»ÉÁ | E75: 156
B76: 4.20 | C76: ²ßË³ï³ÝùÇ å³ßïå³ÝáõÃÛ³Ý Ï³ÝáÝÝ»ñÁ Ë³Ëï»ÉÁ | E76: 157
B77: 4.21 | C77: Ð»ÕÇÝ³Ï³ÛÇÝ ¨ Ñ³ñ³ÏÇó Çñ³íáõÝùÝ»ñÁ Ë³Ëï»ÉÁ | E77: 158
B78: 4.22 | C78: ²ñïáÝ³·ñ³ÛÇÝ Çñ³íáõÝùÁ Ë³Ëï»ÉÁ | E78: 159
B79: 4.23 | C79: ÊÕ×Ç Ï³Ù ¹³í³Ý³ÝùÇ ³½³ïáõÃÛ³Ý Çñ³íáõÝùÇ Çñ³Ï³Ý³óÙ³ÝÁ ËáãÁÝ¹áï»ÉÁ | E79: 160
B80: 4.24 | C80: ØÇ³íáñáõÙÝ»ñ (Ñ³ë³ñ³Ï³Ï³Ý Ï³Ù ³ñÑ»ëï³Ïó³Ï³Ý ÙÇáõÃÛáõÝÝ»ñ) Ï³½Ù»Éáõ Ï³Ù Ïáõë³ÏóáõÃÛáõÝÝ»ñ ëï»ÕÍ»Éáõ Çñ³íáõÝùÇ Çñ³Ï³Ý³óÙ³ÝÁ Ï³Ù ¹ñ³Ýó ·áñÍáÕáõÃÛ³ÝÁ ËáãÁÝ¹áï»ÉÁ | E80: 161
... B83: 4.27 | C83: Èñ³·ñáÕÇ Ù³ëÝ³·Çï³Ï³Ý ûñÇÝ³Ï³Ý ·áñÍáÕáõÃÛ³ÝÁ ËáãÁÝ¹áï»ÉÁ | E83: 164
B84: 4.28 | C84: ²ÛÉ Ñ³Ýó³·áñÍáõÃÛáõÝÝ»ñ
B85: 5. | C85: ÀÝ¹³Ù»ÝÁ ÁÝï³ÝÇùÇ ¨ »ñ»Ë³ÛÇ ß³Ñ»ñÇ ¹»Ù áõÕÕí³Í Ñ³Ýó³·áñÍáõÃÛáõÝÝ»ñÁ
B86: 5.1 | C86: ²Ýã³÷³Ñ³ëÇÝ Ñ³Ýó³ÝùÇ Ï³ï³ñÙ³ÝÁ Ý»ñ·ñ³í»ÉÁ | E86: 165
B87: 5.2 | C87: ºñ»Ë³ÛÇÝ Ñ³Ï³Ñ³ë³ñ³Ï³Ï³Ý ·áñÍáÕáõÃÛáõÝÝ»ñ Ï³ï³ñ»ÉáõÝ Ý»ñ·ñ³í»ÉÁ | E87: 166
B88: 5.3 | C88: ÌÝáÕÝ»ñÇó »ñ»Ë³ÛÇÝ ³åûñÇÝÇ µ³Å³Ý»ÉÁ Ï³Ù »ñ»Ë³ÛÇÝ ÷áË»ÉÁ | E88: 167
B89: 5.4 | C89: ºñ»Ë³ÛÇ ³éù áõ í³×³éùÁ | E89: 168
B90: 5.5 | C90: àñ¹»·ñÙ³Ý ·³ÕïÝÇùÁ Ññ³å³ñ³Ï»ÉÁ Ï³Ù áñ¹»·ñÙ³Ý Ñ³Ù³Ó³ÛÝáõÃÛáõÝ ï³ÉáõÝ Ñ³Ï»ÉÁ Ï³Ù Ñ³ñÏ³¹ñ»ÉÁ | E90: 169
B91: 5.6 | C91: ø³Õ³ù³óÇ³Ï³Ý Ï³óáõÃÛ³Ý ³Ïï»ñÇ ·ñ³ÝóÙ³Ý Ù³ñÙÇÝÝ»ñÇÝ ëáõï ï»Õ»ÏáõÃÛáõÝÝ»ñ Ñ³Õáñ¹»ÉÁ | E91: 169.1
B92: 5.7 | C92: ºñ»Ë³ÛÇÝ ¹³ëïÇ³ñ³Ï»Éáõ å³ñï³Ï³ÝáõÃÛáõÝÁ ãÏ³ï³ñ»ÉÁ | E92: 170
B93: 5.8 | C93: ºñ»Ë³ÛÇ ÏÛ³ÝùÇ ³Ýíï³Ý·áõÃÛ³Ý ³å³ÑáíÙ³Ý Ï³Ù ³éáÕçáõÃÛ³Ý å³Ñå³ÝÙ³Ý å³ñï³Ï³ÝáõÃÛáõÝÁ ãÏ³ï³ñ»ÉÁ Ï³Ù áã å³ïß³× Ï³ï³ñ»ÉÁ | E93: 171
B94: 5.9 | C94: ÊÝ³Ù³Ï³ÉÇ Ï³Ù Ñá·³µ³ñÓáõÇ Çñ³íáõÝùÝ»ñÁ ã³ñ³ß³Ñ»ÉÁ | E94: 172
B95: 5.10 | C95: ÌÝáÕÇ ÏáÕÙÇó »ñ»Ë³ÛÇÝ å³Ñ»Éáõó ã³ñ³Ùïáñ»Ý Ëáõë³÷»ÉÁ | E95: 173
A96: 0 | B96: 5.11 | C96: ¼³í³ÏÇ ÏáÕÙÇó ³Ý³ßË³ïáõÝ³Ï ÍÝáÕÇÝ å³Ñ»Éáõó ã³ñ³Ùïáñ»Ý Ëáõë³÷»ÉÁ | E96: 174
B97: 5.12 | C97: ²ÛÉ Ñ³Ýó³·áñÍáõÃÛáõÝÝ»ñ
B98: 6. | C98: ÀÝ¹³Ù»ÝÁ ë»÷³Ï³ÝáõÃÛ³Ý ¹»Ù áõÕÕí³Í Ñ³Ýó³·áñÍáõÃÛáõÝÝ»ñÁ
B99: 6.1 | C99: ²í³½³ÏáõÃÛáõÝÁ | E99: 175 | G99: 3 | H99: 1 | K99: 1 | L99: 1 | O99: 2
B100: 6.2 | C100: ÎáÕáåáõïÁ | E100: 176
B101: 6.3 | C101: ¶áÕáõÃÛáõÝÁ | E101: 177 | G101: 17 | H101: 14 | I101: 1 | K101: 15 | L101: 13 | M101: 2 | O101: 2
B102: 6.4 | C102: Ê³ñ¹³ËáõÃÛáõÝÁ | E102: 178 | G102: 6 | H102: 4 | K102: 4 | L102: 3 | M102: 1 | O102: 2
B103: 6.5 | C103: Úáõñ³óÝ»ÉÁ Ï³Ù í³ïÝ»ÉÁ | E103: 179 | G103: 1 | H103: 1 | K103: 1 | L103: 1
B104: 6.6 | C104: ²é³ÝÓÝ³ÏÇ ³ñÅ»ù áõÝ»óáÕ ³é³ñÏ³Ý»ñ Ñ³÷ßï³Ï»ÉÁ | E104: 180
B105: 6.7 | C105: Ð³÷ßï³ÏáõÃÛáõÝÁ, áñÁ Ï³ï³ñí»É ¿ Ñ³Ù³Ï³ñ·ã³ÛÇÝ ï»ËÝÇÏ³ÛÇ û·ï³·áñÍÙ³Ùµ | E105: 181
B106: 6.8 | C106: ÞáñÃáõÙÁ | E106: 182
B107: 6.9 | C107: ²íïáÙ»ù»Ý³ÛÇÝ Ï³Ù ïñ³Ýëåáñï³ÛÇÝ ³ÛÉ ÙÇçáóÇÝ ³åûñÇÝ³µ³ñ ïÇñ³Ý³ÉÝ ³é³Ýó Ñ³÷ßï³Ï»Éáõ Ýå³ï³ÏÇ | E107: 183
B108: 6.10 | C108: ¶áõÛù³ÛÇÝ íÝ³ë å³ï×³é»ÉÁ Ë³µ»áõÃÛ³Ý Ï³Ù íëï³ÑáõÃÛáõÝÁ ã³ñ³ß³Ñ»Éáõ »Õ³Ý³Ïáí | E108: 184
B109: 6.11 | C109: ¶áõÛùÁ ¹Çï³íáñáõÃÛ³Ùµ áãÝã³óÝ»ÉÁ Ï³Ù íÝ³ë»ÉÁ | E109: 185
...

Sheet Armavir
B2: Ð²ÞìºîìàôÂÚàôÜ
B4: ÐÐ ÀÜ¸Ð²Üàôð Æð²ì²êàôÂÚ²Ü ¸²î²ð²ÜÜºðàôØ øðº²Î²Ü ¶àðÌºðÆ øÜÜàôÂÚ²Ü ìºð²´ºðÚ²È
B5: 2009Ã. ï³ñí³ Ñ³Ù³ñ
B7: êïáõ·Çã Ñ³í³ë³ñáõÙÝ»ñ` 1+2=6+9+10, 6=3+4+5 | E7: ÐÐ ùñ»³Ï³Ý ûñ»Ýë·ñùÇ Ñá¹í³ÍÝ»ñ | F7: ²Ý³í³ñï ·áñÍ»ñÇ ÙÝ³óáñ¹Á Ñ³ßí»ïáõ Å³Ù³Ý³Ï³ßñç³ÝÇ ëÏ½µáõÙ | G7: êï³óí»É »Ý ·áñÍ»ñ Ñ³ßí»ïáõ Å³Ù³Ý³Ï³ßñç³ÝáõÙ | H7: ²í³ñïí»É »Ý ·áñÍ»ñ Ñ³ßí»ïáõ Å³Ù³Ý³Ï³ßñç³ÝáõÙ | L7: úñÇÝ³Ï³Ý áõÅÇ Ù»ç ¿ Ùï»É | M7: ´áÕáù³ñÏí»É ¿ í»ñ³ùÝÝÇã ¹³ï³ñ³Ý | N7: àõÕ³ñÏí»É ¿ Áëï ÁÝ¹¹³ïáõÃÛ³Ý | O7: ²Ý³í³ñï ·áñÍ»ñÇ ÙÝ³óáñ¹Á Ñ³ßí»ïáõ Å³Ù³Ý³Ï³ßñç³ÝÇ í»ñçáõÙ | P7: ²Û¹ ÃíáõÙª Ï³ë»óí³Í
H8: øÝÝí»É ¿ Áëï ¿áõÃÛ³Ý ¨ ¹³ï³í×Çé Ï³Û³óí»É | I8: àñáßáõÙ ¿ Ï³Û³óí»É ùñ»³Ï³Ý ·áñÍÇ í³ñáõÛÃÁ Ï³ñ×»Éáõ ¨ ùñ»³Ï³Ý Ñ»ï³åÝ¹áõÙÁ ¹³¹³ñ»óÝ»Éáõ Ù³ëÇÝ | J8: àñáßáõÙ ¿ Ï³Û³óí»É ³ÝÙ»ÕëáõÝ³ÏÝ»ñÇ ÝÏ³ïÙ³Ùµ µÅßÏ³Ï³Ý µÝáõÛÃÇ Ñ³ñÏ³¹ñ³Ï³Ý ÙÇçáóÝ»ñ ÏÇñ³é»Éáõ Ù³ëÇÝ | K8: ÀÝ¹³Ù»ÝÁ ³í³ñïí»É »Ý ·áñÍ»ñ
F10: 1 | G10: 2 | H10: 3 | I10: 4 | J10: 5 | K10: 6 | L10: 7 | M10: 8 | N10: 9 | O10: 10 | P10: 11
A11: 1 | B11: 1. | C11: ÀÝ¹³Ù»ÝÁ ÏÛ³ÝùÇ ¨ ³éáÕçáõÃÛ³Ý ¹»Ù áõÕÕí³Í Ñ³Ýó³·áñÍáõÃÛáõÝÝ»ñÁ
A12: 0 | B12: 1.1 | C12: êå³ÝáõÃÛáõÝÁ | E12: 104 | G12: 5 | H12: 3 | J12: 1 | K12: 4 | L12: 2 | M12: 2 | O12: 1
A13: 0 | B13: 1.2 | C13: Ðá·»Ï³Ý ËÇëï Ñáõ½ÙáõÝùÇ íÇ×³ÏáõÙ Ï³ï³ñí³Í ëå³ÝáõÃÛáõÝÁ | E13: 105
A14: 0 | B14: 1.3 | C14: Øáñ ÏáÕÙÇó Ýáñ³ÍÇÝ »ñ»Ë³ÛÇ ëå³ÝáõÃÛáõÝÁ | E14: 106
A15: 0 | B15: 1.4 | C15: Ð³Ýó³Ýù Ï³ï³ñ³Í ³ÝÓÇÝ µéÝ»Éáõ Ñ³Ù³ñ ³ÝÑñ³Å»ßï ÙÇçáóÝ»ñÇ ë³ÑÙ³Ý³½³ÝóÙ³Ùµ ëå³ÝáõÃÛáõÝÁ | E15: 107
A16: 0 | B16: 1.5 | C16: ²ÝÑñ³Å»ßï å³ßïå³ÝáõÃÛ³Ý ë³ÑÙ³Ý³½³ÝóÙ³Ùµ ëå³ÝáõÃÛáõÝÁ | E16: 108
A17: 0 | B17: 1.6 | C17: ²Ý½·áõßáõÃÛ³Ùµ Ù³Ñ å³ï×³é»ÉÁ | E17: 109
A18: 0 | B18: 1.7 | C18: ÆÝùÝ³ëå³ÝáõÃÛ³Ý Ñ³ëóÝ»ÉÁ | E18: 110 | G18: 1 | H18: 1 | K18: 1 | L18: 1
A19: 0 | B19: 1.8 | C19: ÆÝùÝ³ëå³ÝáõÃÛ³Ý Ñ³Ï»ÉÁ | E19: 111
A20: 0 | B20: 1.9 | C20: ¸Çï³íáñáõÃÛ³Ùµ ³éáÕçáõÃÛ³ÝÁ Í³Ýñ íÝ³ë å³ï×³é»ÉÁ | E20: 112 | G20: 8 | H20: 6 | J20: 1 | K20: 7 | L20: 7 | M20: 1 | O20: 1
A21: 0 | B21: 1.10 | C21: ¸Çï³íáñáõÃÛ³Ùµ ³éáÕçáõÃÛ³ÝÁ ÙÇçÇÝ Í³ÝñáõÃÛ³Ý íÝ³ë å³ï×³é»ÉÁ | E21: 113 | F21: 1 | G21: 1 | H21: 1 | J21: 1 | K21: 2 | L21: 2
A22: 0 | B22: 1.11 | C22: Ðá·»Ï³Ý ËÇëï Ñáõ½ÙáõÝùÇ íÇ×³ÏáõÙ ³éáÕçáõÃÛ³ÝÁ Í³Ýñ Ï³Ù ÙÇçÇÝ Í³ÝñáõÃÛ³Ý íÝ³ë å³ï×³é»ÉÁ | E22: 114 | F22: 1 | G22: 1 | H22: 1 | K22: 1 | L22: 1 | O22: 1 | P22: 1
A23: 0 | B23: 1.12 | C23: Ð³Ýó³Ýù Ï³ï³ñ³Í ³ÝÓÇÝ µéÝ»Éáõ Ñ³Ù³ñ ³ÝÑñ³Å»ßï ÙÇçáóÝ»ñÇ ë³ÑÙ³Ý½³ÝóÙ³Ùµ ³éáÕçáõÃÛ³ÝÁ Í³Ýñ Ï³Ù ÙÇçÇÝ Í³ÝñáõÃÛ³Ý íÝ³ë å³ï×³é»ÉÁ | E23: 115
A24: 0 | B24: 1.13 | C24: ²éáÕçáõÃÛ³ÝÁ Í³Ýñ Ï³Ù ÙÇçÇÝ Í³ÝñáõÃÛ³Ý íÝ³ë å³ï×³é»ÉÁ ³ÝÑñ³Å»ßï å³ßïå³ÝáõÃÛ³Ý ë³ÑÙ³Ý³Ý³½³ÝóÙ³Ùµ | E24: 116 | G24: 1 | I24: 1 | K24: 1 | L24: 1
A25: 0 | B25: 1.14 | C25: ¸Çï³íáñáõÃÛ³Ùµ ³éáÕçáõÃÛ³ÝÁ Ã»Ã¨ íÝ³ë å³ï×³é»ÉÁ | E25: 117 | F25: 1 | G25: 1 | H25: 1 | K25: 1 | L25: 1 | O25: 1 | P25: 1
A26: 0 | B26: 1.15 | C26: Ì»ÍÁ | E26: 118
A27: 0 | B27: 1.16 | C27: Êáßï³Ý·áõÙÁ | E27: 119
A28: 0 | B28: 1.17 | C28: ²Ý½·áõßáõÃÛ³Ùµ ³éáÕçáõÃÛ³ÝÁ Í³Ýñ íÝ³ë å³ï×³é»ÉÁ | E28: 120 | G28: 2 | I28: 2 | K28: 2 | L28: 2
A29: 0 | B29: 1.18 | C29: ²Ý½·áõßáõÃÛ³Ùµ ³éáÕçáõÃÛ³ÝÁ ÙÇçÇÝ Í³ÝñáõÃÛ³Ý íÝ³ë å³ï×³é»ÉÁ | E29: 121
A30: 0 | B30: 1.19 | C30: ²åûñÇÝÇ ³µáñï Ï³ï³ñ»ÉÁ | E30: 122
A31: 0 | B31: 1.20 | C31: Ø³ñ¹áõ ÇÙáõÝ³ÛÇÝ ³Ýµ³í³ñ³ñáõÃÛ³Ý íÇñáõëÇ Ñ³ñáõóÇãáí í³ñ³Ï»ÉÁ | E31: 123
A32: 0 | B32: 1.21 | C32: ì»Ý»ñ³Ï³Ý ÑÇí³Ý¹áõÃÛ³Ùµ Ï³Ù ³ÛÉ ë»é³í³ñ³ÏÝ»ñáí í³ñ³Ï»ÉÁ | E32: 124
A33: 0 | B33: 1.22 | C33: öáËå³ïí³ëïÙ³Ý íÇñ³Ñ³ïáõÃÛáõÝ Ï³ï³ñ»Éáõ Ï³ÝáÝÝ»ñÁ Ë³Ëï»ÉÁ | E33: 125
A34: 0 | B34: 1.23 | C34: Ø³ñÙÝÇ Ù³ë»ñ Ï³Ù ÑÛáõëí³ÍùÝ»ñ ï³ÉáõÝ Ñ³ñÏ³¹ñ»ÉÁ | E34: 126
A35: 0 | B35: 1.24 | C35: ²ÝÓÇÝ ³é³Ýó Çñ Ñ³ÝÓÝ³ñ³ñáõÃÛ³Ý µÅßÏ³Ï³Ý Ï³Ù ·Çï³Ï³Ý ÷áñÓ»ñÇ »ÝÃ³ñÏ»ÉÁ | E35: 127
A36: 0 | B36: 1.25 | C36: ìï³Ý·Ç Ù»ç ÃáÕÝ»ÉÁ | E36: 128
A37: 0 | B37: 1.26 | C37: ÐÇí³Ý¹ÇÝ û·ÝáõÃÛáõÝ óáõÛó ãï³ÉÁ | E37: 129
A38: 0 | B38: 1.27 | C38: ´ÅßÏ³Ï³Ý û·ÝáõÃÛáõÝ ¨ ëå³ë³ñÏáõÙ Çñ³Ï³Ý³óÝáÕÝ»ñÇ ÏáÕÙÇó Ù³ëÝ³·Çï³Ï³Ý å³ñï³Ï³ÝáõÃÛáõÝÝ»ñÁ ãÏ³ï³ñ»ÉÁ Ï³Ù áã å³ïß³× Ï³ï³ñ»ÉÁ | E38: 130
A39: 1 | B39: 1.28 | C39: ²ÛÉ Ñ³Ýó³·áñÍáõÃÛáõÝÝ»ñ
A40: 0 | B40: 2. | C40: ÀÝ¹³Ù»ÝÁ ³ÝÓÇ ³½³ïáõÃÛ³Ý, å³ïíÇ ¨ ³ñÅ³Ý³å³ïíáõÃÛ³Ý ¹»Ù áõÕÕí³Í Ñ³Ýó³·áñÍáõÃÛáõÝÝ»ñÁ
A41: 0 | B41: 2.1 | C41: Ø³ñ¹áõÝ ³é¨³Ý·»ÉÁ | E41: 131 | G41: 2 | H41: 1 | J41: 1 | K41: 2 | L41: 2
B42: 2.2 | C42: Þ³Ñ³·áñÍÙ³Ý Ýå³ï³Ïáí Ù³ñ¹áõÝ Ñ³í³ù³·ñ»ÉÁ, ÷áË³¹ñ»ÉÁ, Ñ³ÝÓÝ»ÉÁ, Ã³ùóÝ»ÉÁ Ï³Ù ëï³Ý³ÉÁ | E42: 132
B43: 2.3 | C43: ²½³ïáõÃÛáõÝÇó ³åûñÇÝÇ ½ñÏ»ÉÁ | E43: 133
B44: 2.4 | C44: Ðá·»µáõÅ³Ï³Ý ÑÇí³Ý¹³ÝáóáõÙ ³åûñÇÝÇ ï»Õ³íáñ»ÉÁ Ï³Ù å³Ñ»ÉÁ | E44: 134
B45: 2.5 | C45: ¼ñå³ñïáõÃÛáõÝÁ | E45: 135
B46: 2.6 | C46: ìÇñ³íáñ³ÝùÁ | E46: 136 | G46: 1 | H46: 1 | K46: 1 | L46: 1
A47: 0 | B47: 2.7 | C47: êå³ÝáõÃÛ³Ý, ³éáÕçáõÃÛ³ÝÁ Í³Ýñ íÝ³ë å³ï×³é»Éáõ Ï³Ù ·áõÛù áãÝã³óÝ»Éáõ ëå³éÝ³ÉÇùÁ | E47: 137 | G47: 1 | I47: 1 | K47: 1 | L47: 1
A48: 0 | B48: 2.8 | C48: ²ÛÉ Ñ³Ýó³·áñÍáõÃÛáõÝÝ»ñ
B49: 3. | C49: ÀÝ¹³Ù»ÝÁ ë»é³Ï³Ý ³ÝÓ»éÝÙË»ÉÇáõÃÛ³Ý ¨ ë»é³Ï³Ý ³½³ïáõÃÛ³Ý ¹»Ù áõÕÕí³Í Ñ³Ýó³·áñÍáõÃÛáõÝÝ»ñÁ
A50: 0 | B50: 3.1 | C50: ´éÝ³µ³ñáõÃÛáõÝÁ | E50: 138
A51: 0 | B51: 3.2 | C51: ê»ùëáõ³É µÝáõÛÃÇ µéÝÇ ·áñÍáÕáõÃÛáõÝÝ»ñÁ | E51: 139 | G51: 1 | O51: 1
B52: 3.3 | C52: ê»ùëáõ³É µÝáõÛÃÇ ·áñÍáÕáõÃÛáõÝÝ»ñÇÝ Ñ³ñÏ³¹ñ»ÉÁ | E52: 140
B53: 3.4 | C53: ê»ùëáõ³É µÝáõÛÃÇ ·áñÍáÕáõÃÛáõÝÝ»ñ Ï³ï³ñ»ÉÁ ï³ëÝí»ó ï³ñÇÝ ãÉñ³ó³Í ³ÝÓÇ Ñ»ï | E53: 141
B54: 3.5 | C54: ²Ý³é³Ï³µ³ñá ·áñÍáÕáõÃÛáõÝÝ»ñÁ | E54: 142
B55: 3.6 | C55: ²ÛÉ Ñ³Ýó³·áñÍáõÃÛáõÝÝ»ñ
B56: 4. | C56: ÀÝ¹³Ù»ÝÁ Ù³ñ¹áõ ¨ ù³Õ³ù³óáõ ë³ÑÙ³Ý³¹ñ³Ï³Ý Çñ³íáõÝùÝ»ñÇ ¨ ³½³ïáõÃÛáõÝÝ»ñÇ ¹»Ù áõÕÕí³Í Ñ³Ýó³·áñÍáõÃÛáõÝÝ»ñÁ
B57: 4.1 | C57: ø³Õ³ù³óÇÝ»ñÇ Çñ³í³Ñ³í³ë³ñáõÃÛáõÝÁ Ë³Ëï»ÉÁ | E57: 143
B58: 4.2 | C58: ²ÝÓÝ³Ï³Ý Ï³Ù ÁÝï³Ý»Ï³Ý ÏÛ³ÝùÇ Ù³ëÇÝ ï»Õ»ÏáõÃÛáõÝÝ»ñ ³åûñÇÝÇ Ñ³í³ù»ÉÁ, å³Ñ»ÉÁ, û·ï³·áñÍ»ÉÁ Ï³Ù ï³ñ³Í»ÉÁ | E58: 144
B59: 4.3 | C59: ´ÅßÏ³Ï³Ý ·³ÕïÝÇùÁ Ññ³å³ñ³Ï»ÉÁ | E59: 145
B60: 4.4 | C60: Ü³Ù³Ï³·ñáõÃÛ³Ý, Ñ»é³Ëáë³ÛÇÝ Ëáë³ÏóáõÃÛáõÝÝ»ñÇ, ÷áëï³ÛÇÝ, Ñ»é³·ñ³Ï³Ý Ï³Ù ³ÛÉ Ñ³Õáñ¹áõÙÝ»ñÇ ·³ÕïÝÇáõÃÛáõÝÁ Ë³Ëï»ÉÁ | E60: 146
B61: 4.5 | C61: ´Ý³Ï³ñ³ÝÇ ³ÝÓ»éÝÙË»ÉÇáõÃÛáõÝÁ Ë³Ëï»ÉÁ | E61: 147 | G61: 1 | H61: 1 | K61: 1 | L61: 1 | M61: 1
B62: 4.6 | C62: ²ÝÓÇÝ ï»Õ»ÏáõÃÛáõÝ Ý»ñÏ³Û³óÝ»Éáõó Ññ³Å³ñí»ÉÁ | E62: 148
B63: 4.7 | C63: ÀÝïñ³Ï³Ý Çñ³íáõÝùÇ Çñ³Ï³Ý³óÙ³ÝÁ, ÁÝïñ³Ï³Ý Ñ³ÝÓÝ³ÅáÕáíÝ»ñÇ ³ßË³ï³ÝùÝ»ñÇÝ Ï³Ù ÁÝïñáõÃÛ³ÝÁ Ù³ëÝ³ÏóáÕ ³ÝÓ³Ýó ÉÇ³½áñáõÃÛáõÝÝ»ñÇ Çñ³Ï³Ý³óÙ³ÝÁ ËáãÁÝ¹áï»ÉÁ | E63: 149
B64: 4.8 | C64: ÀÝïñáõÃÛáõÝÝ»ñÇ Ï³Ù ùí»³ñÏáõÃÛ³Ý ³ñ¹ÛáõÝùÝ»ñÁ Ï»ÕÍ»ÉÁ | E64: 150
B65: 4.9 | C65: ÀÝïñáõÃÛáõÝÝ»ñÇ ³ÝóÏ³óÙ³Ý ÁÝÃ³óùáõÙ Ã»ÏÝ³ÍáõÇ, Ïáõë³ÏóáõÃÛ³Ý (Ïáõë³ÏóáõÃÛáõÝÝ»ñÇ ¹³ßÇÝùÇ) í»ñ³µ»ñÛ³É ½ñå³ñïã³Ï³Ý ï»Õ»ÏáõÃÛáõÝÝ»ñ ï³ñ³Í»ÉÁ | E65: 151
B66: 4.10 | C66: ÀÝïñáÕÝ»ñÇ óáõó³ÏÝ»ñÁ Ï³½Ù»Éáõ Ï³ñ·Á Ë³Ëï»ÉÁ | E66: 152
B67: 4.11 | C67: Ø»ÏÇó ³í»ÉÇ ³Ý·³Ù Ï³Ù ³ÛÉ ³ÝÓÇ ÷áË³ñ»Ý ùí»³ñÏ»ÉÁ | E67: 153
A68: 0 | B68: 4.12 | C68: øí»³ñÏáõÃÛ³Ý ·³ÕïÝÇáõÃÛáõÝÁ Ë³Ëï»ÉÁ | E68: 154
B69: 4.13 | C69: Î»ÕÍ ÁÝïñ³Ï³Ý Ã»ñÃÇÏÝ»ñ Ï³Ù ùí»³ñÏáõÃÛ³Ý Íñ³ñÝ»ñ å³ïñ³ëï»ÉÁ Ï³Ù ³ÏÝÑ³Ûï Ï»ÕÍ ÁÝïñ³Ï³Ý ùí»³Ã»ñÃÇÏÝ»ñ Ï³Ù ùí»³ñÏáõÃÛ³Ý Íñ³ñÝ»ñ Ñ³ÝÓÝ»ÉÁ Ï³Ù Çñ³óÝ»ÉÁ | E69: 154.1
B70: 4.14 | C70: ÀÝïñáÕÇ Ï³ÙùÇ ³½³ï Çñ³Ï³Ý³óÙ³ÝÁ ËáãÁÝ¹áï»ÉÁ | E70: 154.2
B71: 4.15 | C71: ÀÝïñ³Ï³Ý Ñ³ÝÓÝ³ÅáÕáíÇ ÏÝÇùÁ ãí»ñ³¹³ñÓÝ»ÉÁ, ÏÝÇùÇ å³Ñå³ÝÙ³Ý ë³ÑÙ³Ýí³Í Ï³ñ·Á Ë³Ëï»ÉÁ | E71: 154.3
B72: 4.16 | C72: ¼»Ýùáíª ï»Õ³Ù³ë³ÛÇÝ Ï»ÝïñáÝ Ùáõïù ·áñÍ»ÉÁ | E72: 154.4
B73: 4.17 | C73: ìëï³Ñí³Í ³ÝÓÇÝ,ÁÝïñ³Ï³Ý Ñ³ÝÓÝ³ÅáÕáíÇ ³Ý¹³ÙÇÝ,¹Çïáñ¹ÇÝ Ï³Ù ½³Ý·í³Í³ÛÇÝ Éñ³ïíáõÃÛ³Ý ÙÇçáóÇ Ý»ñÏ³Û³óáõóãÇÝ ÁÝïñ³Ï³Ý ÷³ëï³ÃÕÃ»ñÇÝ Í³ÝáÃ³Ý³ÉáõÝ ËáãÁÝ¹áï»ÉÁ, ÁÝïñ³Ï³Ý Ñ³ÝÓÝ³ÅáÕáíÇ ³ñÓ³Ý³·ñáõÃÛáõÝÝ»ñÇ å³ï×»ÝÝ»ñ ãï³ÉÁ | E73: 154.5
B74: 4.18 | C74: ¶áñÍ³¹áõÉÇ Ù³ëÝ³Ïó»ÉáõÝ Ï³Ù ·áñÍ³¹áõÉÇ Ù³ëÝ³Ïó»Éáõó Ññ³Å³ñí»ÉáõÝ Ñ³ñÏ³¹ñ»ÉÁ | E74: 155
B75: 4.19 | C75: ÐÕÇ ÏÝáçÁ Ï³Ù ÙÇÝã¨ »ñ»ù ï³ñ»Ï³Ý »ñ»Ë³ áõÝ»óáÕ ³ÝÓÇÝ ³ßË³ï³ÝùÇ ÁÝ¹áõÝ»Éáõõó Ññ³Å³ñí»ÉÁ Ï³Ù ³ßË³ï³ÝùÇó ³ÝÑÇÙÝ ³½³ï»ÉÁ | E75: 156
B76: 4.20 | C76: ²ßË³ï³ÝùÇ å³ßïå³ÝáõÃÛ³Ý Ï³ÝáÝÝ»ñÁ Ë³Ëï»ÉÁ | E76: 157 | G76: 1 | H76: 1 | K76: 1 | L76: 1
B77: 4.21 | C77: Ð»ÕÇÝ³Ï³ÛÇÝ ¨ Ñ³ñ³ÏÇó Çñ³íáõÝùÝ»ñÁ Ë³Ëï»ÉÁ | E77: 158
B78: 4.22 | C78: ²ñïáÝ³·ñ³ÛÇÝ Çñ³íáõÝùÁ Ë³Ëï»ÉÁ | E78: 159
B79: 4.23 | C79: ÊÕ×Ç Ï³Ù ¹³í³Ý³ÝùÇ ³½³ïáõÃÛ³Ý Çñ³íáõÝùÇ Çñ³Ï³Ý³óÙ³ÝÁ ËáãÁÝ¹áï»ÉÁ | E79: 160
B80: 4.24 | C80: ØÇ³íáñáõÙÝ»ñ (Ñ³ë³ñ³Ï³Ï³Ý Ï³Ù ³ñÑ»ëï³Ïó³Ï³Ý ÙÇáõÃÛáõÝÝ»ñ) Ï³½Ù»Éáõ Ï³Ù Ïáõë³ÏóáõÃÛáõÝÝ»ñ ëï»ÕÍ»Éáõ Çñ³íáõÝùÇ Çñ³Ï³Ý³óÙ³ÝÁ Ï³Ù ¹ñ³Ýó ·áñÍáÕáõÃÛ³ÝÁ ËáãÁÝ¹áï»ÉÁ | E80: 161
B81: 4.25 | C81: ²ÝÓ³Ýó Çñ³íáõÝùÝ»ñÇ Ï³Ù ³ÝÓÇ ¹»Ù áïÝÓ·áÕ ÙÇ³íáñáõÙÝ»ñ Ï³½Ù»ÉÁ Ï³Ù Õ»Ï³í³ñ»ÉÁ | E81: 162
B82: 4.26 | C82: ÄáÕáíÝ»ñ, Ñ³Ýñ³Ñ³í³ùÝ»ñ, »ñÃ»ñ ¨ óáõÛó»ñ ³ÝóÏ³óÝ»ÉáõÝ Ï³Ù ¹ñ³Ýó Ù³ëÝ³Ïó»ÉáõÝ ËáãÁÝ¹áï»ÉÁ | E82: 163
B83: 4.27 | C83: Èñ³·ñáÕÇ Ù³ëÝ³·Çï³Ï³Ý ûñÇÝ³Ï³Ý ·áñÍáÕáõÃÛ³ÝÁ ËáãÁÝ¹áï»ÉÁ | E83: 164
B84: 4.28 | C84: ²ÛÉ Ñ³Ýó³·áñÍáõÃÛáõÝÝ»ñ
B85: 5. | C85: ÀÝ¹³Ù»ÝÁ ÁÝï³ÝÇùÇ ¨ »ñ»Ë³ÛÇ ß³Ñ»ñÇ ¹»Ù áõÕÕí³Í Ñ³Ýó³·áñÍáõÃÛáõÝÝ»ñÁ
B86: 5.1 | C86: ²Ýã³÷³Ñ³ëÇÝ Ñ³Ýó³ÝùÇ Ï³ï³ñÙ³ÝÁ Ý»ñ·ñ³í»ÉÁ | E86: 165 | G86: 1 | O86: 1
B87: 5.2 | C87: ºñ»Ë³ÛÇÝ Ñ³Ï³Ñ³ë³ñ³Ï³Ï³Ý ·áñÍáÕáõÃÛáõÝÝ»ñ Ï³ï³ñ»ÉáõÝ Ý»ñ·ñ³í»ÉÁ | E87: 166
B88: 5.3 | C88: ÌÝáÕÝ»ñÇó »ñ»Ë³ÛÇÝ ³åûñÇÝÇ µ³Å³Ý»ÉÁ Ï³Ù »ñ»Ë³ÛÇÝ ÷áË»ÉÁ | E88: 167
B89: 5.4 | C89: ºñ»Ë³ÛÇ ³éù áõ í³×³éùÁ | E89: 168
B90: 5.5 | C90: àñ¹»·ñÙ³Ý ·³ÕïÝÇùÁ Ññ³å³ñ³Ï»ÉÁ Ï³Ù áñ¹»·ñÙ³Ý Ñ³Ù³Ó³ÛÝáõÃÛáõÝ ï³ÉáõÝ Ñ³Ï»ÉÁ Ï³Ù Ñ³ñÏ³¹ñ»ÉÁ | E90: 169 | G90: 1 | O90: 1
B91: 5.6 | C91: ø³Õ³ù³óÇ³Ï³Ý Ï³óáõÃÛ³Ý ³Ïï»ñÇ ·ñ³ÝóÙ³Ý Ù³ñÙÇÝÝ»ñÇÝ ëáõï ï»Õ»ÏáõÃÛáõÝÝ»ñ Ñ³Õáñ¹»ÉÁ | E91: 169.1
B92: 5.7 | C92: ºñ»Ë³ÛÇÝ ¹³ëïÇ³ñ³Ï»Éáõ å³ñï³Ï³ÝáõÃÛáõÝÁ ãÏ³ï³ñ»ÉÁ | E92: 170
B93: 5.8 | C93: ºñ»Ë³ÛÇ ÏÛ³ÝùÇ ³Ýíï³Ý·áõÃÛ³Ý ³å³ÑáíÙ³Ý Ï³Ù ³éáÕçáõÃÛ³Ý å³Ñå³ÝÙ³Ý å³ñï³Ï³ÝáõÃÛáõÝÁ ãÏ³ï³ñ»ÉÁ Ï³Ù áã å³ïß³× Ï³ï³ñ»ÉÁ | E93: 171
B94: 5.9 | C94: ÊÝ³Ù³Ï³ÉÇ Ï³Ù Ñá·³µ³ñÓáõÇ Çñ³íáõÝùÝ»ñÁ ã³ñ³ß³Ñ»ÉÁ | E94: 172
B95: 5.10 | C95: ÌÝáÕÇ ÏáÕÙÇó »ñ»Ë³ÛÇÝ å³Ñ»Éáõó ã³ñ³Ùïáñ»Ý Ëáõë³÷»ÉÁ | E95: 173
A96: 0 | B96: 5.11 | C96: ¼³í³ÏÇ ÏáÕÙÇó ³Ý³ßË³ïáõÝ³Ï ÍÝáÕÇÝ å³Ñ»Éáõó ã³ñ³Ùïáñ»Ý Ëáõë³÷»ÉÁ | E96: 174
B97: 5.12 | C97: ²ÛÉ Ñ³Ýó³·áñÍáõÃÛáõÝÝ»ñ
B98: 6. | C98: ÀÝ¹³Ù»ÝÁ ë»÷³Ï³ÝáõÃÛ³Ý ¹»Ù áõÕÕí³Í Ñ³Ýó³·áñÍáõÃÛáõÝÝ»ñÁ
B99: 6.1 | C99: ²í³½³ÏáõÃÛáõÝÁ | E99: 175 | G99: 3 | H99: 2 | K99: 2 | L99: 1 | M99: 1 | O99: 1
B100: 6.2 | C100: ÎáÕáåáõïÁ | E100: 176 | G100: 2 | H100: 2 | K100: 2 | L100: 2
B101: 6.3 | C101: ¶áÕáõÃÛáõÝÁ | E101: 177 | G101: 41 | H101: 28 | I101: 5 | K101: 33 | L101: 31 | M101: 3 | O101: 8 | P101: 1
B102: 6.4 | C102: Ê³ñ¹³ËáõÃÛáõÝÁ | E102: 178 | G102: 7 | H102: 6 | K102: 6 | L102: 3 | M102: 2 | O102: 1
B103: 6.5 | C103: Úáõñ³óÝ»ÉÁ Ï³Ù í³ïÝ»ÉÁ | E103: 179 | G103: 3 | H103: 1 | K103: 1 | L103: 1 | O103: 2
B104: 6.6 | C104: ²é³ÝÓÝ³ÏÇ ³ñÅ»ù áõÝ»óáÕ ³é³ñÏ³Ý»ñ Ñ³÷ßï³Ï»ÉÁ | E104: 180
...

Sheet Avan
B7: êïáõ·Çã Ñ³í³ë³ñáõÙÝ»ñ` 1+2=6+9+10, 6=3+4+5 | E7: ÐÐ ùñ»³Ï³Ý ûñ»Ýë·ñùÇ Ñá¹í³ÍÝ»ñ | F7: ²Ý³í³ñï ·áñÍ»ñÇ ÙÝ³óáñ¹Á Ñ³ßí»ïáõ Å³Ù³Ý³Ï³ßñç³ÝÇ ëÏ½µáõÙ | G7: êï³óí»É »Ý ·áñÍ»ñ Ñ³ßí»ïáõ Å³Ù³Ý³Ï³ßñç³ÝáõÙ | H7: ²í³ñïí»É »Ý ·áñÍ»ñ Ñ³ßí»ïáõ Å³Ù³Ý³Ï³ßñç³ÝáõÙ | L7: úñÇÝ³Ï³Ý áõÅÇ Ù»ç ¿ Ùï»É | M7: ´áÕáù³ñÏí»É ¿ í»ñ³ùÝÝÇã ¹³ï³ñ³Ý | N7: àõÕ³ñÏí»É ¿ Áëï ÁÝ¹¹³ïáõÃÛ³Ý | O7: ²Ý³í³ñï ·áñÍ»ñÇ ÙÝ³óáñ¹Á Ñ³ßí»ïáõ Å³Ù³Ý³Ï³ßñç³ÝÇ í»ñçáõÙ | P7: ²Û¹ ÃíáõÙª Ï³ë»óí³Í
H8: øÝÝí»É ¿ Áëï ¿áõÃÛ³Ý ¨ ¹³ï³í×Çé Ï³Û³óí»É | I8: àñáßáõÙ ¿ Ï³Û³óí»É ùñ»³Ï³Ý ·áñÍÇ í³ñáõÛÃÁ Ï³ñ×»Éáõ ¨ ùñ»³Ï³Ý Ñ»ï³åÝ¹áõÙÁ ¹³¹³ñ»óÝ»Éáõ Ù³ëÇÝ | J8: àñáßáõÙ ¿ Ï³Û³óí»É ³ÝÙ»ÕëáõÝ³ÏÝ»ñÇ ÝÏ³ïÙ³Ùµ µÅßÏ³Ï³Ý µÝáõÛÃÇ Ñ³ñÏ³¹ñ³Ï³Ý ÙÇçáóÝ»ñ ÏÇñ³é»Éáõ Ù³ëÇÝ | K8: ÀÝ¹³Ù»ÝÁ ³í³ñïí»É »Ý ·áñÍ»ñ
F10: 1 | G10: 2 | H10: 3 | I10: 4 | J10: 5 | K10: 6 | L10: 7 | M10: 8 | N10: 9 | O10: 10 | P10: 11
A11: 1 | B11: 1. | C11: ÀÝ¹³Ù»ÝÁ ÏÛ³ÝùÇ ¨ ³éáÕçáõÃÛ³Ý ¹»Ù áõÕÕí³Í Ñ³Ýó³·áñÍáõÃÛáõÝÝ»ñÁ
A12: 0 | B12: 1.1 | C12: êå³ÝáõÃÛáõÝÁ | E12: 104 | F12: 0 | G12: 5 | H12: 3 | I12: 0 | J12: 0 | K12: 3 | L12: 2 | M12: 2 | N12: 0 | O12: 2 | P12: 1
A13: 0 | B13: 1.2 | C13: Ðá·»Ï³Ý ËÇëï Ñáõ½ÙáõÝùÇ íÇ×³ÏáõÙ Ï³ï³ñí³Í ëå³ÝáõÃÛáõÝÁ | E13: 105
A14: 0 | B14: 1.3 | C14: Øáñ ÏáÕÙÇó Ýáñ³ÍÇÝ »ñ»Ë³ÛÇ ëå³ÝáõÃÛáõÝÁ | E14: 106
A15: 0 | B15: 1.4 | C15: Ð³Ýó³Ýù Ï³ï³ñ³Í ³ÝÓÇÝ µéÝ»Éáõ Ñ³Ù³ñ ³ÝÑñ³Å»ßï ÙÇçáóÝ»ñÇ ë³ÑÙ³Ý³½³ÝóÙ³Ùµ ëå³ÝáõÃÛáõÝÁ | E15: 107
A16: 0 | B16: 1.5 | C16: ²ÝÑñ³Å»ßï å³ßïå³ÝáõÃÛ³Ý ë³ÑÙ³Ý³½³ÝóÙ³Ùµ ëå³ÝáõÃÛáõÝÁ | E16: 108
A17: 0 | B17: 1.6 | C17: ²Ý½·áõßáõÃÛ³Ùµ Ù³Ñ å³ï×³é»ÉÁ | E17: 109
A18: 0 | B18: 1.7 | C18: ÆÝùÝ³ëå³ÝáõÃÛ³Ý Ñ³ëóÝ»ÉÁ | E18: 110
A19: 0 | B19: 1.8 | C19: ÆÝùÝ³ëå³ÝáõÃÛ³Ý Ñ³Ï»ÉÁ | E19: 111
A20: 0 | B20: 1.9 | C20: ¸Çï³íáñáõÃÛ³Ùµ ³éáÕçáõÃÛ³ÝÁ Í³Ýñ íÝ³ë å³ï×³é»ÉÁ | E20: 112 | F20: 0 | G20: 12 | H20: 6 | I20: 0 | J20: 0 | K20: 6 | L20: 4 | M20: 2 | N20: 0 | O20: 6 | P20: 1
A21: 0 | B21: 1.10 | C21: ¸Çï³íáñáõÃÛ³Ùµ ³éáÕçáõÃÛ³ÝÁ ÙÇçÇÝ Í³ÝñáõÃÛ³Ý íÝ³ë å³ï×³é»ÉÁ | E21: 113 | F21: 0 | G21: 1 | H21: 0 | I21: 1 | J21: 0 | K21: 1 | L21: 1 | M21: 0 | N21: 0 | O21: 0 | P21: 0
A22: 0 | B22: 1.11 | C22: Ðá·»Ï³Ý ËÇëï Ñáõ½ÙáõÝùÇ íÇ×³ÏáõÙ ³éáÕçáõÃÛ³ÝÁ Í³Ýñ Ï³Ù ÙÇçÇÝ Í³ÝñáõÃÛ³Ý íÝ³ë å³ï×³é»ÉÁ | E22: 114
A23: 0 | B23: 1.12 | C23: Ð³Ýó³Ýù Ï³ï³ñ³Í ³ÝÓÇÝ µéÝ»Éáõ Ñ³Ù³ñ ³ÝÑñ³Å»ßï ÙÇçáóÝ»ñÇ ë³ÑÙ³Ý½³ÝóÙ³Ùµ ³éáÕçáõÃÛ³ÝÁ Í³Ýñ Ï³Ù ÙÇçÇÝ Í³ÝñáõÃÛ³Ý íÝ³ë å³ï×³é»ÉÁ | E23: 115
A24: 0 | B24: 1.13 | C24: ²éáÕçáõÃÛ³ÝÁ Í³Ýñ Ï³Ù ÙÇçÇÝ Í³ÝñáõÃÛ³Ý íÝ³ë å³ï×³é»ÉÁ ³ÝÑñ³Å»ßï å³ßïå³ÝáõÃÛ³Ý ë³ÑÙ³Ý³Ý³½³ÝóÙ³Ùµ | E24: 116
A25: 0 | B25: 1.14 | C25: ¸Çï³íáñáõÃÛ³Ùµ ³éáÕçáõÃÛ³ÝÁ Ã»Ã¨ íÝ³ë å³ï×³é»ÉÁ | E25: 117 | F25: 1 | G25: 3 | H25: 3 | I25: 1 | J25: 0 | K25: 4 | L25: 3 | M25: 2 | N25: 0 | O25: 0 | P25: 0
A26: 0 | B26: 1.15 | C26: Ì»ÍÁ | E26: 118 | F26: 0 | G26: 1 | H26: 0 | I26: 0 | J26: 0 | K26: 0 | L26: 0 | M26: 0 | N26: 0 | O26: 1 | P26: 0
A27: 0 | B27: 1.16 | C27: Êáßï³Ý·áõÙÁ | E27: 119
A28: 0 | B28: 1.17 | C28: ²Ý½·áõßáõÃÛ³Ùµ ³éáÕçáõÃÛ³ÝÁ Í³Ýñ íÝ³ë å³ï×³é»ÉÁ | E28: 120
A29: 0 | B29: 1.18 | C29: ²Ý½·áõßáõÃÛ³Ùµ ³éáÕçáõÃÛ³ÝÁ ÙÇçÇÝ Í³ÝñáõÃÛ³Ý íÝ³ë å³ï×³é»ÉÁ | E29: 121
A30: 0 | B30: 1.19 | C30: ²åûñÇÝÇ ³µáñï Ï³ï³ñ»ÉÁ | E30: 122
A31: 0 | B31: 1.20 | C31: Ø³ñ¹áõ ÇÙáõÝ³ÛÇÝ ³Ýµ³í³ñ³ñáõÃÛ³Ý íÇñáõëÇ Ñ³ñáõóÇãáí í³ñ³Ï»ÉÁ | E31: 123
A32: 0 | B32: 1.21 | C32: ì»Ý»ñ³Ï³Ý ÑÇí³Ý¹áõÃÛ³Ùµ Ï³Ù ³ÛÉ ë»é³í³ñ³ÏÝ»ñáí í³ñ³Ï»ÉÁ | E32: 124
A33: 0 | B33: 1.22 | C33: öáËå³ïí³ëïÙ³Ý íÇñ³Ñ³ïáõÃÛáõÝ Ï³ï³ñ»Éáõ Ï³ÝáÝÝ»ñÁ Ë³Ëï»ÉÁ | E33: 125
A34: 0 | B34: 1.23 | C34: Ø³ñÙÝÇ Ù³ë»ñ Ï³Ù ÑÛáõëí³ÍùÝ»ñ ï³ÉáõÝ Ñ³ñÏ³¹ñ»ÉÁ | E34: 126
A35: 0 | B35: 1.24 | C35: ²ÝÓÇÝ ³é³Ýó Çñ Ñ³ÝÓÝ³ñ³ñáõÃÛ³Ý µÅßÏ³Ï³Ý Ï³Ù ·Çï³Ï³Ý ÷áñÓ»ñÇ »ÝÃ³ñÏ»ÉÁ | E35: 127
A36: 0 | B36: 1.25 | C36: ìï³Ý·Ç Ù»ç ÃáÕÝ»ÉÁ | E36: 128
A37: 0 | B37: 1.26 | C37: ÐÇí³Ý¹ÇÝ û·ÝáõÃÛáõÝ óáõÛó ãï³ÉÁ | E37: 129
A38: 0 | B38: 1.27 | C38: ´ÅßÏ³Ï³Ý û·ÝáõÃÛáõÝ ¨ ëå³ë³ñÏáõÙ Çñ³Ï³Ý³óÝáÕÝ»ñÇ ÏáÕÙÇó Ù³ëÝ³·Çï³Ï³Ý å³ñï³Ï³ÝáõÃÛáõÝÝ»ñÁ ãÏ³ï³ñ»ÉÁ Ï³Ù áã å³ïß³× Ï³ï³ñ»ÉÁ | E38: 130
A39: 1 | B39: 1.28 | C39: ²ÛÉ Ñ³Ýó³·áñÍáõÃÛáõÝÝ»ñ
A40: 0 | B40: 2. | C40: ÀÝ¹³Ù»ÝÁ ³ÝÓÇ ³½³ïáõÃÛ³Ý, å³ïíÇ ¨ ³ñÅ³Ý³å³ïíáõÃÛ³Ý ¹»Ù áõÕÕí³Í Ñ³Ýó³·áñÍáõÃÛáõÝÝ»ñÁ
A41: 0 | B41: 2.1 | C41: Ø³ñ¹áõÝ ³é¨³Ý·»ÉÁ | E41: 131 | F41: 1 | G41: 1 | H41: 2 | I41: 0 | J41: 0 | K41: 2 | L41: 1 | M41: 1 | N41: 0 | O41: 0 | P41: 0
B42: 2.2 | C42: Þ³Ñ³·áñÍÙ³Ý Ýå³ï³Ïáí Ù³ñ¹áõÝ Ñ³í³ù³·ñ»ÉÁ, ÷áË³¹ñ»ÉÁ, Ñ³ÝÓÝ»ÉÁ, Ã³ùóÝ»ÉÁ Ï³Ù ëï³Ý³ÉÁ | E42: 132
B43: 2.3 | C43: ²½³ïáõÃÛáõÝÇó ³åûñÇÝÇ ½ñÏ»ÉÁ | E43: 133
B44: 2.4 | C44: Ðá·»µáõÅ³Ï³Ý ÑÇí³Ý¹³ÝáóáõÙ ³åûñÇÝÇ ï»Õ³íáñ»ÉÁ Ï³Ù å³Ñ»ÉÁ | E44: 134
B45: 2.5 | C45: ¼ñå³ñïáõÃÛáõÝÁ | E45: 135
B46: 2.6 | C46: ìÇñ³íáñ³ÝùÁ | E46: 136
A47: 0 | B47: 2.7 | C47: êå³ÝáõÃÛ³Ý, ³éáÕçáõÃÛ³ÝÁ Í³Ýñ íÝ³ë å³ï×³é»Éáõ Ï³Ù ·áõÛù áãÝã³óÝ»Éáõ ëå³éÝ³ÉÇùÁ | E47: 137
A48: 0 | B48: 2.8 | C48: ²ÛÉ Ñ³Ýó³·áñÍáõÃÛáõÝÝ»ñ
B49: 3. | C49: ÀÝ¹³Ù»ÝÁ ë»é³Ï³Ý ³ÝÓ»éÝÙË»ÉÇáõÃÛ³Ý ¨ ë»é³Ï³Ý ³½³ïáõÃÛ³Ý ¹»Ù áõÕÕí³Í Ñ³Ýó³·áñÍáõÃÛáõÝÝ»ñÁ
A50: 0 | B50: 3.1 | C50: ´éÝ³µ³ñáõÃÛáõÝÁ | E50: 138
A51: 0 | B51: 3.2 | C51: ê»ùëáõ³É µÝáõÛÃÇ µéÝÇ ·áñÍáÕáõÃÛáõÝÝ»ñÁ | E51: 139 | F51: 0 | G51: 1 | H51: 1 | I51: 0 | J51: 0 | K51: 1 | L51: 1 | M51: 0 | N51: 0 | O51: 0 | P51: 0
B52: 3.3 | C52: ê»ùëáõ³É µÝáõÛÃÇ ·áñÍáÕáõÃÛáõÝÝ»ñÇÝ Ñ³ñÏ³¹ñ»ÉÁ | E52: 140
B53: 3.4 | C53: ê»ùëáõ³É µÝáõÛÃÇ ·áñÍáÕáõÃÛáõÝÝ»ñ Ï³ï³ñ»ÉÁ ï³ëÝí»ó ï³ñÇÝ ãÉñ³ó³Í ³ÝÓÇ Ñ»ï | E53: 141
B54: 3.5 | C54: ²Ý³é³Ï³µ³ñá ·áñÍáÕáõÃÛáõÝÝ»ñÁ | E54: 142
B55: 3.6 | C55: ²ÛÉ Ñ³Ýó³·áñÍáõÃÛáõÝÝ»ñ
B56: 4. | C56: ÀÝ¹³Ù»ÝÁ Ù³ñ¹áõ ¨ ù³Õ³ù³óáõ ë³ÑÙ³Ý³¹ñ³Ï³Ý Çñ³íáõÝùÝ»ñÇ ¨ ³½³ïáõÃÛáõÝÝ»ñÇ ¹»Ù áõÕÕí³Í Ñ³Ýó³·áñÍáõÃÛáõÝÝ»ñÁ
B57: 4.1 | C57: ø³Õ³ù³óÇÝ»ñÇ Çñ³í³Ñ³í³ë³ñáõÃÛáõÝÁ Ë³Ëï»ÉÁ | E57: 143
B58: 4.2 | C58: ²ÝÓÝ³Ï³Ý Ï³Ù ÁÝï³Ý»Ï³Ý ÏÛ³ÝùÇ Ù³ëÇÝ ï»Õ»ÏáõÃÛáõÝÝ»ñ ³åûñÇÝÇ Ñ³í³ù»ÉÁ, å³Ñ»ÉÁ, û·ï³·áñÍ»ÉÁ Ï³Ù ï³ñ³Í»ÉÁ | E58: 144
B59: 4.3 | C59: ´ÅßÏ³Ï³Ý ·³ÕïÝÇùÁ Ññ³å³ñ³Ï»ÉÁ | E59: 145
B60: 4.4 | C60: Ü³Ù³Ï³·ñáõÃÛ³Ý, Ñ»é³Ëáë³ÛÇÝ Ëáë³ÏóáõÃÛáõÝÝ»ñÇ, ÷áëï³ÛÇÝ, Ñ»é³·ñ³Ï³Ý Ï³Ù ³ÛÉ Ñ³Õáñ¹áõÙÝ»ñÇ ·³ÕïÝÇáõÃÛáõÝÁ Ë³Ëï»ÉÁ | E60: 146
B61: 4.5 | C61: ´Ý³Ï³ñ³ÝÇ ³ÝÓ»éÝÙË»ÉÇáõÃÛáõÝÁ Ë³Ëï»ÉÁ | E61: 147
B62: 4.6 | C62: ²ÝÓÇÝ ï»Õ»ÏáõÃÛáõÝ Ý»ñÏ³Û³óÝ»Éáõó Ññ³Å³ñí»ÉÁ | E62: 148
B63: 4.7 | C63: ÀÝïñ³Ï³Ý Çñ³íáõÝùÇ Çñ³Ï³Ý³óÙ³ÝÁ, ÁÝïñ³Ï³Ý Ñ³ÝÓÝ³ÅáÕáíÝ»ñÇ ³ßË³ï³ÝùÝ»ñÇÝ Ï³Ù ÁÝïñáõÃÛ³ÝÁ Ù³ëÝ³ÏóáÕ ³ÝÓ³Ýó ÉÇ³½áñáõÃÛáõÝÝ»ñÇ Çñ³Ï³Ý³óÙ³ÝÁ ËáãÁÝ¹áï»ÉÁ | E63: 149
B64: 4.8 | C64: ÀÝïñáõÃÛáõÝÝ»ñÇ Ï³Ù ùí»³ñÏáõÃÛ³Ý ³ñ¹ÛáõÝùÝ»ñÁ Ï»ÕÍ»ÉÁ | E64: 150
B65: 4.9 | C65: ÀÝïñáõÃÛáõÝÝ»ñÇ ³ÝóÏ³óÙ³Ý ÁÝÃ³óùáõÙ Ã»ÏÝ³ÍáõÇ, Ïáõë³ÏóáõÃÛ³Ý (Ïáõë³ÏóáõÃÛáõÝÝ»ñÇ ¹³ßÇÝùÇ) í»ñ³µ»ñÛ³É ½ñå³ñïã³Ï³Ý ï»Õ»ÏáõÃÛáõÝÝ»ñ ï³ñ³Í»ÉÁ | E65: 151
B66: 4.10 | C66: ÀÝïñáÕÝ»ñÇ óáõó³ÏÝ»ñÁ Ï³½Ù»Éáõ Ï³ñ·Á Ë³Ëï»ÉÁ | E66: 152
B67: 4.11 | C67: Ø»ÏÇó ³í»ÉÇ ³Ý·³Ù Ï³Ù ³ÛÉ ³ÝÓÇ ÷áË³ñ»Ý ùí»³ñÏ»ÉÁ | E67: 153
A68: 0 | B68: 4.12 | C68: øí»³ñÏáõÃÛ³Ý ·³ÕïÝÇáõÃÛáõÝÁ Ë³Ëï»ÉÁ | E68: 154
B69: 4.13 | C69: Î»ÕÍ ÁÝïñ³Ï³Ý Ã»ñÃÇÏÝ»ñ Ï³Ù ùí»³ñÏáõÃÛ³Ý Íñ³ñÝ»ñ å³ïñ³ëï»ÉÁ Ï³Ù ³ÏÝÑ³Ûï Ï»ÕÍ ÁÝïñ³Ï³Ý ùí»³Ã»ñÃÇÏÝ»ñ Ï³Ù ùí»³ñÏáõÃÛ³Ý Íñ³ñÝ»ñ Ñ³ÝÓÝ»ÉÁ Ï³Ù Çñ³óÝ»ÉÁ | E69: 154.1
B70: 4.14 | C70: ÀÝïñáÕÇ Ï³ÙùÇ ³½³ï Çñ³Ï³Ý³óÙ³ÝÁ ËáãÁÝ¹áï»ÉÁ | E70: 154.2
B71: 4.15 | C71: ÀÝïñ³Ï³Ý Ñ³ÝÓÝ³ÅáÕáíÇ ÏÝÇùÁ ãí»ñ³¹³ñÓÝ»ÉÁ, ÏÝÇùÇ å³Ñå³ÝÙ³Ý ë³ÑÙ³Ýí³Í Ï³ñ·Á Ë³Ëï»ÉÁ | E71: 154.3
B72: 4.16 | C72: ¼»Ýùáíª ï»Õ³Ù³ë³ÛÇÝ Ï»ÝïñáÝ Ùáõïù ·áñÍ»ÉÁ | E72: 154.4
B73: 4.17 | C73: ìëï³Ñí³Í ³ÝÓÇÝ,ÁÝïñ³Ï³Ý Ñ³ÝÓÝ³ÅáÕáíÇ ³Ý¹³ÙÇÝ,¹Çïáñ¹ÇÝ Ï³Ù ½³Ý·í³Í³ÛÇÝ Éñ³ïíáõÃÛ³Ý ÙÇçáóÇ Ý»ñÏ³Û³óáõóãÇÝ ÁÝïñ³Ï³Ý ÷³ëï³ÃÕÃ»ñÇÝ Í³ÝáÃ³Ý³ÉáõÝ ËáãÁÝ¹áï»ÉÁ, ÁÝïñ³Ï³Ý Ñ³ÝÓÝ³ÅáÕáíÇ ³ñÓ³Ý³·ñáõÃÛáõÝÝ»ñÇ å³ï×»ÝÝ»ñ ãï³ÉÁ | E73: 154.5
B74: 4.18 | C74: ¶áñÍ³¹áõÉÇ Ù³ëÝ³Ïó»ÉáõÝ Ï³Ù ·áñÍ³¹áõÉÇ Ù³ëÝ³Ïó»Éáõó Ññ³Å³ñí»ÉáõÝ Ñ³ñÏ³¹ñ»ÉÁ | E74: 155
B75: 4.19 | C75: ÐÕÇ ÏÝáçÁ Ï³Ù ÙÇÝã¨ »ñ»ù ï³ñ»Ï³Ý »ñ»Ë³ áõÝ»óáÕ ³ÝÓÇÝ ³ßË³ï³ÝùÇ ÁÝ¹áõÝ»Éáõõó Ññ³Å³ñí»ÉÁ Ï³Ù ³ßË³ï³ÝùÇó ³ÝÑÇÙÝ ³½³ï»ÉÁ | E75: 156
B76: 4.20 | C76: ²ßË³ï³ÝùÇ å³ßïå³ÝáõÃÛ³Ý Ï³ÝáÝÝ»ñÁ Ë³Ëï»ÉÁ | E76: 157
B77: 4.21 | C77: Ð»ÕÇÝ³Ï³ÛÇÝ ¨ Ñ³ñ³ÏÇó Çñ³íáõÝùÝ»ñÁ Ë³Ëï»ÉÁ | E77: 158
B78: 4.22 | C78: ²ñïáÝ³·ñ³ÛÇÝ Çñ³íáõÝùÁ Ë³Ëï»ÉÁ | E78: 159
B79: 4.23 | C79: ÊÕ×Ç Ï³Ù ¹³í³Ý³ÝùÇ ³½³ïáõÃÛ³Ý Çñ³íáõÝùÇ Çñ³Ï³Ý³óÙ³ÝÁ ËáãÁÝ¹áï»ÉÁ | E79: 160
B80: 4.24 | C80: ØÇ³íáñáõÙÝ»ñ (Ñ³ë³ñ³Ï³Ï³Ý Ï³Ù ³ñÑ»ëï³Ïó³Ï³Ý ÙÇáõÃÛáõÝÝ»ñ) Ï³½Ù»Éáõ Ï³Ù Ïáõë³ÏóáõÃÛáõÝÝ»ñ ëï»ÕÍ»Éáõ Çñ³íáõÝùÇ Çñ³Ï³Ý³óÙ³ÝÁ Ï³Ù ¹ñ³Ýó ·áñÍáÕáõÃÛ³ÝÁ ËáãÁÝ¹áï»ÉÁ | E80: 161
... B83: 4.27 | C83: Èñ³·ñáÕÇ Ù³ëÝ³·Çï³Ï³Ý ûñÇÝ³Ï³Ý ·áñÍáÕáõÃÛ³ÝÁ ËáãÁÝ¹áï»ÉÁ | E83: 164
B84: 4.28 | C84: ²ÛÉ Ñ³Ýó³·áñÍáõÃÛáõÝÝ»ñ
B85: 5. | C85: ÀÝ¹³Ù»ÝÁ ÁÝï³ÝÇùÇ ¨ »ñ»Ë³ÛÇ ß³Ñ»ñÇ ¹»Ù áõÕÕí³Í Ñ³Ýó³·áñÍáõÃÛáõÝÝ»ñÁ
B86: 5.1 | C86: ²Ýã³÷³Ñ³ëÇÝ Ñ³Ýó³ÝùÇ Ï³ï³ñÙ³ÝÁ Ý»ñ·ñ³í»ÉÁ | E86: 165
B87: 5.2 | C87: ºñ»Ë³ÛÇÝ Ñ³Ï³Ñ³ë³ñ³Ï³Ï³Ý ·áñÍáÕáõÃÛáõÝÝ»ñ Ï³ï³ñ»ÉáõÝ Ý»ñ·ñ³í»ÉÁ | E87: 166
B88: 5.3 | C88: ÌÝáÕÝ»ñÇó »ñ»Ë³ÛÇÝ ³åûñÇÝÇ µ³Å³Ý»ÉÁ Ï³Ù »ñ»Ë³ÛÇÝ ÷áË»ÉÁ | E88: 167
B89: 5.4 | C89: ºñ»Ë³ÛÇ ³éù áõ í³×³éùÁ | E89: 168
B90: 5.5 | C90: àñ¹»·ñÙ³Ý ·³ÕïÝÇùÁ Ññ³å³ñ³Ï»ÉÁ Ï³Ù áñ¹»·ñÙ³Ý Ñ³Ù³Ó³ÛÝáõÃÛáõÝ ï³ÉáõÝ Ñ³Ï»ÉÁ Ï³Ù Ñ³ñÏ³¹ñ»ÉÁ | E90: 169
B91: 5.6 | C91: ø³Õ³ù³óÇ³Ï³Ý Ï³óáõÃÛ³Ý ³Ïï»ñÇ ·ñ³ÝóÙ³Ý Ù³ñÙÇÝÝ»ñÇÝ ëáõï ï»Õ»ÏáõÃÛáõÝÝ»ñ Ñ³Õáñ¹»ÉÁ | E91: 169.1 | F91: 1 | G91: 0 | H91: 1 | I91: 0 | J91: 0 | K91: 1 | L91: 1 | M91: 0 | N91: 0 | O91: 0 | P91: 0
B92: 5.7 | C92: ºñ»Ë³ÛÇÝ ¹³ëïÇ³ñ³Ï»Éáõ å³ñï³Ï³ÝáõÃÛáõÝÁ ãÏ³ï³ñ»ÉÁ | E92: 170
B93: 5.8 | C93: ºñ»Ë³ÛÇ ÏÛ³ÝùÇ ³Ýíï³Ý·áõÃÛ³Ý ³å³ÑáíÙ³Ý Ï³Ù ³éáÕçáõÃÛ³Ý å³Ñå³ÝÙ³Ý å³ñï³Ï³ÝáõÃÛáõÝÁ ãÏ³ï³ñ»ÉÁ Ï³Ù áã å³ïß³× Ï³ï³ñ»ÉÁ | E93: 171
B94: 5.9 | C94: ÊÝ³Ù³Ï³ÉÇ Ï³Ù Ñá·³µ³ñÓáõÇ Çñ³íáõÝùÝ»ñÁ ã³ñ³ß³Ñ»ÉÁ | E94: 172
B95: 5.10 | C95: ÌÝáÕÇ ÏáÕÙÇó »ñ»Ë³ÛÇÝ å³Ñ»Éáõó ã³ñ³Ùïáñ»Ý Ëáõë³÷»ÉÁ | E95: 173
A96: 0 | B96: 5.11 | C96: ¼³í³ÏÇ ÏáÕÙÇó ³Ý³ßË³ïáõÝ³Ï ÍÝáÕÇÝ å³Ñ»Éáõó ã³ñ³Ùïáñ»Ý Ëáõë³÷»ÉÁ | E96: 174
B97: 5.12 | C97: ²ÛÉ Ñ³Ýó³·áñÍáõÃÛáõÝÝ»ñ
B98: 6. | C98: ÀÝ¹³Ù»ÝÁ ë»÷³Ï³ÝáõÃÛ³Ý ¹»Ù áõÕÕí³Í Ñ³Ýó³·áñÍáõÃÛáõÝÝ»ñÁ
B99: 6.1 | C99: ²í³½³ÏáõÃÛáõÝÁ | E99: 175 | F99: 0 | G99: 5 | H99: 3 | I99: 0 | J99: 0 | K99: 3 | L99: 2 | M99: 1 | N99: 0 | O99: 2 | P99: 0
B100: 6.2 | C100: ÎáÕáåáõïÁ | E100: 176 | F100: 1 | G100: 6 | H100: 6 | I100: 1 | J100: 0 | K100: 7 | L100: 7 | M100: 1 | N100: 0 | O100: 0 | P100: 0
B101: 6.3 | C101: ¶áÕáõÃÛáõÝÁ | E101: 177 | F101: 0 | G101: 37 | H101: 25 | I101: 1 | J101: 3 | K101: 29 | L101: 27 | M101: 7 | N101: 0 | O101: 8 | P101: 4
B102: 6.4 | C102: Ê³ñ¹³ËáõÃÛáõÝÁ | E102: 178 | F102: 1 | G102: 7 | H102: 6 | I102: 0 | J102: 0 | K102: 6 | L102: 5 | M102: 2 | N102: 0 | O102: 2 | P102: 1
B103: 6.5 | C103: Úáõñ³óÝ»ÉÁ Ï³Ù í³ïÝ»ÉÁ | E103: 179 | F103: 0 | G103: 6 | H103: 4 | I103: 2 | J103: 0 | K103: 6 | L103: 6 | M103: 0 | N103: 0 | O103: 0 | P103: 0
B104: 6.6 | C104: ²é³ÝÓÝ³ÏÇ ³ñÅ»ù áõÝ»óáÕ ³é³ñÏ³Ý»ñ Ñ³÷ßï³Ï»ÉÁ | E104: 180
B105: 6.7 | C105: Ð³÷ßï³ÏáõÃÛáõÝÁ, áñÁ Ï³ï³ñí»É ¿ Ñ³Ù³Ï³ñ·ã³ÛÇÝ ï»ËÝÇÏ³ÛÇ û·ï³·áñÍÙ³Ùµ | E105: 181
B106: 6.8 | C106: ÞáñÃáõÙÁ | E106: 182
B107: 6.9 | C107: ²íïáÙ»ù»Ý³ÛÇÝ Ï³Ù ïñ³Ýëåáñï³ÛÇÝ ³ÛÉ ÙÇçáóÇÝ ³åûñÇÝ³µ³ñ ïÇñ³Ý³ÉÝ ³é³Ýó Ñ³÷ßï³Ï»Éáõ Ýå³ï³ÏÇ | E107: 183 | F107: 0 | G107: 2 | H107: 1 | I107: 0 | J107: 0 | K107: 1 | L107: 1 | M107: 1 | N107: 0 | O107: 1 | P107: 0
B108: 6.10 | C108: ¶áõÛù³ÛÇÝ íÝ³ë å³ï×³é»ÉÁ Ë³µ»áõÃÛ³Ý Ï³Ù íëï³ÑáõÃÛáõÝÁ ã³ñ³ß³Ñ»Éáõ »Õ³Ý³Ïáí | E108: 184
B109: 6.11 | C109: ¶áõÛùÁ ¹Çï³íáñáõÃÛ³Ùµ áãÝã³óÝ»ÉÁ Ï³Ù íÝ³ë»ÉÁ | E109: 185 | F109: 0 | G109: 1 | H109: 1 | I109: 0 | J109: 0 | K109: 1 | L109: 1 | M109: 0 | N109: 0 | O109: 0 | P109: 0
...

Sheet Erebuni
B7: êïáõ·Çã Ñ³í³ë³ñáõÙÝ»ñ` 1+2=6+9+10, 6=3+4+5 | E7: ÐÐ ùñ»³Ï³Ý ûñ»Ýë·ñùÇ Ñá¹í³ÍÝ»ñ | F7: ²Ý³í³ñï ·áñÍ»ñÇ ÙÝ³óáñ¹Á Ñ³ßí»ïáõ Å³Ù³Ý³Ï³ßñç³ÝÇ ëÏ½µáõÙ | G7: êï³óí»É »Ý ·áñÍ»ñ Ñ³ßí»ïáõ Å³Ù³Ý³Ï³ßñç³ÝáõÙ | H7: ²í³ñïí»É »Ý ·áñÍ»ñ Ñ³ßí»ïáõ Å³Ù³Ý³Ï³ßñç³ÝáõÙ | L7: úñÇÝ³Ï³Ý áõÅÇ Ù»ç ¿ Ùï»É | M7: ´áÕáù³ñÏí»É ¿ í»ñ³ùÝÝÇã ¹³ï³ñ³Ý | N7: àõÕ³ñÏí»É ¿ Áëï ÁÝ¹¹³ïáõÃÛ³Ý | O7: ²Ý³í³ñï ·áñÍ»ñÇ ÙÝ³óáñ¹Á Ñ³ßí»ïáõ Å³Ù³Ý³Ï³ßñç³ÝÇ í»ñçáõÙ | P7: ²Û¹ ÃíáõÙª Ï³ë»óí³Í
H8: øÝÝí»É ¿ Áëï ¿áõÃÛ³Ý ¨ ¹³ï³í×Çé Ï³Û³óí»É | I8: àñáßáõÙ ¿ Ï³Û³óí»É ùñ»³Ï³Ý ·áñÍÇ í³ñáõÛÃÁ Ï³ñ×»Éáõ ¨ ùñ»³Ï³Ý Ñ»ï³åÝ¹áõÙÁ ¹³¹³ñ»óÝ»Éáõ Ù³ëÇÝ | J8: àñáßáõÙ ¿ Ï³Û³óí»É ³ÝÙ»ÕëáõÝ³ÏÝ»ñÇ ÝÏ³ïÙ³Ùµ µÅßÏ³Ï³Ý µÝáõÛÃÇ Ñ³ñÏ³¹ñ³Ï³Ý ÙÇçáóÝ»ñ ÏÇñ³é»Éáõ Ù³ëÇÝ | K8: ÀÝ¹³Ù»ÝÁ ³í³ñïí»É »Ý ·áñÍ»ñ
F10: 1 | G10: 2 | H10: 3 | I10: 4 | J10: 5 | K10: 6 | L10: 7 | M10: 8 | N10: 9 | O10: 10 | P10: 11
A11: 1 | B11: 1. | C11: ÀÝ¹³Ù»ÝÁ ÏÛ³ÝùÇ ¨ ³éáÕçáõÃÛ³Ý ¹»Ù áõÕÕí³Í Ñ³Ýó³·áñÍáõÃÛáõÝÝ»ñÁ
A12: 0 | B12: 1.1 | C12: êå³ÝáõÃÛáõÝÁ | E12: 104 | G12: 3 | H12: 3 | K12: 3 | L12: 3 | M12: 3
A13: 0 | B13: 1.2 | C13: Ðá·»Ï³Ý ËÇëï Ñáõ½ÙáõÝùÇ íÇ×³ÏáõÙ Ï³ï³ñí³Í ëå³ÝáõÃÛáõÝÁ | E13: 105
A14: 0 | B14: 1.3 | C14: Øáñ ÏáÕÙÇó Ýáñ³ÍÇÝ »ñ»Ë³ÛÇ ëå³ÝáõÃÛáõÝÁ | E14: 106
A15: 0 | B15: 1.4 | C15: Ð³Ýó³Ýù Ï³ï³ñ³Í ³ÝÓÇÝ µéÝ»Éáõ Ñ³Ù³ñ ³ÝÑñ³Å»ßï ÙÇçáóÝ»ñÇ ë³ÑÙ³Ý³½³ÝóÙ³Ùµ ëå³ÝáõÃÛáõÝÁ | E15: 107
A16: 0 | B16: 1.5 | C16: ²ÝÑñ³Å»ßï å³ßïå³ÝáõÃÛ³Ý ë³ÑÙ³Ý³½³ÝóÙ³Ùµ ëå³ÝáõÃÛáõÝÁ | E16: 108
A17: 0 | B17: 1.6 | C17: ²Ý½·áõßáõÃÛ³Ùµ Ù³Ñ å³ï×³é»ÉÁ | E17: 109
A18: 0 | B18: 1.7 | C18: ÆÝùÝ³ëå³ÝáõÃÛ³Ý Ñ³ëóÝ»ÉÁ | E18: 110
A19: 0 | B19: 1.8 | C19: ÆÝùÝ³ëå³ÝáõÃÛ³Ý Ñ³Ï»ÉÁ | E19: 111
A20: 0 | B20: 1.9 | C20: ¸Çï³íáñáõÃÛ³Ùµ ³éáÕçáõÃÛ³ÝÁ Í³Ýñ íÝ³ë å³ï×³é»ÉÁ | E20: 112 | G20: 13 | H20: 9 | K20: 9 | L20: 8 | M20: 4 | N20: 1 | O20: 3
A21: 0 | B21: 1.10 | C21: ¸Çï³íáñáõÃÛ³Ùµ ³éáÕçáõÃÛ³ÝÁ ÙÇçÇÝ Í³ÝñáõÃÛ³Ý íÝ³ë å³ï×³é»ÉÁ | E21: 113 | G21: 5 | H21: 4 | I21: 1 | K21: 5 | L21: 4 | M21: 1
A22: 0 | B22: 1.11 | C22: Ðá·»Ï³Ý ËÇëï Ñáõ½ÙáõÝùÇ íÇ×³ÏáõÙ ³éáÕçáõÃÛ³ÝÁ Í³Ýñ Ï³Ù ÙÇçÇÝ Í³ÝñáõÃÛ³Ý íÝ³ë å³ï×³é»ÉÁ | E22: 114
A23: 0 | B23: 1.12 | C23: Ð³Ýó³Ýù Ï³ï³ñ³Í ³ÝÓÇÝ µéÝ»Éáõ Ñ³Ù³ñ ³ÝÑñ³Å»ßï ÙÇçáóÝ»ñÇ ë³ÑÙ³Ý½³ÝóÙ³Ùµ ³éáÕçáõÃÛ³ÝÁ Í³Ýñ Ï³Ù ÙÇçÇÝ Í³ÝñáõÃÛ³Ý íÝ³ë å³ï×³é»ÉÁ | E23: 115
A24: 0 | B24: 1.13 | C24: ²éáÕçáõÃÛ³ÝÁ Í³Ýñ Ï³Ù ÙÇçÇÝ Í³ÝñáõÃÛ³Ý íÝ³ë å³ï×³é»ÉÁ ³ÝÑñ³Å»ßï å³ßïå³ÝáõÃÛ³Ý ë³ÑÙ³Ý³Ý³½³ÝóÙ³Ùµ | E24: 116 | G24: 1 | I24: 1 | K24: 1 | L24: 1
A25: 0 | B25: 1.14 | C25: ¸Çï³íáñáõÃÛ³Ùµ ³éáÕçáõÃÛ³ÝÁ Ã»Ã¨ íÝ³ë å³ï×³é»ÉÁ | E25: 117 | G25: 2 | H25: 1 | I25: 1 | K25: 2 | L25: 2
A26: 0 | B26: 1.15 | C26: Ì»ÍÁ | E26: 118 | F26: 1 | G26: 1 | H26: 1 | I26: 1 | K26: 2 | L26: 2 | M26: 1
A27: 0 | B27: 1.16 | C27: Êáßï³Ý·áõÙÁ | E27: 119
A28: 0 | B28: 1.17 | C28: ²Ý½·áõßáõÃÛ³Ùµ ³éáÕçáõÃÛ³ÝÁ Í³Ýñ íÝ³ë å³ï×³é»ÉÁ | E28: 120
A29: 0 | B29: 1.18 | C29: ²Ý½·áõßáõÃÛ³Ùµ ³éáÕçáõÃÛ³ÝÁ ÙÇçÇÝ Í³ÝñáõÃÛ³Ý íÝ³ë å³ï×³é»ÉÁ | E29: 121
A30: 0 | B30: 1.19 | C30: ²åûñÇÝÇ ³µáñï Ï³ï³ñ»ÉÁ | E30: 122
A31: 0 | B31: 1.20 | C31: Ø³ñ¹áõ ÇÙáõÝ³ÛÇÝ ³Ýµ³í³ñ³ñáõÃÛ³Ý íÇñáõëÇ Ñ³ñáõóÇãáí í³ñ³Ï»ÉÁ | E31: 123
A32: 0 | B32: 1.21 | C32: ì»Ý»ñ³Ï³Ý ÑÇí³Ý¹áõÃÛ³Ùµ Ï³Ù ³ÛÉ ë»é³í³ñ³ÏÝ»ñáí í³ñ³Ï»ÉÁ | E32: 124
A33: 0 | B33: 1.22 | C33: öáËå³ïí³ëïÙ³Ý íÇñ³Ñ³ïáõÃÛáõÝ Ï³ï³ñ»Éáõ Ï³ÝáÝÝ»ñÁ Ë³Ëï»ÉÁ | E33: 125
A34: 0 | B34: 1.23 | C34: Ø³ñÙÝÇ Ù³ë»ñ Ï³Ù ÑÛáõëí³ÍùÝ»ñ ï³ÉáõÝ Ñ³ñÏ³¹ñ»ÉÁ | E34: 126
A35: 0 | B35: 1.24 | C35: ²ÝÓÇÝ ³é³Ýó Çñ Ñ³ÝÓÝ³ñ³ñáõÃÛ³Ý µÅßÏ³Ï³Ý Ï³Ù ·Çï³Ï³Ý ÷áñÓ»ñÇ »ÝÃ³ñÏ»ÉÁ | E35: 127
A36: 0 | B36: 1.25 | C36: ìï³Ý·Ç Ù»ç ÃáÕÝ»ÉÁ | E36: 128
A37: 0 | B37: 1.26 | C37: ÐÇí³Ý¹ÇÝ û·ÝáõÃÛáõÝ óáõÛó ãï³ÉÁ | E37: 129
A38: 0 | B38: 1.27 | C38: ´ÅßÏ³Ï³Ý û·ÝáõÃÛáõÝ ¨ ëå³ë³ñÏáõÙ Çñ³Ï³Ý³óÝáÕÝ»ñÇ ÏáÕÙÇó Ù³ëÝ³·Çï³Ï³Ý å³ñï³Ï³ÝáõÃÛáõÝÝ»ñÁ ãÏ³ï³ñ»ÉÁ Ï³Ù áã å³ïß³× Ï³ï³ñ»ÉÁ | E38: 130
A39: 1 | B39: 1.28 | C39: ²ÛÉ Ñ³Ýó³·áñÍáõÃÛáõÝÝ»ñ
A40: 0 | B40: 2. | C40: ÀÝ¹³Ù»ÝÁ ³ÝÓÇ ³½³ïáõÃÛ³Ý, å³ïíÇ ¨ ³ñÅ³Ý³å³ïíáõÃÛ³Ý ¹»Ù áõÕÕí³Í Ñ³Ýó³·áñÍáõÃÛáõÝÝ»ñÁ
A41: 0 | B41: 2.1 | C41: Ø³ñ¹áõÝ ³é¨³Ý·»ÉÁ | E41: 131
B42: 2.2 | C42: Þ³Ñ³·áñÍÙ³Ý Ýå³ï³Ïáí Ù³ñ¹áõÝ Ñ³í³ù³·ñ»ÉÁ, ÷áË³¹ñ»ÉÁ, Ñ³ÝÓÝ»ÉÁ, Ã³ùóÝ»ÉÁ Ï³Ù ëï³Ý³ÉÁ | E42: 132 | G42: 1 | H42: 1 | K42: 1 | L42: 1 | M42: 1
B43: 2.3 | C43: ²½³ïáõÃÛáõÝÇó ³åûñÇÝÇ ½ñÏ»ÉÁ | E43: 133
B44: 2.4 | C44: Ðá·»µáõÅ³Ï³Ý ÑÇí³Ý¹³ÝáóáõÙ ³åûñÇÝÇ ï»Õ³íáñ»ÉÁ Ï³Ù å³Ñ»ÉÁ | E44: 134
B45: 2.5 | C45: ¼ñå³ñïáõÃÛáõÝÁ | E45: 135
B46: 2.6 | C46: ìÇñ³íáñ³ÝùÁ | E46: 136
A47: 0 | B47: 2.7 | C47: êå³ÝáõÃÛ³Ý, ³éáÕçáõÃÛ³ÝÁ Í³Ýñ íÝ³ë å³ï×³é»Éáõ Ï³Ù ·áõÛù áãÝã³óÝ»Éáõ ëå³éÝ³ÉÇùÁ | E47: 137 | G47: 1 | I47: 1 | K47: 1 | L47: 1
A48: 0 | B48: 2.8 | C48: ²ÛÉ Ñ³Ýó³·áñÍáõÃÛáõÝÝ»ñ
B49: 3. | C49: ÀÝ¹³Ù»ÝÁ ë»é³Ï³Ý ³ÝÓ»éÝÙË»ÉÇáõÃÛ³Ý ¨ ë»é³Ï³Ý ³½³ïáõÃÛ³Ý ¹»Ù áõÕÕí³Í Ñ³Ýó³·áñÍáõÃÛáõÝÝ»ñÁ | O49: 0
A50: 0 | B50: 3.1 | C50: ´éÝ³µ³ñáõÃÛáõÝÁ | E50: 138
A51: 0 | B51: 3.2 | C51: ê»ùëáõ³É µÝáõÛÃÇ µéÝÇ ·áñÍáÕáõÃÛáõÝÝ»ñÁ | E51: 139 | G51: 1 | O51: 1
B52: 3.3 | C52: ê»ùëáõ³É µÝáõÛÃÇ ·áñÍáÕáõÃÛáõÝÝ»ñÇÝ Ñ³ñÏ³¹ñ»ÉÁ | E52: 140
B53: 3.4 | C53: ê»ùëáõ³É µÝáõÛÃÇ ·áñÍáÕáõÃÛáõÝÝ»ñ Ï³ï³ñ»ÉÁ ï³ëÝí»ó ï³ñÇÝ ãÉñ³ó³Í ³ÝÓÇ Ñ»ï | E53: 141
B54: 3.5 | C54: ²Ý³é³Ï³µ³ñá ·áñÍáÕáõÃÛáõÝÝ»ñÁ | E54: 142
B55: 3.6 | C55: ²ÛÉ Ñ³Ýó³·áñÍáõÃÛáõÝÝ»ñ
B56: 4. | C56: ÀÝ¹³Ù»ÝÁ Ù³ñ¹áõ ¨ ù³Õ³ù³óáõ ë³ÑÙ³Ý³¹ñ³Ï³Ý Çñ³íáõÝùÝ»ñÇ ¨ ³½³ïáõÃÛáõÝÝ»ñÇ ¹»Ù áõÕÕí³Í Ñ³Ýó³·áñÍáõÃÛáõÝÝ»ñÁ | K56: 0 | L56: 0
B57: 4.1 | C57: ø³Õ³ù³óÇÝ»ñÇ Çñ³í³Ñ³í³ë³ñáõÃÛáõÝÁ Ë³Ëï»ÉÁ | E57: 143
B58: 4.2 | C58: ²ÝÓÝ³Ï³Ý Ï³Ù ÁÝï³Ý»Ï³Ý ÏÛ³ÝùÇ Ù³ëÇÝ ï»Õ»ÏáõÃÛáõÝÝ»ñ ³åûñÇÝÇ Ñ³í³ù»ÉÁ, å³Ñ»ÉÁ, û·ï³·áñÍ»ÉÁ Ï³Ù ï³ñ³Í»ÉÁ | E58: 144
B59: 4.3 | C59: ´ÅßÏ³Ï³Ý ·³ÕïÝÇùÁ Ññ³å³ñ³Ï»ÉÁ | E59: 145
B60: 4.4 | C60: Ü³Ù³Ï³·ñáõÃÛ³Ý, Ñ»é³Ëáë³ÛÇÝ Ëáë³ÏóáõÃÛáõÝÝ»ñÇ, ÷áëï³ÛÇÝ, Ñ»é³·ñ³Ï³Ý Ï³Ù ³ÛÉ Ñ³Õáñ¹áõÙÝ»ñÇ ·³ÕïÝÇáõÃÛáõÝÁ Ë³Ëï»ÉÁ | E60: 146
B61: 4.5 | C61: ´Ý³Ï³ñ³ÝÇ ³ÝÓ»éÝÙË»ÉÇáõÃÛáõÝÁ Ë³Ëï»ÉÁ | E61: 147
B62: 4.6 | C62: ²ÝÓÇÝ ï»Õ»ÏáõÃÛáõÝ Ý»ñÏ³Û³óÝ»Éáõó Ññ³Å³ñí»ÉÁ | E62: 148
B63: 4.7 | C63: ÀÝïñ³Ï³Ý Çñ³íáõÝùÇ Çñ³Ï³Ý³óÙ³ÝÁ, ÁÝïñ³Ï³Ý Ñ³ÝÓÝ³ÅáÕáíÝ»ñÇ ³ßË³ï³ÝùÝ»ñÇÝ Ï³Ù ÁÝïñáõÃÛ³ÝÁ Ù³ëÝ³ÏóáÕ ³ÝÓ³Ýó ÉÇ³½áñáõÃÛáõÝÝ»ñÇ Çñ³Ï³Ý³óÙ³ÝÁ ËáãÁÝ¹áï»ÉÁ | E63: 149
B64: 4.8 | C64: ÀÝïñáõÃÛáõÝÝ»ñÇ Ï³Ù ùí»³ñÏáõÃÛ³Ý ³ñ¹ÛáõÝùÝ»ñÁ Ï»ÕÍ»ÉÁ | E64: 150 | G64: 1 | H64: 1 | K64: 1 | L64: 1
B65: 4.9 | C65: ÀÝïñáõÃÛáõÝÝ»ñÇ ³ÝóÏ³óÙ³Ý ÁÝÃ³óùáõÙ Ã»ÏÝ³ÍáõÇ, Ïáõë³ÏóáõÃÛ³Ý (Ïáõë³ÏóáõÃÛáõÝÝ»ñÇ ¹³ßÇÝùÇ) í»ñ³µ»ñÛ³É ½ñå³ñïã³Ï³Ý ï»Õ»ÏáõÃÛáõÝÝ»ñ ï³ñ³Í»ÉÁ | E65: 151
B66: 4.10 | C66: ÀÝïñáÕÝ»ñÇ óáõó³ÏÝ»ñÁ Ï³½Ù»Éáõ Ï³ñ·Á Ë³Ëï»ÉÁ | E66: 152
B67: 4.11 | C67: Ø»ÏÇó ³í»ÉÇ ³Ý·³Ù Ï³Ù ³ÛÉ ³ÝÓÇ ÷áË³ñ»Ý ùí»³ñÏ»ÉÁ | E67: 153
A68: 0 | B68: 4.12 | C68: øí»³ñÏáõÃÛ³Ý ·³ÕïÝÇáõÃÛáõÝÁ Ë³Ëï»ÉÁ | E68: 154
B69: 4.13 | C69: Î»ÕÍ ÁÝïñ³Ï³Ý Ã»ñÃÇÏÝ»ñ Ï³Ù ùí»³ñÏáõÃÛ³Ý Íñ³ñÝ»ñ å³ïñ³ëï»ÉÁ Ï³Ù ³ÏÝÑ³Ûï Ï»ÕÍ ÁÝïñ³Ï³Ý ùí»³Ã»ñÃÇÏÝ»ñ Ï³Ù ùí»³ñÏáõÃÛ³Ý Íñ³ñÝ»ñ Ñ³ÝÓÝ»ÉÁ Ï³Ù Çñ³óÝ»ÉÁ | E69: 154.1
B70: 4.14 | C70: ÀÝïñáÕÇ Ï³ÙùÇ ³½³ï Çñ³Ï³Ý³óÙ³ÝÁ ËáãÁÝ¹áï»ÉÁ | E70: 154.2
B71: 4.15 | C71: ÀÝïñ³Ï³Ý Ñ³ÝÓÝ³ÅáÕáíÇ ÏÝÇùÁ ãí»ñ³¹³ñÓÝ»ÉÁ, ÏÝÇùÇ å³Ñå³ÝÙ³Ý ë³ÑÙ³Ýí³Í Ï³ñ·Á Ë³Ëï»ÉÁ | E71: 154.3
B72: 4.16 | C72: ¼»Ýùáíª ï»Õ³Ù³ë³ÛÇÝ Ï»ÝïñáÝ Ùáõïù ·áñÍ»ÉÁ | E72: 154.4
B73: 4.17 | C73: ìëï³Ñí³Í ³ÝÓÇÝ,ÁÝïñ³Ï³Ý Ñ³ÝÓÝ³ÅáÕáíÇ ³Ý¹³ÙÇÝ,¹Çïáñ¹ÇÝ Ï³Ù ½³Ý·í³Í³ÛÇÝ Éñ³ïíáõÃÛ³Ý ÙÇçáóÇ Ý»ñÏ³Û³óáõóãÇÝ ÁÝïñ³Ï³Ý ÷³ëï³ÃÕÃ»ñÇÝ Í³ÝáÃ³Ý³ÉáõÝ ËáãÁÝ¹áï»ÉÁ, ÁÝïñ³Ï³Ý Ñ³ÝÓÝ³ÅáÕáíÇ ³ñÓ³Ý³·ñáõÃÛáõÝÝ»ñÇ å³ï×»ÝÝ»ñ ãï³ÉÁ | E73: 154.5
B74: 4.18 | C74: ¶áñÍ³¹áõÉÇ Ù³ëÝ³Ïó»ÉáõÝ Ï³Ù ·áñÍ³¹áõÉÇ Ù³ëÝ³Ïó»Éáõó Ññ³Å³ñí»ÉáõÝ Ñ³ñÏ³¹ñ»ÉÁ | E74: 155
B75: 4.19 | C75: ÐÕÇ ÏÝáçÁ Ï³Ù ÙÇÝã¨ »ñ»ù ï³ñ»Ï³Ý »ñ»Ë³ áõÝ»óáÕ ³ÝÓÇÝ ³ßË³ï³ÝùÇ ÁÝ¹áõÝ»Éáõõó Ññ³Å³ñí»ÉÁ Ï³Ù ³ßË³ï³ÝùÇó ³ÝÑÇÙÝ ³½³ï»ÉÁ | E75: 156
B76: 4.20 | C76: ²ßË³ï³ÝùÇ å³ßïå³ÝáõÃÛ³Ý Ï³ÝáÝÝ»ñÁ Ë³Ëï»ÉÁ | E76: 157
B77: 4.21 | C77: Ð»ÕÇÝ³Ï³ÛÇÝ ¨ Ñ³ñ³ÏÇó Çñ³íáõÝùÝ»ñÁ Ë³Ëï»ÉÁ | E77: 158
B78: 4.22 | C78: ²ñïáÝ³·ñ³ÛÇÝ Çñ³íáõÝùÁ Ë³Ëï»ÉÁ | E78: 159
B79: 4.23 | C79: ÊÕ×Ç Ï³Ù ¹³í³Ý³ÝùÇ ³½³ïáõÃÛ³Ý Çñ³íáõÝùÇ Çñ³Ï³Ý³óÙ³ÝÁ ËáãÁÝ¹áï»ÉÁ | E79: 160
B80: 4.24 | C80: ØÇ³íáñáõÙÝ»ñ (Ñ³ë³ñ³Ï³Ï³Ý Ï³Ù ³ñÑ»ëï³Ïó³Ï³Ý ÙÇáõÃÛáõÝÝ»ñ) Ï³½Ù»Éáõ Ï³Ù Ïáõë³ÏóáõÃÛáõÝÝ»ñ ëï»ÕÍ»Éáõ Çñ³íáõÝùÇ Çñ³Ï³Ý³óÙ³ÝÁ Ï³Ù ¹ñ³Ýó ·áñÍáÕáõÃÛ³ÝÁ ËáãÁÝ¹áï»ÉÁ | E80: 161
... B83: 4.27 | C83: Èñ³·ñáÕÇ Ù³ëÝ³·Çï³Ï³Ý ûñÇÝ³Ï³Ý ·áñÍáÕáõÃÛ³ÝÁ ËáãÁÝ¹áï»ÉÁ | E83: 164
B84: 4.28 | C84: ²ÛÉ Ñ³Ýó³·áñÍáõÃÛáõÝÝ»ñ
B85: 5. | C85: ÀÝ¹³Ù»ÝÁ ÁÝï³ÝÇùÇ ¨ »ñ»Ë³ÛÇ ß³Ñ»ñÇ ¹»Ù áõÕÕí³Í Ñ³Ýó³·áñÍáõÃÛáõÝÝ»ñÁ
B86: 5.1 | C86: ²Ýã³÷³Ñ³ëÇÝ Ñ³Ýó³ÝùÇ Ï³ï³ñÙ³ÝÁ Ý»ñ·ñ³í»ÉÁ | E86: 165
B87: 5.2 | C87: ºñ»Ë³ÛÇÝ Ñ³Ï³Ñ³ë³ñ³Ï³Ï³Ý ·áñÍáÕáõÃÛáõÝÝ»ñ Ï³ï³ñ»ÉáõÝ Ý»ñ·ñ³í»ÉÁ | E87: 166
B88: 5.3 | C88: ÌÝáÕÝ»ñÇó »ñ»Ë³ÛÇÝ ³åûñÇÝÇ µ³Å³Ý»ÉÁ Ï³Ù »ñ»Ë³ÛÇÝ ÷áË»ÉÁ | E88: 167
B89: 5.4 | C89: ºñ»Ë³ÛÇ ³éù áõ í³×³éùÁ | E89: 168
B90: 5.5 | C90: àñ¹»·ñÙ³Ý ·³ÕïÝÇùÁ Ññ³å³ñ³Ï»ÉÁ Ï³Ù áñ¹»·ñÙ³Ý Ñ³Ù³Ó³ÛÝáõÃÛáõÝ ï³ÉáõÝ Ñ³Ï»ÉÁ Ï³Ù Ñ³ñÏ³¹ñ»ÉÁ | E90: 169
B91: 5.6 | C91: ø³Õ³ù³óÇ³Ï³Ý Ï³óáõÃÛ³Ý ³Ïï»ñÇ ·ñ³ÝóÙ³Ý Ù³ñÙÇÝÝ»ñÇÝ ëáõï ï»Õ»ÏáõÃÛáõÝÝ»ñ Ñ³Õáñ¹»ÉÁ | E91: 169.1
B92: 5.7 | C92: ºñ»Ë³ÛÇÝ ¹³ëïÇ³ñ³Ï»Éáõ å³ñï³Ï³ÝáõÃÛáõÝÁ ãÏ³ï³ñ»ÉÁ | E92: 170
B93: 5.8 | C93: ºñ»Ë³ÛÇ ÏÛ³ÝùÇ ³Ýíï³Ý·áõÃÛ³Ý ³å³ÑáíÙ³Ý Ï³Ù ³éáÕçáõÃÛ³Ý å³Ñå³ÝÙ³Ý å³ñï³Ï³ÝáõÃÛáõÝÁ ãÏ³ï³ñ»ÉÁ Ï³Ù áã å³ïß³× Ï³ï³ñ»ÉÁ | E93: 171
B94: 5.9 | C94: ÊÝ³Ù³Ï³ÉÇ Ï³Ù Ñá·³µ³ñÓáõÇ Çñ³íáõÝùÝ»ñÁ ã³ñ³ß³Ñ»ÉÁ | E94: 172
B95: 5.10 | C95: ÌÝáÕÇ ÏáÕÙÇó »ñ»Ë³ÛÇÝ å³Ñ»Éáõó ã³ñ³Ùïáñ»Ý Ëáõë³÷»ÉÁ | E95: 173
A96: 0 | B96: 5.11 | C96: ¼³í³ÏÇ ÏáÕÙÇó ³Ý³ßË³ïáõÝ³Ï ÍÝáÕÇÝ å³Ñ»Éáõó ã³ñ³Ùïáñ»Ý Ëáõë³÷»ÉÁ | E96: 174
B97: 5.12 | C97: ²ÛÉ Ñ³Ýó³·áñÍáõÃÛáõÝÝ»ñ
B98: 6. | C98: ÀÝ¹³Ù»ÝÁ ë»÷³Ï³ÝáõÃÛ³Ý ¹»Ù áõÕÕí³Í Ñ³Ýó³·áñÍáõÃÛáõÝÝ»ñÁ
B99: 6.1 | C99: ²í³½³ÏáõÃÛáõÝÁ | E99: 175 | G99: 3 | O99: 3
B100: 6.2 | C100: ÎáÕáåáõïÁ | E100: 176 | G100: 2 | H100: 2 | K100: 2 | L100: 2
B101: 6.3 | C101: ¶áÕáõÃÛáõÝÁ | E101: 177 | G101: 16 | H101: 10 | K101: 10 | L101: 9 | M101: 3 | O101: 6
B102: 6.4 | C102: Ê³ñ¹³ËáõÃÛáõÝÁ | E102: 178 | F102: 1 | G102: 5 | H102: 3 | K102: 3 | L102: 3 | M102: 1 | O102: 3 | P102: 1
B103: 6.5 | C103: Úáõñ³óÝ»ÉÁ Ï³Ù í³ïÝ»ÉÁ | E103: 179 | F103: 1 | H103: 1 | K103: 1 | L103: 1 | M103: 1
B104: 6.6 | C104: ²é³ÝÓÝ³ÏÇ ³ñÅ»ù áõÝ»óáÕ ³é³ñÏ³Ý»ñ Ñ³÷ßï³Ï»ÉÁ | E104: 180
B105: 6.7 | C105: Ð³÷ßï³ÏáõÃÛáõÝÁ, áñÁ Ï³ï³ñí»É ¿ Ñ³Ù³Ï³ñ·ã³ÛÇÝ ï»ËÝÇÏ³ÛÇ û·ï³·áñÍÙ³Ùµ | E105: 181
B106: 6.8 | C106: ÞáñÃáõÙÁ | E106: 182
B107: 6.9 | C107: ²íïáÙ»ù»Ý³ÛÇÝ Ï³Ù ïñ³Ýëåáñï³ÛÇÝ ³ÛÉ ÙÇçáóÇÝ ³åûñÇÝ³µ³ñ ïÇñ³Ý³ÉÝ ³é³Ýó Ñ³÷ßï³Ï»Éáõ Ýå³ï³ÏÇ | E107: 183
B108: 6.10 | C108: ¶áõÛù³ÛÇÝ íÝ³ë å³ï×³é»ÉÁ Ë³µ»áõÃÛ³Ý Ï³Ù íëï³ÑáõÃÛáõÝÁ ã³ñ³ß³Ñ»Éáõ »Õ³Ý³Ïáí | E108: 184
B109: 6.11 | C109: ¶áõÛùÁ ¹Çï³íáñáõÃÛ³Ùµ áãÝã³óÝ»ÉÁ Ï³Ù íÝ³ë»ÉÁ | E109: 185 | G109: 1 | H109: 1 | K109: 1 | L109: 1 | M109: 1
...

Sheet Gexarqunik
B2: Ð²ÞìºîìàôÂÚàôÜ
B4: ÐÐ ¶ºÔ²ðøàôÜÆøÆ Ø²ð¼Æ ÀÜ¸Ð²Üàôð Æð²ì²êàôÂÚ²Ü ¸²î²ð²ÜàôØ øðº²Î²Ü ¶àðÌºðÆ øÜÜàôÂÚ²Ü ìºð²´ºðÚ²È
B5: 2009Ã. ï³ñí³ Ñ³Ù³ñ
B7: êïáõ·Çã Ñ³í³ë³ñáõÙÝ»ñ` 1+2=6+9+10, 6=3+4+5 | E7: ÐÐ ùñ»³Ï³Ý ûñ»Ýë·ñùÇ Ñá¹í³ÍÝ»ñ | F7: ²Ý³í³ñï ·áñÍ»ñÇ ÙÝ³óáñ¹Á Ñ³ßí»ïáõ Å³Ù³Ý³Ï³ßñç³ÝÇ ëÏ½µáõÙ | G7: êï³óí»É »Ý ·áñÍ»ñ Ñ³ßí»ïáõ Å³Ù³Ý³Ï³ßñç³ÝáõÙ | H7: ²í³ñïí»É »Ý ·áñÍ»ñ Ñ³ßí»ïáõ Å³Ù³Ý³Ï³ßñç³ÝáõÙ | L7: úñÇÝ³Ï³Ý áõÅÇ Ù»ç ¿ Ùï»É | M7: ´áÕáù³ñÏí»É ¿ í»ñ³ùÝÝÇã ¹³ï³ñ³Ý | N7: àõÕ³ñÏí»É ¿ Áëï ÁÝ¹¹³ïáõÃÛ³Ý | O7: ²Ý³í³ñï ·áñÍ»ñÇ ÙÝ³óáñ¹Á Ñ³ßí»ïáõ Å³Ù³Ý³Ï³ßñç³ÝÇ í»ñçáõÙ | P7: ²Û¹ ÃíáõÙª Ï³ë»óí³Í
H8: øÝÝí»É ¿ Áëï ¿áõÃÛ³Ý ¨ ¹³ï³í×Çé Ï³Û³óí»É | I8: àñáßáõÙ ¿ Ï³Û³óí»É ùñ»³Ï³Ý ·áñÍÇ í³ñáõÛÃÁ Ï³ñ×»Éáõ ¨ ùñ»³Ï³Ý Ñ»ï³åÝ¹áõÙÁ ¹³¹³ñ»óÝ»Éáõ Ù³ëÇÝ | J8: àñáßáõÙ ¿ Ï³Û³óí»É ³ÝÙ»ÕëáõÝ³ÏÝ»ñÇ ÝÏ³ïÙ³Ùµ µÅßÏ³Ï³Ý µÝáõÛÃÇ Ñ³ñÏ³¹ñ³Ï³Ý ÙÇçáóÝ»ñ ÏÇñ³é»Éáõ Ù³ëÇÝ | K8: ÀÝ¹³Ù»ÝÁ ³í³ñïí»É »Ý ·áñÍ»ñ
F10: 1 | G10: 2 | H10: 3 | I10: 4 | J10: 5 | K10: 6 | L10: 7 | M10: 8 | N10: 9 | O10: 10 | P10: 11
A11: 1 | B11: 1. | C11: ÀÝ¹³Ù»ÝÁ ÏÛ³ÝùÇ ¨ ³éáÕçáõÃÛ³Ý ¹»Ù áõÕÕí³Í Ñ³Ýó³·áñÍáõÃÛáõÝÝ»ñÁ
A12: 0 | B12: 1.1 | C12: êå³ÝáõÃÛáõÝÁ | E12: 104
A13: 0 | B13: 1.2 | C13: Ðá·»Ï³Ý ËÇëï Ñáõ½ÙáõÝùÇ íÇ×³ÏáõÙ Ï³ï³ñí³Í ëå³ÝáõÃÛáõÝÁ | E13: 105
A14: 0 | B14: 1.3 | C14: Øáñ ÏáÕÙÇó Ýáñ³ÍÇÝ »ñ»Ë³ÛÇ ëå³ÝáõÃÛáõÝÁ | E14: 106
A15: 0 | B15: 1.4 | C15: Ð³Ýó³Ýù Ï³ï³ñ³Í ³ÝÓÇÝ µéÝ»Éáõ Ñ³Ù³ñ ³ÝÑñ³Å»ßï ÙÇçáóÝ»ñÇ ë³ÑÙ³Ý³½³ÝóÙ³Ùµ ëå³ÝáõÃÛáõÝÁ | E15: 107
A16: 0 | B16: 1.5 | C16: ²ÝÑñ³Å»ßï å³ßïå³ÝáõÃÛ³Ý ë³ÑÙ³Ý³½³ÝóÙ³Ùµ ëå³ÝáõÃÛáõÝÁ | E16: 108
A17: 0 | B17: 1.6 | C17: ²Ý½·áõßáõÃÛ³Ùµ Ù³Ñ å³ï×³é»ÉÁ | E17: 109
A18: 0 | B18: 1.7 | C18: ÆÝùÝ³ëå³ÝáõÃÛ³Ý Ñ³ëóÝ»ÉÁ | E18: 110
A19: 0 | B19: 1.8 | C19: ÆÝùÝ³ëå³ÝáõÃÛ³Ý Ñ³Ï»ÉÁ | E19: 111
A20: 0 | B20: 1.9 | C20: ¸Çï³íáñáõÃÛ³Ùµ ³éáÕçáõÃÛ³ÝÁ Í³Ýñ íÝ³ë å³ï×³é»ÉÁ | E20: 112 | G20: 5 | H20: 3 | K20: 3 | L20: 2 | M20: 1 | O20: 2
A21: 0 | B21: 1.10 | C21: ¸Çï³íáñáõÃÛ³Ùµ ³éáÕçáõÃÛ³ÝÁ ÙÇçÇÝ Í³ÝñáõÃÛ³Ý íÝ³ë å³ï×³é»ÉÁ | E21: 113 | G21: 4 | H21: 2 | I21: 1 | K21: 3 | L21: 3 | O21: 1
A22: 0 | B22: 1.11 | C22: Ðá·»Ï³Ý ËÇëï Ñáõ½ÙáõÝùÇ íÇ×³ÏáõÙ ³éáÕçáõÃÛ³ÝÁ Í³Ýñ Ï³Ù ÙÇçÇÝ Í³ÝñáõÃÛ³Ý íÝ³ë å³ï×³é»ÉÁ | E22: 114
A23: 0 | B23: 1.12 | C23: Ð³Ýó³Ýù Ï³ï³ñ³Í ³ÝÓÇÝ µéÝ»Éáõ Ñ³Ù³ñ ³ÝÑñ³Å»ßï ÙÇçáóÝ»ñÇ ë³ÑÙ³Ý½³ÝóÙ³Ùµ ³éáÕçáõÃÛ³ÝÁ Í³Ýñ Ï³Ù ÙÇçÇÝ Í³ÝñáõÃÛ³Ý íÝ³ë å³ï×³é»ÉÁ | E23: 115
A24: 0 | B24: 1.13 | C24: ²éáÕçáõÃÛ³ÝÁ Í³Ýñ Ï³Ù ÙÇçÇÝ Í³ÝñáõÃÛ³Ý íÝ³ë å³ï×³é»ÉÁ ³ÝÑñ³Å»ßï å³ßïå³ÝáõÃÛ³Ý ë³ÑÙ³Ý³Ý³½³ÝóÙ³Ùµ | E24: 116
A25: 0 | B25: 1.14 | C25: ¸Çï³íáñáõÃÛ³Ùµ ³éáÕçáõÃÛ³ÝÁ Ã»Ã¨ íÝ³ë å³ï×³é»ÉÁ | E25: 117 | G25: 5 | H25: 3 | I25: 1 | K25: 4 | L25: 4 | O25: 1
A26: 0 | B26: 1.15 | C26: Ì»ÍÁ | E26: 118 | G26: 2 | I26: 1 | K26: 1 | L26: 1 | O26: 1
A27: 0 | B27: 1.16 | C27: Êáßï³Ý·áõÙÁ | E27: 119
A28: 0 | B28: 1.17 | C28: ²Ý½·áõßáõÃÛ³Ùµ ³éáÕçáõÃÛ³ÝÁ Í³Ýñ íÝ³ë å³ï×³é»ÉÁ | E28: 120
A29: 0 | B29: 1.18 | C29: ²Ý½·áõßáõÃÛ³Ùµ ³éáÕçáõÃÛ³ÝÁ ÙÇçÇÝ Í³ÝñáõÃÛ³Ý íÝ³ë å³ï×³é»ÉÁ | E29: 121
A30: 0 | B30: 1.19 | C30: ²åûñÇÝÇ ³µáñï Ï³ï³ñ»ÉÁ | E30: 122
A31: 0 | B31: 1.20 | C31: Ø³ñ¹áõ ÇÙáõÝ³ÛÇÝ ³Ýµ³í³ñ³ñáõÃÛ³Ý íÇñáõëÇ Ñ³ñáõóÇãáí í³ñ³Ï»ÉÁ | E31: 123
A32: 0 | B32: 1.21 | C32: ì»Ý»ñ³Ï³Ý ÑÇí³Ý¹áõÃÛ³Ùµ Ï³Ù ³ÛÉ ë»é³í³ñ³ÏÝ»ñáí í³ñ³Ï»ÉÁ | E32: 124
A33: 0 | B33: 1.22 | C33: öáËå³ïí³ëïÙ³Ý íÇñ³Ñ³ïáõÃÛáõÝ Ï³ï³ñ»Éáõ Ï³ÝáÝÝ»ñÁ Ë³Ëï»ÉÁ | E33: 125
A34: 0 | B34: 1.23 | C34: Ø³ñÙÝÇ Ù³ë»ñ Ï³Ù ÑÛáõëí³ÍùÝ»ñ ï³ÉáõÝ Ñ³ñÏ³¹ñ»ÉÁ | E34: 126
A35: 0 | B35: 1.24 | C35: ²ÝÓÇÝ ³é³Ýó Çñ Ñ³ÝÓÝ³ñ³ñáõÃÛ³Ý µÅßÏ³Ï³Ý Ï³Ù ·Çï³Ï³Ý ÷áñÓ»ñÇ »ÝÃ³ñÏ»ÉÁ | E35: 127
A36: 0 | B36: 1.25 | C36: ìï³Ý·Ç Ù»ç ÃáÕÝ»ÉÁ | E36: 128
A37: 0 | B37: 1.26 | C37: ÐÇí³Ý¹ÇÝ û·ÝáõÃÛáõÝ óáõÛó ãï³ÉÁ | E37: 129
A38: 0 | B38: 1.27 | C38: ´ÅßÏ³Ï³Ý û·ÝáõÃÛáõÝ ¨ ëå³ë³ñÏáõÙ Çñ³Ï³Ý³óÝáÕÝ»ñÇ ÏáÕÙÇó Ù³ëÝ³·Çï³Ï³Ý å³ñï³Ï³ÝáõÃÛáõÝÝ»ñÁ ãÏ³ï³ñ»ÉÁ Ï³Ù áã å³ïß³× Ï³ï³ñ»ÉÁ | E38: 130
A39: 1 | B39: 1.28 | C39: ²ÛÉ Ñ³Ýó³·áñÍáõÃÛáõÝÝ»ñ
A40: 0 | B40: 2. | C40: ÀÝ¹³Ù»ÝÁ ³ÝÓÇ ³½³ïáõÃÛ³Ý, å³ïíÇ ¨ ³ñÅ³Ý³å³ïíáõÃÛ³Ý ¹»Ù áõÕÕí³Í Ñ³Ýó³·áñÍáõÃÛáõÝÝ»ñÁ
A41: 0 | B41: 2.1 | C41: Ø³ñ¹áõÝ ³é¨³Ý·»ÉÁ | E41: 131 | G41: 2 | H41: 2 | K41: 2 | L41: 2
B42: 2.2 | C42: Þ³Ñ³·áñÍÙ³Ý Ýå³ï³Ïáí Ù³ñ¹áõÝ Ñ³í³ù³·ñ»ÉÁ, ÷áË³¹ñ»ÉÁ, Ñ³ÝÓÝ»ÉÁ, Ã³ùóÝ»ÉÁ Ï³Ù ëï³Ý³ÉÁ | E42: 132
B43: 2.3 | C43: ²½³ïáõÃÛáõÝÇó ³åûñÇÝÇ ½ñÏ»ÉÁ | E43: 133
B44: 2.4 | C44: Ðá·»µáõÅ³Ï³Ý ÑÇí³Ý¹³ÝáóáõÙ ³åûñÇÝÇ ï»Õ³íáñ»ÉÁ Ï³Ù å³Ñ»ÉÁ | E44: 134
B45: 2.5 | C45: ¼ñå³ñïáõÃÛáõÝÁ | E45: 135
B46: 2.6 | C46: ìÇñ³íáñ³ÝùÁ | E46: 136 | G46: 1 | H46: 1 | K46: 1 | L46: 1
A47: 0 | B47: 2.7 | C47: êå³ÝáõÃÛ³Ý, ³éáÕçáõÃÛ³ÝÁ Í³Ýñ íÝ³ë å³ï×³é»Éáõ Ï³Ù ·áõÛù áãÝã³óÝ»Éáõ ëå³éÝ³ÉÇùÁ | E47: 137 | G47: 1 | H47: 1 | K47: 1 | L47: 1
A48: 0 | B48: 2.8 | C48: ²ÛÉ Ñ³Ýó³·áñÍáõÃÛáõÝÝ»ñ
B49: 3. | C49: ÀÝ¹³Ù»ÝÁ ë»é³Ï³Ý ³ÝÓ»éÝÙË»ÉÇáõÃÛ³Ý ¨ ë»é³Ï³Ý ³½³ïáõÃÛ³Ý ¹»Ù áõÕÕí³Í Ñ³Ýó³·áñÍáõÃÛáõÝÝ»ñÁ
A50: 0 | B50: 3.1 | C50: ´éÝ³µ³ñáõÃÛáõÝÁ | E50: 138
A51: 0 | B51: 3.2 | C51: ê»ùëáõ³É µÝáõÛÃÇ µéÝÇ ·áñÍáÕáõÃÛáõÝÝ»ñÁ | E51: 139
B52: 3.3 | C52: ê»ùëáõ³É µÝáõÛÃÇ ·áñÍáÕáõÃÛáõÝÝ»ñÇÝ Ñ³ñÏ³¹ñ»ÉÁ | E52: 140
B53: 3.4 | C53: ê»ùëáõ³É µÝáõÛÃÇ ·áñÍáÕáõÃÛáõÝÝ»ñ Ï³ï³ñ»ÉÁ ï³ëÝí»ó ï³ñÇÝ ãÉñ³ó³Í ³ÝÓÇ Ñ»ï | E53: 141
B54: 3.5 | C54: ²Ý³é³Ï³µ³ñá ·áñÍáÕáõÃÛáõÝÝ»ñÁ | E54: 142
B55: 3.6 | C55: ²ÛÉ Ñ³Ýó³·áñÍáõÃÛáõÝÝ»ñ
B56: 4. | C56: ÀÝ¹³Ù»ÝÁ Ù³ñ¹áõ ¨ ù³Õ³ù³óáõ ë³ÑÙ³Ý³¹ñ³Ï³Ý Çñ³íáõÝùÝ»ñÇ ¨ ³½³ïáõÃÛáõÝÝ»ñÇ ¹»Ù áõÕÕí³Í Ñ³Ýó³·áñÍáõÃÛáõÝÝ»ñÁ
B57: 4.1 | C57: ø³Õ³ù³óÇÝ»ñÇ Çñ³í³Ñ³í³ë³ñáõÃÛáõÝÁ Ë³Ëï»ÉÁ | E57: 143
B58: 4.2 | C58: ²ÝÓÝ³Ï³Ý Ï³Ù ÁÝï³Ý»Ï³Ý ÏÛ³ÝùÇ Ù³ëÇÝ ï»Õ»ÏáõÃÛáõÝÝ»ñ ³åûñÇÝÇ Ñ³í³ù»ÉÁ, å³Ñ»ÉÁ, û·ï³·áñÍ»ÉÁ Ï³Ù ï³ñ³Í»ÉÁ | E58: 144
B59: 4.3 | C59: ´ÅßÏ³Ï³Ý ·³ÕïÝÇùÁ Ññ³å³ñ³Ï»ÉÁ | E59: 145
B60: 4.4 | C60: Ü³Ù³Ï³·ñáõÃÛ³Ý, Ñ»é³Ëáë³ÛÇÝ Ëáë³ÏóáõÃÛáõÝÝ»ñÇ, ÷áëï³ÛÇÝ, Ñ»é³·ñ³Ï³Ý Ï³Ù ³ÛÉ Ñ³Õáñ¹áõÙÝ»ñÇ ·³ÕïÝÇáõÃÛáõÝÁ Ë³Ëï»ÉÁ | E60: 146
B61: 4.5 | C61: ´Ý³Ï³ñ³ÝÇ ³ÝÓ»éÝÙË»ÉÇáõÃÛáõÝÁ Ë³Ëï»ÉÁ | E61: 147 | G61: 1 | H61: 1 | K61: 1 | L61: 1
B62: 4.6 | C62: ²ÝÓÇÝ ï»Õ»ÏáõÃÛáõÝ Ý»ñÏ³Û³óÝ»Éáõó Ññ³Å³ñí»ÉÁ | E62: 148
B63: 4.7 | C63: ÀÝïñ³Ï³Ý Çñ³íáõÝùÇ Çñ³Ï³Ý³óÙ³ÝÁ, ÁÝïñ³Ï³Ý Ñ³ÝÓÝ³ÅáÕáíÝ»ñÇ ³ßË³ï³ÝùÝ»ñÇÝ Ï³Ù ÁÝïñáõÃÛ³ÝÁ Ù³ëÝ³ÏóáÕ ³ÝÓ³Ýó ÉÇ³½áñáõÃÛáõÝÝ»ñÇ Çñ³Ï³Ý³óÙ³ÝÁ ËáãÁÝ¹áï»ÉÁ | E63: 149
B64: 4.8 | C64: ÀÝïñáõÃÛáõÝÝ»ñÇ Ï³Ù ùí»³ñÏáõÃÛ³Ý ³ñ¹ÛáõÝùÝ»ñÁ Ï»ÕÍ»ÉÁ | E64: 150
B65: 4.9 | C65: ÀÝïñáõÃÛáõÝÝ»ñÇ ³ÝóÏ³óÙ³Ý ÁÝÃ³óùáõÙ Ã»ÏÝ³ÍáõÇ, Ïáõë³ÏóáõÃÛ³Ý (Ïáõë³ÏóáõÃÛáõÝÝ»ñÇ ¹³ßÇÝùÇ) í»ñ³µ»ñÛ³É ½ñå³ñïã³Ï³Ý ï»Õ»ÏáõÃÛáõÝÝ»ñ ï³ñ³Í»ÉÁ | E65: 151
B66: 4.10 | C66: ÀÝïñáÕÝ»ñÇ óáõó³ÏÝ»ñÁ Ï³½Ù»Éáõ Ï³ñ·Á Ë³Ëï»ÉÁ | E66: 152
B67: 4.11 | C67: Ø»ÏÇó ³í»ÉÇ ³Ý·³Ù Ï³Ù ³ÛÉ ³ÝÓÇ ÷áË³ñ»Ý ùí»³ñÏ»ÉÁ | E67: 153
A68: 0 | B68: 4.12 | C68: øí»³ñÏáõÃÛ³Ý ·³ÕïÝÇáõÃÛáõÝÁ Ë³Ëï»ÉÁ | E68: 154
B69: 4.13 | C69: Î»ÕÍ ÁÝïñ³Ï³Ý Ã»ñÃÇÏÝ»ñ Ï³Ù ùí»³ñÏáõÃÛ³Ý Íñ³ñÝ»ñ å³ïñ³ëï»ÉÁ Ï³Ù ³ÏÝÑ³Ûï Ï»ÕÍ ÁÝïñ³Ï³Ý ùí»³Ã»ñÃÇÏÝ»ñ Ï³Ù ùí»³ñÏáõÃÛ³Ý Íñ³ñÝ»ñ Ñ³ÝÓÝ»ÉÁ Ï³Ù Çñ³óÝ»ÉÁ | E69: 154.1
B70: 4.14 | C70: ÀÝïñáÕÇ Ï³ÙùÇ ³½³ï Çñ³Ï³Ý³óÙ³ÝÁ ËáãÁÝ¹áï»ÉÁ | E70: 154.2
B71: 4.15 | C71: ÀÝïñ³Ï³Ý Ñ³ÝÓÝ³ÅáÕáíÇ ÏÝÇùÁ ãí»ñ³¹³ñÓÝ»ÉÁ, ÏÝÇùÇ å³Ñå³ÝÙ³Ý ë³ÑÙ³Ýí³Í Ï³ñ·Á Ë³Ëï»ÉÁ | E71: 154.3
B72: 4.16 | C72: ¼»Ýùáíª ï»Õ³Ù³ë³ÛÇÝ Ï»ÝïñáÝ Ùáõïù ·áñÍ»ÉÁ | E72: 154.4
B73: 4.17 | C73: ìëï³Ñí³Í ³ÝÓÇÝ,ÁÝïñ³Ï³Ý Ñ³ÝÓÝ³ÅáÕáíÇ ³Ý¹³ÙÇÝ,¹Çïáñ¹ÇÝ Ï³Ù ½³Ý·í³Í³ÛÇÝ Éñ³ïíáõÃÛ³Ý ÙÇçáóÇ Ý»ñÏ³Û³óáõóãÇÝ ÁÝïñ³Ï³Ý ÷³ëï³ÃÕÃ»ñÇÝ Í³ÝáÃ³Ý³ÉáõÝ ËáãÁÝ¹áï»ÉÁ, ÁÝïñ³Ï³Ý Ñ³ÝÓÝ³ÅáÕáíÇ ³ñÓ³Ý³·ñáõÃÛáõÝÝ»ñÇ å³ï×»ÝÝ»ñ ãï³ÉÁ | E73: 154.5
B74: 4.18 | C74: ¶áñÍ³¹áõÉÇ Ù³ëÝ³Ïó»ÉáõÝ Ï³Ù ·áñÍ³¹áõÉÇ Ù³ëÝ³Ïó»Éáõó Ññ³Å³ñí»ÉáõÝ Ñ³ñÏ³¹ñ»ÉÁ | E74: 155
B75: 4.19 | C75: ÐÕÇ ÏÝáçÁ Ï³Ù ÙÇÝã¨ »ñ»ù ï³ñ»Ï³Ý »ñ»Ë³ áõÝ»óáÕ ³ÝÓÇÝ ³ßË³ï³ÝùÇ ÁÝ¹áõÝ»Éáõõó Ññ³Å³ñí»ÉÁ Ï³Ù ³ßË³ï³ÝùÇó ³ÝÑÇÙÝ ³½³ï»ÉÁ | E75: 156
B76: 4.20 | C76: ²ßË³ï³ÝùÇ å³ßïå³ÝáõÃÛ³Ý Ï³ÝáÝÝ»ñÁ Ë³Ëï»ÉÁ | E76: 157
B77: 4.21 | C77: Ð»ÕÇÝ³Ï³ÛÇÝ ¨ Ñ³ñ³ÏÇó Çñ³íáõÝùÝ»ñÁ Ë³Ëï»ÉÁ | E77: 158
B78: 4.22 | C78: ²ñïáÝ³·ñ³ÛÇÝ Çñ³íáõÝùÁ Ë³Ëï»ÉÁ | E78: 159
B79: 4.23 | C79: ÊÕ×Ç Ï³Ù ¹³í³Ý³ÝùÇ ³½³ïáõÃÛ³Ý Çñ³íáõÝùÇ Çñ³Ï³Ý³óÙ³ÝÁ ËáãÁÝ¹áï»ÉÁ | E79: 160
B80: 4.24 | C80: ØÇ³íáñáõÙÝ»ñ (Ñ³ë³ñ³Ï³Ï³Ý Ï³Ù ³ñÑ»ëï³Ïó³Ï³Ý ÙÇáõÃÛáõÝÝ»ñ) Ï³½Ù»Éáõ Ï³Ù Ïáõë³ÏóáõÃÛáõÝÝ»ñ ëï»ÕÍ»Éáõ Çñ³íáõÝùÇ Çñ³Ï³Ý³óÙ³ÝÁ Ï³Ù ¹ñ³Ýó ·áñÍáÕáõÃÛ³ÝÁ ËáãÁÝ¹áï»ÉÁ | E80: 161
... B83: 4.27 | C83: Èñ³·ñáÕÇ Ù³ëÝ³·Çï³Ï³Ý ûñÇÝ³Ï³Ý ·áñÍáÕáõÃÛ³ÝÁ ËáãÁÝ¹áï»ÉÁ | E83: 164
B84: 4.28 | C84: ²ÛÉ Ñ³Ýó³·áñÍáõÃÛáõÝÝ»ñ
B85: 5. | C85: ÀÝ¹³Ù»ÝÁ ÁÝï³ÝÇùÇ ¨ »ñ»Ë³ÛÇ ß³Ñ»ñÇ ¹»Ù áõÕÕí³Í Ñ³Ýó³·áñÍáõÃÛáõÝÝ»ñÁ
B86: 5.1 | C86: ²Ýã³÷³Ñ³ëÇÝ Ñ³Ýó³ÝùÇ Ï³ï³ñÙ³ÝÁ Ý»ñ·ñ³í»ÉÁ | E86: 165
B87: 5.2 | C87: ºñ»Ë³ÛÇÝ Ñ³Ï³Ñ³ë³ñ³Ï³Ï³Ý ·áñÍáÕáõÃÛáõÝÝ»ñ Ï³ï³ñ»ÉáõÝ Ý»ñ·ñ³í»ÉÁ | E87: 166
B88: 5.3 | C88: ÌÝáÕÝ»ñÇó »ñ»Ë³ÛÇÝ ³åûñÇÝÇ µ³Å³Ý»ÉÁ Ï³Ù »ñ»Ë³ÛÇÝ ÷áË»ÉÁ | E88: 167
B89: 5.4 | C89: ºñ»Ë³ÛÇ ³éù áõ í³×³éùÁ | E89: 168
B90: 5.5 | C90: àñ¹»·ñÙ³Ý ·³ÕïÝÇùÁ Ññ³å³ñ³Ï»ÉÁ Ï³Ù áñ¹»·ñÙ³Ý Ñ³Ù³Ó³ÛÝáõÃÛáõÝ ï³ÉáõÝ Ñ³Ï»ÉÁ Ï³Ù Ñ³ñÏ³¹ñ»ÉÁ | E90: 169
B91: 5.6 | C91: ø³Õ³ù³óÇ³Ï³Ý Ï³óáõÃÛ³Ý ³Ïï»ñÇ ·ñ³ÝóÙ³Ý Ù³ñÙÇÝÝ»ñÇÝ ëáõï ï»Õ»ÏáõÃÛáõÝÝ»ñ Ñ³Õáñ¹»ÉÁ | E91: 169.1
B92: 5.7 | C92: ºñ»Ë³ÛÇÝ ¹³ëïÇ³ñ³Ï»Éáõ å³ñï³Ï³ÝáõÃÛáõÝÁ ãÏ³ï³ñ»ÉÁ | E92: 170
B93: 5.8 | C93: ºñ»Ë³ÛÇ ÏÛ³ÝùÇ ³Ýíï³Ý·áõÃÛ³Ý ³å³ÑáíÙ³Ý Ï³Ù ³éáÕçáõÃÛ³Ý å³Ñå³ÝÙ³Ý å³ñï³Ï³ÝáõÃÛáõÝÁ ãÏ³ï³ñ»ÉÁ Ï³Ù áã å³ïß³× Ï³ï³ñ»ÉÁ | E93: 171
B94: 5.9 | C94: ÊÝ³Ù³Ï³ÉÇ Ï³Ù Ñá·³µ³ñÓáõÇ Çñ³íáõÝùÝ»ñÁ ã³ñ³ß³Ñ»ÉÁ | E94: 172
B95: 5.10 | C95: ÌÝáÕÇ ÏáÕÙÇó »ñ»Ë³ÛÇÝ å³Ñ»Éáõó ã³ñ³Ùïáñ»Ý Ëáõë³÷»ÉÁ | E95: 173
A96: 0 | B96: 5.11 | C96: ¼³í³ÏÇ ÏáÕÙÇó ³Ý³ßË³ïáõÝ³Ï ÍÝáÕÇÝ å³Ñ»Éáõó ã³ñ³Ùïáñ»Ý Ëáõë³÷»ÉÁ | E96: 174
B97: 5.12 | C97: ²ÛÉ Ñ³Ýó³·áñÍáõÃÛáõÝÝ»ñ
B98: 6. | C98: ÀÝ¹³Ù»ÝÁ ë»÷³Ï³ÝáõÃÛ³Ý ¹»Ù áõÕÕí³Í Ñ³Ýó³·áñÍáõÃÛáõÝÝ»ñÁ
B99: 6.1 | C99: ²í³½³ÏáõÃÛáõÝÁ | E99: 175
B100: 6.2 | C100: ÎáÕáåáõïÁ | E100: 176 | G100: 4 | H100: 3 | K100: 3 | M100: 3 | O100: 1
B101: 6.3 | C101: ¶áÕáõÃÛáõÝÁ | E101: 177 | F101: 2 | G101: 36 | H101: 28 | K101: 28 | L101: 17 | M101: 4 | O101: 10 | P101: 2
B102: 6.4 | C102: Ê³ñ¹³ËáõÃÛáõÝÁ | E102: 178 | G102: 4 | H102: 3 | K102: 3 | L102: 3 | O102: 1
B103: 6.5 | C103: Úáõñ³óÝ»ÉÁ Ï³Ù í³ïÝ»ÉÁ | E103: 179 | G103: 6 | H103: 6 | K103: 6 | L103: 5 | M103: 1
B104: 6.6 | C104: ²é³ÝÓÝ³ÏÇ ³ñÅ»ù áõÝ»óáÕ ³é³ñÏ³Ý»ñ Ñ³÷ßï³Ï»ÉÁ | E104: 180
B105: 6.7 | C105: Ð³÷ßï³ÏáõÃÛáõÝÁ, áñÁ Ï³ï³ñí»É ¿ Ñ³Ù³Ï³ñ·ã³ÛÇÝ ï»ËÝÇÏ³ÛÇ û·ï³·áñÍÙ³Ùµ | E105: 181
B106: 6.8 | C106: ÞáñÃáõÙÁ | E106: 182 | G106: 1 | O106: 1
...

Sheet Kentron
B2: Ð²ÞìºîìàôÂÚàôÜ
B4: ÐÐ ԿԵՆՏՐՈՆ ԵՎ ՆՈՐՔ-ՄԱՐԱՇ ÀÜ¸Ð²Üàôð Æð²ì²êàôÂÚ²Ü ¸²î²ð²ÜÜºðàôØ øðº²Î²Ü ¶àðÌºðÆ øÜÜàôÂÚ²Ü ìºð²´ºՅԱԼ
B5: 2009 Ã. /Տարվա/ Ñ³Ù³ñ
B7: êïáõ·Çã Ñ³í³ë³ñáõÙÝ»ñ` 1+2=6+9+10, 6=3+4+5 | E7: ÐÐ ùñ»³Ï³Ý ûñ»Ýë·ñùÇ Ñá¹í³ÍÝ»ñ | F7: ²Ý³í³ñï ·áñÍ»ñÇ ÙÝ³óáñ¹Á Ñ³ßí»ïáõ Å³Ù³Ý³Ï³ßñç³ÝÇ ëÏ½µáõÙ | G7: êï³óí»É »Ý ·áñÍ»ñ Ñ³ßí»ïáõ Å³Ù³Ý³Ï³ßñç³ÝáõÙ | H7: ²í³ñïí»É »Ý ·áñÍ»ñ Ñ³ßí»ïáõ Å³Ù³Ý³Ï³ßñç³ÝáõÙ | L7: úñÇÝ³Ï³Ý áõÅÇ Ù»ç ¿ Ùï»É | M7: ´áÕáù³ñÏí»É ¿ í»ñ³ùÝÝÇã ¹³ï³ñ³Ý | N7: àõÕ³ñÏí»É ¿ Áëï ÁÝ¹¹³ïáõÃÛ³Ý | O7: ²Ý³í³ñï ·áñÍ»ñÇ ÙÝ³óáñ¹Á Ñ³ßí»ïáõ Å³Ù³Ý³Ï³ßñç³ÝÇ í»ñçáõÙ | P7: ²Û¹ ÃíáõÙª Ï³ë»óí³Í
H8: øÝÝí»É ¿ Áëï ¿áõÃÛ³Ý ¨ ¹³ï³í×Çé Ï³Û³óí»É | I8: àñáßáõÙ ¿ Ï³Û³óí»É ùñ»³Ï³Ý ·áñÍÇ í³ñáõÛÃÁ Ï³ñ×»Éáõ ¨ ùñ»³Ï³Ý Ñ»ï³åÝ¹áõÙÁ ¹³¹³ñ»óÝ»Éáõ Ù³ëÇÝ | J8: àñáßáõÙ ¿ Ï³Û³óí»É ³ÝÙ»ÕëáõÝ³ÏÝ»ñÇ ÝÏ³ïÙ³Ùµ µÅßÏ³Ï³Ý µÝáõÛÃÇ Ñ³ñÏ³¹ñ³Ï³Ý ÙÇçáóÝ»ñ ÏÇñ³é»Éáõ Ù³ëÇÝ | K8: ÀÝ¹³Ù»ÝÁ ³í³ñïí»É »Ý ·áñÍ»ñ
F10: 1 | G10: 2 | H10: 3 | I10: 4 | J10: 5 | K10: 6 | L10: 7 | M10: 8 | N10: 9 | O10: 10 | P10: 11
A11: 1 | B11: 1. | C11: ÀÝ¹³Ù»ÝÁ ÏÛ³ÝùÇ ¨ ³éáÕçáõÃÛ³Ý ¹»Ù áõÕÕí³Í Ñ³Ýó³·áñÍáõÃÛáõÝÝ»ñÁ
A12: 0 | B12: 1.1 | C12: êå³ÝáõÃÛáõÝÁ | E12: 104 | G12: 7 | H12: 5 | K12: 5 | L12: 2 | M12: 2 | O12: 2
A13: 0 | B13: 1.2 | C13: Ðá·»Ï³Ý ËÇëï Ñáõ½ÙáõÝùÇ íÇ×³ÏáõÙ Ï³ï³ñí³Í ëå³ÝáõÃÛáõÝÁ | E13: 105
A14: 0 | B14: 1.3 | C14: Øáñ ÏáÕÙÇó Ýáñ³ÍÇÝ »ñ»Ë³ÛÇ ëå³ÝáõÃÛáõÝÁ | E14: 106
A15: 0 | B15: 1.4 | C15: Ð³Ýó³Ýù Ï³ï³ñ³Í ³ÝÓÇÝ µéÝ»Éáõ Ñ³Ù³ñ ³ÝÑñ³Å»ßï ÙÇçáóÝ»ñÇ ë³ÑÙ³Ý³½³ÝóÙ³Ùµ ëå³ÝáõÃÛáõÝÁ | E15: 107
A16: 0 | B16: 1.5 | C16: ²ÝÑñ³Å»ßï å³ßïå³ÝáõÃÛ³Ý ë³ÑÙ³Ý³½³ÝóÙ³Ùµ ëå³ÝáõÃÛáõÝÁ | E16: 108
A17: 0 | B17: 1.6 | C17: ²Ý½·áõßáõÃÛ³Ùµ Ù³Ñ å³ï×³é»ÉÁ | E17: 109 | G17: 1 | O17: 1
A18: 0 | B18: 1.7 | C18: ÆÝùÝ³ëå³ÝáõÃÛ³Ý Ñ³ëóÝ»ÉÁ | E18: 110
A19: 0 | B19: 1.8 | C19: ÆÝùÝ³ëå³ÝáõÃÛ³Ý Ñ³Ï»ÉÁ | E19: 111
A20: 0 | B20: 1.9 | C20: ¸Çï³íáñáõÃÛ³Ùµ ³éáÕçáõÃÛ³ÝÁ Í³Ýñ íÝ³ë å³ï×³é»ÉÁ | E20: 112 | G20: 10 | H20: 8 | K20: 8 | L20: 5 | M20: 4 | O20: 2
A21: 0 | B21: 1.10 | C21: ¸Çï³íáñáõÃÛ³Ùµ ³éáÕçáõÃÛ³ÝÁ ÙÇçÇÝ Í³ÝñáõÃÛ³Ý íÝ³ë å³ï×³é»ÉÁ | E21: 113 | G21: 6 | H21: 4 | I21: 1 | J21: 1 | K21: 6 | L21: 3 | M21: 3
A22: 0 | B22: 1.11 | C22: Ðá·»Ï³Ý ËÇëï Ñáõ½ÙáõÝùÇ íÇ×³ÏáõÙ ³éáÕçáõÃÛ³ÝÁ Í³Ýñ Ï³Ù ÙÇçÇÝ Í³ÝñáõÃÛ³Ý íÝ³ë å³ï×³é»ÉÁ | E22: 114
A23: 0 | B23: 1.12 | C23: Ð³Ýó³Ýù Ï³ï³ñ³Í ³ÝÓÇÝ µéÝ»Éáõ Ñ³Ù³ñ ³ÝÑñ³Å»ßï ÙÇçáóÝ»ñÇ ë³ÑÙ³Ý½³ÝóÙ³Ùµ ³éáÕçáõÃÛ³ÝÁ Í³Ýñ Ï³Ù ÙÇçÇÝ Í³ÝñáõÃÛ³Ý íÝ³ë å³ï×³é»ÉÁ | E23: 115
A24: 0 | B24: 1.13 | C24: ²éáÕçáõÃÛ³ÝÁ Í³Ýñ Ï³Ù ÙÇçÇÝ Í³ÝñáõÃÛ³Ý íÝ³ë å³ï×³é»ÉÁ ³ÝÑñ³Å»ßï å³ßïå³ÝáõÃÛ³Ý ë³ÑÙ³Ý³Ý³½³ÝóÙ³Ùµ | E24: 116 | G24: 1 | H24: 1 | K24: 1 | L24: 1
A25: 0 | B25: 1.14 | C25: ¸Çï³íáñáõÃÛ³Ùµ ³éáÕçáõÃÛ³ÝÁ Ã»Ã¨ íÝ³ë å³ï×³é»ÉÁ | E25: 117 | G25: 3 | I25: 2 | K25: 2 | O25: 1
A26: 0 | B26: 1.15 | C26: Ì»ÍÁ | E26: 118 | G26: 3 | H26: 1 | K26: 1 | L26: 1 | O26: 2
A27: 0 | B27: 1.16 | C27: Êáßï³Ý·áõÙÁ | E27: 119
A28: 0 | B28: 1.17 | C28: ²Ý½·áõßáõÃÛ³Ùµ ³éáÕçáõÃÛ³ÝÁ Í³Ýñ íÝ³ë å³ï×³é»ÉÁ | E28: 120
A29: 0 | B29: 1.18 | C29: ²Ý½·áõßáõÃÛ³Ùµ ³éáÕçáõÃÛ³ÝÁ ÙÇçÇÝ Í³ÝñáõÃÛ³Ý íÝ³ë å³ï×³é»ÉÁ | E29: 121
A30: 0 | B30: 1.19 | C30: ²åûñÇÝÇ ³µáñï Ï³ï³ñ»ÉÁ | E30: 122
A31: 0 | B31: 1.20 | C31: Ø³ñ¹áõ ÇÙáõÝ³ÛÇÝ ³Ýµ³í³ñ³ñáõÃÛ³Ý íÇñáõëÇ Ñ³ñáõóÇãáí í³ñ³Ï»ÉÁ | E31: 123
A32: 0 | B32: 1.21 | C32: ì»Ý»ñ³Ï³Ý ÑÇí³Ý¹áõÃÛ³Ùµ Ï³Ù ³ÛÉ ë»é³í³ñ³ÏÝ»ñáí í³ñ³Ï»ÉÁ | E32: 124
A33: 0 | B33: 1.22 | C33: öáËå³ïí³ëïÙ³Ý íÇñ³Ñ³ïáõÃÛáõÝ Ï³ï³ñ»Éáõ Ï³ÝáÝÝ»ñÁ Ë³Ëï»ÉÁ | E33: 125
A34: 0 | B34: 1.23 | C34: Ø³ñÙÝÇ Ù³ë»ñ Ï³Ù ÑÛáõëí³ÍùÝ»ñ ï³ÉáõÝ Ñ³ñÏ³¹ñ»ÉÁ | E34: 126
A35: 0 | B35: 1.24 | C35: ²ÝÓÇÝ ³é³Ýó Çñ Ñ³ÝÓÝ³ñ³ñáõÃÛ³Ý µÅßÏ³Ï³Ý Ï³Ù ·Çï³Ï³Ý ÷áñÓ»ñÇ »ÝÃ³ñÏ»ÉÁ | E35: 127
A36: 0 | B36: 1.25 | C36: ìï³Ý·Ç Ù»ç ÃáÕÝ»ÉÁ | E36: 128
A37: 0 | B37: 1.26 | C37: ÐÇí³Ý¹ÇÝ û·ÝáõÃÛáõÝ óáõÛó ãï³ÉÁ | E37: 129
A38: 0 | B38: 1.27 | C38: ´ÅßÏ³Ï³Ý û·ÝáõÃÛáõÝ ¨ ëå³ë³ñÏáõÙ Çñ³Ï³Ý³óÝáÕÝ»ñÇ ÏáÕÙÇó Ù³ëÝ³·Çï³Ï³Ý å³ñï³Ï³ÝáõÃÛáõÝÝ»ñÁ ãÏ³ï³ñ»ÉÁ Ï³Ù áã å³ïß³× Ï³ï³ñ»ÉÁ | E38: 130 | G38: 1 | O38: 1
A39: 1 | B39: 1.28 | C39: ²ÛÉ Ñ³Ýó³·áñÍáõÃÛáõÝÝ»ñ
A40: 0 | B40: 2. | C40: ÀÝ¹³Ù»ÝÁ ³ÝÓÇ ³½³ïáõÃÛ³Ý, å³ïíÇ ¨ ³ñÅ³Ý³å³ïíáõÃÛ³Ý ¹»Ù áõÕÕí³Í Ñ³Ýó³·áñÍáõÃÛáõÝÝ»ñÁ
A41: 0 | B41: 2.1 | C41: Ø³ñ¹áõÝ ³é¨³Ý·»ÉÁ | E41: 131 | G41: 3 | H41: 1 | K41: 1 | L41: 1 | M41: 1 | O41: 2
B42: 2.2 | C42: Þ³Ñ³·áñÍÙ³Ý Ýå³ï³Ïáí Ù³ñ¹áõÝ Ñ³í³ù³·ñ»ÉÁ, ÷áË³¹ñ»ÉÁ, Ñ³ÝÓÝ»ÉÁ, Ã³ùóÝ»ÉÁ Ï³Ù ëï³Ý³ÉÁ | E42: 132 | G42: 9 | H42: 5 | K42: 5 | L42: 1 | M42: 3 | N42: 1 | O42: 3
B43: 2.3 | C43: ²½³ïáõÃÛáõÝÇó ³åûñÇÝÇ ½ñÏ»ÉÁ | E43: 133
B44: 2.4 | C44: Ðá·»µáõÅ³Ï³Ý ÑÇí³Ý¹³ÝáóáõÙ ³åûñÇÝÇ ï»Õ³íáñ»ÉÁ Ï³Ù å³Ñ»ÉÁ | E44: 134
B45: 2.5 | C45: ¼ñå³ñïáõÃÛáõÝÁ | E45: 135
B46: 2.6 | C46: ìÇñ³íáñ³ÝùÁ | E46: 136 | G46: 4 | H46: 3 | I46: 1 | K46: 4 | L46: 1 | M46: 2
A47: 0 | B47: 2.7 | C47: êå³ÝáõÃÛ³Ý, ³éáÕçáõÃÛ³ÝÁ Í³Ýñ íÝ³ë å³ï×³é»Éáõ Ï³Ù ·áõÛù áãÝã³óÝ»Éáõ ëå³éÝ³ÉÇùÁ | E47: 137
A48: 0 | B48: 2.8 | C48: ²ÛÉ Ñ³Ýó³·áñÍáõÃÛáõÝÝ»ñ
B49: 3. | C49: ÀÝ¹³Ù»ÝÁ ë»é³Ï³Ý ³ÝÓ»éÝÙË»ÉÇáõÃÛ³Ý ¨ ë»é³Ï³Ý ³½³ïáõÃÛ³Ý ¹»Ù áõÕÕí³Í Ñ³Ýó³·áñÍáõÃÛáõÝÝ»ñÁ
A50: 0 | B50: 3.1 | C50: ´éÝ³µ³ñáõÃÛáõÝÁ | E50: 138 | G50: 3 | O50: 3
A51: 0 | B51: 3.2 | C51: ê»ùëáõ³É µÝáõÛÃÇ µéÝÇ ·áñÍáÕáõÃÛáõÝÝ»ñÁ | E51: 139
B52: 3.3 | C52: ê»ùëáõ³É µÝáõÛÃÇ ·áñÍáÕáõÃÛáõÝÝ»ñÇÝ Ñ³ñÏ³¹ñ»ÉÁ | E52: 140
B53: 3.4 | C53: ê»ùëáõ³É µÝáõÛÃÇ ·áñÍáÕáõÃÛáõÝÝ»ñ Ï³ï³ñ»ÉÁ ï³ëÝí»ó ï³ñÇÝ ãÉñ³ó³Í ³ÝÓÇ Ñ»ï | E53: 141 | G53: 1 | O53: 1
B54: 3.5 | C54: ²Ý³é³Ï³µ³ñá ·áñÍáÕáõÃÛáõÝÝ»ñÁ | E54: 142
B55: 3.6 | C55: ²ÛÉ Ñ³Ýó³·áñÍáõÃÛáõÝÝ»ñ
B56: 4. | C56: ÀÝ¹³Ù»ÝÁ Ù³ñ¹áõ ¨ ù³Õ³ù³óáõ ë³ÑÙ³Ý³¹ñ³Ï³Ý Çñ³íáõÝùÝ»ñÇ ¨ ³½³ïáõÃÛáõÝÝ»ñÇ ¹»Ù áõÕÕí³Í Ñ³Ýó³·áñÍáõÃÛáõÝÝ»ñÁ
B57: 4.1 | C57: ø³Õ³ù³óÇÝ»ñÇ Çñ³í³Ñ³í³ë³ñáõÃÛáõÝÁ Ë³Ëï»ÉÁ | E57: 143
B58: 4.2 | C58: ²ÝÓÝ³Ï³Ý Ï³Ù ÁÝï³Ý»Ï³Ý ÏÛ³ÝùÇ Ù³ëÇÝ ï»Õ»ÏáõÃÛáõÝÝ»ñ ³åûñÇÝÇ Ñ³í³ù»ÉÁ, å³Ñ»ÉÁ, û·ï³·áñÍ»ÉÁ Ï³Ù ï³ñ³Í»ÉÁ | E58: 144 | G58: 1 | H58: 1 | K58: 1 | M58: 1
B59: 4.3 | C59: ´ÅßÏ³Ï³Ý ·³ÕïÝÇùÁ Ññ³å³ñ³Ï»ÉÁ | E59: 145
B60: 4.4 | C60: Ü³Ù³Ï³·ñáõÃÛ³Ý, Ñ»é³Ëáë³ÛÇÝ Ëáë³ÏóáõÃÛáõÝÝ»ñÇ, ÷áëï³ÛÇÝ, Ñ»é³·ñ³Ï³Ý Ï³Ù ³ÛÉ Ñ³Õáñ¹áõÙÝ»ñÇ ·³ÕïÝÇáõÃÛáõÝÁ Ë³Ëï»ÉÁ | E60: 146
B61: 4.5 | C61: ´Ý³Ï³ñ³ÝÇ ³ÝÓ»éÝÙË»ÉÇáõÃÛáõÝÁ Ë³Ëï»ÉÁ | E61: 147
B62: 4.6 | C62: ²ÝÓÇÝ ï»Õ»ÏáõÃÛáõÝ Ý»ñÏ³Û³óÝ»Éáõó Ññ³Å³ñí»ÉÁ | E62: 148
B63: 4.7 | C63: ÀÝïñ³Ï³Ý Çñ³íáõÝùÇ Çñ³Ï³Ý³óÙ³ÝÁ, ÁÝïñ³Ï³Ý Ñ³ÝÓÝ³ÅáÕáíÝ»ñÇ ³ßË³ï³ÝùÝ»ñÇÝ Ï³Ù ÁÝïñáõÃÛ³ÝÁ Ù³ëÝ³ÏóáÕ ³ÝÓ³Ýó ÉÇ³½áñáõÃÛáõÝÝ»ñÇ Çñ³Ï³Ý³óÙ³ÝÁ ËáãÁÝ¹áï»ÉÁ | E63: 149
B64: 4.8 | C64: ÀÝïñáõÃÛáõÝÝ»ñÇ Ï³Ù ùí»³ñÏáõÃÛ³Ý ³ñ¹ÛáõÝùÝ»ñÁ Ï»ÕÍ»ÉÁ | E64: 150
B65: 4.9 | C65: ÀÝïñáõÃÛáõÝÝ»ñÇ ³ÝóÏ³óÙ³Ý ÁÝÃ³óùáõÙ Ã»ÏÝ³ÍáõÇ, Ïáõë³ÏóáõÃÛ³Ý (Ïáõë³ÏóáõÃÛáõÝÝ»ñÇ ¹³ßÇÝùÇ) í»ñ³µ»ñÛ³É ½ñå³ñïã³Ï³Ý ï»Õ»ÏáõÃÛáõÝÝ»ñ ï³ñ³Í»ÉÁ | E65: 151
B66: 4.10 | C66: ÀÝïñáÕÝ»ñÇ óáõó³ÏÝ»ñÁ Ï³½Ù»Éáõ Ï³ñ·Á Ë³Ëï»ÉÁ | E66: 152
B67: 4.11 | C67: Ø»ÏÇó ³í»ÉÇ ³Ý·³Ù Ï³Ù ³ÛÉ ³ÝÓÇ ÷áË³ñ»Ý ùí»³ñÏ»ÉÁ | E67: 153
A68: 0 | B68: 4.12 | C68: øí»³ñÏáõÃÛ³Ý ·³ÕïÝÇáõÃÛáõÝÁ Ë³Ëï»ÉÁ | E68: 154
B69: 4.13 | C69: Î»ÕÍ ÁÝïñ³Ï³Ý Ã»ñÃÇÏÝ»ñ Ï³Ù ùí»³ñÏáõÃÛ³Ý Íñ³ñÝ»ñ å³ïñ³ëï»ÉÁ Ï³Ù ³ÏÝÑ³Ûï Ï»ÕÍ ÁÝïñ³Ï³Ý ùí»³Ã»ñÃÇÏÝ»ñ Ï³Ù ùí»³ñÏáõÃÛ³Ý Íñ³ñÝ»ñ Ñ³ÝÓÝ»ÉÁ Ï³Ù Çñ³óÝ»ÉÁ | E69: 154.1
B70: 4.14 | C70: ÀÝïñáÕÇ Ï³ÙùÇ ³½³ï Çñ³Ï³Ý³óÙ³ÝÁ ËáãÁÝ¹áï»ÉÁ | E70: 154.2
B71: 4.15 | C71: ÀÝïñ³Ï³Ý Ñ³ÝÓÝ³ÅáÕáíÇ ÏÝÇùÁ ãí»ñ³¹³ñÓÝ»ÉÁ, ÏÝÇùÇ å³Ñå³ÝÙ³Ý ë³ÑÙ³Ýí³Í Ï³ñ·Á Ë³Ëï»ÉÁ | E71: 154.3
B72: 4.16 | C72: ¼»Ýùáíª ï»Õ³Ù³ë³ÛÇÝ Ï»ÝïñáÝ Ùáõïù ·áñÍ»ÉÁ | E72: 154.4
B73: 4.17 | C73: ìëï³Ñí³Í ³ÝÓÇÝ,ÁÝïñ³Ï³Ý Ñ³ÝÓÝ³ÅáÕáíÇ ³Ý¹³ÙÇÝ,¹Çïáñ¹ÇÝ Ï³Ù ½³Ý·í³Í³ÛÇÝ Éñ³ïíáõÃÛ³Ý ÙÇçáóÇ Ý»ñÏ³Û³óáõóãÇÝ ÁÝïñ³Ï³Ý ÷³ëï³ÃÕÃ»ñÇÝ Í³ÝáÃ³Ý³ÉáõÝ ËáãÁÝ¹áï»ÉÁ, ÁÝïñ³Ï³Ý Ñ³ÝÓÝ³ÅáÕáíÇ ³ñÓ³Ý³·ñáõÃÛáõÝÝ»ñÇ å³ï×»ÝÝ»ñ ãï³ÉÁ | E73: 154.5
B74: 4.18 | C74: ¶áñÍ³¹áõÉÇ Ù³ëÝ³Ïó»ÉáõÝ Ï³Ù ·áñÍ³¹áõÉÇ Ù³ëÝ³Ïó»Éáõó Ññ³Å³ñí»ÉáõÝ Ñ³ñÏ³¹ñ»ÉÁ | E74: 155
B75: 4.19 | C75: ÐÕÇ ÏÝáçÁ Ï³Ù ÙÇÝã¨ »ñ»ù ï³ñ»Ï³Ý »ñ»Ë³ áõÝ»óáÕ ³ÝÓÇÝ ³ßË³ï³ÝùÇ ÁÝ¹áõÝ»Éáõõó Ññ³Å³ñí»ÉÁ Ï³Ù ³ßË³ï³ÝùÇó ³ÝÑÇÙÝ ³½³ï»ÉÁ | E75: 156
B76: 4.20 | C76: ²ßË³ï³ÝùÇ å³ßïå³ÝáõÃÛ³Ý Ï³ÝáÝÝ»ñÁ Ë³Ëï»ÉÁ | E76: 157
B77: 4.21 | C77: Ð»ÕÇÝ³Ï³ÛÇÝ ¨ Ñ³ñ³ÏÇó Çñ³íáõÝùÝ»ñÁ Ë³Ëï»ÉÁ | E77: 158
B78: 4.22 | C78: ²ñïáÝ³·ñ³ÛÇÝ Çñ³íáõÝùÁ Ë³Ëï»ÉÁ | E78: 159
B79: 4.23 | C79: ÊÕ×Ç Ï³Ù ¹³í³Ý³ÝùÇ ³½³ïáõÃÛ³Ý Çñ³íáõÝùÇ Çñ³Ï³Ý³óÙ³ÝÁ ËáãÁÝ¹áï»ÉÁ | E79: 160
B80: 4.24 | C80: ØÇ³íáñáõÙÝ»ñ (Ñ³ë³ñ³Ï³Ï³Ý Ï³Ù ³ñÑ»ëï³Ïó³Ï³Ý ÙÇáõÃÛáõÝÝ»ñ) Ï³½Ù»Éáõ Ï³Ù Ïáõë³ÏóáõÃÛáõÝÝ»ñ ëï»ÕÍ»Éáõ Çñ³íáõÝùÇ Çñ³Ï³Ý³óÙ³ÝÁ Ï³Ù ¹ñ³Ýó ·áñÍáÕáõÃÛ³ÝÁ ËáãÁÝ¹áï»ÉÁ | E80: 161
... B83: 4.27 | C83: Èñ³·ñáÕÇ Ù³ëÝ³·Çï³Ï³Ý ûñÇÝ³Ï³Ý ·áñÍáÕáõÃÛ³ÝÁ ËáãÁÝ¹áï»ÉÁ | E83: 164
B84: 4.28 | C84: ²ÛÉ Ñ³Ýó³·áñÍáõÃÛáõÝÝ»ñ
B85: 5. | C85: ÀÝ¹³Ù»ÝÁ ÁÝï³ÝÇùÇ ¨ »ñ»Ë³ÛÇ ß³Ñ»ñÇ ¹»Ù áõÕÕí³Í Ñ³Ýó³·áñÍáõÃÛáõÝÝ»ñÁ
B86: 5.1 | C86: ²Ýã³÷³Ñ³ëÇÝ Ñ³Ýó³ÝùÇ Ï³ï³ñÙ³ÝÁ Ý»ñ·ñ³í»ÉÁ | E86: 165
B87: 5.2 | C87: ºñ»Ë³ÛÇÝ Ñ³Ï³Ñ³ë³ñ³Ï³Ï³Ý ·áñÍáÕáõÃÛáõÝÝ»ñ Ï³ï³ñ»ÉáõÝ Ý»ñ·ñ³í»ÉÁ | E87: 166
B88: 5.3 | C88: ÌÝáÕÝ»ñÇó »ñ»Ë³ÛÇÝ ³åûñÇÝÇ µ³Å³Ý»ÉÁ Ï³Ù »ñ»Ë³ÛÇÝ ÷áË»ÉÁ | E88: 167
B89: 5.4 | C89: ºñ»Ë³ÛÇ ³éù áõ í³×³éùÁ | E89: 168 | G89: 1 | N89: 1
B90: 5.5 | C90: àñ¹»·ñÙ³Ý ·³ÕïÝÇùÁ Ññ³å³ñ³Ï»ÉÁ Ï³Ù áñ¹»·ñÙ³Ý Ñ³Ù³Ó³ÛÝáõÃÛáõÝ ï³ÉáõÝ Ñ³Ï»ÉÁ Ï³Ù Ñ³ñÏ³¹ñ»ÉÁ | E90: 169
B91: 5.6 | C91: ø³Õ³ù³óÇ³Ï³Ý Ï³óáõÃÛ³Ý ³Ïï»ñÇ ·ñ³ÝóÙ³Ý Ù³ñÙÇÝÝ»ñÇÝ ëáõï ï»Õ»ÏáõÃÛáõÝÝ»ñ Ñ³Õáñ¹»ÉÁ | E91: 169.1
B92: 5.7 | C92: ºñ»Ë³ÛÇÝ ¹³ëïÇ³ñ³Ï»Éáõ å³ñï³Ï³ÝáõÃÛáõÝÁ ãÏ³ï³ñ»ÉÁ | E92: 170
B93: 5.8 | C93: ºñ»Ë³ÛÇ ÏÛ³ÝùÇ ³Ýíï³Ý·áõÃÛ³Ý ³å³ÑáíÙ³Ý Ï³Ù ³éáÕçáõÃÛ³Ý å³Ñå³ÝÙ³Ý å³ñï³Ï³ÝáõÃÛáõÝÁ ãÏ³ï³ñ»ÉÁ Ï³Ù áã å³ïß³× Ï³ï³ñ»ÉÁ | E93: 171
B94: 5.9 | C94: ÊÝ³Ù³Ï³ÉÇ Ï³Ù Ñá·³µ³ñÓáõÇ Çñ³íáõÝùÝ»ñÁ ã³ñ³ß³Ñ»ÉÁ | E94: 172
B95: 5.10 | C95: ÌÝáÕÇ ÏáÕÙÇó »ñ»Ë³ÛÇÝ å³Ñ»Éáõó ã³ñ³Ùïáñ»Ý Ëáõë³÷»ÉÁ | E95: 173 | G95: 2 | H95: 1 | I95: 1 | K95: 2 | L95: 2 | M95: 1
A96: 0 | B96: 5.11 | C96: ¼³í³ÏÇ ÏáÕÙÇó ³Ý³ßË³ïáõÝ³Ï ÍÝáÕÇÝ å³Ñ»Éáõó ã³ñ³Ùïáñ»Ý Ëáõë³÷»ÉÁ | E96: 174
B97: 5.12 | C97: ²ÛÉ Ñ³Ýó³·áñÍáõÃÛáõÝÝ»ñ
B98: 6. | C98: ÀÝ¹³Ù»ÝÁ ë»÷³Ï³ÝáõÃÛ³Ý ¹»Ù áõÕÕí³Í Ñ³Ýó³·áñÍáõÃÛáõÝÝ»ñÁ
B99: 6.1 | C99: ²í³½³ÏáõÃÛáõÝÁ | E99: 175 | G99: 8 | H99: 4 | J99: 1 | K99: 5 | M99: 1 | O99: 3
B100: 6.2 | C100: ÎáÕáåáõïÁ | E100: 176 | F100: 1 | G100: 14 | H100: 8 | I100: 3 | K100: 11 | L100: 8 | O100: 4
B101: 6.3 | C101: ¶áÕáõÃÛáõÝÁ | E101: 177 | G101: 45 | H101: 34 | I101: 3 | K101: 37 | L101: 20 | M101: 11 | O101: 8
B102: 6.4 | C102: Ê³ñ¹³ËáõÃÛáõÝÁ | E102: 178 | G102: 49 | H102: 28 | K102: 28 | L102: 13 | M102: 9 | N102: 3 | O102: 18
B103: 6.5 | C103: Úáõñ³óÝ»ÉÁ Ï³Ù í³ïÝ»ÉÁ | E103: 179 | F103: 2 | G103: 5 | H103: 5 | K103: 5 | L103: 5 | M103: 2 | O103: 2 | P103: 2
B104: 6.6 | C104: ²é³ÝÓÝ³ÏÇ ³ñÅ»ù áõÝ»óáÕ ³é³ñÏ³Ý»ñ Ñ³÷ßï³Ï»ÉÁ | E104: 180
B105: 6.7 | C105: Ð³÷ßï³ÏáõÃÛáõÝÁ, áñÁ Ï³ï³ñí»É ¿ Ñ³Ù³Ï³ñ·ã³ÛÇÝ ï»ËÝÇÏ³ÛÇ û·ï³·áñÍÙ³Ùµ | E105: 181
B106: 6.8 | C106: ÞáñÃáõÙÁ | E106: 182 | G106: 3 | H106: 1 | K106: 1 | L106: 1 | O106: 2 | P106: 2
...

Sheet Kotayq
B7: êïáõ·Çã Ñ³í³ë³ñáõÙÝ»ñ` 1+2=6+9+10, 6=3+4+5 | E7: ÐÐ ùñ»³Ï³Ý ûñ»Ýë·ñùÇ Ñá¹í³ÍÝ»ñ | F7: ²Ý³í³ñï ·áñÍ»ñÇ ÙÝ³óáñ¹Á Ñ³ßí»ïáõ Å³Ù³Ý³Ï³ßñç³ÝÇ ëÏ½µáõÙ | G7: êï³óí»É »Ý ·áñÍ»ñ Ñ³ßí»ïáõ Å³Ù³Ý³Ï³ßñç³ÝáõÙ | H7: ²í³ñïí»É »Ý ·áñÍ»ñ Ñ³ßí»ïáõ Å³Ù³Ý³Ï³ßñç³ÝáõÙ | L7: úñÇÝ³Ï³Ý áõÅÇ Ù»ç ¿ Ùï»É | M7: ´áÕáù³ñÏí»É ¿ í»ñ³ùÝÝÇã ¹³ï³ñ³Ý | N7: àõÕ³ñÏí»É ¿ Áëï ÁÝ¹¹³ïáõÃÛ³Ý | O7: ²Ý³í³ñï ·áñÍ»ñÇ ÙÝ³óáñ¹Á Ñ³ßí»ïáõ Å³Ù³Ý³Ï³ßñç³ÝÇ í»ñçáõÙ | P7: ²Û¹ ÃíáõÙª Ï³ë»óí³Í
H8: øÝÝí»É ¿ Áëï ¿áõÃÛ³Ý ¨ ¹³ï³í×Çé Ï³Û³óí»É | I8: àñáßáõÙ ¿ Ï³Û³óí»É ùñ»³Ï³Ý ·áñÍÇ í³ñáõÛÃÁ Ï³ñ×»Éáõ ¨ ùñ»³Ï³Ý Ñ»ï³åÝ¹áõÙÁ ¹³¹³ñ»óÝ»Éáõ Ù³ëÇÝ | J8: àñáßáõÙ ¿ Ï³Û³óí»É ³ÝÙ»ÕëáõÝ³ÏÝ»ñÇ ÝÏ³ïÙ³Ùµ µÅßÏ³Ï³Ý µÝáõÛÃÇ Ñ³ñÏ³¹ñ³Ï³Ý ÙÇçáóÝ»ñ ÏÇñ³é»Éáõ Ù³ëÇÝ | K8: ÀÝ¹³Ù»ÝÁ ³í³ñïí»É »Ý ·áñÍ»ñ
F10: 1 | G10: 2 | H10: 3 | I10: 4 | J10: 5 | K10: 6 | L10: 7 | M10: 8 | N10: 9 | O10: 10 | P10: 11
A11: 1 | B11: 1. | C11: ÀÝ¹³Ù»ÝÁ ÏÛ³ÝùÇ ¨ ³éáÕçáõÃÛ³Ý ¹»Ù áõÕÕí³Í Ñ³Ýó³·áñÍáõÃÛáõÝÝ»ñÁ
A12: 0 | B12: 1.1 | C12: êå³ÝáõÃÛáõÝÁ | E12: 104 | F12: 2 | G12: 10 | H12: 2 | K12: 2 | N12: 2 | O12: 8
A13: 0 | B13: 1.2 | C13: Ðá·»Ï³Ý ËÇëï Ñáõ½ÙáõÝùÇ íÇ×³ÏáõÙ Ï³ï³ñí³Í ëå³ÝáõÃÛáõÝÁ | E13: 105
A14: 0 | B14: 1.3 | C14: Øáñ ÏáÕÙÇó Ýáñ³ÍÇÝ »ñ»Ë³ÛÇ ëå³ÝáõÃÛáõÝÁ | E14: 106
A15: 0 | B15: 1.4 | C15: Ð³Ýó³Ýù Ï³ï³ñ³Í ³ÝÓÇÝ µéÝ»Éáõ Ñ³Ù³ñ ³ÝÑñ³Å»ßï ÙÇçáóÝ»ñÇ ë³ÑÙ³Ý³½³ÝóÙ³Ùµ ëå³ÝáõÃÛáõÝÁ | E15: 107
A16: 0 | B16: 1.5 | C16: ²ÝÑñ³Å»ßï å³ßïå³ÝáõÃÛ³Ý ë³ÑÙ³Ý³½³ÝóÙ³Ùµ ëå³ÝáõÃÛáõÝÁ | E16: 108
A17: 0 | B17: 1.6 | C17: ²Ý½·áõßáõÃÛ³Ùµ Ù³Ñ å³ï×³é»ÉÁ | E17: 109
A18: 0 | B18: 1.7 | C18: ÆÝùÝ³ëå³ÝáõÃÛ³Ý Ñ³ëóÝ»ÉÁ | E18: 110
A19: 0 | B19: 1.8 | C19: ÆÝùÝ³ëå³ÝáõÃÛ³Ý Ñ³Ï»ÉÁ | E19: 111
A20: 0 | B20: 1.9 | C20: ¸Çï³íáñáõÃÛ³Ùµ ³éáÕçáõÃÛ³ÝÁ Í³Ýñ íÝ³ë å³ï×³é»ÉÁ | E20: 112 | F20: 2 | G20: 7 | H20: 2 | K20: 2 | N20: 2 | O20: 5
A21: 0 | B21: 1.10 | C21: ¸Çï³íáñáõÃÛ³Ùµ ³éáÕçáõÃÛ³ÝÁ ÙÇçÇÝ Í³ÝñáõÃÛ³Ý íÝ³ë å³ï×³é»ÉÁ | E21: 113 | G21: 3 | H21: 1 | I21: 2 | K21: 3 | L21: 2
A22: 0 | B22: 1.11 | C22: Ðá·»Ï³Ý ËÇëï Ñáõ½ÙáõÝùÇ íÇ×³ÏáõÙ ³éáÕçáõÃÛ³ÝÁ Í³Ýñ Ï³Ù ÙÇçÇÝ Í³ÝñáõÃÛ³Ý íÝ³ë å³ï×³é»ÉÁ | E22: 114 | G22: 1 | H22: 1 | K22: 1 | L22: 1
A23: 0 | B23: 1.12 | C23: Ð³Ýó³Ýù Ï³ï³ñ³Í ³ÝÓÇÝ µéÝ»Éáõ Ñ³Ù³ñ ³ÝÑñ³Å»ßï ÙÇçáóÝ»ñÇ ë³ÑÙ³Ý½³ÝóÙ³Ùµ ³éáÕçáõÃÛ³ÝÁ Í³Ýñ Ï³Ù ÙÇçÇÝ Í³ÝñáõÃÛ³Ý íÝ³ë å³ï×³é»ÉÁ | E23: 115
A24: 0 | B24: 1.13 | C24: ²éáÕçáõÃÛ³ÝÁ Í³Ýñ Ï³Ù ÙÇçÇÝ Í³ÝñáõÃÛ³Ý íÝ³ë å³ï×³é»ÉÁ ³ÝÑñ³Å»ßï å³ßïå³ÝáõÃÛ³Ý ë³ÑÙ³Ý³Ý³½³ÝóÙ³Ùµ | E24: 116
A25: 0 | B25: 1.14 | C25: ¸Çï³íáñáõÃÛ³Ùµ ³éáÕçáõÃÛ³ÝÁ Ã»Ã¨ íÝ³ë å³ï×³é»ÉÁ | E25: 117 | F25: 1 | G25: 3 | H25: 1 | K25: 1 | L25: 1 | O25: 3 | P25: 1
A26: 0 | B26: 1.15 | C26: Ì»ÍÁ | E26: 118 | G26: 2 | O26: 2
A27: 0 | B27: 1.16 | C27: Êáßï³Ý·áõÙÁ | E27: 119
A28: 0 | B28: 1.17 | C28: ²Ý½·áõßáõÃÛ³Ùµ ³éáÕçáõÃÛ³ÝÁ Í³Ýñ íÝ³ë å³ï×³é»ÉÁ | E28: 120 | G28: 1 | H28: 1 | K28: 1 | L28: 1
A29: 0 | B29: 1.18 | C29: ²Ý½·áõßáõÃÛ³Ùµ ³éáÕçáõÃÛ³ÝÁ ÙÇçÇÝ Í³ÝñáõÃÛ³Ý íÝ³ë å³ï×³é»ÉÁ | E29: 121 | G29: 1 | H29: 1 | K29: 1 | L29: 1
A30: 0 | B30: 1.19 | C30: ²åûñÇÝÇ ³µáñï Ï³ï³ñ»ÉÁ | E30: 122
A31: 0 | B31: 1.20 | C31: Ø³ñ¹áõ ÇÙáõÝ³ÛÇÝ ³Ýµ³í³ñ³ñáõÃÛ³Ý íÇñáõëÇ Ñ³ñáõóÇãáí í³ñ³Ï»ÉÁ | E31: 123
A32: 0 | B32: 1.21 | C32: ì»Ý»ñ³Ï³Ý ÑÇí³Ý¹áõÃÛ³Ùµ Ï³Ù ³ÛÉ ë»é³í³ñ³ÏÝ»ñáí í³ñ³Ï»ÉÁ | E32: 124
A33: 0 | B33: 1.22 | C33: öáËå³ïí³ëïÙ³Ý íÇñ³Ñ³ïáõÃÛáõÝ Ï³ï³ñ»Éáõ Ï³ÝáÝÝ»ñÁ Ë³Ëï»ÉÁ | E33: 125
A34: 0 | B34: 1.23 | C34: Ø³ñÙÝÇ Ù³ë»ñ Ï³Ù ÑÛáõëí³ÍùÝ»ñ ï³ÉáõÝ Ñ³ñÏ³¹ñ»ÉÁ | E34: 126
A35: 0 | B35: 1.24 | C35: ²ÝÓÇÝ ³é³Ýó Çñ Ñ³ÝÓÝ³ñ³ñáõÃÛ³Ý µÅßÏ³Ï³Ý Ï³Ù ·Çï³Ï³Ý ÷áñÓ»ñÇ »ÝÃ³ñÏ»ÉÁ | E35: 127
A36: 0 | B36: 1.25 | C36: ìï³Ý·Ç Ù»ç ÃáÕÝ»ÉÁ | E36: 128
A37: 0 | B37: 1.26 | C37: ÐÇí³Ý¹ÇÝ û·ÝáõÃÛáõÝ óáõÛó ãï³ÉÁ | E37: 129 | G37: 1 | H37: 1 | K37: 1 | M37: 1
A38: 0 | B38: 1.27 | C38: ´ÅßÏ³Ï³Ý û·ÝáõÃÛáõÝ ¨ ëå³ë³ñÏáõÙ Çñ³Ï³Ý³óÝáÕÝ»ñÇ ÏáÕÙÇó Ù³ëÝ³·Çï³Ï³Ý å³ñï³Ï³ÝáõÃÛáõÝÝ»ñÁ ãÏ³ï³ñ»ÉÁ Ï³Ù áã å³ïß³× Ï³ï³ñ»ÉÁ | E38: 130 | G38: 1 | H38: 1 | K38: 1 | L38: 1
A39: 1 | B39: 1.28 | C39: ²ÛÉ Ñ³Ýó³·áñÍáõÃÛáõÝÝ»ñ
A40: 0 | B40: 2. | C40: ÀÝ¹³Ù»ÝÁ ³ÝÓÇ ³½³ïáõÃÛ³Ý, å³ïíÇ ¨ ³ñÅ³Ý³å³ïíáõÃÛ³Ý ¹»Ù áõÕÕí³Í Ñ³Ýó³·áñÍáõÃÛáõÝÝ»ñÁ
A41: 0 | B41: 2.1 | C41: Ø³ñ¹áõÝ ³é¨³Ý·»ÉÁ | E41: 131 | G41: 1 | H41: 1 | K41: 1
B42: 2.2 | C42: Þ³Ñ³·áñÍÙ³Ý Ýå³ï³Ïáí Ù³ñ¹áõÝ Ñ³í³ù³·ñ»ÉÁ, ÷áË³¹ñ»ÉÁ, Ñ³ÝÓÝ»ÉÁ, Ã³ùóÝ»ÉÁ Ï³Ù ëï³Ý³ÉÁ | E42: 132
B43: 2.3 | C43: ²½³ïáõÃÛáõÝÇó ³åûñÇÝÇ ½ñÏ»ÉÁ | E43: 133 | G43: 1 | O43: 1
B44: 2.4 | C44: Ðá·»µáõÅ³Ï³Ý ÑÇí³Ý¹³ÝáóáõÙ ³åûñÇÝÇ ï»Õ³íáñ»ÉÁ Ï³Ù å³Ñ»ÉÁ | E44: 134
B45: 2.5 | C45: ¼ñå³ñïáõÃÛáõÝÁ | E45: 135
B46: 2.6 | C46: ìÇñ³íáñ³ÝùÁ | E46: 136 | G46: 2 | H46: 1 | I46: 1 | K46: 2 | L46: 1 | M46: 1
A47: 0 | B47: 2.7 | C47: êå³ÝáõÃÛ³Ý, ³éáÕçáõÃÛ³ÝÁ Í³Ýñ íÝ³ë å³ï×³é»Éáõ Ï³Ù ·áõÛù áãÝã³óÝ»Éáõ ëå³éÝ³ÉÇùÁ | E47: 137
A48: 0 | B48: 2.8 | C48: ²ÛÉ Ñ³Ýó³·áñÍáõÃÛáõÝÝ»ñ
B49: 3. | C49: ÀÝ¹³Ù»ÝÁ ë»é³Ï³Ý ³ÝÓ»éÝÙË»ÉÇáõÃÛ³Ý ¨ ë»é³Ï³Ý ³½³ïáõÃÛ³Ý ¹»Ù áõÕÕí³Í Ñ³Ýó³·áñÍáõÃÛáõÝÝ»ñÁ
A50: 0 | B50: 3.1 | C50: ´éÝ³µ³ñáõÃÛáõÝÁ | E50: 138
A51: 0 | B51: 3.2 | C51: ê»ùëáõ³É µÝáõÛÃÇ µéÝÇ ·áñÍáÕáõÃÛáõÝÝ»ñÁ | E51: 139
B52: 3.3 | C52: ê»ùëáõ³É µÝáõÛÃÇ ·áñÍáÕáõÃÛáõÝÝ»ñÇÝ Ñ³ñÏ³¹ñ»ÉÁ | E52: 140 | G52: 1 | H52: 1 | K52: 1 | L52: 1
B53: 3.4 | C53: ê»ùëáõ³É µÝáõÛÃÇ ·áñÍáÕáõÃÛáõÝÝ»ñ Ï³ï³ñ»ÉÁ ï³ëÝí»ó ï³ñÇÝ ãÉñ³ó³Í ³ÝÓÇ Ñ»ï | E53: 141
B54: 3.5 | C54: ²Ý³é³Ï³µ³ñá ·áñÍáÕáõÃÛáõÝÝ»ñÁ | E54: 142
B55: 3.6 | C55: ²ÛÉ Ñ³Ýó³·áñÍáõÃÛáõÝÝ»ñ
B56: 4. | C56: ÀÝ¹³Ù»ÝÁ Ù³ñ¹áõ ¨ ù³Õ³ù³óáõ ë³ÑÙ³Ý³¹ñ³Ï³Ý Çñ³íáõÝùÝ»ñÇ ¨ ³½³ïáõÃÛáõÝÝ»ñÇ ¹»Ù áõÕÕí³Í Ñ³Ýó³·áñÍáõÃÛáõÝÝ»ñÁ
B57: 4.1 | C57: ø³Õ³ù³óÇÝ»ñÇ Çñ³í³Ñ³í³ë³ñáõÃÛáõÝÁ Ë³Ëï»ÉÁ | E57: 143
B58: 4.2 | C58: ²ÝÓÝ³Ï³Ý Ï³Ù ÁÝï³Ý»Ï³Ý ÏÛ³ÝùÇ Ù³ëÇÝ ï»Õ»ÏáõÃÛáõÝÝ»ñ ³åûñÇÝÇ Ñ³í³ù»ÉÁ, å³Ñ»ÉÁ, û·ï³·áñÍ»ÉÁ Ï³Ù ï³ñ³Í»ÉÁ | E58: 144
B59: 4.3 | C59: ´ÅßÏ³Ï³Ý ·³ÕïÝÇùÁ Ññ³å³ñ³Ï»ÉÁ | E59: 145
B60: 4.4 | C60: Ü³Ù³Ï³·ñáõÃÛ³Ý, Ñ»é³Ëáë³ÛÇÝ Ëáë³ÏóáõÃÛáõÝÝ»ñÇ, ÷áëï³ÛÇÝ, Ñ»é³·ñ³Ï³Ý Ï³Ù ³ÛÉ Ñ³Õáñ¹áõÙÝ»ñÇ ·³ÕïÝÇáõÃÛáõÝÁ Ë³Ëï»ÉÁ | E60: 146
B61: 4.5 | C61: ´Ý³Ï³ñ³ÝÇ ³ÝÓ»éÝÙË»ÉÇáõÃÛáõÝÁ Ë³Ëï»ÉÁ | E61: 147 | G61: 1 | I61: 1 | K61: 1 | L61: 1
B62: 4.6 | C62: ²ÝÓÇÝ ï»Õ»ÏáõÃÛáõÝ Ý»ñÏ³Û³óÝ»Éáõó Ññ³Å³ñí»ÉÁ | E62: 148
B63: 4.7 | C63: ÀÝïñ³Ï³Ý Çñ³íáõÝùÇ Çñ³Ï³Ý³óÙ³ÝÁ, ÁÝïñ³Ï³Ý Ñ³ÝÓÝ³ÅáÕáíÝ»ñÇ ³ßË³ï³ÝùÝ»ñÇÝ Ï³Ù ÁÝïñáõÃÛ³ÝÁ Ù³ëÝ³ÏóáÕ ³ÝÓ³Ýó ÉÇ³½áñáõÃÛáõÝÝ»ñÇ Çñ³Ï³Ý³óÙ³ÝÁ ËáãÁÝ¹áï»ÉÁ | E63: 149
B64: 4.8 | C64: ÀÝïñáõÃÛáõÝÝ»ñÇ Ï³Ù ùí»³ñÏáõÃÛ³Ý ³ñ¹ÛáõÝùÝ»ñÁ Ï»ÕÍ»ÉÁ | E64: 150
B65: 4.9 | C65: ÀÝïñáõÃÛáõÝÝ»ñÇ ³ÝóÏ³óÙ³Ý ÁÝÃ³óùáõÙ Ã»ÏÝ³ÍáõÇ, Ïáõë³ÏóáõÃÛ³Ý (Ïáõë³ÏóáõÃÛáõÝÝ»ñÇ ¹³ßÇÝùÇ) í»ñ³µ»ñÛ³É ½ñå³ñïã³Ï³Ý ï»Õ»ÏáõÃÛáõÝÝ»ñ ï³ñ³Í»ÉÁ | E65: 151
B66: 4.10 | C66: ÀÝïñáÕÝ»ñÇ óáõó³ÏÝ»ñÁ Ï³½Ù»Éáõ Ï³ñ·Á Ë³Ëï»ÉÁ | E66: 152
B67: 4.11 | C67: Ø»ÏÇó ³í»ÉÇ ³Ý·³Ù Ï³Ù ³ÛÉ ³ÝÓÇ ÷áË³ñ»Ý ùí»³ñÏ»ÉÁ | E67: 153
A68: 0 | B68: 4.12 | C68: øí»³ñÏáõÃÛ³Ý ·³ÕïÝÇáõÃÛáõÝÁ Ë³Ëï»ÉÁ | E68: 154
B69: 4.13 | C69: Î»ÕÍ ÁÝïñ³Ï³Ý Ã»ñÃÇÏÝ»ñ Ï³Ù ùí»³ñÏáõÃÛ³Ý Íñ³ñÝ»ñ å³ïñ³ëï»ÉÁ Ï³Ù ³ÏÝÑ³Ûï Ï»ÕÍ ÁÝïñ³Ï³Ý ùí»³Ã»ñÃÇÏÝ»ñ Ï³Ù ùí»³ñÏáõÃÛ³Ý Íñ³ñÝ»ñ Ñ³ÝÓÝ»ÉÁ Ï³Ù Çñ³óÝ»ÉÁ | E69: 154.1
B70: 4.14 | C70: ÀÝïñáÕÇ Ï³ÙùÇ ³½³ï Çñ³Ï³Ý³óÙ³ÝÁ ËáãÁÝ¹áï»ÉÁ | E70: 154.2
B71: 4.15 | C71: ÀÝïñ³Ï³Ý Ñ³ÝÓÝ³ÅáÕáíÇ ÏÝÇùÁ ãí»ñ³¹³ñÓÝ»ÉÁ, ÏÝÇùÇ å³Ñå³ÝÙ³Ý ë³ÑÙ³Ýí³Í Ï³ñ·Á Ë³Ëï»ÉÁ | E71: 154.3
B72: 4.16 | C72: ¼»Ýùáíª ï»Õ³Ù³ë³ÛÇÝ Ï»ÝïñáÝ Ùáõïù ·áñÍ»ÉÁ | E72: 154.4
B73: 4.17 | C73: ìëï³Ñí³Í ³ÝÓÇÝ,ÁÝïñ³Ï³Ý Ñ³ÝÓÝ³ÅáÕáíÇ ³Ý¹³ÙÇÝ,¹Çïáñ¹ÇÝ Ï³Ù ½³Ý·í³Í³ÛÇÝ Éñ³ïíáõÃÛ³Ý ÙÇçáóÇ Ý»ñÏ³Û³óáõóãÇÝ ÁÝïñ³Ï³Ý ÷³ëï³ÃÕÃ»ñÇÝ Í³ÝáÃ³Ý³ÉáõÝ ËáãÁÝ¹áï»ÉÁ, ÁÝïñ³Ï³Ý Ñ³ÝÓÝ³ÅáÕáíÇ ³ñÓ³Ý³·ñáõÃÛáõÝÝ»ñÇ å³ï×»ÝÝ»ñ ãï³ÉÁ | E73: 154.5
B74: 4.18 | C74: ¶áñÍ³¹áõÉÇ Ù³ëÝ³Ïó»ÉáõÝ Ï³Ù ·áñÍ³¹áõÉÇ Ù³ëÝ³Ïó»Éáõó Ññ³Å³ñí»ÉáõÝ Ñ³ñÏ³¹ñ»ÉÁ | E74: 155
B75: 4.19 | C75: ÐÕÇ ÏÝáçÁ Ï³Ù ÙÇÝã¨ »ñ»ù ï³ñ»Ï³Ý »ñ»Ë³ áõÝ»óáÕ ³ÝÓÇÝ ³ßË³ï³ÝùÇ ÁÝ¹áõÝ»Éáõõó Ññ³Å³ñí»ÉÁ Ï³Ù ³ßË³ï³ÝùÇó ³ÝÑÇÙÝ ³½³ï»ÉÁ | E75: 156
B76: 4.20 | C76: ²ßË³ï³ÝùÇ å³ßïå³ÝáõÃÛ³Ý Ï³ÝáÝÝ»ñÁ Ë³Ëï»ÉÁ | E76: 157
B77: 4.21 | C77: Ð»ÕÇÝ³Ï³ÛÇÝ ¨ Ñ³ñ³ÏÇó Çñ³íáõÝùÝ»ñÁ Ë³Ëï»ÉÁ | E77: 158
B78: 4.22 | C78: ²ñïáÝ³·ñ³ÛÇÝ Çñ³íáõÝùÁ Ë³Ëï»ÉÁ | E78: 159
B79: 4.23 | C79: ÊÕ×Ç Ï³Ù ¹³í³Ý³ÝùÇ ³½³ïáõÃÛ³Ý Çñ³íáõÝùÇ Çñ³Ï³Ý³óÙ³ÝÁ ËáãÁÝ¹áï»ÉÁ | E79: 160
B80: 4.24 | C80: ØÇ³íáñáõÙÝ»ñ (Ñ³ë³ñ³Ï³Ï³Ý Ï³Ù ³ñÑ»ëï³Ïó³Ï³Ý ÙÇáõÃÛáõÝÝ»ñ) Ï³½Ù»Éáõ Ï³Ù Ïáõë³ÏóáõÃÛáõÝÝ»ñ ëï»ÕÍ»Éáõ Çñ³íáõÝùÇ Çñ³Ï³Ý³óÙ³ÝÁ Ï³Ù ¹ñ³Ýó ·áñÍáÕáõÃÛ³ÝÁ ËáãÁÝ¹áï»ÉÁ | E80: 161
... B83: 4.27 | C83: Èñ³·ñáÕÇ Ù³ëÝ³·Çï³Ï³Ý ûñÇÝ³Ï³Ý ·áñÍáÕáõÃÛ³ÝÁ ËáãÁÝ¹áï»ÉÁ | E83: 164
B84: 4.28 | C84: ²ÛÉ Ñ³Ýó³·áñÍáõÃÛáõÝÝ»ñ
B85: 5. | C85: ÀÝ¹³Ù»ÝÁ ÁÝï³ÝÇùÇ ¨ »ñ»Ë³ÛÇ ß³Ñ»ñÇ ¹»Ù áõÕÕí³Í Ñ³Ýó³·áñÍáõÃÛáõÝÝ»ñÁ | O85: 0 | P85: 0
B86: 5.1 | C86: ²Ýã³÷³Ñ³ëÇÝ Ñ³Ýó³ÝùÇ Ï³ï³ñÙ³ÝÁ Ý»ñ·ñ³í»ÉÁ | E86: 165
B87: 5.2 | C87: ºñ»Ë³ÛÇÝ Ñ³Ï³Ñ³ë³ñ³Ï³Ï³Ý ·áñÍáÕáõÃÛáõÝÝ»ñ Ï³ï³ñ»ÉáõÝ Ý»ñ·ñ³í»ÉÁ | E87: 166
B88: 5.3 | C88: ÌÝáÕÝ»ñÇó »ñ»Ë³ÛÇÝ ³åûñÇÝÇ µ³Å³Ý»ÉÁ Ï³Ù »ñ»Ë³ÛÇÝ ÷áË»ÉÁ | E88: 167
B89: 5.4 | C89: ºñ»Ë³ÛÇ ³éù áõ í³×³éùÁ | E89: 168
B90: 5.5 | C90: àñ¹»·ñÙ³Ý ·³ÕïÝÇùÁ Ññ³å³ñ³Ï»ÉÁ Ï³Ù áñ¹»·ñÙ³Ý Ñ³Ù³Ó³ÛÝáõÃÛáõÝ ï³ÉáõÝ Ñ³Ï»ÉÁ Ï³Ù Ñ³ñÏ³¹ñ»ÉÁ | E90: 169
B91: 5.6 | C91: ø³Õ³ù³óÇ³Ï³Ý Ï³óáõÃÛ³Ý ³Ïï»ñÇ ·ñ³ÝóÙ³Ý Ù³ñÙÇÝÝ»ñÇÝ ëáõï ï»Õ»ÏáõÃÛáõÝÝ»ñ Ñ³Õáñ¹»ÉÁ | E91: 169.1
B92: 5.7 | C92: ºñ»Ë³ÛÇÝ ¹³ëïÇ³ñ³Ï»Éáõ å³ñï³Ï³ÝáõÃÛáõÝÁ ãÏ³ï³ñ»ÉÁ | E92: 170
B93: 5.8 | C93: ºñ»Ë³ÛÇ ÏÛ³ÝùÇ ³Ýíï³Ý·áõÃÛ³Ý ³å³ÑáíÙ³Ý Ï³Ù ³éáÕçáõÃÛ³Ý å³Ñå³ÝÙ³Ý å³ñï³Ï³ÝáõÃÛáõÝÁ ãÏ³ï³ñ»ÉÁ Ï³Ù áã å³ïß³× Ï³ï³ñ»ÉÁ | E93: 171
B94: 5.9 | C94: ÊÝ³Ù³Ï³ÉÇ Ï³Ù Ñá·³µ³ñÓáõÇ Çñ³íáõÝùÝ»ñÁ ã³ñ³ß³Ñ»ÉÁ | E94: 172
B95: 5.10 | C95: ÌÝáÕÇ ÏáÕÙÇó »ñ»Ë³ÛÇÝ å³Ñ»Éáõó ã³ñ³Ùïáñ»Ý Ëáõë³÷»ÉÁ | E95: 173
A96: 0 | B96: 5.11 | C96: ¼³í³ÏÇ ÏáÕÙÇó ³Ý³ßË³ïáõÝ³Ï ÍÝáÕÇÝ å³Ñ»Éáõó ã³ñ³Ùïáñ»Ý Ëáõë³÷»ÉÁ | E96: 174
B97: 5.12 | C97: ²ÛÉ Ñ³Ýó³·áñÍáõÃÛáõÝÝ»ñ | F97: 1 | O97: 1 | P97: 1
B98: 6. | C98: ÀÝ¹³Ù»ÝÁ ë»÷³Ï³ÝáõÃÛ³Ý ¹»Ù áõÕÕí³Í Ñ³Ýó³·áñÍáõÃÛáõÝÝ»ñÁ
B99: 6.1 | C99: ²í³½³ÏáõÃÛáõÝÁ | E99: 175 | G99: 5 | H99: 4 | K99: 4 | M99: 2 | O99: 1
B100: 6.2 | C100: ÎáÕáåáõïÁ | E100: 176 | G100: 2 | H100: 2 | K100: 2 | L100: 2
B101: 6.3 | C101: ¶áÕáõÃÛáõÝÁ | E101: 177 | F101: 5 | G101: 42 | H101: 33 | I101: 2 | K101: 35 | L101: 25 | M101: 5 | N101: 3 | O101: 9 | P101: 1
B102: 6.4 | C102: Ê³ñ¹³ËáõÃÛáõÝÁ | E102: 178 | F102: 1 | G102: 14 | H102: 9 | I102: 2 | K102: 11 | L102: 10 | M102: 2 | O102: 4
B103: 6.5 | C103: Úáõñ³óÝ»ÉÁ Ï³Ù í³ïÝ»ÉÁ | E103: 179 | G103: 3 | H103: 2 | K103: 2 | L103: 2 | O103: 1
B104: 6.6 | C104: ²é³ÝÓÝ³ÏÇ ³ñÅ»ù áõÝ»óáÕ ³é³ñÏ³Ý»ñ Ñ³÷ßï³Ï»ÉÁ | E104: 180 | G104: 1 | H104: 1 | K104: 1 | M104: 1
B105: 6.7 | C105: Ð³÷ßï³ÏáõÃÛáõÝÁ, áñÁ Ï³ï³ñí»É ¿ Ñ³Ù³Ï³ñ·ã³ÛÇÝ ï»ËÝÇÏ³ÛÇ û·ï³·áñÍÙ³Ùµ | E105: 181
B106: 6.8 | C106: ÞáñÃáõÙÁ | E106: 182
B107: 6.9 | C107: ²íïáÙ»ù»Ý³ÛÇÝ Ï³Ù ïñ³Ýëåáñï³ÛÇÝ ³ÛÉ ÙÇçáóÇÝ ³åûñÇÝ³µ³ñ ïÇñ³Ý³ÉÝ ³é³Ýó Ñ³÷ßï³Ï»Éáõ Ýå³ï³ÏÇ | E107: 183
B108: 6.10 | C108: ¶áõÛù³ÛÇÝ íÝ³ë å³ï×³é»ÉÁ Ë³µ»áõÃÛ³Ý Ï³Ù íëï³ÑáõÃÛáõÝÁ ã³ñ³ß³Ñ»Éáõ »Õ³Ý³Ïáí | E108: 184
B109: 6.11 | C109: ¶áõÛùÁ ¹Çï³íáñáõÃÛ³Ùµ áãÝã³óÝ»ÉÁ Ï³Ù íÝ³ë»ÉÁ | E109: 185 | G109: 1 | J109: 1 | K109: 1 | L109: 1
...

Sheet Lori
B7: êïáõ·Çã Ñ³í³ë³ñáõÙÝ»ñ` 1+2=6+9+10, 6=3+4+5 | E7: ÐÐ ùñ»³Ï³Ý ûñ»Ýë·ñùÇ Ñá¹í³ÍÝ»ñ | F7: ²Ý³í³ñï ·áñÍ»ñÇ ÙÝ³óáñ¹Á Ñ³ßí»ïáõ Å³Ù³Ý³Ï³ßñç³ÝÇ ëÏ½µáõÙ | G7: êï³óí»É »Ý ·áñÍ»ñ Ñ³ßí»ïáõ Å³Ù³Ý³Ï³ßñç³ÝáõÙ | H7: ²í³ñïí»É »Ý ·áñÍ»ñ Ñ³ßí»ïáõ Å³Ù³Ý³Ï³ßñç³ÝáõÙ | L7: úñÇÝ³Ï³Ý áõÅÇ Ù»ç ¿ Ùï»É | M7: ´áÕáù³ñÏí»É ¿ í»ñ³ùÝÝÇã ¹³ï³ñ³Ý | N7: àõÕ³ñÏí»É ¿ Áëï ÁÝ¹¹³ïáõÃÛ³Ý | O7: ²Ý³í³ñï ·áñÍ»ñÇ ÙÝ³óáñ¹Á Ñ³ßí»ïáõ Å³Ù³Ý³Ï³ßñç³ÝÇ í»ñçáõÙ | P7: ²Û¹ ÃíáõÙª Ï³ë»óí³Í
H8: øÝÝí»É ¿ Áëï ¿áõÃÛ³Ý ¨ ¹³ï³í×Çé Ï³Û³óí»É | I8: àñáßáõÙ ¿ Ï³Û³óí»É ùñ»³Ï³Ý ·áñÍÇ í³ñáõÛÃÁ Ï³ñ×»Éáõ ¨ ùñ»³Ï³Ý Ñ»ï³åÝ¹áõÙÁ ¹³¹³ñ»óÝ»Éáõ Ù³ëÇÝ | J8: àñáßáõÙ ¿ Ï³Û³óí»É ³ÝÙ»ÕëáõÝ³ÏÝ»ñÇ ÝÏ³ïÙ³Ùµ µÅßÏ³Ï³Ý µÝáõÛÃÇ Ñ³ñÏ³¹ñ³Ï³Ý ÙÇçáóÝ»ñ ÏÇñ³é»Éáõ Ù³ëÇÝ | K8: ÀÝ¹³Ù»ÝÁ ³í³ñïí»É »Ý ·áñÍ»ñ
F10: 1 | G10: 2 | H10: 3 | I10: 4 | J10: 5 | K10: 6 | L10: 7 | M10: 8 | N10: 9 | O10: 10 | P10: 11
A11: 1 | B11: 1. | C11: ÀÝ¹³Ù»ÝÁ ÏÛ³ÝùÇ ¨ ³éáÕçáõÃÛ³Ý ¹»Ù áõÕÕí³Í Ñ³Ýó³·áñÍáõÃÛáõÝÝ»ñÁ
A12: 0 | B12: 1.1 | C12: êå³ÝáõÃÛáõÝÁ | E12: 104 | F12: =[1]Վանաձոր!F12+[1]Տաշիր!F12+[1]Ալավերդի!F12+[1]Սպիտակ!F12+[1]Ստեփանավան!F12 -> 0 | G12: =[1]Վանաձոր!G12+[1]Տաշիր!G12+[1]Ալավերդի!G12+[1]Սպիտակ!G12+[1]Ստեփանավան!G12 -> 0 | H12: =[1]Վանաձոր!H12+[1]Տաշիր!H12+[1]Ալավերդի!H12+[1]Սպիտակ!H12+[1]Ստեփանավան!H12 -> 0 | I12: =[1]Վանաձոր!I12+[1]Տաշիր!I12+[1]Ալավերդի!I12+[1]Սպիտակ!I12+[1]Ստեփանավան!I12 -> 0 | J12: =[1]Վանաձոր!J12+[1]Տաշիր!J12+[1]Ալավերդի!J12+[1]Սպիտակ!J12+[1]Ստեփանավան!J12 -> 0 | K12: =[1]Վանաձոր!K12+[1]Տաշիր!K12+[1]Ալավերդի!K12+[1]Սպիտակ!K12+[1]Ստեփանավան!K12 -> 0 | L12: =[1]Վանաձոր!L12+[1]Տաշիր!L12+[1]Ալավերդի!L12+[1]Սպիտակ!L12+[1]Ստեփանավան!L12 -> 0 | M12: =[1]Վանաձոր!M12+[1]Տաշիր!M12+[1]Ալավերդի!M12+[1]Սպիտակ!M12+[1]Ստեփանավան!M12 -> 0 | ... P12: =[1]Վանաձոր!P12+[1]Տաշիր!P12+[1]Ալավերդի!P12+[1]Սպիտակ!P12+[1]Ստեփանավան!P12 -> 0
A13: 0 | B13: 1.2 | C13: Ðá·»Ï³Ý ËÇëï Ñáõ½ÙáõÝùÇ íÇ×³ÏáõÙ Ï³ï³ñí³Í ëå³ÝáõÃÛáõÝÁ | E13: 105 | F13: =[1]Վանաձոր!F13+[1]Տաշիր!F13+[1]Ալավերդի!F13+[1]Սպիտակ!F13+[1]Ստեփանավան!F13 -> 0 | G13: =[1]Վանաձոր!G13+[1]Տաշիր!G13+[1]Ալավերդի!G13+[1]Սպիտակ!G13+[1]Ստեփանավան!G13 -> 9 | H13: =[1]Վանաձոր!H13+[1]Տաշիր!H13+[1]Ալավերդի!H13+[1]Սպիտակ!H13+[1]Ստեփանավան!H13 -> 5 | I13: =[1]Վանաձոր!I13+[1]Տաշիր!I13+[1]Ալավերդի!I13+[1]Սպիտակ!I13+[1]Ստեփանավան!I13 -> 0 | J13: =[1]Վանաձոր!J13+[1]Տաշիր!J13+[1]Ալավերդի!J13+[1]Սպիտակ!J13+[1]Ստեփանավան!J13 -> 1 | K13: =[1]Վանաձոր!K13+[1]Տաշիր!K13+[1]Ալավերդի!K13+[1]Սպիտակ!K13+[1]Ստեփանավան!K13 -> 6 | L13: =[1]Վանաձոր!L13+[1]Տաշիր!L13+[1]Ալավերդի!L13+[1]Սպիտակ!L13+[1]Ստեփանավան!L13 -> 4 | M13: =[1]Վանաձոր!M13+[1]Տաշիր!M13+[1]Ալավերդի!M13+[1]Սպիտակ!M13+[1]Ստեփանավան!M13 -> 2 | ... P13: =[1]Վանաձոր!P13+[1]Տաշիր!P13+[1]Ալավերդի!P13+[1]Սպիտակ!P13+[1]Ստեփանավան!P13 -> 0
A14: 0 | B14: 1.3 | C14: Øáñ ÏáÕÙÇó Ýáñ³ÍÇÝ »ñ»Ë³ÛÇ ëå³ÝáõÃÛáõÝÁ | E14: 106 | F14: =[1]Վանաձոր!F14+[1]Տաշիր!F14+[1]Ալավերդի!F14+[1]Սպիտակ!F14+[1]Ստեփանավան!F14 -> 0 | G14: =[1]Վանաձոր!G14+[1]Տաշիր!G14+[1]Ալավերդի!G14+[1]Սպիտակ!G14+[1]Ստեփանավան!G14 -> 0 | H14: =[1]Վանաձոր!H14+[1]Տաշիր!H14+[1]Ալավերդի!H14+[1]Սպիտակ!H14+[1]Ստեփանավան!H14 -> 0 | I14: =[1]Վանաձոր!I14+[1]Տաշիր!I14+[1]Ալավերդի!I14+[1]Սպիտակ!I14+[1]Ստեփանավան!I14 -> 0 | J14: =[1]Վանաձոր!J14+[1]Տաշիր!J14+[1]Ալավերդի!J14+[1]Սպիտակ!J14+[1]Ստեփանավան!J14 -> 0 | K14: =[1]Վանաձոր!K14+[1]Տաշիր!K14+[1]Ալավերդի!K14+[1]Սպիտակ!K14+[1]Ստեփանավան!K14 -> 0 | L14: =[1]Վանաձոր!L14+[1]Տաշիր!L14+[1]Ալավերդի!L14+[1]Սպիտակ!L14+[1]Ստեփանավան!L14 -> 0 | M14: =[1]Վանաձոր!M14+[1]Տաշիր!M14+[1]Ալավերդի!M14+[1]Սպիտակ!M14+[1]Ստեփանավան!M14 -> 0 | ... P14: =[1]Վանաձոր!P14+[1]Տաշիր!P14+[1]Ալավերդի!P14+[1]Սպիտակ!P14+[1]Ստեփանավան!P14 -> 0
A15: 0 | B15: 1.4 | C15: Ð³Ýó³Ýù Ï³ï³ñ³Í ³ÝÓÇÝ µéÝ»Éáõ Ñ³Ù³ñ ³ÝÑñ³Å»ßï ÙÇçáóÝ»ñÇ ë³ÑÙ³Ý³½³ÝóÙ³Ùµ ëå³ÝáõÃÛáõÝÁ | E15: 107 | F15: =[1]Վանաձոր!F15+[1]Տաշիր!F15+[1]Ալավերդի!F15+[1]Սպիտակ!F15+[1]Ստեփանավան!F15 -> 0 | G15: =[1]Վանաձոր!G15+[1]Տաշիր!G15+[1]Ալավերդի!G15+[1]Սպիտակ!G15+[1]Ստեփանավան!G15 -> 0 | H15: =[1]Վանաձոր!H15+[1]Տաշիր!H15+[1]Ալավերդի!H15+[1]Սպիտակ!H15+[1]Ստեփանավան!H15 -> 0 | I15: =[1]Վանաձոր!I15+[1]Տաշիր!I15+[1]Ալավերդի!I15+[1]Սպիտակ!I15+[1]Ստեփանավան!I15 -> 0 | J15: =[1]Վանաձոր!J15+[1]Տաշիր!J15+[1]Ալավերդի!J15+[1]Սպիտակ!J15+[1]Ստեփանավան!J15 -> 0 | K15: =[1]Վանաձոր!K15+[1]Տաշիր!K15+[1]Ալավերդի!K15+[1]Սպիտակ!K15+[1]Ստեփանավան!K15 -> 0 | L15: =[1]Վանաձոր!L15+[1]Տաշիր!L15+[1]Ալավերդի!L15+[1]Սպիտակ!L15+[1]Ստեփանավան!L15 -> 0 | M15: =[1]Վանաձոր!M15+[1]Տաշիր!M15+[1]Ալավերդի!M15+[1]Սպիտակ!M15+[1]Ստեփանավան!M15 -> 0 | ... P15: =[1]Վանաձոր!P15+[1]Տաշիր!P15+[1]Ալավերդի!P15+[1]Սպիտակ!P15+[1]Ստեփանավան!P15 -> 0
A16: 0 | B16: 1.5 | C16: ²ÝÑñ³Å»ßï å³ßïå³ÝáõÃÛ³Ý ë³ÑÙ³Ý³½³ÝóÙ³Ùµ ëå³ÝáõÃÛáõÝÁ | E16: 108 | F16: =[1]Վանաձոր!F16+[1]Տաշիր!F16+[1]Ալավերդի!F16+[1]Սպիտակ!F16+[1]Ստեփանավան!F16 -> 0 | G16: =[1]Վանաձոր!G16+[1]Տաշիր!G16+[1]Ալավերդի!G16+[1]Սպիտակ!G16+[1]Ստեփանավան!G16 -> 0 | H16: =[1]Վանաձոր!H16+[1]Տաշիր!H16+[1]Ալավերդի!H16+[1]Սպիտակ!H16+[1]Ստեփանավան!H16 -> 0 | I16: =[1]Վանաձոր!I16+[1]Տաշիր!I16+[1]Ալավերդի!I16+[1]Սպիտակ!I16+[1]Ստեփանավան!I16 -> 0 | J16: =[1]Վանաձոր!J16+[1]Տաշիր!J16+[1]Ալավերդի!J16+[1]Սպիտակ!J16+[1]Ստեփանավան!J16 -> 0 | K16: =[1]Վանաձոր!K16+[1]Տաշիր!K16+[1]Ալավերդի!K16+[1]Սպիտակ!K16+[1]Ստեփանավան!K16 -> 0 | L16: =[1]Վանաձոր!L16+[1]Տաշիր!L16+[1]Ալավերդի!L16+[1]Սպիտակ!L16+[1]Ստեփանավան!L16 -> 0 | M16: =[1]Վանաձոր!M16+[1]Տաշիր!M16+[1]Ալավերդի!M16+[1]Սպիտակ!M16+[1]Ստեփանավան!M16 -> 0 | ... P16: =[1]Վանաձոր!P16+[1]Տաշիր!P16+[1]Ալավերդի!P16+[1]Սպիտակ!P16+[1]Ստեփանավան!P16 -> 0
A17: 0 | B17: 1.6 | C17: ²Ý½·áõßáõÃÛ³Ùµ Ù³Ñ å³ï×³é»ÉÁ | E17: 109 | F17: =[1]Վանաձոր!F17+[1]Տաշիր!F17+[1]Ալավերդի!F17+[1]Սպիտակ!F17+[1]Ստեփանավան!F17 -> 0 | G17: =[1]Վանաձոր!G17+[1]Տաշիր!G17+[1]Ալավերդի!G17+[1]Սպիտակ!G17+[1]Ստեփանավան!G17 -> 0 | H17: =[1]Վանաձոր!H17+[1]Տաշիր!H17+[1]Ալավերդի!H17+[1]Սպիտակ!H17+[1]Ստեփանավան!H17 -> 0 | I17: =[1]Վանաձոր!I17+[1]Տաշիր!I17+[1]Ալավերդի!I17+[1]Սպիտակ!I17+[1]Ստեփանավան!I17 -> 0 | J17: =[1]Վանաձոր!J17+[1]Տաշիր!J17+[1]Ալավերդի!J17+[1]Սպիտակ!J17+[1]Ստեփանավան!J17 -> 0 | K17: =[1]Վանաձոր!K17+[1]Տաշիր!K17+[1]Ալավերդի!K17+[1]Սպիտակ!K17+[1]Ստեփանավան!K17 -> 0 | L17: =[1]Վանաձոր!L17+[1]Տաշիր!L17+[1]Ալավերդի!L17+[1]Սպիտակ!L17+[1]Ստեփանավան!L17 -> 0 | M17: =[1]Վանաձոր!M17+[1]Տաշիր!M17+[1]Ալավերդի!M17+[1]Սպիտակ!M17+[1]Ստեփանավան!M17 -> 0 | ... P17: =[1]Վանաձոր!P17+[1]Տաշիր!P17+[1]Ալավերդի!P17+[1]Սպիտակ!P17+[1]Ստեփանավան!P17 -> 0
A18: 0 | B18: 1.7 | C18: ÆÝùÝ³ëå³ÝáõÃÛ³Ý Ñ³ëóÝ»ÉÁ | E18: 110 | F18: =[1]Վանաձոր!F18+[1]Տաշիր!F18+[1]Ալավերդի!F18+[1]Սպիտակ!F18+[1]Ստեփանավան!F18 -> 0 | G18: =[1]Վանաձոր!G18+[1]Տաշիր!G18+[1]Ալավերդի!G18+[1]Սպիտակ!G18+[1]Ստեփանավան!G18 -> 0 | H18: =[1]Վանաձոր!H18+[1]Տաշիր!H18+[1]Ալավերդի!H18+[1]Սպիտակ!H18+[1]Ստեփանավան!H18 -> 0 | I18: =[1]Վանաձոր!I18+[1]Տաշիր!I18+[1]Ալավերդի!I18+[1]Սպիտակ!I18+[1]Ստեփանավան!I18 -> 0 | J18: =[1]Վանաձոր!J18+[1]Տաշիր!J18+[1]Ալավերդի!J18+[1]Սպիտակ!J18+[1]Ստեփանավան!J18 -> 0 | K18: =[1]Վանաձոր!K18+[1]Տաշիր!K18+[1]Ալավերդի!K18+[1]Սպիտակ!K18+[1]Ստեփանավան!K18 -> 0 | L18: =[1]Վանաձոր!L18+[1]Տաշիր!L18+[1]Ալավերդի!L18+[1]Սպիտակ!L18+[1]Ստեփանավան!L18 -> 0 | M18: =[1]Վանաձոր!M18+[1]Տաշիր!M18+[1]Ալավերդի!M18+[1]Սպիտակ!M18+[1]Ստեփանավան!M18 -> 0 | ... P18: =[1]Վանաձոր!P18+[1]Տաշիր!P18+[1]Ալավերդի!P18+[1]Սպիտակ!P18+[1]Ստեփանավան!P18 -> 0
A19: 0 | B19: 1.8 | C19: ÆÝùÝ³ëå³ÝáõÃÛ³Ý Ñ³Ï»ÉÁ | E19: 111 | F19: =[1]Վանաձոր!F19+[1]Տաշիր!F19+[1]Ալավերդի!F19+[1]Սպիտակ!F19+[1]Ստեփանավան!F19 -> 0 | G19: =[1]Վանաձոր!G19+[1]Տաշիր!G19+[1]Ալավերդի!G19+[1]Սպիտակ!G19+[1]Ստեփանավան!G19 -> 0 | H19: =[1]Վանաձոր!H19+[1]Տաշիր!H19+[1]Ալավերդի!H19+[1]Սպիտակ!H19+[1]Ստեփանավան!H19 -> 0 | I19: =[1]Վանաձոր!I19+[1]Տաշիր!I19+[1]Ալավերդի!I19+[1]Սպիտակ!I19+[1]Ստեփանավան!I19 -> 0 | J19: =[1]Վանաձոր!J19+[1]Տաշիր!J19+[1]Ալավերդի!J19+[1]Սպիտակ!J19+[1]Ստեփանավան!J19 -> 0 | K19: =[1]Վանաձոր!K19+[1]Տաշիր!K19+[1]Ալավերդի!K19+[1]Սպիտակ!K19+[1]Ստեփանավան!K19 -> 0 | L19: =[1]Վանաձոր!L19+[1]Տաշիր!L19+[1]Ալավերդի!L19+[1]Սպիտակ!L19+[1]Ստեփանավան!L19 -> 0 | M19: =[1]Վանաձոր!M19+[1]Տաշիր!M19+[1]Ալավերդի!M19+[1]Սպիտակ!M19+[1]Ստեփանավան!M19 -> 0 | ... P19: =[1]Վանաձոր!P19+[1]Տաշիր!P19+[1]Ալավերդի!P19+[1]Սպիտակ!P19+[1]Ստեփանավան!P19 -> 0
A20: 0 | B20: 1.9 | C20: ¸Çï³íáñáõÃÛ³Ùµ ³éáÕçáõÃÛ³ÝÁ Í³Ýñ íÝ³ë å³ï×³é»ÉÁ | E20: 112 | F20: =[1]Վանաձոր!F20+[1]Տաշիր!F20+[1]Ալավերդի!F20+[1]Սպիտակ!F20+[1]Ստեփանավան!F20 -> 0 | G20: =[1]Վանաձոր!G20+[1]Տաշիր!G20+[1]Ալավերդի!G20+[1]Սպիտակ!G20+[1]Ստեփանավան!G20 -> 0 | H20: =[1]Վանաձոր!H20+[1]Տաշիր!H20+[1]Ալավերդի!H20+[1]Սպիտակ!H20+[1]Ստեփանավան!H20 -> 0 | I20: =[1]Վանաձոր!I20+[1]Տաշիր!I20+[1]Ալավերդի!I20+[1]Սպիտակ!I20+[1]Ստեփանավան!I20 -> 0 | J20: =[1]Վանաձոր!J20+[1]Տաշիր!J20+[1]Ալավերդի!J20+[1]Սպիտակ!J20+[1]Ստեփանավան!J20 -> 0 | K20: =[1]Վանաձոր!K20+[1]Տաշիր!K20+[1]Ալավերդի!K20+[1]Սպիտակ!K20+[1]Ստեփանավան!K20 -> 0 | L20: =[1]Վանաձոր!L20+[1]Տաշիր!L20+[1]Ալավերդի!L20+[1]Սպիտակ!L20+[1]Ստեփանավան!L20 -> 0 | M20: =[1]Վանաձոր!M20+[1]Տաշիր!M20+[1]Ալավերդի!M20+[1]Սպիտակ!M20+[1]Ստեփանավան!M20 -> 0 | ... P20: =[1]Վանաձոր!P20+[1]Տաշիր!P20+[1]Ալավերդի!P20+[1]Սպիտակ!P20+[1]Ստեփանավան!P20 -> 0
A21: 0 | B21: 1.10 | C21: ¸Çï³íáñáõÃÛ³Ùµ ³éáÕçáõÃÛ³ÝÁ ÙÇçÇÝ Í³ÝñáõÃÛ³Ý íÝ³ë å³ï×³é»ÉÁ | E21: 113 | F21: =[1]Վանաձոր!F21+[1]Տաշիր!F21+[1]Ալավերդի!F21+[1]Սպիտակ!F21+[1]Ստեփանավան!F21 -> 9 | G21: =[1]Վանաձոր!G21+[1]Տաշիր!G21+[1]Ալավերդի!G21+[1]Սպիտակ!G21+[1]Ստեփանավան!G21 -> 19 | H21: =[1]Վանաձոր!H21+[1]Տաշիր!H21+[1]Ալավերդի!H21+[1]Սպիտակ!H21+[1]Ստեփանավան!H21 -> 19 | I21: =[1]Վանաձոր!I21+[1]Տաշիր!I21+[1]Ալավերդի!I21+[1]Սպիտակ!I21+[1]Ստեփանավան!I21 -> 0 | J21: =[1]Վանաձոր!J21+[1]Տաշիր!J21+[1]Ալավերդի!J21+[1]Սպիտակ!J21+[1]Ստեփանավան!J21 -> 1 | K21: =[1]Վանաձոր!K21+[1]Տաշիր!K21+[1]Ալավերդի!K21+[1]Սպիտակ!K21+[1]Ստեփանավան!K21 -> 20 | L21: =[1]Վանաձոր!L21+[1]Տաշիր!L21+[1]Ալավերդի!L21+[1]Սպիտակ!L21+[1]Ստեփանավան!L21 -> 14 | M21: =[1]Վանաձոր!M21+[1]Տաշիր!M21+[1]Ալավերդի!M21+[1]Սպիտակ!M21+[1]Ստեփանավան!M21 -> 6 | ... P21: =[1]Վանաձոր!P21+[1]Տաշիր!P21+[1]Ալավերդի!P21+[1]Սպիտակ!P21+[1]Ստեփանավան!P21 -> 0
A22: 0 | B22: 1.11 | C22: Ðá·»Ï³Ý ËÇëï Ñáõ½ÙáõÝùÇ íÇ×³ÏáõÙ ³éáÕçáõÃÛ³ÝÁ Í³Ýñ Ï³Ù ÙÇçÇÝ Í³ÝñáõÃÛ³Ý íÝ³ë å³ï×³é»ÉÁ | E22: 114 | F22: =[1]Վանաձոր!F22+[1]Տաշիր!F22+[1]Ալավերդի!F22+[1]Սպիտակ!F22+[1]Ստեփանավան!F22 -> 1 | G22: =[1]Վանաձոր!G22+[1]Տաշիր!G22+[1]Ալավերդի!G22+[1]Սպիտակ!G22+[1]Ստեփանավան!G22 -> 9 | H22: =[1]Վանաձոր!H22+[1]Տաշիր!H22+[1]Ալավերդի!H22+[1]Սպիտակ!H22+[1]Ստեփանավան!H22 -> 4 | I22: =[1]Վանաձոր!I22+[1]Տաշիր!I22+[1]Ալավերդի!I22+[1]Սպիտակ!I22+[1]Ստեփանավան!I22 -> 3 | J22: =[1]Վանաձոր!J22+[1]Տաշիր!J22+[1]Ալավերդի!J22+[1]Սպիտակ!J22+[1]Ստեփանավան!J22 -> 1 | K22: =[1]Վանաձոր!K22+[1]Տաշիր!K22+[1]Ալավերդի!K22+[1]Սպիտակ!K22+[1]Ստեփանավան!K22 -> 8 | L22: =[1]Վանաձոր!L22+[1]Տաշիր!L22+[1]Ալավերդի!L22+[1]Սպիտակ!L22+[1]Ստեփանավան!L22 -> 7 | M22: =[1]Վանաձոր!M22+[1]Տաշիր!M22+[1]Ալավերդի!M22+[1]Սպիտակ!M22+[1]Ստեփանավան!M22 -> 1 | ... P22: =[1]Վանաձոր!P22+[1]Տաշիր!P22+[1]Ալավերդի!P22+[1]Սպիտակ!P22+[1]Ստեփանավան!P22 -> 0
A23: 0 | B23: 1.12 | C23: Ð³Ýó³Ýù Ï³ï³ñ³Í ³ÝÓÇÝ µéÝ»Éáõ Ñ³Ù³ñ ³ÝÑñ³Å»ßï ÙÇçáóÝ»ñÇ ë³ÑÙ³Ý½³ÝóÙ³Ùµ ³éáÕçáõÃÛ³ÝÁ Í³Ýñ Ï³Ù ÙÇçÇÝ Í³ÝñáõÃÛ³Ý íÝ³ë å³ï×³é»ÉÁ | E23: 115 | F23: =[1]Վանաձոր!F23+[1]Տաշիր!F23+[1]Ալավերդի!F23+[1]Սպիտակ!F23+[1]Ստեփանավան!F23 -> 0 | G23: =[1]Վանաձոր!G23+[1]Տաշիր!G23+[1]Ալավերդի!G23+[1]Սպիտակ!G23+[1]Ստեփանավան!G23 -> 0 | H23: =[1]Վանաձոր!H23+[1]Տաշիր!H23+[1]Ալավերդի!H23+[1]Սպիտակ!H23+[1]Ստեփանավան!H23 -> 0 | I23: =[1]Վանաձոր!I23+[1]Տաշիր!I23+[1]Ալավերդի!I23+[1]Սպիտակ!I23+[1]Ստեփանավան!I23 -> 0 | J23: =[1]Վանաձոր!J23+[1]Տաշիր!J23+[1]Ալավերդի!J23+[1]Սպիտակ!J23+[1]Ստեփանավան!J23 -> 0 | K23: =[1]Վանաձոր!K23+[1]Տաշիր!K23+[1]Ալավերդի!K23+[1]Սպիտակ!K23+[1]Ստեփանավան!K23 -> 0 | L23: =[1]Վանաձոր!L23+[1]Տաշիր!L23+[1]Ալավերդի!L23+[1]Սպիտակ!L23+[1]Ստեփանավան!L23 -> 0 | M23: =[1]Վանաձոր!M23+[1]Տաշիր!M23+[1]Ալավերդի!M23+[1]Սպիտակ!M23+[1]Ստեփանավան!M23 -> 0 | ... P23: =[1]Վանաձոր!P23+[1]Տաշիր!P23+[1]Ալավերդի!P23+[1]Սպիտակ!P23+[1]Ստեփանավան!P23 -> 0
A24: 0 | B24: 1.13 | C24: ²éáÕçáõÃÛ³ÝÁ Í³Ýñ Ï³Ù ÙÇçÇÝ Í³ÝñáõÃÛ³Ý íÝ³ë å³ï×³é»ÉÁ ³ÝÑñ³Å»ßï å³ßïå³ÝáõÃÛ³Ý ë³ÑÙ³Ý³Ý³½³ÝóÙ³Ùµ | E24: 116 | F24: =[1]Վանաձոր!F24+[1]Տաշիր!F24+[1]Ալավերդի!F24+[1]Սպիտակ!F24+[1]Ստեփանավան!F24 -> 0 | G24: =[1]Վանաձոր!G24+[1]Տաշիր!G24+[1]Ալավերդի!G24+[1]Սպիտակ!G24+[1]Ստեփանավան!G24 -> 0 | H24: =[1]Վանաձոր!H24+[1]Տաշիր!H24+[1]Ալավերդի!H24+[1]Սպիտակ!H24+[1]Ստեփանավան!H24 -> 0 | I24: =[1]Վանաձոր!I24+[1]Տաշիր!I24+[1]Ալավերդի!I24+[1]Սպիտակ!I24+[1]Ստեփանավան!I24 -> 0 | J24: =[1]Վանաձոր!J24+[1]Տաշիր!J24+[1]Ալավերդի!J24+[1]Սպիտակ!J24+[1]Ստեփանավան!J24 -> 0 | K24: =[1]Վանաձոր!K24+[1]Տաշիր!K24+[1]Ալավերդի!K24+[1]Սպիտակ!K24+[1]Ստեփանավան!K24 -> 0 | L24: =[1]Վանաձոր!L24+[1]Տաշիր!L24+[1]Ալավերդի!L24+[1]Սպիտակ!L24+[1]Ստեփանավան!L24 -> 0 | M24: =[1]Վանաձոր!M24+[1]Տաշիր!M24+[1]Ալավերդի!M24+[1]Սպիտակ!M24+[1]Ստեփանավան!M24 -> 0 | ... P24: =[1]Վանաձոր!P24+[1]Տաշիր!P24+[1]Ալավերդի!P24+[1]Սպիտակ!P24+[1]Ստեփանավան!P24 -> 0
A25: 0 | B25: 1.14 | C25: ¸Çï³íáñáõÃÛ³Ùµ ³éáÕçáõÃÛ³ÝÁ Ã»Ã¨ íÝ³ë å³ï×³é»ÉÁ | E25: 117 | F25: =[1]Վանաձոր!F25+[1]Տաշիր!F25+[1]Ալավերդի!F25+[1]Սպիտակ!F25+[1]Ստեփանավան!F25 -> 0 | G25: =[1]Վանաձոր!G25+[1]Տաշիր!G25+[1]Ալավերդի!G25+[1]Սպիտակ!G25+[1]Ստեփանավան!G25 -> 1 | H25: =[1]Վանաձոր!H25+[1]Տաշիր!H25+[1]Ալավերդի!H25+[1]Սպիտակ!H25+[1]Ստեփանավան!H25 -> 1 | I25: =[1]Վանաձոր!I25+[1]Տաշիր!I25+[1]Ալավերդի!I25+[1]Սպիտակ!I25+[1]Ստեփանավան!I25 -> 0 | J25: =[1]Վանաձոր!J25+[1]Տաշիր!J25+[1]Ալավերդի!J25+[1]Սպիտակ!J25+[1]Ստեփանավան!J25 -> 0 | K25: =[1]Վանաձոր!K25+[1]Տաշիր!K25+[1]Ալավերդի!K25+[1]Սպիտակ!K25+[1]Ստեփանավան!K25 -> 1 | L25: =[1]Վանաձոր!L25+[1]Տաշիր!L25+[1]Ալավերդի!L25+[1]Սպիտակ!L25+[1]Ստեփանավան!L25 -> 1 | M25: =[1]Վանաձոր!M25+[1]Տաշիր!M25+[1]Ալավերդի!M25+[1]Սպիտակ!M25+[1]Ստեփանավան!M25 -> 0 | ... P25: =[1]Վանաձոր!P25+[1]Տաշիր!P25+[1]Ալավերդի!P25+[1]Սպիտակ!P25+[1]Ստեփանավան!P25 -> 0
A26: 0 | B26: 1.15 | C26: Ì»ÍÁ | E26: 118 | F26: =[1]Վանաձոր!F26+[1]Տաշիր!F26+[1]Ալավերդի!F26+[1]Սպիտակ!F26+[1]Ստեփանավան!F26 -> 1 | G26: =[1]Վանաձոր!G26+[1]Տաշիր!G26+[1]Ալավերդի!G26+[1]Սպիտակ!G26+[1]Ստեփանավան!G26 -> 9 | H26: =[1]Վանաձոր!H26+[1]Տաշիր!H26+[1]Ալավերդի!H26+[1]Սպիտակ!H26+[1]Ստեփանավան!H26 -> 4 | I26: =[1]Վանաձոր!I26+[1]Տաշիր!I26+[1]Ալավերդի!I26+[1]Սպիտակ!I26+[1]Ստեփանավան!I26 -> 5 | J26: =[1]Վանաձոր!J26+[1]Տաշիր!J26+[1]Ալավերդի!J26+[1]Սպիտակ!J26+[1]Ստեփանավան!J26 -> 0 | K26: =[1]Վանաձոր!K26+[1]Տաշիր!K26+[1]Ալավերդի!K26+[1]Սպիտակ!K26+[1]Ստեփանավան!K26 -> 9 | L26: =[1]Վանաձոր!L26+[1]Տաշիր!L26+[1]Ալավերդի!L26+[1]Սպիտակ!L26+[1]Ստեփանավան!L26 -> 8 | M26: =[1]Վանաձոր!M26+[1]Տաշիր!M26+[1]Ալավերդի!M26+[1]Սպիտակ!M26+[1]Ստեփանավան!M26 -> 1 | ... P26: =[1]Վանաձոր!P26+[1]Տաշիր!P26+[1]Ալավերդի!P26+[1]Սպիտակ!P26+[1]Ստեփանավան!P26 -> 1
A27: 0 | B27: 1.16 | C27: Êáßï³Ý·áõÙÁ | E27: 119 | F27: =[1]Վանաձոր!F27+[1]Տաշիր!F27+[1]Ալավերդի!F27+[1]Սպիտակ!F27+[1]Ստեփանավան!F27 -> 1 | G27: =[1]Վանաձոր!G27+[1]Տաշիր!G27+[1]Ալավերդի!G27+[1]Սպիտակ!G27+[1]Ստեփանավան!G27 -> 3 | H27: =[1]Վանաձոր!H27+[1]Տաշիր!H27+[1]Ալավերդի!H27+[1]Սպիտակ!H27+[1]Ստեփանավան!H27 -> 3 | I27: =[1]Վանաձոր!I27+[1]Տաշիր!I27+[1]Ալավերդի!I27+[1]Սպիտակ!I27+[1]Ստեփանավան!I27 -> 1 | J27: =[1]Վանաձոր!J27+[1]Տաշիր!J27+[1]Ալավերդի!J27+[1]Սպիտակ!J27+[1]Ստեփանավան!J27 -> 0 | K27: =[1]Վանաձոր!K27+[1]Տաշիր!K27+[1]Ալավերդի!K27+[1]Սպիտակ!K27+[1]Ստեփանավան!K27 -> 4 | L27: =[1]Վանաձոր!L27+[1]Տաշիր!L27+[1]Ալավերդի!L27+[1]Սպիտակ!L27+[1]Ստեփանավան!L27 -> 4 | M27: =[1]Վանաձոր!M27+[1]Տաշիր!M27+[1]Ալավերդի!M27+[1]Սպիտակ!M27+[1]Ստեփանավան!M27 -> 0 | ... P27: =[1]Վանաձոր!P27+[1]Տաշիր!P27+[1]Ալավերդի!P27+[1]Սպիտակ!P27+[1]Ստեփանավան!P27 -> 0
A28: 0 | B28: 1.17 | C28: ²Ý½·áõßáõÃÛ³Ùµ ³éáÕçáõÃÛ³ÝÁ Í³Ýñ íÝ³ë å³ï×³é»ÉÁ | E28: 120 | F28: =[1]Վանաձոր!F28+[1]Տաշիր!F28+[1]Ալավերդի!F28+[1]Սպիտակ!F28+[1]Ստեփանավան!F28 -> 0 | G28: =[1]Վանաձոր!G28+[1]Տաշիր!G28+[1]Ալավերդի!G28+[1]Սպիտակ!G28+[1]Ստեփանավան!G28 -> 2 | H28: =[1]Վանաձոր!H28+[1]Տաշիր!H28+[1]Ալավերդի!H28+[1]Սպիտակ!H28+[1]Ստեփանավան!H28 -> 2 | I28: =[1]Վանաձոր!I28+[1]Տաշիր!I28+[1]Ալավերդի!I28+[1]Սպիտակ!I28+[1]Ստեփանավան!I28 -> 0 | J28: =[1]Վանաձոր!J28+[1]Տաշիր!J28+[1]Ալավերդի!J28+[1]Սպիտակ!J28+[1]Ստեփանավան!J28 -> 0 | K28: =[1]Վանաձոր!K28+[1]Տաշիր!K28+[1]Ալավերդի!K28+[1]Սպիտակ!K28+[1]Ստեփանավան!K28 -> 2 | L28: =[1]Վանաձոր!L28+[1]Տաշիր!L28+[1]Ալավերդի!L28+[1]Սպիտակ!L28+[1]Ստեփանավան!L28 -> 1 | M28: =[1]Վանաձոր!M28+[1]Տաշիր!M28+[1]Ալավերդի!M28+[1]Սպիտակ!M28+[1]Ստեփանավան!M28 -> 1 | ... P28: =[1]Վանաձոր!P28+[1]Տաշիր!P28+[1]Ալավերդի!P28+[1]Սպիտակ!P28+[1]Ստեփանավան!P28 -> 0
A29: 0 | B29: 1.18 | C29: ²Ý½·áõßáõÃÛ³Ùµ ³éáÕçáõÃÛ³ÝÁ ÙÇçÇÝ Í³ÝñáõÃÛ³Ý íÝ³ë å³ï×³é»ÉÁ | E29: 121 | F29: =[1]Վանաձոր!F29+[1]Տաշիր!F29+[1]Ալավերդի!F29+[1]Սպիտակ!F29+[1]Ստեփանավան!F29 -> 0 | G29: =[1]Վանաձոր!G29+[1]Տաշիր!G29+[1]Ալավերդի!G29+[1]Սպիտակ!G29+[1]Ստեփանավան!G29 -> 0 | H29: =[1]Վանաձոր!H29+[1]Տաշիր!H29+[1]Ալավերդի!H29+[1]Սպիտակ!H29+[1]Ստեփանավան!H29 -> 0 | I29: =[1]Վանաձոր!I29+[1]Տաշիր!I29+[1]Ալավերդի!I29+[1]Սպիտակ!I29+[1]Ստեփանավան!I29 -> 0 | J29: =[1]Վանաձոր!J29+[1]Տաշիր!J29+[1]Ալավերդի!J29+[1]Սպիտակ!J29+[1]Ստեփանավան!J29 -> 0 | K29: =[1]Վանաձոր!K29+[1]Տաշիր!K29+[1]Ալավերդի!K29+[1]Սպիտակ!K29+[1]Ստեփանավան!K29 -> 0 | L29: =[1]Վանաձոր!L29+[1]Տաշիր!L29+[1]Ալավերդի!L29+[1]Սպիտակ!L29+[1]Ստեփանավան!L29 -> 0 | M29: =[1]Վանաձոր!M29+[1]Տաշիր!M29+[1]Ալավերդի!M29+[1]Սպիտակ!M29+[1]Ստեփանավան!M29 -> 0 | ... P29: =[1]Վանաձոր!P29+[1]Տաշիր!P29+[1]Ալավերդի!P29+[1]Սպիտակ!P29+[1]Ստեփանավան!P29 -> 0
A30: 0 | B30: 1.19 | C30: ²åûñÇÝÇ ³µáñï Ï³ï³ñ»ÉÁ | E30: 122 | F30: =[1]Վանաձոր!F30+[1]Տաշիր!F30+[1]Ալավերդի!F30+[1]Սպիտակ!F30+[1]Ստեփանավան!F30 -> 0 | G30: =[1]Վանաձոր!G30+[1]Տաշիր!G30+[1]Ալավերդի!G30+[1]Սպիտակ!G30+[1]Ստեփանավան!G30 -> 0 | H30: =[1]Վանաձոր!H30+[1]Տաշիր!H30+[1]Ալավերդի!H30+[1]Սպիտակ!H30+[1]Ստեփանավան!H30 -> 0 | I30: =[1]Վանաձոր!I30+[1]Տաշիր!I30+[1]Ալավերդի!I30+[1]Սպիտակ!I30+[1]Ստեփանավան!I30 -> 0 | J30: =[1]Վանաձոր!J30+[1]Տաշիր!J30+[1]Ալավերդի!J30+[1]Սպիտակ!J30+[1]Ստեփանավան!J30 -> 0 | K30: =[1]Վանաձոր!K30+[1]Տաշիր!K30+[1]Ալավերդի!K30+[1]Սպիտակ!K30+[1]Ստեփանավան!K30 -> 0 | L30: =[1]Վանաձոր!L30+[1]Տաշիր!L30+[1]Ալավերդի!L30+[1]Սպիտակ!L30+[1]Ստեփանավան!L30 -> 0 | M30: =[1]Վանաձոր!M30+[1]Տաշիր!M30+[1]Ալավերդի!M30+[1]Սպիտակ!M30+[1]Ստեփանավան!M30 -> 0 | ... P30: =[1]Վանաձոր!P30+[1]Տաշիր!P30+[1]Ալավերդի!P30+[1]Սպիտակ!P30+[1]Ստեփանավան!P30 -> 0
A31: 0 | B31: 1.20 | C31: Ø³ñ¹áõ ÇÙáõÝ³ÛÇÝ ³Ýµ³í³ñ³ñáõÃÛ³Ý íÇñáõëÇ Ñ³ñáõóÇãáí í³ñ³Ï»ÉÁ | E31: 123 | F31: =[1]Վանաձոր!F31+[1]Տաշիր!F31+[1]Ալավերդի!F31+[1]Սպիտակ!F31+[1]Ստեփանավան!F31 -> 0 | G31: =[1]Վանաձոր!G31+[1]Տաշիր!G31+[1]Ալավերդի!G31+[1]Սպիտակ!G31+[1]Ստեփանավան!G31 -> 0 | H31: =[1]Վանաձոր!H31+[1]Տաշիր!H31+[1]Ալավերդի!H31+[1]Սպիտակ!H31+[1]Ստեփանավան!H31 -> 0 | I31: =[1]Վանաձոր!I31+[1]Տաշիր!I31+[1]Ալավերդի!I31+[1]Սպիտակ!I31+[1]Ստեփանավան!I31 -> 0 | J31: =[1]Վանաձոր!J31+[1]Տաշիր!J31+[1]Ալավերդի!J31+[1]Սպիտակ!J31+[1]Ստեփանավան!J31 -> 0 | K31: =[1]Վանաձոր!K31+[1]Տաշիր!K31+[1]Ալավերդի!K31+[1]Սպիտակ!K31+[1]Ստեփանավան!K31 -> 0 | L31: =[1]Վանաձոր!L31+[1]Տաշիր!L31+[1]Ալավերդի!L31+[1]Սպիտակ!L31+[1]Ստեփանավան!L31 -> 0 | M31: =[1]Վանաձոր!M31+[1]Տաշիր!M31+[1]Ալավերդի!M31+[1]Սպիտակ!M31+[1]Ստեփանավան!M31 -> 0 | ... P31: =[1]Վանաձոր!P31+[1]Տաշիր!P31+[1]Ալավերդի!P31+[1]Սպիտակ!P31+[1]Ստեփանավան!P31 -> 0
A32: 0 | B32: 1.21 | C32: ì»Ý»ñ³Ï³Ý ÑÇí³Ý¹áõÃÛ³Ùµ Ï³Ù ³ÛÉ ë»é³í³ñ³ÏÝ»ñáí í³ñ³Ï»ÉÁ | E32: 124 | F32: =[1]Վանաձոր!F32+[1]Տաշիր!F32+[1]Ալավերդի!F32+[1]Սպիտակ!F32+[1]Ստեփանավան!F32 -> 0 | G32: =[1]Վանաձոր!G32+[1]Տաշիր!G32+[1]Ալավերդի!G32+[1]Սպիտակ!G32+[1]Ստեփանավան!G32 -> 0 | H32: =[1]Վանաձոր!H32+[1]Տաշիր!H32+[1]Ալավերդի!H32+[1]Սպիտակ!H32+[1]Ստեփանավան!H32 -> 0 | I32: =[1]Վանաձոր!I32+[1]Տաշիր!I32+[1]Ալավերդի!I32+[1]Սպիտակ!I32+[1]Ստեփանավան!I32 -> 0 | J32: =[1]Վանաձոր!J32+[1]Տաշիր!J32+[1]Ալավերդի!J32+[1]Սպիտակ!J32+[1]Ստեփանավան!J32 -> 0 | K32: =[1]Վանաձոր!K32+[1]Տաշիր!K32+[1]Ալավերդի!K32+[1]Սպիտակ!K32+[1]Ստեփանավան!K32 -> 0 | L32: =[1]Վանաձոր!L32+[1]Տաշիր!L32+[1]Ալավերդի!L32+[1]Սպիտակ!L32+[1]Ստեփանավան!L32 -> 0 | M32: =[1]Վանաձոր!M32+[1]Տաշիր!M32+[1]Ալավերդի!M32+[1]Սպիտակ!M32+[1]Ստեփանավան!M32 -> 0 | ... P32: =[1]Վանաձոր!P32+[1]Տաշիր!P32+[1]Ալավերդի!P32+[1]Սպիտակ!P32+[1]Ստեփանավան!P32 -> 0
... A38: 0 | B38: 1.27 | C38: ´ÅßÏ³Ï³Ý û·ÝáõÃÛáõÝ ¨ ëå³ë³ñÏáõÙ Çñ³Ï³Ý³óÝáÕÝ»ñÇ ÏáÕÙÇó Ù³ëÝ³·Çï³Ï³Ý å³ñï³Ï³ÝáõÃÛáõÝÝ»ñÁ ãÏ³ï³ñ»ÉÁ Ï³Ù áã å³ïß³× Ï³ï³ñ»ÉÁ | E38: 130 | F38: =[1]Վանաձոր!F38+[1]Տաշիր!F38+[1]Ալավերդի!F38+[1]Սպիտակ!F38+[1]Ստեփանավան!F38 -> 0 | G38: =[1]Վանաձոր!G38+[1]Տաշիր!G38+[1]Ալավերդի!G38+[1]Սպիտակ!G38+[1]Ստեփանավան!G38 -> 0 | H38: =[1]Վանաձոր!H38+[1]Տաշիր!H38+[1]Ալավերդի!H38+[1]Սպիտակ!H38+[1]Ստեփանավան!H38 -> 0 | I38: =[1]Վանաձոր!I38+[1]Տաշիր!I38+[1]Ալավերդի!I38+[1]Սպիտակ!I38+[1]Ստեփանավան!I38 -> 0 | J38: =[1]Վանաձոր!J38+[1]Տաշիր!J38+[1]Ալավերդի!J38+[1]Սպիտակ!J38+[1]Ստեփանավան!J38 -> 0 | K38: =[1]Վանաձոր!K38+[1]Տաշիր!K38+[1]Ալավերդի!K38+[1]Սպիտակ!K38+[1]Ստեփանավան!K38 -> 0 | L38: =[1]Վանաձոր!L38+[1]Տաշիր!L38+[1]Ալավերդի!L38+[1]Սպիտակ!L38+[1]Ստեփանավան!L38 -> 0 | M38: =[1]Վանաձոր!M38+[1]Տաշիր!M38+[1]Ալավերդի!M38+[1]Սպիտակ!M38+[1]Ստեփանավան!M38 -> 0 | ... P38: =[1]Վանաձոր!P38+[1]Տաշիր!P38+[1]Ալավերդի!P38+[1]Սպիտակ!P38+[1]Ստեփանավան!P38 -> 0
A39: 1 | B39: 1.28 | C39: ²ÛÉ Ñ³Ýó³·áñÍáõÃÛáõÝÝ»ñ | F39: =[1]Վանաձոր!F39+[1]Տաշիր!F39+[1]Ալավերդի!F39+[1]Սպիտակ!F39+[1]Ստեփանավան!F39 -> 0 | G39: =[1]Վանաձոր!G39+[1]Տաշիր!G39+[1]Ալավերդի!G39+[1]Սպիտակ!G39+[1]Ստեփանավան!G39 -> 1 | H39: =[1]Վանաձոր!H39+[1]Տաշիր!H39+[1]Ալավերդի!H39+[1]Սպիտակ!H39+[1]Ստեփանավան!H39 -> 1 | I39: =[1]Վանաձոր!I39+[1]Տաշիր!I39+[1]Ալավերդի!I39+[1]Սպիտակ!I39+[1]Ստեփանավան!I39 -> 0 | J39: =[1]Վանաձոր!J39+[1]Տաշիր!J39+[1]Ալավերդի!J39+[1]Սպիտակ!J39+[1]Ստեփանավան!J39 -> 0 | K39: =[1]Վանաձոր!K39+[1]Տաշիր!K39+[1]Ալավերդի!K39+[1]Սպիտակ!K39+[1]Ստեփանավան!K39 -> 1 | L39: =[1]Վանաձոր!L39+[1]Տաշիր!L39+[1]Ալավերդի!L39+[1]Սպիտակ!L39+[1]Ստեփանավան!L39 -> 1 | M39: =[1]Վանաձոր!M39+[1]Տաշիր!M39+[1]Ալավերդի!M39+[1]Սպիտակ!M39+[1]Ստեփանավան!M39 -> 0 | ... P39: =[1]Վանաձոր!P39+[1]Տաշիր!P39+[1]Ալավերդի!P39+[1]Սպիտակ!P39+[1]Ստեփանավան!P39 -> 0
A40: 0 | B40: 2. | C40: ÀÝ¹³Ù»ÝÁ ³ÝÓÇ ³½³ïáõÃÛ³Ý, å³ïíÇ ¨ ³ñÅ³Ý³å³ïíáõÃÛ³Ý ¹»Ù áõÕÕí³Í Ñ³Ýó³·áñÍáõÃÛáõÝÝ»ñÁ
A41: 0 | B41: 2.1 | C41: Ø³ñ¹áõÝ ³é¨³Ý·»ÉÁ | E41: 131 | F41: =[1]Վանաձոր!F41+[1]Տաշիր!F41+[1]Ալավերդի!F41+[1]Սպիտակ!F41+[1]Ստեփանավան!F41 -> 0 | G41: =[1]Վանաձոր!G41+[1]Տաշիր!G41+[1]Ալավերդի!G41+[1]Սպիտակ!G41+[1]Ստեփանավան!G41 -> 0 | H41: =[1]Վանաձոր!H41+[1]Տաշիր!H41+[1]Ալավերդի!H41+[1]Սպիտակ!H41+[1]Ստեփանավան!H41 -> 0 | I41: =[1]Վանաձոր!I41+[1]Տաշիր!I41+[1]Ալավերդի!I41+[1]Սպիտակ!I41+[1]Ստեփանավան!I41 -> 0 | J41: =[1]Վանաձոր!J41+[1]Տաշիր!J41+[1]Ալավերդի!J41+[1]Սպիտակ!J41+[1]Ստեփանավան!J41 -> 0 | K41: =[1]Վանաձոր!K41+[1]Տաշիր!K41+[1]Ալավերդի!K41+[1]Սպիտակ!K41+[1]Ստեփանավան!K41 -> 0 | L41: =[1]Վանաձոր!L41+[1]Տաշիր!L41+[1]Ալավերդի!L41+[1]Սպիտակ!L41+[1]Ստեփանավան!L41 -> 0 | M41: =[1]Վանաձոր!M41+[1]Տաշիր!M41+[1]Ալավերդի!M41+[1]Սպիտակ!M41+[1]Ստեփանավան!M41 -> 0 | ... P41: =[1]Վանաձոր!P41+[1]Տաշիր!P41+[1]Ալավերդի!P41+[1]Սպիտակ!P41+[1]Ստեփանավան!P41 -> 0
B42: 2.2 | C42: Þ³Ñ³·áñÍÙ³Ý Ýå³ï³Ïáí Ù³ñ¹áõÝ Ñ³í³ù³·ñ»ÉÁ, ÷áË³¹ñ»ÉÁ, Ñ³ÝÓÝ»ÉÁ, Ã³ùóÝ»ÉÁ Ï³Ù ëï³Ý³ÉÁ | E42: 132 | F42: =[1]Վանաձոր!F42+[1]Տաշիր!F42+[1]Ալավերդի!F42+[1]Սպիտակ!F42+[1]Ստեփանավան!F42 -> 0 | G42: =[1]Վանաձոր!G42+[1]Տաշիր!G42+[1]Ալավերդի!G42+[1]Սպիտակ!G42+[1]Ստեփանավան!G42 -> 1 | H42: =[1]Վանաձոր!H42+[1]Տաշիր!H42+[1]Ալավերդի!H42+[1]Սպիտակ!H42+[1]Ստեփանավան!H42 -> 0 | I42: =[1]Վանաձոր!I42+[1]Տաշիր!I42+[1]Ալավերդի!I42+[1]Սպիտակ!I42+[1]Ստեփանավան!I42 -> 0 | J42: =[1]Վանաձոր!J42+[1]Տաշիր!J42+[1]Ալավերդի!J42+[1]Սպիտակ!J42+[1]Ստեփանավան!J42 -> 0 | K42: =[1]Վանաձոր!K42+[1]Տաշիր!K42+[1]Ալավերդի!K42+[1]Սպիտակ!K42+[1]Ստեփանավան!K42 -> 0 | L42: =[1]Վանաձոր!L42+[1]Տաշիր!L42+[1]Ալավերդի!L42+[1]Սպիտակ!L42+[1]Ստեփանավան!L42 -> 0 | M42: =[1]Վանաձոր!M42+[1]Տաշիր!M42+[1]Ալավերդի!M42+[1]Սպիտակ!M42+[1]Ստեփանավան!M42 -> 0 | ... P42: =[1]Վանաձոր!P42+[1]Տաշիր!P42+[1]Ալավերդի!P42+[1]Սպիտակ!P42+[1]Ստեփանավան!P42 -> 0
B43: 2.3 | C43: ²½³ïáõÃÛáõÝÇó ³åûñÇÝÇ ½ñÏ»ÉÁ | E43: 133 | F43: =[1]Վանաձոր!F43+[1]Տաշիր!F43+[1]Ալավերդի!F43+[1]Սպիտակ!F43+[1]Ստեփանավան!F43 -> 0 | G43: =[1]Վանաձոր!G43+[1]Տաշիր!G43+[1]Ալավերդի!G43+[1]Սպիտակ!G43+[1]Ստեփանավան!G43 -> 0 | H43: =[1]Վանաձոր!H43+[1]Տաշիր!H43+[1]Ալավերդի!H43+[1]Սպիտակ!H43+[1]Ստեփանավան!H43 -> 0 | I43: =[1]Վանաձոր!I43+[1]Տաշիր!I43+[1]Ալավերդի!I43+[1]Սպիտակ!I43+[1]Ստեփանավան!I43 -> 0 | J43: =[1]Վանաձոր!J43+[1]Տաշիր!J43+[1]Ալավերդի!J43+[1]Սպիտակ!J43+[1]Ստեփանավան!J43 -> 0 | K43: =[1]Վանաձոր!K43+[1]Տաշիր!K43+[1]Ալավերդի!K43+[1]Սպիտակ!K43+[1]Ստեփանավան!K43 -> 0 | L43: =[1]Վանաձոր!L43+[1]Տաշիր!L43+[1]Ալավերդի!L43+[1]Սպիտակ!L43+[1]Ստեփանավան!L43 -> 0 | M43: =[1]Վանաձոր!M43+[1]Տաշիր!M43+[1]Ալավերդի!M43+[1]Սպիտակ!M43+[1]Ստեփանավան!M43 -> 0 | ... P43: =[1]Վանաձոր!P43+[1]Տաշիր!P43+[1]Ալավերդի!P43+[1]Սպիտակ!P43+[1]Ստեփանավան!P43 -> 0
B44: 2.4 | C44: Ðá·»µáõÅ³Ï³Ý ÑÇí³Ý¹³ÝáóáõÙ ³åûñÇÝÇ ï»Õ³íáñ»ÉÁ Ï³Ù å³Ñ»ÉÁ | E44: 134 | F44: =[1]Վանաձոր!F44+[1]Տաշիր!F44+[1]Ալավերդի!F44+[1]Սպիտակ!F44+[1]Ստեփանավան!F44 -> 0 | G44: =[1]Վանաձոր!G44+[1]Տաշիր!G44+[1]Ալավերդի!G44+[1]Սպիտակ!G44+[1]Ստեփանավան!G44 -> 0 | H44: =[1]Վանաձոր!H44+[1]Տաշիր!H44+[1]Ալավերդի!H44+[1]Սպիտակ!H44+[1]Ստեփանավան!H44 -> 0 | I44: =[1]Վանաձոր!I44+[1]Տաշիր!I44+[1]Ալավերդի!I44+[1]Սպիտակ!I44+[1]Ստեփանավան!I44 -> 0 | J44: =[1]Վանաձոր!J44+[1]Տաշիր!J44+[1]Ալավերդի!J44+[1]Սպիտակ!J44+[1]Ստեփանավան!J44 -> 0 | K44: =[1]Վանաձոր!K44+[1]Տաշիր!K44+[1]Ալավերդի!K44+[1]Սպիտակ!K44+[1]Ստեփանավան!K44 -> 0 | L44: =[1]Վանաձոր!L44+[1]Տաշիր!L44+[1]Ալավերդի!L44+[1]Սպիտակ!L44+[1]Ստեփանավան!L44 -> 0 | M44: =[1]Վանաձոր!M44+[1]Տաշիր!M44+[1]Ալավերդի!M44+[1]Սպիտակ!M44+[1]Ստեփանավան!M44 -> 0 | ... P44: =[1]Վանաձոր!P44+[1]Տաշիր!P44+[1]Ալավերդի!P44+[1]Սպիտակ!P44+[1]Ստեփանավան!P44 -> 0
B45: 2.5 | C45: ¼ñå³ñïáõÃÛáõÝÁ | E45: 135 | F45: =[1]Վանաձոր!F45+[1]Տաշիր!F45+[1]Ալավերդի!F45+[1]Սպիտակ!F45+[1]Ստեփանավան!F45 -> 0 | G45: =[1]Վանաձոր!G45+[1]Տաշիր!G45+[1]Ալավերդի!G45+[1]Սպիտակ!G45+[1]Ստեփանավան!G45 -> 0 | H45: =[1]Վանաձոր!H45+[1]Տաշիր!H45+[1]Ալավերդի!H45+[1]Սպիտակ!H45+[1]Ստեփանավան!H45 -> 0 | I45: =[1]Վանաձոր!I45+[1]Տաշիր!I45+[1]Ալավերդի!I45+[1]Սպիտակ!I45+[1]Ստեփանավան!I45 -> 0 | J45: =[1]Վանաձոր!J45+[1]Տաշիր!J45+[1]Ալավերդի!J45+[1]Սպիտակ!J45+[1]Ստեփանավան!J45 -> 0 | K45: =[1]Վանաձոր!K45+[1]Տաշիր!K45+[1]Ալավերդի!K45+[1]Սպիտակ!K45+[1]Ստեփանավան!K45 -> 0 | L45: =[1]Վանաձոր!L45+[1]Տաշիր!L45+[1]Ալավերդի!L45+[1]Սպիտակ!L45+[1]Ստեփանավան!L45 -> 0 | M45: =[1]Վանաձոր!M45+[1]Տաշիր!M45+[1]Ալավերդի!M45+[1]Սպիտակ!M45+[1]Ստեփանավան!M45 -> 0 | ... P45: =[1]Վանաձոր!P45+[1]Տաշիր!P45+[1]Ալավերդի!P45+[1]Սպիտակ!P45+[1]Ստեփանավան!P45 -> 0
B46: 2.6 | C46: ìÇñ³íáñ³ÝùÁ | E46: 136 | F46: =[1]Վանաձոր!F46+[1]Տաշիր!F46+[1]Ալավերդի!F46+[1]Սպիտակ!F46+[1]Ստեփանավան!F46 -> 0 | G46: =[1]Վանաձոր!G46+[1]Տաշիր!G46+[1]Ալավերդի!G46+[1]Սպիտակ!G46+[1]Ստեփանավան!G46 -> 0 | H46: =[1]Վանաձոր!H46+[1]Տաշիր!H46+[1]Ալավերդի!H46+[1]Սպիտակ!H46+[1]Ստեփանավան!H46 -> 0 | I46: =[1]Վանաձոր!I46+[1]Տաշիր!I46+[1]Ալավերդի!I46+[1]Սպիտակ!I46+[1]Ստեփանավան!I46 -> 0 | J46: =[1]Վանաձոր!J46+[1]Տաշիր!J46+[1]Ալավերդի!J46+[1]Սպիտակ!J46+[1]Ստեփանավան!J46 -> 0 | K46: =[1]Վանաձոր!K46+[1]Տաշիր!K46+[1]Ալավերդի!K46+[1]Սպիտակ!K46+[1]Ստեփանավան!K46 -> 0 | L46: =[1]Վանաձոր!L46+[1]Տաշիր!L46+[1]Ալավերդի!L46+[1]Սպիտակ!L46+[1]Ստեփանավան!L46 -> 0 | M46: =[1]Վանաձոր!M46+[1]Տաշիր!M46+[1]Ալավերդի!M46+[1]Սպիտակ!M46+[1]Ստեփանավան!M46 -> 0 | ... P46: =[1]Վանաձոր!P46+[1]Տաշիր!P46+[1]Ալավերդի!P46+[1]Սպիտակ!P46+[1]Ստեփանավան!P46 -> 0
A47: 0 | B47: 2.7 | C47: êå³ÝáõÃÛ³Ý, ³éáÕçáõÃÛ³ÝÁ Í³Ýñ íÝ³ë å³ï×³é»Éáõ Ï³Ù ·áõÛù áãÝã³óÝ»Éáõ ëå³éÝ³ÉÇùÁ | E47: 137 | F47: =[1]Վանաձոր!F47+[1]Տաշիր!F47+[1]Ալավերդի!F47+[1]Սպիտակ!F47+[1]Ստեփանավան!F47 -> 1 | G47: =[1]Վանաձոր!G47+[1]Տաշիր!G47+[1]Ալավերդի!G47+[1]Սպիտակ!G47+[1]Ստեփանավան!G47 -> 6 | H47: =[1]Վանաձոր!H47+[1]Տաշիր!H47+[1]Ալավերդի!H47+[1]Սպիտակ!H47+[1]Ստեփանավան!H47 -> 2 | I47: =[1]Վանաձոր!I47+[1]Տաշիր!I47+[1]Ալավերդի!I47+[1]Սպիտակ!I47+[1]Ստեփանավան!I47 -> 4 | J47: =[1]Վանաձոր!J47+[1]Տաշիր!J47+[1]Ալավերդի!J47+[1]Սպիտակ!J47+[1]Ստեփանավան!J47 -> 0 | K47: =[1]Վանաձոր!K47+[1]Տաշիր!K47+[1]Ալավերդի!K47+[1]Սպիտակ!K47+[1]Ստեփանավան!K47 -> 6 | L47: =[1]Վանաձոր!L47+[1]Տաշիր!L47+[1]Ալավերդի!L47+[1]Սպիտակ!L47+[1]Ստեփանավան!L47 -> 6 | M47: =[1]Վանաձոր!M47+[1]Տաշիր!M47+[1]Ալավերդի!M47+[1]Սպիտակ!M47+[1]Ստեփանավան!M47 -> 0 | ... P47: =[1]Վանաձոր!P47+[1]Տաշիր!P47+[1]Ալավերդի!P47+[1]Սպիտակ!P47+[1]Ստեփանավան!P47 -> 0
A48: 0 | B48: 2.8 | C48: ²ÛÉ Ñ³Ýó³·áñÍáõÃÛáõÝÝ»ñ | F48: =[1]Վանաձոր!F48+[1]Տաշիր!F48+[1]Ալավերդի!F48+[1]Սպիտակ!F48+[1]Ստեփանավան!F48 -> 0 | G48: =[1]Վանաձոր!G48+[1]Տաշիր!G48+[1]Ալավերդի!G48+[1]Սպիտակ!G48+[1]Ստեփանավան!G48 -> 2 | H48: =[1]Վանաձոր!H48+[1]Տաշիր!H48+[1]Ալավերդի!H48+[1]Սպիտակ!H48+[1]Ստեփանավան!H48 -> 2 | I48: =[1]Վանաձոր!I48+[1]Տաշիր!I48+[1]Ալավերդի!I48+[1]Սպիտակ!I48+[1]Ստեփանավան!I48 -> 0 | J48: =[1]Վանաձոր!J48+[1]Տաշիր!J48+[1]Ալավերդի!J48+[1]Սպիտակ!J48+[1]Ստեփանավան!J48 -> 0 | K48: =[1]Վանաձոր!K48+[1]Տաշիր!K48+[1]Ալավերդի!K48+[1]Սպիտակ!K48+[1]Ստեփանավան!K48 -> 2 | L48: =[1]Վանաձոր!L48+[1]Տաշիր!L48+[1]Ալավերդի!L48+[1]Սպիտակ!L48+[1]Ստեփանավան!L48 -> 1 | M48: =[1]Վանաձոր!M48+[1]Տաշիր!M48+[1]Ալավերդի!M48+[1]Սպիտակ!M48+[1]Ստեփանավան!M48 -> 1 | ... P48: =[1]Վանաձոր!P48+[1]Տաշիր!P48+[1]Ալավերդի!P48+[1]Սպիտակ!P48+[1]Ստեփանավան!P48 -> 0
B49: 3. | C49: ÀÝ¹³Ù»ÝÁ ë»é³Ï³Ý ³ÝÓ»éÝÙË»ÉÇáõÃÛ³Ý ¨ ë»é³Ï³Ý ³½³ïáõÃÛ³Ý ¹»Ù áõÕÕí³Í Ñ³Ýó³·áñÍáõÃÛáõÝÝ»ñÁ | F49: =[1]Վանաձոր!F49+[1]Տաշիր!F49+[1]Ալավերդի!F49+[1]Սպիտակ!F49+[1]Ստեփանավան!F49 -> 0 | G49: =[1]Վանաձոր!G49+[1]Տաշիր!G49+[1]Ալավերդի!G49+[1]Սպիտակ!G49+[1]Ստեփանավան!G49 -> 0 | H49: =[1]Վանաձոր!H49+[1]Տաշիր!H49+[1]Ալավերդի!H49+[1]Սպիտակ!H49+[1]Ստեփանավան!H49 -> 0 | I49: =[1]Վանաձոր!I49+[1]Տաշիր!I49+[1]Ալավերդի!I49+[1]Սպիտակ!I49+[1]Ստեփանավան!I49 -> 0 | J49: =[1]Վանաձոր!J49+[1]Տաշիր!J49+[1]Ալավերդի!J49+[1]Սպիտակ!J49+[1]Ստեփանավան!J49 -> 0 | K49: =[1]Վանաձոր!K49+[1]Տաշիր!K49+[1]Ալավերդի!K49+[1]Սպիտակ!K49+[1]Ստեփանավան!K49 -> 0 | L49: =[1]Վանաձոր!L49+[1]Տաշիր!L49+[1]Ալավերդի!L49+[1]Սպիտակ!L49+[1]Ստեփանավան!L49 -> 0 | M49: =[1]Վանաձոր!M49+[1]Տաշիր!M49+[1]Ալավերդի!M49+[1]Սպիտակ!M49+[1]Ստեփանավան!M49 -> 0 | ... P49: =[1]Վանաձոր!P49+[1]Տաշիր!P49+[1]Ալավերդի!P49+[1]Սպիտակ!P49+[1]Ստեփանավան!P49 -> 0
A50: 0 | B50: 3.1 | C50: ´éÝ³µ³ñáõÃÛáõÝÁ | E50: 138 | F50: =[1]Վանաձոր!F50+[1]Տաշիր!F50+[1]Ալավերդի!F50+[1]Սպիտակ!F50+[1]Ստեփանավան!F50 -> 0 | G50: =[1]Վանաձոր!G50+[1]Տաշիր!G50+[1]Ալավերդի!G50+[1]Սպիտակ!G50+[1]Ստեփանավան!G50 -> 0 | H50: =[1]Վանաձոր!H50+[1]Տաշիր!H50+[1]Ալավերդի!H50+[1]Սպիտակ!H50+[1]Ստեփանավան!H50 -> 0 | I50: =[1]Վանաձոր!I50+[1]Տաշիր!I50+[1]Ալավերդի!I50+[1]Սպիտակ!I50+[1]Ստեփանավան!I50 -> 0 | J50: =[1]Վանաձոր!J50+[1]Տաշիր!J50+[1]Ալավերդի!J50+[1]Սպիտակ!J50+[1]Ստեփանավան!J50 -> 0 | K50: =[1]Վանաձոր!K50+[1]Տաշիր!K50+[1]Ալավերդի!K50+[1]Սպիտակ!K50+[1]Ստեփանավան!K50 -> 0 | L50: =[1]Վանաձոր!L50+[1]Տաշիր!L50+[1]Ալավերդի!L50+[1]Սպիտակ!L50+[1]Ստեփանավան!L50 -> 0 | M50: =[1]Վանաձոր!M50+[1]Տաշիր!M50+[1]Ալավերդի!M50+[1]Սպիտակ!M50+[1]Ստեփանավան!M50 -> 0 | ... P50: =[1]Վանաձոր!P50+[1]Տաշիր!P50+[1]Ալավերդի!P50+[1]Սպիտակ!P50+[1]Ստեփանավան!P50 -> 0
A51: 0 | B51: 3.2 | C51: ê»ùëáõ³É µÝáõÛÃÇ µéÝÇ ·áñÍáÕáõÃÛáõÝÝ»ñÁ | E51: 139 | F51: =[1]Վանաձոր!F51+[1]Տաշիր!F51+[1]Ալավերդի!F51+[1]Սպիտակ!F51+[1]Ստեփանավան!F51 -> 2 | G51: =[1]Վանաձոր!G51+[1]Տաշիր!G51+[1]Ալավերդի!G51+[1]Սպիտակ!G51+[1]Ստեփանավան!G51 -> 4 | H51: =[1]Վանաձոր!H51+[1]Տաշիր!H51+[1]Ալավերդի!H51+[1]Սպիտակ!H51+[1]Ստեփանավան!H51 -> 4 | I51: =[1]Վանաձոր!I51+[1]Տաշիր!I51+[1]Ալավերդի!I51+[1]Սպիտակ!I51+[1]Ստեփանավան!I51 -> 0 | J51: =[1]Վանաձոր!J51+[1]Տաշիր!J51+[1]Ալավերդի!J51+[1]Սպիտակ!J51+[1]Ստեփանավան!J51 -> 0 | K51: =[1]Վանաձոր!K51+[1]Տաշիր!K51+[1]Ալավերդի!K51+[1]Սպիտակ!K51+[1]Ստեփանավան!K51 -> 4 | L51: =[1]Վանաձոր!L51+[1]Տաշիր!L51+[1]Ալավերդի!L51+[1]Սպիտակ!L51+[1]Ստեփանավան!L51 -> 2 | M51: =[1]Վանաձոր!M51+[1]Տաշիր!M51+[1]Ալավերդի!M51+[1]Սպիտակ!M51+[1]Ստեփանավան!M51 -> 2 | ... P51: =[1]Վանաձոր!P51+[1]Տաշիր!P51+[1]Ալավերդի!P51+[1]Սպիտակ!P51+[1]Ստեփանավան!P51 -> 0
B52: 3.3 | C52: ê»ùëáõ³É µÝáõÛÃÇ ·áñÍáÕáõÃÛáõÝÝ»ñÇÝ Ñ³ñÏ³¹ñ»ÉÁ | E52: 140 | F52: =[1]Վանաձոր!F52+[1]Տաշիր!F52+[1]Ալավերդի!F52+[1]Սպիտակ!F52+[1]Ստեփանավան!F52 -> 1 | G52: =[1]Վանաձոր!G52+[1]Տաշիր!G52+[1]Ալավերդի!G52+[1]Սպիտակ!G52+[1]Ստեփանավան!G52 -> 0 | H52: =[1]Վանաձոր!H52+[1]Տաշիր!H52+[1]Ալավերդի!H52+[1]Սպիտակ!H52+[1]Ստեփանավան!H52 -> 1 | I52: =[1]Վանաձոր!I52+[1]Տաշիր!I52+[1]Ալավերդի!I52+[1]Սպիտակ!I52+[1]Ստեփանավան!I52 -> 0 | J52: =[1]Վանաձոր!J52+[1]Տաշիր!J52+[1]Ալավերդի!J52+[1]Սպիտակ!J52+[1]Ստեփանավան!J52 -> 0 | K52: =[1]Վանաձոր!K52+[1]Տաշիր!K52+[1]Ալավերդի!K52+[1]Սպիտակ!K52+[1]Ստեփանավան!K52 -> 1 | L52: =[1]Վանաձոր!L52+[1]Տաշիր!L52+[1]Ալավերդի!L52+[1]Սպիտակ!L52+[1]Ստեփանավան!L52 -> 1 | M52: =[1]Վանաձոր!M52+[1]Տաշիր!M52+[1]Ալավերդի!M52+[1]Սպիտակ!M52+[1]Ստեփանավան!M52 -> 0 | ... P52: =[1]Վանաձոր!P52+[1]Տաշիր!P52+[1]Ալավերդի!P52+[1]Սպիտակ!P52+[1]Ստեփանավան!P52 -> 0
B53: 3.4 | C53: ê»ùëáõ³É µÝáõÛÃÇ ·áñÍáÕáõÃÛáõÝÝ»ñ Ï³ï³ñ»ÉÁ ï³ëÝí»ó ï³ñÇÝ ãÉñ³ó³Í ³ÝÓÇ Ñ»ï | E53: 141 | F53: =[1]Վանաձոր!F53+[1]Տաշիր!F53+[1]Ալավերդի!F53+[1]Սպիտակ!F53+[1]Ստեփանավան!F53 -> 0 | G53: =[1]Վանաձոր!G53+[1]Տաշիր!G53+[1]Ալավերդի!G53+[1]Սպիտակ!G53+[1]Ստեփանավան!G53 -> 0 | H53: =[1]Վանաձոր!H53+[1]Տաշիր!H53+[1]Ալավերդի!H53+[1]Սպիտակ!H53+[1]Ստեփանավան!H53 -> 0 | I53: =[1]Վանաձոր!I53+[1]Տաշիր!I53+[1]Ալավերդի!I53+[1]Սպիտակ!I53+[1]Ստեփանավան!I53 -> 0 | J53: =[1]Վանաձոր!J53+[1]Տաշիր!J53+[1]Ալավերդի!J53+[1]Սպիտակ!J53+[1]Ստեփանավան!J53 -> 0 | K53: =[1]Վանաձոր!K53+[1]Տաշիր!K53+[1]Ալավերդի!K53+[1]Սպիտակ!K53+[1]Ստեփանավան!K53 -> 0 | L53: =[1]Վանաձոր!L53+[1]Տաշիր!L53+[1]Ալավերդի!L53+[1]Սպիտակ!L53+[1]Ստեփանավան!L53 -> 0 | M53: =[1]Վանաձոր!M53+[1]Տաշիր!M53+[1]Ալավերդի!M53+[1]Սպիտակ!M53+[1]Ստեփանավան!M53 -> 0 | ... P53: =[1]Վանաձոր!P53+[1]Տաշիր!P53+[1]Ալավերդի!P53+[1]Սպիտակ!P53+[1]Ստեփանավան!P53 -> 0
B54: 3.5 | C54: ²Ý³é³Ï³µ³ñá ·áñÍáÕáõÃÛáõÝÝ»ñÁ | E54: 142 | F54: =[1]Վանաձոր!F54+[1]Տաշիր!F54+[1]Ալավերդի!F54+[1]Սպիտակ!F54+[1]Ստեփանավան!F54 -> 1 | G54: =[1]Վանաձոր!G54+[1]Տաշիր!G54+[1]Ալավերդի!G54+[1]Սպիտակ!G54+[1]Ստեփանավան!G54 -> 3 | H54: =[1]Վանաձոր!H54+[1]Տաշիր!H54+[1]Ալավերդի!H54+[1]Սպիտակ!H54+[1]Ստեփանավան!H54 -> 3 | I54: =[1]Վանաձոր!I54+[1]Տաշիր!I54+[1]Ալավերդի!I54+[1]Սպիտակ!I54+[1]Ստեփանավան!I54 -> 1 | J54: =[1]Վանաձոր!J54+[1]Տաշիր!J54+[1]Ալավերդի!J54+[1]Սպիտակ!J54+[1]Ստեփանավան!J54 -> 0 | K54: =[1]Վանաձոր!K54+[1]Տաշիր!K54+[1]Ալավերդի!K54+[1]Սպիտակ!K54+[1]Ստեփանավան!K54 -> 4 | L54: =[1]Վանաձոր!L54+[1]Տաշիր!L54+[1]Ալավերդի!L54+[1]Սպիտակ!L54+[1]Ստեփանավան!L54 -> 4 | M54: =[1]Վանաձոր!M54+[1]Տաշիր!M54+[1]Ալավերդի!M54+[1]Սպիտակ!M54+[1]Ստեփանավան!M54 -> 0 | ... P54: =[1]Վանաձոր!P54+[1]Տաշիր!P54+[1]Ալավերդի!P54+[1]Սպիտակ!P54+[1]Ստեփանավան!P54 -> 0
B55: 3.6 | C55: ²ÛÉ Ñ³Ýó³·áñÍáõÃÛáõÝÝ»ñ | F55: =[1]Վանաձոր!F55+[1]Տաշիր!F55+[1]Ալավերդի!F55+[1]Սպիտակ!F55+[1]Ստեփանավան!F55 -> 0 | G55: =[1]Վանաձոր!G55+[1]Տաշիր!G55+[1]Ալավերդի!G55+[1]Սպիտակ!G55+[1]Ստեփանավան!G55 -> 1 | H55: =[1]Վանաձոր!H55+[1]Տաշիր!H55+[1]Ալավերդի!H55+[1]Սպիտակ!H55+[1]Ստեփանավան!H55 -> 1 | I55: =[1]Վանաձոր!I55+[1]Տաշիր!I55+[1]Ալավերդի!I55+[1]Սպիտակ!I55+[1]Ստեփանավան!I55 -> 0 | J55: =[1]Վանաձոր!J55+[1]Տաշիր!J55+[1]Ալավերդի!J55+[1]Սպիտակ!J55+[1]Ստեփանավան!J55 -> 0 | K55: =[1]Վանաձոր!K55+[1]Տաշիր!K55+[1]Ալավերդի!K55+[1]Սպիտակ!K55+[1]Ստեփանավան!K55 -> 1 | L55: =[1]Վանաձոր!L55+[1]Տաշիր!L55+[1]Ալավերդի!L55+[1]Սպիտակ!L55+[1]Ստեփանավան!L55 -> 0 | M55: =[1]Վանաձոր!M55+[1]Տաշիր!M55+[1]Ալավերդի!M55+[1]Սպիտակ!M55+[1]Ստեփանավան!M55 -> 1 | ... P55: =[1]Վանաձոր!P55+[1]Տաշիր!P55+[1]Ալավերդի!P55+[1]Սպիտակ!P55+[1]Ստեփանավան!P55 -> 0
B56: 4. | C56: ÀÝ¹³Ù»ÝÁ Ù³ñ¹áõ ¨ ù³Õ³ù³óáõ ë³ÑÙ³Ý³¹ñ³Ï³Ý Çñ³íáõÝùÝ»ñÇ ¨ ³½³ïáõÃÛáõÝÝ»ñÇ ¹»Ù áõÕÕí³Í Ñ³Ýó³·áñÍáõÃÛáõÝÝ»ñÁ | F56: =[1]Վանաձոր!F56+[1]Տաշիր!F56+[1]Ալավերդի!F56+[1]Սպիտակ!F56+[1]Ստեփանավան!F56 -> 0 | G56: =[1]Վանաձոր!G56+[1]Տաշիր!G56+[1]Ալավերդի!G56+[1]Սպիտակ!G56+[1]Ստեփանավան!G56 -> 0 | H56: =[1]Վանաձոր!H56+[1]Տաշիր!H56+[1]Ալավերդի!H56+[1]Սպիտակ!H56+[1]Ստեփանավան!H56 -> 0 | I56: =[1]Վանաձոր!I56+[1]Տաշիր!I56+[1]Ալավերդի!I56+[1]Սպիտակ!I56+[1]Ստեփանավան!I56 -> 0 | J56: =[1]Վանաձոր!J56+[1]Տաշիր!J56+[1]Ալավերդի!J56+[1]Սպիտակ!J56+[1]Ստեփանավան!J56 -> 0 | K56: =[1]Վանաձոր!K56+[1]Տաշիր!K56+[1]Ալավերդի!K56+[1]Սպիտակ!K56+[1]Ստեփանավան!K56 -> 0 | L56: =[1]Վանաձոր!L56+[1]Տաշիր!L56+[1]Ալավերդի!L56+[1]Սպիտակ!L56+[1]Ստեփանավան!L56 -> 0 | M56: =[1]Վանաձոր!M56+[1]Տաշիր!M56+[1]Ալավերդի!M56+[1]Սպիտակ!M56+[1]Ստեփանավան!M56 -> 0 | ... P56: =[1]Վանաձոր!P56+[1]Տաշիր!P56+[1]Ալավերդի!P56+[1]Սպիտակ!P56+[1]Ստեփանավան!P56 -> 0
B57: 4.1 | C57: ø³Õ³ù³óÇÝ»ñÇ Çñ³í³Ñ³í³ë³ñáõÃÛáõÝÁ Ë³Ëï»ÉÁ | E57: 143 | F57: =[1]Վանաձոր!F57+[1]Տաշիր!F57+[1]Ալավերդի!F57+[1]Սպիտակ!F57+[1]Ստեփանավան!F57 -> 0 | G57: =[1]Վանաձոր!G57+[1]Տաշիր!G57+[1]Ալավերդի!G57+[1]Սպիտակ!G57+[1]Ստեփանավան!G57 -> 0 | H57: =[1]Վանաձոր!H57+[1]Տաշիր!H57+[1]Ալավերդի!H57+[1]Սպիտակ!H57+[1]Ստեփանավան!H57 -> 0 | I57: =[1]Վանաձոր!I57+[1]Տաշիր!I57+[1]Ալավերդի!I57+[1]Սպիտակ!I57+[1]Ստեփանավան!I57 -> 0 | J57: =[1]Վանաձոր!J57+[1]Տաշիր!J57+[1]Ալավերդի!J57+[1]Սպիտակ!J57+[1]Ստեփանավան!J57 -> 0 | K57: =[1]Վանաձոր!K57+[1]Տաշիր!K57+[1]Ալավերդի!K57+[1]Սպիտակ!K57+[1]Ստեփանավան!K57 -> 0 | L57: =[1]Վանաձոր!L57+[1]Տաշիր!L57+[1]Ալավերդի!L57+[1]Սպիտակ!L57+[1]Ստեփանավան!L57 -> 0 | M57: =[1]Վանաձոր!M57+[1]Տաշիր!M57+[1]Ալավերդի!M57+[1]Սպիտակ!M57+[1]Ստեփանավան!M57 -> 0 | ... P57: =[1]Վանաձոր!P57+[1]Տաշիր!P57+[1]Ալավերդի!P57+[1]Սպիտակ!P57+[1]Ստեփանավան!P57 -> 0
B58: 4.2 | C58: ²ÝÓÝ³Ï³Ý Ï³Ù ÁÝï³Ý»Ï³Ý ÏÛ³ÝùÇ Ù³ëÇÝ ï»Õ»ÏáõÃÛáõÝÝ»ñ ³åûñÇÝÇ Ñ³í³ù»ÉÁ, å³Ñ»ÉÁ, û·ï³·áñÍ»ÉÁ Ï³Ù ï³ñ³Í»ÉÁ | E58: 144 | F58: =[1]Վանաձոր!F58+[1]Տաշիր!F58+[1]Ալավերդի!F58+[1]Սպիտակ!F58+[1]Ստեփանավան!F58 -> 0 | G58: =[1]Վանաձոր!G58+[1]Տաշիր!G58+[1]Ալավերդի!G58+[1]Սպիտակ!G58+[1]Ստեփանավան!G58 -> 0 | H58: =[1]Վանաձոր!H58+[1]Տաշիր!H58+[1]Ալավերդի!H58+[1]Սպիտակ!H58+[1]Ստեփանավան!H58 -> 0 | I58: =[1]Վանաձոր!I58+[1]Տաշիր!I58+[1]Ալավերդի!I58+[1]Սպիտակ!I58+[1]Ստեփանավան!I58 -> 0 | J58: =[1]Վանաձոր!J58+[1]Տաշիր!J58+[1]Ալավերդի!J58+[1]Սպիտակ!J58+[1]Ստեփանավան!J58 -> 0 | K58: =[1]Վանաձոր!K58+[1]Տաշիր!K58+[1]Ալավերդի!K58+[1]Սպիտակ!K58+[1]Ստեփանավան!K58 -> 0 | L58: =[1]Վանաձոր!L58+[1]Տաշիր!L58+[1]Ալավերդի!L58+[1]Սպիտակ!L58+[1]Ստեփանավան!L58 -> 0 | M58: =[1]Վանաձոր!M58+[1]Տաշիր!M58+[1]Ալավերդի!M58+[1]Սպիտակ!M58+[1]Ստեփանավան!M58 -> 0 | ... P58: =[1]Վանաձոր!P58+[1]Տաշիր!P58+[1]Ալավերդի!P58+[1]Սպիտակ!P58+[1]Ստեփանավան!P58 -> 0
B59: 4.3 | C59: ´ÅßÏ³Ï³Ý ·³ÕïÝÇùÁ Ññ³å³ñ³Ï»ÉÁ | E59: 145 | F59: =[1]Վանաձոր!F59+[1]Տաշիր!F59+[1]Ալավերդի!F59+[1]Սպիտակ!F59+[1]Ստեփանավան!F59 -> 0 | G59: =[1]Վանաձոր!G59+[1]Տաշիր!G59+[1]Ալավերդի!G59+[1]Սպիտակ!G59+[1]Ստեփանավան!G59 -> 0 | H59: =[1]Վանաձոր!H59+[1]Տաշիր!H59+[1]Ալավերդի!H59+[1]Սպիտակ!H59+[1]Ստեփանավան!H59 -> 0 | I59: =[1]Վանաձոր!I59+[1]Տաշիր!I59+[1]Ալավերդի!I59+[1]Սպիտակ!I59+[1]Ստեփանավան!I59 -> 0 | J59: =[1]Վանաձոր!J59+[1]Տաշիր!J59+[1]Ալավերդի!J59+[1]Սպիտակ!J59+[1]Ստեփանավան!J59 -> 0 | K59: =[1]Վանաձոր!K59+[1]Տաշիր!K59+[1]Ալավերդի!K59+[1]Սպիտակ!K59+[1]Ստեփանավան!K59 -> 0 | L59: =[1]Վանաձոր!L59+[1]Տաշիր!L59+[1]Ալավերդի!L59+[1]Սպիտակ!L59+[1]Ստեփանավան!L59 -> 0 | M59: =[1]Վանաձոր!M59+[1]Տաշիր!M59+[1]Ալավերդի!M59+[1]Սպիտակ!M59+[1]Ստեփանավան!M59 -> 0 | ... P59: =[1]Վանաձոր!P59+[1]Տաշիր!P59+[1]Ալավերդի!P59+[1]Սպիտակ!P59+[1]Ստեփանավան!P59 -> 0
B60: 4.4 | C60: Ü³Ù³Ï³·ñáõÃÛ³Ý, Ñ»é³Ëáë³ÛÇÝ Ëáë³ÏóáõÃÛáõÝÝ»ñÇ, ÷áëï³ÛÇÝ, Ñ»é³·ñ³Ï³Ý Ï³Ù ³ÛÉ Ñ³Õáñ¹áõÙÝ»ñÇ ·³ÕïÝÇáõÃÛáõÝÁ Ë³Ëï»ÉÁ | E60: 146 | F60: =[1]Վանաձոր!F60+[1]Տաշիր!F60+[1]Ալավերդի!F60+[1]Սպիտակ!F60+[1]Ստեփանավան!F60 -> 0 | G60: =[1]Վանաձոր!G60+[1]Տաշիր!G60+[1]Ալավերդի!G60+[1]Սպիտակ!G60+[1]Ստեփանավան!G60 -> 0 | H60: =[1]Վանաձոր!H60+[1]Տաշիր!H60+[1]Ալավերդի!H60+[1]Սպիտակ!H60+[1]Ստեփանավան!H60 -> 0 | I60: =[1]Վանաձոր!I60+[1]Տաշիր!I60+[1]Ալավերդի!I60+[1]Սպիտակ!I60+[1]Ստեփանավան!I60 -> 0 | J60: =[1]Վանաձոր!J60+[1]Տաշիր!J60+[1]Ալավերդի!J60+[1]Սպիտակ!J60+[1]Ստեփանավան!J60 -> 0 | K60: =[1]Վանաձոր!K60+[1]Տաշիր!K60+[1]Ալավերդի!K60+[1]Սպիտակ!K60+[1]Ստեփանավան!K60 -> 0 | L60: =[1]Վանաձոր!L60+[1]Տաշիր!L60+[1]Ալավերդի!L60+[1]Սպիտակ!L60+[1]Ստեփանավան!L60 -> 0 | M60: =[1]Վանաձոր!M60+[1]Տաշիր!M60+[1]Ալավերդի!M60+[1]Սպիտակ!M60+[1]Ստեփանավան!M60 -> 0 | ... P60: =[1]Վանաձոր!P60+[1]Տաշիր!P60+[1]Ալավերդի!P60+[1]Սպիտակ!P60+[1]Ստեփանավան!P60 -> 0
B61: 4.5 | C61: ´Ý³Ï³ñ³ÝÇ ³ÝÓ»éÝÙË»ÉÇáõÃÛáõÝÁ Ë³Ëï»ÉÁ | E61: 147 | F61: =[1]Վանաձոր!F61+[1]Տաշիր!F61+[1]Ալավերդի!F61+[1]Սպիտակ!F61+[1]Ստեփանավան!F61 -> 0 | G61: =[1]Վանաձոր!G61+[1]Տաշիր!G61+[1]Ալավերդի!G61+[1]Սպիտակ!G61+[1]Ստեփանավան!G61 -> 0 | H61: =[1]Վանաձոր!H61+[1]Տաշիր!H61+[1]Ալավերդի!H61+[1]Սպիտակ!H61+[1]Ստեփանավան!H61 -> 0 | I61: =[1]Վանաձոր!I61+[1]Տաշիր!I61+[1]Ալավերդի!I61+[1]Սպիտակ!I61+[1]Ստեփանավան!I61 -> 0 | J61: =[1]Վանաձոր!J61+[1]Տաշիր!J61+[1]Ալավերդի!J61+[1]Սպիտակ!J61+[1]Ստեփանավան!J61 -> 0 | K61: =[1]Վանաձոր!K61+[1]Տաշիր!K61+[1]Ալավերդի!K61+[1]Սպիտակ!K61+[1]Ստեփանավան!K61 -> 0 | L61: =[1]Վանաձոր!L61+[1]Տաշիր!L61+[1]Ալավերդի!L61+[1]Սպիտակ!L61+[1]Ստեփանավան!L61 -> 0 | M61: =[1]Վանաձոր!M61+[1]Տաշիր!M61+[1]Ալավերդի!M61+[1]Սպիտակ!M61+[1]Ստեփանավան!M61 -> 0 | ... P61: =[1]Վանաձոր!P61+[1]Տաշիր!P61+[1]Ալավերդի!P61+[1]Սպիտակ!P61+[1]Ստեփանավան!P61 -> 0
B62: 4.6 | C62: ²ÝÓÇÝ ï»Õ»ÏáõÃÛáõÝ Ý»ñÏ³Û³óÝ»Éáõó Ññ³Å³ñí»ÉÁ | E62: 148 | F62: =[1]Վանաձոր!F62+[1]Տաշիր!F62+[1]Ալավերդի!F62+[1]Սպիտակ!F62+[1]Ստեփանավան!F62 -> 0 | G62: =[1]Վանաձոր!G62+[1]Տաշիր!G62+[1]Ալավերդի!G62+[1]Սպիտակ!G62+[1]Ստեփանավան!G62 -> 1 | H62: =[1]Վանաձոր!H62+[1]Տաշիր!H62+[1]Ալավերդի!H62+[1]Սպիտակ!H62+[1]Ստեփանավան!H62 -> 1 | I62: =[1]Վանաձոր!I62+[1]Տաշիր!I62+[1]Ալավերդի!I62+[1]Սպիտակ!I62+[1]Ստեփանավան!I62 -> 0 | J62: =[1]Վանաձոր!J62+[1]Տաշիր!J62+[1]Ալավերդի!J62+[1]Սպիտակ!J62+[1]Ստեփանավան!J62 -> 0 | K62: =[1]Վանաձոր!K62+[1]Տաշիր!K62+[1]Ալավերդի!K62+[1]Սպիտակ!K62+[1]Ստեփանավան!K62 -> 1 | L62: =[1]Վանաձոր!L62+[1]Տաշիր!L62+[1]Ալավերդի!L62+[1]Սպիտակ!L62+[1]Ստեփանավան!L62 -> 1 | M62: =[1]Վանաձոր!M62+[1]Տաշիր!M62+[1]Ալավերդի!M62+[1]Սպիտակ!M62+[1]Ստեփանավան!M62 -> 0 | ... P62: =[1]Վանաձոր!P62+[1]Տաշիր!P62+[1]Ալավերդի!P62+[1]Սպիտակ!P62+[1]Ստեփանավան!P62 -> 0
B63: 4.7 | C63: ÀÝïñ³Ï³Ý Çñ³íáõÝùÇ Çñ³Ï³Ý³óÙ³ÝÁ, ÁÝïñ³Ï³Ý Ñ³ÝÓÝ³ÅáÕáíÝ»ñÇ ³ßË³ï³ÝùÝ»ñÇÝ Ï³Ù ÁÝïñáõÃÛ³ÝÁ Ù³ëÝ³ÏóáÕ ³ÝÓ³Ýó ÉÇ³½áñáõÃÛáõÝÝ»ñÇ Çñ³Ï³Ý³óÙ³ÝÁ ËáãÁÝ¹áï»ÉÁ | E63: 149 | F63: =[1]Վանաձոր!F63+[1]Տաշիր!F63+[1]Ալավերդի!F63+[1]Սպիտակ!F63+[1]Ստեփանավան!F63 -> 0 | G63: =[1]Վանաձոր!G63+[1]Տաշիր!G63+[1]Ալավերդի!G63+[1]Սպիտակ!G63+[1]Ստեփանավան!G63 -> 0 | H63: =[1]Վանաձոր!H63+[1]Տաշիր!H63+[1]Ալավերդի!H63+[1]Սպիտակ!H63+[1]Ստեփանավան!H63 -> 0 | I63: =[1]Վանաձոր!I63+[1]Տաշիր!I63+[1]Ալավերդի!I63+[1]Սպիտակ!I63+[1]Ստեփանավան!I63 -> 0 | J63: =[1]Վանաձոր!J63+[1]Տաշիր!J63+[1]Ալավերդի!J63+[1]Սպիտակ!J63+[1]Ստեփանավան!J63 -> 0 | K63: =[1]Վանաձոր!K63+[1]Տաշիր!K63+[1]Ալավերդի!K63+[1]Սպիտակ!K63+[1]Ստեփանավան!K63 -> 0 | L63: =[1]Վանաձոր!L63+[1]Տաշիր!L63+[1]Ալավերդի!L63+[1]Սպիտակ!L63+[1]Ստեփանավան!L63 -> 0 | M63: =[1]Վանաձոր!M63+[1]Տաշիր!M63+[1]Ալավերդի!M63+[1]Սպիտակ!M63+[1]Ստեփանավան!M63 -> 0 | ... P63: =[1]Վանաձոր!P63+[1]Տաշիր!P63+[1]Ալավերդի!P63+[1]Սպիտակ!P63+[1]Ստեփանավան!P63 -> 0
B64: 4.8 | C64: ÀÝïñáõÃÛáõÝÝ»ñÇ Ï³Ù ùí»³ñÏáõÃÛ³Ý ³ñ¹ÛáõÝùÝ»ñÁ Ï»ÕÍ»ÉÁ | E64: 150 | F64: =[1]Վանաձոր!F64+[1]Տաշիր!F64+[1]Ալավերդի!F64+[1]Սպիտակ!F64+[1]Ստեփանավան!F64 -> 0 | G64: =[1]Վանաձոր!G64+[1]Տաշիր!G64+[1]Ալավերդի!G64+[1]Սպիտակ!G64+[1]Ստեփանավան!G64 -> 0 | H64: =[1]Վանաձոր!H64+[1]Տաշիր!H64+[1]Ալավերդի!H64+[1]Սպիտակ!H64+[1]Ստեփանավան!H64 -> 0 | I64: =[1]Վանաձոր!I64+[1]Տաշիր!I64+[1]Ալավերդի!I64+[1]Սպիտակ!I64+[1]Ստեփանավան!I64 -> 0 | J64: =[1]Վանաձոր!J64+[1]Տաշիր!J64+[1]Ալավերդի!J64+[1]Սպիտակ!J64+[1]Ստեփանավան!J64 -> 0 | K64: =[1]Վանաձոր!K64+[1]Տաշիր!K64+[1]Ալավերդի!K64+[1]Սպիտակ!K64+[1]Ստեփանավան!K64 -> 0 | L64: =[1]Վանաձոր!L64+[1]Տաշիր!L64+[1]Ալավերդի!L64+[1]Սպիտակ!L64+[1]Ստեփանավան!L64 -> 0 | M64: =[1]Վանաձոր!M64+[1]Տաշիր!M64+[1]Ալավերդի!M64+[1]Սպիտակ!M64+[1]Ստեփանավան!M64 -> 0 | ... P64: =[1]Վանաձոր!P64+[1]Տաշիր!P64+[1]Ալավերդի!P64+[1]Սպիտակ!P64+[1]Ստեփանավան!P64 -> 0
B65: 4.9 | C65: ÀÝïñáõÃÛáõÝÝ»ñÇ ³ÝóÏ³óÙ³Ý ÁÝÃ³óùáõÙ Ã»ÏÝ³ÍáõÇ, Ïáõë³ÏóáõÃÛ³Ý (Ïáõë³ÏóáõÃÛáõÝÝ»ñÇ ¹³ßÇÝùÇ) í»ñ³µ»ñÛ³É ½ñå³ñïã³Ï³Ý ï»Õ»ÏáõÃÛáõÝÝ»ñ ï³ñ³Í»ÉÁ | E65: 151 | F65: =[1]Վանաձոր!F65+[1]Տաշիր!F65+[1]Ալավերդի!F65+[1]Սպիտակ!F65+[1]Ստեփանավան!F65 -> 0 | G65: =[1]Վանաձոր!G65+[1]Տաշիր!G65+[1]Ալավերդի!G65+[1]Սպիտակ!G65+[1]Ստեփանավան!G65 -> 0 | H65: =[1]Վանաձոր!H65+[1]Տաշիր!H65+[1]Ալավերդի!H65+[1]Սպիտակ!H65+[1]Ստեփանավան!H65 -> 0 | I65: =[1]Վանաձոր!I65+[1]Տաշիր!I65+[1]Ալավերդի!I65+[1]Սպիտակ!I65+[1]Ստեփանավան!I65 -> 0 | J65: =[1]Վանաձոր!J65+[1]Տաշիր!J65+[1]Ալավերդի!J65+[1]Սպիտակ!J65+[1]Ստեփանավան!J65 -> 0 | K65: =[1]Վանաձոր!K65+[1]Տաշիր!K65+[1]Ալավերդի!K65+[1]Սպիտակ!K65+[1]Ստեփանավան!K65 -> 0 | L65: =[1]Վանաձոր!L65+[1]Տաշիր!L65+[1]Ալավերդի!L65+[1]Սպիտակ!L65+[1]Ստեփանավան!L65 -> 0 | M65: =[1]Վանաձոր!M65+[1]Տաշիր!M65+[1]Ալավերդի!M65+[1]Սպիտակ!M65+[1]Ստեփանավան!M65 -> 0 | ... P65: =[1]Վանաձոր!P65+[1]Տաշիր!P65+[1]Ալավերդի!P65+[1]Սպիտակ!P65+[1]Ստեփանավան!P65 -> 0
B66: 4.10 | C66: ÀÝïñáÕÝ»ñÇ óáõó³ÏÝ»ñÁ Ï³½Ù»Éáõ Ï³ñ·Á Ë³Ëï»ÉÁ | E66: 152 | F66: =[1]Վանաձոր!F66+[1]Տաշիր!F66+[1]Ալավերդի!F66+[1]Սպիտակ!F66+[1]Ստեփանավան!F66 -> 0 | G66: =[1]Վանաձոր!G66+[1]Տաշիր!G66+[1]Ալավերդի!G66+[1]Սպիտակ!G66+[1]Ստեփանավան!G66 -> 0 | H66: =[1]Վանաձոր!H66+[1]Տաշիր!H66+[1]Ալավերդի!H66+[1]Սպիտակ!H66+[1]Ստեփանավան!H66 -> 0 | I66: =[1]Վանաձոր!I66+[1]Տաշիր!I66+[1]Ալավերդի!I66+[1]Սպիտակ!I66+[1]Ստեփանավան!I66 -> 0 | J66: =[1]Վանաձոր!J66+[1]Տաշիր!J66+[1]Ալավերդի!J66+[1]Սպիտակ!J66+[1]Ստեփանավան!J66 -> 0 | K66: =[1]Վանաձոր!K66+[1]Տաշիր!K66+[1]Ալավերդի!K66+[1]Սպիտակ!K66+[1]Ստեփանավան!K66 -> 0 | L66: =[1]Վանաձոր!L66+[1]Տաշիր!L66+[1]Ալավերդի!L66+[1]Սպիտակ!L66+[1]Ստեփանավան!L66 -> 0 | M66: =[1]Վանաձոր!M66+[1]Տաշիր!M66+[1]Ալավերդի!M66+[1]Սպիտակ!M66+[1]Ստեփանավան!M66 -> 0 | ... P66: =[1]Վանաձոր!P66+[1]Տաշիր!P66+[1]Ալավերդի!P66+[1]Սպիտակ!P66+[1]Ստեփանավան!P66 -> 0
B67: 4.11 | C67: Ø»ÏÇó ³í»ÉÇ ³Ý·³Ù Ï³Ù ³ÛÉ ³ÝÓÇ ÷áË³ñ»Ý ùí»³ñÏ»ÉÁ | E67: 153 | F67: =[1]Վանաձոր!F67+[1]Տաշիր!F67+[1]Ալավերդի!F67+[1]Սպիտակ!F67+[1]Ստեփանավան!F67 -> 0 | G67: =[1]Վանաձոր!G67+[1]Տաշիր!G67+[1]Ալավերդի!G67+[1]Սպիտակ!G67+[1]Ստեփանավան!G67 -> 0 | H67: =[1]Վանաձոր!H67+[1]Տաշիր!H67+[1]Ալավերդի!H67+[1]Սպիտակ!H67+[1]Ստեփանավան!H67 -> 0 | I67: =[1]Վանաձոր!I67+[1]Տաշիր!I67+[1]Ալավերդի!I67+[1]Սպիտակ!I67+[1]Ստեփանավան!I67 -> 0 | J67: =[1]Վանաձոր!J67+[1]Տաշիր!J67+[1]Ալավերդի!J67+[1]Սպիտակ!J67+[1]Ստեփանավան!J67 -> 0 | K67: =[1]Վանաձոր!K67+[1]Տաշիր!K67+[1]Ալավերդի!K67+[1]Սպիտակ!K67+[1]Ստեփանավան!K67 -> 0 | L67: =[1]Վանաձոր!L67+[1]Տաշիր!L67+[1]Ալավերդի!L67+[1]Սպիտակ!L67+[1]Ստեփանավան!L67 -> 0 | M67: =[1]Վանաձոր!M67+[1]Տաշիր!M67+[1]Ալավերդի!M67+[1]Սպիտակ!M67+[1]Ստեփանավան!M67 -> 0 | ... P67: =[1]Վանաձոր!P67+[1]Տաշիր!P67+[1]Ալավերդի!P67+[1]Սպիտակ!P67+[1]Ստեփանավան!P67 -> 0
A68: 0 | B68: 4.12 | C68: øí»³ñÏáõÃÛ³Ý ·³ÕïÝÇáõÃÛáõÝÁ Ë³Ëï»ÉÁ | E68: 154 | F68: =[1]Վանաձոր!F68+[1]Տաշիր!F68+[1]Ալավերդի!F68+[1]Սպիտակ!F68+[1]Ստեփանավան!F68 -> 0 | G68: =[1]Վանաձոր!G68+[1]Տաշիր!G68+[1]Ալավերդի!G68+[1]Սպիտակ!G68+[1]Ստեփանավան!G68 -> 0 | H68: =[1]Վանաձոր!H68+[1]Տաշիր!H68+[1]Ալավերդի!H68+[1]Սպիտակ!H68+[1]Ստեփանավան!H68 -> 0 | I68: =[1]Վանաձոր!I68+[1]Տաշիր!I68+[1]Ալավերդի!I68+[1]Սպիտակ!I68+[1]Ստեփանավան!I68 -> 0 | J68: =[1]Վանաձոր!J68+[1]Տաշիր!J68+[1]Ալավերդի!J68+[1]Սպիտակ!J68+[1]Ստեփանավան!J68 -> 0 | K68: =[1]Վանաձոր!K68+[1]Տաշիր!K68+[1]Ալավերդի!K68+[1]Սպիտակ!K68+[1]Ստեփանավան!K68 -> 0 | L68: =[1]Վանաձոր!L68+[1]Տաշիր!L68+[1]Ալավերդի!L68+[1]Սպիտակ!L68+[1]Ստեփանավան!L68 -> 0 | M68: =[1]Վանաձոր!M68+[1]Տաշիր!M68+[1]Ալավերդի!M68+[1]Սպիտակ!M68+[1]Ստեփանավան!M68 -> 0 | ... P68: =[1]Վանաձոր!P68+[1]Տաշիր!P68+[1]Ալավերդի!P68+[1]Սպիտակ!P68+[1]Ստեփանավան!P68 -> 0
B69: 4.13 | C69: Î»ÕÍ ÁÝïñ³Ï³Ý Ã»ñÃÇÏÝ»ñ Ï³Ù ùí»³ñÏáõÃÛ³Ý Íñ³ñÝ»ñ å³ïñ³ëï»ÉÁ Ï³Ù ³ÏÝÑ³Ûï Ï»ÕÍ ÁÝïñ³Ï³Ý ùí»³Ã»ñÃÇÏÝ»ñ Ï³Ù ùí»³ñÏáõÃÛ³Ý Íñ³ñÝ»ñ Ñ³ÝÓÝ»ÉÁ Ï³Ù Çñ³óÝ»ÉÁ | E69: 154.1 | F69: =[1]Վանաձոր!F69+[1]Տաշիր!F69+[1]Ալավերդի!F69+[1]Սպիտակ!F69+[1]Ստեփանավան!F69 -> 0 | G69: =[1]Վանաձոր!G69+[1]Տաշիր!G69+[1]Ալավերդի!G69+[1]Սպիտակ!G69+[1]Ստեփանավան!G69 -> 0 | H69: =[1]Վանաձոր!H69+[1]Տաշիր!H69+[1]Ալավերդի!H69+[1]Սպիտակ!H69+[1]Ստեփանավան!H69 -> 0 | I69: =[1]Վանաձոր!I69+[1]Տաշիր!I69+[1]Ալավերդի!I69+[1]Սպիտակ!I69+[1]Ստեփանավան!I69 -> 0 | J69: =[1]Վանաձոր!J69+[1]Տաշիր!J69+[1]Ալավերդի!J69+[1]Սպիտակ!J69+[1]Ստեփանավան!J69 -> 0 | K69: =[1]Վանաձոր!K69+[1]Տաշիր!K69+[1]Ալավերդի!K69+[1]Սպիտակ!K69+[1]Ստեփանավան!K69 -> 0 | L69: =[1]Վանաձոր!L69+[1]Տաշիր!L69+[1]Ալավերդի!L69+[1]Սպիտակ!L69+[1]Ստեփանավան!L69 -> 0 | M69: =[1]Վանաձոր!M69+[1]Տաշիր!M69+[1]Ալավերդի!M69+[1]Սպիտակ!M69+[1]Ստեփանավան!M69 -> 0 | ... P69: =[1]Վանաձոր!P69+[1]Տաշիր!P69+[1]Ալավերդի!P69+[1]Սպիտակ!P69+[1]Ստեփանավան!P69 -> 0
B70: 4.14 | C70: ÀÝïñáÕÇ Ï³ÙùÇ ³½³ï Çñ³Ï³Ý³óÙ³ÝÁ ËáãÁÝ¹áï»ÉÁ | E70: 154.2 | F70: =[1]Վանաձոր!F70+[1]Տաշիր!F70+[1]Ալավերդի!F70+[1]Սպիտակ!F70+[1]Ստեփանավան!F70 -> 0 | G70: =[1]Վանաձոր!G70+[1]Տաշիր!G70+[1]Ալավերդի!G70+[1]Սպիտակ!G70+[1]Ստեփանավան!G70 -> 0 | H70: =[1]Վանաձոր!H70+[1]Տաշիր!H70+[1]Ալավերդի!H70+[1]Սպիտակ!H70+[1]Ստեփանավան!H70 -> 0 | I70: =[1]Վանաձոր!I70+[1]Տաշիր!I70+[1]Ալավերդի!I70+[1]Սպիտակ!I70+[1]Ստեփանավան!I70 -> 0 | J70: =[1]Վանաձոր!J70+[1]Տաշիր!J70+[1]Ալավերդի!J70+[1]Սպիտակ!J70+[1]Ստեփանավան!J70 -> 0 | K70: =[1]Վանաձոր!K70+[1]Տաշիր!K70+[1]Ալավերդի!K70+[1]Սպիտակ!K70+[1]Ստեփանավան!K70 -> 0 | L70: =[1]Վանաձոր!L70+[1]Տաշիր!L70+[1]Ալավերդի!L70+[1]Սպիտակ!L70+[1]Ստեփանավան!L70 -> 0 | M70: =[1]Վանաձոր!M70+[1]Տաշիր!M70+[1]Ալավերդի!M70+[1]Սպիտակ!M70+[1]Ստեփանավան!M70 -> 0 | ... P70: =[1]Վանաձոր!P70+[1]Տաշիր!P70+[1]Ալավերդի!P70+[1]Սպիտակ!P70+[1]Ստեփանավան!P70 -> 0
B71: 4.15 | C71: ÀÝïñ³Ï³Ý Ñ³ÝÓÝ³ÅáÕáíÇ ÏÝÇùÁ ãí»ñ³¹³ñÓÝ»ÉÁ, ÏÝÇùÇ å³Ñå³ÝÙ³Ý ë³ÑÙ³Ýí³Í Ï³ñ·Á Ë³Ëï»ÉÁ | E71: 154.3 | F71: =[1]Վանաձոր!F71+[1]Տաշիր!F71+[1]Ալավերդի!F71+[1]Սպիտակ!F71+[1]Ստեփանավան!F71 -> 0 | G71: =[1]Վանաձոր!G71+[1]Տաշիր!G71+[1]Ալավերդի!G71+[1]Սպիտակ!G71+[1]Ստեփանավան!G71 -> 0 | H71: =[1]Վանաձոր!H71+[1]Տաշիր!H71+[1]Ալավերդի!H71+[1]Սպիտակ!H71+[1]Ստեփանավան!H71 -> 0 | I71: =[1]Վանաձոր!I71+[1]Տաշիր!I71+[1]Ալավերդի!I71+[1]Սպիտակ!I71+[1]Ստեփանավան!I71 -> 0 | J71: =[1]Վանաձոր!J71+[1]Տաշիր!J71+[1]Ալավերդի!J71+[1]Սպիտակ!J71+[1]Ստեփանավան!J71 -> 0 | K71: =[1]Վանաձոր!K71+[1]Տաշիր!K71+[1]Ալավերդի!K71+[1]Սպիտակ!K71+[1]Ստեփանավան!K71 -> 0 | L71: =[1]Վանաձոր!L71+[1]Տաշիր!L71+[1]Ալավերդի!L71+[1]Սպիտակ!L71+[1]Ստեփանավան!L71 -> 0 | M71: =[1]Վանաձոր!M71+[1]Տաշիր!M71+[1]Ալավերդի!M71+[1]Սպիտակ!M71+[1]Ստեփանավան!M71 -> 0 | ... P71: =[1]Վանաձոր!P71+[1]Տաշիր!P71+[1]Ալավերդի!P71+[1]Սպիտակ!P71+[1]Ստեփանավան!P71 -> 0
B72: 4.16 | C72: ¼»Ýùáíª ï»Õ³Ù³ë³ÛÇÝ Ï»ÝïñáÝ Ùáõïù ·áñÍ»ÉÁ | E72: 154.4 | F72: =[1]Վանաձոր!F72+[1]Տաշիր!F72+[1]Ալավերդի!F72+[1]Սպիտակ!F72+[1]Ստեփանավան!F72 -> 0 | G72: =[1]Վանաձոր!G72+[1]Տաշիր!G72+[1]Ալավերդի!G72+[1]Սպիտակ!G72+[1]Ստեփանավան!G72 -> 0 | H72: =[1]Վանաձոր!H72+[1]Տաշիր!H72+[1]Ալավերդի!H72+[1]Սպիտակ!H72+[1]Ստեփանավան!H72 -> 0 | I72: =[1]Վանաձոր!I72+[1]Տաշիր!I72+[1]Ալավերդի!I72+[1]Սպիտակ!I72+[1]Ստեփանավան!I72 -> 0 | J72: =[1]Վանաձոր!J72+[1]Տաշիր!J72+[1]Ալավերդի!J72+[1]Սպիտակ!J72+[1]Ստեփանավան!J72 -> 0 | K72: =[1]Վանաձոր!K72+[1]Տաշիր!K72+[1]Ալավերդի!K72+[1]Սպիտակ!K72+[1]Ստեփանավան!K72 -> 0 | L72: =[1]Վանաձոր!L72+[1]Տաշիր!L72+[1]Ալավերդի!L72+[1]Սպիտակ!L72+[1]Ստեփանավան!L72 -> 0 | M72: =[1]Վանաձոր!M72+[1]Տաշիր!M72+[1]Ալավերդի!M72+[1]Սպիտակ!M72+[1]Ստեփանավան!M72 -> 0 | ... P72: =[1]Վանաձոր!P72+[1]Տաշիր!P72+[1]Ալավերդի!P72+[1]Սպիտակ!P72+[1]Ստեփանավան!P72 -> 0
B73: 4.17 | C73: ìëï³Ñí³Í ³ÝÓÇÝ,ÁÝïñ³Ï³Ý Ñ³ÝÓÝ³ÅáÕáíÇ ³Ý¹³ÙÇÝ,¹Çïáñ¹ÇÝ Ï³Ù ½³Ý·í³Í³ÛÇÝ Éñ³ïíáõÃÛ³Ý ÙÇçáóÇ Ý»ñÏ³Û³óáõóãÇÝ ÁÝïñ³Ï³Ý ÷³ëï³ÃÕÃ»ñÇÝ Í³ÝáÃ³Ý³ÉáõÝ ËáãÁÝ¹áï»ÉÁ, ÁÝïñ³Ï³Ý Ñ³ÝÓÝ³ÅáÕáíÇ ³ñÓ³Ý³·ñáõÃÛáõÝÝ»ñÇ å³ï×»ÝÝ»ñ ãï³ÉÁ | E73: 154.5 | F73: =[1]Վանաձոր!F73+[1]Տաշիր!F73+[1]Ալավերդի!F73+[1]Սպիտակ!F73+[1]Ստեփանավան!F73 -> 0 | G73: =[1]Վանաձոր!G73+[1]Տաշիր!G73+[1]Ալավերդի!G73+[1]Սպիտակ!G73+[1]Ստեփանավան!G73 -> 0 | H73: =[1]Վանաձոր!H73+[1]Տաշիր!H73+[1]Ալավերդի!H73+[1]Սպիտակ!H73+[1]Ստեփանավան!H73 -> 0 | I73: =[1]Վանաձոր!I73+[1]Տաշիր!I73+[1]Ալավերդի!I73+[1]Սպիտակ!I73+[1]Ստեփանավան!I73 -> 0 | J73: =[1]Վանաձոր!J73+[1]Տաշիր!J73+[1]Ալավերդի!J73+[1]Սպիտակ!J73+[1]Ստեփանավան!J73 -> 0 | K73: =[1]Վանաձոր!K73+[1]Տաշիր!K73+[1]Ալավերդի!K73+[1]Սպիտակ!K73+[1]Ստեփանավան!K73 -> 0 | L73: =[1]Վանաձոր!L73+[1]Տաշիր!L73+[1]Ալավերդի!L73+[1]Սպիտակ!L73+[1]Ստեփանավան!L73 -> 0 | M73: =[1]Վանաձոր!M73+[1]Տաշիր!M73+[1]Ալավերդի!M73+[1]Սպիտակ!M73+[1]Ստեփանավան!M73 -> 0 | ... P73: =[1]Վանաձոր!P73+[1]Տաշիր!P73+[1]Ալավերդի!P73+[1]Սպիտակ!P73+[1]Ստեփանավան!P73 -> 0
B74: 4.18 | C74: ¶áñÍ³¹áõÉÇ Ù³ëÝ³Ïó»ÉáõÝ Ï³Ù ·áñÍ³¹áõÉÇ Ù³ëÝ³Ïó»Éáõó Ññ³Å³ñí»ÉáõÝ Ñ³ñÏ³¹ñ»ÉÁ | E74: 155 | F74: =[1]Վանաձոր!F74+[1]Տաշիր!F74+[1]Ալավերդի!F74+[1]Սպիտակ!F74+[1]Ստեփանավան!F74 -> 0 | G74: =[1]Վանաձոր!G74+[1]Տաշիր!G74+[1]Ալավերդի!G74+[1]Սպիտակ!G74+[1]Ստեփանավան!G74 -> 0 | H74: =[1]Վանաձոր!H74+[1]Տաշիր!H74+[1]Ալավերդի!H74+[1]Սպիտակ!H74+[1]Ստեփանավան!H74 -> 0 | I74: =[1]Վանաձոր!I74+[1]Տաշիր!I74+[1]Ալավերդի!I74+[1]Սպիտակ!I74+[1]Ստեփանավան!I74 -> 0 | J74: =[1]Վանաձոր!J74+[1]Տաշիր!J74+[1]Ալավերդի!J74+[1]Սպիտակ!J74+[1]Ստեփանավան!J74 -> 0 | K74: =[1]Վանաձոր!K74+[1]Տաշիր!K74+[1]Ալավերդի!K74+[1]Սպիտակ!K74+[1]Ստեփանավան!K74 -> 0 | L74: =[1]Վանաձոր!L74+[1]Տաշիր!L74+[1]Ալավերդի!L74+[1]Սպիտակ!L74+[1]Ստեփանավան!L74 -> 0 | M74: =[1]Վանաձոր!M74+[1]Տաշիր!M74+[1]Ալավերդի!M74+[1]Սպիտակ!M74+[1]Ստեփանավան!M74 -> 0 | ... P74: =[1]Վանաձոր!P74+[1]Տաշիր!P74+[1]Ալավերդի!P74+[1]Սպիտակ!P74+[1]Ստեփանավան!P74 -> 0
B75: 4.19 | C75: ÐÕÇ ÏÝáçÁ Ï³Ù ÙÇÝã¨ »ñ»ù ï³ñ»Ï³Ý »ñ»Ë³ áõÝ»óáÕ ³ÝÓÇÝ ³ßË³ï³ÝùÇ ÁÝ¹áõÝ»Éáõõó Ññ³Å³ñí»ÉÁ Ï³Ù ³ßË³ï³ÝùÇó ³ÝÑÇÙÝ ³½³ï»ÉÁ | E75: 156 | F75: =[1]Վանաձոր!F75+[1]Տաշիր!F75+[1]Ալավերդի!F75+[1]Սպիտակ!F75+[1]Ստեփանավան!F75 -> 0 | G75: =[1]Վանաձոր!G75+[1]Տաշիր!G75+[1]Ալավերդի!G75+[1]Սպիտակ!G75+[1]Ստեփանավան!G75 -> 0 | H75: =[1]Վանաձոր!H75+[1]Տաշիր!H75+[1]Ալավերդի!H75+[1]Սպիտակ!H75+[1]Ստեփանավան!H75 -> 0 | I75: =[1]Վանաձոր!I75+[1]Տաշիր!I75+[1]Ալավերդի!I75+[1]Սպիտակ!I75+[1]Ստեփանավան!I75 -> 0 | J75: =[1]Վանաձոր!J75+[1]Տաշիր!J75+[1]Ալավերդի!J75+[1]Սպիտակ!J75+[1]Ստեփանավան!J75 -> 0 | K75: =[1]Վանաձոր!K75+[1]Տաշիր!K75+[1]Ալավերդի!K75+[1]Սպիտակ!K75+[1]Ստեփանավան!K75 -> 0 | L75: =[1]Վանաձոր!L75+[1]Տաշիր!L75+[1]Ալավերդի!L75+[1]Սպիտակ!L75+[1]Ստեփանավան!L75 -> 0 | M75: =[1]Վանաձոր!M75+[1]Տաշիր!M75+[1]Ալավերդի!M75+[1]Սպիտակ!M75+[1]Ստեփանավան!M75 -> 0 | ... P75: =[1]Վանաձոր!P75+[1]Տաշիր!P75+[1]Ալավերդի!P75+[1]Սպիտակ!P75+[1]Ստեփանավան!P75 -> 0
B76: 4.20 | C76: ²ßË³ï³ÝùÇ å³ßïå³ÝáõÃÛ³Ý Ï³ÝáÝÝ»ñÁ Ë³Ëï»ÉÁ | E76: 157 | F76: =[1]Վանաձոր!F76+[1]Տաշիր!F76+[1]Ալավերդի!F76+[1]Սպիտակ!F76+[1]Ստեփանավան!F76 -> 0 | G76: =[1]Վանաձոր!G76+[1]Տաշիր!G76+[1]Ալավերդի!G76+[1]Սպիտակ!G76+[1]Ստեփանավան!G76 -> 0 | H76: =[1]Վանաձոր!H76+[1]Տաշիր!H76+[1]Ալավերդի!H76+[1]Սպիտակ!H76+[1]Ստեփանավան!H76 -> 0 | I76: =[1]Վանաձոր!I76+[1]Տաշիր!I76+[1]Ալավերդի!I76+[1]Սպիտակ!I76+[1]Ստեփանավան!I76 -> 0 | J76: =[1]Վանաձոր!J76+[1]Տաշիր!J76+[1]Ալավերդի!J76+[1]Սպիտակ!J76+[1]Ստեփանավան!J76 -> 0 | K76: =[1]Վանաձոր!K76+[1]Տաշիր!K76+[1]Ալավերդի!K76+[1]Սպիտակ!K76+[1]Ստեփանավան!K76 -> 0 | L76: =[1]Վանաձոր!L76+[1]Տաշիր!L76+[1]Ալավերդի!L76+[1]Սպիտակ!L76+[1]Ստեփանավան!L76 -> 0 | M76: =[1]Վանաձոր!M76+[1]Տաշիր!M76+[1]Ալավերդի!M76+[1]Սպիտակ!M76+[1]Ստեփանավան!M76 -> 0 | ... P76: =[1]Վանաձոր!P76+[1]Տաշիր!P76+[1]Ալավերդի!P76+[1]Սպիտակ!P76+[1]Ստեփանավան!P76 -> 0
B77: 4.21 | C77: Ð»ÕÇÝ³Ï³ÛÇÝ ¨ Ñ³ñ³ÏÇó Çñ³íáõÝùÝ»ñÁ Ë³Ëï»ÉÁ | E77: 158 | F77: =[1]Վանաձոր!F77+[1]Տաշիր!F77+[1]Ալավերդի!F77+[1]Սպիտակ!F77+[1]Ստեփանավան!F77 -> 0 | G77: =[1]Վանաձոր!G77+[1]Տաշիր!G77+[1]Ալավերդի!G77+[1]Սպիտակ!G77+[1]Ստեփանավան!G77 -> 0 | H77: =[1]Վանաձոր!H77+[1]Տաշիր!H77+[1]Ալավերդի!H77+[1]Սպիտակ!H77+[1]Ստեփանավան!H77 -> 0 | I77: =[1]Վանաձոր!I77+[1]Տաշիր!I77+[1]Ալավերդի!I77+[1]Սպիտակ!I77+[1]Ստեփանավան!I77 -> 0 | J77: =[1]Վանաձոր!J77+[1]Տաշիր!J77+[1]Ալավերդի!J77+[1]Սպիտակ!J77+[1]Ստեփանավան!J77 -> 0 | K77: =[1]Վանաձոր!K77+[1]Տաշիր!K77+[1]Ալավերդի!K77+[1]Սպիտակ!K77+[1]Ստեփանավան!K77 -> 0 | L77: =[1]Վանաձոր!L77+[1]Տաշիր!L77+[1]Ալավերդի!L77+[1]Սպիտակ!L77+[1]Ստեփանավան!L77 -> 0 | M77: =[1]Վանաձոր!M77+[1]Տաշիր!M77+[1]Ալավերդի!M77+[1]Սպիտակ!M77+[1]Ստեփանավան!M77 -> 0 | ... P77: =[1]Վանաձոր!P77+[1]Տաշիր!P77+[1]Ալավերդի!P77+[1]Սպիտակ!P77+[1]Ստեփանավան!P77 -> 0
B78: 4.22 | C78: ²ñïáÝ³·ñ³ÛÇÝ Çñ³íáõÝùÁ Ë³Ëï»ÉÁ | E78: 159 | F78: =[1]Վանաձոր!F78+[1]Տաշիր!F78+[1]Ալավերդի!F78+[1]Սպիտակ!F78+[1]Ստեփանավան!F78 -> 0 | G78: =[1]Վանաձոր!G78+[1]Տաշիր!G78+[1]Ալավերդի!G78+[1]Սպիտակ!G78+[1]Ստեփանավան!G78 -> 0 | H78: =[1]Վանաձոր!H78+[1]Տաշիր!H78+[1]Ալավերդի!H78+[1]Սպիտակ!H78+[1]Ստեփանավան!H78 -> 0 | I78: =[1]Վանաձոր!I78+[1]Տաշիր!I78+[1]Ալավերդի!I78+[1]Սպիտակ!I78+[1]Ստեփանավան!I78 -> 0 | J78: =[1]Վանաձոր!J78+[1]Տաշիր!J78+[1]Ալավերդի!J78+[1]Սպիտակ!J78+[1]Ստեփանավան!J78 -> 0 | K78: =[1]Վանաձոր!K78+[1]Տաշիր!K78+[1]Ալավերդի!K78+[1]Սպիտակ!K78+[1]Ստեփանավան!K78 -> 0 | L78: =[1]Վանաձոր!L78+[1]Տաշիր!L78+[1]Ալավերդի!L78+[1]Սպիտակ!L78+[1]Ստեփանավան!L78 -> 0 | M78: =[1]Վանաձոր!M78+[1]Տաշիր!M78+[1]Ալավերդի!M78+[1]Սպիտակ!M78+[1]Ստեփանավան!M78 -> 0 | ... P78: =[1]Վանաձոր!P78+[1]Տաշիր!P78+[1]Ալավերդի!P78+[1]Սպիտակ!P78+[1]Ստեփանավան!P78 -> 0
B79: 4.23 | C79: ÊÕ×Ç Ï³Ù ¹³í³Ý³ÝùÇ ³½³ïáõÃÛ³Ý Çñ³íáõÝùÇ Çñ³Ï³Ý³óÙ³ÝÁ ËáãÁÝ¹áï»ÉÁ | E79: 160 | F79: =[1]Վանաձոր!F79+[1]Տաշիր!F79+[1]Ալավերդի!F79+[1]Սպիտակ!F79+[1]Ստեփանավան!F79 -> 0 | G79: =[1]Վանաձոր!G79+[1]Տաշիր!G79+[1]Ալավերդի!G79+[1]Սպիտակ!G79+[1]Ստեփանավան!G79 -> 0 | H79: =[1]Վանաձոր!H79+[1]Տաշիր!H79+[1]Ալավերդի!H79+[1]Սպիտակ!H79+[1]Ստեփանավան!H79 -> 0 | I79: =[1]Վանաձոր!I79+[1]Տաշիր!I79+[1]Ալավերդի!I79+[1]Սպիտակ!I79+[1]Ստեփանավան!I79 -> 0 | J79: =[1]Վանաձոր!J79+[1]Տաշիր!J79+[1]Ալավերդի!J79+[1]Սպիտակ!J79+[1]Ստեփանավան!J79 -> 0 | K79: =[1]Վանաձոր!K79+[1]Տաշիր!K79+[1]Ալավերդի!K79+[1]Սպիտակ!K79+[1]Ստեփանավան!K79 -> 0 | L79: =[1]Վանաձոր!L79+[1]Տաշիր!L79+[1]Ալավերդի!L79+[1]Սպիտակ!L79+[1]Ստեփանավան!L79 -> 0 | M79: =[1]Վանաձոր!M79+[1]Տաշիր!M79+[1]Ալավերդի!M79+[1]Սպիտակ!M79+[1]Ստեփանավան!M79 -> 0 | ... P79: =[1]Վանաձոր!P79+[1]Տաշիր!P79+[1]Ալավերդի!P79+[1]Սպիտակ!P79+[1]Ստեփանավան!P79 -> 0
B80: 4.24 | C80: ØÇ³íáñáõÙÝ»ñ (Ñ³ë³ñ³Ï³Ï³Ý Ï³Ù ³ñÑ»ëï³Ïó³Ï³Ý ÙÇáõÃÛáõÝÝ»ñ) Ï³½Ù»Éáõ Ï³Ù Ïáõë³ÏóáõÃÛáõÝÝ»ñ ëï»ÕÍ»Éáõ Çñ³íáõÝùÇ Çñ³Ï³Ý³óÙ³ÝÁ Ï³Ù ¹ñ³Ýó ·áñÍáÕáõÃÛ³ÝÁ ËáãÁÝ¹áï»ÉÁ | E80: 161 | F80: =[1]Վանաձոր!F80+[1]Տաշիր!F80+[1]Ալավերդի!F80+[1]Սպիտակ!F80+[1]Ստեփանավան!F80 -> 0 | G80: =[1]Վանաձոր!G80+[1]Տաշիր!G80+[1]Ալավերդի!G80+[1]Սպիտակ!G80+[1]Ստեփանավան!G80 -> 0 | H80: =[1]Վանաձոր!H80+[1]Տաշիր!H80+[1]Ալավերդի!H80+[1]Սպիտակ!H80+[1]Ստեփանավան!H80 -> 0 | I80: =[1]Վանաձոր!I80+[1]Տաշիր!I80+[1]Ալավերդի!I80+[1]Սպիտակ!I80+[1]Ստեփանավան!I80 -> 0 | J80: =[1]Վանաձոր!J80+[1]Տաշիր!J80+[1]Ալավերդի!J80+[1]Սպիտակ!J80+[1]Ստեփանավան!J80 -> 0 | K80: =[1]Վանաձոր!K80+[1]Տաշիր!K80+[1]Ալավերդի!K80+[1]Սպիտակ!K80+[1]Ստեփանավան!K80 -> 0 | L80: =[1]Վանաձոր!L80+[1]Տաշիր!L80+[1]Ալավերդի!L80+[1]Սպիտակ!L80+[1]Ստեփանավան!L80 -> 0 | M80: =[1]Վանաձոր!M80+[1]Տաշիր!M80+[1]Ալավերդի!M80+[1]Սպիտակ!M80+[1]Ստեփանավան!M80 -> 0 | ... P80: =[1]Վանաձոր!P80+[1]Տաշիր!P80+[1]Ալավերդի!P80+[1]Սպիտակ!P80+[1]Ստեփանավան!P80 -> 0
... B83: 4.27 | C83: Èñ³·ñáÕÇ Ù³ëÝ³·Çï³Ï³Ý ûñÇÝ³Ï³Ý ·áñÍáÕáõÃÛ³ÝÁ ËáãÁÝ¹áï»ÉÁ | E83: 164 | F83: =[1]Վանաձոր!F83+[1]Տաշիր!F83+[1]Ալավերդի!F83+[1]Սպիտակ!F83+[1]Ստեփանավան!F83 -> 0 | G83: =[1]Վանաձոր!G83+[1]Տաշիր!G83+[1]Ալավերդի!G83+[1]Սպիտակ!G83+[1]Ստեփանավան!G83 -> 0 | H83: =[1]Վանաձոր!H83+[1]Տաշիր!H83+[1]Ալավերդի!H83+[1]Սպիտակ!H83+[1]Ստեփանավան!H83 -> 0 | I83: =[1]Վանաձոր!I83+[1]Տաշիր!I83+[1]Ալավերդի!I83+[1]Սպիտակ!I83+[1]Ստեփանավան!I83 -> 0 | J83: =[1]Վանաձոր!J83+[1]Տաշիր!J83+[1]Ալավերդի!J83+[1]Սպիտակ!J83+[1]Ստեփանավան!J83 -> 0 | K83: =[1]Վանաձոր!K83+[1]Տաշիր!K83+[1]Ալավերդի!K83+[1]Սպիտակ!K83+[1]Ստեփանավան!K83 -> 0 | L83: =[1]Վանաձոր!L83+[1]Տաշիր!L83+[1]Ալավերդի!L83+[1]Սպիտակ!L83+[1]Ստեփանավան!L83 -> 0 | M83: =[1]Վանաձոր!M83+[1]Տաշիր!M83+[1]Ալավերդի!M83+[1]Սպիտակ!M83+[1]Ստեփանավան!M83 -> 0 | ... P83: =[1]Վանաձոր!P83+[1]Տաշիր!P83+[1]Ալավերդի!P83+[1]Սպիտակ!P83+[1]Ստեփանավան!P83 -> 0
B84: 4.28 | C84: ²ÛÉ Ñ³Ýó³·áñÍáõÃÛáõÝÝ»ñ | F84: =[1]Վանաձոր!F84+[1]Տաշիր!F84+[1]Ալավերդի!F84+[1]Սպիտակ!F84+[1]Ստեփանավան!F84 -> 0 | G84: =[1]Վանաձոր!G84+[1]Տաշիր!G84+[1]Ալավերդի!G84+[1]Սպիտակ!G84+[1]Ստեփանավան!G84 -> 0 | H84: =[1]Վանաձոր!H84+[1]Տաշիր!H84+[1]Ալավերդի!H84+[1]Սպիտակ!H84+[1]Ստեփանավան!H84 -> 0 | I84: =[1]Վանաձոր!I84+[1]Տաշիր!I84+[1]Ալավերդի!I84+[1]Սպիտակ!I84+[1]Ստեփանավան!I84 -> 0 | J84: =[1]Վանաձոր!J84+[1]Տաշիր!J84+[1]Ալավերդի!J84+[1]Սպիտակ!J84+[1]Ստեփանավան!J84 -> 0 | K84: =[1]Վանաձոր!K84+[1]Տաշիր!K84+[1]Ալավերդի!K84+[1]Սպիտակ!K84+[1]Ստեփանավան!K84 -> 0 | L84: =[1]Վանաձոր!L84+[1]Տաշիր!L84+[1]Ալավերդի!L84+[1]Սպիտակ!L84+[1]Ստեփանավան!L84 -> 0 | M84: =[1]Վանաձոր!M84+[1]Տաշիր!M84+[1]Ալավերդի!M84+[1]Սպիտակ!M84+[1]Ստեփանավան!M84 -> 0 | ... P84: =[1]Վանաձոր!P84+[1]Տաշիր!P84+[1]Ալավերդի!P84+[1]Սպիտակ!P84+[1]Ստեփանավան!P84 -> 0
B85: 5. | C85: ÀÝ¹³Ù»ÝÁ ÁÝï³ÝÇùÇ ¨ »ñ»Ë³ÛÇ ß³Ñ»ñÇ ¹»Ù áõÕÕí³Í Ñ³Ýó³·áñÍáõÃÛáõÝÝ»ñÁ | F85: =[1]Վանաձոր!F85+[1]Տաշիր!F85+[1]Ալավերդի!F85+[1]Սպիտակ!F85+[1]Ստեփանավան!F85 -> 0 | G85: =[1]Վանաձոր!G85+[1]Տաշիր!G85+[1]Ալավերդի!G85+[1]Սպիտակ!G85+[1]Ստեփանավան!G85 -> 0 | H85: =[1]Վանաձոր!H85+[1]Տաշիր!H85+[1]Ալավերդի!H85+[1]Սպիտակ!H85+[1]Ստեփանավան!H85 -> 0 | I85: =[1]Վանաձոր!I85+[1]Տաշիր!I85+[1]Ալավերդի!I85+[1]Սպիտակ!I85+[1]Ստեփանավան!I85 -> 0 | J85: =[1]Վանաձոր!J85+[1]Տաշիր!J85+[1]Ալավերդի!J85+[1]Սպիտակ!J85+[1]Ստեփանավան!J85 -> 0 | K85: =[1]Վանաձոր!K85+[1]Տաշիր!K85+[1]Ալավերդի!K85+[1]Սպիտակ!K85+[1]Ստեփանավան!K85 -> 0 | L85: =[1]Վանաձոր!L85+[1]Տաշիր!L85+[1]Ալավերդի!L85+[1]Սպիտակ!L85+[1]Ստեփանավան!L85 -> 0 | M85: =[1]Վանաձոր!M85+[1]Տաշիր!M85+[1]Ալավերդի!M85+[1]Սպիտակ!M85+[1]Ստեփանավան!M85 -> 0 | ... P85: =[1]Վանաձոր!P85+[1]Տաշիր!P85+[1]Ալավերդի!P85+[1]Սպիտակ!P85+[1]Ստեփանավան!P85 -> 0
B86: 5.1 | C86: ²Ýã³÷³Ñ³ëÇÝ Ñ³Ýó³ÝùÇ Ï³ï³ñÙ³ÝÁ Ý»ñ·ñ³í»ÉÁ | E86: 165 | F86: =[1]Վանաձոր!F86+[1]Տաշիր!F86+[1]Ալավերդի!F86+[1]Սպիտակ!F86+[1]Ստեփանավան!F86 -> 0 | G86: =[1]Վանաձոր!G86+[1]Տաշիր!G86+[1]Ալավերդի!G86+[1]Սպիտակ!G86+[1]Ստեփանավան!G86 -> 0 | H86: =[1]Վանաձոր!H86+[1]Տաշիր!H86+[1]Ալավերդի!H86+[1]Սպիտակ!H86+[1]Ստեփանավան!H86 -> 0 | I86: =[1]Վանաձոր!I86+[1]Տաշիր!I86+[1]Ալավերդի!I86+[1]Սպիտակ!I86+[1]Ստեփանավան!I86 -> 0 | J86: =[1]Վանաձոր!J86+[1]Տաշիր!J86+[1]Ալավերդի!J86+[1]Սպիտակ!J86+[1]Ստեփանավան!J86 -> 0 | K86: =[1]Վանաձոր!K86+[1]Տաշիր!K86+[1]Ալավերդի!K86+[1]Սպիտակ!K86+[1]Ստեփանավան!K86 -> 0 | L86: =[1]Վանաձոր!L86+[1]Տաշիր!L86+[1]Ալավերդի!L86+[1]Սպիտակ!L86+[1]Ստեփանավան!L86 -> 0 | M86: =[1]Վանաձոր!M86+[1]Տաշիր!M86+[1]Ալավերդի!M86+[1]Սպիտակ!M86+[1]Ստեփանավան!M86 -> 0 | ... P86: =[1]Վանաձոր!P86+[1]Տաշիր!P86+[1]Ալավերդի!P86+[1]Սպիտակ!P86+[1]Ստեփանավան!P86 -> 0
B87: 5.2 | C87: ºñ»Ë³ÛÇÝ Ñ³Ï³Ñ³ë³ñ³Ï³Ï³Ý ·áñÍáÕáõÃÛáõÝÝ»ñ Ï³ï³ñ»ÉáõÝ Ý»ñ·ñ³í»ÉÁ | E87: 166 | F87: =[1]Վանաձոր!F87+[1]Տաշիր!F87+[1]Ալավերդի!F87+[1]Սպիտակ!F87+[1]Ստեփանավան!F87 -> 0 | G87: =[1]Վանաձոր!G87+[1]Տաշիր!G87+[1]Ալավերդի!G87+[1]Սպիտակ!G87+[1]Ստեփանավան!G87 -> 0 | H87: =[1]Վանաձոր!H87+[1]Տաշիր!H87+[1]Ալավերդի!H87+[1]Սպիտակ!H87+[1]Ստեփանավան!H87 -> 0 | I87: =[1]Վանաձոր!I87+[1]Տաշիր!I87+[1]Ալավերդի!I87+[1]Սպիտակ!I87+[1]Ստեփանավան!I87 -> 0 | J87: =[1]Վանաձոր!J87+[1]Տաշիր!J87+[1]Ալավերդի!J87+[1]Սպիտակ!J87+[1]Ստեփանավան!J87 -> 0 | K87: =[1]Վանաձոր!K87+[1]Տաշիր!K87+[1]Ալավերդի!K87+[1]Սպիտակ!K87+[1]Ստեփանավան!K87 -> 0 | L87: =[1]Վանաձոր!L87+[1]Տաշիր!L87+[1]Ալավերդի!L87+[1]Սպիտակ!L87+[1]Ստեփանավան!L87 -> 0 | M87: =[1]Վանաձոր!M87+[1]Տաշիր!M87+[1]Ալավերդի!M87+[1]Սպիտակ!M87+[1]Ստեփանավան!M87 -> 0 | ... P87: =[1]Վանաձոր!P87+[1]Տաշիր!P87+[1]Ալավերդի!P87+[1]Սպիտակ!P87+[1]Ստեփանավան!P87 -> 0
B88: 5.3 | C88: ÌÝáÕÝ»ñÇó »ñ»Ë³ÛÇÝ ³åûñÇÝÇ µ³Å³Ý»ÉÁ Ï³Ù »ñ»Ë³ÛÇÝ ÷áË»ÉÁ | E88: 167 | F88: =[1]Վանաձոր!F88+[1]Տաշիր!F88+[1]Ալավերդի!F88+[1]Սպիտակ!F88+[1]Ստեփանավան!F88 -> 0 | G88: =[1]Վանաձոր!G88+[1]Տաշիր!G88+[1]Ալավերդի!G88+[1]Սպիտակ!G88+[1]Ստեփանավան!G88 -> 0 | H88: =[1]Վանաձոր!H88+[1]Տաշիր!H88+[1]Ալավերդի!H88+[1]Սպիտակ!H88+[1]Ստեփանավան!H88 -> 0 | I88: =[1]Վանաձոր!I88+[1]Տաշիր!I88+[1]Ալավերդի!I88+[1]Սպիտակ!I88+[1]Ստեփանավան!I88 -> 0 | J88: =[1]Վանաձոր!J88+[1]Տաշիր!J88+[1]Ալավերդի!J88+[1]Սպիտակ!J88+[1]Ստեփանավան!J88 -> 0 | K88: =[1]Վանաձոր!K88+[1]Տաշիր!K88+[1]Ալավերդի!K88+[1]Սպիտակ!K88+[1]Ստեփանավան!K88 -> 0 | L88: =[1]Վանաձոր!L88+[1]Տաշիր!L88+[1]Ալավերդի!L88+[1]Սպիտակ!L88+[1]Ստեփանավան!L88 -> 0 | M88: =[1]Վանաձոր!M88+[1]Տաշիր!M88+[1]Ալավերդի!M88+[1]Սպիտակ!M88+[1]Ստեփանավան!M88 -> 0 | ... P88: =[1]Վանաձոր!P88+[1]Տաշիր!P88+[1]Ալավերդի!P88+[1]Սպիտակ!P88+[1]Ստեփանավան!P88 -> 0
B89: 5.4 | C89: ºñ»Ë³ÛÇ ³éù áõ í³×³éùÁ | E89: 168 | F89: =[1]Վանաձոր!F89+[1]Տաշիր!F89+[1]Ալավերդի!F89+[1]Սպիտակ!F89+[1]Ստեփանավան!F89 -> 0 | G89: =[1]Վանաձոր!G89+[1]Տաշիր!G89+[1]Ալավերդի!G89+[1]Սպիտակ!G89+[1]Ստեփանավան!G89 -> 0 | H89: =[1]Վանաձոր!H89+[1]Տաշիր!H89+[1]Ալավերդի!H89+[1]Սպիտակ!H89+[1]Ստեփանավան!H89 -> 0 | I89: =[1]Վանաձոր!I89+[1]Տաշիր!I89+[1]Ալավերդի!I89+[1]Սպիտակ!I89+[1]Ստեփանավան!I89 -> 0 | J89: =[1]Վանաձոր!J89+[1]Տաշիր!J89+[1]Ալավերդի!J89+[1]Սպիտակ!J89+[1]Ստեփանավան!J89 -> 0 | K89: =[1]Վանաձոր!K89+[1]Տաշիր!K89+[1]Ալավերդի!K89+[1]Սպիտակ!K89+[1]Ստեփանավան!K89 -> 0 | L89: =[1]Վանաձոր!L89+[1]Տաշիր!L89+[1]Ալավերդի!L89+[1]Սպիտակ!L89+[1]Ստեփանավան!L89 -> 0 | M89: =[1]Վանաձոր!M89+[1]Տաշիր!M89+[1]Ալավերդի!M89+[1]Սպիտակ!M89+[1]Ստեփանավան!M89 -> 0 | ... P89: =[1]Վանաձոր!P89+[1]Տաշիր!P89+[1]Ալավերդի!P89+[1]Սպիտակ!P89+[1]Ստեփանավան!P89 -> 0
B90: 5.5 | C90: àñ¹»·ñÙ³Ý ·³ÕïÝÇùÁ Ññ³å³ñ³Ï»ÉÁ Ï³Ù áñ¹»·ñÙ³Ý Ñ³Ù³Ó³ÛÝáõÃÛáõÝ ï³ÉáõÝ Ñ³Ï»ÉÁ Ï³Ù Ñ³ñÏ³¹ñ»ÉÁ | E90: 169 | F90: =[1]Վանաձոր!F90+[1]Տաշիր!F90+[1]Ալավերդի!F90+[1]Սպիտակ!F90+[1]Ստեփանավան!F90 -> 0 | G90: =[1]Վանաձոր!G90+[1]Տաշիր!G90+[1]Ալավերդի!G90+[1]Սպիտակ!G90+[1]Ստեփանավան!G90 -> 1 | H90: =[1]Վանաձոր!H90+[1]Տաշիր!H90+[1]Ալավերդի!H90+[1]Սպիտակ!H90+[1]Ստեփանավան!H90 -> 1 | I90: =[1]Վանաձոր!I90+[1]Տաշիր!I90+[1]Ալավերդի!I90+[1]Սպիտակ!I90+[1]Ստեփանավան!I90 -> 0 | J90: =[1]Վանաձոր!J90+[1]Տաշիր!J90+[1]Ալավերդի!J90+[1]Սպիտակ!J90+[1]Ստեփանավան!J90 -> 0 | K90: =[1]Վանաձոր!K90+[1]Տաշիր!K90+[1]Ալավերդի!K90+[1]Սպիտակ!K90+[1]Ստեփանավան!K90 -> 1 | L90: =[1]Վանաձոր!L90+[1]Տաշիր!L90+[1]Ալավերդի!L90+[1]Սպիտակ!L90+[1]Ստեփանավան!L90 -> 0 | M90: =[1]Վանաձոր!M90+[1]Տաշիր!M90+[1]Ալավերդի!M90+[1]Սպիտակ!M90+[1]Ստեփանավան!M90 -> 1 | ... P90: =[1]Վանաձոր!P90+[1]Տաշիր!P90+[1]Ալավերդի!P90+[1]Սպիտակ!P90+[1]Ստեփանավան!P90 -> 0
B91: 5.6 | C91: ø³Õ³ù³óÇ³Ï³Ý Ï³óáõÃÛ³Ý ³Ïï»ñÇ ·ñ³ÝóÙ³Ý Ù³ñÙÇÝÝ»ñÇÝ ëáõï ï»Õ»ÏáõÃÛáõÝÝ»ñ Ñ³Õáñ¹»ÉÁ | E91: 169.1 | F91: =[1]Վանաձոր!F91+[1]Տաշիր!F91+[1]Ալավերդի!F91+[1]Սպիտակ!F91+[1]Ստեփանավան!F91 -> 0 | G91: =[1]Վանաձոր!G91+[1]Տաշիր!G91+[1]Ալավերդի!G91+[1]Սպիտակ!G91+[1]Ստեփանավան!G91 -> 0 | H91: =[1]Վանաձոր!H91+[1]Տաշիր!H91+[1]Ալավերդի!H91+[1]Սպիտակ!H91+[1]Ստեփանավան!H91 -> 0 | I91: =[1]Վանաձոր!I91+[1]Տաշիր!I91+[1]Ալավերդի!I91+[1]Սպիտակ!I91+[1]Ստեփանավան!I91 -> 0 | J91: =[1]Վանաձոր!J91+[1]Տաշիր!J91+[1]Ալավերդի!J91+[1]Սպիտակ!J91+[1]Ստեփանավան!J91 -> 0 | K91: =[1]Վանաձոր!K91+[1]Տաշիր!K91+[1]Ալավերդի!K91+[1]Սպիտակ!K91+[1]Ստեփանավան!K91 -> 0 | L91: =[1]Վանաձոր!L91+[1]Տաշիր!L91+[1]Ալավերդի!L91+[1]Սպիտակ!L91+[1]Ստեփանավան!L91 -> 0 | M91: =[1]Վանաձոր!M91+[1]Տաշիր!M91+[1]Ալավերդի!M91+[1]Սպիտակ!M91+[1]Ստեփանավան!M91 -> 0 | ... P91: =[1]Վանաձոր!P91+[1]Տաշիր!P91+[1]Ալավերդի!P91+[1]Սպիտակ!P91+[1]Ստեփանավան!P91 -> 0
B92: 5.7 | C92: ºñ»Ë³ÛÇÝ ¹³ëïÇ³ñ³Ï»Éáõ å³ñï³Ï³ÝáõÃÛáõÝÁ ãÏ³ï³ñ»ÉÁ | E92: 170 | F92: =[1]Վանաձոր!F92+[1]Տաշիր!F92+[1]Ալավերդի!F92+[1]Սպիտակ!F92+[1]Ստեփանավան!F92 -> 0 | G92: =[1]Վանաձոր!G92+[1]Տաշիր!G92+[1]Ալավերդի!G92+[1]Սպիտակ!G92+[1]Ստեփանավան!G92 -> 0 | H92: =[1]Վանաձոր!H92+[1]Տաշիր!H92+[1]Ալավերդի!H92+[1]Սպիտակ!H92+[1]Ստեփանավան!H92 -> 0 | I92: =[1]Վանաձոր!I92+[1]Տաշիր!I92+[1]Ալավերդի!I92+[1]Սպիտակ!I92+[1]Ստեփանավան!I92 -> 0 | J92: =[1]Վանաձոր!J92+[1]Տաշիր!J92+[1]Ալավերդի!J92+[1]Սպիտակ!J92+[1]Ստեփանավան!J92 -> 0 | K92: =[1]Վանաձոր!K92+[1]Տաշիր!K92+[1]Ալավերդի!K92+[1]Սպիտակ!K92+[1]Ստեփանավան!K92 -> 0 | L92: =[1]Վանաձոր!L92+[1]Տաշիր!L92+[1]Ալավերդի!L92+[1]Սպիտակ!L92+[1]Ստեփանավան!L92 -> 0 | M92: =[1]Վանաձոր!M92+[1]Տաշիր!M92+[1]Ալավերդի!M92+[1]Սպիտակ!M92+[1]Ստեփանավան!M92 -> 0 | ... P92: =[1]Վանաձոր!P92+[1]Տաշիր!P92+[1]Ալավերդի!P92+[1]Սպիտակ!P92+[1]Ստեփանավան!P92 -> 0
B93: 5.8 | C93: ºñ»Ë³ÛÇ ÏÛ³ÝùÇ ³Ýíï³Ý·áõÃÛ³Ý ³å³ÑáíÙ³Ý Ï³Ù ³éáÕçáõÃÛ³Ý å³Ñå³ÝÙ³Ý å³ñï³Ï³ÝáõÃÛáõÝÁ ãÏ³ï³ñ»ÉÁ Ï³Ù áã å³ïß³× Ï³ï³ñ»ÉÁ | E93: 171 | F93: =[1]Վանաձոր!F93+[1]Տաշիր!F93+[1]Ալավերդի!F93+[1]Սպիտակ!F93+[1]Ստեփանավան!F93 -> 0 | G93: =[1]Վանաձոր!G93+[1]Տաշիր!G93+[1]Ալավերդի!G93+[1]Սպիտակ!G93+[1]Ստեփանավան!G93 -> 0 | H93: =[1]Վանաձոր!H93+[1]Տաշիր!H93+[1]Ալավերդի!H93+[1]Սպիտակ!H93+[1]Ստեփանավան!H93 -> 0 | I93: =[1]Վանաձոր!I93+[1]Տաշիր!I93+[1]Ալավերդի!I93+[1]Սպիտակ!I93+[1]Ստեփանավան!I93 -> 0 | J93: =[1]Վանաձոր!J93+[1]Տաշիր!J93+[1]Ալավերդի!J93+[1]Սպիտակ!J93+[1]Ստեփանավան!J93 -> 0 | K93: =[1]Վանաձոր!K93+[1]Տաշիր!K93+[1]Ալավերդի!K93+[1]Սպիտակ!K93+[1]Ստեփանավան!K93 -> 0 | L93: =[1]Վանաձոր!L93+[1]Տաշիր!L93+[1]Ալավերդի!L93+[1]Սպիտակ!L93+[1]Ստեփանավան!L93 -> 0 | M93: =[1]Վանաձոր!M93+[1]Տաշիր!M93+[1]Ալավերդի!M93+[1]Սպիտակ!M93+[1]Ստեփանավան!M93 -> 0 | ... P93: =[1]Վանաձոր!P93+[1]Տաշիր!P93+[1]Ալավերդի!P93+[1]Սպիտակ!P93+[1]Ստեփանավան!P93 -> 0
B94: 5.9 | C94: ÊÝ³Ù³Ï³ÉÇ Ï³Ù Ñá·³µ³ñÓáõÇ Çñ³íáõÝùÝ»ñÁ ã³ñ³ß³Ñ»ÉÁ | E94: 172 | F94: =[1]Վանաձոր!F94+[1]Տաշիր!F94+[1]Ալավերդի!F94+[1]Սպիտակ!F94+[1]Ստեփանավան!F94 -> 0 | G94: =[1]Վանաձոր!G94+[1]Տաշիր!G94+[1]Ալավերդի!G94+[1]Սպիտակ!G94+[1]Ստեփանավան!G94 -> 0 | H94: =[1]Վանաձոր!H94+[1]Տաշիր!H94+[1]Ալավերդի!H94+[1]Սպիտակ!H94+[1]Ստեփանավան!H94 -> 0 | I94: =[1]Վանաձոր!I94+[1]Տաշիր!I94+[1]Ալավերդի!I94+[1]Սպիտակ!I94+[1]Ստեփանավան!I94 -> 0 | J94: =[1]Վանաձոր!J94+[1]Տաշիր!J94+[1]Ալավերդի!J94+[1]Սպիտակ!J94+[1]Ստեփանավան!J94 -> 0 | K94: =[1]Վանաձոր!K94+[1]Տաշիր!K94+[1]Ալավերդի!K94+[1]Սպիտակ!K94+[1]Ստեփանավան!K94 -> 0 | L94: =[1]Վանաձոր!L94+[1]Տաշիր!L94+[1]Ալավերդի!L94+[1]Սպիտակ!L94+[1]Ստեփանավան!L94 -> 0 | M94: =[1]Վանաձոր!M94+[1]Տաշիր!M94+[1]Ալավերդի!M94+[1]Սպիտակ!M94+[1]Ստեփանավան!M94 -> 0 | ... P94: =[1]Վանաձոր!P94+[1]Տաշիր!P94+[1]Ալավերդի!P94+[1]Սպիտակ!P94+[1]Ստեփանավան!P94 -> 0
B95: 5.10 | C95: ÌÝáÕÇ ÏáÕÙÇó »ñ»Ë³ÛÇÝ å³Ñ»Éáõó ã³ñ³Ùïáñ»Ý Ëáõë³÷»ÉÁ | E95: 173 | F95: =[1]Վանաձոր!F95+[1]Տաշիր!F95+[1]Ալավերդի!F95+[1]Սպիտակ!F95+[1]Ստեփանավան!F95 -> 0 | G95: =[1]Վանաձոր!G95+[1]Տաշիր!G95+[1]Ալավերդի!G95+[1]Սպիտակ!G95+[1]Ստեփանավան!G95 -> 0 | H95: =[1]Վանաձոր!H95+[1]Տաշիր!H95+[1]Ալավերդի!H95+[1]Սպիտակ!H95+[1]Ստեփանավան!H95 -> 0 | I95: =[1]Վանաձոր!I95+[1]Տաշիր!I95+[1]Ալավերդի!I95+[1]Սպիտակ!I95+[1]Ստեփանավան!I95 -> 0 | J95: =[1]Վանաձոր!J95+[1]Տաշիր!J95+[1]Ալավերդի!J95+[1]Սպիտակ!J95+[1]Ստեփանավան!J95 -> 0 | K95: =[1]Վանաձոր!K95+[1]Տաշիր!K95+[1]Ալավերդի!K95+[1]Սպիտակ!K95+[1]Ստեփանավան!K95 -> 0 | L95: =[1]Վանաձոր!L95+[1]Տաշիր!L95+[1]Ալավերդի!L95+[1]Սպիտակ!L95+[1]Ստեփանավան!L95 -> 0 | M95: =[1]Վանաձոր!M95+[1]Տաշիր!M95+[1]Ալավերդի!M95+[1]Սպիտակ!M95+[1]Ստեփանավան!M95 -> 0 | ... P95: =[1]Վանաձոր!P95+[1]Տաշիր!P95+[1]Ալավերդի!P95+[1]Սպիտակ!P95+[1]Ստեփանավան!P95 -> 0
A96: 0 | B96: 5.11 | C96: ¼³í³ÏÇ ÏáÕÙÇó ³Ý³ßË³ïáõÝ³Ï ÍÝáÕÇÝ å³Ñ»Éáõó ã³ñ³Ùïáñ»Ý Ëáõë³÷»ÉÁ | E96: 174 | F96: =[1]Վանաձոր!F96+[1]Տաշիր!F96+[1]Ալավերդի!F96+[1]Սպիտակ!F96+[1]Ստեփանավան!F96 -> 0 | G96: =[1]Վանաձոր!G96+[1]Տաշիր!G96+[1]Ալավերդի!G96+[1]Սպիտակ!G96+[1]Ստեփանավան!G96 -> 0 | H96: =[1]Վանաձոր!H96+[1]Տաշիր!H96+[1]Ալավերդի!H96+[1]Սպիտակ!H96+[1]Ստեփանավան!H96 -> 0 | I96: =[1]Վանաձոր!I96+[1]Տաշիր!I96+[1]Ալավերդի!I96+[1]Սպիտակ!I96+[1]Ստեփանավան!I96 -> 0 | J96: =[1]Վանաձոր!J96+[1]Տաշիր!J96+[1]Ալավերդի!J96+[1]Սպիտակ!J96+[1]Ստեփանավան!J96 -> 0 | K96: =[1]Վանաձոր!K96+[1]Տաշիր!K96+[1]Ալավերդի!K96+[1]Սպիտակ!K96+[1]Ստեփանավան!K96 -> 0 | L96: =[1]Վանաձոր!L96+[1]Տաշիր!L96+[1]Ալավերդի!L96+[1]Սպիտակ!L96+[1]Ստեփանավան!L96 -> 0 | M96: =[1]Վանաձոր!M96+[1]Տաշիր!M96+[1]Ալավերդի!M96+[1]Սպիտակ!M96+[1]Ստեփանավան!M96 -> 0 | ... P96: =[1]Վանաձոր!P96+[1]Տաշիր!P96+[1]Ալավերդի!P96+[1]Սպիտակ!P96+[1]Ստեփանավան!P96 -> 0
B97: 5.12 | C97: ²ÛÉ Ñ³Ýó³·áñÍáõÃÛáõÝÝ»ñ | F97: =[1]Վանաձոր!F97+[1]Տաշիր!F97+[1]Ալավերդի!F97+[1]Սպիտակ!F97+[1]Ստեփանավան!F97 -> 0 | G97: =[1]Վանաձոր!G97+[1]Տաշիր!G97+[1]Ալավերդի!G97+[1]Սպիտակ!G97+[1]Ստեփանավան!G97 -> 0 | H97: =[1]Վանաձոր!H97+[1]Տաշիր!H97+[1]Ալավերդի!H97+[1]Սպիտակ!H97+[1]Ստեփանավան!H97 -> 0 | I97: =[1]Վանաձոր!I97+[1]Տաշիր!I97+[1]Ալավերդի!I97+[1]Սպիտակ!I97+[1]Ստեփանավան!I97 -> 0 | J97: =[1]Վանաձոր!J97+[1]Տաշիր!J97+[1]Ալավերդի!J97+[1]Սպիտակ!J97+[1]Ստեփանավան!J97 -> 0 | K97: =[1]Վանաձոր!K97+[1]Տաշիր!K97+[1]Ալավերդի!K97+[1]Սպիտակ!K97+[1]Ստեփանավան!K97 -> 0 | L97: =[1]Վանաձոր!L97+[1]Տաշիր!L97+[1]Ալավերդի!L97+[1]Սպիտակ!L97+[1]Ստեփանավան!L97 -> 0 | M97: =[1]Վանաձոր!M97+[1]Տաշիր!M97+[1]Ալավերդի!M97+[1]Սպիտակ!M97+[1]Ստեփանավան!M97 -> 0 | ... P97: =[1]Վանաձոր!P97+[1]Տաշիր!P97+[1]Ալավերդի!P97+[1]Սպիտակ!P97+[1]Ստեփանավան!P97 -> 0
B98: 6. | C98: ÀÝ¹³Ù»ÝÁ ë»÷³Ï³ÝáõÃÛ³Ý ¹»Ù áõÕÕí³Í Ñ³Ýó³·áñÍáõÃÛáõÝÝ»ñÁ | F98: =[1]Վանաձոր!F98+[1]Տաշիր!F98+[1]Ալավերդի!F98+[1]Սպիտակ!F98+[1]Ստեփանավան!F98 -> 0 | G98: =[1]Վանաձոր!G98+[1]Տաշիր!G98+[1]Ալավերդի!G98+[1]Սպիտակ!G98+[1]Ստեփանավան!G98 -> 0 | H98: =[1]Վանաձոր!H98+[1]Տաշիր!H98+[1]Ալավերդի!H98+[1]Սպիտակ!H98+[1]Ստեփանավան!H98 -> 0 | I98: =[1]Վանաձոր!I98+[1]Տաշիր!I98+[1]Ալավերդի!I98+[1]Սպիտակ!I98+[1]Ստեփանավան!I98 -> 0 | J98: =[1]Վանաձոր!J98+[1]Տաշիր!J98+[1]Ալավերդի!J98+[1]Սպիտակ!J98+[1]Ստեփանավան!J98 -> 0 | K98: =[1]Վանաձոր!K98+[1]Տաշիր!K98+[1]Ալավերդի!K98+[1]Սպիտակ!K98+[1]Ստեփանավան!K98 -> 0 | L98: =[1]Վանաձոր!L98+[1]Տաշիր!L98+[1]Ալավերդի!L98+[1]Սպիտակ!L98+[1]Ստեփանավան!L98 -> 0 | M98: =[1]Վանաձոր!M98+[1]Տաշիր!M98+[1]Ալավերդի!M98+[1]Սպիտակ!M98+[1]Ստեփանավան!M98 -> 0 | ... P98: =[1]Վանաձոր!P98+[1]Տաշիր!P98+[1]Ալավերդի!P98+[1]Սպիտակ!P98+[1]Ստեփանավան!P98 -> 0
B99: 6.1 | C99: ²í³½³ÏáõÃÛáõÝÁ | E99: 175 | F99: =[1]Վանաձոր!F99+[1]Տաշիր!F99+[1]Ալավերդի!F99+[1]Սպիտակ!F99+[1]Ստեփանավան!F99 -> 0 | G99: =[1]Վանաձոր!G99+[1]Տաշիր!G99+[1]Ալավերդի!G99+[1]Սպիտակ!G99+[1]Ստեփանավան!G99 -> 0 | H99: =[1]Վանաձոր!H99+[1]Տաշիր!H99+[1]Ալավերդի!H99+[1]Սպիտակ!H99+[1]Ստեփանավան!H99 -> 0 | I99: =[1]Վանաձոր!I99+[1]Տաշիր!I99+[1]Ալավերդի!I99+[1]Սպիտակ!I99+[1]Ստեփանավան!I99 -> 0 | J99: =[1]Վանաձոր!J99+[1]Տաշիր!J99+[1]Ալավերդի!J99+[1]Սպիտակ!J99+[1]Ստեփանավան!J99 -> 0 | K99: =[1]Վանաձոր!K99+[1]Տաշիր!K99+[1]Ալավերդի!K99+[1]Սպիտակ!K99+[1]Ստեփանավան!K99 -> 0 | L99: =[1]Վանաձոր!L99+[1]Տաշիր!L99+[1]Ալավերդի!L99+[1]Սպիտակ!L99+[1]Ստեփանավան!L99 -> 0 | M99: =[1]Վանաձոր!M99+[1]Տաշիր!M99+[1]Ալավերդի!M99+[1]Սպիտակ!M99+[1]Ստեփանավան!M99 -> 0 | ... P99: =[1]Վանաձոր!P99+[1]Տաշիր!P99+[1]Ալավերդի!P99+[1]Սպիտակ!P99+[1]Ստեփանավան!P99 -> 0
B100: 6.2 | C100: ÎáÕáåáõïÁ | E100: 176 | F100: =[1]Վանաձոր!F100+[1]Տաշիր!F100+[1]Ալավերդի!F100+[1]Սպիտակ!F100+[1]Ստեփանավան!F100 -> 0 | G100: =[1]Վանաձոր!G100+[1]Տաշիր!G100+[1]Ալավերդի!G100+[1]Սպիտակ!G100+[1]Ստեփանավան!G100 -> 1 | H100: =[1]Վանաձոր!H100+[1]Տաշիր!H100+[1]Ալավերդի!H100+[1]Սպիտակ!H100+[1]Ստեփանավան!H100 -> 1 | I100: =[1]Վանաձոր!I100+[1]Տաշիր!I100+[1]Ալավերդի!I100+[1]Սպիտակ!I100+[1]Ստեփանավան!I100 -> 0 | J100: =[1]Վանաձոր!J100+[1]Տաշիր!J100+[1]Ալավերդի!J100+[1]Սպիտակ!J100+[1]Ստեփանավան!J100 -> 0 | K100: =[1]Վանաձոր!K100+[1]Տաշիր!K100+[1]Ալավերդի!K100+[1]Սպիտակ!K100+[1]Ստեփանավան!K100 -> 1 | L100: =[1]Վանաձոր!L100+[1]Տաշիր!L100+[1]Ալավերդի!L100+[1]Սպիտակ!L100+[1]Ստեփանավան!L100 -> 0 | M100: =[1]Վանաձոր!M100+[1]Տաշիր!M100+[1]Ալավերդի!M100+[1]Սպիտակ!M100+[1]Ստեփանավան!M100 -> 1 | ... P100: =[1]Վանաձոր!P100+[1]Տաշիր!P100+[1]Ալավերդի!P100+[1]Սպիտակ!P100+[1]Ստեփանավան!P100 -> 0
B101: 6.3 | C101: ¶áÕáõÃÛáõÝÁ | E101: 177 | F101: =[1]Վանաձոր!F101+[1]Տաշիր!F101+[1]Ալավերդի!F101+[1]Սպիտակ!F101+[1]Ստեփանավան!F101 -> 1 | G101: =[1]Վանաձոր!G101+[1]Տաշիր!G101+[1]Ալավերդի!G101+[1]Սպիտակ!G101+[1]Ստեփանավան!G101 -> 5 | H101: =[1]Վանաձոր!H101+[1]Տաշիր!H101+[1]Ալավերդի!H101+[1]Սպիտակ!H101+[1]Ստեփանավան!H101 -> 5 | I101: =[1]Վանաձոր!I101+[1]Տաշիր!I101+[1]Ալավերդի!I101+[1]Սպիտակ!I101+[1]Ստեփանավան!I101 -> 0 | J101: =[1]Վանաձոր!J101+[1]Տաշիր!J101+[1]Ալավերդի!J101+[1]Սպիտակ!J101+[1]Ստեփանավան!J101 -> 0 | K101: =[1]Վանաձոր!K101+[1]Տաշիր!K101+[1]Ալավերդի!K101+[1]Սպիտակ!K101+[1]Ստեփանավան!K101 -> 5 | L101: =[1]Վանաձոր!L101+[1]Տաշիր!L101+[1]Ալավերդի!L101+[1]Սպիտակ!L101+[1]Ստեփանավան!L101 -> 5 | M101: =[1]Վանաձոր!M101+[1]Տաշիր!M101+[1]Ալավերդի!M101+[1]Սպիտակ!M101+[1]Ստեփանավան!M101 -> 0 | ... P101: =[1]Վանաձոր!P101+[1]Տաշիր!P101+[1]Ալավերդի!P101+[1]Սպիտակ!P101+[1]Ստեփանավան!P101 -> 0
B102: 6.4 | C102: Ê³ñ¹³ËáõÃÛáõÝÁ | E102: 178 | F102: =[1]Վանաձոր!F102+[1]Տաշիր!F102+[1]Ալավերդի!F102+[1]Սպիտակ!F102+[1]Ստեփանավան!F102 -> 8 | G102: =[1]Վանաձոր!G102+[1]Տաշիր!G102+[1]Ալավերդի!G102+[1]Սպիտակ!G102+[1]Ստեփանավան!G102 -> 63 | H102: =[1]Վանաձոր!H102+[1]Տաշիր!H102+[1]Ալավերդի!H102+[1]Սպիտակ!H102+[1]Ստեփանավան!H102 -> 63 | I102: =[1]Վանաձոր!I102+[1]Տաշիր!I102+[1]Ալավերդի!I102+[1]Սպիտակ!I102+[1]Ստեփանավան!I102 -> 0 | J102: =[1]Վանաձոր!J102+[1]Տաշիր!J102+[1]Ալավերդի!J102+[1]Սպիտակ!J102+[1]Ստեփանավան!J102 -> 2 | K102: =[1]Վանաձոր!K102+[1]Տաշիր!K102+[1]Ալավերդի!K102+[1]Սպիտակ!K102+[1]Ստեփանավան!K102 -> 65 | L102: =[1]Վանաձոր!L102+[1]Տաշիր!L102+[1]Ալավերդի!L102+[1]Սպիտակ!L102+[1]Ստեփանավան!L102 -> 57 | M102: =[1]Վանաձոր!M102+[1]Տաշիր!M102+[1]Ալավերդի!M102+[1]Սպիտակ!M102+[1]Ստեփանավան!M102 -> 8 | ... P102: =[1]Վանաձոր!P102+[1]Տաշիր!P102+[1]Ալավերդի!P102+[1]Սպիտակ!P102+[1]Ստեփանավան!P102 -> 2
B103: 6.5 | C103: Úáõñ³óÝ»ÉÁ Ï³Ù í³ïÝ»ÉÁ | E103: 179 | F103: =[1]Վանաձոր!F103+[1]Տաշիր!F103+[1]Ալավերդի!F103+[1]Սպիտակ!F103+[1]Ստեփանավան!F103 -> 3 | G103: =[1]Վանաձոր!G103+[1]Տաշիր!G103+[1]Ալավերդի!G103+[1]Սպիտակ!G103+[1]Ստեփանավան!G103 -> 19 | H103: =[1]Վանաձոր!H103+[1]Տաշիր!H103+[1]Ալավերդի!H103+[1]Սպիտակ!H103+[1]Ստեփանավան!H103 -> 15 | I103: =[1]Վանաձոր!I103+[1]Տաշիր!I103+[1]Ալավերդի!I103+[1]Սպիտակ!I103+[1]Ստեփանավան!I103 -> 0 | J103: =[1]Վանաձոր!J103+[1]Տաշիր!J103+[1]Ալավերդի!J103+[1]Սպիտակ!J103+[1]Ստեփանավան!J103 -> 0 | K103: =[1]Վանաձոր!K103+[1]Տաշիր!K103+[1]Ալավերդի!K103+[1]Սպիտակ!K103+[1]Ստեփանավան!K103 -> 15 | L103: =[1]Վանաձոր!L103+[1]Տաշիր!L103+[1]Ալավերդի!L103+[1]Սպիտակ!L103+[1]Ստեփանավան!L103 -> 10 | M103: =[1]Վանաձոր!M103+[1]Տաշիր!M103+[1]Ալավերդի!M103+[1]Սպիտակ!M103+[1]Ստեփանավան!M103 -> 5 | ... P103: =[1]Վանաձոր!P103+[1]Տաշիր!P103+[1]Ալավերդի!P103+[1]Սպիտակ!P103+[1]Ստեփանավան!P103 -> 0
B104: 6.6 | C104: ²é³ÝÓÝ³ÏÇ ³ñÅ»ù áõÝ»óáÕ ³é³ñÏ³Ý»ñ Ñ³÷ßï³Ï»ÉÁ | E104: 180 | F104: =[1]Վանաձոր!F104+[1]Տաշիր!F104+[1]Ալավերդի!F104+[1]Սպիտակ!F104+[1]Ստեփանավան!F104 -> 2 | G104: =[1]Վանաձոր!G104+[1]Տաշիր!G104+[1]Ալավերդի!G104+[1]Սպիտակ!G104+[1]Ստեփանավան!G104 -> 10 | H104: =[1]Վանաձոր!H104+[1]Տաշիր!H104+[1]Ալավերդի!H104+[1]Սպիտակ!H104+[1]Ստեփանավան!H104 -> 11 | I104: =[1]Վանաձոր!I104+[1]Տաշիր!I104+[1]Ալավերդի!I104+[1]Սպիտակ!I104+[1]Ստեփանավան!I104 -> 0 | J104: =[1]Վանաձոր!J104+[1]Տաշիր!J104+[1]Ալավերդի!J104+[1]Սպիտակ!J104+[1]Ստեփանավան!J104 -> 0 | K104: =[1]Վանաձոր!K104+[1]Տաշիր!K104+[1]Ալավերդի!K104+[1]Սպիտակ!K104+[1]Ստեփանավան!K104 -> 11 | L104: =[1]Վանաձոր!L104+[1]Տաշիր!L104+[1]Ալավերդի!L104+[1]Սպիտակ!L104+[1]Ստեփանավան!L104 -> 10 | M104: =[1]Վանաձոր!M104+[1]Տաշիր!M104+[1]Ալավերդի!M104+[1]Սպիտակ!M104+[1]Ստեփանավան!M104 -> 1 | ... P104: =[1]Վանաձոր!P104+[1]Տաշիր!P104+[1]Ալավերդի!P104+[1]Սպիտակ!P104+[1]Ստեփանավան!P104 -> 0
B105: 6.7 | C105: Ð³÷ßï³ÏáõÃÛáõÝÁ, áñÁ Ï³ï³ñí»É ¿ Ñ³Ù³Ï³ñ·ã³ÛÇÝ ï»ËÝÇÏ³ÛÇ û·ï³·áñÍÙ³Ùµ | E105: 181 | F105: =[1]Վանաձոր!F105+[1]Տաշիր!F105+[1]Ալավերդի!F105+[1]Սպիտակ!F105+[1]Ստեփանավան!F105 -> 0 | G105: =[1]Վանաձոր!G105+[1]Տաշիր!G105+[1]Ալավերդի!G105+[1]Սպիտակ!G105+[1]Ստեփանավան!G105 -> 0 | H105: =[1]Վանաձոր!H105+[1]Տաշիր!H105+[1]Ալավերդի!H105+[1]Սպիտակ!H105+[1]Ստեփանավան!H105 -> 0 | I105: =[1]Վանաձոր!I105+[1]Տաշիր!I105+[1]Ալավերդի!I105+[1]Սպիտակ!I105+[1]Ստեփանավան!I105 -> 0 | J105: =[1]Վանաձոր!J105+[1]Տաշիր!J105+[1]Ալավերդի!J105+[1]Սպիտակ!J105+[1]Ստեփանավան!J105 -> 0 | K105: =[1]Վանաձոր!K105+[1]Տաշիր!K105+[1]Ալավերդի!K105+[1]Սպիտակ!K105+[1]Ստեփանավան!K105 -> 0 | L105: =[1]Վանաձոր!L105+[1]Տաշիր!L105+[1]Ալավերդի!L105+[1]Սպիտակ!L105+[1]Ստեփանավան!L105 -> 0 | M105: =[1]Վանաձոր!M105+[1]Տաշիր!M105+[1]Ալավերդի!M105+[1]Սպիտակ!M105+[1]Ստեփանավան!M105 -> 0 | ... P105: =[1]Վանաձոր!P105+[1]Տաշիր!P105+[1]Ալավերդի!P105+[1]Սպիտակ!P105+[1]Ստեփանավան!P105 -> 0
B106: 6.8 | C106: ÞáñÃáõÙÁ | E106: 182 | F106: =[1]Վանաձոր!F106+[1]Տաշիր!F106+[1]Ալավերդի!F106+[1]Սպիտակ!F106+[1]Ստեփանավան!F106 -> 0 | G106: =[1]Վանաձոր!G106+[1]Տաշիր!G106+[1]Ալավերդի!G106+[1]Սպիտակ!G106+[1]Ստեփանավան!G106 -> 0 | H106: =[1]Վանաձոր!H106+[1]Տաշիր!H106+[1]Ալավերդի!H106+[1]Սպիտակ!H106+[1]Ստեփանավան!H106 -> 0 | I106: =[1]Վանաձոր!I106+[1]Տաշիր!I106+[1]Ալավերդի!I106+[1]Սպիտակ!I106+[1]Ստեփանավան!I106 -> 0 | J106: =[1]Վանաձոր!J106+[1]Տաշիր!J106+[1]Ալավերդի!J106+[1]Սպիտակ!J106+[1]Ստեփանավան!J106 -> 0 | K106: =[1]Վանաձոր!K106+[1]Տաշիր!K106+[1]Ալավերդի!K106+[1]Սպիտակ!K106+[1]Ստեփանավան!K106 -> 0 | L106: =[1]Վանաձոր!L106+[1]Տաշիր!L106+[1]Ալավերդի!L106+[1]Սպիտակ!L106+[1]Ստեփանավան!L106 -> 0 | M106: =[1]Վանաձոր!M106+[1]Տաշիր!M106+[1]Ալավերդի!M106+[1]Սպիտակ!M106+[1]Ստեփանավան!M106 -> 0 | ... P106: =[1]Վանաձոր!P106+[1]Տաշիր!P106+[1]Ալավերդի!P106+[1]Սպիտակ!P106+[1]Ստեփանավան!P106 -> 0
B107: 6.9 | C107: ²íïáÙ»ù»Ý³ÛÇÝ Ï³Ù ïñ³Ýëåáñï³ÛÇÝ ³ÛÉ ÙÇçáóÇÝ ³åûñÇÝ³µ³ñ ïÇñ³Ý³ÉÝ ³é³Ýó Ñ³÷ßï³Ï»Éáõ Ýå³ï³ÏÇ | E107: 183 | F107: =[1]Վանաձոր!F107+[1]Տաշիր!F107+[1]Ալավերդի!F107+[1]Սպիտակ!F107+[1]Ստեփանավան!F107 -> 0 | G107: =[1]Վանաձոր!G107+[1]Տաշիր!G107+[1]Ալավերդի!G107+[1]Սպիտակ!G107+[1]Ստեփանավան!G107 -> 2 | H107: =[1]Վանաձոր!H107+[1]Տաշիր!H107+[1]Ալավերդի!H107+[1]Սպիտակ!H107+[1]Ստեփանավան!H107 -> 2 | I107: =[1]Վանաձոր!I107+[1]Տաշիր!I107+[1]Ալավերդի!I107+[1]Սպիտակ!I107+[1]Ստեփանավան!I107 -> 0 | J107: =[1]Վանաձոր!J107+[1]Տաշիր!J107+[1]Ալավերդի!J107+[1]Սպիտակ!J107+[1]Ստեփանավան!J107 -> 0 | K107: =[1]Վանաձոր!K107+[1]Տաշիր!K107+[1]Ալավերդի!K107+[1]Սպիտակ!K107+[1]Ստեփանավան!K107 -> 2 | L107: =[1]Վանաձոր!L107+[1]Տաշիր!L107+[1]Ալավերդի!L107+[1]Սպիտակ!L107+[1]Ստեփանավան!L107 -> 2 | M107: =[1]Վանաձոր!M107+[1]Տաշիր!M107+[1]Ալավերդի!M107+[1]Սպիտակ!M107+[1]Ստեփանավան!M107 -> 0 | ... P107: =[1]Վանաձոր!P107+[1]Տաշիր!P107+[1]Ալավերդի!P107+[1]Սպիտակ!P107+[1]Ստեփանավան!P107 -> 0
B108: 6.10 | C108: ¶áõÛù³ÛÇÝ íÝ³ë å³ï×³é»ÉÁ Ë³µ»áõÃÛ³Ý Ï³Ù íëï³ÑáõÃÛáõÝÁ ã³ñ³ß³Ñ»Éáõ »Õ³Ý³Ïáí | E108: 184 | F108: =[1]Վանաձոր!F108+[1]Տաշիր!F108+[1]Ալավերդի!F108+[1]Սպիտակ!F108+[1]Ստեփանավան!F108 -> 1 | G108: =[1]Վանաձոր!G108+[1]Տաշիր!G108+[1]Ալավերդի!G108+[1]Սպիտակ!G108+[1]Ստեփանավան!G108 -> 0 | H108: =[1]Վանաձոր!H108+[1]Տաշիր!H108+[1]Ալավերդի!H108+[1]Սպիտակ!H108+[1]Ստեփանավան!H108 -> 0 | I108: =[1]Վանաձոր!I108+[1]Տաշիր!I108+[1]Ալավերդի!I108+[1]Սպիտակ!I108+[1]Ստեփանավան!I108 -> 0 | J108: =[1]Վանաձոր!J108+[1]Տաշիր!J108+[1]Ալավերդի!J108+[1]Սպիտակ!J108+[1]Ստեփանավան!J108 -> 0 | K108: =[1]Վանաձոր!K108+[1]Տաշիր!K108+[1]Ալավերդի!K108+[1]Սպիտակ!K108+[1]Ստեփանավան!K108 -> 0 | L108: =[1]Վանաձոր!L108+[1]Տաշիր!L108+[1]Ալավերդի!L108+[1]Սպիտակ!L108+[1]Ստեփանավան!L108 -> 0 | M108: =[1]Վանաձոր!M108+[1]Տաշիր!M108+[1]Ալավերդի!M108+[1]Սպիտակ!M108+[1]Ստեփանավան!M108 -> 0 | ... P108: =[1]Վանաձոր!P108+[1]Տաշիր!P108+[1]Ալավերդի!P108+[1]Սպիտակ!P108+[1]Ստեփանավան!P108 -> 1
B109: 6.11 | C109: ¶áõÛùÁ ¹Çï³íáñáõÃÛ³Ùµ áãÝã³óÝ»ÉÁ Ï³Ù íÝ³ë»ÉÁ | E109: 185 | F109: =[1]Վանաձոր!F109+[1]Տաշիր!F109+[1]Ալավերդի!F109+[1]Սպիտակ!F109+[1]Ստեփանավան!F109 -> 0 | G109: =[1]Վանաձոր!G109+[1]Տաշիր!G109+[1]Ալավերդի!G109+[1]Սպիտակ!G109+[1]Ստեփանավան!G109 -> 1 | H109: =[1]Վանաձոր!H109+[1]Տաշիր!H109+[1]Ալավերդի!H109+[1]Սպիտակ!H109+[1]Ստեփանավան!H109 -> 0 | I109: =[1]Վանաձոր!I109+[1]Տաշիր!I109+[1]Ալավերդի!I109+[1]Սպիտակ!I109+[1]Ստեփանավան!I109 -> 1 | J109: =[1]Վանաձոր!J109+[1]Տաշիր!J109+[1]Ալավերդի!J109+[1]Սպիտակ!J109+[1]Ստեփանավան!J109 -> 0 | K109: =[1]Վանաձոր!K109+[1]Տաշիր!K109+[1]Ալավերդի!K109+[1]Սպիտակ!K109+[1]Ստեփանավան!K109 -> 1 | L109: =[1]Վանաձոր!L109+[1]Տաշիր!L109+[1]Ալավերդի!L109+[1]Սպիտակ!L109+[1]Ստեփանավան!L109 -> 0 | M109: =[1]Վանաձոր!M109+[1]Տաշիր!M109+[1]Ալավերդի!M109+[1]Սպիտակ!M109+[1]Ստեփանավան!M109 -> 1 | ... P109: =[1]Վանաձոր!P109+[1]Տաշիր!P109+[1]Ալավերդի!P109+[1]Սպիտակ!P109+[1]Ստեփանավան!P109 -> 0
B110: 6.12 | C110: ¶áõÛùÝ ³Ý½·áõßáõÃÛ³Ùµ áãÝã³óÝ»ÉÁ Ï³Ù íÝ³ë»ÉÁ | E110: 186 | F110: =[1]Վանաձոր!F110+[1]Տաշիր!F110+[1]Ալավերդի!F110+[1]Սպիտակ!F110+[1]Ստեփանավան!F110 -> 0 | G110: =[1]Վանաձոր!G110+[1]Տաշիր!G110+[1]Ալավերդի!G110+[1]Սպիտակ!G110+[1]Ստեփանավան!G110 -> 4 | H110: =[1]Վանաձոր!H110+[1]Տաշիր!H110+[1]Ալավերդի!H110+[1]Սպիտակ!H110+[1]Ստեփանավան!H110 -> 3 | I110: =[1]Վանաձոր!I110+[1]Տաշիր!I110+[1]Ալավերդի!I110+[1]Սպիտակ!I110+[1]Ստեփանավան!I110 -> 0 | J110: =[1]Վանաձոր!J110+[1]Տաշիր!J110+[1]Ալավերդի!J110+[1]Սպիտակ!J110+[1]Ստեփանավան!J110 -> 0 | K110: =[1]Վանաձոր!K110+[1]Տաշիր!K110+[1]Ալավերդի!K110+[1]Սպիտակ!K110+[1]Ստեփանավան!K110 -> 3 | L110: =[1]Վանաձոր!L110+[1]Տաշիր!L110+[1]Ալավերդի!L110+[1]Սպիտակ!L110+[1]Ստեփանավան!L110 -> 3 | M110: =[1]Վանաձոր!M110+[1]Տաշիր!M110+[1]Ալավերդի!M110+[1]Սպիտակ!M110+[1]Ստեփանավան!M110 -> 0 | ... P110: =[1]Վանաձոր!P110+[1]Տաշիր!P110+[1]Ալավերդի!P110+[1]Սպիտակ!P110+[1]Ստեփանավան!P110 -> 0
B111: 5.12 | C111: ²ÛÉ Ñ³Ýó³·áñÍáõÃÛáõÝÝ»ñ | F111: =[1]Վանաձոր!F111+[1]Տաշիր!F111+[1]Ալավերդի!F111+[1]Սպիտակ!F111+[1]Ստեփանավան!F111 -> 0 | G111: =[1]Վանաձոր!G111+[1]Տաշիր!G111+[1]Ալավերդի!G111+[1]Սպիտակ!G111+[1]Ստեփանավան!G111 -> 0 | H111: =[1]Վանաձոր!H111+[1]Տաշիր!H111+[1]Ալավերդի!H111+[1]Սպիտակ!H111+[1]Ստեփանավան!H111 -> 0 | I111: =[1]Վանաձոր!I111+[1]Տաշիր!I111+[1]Ալավերդի!I111+[1]Սպիտակ!I111+[1]Ստեփանավան!I111 -> 0 | J111: =[1]Վանաձոր!J111+[1]Տաշիր!J111+[1]Ալավերդի!J111+[1]Սպիտակ!J111+[1]Ստեփանավան!J111 -> 0 | K111: =[1]Վանաձոր!K111+[1]Տաշիր!K111+[1]Ալավերդի!K111+[1]Սպիտակ!K111+[1]Ստեփանավան!K111 -> 0 | L111: =[1]Վանաձոր!L111+[1]Տաշիր!L111+[1]Ալավերդի!L111+[1]Սպիտակ!L111+[1]Ստեփանավան!L111 -> 0 | M111: =[1]Վանաձոր!M111+[1]Տաշիր!M111+[1]Ալավերդի!M111+[1]Սպիտակ!M111+[1]Ստեփանավան!M111 -> 0 | ... P111: =[1]Վանաձոր!P111+[1]Տաշիր!P111+[1]Ալավերդի!P111+[1]Սպիտակ!P111+[1]Ստեփանավան!P111 -> 0
B112: 7. | C112: ÀÝ¹³Ù»ÝÁ ïÝï»ë³Ï³Ý ·áñÍáõÝ»áõÃÛ³Ý ¹»Ù áõÕÕí³Í Ñ³Ýó³·áñÍáõÃÛáõÝÝ»ñÁ | F112: =[1]Վանաձոր!F112+[1]Տաշիր!F112+[1]Ալավերդի!F112+[1]Սպիտակ!F112+[1]Ստեփանավան!F112 -> 0 | G112: =[1]Վանաձոր!G112+[1]Տաշիր!G112+[1]Ալավերդի!G112+[1]Սպիտակ!G112+[1]Ստեփանավան!G112 -> 0 | H112: =[1]Վանաձոր!H112+[1]Տաշիր!H112+[1]Ալավերդի!H112+[1]Սպիտակ!H112+[1]Ստեփանավան!H112 -> 0 | I112: =[1]Վանաձոր!I112+[1]Տաշիր!I112+[1]Ալավերդի!I112+[1]Սպիտակ!I112+[1]Ստեփանավան!I112 -> 0 | J112: =[1]Վանաձոր!J112+[1]Տաշիր!J112+[1]Ալավերդի!J112+[1]Սպիտակ!J112+[1]Ստեփանավան!J112 -> 0 | K112: =[1]Վանաձոր!K112+[1]Տաշիր!K112+[1]Ալավերդի!K112+[1]Սպիտակ!K112+[1]Ստեփանավան!K112 -> 0 | L112: =[1]Վանաձոր!L112+[1]Տաշիր!L112+[1]Ալավերդի!L112+[1]Սպիտակ!L112+[1]Ստեփանավան!L112 -> 0 | M112: =[1]Վանաձոր!M112+[1]Տաշիր!M112+[1]Ալավերդի!M112+[1]Սպիտակ!M112+[1]Ստեփանավան!M112 -> 0 | ... P112: =[1]Վանաձոր!P112+[1]Տաշիր!P112+[1]Ալավերդի!P112+[1]Սպիտակ!P112+[1]Ստեփանավան!P112 -> 0
B113: 7.1 | C113: úñÇÝ³Ï³Ý Ó»éÝ³ñÏ³ïÇñ³Ï³Ý ¨ ³ÛÉ ïÝï»ë³Ï³Ý ·áñÍáõÝ»áõÃÛ³ÝÁ ËáãÁÝ¹áï»ÉÁ | E113: 187 | F113: =[1]Վանաձոր!F113+[1]Տաշիր!F113+[1]Ալավերդի!F113+[1]Սպիտակ!F113+[1]Ստեփանավան!F113 -> 0 | G113: =[1]Վանաձոր!G113+[1]Տաշիր!G113+[1]Ալավերդի!G113+[1]Սպիտակ!G113+[1]Ստեփանավան!G113 -> 0 | H113: =[1]Վանաձոր!H113+[1]Տաշիր!H113+[1]Ալավերդի!H113+[1]Սպիտակ!H113+[1]Ստեփանավան!H113 -> 0 | I113: =[1]Վանաձոր!I113+[1]Տաշիր!I113+[1]Ալավերդի!I113+[1]Սպիտակ!I113+[1]Ստեփանավան!I113 -> 0 | J113: =[1]Վանաձոր!J113+[1]Տաշիր!J113+[1]Ալավերդի!J113+[1]Սպիտակ!J113+[1]Ստեփանավան!J113 -> 0 | K113: =[1]Վանաձոր!K113+[1]Տաշիր!K113+[1]Ալավերդի!K113+[1]Սպիտակ!K113+[1]Ստեփանավան!K113 -> 0 | L113: =[1]Վանաձոր!L113+[1]Տաշիր!L113+[1]Ալավերդի!L113+[1]Սպիտակ!L113+[1]Ստեփանավան!L113 -> 0 | M113: =[1]Վանաձոր!M113+[1]Տաշիր!M113+[1]Ալավերդի!M113+[1]Սպիտակ!M113+[1]Ստեփանավան!M113 -> 0 | ... P113: =[1]Վանաձոր!P113+[1]Տաշիր!P113+[1]Ալավերդի!P113+[1]Սպիտակ!P113+[1]Ստեփանավան!P113 -> 0
B114: 7.2 | C114: ²åûñÇÝÇ Ó»éÝ³ñÏ³ïÇñáõÃÛáõÝÁ | E114: 188 | F114: =[1]Վանաձոր!F114+[1]Տաշիր!F114+[1]Ալավերդի!F114+[1]Սպիտակ!F114+[1]Ստեփանավան!F114 -> 0 | G114: =[1]Վանաձոր!G114+[1]Տաշիր!G114+[1]Ալավերդի!G114+[1]Սպիտակ!G114+[1]Ստեփանավան!G114 -> 0 | H114: =[1]Վանաձոր!H114+[1]Տաշիր!H114+[1]Ալավերդի!H114+[1]Սպիտակ!H114+[1]Ստեփանավան!H114 -> 0 | I114: =[1]Վանաձոր!I114+[1]Տաշիր!I114+[1]Ալավերդի!I114+[1]Սպիտակ!I114+[1]Ստեփանավան!I114 -> 0 | J114: =[1]Վանաձոր!J114+[1]Տաշիր!J114+[1]Ալավերդի!J114+[1]Սպիտակ!J114+[1]Ստեփանավան!J114 -> 0 | K114: =[1]Վանաձոր!K114+[1]Տաշիր!K114+[1]Ալավերդի!K114+[1]Սպիտակ!K114+[1]Ստեփանավան!K114 -> 0 | L114: =[1]Վանաձոր!L114+[1]Տաշիր!L114+[1]Ալավերդի!L114+[1]Սպիտակ!L114+[1]Ստեփանավան!L114 -> 0 | M114: =[1]Վանաձոր!M114+[1]Տաշիր!M114+[1]Ալավերդի!M114+[1]Սպիտակ!M114+[1]Ստեփանավան!M114 -> 0 | ... P114: =[1]Վանաձոր!P114+[1]Տաշիր!P114+[1]Ալավերդի!P114+[1]Սպիտակ!P114+[1]Ստեփանավան!P114 -> 0
...

Sheet Malatia
B2: Ð²ÞìºîìàôÂÚàôÜ
B4: ÐÐ ÀÜ¸Ð²Üàôð Æð²ì²êàôÂÚ²Ü ¸²î²ð²ÜÜºðàôØ øðº²Î²Ü ¶àðÌºðÆ øÜÜàôÂÚ²Ü ìºð²´ºðÚ²È
B5: 2009Ã. ³é³çÇÝ ÏÇë³ÙÛ³ÏÇ (ï³ñí³) Ñ³Ù³ñ
B7: êïáõ·Çã Ñ³í³ë³ñáõÙÝ»ñ` 1+2=6+9+10, 6=3+4+5 | E7: ÐÐ ùñ»³Ï³Ý ûñ»Ýë·ñùÇ Ñá¹í³ÍÝ»ñ | F7: ²Ý³í³ñï ·áñÍ»ñÇ ÙÝ³óáñ¹Á Ñ³ßí»ïáõ Å³Ù³Ý³Ï³ßñç³ÝÇ ëÏ½µáõÙ | G7: êï³óí»É »Ý ·áñÍ»ñ Ñ³ßí»ïáõ Å³Ù³Ý³Ï³ßñç³ÝáõÙ | H7: ²í³ñïí»É »Ý ·áñÍ»ñ Ñ³ßí»ïáõ Å³Ù³Ý³Ï³ßñç³ÝáõÙ | L7: úñÇÝ³Ï³Ý áõÅÇ Ù»ç ¿ Ùï»É | M7: ´áÕáù³ñÏí»É ¿ í»ñ³ùÝÝÇã ¹³ï³ñ³Ý | N7: àõÕ³ñÏí»É ¿ Áëï ÁÝ¹¹³ïáõÃÛ³Ý | O7: ²Ý³í³ñï ·áñÍ»ñÇ ÙÝ³óáñ¹Á Ñ³ßí»ïáõ Å³Ù³Ý³Ï³ßñç³ÝÇ í»ñçáõÙ | P7: ²Û¹ ÃíáõÙª Ï³ë»óí³Í
H8: øÝÝí»É ¿ Áëï ¿áõÃÛ³Ý ¨ ¹³ï³í×Çé Ï³Û³óí»É | I8: àñáßáõÙ ¿ Ï³Û³óí»É ùñ»³Ï³Ý ·áñÍÇ í³ñáõÛÃÁ Ï³ñ×»Éáõ ¨ ùñ»³Ï³Ý Ñ»ï³åÝ¹áõÙÁ ¹³¹³ñ»óÝ»Éáõ Ù³ëÇÝ | J8: àñáßáõÙ ¿ Ï³Û³óí»É ³ÝÙ»ÕëáõÝ³ÏÝ»ñÇ ÝÏ³ïÙ³Ùµ µÅßÏ³Ï³Ý µÝáõÛÃÇ Ñ³ñÏ³¹ñ³Ï³Ý ÙÇçáóÝ»ñ ÏÇñ³é»Éáõ Ù³ëÇÝ | K8: ÀÝ¹³Ù»ÝÁ ³í³ñïí»É »Ý ·áñÍ»ñ
F10: 1 | G10: 2 | H10: 3 | I10: 4 | J10: 5 | K10: 6 | L10: 7 | M10: 8 | N10: 9 | O10: 10 | P10: 11
A11: 1 | B11: 1. | C11: ÀÝ¹³Ù»ÝÁ ÏÛ³ÝùÇ ¨ ³éáÕçáõÃÛ³Ý ¹»Ù áõÕÕí³Í Ñ³Ýó³·áñÍáõÃÛáõÝÝ»ñÁ
A12: 0 | B12: 1.1 | C12: êå³ÝáõÃÛáõÝÁ | E12: 104 | G12: 1 | H12: 1 | K12: 1 | L12: 1
A13: 0 | B13: 1.2 | C13: Ðá·»Ï³Ý ËÇëï Ñáõ½ÙáõÝùÇ íÇ×³ÏáõÙ Ï³ï³ñí³Í ëå³ÝáõÃÛáõÝÁ | E13: 105 | G13: 2 | H13: 1 | K13: 1 | L13: 1 | O13: 1
A14: 0 | B14: 1.3 | C14: Øáñ ÏáÕÙÇó Ýáñ³ÍÇÝ »ñ»Ë³ÛÇ ëå³ÝáõÃÛáõÝÁ | E14: 106
A15: 0 | B15: 1.4 | C15: Ð³Ýó³Ýù Ï³ï³ñ³Í ³ÝÓÇÝ µéÝ»Éáõ Ñ³Ù³ñ ³ÝÑñ³Å»ßï ÙÇçáóÝ»ñÇ ë³ÑÙ³Ý³½³ÝóÙ³Ùµ ëå³ÝáõÃÛáõÝÁ | E15: 107
A16: 0 | B16: 1.5 | C16: ²ÝÑñ³Å»ßï å³ßïå³ÝáõÃÛ³Ý ë³ÑÙ³Ý³½³ÝóÙ³Ùµ ëå³ÝáõÃÛáõÝÁ | E16: 108
A17: 0 | B17: 1.6 | C17: ²Ý½·áõßáõÃÛ³Ùµ Ù³Ñ å³ï×³é»ÉÁ | E17: 109
A18: 0 | B18: 1.7 | C18: ÆÝùÝ³ëå³ÝáõÃÛ³Ý Ñ³ëóÝ»ÉÁ | E18: 110
A19: 0 | B19: 1.8 | C19: ÆÝùÝ³ëå³ÝáõÃÛ³Ý Ñ³Ï»ÉÁ | E19: 111
A20: 0 | B20: 1.9 | C20: ¸Çï³íáñáõÃÛ³Ùµ ³éáÕçáõÃÛ³ÝÁ Í³Ýñ íÝ³ë å³ï×³é»ÉÁ | E20: 112 | G20: 2 | H20: 1 | K20: 1 | M20: 1 | O20: 1
A21: 0 | B21: 1.10 | C21: ¸Çï³íáñáõÃÛ³Ùµ ³éáÕçáõÃÛ³ÝÁ ÙÇçÇÝ Í³ÝñáõÃÛ³Ý íÝ³ë å³ï×³é»ÉÁ | E21: 113 | G21: 2 | H21: 1 | I21: 1 | K21: 2 | L21: 2
A22: 0 | B22: 1.11 | C22: Ðá·»Ï³Ý ËÇëï Ñáõ½ÙáõÝùÇ íÇ×³ÏáõÙ ³éáÕçáõÃÛ³ÝÁ Í³Ýñ Ï³Ù ÙÇçÇÝ Í³ÝñáõÃÛ³Ý íÝ³ë å³ï×³é»ÉÁ | E22: 114
A23: 0 | B23: 1.12 | C23: Ð³Ýó³Ýù Ï³ï³ñ³Í ³ÝÓÇÝ µéÝ»Éáõ Ñ³Ù³ñ ³ÝÑñ³Å»ßï ÙÇçáóÝ»ñÇ ë³ÑÙ³Ý½³ÝóÙ³Ùµ ³éáÕçáõÃÛ³ÝÁ Í³Ýñ Ï³Ù ÙÇçÇÝ Í³ÝñáõÃÛ³Ý íÝ³ë å³ï×³é»ÉÁ | E23: 115
A24: 0 | B24: 1.13 | C24: ²éáÕçáõÃÛ³ÝÁ Í³Ýñ Ï³Ù ÙÇçÇÝ Í³ÝñáõÃÛ³Ý íÝ³ë å³ï×³é»ÉÁ ³ÝÑñ³Å»ßï å³ßïå³ÝáõÃÛ³Ý ë³ÑÙ³Ý³Ý³½³ÝóÙ³Ùµ | E24: 116 | G24: 1 | H24: 1 | K24: 1 | L24: 1
A25: 0 | B25: 1.14 | C25: ¸Çï³íáñáõÃÛ³Ùµ ³éáÕçáõÃÛ³ÝÁ Ã»Ã¨ íÝ³ë å³ï×³é»ÉÁ | E25: 117 | G25: 2 | H25: 2 | K25: 2 | L25: 2
A26: 0 | B26: 1.15 | C26: Ì»ÍÁ | E26: 118 | G26: 2 | I26: 2 | K26: 2 | L26: 2
A27: 0 | B27: 1.16 | C27: Êáßï³Ý·áõÙÁ | E27: 119
A28: 0 | B28: 1.17 | C28: ²Ý½·áõßáõÃÛ³Ùµ ³éáÕçáõÃÛ³ÝÁ Í³Ýñ íÝ³ë å³ï×³é»ÉÁ | E28: 120
A29: 0 | B29: 1.18 | C29: ²Ý½·áõßáõÃÛ³Ùµ ³éáÕçáõÃÛ³ÝÁ ÙÇçÇÝ Í³ÝñáõÃÛ³Ý íÝ³ë å³ï×³é»ÉÁ | E29: 121
A30: 0 | B30: 1.19 | C30: ²åûñÇÝÇ ³µáñï Ï³ï³ñ»ÉÁ | E30: 122
A31: 0 | B31: 1.20 | C31: Ø³ñ¹áõ ÇÙáõÝ³ÛÇÝ ³Ýµ³í³ñ³ñáõÃÛ³Ý íÇñáõëÇ Ñ³ñáõóÇãáí í³ñ³Ï»ÉÁ | E31: 123
A32: 0 | B32: 1.21 | C32: ì»Ý»ñ³Ï³Ý ÑÇí³Ý¹áõÃÛ³Ùµ Ï³Ù ³ÛÉ ë»é³í³ñ³ÏÝ»ñáí í³ñ³Ï»ÉÁ | E32: 124
A33: 0 | B33: 1.22 | C33: öáËå³ïí³ëïÙ³Ý íÇñ³Ñ³ïáõÃÛáõÝ Ï³ï³ñ»Éáõ Ï³ÝáÝÝ»ñÁ Ë³Ëï»ÉÁ | E33: 125
A34: 0 | B34: 1.23 | C34: Ø³ñÙÝÇ Ù³ë»ñ Ï³Ù ÑÛáõëí³ÍùÝ»ñ ï³ÉáõÝ Ñ³ñÏ³¹ñ»ÉÁ | E34: 126
A35: 0 | B35: 1.24 | C35: ²ÝÓÇÝ ³é³Ýó Çñ Ñ³ÝÓÝ³ñ³ñáõÃÛ³Ý µÅßÏ³Ï³Ý Ï³Ù ·Çï³Ï³Ý ÷áñÓ»ñÇ »ÝÃ³ñÏ»ÉÁ | E35: 127
A36: 0 | B36: 1.25 | C36: ìï³Ý·Ç Ù»ç ÃáÕÝ»ÉÁ | E36: 128
A37: 0 | B37: 1.26 | C37: ÐÇí³Ý¹ÇÝ û·ÝáõÃÛáõÝ óáõÛó ãï³ÉÁ | E37: 129
A38: 0 | B38: 1.27 | C38: ´ÅßÏ³Ï³Ý û·ÝáõÃÛáõÝ ¨ ëå³ë³ñÏáõÙ Çñ³Ï³Ý³óÝáÕÝ»ñÇ ÏáÕÙÇó Ù³ëÝ³·Çï³Ï³Ý å³ñï³Ï³ÝáõÃÛáõÝÝ»ñÁ ãÏ³ï³ñ»ÉÁ Ï³Ù áã å³ïß³× Ï³ï³ñ»ÉÁ | E38: 130
A39: 1 | B39: 1.28 | C39: ²ÛÉ Ñ³Ýó³·áñÍáõÃÛáõÝÝ»ñ
A40: 0 | B40: 2. | C40: ÀÝ¹³Ù»ÝÁ ³ÝÓÇ ³½³ïáõÃÛ³Ý, å³ïíÇ ¨ ³ñÅ³Ý³å³ïíáõÃÛ³Ý ¹»Ù áõÕÕí³Í Ñ³Ýó³·áñÍáõÃÛáõÝÝ»ñÁ
A41: 0 | B41: 2.1 | C41: Ø³ñ¹áõÝ ³é¨³Ý·»ÉÁ | E41: 131
B42: 2.2 | C42: Þ³Ñ³·áñÍÙ³Ý Ýå³ï³Ïáí Ù³ñ¹áõÝ Ñ³í³ù³·ñ»ÉÁ, ÷áË³¹ñ»ÉÁ, Ñ³ÝÓÝ»ÉÁ, Ã³ùóÝ»ÉÁ Ï³Ù ëï³Ý³ÉÁ | E42: 132 | G42: 1 | H42: 1 | K42: 1 | M42: 1
B43: 2.3 | C43: ²½³ïáõÃÛáõÝÇó ³åûñÇÝÇ ½ñÏ»ÉÁ | E43: 133 | G43: 1 | O43: 1
B44: 2.4 | C44: Ðá·»µáõÅ³Ï³Ý ÑÇí³Ý¹³ÝáóáõÙ ³åûñÇÝÇ ï»Õ³íáñ»ÉÁ Ï³Ù å³Ñ»ÉÁ | E44: 134
B45: 2.5 | C45: ¼ñå³ñïáõÃÛáõÝÁ | E45: 135
