Workbook

Sheet Shirak
B2: Ð²ÞìºîìàôÂÚàôÜ
B4: ÐÐ ՇԻՐԱԿԻ ՄԱՐԶԻ ÀÜ¸Ð²Üàôð Æð²ì²êàôÂÚ²Ü ¸²î²ð²ՆàôØ øðº²Î²Ü ¶àðÌºðÆ øÜÜàôÂÚ²Ü ìºð²´ºðÚ²È
B5: 2009 Ã. ï³ñí³ Ñ³Ù³ñ
B7: êïáõ·Çã Ñ³í³ë³ñáõÙÝ»ñ` 1+2=6+9+10, 6=3+4+5 | E7: ÐÐ ùñ»³Ï³Ý ûñ»Ýë·ñùÇ Ñá¹í³ÍÝ»ñ | F7: ²Ý³í³ñï ·áñÍ»ñÇ ÙÝ³óáñ¹Á Ñ³ßí»ïáõ Å³Ù³Ý³Ï³ßñç³ÝÇ ëÏ½µáõÙ | G7: êï³óí»É »Ý ·áñÍ»ñ Ñ³ßí»ïáõ Å³Ù³Ý³Ï³ßñç³ÝáõÙ | H7: ²í³ñïí»É »Ý ·áñÍ»ñ Ñ³ßí»ïáõ Å³Ù³Ý³Ï³ßñç³ÝáõÙ | L7: úñÇÝ³Ï³Ý áõÅÇ Ù»ç ¿ Ùï»É | M7: ´áÕáù³ñÏí»É ¿ í»ñ³ùÝÝÇã ¹³ï³ñ³Ý | N7: àõÕ³ñÏí»É ¿ Áëï ÁÝ¹¹³ïáõÃÛ³Ý | O7: ²Ý³í³ñï ·áñÍ»ñÇ ÙÝ³óáñ¹Á Ñ³ßí»ïáõ Å³Ù³Ý³Ï³ßñç³ÝÇ í»ñçáõÙ | P7: ²Û¹ ÃíáõÙª Ï³ë»óí³Í
H8: øÝÝí»É ¿ Áëï ¿áõÃÛ³Ý ¨ ¹³ï³í×Çé Ï³Û³óí»É | I8: àñáßáõÙ ¿ Ï³Û³óí»É ùñ»³Ï³Ý ·áñÍÇ í³ñáõÛÃÁ Ï³ñ×»Éáõ ¨ ùñ»³Ï³Ý Ñ»ï³åÝ¹áõÙÁ ¹³¹³ñ»óÝ»Éáõ Ù³ëÇÝ | J8: àñáßáõÙ ¿ Ï³Û³óí»É ³ÝÙ»ÕëáõÝ³ÏÝ»ñÇ ÝÏ³ïÙ³Ùµ µÅßÏ³Ï³Ý µÝáõÛÃÇ Ñ³ñÏ³¹ñ³Ï³Ý ÙÇçáóÝ»ñ ÏÇñ³é»Éáõ Ù³ëÇÝ | K8: ÀÝ¹³Ù»ÝÁ ³í³ñïí»É »Ý ·áñÍ»ñ
F10: 1 | G10: 2 | H10: 3 | I10: 4 | J10: 5 | K10: 6 | L10: 7 | M10: 8 | N10: 9 | O10: 10 | P10: 11
A11: 1 | B11: 1. | C11: ÀÝ¹³Ù»ÝÁ ÏÛ³ÝùÇ ¨ ³éáÕçáõÃÛ³Ý ¹»Ù áõÕÕí³Í Ñ³Ýó³·áñÍáõÃÛáõÝÝ»ñÁ
A12: 0 | B12: 1.1 | C12: êå³ÝáõÃÛáõÝÁ | E12: 104 | F12: 1 | G12: 3 | H12: 2 | I12: 1 | J12: 1 | K12: 4 | L12: 4
A13: 0 | B13: 1.2 | C13: Ðá·»Ï³Ý ËÇëï Ñáõ½ÙáõÝùÇ íÇ×³ÏáõÙ Ï³ï³ñí³Í ëå³ÝáõÃÛáõÝÁ | E13: 105
A14: 0 | B14: 1.3 | C14: Øáñ ÏáÕÙÇó Ýáñ³ÍÇÝ »ñ»Ë³ÛÇ ëå³ÝáõÃÛáõÝÁ | E14: 106
A15: 0 | B15: 1.4 | C15: Ð³Ýó³Ýù Ï³ï³ñ³Í ³ÝÓÇÝ µéÝ»Éáõ Ñ³Ù³ñ ³ÝÑñ³Å»ßï ÙÇçáóÝ»ñÇ ë³ÑÙ³Ý³½³ÝóÙ³Ùµ ëå³ÝáõÃÛáõÝÁ | E15: 107
A16: 0 | B16: 1.5 | C16: ²ÝÑñ³Å»ßï å³ßïå³ÝáõÃÛ³Ý ë³ÑÙ³Ý³½³ÝóÙ³Ùµ ëå³ÝáõÃÛáõÝÁ | E16: 108
A17: 0 | B17: 1.6 | C17: ²Ý½·áõßáõÃÛ³Ùµ Ù³Ñ å³ï×³é»ÉÁ | E17: 109
A18: 0 | B18: 1.7 | C18: ÆÝùÝ³ëå³ÝáõÃÛ³Ý Ñ³ëóÝ»ÉÁ | E18: 110
A19: 0 | B19: 1.8 | C19: ÆÝùÝ³ëå³ÝáõÃÛ³Ý Ñ³Ï»ÉÁ | E19: 111
A20: 0 | B20: 1.9 | C20: ¸Çï³íáñáõÃÛ³Ùµ ³éáÕçáõÃÛ³ÝÁ Í³Ýñ íÝ³ë å³ï×³é»ÉÁ | E20: 112 | F20: 1 | G20: 11 | H20: 7 | K20: 7 | L20: 3 | M20: 4 | O20: 5 | P20: 1
A21: 0 | B21: 1.10 | C21: ¸Çï³íáñáõÃÛ³Ùµ ³éáÕçáõÃÛ³ÝÁ ÙÇçÇÝ Í³ÝñáõÃÛ³Ý íÝ³ë å³ï×³é»ÉÁ | E21: 113 | G21: 4 | H21: 1 | I21: 2 | K21: 3 | L21: 3 | O21: 1
A22: 0 | B22: 1.11 | C22: Ðá·»Ï³Ý ËÇëï Ñáõ½ÙáõÝùÇ íÇ×³ÏáõÙ ³éáÕçáõÃÛ³ÝÁ Í³Ýñ Ï³Ù ÙÇçÇÝ Í³ÝñáõÃÛ³Ý íÝ³ë å³ï×³é»ÉÁ | E22: 114
A23: 0 | B23: 1.12 | C23: Ð³Ýó³Ýù Ï³ï³ñ³Í ³ÝÓÇÝ µéÝ»Éáõ Ñ³Ù³ñ ³ÝÑñ³Å»ßï ÙÇçáóÝ»ñÇ ë³ÑÙ³Ý½³ÝóÙ³Ùµ ³éáÕçáõÃÛ³ÝÁ Í³Ýñ Ï³Ù ÙÇçÇÝ Í³ÝñáõÃÛ³Ý íÝ³ë å³ï×³é»ÉÁ | E23: 115
A24: 0 | B24: 1.13 | C24: ²éáÕçáõÃÛ³ÝÁ Í³Ýñ Ï³Ù ÙÇçÇÝ Í³ÝñáõÃÛ³Ý íÝ³ë å³ï×³é»ÉÁ ³ÝÑñ³Å»ßï å³ßïå³ÝáõÃÛ³Ý ë³ÑÙ³Ý³Ý³½³ÝóÙ³Ùµ | E24: 116 | G24: 1 | H24: 1 | K24: 1 | L24: 1
A25: 0 | B25: 1.14 | C25: ¸Çï³íáñáõÃÛ³Ùµ ³éáÕçáõÃÛ³ÝÁ Ã»Ã¨ íÝ³ë å³ï×³é»ÉÁ | E25: 117 | G25: 1 | H25: 1 | K25: 1 | L25: 1
A26: 0 | B26: 1.15 | C26: Ì»ÍÁ | E26: 118 | G26: 3 | H26: 2 | I26: 1 | K26: 3 | L26: 3 | M26: 1
A27: 0 | B27: 1.16 | C27: Êáßï³Ý·áõÙÁ | E27: 119
A28: 0 | B28: 1.17 | C28: ²Ý½·áõßáõÃÛ³Ùµ ³éáÕçáõÃÛ³ÝÁ Í³Ýñ íÝ³ë å³ï×³é»ÉÁ | E28: 120
A29: 0 | B29: 1.18 | C29: ²Ý½·áõßáõÃÛ³Ùµ ³éáÕçáõÃÛ³ÝÁ ÙÇçÇÝ Í³ÝñáõÃÛ³Ý íÝ³ë å³ï×³é»ÉÁ | E29: 121
A30: 0 | B30: 1.19 | C30: ²åûñÇÝÇ ³µáñï Ï³ï³ñ»ÉÁ | E30: 122
A31: 0 | B31: 1.20 | C31: Ø³ñ¹áõ ÇÙáõÝ³ÛÇÝ ³Ýµ³í³ñ³ñáõÃÛ³Ý íÇñáõëÇ Ñ³ñáõóÇãáí í³ñ³Ï»ÉÁ | E31: 123
A32: 0 | B32: 1.21 | C32: ì»Ý»ñ³Ï³Ý ÑÇí³Ý¹áõÃÛ³Ùµ Ï³Ù ³ÛÉ ë»é³í³ñ³ÏÝ»ñáí í³ñ³Ï»ÉÁ | E32: 124
A33: 0 | B33: 1.22 | C33: öáËå³ïí³ëïÙ³Ý íÇñ³Ñ³ïáõÃÛáõÝ Ï³ï³ñ»Éáõ Ï³ÝáÝÝ»ñÁ Ë³Ëï»ÉÁ | E33: 125
A34: 0 | B34: 1.23 | C34: Ø³ñÙÝÇ Ù³ë»ñ Ï³Ù ÑÛáõëí³ÍùÝ»ñ ï³ÉáõÝ Ñ³ñÏ³¹ñ»ÉÁ | E34: 126
A35: 0 | B35: 1.24 | C35: ²ÝÓÇÝ ³é³Ýó Çñ Ñ³ÝÓÝ³ñ³ñáõÃÛ³Ý µÅßÏ³Ï³Ý Ï³Ù ·Çï³Ï³Ý ÷áñÓ»ñÇ »ÝÃ³ñÏ»ÉÁ | E35: 127
A36: 0 | B36: 1.25 | C36: ìï³Ý·Ç Ù»ç ÃáÕÝ»ÉÁ | E36: 128
A37: 0 | B37: 1.26 | C37: ÐÇí³Ý¹ÇÝ û·ÝáõÃÛáõÝ óáõÛó ãï³ÉÁ | E37: 129
A38: 0 | B38: 1.27 | C38: ´ÅßÏ³Ï³Ý û·ÝáõÃÛáõÝ ¨ ëå³ë³ñÏáõÙ Çñ³Ï³Ý³óÝáÕÝ»ñÇ ÏáÕÙÇó Ù³ëÝ³·Çï³Ï³Ý å³ñï³Ï³ÝáõÃÛáõÝÝ»ñÁ ãÏ³ï³ñ»ÉÁ Ï³Ù áã å³ïß³× Ï³ï³ñ»ÉÁ | E38: 130 | G38: 1 | H38: 1 | K38: 1 | L38: 1
A39: 1 | B39: 1.28 | C39: ²ÛÉ Ñ³Ýó³·áñÍáõÃÛáõÝÝ»ñ
A40: 0 | B40: 2. | C40: ÀÝ¹³Ù»ÝÁ ³ÝÓÇ ³½³ïáõÃÛ³Ý, å³ïíÇ ¨ ³ñÅ³Ý³å³ïíáõÃÛ³Ý ¹»Ù áõÕÕí³Í Ñ³Ýó³·áñÍáõÃÛáõÝÝ»ñÁ
A41: 0 | B41: 2.1 | C41: Ø³ñ¹áõÝ ³é¨³Ý·»ÉÁ | E41: 131 | G41: 2 | H41: 2 | K41: 2 | L41: 2
B42: 2.2 | C42: Þ³Ñ³·áñÍÙ³Ý Ýå³ï³Ïáí Ù³ñ¹áõÝ Ñ³í³ù³·ñ»ÉÁ, ÷áË³¹ñ»ÉÁ, Ñ³ÝÓÝ»ÉÁ, Ã³ùóÝ»ÉÁ Ï³Ù ëï³Ý³ÉÁ | E42: 132
B43: 2.3 | C43: ²½³ïáõÃÛáõÝÇó ³åûñÇÝÇ ½ñÏ»ÉÁ | E43: 133
B44: 2.4 | C44: Ðá·»µáõÅ³Ï³Ý ÑÇí³Ý¹³ÝáóáõÙ ³åûñÇÝÇ ï»Õ³íáñ»ÉÁ Ï³Ù å³Ñ»ÉÁ | E44: 134
...

Sheet Ajapnyak
B2: Ð²ÞìºîìàôÂÚàôÜ
B4: ÐÐ ÀÜ¸Ð²Üàôð Æð²ì²êàôÂÚ²Ü ¸²î²ð²ÜÜºðàôØ øðº²Î²Ü ¶àðÌºðÆ øÜÜàôÂÚ²Ü ìºð²´ºðÚ²È
B5: 2009Ã. Ñ³Ù³ñ
B7: êïáõ·Çã Ñ³í³ë³ñáõÙÝ»ñ` 1+2=6+9+10, 6=3+4+5 | E7: ÐÐ ùñ»³Ï³Ý ûñ»Ýë·ñùÇ Ñá¹í³ÍÝ»ñ | F7: ²Ý³í³ñï ·áñÍ»ñÇ ÙÝ³óáñ¹Á Ñ³ßí»ïáõ Å³Ù³Ý³Ï³ßñç³ÝÇ ëÏ½µáõÙ | G7: êï³óí»É »Ý ·áñÍ»ñ Ñ³ßí»ïáõ Å³Ù³Ý³Ï³ßñç³ÝáõÙ | H7: ²í³ñïí»É »Ý ·áñÍ»ñ Ñ³ßí»ïáõ Å³Ù³Ý³Ï³ßñç³ÝáõÙ | L7: úñÇÝ³Ï³Ý áõÅÇ Ù»ç ¿ Ùï»É | M7: ´áÕáù³ñÏí»É ¿ í»ñ³ùÝÝÇã ¹³ï³ñ³Ý | N7: àõÕ³ñÏí»É ¿ Áëï ÁÝ¹¹³ïáõÃÛ³Ý | O7: ²Ý³í³ñï ·áñÍ»ñÇ ÙÝ³óáñ¹Á Ñ³ßí»ïáõ Å³Ù³Ý³Ï³ßñç³ÝÇ í»ñçáõÙ | P7: ²Û¹ ÃíáõÙª Ï³ë»óí³Í
H8: øÝÝí»É ¿ Áëï ¿áõÃÛ³Ý ¨ ¹³ï³í×Çé Ï³Û³óí»É | I8: àñáßáõÙ ¿ Ï³Û³óí»É ùñ»³Ï³Ý ·áñÍÇ í³ñáõÛÃÁ Ï³ñ×»Éáõ ¨ ùñ»³Ï³Ý Ñ»ï³åÝ¹áõÙÁ ¹³¹³ñ»óÝ»Éáõ Ù³ëÇÝ | J8: àñáßáõÙ ¿ Ï³Û³óí»É ³ÝÙ»ÕëáõÝ³ÏÝ»ñÇ ÝÏ³ïÙ³Ùµ µÅßÏ³Ï³Ý µÝáõÛÃÇ Ñ³ñÏ³¹ñ³Ï³Ý ÙÇçáóÝ»ñ ÏÇñ³é»Éáõ Ù³ëÇÝ | K8: ÀÝ¹³Ù»ÝÁ ³í³ñïí»É »Ý ·áñÍ»ñ
F10: 1 | G10: 2 | H10: 3 | I10: 4 | J10: 5 | K10: 6 | L10: 7 | M10: 8 | N10: 9 | O10: 10 | P10: 11
A11: 1 | B11: 1. | C11: ÀÝ¹³Ù»ÝÁ ÏÛ³ÝùÇ ¨ ³éáÕçáõÃÛ³Ý ¹»Ù áõÕÕí³Í Ñ³Ýó³·áñÍáõÃÛáõÝÝ»ñÁ
A12: 0 | B12: 1.1 | C12: êå³ÝáõÃÛáõÝÁ | E12: 104 | F12: 0 | G12: 2 | H12: 0 | I12: 0 | J12: 0 | K12: 0 | L12: 0 | M12: 0 | N12: 0 | O12: 2 | P12: 0
A13: 0 | B13: 1.2 | C13: Ðá·»Ï³Ý ËÇëï Ñáõ½ÙáõÝùÇ íÇ×³ÏáõÙ Ï³ï³ñí³Í ëå³ÝáõÃÛáõÝÁ | E13: 105 | F13: 0 | G13: 0 | H13: 0 | I13: 0 | J13: 0 | K13: 0 | L13: 0 | M13: 0 | N13: 0 | O13: 0 | P13: 0
A14: 0 | B14: 1.3 | C14: Øáñ ÏáÕÙÇó Ýáñ³ÍÇÝ »ñ»Ë³ÛÇ ëå³ÝáõÃÛáõÝÁ | E14: 106 | F14: 0 | G14: 0 | H14: 0 | I14: 0 | J14: 0 | K14: 0 | L14: 0 | M14: 0 | N14: 0 | O14: 0 | P14: 0
A15: 0 | B15: 1.4 | C15: Ð³Ýó³Ýù Ï³ï³ñ³Í ³ÝÓÇÝ µéÝ»Éáõ Ñ³Ù³ñ ³ÝÑñ³Å»ßï ÙÇçáóÝ»ñÇ ë³ÑÙ³Ý³½³ÝóÙ³Ùµ ëå³ÝáõÃÛáõÝÁ | E15: 107 | F15: 0 | G15: 0 | H15: 0 | I15: 0 | J15: 0 | K15: 0 | L15: 0 | M15: 0 | N15: 0 | O15: 0 | P15: 0
A16: 0 | B16: 1.5 | C16: ²ÝÑñ³Å»ßï å³ßïå³ÝáõÃÛ³Ý ë³ÑÙ³Ý³½³ÝóÙ³Ùµ ëå³ÝáõÃÛáõÝÁ | E16: 108 | F16: 0 | G16: 0 | H16: 0 | I16: 0 | J16: 0 | K16: 0 | L16: 0 | M16: 0 | N16: 0 | O16: 0 | P16: 0
A17: 0 | B17: 1.6 | C17: ²Ý½·áõßáõÃÛ³Ùµ Ù³Ñ å³ï×³é»ÉÁ | E17: 109 | F17: 0 | G17: 0 | H17: 0 | I17: 0 | J17: 0 | K17: 0 | L17: 0 | M17: 0 | N17: 0 | O17: 0 | P17: 0
A18: 0 | B18: 1.7 | C18: ÆÝùÝ³ëå³ÝáõÃÛ³Ý Ñ³ëóÝ»ÉÁ | E18: 110 | F18: 0 | G18: 0 | H18: 0 | I18: 0 | J18: 0 | K18: 0 | L18: 0 | M18: 0 | N18: 0 | O18: 0 | P18: 0
A19: 0 | B19: 1.8 | C19: ÆÝùÝ³ëå³ÝáõÃÛ³Ý Ñ³Ï»ÉÁ | E19: 111 | F19: 0 | G19: 0 | H19: 0 | I19: 0 | J19: 0 | K19: 0 | L19: 0 | M19: 0 | N19: 0 | O19: 0 | P19: 0
A20: 0 | B20: 1.9 | C20: ¸Çï³íáñáõÃÛ³Ùµ ³éáÕçáõÃÛ³ÝÁ Í³Ýñ íÝ³ë å³ï×³é»ÉÁ | E20: 112 | F20: 0 | G20: 12 | H20: 11 | I20: 0 | J20: 0 | K20: 11 | L20: 8 | M20: 5 | N20: 0 | O20: 1 | P20: 0
A21: 0 | B21: 1.10 | C21: ¸Çï³íáñáõÃÛ³Ùµ ³éáÕçáõÃÛ³ÝÁ ÙÇçÇÝ Í³ÝñáõÃÛ³Ý íÝ³ë å³ï×³é»ÉÁ | E21: 113 | F21: 1 | G21: 3 | H21: 3 | I21: 0 | J21: 0 | K21: 3 | L21: 2 | M21: 0 | N21: 0 | O21: 1 | P21: 0
A22: 0 | B22: 1.11 | C22: Ðá·»Ï³Ý ËÇëï Ñáõ½ÙáõÝùÇ íÇ×³ÏáõÙ ³éáÕçáõÃÛ³ÝÁ Í³Ýñ Ï³Ù ÙÇçÇÝ Í³ÝñáõÃÛ³Ý íÝ³ë å³ï×³é»ÉÁ | E22: 114 | F22: 0 | G22: 0 | H22: 0 | I22: 0 | J22: 0 | K22: 0 | L22: 0 | M22: 0 | N22: 0 | O22: 0 | P22: 0
A23: 0 | B23: 1.12 | C23: Ð³Ýó³Ýù Ï³ï³ñ³Í ³ÝÓÇÝ µéÝ»Éáõ Ñ³Ù³ñ ³ÝÑñ³Å»ßï ÙÇçáóÝ»ñÇ ë³ÑÙ³Ý½³ÝóÙ³Ùµ ³éáÕçáõÃÛ³ÝÁ Í³Ýñ Ï³Ù ÙÇçÇÝ Í³ÝñáõÃÛ³Ý íÝ³ë å³ï×³é»ÉÁ | E23: 115 | F23: 0 | G23: 0 | H23: 0 | I23: 0 | J23: 0 | K23: 0 | L23: 0 | M23: 0 | N23: 0 | O23: 0 | P23: 0
A24: 0 | B24: 1.13 | C24: ²éáÕçáõÃÛ³ÝÁ Í³Ýñ Ï³Ù ÙÇçÇÝ Í³ÝñáõÃÛ³Ý íÝ³ë å³ï×³é»ÉÁ ³ÝÑñ³Å»ßï å³ßïå³ÝáõÃÛ³Ý ë³ÑÙ³Ý³Ý³½³ÝóÙ³Ùµ | E24: 116 | F24: 1 | G24: 1 | H24: 2 | I24: 0 | J24: 0 | K24: 2 | L24: 2 | M24: 0 | N24: 0 | O24: 0 | P24: 0
A25: 0 | B25: 1.14 | C25: ¸Çï³íáñáõÃÛ³Ùµ ³éáÕçáõÃÛ³ÝÁ Ã»Ã¨ íÝ³ë å³ï×³é»ÉÁ | E25: 117 | F25: 0 | G25: 3 | H25: 2 | I25: 1 | J25: 0 | K25: 3 | L25: 3 | M25: 1 | N25: 0 | O25: 0 | P25: 0
A26: 0 | B26: 1.15 | C26: Ì»ÍÁ | E26: 118 | F26: 0 | G26: 3 | H26: 0 | I26: 1 | J26: 1 | K26: 2 | L26: 1 | M26: 0 | N26: 0 | O26: 1 | P26: 0
A27: 0 | B27: 1.16 | C27: Êáßï³Ý·áõÙÁ | E27: 119 | F27: 0 | G27: 0 | H27: 0 | I27: 0 | J27: 0 | K27: 0 | L27: 0 | M27: 0 | N27: 0 | O27: 0 | P27: 0
A28: 0 | B28: 1.17 | C28: ²Ý½·áõßáõÃÛ³Ùµ ³éáÕçáõÃÛ³ÝÁ Í³Ýñ íÝ³ë å³ï×³é»ÉÁ | E28: 120 | F28: 0 | G28: 0 | H28: 0 | I28: 0 | J28: 0 | K28: 0 | L28: 0 | M28: 0 | N28: 0 | O28: 0 | P28: 0
A29: 0 | B29: 1.18 | C29: ²Ý½·áõßáõÃÛ³Ùµ ³éáÕçáõÃÛ³ÝÁ ÙÇçÇÝ Í³ÝñáõÃÛ³Ý íÝ³ë å³ï×³é»ÉÁ | E29: 121 | F29: 0 | G29: 0 | H29: 0 | I29: 0 | J29: 0 | K29: 0 | L29: 0 | M29: 0 | N29: 0 | O29: 0 | P29: 0
A30: 0 | B30: 1.19 | C30: ²åûñÇÝÇ ³µáñï Ï³ï³ñ»ÉÁ | E30: 122 | F30: 0 | G30: 0 | H30: 0 | I30: 0 | J30: 0 | K30: 0 | L30: 0 | M30: 0 | N30: 0 | O30: 0 | P30: 0
A31: 0 | B31: 1.20 | C31: Ø³ñ¹áõ ÇÙáõÝ³ÛÇÝ ³Ýµ³í³ñ³ñáõÃÛ³Ý íÇñáõëÇ Ñ³ñáõóÇãáí í³ñ³Ï»ÉÁ | E31: 123 | F31: 0 | G31: 0 | H31: 0 | I31: 0 | J31: 0 | K31: 0 | L31: 0 | M31: 0 | N31: 0 | O31: 0 | P31: 0
A32: 0 | B32: 1.21 | C32: ì»Ý»ñ³Ï³Ý ÑÇí³Ý¹áõÃÛ³Ùµ Ï³Ù ³ÛÉ ë»é³í³ñ³ÏÝ»ñáí í³ñ³Ï»ÉÁ | E32: 124 | F32: 0 | G32: 0 | H32: 0 | I32: 0 | J32: 0 | K32: 0 | L32: 0 | M32: 0 | N32: 0 | O32: 0 | P32: 0
... A38: 0 | B38: 1.27 | C38: ´ÅßÏ³Ï³Ý û·ÝáõÃÛáõÝ ¨ ëå³ë³ñÏáõÙ Çñ³Ï³Ý³óÝáÕÝ»ñÇ ÏáÕÙÇó Ù³ëÝ³·Çï³Ï³Ý å³ñï³Ï³ÝáõÃÛáõÝÝ»ñÁ ãÏ³ï³ñ»ÉÁ Ï³Ù áã å³ïß³× Ï³ï³ñ»ÉÁ | E38: 130 | F38: 0 | G38: 0 | H38: 0 | I38: 0 | J38: 0 | K38: 0 | L38: 0 | M38: 0 | N38: 0 | O38: 0 | P38: 0
A39: 1 | B39: 1.28 | C39: ²ÛÉ Ñ³Ýó³·áñÍáõÃÛáõÝÝ»ñ | F39: 1 | G39: 0 | H39: 0 | I39: 0 | J39: 0 | K39: 0 | L39: 0 | M39: 0 | N39: 0 | O39: 1 | P39: 1
A40: 0 | B40: 2. | C40: ÀÝ¹³Ù»ÝÁ ³ÝÓÇ ³½³ïáõÃÛ³Ý, å³ïíÇ ¨ ³ñÅ³Ý³å³ïíáõÃÛ³Ý ¹»Ù áõÕÕí³Í Ñ³Ýó³·áñÍáõÃÛáõÝÝ»ñÁ
A41: 0 | B41: 2.1 | C41: Ø³ñ¹áõÝ ³é¨³Ý·»ÉÁ | E41: 131 | F41: 0 | G41: 0 | H41: 0 | I41: 0 | J41: 0 | K41: 0 | L41: 0 | M41: 0 | N41: 0 | O41: 0 | P41: 0
B42: 2.2 | C42: Þ³Ñ³·áñÍÙ³Ý Ýå³ï³Ïáí Ù³ñ¹áõÝ Ñ³í³ù³·ñ»ÉÁ, ÷áË³¹ñ»ÉÁ, Ñ³ÝÓÝ»ÉÁ, Ã³ùóÝ»ÉÁ Ï³Ù ëï³Ý³ÉÁ | E42: 132 | F42: 0 | G42: 0 | H42: 0 | I42: 0 | J42: 0 | K42: 0 | L42: 0 | M42: 0 | N42: 0 | O42: 0 | P42: 0
B43: 2.3 | C43: ²½³ïáõÃÛáõÝÇó ³åûñÇÝÇ ½ñÏ»ÉÁ | E43: 133 | F43: 0 | G43: 0 | H43: 0 | I43: 0 | J43: 0 | K43: 0 | L43: 0 | M43: 0 | N43: 0 | O43: 0 | P43: 0
B44: 2.4 | C44: Ðá·»µáõÅ³Ï³Ý ÑÇí³Ý¹³ÝáóáõÙ ³åûñÇÝÇ ï»Õ³íáñ»ÉÁ Ï³Ù å³Ñ»ÉÁ | E44: 134 | F44: 0 | G44: 0 | H44: 0 | I44: 0 | J44: 0 | K44: 0 | L44: 0 | M44: 0 | N44: 0 | O44: 0 | P44: 0
B45: 2.5 | C45: ¼ñå³ñïáõÃÛáõÝÁ | E45: 135 | F45: 0 | G45: 0 | H45: 0 | I45: 0 | J45: 0 | K45: 0 | L45: 0 | M45: 0 | N45: 0 | O45: 0 | P45: 0
B46: 2.6 | C46: ìÇñ³íáñ³ÝùÁ | E46: 136 | F46: 0 | G46: 0 | H46: 0 | I46: 0 | J46: 0 | K46: 0 | L46: 0 | M46: 0 | N46: 0 | O46: 0 | P46: 0
A47: 0 | B47: 2.7 | C47: êå³ÝáõÃÛ³Ý, ³éáÕçáõÃÛ³ÝÁ Í³Ýñ íÝ³ë å³ï×³é»Éáõ Ï³Ù ·áõÛù áãÝã³óÝ»Éáõ ëå³éÝ³ÉÇùÁ | E47: 137 | F47: 0 | G47: 1 | H47: 0 | I47: 0 | J47: 0 | K47: 0 | L47: 0 | M47: 0 | N47: 0 | O47: 1 | P47: 0
A48: 0 | B48: 2.8 | C48: ²ÛÉ Ñ³Ýó³·áñÍáõÃÛáõÝÝ»ñ | F48: 0 | G48: 0 | H48: 0 | I48: 0 | J48: 0 | K48: 0 | L48: 0 | M48: 0 | N48: 0 | O48: 0 | P48: 0
B49: 3. | C49: ÀÝ¹³Ù»ÝÁ ë»é³Ï³Ý ³ÝÓ»éÝÙË»ÉÇáõÃÛ³Ý ¨ ë»é³Ï³Ý ³½³ïáõÃÛ³Ý ¹»Ù áõÕÕí³Í Ñ³Ýó³·áñÍáõÃÛáõÝÝ»ñÁ
...

Sheet Arabkir
B2: Ð²ÞìºîìàôÂÚàôÜ
B4: ÐÐ ºðºì²ÜÆ ²ð²´ÎÆð ºì ø²Ü²øºè-¼ºÚÂàôÜ ì²ðâ²Î²Ü Þðæ²ÜÜºðÆ ÀÜ¸Ð²Üàôð Æð²ì²êàôÂÚ²Ü ¸²î²ð²ÜàôØ øðº²Î²Ü ¶àðÌºðÆ øÜÜàôÂÚ²Ü ìºð²´ºðÚ²È
B5: 2009Ã. ï³ñí³ Ñ³Ù³ñ
B7: êïáõ·Çã Ñ³í³ë³ñáõÙÝ»ñ` 1+2=6+9+10, 6=3+4+5 | E7: ÐÐ ùñ»³Ï³Ý ûñ»Ýë·ñùÇ Ñá¹í³ÍÝ»ñ | F7: ²Ý³í³ñï ·áñÍ»ñÇ ÙÝ³óáñ¹Á Ñ³ßí»ïáõ Å³Ù³Ý³Ï³ßñç³ÝÇ ëÏ½µáõÙ | G7: êï³óí»É »Ý ·áñÍ»ñ Ñ³ßí»ïáõ Å³Ù³Ý³Ï³ßñç³ÝáõÙ | H7: ²í³ñïí»É »Ý ·áñÍ»ñ Ñ³ßí»ïáõ Å³Ù³Ý³Ï³ßñç³ÝáõÙ | L7: úñÇÝ³Ï³Ý áõÅÇ Ù»ç ¿ Ùï»É | M7: ´áÕáù³ñÏí»É ¿ í»ñ³ùÝÝÇã ¹³ï³ñ³Ý | N7: àõÕ³ñÏí»É ¿ Áëï ÁÝ¹¹³ïáõÃÛ³Ý | O7: ²Ý³í³ñï ·áñÍ»ñÇ ÙÝ³óáñ¹Á Ñ³ßí»ïáõ Å³Ù³Ý³Ï³ßñç³ÝÇ í»ñçáõÙ | P7: ²Û¹ ÃíáõÙª Ï³ë»óí³Í
H8: øÝÝí»É ¿ Áëï ¿áõÃÛ³Ý ¨ ¹³ï³í×Çé Ï³Û³óí»É | I8: àñáßáõÙ ¿ Ï³Û³óí»É ùñ»³Ï³Ý ·áñÍÇ í³ñáõÛÃÁ Ï³ñ×»Éáõ ¨ ùñ»³Ï³Ý Ñ»ï³åÝ¹áõÙÁ ¹³¹³ñ»óÝ»Éáõ Ù³ëÇÝ | J8: àñáßáõÙ ¿ Ï³Û³óí»É ³ÝÙ»ÕëáõÝ³ÏÝ»ñÇ ÝÏ³ïÙ³Ùµ µÅßÏ³Ï³Ý µÝáõÛÃÇ Ñ³ñÏ³¹ñ³Ï³Ý ÙÇçáóÝ»ñ ÏÇñ³é»Éáõ Ù³ëÇÝ | K8: ÀÝ¹³Ù»ÝÁ ³í³ñïí»É »Ý ·áñÍ»ñ
F10: 1 | G10: 2 | H10: 3 | I10: 4 | J10: 5 | K10: 6 | L10: 7 | M10: 8 | N10: 9 | O10: 10 | P10: 11
A11: 1 | B11: 1. | C11: ÀÝ¹³Ù»ÝÁ ÏÛ³ÝùÇ ¨ ³éáÕçáõÃÛ³Ý ¹»Ù áõÕÕí³Í Ñ³Ýó³·áñÍáõÃÛáõÝÝ»ñÁ
A12: 0 | B12: 1.1 | C12: êå³ÝáõÃÛáõÝÁ | E12: 104 | G12: 7 | H12: 5 | K12: 5 | L12: 3 | M12: 3 | O12: 2 | P12: 1
A13: 0 | B13: 1.2 | C13: Ðá·»Ï³Ý ËÇëï Ñáõ½ÙáõÝùÇ íÇ×³ÏáõÙ Ï³ï³ñí³Í ëå³ÝáõÃÛáõÝÁ | E13: 105
A14: 0 | B14: 1.3 | C14: Øáñ ÏáÕÙÇó Ýáñ³ÍÇÝ »ñ»Ë³ÛÇ ëå³ÝáõÃÛáõÝÁ | E14: 106
A15: 0 | B15: 1.4 | C15: Ð³Ýó³Ýù Ï³ï³ñ³Í ³ÝÓÇÝ µéÝ»Éáõ Ñ³Ù³ñ ³ÝÑñ³Å»ßï ÙÇçáóÝ»ñÇ ë³ÑÙ³Ý³½³ÝóÙ³Ùµ ëå³ÝáõÃÛáõÝÁ | E15: 107
A16: 0 | B16: 1.5 | C16: ²ÝÑñ³Å»ßï å³ßïå³ÝáõÃÛ³Ý ë³ÑÙ³Ý³½³ÝóÙ³Ùµ ëå³ÝáõÃÛáõÝÁ | E16: 108
A17: 0 | B17: 1.6 | C17: ²Ý½·áõßáõÃÛ³Ùµ Ù³Ñ å³ï×³é»ÉÁ | E17: 109
A18: 0 | B18: 1.7 | C18: ÆÝùÝ³ëå³ÝáõÃÛ³Ý Ñ³ëóÝ»ÉÁ | E18: 110
A19: 0 | B19: 1.8 | C19: ÆÝùÝ³ëå³ÝáõÃÛ³Ý Ñ³Ï»ÉÁ | E19: 111
A20: 0 | B20: 1.9 | C20: ¸Çï³íáñáõÃÛ³Ùµ ³éáÕçáõÃÛ³ÝÁ Í³Ýñ íÝ³ë å³ï×³é»ÉÁ | E20: 112 | G20: 13 | H20: 8 | K20: 8 | L20: 5 | O20: 5 | P20: 2
A21: 0 | B21: 1.10 | C21: ¸Çï³íáñáõÃÛ³Ùµ ³éáÕçáõÃÛ³ÝÁ ÙÇçÇÝ Í³ÝñáõÃÛ³Ý íÝ³ë å³ï×³é»ÉÁ | E21: 113 | G21: 6 | H21: 5 | K21: 5 | L21: 4 | M21: 1 | O21: 1
A22: 0 | B22: 1.11 | C22: Ðá·»Ï³Ý ËÇëï Ñáõ½ÙáõÝùÇ íÇ×³ÏáõÙ ³éáÕçáõÃÛ³ÝÁ Í³Ýñ Ï³Ù ÙÇçÇÝ Í³ÝñáõÃÛ³Ý íÝ³ë å³ï×³é»ÉÁ | E22: 114
A23: 0 | B23: 1.12 | C23: Ð³Ýó³Ýù Ï³ï³ñ³Í ³ÝÓÇÝ µéÝ»Éáõ Ñ³Ù³ñ ³ÝÑñ³Å»ßï ÙÇçáóÝ»ñÇ ë³ÑÙ³Ý½³ÝóÙ³Ùµ ³éáÕçáõÃÛ³ÝÁ Í³Ýñ Ï³Ù ÙÇçÇÝ Í³ÝñáõÃÛ³Ý íÝ³ë å³ï×³é»ÉÁ | E23: 115
A24: 0 | B24: 1.13 | C24: ²éáÕçáõÃÛ³ÝÁ Í³Ýñ Ï³Ù ÙÇçÇÝ Í³ÝñáõÃÛ³Ý íÝ³ë å³ï×³é»ÉÁ ³ÝÑñ³Å»ßï å³ßïå³ÝáõÃÛ³Ý ë³ÑÙ³Ý³Ý³½³ÝóÙ³Ùµ | E24: 116 | G24: 3 | H24: 3 | K24: 3 | L24: 1 | M24: 2
A25: 0 | B25: 1.14 | C25: ¸Çï³íáñáõÃÛ³Ùµ ³éáÕçáõÃÛ³ÝÁ Ã»Ã¨ íÝ³ë å³ï×³é»ÉÁ | E25: 117 | F25: 1 | G25: 5 | H25: 5 | K25: 5 | L25: 4 | M25: 1 | O25: 1
A26: 0 | B26: 1.15 | C26: Ì»ÍÁ | E26: 118 | G26: 1 | H26: 1 | K26: 1 | L26: 1
A27: 0 | B27: 1.16 | C27: Êáßï³Ý·áõÙÁ | E27: 119
A28: 0 | B28: 1.17 | C28: ²Ý½·áõßáõÃÛ³Ùµ ³éáÕçáõÃÛ³ÝÁ Í³Ýñ íÝ³ë å³ï×³é»ÉÁ | E28: 120 | G28: 1 | H28: 1 | K28: 1 | L28: 1 | M28: 1
A29: 0 | B29: 1.18 | C29: ²Ý½·áõßáõÃÛ³Ùµ ³éáÕçáõÃÛ³ÝÁ ÙÇçÇÝ Í³ÝñáõÃÛ³Ý íÝ³ë å³ï×³é»ÉÁ | E29: 121
A30: 0 | B30: 1.19 | C30: ²åûñÇÝÇ ³µáñï Ï³ï³ñ»ÉÁ | E30: 122
A31: 0 | B31: 1.20 | C31: Ø³ñ¹áõ ÇÙáõÝ³ÛÇÝ ³Ýµ³í³ñ³ñáõÃÛ³Ý íÇñáõëÇ Ñ³ñáõóÇãáí í³ñ³Ï»ÉÁ | E31: 123
A32: 0 | B32: 1.21 | C32: ì»Ý»ñ³Ï³Ý ÑÇí³Ý¹áõÃÛ³Ùµ Ï³Ù ³ÛÉ ë»é³í³ñ³ÏÝ»ñáí í³ñ³Ï»ÉÁ | E32: 124
A33: 0 | B33: 1.22 | C33: öáËå³ïí³ëïÙ³Ý íÇñ³Ñ³ïáõÃÛáõÝ Ï³ï³ñ»Éáõ Ï³ÝáÝÝ»ñÁ Ë³Ëï»ÉÁ | E33: 125
A34: 0 | B34: 1.23 | C34: Ø³ñÙÝÇ Ù³ë»ñ Ï³Ù ÑÛáõëí³ÍùÝ»ñ ï³ÉáõÝ Ñ³ñÏ³¹ñ»ÉÁ | E34: 126
A35: 0 | B35: 1.24 | C35: ²ÝÓÇÝ ³é³Ýó Çñ Ñ³ÝÓÝ³ñ³ñáõÃÛ³Ý µÅßÏ³Ï³Ý Ï³Ù ·Çï³Ï³Ý ÷áñÓ»ñÇ »ÝÃ³ñÏ»ÉÁ | E35: 127
A36: 0 | B36: 1.25 | C36: ìï³Ý·Ç Ù»ç ÃáÕÝ»ÉÁ | E36: 128
A37: 0 | B37: 1.26 | C37: ÐÇí³Ý¹ÇÝ û·ÝáõÃÛáõÝ óáõÛó ãï³ÉÁ | E37: 129
A38: 0 | B38: 1.27 | C38: ´ÅßÏ³Ï³Ý û·ÝáõÃÛáõÝ ¨ ëå³ë³ñÏáõÙ Çñ³Ï³Ý³óÝáÕÝ»ñÇ ÏáÕÙÇó Ù³ëÝ³·Çï³Ï³Ý å³ñï³Ï³ÝáõÃÛáõÝÝ»ñÁ ãÏ³ï³ñ»ÉÁ Ï³Ù áã å³ïß³× Ï³ï³ñ»ÉÁ | E38: 130
A39: 1 | B39: 1.28 | C39: ²ÛÉ Ñ³Ýó³·áñÍáõÃÛáõÝÝ»ñ
A40: 0 | B40: 2. | C40: ÀÝ¹³Ù»ÝÁ ³ÝÓÇ ³½³ïáõÃÛ³Ý, å³ïíÇ ¨ ³ñÅ³Ý³å³ïíáõÃÛ³Ý ¹»Ù áõÕÕí³Í Ñ³Ýó³·áñÍáõÃÛáõÝÝ»ñÁ
A41: 0 | B41: 2.1 | C41: Ø³ñ¹áõÝ ³é¨³Ý·»ÉÁ | E41: 131 | G41: 1 | P41: 1
B42: 2.2 | C42: Þ³Ñ³·áñÍÙ³Ý Ýå³ï³Ïáí Ù³ñ¹áõÝ Ñ³í³ù³·ñ»ÉÁ, ÷áË³¹ñ»ÉÁ, Ñ³ÝÓÝ»ÉÁ, Ã³ùóÝ»ÉÁ Ï³Ù ëï³Ý³ÉÁ | E42: 132
B43: 2.3 | C43: ²½³ïáõÃÛáõÝÇó ³åûñÇÝÇ ½ñÏ»ÉÁ | E43: 133
B44: 2.4 | C44: Ðá·»µáõÅ³Ï³Ý ÑÇí³Ý¹³ÝáóáõÙ ³åûñÇÝÇ ï»Õ³íáñ»ÉÁ Ï³Ù å³Ñ»ÉÁ | E44: 134
...

Sheet Aragacotn
B7: êïáõ·Çã Ñ³í³ë³ñáõÙÝ»ñ` 1+2=6+9+10, 6=3+4+5 | E7: ÐÐ ùñ»³Ï³Ý ûñ»Ýë·ñùÇ Ñá¹í³ÍÝ»ñ | F7: ²Ý³í³ñï ·áñÍ»ñÇ ÙÝ³óáñ¹Á Ñ³ßí»ïáõ Å³Ù³Ý³Ï³ßñç³ÝÇ ëÏ½µáõÙ | G7: êï³óí»É »Ý ·áñÍ»ñ Ñ³ßí»ïáõ Å³Ù³Ý³Ï³ßñç³ÝáõÙ | H7: ²í³ñïí»É »Ý ·áñÍ»ñ Ñ³ßí»ïáõ Å³Ù³Ý³Ï³ßñç³ÝáõÙ | L7: úñÇÝ³Ï³Ý áõÅÇ Ù»ç ¿ Ùï»É | M7: ´áÕáù³ñÏí»É ¿ í»ñ³ùÝÝÇã ¹³ï³ñ³Ý | N7: àõÕ³ñÏí»É ¿ Áëï ÁÝ¹¹³ïáõÃÛ³Ý | O7: ²Ý³í³ñï ·áñÍ»ñÇ ÙÝ³óáñ¹Á Ñ³ßí»ïáõ Å³Ù³Ý³Ï³ßñç³ÝÇ í»ñçáõÙ | P7: ²Û¹ ÃíáõÙª Ï³ë»óí³Í
H8: øÝÝí»É ¿ Áëï ¿áõÃÛ³Ý ¨ ¹³ï³í×Çé Ï³Û³óí»É | I8: àñáßáõÙ ¿ Ï³Û³óí»É ùñ»³Ï³Ý ·áñÍÇ í³ñáõÛÃÁ Ï³ñ×»Éáõ ¨ ùñ»³Ï³Ý Ñ»ï³åÝ¹áõÙÁ ¹³¹³ñ»óÝ»Éáõ Ù³ëÇÝ | J8: àñáßáõÙ ¿ Ï³Û³óí»É ³ÝÙ»ÕëáõÝ³ÏÝ»ñÇ ÝÏ³ïÙ³Ùµ µÅßÏ³Ï³Ý µÝáõÛÃÇ Ñ³ñÏ³¹ñ³Ï³Ý ÙÇçáóÝ»ñ ÏÇñ³é»Éáõ Ù³ëÇÝ | K8: ÀÝ¹³Ù»ÝÁ ³í³ñïí»É »Ý ·áñÍ»ñ
F10: 1 | G10: 2 | H10: 3 | I10: 4 | J10: 5 | K10: 6 | L10: 7 | M10: 8 | N10: 9 | O10: 10 | P10: 11
A11: 1 | B11: 1. | C11: ÀÝ¹³Ù»ÝÁ ÏÛ³ÝùÇ ¨ ³éáÕçáõÃÛ³Ý ¹»Ù áõÕÕí³Í Ñ³Ýó³·áñÍáõÃÛáõÝÝ»ñÁ
A12: 0 | B12: 1.1 | C12: êå³ÝáõÃÛáõÝÁ | E12: 104 | G12: 3 | J12: 1 | K12: 1 | O12: 2
A13: 0 | B13: 1.2 | C13: Ðá·»Ï³Ý ËÇëï Ñáõ½ÙáõÝùÇ íÇ×³ÏáõÙ Ï³ï³ñí³Í ëå³ÝáõÃÛáõÝÁ | E13: 105
A14: 0 | B14: 1.3 | C14: Øáñ ÏáÕÙÇó Ýáñ³ÍÇÝ »ñ»Ë³ÛÇ ëå³ÝáõÃÛáõÝÁ | E14: 106
A15: 0 | B15: 1.4 | C15: Ð³Ýó³Ýù Ï³ï³ñ³Í ³ÝÓÇÝ µéÝ»Éáõ Ñ³Ù³ñ ³ÝÑñ³Å»ßï ÙÇçáóÝ»ñÇ ë³ÑÙ³Ý³½³ÝóÙ³Ùµ ëå³ÝáõÃÛáõÝÁ | E15: 107
A16: 0 | B16: 1.5 | C16: ²ÝÑñ³Å»ßï å³ßïå³ÝáõÃÛ³Ý ë³ÑÙ³Ý³½³ÝóÙ³Ùµ ëå³ÝáõÃÛáõÝÁ | E16: 108
A17: 0 | B17: 1.6 | C17: ²Ý½·áõßáõÃÛ³Ùµ Ù³Ñ å³ï×³é»ÉÁ | E17: 109
A18: 0 | B18: 1.7 | C18: ÆÝùÝ³ëå³ÝáõÃÛ³Ý Ñ³ëóÝ»ÉÁ | E18: 110
A19: 0 | B19: 1.8 | C19: ÆÝùÝ³ëå³ÝáõÃÛ³Ý Ñ³Ï»ÉÁ | E19: 111
A20: 0 | B20: 1.9 | C20: ¸Çï³íáñáõÃÛ³Ùµ ³éáÕçáõÃÛ³ÝÁ Í³Ýñ íÝ³ë å³ï×³é»ÉÁ | E20: 112 | G20: 5 | H20: 4 | K20: 4 | L20: 3 | O20: 1
A21: 0 | B21: 1.10 | C21: ¸Çï³íáñáõÃÛ³Ùµ ³éáÕçáõÃÛ³ÝÁ ÙÇçÇÝ Í³ÝñáõÃÛ³Ý íÝ³ë å³ï×³é»ÉÁ | E21: 113 | G21: 1 | O21: 1
A22: 0 | B22: 1.11 | C22: Ðá·»Ï³Ý ËÇëï Ñáõ½ÙáõÝùÇ íÇ×³ÏáõÙ ³éáÕçáõÃÛ³ÝÁ Í³Ýñ Ï³Ù ÙÇçÇÝ Í³ÝñáõÃÛ³Ý íÝ³ë å³ï×³é»ÉÁ | E22: 114
A23: 0 | B23: 1.12 | C23: Ð³Ýó³Ýù Ï³ï³ñ³Í ³ÝÓÇÝ µéÝ»Éáõ Ñ³Ù³ñ ³ÝÑñ³Å»ßï ÙÇçáóÝ»ñÇ ë³ÑÙ³Ý½³ÝóÙ³Ùµ ³éáÕçáõÃÛ³ÝÁ Í³Ýñ Ï³Ù ÙÇçÇÝ Í³ÝñáõÃÛ³Ý íÝ³ë å³ï×³é»ÉÁ | E23: 115
A24: 0 | B24: 1.13 | C24: ²éáÕçáõÃÛ³ÝÁ Í³Ýñ Ï³Ù ÙÇçÇÝ Í³ÝñáõÃÛ³Ý íÝ³ë å³ï×³é»ÉÁ ³ÝÑñ³Å»ßï å³ßïå³ÝáõÃÛ³Ý ë³ÑÙ³Ý³Ý³½³ÝóÙ³Ùµ | E24: 116
A25: 0 | B25: 1.14 | C25: ¸Çï³íáñáõÃÛ³Ùµ ³éáÕçáõÃÛ³ÝÁ Ã»Ã¨ íÝ³ë å³ï×³é»ÉÁ | E25: 117
A26: 0 | B26: 1.15 | C26: Ì»ÍÁ | E26: 118 | G26: 1 | I26: 1 | K26: 1
A27: 0 | B27: 1.16 | C27: Êáßï³Ý·áõÙÁ | E27: 119
A28: 0 | B28: 1.17 | C28: ²Ý½·áõßáõÃÛ³Ùµ ³éáÕçáõÃÛ³ÝÁ Í³Ýñ íÝ³ë å³ï×³é»ÉÁ | E28: 120
A29: 0 | B29: 1.18 | C29: ²Ý½·áõßáõÃÛ³Ùµ ³éáÕçáõÃÛ³ÝÁ ÙÇçÇÝ Í³ÝñáõÃÛ³Ý íÝ³ë å³ï×³é»ÉÁ | E29: 121
A30: 0 | B30: 1.19 | C30: ²åûñÇÝÇ ³µáñï Ï³ï³ñ»ÉÁ | E30: 122
A31: 0 | B31: 1.20 | C31: Ø³ñ¹áõ ÇÙáõÝ³ÛÇÝ ³Ýµ³í³ñ³ñáõÃÛ³Ý íÇñáõëÇ Ñ³ñáõóÇãáí í³ñ³Ï»ÉÁ | E31: 123
A32: 0 | B32: 1.21 | C32: ì»Ý»ñ³Ï³Ý ÑÇí³Ý¹áõÃÛ³Ùµ Ï³Ù ³ÛÉ ë»é³í³ñ³ÏÝ»ñáí í³ñ³Ï»ÉÁ | E32: 124
A33: 0 | B33: 1.22 | C33: öáËå³ïí³ëïÙ³Ý íÇñ³Ñ³ïáõÃÛáõÝ Ï³ï³ñ»Éáõ Ï³ÝáÝÝ»ñÁ Ë³Ëï»ÉÁ | E33: 125
A34: 0 | B34: 1.23 | C34: Ø³ñÙÝÇ Ù³ë»ñ Ï³Ù ÑÛáõëí³ÍùÝ»ñ ï³ÉáõÝ Ñ³ñÏ³¹ñ»ÉÁ | E34: 126
A35: 0 | B35: 1.24 | C35: ²ÝÓÇÝ ³é³Ýó Çñ Ñ³ÝÓÝ³ñ³ñáõÃÛ³Ý µÅßÏ³Ï³Ý Ï³Ù ·Çï³Ï³Ý ÷áñÓ»ñÇ »ÝÃ³ñÏ»ÉÁ | E35: 127
A36: 0 | B36: 1.25 | C36: ìï³Ý·Ç Ù»ç ÃáÕÝ»ÉÁ | E36: 128
A37: 0 | B37: 1.26 | C37: ÐÇí³Ý¹ÇÝ û·ÝáõÃÛáõÝ óáõÛó ãï³ÉÁ | E37: 129
A38: 0 | B38: 1.27 | C38: ´ÅßÏ³Ï³Ý û·ÝáõÃÛáõÝ ¨ ëå³ë³ñÏáõÙ Çñ³Ï³Ý³óÝáÕÝ»ñÇ ÏáÕÙÇó Ù³ëÝ³·Çï³Ï³Ý å³ñï³Ï³ÝáõÃÛáõÝÝ»ñÁ ãÏ³ï³ñ»ÉÁ Ï³Ù áã å³ïß³× Ï³ï³ñ»ÉÁ | E38: 130
A39: 1 | B39: 1.28 | C39: ²ÛÉ Ñ³Ýó³·áñÍáõÃÛáõÝÝ»ñ
A40: 0 | B40: 2. | C40: ÀÝ¹³Ù»ÝÁ ³ÝÓÇ ³½³ïáõÃÛ³Ý, å³ïíÇ ¨ ³ñÅ³Ý³å³ïíáõÃÛ³Ý ¹»Ù áõÕÕí³Í Ñ³Ýó³·áñÍáõÃÛáõÝÝ»ñÁ
A41: 0 | B41: 2.1 | C41: Ø³ñ¹áõÝ ³é¨³Ý·»ÉÁ | E41: 131 | G41: 3 | H41: 2 | K41: 2 | L41: 2 | O41: 1
B42: 2.2 | C42: Þ³Ñ³·áñÍÙ³Ý Ýå³ï³Ïáí Ù³ñ¹áõÝ Ñ³í³ù³·ñ»ÉÁ, ÷áË³¹ñ»ÉÁ, Ñ³ÝÓÝ»ÉÁ, Ã³ùóÝ»ÉÁ Ï³Ù ëï³Ý³ÉÁ | E42: 132 | G42: 1 | H42: 1 | K42: 1 | M42: 1
B43: 2.3 | C43: ²½³ïáõÃÛáõÝÇó ³åûñÇÝÇ ½ñÏ»ÉÁ | E43: 133
B44: 2.4 | C44: Ðá·»µáõÅ³Ï³Ý ÑÇí³Ý¹³ÝáóáõÙ ³åûñÇÝÇ ï»Õ³íáñ»ÉÁ Ï³Ù å³Ñ»ÉÁ | E44: 134
B45: 2.5 | C45: ¼ñå³ñïáõÃÛáõÝÁ | E45: 135
B46: 2.6 | C46: ìÇñ³íáñ³ÝùÁ | E46: 136 | G46: 2 | I46: 1 | K46: 1 | L46: 1 | O46: 1
A47: 0 | B47: 2.7 | C47: êå³ÝáõÃÛ³Ý, ³éáÕçáõÃÛ³ÝÁ Í³Ýñ íÝ³ë å³ï×³é»Éáõ Ï³Ù ·áõÛù áãÝã³óÝ»Éáõ ëå³éÝ³ÉÇùÁ | E47: 137 | G47: 1 | H47: 1 | K47: 1 | L47: 1
...

Sheet Armavir
B2: Ð²ÞìºîìàôÂÚàôÜ
B4: ÐÐ ÀÜ¸Ð²Üàôð Æð²ì²êàôÂÚ²Ü ¸²î²ð²ÜÜºðàôØ øðº²Î²Ü ¶àðÌºðÆ øÜÜàôÂÚ²Ü ìºð²´ºðÚ²È
B5: 2009Ã. ï³ñí³ Ñ³Ù³ñ
B7: êïáõ·Çã Ñ³í³ë³ñáõÙÝ»ñ` 1+2=6+9+10, 6=3+4+5 | E7: ÐÐ ùñ»³Ï³Ý ûñ»Ýë·ñùÇ Ñá¹í³ÍÝ»ñ | F7: ²Ý³í³ñï ·áñÍ»ñÇ ÙÝ³óáñ¹Á Ñ³ßí»ïáõ Å³Ù³Ý³Ï³ßñç³ÝÇ ëÏ½µáõÙ | G7: êï³óí»É »Ý ·áñÍ»ñ Ñ³ßí»ïáõ Å³Ù³Ý³Ï³ßñç³ÝáõÙ | H7: ²í³ñïí»É »Ý ·áñÍ»ñ Ñ³ßí»ïáõ Å³Ù³Ý³Ï³ßñç³ÝáõÙ | L7: úñÇÝ³Ï³Ý áõÅÇ Ù»ç ¿ Ùï»É | M7: ´áÕáù³ñÏí»É ¿ í»ñ³ùÝÝÇã ¹³ï³ñ³Ý | N7: àõÕ³ñÏí»É ¿ Áëï ÁÝ¹¹³ïáõÃÛ³Ý | O7: ²Ý³í³ñï ·áñÍ»ñÇ ÙÝ³óáñ¹Á Ñ³ßí»ïáõ Å³Ù³Ý³Ï³ßñç³ÝÇ í»ñçáõÙ | P7: ²Û¹ ÃíáõÙª Ï³ë»óí³Í
H8: øÝÝí»É ¿ Áëï ¿áõÃÛ³Ý ¨ ¹³ï³í×Çé Ï³Û³óí»É | I8: àñáßáõÙ ¿ Ï³Û³óí»É ùñ»³Ï³Ý ·áñÍÇ í³ñáõÛÃÁ Ï³ñ×»Éáõ ¨ ùñ»³Ï³Ý Ñ»ï³åÝ¹áõÙÁ ¹³¹³ñ»óÝ»Éáõ Ù³ëÇÝ | J8: àñáßáõÙ ¿ Ï³Û³óí»É ³ÝÙ»ÕëáõÝ³ÏÝ»ñÇ ÝÏ³ïÙ³Ùµ µÅßÏ³Ï³Ý µÝáõÛÃÇ Ñ³ñÏ³¹ñ³Ï³Ý ÙÇçáóÝ»ñ ÏÇñ³é»Éáõ Ù³ëÇÝ | K8: ÀÝ¹³Ù»ÝÁ ³í³ñïí»É »Ý ·áñÍ»ñ
F10: 1 | G10: 2 | H10: 3 | I10: 4 | J10: 5 | K10: 6 | L10: 7 | M10: 8 | N10: 9 | O10: 10 | P10: 11
A11: 1 | B11: 1. | C11: ÀÝ¹³Ù»ÝÁ ÏÛ³ÝùÇ ¨ ³éáÕçáõÃÛ³Ý ¹»Ù áõÕÕí³Í Ñ³Ýó³·áñÍáõÃÛáõÝÝ»ñÁ
A12: 0 | B12: 1.1 | C12: êå³ÝáõÃÛáõÝÁ | E12: 104 | G12: 5 | H12: 3 | J12: 1 | K12: 4 | L12: 2 | M12: 2 | O12: 1
A13: 0 | B13: 1.2 | C13: Ðá·»Ï³Ý ËÇëï Ñáõ½ÙáõÝùÇ íÇ×³ÏáõÙ Ï³ï³ñí³Í ëå³ÝáõÃÛáõÝÁ | E13: 105
A14: 0 | B14: 1.3 | C14: Øáñ ÏáÕÙÇó Ýáñ³ÍÇÝ »ñ»Ë³ÛÇ ëå³ÝáõÃÛáõÝÁ | E14: 106
A15: 0 | B15: 1.4 | C15: Ð³Ýó³Ýù Ï³ï³ñ³Í ³ÝÓÇÝ µéÝ»Éáõ Ñ³Ù³ñ ³ÝÑñ³Å»ßï ÙÇçáóÝ»ñÇ ë³ÑÙ³Ý³½³ÝóÙ³Ùµ ëå³ÝáõÃÛáõÝÁ | E15: 107
A16: 0 | B16: 1.5 | C16: ²ÝÑñ³Å»ßï å³ßïå³ÝáõÃÛ³Ý ë³ÑÙ³Ý³½³ÝóÙ³Ùµ ëå³ÝáõÃÛáõÝÁ | E16: 108
A17: 0 | B17: 1.6 | C17: ²Ý½·áõßáõÃÛ³Ùµ Ù³Ñ å³ï×³é»ÉÁ | E17: 109
A18: 0 | B18: 1.7 | C18: ÆÝùÝ³ëå³ÝáõÃÛ³Ý Ñ³ëóÝ»ÉÁ | E18: 110 | G18: 1 | H18: 1 | K18: 1 | L18: 1
A19: 0 | B19: 1.8 | C19: ÆÝùÝ³ëå³ÝáõÃÛ³Ý Ñ³Ï»ÉÁ | E19: 111
A20: 0 | B20: 1.9 | C20: ¸Çï³íáñáõÃÛ³Ùµ ³éáÕçáõÃÛ³ÝÁ Í³Ýñ íÝ³ë å³ï×³é»ÉÁ | E20: 112 | G20: 8 | H20: 6 | J20: 1 | K20: 7 | L20: 7 | M20: 1 | O20: 1
A21: 0 | B21: 1.10 | C21: ¸Çï³íáñáõÃÛ³Ùµ ³éáÕçáõÃÛ³ÝÁ ÙÇçÇÝ Í³ÝñáõÃÛ³Ý íÝ³ë å³ï×³é»ÉÁ | E21: 113 | F21: 1 | G21: 1 | H21: 1 | J21: 1 | K21: 2 | L21: 2
A22: 0 | B22: 1.11 | C22: Ðá·»Ï³Ý ËÇëï Ñáõ½ÙáõÝùÇ íÇ×³ÏáõÙ ³éáÕçáõÃÛ³ÝÁ Í³Ýñ Ï³Ù ÙÇçÇÝ Í³ÝñáõÃÛ³Ý íÝ³ë å³ï×³é»ÉÁ | E22: 114 | F22: 1 | G22: 1 | H22: 1 | K22: 1 | L22: 1 | O22: 1 | P22: 1
A23: 0 | B23: 1.12 | C23: Ð³Ýó³Ýù Ï³ï³ñ³Í ³ÝÓÇÝ µéÝ»Éáõ Ñ³Ù³ñ ³ÝÑñ³Å»ßï ÙÇçáóÝ»ñÇ ë³ÑÙ³Ý½³ÝóÙ³Ùµ ³éáÕçáõÃÛ³ÝÁ Í³Ýñ Ï³Ù ÙÇçÇÝ Í³ÝñáõÃÛ³Ý íÝ³ë å³ï×³é»ÉÁ | E23: 115
A24: 0 | B24: 1.13 | C24: ²éáÕçáõÃÛ³ÝÁ Í³Ýñ Ï³Ù ÙÇçÇÝ Í³ÝñáõÃÛ³Ý íÝ³ë å³ï×³é»ÉÁ ³ÝÑñ³Å»ßï å³ßïå³ÝáõÃÛ³Ý ë³ÑÙ³Ý³Ý³½³ÝóÙ³Ùµ | E24: 116 | G24: 1 | I24: 1 | K24: 1 | L24: 1
A25: 0 | B25: 1.14 | C25: ¸Çï³íáñáõÃÛ³Ùµ ³éáÕçáõÃÛ³ÝÁ Ã»Ã¨ íÝ³ë å³ï×³é»ÉÁ | E25: 117 | F25: 1 | G25: 1 | H25: 1 | K25: 1 | L25: 1 | O25: 1 | P25: 1
A26: 0 | B26: 1.15 | C26: Ì»ÍÁ | E26: 118
A27: 0 | B27: 1.16 | C27: Êáßï³Ý·áõÙÁ | E27: 119
A28: 0 | B28: 1.17 | C28: ²Ý½·áõßáõÃÛ³Ùµ ³éáÕçáõÃÛ³ÝÁ Í³Ýñ íÝ³ë å³ï×³é»ÉÁ | E28: 120 | G28: 2 | I28: 2 | K28: 2 | L28: 2
A29: 0 | B29: 1.18 | C29: ²Ý½·áõßáõÃÛ³Ùµ ³éáÕçáõÃÛ³ÝÁ ÙÇçÇÝ Í³ÝñáõÃÛ³Ý íÝ³ë å³ï×³é»ÉÁ | E29: 121
A30: 0 | B30: 1.19 | C30: ²åûñÇÝÇ ³µáñï Ï³ï³ñ»ÉÁ | E30: 122
A31: 0 | B31: 1.20 | C31: Ø³ñ¹áõ ÇÙáõÝ³ÛÇÝ ³Ýµ³í³ñ³ñáõÃÛ³Ý íÇñáõëÇ Ñ³ñáõóÇãáí í³ñ³Ï»ÉÁ | E31: 123
A32: 0 | B32: 1.21 | C32: ì»Ý»ñ³Ï³Ý ÑÇí³Ý¹áõÃÛ³Ùµ Ï³Ù ³ÛÉ ë»é³í³ñ³ÏÝ»ñáí í³ñ³Ï»ÉÁ | E32: 124
A33: 0 | B33: 1.22 | C33: öáËå³ïí³ëïÙ³Ý íÇñ³Ñ³ïáõÃÛáõÝ Ï³ï³ñ»Éáõ Ï³ÝáÝÝ»ñÁ Ë³Ëï»ÉÁ | E33: 125
A34: 0 | B34: 1.23 | C34: Ø³ñÙÝÇ Ù³ë»ñ Ï³Ù ÑÛáõëí³ÍùÝ»ñ ï³ÉáõÝ Ñ³ñÏ³¹ñ»ÉÁ | E34: 126
A35: 0 | B35: 1.24 | C35: ²ÝÓÇÝ ³é³Ýó Çñ Ñ³ÝÓÝ³ñ³ñáõÃÛ³Ý µÅßÏ³Ï³Ý Ï³Ù ·Çï³Ï³Ý ÷áñÓ»ñÇ »ÝÃ³ñÏ»ÉÁ | E35: 127
A36: 0 | B36: 1.25 | C36: ìï³Ý·Ç Ù»ç ÃáÕÝ»ÉÁ | E36: 128
A37: 0 | B37: 1.26 | C37: ÐÇí³Ý¹ÇÝ û·ÝáõÃÛáõÝ óáõÛó ãï³ÉÁ | E37: 129
A38: 0 | B38: 1.27 | C38: ´ÅßÏ³Ï³Ý û·ÝáõÃÛáõÝ ¨ ëå³ë³ñÏáõÙ Çñ³Ï³Ý³óÝáÕÝ»ñÇ ÏáÕÙÇó Ù³ëÝ³·Çï³Ï³Ý å³ñï³Ï³ÝáõÃÛáõÝÝ»ñÁ ãÏ³ï³ñ»ÉÁ Ï³Ù áã å³ïß³× Ï³ï³ñ»ÉÁ | E38: 130
A39: 1 | B39: 1.28 | C39: ²ÛÉ Ñ³Ýó³·áñÍáõÃÛáõÝÝ»ñ
A40: 0 | B40: 2. | C40: ÀÝ¹³Ù»ÝÁ ³ÝÓÇ ³½³ïáõÃÛ³Ý, å³ïíÇ ¨ ³ñÅ³Ý³å³ïíáõÃÛ³Ý ¹»Ù áõÕÕí³Í Ñ³Ýó³·áñÍáõÃÛáõÝÝ»ñÁ
A41: 0 | B41: 2.1 | C41: Ø³ñ¹áõÝ ³é¨³Ý·»ÉÁ | E41: 131 | G41: 2 | H41: 1 | J41: 1 | K41: 2 | L41: 2
B42: 2.2 | C42: Þ³Ñ³·áñÍÙ³Ý Ýå³ï³Ïáí Ù³ñ¹áõÝ Ñ³í³ù³·ñ»ÉÁ, ÷áË³¹ñ»ÉÁ, Ñ³ÝÓÝ»ÉÁ, Ã³ùóÝ»ÉÁ Ï³Ù ëï³Ý³ÉÁ | E42: 132
B43: 2.3 | C43: ²½³ïáõÃÛáõÝÇó ³åûñÇÝÇ ½ñÏ»ÉÁ | E43: 133
B44: 2.4 | C44: Ðá·»µáõÅ³Ï³Ý ÑÇí³Ý¹³ÝáóáõÙ ³åûñÇÝÇ ï»Õ³íáñ»ÉÁ Ï³Ù å³Ñ»ÉÁ | E44: 134
...

Sheet Avan
B7: êïáõ·Çã Ñ³í³ë³ñáõÙÝ»ñ` 1+2=6+9+10, 6=3+4+5 | E7: ÐÐ ùñ»³Ï³Ý ûñ»Ýë·ñùÇ Ñá¹í³ÍÝ»ñ | F7: ²Ý³í³ñï ·áñÍ»ñÇ ÙÝ³óáñ¹Á Ñ³ßí»ïáõ Å³Ù³Ý³Ï³ßñç³ÝÇ ëÏ½µáõÙ | G7: êï³óí»É »Ý ·áñÍ»ñ Ñ³ßí»ïáõ Å³Ù³Ý³Ï³ßñç³ÝáõÙ | H7: ²í³ñïí»É »Ý ·áñÍ»ñ Ñ³ßí»ïáõ Å³Ù³Ý³Ï³ßñç³ÝáõÙ | L7: úñÇÝ³Ï³Ý áõÅÇ Ù»ç ¿ Ùï»É | M7: ´áÕáù³ñÏí»É ¿ í»ñ³ùÝÝÇã ¹³ï³ñ³Ý | N7: àõÕ³ñÏí»É ¿ Áëï ÁÝ¹¹³ïáõÃÛ³Ý | O7: ²Ý³í³ñï ·áñÍ»ñÇ ÙÝ³óáñ¹Á Ñ³ßí»ïáõ Å³Ù³Ý³Ï³ßñç³ÝÇ í»ñçáõÙ | P7: ²Û¹ ÃíáõÙª Ï³ë»óí³Í
H8: øÝÝí»É ¿ Áëï ¿áõÃÛ³Ý ¨ ¹³ï³í×Çé Ï³Û³óí»É | I8: àñáßáõÙ ¿ Ï³Û³óí»É ùñ»³Ï³Ý ·áñÍÇ í³ñáõÛÃÁ Ï³ñ×»Éáõ ¨ ùñ»³Ï³Ý Ñ»ï³åÝ¹áõÙÁ ¹³¹³ñ»óÝ»Éáõ Ù³ëÇÝ | J8: àñáßáõÙ ¿ Ï³Û³óí»É ³ÝÙ»ÕëáõÝ³ÏÝ»ñÇ ÝÏ³ïÙ³Ùµ µÅßÏ³Ï³Ý µÝáõÛÃÇ Ñ³ñÏ³¹ñ³Ï³Ý ÙÇçáóÝ»ñ ÏÇñ³é»Éáõ Ù³ëÇÝ | K8: ÀÝ¹³Ù»ÝÁ ³í³ñïí»É »Ý ·áñÍ»ñ
F10: 1 | G10: 2 | H10: 3 | I10: 4 | J10: 5 | K10: 6 | L10: 7 | M10: 8 | N10: 9 | O10: 10 | P10: 11
A11: 1 | B11: 1. | C11: ÀÝ¹³Ù»ÝÁ ÏÛ³ÝùÇ ¨ ³éáÕçáõÃÛ³Ý ¹»Ù áõÕÕí³Í Ñ³Ýó³·áñÍáõÃÛáõÝÝ»ñÁ
A12: 0 | B12: 1.1 | C12: êå³ÝáõÃÛáõÝÁ | E12: 104 | F12: 0 | G12: 5 | H12: 3 | I12: 0 | J12: 0 | K12: 3 | L12: 2 | M12: 2 | N12: 0 | O12: 2 | P12: 1
A13: 0 | B13: 1.2 | C13: Ðá·»Ï³Ý ËÇëï Ñáõ½ÙáõÝùÇ íÇ×³ÏáõÙ Ï³ï³ñí³Í ëå³ÝáõÃÛáõÝÁ | E13: 105
A14: 0 | B14: 1.3 | C14: Øáñ ÏáÕÙÇó Ýáñ³ÍÇÝ »ñ»Ë³ÛÇ ëå³ÝáõÃÛáõÝÁ | E14: 106
A15: 0 | B15: 1.4 | C15: Ð³Ýó³Ýù Ï³ï³ñ³Í ³ÝÓÇÝ µéÝ»Éáõ Ñ³Ù³ñ ³ÝÑñ³Å»ßï ÙÇçáóÝ»ñÇ ë³ÑÙ³Ý³½³ÝóÙ³Ùµ ëå³ÝáõÃÛáõÝÁ | E15: 107
A16: 0 | B16: 1.5 | C16: ²ÝÑñ³Å»ßï å³ßïå³ÝáõÃÛ³Ý ë³ÑÙ³Ý³½³ÝóÙ³Ùµ ëå³ÝáõÃÛáõÝÁ | E16: 108
A17: 0 | B17: 1.6 | C17: ²Ý½·áõßáõÃÛ³Ùµ Ù³Ñ å³ï×³é»ÉÁ | E17: 109
A18: 0 | B18: 1.7 | C18: ÆÝùÝ³ëå³ÝáõÃÛ³Ý Ñ³ëóÝ»ÉÁ | E18: 110
A19: 0 | B19: 1.8 | C19: ÆÝùÝ³ëå³ÝáõÃÛ³Ý Ñ³Ï»ÉÁ | E19: 111
A20: 0 | B20: 1.9 | C20: ¸Çï³íáñáõÃÛ³Ùµ ³éáÕçáõÃÛ³ÝÁ Í³Ýñ íÝ³ë å³ï×³é»ÉÁ | E20: 112 | F20: 0 | G20: 12 | H20: 6 | I20: 0 | J20: 0 | K20: 6 | L20: 4 | M20: 2 | N20: 0 | O20: 6 | P20: 1
A21: 0 | B21: 1.10 | C21: ¸Çï³íáñáõÃÛ³Ùµ ³éáÕçáõÃÛ³ÝÁ ÙÇçÇÝ Í³ÝñáõÃÛ³Ý íÝ³ë å³ï×³é»ÉÁ | E21: 113 | F21: 0 | G21: 1 | H21: 0 | I21: 1 | J21: 0 | K21: 1 | L21: 1 | M21: 0 | N21: 0 | O21: 0 | P21: 0
A22: 0 | B22: 1.11 | C22: Ðá·»Ï³Ý ËÇëï Ñáõ½ÙáõÝùÇ íÇ×³ÏáõÙ ³éáÕçáõÃÛ³ÝÁ Í³Ýñ Ï³Ù ÙÇçÇÝ Í³ÝñáõÃÛ³Ý íÝ³ë å³ï×³é»ÉÁ | E22: 114
A23: 0 | B23: 1.12 | C23: Ð³Ýó³Ýù Ï³ï³ñ³Í ³ÝÓÇÝ µéÝ»Éáõ Ñ³Ù³ñ ³ÝÑñ³Å»ßï ÙÇçáóÝ»ñÇ ë³ÑÙ³Ý½³ÝóÙ³Ùµ ³éáÕçáõÃÛ³ÝÁ Í³Ýñ Ï³Ù ÙÇçÇÝ Í³ÝñáõÃÛ³Ý íÝ³ë å³ï×³é»ÉÁ | E23: 115
A24: 0 | B24: 1.13 | C24: ²éáÕçáõÃÛ³ÝÁ Í³Ýñ Ï³Ù ÙÇçÇÝ Í³ÝñáõÃÛ³Ý íÝ³ë å³ï×³é»ÉÁ ³ÝÑñ³Å»ßï å³ßïå³ÝáõÃÛ³Ý ë³ÑÙ³Ý³Ý³½³ÝóÙ³Ùµ | E24: 116
A25: 0 | B25: 1.14 | C25: ¸Çï³íáñáõÃÛ³Ùµ ³éáÕçáõÃÛ³ÝÁ Ã»Ã¨ íÝ³ë å³ï×³é»ÉÁ | E25: 117 | F25: 1 | G25: 3 | H25: 3 | I25: 1 | J25: 0 | K25: 4 | L25: 3 | M25: 2 | N25: 0 | O25: 0 | P25: 0
A26: 0 | B26: 1.15 | C26: Ì»ÍÁ | E26: 118 | F26: 0 | G26: 1 | H26: 0 | I26: 0 | J26: 0 | K26: 0 | L26: 0 | M26: 0 | N26: 0 | O26: 1 | P26: 0
A27: 0 | B27: 1.16 | C27: Êáßï³Ý·áõÙÁ | E27: 119
A28: 0 | B28: 1.17 | C28: ²Ý½·áõßáõÃÛ³Ùµ ³éáÕçáõÃÛ³ÝÁ Í³Ýñ íÝ³ë å³ï×³é»ÉÁ | E28: 120
A29: 0 | B29: 1.18 | C29: ²Ý½·áõßáõÃÛ³Ùµ ³éáÕçáõÃÛ³ÝÁ ÙÇçÇÝ Í³ÝñáõÃÛ³Ý íÝ³ë å³ï×³é»ÉÁ | E29: 121
A30: 0 | B30: 1.19 | C30: ²åûñÇÝÇ ³µáñï Ï³ï³ñ»ÉÁ | E30: 122
A31: 0 | B31: 1.20 | C31: Ø³ñ¹áõ ÇÙáõÝ³ÛÇÝ ³Ýµ³í³ñ³ñáõÃÛ³Ý íÇñáõëÇ Ñ³ñáõóÇãáí í³ñ³Ï»ÉÁ | E31: 123
A32: 0 | B32: 1.21 | C32: ì»Ý»ñ³Ï³Ý ÑÇí³Ý¹áõÃÛ³Ùµ Ï³Ù ³ÛÉ ë»é³í³ñ³ÏÝ»ñáí í³ñ³Ï»ÉÁ | E32: 124
A33: 0 | B33: 1.22 | C33: öáËå³ïí³ëïÙ³Ý íÇñ³Ñ³ïáõÃÛáõÝ Ï³ï³ñ»Éáõ Ï³ÝáÝÝ»ñÁ Ë³Ëï»ÉÁ | E33: 125
A34: 0 | B34: 1.23 | C34: Ø³ñÙÝÇ Ù³ë»ñ Ï³Ù ÑÛáõëí³ÍùÝ»ñ ï³ÉáõÝ Ñ³ñÏ³¹ñ»ÉÁ | E34: 126
A35: 0 | B35: 1.24 | C35: ²ÝÓÇÝ ³é³Ýó Çñ Ñ³ÝÓÝ³ñ³ñáõÃÛ³Ý µÅßÏ³Ï³Ý Ï³Ù ·Çï³Ï³Ý ÷áñÓ»ñÇ »ÝÃ³ñÏ»ÉÁ | E35: 127
A36: 0 | B36: 1.25 | C36: ìï³Ý·Ç Ù»ç ÃáÕÝ»ÉÁ | E36: 128
A37: 0 | B37: 1.26 | C37: ÐÇí³Ý¹ÇÝ û·ÝáõÃÛáõÝ óáõÛó ãï³ÉÁ | E37: 129
A38: 0 | B38: 1.27 | C38: ´ÅßÏ³Ï³Ý û·ÝáõÃÛáõÝ ¨ ëå³ë³ñÏáõÙ Çñ³Ï³Ý³óÝáÕÝ»ñÇ ÏáÕÙÇó Ù³ëÝ³·Çï³Ï³Ý å³ñï³Ï³ÝáõÃÛáõÝÝ»ñÁ ãÏ³ï³ñ»ÉÁ Ï³Ù áã å³ïß³× Ï³ï³ñ»ÉÁ | E38: 130
A39: 1 | B39: 1.28 | C39: ²ÛÉ Ñ³Ýó³·áñÍáõÃÛáõÝÝ»ñ
A40: 0 | B40: 2. | C40: ÀÝ¹³Ù»ÝÁ ³ÝÓÇ ³½³ïáõÃÛ³Ý, å³ïíÇ ¨ ³ñÅ³Ý³å³ïíáõÃÛ³Ý ¹»Ù áõÕÕí³Í Ñ³Ýó³·áñÍáõÃÛáõÝÝ»ñÁ
A41: 0 | B41: 2.1 | C41: Ø³ñ¹áõÝ ³é¨³Ý·»ÉÁ | E41: 131 | F41: 1 | G41: 1 | H41: 2 | I41: 0 | J41: 0 | K41: 2 | L41: 1 | M41: 1 | N41: 0 | O41: 0 | P41: 0
B42: 2.2 | C42: Þ³Ñ³·áñÍÙ³Ý Ýå³ï³Ïáí Ù³ñ¹áõÝ Ñ³í³ù³·ñ»ÉÁ, ÷áË³¹ñ»ÉÁ, Ñ³ÝÓÝ»ÉÁ, Ã³ùóÝ»ÉÁ Ï³Ù ëï³Ý³ÉÁ | E42: 132
B43: 2.3 | C43: ²½³ïáõÃÛáõÝÇó ³åûñÇÝÇ ½ñÏ»ÉÁ | E43: 133
B44: 2.4 | C44: Ðá·»µáõÅ³Ï³Ý ÑÇí³Ý¹³ÝáóáõÙ ³åûñÇÝÇ ï»Õ³íáñ»ÉÁ Ï³Ù å³Ñ»ÉÁ | E44: 134
B45: 2.5 | C45: ¼ñå³ñïáõÃÛáõÝÁ | E45: 135
B46: 2.6 | C46: ìÇñ³íáñ³ÝùÁ | E46: 136
A47: 0 | B47: 2.7 | C47: êå³ÝáõÃÛ³Ý, ³éáÕçáõÃÛ³ÝÁ Í³Ýñ íÝ³ë å³ï×³é»Éáõ Ï³Ù ·áõÛù áãÝã³óÝ»Éáõ ëå³éÝ³ÉÇùÁ | E47: 137
...

Sheet Erebuni
B7: êïáõ·Çã Ñ³í³ë³ñáõÙÝ»ñ` 1+2=6+9+10, 6=3+4+5 | E7: ÐÐ ùñ»³Ï³Ý ûñ»Ýë·ñùÇ Ñá¹í³ÍÝ»ñ | F7: ²Ý³í³ñï ·áñÍ»ñÇ ÙÝ³óáñ¹Á Ñ³ßí»ïáõ Å³Ù³Ý³Ï³ßñç³ÝÇ ëÏ½µáõÙ | G7: êï³óí»É »Ý ·áñÍ»ñ Ñ³ßí»ïáõ Å³Ù³Ý³Ï³ßñç³ÝáõÙ | H7: ²í³ñïí»É »Ý ·áñÍ»ñ Ñ³ßí»ïáõ Å³Ù³Ý³Ï³ßñç³ÝáõÙ | L7: úñÇÝ³Ï³Ý áõÅÇ Ù»ç ¿ Ùï»É | M7: ´áÕáù³ñÏí»É ¿ í»ñ³ùÝÝÇã ¹³ï³ñ³Ý | N7: àõÕ³ñÏí»É ¿ Áëï ÁÝ¹¹³ïáõÃÛ³Ý | O7: ²Ý³í³ñï ·áñÍ»ñÇ ÙÝ³óáñ¹Á Ñ³ßí»ïáõ Å³Ù³Ý³Ï³ßñç³ÝÇ í»ñçáõÙ | P7: ²Û¹ ÃíáõÙª Ï³ë»óí³Í
H8: øÝÝí»É ¿ Áëï ¿áõÃÛ³Ý ¨ ¹³ï³í×Çé Ï³Û³óí»É | I8: àñáßáõÙ ¿ Ï³Û³óí»É ùñ»³Ï³Ý ·áñÍÇ í³ñáõÛÃÁ Ï³ñ×»Éáõ ¨ ùñ»³Ï³Ý Ñ»ï³åÝ¹áõÙÁ ¹³¹³ñ»óÝ»Éáõ Ù³ëÇÝ | J8: àñáßáõÙ ¿ Ï³Û³óí»É ³ÝÙ»ÕëáõÝ³ÏÝ»ñÇ ÝÏ³ïÙ³Ùµ µÅßÏ³Ï³Ý µÝáõÛÃÇ Ñ³ñÏ³¹ñ³Ï³Ý ÙÇçáóÝ»ñ ÏÇñ³é»Éáõ Ù³ëÇÝ | K8: ÀÝ¹³Ù»ÝÁ ³í³ñïí»É »Ý ·áñÍ»ñ
F10: 1 | G10: 2 | H10: 3 | I10: 4 | J10: 5 | K10: 6 | L10: 7 | M10: 8 | N10: 9 | O10: 10 | P10: 11
A11: 1 | B11: 1. | C11: ÀÝ¹³Ù»ÝÁ ÏÛ³ÝùÇ ¨ ³éáÕçáõÃÛ³Ý ¹»Ù áõÕÕí³Í Ñ³Ýó³·áñÍáõÃÛáõÝÝ»ñÁ
A12: 0 | B12: 1.1 | C12: êå³ÝáõÃÛáõÝÁ | E12: 104 | G12: 3 | H12: 3 | K12: 3 | L12: 3 | M12: 3
A13: 0 | B13: 1.2 | C13: Ðá·»Ï³Ý ËÇëï Ñáõ½ÙáõÝùÇ íÇ×³ÏáõÙ Ï³ï³ñí³Í ëå³ÝáõÃÛáõÝÁ | E13: 105
A14: 0 | B14: 1.3 | C14: Øáñ ÏáÕÙÇó Ýáñ³ÍÇÝ »ñ»Ë³ÛÇ ëå³ÝáõÃÛáõÝÁ | E14: 106
A15: 0 | B15: 1.4 | C15: Ð³Ýó³Ýù Ï³ï³ñ³Í ³ÝÓÇÝ µéÝ»Éáõ Ñ³Ù³ñ ³ÝÑñ³Å»ßï ÙÇçáóÝ»ñÇ ë³ÑÙ³Ý³½³ÝóÙ³Ùµ ëå³ÝáõÃÛáõÝÁ | E15: 107
A16: 0 | B16: 1.5 | C16: ²ÝÑñ³Å»ßï å³ßïå³ÝáõÃÛ³Ý ë³ÑÙ³Ý³½³ÝóÙ³Ùµ ëå³ÝáõÃÛáõÝÁ | E16: 108
A17: 0 | B17: 1.6 | C17: ²Ý½·áõßáõÃÛ³Ùµ Ù³Ñ å³ï×³é»ÉÁ | E17: 109
A18: 0 | B18: 1.7 | C18: ÆÝùÝ³ëå³ÝáõÃÛ³Ý Ñ³ëóÝ»ÉÁ | E18: 110
A19: 0 | B19: 1.8 | C19: ÆÝùÝ³ëå³ÝáõÃÛ³Ý Ñ³Ï»ÉÁ | E19: 111
A20: 0 | B20: 1.9 | C20: ¸Çï³íáñáõÃÛ³Ùµ ³éáÕçáõÃÛ³ÝÁ Í³Ýñ íÝ³ë å³ï×³é»ÉÁ | E20: 112 | G20: 13 | H20: 9 | K20: 9 | L20: 8 | M20: 4 | N20: 1 | O20: 3
A21: 0 | B21: 1.10 | C21: ¸Çï³íáñáõÃÛ³Ùµ ³éáÕçáõÃÛ³ÝÁ ÙÇçÇÝ Í³ÝñáõÃÛ³Ý íÝ³ë å³ï×³é»ÉÁ | E21: 113 | G21: 5 | H21: 4 | I21: 1 | K21: 5 | L21: 4 | M21: 1
A22: 0 | B22: 1.11 | C22: Ðá·»Ï³Ý ËÇëï Ñáõ½ÙáõÝùÇ íÇ×³ÏáõÙ ³éáÕçáõÃÛ³ÝÁ Í³Ýñ Ï³Ù ÙÇçÇÝ Í³ÝñáõÃÛ³Ý íÝ³ë å³ï×³é»ÉÁ | E22: 114
A23: 0 | B23: 1.12 | C23: Ð³Ýó³Ýù Ï³ï³ñ³Í ³ÝÓÇÝ µéÝ»Éáõ Ñ³Ù³ñ ³ÝÑñ³Å»ßï ÙÇçáóÝ»ñÇ ë³ÑÙ³Ý½³ÝóÙ³Ùµ ³éáÕçáõÃÛ³ÝÁ Í³Ýñ Ï³Ù ÙÇçÇÝ Í³ÝñáõÃÛ³Ý íÝ³ë å³ï×³é»ÉÁ | E23: 115
A24: 0 | B24: 1.13 | C24: ²éáÕçáõÃÛ³ÝÁ Í³Ýñ Ï³Ù ÙÇçÇÝ Í³ÝñáõÃÛ³Ý íÝ³ë å³ï×³é»ÉÁ ³ÝÑñ³Å»ßï å³ßïå³ÝáõÃÛ³Ý ë³ÑÙ³Ý³Ý³½³ÝóÙ³Ùµ | E24: 116 | G24: 1 | I24: 1 | K24: 1 | L24: 1
A25: 0 | B25: 1.14 | C25: ¸Çï³íáñáõÃÛ³Ùµ ³éáÕçáõÃÛ³ÝÁ Ã»Ã¨ íÝ³ë å³ï×³é»ÉÁ | E25: 117 | G25: 2 | H25: 1 | I25: 1 | K25: 2 | L25: 2
A26: 0 | B26: 1.15 | C26: Ì»ÍÁ | E26: 118 | F26: 1 | G26: 1 | H26: 1 | I26: 1 | K26: 2 | L26: 2 | M26: 1
A27: 0 | B27: 1.16 | C27: Êáßï³Ý·áõÙÁ | E27: 119
A28: 0 | B28: 1.17 | C28: ²Ý½·áõßáõÃÛ³Ùµ ³éáÕçáõÃÛ³ÝÁ Í³Ýñ íÝ³ë å³ï×³é»ÉÁ | E28: 120
A29: 0 | B29: 1.18 | C29: ²Ý½·áõßáõÃÛ³Ùµ ³éáÕçáõÃÛ³ÝÁ ÙÇçÇÝ Í³ÝñáõÃÛ³Ý íÝ³ë å³ï×³é»ÉÁ | E29: 121
A30: 0 | B30: 1.19 | C30: ²åûñÇÝÇ ³µáñï Ï³ï³ñ»ÉÁ | E30: 122
A31: 0 | B31: 1.20 | C31: Ø³ñ¹áõ ÇÙáõÝ³ÛÇÝ ³Ýµ³í³ñ³ñáõÃÛ³Ý íÇñáõëÇ Ñ³ñáõóÇãáí í³ñ³Ï»ÉÁ | E31: 123
A32: 0 | B32: 1.21 | C32: ì»Ý»ñ³Ï³Ý ÑÇí³Ý¹áõÃÛ³Ùµ Ï³Ù ³ÛÉ ë»é³í³ñ³ÏÝ»ñáí í³ñ³Ï»ÉÁ | E32: 124
A33: 0 | B33: 1.22 | C33: öáËå³ïí³ëïÙ³Ý íÇñ³Ñ³ïáõÃÛáõÝ Ï³ï³ñ»Éáõ Ï³ÝáÝÝ»ñÁ Ë³Ëï»ÉÁ | E33: 125
A34: 0 | B34: 1.23 | C34: Ø³ñÙÝÇ Ù³ë»ñ Ï³Ù ÑÛáõëí³ÍùÝ»ñ ï³ÉáõÝ Ñ³ñÏ³¹ñ»ÉÁ | E34: 126
A35: 0 | B35: 1.24 | C35: ²ÝÓÇÝ ³é³Ýó Çñ Ñ³ÝÓÝ³ñ³ñáõÃÛ³Ý µÅßÏ³Ï³Ý Ï³Ù ·Çï³Ï³Ý ÷áñÓ»ñÇ »ÝÃ³ñÏ»ÉÁ | E35: 127
A36: 0 | B36: 1.25 | C36: ìï³Ý·Ç Ù»ç ÃáÕÝ»ÉÁ | E36: 128
A37: 0 | B37: 1.26 | C37: ÐÇí³Ý¹ÇÝ û·ÝáõÃÛáõÝ óáõÛó ãï³ÉÁ | E37: 129
A38: 0 | B38: 1.27 | C38: ´ÅßÏ³Ï³Ý û·ÝáõÃÛáõÝ ¨ ëå³ë³ñÏáõÙ Çñ³Ï³Ý³óÝáÕÝ»ñÇ ÏáÕÙÇó Ù³ëÝ³·Çï³Ï³Ý å³ñï³Ï³ÝáõÃÛáõÝÝ»ñÁ ãÏ³ï³ñ»ÉÁ Ï³Ù áã å³ïß³× Ï³ï³ñ»ÉÁ | E38: 130
A39: 1 | B39: 1.28 | C39: ²ÛÉ Ñ³Ýó³·áñÍáõÃÛáõÝÝ»ñ
A40: 0 | B40: 2. | C40: ÀÝ¹³Ù»ÝÁ ³ÝÓÇ ³½³ïáõÃÛ³Ý, å³ïíÇ ¨ ³ñÅ³Ý³å³ïíáõÃÛ³Ý ¹»Ù áõÕÕí³Í Ñ³Ýó³·áñÍáõÃÛáõÝÝ»ñÁ
A41: 0 | B41: 2.1 | C41: Ø³ñ¹áõÝ ³é¨³Ý·»ÉÁ | E41: 131
B42: 2.2 | C42: Þ³Ñ³·áñÍÙ³Ý Ýå³ï³Ïáí Ù³ñ¹áõÝ Ñ³í³ù³·ñ»ÉÁ, ÷áË³¹ñ»ÉÁ, Ñ³ÝÓÝ»ÉÁ, Ã³ùóÝ»ÉÁ Ï³Ù ëï³Ý³ÉÁ | E42: 132 | G42: 1 | H42: 1 | K42: 1 | L42: 1 | M42: 1
B43: 2.3 | C43: ²½³ïáõÃÛáõÝÇó ³åûñÇÝÇ ½ñÏ»ÉÁ | E43: 133
B44: 2.4 | C44: Ðá·»µáõÅ³Ï³Ý ÑÇí³Ý¹³ÝáóáõÙ ³åûñÇÝÇ ï»Õ³íáñ»ÉÁ Ï³Ù å³Ñ»ÉÁ | E44: 134
B45: 2.5 | C45: ¼ñå³ñïáõÃÛáõÝÁ | E45: 135
B46: 2.6 | C46: ìÇñ³íáñ³ÝùÁ | E46: 136
A47: 0 | B47: 2.7 | C47: êå³ÝáõÃÛ³Ý, ³éáÕçáõÃÛ³ÝÁ Í³Ýñ íÝ³ë å³ï×³é»Éáõ Ï³Ù ·áõÛù áãÝã³óÝ»Éáõ ëå³éÝ³ÉÇùÁ | E47: 137 | G47: 1 | I47: 1 | K47: 1 | L47: 1
...

Sheet Gexarqunik
B2: Ð²ÞìºîìàôÂÚàôÜ
B4: ÐÐ ¶ºÔ²ðøàôÜÆøÆ Ø²ð¼Æ ÀÜ¸Ð²Üàôð Æð²ì²êàôÂÚ²Ü ¸²î²ð²ÜàôØ øðº²Î²Ü ¶àðÌºðÆ øÜÜàôÂÚ²Ü ìºð²´ºðÚ²È
B5: 2009Ã. ï³ñí³ Ñ³Ù³ñ
B7: êïáõ·Çã Ñ³í³ë³ñáõÙÝ»ñ` 1+2=6+9+10, 6=3+4+5 | E7: ÐÐ ùñ»³Ï³Ý ûñ»Ýë·ñùÇ Ñá¹í³ÍÝ»ñ | F7: ²Ý³í³ñï ·áñÍ»ñÇ ÙÝ³óáñ¹Á Ñ³ßí»ïáõ Å³Ù³Ý³Ï³ßñç³ÝÇ ëÏ½µáõÙ | G7: êï³óí»É »Ý ·áñÍ»ñ Ñ³ßí»ïáõ Å³Ù³Ý³Ï³ßñç³ÝáõÙ | H7: ²í³ñïí»É »Ý ·áñÍ»ñ Ñ³ßí»ïáõ Å³Ù³Ý³Ï³ßñç³ÝáõÙ | L7: úñÇÝ³Ï³Ý áõÅÇ Ù»ç ¿ Ùï»É | M7: ´áÕáù³ñÏí»É ¿ í»ñ³ùÝÝÇã ¹³ï³ñ³Ý | N7: àõÕ³ñÏí»É ¿ Áëï ÁÝ¹¹³ïáõÃÛ³Ý | O7: ²Ý³í³ñï ·áñÍ»ñÇ ÙÝ³óáñ¹Á Ñ³ßí»ïáõ Å³Ù³Ý³Ï³ßñç³ÝÇ í»ñçáõÙ | P7: ²Û¹ ÃíáõÙª Ï³ë»óí³Í
H8: øÝÝí»É ¿ Áëï ¿áõÃÛ³Ý ¨ ¹³ï³í×Çé Ï³Û³óí»É | I8: àñáßáõÙ ¿ Ï³Û³óí»É ùñ»³Ï³Ý ·áñÍÇ í³ñáõÛÃÁ Ï³ñ×»Éáõ ¨ ùñ»³Ï³Ý Ñ»ï³åÝ¹áõÙÁ ¹³¹³ñ»óÝ»Éáõ Ù³ëÇÝ | J8: àñáßáõÙ ¿ Ï³Û³óí»É ³ÝÙ»ÕëáõÝ³ÏÝ»ñÇ ÝÏ³ïÙ³Ùµ µÅßÏ³Ï³Ý µÝáõÛÃÇ Ñ³ñÏ³¹ñ³Ï³Ý ÙÇçáóÝ»ñ ÏÇñ³é»Éáõ Ù³ëÇÝ | K8: ÀÝ¹³Ù»ÝÁ ³í³ñïí»É »Ý ·áñÍ»ñ
F10: 1 | G10: 2 | H10: 3 | I10: 4 | J10: 5 | K10: 6 | L10: 7 | M10: 8 | N10: 9 | O10: 10 | P10: 11
A11: 1 | B11: 1. | C11: ÀÝ¹³Ù»ÝÁ ÏÛ³ÝùÇ ¨ ³éáÕçáõÃÛ³Ý ¹»Ù áõÕÕí³Í Ñ³Ýó³·áñÍáõÃÛáõÝÝ»ñÁ
A12: 0 | B12: 1.1 | C12: êå³ÝáõÃÛáõÝÁ | E12: 104
A13: 0 | B13: 1.2 | C13: Ðá·»Ï³Ý ËÇëï Ñáõ½ÙáõÝùÇ íÇ×³ÏáõÙ Ï³ï³ñí³Í ëå³ÝáõÃÛáõÝÁ | E13: 105
A14: 0 | B14: 1.3 | C14: Øáñ ÏáÕÙÇó Ýáñ³ÍÇÝ »ñ»Ë³ÛÇ ëå³ÝáõÃÛáõÝÁ | E14: 106
A15: 0 | B15: 1.4 | C15: Ð³Ýó³Ýù Ï³ï³ñ³Í ³ÝÓÇÝ µéÝ»Éáõ Ñ³Ù³ñ ³ÝÑñ³Å»ßï ÙÇçáóÝ»ñÇ ë³ÑÙ³Ý³½³ÝóÙ³Ùµ ëå³ÝáõÃÛáõÝÁ | E15: 107
A16: 0 | B16: 1.5 | C16: ²ÝÑñ³Å»ßï å³ßïå³ÝáõÃÛ³Ý ë³ÑÙ³Ý³½³ÝóÙ³Ùµ ëå³ÝáõÃÛáõÝÁ | E16: 108
A17: 0 | B17: 1.6 | C17: ²Ý½·áõßáõÃÛ³Ùµ Ù³Ñ å³ï×³é»ÉÁ | E17: 109
A18: 0 | B18: 1.7 | C18: ÆÝùÝ³ëå³ÝáõÃÛ³Ý Ñ³ëóÝ»ÉÁ | E18: 110
A19: 0 | B19: 1.8 | C19: ÆÝùÝ³ëå³ÝáõÃÛ³Ý Ñ³Ï»ÉÁ | E19: 111
A20: 0 | B20: 1.9 | C20: ¸Çï³íáñáõÃÛ³Ùµ ³éáÕçáõÃÛ³ÝÁ Í³Ýñ íÝ³ë å³ï×³é»ÉÁ | E20: 112 | G20: 5 | H20: 3 | K20: 3 | L20: 2 | M20: 1 | O20: 2
A21: 0 | B21: 1.10 | C21: ¸Çï³íáñáõÃÛ³Ùµ ³éáÕçáõÃÛ³ÝÁ ÙÇçÇÝ Í³ÝñáõÃÛ³Ý íÝ³ë å³ï×³é»ÉÁ | E21: 113 | G21: 4 | H21: 2 | I21: 1 | K21: 3 | L21: 3 | O21: 1
A22: 0 | B22: 1.11 | C22: Ðá·»Ï³Ý ËÇëï Ñáõ½ÙáõÝùÇ íÇ×³ÏáõÙ ³éáÕçáõÃÛ³ÝÁ Í³Ýñ Ï³Ù ÙÇçÇÝ Í³ÝñáõÃÛ³Ý íÝ³ë å³ï×³é»ÉÁ | E22: 114
A23: 0 | B23: 1.12 | C23: Ð³Ýó³Ýù Ï³ï³ñ³Í ³ÝÓÇÝ µéÝ»Éáõ Ñ³Ù³ñ ³ÝÑñ³Å»ßï ÙÇçáóÝ»ñÇ ë³ÑÙ³Ý½³ÝóÙ³Ùµ ³éáÕçáõÃÛ³ÝÁ Í³Ýñ Ï³Ù ÙÇçÇÝ Í³ÝñáõÃÛ³Ý íÝ³ë å³ï×³é»ÉÁ | E23: 115
A24: 0 | B24: 1.13 | C24: ²éáÕçáõÃÛ³ÝÁ Í³Ýñ Ï³Ù ÙÇçÇÝ Í³ÝñáõÃÛ³Ý íÝ³ë å³ï×³é»ÉÁ ³ÝÑñ³Å»ßï å³ßïå³ÝáõÃÛ³Ý ë³ÑÙ³Ý³Ý³½³ÝóÙ³Ùµ | E24: 116
A25: 0 | B25: 1.14 | C25: ¸Çï³íáñáõÃÛ³Ùµ ³éáÕçáõÃÛ³ÝÁ Ã»Ã¨ íÝ³ë å³ï×³é»ÉÁ | E25: 117 | G25: 5 | H25: 3 | I25: 1 | K25: 4 | L25: 4 | O25: 1
A26: 0 | B26: 1.15 | C26: Ì»ÍÁ | E26: 118 | G26: 2 | I26: 1 | K26: 1 | L26: 1 | O26: 1
A27: 0 | B27: 1.16 | C27: Êáßï³Ý·áõÙÁ | E27: 119
A28: 0 | B28: 1.17 | C28: ²Ý½·áõßáõÃÛ³Ùµ ³éáÕçáõÃÛ³ÝÁ Í³Ýñ íÝ³ë å³ï×³é»ÉÁ | E28: 120
A29: 0 | B29: 1.18 | C29: ²Ý½·áõßáõÃÛ³Ùµ ³éáÕçáõÃÛ³ÝÁ ÙÇçÇÝ Í³ÝñáõÃÛ³Ý íÝ³ë å³ï×³é»ÉÁ | E29: 121
A30: 0 | B30: 1.19 | C30: ²åûñÇÝÇ ³µáñï Ï³ï³ñ»ÉÁ | E30: 122
A31: 0 | B31: 1.20 | C31: Ø³ñ¹áõ ÇÙáõÝ³ÛÇÝ ³Ýµ³í³ñ³ñáõÃÛ³Ý íÇñáõëÇ Ñ³ñáõóÇãáí í³ñ³Ï»ÉÁ | E31: 123
A32: 0 | B32: 1.21 | C32: ì»Ý»ñ³Ï³Ý ÑÇí³Ý¹áõÃÛ³Ùµ Ï³Ù ³ÛÉ ë»é³í³ñ³ÏÝ»ñáí í³ñ³Ï»ÉÁ | E32: 124
A33: 0 | B33: 1.22 | C33: öáËå³ïí³ëïÙ³Ý íÇñ³Ñ³ïáõÃÛáõÝ Ï³ï³ñ»Éáõ Ï³ÝáÝÝ»ñÁ Ë³Ëï»ÉÁ | E33: 125
A34: 0 | B34: 1.23 | C34: Ø³ñÙÝÇ Ù³ë»ñ Ï³Ù ÑÛáõëí³ÍùÝ»ñ ï³ÉáõÝ Ñ³ñÏ³¹ñ»ÉÁ | E34: 126
A35: 0 | B35: 1.24 | C35: ²ÝÓÇÝ ³é³Ýó Çñ Ñ³ÝÓÝ³ñ³ñáõÃÛ³Ý µÅßÏ³Ï³Ý Ï³Ù ·Çï³Ï³Ý ÷áñÓ»ñÇ »ÝÃ³ñÏ»ÉÁ | E35: 127
A36: 0 | B36: 1.25 | C36: ìï³Ý·Ç Ù»ç ÃáÕÝ»ÉÁ | E36: 128
A37: 0 | B37: 1.26 | C37: ÐÇí³Ý¹ÇÝ û·ÝáõÃÛáõÝ óáõÛó ãï³ÉÁ | E37: 129
A38: 0 | B38: 1.27 | C38: ´ÅßÏ³Ï³Ý û·ÝáõÃÛáõÝ ¨ ëå³ë³ñÏáõÙ Çñ³Ï³Ý³óÝáÕÝ»ñÇ ÏáÕÙÇó Ù³ëÝ³·Çï³Ï³Ý å³ñï³Ï³ÝáõÃÛáõÝÝ»ñÁ ãÏ³ï³ñ»ÉÁ Ï³Ù áã å³ïß³× Ï³ï³ñ»ÉÁ | E38: 130
A39: 1 | B39: 1.28 | C39: ²ÛÉ Ñ³Ýó³·áñÍáõÃÛáõÝÝ»ñ
A40: 0 | B40: 2. | C40: ÀÝ¹³Ù»ÝÁ ³ÝÓÇ ³½³ïáõÃÛ³Ý, å³ïíÇ ¨ ³ñÅ³Ý³å³ïíáõÃÛ³Ý ¹»Ù áõÕÕí³Í Ñ³Ýó³·áñÍáõÃÛáõÝÝ»ñÁ
A41: 0 | B41: 2.1 | C41: Ø³ñ¹áõÝ ³é¨³Ý·»ÉÁ | E41: 131 | G41: 2 | H41: 2 | K41: 2 | L41: 2
B42: 2.2 | C42: Þ³Ñ³·áñÍÙ³Ý Ýå³ï³Ïáí Ù³ñ¹áõÝ Ñ³í³ù³·ñ»ÉÁ, ÷áË³¹ñ»ÉÁ, Ñ³ÝÓÝ»ÉÁ, Ã³ùóÝ»ÉÁ Ï³Ù ëï³Ý³ÉÁ | E42: 132
B43: 2.3 | C43: ²½³ïáõÃÛáõÝÇó ³åûñÇÝÇ ½ñÏ»ÉÁ | E43: 133
B44: 2.4 | C44: Ðá·»µáõÅ³Ï³Ý ÑÇí³Ý¹³ÝáóáõÙ ³åûñÇÝÇ ï»Õ³íáñ»ÉÁ Ï³Ù å³Ñ»ÉÁ | E44: 134
...

Sheet Kentron
B2: Ð²ÞìºîìàôÂÚàôÜ
B4: ÐÐ ԿԵՆՏՐՈՆ ԵՎ ՆՈՐՔ-ՄԱՐԱՇ ÀÜ¸Ð²Üàôð Æð²ì²êàôÂÚ²Ü ¸²î²ð²ÜÜºðàôØ øðº²Î²Ü ¶àðÌºðÆ øÜÜàôÂÚ²Ü ìºð²´ºՅԱԼ
B5: 2009 Ã. /Տարվա/ Ñ³Ù³ñ
B7: êïáõ·Çã Ñ³í³ë³ñáõÙÝ»ñ` 1+2=6+9+10, 6=3+4+5 | E7: ÐÐ ùñ»³Ï³Ý ûñ»Ýë·ñùÇ Ñá¹í³ÍÝ»ñ | F7: ²Ý³í³ñï ·áñÍ»ñÇ ÙÝ³óáñ¹Á Ñ³ßí»ïáõ Å³Ù³Ý³Ï³ßñç³ÝÇ ëÏ½µáõÙ | G7: êï³óí»É »Ý ·áñÍ»ñ Ñ³ßí»ïáõ Å³Ù³Ý³Ï³ßñç³ÝáõÙ | H7: ²í³ñïí»É »Ý ·áñÍ»ñ Ñ³ßí»ïáõ Å³Ù³Ý³Ï³ßñç³ÝáõÙ | L7: úñÇÝ³Ï³Ý áõÅÇ Ù»ç ¿ Ùï»É | M7: ´áÕáù³ñÏí»É ¿ í»ñ³ùÝÝÇã ¹³ï³ñ³Ý | N7: àõÕ³ñÏí»É ¿ Áëï ÁÝ¹¹³ïáõÃÛ³Ý | O7: ²Ý³í³ñï ·áñÍ»ñÇ ÙÝ³óáñ¹Á Ñ³ßí»ïáõ Å³Ù³Ý³Ï³ßñç³ÝÇ í»ñçáõÙ | P7: ²Û¹ ÃíáõÙª Ï³ë»óí³Í
H8: øÝÝí»É ¿ Áëï ¿áõÃÛ³Ý ¨ ¹³ï³í×Çé Ï³Û³óí»É | I8: àñáßáõÙ ¿ Ï³Û³óí»É ùñ»³Ï³Ý ·áñÍÇ í³ñáõÛÃÁ Ï³ñ×»Éáõ ¨ ùñ»³Ï³Ý Ñ»ï³åÝ¹áõÙÁ ¹³¹³ñ»óÝ»Éáõ Ù³ëÇÝ | J8: àñáßáõÙ ¿ Ï³Û³óí»É ³ÝÙ»ÕëáõÝ³ÏÝ»ñÇ ÝÏ³ïÙ³Ùµ µÅßÏ³Ï³Ý µÝáõÛÃÇ Ñ³ñÏ³¹ñ³Ï³Ý ÙÇçáóÝ»ñ ÏÇñ³é»Éáõ Ù³ëÇÝ | K8: ÀÝ¹³Ù»ÝÁ ³í³ñïí»É »Ý ·áñÍ»ñ
F10: 1 | G10: 2 | H10: 3 | I10: 4 | J10: 5 | K10: 6 | L10: 7 | M10: 8 | N10: 9 | O10: 10 | P10: 11
A11: 1 | B11: 1. | C11: ÀÝ¹³Ù»ÝÁ ÏÛ³ÝùÇ ¨ ³éáÕçáõÃÛ³Ý ¹»Ù áõÕÕí³Í Ñ³Ýó³·áñÍáõÃÛáõÝÝ»ñÁ
A12: 0 | B12: 1.1 | C12: êå³ÝáõÃÛáõÝÁ | E12: 104 | G12: 7 | H12: 5 | K12: 5 | L12: 2 | M12: 2 | O12: 2
A13: 0 | B13: 1.2 | C13: Ðá·»Ï³Ý ËÇëï Ñáõ½ÙáõÝùÇ íÇ×³ÏáõÙ Ï³ï³ñí³Í ëå³ÝáõÃÛáõÝÁ | E13: 105
A14: 0 | B14: 1.3 | C14: Øáñ ÏáÕÙÇó Ýáñ³ÍÇÝ »ñ»Ë³ÛÇ ëå³ÝáõÃÛáõÝÁ | E14: 106
A15: 0 | B15: 1.4 | C15: Ð³Ýó³Ýù Ï³ï³ñ³Í ³ÝÓÇÝ µéÝ»Éáõ Ñ³Ù³ñ ³ÝÑñ³Å»ßï ÙÇçáóÝ»ñÇ ë³ÑÙ³Ý³½³ÝóÙ³Ùµ ëå³ÝáõÃÛáõÝÁ | E15: 107
A16: 0 | B16: 1.5 | C16: ²ÝÑñ³Å»ßï å³ßïå³ÝáõÃÛ³Ý ë³ÑÙ³Ý³½³ÝóÙ³Ùµ ëå³ÝáõÃÛáõÝÁ | E16: 108
A17: 0 | B17: 1.6 | C17: ²Ý½·áõßáõÃÛ³Ùµ Ù³Ñ å³ï×³é»ÉÁ | E17: 109 | G17: 1 | O17: 1
A18: 0 | B18: 1.7 | C18: ÆÝùÝ³ëå³ÝáõÃÛ³Ý Ñ³ëóÝ»ÉÁ | E18: 110
A19: 0 | B19: 1.8 | C19: ÆÝùÝ³ëå³ÝáõÃÛ³Ý Ñ³Ï»ÉÁ | E19: 111
A20: 0 | B20: 1.9 | C20: ¸Çï³íáñáõÃÛ³Ùµ ³éáÕçáõÃÛ³ÝÁ Í³Ýñ íÝ³ë å³ï×³é»ÉÁ | E20: 112 | G20: 10 | H20: 8 | K20: 8 | L20: 5 | M20: 4 | O20: 2
A21: 0 | B21: 1.10 | C21: ¸Çï³íáñáõÃÛ³Ùµ ³éáÕçáõÃÛ³ÝÁ ÙÇçÇÝ Í³ÝñáõÃÛ³Ý íÝ³ë å³ï×³é»ÉÁ | E21: 113 | G21: 6 | H21: 4 | I21: 1 | J21: 1 | K21: 6 | L21: 3 | M21: 3
A22: 0 | B22: 1.11 | C22: Ðá·»Ï³Ý ËÇëï Ñáõ½ÙáõÝùÇ íÇ×³ÏáõÙ ³éáÕçáõÃÛ³ÝÁ Í³Ýñ Ï³Ù ÙÇçÇÝ Í³ÝñáõÃÛ³Ý íÝ³ë å³ï×³é»ÉÁ | E22: 114
A23: 0 | B23: 1.12 | C23: Ð³Ýó³Ýù Ï³ï³ñ³Í ³ÝÓÇÝ µéÝ»Éáõ Ñ³Ù³ñ ³ÝÑñ³Å»ßï ÙÇçáóÝ»ñÇ ë³ÑÙ³Ý½³ÝóÙ³Ùµ ³éáÕçáõÃÛ³ÝÁ Í³Ýñ Ï³Ù ÙÇçÇÝ Í³ÝñáõÃÛ³Ý íÝ³ë å³ï×³é»ÉÁ | E23: 115
A24: 0 | B24: 1.13 | C24: ²éáÕçáõÃÛ³ÝÁ Í³Ýñ Ï³Ù ÙÇçÇÝ Í³ÝñáõÃÛ³Ý íÝ³ë å³ï×³é»ÉÁ ³ÝÑñ³Å»ßï å³ßïå³ÝáõÃÛ³Ý ë³ÑÙ³Ý³Ý³½³ÝóÙ³Ùµ | E24: 116 | G24: 1 | H24: 1 | K24: 1 | L24: 1
A25: 0 | B25: 1.14 | C25: ¸Çï³íáñáõÃÛ³Ùµ ³éáÕçáõÃÛ³ÝÁ Ã»Ã¨ íÝ³ë å³ï×³é»ÉÁ | E25: 117 | G25: 3 | I25: 2 | K25: 2 | O25: 1
A26: 0 | B26: 1.15 | C26: Ì»ÍÁ | E26: 118 | G26: 3 | H26: 1 | K26: 1 | L26: 1 | O26: 2
A27: 0 | B27: 1.16 | C27: Êáßï³Ý·áõÙÁ | E27: 119
A28: 0 | B28: 1.17 | C28: ²Ý½·áõßáõÃÛ³Ùµ ³éáÕçáõÃÛ³ÝÁ Í³Ýñ íÝ³ë å³ï×³é»ÉÁ | E28: 120
A29: 0 | B29: 1.18 | C29: ²Ý½·áõßáõÃÛ³Ùµ ³éáÕçáõÃÛ³ÝÁ ÙÇçÇÝ Í³ÝñáõÃÛ³Ý íÝ³ë å³ï×³é»ÉÁ | E29: 121
A30: 0 | B30: 1.19 | C30: ²åûñÇÝÇ ³µáñï Ï³ï³ñ»ÉÁ | E30: 122
A31: 0 | B31: 1.20 | C31: Ø³ñ¹áõ ÇÙáõÝ³ÛÇÝ ³Ýµ³í³ñ³ñáõÃÛ³Ý íÇñáõëÇ Ñ³ñáõóÇãáí í³ñ³Ï»ÉÁ | E31: 123
A32: 0 | B32: 1.21 | C32: ì»Ý»ñ³Ï³Ý ÑÇí³Ý¹áõÃÛ³Ùµ Ï³Ù ³ÛÉ ë»é³í³ñ³ÏÝ»ñáí í³ñ³Ï»ÉÁ | E32: 124
A33: 0 | B33: 1.22 | C33: öáËå³ïí³ëïÙ³Ý íÇñ³Ñ³ïáõÃÛáõÝ Ï³ï³ñ»Éáõ Ï³ÝáÝÝ»ñÁ Ë³Ëï»ÉÁ | E33: 125
A34: 0 | B34: 1.23 | C34: Ø³ñÙÝÇ Ù³ë»ñ Ï³Ù ÑÛáõëí³ÍùÝ»ñ ï³ÉáõÝ Ñ³ñÏ³¹ñ»ÉÁ | E34: 126
A35: 0 | B35: 1.24 | C35: ²ÝÓÇÝ ³é³Ýó Çñ Ñ³ÝÓÝ³ñ³ñáõÃÛ³Ý µÅßÏ³Ï³Ý Ï³Ù ·Çï³Ï³Ý ÷áñÓ»ñÇ »ÝÃ³ñÏ»ÉÁ | E35: 127
A36: 0 | B36: 1.25 | C36: ìï³Ý·Ç Ù»ç ÃáÕÝ»ÉÁ | E36: 128
A37: 0 | B37: 1.26 | C37: ÐÇí³Ý¹ÇÝ û·ÝáõÃÛáõÝ óáõÛó ãï³ÉÁ | E37: 129
A38: 0 | B38: 1.27 | C38: ´ÅßÏ³Ï³Ý û·ÝáõÃÛáõÝ ¨ ëå³ë³ñÏáõÙ Çñ³Ï³Ý³óÝáÕÝ»ñÇ ÏáÕÙÇó Ù³ëÝ³·Çï³Ï³Ý å³ñï³Ï³ÝáõÃÛáõÝÝ»ñÁ ãÏ³ï³ñ»ÉÁ Ï³Ù áã å³ïß³× Ï³ï³ñ»ÉÁ | E38: 130 | G38: 1 | O38: 1
A39: 1 | B39: 1.28 | C39: ²ÛÉ Ñ³Ýó³·áñÍáõÃÛáõÝÝ»ñ
A40: 0 | B40: 2. | C40: ÀÝ¹³Ù»ÝÁ ³ÝÓÇ ³½³ïáõÃÛ³Ý, å³ïíÇ ¨ ³ñÅ³Ý³å³ïíáõÃÛ³Ý ¹»Ù áõÕÕí³Í Ñ³Ýó³·áñÍáõÃÛáõÝÝ»ñÁ
A41: 0 | B41: 2.1 | C41: Ø³ñ¹áõÝ ³é¨³Ý·»ÉÁ | E41: 131 | G41: 3 | H41: 1 | K41: 1 | L41: 1 | M41: 1 | O41: 2
B42: 2.2 | C42: Þ³Ñ³·áñÍÙ³Ý Ýå³ï³Ïáí Ù³ñ¹áõÝ Ñ³í³ù³·ñ»ÉÁ, ÷áË³¹ñ»ÉÁ, Ñ³ÝÓÝ»ÉÁ, Ã³ùóÝ»ÉÁ Ï³Ù ëï³Ý³ÉÁ | E42: 132 | G42: 9 | H42: 5 | K42: 5 | L42: 1 | M42: 3 | N42: 1 | O42: 3
B43: 2.3 | C43: ²½³ïáõÃÛáõÝÇó ³åûñÇÝÇ ½ñÏ»ÉÁ | E43: 133
B44: 2.4 | C44: Ðá·»µáõÅ³Ï³Ý ÑÇí³Ý¹³ÝáóáõÙ ³åûñÇÝÇ ï»Õ³íáñ»ÉÁ Ï³Ù å³Ñ»ÉÁ | E44: 134
...

Sheet Kotayq
B7: êïáõ·Çã Ñ³í³ë³ñáõÙÝ»ñ` 1+2=6+9+10, 6=3+4+5 | E7: ÐÐ ùñ»³Ï³Ý ûñ»Ýë·ñùÇ Ñá¹í³ÍÝ»ñ | F7: ²Ý³í³ñï ·áñÍ»ñÇ ÙÝ³óáñ¹Á Ñ³ßí»ïáõ Å³Ù³Ý³Ï³ßñç³ÝÇ ëÏ½µáõÙ | G7: êï³óí»É »Ý ·áñÍ»ñ Ñ³ßí»ïáõ Å³Ù³Ý³Ï³ßñç³ÝáõÙ | H7: ²í³ñïí»É »Ý ·áñÍ»ñ Ñ³ßí»ïáõ Å³Ù³Ý³Ï³ßñç³ÝáõÙ | L7: úñÇÝ³Ï³Ý áõÅÇ Ù»ç ¿ Ùï»É | M7: ´áÕáù³ñÏí»É ¿ í»ñ³ùÝÝÇã ¹³ï³ñ³Ý | N7: àõÕ³ñÏí»É ¿ Áëï ÁÝ¹¹³ïáõÃÛ³Ý | O7: ²Ý³í³ñï ·áñÍ»ñÇ ÙÝ³óáñ¹Á Ñ³ßí»ïáõ Å³Ù³Ý³Ï³ßñç³ÝÇ í»ñçáõÙ | P7: ²Û¹ ÃíáõÙª Ï³ë»óí³Í
H8: øÝÝí»É ¿ Áëï ¿áõÃÛ³Ý ¨ ¹³ï³í×Çé Ï³Û³óí»É | I8: àñáßáõÙ ¿ Ï³Û³óí»É ùñ»³Ï³Ý ·áñÍÇ í³ñáõÛÃÁ Ï³ñ×»Éáõ ¨ ùñ»³Ï³Ý Ñ»ï³åÝ¹áõÙÁ ¹³¹³ñ»óÝ»Éáõ Ù³ëÇÝ | J8: àñáßáõÙ ¿ Ï³Û³óí»É ³ÝÙ»ÕëáõÝ³ÏÝ»ñÇ ÝÏ³ïÙ³Ùµ µÅßÏ³Ï³Ý µÝáõÛÃÇ Ñ³ñÏ³¹ñ³Ï³Ý ÙÇçáóÝ»ñ ÏÇñ³é»Éáõ Ù³ëÇÝ | K8: ÀÝ¹³Ù»ÝÁ ³í³ñïí»É »Ý ·áñÍ»ñ
F10: 1 | G10: 2 | H10: 3 | I10: 4 | J10: 5 | K10: 6 | L10: 7 | M10: 8 | N10: 9 | O10: 10 | P10: 11
A11: 1 | B11: 1. | C11: ÀÝ¹³Ù»ÝÁ ÏÛ³ÝùÇ ¨ ³éáÕçáõÃÛ³Ý ¹»Ù áõÕÕí³Í Ñ³Ýó³·áñÍáõÃÛáõÝÝ»ñÁ
A12: 0 | B12: 1.1 | C12: êå³ÝáõÃÛáõÝÁ | E12: 104 | F12: 2 | G12: 10 | H12: 2 | K12: 2 | N12: 2 | O12: 8
A13: 0 | B13: 1.2 | C13: Ðá·»Ï³Ý ËÇëï Ñáõ½ÙáõÝùÇ íÇ×³ÏáõÙ Ï³ï³ñí³Í ëå³ÝáõÃÛáõÝÁ | E13: 105
A14: 0 | B14: 1.3 | C14: Øáñ ÏáÕÙÇó Ýáñ³ÍÇÝ »ñ»Ë³ÛÇ ëå³ÝáõÃÛáõÝÁ | E14: 106
A15: 0 | B15: 1.4 | C15: Ð³Ýó³Ýù Ï³ï³ñ³Í ³ÝÓÇÝ µéÝ»Éáõ Ñ³Ù³ñ ³ÝÑñ³Å»ßï ÙÇçáóÝ»ñÇ ë³ÑÙ³Ý³½³ÝóÙ³Ùµ ëå³ÝáõÃÛáõÝÁ | E15: 107
A16: 0 | B16: 1.5 | C16: ²ÝÑñ³Å»ßï å³ßïå³ÝáõÃÛ³Ý ë³ÑÙ³Ý³½³ÝóÙ³Ùµ ëå³ÝáõÃÛáõÝÁ | E16: 108
A17: 0 | B17: 1.6 | C17: ²Ý½·áõßáõÃÛ³Ùµ Ù³Ñ å³ï×³é»ÉÁ | E17: 109
A18: 0 | B18: 1.7 | C18: ÆÝùÝ³ëå³ÝáõÃÛ³Ý Ñ³ëóÝ»ÉÁ | E18: 110
A19: 0 | B19: 1.8 | C19: ÆÝùÝ³ëå³ÝáõÃÛ³Ý Ñ³Ï»ÉÁ | E19: 111
A20: 0 | B20: 1.9 | C20: ¸Çï³íáñáõÃÛ³Ùµ ³éáÕçáõÃÛ³ÝÁ Í³Ýñ íÝ³ë å³ï×³é»ÉÁ | E20: 112 | F20: 2 | G20: 7 | H20: 2 | K20: 2 | N20: 2 | O20: 5
A21: 0 | B21: 1.10 | C21: ¸Çï³íáñáõÃÛ³Ùµ ³éáÕçáõÃÛ³ÝÁ ÙÇçÇÝ Í³ÝñáõÃÛ³Ý íÝ³ë å³ï×³é»ÉÁ | E21: 113 | G21: 3 | H21: 1 | I21: 2 | K21: 3 | L21: 2
A22: 0 | B22: 1.11 | C22: Ðá·»Ï³Ý ËÇëï Ñáõ½ÙáõÝùÇ íÇ×³ÏáõÙ ³éáÕçáõÃÛ³ÝÁ Í³Ýñ Ï³Ù ÙÇçÇÝ Í³ÝñáõÃÛ³Ý íÝ³ë å³ï×³é»ÉÁ | E22: 114 | G22: 1 | H22: 1 | K22: 1 | L22: 1
A23: 0 | B23: 1.12 | C23: Ð³Ýó³Ýù Ï³ï³ñ³Í ³ÝÓÇÝ µéÝ»Éáõ Ñ³Ù³ñ ³ÝÑñ³Å»ßï ÙÇçáóÝ»ñÇ ë³ÑÙ³Ý½³ÝóÙ³Ùµ ³éáÕçáõÃÛ³ÝÁ Í³Ýñ Ï³Ù ÙÇçÇÝ Í³ÝñáõÃÛ³Ý íÝ³ë å³ï×³é»ÉÁ | E23: 115
A24: 0 | B24: 1.13 | C24: ²éáÕçáõÃÛ³ÝÁ Í³Ýñ Ï³Ù ÙÇçÇÝ Í³ÝñáõÃÛ³Ý íÝ³ë å³ï×³é»ÉÁ ³ÝÑñ³Å»ßï å³ßïå³ÝáõÃÛ³Ý ë³ÑÙ³Ý³Ý³½³ÝóÙ³Ùµ | E24: 116
A25: 0 | B25: 1.14 | C25: ¸Çï³íáñáõÃÛ³Ùµ ³éáÕçáõÃÛ³ÝÁ Ã»Ã¨ íÝ³ë å³ï×³é»ÉÁ | E25: 117 | F25: 1 | G25: 3 | H25: 1 | K25: 1 | L25: 1 | O25: 3 | P25: 1
A26: 0 | B26: 1.15 | C26: Ì»ÍÁ | E26: 118 | G26: 2 | O26: 2
A27: 0 | B27: 1.16 | C27: Êáßï³Ý·áõÙÁ | E27: 119
A28: 0 | B28: 1.17 | C28: ²Ý½·áõßáõÃÛ³Ùµ ³éáÕçáõÃÛ³ÝÁ Í³Ýñ íÝ³ë å³ï×³é»ÉÁ | E28: 120 | G28: 1 | H28: 1 | K28: 1 | L28: 1
A29: 0 | B29: 1.18 | C29: ²Ý½·áõßáõÃÛ³Ùµ ³éáÕçáõÃÛ³ÝÁ ÙÇçÇÝ Í³ÝñáõÃÛ³Ý íÝ³ë å³ï×³é»ÉÁ | E29: 121 | G29: 1 | H29: 1 | K29: 1 | L29: 1
A30: 0 | B30: 1.19 | C30: ²åûñÇÝÇ ³µáñï Ï³ï³ñ»ÉÁ | E30: 122
A31: 0 | B31: 1.20 | C31: Ø³ñ¹áõ ÇÙáõÝ³ÛÇÝ ³Ýµ³í³ñ³ñáõÃÛ³Ý íÇñáõëÇ Ñ³ñáõóÇãáí í³ñ³Ï»ÉÁ | E31: 123
A32: 0 | B32: 1.21 | C32: ì»Ý»ñ³Ï³Ý ÑÇí³Ý¹áõÃÛ³Ùµ Ï³Ù ³ÛÉ ë»é³í³ñ³ÏÝ»ñáí í³ñ³Ï»ÉÁ | E32: 124
A33: 0 | B33: 1.22 | C33: öáËå³ïí³ëïÙ³Ý íÇñ³Ñ³ïáõÃÛáõÝ Ï³ï³ñ»Éáõ Ï³ÝáÝÝ»ñÁ Ë³Ëï»ÉÁ | E33: 125
A34: 0 | B34: 1.23 | C34: Ø³ñÙÝÇ Ù³ë»ñ Ï³Ù ÑÛáõëí³ÍùÝ»ñ ï³ÉáõÝ Ñ³ñÏ³¹ñ»ÉÁ | E34: 126
A35: 0 | B35: 1.24 | C35: ²ÝÓÇÝ ³é³Ýó Çñ Ñ³ÝÓÝ³ñ³ñáõÃÛ³Ý µÅßÏ³Ï³Ý Ï³Ù ·Çï³Ï³Ý ÷áñÓ»ñÇ »ÝÃ³ñÏ»ÉÁ | E35: 127
A36: 0 | B36: 1.25 | C36: ìï³Ý·Ç Ù»ç ÃáÕÝ»ÉÁ | E36: 128
A37: 0 | B37: 1.26 | C37: ÐÇí³Ý¹ÇÝ û·ÝáõÃÛáõÝ óáõÛó ãï³ÉÁ | E37: 129 | G37: 1 | H37: 1 | K37: 1 | M37: 1
A38: 0 | B38: 1.27 | C38: ´ÅßÏ³Ï³Ý û·ÝáõÃÛáõÝ ¨ ëå³ë³ñÏáõÙ Çñ³Ï³Ý³óÝáÕÝ»ñÇ ÏáÕÙÇó Ù³ëÝ³·Çï³Ï³Ý å³ñï³Ï³ÝáõÃÛáõÝÝ»ñÁ ãÏ³ï³ñ»ÉÁ Ï³Ù áã å³ïß³× Ï³ï³ñ»ÉÁ | E38: 130 | G38: 1 | H38: 1 | K38: 1 | L38: 1
A39: 1 | B39: 1.28 | C39: ²ÛÉ Ñ³Ýó³·áñÍáõÃÛáõÝÝ»ñ
A40: 0 | B40: 2. | C40: ÀÝ¹³Ù»ÝÁ ³ÝÓÇ ³½³ïáõÃÛ³Ý, å³ïíÇ ¨ ³ñÅ³Ý³å³ïíáõÃÛ³Ý ¹»Ù áõÕÕí³Í Ñ³Ýó³·áñÍáõÃÛáõÝÝ»ñÁ
A41: 0 | B41: 2.1 | C41: Ø³ñ¹áõÝ ³é¨³Ý·»ÉÁ | E41: 131 | G41: 1 | H41: 1 | K41: 1
B42: 2.2 | C42: Þ³Ñ³·áñÍÙ³Ý Ýå³ï³Ïáí Ù³ñ¹áõÝ Ñ³í³ù³·ñ»ÉÁ, ÷áË³¹ñ»ÉÁ, Ñ³ÝÓÝ»ÉÁ, Ã³ùóÝ»ÉÁ Ï³Ù ëï³Ý³ÉÁ | E42: 132
B43: 2.3 | C43: ²½³ïáõÃÛáõÝÇó ³åûñÇÝÇ ½ñÏ»ÉÁ | E43: 133 | G43: 1 | O43: 1
B44: 2.4 | C44: Ðá·»µáõÅ³Ï³Ý ÑÇí³Ý¹³ÝáóáõÙ ³åûñÇÝÇ ï»Õ³íáñ»ÉÁ Ï³Ù å³Ñ»ÉÁ | E44: 134
B45: 2.5 | C45: ¼ñå³ñïáõÃÛáõÝÁ | E45: 135
B46: 2.6 | C46: ìÇñ³íáñ³ÝùÁ | E46: 136 | G46: 2 | H46: 1 | I46: 1 | K46: 2 | L46: 1 | M46: 1
A47: 0 | B47: 2.7 | C47: êå³ÝáõÃÛ³Ý, ³éáÕçáõÃÛ³ÝÁ Í³Ýñ íÝ³ë å³ï×³é»Éáõ Ï³Ù ·áõÛù áãÝã³óÝ»Éáõ ëå³éÝ³ÉÇùÁ | E47: 137
...

Sheet Lori
B7: êïáõ·Çã Ñ³í³ë³ñáõÙÝ»ñ` 1+2=6+9+10, 6=3+4+5 | E7: ÐÐ ùñ»³Ï³Ý ûñ»Ýë·ñùÇ Ñá¹í³ÍÝ»ñ | F7: ²Ý³í³ñï ·áñÍ»ñÇ ÙÝ³óáñ¹Á Ñ³ßí»ïáõ Å³Ù³Ý³Ï³ßñç³ÝÇ ëÏ½µáõÙ | G7: êï³óí»É »Ý ·áñÍ»ñ Ñ³ßí»ïáõ Å³Ù³Ý³Ï³ßñç³ÝáõÙ | H7: ²í³ñïí»É »Ý ·áñÍ»ñ Ñ³ßí»ïáõ Å³Ù³Ý³Ï³ßñç³ÝáõÙ | L7: úñÇÝ³Ï³Ý áõÅÇ Ù»ç ¿ Ùï»É | M7: ´áÕáù³ñÏí»É ¿ í»ñ³ùÝÝÇã ¹³ï³ñ³Ý | N7: àõÕ³ñÏí»É ¿ Áëï ÁÝ¹¹³ïáõÃÛ³Ý | O7: ²Ý³í³ñï ·áñÍ»ñÇ ÙÝ³óáñ¹Á Ñ³ßí»ïáõ Å³Ù³Ý³Ï³ßñç³ÝÇ í»ñçáõÙ | P7: ²Û¹ ÃíáõÙª Ï³ë»óí³Í
H8: øÝÝí»É ¿ Áëï ¿áõÃÛ³Ý ¨ ¹³ï³í×Çé Ï³Û³óí»É | I8: àñáßáõÙ ¿ Ï³Û³óí»É ùñ»³Ï³Ý ·áñÍÇ í³ñáõÛÃÁ Ï³ñ×»Éáõ ¨ ùñ»³Ï³Ý Ñ»ï³åÝ¹áõÙÁ ¹³¹³ñ»óÝ»Éáõ Ù³ëÇÝ | J8: àñáßáõÙ ¿ Ï³Û³óí»É ³ÝÙ»ÕëáõÝ³ÏÝ»ñÇ ÝÏ³ïÙ³Ùµ µÅßÏ³Ï³Ý µÝáõÛÃÇ Ñ³ñÏ³¹ñ³Ï³Ý ÙÇçáóÝ»ñ ÏÇñ³é»Éáõ Ù³ëÇÝ | K8: ÀÝ¹³Ù»ÝÁ ³í³ñïí»É »Ý ·áñÍ»ñ
F10: 1 | G10: 2 | H10: 3 | I10: 4 | J10: 5 | K10: 6 | L10: 7 | M10: 8 | N10: 9 | O10: 10 | P10: 11
A11: 1 | B11: 1. | C11: ÀÝ¹³Ù»ÝÁ ÏÛ³ÝùÇ ¨ ³éáÕçáõÃÛ³Ý ¹»Ù áõÕÕí³Í Ñ³Ýó³·áñÍáõÃÛáõÝÝ»ñÁ
A12: 0 | B12: 1.1 | C12: êå³ÝáõÃÛáõÝÁ | E12: 104 | F12: =[1]Վանաձոր!F12+[1]Տաշիր!F12+[1]Ալավերդի!F12+[1]Սպիտակ!F12+[1]Ստեփանավան!F12 -> 0 | G12: =[1]Վանաձոր!G12+[1]Տաշիր!G12+[1]Ալավերդի!G12+[1]Սպիտակ!G12+[1]Ստեփանավան!G12 -> 0 | H12: =[1]Վանաձոր!H12+[1]Տաշիր!H12+[1]Ալավերդի!H12+[1]Սպիտակ!H12+[1]Ստեփանավան!H12 -> 0 | I12: =[1]Վանաձոր!I12+[1]Տաշիր!I12+[1]Ալավերդի!I12+[1]Սպիտակ!I12+[1]Ստեփանավան!I12 -> 0 | J12: =[1]Վանաձոր!J12+[1]Տաշիր!J12+[1]Ալավերդի!J12+[1]Սպիտակ!J12+[1]Ստեփանավան!J12 -> 0 | K12: =[1]Վանաձոր!K12+[1]Տաշիր!K12+[1]Ալավերդի!K12+[1]Սպիտակ!K12+[1]Ստեփանավան!K12 -> 0 | L12: =[1]Վանաձոր!L12+[1]Տաշիր!L12+[1]Ալավերդի!L12+[1]Սպիտակ!L12+[1]Ստեփանավան!L12 -> 0 | M12: =[1]Վանաձոր!M12+[1]Տաշիր!M12+[1]Ալավերդի!M12+[1]Սպիտակ!M12+[1]Ստեփանավան!M12 -> 0 | ... P12: =[1]Վանաձոր!P12+[1]Տաշիր!P12+[1]Ալավերդի!P12+[1]Սպիտակ!P12+[1]Ստեփանավան!P12 -> 0
A13: 0 | B13: 1.2 | C13: Ðá·»Ï³Ý ËÇëï Ñáõ½ÙáõÝùÇ íÇ×³ÏáõÙ Ï³ï³ñí³Í ëå³ÝáõÃÛáõÝÁ | E13: 105 | F13: =[1]Վանաձոր!F13+[1]Տաշիր!F13+[1]Ալավերդի!F13+[1]Սպիտակ!F13+[1]Ստեփանավան!F13 -> 0 | G13: =[1]Վանաձոր!G13+[1]Տաշիր!G13+[1]Ալավերդի!G13+[1]Սպիտակ!G13+[1]Ստեփանավան!G13 -> 9 | H13: =[1]Վանաձոր!H13+[1]Տաշիր!H13+[1]Ալավերդի!H13+[1]Սպիտակ!H13+[1]Ստեփանավան!H13 -> 5 | I13: =[1]Վանաձոր!I13+[1]Տաշիր!I13+[1]Ալավերդի!I13+[1]Սպիտակ!I13+[1]Ստեփանավան!I13 -> 0 | J13: =[1]Վանաձոր!J13+[1]Տաշիր!J13+[1]Ալավերդի!J13+[1]Սպիտակ!J13+[1]Ստեփանավան!J13 -> 1 | K13: =[1]Վանաձոր!K13+[1]Տաշիր!K13+[1]Ալավերդի!K13+[1]Սպիտակ!K13+[1]Ստեփանավան!K13 -> 6 | L13: =[1]Վանաձոր!L13+[1]Տաշիր!L13+[1]Ալավերդի!L13+[1]Սպիտակ!L13+[1]Ստեփանավան!L13 -> 4 | M13: =[1]Վանաձոր!M13+[1]Տաշիր!M13+[1]Ալավերդի!M13+[1]Սպիտակ!M13+[1]Ստեփանավան!M13 -> 2 | ... P13: =[1]Վանաձոր!P13+[1]Տաշիր!P13+[1]Ալավերդի!P13+[1]Սպիտակ!P13+[1]Ստեփանավան!P13 -> 0
A14: 0 | B14: 1.3 | C14: Øáñ ÏáÕÙÇó Ýáñ³ÍÇÝ »ñ»Ë³ÛÇ ëå³ÝáõÃÛáõÝÁ | E14: 106 | F14: =[1]Վանաձոր!F14+[1]Տաշիր!F14+[1]Ալավերդի!F14+[1]Սպիտակ!F14+[1]Ստեփանավան!F14 -> 0 | G14: =[1]Վանաձոր!G14+[1]Տաշիր!G14+[1]Ալավերդի!G14+[1]Սպիտակ!G14+[1]Ստեփանավան!G14 -> 0 | H14: =[1]Վանաձոր!H14+[1]Տաշիր!H14+[1]Ալավերդի!H14+[1]Սպիտակ!H14+[1]Ստեփանավան!H14 -> 0 | I14: =[1]Վանաձոր!I14+[1]Տաշիր!I14+[1]Ալավերդի!I14+[1]Սպիտակ!I14+[1]Ստեփանավան!I14 -> 0 | J14: =[1]Վանաձոր!J14+[1]Տաշիր!J14+[1]Ալավերդի!J14+[1]Սպիտակ!J14+[1]Ստեփանավան!J14 -> 0 | K14: =[1]Վանաձոր!K14+[1]Տաշիր!K14+[1]Ալավերդի!K14+[1]Սպիտակ!K14+[1]Ստեփանավան!K14 -> 0 | L14: =[1]Վանաձոր!L14+[1]Տաշիր!L14+[1]Ալավերդի!L14+[1]Սպիտակ!L14+[1]Ստեփանավան!L14 -> 0 | M14: =[1]Վանաձոր!M14+[1]Տաշիր!M14+[1]Ալավերդի!M14+[1]Սպիտակ!M14+[1]Ստեփանավան!M14 -> 0 | ... P14: =[1]Վանաձոր!P14+[1]Տաշիր!P14+[1]Ալավերդի!P14+[1]Սպիտակ!P14+[1]Ստեփանավան!P14 -> 0
A15: 0 | B15: 1.4 | C15: Ð³Ýó³Ýù Ï³ï³ñ³Í ³ÝÓÇÝ µéÝ»Éáõ Ñ³Ù³ñ ³ÝÑñ³Å»ßï ÙÇçáóÝ»ñÇ ë³ÑÙ³Ý³½³ÝóÙ³Ùµ ëå³ÝáõÃÛáõÝÁ | E15: 107 | F15: =[1]Վանաձոր!F15+[1]Տաշիր!F15+[1]Ալավերդի!F15+[1]Սպիտակ!F15+[1]Ստեփանավան!F15 -> 0 | G15: =[1]Վանաձոր!G15+[1]Տաշիր!G15+[1]Ալավերդի!G15+[1]Սպիտակ!G15+[1]Ստեփանավան!G15 -> 0 | H15: =[1]Վանաձոր!H15+[1]Տաշիր!H15+[1]Ալավերդի!H15+[1]Սպիտակ!H15+[1]Ստեփանավան!H15 -> 0 | I15: =[1]Վանաձոր!I15+[1]Տաշիր!I15+[1]Ալավերդի!I15+[1]Սպիտակ!I15+[1]Ստեփանավան!I15 -> 0 | J15: =[1]Վանաձոր!J15+[1]Տաշիր!J15+[1]Ալավերդի!J15+[1]Սպիտակ!J15+[1]Ստեփանավան!J15 -> 0 | K15: =[1]Վանաձոր!K15+[1]Տաշիր!K15+[1]Ալավերդի!K15+[1]Սպիտակ!K15+[1]Ստեփանավան!K15 -> 0 | L15: =[1]Վանաձոր!L15+[1]Տաշիր!L15+[1]Ալավերդի!L15+[1]Սպիտակ!L15+[1]Ստեփանավան!L15 -> 0 | M15: =[1]Վանաձոր!M15+[1]Տաշիր!M15+[1]Ալավերդի!M15+[1]Սպիտակ!M15+[1]Ստեփանավան!M15 -> 0 | ... P15: =[1]Վանաձոր!P15+[1]Տաշիր!P15+[1]Ալավերդի!P15+[1]Սպիտակ!P15+[1]Ստեփանավան!P15 -> 0
A16: 0 | B16: 1.5 | C16: ²ÝÑñ³Å»ßï å³ßïå³ÝáõÃÛ³Ý ë³ÑÙ³Ý³½³ÝóÙ³Ùµ ëå³ÝáõÃÛáõÝÁ | E16: 108 | F16: =[1]Վանաձոր!F16+[1]Տաշիր!F16+[1]Ալավերդի!F16+[1]Սպիտակ!F16+[1]Ստեփանավան!F16 -> 0 | G16: =[1]Վանաձոր!G16+[1]Տաշիր!G16+[1]Ալավերդի!G16+[1]Սպիտակ!G16+[1]Ստեփանավան!G16 -> 0 | H16: =[1]Վանաձոր!H16+[1]Տաշիր!H16+[1]Ալավերդի!H16+[1]Սպիտակ!H16+[1]Ստեփանավան!H16 -> 0 | I16: =[1]Վանաձոր!I16+[1]Տաշիր!I16+[1]Ալավերդի!I16+[1]Սպիտակ!I16+[1]Ստեփանավան!I16 -> 0 | J16: =[1]Վանաձոր!J16+[1]Տաշիր!J16+[1]Ալավերդի!J16+[1]Սպիտակ!J16+[1]Ստեփանավան!J16 -> 0 | K16: =[1]Վանաձոր!K16+[1]Տաշիր!K16+[1]Ալավերդի!K16+[1]Սպիտակ!K16+[1]Ստեփանավան!K16 -> 0 | L16: =[1]Վանաձոր!L16+[1]Տաշիր!L16+[1]Ալավերդի!L16+[1]Սպիտակ!L16+[1]Ստեփանավան!L16 -> 0 | M16: =[1]Վանաձոր!M16+[1]Տաշիր!M16+[1]Ալավերդի!M16+[1]Սպիտակ!M16+[1]Ստեփանավան!M16 -> 0 | ... P16: =[1]Վանաձոր!P16+[1]Տաշիր!P16+[1]Ալավերդի!P16+[1]Սպիտակ!P16+[1]Ստեփանավան!P16 -> 0
A17: 0 | B17: 1.6 | C17: ²Ý½·áõßáõÃÛ³Ùµ Ù³Ñ å³ï×³é»ÉÁ | E17: 109 | F17: =[1]Վանաձոր!F17+[1]Տաշիր!F17+[1]Ալավերդի!F17+[1]Սպիտակ!F17+[1]Ստեփանավան!F17 -> 0 | G17: =[1]Վանաձոր!G17+[1]Տաշիր!G17+[1]Ալավերդի!G17+[1]Սպիտակ!G17+[1]Ստեփանավան!G17 -> 0 | H17: =[1]Վանաձոր!H17+[1]Տաշիր!H17+[1]Ալավերդի!H17+[1]Սպիտակ!H17+[1]Ստեփանավան!H17 -> 0 | I17: =[1]Վանաձոր!I17+[1]Տաշիր!I17+[1]Ալավերդի!I17+[1]Սպիտակ!I17+[1]Ստեփանավան!I17 -> 0 | J17: =[1]Վանաձոր!J17+[1]Տաշիր!J17+[1]Ալավերդի!J17+[1]Սպիտակ!J17+[1]Ստեփանավան!J17 -> 0 | K17: =[1]Վանաձոր!K17+[1]Տաշիր!K17+[1]Ալավերդի!K17+[1]Սպիտակ!K17+[1]Ստեփանավան!K17 -> 0 | L17: =[1]Վանաձոր!L17+[1]Տաշիր!L17+[1]Ալավերդի!L17+[1]Սպիտակ!L17+[1]Ստեփանավան!L17 -> 0 | M17: =[1]Վանաձոր!M17+[1]Տաշիր!M17+[1]Ալավերդի!M17+[1]Սպիտակ!M17+[1]Ստեփանավան!M17 -> 0 | ... P17: =[1]Վանաձոր!P17+[1]Տաշիր!P17+[1]Ալավերդի!P17+[1]Սպիտակ!P17+[1]Ստեփանավան!P17 -> 0
A18: 0 | B18: 1.7 | C18: ÆÝùÝ³ëå³ÝáõÃÛ³Ý Ñ³ëóÝ»ÉÁ | E18: 110 | F18: =[1]Վանաձոր!F18+[1]Տաշիր!F18+[1]Ալավերդի!F18+[1]Սպիտակ!F18+[1]Ստեփանավան!F18 -> 0 | G18: =[1]Վանաձոր!G18+[1]Տաշիր!G18+[1]Ալավերդի!G18+[1]Սպիտակ!G18+[1]Ստեփանավան!G18 -> 0 | H18: =[1]Վանաձոր!H18+[1]Տաշիր!H18+[1]Ալավերդի!H18+[1]Սպիտակ!H18+[1]Ստեփանավան!H18 -> 0 | I18: =[1]Վանաձոր!I18+[1]Տաշիր!I18+[1]Ալավերդի!I18+[1]Սպիտակ!I18+[1]Ստեփանավան!I18 -> 0 | J18: =[1]Վանաձոր!J18+[1]Տաշիր!J18+[1]Ալավերդի!J18+[1]Սպիտակ!J18+[1]Ստեփանավան!J18 -> 0 | K18: =[1]Վանաձոր!K18+[1]Տաշիր!K18+[1]Ալավերդի!K18+[1]Սպիտակ!K18+[1]Ստեփանավան!K18 -> 0 | L18: =[1]Վանաձոր!L18+[1]Տաշիր!L18+[1]Ալավերդի!L18+[1]Սպիտակ!L18+[1]Ստեփանավան!L18 -> 0 | M18: =[1]Վանաձոր!M18+[1]Տաշիր!M18+[1]Ալավերդի!M18+[1]Սպիտակ!M18+[1]Ստեփանավան!M18 -> 0 | ... P18: =[1]Վանաձոր!P18+[1]Տաշիր!P18+[1]Ալավերդի!P18+[1]Սպիտակ!P18+[1]Ստեփանավան!P18 -> 0
A19: 0 | B19: 1.8 | C19: ÆÝùÝ³ëå³ÝáõÃÛ³Ý Ñ³Ï»ÉÁ | E19: 111 | F19: =[1]Վանաձոր!F19+[1]Տաշիր!F19+[1]Ալավերդի!F19+[1]Սպիտակ!F19+[1]Ստեփանավան!F19 -> 0 | G19: =[1]Վանաձոր!G19+[1]Տաշիր!G19+[1]Ալավերդի!G19+[1]Սպիտակ!G19+[1]Ստեփանավան!G19 -> 0 | H19: =[1]Վանաձոր!H19+[1]Տաշիր!H19+[1]Ալավերդի!H19+[1]Սպիտակ!H19+[1]Ստեփանավան!H19 -> 0 | I19: =[1]Վանաձոր!I19+[1]Տաշիր!I19+[1]Ալավերդի!I19+[1]Սպիտակ!I19+[1]Ստեփանավան!I19 -> 0 | J19: =[1]Վանաձոր!J19+[1]Տաշիր!J19+[1]Ալավերդի!J19+[1]Սպիտակ!J19+[1]Ստեփանավան!J19 -> 0 | K19: =[1]Վանաձոր!K19+[1]Տաշիր!K19+[1]Ալավերդի!K19+[1]Սպիտակ!K19+[1]Ստեփանավան!K19 -> 0 | L19: =[1]Վանաձոր!L19+[1]Տաշիր!L19+[1]Ալավերդի!L19+[1]Սպիտակ!L19+[1]Ստեփանավան!L19 -> 0 | M19: =[1]Վանաձոր!M19+[1]Տաշիր!M19+[1]Ալավերդի!M19+[1]Սպիտակ!M19+[1]Ստեփանավան!M19 -> 0 | ... P19: =[1]Վանաձոր!P19+[1]Տաշիր!P19+[1]Ալավերդի!P19+[1]Սպիտակ!P19+[1]Ստեփանավան!P19 -> 0
A20: 0 | B20: 1.9 | C20: ¸Çï³íáñáõÃÛ³Ùµ ³éáÕçáõÃÛ³ÝÁ Í³Ýñ íÝ³ë å³ï×³é»ÉÁ | E20: 112 | F20: =[1]Վանաձոր!F20+[1]Տաշիր!F20+[1]Ալավերդի!F20+[1]Սպիտակ!F20+[1]Ստեփանավան!F20 -> 0 | G20: =[1]Վանաձոր!G20+[1]Տաշիր!G20+[1]Ալավերդի!G20+[1]Սպիտակ!G20+[1]Ստեփանավան!G20 -> 0 | H20: =[1]Վանաձոր!H20+[1]Տաշիր!H20+[1]Ալավերդի!H20+[1]Սպիտակ!H20+[1]Ստեփանավան!H20 -> 0 | I20: =[1]Վանաձոր!I20+[1]Տաշիր!I20+[1]Ալավերդի!I20+[1]Սպիտակ!I20+[1]Ստեփանավան!I20 -> 0 | J20: =[1]Վանաձոր!J20+[1]Տաշիր!J20+[1]Ալավերդի!J20+[1]Սպիտակ!J20+[1]Ստեփանավան!J20 -> 0 | K20: =[1]Վանաձոր!K20+[1]Տաշիր!K20+[1]Ալավերդի!K20+[1]Սպիտակ!K20+[1]Ստեփանավան!K20 -> 0 | L20: =[1]Վանաձոր!L20+[1]Տաշիր!L20+[1]Ալավերդի!L20+[1]Սպիտակ!L20+[1]Ստեփանավան!L20 -> 0 | M20: =[1]Վանաձոր!M20+[1]Տաշիր!M20+[1]Ալավերդի!M20+[1]Սպիտակ!M20+[1]Ստեփանավան!M20 -> 0 | ... P20: =[1]Վանաձոր!P20+[1]Տաշիր!P20+[1]Ալավերդի!P20+[1]Սպիտակ!P20+[1]Ստեփանավան!P20 -> 0
A21: 0 | B21: 1.10 | C21: ¸Çï³íáñáõÃÛ³Ùµ ³éáÕçáõÃÛ³ÝÁ ÙÇçÇÝ Í³ÝñáõÃÛ³Ý íÝ³ë å³ï×³é»ÉÁ | E21: 113 | F21: =[1]Վանաձոր!F21+[1]Տաշիր!F21+[1]Ալավերդի!F21+[1]Սպիտակ!F21+[1]Ստեփանավան!F21 -> 9 | G21: =[1]Վանաձոր!G21+[1]Տաշիր!G21+[1]Ալավերդի!G21+[1]Սպիտակ!G21+[1]Ստեփանավան!G21 -> 19 | H21: =[1]Վանաձոր!H21+[1]Տաշիր!H21+[1]Ալավերդի!H21+[1]Սպիտակ!H21+[1]Ստեփանավան!H21 -> 19 | I21: =[1]Վանաձոր!I21+[1]Տաշիր!I21+[1]Ալավերդի!I21+[1]Սպիտակ!I21+[1]Ստեփանավան!I21 -> 0 | J21: =[1]Վանաձոր!J21+[1]Տաշիր!J21+[1]Ալավերդի!J21+[1]Սպիտակ!J21+[1]Ստեփանավան!J21 -> 1 | K21: =[1]Վանաձոր!K21+[1]Տաշիր!K21+[1]Ալավերդի!K21+[1]Սպիտակ!K21+[1]Ստեփանավան!K21 -> 20 | L21: =[1]Վանաձոր!L21+[1]Տաշիր!L21+[1]Ալավերդի!L21+[1]Սպիտակ!L21+[1]Ստեփանավան!L21 -> 14 | M21: =[1]Վանաձոր!M21+[1]Տաշիր!M21+[1]Ալավերդի!M21+[1]Սպիտակ!M21+[1]Ստեփանավան!M21 -> 6 | ... P21: =[1]Վանաձոր!P21+[1]Տաշիր!P21+[1]Ալավերդի!P21+[1]Սպիտակ!P21+[1]Ստեփանավան!P21 -> 0
A22: 0 | B22: 1.11 | C22: Ðá·»Ï³Ý ËÇëï Ñáõ½ÙáõÝùÇ íÇ×³ÏáõÙ ³éáÕçáõÃÛ³ÝÁ Í³Ýñ Ï³Ù ÙÇçÇÝ Í³ÝñáõÃÛ³Ý íÝ³ë å³ï×³é»ÉÁ | E22: 114 | F22: =[1]Վանաձոր!F22+[1]Տաշիր!F22+[1]Ալավերդի!F22+[1]Սպիտակ!F22+[1]Ստեփանավան!F22 -> 1 | G22: =[1]Վանաձոր!G22+[1]Տաշիր!G22+[1]Ալավերդի!G22+[1]Սպիտակ!G22+[1]Ստեփանավան!G22 -> 9 | H22: =[1]Վանաձոր!H22+[1]Տաշիր!H22+[1]Ալավերդի!H22+[1]Սպիտակ!H22+[1]Ստեփանավան!H22 -> 4 | I22: =[1]Վանաձոր!I22+[1]Տաշիր!I22+[1]Ալավերդի!I22+[1]Սպիտակ!I22+[1]Ստեփանավան!I22 -> 3 | J22: =[1]Վանաձոր!J22+[1]Տաշիր!J22+[1]Ալավերդի!J22+[1]Սպիտակ!J22+[1]Ստեփանավան!J22 -> 1 | K22: =[1]Վանաձոր!K22+[1]Տաշիր!K22+[1]Ալավերդի!K22+[1]Սպիտակ!K22+[1]Ստեփանավան!K22 -> 8 | L22: =[1]Վանաձոր!L22+[1]Տաշիր!L22+[1]Ալավերդի!L22+[1]Սպիտակ!L22+[1]Ստեփանավան!L22 -> 7 | M22: =[1]Վանաձոր!M22+[1]Տաշիր!M22+[1]Ալավերդի!M22+[1]Սպիտակ!M22+[1]Ստեփանավան!M22 -> 1 | ... P22: =[1]Վանաձոր!P22+[1]Տաշիր!P22+[1]Ալավերդի!P22+[1]Սպիտակ!P22+[1]Ստեփանավան!P22 -> 0
A23: 0 | B23: 1.12 | C23: Ð³Ýó³Ýù Ï³ï³ñ³Í ³ÝÓÇÝ µéÝ»Éáõ Ñ³Ù³ñ ³ÝÑñ³Å»ßï ÙÇçáóÝ»ñÇ ë³ÑÙ³Ý½³ÝóÙ³Ùµ ³éáÕçáõÃÛ³ÝÁ Í³Ýñ Ï³Ù ÙÇçÇÝ Í³ÝñáõÃÛ³Ý íÝ³ë å³ï×³é»ÉÁ | E23: 115 | F23: =[1]Վանաձոր!F23+[1]Տաշիր!F23+[1]Ալավերդի!F23+[1]Սպիտակ!F23+[1]Ստեփանավան!F23 -> 0 | G23: =[1]Վանաձոր!G23+[1]Տաշիր!G23+[1]Ալավերդի!G23+[1]Սպիտակ!G23+[1]Ստեփանավան!G23 -> 0 | H23: =[1]Վանաձոր!H23+[1]Տաշիր!H23+[1]Ալավերդի!H23+[1]Սպիտակ!H23+[1]Ստեփանավան!H23 -> 0 | I23: =[1]Վանաձոր!I23+[1]Տաշիր!I23+[1]Ալավերդի!I23+[1]Սպիտակ!I23+[1]Ստեփանավան!I23 -> 0 | J23: =[1]Վանաձոր!J23+[1]Տաշիր!J23+[1]Ալավերդի!J23+[1]Սպիտակ!J23+[1]Ստեփանավան!J23 -> 0 | K23: =[1]Վանաձոր!K23+[1]Տաշիր!K23+[1]Ալավերդի!K23+[1]Սպիտակ!K23+[1]Ստեփանավան!K23 -> 0 | L23: =[1]Վանաձոր!L23+[1]Տաշիր!L23+[1]Ալավերդի!L23+[1]Սպիտակ!L23+[1]Ստեփանավան!L23 -> 0 | M23: =[1]Վանաձոր!M23+[1]Տաշիր!M23+[1]Ալավերդի!M23+[1]Սպիտակ!M23+[1]Ստեփանավան!M23 -> 0 | ... P23: =[1]Վանաձոր!P23+[1]Տաշիր!P23+[1]Ալավերդի!P23+[1]Սպիտակ!P23+[1]Ստեփանավան!P23 -> 0
A24: 0 | B24: 1.13 | C24: ²éáÕçáõÃÛ³ÝÁ Í³Ýñ Ï³Ù ÙÇçÇÝ Í³ÝñáõÃÛ³Ý íÝ³ë å³ï×³é»ÉÁ ³ÝÑñ³Å»ßï å³ßïå³ÝáõÃÛ³Ý ë³ÑÙ³Ý³Ý³½³ÝóÙ³Ùµ | E24: 116 | F24: =[1]Վանաձոր!F24+[1]Տաշիր!F24+[1]Ալավերդի!F24+[1]Սպիտակ!F24+[1]Ստեփանավան!F24 -> 0 | G24: =[1]Վանաձոր!G24+[1]Տաշիր!G24+[1]Ալավերդի!G24+[1]Սպիտակ!G24+[1]Ստեփանավան!G24 -> 0 | H24: =[1]Վանաձոր!H24+[1]Տաշիր!H24+[1]Ալավերդի!H24+[1]Սպիտակ!H24+[1]Ստեփանավան!H24 -> 0 | I24: =[1]Վանաձոր!I24+[1]Տաշիր!I24+[1]Ալավերդի!I24+[1]Սպիտակ!I24+[1]Ստեփանավան!I24 -> 0 | J24: =[1]Վանաձոր!J24+[1]Տաշիր!J24+[1]Ալավերդի!J24+[1]Սպիտակ!J24+[1]Ստեփանավան!J24 -> 0 | K24: =[1]Վանաձոր!K24+[1]Տաշիր!K24+[1]Ալավերդի!K24+[1]Սպիտակ!K24+[1]Ստեփանավան!K24 -> 0 | L24: =[1]Վանաձոր!L24+[1]Տաշիր!L24+[1]Ալավերդի!L24+[1]Սպիտակ!L24+[1]Ստեփանավան!L24 -> 0 | M24: =[1]Վանաձոր!M24+[1]Տաշիր!M24+[1]Ալավերդի!M24+[1]Սպիտակ!M24+[1]Ստեփանավան!M24 -> 0 | ... P24: =[1]Վանաձոր!P24+[1]Տաշիր!P24+[1]Ալավերդի!P24+[1]Սպիտակ!P24+[1]Ստեփանավան!P24 -> 0
A25: 0 | B25: 1.14 | C25: ¸Çï³íáñáõÃÛ³Ùµ ³éáÕçáõÃÛ³ÝÁ Ã»Ã¨ íÝ³ë å³ï×³é»ÉÁ | E25: 117 | F25: =[1]Վանաձոր!F25+[1]Տաշիր!F25+[1]Ալավերդի!F25+[1]Սպիտակ!F25+[1]Ստեփանավան!F25 -> 0 | G25: =[1]Վանաձոր!G25+[1]Տաշիր!G25+[1]Ալավերդի!G25+[1]Սպիտակ!G25+[1]Ստեփանավան!G25 -> 1 | H25: =[1]Վանաձոր!H25+[1]Տաշիր!H25+[1]Ալավերդի!H25+[1]Սպիտակ!H25+[1]Ստեփանավան!H25 -> 1 | I25: =[1]Վանաձոր!I25+[1]Տաշիր!I25+[1]Ալավերդի!I25+[1]Սպիտակ!I25+[1]Ստեփանավան!I25 -> 0 | J25: =[1]Վանաձոր!J25+[1]Տաշիր!J25+[1]Ալավերդի!J25+[1]Սպիտակ!J25+[1]Ստեփանավան!J25 -> 0 | K25: =[1]Վանաձոր!K25+[1]Տաշիր!K25+[1]Ալավերդի!K25+[1]Սպիտակ!K25+[1]Ստեփանավան!K25 -> 1 | L25: =[1]Վանաձոր!L25+[1]Տաշիր!L25+[1]Ալավերդի!L25+[1]Սպիտակ!L25+[1]Ստեփանավան!L25 -> 1 | M25: =[1]Վանաձոր!M25+[1]Տաշիր!M25+[1]Ալավերդի!M25+[1]Սպիտակ!M25+[1]Ստեփանավան!M25 -> 0 | ... P25: =[1]Վանաձոր!P25+[1]Տաշիր!P25+[1]Ալավերդի!P25+[1]Սպիտակ!P25+[1]Ստեփանավան!P25 -> 0
