Workbook

Sheet Ընդհանուր
A1: ՀԱՇՎԵՏՎՈՒԹՅՈՒՆ
A2: ՀԱՇՎԵՏՎՈՒԹՅՈՒՆ
A3: 2022թ.տարեկան | C3: ԱՆՁԱՆՑ ՎԵՐԱԲԵՐՅԱԼ, ՈՐՈՆՑ ԿԱՊԱԿՑՈՒԹՅԱՄԲ ԿԱՅԱՑՎԱԾ ԴԱՏԱԿԱՆ ԱԿՏԵՐԸ ՄՏԵԼ ԵՆ ՕՐԻՆԱԿԱՆ ՈւԺԻ ՄԵՋ
A4: Վիճակագրական տողի համարը | B4: ՀԱՆՑԱԳՈՐԾՈՒԹՅՈՒՆՆԵՐԻ ՏԵՍԱԿՆԵՐԸ | C4: ՀՀ Քրեական օրենսգրքի հոդվածը | D4: Անձանց թիվը, որոնց վերաբերյալ գործերը կարճվել կամ քրեական հետապնդումը դադարեցվել է | G4: Անմեղսունակներ, որոնց նկատմամբ կիրառվել են բժշկական բնույթի հարկադրական միջոցներ | H4: Արդարացվածների թիվը | I4: Դատապարտյալների թիվը (ծանոթություն.Մեղադրյալը, որի վերաբերյալ կա օրինական ուժի մեջ մտած դատարանի դատավճիռ, որն ամբողջությամբ կամ մասնակիորեն մեղադրական է, կոչվում է դատապարտյալ) | O4: Դատապարտյալների նկատմամբ նշանակված հիմնական պատիժներ | AD4: նշանակված պատիժը պայմանականորեն չի կիրառվել | AE4: կիրառվել է համաներման ակտ | AF4: Լրացուցիչ պատիժներ | AI4: Օրենքով նախատեսվածից ավելի մեղմ պատիժ է նշանակվել | AJ4: Հանցանքը կատարվել է | AR4: Անձի զբաղմունքի տեսակը` նախքան դատապարտվելը | AY4: Անձի քաղաքացիությունը | BB4: Դատապարտվածների թիվը, որոնց նախկին դատվածությունը հանվել կամ մարվել է | BC4: Դատապարտյալների թիվը, որոնք ունեն չհանված կամ չմարված դատվածություն | BG4: Դրանցից (սյունակ 55) եղել են դատապարտված | BK4: Չհանված, չմարված դատվածությամբ դատապարտյալը պատժից ազատվել է | BO4: Նոր հանցագործությունը կատարել է պատիժը չկրած | BT4: Նոր հանցագործությունը կատարել է ազատազրկման վայրից ազատվելուց առաջին տարվա ընթացքում | BU4: Անձանց թիվը, որոնց վերաբերյալ հաշվետու տարվա ընթացքում քննվել են գործեր | BV4: Դատապարտյալը հանձնվել է վերադաստիրակման կամ հսկողության | BW4: Դատապարտյալի նկատմամբ նշանակվել է հարկադիր բուժում գինեմոլության դեմ | BX4: Դատապարտյալի նկատմամբ նշանակվել է հարկադիր բուժում թմրամոլության դեմ | BY4: Դատվածությունների շարժը
D5: Այդ թվում՝ հանցադեպի կամ հանցակազմի բացակայության և մեղադրանքի չապացուցված լինելու պատճառով | E5: այլ հիմքով | F5: Ընդամենը | I5: որից դատապարտվել են | L5: Ընդամենը(6,7,8 սյունակներ) | M5: Այդ թվում՝ կանայք | N5: Այդ թվում` անչափահասներ | O5: Ա զ ա տ ա զ ր կ ու մ | X5: հանրային աշխատանքներ | Y5: տուգանք | Z5: Որոշակի պաշտոններ զբաղ. կամ որոշակի գործ. զբաղվ. իրավ. զրկում | AA5: Կարգապահական գումարտակում պահելը | AB5: զին. Ծառայության մեջ սահմանափակում | AC5: կալանք | AF5: գույքի բռնագրավում | AG5: հատուկ կամ զին. կոչումից, կարգից, աստիճանից կամ որակավորման դասից զրկելը | AH5: որոշակի պաշտ. զբաղ. կամ որոշակի գործ.զբաղվ. իրավ. զրկում | AJ5: ալկ., թմրամիջ. կամ թնրեցնող այլ նյութերի ազդ. | AK5: Մի խումբ անձանց կազմում | AL5: Կազմակերպված խմբի կամ հանցավոր համագործակցության կազմում | AM5: 14-16 տարեկան հասակում | AN5: 16-18 տարեկան հասակում | AO5: 18-29 տարեկան հասակում | AP5: 30-49 տարեկան հասակում | AQ5: 50 տարեկան և բարձր | AR5: Պաշտոնատար անձինք | AS5: Զին. ծառայողներ | AT5: Այլ զբաղմունք | AU5: Սովորողներ | AW5: Չաշխատող և չսովորող աշխատունակներ | AX5: արգելանքի տակ գտնվող անձ | AY5: ՀՀ քաղաքացի | AZ5: Քաղաքացիություն չունեցող անձ | BA5: Օտարերկրյա պետության քաղաքացի | BC5: Մեկ դատվածություն | BD5: Երկու դատվածություն | BE5: Երեք և ավելի դատվածություն | BF5: Ընդամենը | BG5: Սպանության, դիտավորյամբ առողջությանը ծանր վնաս պատճառելու, բռնաբարության համար | BH5: Գույքի հափշտակության համար | BI5: Խուլիգանության համար | BJ5: այլ հանցագործությունների համար | BK5: Պատիժը կրել է լրիվ չափով | BL5: Պայմանական վաղաժամկետ | BM5: Համաներման ակտի կիրառմամբ | BN5: Այլ հիմքերով | BO5: Ազատազրկման վայրում | BP5: Այլ պատիժ կրելիս | BQ5: Դատավճռի կատարման հետաձգման ժամանակահատվածում | BR5: Փորձաշրջանի ընթացքում | BS5: Ընդամենը | BY5: Հաշվետու տարվա ընթացքում դատապարտված անձանց թիվը | BZ5: Հաշվետու տարվան նախորդող տարվա ընթացքում դատապարտված անձանց թիվը | CA5: ավելացել է պակասել է
B6: ՍՏՈՒԳԻՉ ՀԱՎԱՍԱՐՈՒՄՆԵՐ 3=1+2, 9=6+7+8, 20=12+13+14+15+16+17+18+19, 9=20+21+22+23+24+25+26 9=36+37+38+39+40, 9=41+42+43+44+45+46+47,9=48+49+50, 55=52+53+54,55=56+57+58+59, 68=64+65+66+67 | I6: Ավարտված հանցագործության համար | J6: Հանցափորձի համար(ՀՀ քր. օր-ի 34-րդ հոդ.) | K6: Հանցակցության համար(ՀՀ քր.օր-ի 38-րդ հոդ.) | O6: 1 տարի ներառյալ | P6: 1 տարուց ավել, մինչև 2 տարի ներառյալ | Q6: 2 տարուց ավել, մինչև 3 տարի ներառյալ | R6: 3 տարուց ավել, մինչև 5 տարի ներառյալ | S6: 5 տարուց ավել, մինչև 8 տարի ներառյալ | T6: 8 տարուց ավել, մինչև 10 տարի ներառյալ | U6: 10 տարուց ավել, մինչև 15 տարի ներառյալ | V6: ցմահ ազատազրկում | W6: ընդամենը | AU6: 18 տարեկանից ցածր | AV6: 18 տարեկանից բարձր | CB6: 3=1+2 | CD6: 9=6+7+8 | CF6: 20=12+13+14+15+16+17+18+19 | CH6: 9=20+21+22+23+24+25+26 | CJ6: 9=36+37+38+39+40 | CL6: 9=41+42+43+44+45+46+47 | CN6: 9=48+49+50 | CP6: 55=52+53+54 | CR6: 55=56+57+58+59 | CT6: 68=64+65+66+67
D7: 1 | E7: 2 | F7: 3 | G7: 4 | H7: 5 | I7: 6 | J7: 7 | K7: 8 | L7: 9 | M7: 10 | N7: 11 | O7: 12 | P7: 13 | Q7: 14 | R7: 15 | S7: 16 | T7: 17 | U7: 18 | V7: 19 | W7: 20 | X7: 21 | Y7: 22 | Z7: 23 | AA7: 24 | AB7: 25 | AC7: 26 | AD7: 27 | AE7: 28 | AF7: 29 | AG7: 30 | AH7: 31 | AI7: 32 | AJ7: 33 | AK7: 34 | AL7: 35 | AM7: 36 | AN7: 37 | AO7: 38 | AP7: 39 | AQ7: 40 | AR7: 41 | AS7: 42 | AT7: 43 | AU7: 44 | AV7: 45 | AW7: 46 | AX7: 47 | AY7: 48 | AZ7: 49 | BA7: 50 | BB7: 51 | BC7: 52 | BD7: 53 | BE7: 54 | BF7: 55 | BG7: 56 | BH7: 57 | BI7: 58 | BJ7: 59 | BK7: 60 | BL7: 61 | BM7: 62 | BN7: 63 | BO7: 64 | BP7: 65 | BQ7: 66 | BR7: 67 | BS7: 68 | BT7: 69 | BU7: 70 | BV7: 71 | BW7: 72 | BX7: 73 | BY7: 74 | BZ7: 75 | CA7: 76 | CB7: =F7 -> 3 | CC7: =D7+E7 -> 3 | CD7: =L7 -> 9 | CE7: =I7+J7+K7 -> 21 | CF7: =SUM(CF8:CF34) -> 179 | CG7: =SUM(CG8:CG34) -> 179 | CH7: =L7 -> 9 | CI7: =W7+X7+Y7+Z7+AA7+AB7+AC7 -> 161 | CJ7: =L7 -> 9 | CK7: =AM7+AN7+AO7+AP7+AQ7 -> 190 | CL7: =L7 -> 9 | CM7: =AR7+AS7+AT7+AU7+AV7+AW7+AX7 -> 308 | CN7: =L7 -> 9 | CO7: =AY7+AZ7+BA7 -> 147 | CP7: =BF7 -> 55 | CQ7: =BC7+BD7+BE7 -> 159 | CR7: =BF7 -> 55 | CS7: =BG7+BH7+BI7+BJ7 -> 230 | CT7: =BS7 -> 68 | CU7: =BO7+BP7+BQ7+BR7 -> 262
A8: 1. | B8: Ընդամենը կյանքի և առողջության դեմ ուղղված հանցագործությունները | D8: =SUM('Երևան քաղաք:Սյունիք'!D7) -> 0 | E8: =SUM('Երևան քաղաք:Սյունիք'!E7) -> 93 | F8: =SUM('Երևան քաղաք:Սյունիք'!F7) -> 93 | G8: =SUM('Երևան քաղաք:Սյունիք'!G7) -> 7 | H8: =SUM('Երևան քաղաք:Սյունիք'!H7) -> 5 | I8: =SUM('Երևան քաղաք:Սյունիք'!I7) -> 137 | J8: =SUM('Երևան քաղաք:Սյունիք'!J7) -> 4 | K8: =SUM('Երևան քաղաք:Սյունիք'!K7) -> 1 | ... CA8: =SUM('Երևան քաղաք:Սյունիք'!CA7) -> 0 | CB8: =F8 -> 93 | CC8: =D8+E8 -> 93 | CD8: =L8 -> 142 | CE8: =I8+J8+K8 -> 142 | CF8: =W8 -> 86 | CG8: =O8+P8+Q8+R8+S8+T8+U8+V8 -> 86 | CH8: =L8 -> 142 | CI8: =W8+X8+Y8+Z8+AA8+AB8+AC8 -> 139 | CJ8: =L8 -> 142 | CK8: =AM8+AN8+AO8+AP8+AQ8 -> 142 | CL8: =L8 -> 142 | CM8: =AR8+AS8+AT8+AU8+AV8+AW8+AX8 -> 142 | CN8: =L8 -> 142 | CO8: =AY8+AZ8+BA8 -> 142 | CP8: =BF8 -> 10 | CQ8: =BC8+BD8+BE8 -> 10 | CR8: =BF8 -> 10 | CS8: =BG8+BH8+BI8+BJ8 -> 10 | CT8: =BS8 -> 4 | CU8: =BO8+BP8+BQ8+BR8 -> 4
A9: 1.1 | B9: Սպանությունը | C9: 104 | D9: =SUM('Երևան քաղաք'!D8+Շիրակ!D8+Կոտայք!D8+Լոռի!D8+Արագածոտն!D8+Գեղարքունիքի!D8+Արմավիր!D8+'Արարատի և Վայոց ձոր'!D8+Տավուշ!D7+Սյունիք!D8) -> 0 | E9: =SUM('Երևան քաղաք'!E8+Շիրակ!E8+Կոտայք!E8+Լոռի!E8+Արագածոտն!E8+Գեղարքունիքի!E8+Արմավիր!E8+'Արարատի և Վայոց ձոր'!E8+Տավուշ!E7+Սյունիք!E8) -> 7 | F9: =SUM('Երևան քաղաք'!F8+Շիրակ!F8+Կոտայք!F8+Լոռի!F8+Արագածոտն!F8+Գեղարքունիքի!F8+Արմավիր!F8+'Արարատի և Վայոց ձոր'!F8+Տավուշ!F7+Սյունիք!F8) -> 7 | G9: =SUM('Երևան քաղաք'!G8+Շիրակ!G8+Կոտայք!G8+Լոռի!G8+Արագածոտն!G8+Գեղարքունիքի!G8+Արմավիր!G8+'Արարատի և Վայոց ձոր'!G8+Տավուշ!G7+Սյունիք!G8) -> 3 | H9: =SUM('Երևան քաղաք'!H8+Շիրակ!H8+Կոտայք!H8+Լոռի!H8+Արագածոտն!H8+Գեղարքունիքի!H8+Արմավիր!H8+'Արարատի և Վայոց ձոր'!H8+Տավուշ!H7+Սյունիք!H8) -> 5 | I9: =SUM('Երևան քաղաք'!I8+Շիրակ!I8+Կոտայք!I8+Լոռի!I8+Արագածոտն!I8+Գեղարքունիքի!I8+Արմավիր!I8+'Արարատի և Վայոց ձոր'!I8+Տավուշ!I7+Սյունիք!I8) -> 21 | J9: =SUM('Երևան քաղաք'!J8+Շիրակ!J8+Կոտայք!J8+Լոռի!J8+Արագածոտն!J8+Գեղարքունիքի!J8+Արմավիր!J8+'Արարատի և Վայոց ձոր'!J8+Տավուշ!J7+Սյունիք!J8) -> 4 | K9: =SUM('Երևան քաղաք'!K8+Շիրակ!K8+Կոտայք!K8+Լոռի!K8+Արագածոտն!K8+Գեղարքունիքի!K8+Արմավիր!K8+'Արարատի և Վայոց ձոր'!K8+Տավուշ!K7+Սյունիք!K8) -> 1 | ... BZ9: =SUM('Երևան քաղաք'!BZ8+Շիրակ!BZ8+Կոտայք!BZ8+Լոռի!BZ8+Արագածոտն!BZ8+Գեղարքունիքի!BZ8+Արմավիր!BZ8+'Արարատի և Վայոց ձոր'!BZ8+Տավուշ!BZ7+Սյունիք!BZ8) -> 11 | CB9: =F9 -> 7 | CC9: =D9+E9 -> 7 | CD9: =L9 -> 26 | CE9: =I9+J9+K9 -> 26 | CF9: =W9 -> 17 | CG9: =O9+P9+Q9+R9+S9+T9+U9+V9 -> 17 | CH9: =L9 -> 26 | CI9: =W9+X9+Y9+Z9+AA9+AB9+AC9 -> 23 | CJ9: =L9 -> 26 | CK9: =AM9+AN9+AO9+AP9+AQ9 -> 26 | CL9: =L9 -> 26 | CM9: =AR9+AS9+AT9+AU9+AV9+AW9+AX9 -> 26 | CN9: =L9 -> 26 | CO9: =AY9+AZ9+BA9 -> 26 | CP9: =BF9 -> 4 | CQ9: =BC9+BD9+BE9 -> 4 | CR9: =BF9 -> 4 | CS9: =BG9+BH9+BI9+BJ9 -> 4 | CT9: =BS9 -> 2 | CU9: =BO9+BP9+BQ9+BR9 -> 2
A10: 1.2 | B10: Հոգեկան խիստ հուզմունքի վիճակում կատարված սպանությունը | C10: 105 | D10: =SUM('Երևան քաղաք'!D9+Շիրակ!D9+Կոտայք!D9+Լոռի!D9+Արագածոտն!D9+Գեղարքունիքի!D9+Արմավիր!D9+'Արարատի և Վայոց ձոր'!D9+Տավուշ!D8+Սյունիք!D9) -> 0 | E10: =SUM('Երևան քաղաք'!E9+Շիրակ!E9+Կոտայք!E9+Լոռի!E9+Արագածոտն!E9+Գեղարքունիքի!E9+Արմավիր!E9+'Արարատի և Վայոց ձոր'!E9+Տավուշ!E8+Սյունիք!E9) -> 0 | F10: =SUM('Երևան քաղաք'!F9+Շիրակ!F9+Կոտայք!F9+Լոռի!F9+Արագածոտն!F9+Գեղարքունիքի!F9+Արմավիր!F9+'Արարատի և Վայոց ձոր'!F9+Տավուշ!F8+Սյունիք!F9) -> 0 | G10: =SUM('Երևան քաղաք'!G9+Շիրակ!G9+Կոտայք!G9+Լոռի!G9+Արագածոտն!G9+Գեղարքունիքի!G9+Արմավիր!G9+'Արարատի և Վայոց ձոր'!G9+Տավուշ!G8+Սյունիք!G9) -> 0 | H10: =SUM('Երևան քաղաք'!H9+Շիրակ!H9+Կոտայք!H9+Լոռի!H9+Արագածոտն!H9+Գեղարքունիքի!H9+Արմավիր!H9+'Արարատի և Վայոց ձոր'!H9+Տավուշ!H8+Սյունիք!H9) -> 1 | I10: =SUM('Երևան քաղաք'!I9+Շիրակ!I9+Կոտայք!I9+Լոռի!I9+Արագածոտն!I9+Գեղարքունիքի!I9+Արմավիր!I9+'Արարատի և Վայոց ձոր'!I9+Տավուշ!I8+Սյունիք!I9) -> 2 | J10: =SUM('Երևան քաղաք'!J9+Շիրակ!J9+Կոտայք!J9+Լոռի!J9+Արագածոտն!J9+Գեղարքունիքի!J9+Արմավիր!J9+'Արարատի և Վայոց ձոր'!J9+Տավուշ!J8+Սյունիք!J9) -> 1 | K10: =SUM('Երևան քաղաք'!K9+Շիրակ!K9+Կոտայք!K9+Լոռի!K9+Արագածոտն!K9+Գեղարքունիքի!K9+Արմավիր!K9+'Արարատի և Վայոց ձոր'!K9+Տավուշ!K8+Սյունիք!K9) -> 0 | ... BZ10: =SUM('Երևան քաղաք'!BZ9+Շիրակ!BZ9+Կոտայք!BZ9+Լոռի!BZ9+Արագածոտն!BZ9+Գեղարքունիքի!BZ9+Արմավիր!BZ9+'Արարատի և Վայոց ձոր'!BZ9+Տավուշ!BZ8+Սյունիք!BZ9) -> 0 | CB10: =F10 -> 0 | CC10: =D10+E10 -> 0 | CD10: =L10 -> 3 | CE10: =I10+J10+K10 -> 3 | CF10: =W10 -> 3 | CG10: =O10+P10+Q10+R10+S10+T10+U10+V10 -> 3 | CH10: =L10 -> 3 | CI10: =W10+X10+Y10+Z10+AA10+AB10+AC10 -> 3 | CJ10: =L10 -> 3 | CK10: =AM10+AN10+AO10+AP10+AQ10 -> 3 | CL10: =L10 -> 3 | CM10: =AR10+AS10+AT10+AU10+AV10+AW10+AX10 -> 3 | CN10: =L10 -> 3 | CO10: =AY10+AZ10+BA10 -> 3 | CP10: =BF10 -> 0 | CQ10: =BC10+BD10+BE10 -> 0 | CR10: =BF10 -> 0 | CS10: =BG10+BH10+BI10+BJ10 -> 0 | CT10: =BS10 -> 0 | CU10: =BO10+BP10+BQ10+BR10 -> 0
A11: 1.3 | B11: Մոր կողմից նորածին երեխայի սպանությունը | C11: 106 | D11: =SUM('Երևան քաղաք'!D10+Շիրակ!D10+Կոտայք!D10+Լոռի!D10+Արագածոտն!D10+Գեղարքունիքի!D10+Արմավիր!D10+'Արարատի և Վայոց ձոր'!D10+Տավուշ!D9+Սյունիք!D10) -> 0 | E11: =SUM('Երևան քաղաք'!E10+Շիրակ!E10+Կոտայք!E10+Լոռի!E10+Արագածոտն!E10+Գեղարքունիքի!E10+Արմավիր!E10+'Արարատի և Վայոց ձոր'!E10+Տավուշ!E9+Սյունիք!E10) -> 0 | F11: =SUM('Երևան քաղաք'!F10+Շիրակ!F10+Կոտայք!F10+Լոռի!F10+Արագածոտն!F10+Գեղարքունիքի!F10+Արմավիր!F10+'Արարատի և Վայոց ձոր'!F10+Տավուշ!F9+Սյունիք!F10) -> 0 | G11: =SUM('Երևան քաղաք'!G10+Շիրակ!G10+Կոտայք!G10+Լոռի!G10+Արագածոտն!G10+Գեղարքունիքի!G10+Արմավիր!G10+'Արարատի և Վայոց ձոր'!G10+Տավուշ!G9+Սյունիք!G10) -> 0 | H11: =SUM('Երևան քաղաք'!H10+Շիրակ!H10+Կոտայք!H10+Լոռի!H10+Արագածոտն!H10+Գեղարքունիքի!H10+Արմավիր!H10+'Արարատի և Վայոց ձոր'!H10+Տավուշ!H9+Սյունիք!H10) -> 0 | I11: =SUM('Երևան քաղաք'!I10+Շիրակ!I10+Կոտայք!I10+Լոռի!I10+Արագածոտն!I10+Գեղարքունիքի!I10+Արմավիր!I10+'Արարատի և Վայոց ձոր'!I10+Տավուշ!I9+Սյունիք!I10) -> 0 | J11: =SUM('Երևան քաղաք'!J10+Շիրակ!J10+Կոտայք!J10+Լոռի!J10+Արագածոտն!J10+Գեղարքունիքի!J10+Արմավիր!J10+'Արարատի և Վայոց ձոր'!J10+Տավուշ!J9+Սյունիք!J10) -> 0 | K11: =SUM('Երևան քաղաք'!K10+Շիրակ!K10+Կոտայք!K10+Լոռի!K10+Արագածոտն!K10+Գեղարքունիքի!K10+Արմավիր!K10+'Արարատի և Վայոց ձոր'!K10+Տավուշ!K9+Սյունիք!K10) -> 0 | ... BZ11: =SUM('Երևան քաղաք'!BZ10+Շիրակ!BZ10+Կոտայք!BZ10+Լոռի!BZ10+Արագածոտն!BZ10+Գեղարքունիքի!BZ10+Արմավիր!BZ10+'Արարատի և Վայոց ձոր'!BZ10+Տավուշ!BZ9+Սյունիք!BZ10) -> 0 | CB11: =F11 -> 0 | CC11: =D11+E11 -> 0 | CD11: =L11 -> 0 | CE11: =I11+J11+K11 -> 0 | CF11: =W11 -> 0 | CG11: =O11+P11+Q11+R11+S11+T11+U11+V11 -> 0 | CH11: =L11 -> 0 | CI11: =W11+X11+Y11+Z11+AA11+AB11+AC11 -> 0 | CJ11: =L11 -> 0 | CK11: =AM11+AN11+AO11+AP11+AQ11 -> 0 | CL11: =L11 -> 0 | CM11: =AR11+AS11+AT11+AU11+AV11+AW11+AX11 -> 0 | CN11: =L11 -> 0 | CO11: =AY11+AZ11+BA11 -> 0 | CP11: =BF11 -> 0 | CQ11: =BC11+BD11+BE11 -> 0 | CR11: =BF11 -> 0 | CS11: =BG11+BH11+BI11+BJ11 -> 0 | CT11: =BS11 -> 0 | CU11: =BO11+BP11+BQ11+BR11 -> 0
A12: 1.4 | B12: Հանցանք կատարած անձին բռնելու համար անհրաժեշտ միջոցների սահմանազանցմամբ սպանությունը | C12: 107 | D12: =SUM('Երևան քաղաք'!D11+Շիրակ!D11+Կոտայք!D11+Լոռի!D11+Արագածոտն!D11+Գեղարքունիքի!D11+Արմավիր!D11+'Արարատի և Վայոց ձոր'!D11+Տավուշ!D10+Սյունիք!D11) -> 0 | E12: =SUM('Երևան քաղաք'!E11+Շիրակ!E11+Կոտայք!E11+Լոռի!E11+Արագածոտն!E11+Գեղարքունիքի!E11+Արմավիր!E11+'Արարատի և Վայոց ձոր'!E11+Տավուշ!E10+Սյունիք!E11) -> 0 | F12: =SUM('Երևան քաղաք'!F11+Շիրակ!F11+Կոտայք!F11+Լոռի!F11+Արագածոտն!F11+Գեղարքունիքի!F11+Արմավիր!F11+'Արարատի և Վայոց ձոր'!F11+Տավուշ!F10+Սյունիք!F11) -> 0 | G12: =SUM('Երևան քաղաք'!G11+Շիրակ!G11+Կոտայք!G11+Լոռի!G11+Արագածոտն!G11+Գեղարքունիքի!G11+Արմավիր!G11+'Արարատի և Վայոց ձոր'!G11+Տավուշ!G10+Սյունիք!G11) -> 0 | H12: =SUM('Երևան քաղաք'!H11+Շիրակ!H11+Կոտայք!H11+Լոռի!H11+Արագածոտն!H11+Գեղարքունիքի!H11+Արմավիր!H11+'Արարատի և Վայոց ձոր'!H11+Տավուշ!H10+Սյունիք!H11) -> 0 | I12: =SUM('Երևան քաղաք'!I11+Շիրակ!I11+Կոտայք!I11+Լոռի!I11+Արագածոտն!I11+Գեղարքունիքի!I11+Արմավիր!I11+'Արարատի և Վայոց ձոր'!I11+Տավուշ!I10+Սյունիք!I11) -> 0 | J12: =SUM('Երևան քաղաք'!J11+Շիրակ!J11+Կոտայք!J11+Լոռի!J11+Արագածոտն!J11+Գեղարքունիքի!J11+Արմավիր!J11+'Արարատի և Վայոց ձոր'!J11+Տավուշ!J10+Սյունիք!J11) -> 0 | K12: =SUM('Երևան քաղաք'!K11+Շիրակ!K11+Կոտայք!K11+Լոռի!K11+Արագածոտն!K11+Գեղարքունիքի!K11+Արմավիր!K11+'Արարատի և Վայոց ձոր'!K11+Տավուշ!K10+Սյունիք!K11) -> 0 | ... BZ12: =SUM('Երևան քաղաք'!BZ11+Շիրակ!BZ11+Կոտայք!BZ11+Լոռի!BZ11+Արագածոտն!BZ11+Գեղարքունիքի!BZ11+Արմավիր!BZ11+'Արարատի և Վայոց ձոր'!BZ11+Տավուշ!BZ10+Սյունիք!BZ11) -> 0 | CB12: =F12 -> 0 | CC12: =D12+E12 -> 0 | CD12: =L12 -> 0 | CE12: =I12+J12+K12 -> 0 | CF12: =W12 -> 0 | CG12: =O12+P12+Q12+R12+S12+T12+U12+V12 -> 0 | CH12: =L12 -> 0 | CI12: =W12+X12+Y12+Z12+AA12+AB12+AC12 -> 0 | CJ12: =L12 -> 0 | CK12: =AM12+AN12+AO12+AP12+AQ12 -> 0 | CL12: =L12 -> 0 | CM12: =AR12+AS12+AT12+AU12+AV12+AW12+AX12 -> 0 | CN12: =L12 -> 0 | CO12: =AY12+AZ12+BA12 -> 0 | CP12: =BF12 -> 0 | CQ12: =BC12+BD12+BE12 -> 0 | CR12: =BF12 -> 0 | CS12: =BG12+BH12+BI12+BJ12 -> 0 | CT12: =BS12 -> 0 | CU12: =BO12+BP12+BQ12+BR12 -> 0
A13: 1.5 | B13: Անհրաժեշտ պաշտպանության սահմանազանցմամբ սպանությունը | C13: 108 | D13: =SUM('Երևան քաղաք'!D12+Շիրակ!D12+Կոտայք!D12+Լոռի!D12+Արագածոտն!D12+Գեղարքունիքի!D12+Արմավիր!D12+'Արարատի և Վայոց ձոր'!D12+Տավուշ!D11+Սյունիք!D12) -> 0 | E13: =SUM('Երևան քաղաք'!E12+Շիրակ!E12+Կոտայք!E12+Լոռի!E12+Արագածոտն!E12+Գեղարքունիքի!E12+Արմավիր!E12+'Արարատի և Վայոց ձոր'!E12+Տավուշ!E11+Սյունիք!E12) -> 0 | F13: =SUM('Երևան քաղաք'!F12+Շիրակ!F12+Կոտայք!F12+Լոռի!F12+Արագածոտն!F12+Գեղարքունիքի!F12+Արմավիր!F12+'Արարատի և Վայոց ձոր'!F12+Տավուշ!F11+Սյունիք!F12) -> 0 | G13: =SUM('Երևան քաղաք'!G12+Շիրակ!G12+Կոտայք!G12+Լոռի!G12+Արագածոտն!G12+Գեղարքունիքի!G12+Արմավիր!G12+'Արարատի և Վայոց ձոր'!G12+Տավուշ!G11+Սյունիք!G12) -> 0 | H13: =SUM('Երևան քաղաք'!H12+Շիրակ!H12+Կոտայք!H12+Լոռի!H12+Արագածոտն!H12+Գեղարքունիքի!H12+Արմավիր!H12+'Արարատի և Վայոց ձոր'!H12+Տավուշ!H11+Սյունիք!H12) -> 0 | I13: =SUM('Երևան քաղաք'!I12+Շիրակ!I12+Կոտայք!I12+Լոռի!I12+Արագածոտն!I12+Գեղարքունիքի!I12+Արմավիր!I12+'Արարատի և Վայոց ձոր'!I12+Տավուշ!I11+Սյունիք!I12) -> 0 | J13: =SUM('Երևան քաղաք'!J12+Շիրակ!J12+Կոտայք!J12+Լոռի!J12+Արագածոտն!J12+Գեղարքունիքի!J12+Արմավիր!J12+'Արարատի և Վայոց ձոր'!J12+Տավուշ!J11+Սյունիք!J12) -> 0 | K13: =SUM('Երևան քաղաք'!K12+Շիրակ!K12+Կոտայք!K12+Լոռի!K12+Արագածոտն!K12+Գեղարքունիքի!K12+Արմավիր!K12+'Արարատի և Վայոց ձոր'!K12+Տավուշ!K11+Սյունիք!K12) -> 0 | ... BZ13: =SUM('Երևան քաղաք'!BZ12+Շիրակ!BZ12+Կոտայք!BZ12+Լոռի!BZ12+Արագածոտն!BZ12+Գեղարքունիքի!BZ12+Արմավիր!BZ12+'Արարատի և Վայոց ձոր'!BZ12+Տավուշ!BZ11+Սյունիք!BZ12) -> 2 | CB13: =F13 -> 0 | CC13: =D13+E13 -> 0 | CD13: =L13 -> 0 | CE13: =I13+J13+K13 -> 0 | CF13: =W13 -> 0 | CG13: =O13+P13+Q13+R13+S13+T13+U13+V13 -> 0 | CH13: =L13 -> 0 | CI13: =W13+X13+Y13+Z13+AA13+AB13+AC13 -> 0 | CJ13: =L13 -> 0 | CK13: =AM13+AN13+AO13+AP13+AQ13 -> 0 | CL13: =L13 -> 0 | CM13: =AR13+AS13+AT13+AU13+AV13+AW13+AX13 -> 0 | CN13: =L13 -> 0 | CO13: =AY13+AZ13+BA13 -> 0 | CP13: =BF13 -> 0 | CQ13: =BC13+BD13+BE13 -> 0 | CR13: =BF13 -> 0 | CS13: =BG13+BH13+BI13+BJ13 -> 0 | CT13: =BS13 -> 0 | CU13: =BO13+BP13+BQ13+BR13 -> 0
A14: 1.6 | B14: Անզգուշությամբ մահ պատճառելը | C14: 109 | D14: =SUM('Երևան քաղաք'!D13+Շիրակ!D13+Կոտայք!D13+Լոռի!D13+Արագածոտն!D13+Գեղարքունիքի!D13+Արմավիր!D13+'Արարատի և Վայոց ձոր'!D13+Տավուշ!D12+Սյունիք!D13) -> 0 | E14: =SUM('Երևան քաղաք'!E13+Շիրակ!E13+Կոտայք!E13+Լոռի!E13+Արագածոտն!E13+Գեղարքունիքի!E13+Արմավիր!E13+'Արարատի և Վայոց ձոր'!E13+Տավուշ!E12+Սյունիք!E13) -> 5 | F14: =SUM('Երևան քաղաք'!F13+Շիրակ!F13+Կոտայք!F13+Լոռի!F13+Արագածոտն!F13+Գեղարքունիքի!F13+Արմավիր!F13+'Արարատի և Վայոց ձոր'!F13+Տավուշ!F12+Սյունիք!F13) -> 5 | G14: =SUM('Երևան քաղաք'!G13+Շիրակ!G13+Կոտայք!G13+Լոռի!G13+Արագածոտն!G13+Գեղարքունիքի!G13+Արմավիր!G13+'Արարատի և Վայոց ձոր'!G13+Տավուշ!G12+Սյունիք!G13) -> 0 | H14: =SUM('Երևան քաղաք'!H13+Շիրակ!H13+Կոտայք!H13+Լոռի!H13+Արագածոտն!H13+Գեղարքունիքի!H13+Արմավիր!H13+'Արարատի և Վայոց ձոր'!H13+Տավուշ!H12+Սյունիք!H13) -> 0 | I14: =SUM('Երևան քաղաք'!I13+Շիրակ!I13+Կոտայք!I13+Լոռի!I13+Արագածոտն!I13+Գեղարքունիքի!I13+Արմավիր!I13+'Արարատի և Վայոց ձոր'!I13+Տավուշ!I12+Սյունիք!I13) -> 1 | J14: =SUM('Երևան քաղաք'!J13+Շիրակ!J13+Կոտայք!J13+Լոռի!J13+Արագածոտն!J13+Գեղարքունիքի!J13+Արմավիր!J13+'Արարատի և Վայոց ձոր'!J13+Տավուշ!J12+Սյունիք!J13) -> 0 | K14: =SUM('Երևան քաղաք'!K13+Շիրակ!K13+Կոտայք!K13+Լոռի!K13+Արագածոտն!K13+Գեղարքունիքի!K13+Արմավիր!K13+'Արարատի և Վայոց ձոր'!K13+Տավուշ!K12+Սյունիք!K13) -> 0 | ... BZ14: =SUM('Երևան քաղաք'!BZ13+Շիրակ!BZ13+Կոտայք!BZ13+Լոռի!BZ13+Արագածոտն!BZ13+Գեղարքունիքի!BZ13+Արմավիր!BZ13+'Արարատի և Վայոց ձոր'!BZ13+Տավուշ!BZ12+Սյունիք!BZ13) -> 1 | CB14: =F14 -> 5 | CC14: =D14+E14 -> 5 | CD14: =L14 -> 1 | CE14: =I14+J14+K14 -> 1 | CF14: =W14 -> 1 | CG14: =O14+P14+Q14+R14+S14+T14+U14+V14 -> 1 | CH14: =L14 -> 1 | CI14: =W14+X14+Y14+Z14+AA14+AB14+AC14 -> 1 | CJ14: =L14 -> 1 | CK14: =AM14+AN14+AO14+AP14+AQ14 -> 1 | CL14: =L14 -> 1 | CM14: =AR14+AS14+AT14+AU14+AV14+AW14+AX14 -> 1 | CN14: =L14 -> 1 | CO14: =AY14+AZ14+BA14 -> 1 | CP14: =BF14 -> 0 | CQ14: =BC14+BD14+BE14 -> 0 | CR14: =BF14 -> 0 | CS14: =BG14+BH14+BI14+BJ14 -> 0 | CT14: =BS14 -> 0 | CU14: =BO14+BP14+BQ14+BR14 -> 0
A15: 1.7 | B15: Ինքնասպանության հասցնելը | C15: 110 | D15: =SUM('Երևան քաղաք'!D14+Շիրակ!D14+Կոտայք!D14+Լոռի!D14+Արագածոտն!D14+Գեղարքունիքի!D14+Արմավիր!D14+'Արարատի և Վայոց ձոր'!D14+Տավուշ!D13+Սյունիք!D14) -> 0 | E15: =SUM('Երևան քաղաք'!E14+Շիրակ!E14+Կոտայք!E14+Լոռի!E14+Արագածոտն!E14+Գեղարքունիքի!E14+Արմավիր!E14+'Արարատի և Վայոց ձոր'!E14+Տավուշ!E13+Սյունիք!E14) -> 0 | F15: =SUM('Երևան քաղաք'!F14+Շիրակ!F14+Կոտայք!F14+Լոռի!F14+Արագածոտն!F14+Գեղարքունիքի!F14+Արմավիր!F14+'Արարատի և Վայոց ձոր'!F14+Տավուշ!F13+Սյունիք!F14) -> 0 | G15: =SUM('Երևան քաղաք'!G14+Շիրակ!G14+Կոտայք!G14+Լոռի!G14+Արագածոտն!G14+Գեղարքունիքի!G14+Արմավիր!G14+'Արարատի և Վայոց ձոր'!G14+Տավուշ!G13+Սյունիք!G14) -> 0 | H15: =SUM('Երևան քաղաք'!H14+Շիրակ!H14+Կոտայք!H14+Լոռի!H14+Արագածոտն!H14+Գեղարքունիքի!H14+Արմավիր!H14+'Արարատի և Վայոց ձոր'!H14+Տավուշ!H13+Սյունիք!H14) -> 0 | I15: =SUM('Երևան քաղաք'!I14+Շիրակ!I14+Կոտայք!I14+Լոռի!I14+Արագածոտն!I14+Գեղարքունիքի!I14+Արմավիր!I14+'Արարատի և Վայոց ձոր'!I14+Տավուշ!I13+Սյունիք!I14) -> 1 | J15: =SUM('Երևան քաղաք'!J14+Շիրակ!J14+Կոտայք!J14+Լոռի!J14+Արագածոտն!J14+Գեղարքունիքի!J14+Արմավիր!J14+'Արարատի և Վայոց ձոր'!J14+Տավուշ!J13+Սյունիք!J14) -> 0 | K15: =SUM('Երևան քաղաք'!K14+Շիրակ!K14+Կոտայք!K14+Լոռի!K14+Արագածոտն!K14+Գեղարքունիքի!K14+Արմավիր!K14+'Արարատի և Վայոց ձոր'!K14+Տավուշ!K13+Սյունիք!K14) -> 0 | ... BZ15: =SUM('Երևան քաղաք'!BZ14+Շիրակ!BZ14+Կոտայք!BZ14+Լոռի!BZ14+Արագածոտն!BZ14+Գեղարքունիքի!BZ14+Արմավիր!BZ14+'Արարատի և Վայոց ձոր'!BZ14+Տավուշ!BZ13+Սյունիք!BZ14) -> 2 | CB15: =F15 -> 0 | CC15: =D15+E15 -> 0 | CD15: =L15 -> 1 | CE15: =I15+J15+K15 -> 1 | CF15: =W15 -> 1 | CG15: =O15+P15+Q15+R15+S15+T15+U15+V15 -> 1 | CH15: =L15 -> 1 | CI15: =W15+X15+Y15+Z15+AA15+AB15+AC15 -> 1 | CJ15: =L15 -> 1 | CK15: =AM15+AN15+AO15+AP15+AQ15 -> 1 | CL15: =L15 -> 1 | CM15: =AR15+AS15+AT15+AU15+AV15+AW15+AX15 -> 1 | CN15: =L15 -> 1 | CO15: =AY15+AZ15+BA15 -> 1 | CP15: =BF15 -> 0 | CQ15: =BC15+BD15+BE15 -> 0 | CR15: =BF15 -> 0 | CS15: =BG15+BH15+BI15+BJ15 -> 0 | CT15: =BS15 -> 0 | CU15: =BO15+BP15+BQ15+BR15 -> 0
A16: 1.8 | B16: Ինքնասպանության հակելը | C16: 111 | D16: =SUM('Երևան քաղաք'!D15+Շիրակ!D15+Կոտայք!D15+Լոռի!D15+Արագածոտն!D15+Գեղարքունիքի!D15+Արմավիր!D15+'Արարատի և Վայոց ձոր'!D15+Տավուշ!D14+Սյունիք!D15) -> 0 | E16: =SUM('Երևան քաղաք'!E15+Շիրակ!E15+Կոտայք!E15+Լոռի!E15+Արագածոտն!E15+Գեղարքունիքի!E15+Արմավիր!E15+'Արարատի և Վայոց ձոր'!E15+Տավուշ!E14+Սյունիք!E15) -> 2 | F16: =SUM('Երևան քաղաք'!F15+Շիրակ!F15+Կոտայք!F15+Լոռի!F15+Արագածոտն!F15+Գեղարքունիքի!F15+Արմավիր!F15+'Արարատի և Վայոց ձոր'!F15+Տավուշ!F14+Սյունիք!F15) -> 2 | G16: =SUM('Երևան քաղաք'!G15+Շիրակ!G15+Կոտայք!G15+Լոռի!G15+Արագածոտն!G15+Գեղարքունիքի!G15+Արմավիր!G15+'Արարատի և Վայոց ձոր'!G15+Տավուշ!G14+Սյունիք!G15) -> 0 | H16: =SUM('Երևան քաղաք'!H15+Շիրակ!H15+Կոտայք!H15+Լոռի!H15+Արագածոտն!H15+Գեղարքունիքի!H15+Արմավիր!H15+'Արարատի և Վայոց ձոր'!H15+Տավուշ!H14+Սյունիք!H15) -> 0 | I16: =SUM('Երևան քաղաք'!I15+Շիրակ!I15+Կոտայք!I15+Լոռի!I15+Արագածոտն!I15+Գեղարքունիքի!I15+Արմավիր!I15+'Արարատի և Վայոց ձոր'!I15+Տավուշ!I14+Սյունիք!I15) -> 0 | J16: =SUM('Երևան քաղաք'!J15+Շիրակ!J15+Կոտայք!J15+Լոռի!J15+Արագածոտն!J15+Գեղարքունիքի!J15+Արմավիր!J15+'Արարատի և Վայոց ձոր'!J15+Տավուշ!J14+Սյունիք!J15) -> 0 | K16: =SUM('Երևան քաղաք'!K15+Շիրակ!K15+Կոտայք!K15+Լոռի!K15+Արագածոտն!K15+Գեղարքունիքի!K15+Արմավիր!K15+'Արարատի և Վայոց ձոր'!K15+Տավուշ!K14+Սյունիք!K15) -> 0 | ... BZ16: =SUM('Երևան քաղաք'!BZ15+Շիրակ!BZ15+Կոտայք!BZ15+Լոռի!BZ15+Արագածոտն!BZ15+Գեղարքունիքի!BZ15+Արմավիր!BZ15+'Արարատի և Վայոց ձոր'!BZ15+Տավուշ!BZ14+Սյունիք!BZ15) -> 0 | CB16: =F16 -> 2 | CC16: =D16+E16 -> 2 | CD16: =L16 -> 0 | CE16: =I16+J16+K16 -> 0 | CF16: =W16 -> 0 | CG16: =O16+P16+Q16+R16+S16+T16+U16+V16 -> 0 | CH16: =L16 -> 0 | CI16: =W16+X16+Y16+Z16+AA16+AB16+AC16 -> 0 | CJ16: =L16 -> 0 | CK16: =AM16+AN16+AO16+AP16+AQ16 -> 0 | CL16: =L16 -> 0 | CM16: =AR16+AS16+AT16+AU16+AV16+AW16+AX16 -> 0 | CN16: =L16 -> 0 | CO16: =AY16+AZ16+BA16 -> 0 | CP16: =BF16 -> 0 | CQ16: =BC16+BD16+BE16 -> 0 | CR16: =BF16 -> 0 | CS16: =BG16+BH16+BI16+BJ16 -> 0 | CT16: =BS16 -> 0 | CU16: =BO16+BP16+BQ16+BR16 -> 0
A17: 1.9 | B17: Դիտավորությամբ առողջությանը ծանր վնաս պատճառելը | C17: 112 | D17: =SUM('Երևան քաղաք'!D16+Շիրակ!D16+Կոտայք!D16+Լոռի!D16+Արագածոտն!D16+Գեղարքունիքի!D16+Արմավիր!D16+'Արարատի և Վայոց ձոր'!D16+Տավուշ!D15+Սյունիք!D16) -> 0 | E17: =SUM('Երևան քաղաք'!E16+Շիրակ!E16+Կոտայք!E16+Լոռի!E16+Արագածոտն!E16+Գեղարքունիքի!E16+Արմավիր!E16+'Արարատի և Վայոց ձոր'!E16+Տավուշ!E15+Սյունիք!E16) -> 6 | F17: =SUM('Երևան քաղաք'!F16+Շիրակ!F16+Կոտայք!F16+Լոռի!F16+Արագածոտն!F16+Գեղարքունիքի!F16+Արմավիր!F16+'Արարատի և Վայոց ձոր'!F16+Տավուշ!F15+Սյունիք!F16) -> 6 | G17: =SUM('Երևան քաղաք'!G16+Շիրակ!G16+Կոտայք!G16+Լոռի!G16+Արագածոտն!G16+Գեղարքունիքի!G16+Արմավիր!G16+'Արարատի և Վայոց ձոր'!G16+Տավուշ!G15+Սյունիք!G16) -> 0 | H17: =SUM('Երևան քաղաք'!H16+Շիրակ!H16+Կոտայք!H16+Լոռի!H16+Արագածոտն!H16+Գեղարքունիքի!H16+Արմավիր!H16+'Արարատի և Վայոց ձոր'!H16+Տավուշ!H15+Սյունիք!H16) -> 0 | I17: =SUM('Երևան քաղաք'!I16+Շիրակ!I16+Կոտայք!I16+Լոռի!I16+Արագածոտն!I16+Գեղարքունիքի!I16+Արմավիր!I16+'Արարատի և Վայոց ձոր'!I16+Տավուշ!I15+Սյունիք!I16) -> 43 | J17: =SUM('Երևան քաղաք'!J16+Շիրակ!J16+Կոտայք!J16+Լոռի!J16+Արագածոտն!J16+Գեղարքունիքի!J16+Արմավիր!J16+'Արարատի և Վայոց ձոր'!J16+Տավուշ!J15+Սյունիք!J16) -> 0 | K17: =SUM('Երևան քաղաք'!K16+Շիրակ!K16+Կոտայք!K16+Լոռի!K16+Արագածոտն!K16+Գեղարքունիքի!K16+Արմավիր!K16+'Արարատի և Վայոց ձոր'!K16+Տավուշ!K15+Սյունիք!K16) -> 0 | ... BZ17: =SUM('Երևան քաղաք'!BZ16+Շիրակ!BZ16+Կոտայք!BZ16+Լոռի!BZ16+Արագածոտն!BZ16+Գեղարքունիքի!BZ16+Արմավիր!BZ16+'Արարատի և Վայոց ձոր'!BZ16+Տավուշ!BZ15+Սյունիք!BZ16) -> 33 | CB17: =F17 -> 6 | CC17: =D17+E17 -> 6 | CD17: =L17 -> 43 | CE17: =I17+J17+K17 -> 43 | CF17: =W17 -> 43 | CG17: =O17+P17+Q17+R17+S17+T17+U17+V17 -> 43 | CH17: =L17 -> 43 | CI17: =W17+X17+Y17+Z17+AA17+AB17+AC17 -> 43 | CJ17: =L17 -> 43 | CK17: =AM17+AN17+AO17+AP17+AQ17 -> 43 | CL17: =L17 -> 43 | CM17: =AR17+AS17+AT17+AU17+AV17+AW17+AX17 -> 43 | CN17: =L17 -> 43 | CO17: =AY17+AZ17+BA17 -> 43 | CP17: =BF17 -> 1 | CQ17: =BC17+BD17+BE17 -> 1 | CR17: =BF17 -> 1 | CS17: =BG17+BH17+BI17+BJ17 -> 1 | CT17: =BS17 -> 0 | CU17: =BO17+BP17+BQ17+BR17 -> 0
A18: 1.10 | B18: Դիտավորությամբ առողջությանը միջին ծանրության վնաս պատճառելը | C18: 113 | D18: =SUM('Երևան քաղաք'!D17+Շիրակ!D17+Կոտայք!D17+Լոռի!D17+Արագածոտն!D17+Գեղարքունիքի!D17+Արմավիր!D17+'Արարատի և Վայոց ձոր'!D17+Տավուշ!D16+Սյունիք!D17) -> 0 | E18: =SUM('Երևան քաղաք'!E17+Շիրակ!E17+Կոտայք!E17+Լոռի!E17+Արագածոտն!E17+Գեղարքունիքի!E17+Արմավիր!E17+'Արարատի և Վայոց ձոր'!E17+Տավուշ!E16+Սյունիք!E17) -> 3 | F18: =SUM('Երևան քաղաք'!F17+Շիրակ!F17+Կոտայք!F17+Լոռի!F17+Արագածոտն!F17+Գեղարքունիքի!F17+Արմավիր!F17+'Արարատի և Վայոց ձոր'!F17+Տավուշ!F16+Սյունիք!F17) -> 3 | G18: =SUM('Երևան քաղաք'!G17+Շիրակ!G17+Կոտայք!G17+Լոռի!G17+Արագածոտն!G17+Գեղարքունիքի!G17+Արմավիր!G17+'Արարատի և Վայոց ձոր'!G17+Տավուշ!G16+Սյունիք!G17) -> 0 | H18: =SUM('Երևան քաղաք'!H17+Շիրակ!H17+Կոտայք!H17+Լոռի!H17+Արագածոտն!H17+Գեղարքունիքի!H17+Արմավիր!H17+'Արարատի և Վայոց ձոր'!H17+Տավուշ!H16+Սյունիք!H17) -> 0 | I18: =SUM('Երևան քաղաք'!I17+Շիրակ!I17+Կոտայք!I17+Լոռի!I17+Արագածոտն!I17+Գեղարքունիքի!I17+Արմավիր!I17+'Արարատի և Վայոց ձոր'!I17+Տավուշ!I16+Սյունիք!I17) -> 24 | J18: =SUM('Երևան քաղաք'!J17+Շիրակ!J17+Կոտայք!J17+Լոռի!J17+Արագածոտն!J17+Գեղարքունիքի!J17+Արմավիր!J17+'Արարատի և Վայոց ձոր'!J17+Տավուշ!J16+Սյունիք!J17) -> 0 | K18: =SUM('Երևան քաղաք'!K17+Շիրակ!K17+Կոտայք!K17+Լոռի!K17+Արագածոտն!K17+Գեղարքունիքի!K17+Արմավիր!K17+'Արարատի և Վայոց ձոր'!K17+Տավուշ!K16+Սյունիք!K17) -> 0 | ... BZ18: =SUM('Երևան քաղաք'!BZ17+Շիրակ!BZ17+Կոտայք!BZ17+Լոռի!BZ17+Արագածոտն!BZ17+Գեղարքունիքի!BZ17+Արմավիր!BZ17+'Արարատի և Վայոց ձոր'!BZ17+Տավուշ!BZ16+Սյունիք!BZ17) -> 5 | CB18: =F18 -> 3 | CC18: =D18+E18 -> 3 | CD18: =L18 -> 24 | CE18: =I18+J18+K18 -> 24 | CF18: =W18 -> 21 | CG18: =O18+P18+Q18+R18+S18+T18+U18+V18 -> 21 | CH18: =L18 -> 24 | CI18: =W18+X18+Y18+Z18+AA18+AB18+AC18 -> 24 | CJ18: =L18 -> 24 | CK18: =AM18+AN18+AO18+AP18+AQ18 -> 24 | CL18: =L18 -> 24 | CM18: =AR18+AS18+AT18+AU18+AV18+AW18+AX18 -> 24 | CN18: =L18 -> 24 | CO18: =AY18+AZ18+BA18 -> 24 | CP18: =BF18 -> 1 | CQ18: =BC18+BD18+BE18 -> 1 | CR18: =BF18 -> 1 | CS18: =BG18+BH18+BI18+BJ18 -> 1 | CT18: =BS18 -> 1 | CU18: =BO18+BP18+BQ18+BR18 -> 1
A19: 1.11 | B19: Հոգեկան խիստ հուզմունքի վիճակում առողջությանը ծանր կամ միջին ծանրության վնաս պատճառելը | C19: 114 | D19: =SUM('Երևան քաղաք'!D18+Շիրակ!D18+Կոտայք!D18+Լոռի!D18+Արագածոտն!D18+Գեղարքունիքի!D18+Արմավիր!D18+'Արարատի և Վայոց ձոր'!D18+Տավուշ!D17+Սյունիք!D18) -> 0 | E19: =SUM('Երևան քաղաք'!E18+Շիրակ!E18+Կոտայք!E18+Լոռի!E18+Արագածոտն!E18+Գեղարքունիքի!E18+Արմավիր!E18+'Արարատի և Վայոց ձոր'!E18+Տավուշ!E17+Սյունիք!E18) -> 0 | F19: =SUM('Երևան քաղաք'!F18+Շիրակ!F18+Կոտայք!F18+Լոռի!F18+Արագածոտն!F18+Գեղարքունիքի!F18+Արմավիր!F18+'Արարատի և Վայոց ձոր'!F18+Տավուշ!F17+Սյունիք!F18) -> 0 | G19: =SUM('Երևան քաղաք'!G18+Շիրակ!G18+Կոտայք!G18+Լոռի!G18+Արագածոտն!G18+Գեղարքունիքի!G18+Արմավիր!G18+'Արարատի և Վայոց ձոր'!G18+Տավուշ!G17+Սյունիք!G18) -> 1 | H19: =SUM('Երևան քաղաք'!H18+Շիրակ!H18+Կոտայք!H18+Լոռի!H18+Արագածոտն!H18+Գեղարքունիքի!H18+Արմավիր!H18+'Արարատի և Վայոց ձոր'!H18+Տավուշ!H17+Սյունիք!H18) -> 0 | I19: =SUM('Երևան քաղաք'!I18+Շիրակ!I18+Կոտայք!I18+Լոռի!I18+Արագածոտն!I18+Գեղարքունիքի!I18+Արմավիր!I18+'Արարատի և Վայոց ձոր'!I18+Տավուշ!I17+Սյունիք!I18) -> 1 | J19: =SUM('Երևան քաղաք'!J18+Շիրակ!J18+Կոտայք!J18+Լոռի!J18+Արագածոտն!J18+Գեղարքունիքի!J18+Արմավիր!J18+'Արարատի և Վայոց ձոր'!J18+Տավուշ!J17+Սյունիք!J18) -> 0 | K19: =SUM('Երևան քաղաք'!K18+Շիրակ!K18+Կոտայք!K18+Լոռի!K18+Արագածոտն!K18+Գեղարքունիքի!K18+Արմավիր!K18+'Արարատի և Վայոց ձոր'!K18+Տավուշ!K17+Սյունիք!K18) -> 0 | ... BZ19: =SUM('Երևան քաղաք'!BZ18+Շիրակ!BZ18+Կոտայք!BZ18+Լոռի!BZ18+Արագածոտն!BZ18+Գեղարքունիքի!BZ18+Արմավիր!BZ18+'Արարատի և Վայոց ձոր'!BZ18+Տավուշ!BZ17+Սյունիք!BZ18) -> 0 | CB19: =F19 -> 0 | CC19: =D19+E19 -> 0 | CD19: =L19 -> 1 | CE19: =I19+J19+K19 -> 1 | CF19: =W19 -> 1 | CG19: =O19+P19+Q19+R19+S19+T19+U19+V19 -> 1 | CH19: =L19 -> 1 | CI19: =W19+X19+Y19+Z19+AA19+AB19+AC19 -> 1 | CJ19: =L19 -> 1 | CK19: =AM19+AN19+AO19+AP19+AQ19 -> 1 | CL19: =L19 -> 1 | CM19: =AR19+AS19+AT19+AU19+AV19+AW19+AX19 -> 1 | CN19: =L19 -> 1 | CO19: =AY19+AZ19+BA19 -> 1 | CP19: =BF19 -> 0 | CQ19: =BC19+BD19+BE19 -> 0 | CR19: =BF19 -> 0 | CS19: =BG19+BH19+BI19+BJ19 -> 0 | CT19: =BS19 -> 0 | CU19: =BO19+BP19+BQ19+BR19 -> 0
A20: 1.12 | B20: Հանցանք կատարած անձին բռնելու համար անհրաժեշտ միջոցների սահմանզանցմամբ առողջությանը ծանր կամ միջին ծանրության վնաս պատճառելը | C20: 115 | D20: =SUM('Երևան քաղաք'!D19+Շիրակ!D19+Կոտայք!D19+Լոռի!D19+Արագածոտն!D19+Գեղարքունիքի!D19+Արմավիր!D19+'Արարատի և Վայոց ձոր'!D19+Տավուշ!D18+Սյունիք!D19) -> 0 | E20: =SUM('Երևան քաղաք'!E19+Շիրակ!E19+Կոտայք!E19+Լոռի!E19+Արագածոտն!E19+Գեղարքունիքի!E19+Արմավիր!E19+'Արարատի և Վայոց ձոր'!E19+Տավուշ!E18+Սյունիք!E19) -> 0 | F20: =SUM('Երևան քաղաք'!F19+Շիրակ!F19+Կոտայք!F19+Լոռի!F19+Արագածոտն!F19+Գեղարքունիքի!F19+Արմավիր!F19+'Արարատի և Վայոց ձոր'!F19+Տավուշ!F18+Սյունիք!F19) -> 0 | G20: =SUM('Երևան քաղաք'!G19+Շիրակ!G19+Կոտայք!G19+Լոռի!G19+Արագածոտն!G19+Գեղարքունիքի!G19+Արմավիր!G19+'Արարատի և Վայոց ձոր'!G19+Տավուշ!G18+Սյունիք!G19) -> 0 | H20: =SUM('Երևան քաղաք'!H19+Շիրակ!H19+Կոտայք!H19+Լոռի!H19+Արագածոտն!H19+Գեղարքունիքի!H19+Արմավիր!H19+'Արարատի և Վայոց ձոր'!H19+Տավուշ!H18+Սյունիք!H19) -> 0 | I20: =SUM('Երևան քաղաք'!I19+Շիրակ!I19+Կոտայք!I19+Լոռի!I19+Արագածոտն!I19+Գեղարքունիքի!I19+Արմավիր!I19+'Արարատի և Վայոց ձոր'!I19+Տավուշ!I18+Սյունիք!I19) -> 0 | J20: =SUM('Երևան քաղաք'!J19+Շիրակ!J19+Կոտայք!J19+Լոռի!J19+Արագածոտն!J19+Գեղարքունիքի!J19+Արմավիր!J19+'Արարատի և Վայոց ձոր'!J19+Տավուշ!J18+Սյունիք!J19) -> 0 | K20: =SUM('Երևան քաղաք'!K19+Շիրակ!K19+Կոտայք!K19+Լոռի!K19+Արագածոտն!K19+Գեղարքունիքի!K19+Արմավիր!K19+'Արարատի և Վայոց ձոր'!K19+Տավուշ!K18+Սյունիք!K19) -> 0 | ... BZ20: =SUM('Երևան քաղաք'!BZ19+Շիրակ!BZ19+Կոտայք!BZ19+Լոռի!BZ19+Արագածոտն!BZ19+Գեղարքունիքի!BZ19+Արմավիր!BZ19+'Արարատի և Վայոց ձոր'!BZ19+Տավուշ!BZ18+Սյունիք!BZ19) -> 0 | CB20: =F20 -> 0 | CC20: =D20+E20 -> 0 | CD20: =L20 -> 0 | CE20: =I20+J20+K20 -> 0 | CF20: =W20 -> 0 | CG20: =O20+P20+Q20+R20+S20+T20+U20+V20 -> 0 | CH20: =L20 -> 0 | CI20: =W20+X20+Y20+Z20+AA20+AB20+AC20 -> 0 | CJ20: =L20 -> 0 | CK20: =AM20+AN20+AO20+AP20+AQ20 -> 0 | CL20: =L20 -> 0 | CM20: =AR20+AS20+AT20+AU20+AV20+AW20+AX20 -> 0 | CN20: =L20 -> 0 | CO20: =AY20+AZ20+BA20 -> 0 | CP20: =BF20 -> 0 | CQ20: =BC20+BD20+BE20 -> 0 | CR20: =BF20 -> 0 | CS20: =BG20+BH20+BI20+BJ20 -> 0 | CT20: =BS20 -> 0 | CU20: =BO20+BP20+BQ20+BR20 -> 0
... A34: 1.27 | B34: Բժշկական օգնություն և սպասարկում իրականացնողների կողմից մասնագիտական պարտականությունները չկատարելը կամ ոչ պատշաճ կատարելը | C34: 130 | D34: =SUM('Երևան քաղաք'!D33+Շիրակ!D33+Կոտայք!D33+Լոռի!D33+Արագածոտն!D33+Գեղարքունիքի!D33+Արմավիր!D33+'Արարատի և Վայոց ձոր'!D33+Տավուշ!D32+Սյունիք!D33) -> 0 | E34: =SUM('Երևան քաղաք'!E33+Շիրակ!E33+Կոտայք!E33+Լոռի!E33+Արագածոտն!E33+Գեղարքունիքի!E33+Արմավիր!E33+'Արարատի և Վայոց ձոր'!E33+Տավուշ!E32+Սյունիք!E33) -> 0 | F34: =SUM('Երևան քաղաք'!F33+Շիրակ!F33+Կոտայք!F33+Լոռի!F33+Արագածոտն!F33+Գեղարքունիքի!F33+Արմավիր!F33+'Արարատի և Վայոց ձոր'!F33+Տավուշ!F32+Սյունիք!F33) -> 0 | G34: =SUM('Երևան քաղաք'!G33+Շիրակ!G33+Կոտայք!G33+Լոռի!G33+Արագածոտն!G33+Գեղարքունիքի!G33+Արմավիր!G33+'Արարատի և Վայոց ձոր'!G33+Տավուշ!G32+Սյունիք!G33) -> 0 | H34: =SUM('Երևան քաղաք'!H33+Շիրակ!H33+Կոտայք!H33+Լոռի!H33+Արագածոտն!H33+Գեղարքունիքի!H33+Արմավիր!H33+'Արարատի և Վայոց ձոր'!H33+Տավուշ!H32+Սյունիք!H33) -> 0 | I34: =SUM('Երևան քաղաք'!I33+Շիրակ!I33+Կոտայք!I33+Լոռի!I33+Արագածոտն!I33+Գեղարքունիքի!I33+Արմավիր!I33+'Արարատի և Վայոց ձոր'!I33+Տավուշ!I32+Սյունիք!I33) -> 2 | J34: =SUM('Երևան քաղաք'!J33+Շիրակ!J33+Կոտայք!J33+Լոռի!J33+Արագածոտն!J33+Գեղարքունիքի!J33+Արմավիր!J33+'Արարատի և Վայոց ձոր'!J33+Տավուշ!J32+Սյունիք!J33) -> 0 | K34: =SUM('Երևան քաղաք'!K33+Շիրակ!K33+Կոտայք!K33+Լոռի!K33+Արագածոտն!K33+Գեղարքունիքի!K33+Արմավիր!K33+'Արարատի և Վայոց ձոր'!K33+Տավուշ!K32+Սյունիք!K33) -> 0 | ... BZ34: =SUM('Երևան քաղաք'!BZ33+Շիրակ!BZ33+Կոտայք!BZ33+Լոռի!BZ33+Արագածոտն!BZ33+Գեղարքունիքի!BZ33+Արմավիր!BZ33+'Արարատի և Վայոց ձոր'!BZ33+Տավուշ!BZ32+Սյունիք!BZ33) -> 0 | CB34: =F34 -> 0 | CC34: =D34+E34 -> 0 | CD34: =L34 -> 2 | CE34: =I34+J34+K34 -> 2 | CF34: =W34 -> 2 | CG34: =O34+P34+Q34+R34+S34+T34+U34+V34 -> 2 | CH34: =L34 -> 2 | CI34: =W34+X34+Y34+Z34+AA34+AB34+AC34 -> 2 | CJ34: =L34 -> 2 | CK34: =AM34+AN34+AO34+AP34+AQ34 -> 2 | CL34: =L34 -> 2 | CM34: =AR34+AS34+AT34+AU34+AV34+AW34+AX34 -> 2 | CN34: =L34 -> 2 | CO34: =AY34+AZ34+BA34 -> 2 | CP34: =BF34 -> 0 | CQ34: =BC34+BD34+BE34 -> 0 | CR34: =BF34 -> 0 | CS34: =BG34+BH34+BI34+BJ34 -> 0 | CT34: =BS34 -> 0 | CU34: =BO34+BP34+BQ34+BR34 -> 0
A35: 1.28 | B35: Այլ հանցագործություններ | D35: =SUM('Երևան քաղաք'!D34+Շիրակ!D34+Կոտայք!D34+Լոռի!D34+Արագածոտն!D34+Գեղարքունիքի!D34+Արմավիր!D34+'Արարատի և Վայոց ձոր'!D34+Տավուշ!D33+Սյունիք!D34) -> 0 | E35: =SUM('Երևան քաղաք'!E34+Շիրակ!E34+Կոտայք!E34+Լոռի!E34+Արագածոտն!E34+Գեղարքունիքի!E34+Արմավիր!E34+'Արարատի և Վայոց ձոր'!E34+Տավուշ!E33+Սյունիք!E34) -> 0 | F35: =SUM('Երևան քաղաք'!F34+Շիրակ!F34+Կոտայք!F34+Լոռի!F34+Արագածոտն!F34+Գեղարքունիքի!F34+Արմավիր!F34+'Արարատի և Վայոց ձոր'!F34+Տավուշ!F33+Սյունիք!F34) -> 0 | G35: =SUM('Երևան քաղաք'!G34+Շիրակ!G34+Կոտայք!G34+Լոռի!G34+Արագածոտն!G34+Գեղարքունիքի!G34+Արմավիր!G34+'Արարատի և Վայոց ձոր'!G34+Տավուշ!G33+Սյունիք!G34) -> 0 | H35: =SUM('Երևան քաղաք'!H34+Շիրակ!H34+Կոտայք!H34+Լոռի!H34+Արագածոտն!H34+Գեղարքունիքի!H34+Արմավիր!H34+'Արարատի և Վայոց ձոր'!H34+Տավուշ!H33+Սյունիք!H34) -> 0 | I35: =SUM('Երևան քաղաք'!I34+Շիրակ!I34+Կոտայք!I34+Լոռի!I34+Արագածոտն!I34+Գեղարքունիքի!I34+Արմավիր!I34+'Արարատի և Վայոց ձոր'!I34+Տավուշ!I33+Սյունիք!I34) -> 0 | J35: =SUM('Երևան քաղաք'!J34+Շիրակ!J34+Կոտայք!J34+Լոռի!J34+Արագածոտն!J34+Գեղարքունիքի!J34+Արմավիր!J34+'Արարատի և Վայոց ձոր'!J34+Տավուշ!J33+Սյունիք!J34) -> 0 | K35: =SUM('Երևան քաղաք'!K34+Շիրակ!K34+Կոտայք!K34+Լոռի!K34+Արագածոտն!K34+Գեղարքունիքի!K34+Արմավիր!K34+'Արարատի և Վայոց ձոր'!K34+Տավուշ!K33+Սյունիք!K34) -> 0 | ... BZ35: =SUM('Երևան քաղաք'!BZ34+Շիրակ!BZ34+Կոտայք!BZ34+Լոռի!BZ34+Արագածոտն!BZ34+Գեղարքունիքի!BZ34+Արմավիր!BZ34+'Արարատի և Վայոց ձոր'!BZ34+Տավուշ!BZ33+Սյունիք!BZ34) -> 0 | CB35: =F35 -> 0 | CC35: =D35+E35 -> 0 | CD35: =L35 -> 0 | CE35: =I35+J35+K35 -> 0 | CF35: =W35 -> 0 | CG35: =O35+P35+Q35+R35+S35+T35+U35+V35 -> 0 | CH35: =L35 -> 0 | CI35: =W35+X35+Y35+Z35+AA35+AB35+AC35 -> 0 | CJ35: =L35 -> 0 | CK35: =AM35+AN35+AO35+AP35+AQ35 -> 0 | CL35: =L35 -> 0 | CM35: =AR35+AS35+AT35+AU35+AV35+AW35+AX35 -> 0 | CN35: =L35 -> 0 | CO35: =AY35+AZ35+BA35 -> 0 | CP35: =BF35 -> 0 | CQ35: =BC35+BD35+BE35 -> 0 | CR35: =BF35 -> 0 | CS35: =BG35+BH35+BI35+BJ35 -> 0 | CT35: =BS35 -> 0 | CU35: =BO35+BP35+BQ35+BR35 -> 0
A36: 2. | B36: Ընդամենը անձի ազատության, պատվի և արժանապատվության դեմ ուղղված հանցագործությունները | D36: =SUM('Երևան քաղաք:Սյունիք'!D35) -> 36 | E36: =SUM('Երևան քաղաք:Սյունիք'!E35) -> 52 | F36: =SUM('Երևան քաղաք:Սյունիք'!F35) -> 88 | G36: =SUM('Երևան քաղաք:Սյունիք'!G35) -> 1 | H36: =SUM('Երևան քաղաք:Սյունիք'!H35) -> 3 | I36: =SUM('Երևան քաղաք:Սյունիք'!I35) -> 25 | J36: =SUM('Երևան քաղաք:Սյունիք'!J35) -> 0 | K36: =SUM('Երևան քաղաք:Սյունիք'!K35) -> 0 | ... CA36: =SUM('Երևան քաղաք:Սյունիք'!CA35) -> 0 | CB36: =F36 -> 88 | CC36: =D36+E36 -> 88 | CD36: =L36 -> 25 | CE36: =I36+J36+K36 -> 25 | CF36: =W36 -> 18 | CG36: =O36+P36+Q36+R36+S36+T36+U36+V36 -> 18 | CH36: =L36 -> 25 | CI36: =W36+X36+Y36+Z36+AA36+AB36+AC36 -> 25 | CJ36: =L36 -> 25 | CK36: =AM36+AN36+AO36+AP36+AQ36 -> 25 | CL36: =L36 -> 25 | CM36: =AR36+AS36+AT36+AU36+AV36+AW36+AX36 -> 25 | CN36: =L36 -> 25 | CO36: =AY36+AZ36+BA36 -> 25 | CP36: =BF36 -> 0 | CQ36: =BC36+BD36+BE36 -> 0 | CR36: =BF36 -> 0 | CS36: =BG36+BH36+BI36+BJ36 -> 0 | CT36: =BS36 -> 0 | CU36: =BO36+BP36+BQ36+BR36 -> 0
A37: 2.1 | B37: Մարդուն առևանգելը | C37: 131 | D37: =SUM('Երևան քաղաք'!D36+Շիրակ!D36+Կոտայք!D36+Լոռի!D36+Արագածոտն!D36+Գեղարքունիքի!D36+Արմավիր!D36+'Արարատի և Վայոց ձոր'!D36+Տավուշ!D35+Սյունիք!D36) -> 0 | E37: =SUM('Երևան քաղաք'!E36+Շիրակ!E36+Կոտայք!E36+Լոռի!E36+Արագածոտն!E36+Գեղարքունիքի!E36+Արմավիր!E36+'Արարատի և Վայոց ձոր'!E36+Տավուշ!E35+Սյունիք!E36) -> 2 | F37: =SUM('Երևան քաղաք'!F36+Շիրակ!F36+Կոտայք!F36+Լոռի!F36+Արագածոտն!F36+Գեղարքունիքի!F36+Արմավիր!F36+'Արարատի և Վայոց ձոր'!F36+Տավուշ!F35+Սյունիք!F36) -> 2 | G37: =SUM('Երևան քաղաք'!G36+Շիրակ!G36+Կոտայք!G36+Լոռի!G36+Արագածոտն!G36+Գեղարքունիքի!G36+Արմավիր!G36+'Արարատի և Վայոց ձոր'!G36+Տավուշ!G35+Սյունիք!G36) -> 0 | H37: =SUM('Երևան քաղաք'!H36+Շիրակ!H36+Կոտայք!H36+Լոռի!H36+Արագածոտն!H36+Գեղարքունիքի!H36+Արմավիր!H36+'Արարատի և Վայոց ձոր'!H36+Տավուշ!H35+Սյունիք!H36) -> 1 | I37: =SUM('Երևան քաղաք'!I36+Շիրակ!I36+Կոտայք!I36+Լոռի!I36+Արագածոտն!I36+Գեղարքունիքի!I36+Արմավիր!I36+'Արարատի և Վայոց ձոր'!I36+Տավուշ!I35+Սյունիք!I36) -> 17 | J37: =SUM('Երևան քաղաք'!J36+Շիրակ!J36+Կոտայք!J36+Լոռի!J36+Արագածոտն!J36+Գեղարքունիքի!J36+Արմավիր!J36+'Արարատի և Վայոց ձոր'!J36+Տավուշ!J35+Սյունիք!J36) -> 0 | K37: =SUM('Երևան քաղաք'!K36+Շիրակ!K36+Կոտայք!K36+Լոռի!K36+Արագածոտն!K36+Գեղարքունիքի!K36+Արմավիր!K36+'Արարատի և Վայոց ձոր'!K36+Տավուշ!K35+Սյունիք!K36) -> 0 | ... BZ37: =SUM('Երևան քաղաք'!BZ36+Շիրակ!BZ36+Կոտայք!BZ36+Լոռի!BZ36+Արագածոտն!BZ36+Գեղարքունիքի!BZ36+Արմավիր!BZ36+'Արարատի և Վայոց ձոր'!BZ36+Տավուշ!BZ35+Սյունիք!BZ36) -> 5 | CB37: =F37 -> 2 | CC37: =D37+E37 -> 2 | CD37: =L37 -> 17 | CE37: =I37+J37+K37 -> 17 | CF37: =W37 -> 17 | CG37: =O37+P37+Q37+R37+S37+T37+U37+V37 -> 17 | CH37: =L37 -> 17 | CI37: =W37+X37+Y37+Z37+AA37+AB37+AC37 -> 17 | CJ37: =L37 -> 17 | CK37: =AM37+AN37+AO37+AP37+AQ37 -> 17 | CL37: =L37 -> 17 | CM37: =AR37+AS37+AT37+AU37+AV37+AW37+AX37 -> 17 | CN37: =L37 -> 17 | CO37: =AY37+AZ37+BA37 -> 17 | CP37: =BF37 -> 0 | CQ37: =BC37+BD37+BE37 -> 0 | CR37: =BF37 -> 0 | CS37: =BG37+BH37+BI37+BJ37 -> 0 | CT37: =BS37 -> 0 | CU37: =BO37+BP37+BQ37+BR37 -> 0
A38: 2.2 | B38: Մարդու թրաֆիքինգը կամ շահագործումը | C38: 132 | D38: =SUM('Երևան քաղաք'!D37+Շիրակ!D37+Կոտայք!D37+Լոռի!D37+Արագածոտն!D37+Գեղարքունիքի!D37+Արմավիր!D37+'Արարատի և Վայոց ձոր'!D37+Տավուշ!D36+Սյունիք!D37) -> 0 | E38: =SUM('Երևան քաղաք'!E37+Շիրակ!E37+Կոտայք!E37+Լոռի!E37+Արագածոտն!E37+Գեղարքունիքի!E37+Արմավիր!E37+'Արարատի և Վայոց ձոր'!E37+Տավուշ!E36+Սյունիք!E37) -> 0 | F38: =SUM('Երևան քաղաք'!F37+Շիրակ!F37+Կոտայք!F37+Լոռի!F37+Արագածոտն!F37+Գեղարքունիքի!F37+Արմավիր!F37+'Արարատի և Վայոց ձոր'!F37+Տավուշ!F36+Սյունիք!F37) -> 0 | G38: =SUM('Երևան քաղաք'!G37+Շիրակ!G37+Կոտայք!G37+Լոռի!G37+Արագածոտն!G37+Գեղարքունիքի!G37+Արմավիր!G37+'Արարատի և Վայոց ձոր'!G37+Տավուշ!G36+Սյունիք!G37) -> 0 | H38: =SUM('Երևան քաղաք'!H37+Շիրակ!H37+Կոտայք!H37+Լոռի!H37+Արագածոտն!H37+Գեղարքունիքի!H37+Արմավիր!H37+'Արարատի և Վայոց ձոր'!H37+Տավուշ!H36+Սյունիք!H37) -> 0 | I38: =SUM('Երևան քաղաք'!I37+Շիրակ!I37+Կոտայք!I37+Լոռի!I37+Արագածոտն!I37+Գեղարքունիքի!I37+Արմավիր!I37+'Արարատի և Վայոց ձոր'!I37+Տավուշ!I36+Սյունիք!I37) -> 1 | J38: =SUM('Երևան քաղաք'!J37+Շիրակ!J37+Կոտայք!J37+Լոռի!J37+Արագածոտն!J37+Գեղարքունիքի!J37+Արմավիր!J37+'Արարատի և Վայոց ձոր'!J37+Տավուշ!J36+Սյունիք!J37) -> 0 | K38: =SUM('Երևան քաղաք'!K37+Շիրակ!K37+Կոտայք!K37+Լոռի!K37+Արագածոտն!K37+Գեղարքունիքի!K37+Արմավիր!K37+'Արարատի և Վայոց ձոր'!K37+Տավուշ!K36+Սյունիք!K37) -> 0 | ... BZ38: =SUM('Երևան քաղաք'!BZ37+Շիրակ!BZ37+Կոտայք!BZ37+Լոռի!BZ37+Արագածոտն!BZ37+Գեղարքունիքի!BZ37+Արմավիր!BZ37+'Արարատի և Վայոց ձոր'!BZ37+Տավուշ!BZ36+Սյունիք!BZ37) -> 0 | CB38: =F38 -> 0 | CC38: =D38+E38 -> 0 | CD38: =L38 -> 1 | CE38: =I38+J38+K38 -> 1 | CF38: =W38 -> 1 | CG38: =O38+P38+Q38+R38+S38+T38+U38+V38 -> 1 | CH38: =L38 -> 1 | CI38: =W38+X38+Y38+Z38+AA38+AB38+AC38 -> 1 | CJ38: =L38 -> 1 | CK38: =AM38+AN38+AO38+AP38+AQ38 -> 1 | CL38: =L38 -> 1 | CM38: =AR38+AS38+AT38+AU38+AV38+AW38+AX38 -> 1 | CN38: =L38 -> 1 | CO38: =AY38+AZ38+BA38 -> 1 | CP38: =BF38 -> 0 | CQ38: =BC38+BD38+BE38 -> 0 | CR38: =BF38 -> 0 | CS38: =BG38+BH38+BI38+BJ38 -> 0 | CT38: =BS38 -> 0 | CU38: =BO38+BP38+BQ38+BR38 -> 0
A39: 2.2.2 | B39: Երեխայի կամ հոգեկան խանգարման հետևանքով իր արարքի բնույթն ու նշանակությունը գիտակցելու կամ դա ղեկավարելու հնարավորությունից զրկված անձի թրաֆիքինգը կամ շահագործումը | C39: 132.2 | D39: =SUM('Երևան քաղաք'!D38+Շիրակ!D38+Կոտայք!D38+Լոռի!D38+Արագածոտն!D38+Գեղարքունիքի!D38+Արմավիր!D38+'Արարատի և Վայոց ձոր'!D38+Տավուշ!D37+Սյունիք!D38) -> 0 | E39: =SUM('Երևան քաղաք'!E38+Շիրակ!E38+Կոտայք!E38+Լոռի!E38+Արագածոտն!E38+Գեղարքունիքի!E38+Արմավիր!E38+'Արարատի և Վայոց ձոր'!E38+Տավուշ!E37+Սյունիք!E38) -> 0 | F39: =SUM('Երևան քաղաք'!F38+Շիրակ!F38+Կոտայք!F38+Լոռի!F38+Արագածոտն!F38+Գեղարքունիքի!F38+Արմավիր!F38+'Արարատի և Վայոց ձոր'!F38+Տավուշ!F37+Սյունիք!F38) -> 0 | G39: =SUM('Երևան քաղաք'!G38+Շիրակ!G38+Կոտայք!G38+Լոռի!G38+Արագածոտն!G38+Գեղարքունիքի!G38+Արմավիր!G38+'Արարատի և Վայոց ձոր'!G38+Տավուշ!G37+Սյունիք!G38) -> 0 | H39: =SUM('Երևան քաղաք'!H38+Շիրակ!H38+Կոտայք!H38+Լոռի!H38+Արագածոտն!H38+Գեղարքունիքի!H38+Արմավիր!H38+'Արարատի և Վայոց ձոր'!H38+Տավուշ!H37+Սյունիք!H38) -> 0 | I39: =SUM('Երևան քաղաք'!I38+Շիրակ!I38+Կոտայք!I38+Լոռի!I38+Արագածոտն!I38+Գեղարքունիքի!I38+Արմավիր!I38+'Արարատի և Վայոց ձոր'!I38+Տավուշ!I37+Սյունիք!I38) -> 0 | J39: =SUM('Երևան քաղաք'!J38+Շիրակ!J38+Կոտայք!J38+Լոռի!J38+Արագածոտն!J38+Գեղարքունիքի!J38+Արմավիր!J38+'Արարատի և Վայոց ձոր'!J38+Տավուշ!J37+Սյունիք!J38) -> 0 | K39: =SUM('Երևան քաղաք'!K38+Շիրակ!K38+Կոտայք!K38+Լոռի!K38+Արագածոտն!K38+Գեղարքունիքի!K38+Արմավիր!K38+'Արարատի և Վայոց ձոր'!K38+Տավուշ!K37+Սյունիք!K38) -> 0 | ... BZ39: =SUM('Երևան քաղաք'!BZ38+Շիրակ!BZ38+Կոտայք!BZ38+Լոռի!BZ38+Արագածոտն!BZ38+Գեղարքունիքի!BZ38+Արմավիր!BZ38+'Արարատի և Վայոց ձոր'!BZ38+Տավուշ!BZ37+Սյունիք!BZ38) -> 0 | CB39: =F39 -> 0 | CC39: =D39+E39 -> 0 | CD39: =L39 -> 0 | CE39: =I39+J39+K39 -> 0 | CF39: =W39 -> 0 | CG39: =O39+P39+Q39+R39+S39+T39+U39+V39 -> 0 | CH39: =L39 -> 0 | CI39: =W39+X39+Y39+Z39+AA39+AB39+AC39 -> 0 | CJ39: =L39 -> 0 | CK39: =AM39+AN39+AO39+AP39+AQ39 -> 0 | CL39: =L39 -> 0 | CM39: =AR39+AS39+AT39+AU39+AV39+AW39+AX39 -> 0 | CN39: =L39 -> 0 | CO39: =AY39+AZ39+BA39 -> 0 | CP39: =BF39 -> 0 | CQ39: =BC39+BD39+BE39 -> 0 | CR39: =BF39 -> 0 | CS39: =BG39+BH39+BI39+BJ39 -> 0 | CT39: =BS39 -> 0 | CU39: =BO39+BP39+BQ39+BR39 -> 0
A40: 2.2.3 | B40: Շահագործման վիճակում գտնվող անձի ծառայությունից օգտվելը | C40: 132.3 | D40: =SUM('Երևան քաղաք'!D39+Շիրակ!D39+Կոտայք!D39+Լոռի!D39+Արագածոտն!D39+Գեղարքունիքի!D39+Արմավիր!D39+'Արարատի և Վայոց ձոր'!D39+Տավուշ!D38+Սյունիք!D39) -> 0 | E40: =SUM('Երևան քաղաք'!E39+Շիրակ!E39+Կոտայք!E39+Լոռի!E39+Արագածոտն!E39+Գեղարքունիքի!E39+Արմավիր!E39+'Արարատի և Վայոց ձոր'!E39+Տավուշ!E38+Սյունիք!E39) -> 0 | F40: =SUM('Երևան քաղաք'!F39+Շիրակ!F39+Կոտայք!F39+Լոռի!F39+Արագածոտն!F39+Գեղարքունիքի!F39+Արմավիր!F39+'Արարատի և Վայոց ձոր'!F39+Տավուշ!F38+Սյունիք!F39) -> 0 | G40: =SUM('Երևան քաղաք'!G39+Շիրակ!G39+Կոտայք!G39+Լոռի!G39+Արագածոտն!G39+Գեղարքունիքի!G39+Արմավիր!G39+'Արարատի և Վայոց ձոր'!G39+Տավուշ!G38+Սյունիք!G39) -> 0 | H40: =SUM('Երևան քաղաք'!H39+Շիրակ!H39+Կոտայք!H39+Լոռի!H39+Արագածոտն!H39+Գեղարքունիքի!H39+Արմավիր!H39+'Արարատի և Վայոց ձոր'!H39+Տավուշ!H38+Սյունիք!H39) -> 0 | I40: =SUM('Երևան քաղաք'!I39+Շիրակ!I39+Կոտայք!I39+Լոռի!I39+Արագածոտն!I39+Գեղարքունիքի!I39+Արմավիր!I39+'Արարատի և Վայոց ձոր'!I39+Տավուշ!I38+Սյունիք!I39) -> 0 | J40: =SUM('Երևան քաղաք'!J39+Շիրակ!J39+Կոտայք!J39+Լոռի!J39+Արագածոտն!J39+Գեղարքունիքի!J39+Արմավիր!J39+'Արարատի և Վայոց ձոր'!J39+Տավուշ!J38+Սյունիք!J39) -> 0 | K40: =SUM('Երևան քաղաք'!K39+Շիրակ!K39+Կոտայք!K39+Լոռի!K39+Արագածոտն!K39+Գեղարքունիքի!K39+Արմավիր!K39+'Արարատի և Վայոց ձոր'!K39+Տավուշ!K38+Սյունիք!K39) -> 0 | ... BZ40: =SUM('Երևան քաղաք'!BZ39+Շիրակ!BZ39+Կոտայք!BZ39+Լոռի!BZ39+Արագածոտն!BZ39+Գեղարքունիքի!BZ39+Արմավիր!BZ39+'Արարատի և Վայոց ձոր'!BZ39+Տավուշ!BZ38+Սյունիք!BZ39) -> 0 | CB40: =F40 -> 0 | CC40: =D40+E40 -> 0 | CD40: =L40 -> 0 | CE40: =I40+J40+K40 -> 0 | CF40: =W40 -> 0 | CG40: =O40+P40+Q40+R40+S40+T40+U40+V40 -> 0 | CH40: =L40 -> 0 | CI40: =W40+X40+Y40+Z40+AA40+AB40+AC40 -> 0 | CJ40: =L40 -> 0 | CK40: =AM40+AN40+AO40+AP40+AQ40 -> 0 | CL40: =L40 -> 0 | CM40: =AR40+AS40+AT40+AU40+AV40+AW40+AX40 -> 0 | CN40: =L40 -> 0 | CO40: =AY40+AZ40+BA40 -> 0 | CP40: =BF40 -> 0 | CQ40: =BC40+BD40+BE40 -> 0 | CR40: =BF40 -> 0 | CS40: =BG40+BH40+BI40+BJ40 -> 0 | CT40: =BS40 -> 0 | CU40: =BO40+BP40+BQ40+BR40 -> 0
A41: 2.3 | B41: Ազատությունից ապօրինի զրկելը | C41: 133 | D41: =SUM('Երևան քաղաք'!D40+Շիրակ!D40+Կոտայք!D40+Լոռի!D40+Արագածոտն!D40+Գեղարքունիքի!D40+Արմավիր!D40+'Արարատի և Վայոց ձոր'!D40+Տավուշ!D39+Սյունիք!D40) -> 0 | E41: =SUM('Երևան քաղաք'!E40+Շիրակ!E40+Կոտայք!E40+Լոռի!E40+Արագածոտն!E40+Գեղարքունիքի!E40+Արմավիր!E40+'Արարատի և Վայոց ձոր'!E40+Տավուշ!E39+Սյունիք!E40) -> 2 | F41: =SUM('Երևան քաղաք'!F40+Շիրակ!F40+Կոտայք!F40+Լոռի!F40+Արագածոտն!F40+Գեղարքունիքի!F40+Արմավիր!F40+'Արարատի և Վայոց ձոր'!F40+Տավուշ!F39+Սյունիք!F40) -> 2 | G41: =SUM('Երևան քաղաք'!G40+Շիրակ!G40+Կոտայք!G40+Լոռի!G40+Արագածոտն!G40+Գեղարքունիքի!G40+Արմավիր!G40+'Արարատի և Վայոց ձոր'!G40+Տավուշ!G39+Սյունիք!G40) -> 0 | H41: =SUM('Երևան քաղաք'!H40+Շիրակ!H40+Կոտայք!H40+Լոռի!H40+Արագածոտն!H40+Գեղարքունիքի!H40+Արմավիր!H40+'Արարատի և Վայոց ձոր'!H40+Տավուշ!H39+Սյունիք!H40) -> 0 | I41: =SUM('Երևան քաղաք'!I40+Շիրակ!I40+Կոտայք!I40+Լոռի!I40+Արագածոտն!I40+Գեղարքունիքի!I40+Արմավիր!I40+'Արարատի և Վայոց ձոր'!I40+Տավուշ!I39+Սյունիք!I40) -> 0 | J41: =SUM('Երևան քաղաք'!J40+Շիրակ!J40+Կոտայք!J40+Լոռի!J40+Արագածոտն!J40+Գեղարքունիքի!J40+Արմավիր!J40+'Արարատի և Վայոց ձոր'!J40+Տավուշ!J39+Սյունիք!J40) -> 0 | K41: =SUM('Երևան քաղաք'!K40+Շիրակ!K40+Կոտայք!K40+Լոռի!K40+Արագածոտն!K40+Գեղարքունիքի!K40+Արմավիր!K40+'Արարատի և Վայոց ձոր'!K40+Տավուշ!K39+Սյունիք!K40) -> 0 | ... BZ41: =SUM('Երևան քաղաք'!BZ40+Շիրակ!BZ40+Կոտայք!BZ40+Լոռի!BZ40+Արագածոտն!BZ40+Գեղարքունիքի!BZ40+Արմավիր!BZ40+'Արարատի և Վայոց ձոր'!BZ40+Տավուշ!BZ39+Սյունիք!BZ40) -> 0 | CB41: =F41 -> 2 | CC41: =D41+E41 -> 2 | CD41: =L41 -> 0 | CE41: =I41+J41+K41 -> 0 | CF41: =W41 -> 0 | CG41: =O41+P41+Q41+R41+S41+T41+U41+V41 -> 0 | CH41: =L41 -> 0 | CI41: =W41+X41+Y41+Z41+AA41+AB41+AC41 -> 0 | CJ41: =L41 -> 0 | CK41: =AM41+AN41+AO41+AP41+AQ41 -> 0 | CL41: =L41 -> 0 | CM41: =AR41+AS41+AT41+AU41+AV41+AW41+AX41 -> 0 | CN41: =L41 -> 0 | CO41: =AY41+AZ41+BA41 -> 0 | CP41: =BF41 -> 0 | CQ41: =BC41+BD41+BE41 -> 0 | CR41: =BF41 -> 0 | CS41: =BG41+BH41+BI41+BJ41 -> 0 | CT41: =BS41 -> 0 | CU41: =BO41+BP41+BQ41+BR41 -> 0
A42: 2.4 | B42: Հոգեբուժական հիվանդանոցում ապօրինի տեղավորելը կամ պահելը | C42: 134 | D42: =SUM('Երևան քաղաք'!D41+Շիրակ!D41+Կոտայք!D41+Լոռի!D41+Արագածոտն!D41+Գեղարքունիքի!D41+Արմավիր!D41+'Արարատի և Վայոց ձոր'!D41+Տավուշ!D40+Սյունիք!D41) -> 0 | E42: =SUM('Երևան քաղաք'!E41+Շիրակ!E41+Կոտայք!E41+Լոռի!E41+Արագածոտն!E41+Գեղարքունիքի!E41+Արմավիր!E41+'Արարատի և Վայոց ձոր'!E41+Տավուշ!E40+Սյունիք!E41) -> 0 | F42: =SUM('Երևան քաղաք'!F41+Շիրակ!F41+Կոտայք!F41+Լոռի!F41+Արագածոտն!F41+Գեղարքունիքի!F41+Արմավիր!F41+'Արարատի և Վայոց ձոր'!F41+Տավուշ!F40+Սյունիք!F41) -> 0 | G42: =SUM('Երևան քաղաք'!G41+Շիրակ!G41+Կոտայք!G41+Լոռի!G41+Արագածոտն!G41+Գեղարքունիքի!G41+Արմավիր!G41+'Արարատի և Վայոց ձոր'!G41+Տավուշ!G40+Սյունիք!G41) -> 0 | H42: =SUM('Երևան քաղաք'!H41+Շիրակ!H41+Կոտայք!H41+Լոռի!H41+Արագածոտն!H41+Գեղարքունիքի!H41+Արմավիր!H41+'Արարատի և Վայոց ձոր'!H41+Տավուշ!H40+Սյունիք!H41) -> 0 | I42: =SUM('Երևան քաղաք'!I41+Շիրակ!I41+Կոտայք!I41+Լոռի!I41+Արագածոտն!I41+Գեղարքունիքի!I41+Արմավիր!I41+'Արարատի և Վայոց ձոր'!I41+Տավուշ!I40+Սյունիք!I41) -> 0 | J42: =SUM('Երևան քաղաք'!J41+Շիրակ!J41+Կոտայք!J41+Լոռի!J41+Արագածոտն!J41+Գեղարքունիքի!J41+Արմավիր!J41+'Արարատի և Վայոց ձոր'!J41+Տավուշ!J40+Սյունիք!J41) -> 0 | K42: =SUM('Երևան քաղաք'!K41+Շիրակ!K41+Կոտայք!K41+Լոռի!K41+Արագածոտն!K41+Գեղարքունիքի!K41+Արմավիր!K41+'Արարատի և Վայոց ձոր'!K41+Տավուշ!K40+Սյունիք!K41) -> 0 | ... BZ42: =SUM('Երևան քաղաք'!BZ41+Շիրակ!BZ41+Կոտայք!BZ41+Լոռի!BZ41+Արագածոտն!BZ41+Գեղարքունիքի!BZ41+Արմավիր!BZ41+'Արարատի և Վայոց ձոր'!BZ41+Տավուշ!BZ40+Սյունիք!BZ41) -> 0 | CB42: =F42 -> 0 | CC42: =D42+E42 -> 0 | CD42: =L42 -> 0 | CE42: =I42+J42+K42 -> 0 | CF42: =W42 -> 0 | CG42: =O42+P42+Q42+R42+S42+T42+U42+V42 -> 0 | CH42: =L42 -> 0 | CI42: =W42+X42+Y42+Z42+AA42+AB42+AC42 -> 0 | CJ42: =L42 -> 0 | CK42: =AM42+AN42+AO42+AP42+AQ42 -> 0 | CL42: =L42 -> 0 | CM42: =AR42+AS42+AT42+AU42+AV42+AW42+AX42 -> 0 | CN42: =L42 -> 0 | CO42: =AY42+AZ42+BA42 -> 0 | CP42: =BF42 -> 0 | CQ42: =BC42+BD42+BE42 -> 0 | CR42: =BF42 -> 0 | CS42: =BG42+BH42+BI42+BJ42 -> 0 | CT42: =BS42 -> 0 | CU42: =BO42+BP42+BQ42+BR42 -> 0
A43: 2.7 | B43: Սպանության, առողջությանը ծանր վնաս պատճառելու կամ գույք ոչնչացնելու սպառնալիքը | C43: 137 | D43: =SUM('Երևան քաղաք'!D42+Շիրակ!D42+Կոտայք!D42+Լոռի!D42+Արագածոտն!D42+Գեղարքունիքի!D42+Արմավիր!D42+'Արարատի և Վայոց ձոր'!D42+Տավուշ!D41+Սյունիք!D42) -> 3 | E43: =SUM('Երևան քաղաք'!E42+Շիրակ!E42+Կոտայք!E42+Լոռի!E42+Արագածոտն!E42+Գեղարքունիքի!E42+Արմավիր!E42+'Արարատի և Վայոց ձոր'!E42+Տավուշ!E41+Սյունիք!E42) -> 6 | F43: =SUM('Երևան քաղաք'!F42+Շիրակ!F42+Կոտայք!F42+Լոռի!F42+Արագածոտն!F42+Գեղարքունիքի!F42+Արմավիր!F42+'Արարատի և Վայոց ձոր'!F42+Տավուշ!F41+Սյունիք!F42) -> 9 | G43: =SUM('Երևան քաղաք'!G42+Շիրակ!G42+Կոտայք!G42+Լոռի!G42+Արագածոտն!G42+Գեղարքունիքի!G42+Արմավիր!G42+'Արարատի և Վայոց ձոր'!G42+Տավուշ!G41+Սյունիք!G42) -> 1 | H43: =SUM('Երևան քաղաք'!H42+Շիրակ!H42+Կոտայք!H42+Լոռի!H42+Արագածոտն!H42+Գեղարքունիքի!H42+Արմավիր!H42+'Արարատի և Վայոց ձոր'!H42+Տավուշ!H41+Սյունիք!H42) -> 1 | I43: =SUM('Երևան քաղաք'!I42+Շիրակ!I42+Կոտայք!I42+Լոռի!I42+Արագածոտն!I42+Գեղարքունիքի!I42+Արմավիր!I42+'Արարատի և Վայոց ձոր'!I42+Տավուշ!I41+Սյունիք!I42) -> 5 | J43: =SUM('Երևան քաղաք'!J42+Շիրակ!J42+Կոտայք!J42+Լոռի!J42+Արագածոտն!J42+Գեղարքունիքի!J42+Արմավիր!J42+'Արարատի և Վայոց ձոր'!J42+Տավուշ!J41+Սյունիք!J42) -> 0 | K43: =SUM('Երևան քաղաք'!K42+Շիրակ!K42+Կոտայք!K42+Լոռի!K42+Արագածոտն!K42+Գեղարքունիքի!K42+Արմավիր!K42+'Արարատի և Վայոց ձոր'!K42+Տավուշ!K41+Սյունիք!K42) -> 0 | ... BZ43: =SUM('Երևան քաղաք'!BZ42+Շիրակ!BZ42+Կոտայք!BZ42+Լոռի!BZ42+Արագածոտն!BZ42+Գեղարքունիքի!BZ42+Արմավիր!BZ42+'Արարատի և Վայոց ձոր'!BZ42+Տավուշ!BZ41+Սյունիք!BZ42) -> 6 | CB43: =F43 -> 9 | CC43: =D43+E43 -> 9 | CD43: =L43 -> 5 | CE43: =I43+J43+K43 -> 5 | CF43: =W43 -> 1 | CG43: =O43+P43+Q43+R43+S43+T43+U43+V43 -> 1 | CH43: =L43 -> 5 | CI43: =W43+X43+Y43+Z43+AA43+AB43+AC43 -> 5 | CJ43: =L43 -> 5 | CK43: =AM43+AN43+AO43+AP43+AQ43 -> 5 | CL43: =L43 -> 5 | CM43: =AR43+AS43+AT43+AU43+AV43+AW43+AX43 -> 5 | CN43: =L43 -> 5 | CO43: =AY43+AZ43+BA43 -> 5 | CP43: =BF43 -> 0 | CQ43: =BC43+BD43+BE43 -> 0 | CR43: =BF43 -> 0 | CS43: =BG43+BH43+BI43+BJ43 -> 0 | CT43: =BS43 -> 0 | CU43: =BO43+BP43+BQ43+BR43 -> 0
A44: 2.8 | B44: Այլ հանցագործություններ | D44: =SUM('Երևան քաղաք'!D43+Շիրակ!D43+Կոտայք!D43+Լոռի!D43+Արագածոտն!D43+Գեղարքունիքի!D43+Արմավիր!D43+'Արարատի և Վայոց ձոր'!D43+Տավուշ!D42+Սյունիք!D43) -> 33 | E44: =SUM('Երևան քաղաք'!E43+Շիրակ!E43+Կոտայք!E43+Լոռի!E43+Արագածոտն!E43+Գեղարքունիքի!E43+Արմավիր!E43+'Արարատի և Վայոց ձոր'!E43+Տավուշ!E42+Սյունիք!E43) -> 42 | F44: =SUM('Երևան քաղաք'!F43+Շիրակ!F43+Կոտայք!F43+Լոռի!F43+Արագածոտն!F43+Գեղարքունիքի!F43+Արմավիր!F43+'Արարատի և Վայոց ձոր'!F43+Տավուշ!F42+Սյունիք!F43) -> 75 | G44: =SUM('Երևան քաղաք'!G43+Շիրակ!G43+Կոտայք!G43+Լոռի!G43+Արագածոտն!G43+Գեղարքունիքի!G43+Արմավիր!G43+'Արարատի և Վայոց ձոր'!G43+Տավուշ!G42+Սյունիք!G43) -> 0 | H44: =SUM('Երևան քաղաք'!H43+Շիրակ!H43+Կոտայք!H43+Լոռի!H43+Արագածոտն!H43+Գեղարքունիքի!H43+Արմավիր!H43+'Արարատի և Վայոց ձոր'!H43+Տավուշ!H42+Սյունիք!H43) -> 1 | I44: =SUM('Երևան քաղաք'!I43+Շիրակ!I43+Կոտայք!I43+Լոռի!I43+Արագածոտն!I43+Գեղարքունիքի!I43+Արմավիր!I43+'Արարատի և Վայոց ձոր'!I43+Տավուշ!I42+Սյունիք!I43) -> 3 | J44: =SUM('Երևան քաղաք'!J43+Շիրակ!J43+Կոտայք!J43+Լոռի!J43+Արագածոտն!J43+Գեղարքունիքի!J43+Արմավիր!J43+'Արարատի և Վայոց ձոր'!J43+Տավուշ!J42+Սյունիք!J43) -> 0 | K44: =SUM('Երևան քաղաք'!K43+Շիրակ!K43+Կոտայք!K43+Լոռի!K43+Արագածոտն!K43+Գեղարքունիքի!K43+Արմավիր!K43+'Արարատի և Վայոց ձոր'!K43+Տավուշ!K42+Սյունիք!K43) -> 0 | ... BZ44: =SUM('Երևան քաղաք'!BZ43+Շիրակ!BZ43+Կոտայք!BZ43+Լոռի!BZ43+Արագածոտն!BZ43+Գեղարքունիքի!BZ43+Արմավիր!BZ43+'Արարատի և Վայոց ձոր'!BZ43+Տավուշ!BZ42+Սյունիք!BZ43) -> 0 | CB44: =F44 -> 75 | CC44: =D44+E44 -> 75 | CD44: =L44 -> 3 | CE44: =I44+J44+K44 -> 3 | CF44: =W44 -> 0 | CG44: =O44+P44+Q44+R44+S44+T44+U44+V44 -> 0 | CH44: =L44 -> 3 | CI44: =W44+X44+Y44+Z44+AA44+AB44+AC44 -> 3 | CJ44: =L44 -> 3 | CK44: =AM44+AN44+AO44+AP44+AQ44 -> 3 | CL44: =L44 -> 3 | CM44: =AR44+AS44+AT44+AU44+AV44+AW44+AX44 -> 3 | CN44: =L44 -> 3 | CO44: =AY44+AZ44+BA44 -> 3 | CP44: =BF44 -> 0 | CQ44: =BC44+BD44+BE44 -> 0 | CR44: =BF44 -> 0 | CS44: =BG44+BH44+BI44+BJ44 -> 0 | CT44: =BS44 -> 0 | CU44: =BO44+BP44+BQ44+BR44 -> 0
A45: 3. | B45: Ընդամենը սեռական անձեռնմխելիության և սեռական ազատության դեմ ուղղված հանցագործությունները | D45: =SUM('Երևան քաղաք:Սյունիք'!D44) -> 0 | E45: =SUM('Երևան քաղաք:Սյունիք'!E44) -> 0 | F45: =SUM('Երևան քաղաք:Սյունիք'!F44) -> 0 | G45: =SUM('Երևան քաղաք:Սյունիք'!G44) -> 0 | H45: =SUM('Երևան քաղաք:Սյունիք'!H44) -> 0 | I45: =SUM('Երևան քաղաք:Սյունիք'!I44) -> 11 | J45: =SUM('Երևան քաղաք:Սյունիք'!J44) -> 1 | K45: =SUM('Երևան քաղաք:Սյունիք'!K44) -> 0 | ... BZ45: =SUM('Երևան քաղաք:Սյունիք'!BZ44) -> 10 | CB45: =F45 -> 0 | CC45: =D45+E45 -> 0 | CD45: =L45 -> 12 | CE45: =I45+J45+K45 -> 12 | CF45: =W45 -> 12 | CG45: =O45+P45+Q45+R45+S45+T45+U45+V45 -> 12 | CH45: =L45 -> 12 | CI45: =W45+X45+Y45+Z45+AA45+AB45+AC45 -> 12 | CJ45: =L45 -> 12 | CK45: =AM45+AN45+AO45+AP45+AQ45 -> 12 | CL45: =L45 -> 12 | CM45: =AR45+AS45+AT45+AU45+AV45+AW45+AX45 -> 12 | CN45: =L45 -> 12 | CO45: =AY45+AZ45+BA45 -> 12 | CP45: =BF45 -> 2 | CQ45: =BC45+BD45+BE45 -> 2 | CR45: =BF45 -> 2 | CS45: =BG45+BH45+BI45+BJ45 -> 2 | CT45: =BS45 -> 1 | CU45: =BO45+BP45+BQ45+BR45 -> 1
A46: 3.1 | B46: Բռնաբարությունը | C46: 138 | D46: =SUM('Երևան քաղաք'!D45+Շիրակ!D45+Կոտայք!D45+Լոռի!D45+Արագածոտն!D45+Գեղարքունիքի!D45+Արմավիր!D45+'Արարատի և Վայոց ձոր'!D45+Տավուշ!D44+Սյունիք!D45) -> 0 | E46: =SUM('Երևան քաղաք'!E45+Շիրակ!E45+Կոտայք!E45+Լոռի!E45+Արագածոտն!E45+Գեղարքունիքի!E45+Արմավիր!E45+'Արարատի և Վայոց ձոր'!E45+Տավուշ!E44+Սյունիք!E45) -> 0 | F46: =SUM('Երևան քաղաք'!F45+Շիրակ!F45+Կոտայք!F45+Լոռի!F45+Արագածոտն!F45+Գեղարքունիքի!F45+Արմավիր!F45+'Արարատի և Վայոց ձոր'!F45+Տավուշ!F44+Սյունիք!F45) -> 0 | G46: =SUM('Երևան քաղաք'!G45+Շիրակ!G45+Կոտայք!G45+Լոռի!G45+Արագածոտն!G45+Գեղարքունիքի!G45+Արմավիր!G45+'Արարատի և Վայոց ձոր'!G45+Տավուշ!G44+Սյունիք!G45) -> 0 | H46: =SUM('Երևան քաղաք'!H45+Շիրակ!H45+Կոտայք!H45+Լոռի!H45+Արագածոտն!H45+Գեղարքունիքի!H45+Արմավիր!H45+'Արարատի և Վայոց ձոր'!H45+Տավուշ!H44+Սյունիք!H45) -> 0 | I46: =SUM('Երևան քաղաք'!I45+Շիրակ!I45+Կոտայք!I45+Լոռի!I45+Արագածոտն!I45+Գեղարքունիքի!I45+Արմավիր!I45+'Արարատի և Վայոց ձոր'!I45+Տավուշ!I44+Սյունիք!I45) -> 4 | J46: =SUM('Երևան քաղաք'!J45+Շիրակ!J45+Կոտայք!J45+Լոռի!J45+Արագածոտն!J45+Գեղարքունիքի!J45+Արմավիր!J45+'Արարատի և Վայոց ձոր'!J45+Տավուշ!J44+Սյունիք!J45) -> 0 | K46: =SUM('Երևան քաղաք'!K45+Շիրակ!K45+Կոտայք!K45+Լոռի!K45+Արագածոտն!K45+Գեղարքունիքի!K45+Արմավիր!K45+'Արարատի և Վայոց ձոր'!K45+Տավուշ!K44+Սյունիք!K45) -> 0 | ... BZ46: =SUM('Երևան քաղաք'!BZ45+Շիրակ!BZ45+Կոտայք!BZ45+Լոռի!BZ45+Արագածոտն!BZ45+Գեղարքունիքի!BZ45+Արմավիր!BZ45+'Արարատի և Վայոց ձոր'!BZ45+Տավուշ!BZ44+Սյունիք!BZ45) -> 0 | CB46: =F46 -> 0 | CC46: =D46+E46 -> 0 | CD46: =L46 -> 4 | CE46: =I46+J46+K46 -> 4 | CF46: =W46 -> 4 | CG46: =O46+P46+Q46+R46+S46+T46+U46+V46 -> 4 | CH46: =L46 -> 4 | CI46: =W46+X46+Y46+Z46+AA46+AB46+AC46 -> 4 | CJ46: =L46 -> 4 | CK46: =AM46+AN46+AO46+AP46+AQ46 -> 4 | CL46: =L46 -> 4 | CM46: =AR46+AS46+AT46+AU46+AV46+AW46+AX46 -> 4 | CN46: =L46 -> 4 | CO46: =AY46+AZ46+BA46 -> 4 | CP46: =BF46 -> 0 | CQ46: =BC46+BD46+BE46 -> 0 | CR46: =BF46 -> 0 | CS46: =BG46+BH46+BI46+BJ46 -> 0 | CT46: =BS46 -> 0 | CU46: =BO46+BP46+BQ46+BR46 -> 0
A47: 3.2 | B47: Սեքսուալ բնույթի բռնի գործողությունները | C47: 139 | D47: =SUM('Երևան քաղաք'!D46+Շիրակ!D46+Կոտայք!D46+Լոռի!D46+Արագածոտն!D46+Գեղարքունիքի!D46+Արմավիր!D46+'Արարատի և Վայոց ձոր'!D46+Տավուշ!D45+Սյունիք!D46) -> 0 | E47: =SUM('Երևան քաղաք'!E46+Շիրակ!E46+Կոտայք!E46+Լոռի!E46+Արագածոտն!E46+Գեղարքունիքի!E46+Արմավիր!E46+'Արարատի և Վայոց ձոր'!E46+Տավուշ!E45+Սյունիք!E46) -> 0 | F47: =SUM('Երևան քաղաք'!F46+Շիրակ!F46+Կոտայք!F46+Լոռի!F46+Արագածոտն!F46+Գեղարքունիքի!F46+Արմավիր!F46+'Արարատի և Վայոց ձոր'!F46+Տավուշ!F45+Սյունիք!F46) -> 0 | G47: =SUM('Երևան քաղաք'!G46+Շիրակ!G46+Կոտայք!G46+Լոռի!G46+Արագածոտն!G46+Գեղարքունիքի!G46+Արմավիր!G46+'Արարատի և Վայոց ձոր'!G46+Տավուշ!G45+Սյունիք!G46) -> 0 | H47: =SUM('Երևան քաղաք'!H46+Շիրակ!H46+Կոտայք!H46+Լոռի!H46+Արագածոտն!H46+Գեղարքունիքի!H46+Արմավիր!H46+'Արարատի և Վայոց ձոր'!H46+Տավուշ!H45+Սյունիք!H46) -> 0 | I47: =SUM('Երևան քաղաք'!I46+Շիրակ!I46+Կոտայք!I46+Լոռի!I46+Արագածոտն!I46+Գեղարքունիքի!I46+Արմավիր!I46+'Արարատի և Վայոց ձոր'!I46+Տավուշ!I45+Սյունիք!I46) -> 3 | J47: =SUM('Երևան քաղաք'!J46+Շիրակ!J46+Կոտայք!J46+Լոռի!J46+Արագածոտն!J46+Գեղարքունիքի!J46+Արմավիր!J46+'Արարատի և Վայոց ձոր'!J46+Տավուշ!J45+Սյունիք!J46) -> 0 | K47: =SUM('Երևան քաղաք'!K46+Շիրակ!K46+Կոտայք!K46+Լոռի!K46+Արագածոտն!K46+Գեղարքունիքի!K46+Արմավիր!K46+'Արարատի և Վայոց ձոր'!K46+Տավուշ!K45+Սյունիք!K46) -> 0 | ... BZ47: =SUM('Երևան քաղաք'!BZ46+Շիրակ!BZ46+Կոտայք!BZ46+Լոռի!BZ46+Արագածոտն!BZ46+Գեղարքունիքի!BZ46+Արմավիր!BZ46+'Արարատի և Վայոց ձոր'!BZ46+Տավուշ!BZ45+Սյունիք!BZ46) -> 2 | CB47: =F47 -> 0 | CC47: =D47+E47 -> 0 | CD47: =L47 -> 3 | CE47: =I47+J47+K47 -> 3 | CF47: =W47 -> 3 | CG47: =O47+P47+Q47+R47+S47+T47+U47+V47 -> 3 | CH47: =L47 -> 3 | CI47: =W47+X47+Y47+Z47+AA47+AB47+AC47 -> 3 | CJ47: =L47 -> 3 | CK47: =AM47+AN47+AO47+AP47+AQ47 -> 3 | CL47: =L47 -> 3 | CM47: =AR47+AS47+AT47+AU47+AV47+AW47+AX47 -> 3 | CN47: =L47 -> 3 | CO47: =AY47+AZ47+BA47 -> 3 | CP47: =BF47 -> 0 | CQ47: =BC47+BD47+BE47 -> 0 | CR47: =BF47 -> 0 | CS47: =BG47+BH47+BI47+BJ47 -> 0 | CT47: =BS47 -> 0 | CU47: =BO47+BP47+BQ47+BR47 -> 0
A48: 3.3 | B48: Սեռական հարաբերության կամ սեքսուալ բնույթի գործողություններին հարկադրելը | C48: 140 | D48: =SUM('Երևան քաղաք'!D47+Շիրակ!D47+Կոտայք!D47+Լոռի!D47+Արագածոտն!D47+Գեղարքունիքի!D47+Արմավիր!D47+'Արարատի և Վայոց ձոր'!D47+Տավուշ!D46+Սյունիք!D47) -> 0 | E48: =SUM('Երևան քաղաք'!E47+Շիրակ!E47+Կոտայք!E47+Լոռի!E47+Արագածոտն!E47+Գեղարքունիքի!E47+Արմավիր!E47+'Արարատի և Վայոց ձոր'!E47+Տավուշ!E46+Սյունիք!E47) -> 0 | F48: =SUM('Երևան քաղաք'!F47+Շիրակ!F47+Կոտայք!F47+Լոռի!F47+Արագածոտն!F47+Գեղարքունիքի!F47+Արմավիր!F47+'Արարատի և Վայոց ձոր'!F47+Տավուշ!F46+Սյունիք!F47) -> 0 | G48: =SUM('Երևան քաղաք'!G47+Շիրակ!G47+Կոտայք!G47+Լոռի!G47+Արագածոտն!G47+Գեղարքունիքի!G47+Արմավիր!G47+'Արարատի և Վայոց ձոր'!G47+Տավուշ!G46+Սյունիք!G47) -> 0 | H48: =SUM('Երևան քաղաք'!H47+Շիրակ!H47+Կոտայք!H47+Լոռի!H47+Արագածոտն!H47+Գեղարքունիքի!H47+Արմավիր!H47+'Արարատի և Վայոց ձոր'!H47+Տավուշ!H46+Սյունիք!H47) -> 0 | I48: =SUM('Երևան քաղաք'!I47+Շիրակ!I47+Կոտայք!I47+Լոռի!I47+Արագածոտն!I47+Գեղարքունիքի!I47+Արմավիր!I47+'Արարատի և Վայոց ձոր'!I47+Տավուշ!I46+Սյունիք!I47) -> 3 | J48: =SUM('Երևան քաղաք'!J47+Շիրակ!J47+Կոտայք!J47+Լոռի!J47+Արագածոտն!J47+Գեղարքունիքի!J47+Արմավիր!J47+'Արարատի և Վայոց ձոր'!J47+Տավուշ!J46+Սյունիք!J47) -> 0 | K48: =SUM('Երևան քաղաք'!K47+Շիրակ!K47+Կոտայք!K47+Լոռի!K47+Արագածոտն!K47+Գեղարքունիքի!K47+Արմավիր!K47+'Արարատի և Վայոց ձոր'!K47+Տավուշ!K46+Սյունիք!K47) -> 0 | ... BZ48: =SUM('Երևան քաղաք'!BZ47+Շիրակ!BZ47+Կոտայք!BZ47+Լոռի!BZ47+Արագածոտն!BZ47+Գեղարքունիքի!BZ47+Արմավիր!BZ47+'Արարատի և Վայոց ձոր'!BZ47+Տավուշ!BZ46+Սյունիք!BZ47) -> 0 | CB48: =F48 -> 0 | CC48: =D48+E48 -> 0 | CD48: =L48 -> 3 | CE48: =I48+J48+K48 -> 3 | CF48: =W48 -> 3 | CG48: =O48+P48+Q48+R48+S48+T48+U48+V48 -> 3 | CH48: =L48 -> 3 | CI48: =W48+X48+Y48+Z48+AA48+AB48+AC48 -> 3 | CJ48: =L48 -> 3 | CK48: =AM48+AN48+AO48+AP48+AQ48 -> 3 | CL48: =L48 -> 3 | CM48: =AR48+AS48+AT48+AU48+AV48+AW48+AX48 -> 3 | CN48: =L48 -> 3 | CO48: =AY48+AZ48+BA48 -> 3 | CP48: =BF48 -> 0 | CQ48: =BC48+BD48+BE48 -> 0 | CR48: =BF48 -> 0 | CS48: =BG48+BH48+BI48+BJ48 -> 0 | CT48: =BS48 -> 0 | CU48: =BO48+BP48+BQ48+BR48 -> 0
