Workbook

Sheet Ընդհանուր
A1: ՀԱՇՎԵՏՎՈՒԹՅՈՒՆ
A2: ՀԱՇՎԵՏՎՈՒԹՅՈՒՆ
A3: 2022թ.տարեկան | C3: ԱՆՁԱՆՑ ՎԵՐԱԲԵՐՅԱԼ, ՈՐՈՆՑ ԿԱՊԱԿՑՈՒԹՅԱՄԲ ԿԱՅԱՑՎԱԾ ԴԱՏԱԿԱՆ ԱԿՏԵՐԸ ՄՏԵԼ ԵՆ ՕՐԻՆԱԿԱՆ ՈւԺԻ ՄԵՋ
A4: Վիճակագրական տողի համարը | B4: ՀԱՆՑԱԳՈՐԾՈՒԹՅՈՒՆՆԵՐԻ ՏԵՍԱԿՆԵՐԸ | C4: ՀՀ Քրեական օրենսգրքի հոդվածը | D4: Անձանց թիվը, որոնց վերաբերյալ գործերը կարճվել կամ քրեական հետապնդումը դադարեցվել է | G4: Անմեղսունակներ, որոնց նկատմամբ կիրառվել են բժշկական բնույթի հարկադրական միջոցներ | H4: Արդարացվածների թիվը | I4: Դատապարտյալների թիվը (ծանոթություն.Մեղադրյալը, որի վերաբերյալ կա օրինական ուժի մեջ մտած դատարանի դատավճիռ, որն ամբողջությամբ կամ մասնակիորեն մեղադրական է, կոչվում է դատապարտյալ) | O4: Դատապարտյալների նկատմամբ նշանակված հիմնական պատիժներ | AD4: նշանակված պատիժը պայմանականորեն չի կիրառվել | AE4: կիրառվել է համաներման ակտ | AF4: Լրացուցիչ պատիժներ | AI4: Օրենքով նախատեսվածից ավելի մեղմ պատիժ է նշանակվել | AJ4: Հանցանքը կատարվել է | AR4: Անձի զբաղմունքի տեսակը` նախքան դատապարտվելը | AY4: Անձի քաղաքացիությունը | BB4: Դատապարտվածների թիվը, որոնց նախկին դատվածությունը հանվել կամ մարվել է | BC4: Դատապարտյալների թիվը, որոնք ունեն չհանված կամ չմարված դատվածություն | BG4: Դրանցից (սյունակ 55) եղել են դատապարտված | BK4: Չհանված, չմարված դատվածությամբ դատապարտյալը պատժից ազատվել է | BO4: Նոր հանցագործությունը կատարել է պատիժը չկրած | BT4: Նոր հանցագործությունը կատարել է ազատազրկման վայրից ազատվելուց առաջին տարվա ընթացքում | BU4: Անձանց թիվը, որոնց վերաբերյալ հաշվետու տարվա ընթացքում քննվել են գործեր | BV4: Դատապարտյալը հանձնվել է վերադաստիրակման կամ հսկողության | BW4: Դատապարտյալի նկատմամբ նշանակվել է հարկադիր բուժում գինեմոլության դեմ | BX4: Դատապարտյալի նկատմամբ նշանակվել է հարկադիր բուժում թմրամոլության դեմ | BY4: Դատվածությունների շարժը
D5: Այդ թվում՝ հանցադեպի կամ հանցակազմի բացակայության և մեղադրանքի չապացուցված լինելու պատճառով | E5: այլ հիմքով | F5: Ընդամենը | I5: որից դատապարտվել են | L5: Ընդամենը(6,7,8 սյունակներ) | M5: Այդ թվում՝ կանայք | N5: Այդ թվում` անչափահասներ | O5: Ա զ ա տ ա զ ր կ ու մ | X5: հանրային աշխատանքներ | Y5: տուգանք | Z5: Որոշակի պաշտոններ զբաղ. կամ որոշակի գործ. զբաղվ. իրավ. զրկում | AA5: Կարգապահական գումարտակում պահելը | AB5: զին. Ծառայության մեջ սահմանափակում | AC5: կալանք | AF5: գույքի բռնագրավում | AG5: հատուկ կամ զին. կոչումից, կարգից, աստիճանից կամ որակավորման դասից զրկելը | AH5: որոշակի պաշտ. զբաղ. կամ որոշակի գործ.զբաղվ. իրավ. զրկում | AJ5: ալկ., թմրամիջ. կամ թնրեցնող այլ նյութերի ազդ. | AK5: Մի խումբ անձանց կազմում | AL5: Կազմակերպված խմբի կամ հանցավոր համագործակցության կազմում | AM5: 14-16 տարեկան հասակում | AN5: 16-18 տարեկան հասակում | AO5: 18-29 տարեկան հասակում | AP5: 30-49 տարեկան հասակում | AQ5: 50 տարեկան և բարձր | AR5: Պաշտոնատար անձինք | AS5: Զին. ծառայողներ | AT5: Այլ զբաղմունք | AU5: Սովորողներ | AW5: Չաշխատող և չսովորող աշխատունակներ | AX5: արգելանքի տակ գտնվող անձ | AY5: ՀՀ քաղաքացի | AZ5: Քաղաքացիություն չունեցող անձ | BA5: Օտարերկրյա պետության քաղաքացի | BC5: Մեկ դատվածություն | BD5: Երկու դատվածություն | BE5: Երեք և ավելի դատվածություն | BF5: Ընդամենը | BG5: Սպանության, դիտավորյամբ առողջությանը ծանր վնաս պատճառելու, բռնաբարության համար | BH5: Գույքի հափշտակության համար | BI5: Խուլիգանության համար | BJ5: այլ հանցագործությունների համար | BK5: Պատիժը կրել է լրիվ չափով | BL5: Պայմանական վաղաժամկետ | BM5: Համաներման ակտի կիրառմամբ | BN5: Այլ հիմքերով | BO5: Ազատազրկման վայրում | BP5: Այլ պատիժ կրելիս | BQ5: Դատավճռի կատարման հետաձգման ժամանակահատվածում | BR5: Փորձաշրջանի ընթացքում | BS5: Ընդամենը | BY5: Հաշվետու տարվա ընթացքում դատապարտված անձանց թիվը | BZ5: Հաշվետու տարվան նախորդող տարվա ընթացքում դատապարտված անձանց թիվը | CA5: ավելացել է պակասել է
B6: ՍՏՈՒԳԻՉ ՀԱՎԱՍԱՐՈՒՄՆԵՐ 3=1+2, 9=6+7+8, 20=12+13+14+15+16+17+18+19, 9=20+21+22+23+24+25+26 9=36+37+38+39+40, 9=41+42+43+44+45+46+47,9=48+49+50, 55=52+53+54,55=56+57+58+59, 68=64+65+66+67 | I6: Ավարտված հանցագործության համար | J6: Հանցափորձի համար(ՀՀ քր. օր-ի 34-րդ հոդ.) | K6: Հանցակցության համար(ՀՀ քր.օր-ի 38-րդ հոդ.) | O6: 1 տարի ներառյալ | P6: 1 տարուց ավել, մինչև 2 տարի ներառյալ | Q6: 2 տարուց ավել, մինչև 3 տարի ներառյալ | R6: 3 տարուց ավել, մինչև 5 տարի ներառյալ | S6: 5 տարուց ավել, մինչև 8 տարի ներառյալ | T6: 8 տարուց ավել, մինչև 10 տարի ներառյալ | U6: 10 տարուց ավել, մինչև 15 տարի ներառյալ | V6: ցմահ ազատազրկում | W6: ընդամենը | AU6: 18 տարեկանից ցածր | AV6: 18 տարեկանից բարձր | CB6: 3=1+2 | CD6: 9=6+7+8 | CF6: 20=12+13+14+15+16+17+18+19 | CH6: 9=20+21+22+23+24+25+26 | CJ6: 9=36+37+38+39+40 | CL6: 9=41+42+43+44+45+46+47 | CN6: 9=48+49+50 | CP6: 55=52+53+54 | CR6: 55=56+57+58+59 | CT6: 68=64+65+66+67
D7: 1 | E7: 2 | F7: 3 | G7: 4 | H7: 5 | I7: 6 | J7: 7 | K7: 8 | L7: 9 | M7: 10 | N7: 11 | O7: 12 | P7: 13 | Q7: 14 | R7: 15 | S7: 16 | T7: 17 | U7: 18 | V7: 19 | W7: 20 | X7: 21 | Y7: 22 | Z7: 23 | AA7: 24 | AB7: 25 | AC7: 26 | AD7: 27 | AE7: 28 | AF7: 29 | AG7: 30 | AH7: 31 | AI7: 32 | AJ7: 33 | AK7: 34 | AL7: 35 | AM7: 36 | AN7: 37 | AO7: 38 | AP7: 39 | AQ7: 40 | AR7: 41 | AS7: 42 | AT7: 43 | AU7: 44 | AV7: 45 | AW7: 46 | AX7: 47 | AY7: 48 | AZ7: 49 | BA7: 50 | BB7: 51 | BC7: 52 | BD7: 53 | BE7: 54 | BF7: 55 | BG7: 56 | BH7: 57 | BI7: 58 | BJ7: 59 | BK7: 60 | BL7: 61 | BM7: 62 | BN7: 63 | BO7: 64 | BP7: 65 | BQ7: 66 | BR7: 67 | BS7: 68 | BT7: 69 | BU7: 70 | BV7: 71 | BW7: 72 | BX7: 73 | BY7: 74 | BZ7: 75 | CA7: 76 | CB7: =F7 -> 3 | CC7: =D7+E7 -> 3 | CD7: =L7 -> 9 | CE7: =I7+J7+K7 -> 21 | CF7: =SUM(CF8:CF34) -> 179 | CG7: =SUM(CG8:CG34) -> 179 | CH7: =L7 -> 9 | CI7: =W7+X7+Y7+Z7+AA7+AB7+AC7 -> 161 | CJ7: =L7 -> 9 | CK7: =AM7+AN7+AO7+AP7+AQ7 -> 190 | CL7: =L7 -> 9 | CM7: =AR7+AS7+AT7+AU7+AV7+AW7+AX7 -> 308 | CN7: =L7 -> 9 | CO7: =AY7+AZ7+BA7 -> 147 | CP7: =BF7 -> 55 | CQ7: =BC7+BD7+BE7 -> 159 | CR7: =BF7 -> 55 | CS7: =BG7+BH7+BI7+BJ7 -> 230 | CT7: =BS7 -> 68 | CU7: =BO7+BP7+BQ7+BR7 -> 262
A8: 1. | B8: Ընդամենը կյանքի և առողջության դեմ ուղղված հանցագործությունները | D8: =SUM('Երևան քաղաք:Սյունիք'!D7) -> 0 | E8: =SUM('Երևան քաղաք:Սյունիք'!E7) -> 93 | F8: =SUM('Երևան քաղաք:Սյունիք'!F7) -> 93 | G8: =SUM('Երևան քաղաք:Սյունիք'!G7) -> 7 | H8: =SUM('Երևան քաղաք:Սյունիք'!H7) -> 5 | I8: =SUM('Երևան քաղաք:Սյունիք'!I7) -> 137 | J8: =SUM('Երևան քաղաք:Սյունիք'!J7) -> 4 | K8: =SUM('Երևան քաղաք:Սյունիք'!K7) -> 1 | ... CA8: =SUM('Երևան քաղաք:Սյունիք'!CA7) -> 0 | CB8: =F8 -> 93 | CC8: =D8+E8 -> 93 | CD8: =L8 -> 142 | CE8: =I8+J8+K8 -> 142 | CF8: =W8 -> 86 | CG8: =O8+P8+Q8+R8+S8+T8+U8+V8 -> 86 | CH8: =L8 -> 142 | CI8: =W8+X8+Y8+Z8+AA8+AB8+AC8 -> 139 | CJ8: =L8 -> 142 | CK8: =AM8+AN8+AO8+AP8+AQ8 -> 142 | CL8: =L8 -> 142 | CM8: =AR8+AS8+AT8+AU8+AV8+AW8+AX8 -> 142 | CN8: =L8 -> 142 | CO8: =AY8+AZ8+BA8 -> 142 | CP8: =BF8 -> 10 | CQ8: =BC8+BD8+BE8 -> 10 | CR8: =BF8 -> 10 | CS8: =BG8+BH8+BI8+BJ8 -> 10 | CT8: =BS8 -> 4 | CU8: =BO8+BP8+BQ8+BR8 -> 4
A9: 1.1 | B9: Սպանությունը | C9: 104 | D9: =SUM('Երևան քաղաք'!D8+Շիրակ!D8+Կոտայք!D8+Լոռի!D8+Արագածոտն!D8+Գեղարքունիքի!D8+Արմավիր!D8+'Արարատի և Վայոց ձոր'!D8+Տավուշ!D7+Սյունիք!D8) -> 0 | E9: =SUM('Երևան քաղաք'!E8+Շիրակ!E8+Կոտայք!E8+Լոռի!E8+Արագածոտն!E8+Գեղարքունիքի!E8+Արմավիր!E8+'Արարատի և Վայոց ձոր'!E8+Տավուշ!E7+Սյունիք!E8) -> 7 | F9: =SUM('Երևան քաղաք'!F8+Շիրակ!F8+Կոտայք!F8+Լոռի!F8+Արագածոտն!F8+Գեղարքունիքի!F8+Արմավիր!F8+'Արարատի և Վայոց ձոր'!F8+Տավուշ!F7+Սյունիք!F8) -> 7 | G9: =SUM('Երևան քաղաք'!G8+Շիրակ!G8+Կոտայք!G8+Լոռի!G8+Արագածոտն!G8+Գեղարքունիքի!G8+Արմավիր!G8+'Արարատի և Վայոց ձոր'!G8+Տավուշ!G7+Սյունիք!G8) -> 3 | H9: =SUM('Երևան քաղաք'!H8+Շիրակ!H8+Կոտայք!H8+Լոռի!H8+Արագածոտն!H8+Գեղարքունիքի!H8+Արմավիր!H8+'Արարատի և Վայոց ձոր'!H8+Տավուշ!H7+Սյունիք!H8) -> 5 | I9: =SUM('Երևան քաղաք'!I8+Շիրակ!I8+Կոտայք!I8+Լոռի!I8+Արագածոտն!I8+Գեղարքունիքի!I8+Արմավիր!I8+'Արարատի և Վայոց ձոր'!I8+Տավուշ!I7+Սյունիք!I8) -> 21 | J9: =SUM('Երևան քաղաք'!J8+Շիրակ!J8+Կոտայք!J8+Լոռի!J8+Արագածոտն!J8+Գեղարքունիքի!J8+Արմավիր!J8+'Արարատի և Վայոց ձոր'!J8+Տավուշ!J7+Սյունիք!J8) -> 4 | K9: =SUM('Երևան քաղաք'!K8+Շիրակ!K8+Կոտայք!K8+Լոռի!K8+Արագածոտն!K8+Գեղարքունիքի!K8+Արմավիր!K8+'Արարատի և Վայոց ձոր'!K8+Տավուշ!K7+Սյունիք!K8) -> 1 | ... BZ9: =SUM('Երևան քաղաք'!BZ8+Շիրակ!BZ8+Կոտայք!BZ8+Լոռի!BZ8+Արագածոտն!BZ8+Գեղարքունիքի!BZ8+Արմավիր!BZ8+'Արարատի և Վայոց ձոր'!BZ8+Տավուշ!BZ7+Սյունիք!BZ8) -> 11 | CB9: =F9 -> 7 | CC9: =D9+E9 -> 7 | CD9: =L9 -> 26 | CE9: =I9+J9+K9 -> 26 | CF9: =W9 -> 17 | CG9: =O9+P9+Q9+R9+S9+T9+U9+V9 -> 17 | CH9: =L9 -> 26 | CI9: =W9+X9+Y9+Z9+AA9+AB9+AC9 -> 23 | CJ9: =L9 -> 26 | CK9: =AM9+AN9+AO9+AP9+AQ9 -> 26 | CL9: =L9 -> 26 | CM9: =AR9+AS9+AT9+AU9+AV9+AW9+AX9 -> 26 | CN9: =L9 -> 26 | CO9: =AY9+AZ9+BA9 -> 26 | CP9: =BF9 -> 4 | CQ9: =BC9+BD9+BE9 -> 4 | CR9: =BF9 -> 4 | CS9: =BG9+BH9+BI9+BJ9 -> 4 | CT9: =BS9 -> 2 | CU9: =BO9+BP9+BQ9+BR9 -> 2
A10: 1.2 | B10: Հոգեկան խիստ հուզմունքի վիճակում կատարված սպանությունը | C10: 105 | D10: =SUM('Երևան քաղաք'!D9+Շիրակ!D9+Կոտայք!D9+Լոռի!D9+Արագածոտն!D9+Գեղարքունիքի!D9+Արմավիր!D9+'Արարատի և Վայոց ձոր'!D9+Տավուշ!D8+Սյունիք!D9) -> 0 | E10: =SUM('Երևան քաղաք'!E9+Շիրակ!E9+Կոտայք!E9+Լոռի!E9+Արագածոտն!E9+Գեղարքունիքի!E9+Արմավիր!E9+'Արարատի և Վայոց ձոր'!E9+Տավուշ!E8+Սյունիք!E9) -> 0 | F10: =SUM('Երևան քաղաք'!F9+Շիրակ!F9+Կոտայք!F9+Լոռի!F9+Արագածոտն!F9+Գեղարքունիքի!F9+Արմավիր!F9+'Արարատի և Վայոց ձոր'!F9+Տավուշ!F8+Սյունիք!F9) -> 0 | G10: =SUM('Երևան քաղաք'!G9+Շիրակ!G9+Կոտայք!G9+Լոռի!G9+Արագածոտն!G9+Գեղարքունիքի!G9+Արմավիր!G9+'Արարատի և Վայոց ձոր'!G9+Տավուշ!G8+Սյունիք!G9) -> 0 | H10: =SUM('Երևան քաղաք'!H9+Շիրակ!H9+Կոտայք!H9+Լոռի!H9+Արագածոտն!H9+Գեղարքունիքի!H9+Արմավիր!H9+'Արարատի և Վայոց ձոր'!H9+Տավուշ!H8+Սյունիք!H9) -> 1 | I10: =SUM('Երևան քաղաք'!I9+Շիրակ!I9+Կոտայք!I9+Լոռի!I9+Արագածոտն!I9+Գեղարքունիքի!I9+Արմավիր!I9+'Արարատի և Վայոց ձոր'!I9+Տավուշ!I8+Սյունիք!I9) -> 2 | J10: =SUM('Երևան քաղաք'!J9+Շիրակ!J9+Կոտայք!J9+Լոռի!J9+Արագածոտն!J9+Գեղարքունիքի!J9+Արմավիր!J9+'Արարատի և Վայոց ձոր'!J9+Տավուշ!J8+Սյունիք!J9) -> 1 | K10: =SUM('Երևան քաղաք'!K9+Շիրակ!K9+Կոտայք!K9+Լոռի!K9+Արագածոտն!K9+Գեղարքունիքի!K9+Արմավիր!K9+'Արարատի և Վայոց ձոր'!K9+Տավուշ!K8+Սյունիք!K9) -> 0 | ... BZ10: =SUM('Երևան քաղաք'!BZ9+Շիրակ!BZ9+Կոտայք!BZ9+Լոռի!BZ9+Արագածոտն!BZ9+Գեղարքունիքի!BZ9+Արմավիր!BZ9+'Արարատի և Վայոց ձոր'!BZ9+Տավուշ!BZ8+Սյունիք!BZ9) -> 0 | CB10: =F10 -> 0 | CC10: =D10+E10 -> 0 | CD10: =L10 -> 3 | CE10: =I10+J10+K10 -> 3 | CF10: =W10 -> 3 | CG10: =O10+P10+Q10+R10+S10+T10+U10+V10 -> 3 | CH10: =L10 -> 3 | CI10: =W10+X10+Y10+Z10+AA10+AB10+AC10 -> 3 | CJ10: =L10 -> 3 | CK10: =AM10+AN10+AO10+AP10+AQ10 -> 3 | CL10: =L10 -> 3 | CM10: =AR10+AS10+AT10+AU10+AV10+AW10+AX10 -> 3 | CN10: =L10 -> 3 | CO10: =AY10+AZ10+BA10 -> 3 | CP10: =BF10 -> 0 | CQ10: =BC10+BD10+BE10 -> 0 | CR10: =BF10 -> 0 | CS10: =BG10+BH10+BI10+BJ10 -> 0 | CT10: =BS10 -> 0 | CU10: =BO10+BP10+BQ10+BR10 -> 0
A11: 1.3 | B11: Մոր կողմից նորածին երեխայի սպանությունը | C11: 106 | D11: =SUM('Երևան քաղաք'!D10+Շիրակ!D10+Կոտայք!D10+Լոռի!D10+Արագածոտն!D10+Գեղարքունիքի!D10+Արմավիր!D10+'Արարատի և Վայոց ձոր'!D10+Տավուշ!D9+Սյունիք!D10) -> 0 | E11: =SUM('Երևան քաղաք'!E10+Շիրակ!E10+Կոտայք!E10+Լոռի!E10+Արագածոտն!E10+Գեղարքունիքի!E10+Արմավիր!E10+'Արարատի և Վայոց ձոր'!E10+Տավուշ!E9+Սյունիք!E10) -> 0 | F11: =SUM('Երևան քաղաք'!F10+Շիրակ!F10+Կոտայք!F10+Լոռի!F10+Արագածոտն!F10+Գեղարքունիքի!F10+Արմավիր!F10+'Արարատի և Վայոց ձոր'!F10+Տավուշ!F9+Սյունիք!F10) -> 0 | G11: =SUM('Երևան քաղաք'!G10+Շիրակ!G10+Կոտայք!G10+Լոռի!G10+Արագածոտն!G10+Գեղարքունիքի!G10+Արմավիր!G10+'Արարատի և Վայոց ձոր'!G10+Տավուշ!G9+Սյունիք!G10) -> 0 | H11: =SUM('Երևան քաղաք'!H10+Շիրակ!H10+Կոտայք!H10+Լոռի!H10+Արագածոտն!H10+Գեղարքունիքի!H10+Արմավիր!H10+'Արարատի և Վայոց ձոր'!H10+Տավուշ!H9+Սյունիք!H10) -> 0 | I11: =SUM('Երևան քաղաք'!I10+Շիրակ!I10+Կոտայք!I10+Լոռի!I10+Արագածոտն!I10+Գեղարքունիքի!I10+Արմավիր!I10+'Արարատի և Վայոց ձոր'!I10+Տավուշ!I9+Սյունիք!I10) -> 0 | J11: =SUM('Երևան քաղաք'!J10+Շիրակ!J10+Կոտայք!J10+Լոռի!J10+Արագածոտն!J10+Գեղարքունիքի!J10+Արմավիր!J10+'Արարատի և Վայոց ձոր'!J10+Տավուշ!J9+Սյունիք!J10) -> 0 | K11: =SUM('Երևան քաղաք'!K10+Շիրակ!K10+Կոտայք!K10+Լոռի!K10+Արագածոտն!K10+Գեղարքունիքի!K10+Արմավիր!K10+'Արարատի և Վայոց ձոր'!K10+Տավուշ!K9+Սյունիք!K10) -> 0 | ... BZ11: =SUM('Երևան քաղաք'!BZ10+Շիրակ!BZ10+Կոտայք!BZ10+Լոռի!BZ10+Արագածոտն!BZ10+Գեղարքունիքի!BZ10+Արմավիր!BZ10+'Արարատի և Վայոց ձոր'!BZ10+Տավուշ!BZ9+Սյունիք!BZ10) -> 0 | CB11: =F11 -> 0 | CC11: =D11+E11 -> 0 | CD11: =L11 -> 0 | CE11: =I11+J11+K11 -> 0 | CF11: =W11 -> 0 | CG11: =O11+P11+Q11+R11+S11+T11+U11+V11 -> 0 | CH11: =L11 -> 0 | CI11: =W11+X11+Y11+Z11+AA11+AB11+AC11 -> 0 | CJ11: =L11 -> 0 | CK11: =AM11+AN11+AO11+AP11+AQ11 -> 0 | CL11: =L11 -> 0 | CM11: =AR11+AS11+AT11+AU11+AV11+AW11+AX11 -> 0 | CN11: =L11 -> 0 | CO11: =AY11+AZ11+BA11 -> 0 | CP11: =BF11 -> 0 | CQ11: =BC11+BD11+BE11 -> 0 | CR11: =BF11 -> 0 | CS11: =BG11+BH11+BI11+BJ11 -> 0 | CT11: =BS11 -> 0 | CU11: =BO11+BP11+BQ11+BR11 -> 0
A12: 1.4 | B12: Հանցանք կատարած անձին բռնելու համար անհրաժեշտ միջոցների սահմանազանցմամբ սպանությունը | C12: 107 | D12: =SUM('Երևան քաղաք'!D11+Շիրակ!D11+Կոտայք!D11+Լոռի!D11+Արագածոտն!D11+Գեղարքունիքի!D11+Արմավիր!D11+'Արարատի և Վայոց ձոր'!D11+Տավուշ!D10+Սյունիք!D11) -> 0 | E12: =SUM('Երևան քաղաք'!E11+Շիրակ!E11+Կոտայք!E11+Լոռի!E11+Արագածոտն!E11+Գեղարքունիքի!E11+Արմավիր!E11+'Արարատի և Վայոց ձոր'!E11+Տավուշ!E10+Սյունիք!E11) -> 0 | F12: =SUM('Երևան քաղաք'!F11+Շիրակ!F11+Կոտայք!F11+Լոռի!F11+Արագածոտն!F11+Գեղարքունիքի!F11+Արմավիր!F11+'Արարատի և Վայոց ձոր'!F11+Տավուշ!F10+Սյունիք!F11) -> 0 | G12: =SUM('Երևան քաղաք'!G11+Շիրակ!G11+Կոտայք!G11+Լոռի!G11+Արագածոտն!G11+Գեղարքունիքի!G11+Արմավիր!G11+'Արարատի և Վայոց ձոր'!G11+Տավուշ!G10+Սյունիք!G11) -> 0 | H12: =SUM('Երևան քաղաք'!H11+Շիրակ!H11+Կոտայք!H11+Լոռի!H11+Արագածոտն!H11+Գեղարքունիքի!H11+Արմավիր!H11+'Արարատի և Վայոց ձոր'!H11+Տավուշ!H10+Սյունիք!H11) -> 0 | I12: =SUM('Երևան քաղաք'!I11+Շիրակ!I11+Կոտայք!I11+Լոռի!I11+Արագածոտն!I11+Գեղարքունիքի!I11+Արմավիր!I11+'Արարատի և Վայոց ձոր'!I11+Տավուշ!I10+Սյունիք!I11) -> 0 | J12: =SUM('Երևան քաղաք'!J11+Շիրակ!J11+Կոտայք!J11+Լոռի!J11+Արագածոտն!J11+Գեղարքունիքի!J11+Արմավիր!J11+'Արարատի և Վայոց ձոր'!J11+Տավուշ!J10+Սյունիք!J11) -> 0 | K12: =SUM('Երևան քաղաք'!K11+Շիրակ!K11+Կոտայք!K11+Լոռի!K11+Արագածոտն!K11+Գեղարքունիքի!K11+Արմավիր!K11+'Արարատի և Վայոց ձոր'!K11+Տավուշ!K10+Սյունիք!K11) -> 0 | ... BZ12: =SUM('Երևան քաղաք'!BZ11+Շիրակ!BZ11+Կոտայք!BZ11+Լոռի!BZ11+Արագածոտն!BZ11+Գեղարքունիքի!BZ11+Արմավիր!BZ11+'Արարատի և Վայոց ձոր'!BZ11+Տավուշ!BZ10+Սյունիք!BZ11) -> 0 | CB12: =F12 -> 0 | CC12: =D12+E12 -> 0 | CD12: =L12 -> 0 | CE12: =I12+J12+K12 -> 0 | CF12: =W12 -> 0 | CG12: =O12+P12+Q12+R12+S12+T12+U12+V12 -> 0 | CH12: =L12 -> 0 | CI12: =W12+X12+Y12+Z12+AA12+AB12+AC12 -> 0 | CJ12: =L12 -> 0 | CK12: =AM12+AN12+AO12+AP12+AQ12 -> 0 | CL12: =L12 -> 0 | CM12: =AR12+AS12+AT12+AU12+AV12+AW12+AX12 -> 0 | CN12: =L12 -> 0 | CO12: =AY12+AZ12+BA12 -> 0 | CP12: =BF12 -> 0 | CQ12: =BC12+BD12+BE12 -> 0 | CR12: =BF12 -> 0 | CS12: =BG12+BH12+BI12+BJ12 -> 0 | CT12: =BS12 -> 0 | CU12: =BO12+BP12+BQ12+BR12 -> 0
A13: 1.5 | B13: Անհրաժեշտ պաշտպանության սահմանազանցմամբ սպանությունը | C13: 108 | D13: =SUM('Երևան քաղաք'!D12+Շիրակ!D12+Կոտայք!D12+Լոռի!D12+Արագածոտն!D12+Գեղարքունիքի!D12+Արմավիր!D12+'Արարատի և Վայոց ձոր'!D12+Տավուշ!D11+Սյունիք!D12) -> 0 | E13: =SUM('Երևան քաղաք'!E12+Շիրակ!E12+Կոտայք!E12+Լոռի!E12+Արագածոտն!E12+Գեղարքունիքի!E12+Արմավիր!E12+'Արարատի և Վայոց ձոր'!E12+Տավուշ!E11+Սյունիք!E12) -> 0 | F13: =SUM('Երևան քաղաք'!F12+Շիրակ!F12+Կոտայք!F12+Լոռի!F12+Արագածոտն!F12+Գեղարքունիքի!F12+Արմավիր!F12+'Արարատի և Վայոց ձոր'!F12+Տավուշ!F11+Սյունիք!F12) -> 0 | G13: =SUM('Երևան քաղաք'!G12+Շիրակ!G12+Կոտայք!G12+Լոռի!G12+Արագածոտն!G12+Գեղարքունիքի!G12+Արմավիր!G12+'Արարատի և Վայոց ձոր'!G12+Տավուշ!G11+Սյունիք!G12) -> 0 | H13: =SUM('Երևան քաղաք'!H12+Շիրակ!H12+Կոտայք!H12+Լոռի!H12+Արագածոտն!H12+Գեղարքունիքի!H12+Արմավիր!H12+'Արարատի և Վայոց ձոր'!H12+Տավուշ!H11+Սյունիք!H12) -> 0 | I13: =SUM('Երևան քաղաք'!I12+Շիրակ!I12+Կոտայք!I12+Լոռի!I12+Արագածոտն!I12+Գեղարքունիքի!I12+Արմավիր!I12+'Արարատի և Վայոց ձոր'!I12+Տավուշ!I11+Սյունիք!I12) -> 0 | J13: =SUM('Երևան քաղաք'!J12+Շիրակ!J12+Կոտայք!J12+Լոռի!J12+Արագածոտն!J12+Գեղարքունիքի!J12+Արմավիր!J12+'Արարատի և Վայոց ձոր'!J12+Տավուշ!J11+Սյունիք!J12) -> 0 | K13: =SUM('Երևան քաղաք'!K12+Շիրակ!K12+Կոտայք!K12+Լոռի!K12+Արագածոտն!K12+Գեղարքունիքի!K12+Արմավիր!K12+'Արարատի և Վայոց ձոր'!K12+Տավուշ!K11+Սյունիք!K12) -> 0 | ... BZ13: =SUM('Երևան քաղաք'!BZ12+Շիրակ!BZ12+Կոտայք!BZ12+Լոռի!BZ12+Արագածոտն!BZ12+Գեղարքունիքի!BZ12+Արմավիր!BZ12+'Արարատի և Վայոց ձոր'!BZ12+Տավուշ!BZ11+Սյունիք!BZ12) -> 2 | CB13: =F13 -> 0 | CC13: =D13+E13 -> 0 | CD13: =L13 -> 0 | CE13: =I13+J13+K13 -> 0 | CF13: =W13 -> 0 | CG13: =O13+P13+Q13+R13+S13+T13+U13+V13 -> 0 | CH13: =L13 -> 0 | CI13: =W13+X13+Y13+Z13+AA13+AB13+AC13 -> 0 | CJ13: =L13 -> 0 | CK13: =AM13+AN13+AO13+AP13+AQ13 -> 0 | CL13: =L13 -> 0 | CM13: =AR13+AS13+AT13+AU13+AV13+AW13+AX13 -> 0 | CN13: =L13 -> 0 | CO13: =AY13+AZ13+BA13 -> 0 | CP13: =BF13 -> 0 | CQ13: =BC13+BD13+BE13 -> 0 | CR13: =BF13 -> 0 | CS13: =BG13+BH13+BI13+BJ13 -> 0 | CT13: =BS13 -> 0 | CU13: =BO13+BP13+BQ13+BR13 -> 0
A14: 1.6 | B14: Անզգուշությամբ մահ պատճառելը | C14: 109 | D14: =SUM('Երևան քաղաք'!D13+Շիրակ!D13+Կոտայք!D13+Լոռի!D13+Արագածոտն!D13+Գեղարքունիքի!D13+Արմավիր!D13+'Արարատի և Վայոց ձոր'!D13+Տավուշ!D12+Սյունիք!D13) -> 0 | E14: =SUM('Երևան քաղաք'!E13+Շիրակ!E13+Կոտայք!E13+Լոռի!E13+Արագածոտն!E13+Գեղարքունիքի!E13+Արմավիր!E13+'Արարատի և Վայոց ձոր'!E13+Տավուշ!E12+Սյունիք!E13) -> 5 | F14: =SUM('Երևան քաղաք'!F13+Շիրակ!F13+Կոտայք!F13+Լոռի!F13+Արագածոտն!F13+Գեղարքունիքի!F13+Արմավիր!F13+'Արարատի և Վայոց ձոր'!F13+Տավուշ!F12+Սյունիք!F13) -> 5 | G14: =SUM('Երևան քաղաք'!G13+Շիրակ!G13+Կոտայք!G13+Լոռի!G13+Արագածոտն!G13+Գեղարքունիքի!G13+Արմավիր!G13+'Արարատի և Վայոց ձոր'!G13+Տավուշ!G12+Սյունիք!G13) -> 0 | H14: =SUM('Երևան քաղաք'!H13+Շիրակ!H13+Կոտայք!H13+Լոռի!H13+Արագածոտն!H13+Գեղարքունիքի!H13+Արմավիր!H13+'Արարատի և Վայոց ձոր'!H13+Տավուշ!H12+Սյունիք!H13) -> 0 | I14: =SUM('Երևան քաղաք'!I13+Շիրակ!I13+Կոտայք!I13+Լոռի!I13+Արագածոտն!I13+Գեղարքունիքի!I13+Արմավիր!I13+'Արարատի և Վայոց ձոր'!I13+Տավուշ!I12+Սյունիք!I13) -> 1 | J14: =SUM('Երևան քաղաք'!J13+Շիրակ!J13+Կոտայք!J13+Լոռի!J13+Արագածոտն!J13+Գեղարքունիքի!J13+Արմավիր!J13+'Արարատի և Վայոց ձոր'!J13+Տավուշ!J12+Սյունիք!J13) -> 0 | K14: =SUM('Երևան քաղաք'!K13+Շիրակ!K13+Կոտայք!K13+Լոռի!K13+Արագածոտն!K13+Գեղարքունիքի!K13+Արմավիր!K13+'Արարատի և Վայոց ձոր'!K13+Տավուշ!K12+Սյունիք!K13) -> 0 | ... BZ14: =SUM('Երևան քաղաք'!BZ13+Շիրակ!BZ13+Կոտայք!BZ13+Լոռի!BZ13+Արագածոտն!BZ13+Գեղարքունիքի!BZ13+Արմավիր!BZ13+'Արարատի և Վայոց ձոր'!BZ13+Տավուշ!BZ12+Սյունիք!BZ13) -> 1 | CB14: =F14 -> 5 | CC14: =D14+E14 -> 5 | CD14: =L14 -> 1 | CE14: =I14+J14+K14 -> 1 | CF14: =W14 -> 1 | CG14: =O14+P14+Q14+R14+S14+T14+U14+V14 -> 1 | CH14: =L14 -> 1 | CI14: =W14+X14+Y14+Z14+AA14+AB14+AC14 -> 1 | CJ14: =L14 -> 1 | CK14: =AM14+AN14+AO14+AP14+AQ14 -> 1 | CL14: =L14 -> 1 | CM14: =AR14+AS14+AT14+AU14+AV14+AW14+AX14 -> 1 | CN14: =L14 -> 1 | CO14: =AY14+AZ14+BA14 -> 1 | CP14: =BF14 -> 0 | CQ14: =BC14+BD14+BE14 -> 0 | CR14: =BF14 -> 0 | CS14: =BG14+BH14+BI14+BJ14 -> 0 | CT14: =BS14 -> 0 | CU14: =BO14+BP14+BQ14+BR14 -> 0
A15: 1.7 | B15: Ինքնասպանության հասցնելը | C15: 110 | D15: =SUM('Երևան քաղաք'!D14+Շիրակ!D14+Կոտայք!D14+Լոռի!D14+Արագածոտն!D14+Գեղարքունիքի!D14+Արմավիր!D14+'Արարատի և Վայոց ձոր'!D14+Տավուշ!D13+Սյունիք!D14) -> 0 | E15: =SUM('Երևան քաղաք'!E14+Շիրակ!E14+Կոտայք!E14+Լոռի!E14+Արագածոտն!E14+Գեղարքունիքի!E14+Արմավիր!E14+'Արարատի և Վայոց ձոր'!E14+Տավուշ!E13+Սյունիք!E14) -> 0 | F15: =SUM('Երևան քաղաք'!F14+Շիրակ!F14+Կոտայք!F14+Լոռի!F14+Արագածոտն!F14+Գեղարքունիքի!F14+Արմավիր!F14+'Արարատի և Վայոց ձոր'!F14+Տավուշ!F13+Սյունիք!F14) -> 0 | G15: =SUM('Երևան քաղաք'!G14+Շիրակ!G14+Կոտայք!G14+Լոռի!G14+Արագածոտն!G14+Գեղարքունիքի!G14+Արմավիր!G14+'Արարատի և Վայոց ձոր'!G14+Տավուշ!G13+Սյունիք!G14) -> 0 | H15: =SUM('Երևան քաղաք'!H14+Շիրակ!H14+Կոտայք!H14+Լոռի!H14+Արագածոտն!H14+Գեղարքունիքի!H14+Արմավիր!H14+'Արարատի և Վայոց ձոր'!H14+Տավուշ!H13+Սյունիք!H14) -> 0 | I15: =SUM('Երևան քաղաք'!I14+Շիրակ!I14+Կոտայք!I14+Լոռի!I14+Արագածոտն!I14+Գեղարքունիքի!I14+Արմավիր!I14+'Արարատի և Վայոց ձոր'!I14+Տավուշ!I13+Սյունիք!I14) -> 1 | J15: =SUM('Երևան քաղաք'!J14+Շիրակ!J14+Կոտայք!J14+Լոռի!J14+Արագածոտն!J14+Գեղարքունիքի!J14+Արմավիր!J14+'Արարատի և Վայոց ձոր'!J14+Տավուշ!J13+Սյունիք!J14) -> 0 | K15: =SUM('Երևան քաղաք'!K14+Շիրակ!K14+Կոտայք!K14+Լոռի!K14+Արագածոտն!K14+Գեղարքունիքի!K14+Արմավիր!K14+'Արարատի և Վայոց ձոր'!K14+Տավուշ!K13+Սյունիք!K14) -> 0 | ... BZ15: =SUM('Երևան քաղաք'!BZ14+Շիրակ!BZ14+Կոտայք!BZ14+Լոռի!BZ14+Արագածոտն!BZ14+Գեղարքունիքի!BZ14+Արմավիր!BZ14+'Արարատի և Վայոց ձոր'!BZ14+Տավուշ!BZ13+Սյունիք!BZ14) -> 2 | CB15: =F15 -> 0 | CC15: =D15+E15 -> 0 | CD15: =L15 -> 1 | CE15: =I15+J15+K15 -> 1 | CF15: =W15 -> 1 | CG15: =O15+P15+Q15+R15+S15+T15+U15+V15 -> 1 | CH15: =L15 -> 1 | CI15: =W15+X15+Y15+Z15+AA15+AB15+AC15 -> 1 | CJ15: =L15 -> 1 | CK15: =AM15+AN15+AO15+AP15+AQ15 -> 1 | CL15: =L15 -> 1 | CM15: =AR15+AS15+AT15+AU15+AV15+AW15+AX15 -> 1 | CN15: =L15 -> 1 | CO15: =AY15+AZ15+BA15 -> 1 | CP15: =BF15 -> 0 | CQ15: =BC15+BD15+BE15 -> 0 | CR15: =BF15 -> 0 | CS15: =BG15+BH15+BI15+BJ15 -> 0 | CT15: =BS15 -> 0 | CU15: =BO15+BP15+BQ15+BR15 -> 0
A16: 1.8 | B16: Ինքնասպանության հակելը | C16: 111 | D16: =SUM('Երևան քաղաք'!D15+Շիրակ!D15+Կոտայք!D15+Լոռի!D15+Արագածոտն!D15+Գեղարքունիքի!D15+Արմավիր!D15+'Արարատի և Վայոց ձոր'!D15+Տավուշ!D14+Սյունիք!D15) -> 0 | E16: =SUM('Երևան քաղաք'!E15+Շիրակ!E15+Կոտայք!E15+Լոռի!E15+Արագածոտն!E15+Գեղարքունիքի!E15+Արմավիր!E15+'Արարատի և Վայոց ձոր'!E15+Տավուշ!E14+Սյունիք!E15) -> 2 | F16: =SUM('Երևան քաղաք'!F15+Շիրակ!F15+Կոտայք!F15+Լոռի!F15+Արագածոտն!F15+Գեղարքունիքի!F15+Արմավիր!F15+'Արարատի և Վայոց ձոր'!F15+Տավուշ!F14+Սյունիք!F15) -> 2 | G16: =SUM('Երևան քաղաք'!G15+Շիրակ!G15+Կոտայք!G15+Լոռի!G15+Արագածոտն!G15+Գեղարքունիքի!G15+Արմավիր!G15+'Արարատի և Վայոց ձոր'!G15+Տավուշ!G14+Սյունիք!G15) -> 0 | H16: =SUM('Երևան քաղաք'!H15+Շիրակ!H15+Կոտայք!H15+Լոռի!H15+Արագածոտն!H15+Գեղարքունիքի!H15+Արմավիր!H15+'Արարատի և Վայոց ձոր'!H15+Տավուշ!H14+Սյունիք!H15) -> 0 | I16: =SUM('Երևան քաղաք'!I15+Շիրակ!I15+Կոտայք!I15+Լոռի!I15+Արագածոտն!I15+Գեղարքունիքի!I15+Արմավիր!I15+'Արարատի և Վայոց ձոր'!I15+Տավուշ!I14+Սյունիք!I15) -> 0 | J16: =SUM('Երևան քաղաք'!J15+Շիրակ!J15+Կոտայք!J15+Լոռի!J15+Արագածոտն!J15+Գեղարքունիքի!J15+Արմավիր!J15+'Արարատի և Վայոց ձոր'!J15+Տավուշ!J14+Սյունիք!J15) -> 0 | K16: =SUM('Երևան քաղաք'!K15+Շիրակ!K15+Կոտայք!K15+Լոռի!K15+Արագածոտն!K15+Գեղարքունիքի!K15+Արմավիր!K15+'Արարատի և Վայոց ձոր'!K15+Տավուշ!K14+Սյունիք!K15) -> 0 | ... BZ16: =SUM('Երևան քաղաք'!BZ15+Շիրակ!BZ15+Կոտայք!BZ15+Լոռի!BZ15+Արագածոտն!BZ15+Գեղարքունիքի!BZ15+Արմավիր!BZ15+'Արարատի և Վայոց ձոր'!BZ15+Տավուշ!BZ14+Սյունիք!BZ15) -> 0 | CB16: =F16 -> 2 | CC16: =D16+E16 -> 2 | CD16: =L16 -> 0 | CE16: =I16+J16+K16 -> 0 | CF16: =W16 -> 0 | CG16: =O16+P16+Q16+R16+S16+T16+U16+V16 -> 0 | CH16: =L16 -> 0 | CI16: =W16+X16+Y16+Z16+AA16+AB16+AC16 -> 0 | CJ16: =L16 -> 0 | CK16: =AM16+AN16+AO16+AP16+AQ16 -> 0 | CL16: =L16 -> 0 | CM16: =AR16+AS16+AT16+AU16+AV16+AW16+AX16 -> 0 | CN16: =L16 -> 0 | CO16: =AY16+AZ16+BA16 -> 0 | CP16: =BF16 -> 0 | CQ16: =BC16+BD16+BE16 -> 0 | CR16: =BF16 -> 0 | CS16: =BG16+BH16+BI16+BJ16 -> 0 | CT16: =BS16 -> 0 | CU16: =BO16+BP16+BQ16+BR16 -> 0
A17: 1.9 | B17: Դիտավորությամբ առողջությանը ծանր վնաս պատճառելը | C17: 112 | D17: =SUM('Երևան քաղաք'!D16+Շիրակ!D16+Կոտայք!D16+Լոռի!D16+Արագածոտն!D16+Գեղարքունիքի!D16+Արմավիր!D16+'Արարատի և Վայոց ձոր'!D16+Տավուշ!D15+Սյունիք!D16) -> 0 | E17: =SUM('Երևան քաղաք'!E16+Շիրակ!E16+Կոտայք!E16+Լոռի!E16+Արագածոտն!E16+Գեղարքունիքի!E16+Արմավիր!E16+'Արարատի և Վայոց ձոր'!E16+Տավուշ!E15+Սյունիք!E16) -> 6 | F17: =SUM('Երևան քաղաք'!F16+Շիրակ!F16+Կոտայք!F16+Լոռի!F16+Արագածոտն!F16+Գեղարքունիքի!F16+Արմավիր!F16+'Արարատի և Վայոց ձոր'!F16+Տավուշ!F15+Սյունիք!F16) -> 6 | G17: =SUM('Երևան քաղաք'!G16+Շիրակ!G16+Կոտայք!G16+Լոռի!G16+Արագածոտն!G16+Գեղարքունիքի!G16+Արմավիր!G16+'Արարատի և Վայոց ձոր'!G16+Տավուշ!G15+Սյունիք!G16) -> 0 | H17: =SUM('Երևան քաղաք'!H16+Շիրակ!H16+Կոտայք!H16+Լոռի!H16+Արագածոտն!H16+Գեղարքունիքի!H16+Արմավիր!H16+'Արարատի և Վայոց ձոր'!H16+Տավուշ!H15+Սյունիք!H16) -> 0 | I17: =SUM('Երևան քաղաք'!I16+Շիրակ!I16+Կոտայք!I16+Լոռի!I16+Արագածոտն!I16+Գեղարքունիքի!I16+Արմավիր!I16+'Արարատի և Վայոց ձոր'!I16+Տավուշ!I15+Սյունիք!I16) -> 43 | J17: =SUM('Երևան քաղաք'!J16+Շիրակ!J16+Կոտայք!J16+Լոռի!J16+Արագածոտն!J16+Գեղարքունիքի!J16+Արմավիր!J16+'Արարատի և Վայոց ձոր'!J16+Տավուշ!J15+Սյունիք!J16) -> 0 | K17: =SUM('Երևան քաղաք'!K16+Շիրակ!K16+Կոտայք!K16+Լոռի!K16+Արագածոտն!K16+Գեղարքունիքի!K16+Արմավիր!K16+'Արարատի և Վայոց ձոր'!K16+Տավուշ!K15+Սյունիք!K16) -> 0 | ... BZ17: =SUM('Երևան քաղաք'!BZ16+Շիրակ!BZ16+Կոտայք!BZ16+Լոռի!BZ16+Արագածոտն!BZ16+Գեղարքունիքի!BZ16+Արմավիր!BZ16+'Արարատի և Վայոց ձոր'!BZ16+Տավուշ!BZ15+Սյունիք!BZ16) -> 33 | CB17: =F17 -> 6 | CC17: =D17+E17 -> 6 | CD17: =L17 -> 43 | CE17: =I17+J17+K17 -> 43 | CF17: =W17 -> 43 | CG17: =O17+P17+Q17+R17+S17+T17+U17+V17 -> 43 | CH17: =L17 -> 43 | CI17: =W17+X17+Y17+Z17+AA17+AB17+AC17 -> 43 | CJ17: =L17 -> 43 | CK17: =AM17+AN17+AO17+AP17+AQ17 -> 43 | CL17: =L17 -> 43 | CM17: =AR17+AS17+AT17+AU17+AV17+AW17+AX17 -> 43 | CN17: =L17 -> 43 | CO17: =AY17+AZ17+BA17 -> 43 | CP17: =BF17 -> 1 | CQ17: =BC17+BD17+BE17 -> 1 | CR17: =BF17 -> 1 | CS17: =BG17+BH17+BI17+BJ17 -> 1 | CT17: =BS17 -> 0 | CU17: =BO17+BP17+BQ17+BR17 -> 0
A18: 1.10 | B18: Դիտավորությամբ առողջությանը միջին ծանրության վնաս պատճառելը | C18: 113 | D18: =SUM('Երևան քաղաք'!D17+Շիրակ!D17+Կոտայք!D17+Լոռի!D17+Արագածոտն!D17+Գեղարքունիքի!D17+Արմավիր!D17+'Արարատի և Վայոց ձոր'!D17+Տավուշ!D16+Սյունիք!D17) -> 0 | E18: =SUM('Երևան քաղաք'!E17+Շիրակ!E17+Կոտայք!E17+Լոռի!E17+Արագածոտն!E17+Գեղարքունիքի!E17+Արմավիր!E17+'Արարատի և Վայոց ձոր'!E17+Տավուշ!E16+Սյունիք!E17) -> 3 | F18: =SUM('Երևան քաղաք'!F17+Շիրակ!F17+Կոտայք!F17+Լոռի!F17+Արագածոտն!F17+Գեղարքունիքի!F17+Արմավիր!F17+'Արարատի և Վայոց ձոր'!F17+Տավուշ!F16+Սյունիք!F17) -> 3 | G18: =SUM('Երևան քաղաք'!G17+Շիրակ!G17+Կոտայք!G17+Լոռի!G17+Արագածոտն!G17+Գեղարքունիքի!G17+Արմավիր!G17+'Արարատի և Վայոց ձոր'!G17+Տավուշ!G16+Սյունիք!G17) -> 0 | H18: =SUM('Երևան քաղաք'!H17+Շիրակ!H17+Կոտայք!H17+Լոռի!H17+Արագածոտն!H17+Գեղարքունիքի!H17+Արմավիր!H17+'Արարատի և Վայոց ձոր'!H17+Տավուշ!H16+Սյունիք!H17) -> 0 | I18: =SUM('Երևան քաղաք'!I17+Շիրակ!I17+Կոտայք!I17+Լոռի!I17+Արագածոտն!I17+Գեղարքունիքի!I17+Արմավիր!I17+'Արարատի և Վայոց ձոր'!I17+Տավուշ!I16+Սյունիք!I17) -> 24 | J18: =SUM('Երևան քաղաք'!J17+Շիրակ!J17+Կոտայք!J17+Լոռի!J17+Արագածոտն!J17+Գեղարքունիքի!J17+Արմավիր!J17+'Արարատի և Վայոց ձոր'!J17+Տավուշ!J16+Սյունիք!J17) -> 0 | K18: =SUM('Երևան քաղաք'!K17+Շիրակ!K17+Կոտայք!K17+Լոռի!K17+Արագածոտն!K17+Գեղարքունիքի!K17+Արմավիր!K17+'Արարատի և Վայոց ձոր'!K17+Տավուշ!K16+Սյունիք!K17) -> 0 | ... BZ18: =SUM('Երևան քաղաք'!BZ17+Շիրակ!BZ17+Կոտայք!BZ17+Լոռի!BZ17+Արագածոտն!BZ17+Գեղարքունիքի!BZ17+Արմավիր!BZ17+'Արարատի և Վայոց ձոր'!BZ17+Տավուշ!BZ16+Սյունիք!BZ17) -> 5 | CB18: =F18 -> 3 | CC18: =D18+E18 -> 3 | CD18: =L18 -> 24 | CE18: =I18+J18+K18 -> 24 | CF18: =W18 -> 21 | CG18: =O18+P18+Q18+R18+S18+T18+U18+V18 -> 21 | CH18: =L18 -> 24 | CI18: =W18+X18+Y18+Z18+AA18+AB18+AC18 -> 24 | CJ18: =L18 -> 24 | CK18: =AM18+AN18+AO18+AP18+AQ18 -> 24 | CL18: =L18 -> 24 | CM18: =AR18+AS18+AT18+AU18+AV18+AW18+AX18 -> 24 | CN18: =L18 -> 24 | CO18: =AY18+AZ18+BA18 -> 24 | CP18: =BF18 -> 1 | CQ18: =BC18+BD18+BE18 -> 1 | CR18: =BF18 -> 1 | CS18: =BG18+BH18+BI18+BJ18 -> 1 | CT18: =BS18 -> 1 | CU18: =BO18+BP18+BQ18+BR18 -> 1
A19: 1.11 | B19: Հոգեկան խիստ հուզմունքի վիճակում առողջությանը ծանր կամ միջին ծանրության վնաս պատճառելը | C19: 114 | D19: =SUM('Երևան քաղաք'!D18+Շիրակ!D18+Կոտայք!D18+Լոռի!D18+Արագածոտն!D18+Գեղարքունիքի!D18+Արմավիր!D18+'Արարատի և Վայոց ձոր'!D18+Տավուշ!D17+Սյունիք!D18) -> 0 | E19: =SUM('Երևան քաղաք'!E18+Շիրակ!E18+Կոտայք!E18+Լոռի!E18+Արագածոտն!E18+Գեղարքունիքի!E18+Արմավիր!E18+'Արարատի և Վայոց ձոր'!E18+Տավուշ!E17+Սյունիք!E18) -> 0 | F19: =SUM('Երևան քաղաք'!F18+Շիրակ!F18+Կոտայք!F18+Լոռի!F18+Արագածոտն!F18+Գեղարքունիքի!F18+Արմավիր!F18+'Արարատի և Վայոց ձոր'!F18+Տավուշ!F17+Սյունիք!F18) -> 0 | G19: =SUM('Երևան քաղաք'!G18+Շիրակ!G18+Կոտայք!G18+Լոռի!G18+Արագածոտն!G18+Գեղարքունիքի!G18+Արմավիր!G18+'Արարատի և Վայոց ձոր'!G18+Տավուշ!G17+Սյունիք!G18) -> 1 | H19: =SUM('Երևան քաղաք'!H18+Շիրակ!H18+Կոտայք!H18+Լոռի!H18+Արագածոտն!H18+Գեղարքունիքի!H18+Արմավիր!H18+'Արարատի և Վայոց ձոր'!H18+Տավուշ!H17+Սյունիք!H18) -> 0 | I19: =SUM('Երևան քաղաք'!I18+Շիրակ!I18+Կոտայք!I18+Լոռի!I18+Արագածոտն!I18+Գեղարքունիքի!I18+Արմավիր!I18+'Արարատի և Վայոց ձոր'!I18+Տավուշ!I17+Սյունիք!I18) -> 1 | J19: =SUM('Երևան քաղաք'!J18+Շիրակ!J18+Կոտայք!J18+Լոռի!J18+Արագածոտն!J18+Գեղարքունիքի!J18+Արմավիր!J18+'Արարատի և Վայոց ձոր'!J18+Տավուշ!J17+Սյունիք!J18) -> 0 | K19: =SUM('Երևան քաղաք'!K18+Շիրակ!K18+Կոտայք!K18+Լոռի!K18+Արագածոտն!K18+Գեղարքունիքի!K18+Արմավիր!K18+'Արարատի և Վայոց ձոր'!K18+Տավուշ!K17+Սյունիք!K18) -> 0 | ... BZ19: =SUM('Երևան քաղաք'!BZ18+Շիրակ!BZ18+Կոտայք!BZ18+Լոռի!BZ18+Արագածոտն!BZ18+Գեղարքունիքի!BZ18+Արմավիր!BZ18+'Արարատի և Վայոց ձոր'!BZ18+Տավուշ!BZ17+Սյունիք!BZ18) -> 0 | CB19: =F19 -> 0 | CC19: =D19+E19 -> 0 | CD19: =L19 -> 1 | CE19: =I19+J19+K19 -> 1 | CF19: =W19 -> 1 | CG19: =O19+P19+Q19+R19+S19+T19+U19+V19 -> 1 | CH19: =L19 -> 1 | CI19: =W19+X19+Y19+Z19+AA19+AB19+AC19 -> 1 | CJ19: =L19 -> 1 | CK19: =AM19+AN19+AO19+AP19+AQ19 -> 1 | CL19: =L19 -> 1 | CM19: =AR19+AS19+AT19+AU19+AV19+AW19+AX19 -> 1 | CN19: =L19 -> 1 | CO19: =AY19+AZ19+BA19 -> 1 | CP19: =BF19 -> 0 | CQ19: =BC19+BD19+BE19 -> 0 | CR19: =BF19 -> 0 | CS19: =BG19+BH19+BI19+BJ19 -> 0 | CT19: =BS19 -> 0 | CU19: =BO19+BP19+BQ19+BR19 -> 0
A20: 1.12 | B20: Հանցանք կատարած անձին բռնելու համար անհրաժեշտ միջոցների սահմանզանցմամբ առողջությանը ծանր կամ միջին ծանրության վնաս պատճառելը | C20: 115 | D20: =SUM('Երևան քաղաք'!D19+Շիրակ!D19+Կոտայք!D19+Լոռի!D19+Արագածոտն!D19+Գեղարքունիքի!D19+Արմավիր!D19+'Արարատի և Վայոց ձոր'!D19+Տավուշ!D18+Սյունիք!D19) -> 0 | E20: =SUM('Երևան քաղաք'!E19+Շիրակ!E19+Կոտայք!E19+Լոռի!E19+Արագածոտն!E19+Գեղարքունիքի!E19+Արմավիր!E19+'Արարատի և Վայոց ձոր'!E19+Տավուշ!E18+Սյունիք!E19) -> 0 | F20: =SUM('Երևան քաղաք'!F19+Շիրակ!F19+Կոտայք!F19+Լոռի!F19+Արագածոտն!F19+Գեղարքունիքի!F19+Արմավիր!F19+'Արարատի և Վայոց ձոր'!F19+Տավուշ!F18+Սյունիք!F19) -> 0 | G20: =SUM('Երևան քաղաք'!G19+Շիրակ!G19+Կոտայք!G19+Լոռի!G19+Արագածոտն!G19+Գեղարքունիքի!G19+Արմավիր!G19+'Արարատի և Վայոց ձոր'!G19+Տավուշ!G18+Սյունիք!G19) -> 0 | H20: =SUM('Երևան քաղաք'!H19+Շիրակ!H19+Կոտայք!H19+Լոռի!H19+Արագածոտն!H19+Գեղարքունիքի!H19+Արմավիր!H19+'Արարատի և Վայոց ձոր'!H19+Տավուշ!H18+Սյունիք!H19) -> 0 | I20: =SUM('Երևան քաղաք'!I19+Շիրակ!I19+Կոտայք!I19+Լոռի!I19+Արագածոտն!I19+Գեղարքունիքի!I19+Արմավիր!I19+'Արարատի և Վայոց ձոր'!I19+Տավուշ!I18+Սյունիք!I19) -> 0 | J20: =SUM('Երևան քաղաք'!J19+Շիրակ!J19+Կոտայք!J19+Լոռի!J19+Արագածոտն!J19+Գեղարքունիքի!J19+Արմավիր!J19+'Արարատի և Վայոց ձոր'!J19+Տավուշ!J18+Սյունիք!J19) -> 0 | K20: =SUM('Երևան քաղաք'!K19+Շիրակ!K19+Կոտայք!K19+Լոռի!K19+Արագածոտն!K19+Գեղարքունիքի!K19+Արմավիր!K19+'Արարատի և Վայոց ձոր'!K19+Տավուշ!K18+Սյունիք!K19) -> 0 | ... BZ20: =SUM('Երևան քաղաք'!BZ19+Շիրակ!BZ19+Կոտայք!BZ19+Լոռի!BZ19+Արագածոտն!BZ19+Գեղարքունիքի!BZ19+Արմավիր!BZ19+'Արարատի և Վայոց ձոր'!BZ19+Տավուշ!BZ18+Սյունիք!BZ19) -> 0 | CB20: =F20 -> 0 | CC20: =D20+E20 -> 0 | CD20: =L20 -> 0 | CE20: =I20+J20+K20 -> 0 | CF20: =W20 -> 0 | CG20: =O20+P20+Q20+R20+S20+T20+U20+V20 -> 0 | CH20: =L20 -> 0 | CI20: =W20+X20+Y20+Z20+AA20+AB20+AC20 -> 0 | CJ20: =L20 -> 0 | CK20: =AM20+AN20+AO20+AP20+AQ20 -> 0 | CL20: =L20 -> 0 | CM20: =AR20+AS20+AT20+AU20+AV20+AW20+AX20 -> 0 | CN20: =L20 -> 0 | CO20: =AY20+AZ20+BA20 -> 0 | CP20: =BF20 -> 0 | CQ20: =BC20+BD20+BE20 -> 0 | CR20: =BF20 -> 0 | CS20: =BG20+BH20+BI20+BJ20 -> 0 | CT20: =BS20 -> 0 | CU20: =BO20+BP20+BQ20+BR20 -> 0
... A34: 1.27 | B34: Բժշկական օգնություն և սպասարկում իրականացնողների կողմից մասնագիտական պարտականությունները չկատարելը կամ ոչ պատշաճ կատարելը | C34: 130 | D34: =SUM('Երևան քաղաք'!D33+Շիրակ!D33+Կոտայք!D33+Լոռի!D33+Արագածոտն!D33+Գեղարքունիքի!D33+Արմավիր!D33+'Արարատի և Վայոց ձոր'!D33+Տավուշ!D32+Սյունիք!D33) -> 0 | E34: =SUM('Երևան քաղաք'!E33+Շիրակ!E33+Կոտայք!E33+Լոռի!E33+Արագածոտն!E33+Գեղարքունիքի!E33+Արմավիր!E33+'Արարատի և Վայոց ձոր'!E33+Տավուշ!E32+Սյունիք!E33) -> 0 | F34: =SUM('Երևան քաղաք'!F33+Շիրակ!F33+Կոտայք!F33+Լոռի!F33+Արագածոտն!F33+Գեղարքունիքի!F33+Արմավիր!F33+'Արարատի և Վայոց ձոր'!F33+Տավուշ!F32+Սյունիք!F33) -> 0 | G34: =SUM('Երևան քաղաք'!G33+Շիրակ!G33+Կոտայք!G33+Լոռի!G33+Արագածոտն!G33+Գեղարքունիքի!G33+Արմավիր!G33+'Արարատի և Վայոց ձոր'!G33+Տավուշ!G32+Սյունիք!G33) -> 0 | H34: =SUM('Երևան քաղաք'!H33+Շիրակ!H33+Կոտայք!H33+Լոռի!H33+Արագածոտն!H33+Գեղարքունիքի!H33+Արմավիր!H33+'Արարատի և Վայոց ձոր'!H33+Տավուշ!H32+Սյունիք!H33) -> 0 | I34: =SUM('Երևան քաղաք'!I33+Շիրակ!I33+Կոտայք!I33+Լոռի!I33+Արագածոտն!I33+Գեղարքունիքի!I33+Արմավիր!I33+'Արարատի և Վայոց ձոր'!I33+Տավուշ!I32+Սյունիք!I33) -> 2 | J34: =SUM('Երևան քաղաք'!J33+Շիրակ!J33+Կոտայք!J33+Լոռի!J33+Արագածոտն!J33+Գեղարքունիքի!J33+Արմավիր!J33+'Արարատի և Վայոց ձոր'!J33+Տավուշ!J32+Սյունիք!J33) -> 0 | K34: =SUM('Երևան քաղաք'!K33+Շիրակ!K33+Կոտայք!K33+Լոռի!K33+Արագածոտն!K33+Գեղարքունիքի!K33+Արմավիր!K33+'Արարատի և Վայոց ձոր'!K33+Տավուշ!K32+Սյունիք!K33) -> 0 | ... BZ34: =SUM('Երևան քաղաք'!BZ33+Շիրակ!BZ33+Կոտայք!BZ33+Լոռի!BZ33+Արագածոտն!BZ33+Գեղարքունիքի!BZ33+Արմավիր!BZ33+'Արարատի և Վայոց ձոր'!BZ33+Տավուշ!BZ32+Սյունիք!BZ33) -> 0 | CB34: =F34 -> 0 | CC34: =D34+E34 -> 0 | CD34: =L34 -> 2 | CE34: =I34+J34+K34 -> 2 | CF34: =W34 -> 2 | CG34: =O34+P34+Q34+R34+S34+T34+U34+V34 -> 2 | CH34: =L34 -> 2 | CI34: =W34+X34+Y34+Z34+AA34+AB34+AC34 -> 2 | CJ34: =L34 -> 2 | CK34: =AM34+AN34+AO34+AP34+AQ34 -> 2 | CL34: =L34 -> 2 | CM34: =AR34+AS34+AT34+AU34+AV34+AW34+AX34 -> 2 | CN34: =L34 -> 2 | CO34: =AY34+AZ34+BA34 -> 2 | CP34: =BF34 -> 0 | CQ34: =BC34+BD34+BE34 -> 0 | CR34: =BF34 -> 0 | CS34: =BG34+BH34+BI34+BJ34 -> 0 | CT34: =BS34 -> 0 | CU34: =BO34+BP34+BQ34+BR34 -> 0
A35: 1.28 | B35: Այլ հանցագործություններ | D35: =SUM('Երևան քաղաք'!D34+Շիրակ!D34+Կոտայք!D34+Լոռի!D34+Արագածոտն!D34+Գեղարքունիքի!D34+Արմավիր!D34+'Արարատի և Վայոց ձոր'!D34+Տավուշ!D33+Սյունիք!D34) -> 0 | E35: =SUM('Երևան քաղաք'!E34+Շիրակ!E34+Կոտայք!E34+Լոռի!E34+Արագածոտն!E34+Գեղարքունիքի!E34+Արմավիր!E34+'Արարատի և Վայոց ձոր'!E34+Տավուշ!E33+Սյունիք!E34) -> 0 | F35: =SUM('Երևան քաղաք'!F34+Շիրակ!F34+Կոտայք!F34+Լոռի!F34+Արագածոտն!F34+Գեղարքունիքի!F34+Արմավիր!F34+'Արարատի և Վայոց ձոր'!F34+Տավուշ!F33+Սյունիք!F34) -> 0 | G35: =SUM('Երևան քաղաք'!G34+Շիրակ!G34+Կոտայք!G34+Լոռի!G34+Արագածոտն!G34+Գեղարքունիքի!G34+Արմավիր!G34+'Արարատի և Վայոց ձոր'!G34+Տավուշ!G33+Սյունիք!G34) -> 0 | H35: =SUM('Երևան քաղաք'!H34+Շիրակ!H34+Կոտայք!H34+Լոռի!H34+Արագածոտն!H34+Գեղարքունիքի!H34+Արմավիր!H34+'Արարատի և Վայոց ձոր'!H34+Տավուշ!H33+Սյունիք!H34) -> 0 | I35: =SUM('Երևան քաղաք'!I34+Շիրակ!I34+Կոտայք!I34+Լոռի!I34+Արագածոտն!I34+Գեղարքունիքի!I34+Արմավիր!I34+'Արարատի և Վայոց ձոր'!I34+Տավուշ!I33+Սյունիք!I34) -> 0 | J35: =SUM('Երևան քաղաք'!J34+Շիրակ!J34+Կոտայք!J34+Լոռի!J34+Արագածոտն!J34+Գեղարքունիքի!J34+Արմավիր!J34+'Արարատի և Վայոց ձոր'!J34+Տավուշ!J33+Սյունիք!J34) -> 0 | K35: =SUM('Երևան քաղաք'!K34+Շիրակ!K34+Կոտայք!K34+Լոռի!K34+Արագածոտն!K34+Գեղարքունիքի!K34+Արմավիր!K34+'Արարատի և Վայոց ձոր'!K34+Տավուշ!K33+Սյունիք!K34) -> 0 | ... BZ35: =SUM('Երևան քաղաք'!BZ34+Շիրակ!BZ34+Կոտայք!BZ34+Լոռի!BZ34+Արագածոտն!BZ34+Գեղարքունիքի!BZ34+Արմավիր!BZ34+'Արարատի և Վայոց ձոր'!BZ34+Տավուշ!BZ33+Սյունիք!BZ34) -> 0 | CB35: =F35 -> 0 | CC35: =D35+E35 -> 0 | CD35: =L35 -> 0 | CE35: =I35+J35+K35 -> 0 | CF35: =W35 -> 0 | CG35: =O35+P35+Q35+R35+S35+T35+U35+V35 -> 0 | CH35: =L35 -> 0 | CI35: =W35+X35+Y35+Z35+AA35+AB35+AC35 -> 0 | CJ35: =L35 -> 0 | CK35: =AM35+AN35+AO35+AP35+AQ35 -> 0 | CL35: =L35 -> 0 | CM35: =AR35+AS35+AT35+AU35+AV35+AW35+AX35 -> 0 | CN35: =L35 -> 0 | CO35: =AY35+AZ35+BA35 -> 0 | CP35: =BF35 -> 0 | CQ35: =BC35+BD35+BE35 -> 0 | CR35: =BF35 -> 0 | CS35: =BG35+BH35+BI35+BJ35 -> 0 | CT35: =BS35 -> 0 | CU35: =BO35+BP35+BQ35+BR35 -> 0
A36: 2. | B36: Ընդամենը անձի ազատության, պատվի և արժանապատվության դեմ ուղղված հանցագործությունները | D36: =SUM('Երևան քաղաք:Սյունիք'!D35) -> 36 | E36: =SUM('Երևան քաղաք:Սյունիք'!E35) -> 52 | F36: =SUM('Երևան քաղաք:Սյունիք'!F35) -> 88 | G36: =SUM('Երևան քաղաք:Սյունիք'!G35) -> 1 | H36: =SUM('Երևան քաղաք:Սյունիք'!H35) -> 3 | I36: =SUM('Երևան քաղաք:Սյունիք'!I35) -> 25 | J36: =SUM('Երևան քաղաք:Սյունիք'!J35) -> 0 | K36: =SUM('Երևան քաղաք:Սյունիք'!K35) -> 0 | ... CA36: =SUM('Երևան քաղաք:Սյունիք'!CA35) -> 0 | CB36: =F36 -> 88 | CC36: =D36+E36 -> 88 | CD36: =L36 -> 25 | CE36: =I36+J36+K36 -> 25 | CF36: =W36 -> 18 | CG36: =O36+P36+Q36+R36+S36+T36+U36+V36 -> 18 | CH36: =L36 -> 25 | CI36: =W36+X36+Y36+Z36+AA36+AB36+AC36 -> 25 | CJ36: =L36 -> 25 | CK36: =AM36+AN36+AO36+AP36+AQ36 -> 25 | CL36: =L36 -> 25 | CM36: =AR36+AS36+AT36+AU36+AV36+AW36+AX36 -> 25 | CN36: =L36 -> 25 | CO36: =AY36+AZ36+BA36 -> 25 | CP36: =BF36 -> 0 | CQ36: =BC36+BD36+BE36 -> 0 | CR36: =BF36 -> 0 | CS36: =BG36+BH36+BI36+BJ36 -> 0 | CT36: =BS36 -> 0 | CU36: =BO36+BP36+BQ36+BR36 -> 0
A37: 2.1 | B37: Մարդուն առևանգելը | C37: 131 | D37: =SUM('Երևան քաղաք'!D36+Շիրակ!D36+Կոտայք!D36+Լոռի!D36+Արագածոտն!D36+Գեղարքունիքի!D36+Արմավիր!D36+'Արարատի և Վայոց ձոր'!D36+Տավուշ!D35+Սյունիք!D36) -> 0 | E37: =SUM('Երևան քաղաք'!E36+Շիրակ!E36+Կոտայք!E36+Լոռի!E36+Արագածոտն!E36+Գեղարքունիքի!E36+Արմավիր!E36+'Արարատի և Վայոց ձոր'!E36+Տավուշ!E35+Սյունիք!E36) -> 2 | F37: =SUM('Երևան քաղաք'!F36+Շիրակ!F36+Կոտայք!F36+Լոռի!F36+Արագածոտն!F36+Գեղարքունիքի!F36+Արմավիր!F36+'Արարատի և Վայոց ձոր'!F36+Տավուշ!F35+Սյունիք!F36) -> 2 | G37: =SUM('Երևան քաղաք'!G36+Շիրակ!G36+Կոտայք!G36+Լոռի!G36+Արագածոտն!G36+Գեղարքունիքի!G36+Արմավիր!G36+'Արարատի և Վայոց ձոր'!G36+Տավուշ!G35+Սյունիք!G36) -> 0 | H37: =SUM('Երևան քաղաք'!H36+Շիրակ!H36+Կոտայք!H36+Լոռի!H36+Արագածոտն!H36+Գեղարքունիքի!H36+Արմավիր!H36+'Արարատի և Վայոց ձոր'!H36+Տավուշ!H35+Սյունիք!H36) -> 1 | I37: =SUM('Երևան քաղաք'!I36+Շիրակ!I36+Կոտայք!I36+Լոռի!I36+Արագածոտն!I36+Գեղարքունիքի!I36+Արմավիր!I36+'Արարատի և Վայոց ձոր'!I36+Տավուշ!I35+Սյունիք!I36) -> 17 | J37: =SUM('Երևան քաղաք'!J36+Շիրակ!J36+Կոտայք!J36+Լոռի!J36+Արագածոտն!J36+Գեղարքունիքի!J36+Արմավիր!J36+'Արարատի և Վայոց ձոր'!J36+Տավուշ!J35+Սյունիք!J36) -> 0 | K37: =SUM('Երևան քաղաք'!K36+Շիրակ!K36+Կոտայք!K36+Լոռի!K36+Արագածոտն!K36+Գեղարքունիքի!K36+Արմավիր!K36+'Արարատի և Վայոց ձոր'!K36+Տավուշ!K35+Սյունիք!K36) -> 0 | ... BZ37: =SUM('Երևան քաղաք'!BZ36+Շիրակ!BZ36+Կոտայք!BZ36+Լոռի!BZ36+Արագածոտն!BZ36+Գեղարքունիքի!BZ36+Արմավիր!BZ36+'Արարատի և Վայոց ձոր'!BZ36+Տավուշ!BZ35+Սյունիք!BZ36) -> 5 | CB37: =F37 -> 2 | CC37: =D37+E37 -> 2 | CD37: =L37 -> 17 | CE37: =I37+J37+K37 -> 17 | CF37: =W37 -> 17 | CG37: =O37+P37+Q37+R37+S37+T37+U37+V37 -> 17 | CH37: =L37 -> 17 | CI37: =W37+X37+Y37+Z37+AA37+AB37+AC37 -> 17 | CJ37: =L37 -> 17 | CK37: =AM37+AN37+AO37+AP37+AQ37 -> 17 | CL37: =L37 -> 17 | CM37: =AR37+AS37+AT37+AU37+AV37+AW37+AX37 -> 17 | CN37: =L37 -> 17 | CO37: =AY37+AZ37+BA37 -> 17 | CP37: =BF37 -> 0 | CQ37: =BC37+BD37+BE37 -> 0 | CR37: =BF37 -> 0 | CS37: =BG37+BH37+BI37+BJ37 -> 0 | CT37: =BS37 -> 0 | CU37: =BO37+BP37+BQ37+BR37 -> 0
A38: 2.2 | B38: Մարդու թրաֆիքինգը կամ շահագործումը | C38: 132 | D38: =SUM('Երևան քաղաք'!D37+Շիրակ!D37+Կոտայք!D37+Լոռի!D37+Արագածոտն!D37+Գեղարքունիքի!D37+Արմավիր!D37+'Արարատի և Վայոց ձոր'!D37+Տավուշ!D36+Սյունիք!D37) -> 0 | E38: =SUM('Երևան քաղաք'!E37+Շիրակ!E37+Կոտայք!E37+Լոռի!E37+Արագածոտն!E37+Գեղարքունիքի!E37+Արմավիր!E37+'Արարատի և Վայոց ձոր'!E37+Տավուշ!E36+Սյունիք!E37) -> 0 | F38: =SUM('Երևան քաղաք'!F37+Շիրակ!F37+Կոտայք!F37+Լոռի!F37+Արագածոտն!F37+Գեղարքունիքի!F37+Արմավիր!F37+'Արարատի և Վայոց ձոր'!F37+Տավուշ!F36+Սյունիք!F37) -> 0 | G38: =SUM('Երևան քաղաք'!G37+Շիրակ!G37+Կոտայք!G37+Լոռի!G37+Արագածոտն!G37+Գեղարքունիքի!G37+Արմավիր!G37+'Արարատի և Վայոց ձոր'!G37+Տավուշ!G36+Սյունիք!G37) -> 0 | H38: =SUM('Երևան քաղաք'!H37+Շիրակ!H37+Կոտայք!H37+Լոռի!H37+Արագածոտն!H37+Գեղարքունիքի!H37+Արմավիր!H37+'Արարատի և Վայոց ձոր'!H37+Տավուշ!H36+Սյունիք!H37) -> 0 | I38: =SUM('Երևան քաղաք'!I37+Շիրակ!I37+Կոտայք!I37+Լոռի!I37+Արագածոտն!I37+Գեղարքունիքի!I37+Արմավիր!I37+'Արարատի և Վայոց ձոր'!I37+Տավուշ!I36+Սյունիք!I37) -> 1 | J38: =SUM('Երևան քաղաք'!J37+Շիրակ!J37+Կոտայք!J37+Լոռի!J37+Արագածոտն!J37+Գեղարքունիքի!J37+Արմավիր!J37+'Արարատի և Վայոց ձոր'!J37+Տավուշ!J36+Սյունիք!J37) -> 0 | K38: =SUM('Երևան քաղաք'!K37+Շիրակ!K37+Կոտայք!K37+Լոռի!K37+Արագածոտն!K37+Գեղարքունիքի!K37+Արմավիր!K37+'Արարատի և Վայոց ձոր'!K37+Տավուշ!K36+Սյունիք!K37) -> 0 | ... BZ38: =SUM('Երևան քաղաք'!BZ37+Շիրակ!BZ37+Կոտայք!BZ37+Լոռի!BZ37+Արագածոտն!BZ37+Գեղարքունիքի!BZ37+Արմավիր!BZ37+'Արարատի և Վայոց ձոր'!BZ37+Տավուշ!BZ36+Սյունիք!BZ37) -> 0 | CB38: =F38 -> 0 | CC38: =D38+E38 -> 0 | CD38: =L38 -> 1 | CE38: =I38+J38+K38 -> 1 | CF38: =W38 -> 1 | CG38: =O38+P38+Q38+R38+S38+T38+U38+V38 -> 1 | CH38: =L38 -> 1 | CI38: =W38+X38+Y38+Z38+AA38+AB38+AC38 -> 1 | CJ38: =L38 -> 1 | CK38: =AM38+AN38+AO38+AP38+AQ38 -> 1 | CL38: =L38 -> 1 | CM38: =AR38+AS38+AT38+AU38+AV38+AW38+AX38 -> 1 | CN38: =L38 -> 1 | CO38: =AY38+AZ38+BA38 -> 1 | CP38: =BF38 -> 0 | CQ38: =BC38+BD38+BE38 -> 0 | CR38: =BF38 -> 0 | CS38: =BG38+BH38+BI38+BJ38 -> 0 | CT38: =BS38 -> 0 | CU38: =BO38+BP38+BQ38+BR38 -> 0
A39: 2.2.2 | B39: Երեխայի կամ հոգեկան խանգարման հետևանքով իր արարքի բնույթն ու նշանակությունը գիտակցելու կամ դա ղեկավարելու հնարավորությունից զրկված անձի թրաֆիքինգը կամ շահագործումը | C39: 132.2 | D39: =SUM('Երևան քաղաք'!D38+Շիրակ!D38+Կոտայք!D38+Լոռի!D38+Արագածոտն!D38+Գեղարքունիքի!D38+Արմավիր!D38+'Արարատի և Վայոց ձոր'!D38+Տավուշ!D37+Սյունիք!D38) -> 0 | E39: =SUM('Երևան քաղաք'!E38+Շիրակ!E38+Կոտայք!E38+Լոռի!E38+Արագածոտն!E38+Գեղարքունիքի!E38+Արմավիր!E38+'Արարատի և Վայոց ձոր'!E38+Տավուշ!E37+Սյունիք!E38) -> 0 | F39: =SUM('Երևան քաղաք'!F38+Շիրակ!F38+Կոտայք!F38+Լոռի!F38+Արագածոտն!F38+Գեղարքունիքի!F38+Արմավիր!F38+'Արարատի և Վայոց ձոր'!F38+Տավուշ!F37+Սյունիք!F38) -> 0 | G39: =SUM('Երևան քաղաք'!G38+Շիրակ!G38+Կոտայք!G38+Լոռի!G38+Արագածոտն!G38+Գեղարքունիքի!G38+Արմավիր!G38+'Արարատի և Վայոց ձոր'!G38+Տավուշ!G37+Սյունիք!G38) -> 0 | H39: =SUM('Երևան քաղաք'!H38+Շիրակ!H38+Կոտայք!H38+Լոռի!H38+Արագածոտն!H38+Գեղարքունիքի!H38+Արմավիր!H38+'Արարատի և Վայոց ձոր'!H38+Տավուշ!H37+Սյունիք!H38) -> 0 | I39: =SUM('Երևան քաղաք'!I38+Շիրակ!I38+Կոտայք!I38+Լոռի!I38+Արագածոտն!I38+Գեղարքունիքի!I38+Արմավիր!I38+'Արարատի և Վայոց ձոր'!I38+Տավուշ!I37+Սյունիք!I38) -> 0 | J39: =SUM('Երևան քաղաք'!J38+Շիրակ!J38+Կոտայք!J38+Լոռի!J38+Արագածոտն!J38+Գեղարքունիքի!J38+Արմավիր!J38+'Արարատի և Վայոց ձոր'!J38+Տավուշ!J37+Սյունիք!J38) -> 0 | K39: =SUM('Երևան քաղաք'!K38+Շիրակ!K38+Կոտայք!K38+Լոռի!K38+Արագածոտն!K38+Գեղարքունիքի!K38+Արմավիր!K38+'Արարատի և Վայոց ձոր'!K38+Տավուշ!K37+Սյունիք!K38) -> 0 | ... BZ39: =SUM('Երևան քաղաք'!BZ38+Շիրակ!BZ38+Կոտայք!BZ38+Լոռի!BZ38+Արագածոտն!BZ38+Գեղարքունիքի!BZ38+Արմավիր!BZ38+'Արարատի և Վայոց ձոր'!BZ38+Տավուշ!BZ37+Սյունիք!BZ38) -> 0 | CB39: =F39 -> 0 | CC39: =D39+E39 -> 0 | CD39: =L39 -> 0 | CE39: =I39+J39+K39 -> 0 | CF39: =W39 -> 0 | CG39: =O39+P39+Q39+R39+S39+T39+U39+V39 -> 0 | CH39: =L39 -> 0 | CI39: =W39+X39+Y39+Z39+AA39+AB39+AC39 -> 0 | CJ39: =L39 -> 0 | CK39: =AM39+AN39+AO39+AP39+AQ39 -> 0 | CL39: =L39 -> 0 | CM39: =AR39+AS39+AT39+AU39+AV39+AW39+AX39 -> 0 | CN39: =L39 -> 0 | CO39: =AY39+AZ39+BA39 -> 0 | CP39: =BF39 -> 0 | CQ39: =BC39+BD39+BE39 -> 0 | CR39: =BF39 -> 0 | CS39: =BG39+BH39+BI39+BJ39 -> 0 | CT39: =BS39 -> 0 | CU39: =BO39+BP39+BQ39+BR39 -> 0
A40: 2.2.3 | B40: Շահագործման վիճակում գտնվող անձի ծառայությունից օգտվելը | C40: 132.3 | D40: =SUM('Երևան քաղաք'!D39+Շիրակ!D39+Կոտայք!D39+Լոռի!D39+Արագածոտն!D39+Գեղարքունիքի!D39+Արմավիր!D39+'Արարատի և Վայոց ձոր'!D39+Տավուշ!D38+Սյունիք!D39) -> 0 | E40: =SUM('Երևան քաղաք'!E39+Շիրակ!E39+Կոտայք!E39+Լոռի!E39+Արագածոտն!E39+Գեղարքունիքի!E39+Արմավիր!E39+'Արարատի և Վայոց ձոր'!E39+Տավուշ!E38+Սյունիք!E39) -> 0 | F40: =SUM('Երևան քաղաք'!F39+Շիրակ!F39+Կոտայք!F39+Լոռի!F39+Արագածոտն!F39+Գեղարքունիքի!F39+Արմավիր!F39+'Արարատի և Վայոց ձոր'!F39+Տավուշ!F38+Սյունիք!F39) -> 0 | G40: =SUM('Երևան քաղաք'!G39+Շիրակ!G39+Կոտայք!G39+Լոռի!G39+Արագածոտն!G39+Գեղարքունիքի!G39+Արմավիր!G39+'Արարատի և Վայոց ձոր'!G39+Տավուշ!G38+Սյունիք!G39) -> 0 | H40: =SUM('Երևան քաղաք'!H39+Շիրակ!H39+Կոտայք!H39+Լոռի!H39+Արագածոտն!H39+Գեղարքունիքի!H39+Արմավիր!H39+'Արարատի և Վայոց ձոր'!H39+Տավուշ!H38+Սյունիք!H39) -> 0 | I40: =SUM('Երևան քաղաք'!I39+Շիրակ!I39+Կոտայք!I39+Լոռի!I39+Արագածոտն!I39+Գեղարքունիքի!I39+Արմավիր!I39+'Արարատի և Վայոց ձոր'!I39+Տավուշ!I38+Սյունիք!I39) -> 0 | J40: =SUM('Երևան քաղաք'!J39+Շիրակ!J39+Կոտայք!J39+Լոռի!J39+Արագածոտն!J39+Գեղարքունիքի!J39+Արմավիր!J39+'Արարատի և Վայոց ձոր'!J39+Տավուշ!J38+Սյունիք!J39) -> 0 | K40: =SUM('Երևան քաղաք'!K39+Շիրակ!K39+Կոտայք!K39+Լոռի!K39+Արագածոտն!K39+Գեղարքունիքի!K39+Արմավիր!K39+'Արարատի և Վայոց ձոր'!K39+Տավուշ!K38+Սյունիք!K39) -> 0 | ... BZ40: =SUM('Երևան քաղաք'!BZ39+Շիրակ!BZ39+Կոտայք!BZ39+Լոռի!BZ39+Արագածոտն!BZ39+Գեղարքունիքի!BZ39+Արմավիր!BZ39+'Արարատի և Վայոց ձոր'!BZ39+Տավուշ!BZ38+Սյունիք!BZ39) -> 0 | CB40: =F40 -> 0 | CC40: =D40+E40 -> 0 | CD40: =L40 -> 0 | CE40: =I40+J40+K40 -> 0 | CF40: =W40 -> 0 | CG40: =O40+P40+Q40+R40+S40+T40+U40+V40 -> 0 | CH40: =L40 -> 0 | CI40: =W40+X40+Y40+Z40+AA40+AB40+AC40 -> 0 | CJ40: =L40 -> 0 | CK40: =AM40+AN40+AO40+AP40+AQ40 -> 0 | CL40: =L40 -> 0 | CM40: =AR40+AS40+AT40+AU40+AV40+AW40+AX40 -> 0 | CN40: =L40 -> 0 | CO40: =AY40+AZ40+BA40 -> 0 | CP40: =BF40 -> 0 | CQ40: =BC40+BD40+BE40 -> 0 | CR40: =BF40 -> 0 | CS40: =BG40+BH40+BI40+BJ40 -> 0 | CT40: =BS40 -> 0 | CU40: =BO40+BP40+BQ40+BR40 -> 0
A41: 2.3 | B41: Ազատությունից ապօրինի զրկելը | C41: 133 | D41: =SUM('Երևան քաղաք'!D40+Շիրակ!D40+Կոտայք!D40+Լոռի!D40+Արագածոտն!D40+Գեղարքունիքի!D40+Արմավիր!D40+'Արարատի և Վայոց ձոր'!D40+Տավուշ!D39+Սյունիք!D40) -> 0 | E41: =SUM('Երևան քաղաք'!E40+Շիրակ!E40+Կոտայք!E40+Լոռի!E40+Արագածոտն!E40+Գեղարքունիքի!E40+Արմավիր!E40+'Արարատի և Վայոց ձոր'!E40+Տավուշ!E39+Սյունիք!E40) -> 2 | F41: =SUM('Երևան քաղաք'!F40+Շիրակ!F40+Կոտայք!F40+Լոռի!F40+Արագածոտն!F40+Գեղարքունիքի!F40+Արմավիր!F40+'Արարատի և Վայոց ձոր'!F40+Տավուշ!F39+Սյունիք!F40) -> 2 | G41: =SUM('Երևան քաղաք'!G40+Շիրակ!G40+Կոտայք!G40+Լոռի!G40+Արագածոտն!G40+Գեղարքունիքի!G40+Արմավիր!G40+'Արարատի և Վայոց ձոր'!G40+Տավուշ!G39+Սյունիք!G40) -> 0 | H41: =SUM('Երևան քաղաք'!H40+Շիրակ!H40+Կոտայք!H40+Լոռի!H40+Արագածոտն!H40+Գեղարքունիքի!H40+Արմավիր!H40+'Արարատի և Վայոց ձոր'!H40+Տավուշ!H39+Սյունիք!H40) -> 0 | I41: =SUM('Երևան քաղաք'!I40+Շիրակ!I40+Կոտայք!I40+Լոռի!I40+Արագածոտն!I40+Գեղարքունիքի!I40+Արմավիր!I40+'Արարատի և Վայոց ձոր'!I40+Տավուշ!I39+Սյունիք!I40) -> 0 | J41: =SUM('Երևան քաղաք'!J40+Շիրակ!J40+Կոտայք!J40+Լոռի!J40+Արագածոտն!J40+Գեղարքունիքի!J40+Արմավիր!J40+'Արարատի և Վայոց ձոր'!J40+Տավուշ!J39+Սյունիք!J40) -> 0 | K41: =SUM('Երևան քաղաք'!K40+Շիրակ!K40+Կոտայք!K40+Լոռի!K40+Արագածոտն!K40+Գեղարքունիքի!K40+Արմավիր!K40+'Արարատի և Վայոց ձոր'!K40+Տավուշ!K39+Սյունիք!K40) -> 0 | ... BZ41: =SUM('Երևան քաղաք'!BZ40+Շիրակ!BZ40+Կոտայք!BZ40+Լոռի!BZ40+Արագածոտն!BZ40+Գեղարքունիքի!BZ40+Արմավիր!BZ40+'Արարատի և Վայոց ձոր'!BZ40+Տավուշ!BZ39+Սյունիք!BZ40) -> 0 | CB41: =F41 -> 2 | CC41: =D41+E41 -> 2 | CD41: =L41 -> 0 | CE41: =I41+J41+K41 -> 0 | CF41: =W41 -> 0 | CG41: =O41+P41+Q41+R41+S41+T41+U41+V41 -> 0 | CH41: =L41 -> 0 | CI41: =W41+X41+Y41+Z41+AA41+AB41+AC41 -> 0 | CJ41: =L41 -> 0 | CK41: =AM41+AN41+AO41+AP41+AQ41 -> 0 | CL41: =L41 -> 0 | CM41: =AR41+AS41+AT41+AU41+AV41+AW41+AX41 -> 0 | CN41: =L41 -> 0 | CO41: =AY41+AZ41+BA41 -> 0 | CP41: =BF41 -> 0 | CQ41: =BC41+BD41+BE41 -> 0 | CR41: =BF41 -> 0 | CS41: =BG41+BH41+BI41+BJ41 -> 0 | CT41: =BS41 -> 0 | CU41: =BO41+BP41+BQ41+BR41 -> 0
A42: 2.4 | B42: Հոգեբուժական հիվանդանոցում ապօրինի տեղավորելը կամ պահելը | C42: 134 | D42: =SUM('Երևան քաղաք'!D41+Շիրակ!D41+Կոտայք!D41+Լոռի!D41+Արագածոտն!D41+Գեղարքունիքի!D41+Արմավիր!D41+'Արարատի և Վայոց ձոր'!D41+Տավուշ!D40+Սյունիք!D41) -> 0 | E42: =SUM('Երևան քաղաք'!E41+Շիրակ!E41+Կոտայք!E41+Լոռի!E41+Արագածոտն!E41+Գեղարքունիքի!E41+Արմավիր!E41+'Արարատի և Վայոց ձոր'!E41+Տավուշ!E40+Սյունիք!E41) -> 0 | F42: =SUM('Երևան քաղաք'!F41+Շիրակ!F41+Կոտայք!F41+Լոռի!F41+Արագածոտն!F41+Գեղարքունիքի!F41+Արմավիր!F41+'Արարատի և Վայոց ձոր'!F41+Տավուշ!F40+Սյունիք!F41) -> 0 | G42: =SUM('Երևան քաղաք'!G41+Շիրակ!G41+Կոտայք!G41+Լոռի!G41+Արագածոտն!G41+Գեղարքունիքի!G41+Արմավիր!G41+'Արարատի և Վայոց ձոր'!G41+Տավուշ!G40+Սյունիք!G41) -> 0 | H42: =SUM('Երևան քաղաք'!H41+Շիրակ!H41+Կոտայք!H41+Լոռի!H41+Արագածոտն!H41+Գեղարքունիքի!H41+Արմավիր!H41+'Արարատի և Վայոց ձոր'!H41+Տավուշ!H40+Սյունիք!H41) -> 0 | I42: =SUM('Երևան քաղաք'!I41+Շիրակ!I41+Կոտայք!I41+Լոռի!I41+Արագածոտն!I41+Գեղարքունիքի!I41+Արմավիր!I41+'Արարատի և Վայոց ձոր'!I41+Տավուշ!I40+Սյունիք!I41) -> 0 | J42: =SUM('Երևան քաղաք'!J41+Շիրակ!J41+Կոտայք!J41+Լոռի!J41+Արագածոտն!J41+Գեղարքունիքի!J41+Արմավիր!J41+'Արարատի և Վայոց ձոր'!J41+Տավուշ!J40+Սյունիք!J41) -> 0 | K42: =SUM('Երևան քաղաք'!K41+Շիրակ!K41+Կոտայք!K41+Լոռի!K41+Արագածոտն!K41+Գեղարքունիքի!K41+Արմավիր!K41+'Արարատի և Վայոց ձոր'!K41+Տավուշ!K40+Սյունիք!K41) -> 0 | ... BZ42: =SUM('Երևան քաղաք'!BZ41+Շիրակ!BZ41+Կոտայք!BZ41+Լոռի!BZ41+Արագածոտն!BZ41+Գեղարքունիքի!BZ41+Արմավիր!BZ41+'Արարատի և Վայոց ձոր'!BZ41+Տավուշ!BZ40+Սյունիք!BZ41) -> 0 | CB42: =F42 -> 0 | CC42: =D42+E42 -> 0 | CD42: =L42 -> 0 | CE42: =I42+J42+K42 -> 0 | CF42: =W42 -> 0 | CG42: =O42+P42+Q42+R42+S42+T42+U42+V42 -> 0 | CH42: =L42 -> 0 | CI42: =W42+X42+Y42+Z42+AA42+AB42+AC42 -> 0 | CJ42: =L42 -> 0 | CK42: =AM42+AN42+AO42+AP42+AQ42 -> 0 | CL42: =L42 -> 0 | CM42: =AR42+AS42+AT42+AU42+AV42+AW42+AX42 -> 0 | CN42: =L42 -> 0 | CO42: =AY42+AZ42+BA42 -> 0 | CP42: =BF42 -> 0 | CQ42: =BC42+BD42+BE42 -> 0 | CR42: =BF42 -> 0 | CS42: =BG42+BH42+BI42+BJ42 -> 0 | CT42: =BS42 -> 0 | CU42: =BO42+BP42+BQ42+BR42 -> 0
A43: 2.7 | B43: Սպանության, առողջությանը ծանր վնաս պատճառելու կամ գույք ոչնչացնելու սպառնալիքը | C43: 137 | D43: =SUM('Երևան քաղաք'!D42+Շիրակ!D42+Կոտայք!D42+Լոռի!D42+Արագածոտն!D42+Գեղարքունիքի!D42+Արմավիր!D42+'Արարատի և Վայոց ձոր'!D42+Տավուշ!D41+Սյունիք!D42) -> 3 | E43: =SUM('Երևան քաղաք'!E42+Շիրակ!E42+Կոտայք!E42+Լոռի!E42+Արագածոտն!E42+Գեղարքունիքի!E42+Արմավիր!E42+'Արարատի և Վայոց ձոր'!E42+Տավուշ!E41+Սյունիք!E42) -> 6 | F43: =SUM('Երևան քաղաք'!F42+Շիրակ!F42+Կոտայք!F42+Լոռի!F42+Արագածոտն!F42+Գեղարքունիքի!F42+Արմավիր!F42+'Արարատի և Վայոց ձոր'!F42+Տավուշ!F41+Սյունիք!F42) -> 9 | G43: =SUM('Երևան քաղաք'!G42+Շիրակ!G42+Կոտայք!G42+Լոռի!G42+Արագածոտն!G42+Գեղարքունիքի!G42+Արմավիր!G42+'Արարատի և Վայոց ձոր'!G42+Տավուշ!G41+Սյունիք!G42) -> 1 | H43: =SUM('Երևան քաղաք'!H42+Շիրակ!H42+Կոտայք!H42+Լոռի!H42+Արագածոտն!H42+Գեղարքունիքի!H42+Արմավիր!H42+'Արարատի և Վայոց ձոր'!H42+Տավուշ!H41+Սյունիք!H42) -> 1 | I43: =SUM('Երևան քաղաք'!I42+Շիրակ!I42+Կոտայք!I42+Լոռի!I42+Արագածոտն!I42+Գեղարքունիքի!I42+Արմավիր!I42+'Արարատի և Վայոց ձոր'!I42+Տավուշ!I41+Սյունիք!I42) -> 5 | J43: =SUM('Երևան քաղաք'!J42+Շիրակ!J42+Կոտայք!J42+Լոռի!J42+Արագածոտն!J42+Գեղարքունիքի!J42+Արմավիր!J42+'Արարատի և Վայոց ձոր'!J42+Տավուշ!J41+Սյունիք!J42) -> 0 | K43: =SUM('Երևան քաղաք'!K42+Շիրակ!K42+Կոտայք!K42+Լոռի!K42+Արագածոտն!K42+Գեղարքունիքի!K42+Արմավիր!K42+'Արարատի և Վայոց ձոր'!K42+Տավուշ!K41+Սյունիք!K42) -> 0 | ... BZ43: =SUM('Երևան քաղաք'!BZ42+Շիրակ!BZ42+Կոտայք!BZ42+Լոռի!BZ42+Արագածոտն!BZ42+Գեղարքունիքի!BZ42+Արմավիր!BZ42+'Արարատի և Վայոց ձոր'!BZ42+Տավուշ!BZ41+Սյունիք!BZ42) -> 6 | CB43: =F43 -> 9 | CC43: =D43+E43 -> 9 | CD43: =L43 -> 5 | CE43: =I43+J43+K43 -> 5 | CF43: =W43 -> 1 | CG43: =O43+P43+Q43+R43+S43+T43+U43+V43 -> 1 | CH43: =L43 -> 5 | CI43: =W43+X43+Y43+Z43+AA43+AB43+AC43 -> 5 | CJ43: =L43 -> 5 | CK43: =AM43+AN43+AO43+AP43+AQ43 -> 5 | CL43: =L43 -> 5 | CM43: =AR43+AS43+AT43+AU43+AV43+AW43+AX43 -> 5 | CN43: =L43 -> 5 | CO43: =AY43+AZ43+BA43 -> 5 | CP43: =BF43 -> 0 | CQ43: =BC43+BD43+BE43 -> 0 | CR43: =BF43 -> 0 | CS43: =BG43+BH43+BI43+BJ43 -> 0 | CT43: =BS43 -> 0 | CU43: =BO43+BP43+BQ43+BR43 -> 0
A44: 2.8 | B44: Այլ հանցագործություններ | D44: =SUM('Երևան քաղաք'!D43+Շիրակ!D43+Կոտայք!D43+Լոռի!D43+Արագածոտն!D43+Գեղարքունիքի!D43+Արմավիր!D43+'Արարատի և Վայոց ձոր'!D43+Տավուշ!D42+Սյունիք!D43) -> 33 | E44: =SUM('Երևան քաղաք'!E43+Շիրակ!E43+Կոտայք!E43+Լոռի!E43+Արագածոտն!E43+Գեղարքունիքի!E43+Արմավիր!E43+'Արարատի և Վայոց ձոր'!E43+Տավուշ!E42+Սյունիք!E43) -> 42 | F44: =SUM('Երևան քաղաք'!F43+Շիրակ!F43+Կոտայք!F43+Լոռի!F43+Արագածոտն!F43+Գեղարքունիքի!F43+Արմավիր!F43+'Արարատի և Վայոց ձոր'!F43+Տավուշ!F42+Սյունիք!F43) -> 75 | G44: =SUM('Երևան քաղաք'!G43+Շիրակ!G43+Կոտայք!G43+Լոռի!G43+Արագածոտն!G43+Գեղարքունիքի!G43+Արմավիր!G43+'Արարատի և Վայոց ձոր'!G43+Տավուշ!G42+Սյունիք!G43) -> 0 | H44: =SUM('Երևան քաղաք'!H43+Շիրակ!H43+Կոտայք!H43+Լոռի!H43+Արագածոտն!H43+Գեղարքունիքի!H43+Արմավիր!H43+'Արարատի և Վայոց ձոր'!H43+Տավուշ!H42+Սյունիք!H43) -> 1 | I44: =SUM('Երևան քաղաք'!I43+Շիրակ!I43+Կոտայք!I43+Լոռի!I43+Արագածոտն!I43+Գեղարքունիքի!I43+Արմավիր!I43+'Արարատի և Վայոց ձոր'!I43+Տավուշ!I42+Սյունիք!I43) -> 3 | J44: =SUM('Երևան քաղաք'!J43+Շիրակ!J43+Կոտայք!J43+Լոռի!J43+Արագածոտն!J43+Գեղարքունիքի!J43+Արմավիր!J43+'Արարատի և Վայոց ձոր'!J43+Տավուշ!J42+Սյունիք!J43) -> 0 | K44: =SUM('Երևան քաղաք'!K43+Շիրակ!K43+Կոտայք!K43+Լոռի!K43+Արագածոտն!K43+Գեղարքունիքի!K43+Արմավիր!K43+'Արարատի և Վայոց ձոր'!K43+Տավուշ!K42+Սյունիք!K43) -> 0 | ... BZ44: =SUM('Երևան քաղաք'!BZ43+Շիրակ!BZ43+Կոտայք!BZ43+Լոռի!BZ43+Արագածոտն!BZ43+Գեղարքունիքի!BZ43+Արմավիր!BZ43+'Արարատի և Վայոց ձոր'!BZ43+Տավուշ!BZ42+Սյունիք!BZ43) -> 0 | CB44: =F44 -> 75 | CC44: =D44+E44 -> 75 | CD44: =L44 -> 3 | CE44: =I44+J44+K44 -> 3 | CF44: =W44 -> 0 | CG44: =O44+P44+Q44+R44+S44+T44+U44+V44 -> 0 | CH44: =L44 -> 3 | CI44: =W44+X44+Y44+Z44+AA44+AB44+AC44 -> 3 | CJ44: =L44 -> 3 | CK44: =AM44+AN44+AO44+AP44+AQ44 -> 3 | CL44: =L44 -> 3 | CM44: =AR44+AS44+AT44+AU44+AV44+AW44+AX44 -> 3 | CN44: =L44 -> 3 | CO44: =AY44+AZ44+BA44 -> 3 | CP44: =BF44 -> 0 | CQ44: =BC44+BD44+BE44 -> 0 | CR44: =BF44 -> 0 | CS44: =BG44+BH44+BI44+BJ44 -> 0 | CT44: =BS44 -> 0 | CU44: =BO44+BP44+BQ44+BR44 -> 0
A45: 3. | B45: Ընդամենը սեռական անձեռնմխելիության և սեռական ազատության դեմ ուղղված հանցագործությունները | D45: =SUM('Երևան քաղաք:Սյունիք'!D44) -> 0 | E45: =SUM('Երևան քաղաք:Սյունիք'!E44) -> 0 | F45: =SUM('Երևան քաղաք:Սյունիք'!F44) -> 0 | G45: =SUM('Երևան քաղաք:Սյունիք'!G44) -> 0 | H45: =SUM('Երևան քաղաք:Սյունիք'!H44) -> 0 | I45: =SUM('Երևան քաղաք:Սյունիք'!I44) -> 11 | J45: =SUM('Երևան քաղաք:Սյունիք'!J44) -> 1 | K45: =SUM('Երևան քաղաք:Սյունիք'!K44) -> 0 | ... BZ45: =SUM('Երևան քաղաք:Սյունիք'!BZ44) -> 10 | CB45: =F45 -> 0 | CC45: =D45+E45 -> 0 | CD45: =L45 -> 12 | CE45: =I45+J45+K45 -> 12 | CF45: =W45 -> 12 | CG45: =O45+P45+Q45+R45+S45+T45+U45+V45 -> 12 | CH45: =L45 -> 12 | CI45: =W45+X45+Y45+Z45+AA45+AB45+AC45 -> 12 | CJ45: =L45 -> 12 | CK45: =AM45+AN45+AO45+AP45+AQ45 -> 12 | CL45: =L45 -> 12 | CM45: =AR45+AS45+AT45+AU45+AV45+AW45+AX45 -> 12 | CN45: =L45 -> 12 | CO45: =AY45+AZ45+BA45 -> 12 | CP45: =BF45 -> 2 | CQ45: =BC45+BD45+BE45 -> 2 | CR45: =BF45 -> 2 | CS45: =BG45+BH45+BI45+BJ45 -> 2 | CT45: =BS45 -> 1 | CU45: =BO45+BP45+BQ45+BR45 -> 1
A46: 3.1 | B46: Բռնաբարությունը | C46: 138 | D46: =SUM('Երևան քաղաք'!D45+Շիրակ!D45+Կոտայք!D45+Լոռի!D45+Արագածոտն!D45+Գեղարքունիքի!D45+Արմավիր!D45+'Արարատի և Վայոց ձոր'!D45+Տավուշ!D44+Սյունիք!D45) -> 0 | E46: =SUM('Երևան քաղաք'!E45+Շիրակ!E45+Կոտայք!E45+Լոռի!E45+Արագածոտն!E45+Գեղարքունիքի!E45+Արմավիր!E45+'Արարատի և Վայոց ձոր'!E45+Տավուշ!E44+Սյունիք!E45) -> 0 | F46: =SUM('Երևան քաղաք'!F45+Շիրակ!F45+Կոտայք!F45+Լոռի!F45+Արագածոտն!F45+Գեղարքունիքի!F45+Արմավիր!F45+'Արարատի և Վայոց ձոր'!F45+Տավուշ!F44+Սյունիք!F45) -> 0 | G46: =SUM('Երևան քաղաք'!G45+Շիրակ!G45+Կոտայք!G45+Լոռի!G45+Արագածոտն!G45+Գեղարքունիքի!G45+Արմավիր!G45+'Արարատի և Վայոց ձոր'!G45+Տավուշ!G44+Սյունիք!G45) -> 0 | H46: =SUM('Երևան քաղաք'!H45+Շիրակ!H45+Կոտայք!H45+Լոռի!H45+Արագածոտն!H45+Գեղարքունիքի!H45+Արմավիր!H45+'Արարատի և Վայոց ձոր'!H45+Տավուշ!H44+Սյունիք!H45) -> 0 | I46: =SUM('Երևան քաղաք'!I45+Շիրակ!I45+Կոտայք!I45+Լոռի!I45+Արագածոտն!I45+Գեղարքունիքի!I45+Արմավիր!I45+'Արարատի և Վայոց ձոր'!I45+Տավուշ!I44+Սյունիք!I45) -> 4 | J46: =SUM('Երևան քաղաք'!J45+Շիրակ!J45+Կոտայք!J45+Լոռի!J45+Արագածոտն!J45+Գեղարքունիքի!J45+Արմավիր!J45+'Արարատի և Վայոց ձոր'!J45+Տավուշ!J44+Սյունիք!J45) -> 0 | K46: =SUM('Երևան քաղաք'!K45+Շիրակ!K45+Կոտայք!K45+Լոռի!K45+Արագածոտն!K45+Գեղարքունիքի!K45+Արմավիր!K45+'Արարատի և Վայոց ձոր'!K45+Տավուշ!K44+Սյունիք!K45) -> 0 | ... BZ46: =SUM('Երևան քաղաք'!BZ45+Շիրակ!BZ45+Կոտայք!BZ45+Լոռի!BZ45+Արագածոտն!BZ45+Գեղարքունիքի!BZ45+Արմավիր!BZ45+'Արարատի և Վայոց ձոր'!BZ45+Տավուշ!BZ44+Սյունիք!BZ45) -> 0 | CB46: =F46 -> 0 | CC46: =D46+E46 -> 0 | CD46: =L46 -> 4 | CE46: =I46+J46+K46 -> 4 | CF46: =W46 -> 4 | CG46: =O46+P46+Q46+R46+S46+T46+U46+V46 -> 4 | CH46: =L46 -> 4 | CI46: =W46+X46+Y46+Z46+AA46+AB46+AC46 -> 4 | CJ46: =L46 -> 4 | CK46: =AM46+AN46+AO46+AP46+AQ46 -> 4 | CL46: =L46 -> 4 | CM46: =AR46+AS46+AT46+AU46+AV46+AW46+AX46 -> 4 | CN46: =L46 -> 4 | CO46: =AY46+AZ46+BA46 -> 4 | CP46: =BF46 -> 0 | CQ46: =BC46+BD46+BE46 -> 0 | CR46: =BF46 -> 0 | CS46: =BG46+BH46+BI46+BJ46 -> 0 | CT46: =BS46 -> 0 | CU46: =BO46+BP46+BQ46+BR46 -> 0
A47: 3.2 | B47: Սեքսուալ բնույթի բռնի գործողությունները | C47: 139 | D47: =SUM('Երևան քաղաք'!D46+Շիրակ!D46+Կոտայք!D46+Լոռի!D46+Արագածոտն!D46+Գեղարքունիքի!D46+Արմավիր!D46+'Արարատի և Վայոց ձոր'!D46+Տավուշ!D45+Սյունիք!D46) -> 0 | E47: =SUM('Երևան քաղաք'!E46+Շիրակ!E46+Կոտայք!E46+Լոռի!E46+Արագածոտն!E46+Գեղարքունիքի!E46+Արմավիր!E46+'Արարատի և Վայոց ձոր'!E46+Տավուշ!E45+Սյունիք!E46) -> 0 | F47: =SUM('Երևան քաղաք'!F46+Շիրակ!F46+Կոտայք!F46+Լոռի!F46+Արագածոտն!F46+Գեղարքունիքի!F46+Արմավիր!F46+'Արարատի և Վայոց ձոր'!F46+Տավուշ!F45+Սյունիք!F46) -> 0 | G47: =SUM('Երևան քաղաք'!G46+Շիրակ!G46+Կոտայք!G46+Լոռի!G46+Արագածոտն!G46+Գեղարքունիքի!G46+Արմավիր!G46+'Արարատի և Վայոց ձոր'!G46+Տավուշ!G45+Սյունիք!G46) -> 0 | H47: =SUM('Երևան քաղաք'!H46+Շիրակ!H46+Կոտայք!H46+Լոռի!H46+Արագածոտն!H46+Գեղարքունիքի!H46+Արմավիր!H46+'Արարատի և Վայոց ձոր'!H46+Տավուշ!H45+Սյունիք!H46) -> 0 | I47: =SUM('Երևան քաղաք'!I46+Շիրակ!I46+Կոտայք!I46+Լոռի!I46+Արագածոտն!I46+Գեղարքունիքի!I46+Արմավիր!I46+'Արարատի և Վայոց ձոր'!I46+Տավուշ!I45+Սյունիք!I46) -> 3 | J47: =SUM('Երևան քաղաք'!J46+Շիրակ!J46+Կոտայք!J46+Լոռի!J46+Արագածոտն!J46+Գեղարքունիքի!J46+Արմավիր!J46+'Արարատի և Վայոց ձոր'!J46+Տավուշ!J45+Սյունիք!J46) -> 0 | K47: =SUM('Երևան քաղաք'!K46+Շիրակ!K46+Կոտայք!K46+Լոռի!K46+Արագածոտն!K46+Գեղարքունիքի!K46+Արմավիր!K46+'Արարատի և Վայոց ձոր'!K46+Տավուշ!K45+Սյունիք!K46) -> 0 | ... BZ47: =SUM('Երևան քաղաք'!BZ46+Շիրակ!BZ46+Կոտայք!BZ46+Լոռի!BZ46+Արագածոտն!BZ46+Գեղարքունիքի!BZ46+Արմավիր!BZ46+'Արարատի և Վայոց ձոր'!BZ46+Տավուշ!BZ45+Սյունիք!BZ46) -> 2 | CB47: =F47 -> 0 | CC47: =D47+E47 -> 0 | CD47: =L47 -> 3 | CE47: =I47+J47+K47 -> 3 | CF47: =W47 -> 3 | CG47: =O47+P47+Q47+R47+S47+T47+U47+V47 -> 3 | CH47: =L47 -> 3 | CI47: =W47+X47+Y47+Z47+AA47+AB47+AC47 -> 3 | CJ47: =L47 -> 3 | CK47: =AM47+AN47+AO47+AP47+AQ47 -> 3 | CL47: =L47 -> 3 | CM47: =AR47+AS47+AT47+AU47+AV47+AW47+AX47 -> 3 | CN47: =L47 -> 3 | CO47: =AY47+AZ47+BA47 -> 3 | CP47: =BF47 -> 0 | CQ47: =BC47+BD47+BE47 -> 0 | CR47: =BF47 -> 0 | CS47: =BG47+BH47+BI47+BJ47 -> 0 | CT47: =BS47 -> 0 | CU47: =BO47+BP47+BQ47+BR47 -> 0
A48: 3.3 | B48: Սեռական հարաբերության կամ սեքսուալ բնույթի գործողություններին հարկադրելը | C48: 140 | D48: =SUM('Երևան քաղաք'!D47+Շիրակ!D47+Կոտայք!D47+Լոռի!D47+Արագածոտն!D47+Գեղարքունիքի!D47+Արմավիր!D47+'Արարատի և Վայոց ձոր'!D47+Տավուշ!D46+Սյունիք!D47) -> 0 | E48: =SUM('Երևան քաղաք'!E47+Շիրակ!E47+Կոտայք!E47+Լոռի!E47+Արագածոտն!E47+Գեղարքունիքի!E47+Արմավիր!E47+'Արարատի և Վայոց ձոր'!E47+Տավուշ!E46+Սյունիք!E47) -> 0 | F48: =SUM('Երևան քաղաք'!F47+Շիրակ!F47+Կոտայք!F47+Լոռի!F47+Արագածոտն!F47+Գեղարքունիքի!F47+Արմավիր!F47+'Արարատի և Վայոց ձոր'!F47+Տավուշ!F46+Սյունիք!F47) -> 0 | G48: =SUM('Երևան քաղաք'!G47+Շիրակ!G47+Կոտայք!G47+Լոռի!G47+Արագածոտն!G47+Գեղարքունիքի!G47+Արմավիր!G47+'Արարատի և Վայոց ձոր'!G47+Տավուշ!G46+Սյունիք!G47) -> 0 | H48: =SUM('Երևան քաղաք'!H47+Շիրակ!H47+Կոտայք!H47+Լոռի!H47+Արագածոտն!H47+Գեղարքունիքի!H47+Արմավիր!H47+'Արարատի և Վայոց ձոր'!H47+Տավուշ!H46+Սյունիք!H47) -> 0 | I48: =SUM('Երևան քաղաք'!I47+Շիրակ!I47+Կոտայք!I47+Լոռի!I47+Արագածոտն!I47+Գեղարքունիքի!I47+Արմավիր!I47+'Արարատի և Վայոց ձոր'!I47+Տավուշ!I46+Սյունիք!I47) -> 3 | J48: =SUM('Երևան քաղաք'!J47+Շիրակ!J47+Կոտայք!J47+Լոռի!J47+Արագածոտն!J47+Գեղարքունիքի!J47+Արմավիր!J47+'Արարատի և Վայոց ձոր'!J47+Տավուշ!J46+Սյունիք!J47) -> 0 | K48: =SUM('Երևան քաղաք'!K47+Շիրակ!K47+Կոտայք!K47+Լոռի!K47+Արագածոտն!K47+Գեղարքունիքի!K47+Արմավիր!K47+'Արարատի և Վայոց ձոր'!K47+Տավուշ!K46+Սյունիք!K47) -> 0 | ... BZ48: =SUM('Երևան քաղաք'!BZ47+Շիրակ!BZ47+Կոտայք!BZ47+Լոռի!BZ47+Արագածոտն!BZ47+Գեղարքունիքի!BZ47+Արմավիր!BZ47+'Արարատի և Վայոց ձոր'!BZ47+Տավուշ!BZ46+Սյունիք!BZ47) -> 0 | CB48: =F48 -> 0 | CC48: =D48+E48 -> 0 | CD48: =L48 -> 3 | CE48: =I48+J48+K48 -> 3 | CF48: =W48 -> 3 | CG48: =O48+P48+Q48+R48+S48+T48+U48+V48 -> 3 | CH48: =L48 -> 3 | CI48: =W48+X48+Y48+Z48+AA48+AB48+AC48 -> 3 | CJ48: =L48 -> 3 | CK48: =AM48+AN48+AO48+AP48+AQ48 -> 3 | CL48: =L48 -> 3 | CM48: =AR48+AS48+AT48+AU48+AV48+AW48+AX48 -> 3 | CN48: =L48 -> 3 | CO48: =AY48+AZ48+BA48 -> 3 | CP48: =BF48 -> 0 | CQ48: =BC48+BD48+BE48 -> 0 | CR48: =BF48 -> 0 | CS48: =BG48+BH48+BI48+BJ48 -> 0 | CT48: =BS48 -> 0 | CU48: =BO48+BP48+BQ48+BR48 -> 0
A49: 3.4 | B49: Սեռական հարաբերությունը տասնվեց տարին չլրացած անձի հետ կամ սեքսուալ բնույթի գործողություններ կատարելը տասնվեց տարին չլրացած անձի նկատմամբ | C49: 141 | D49: =SUM('Երևան քաղաք'!D48+Շիրակ!D48+Կոտայք!D48+Լոռի!D48+Արագածոտն!D48+Գեղարքունիքի!D48+Արմավիր!D48+'Արարատի և Վայոց ձոր'!D48+Տավուշ!D47+Սյունիք!D48) -> 0 | E49: =SUM('Երևան քաղաք'!E48+Շիրակ!E48+Կոտայք!E48+Լոռի!E48+Արագածոտն!E48+Գեղարքունիքի!E48+Արմավիր!E48+'Արարատի և Վայոց ձոր'!E48+Տավուշ!E47+Սյունիք!E48) -> 0 | F49: =SUM('Երևան քաղաք'!F48+Շիրակ!F48+Կոտայք!F48+Լոռի!F48+Արագածոտն!F48+Գեղարքունիքի!F48+Արմավիր!F48+'Արարատի և Վայոց ձոր'!F48+Տավուշ!F47+Սյունիք!F48) -> 0 | G49: =SUM('Երևան քաղաք'!G48+Շիրակ!G48+Կոտայք!G48+Լոռի!G48+Արագածոտն!G48+Գեղարքունիքի!G48+Արմավիր!G48+'Արարատի և Վայոց ձոր'!G48+Տավուշ!G47+Սյունիք!G48) -> 0 | H49: =SUM('Երևան քաղաք'!H48+Շիրակ!H48+Կոտայք!H48+Լոռի!H48+Արագածոտն!H48+Գեղարքունիքի!H48+Արմավիր!H48+'Արարատի և Վայոց ձոր'!H48+Տավուշ!H47+Սյունիք!H48) -> 0 | I49: =SUM('Երևան քաղաք'!I48+Շիրակ!I48+Կոտայք!I48+Լոռի!I48+Արագածոտն!I48+Գեղարքունիքի!I48+Արմավիր!I48+'Արարատի և Վայոց ձոր'!I48+Տավուշ!I47+Սյունիք!I48) -> 2 | J49: =SUM('Երևան քաղաք'!J48+Շիրակ!J48+Կոտայք!J48+Լոռի!J48+Արագածոտն!J48+Գեղարքունիքի!J48+Արմավիր!J48+'Արարատի և Վայոց ձոր'!J48+Տավուշ!J47+Սյունիք!J48) -> 0 | K49: =SUM('Երևան քաղաք'!K48+Շիրակ!K48+Կոտայք!K48+Լոռի!K48+Արագածոտն!K48+Գեղարքունիքի!K48+Արմավիր!K48+'Արարատի և Վայոց ձոր'!K48+Տավուշ!K47+Սյունիք!K48) -> 0 | ... BZ49: =SUM('Երևան քաղաք'!BZ48+Շիրակ!BZ48+Կոտայք!BZ48+Լոռի!BZ48+Արագածոտն!BZ48+Գեղարքունիքի!BZ48+Արմավիր!BZ48+'Արարատի և Վայոց ձոր'!BZ48+Տավուշ!BZ47+Սյունիք!BZ48) -> 7 | CB49: =F49 -> 0 | CC49: =D49+E49 -> 0 | CD49: =L49 -> 2 | CE49: =I49+J49+K49 -> 2 | CF49: =W49 -> 2 | CG49: =O49+P49+Q49+R49+S49+T49+U49+V49 -> 2 | CH49: =L49 -> 2 | CI49: =W49+X49+Y49+Z49+AA49+AB49+AC49 -> 2 | CJ49: =L49 -> 2 | CK49: =AM49+AN49+AO49+AP49+AQ49 -> 2 | CL49: =L49 -> 2 | CM49: =AR49+AS49+AT49+AU49+AV49+AW49+AX49 -> 2 | CN49: =L49 -> 2 | CO49: =AY49+AZ49+BA49 -> 2 | CP49: =BF49 -> 1 | CQ49: =BC49+BD49+BE49 -> 1 | CR49: =BF49 -> 1 | CS49: =BG49+BH49+BI49+BJ49 -> 1 | CT49: =BS49 -> 0 | CU49: =BO49+BP49+BQ49+BR49 -> 0
A50: 3.5 | B50: Անառակաբարո գործողությունները | C50: 142 | D50: =SUM('Երևան քաղաք'!D49+Շիրակ!D49+Կոտայք!D49+Լոռի!D49+Արագածոտն!D49+Գեղարքունիքի!D49+Արմավիր!D49+'Արարատի և Վայոց ձոր'!D49+Տավուշ!D48+Սյունիք!D49) -> 0 | E50: =SUM('Երևան քաղաք'!E49+Շիրակ!E49+Կոտայք!E49+Լոռի!E49+Արագածոտն!E49+Գեղարքունիքի!E49+Արմավիր!E49+'Արարատի և Վայոց ձոր'!E49+Տավուշ!E48+Սյունիք!E49) -> 0 | F50: =SUM('Երևան քաղաք'!F49+Շիրակ!F49+Կոտայք!F49+Լոռի!F49+Արագածոտն!F49+Գեղարքունիքի!F49+Արմավիր!F49+'Արարատի և Վայոց ձոր'!F49+Տավուշ!F48+Սյունիք!F49) -> 0 | G50: =SUM('Երևան քաղաք'!G49+Շիրակ!G49+Կոտայք!G49+Լոռի!G49+Արագածոտն!G49+Գեղարքունիքի!G49+Արմավիր!G49+'Արարատի և Վայոց ձոր'!G49+Տավուշ!G48+Սյունիք!G49) -> 0 | H50: =SUM('Երևան քաղաք'!H49+Շիրակ!H49+Կոտայք!H49+Լոռի!H49+Արագածոտն!H49+Գեղարքունիքի!H49+Արմավիր!H49+'Արարատի և Վայոց ձոր'!H49+Տավուշ!H48+Սյունիք!H49) -> 0 | I50: =SUM('Երևան քաղաք'!I49+Շիրակ!I49+Կոտայք!I49+Լոռի!I49+Արագածոտն!I49+Գեղարքունիքի!I49+Արմավիր!I49+'Արարատի և Վայոց ձոր'!I49+Տավուշ!I48+Սյունիք!I49) -> 3 | J50: =SUM('Երևան քաղաք'!J49+Շիրակ!J49+Կոտայք!J49+Լոռի!J49+Արագածոտն!J49+Գեղարքունիքի!J49+Արմավիր!J49+'Արարատի և Վայոց ձոր'!J49+Տավուշ!J48+Սյունիք!J49) -> 1 | K50: =SUM('Երևան քաղաք'!K49+Շիրակ!K49+Կոտայք!K49+Լոռի!K49+Արագածոտն!K49+Գեղարքունիքի!K49+Արմավիր!K49+'Արարատի և Վայոց ձոր'!K49+Տավուշ!K48+Սյունիք!K49) -> 0 | ... BZ50: =SUM('Երևան քաղաք'!BZ49+Շիրակ!BZ49+Կոտայք!BZ49+Լոռի!BZ49+Արագածոտն!BZ49+Գեղարքունիքի!BZ49+Արմավիր!BZ49+'Արարատի և Վայոց ձոր'!BZ49+Տավուշ!BZ48+Սյունիք!BZ49) -> 1 | CB50: =F50 -> 0 | CC50: =D50+E50 -> 0 | CD50: =L50 -> 4 | CE50: =I50+J50+K50 -> 4 | CF50: =W50 -> 4 | CG50: =O50+P50+Q50+R50+S50+T50+U50+V50 -> 4 | CH50: =L50 -> 4 | CI50: =W50+X50+Y50+Z50+AA50+AB50+AC50 -> 4 | CJ50: =L50 -> 4 | CK50: =AM50+AN50+AO50+AP50+AQ50 -> 4 | CL50: =L50 -> 4 | CM50: =AR50+AS50+AT50+AU50+AV50+AW50+AX50 -> 4 | CN50: =L50 -> 4 | CO50: =AY50+AZ50+BA50 -> 4 | CP50: =BF50 -> 1 | CQ50: =BC50+BD50+BE50 -> 1 | CR50: =BF50 -> 1 | CS50: =BG50+BH50+BI50+BJ50 -> 1 | CT50: =BS50 -> 1 | CU50: =BO50+BP50+BQ50+BR50 -> 1
A51: 3.6 | B51: Այլ հանցագործություններ | D51: =SUM('Երևան քաղաք'!D50+Շիրակ!D50+Կոտայք!D50+Լոռի!D50+Արագածոտն!D50+Գեղարքունիքի!D50+Արմավիր!D50+'Արարատի և Վայոց ձոր'!D50+Տավուշ!D49+Սյունիք!D50) -> 0 | E51: =SUM('Երևան քաղաք'!E50+Շիրակ!E50+Կոտայք!E50+Լոռի!E50+Արագածոտն!E50+Գեղարքունիքի!E50+Արմավիր!E50+'Արարատի և Վայոց ձոր'!E50+Տավուշ!E49+Սյունիք!E50) -> 0 | F51: =SUM('Երևան քաղաք'!F50+Շիրակ!F50+Կոտայք!F50+Լոռի!F50+Արագածոտն!F50+Գեղարքունիքի!F50+Արմավիր!F50+'Արարատի և Վայոց ձոր'!F50+Տավուշ!F49+Սյունիք!F50) -> 0 | G51: =SUM('Երևան քաղաք'!G50+Շիրակ!G50+Կոտայք!G50+Լոռի!G50+Արագածոտն!G50+Գեղարքունիքի!G50+Արմավիր!G50+'Արարատի և Վայոց ձոր'!G50+Տավուշ!G49+Սյունիք!G50) -> 0 | H51: =SUM('Երևան քաղաք'!H50+Շիրակ!H50+Կոտայք!H50+Լոռի!H50+Արագածոտն!H50+Գեղարքունիքի!H50+Արմավիր!H50+'Արարատի և Վայոց ձոր'!H50+Տավուշ!H49+Սյունիք!H50) -> 0 | I51: =SUM('Երևան քաղաք'!I50+Շիրակ!I50+Կոտայք!I50+Լոռի!I50+Արագածոտն!I50+Գեղարքունիքի!I50+Արմավիր!I50+'Արարատի և Վայոց ձոր'!I50+Տավուշ!I49+Սյունիք!I50) -> 0 | J51: =SUM('Երևան քաղաք'!J50+Շիրակ!J50+Կոտայք!J50+Լոռի!J50+Արագածոտն!J50+Գեղարքունիքի!J50+Արմավիր!J50+'Արարատի և Վայոց ձոր'!J50+Տավուշ!J49+Սյունիք!J50) -> 0 | K51: =SUM('Երևան քաղաք'!K50+Շիրակ!K50+Կոտայք!K50+Լոռի!K50+Արագածոտն!K50+Գեղարքունիքի!K50+Արմավիր!K50+'Արարատի և Վայոց ձոր'!K50+Տավուշ!K49+Սյունիք!K50) -> 0 | ... BZ51: =SUM('Երևան քաղաք'!BZ50+Շիրակ!BZ50+Կոտայք!BZ50+Լոռի!BZ50+Արագածոտն!BZ50+Գեղարքունիքի!BZ50+Արմավիր!BZ50+'Արարատի և Վայոց ձոր'!BZ50+Տավուշ!BZ49+Սյունիք!BZ50) -> 0 | CB51: =F51 -> 0 | CC51: =D51+E51 -> 0 | CD51: =L51 -> 0 | CE51: =I51+J51+K51 -> 0 | CF51: =W51 -> 0 | CG51: =O51+P51+Q51+R51+S51+T51+U51+V51 -> 0 | CH51: =L51 -> 0 | CI51: =W51+X51+Y51+Z51+AA51+AB51+AC51 -> 0 | CJ51: =L51 -> 0 | CK51: =AM51+AN51+AO51+AP51+AQ51 -> 0 | CL51: =L51 -> 0 | CM51: =AR51+AS51+AT51+AU51+AV51+AW51+AX51 -> 0 | CN51: =L51 -> 0 | CO51: =AY51+AZ51+BA51 -> 0 | CP51: =BF51 -> 0 | CQ51: =BC51+BD51+BE51 -> 0 | CR51: =BF51 -> 0 | CS51: =BG51+BH51+BI51+BJ51 -> 0 | CT51: =BS51 -> 0 | CU51: =BO51+BP51+BQ51+BR51 -> 0
A52: 4. | B52: Ընդամենը մարդու և քաղաքացու սահմանադրական իրավունքների և ազատությունների դեմ ուղղված հանցագործությունները | D52: =SUM('Երևան քաղաք:Սյունիք'!D51) -> 0 | E52: =SUM('Երևան քաղաք:Սյունիք'!E51) -> 5 | F52: =SUM('Երևան քաղաք:Սյունիք'!F51) -> 5 | G52: =SUM('Երևան քաղաք:Սյունիք'!G51) -> 0 | H52: =SUM('Երևան քաղաք:Սյունիք'!H51) -> 0 | I52: =SUM('Երևան քաղաք:Սյունիք'!I51) -> 14 | J52: =SUM('Երևան քաղաք:Սյունիք'!J51) -> 1 | K52: =SUM('Երևան քաղաք:Սյունիք'!K51) -> 0 | ... CA52: =SUM('Երևան քաղաք:Սյունիք'!CA51) -> 0 | CB52: =F52 -> 5 | CC52: =D52+E52 -> 5 | CD52: =L52 -> 15 | CE52: =I52+J52+K52 -> 15 | CF52: =W52 -> 5 | CG52: =O52+P52+Q52+R52+S52+T52+U52+V52 -> 5 | CH52: =L52 -> 15 | CI52: =W52+X52+Y52+Z52+AA52+AB52+AC52 -> 15 | CJ52: =L52 -> 15 | CK52: =AM52+AN52+AO52+AP52+AQ52 -> 15 | CL52: =L52 -> 15 | CM52: =AR52+AS52+AT52+AU52+AV52+AW52+AX52 -> 15 | CN52: =L52 -> 15 | CO52: =AY52+AZ52+BA52 -> 15 | CP52: =BF52 -> 0 | CQ52: =BC52+BD52+BE52 -> 0 | CR52: =BF52 -> 0 | CS52: =BG52+BH52+BI52+BJ52 -> 0 | CT52: =BS52 -> 0 | CU52: =BO52+BP52+BQ52+BR52 -> 0
A53: 4.1 | B53: Մարդու և քաղաքացու իրավահավասարությունը խախտելը | C53: 143 | D53: =SUM('Երևան քաղաք'!D52+Շիրակ!D52+Կոտայք!D52+Լոռի!D52+Արագածոտն!D52+Գեղարքունիքի!D52+Արմավիր!D52+'Արարատի և Վայոց ձոր'!D52+Տավուշ!D51+Սյունիք!D52) -> 0 | E53: =SUM('Երևան քաղաք'!E52+Շիրակ!E52+Կոտայք!E52+Լոռի!E52+Արագածոտն!E52+Գեղարքունիքի!E52+Արմավիր!E52+'Արարատի և Վայոց ձոր'!E52+Տավուշ!E51+Սյունիք!E52) -> 0 | F53: =SUM('Երևան քաղաք'!F52+Շիրակ!F52+Կոտայք!F52+Լոռի!F52+Արագածոտն!F52+Գեղարքունիքի!F52+Արմավիր!F52+'Արարատի և Վայոց ձոր'!F52+Տավուշ!F51+Սյունիք!F52) -> 0 | G53: =SUM('Երևան քաղաք'!G52+Շիրակ!G52+Կոտայք!G52+Լոռի!G52+Արագածոտն!G52+Գեղարքունիքի!G52+Արմավիր!G52+'Արարատի և Վայոց ձոր'!G52+Տավուշ!G51+Սյունիք!G52) -> 0 | H53: =SUM('Երևան քաղաք'!H52+Շիրակ!H52+Կոտայք!H52+Լոռի!H52+Արագածոտն!H52+Գեղարքունիքի!H52+Արմավիր!H52+'Արարատի և Վայոց ձոր'!H52+Տավուշ!H51+Սյունիք!H52) -> 0 | I53: =SUM('Երևան քաղաք'!I52+Շիրակ!I52+Կոտայք!I52+Լոռի!I52+Արագածոտն!I52+Գեղարքունիքի!I52+Արմավիր!I52+'Արարատի և Վայոց ձոր'!I52+Տավուշ!I51+Սյունիք!I52) -> 1 | J53: =SUM('Երևան քաղաք'!J52+Շիրակ!J52+Կոտայք!J52+Լոռի!J52+Արագածոտն!J52+Գեղարքունիքի!J52+Արմավիր!J52+'Արարատի և Վայոց ձոր'!J52+Տավուշ!J51+Սյունիք!J52) -> 0 | K53: =SUM('Երևան քաղաք'!K52+Շիրակ!K52+Կոտայք!K52+Լոռի!K52+Արագածոտն!K52+Գեղարքունիքի!K52+Արմավիր!K52+'Արարատի և Վայոց ձոր'!K52+Տավուշ!K51+Սյունիք!K52) -> 0 | ... BZ53: =SUM('Երևան քաղաք'!BZ52+Շիրակ!BZ52+Կոտայք!BZ52+Լոռի!BZ52+Արագածոտն!BZ52+Գեղարքունիքի!BZ52+Արմավիր!BZ52+'Արարատի և Վայոց ձոր'!BZ52+Տավուշ!BZ51+Սյունիք!BZ52) -> 0 | CB53: =F53 -> 0 | CC53: =D53+E53 -> 0 | CD53: =L53 -> 1 | CE53: =I53+J53+K53 -> 1 | CF53: =W53 -> 0 | CG53: =O53+P53+Q53+R53+S53+T53+U53+V53 -> 0 | CH53: =L53 -> 1 | CI53: =W53+X53+Y53+Z53+AA53+AB53+AC53 -> 1 | CJ53: =L53 -> 1 | CK53: =AM53+AN53+AO53+AP53+AQ53 -> 1 | CL53: =L53 -> 1 | CM53: =AR53+AS53+AT53+AU53+AV53+AW53+AX53 -> 1 | CN53: =L53 -> 1 | CO53: =AY53+AZ53+BA53 -> 1 | CP53: =BF53 -> 0 | CQ53: =BC53+BD53+BE53 -> 0 | CR53: =BF53 -> 0 | CS53: =BG53+BH53+BI53+BJ53 -> 0 | CT53: =BS53 -> 0 | CU53: =BO53+BP53+BQ53+BR53 -> 0
A54: 4.2 | B54: Անձնական կամ ընտանեկան կյանքի մասին տեղեկություններ ապօրինի հավաքելը, պահելը, օգտագործելը կամ տարածելը | C54: 144 | D54: =SUM('Երևան քաղաք'!D53+Շիրակ!D53+Կոտայք!D53+Լոռի!D53+Արագածոտն!D53+Գեղարքունիքի!D53+Արմավիր!D53+'Արարատի և Վայոց ձոր'!D53+Տավուշ!D52+Սյունիք!D53) -> 0 | E54: =SUM('Երևան քաղաք'!E53+Շիրակ!E53+Կոտայք!E53+Լոռի!E53+Արագածոտն!E53+Գեղարքունիքի!E53+Արմավիր!E53+'Արարատի և Վայոց ձոր'!E53+Տավուշ!E52+Սյունիք!E53) -> 1 | F54: =SUM('Երևան քաղաք'!F53+Շիրակ!F53+Կոտայք!F53+Լոռի!F53+Արագածոտն!F53+Գեղարքունիքի!F53+Արմավիր!F53+'Արարատի և Վայոց ձոր'!F53+Տավուշ!F52+Սյունիք!F53) -> 1 | G54: =SUM('Երևան քաղաք'!G53+Շիրակ!G53+Կոտայք!G53+Լոռի!G53+Արագածոտն!G53+Գեղարքունիքի!G53+Արմավիր!G53+'Արարատի և Վայոց ձոր'!G53+Տավուշ!G52+Սյունիք!G53) -> 0 | H54: =SUM('Երևան քաղաք'!H53+Շիրակ!H53+Կոտայք!H53+Լոռի!H53+Արագածոտն!H53+Գեղարքունիքի!H53+Արմավիր!H53+'Արարատի և Վայոց ձոր'!H53+Տավուշ!H52+Սյունիք!H53) -> 0 | I54: =SUM('Երևան քաղաք'!I53+Շիրակ!I53+Կոտայք!I53+Լոռի!I53+Արագածոտն!I53+Գեղարքունիքի!I53+Արմավիր!I53+'Արարատի և Վայոց ձոր'!I53+Տավուշ!I52+Սյունիք!I53) -> 0 | J54: =SUM('Երևան քաղաք'!J53+Շիրակ!J53+Կոտայք!J53+Լոռի!J53+Արագածոտն!J53+Գեղարքունիքի!J53+Արմավիր!J53+'Արարատի և Վայոց ձոր'!J53+Տավուշ!J52+Սյունիք!J53) -> 0 | K54: =SUM('Երևան քաղաք'!K53+Շիրակ!K53+Կոտայք!K53+Լոռի!K53+Արագածոտն!K53+Գեղարքունիքի!K53+Արմավիր!K53+'Արարատի և Վայոց ձոր'!K53+Տավուշ!K52+Սյունիք!K53) -> 0 | ... BZ54: =SUM('Երևան քաղաք'!BZ53+Շիրակ!BZ53+Կոտայք!BZ53+Լոռի!BZ53+Արագածոտն!BZ53+Գեղարքունիքի!BZ53+Արմավիր!BZ53+'Արարատի և Վայոց ձոր'!BZ53+Տավուշ!BZ52+Սյունիք!BZ53) -> 1 | CB54: =F54 -> 1 | CC54: =D54+E54 -> 1 | CD54: =L54 -> 0 | CE54: =I54+J54+K54 -> 0 | CF54: =W54 -> 0 | CG54: =O54+P54+Q54+R54+S54+T54+U54+V54 -> 0 | CH54: =L54 -> 0 | CI54: =W54+X54+Y54+Z54+AA54+AB54+AC54 -> 0 | CJ54: =L54 -> 0 | CK54: =AM54+AN54+AO54+AP54+AQ54 -> 0 | CL54: =L54 -> 0 | CM54: =AR54+AS54+AT54+AU54+AV54+AW54+AX54 -> 0 | CN54: =L54 -> 0 | CO54: =AY54+AZ54+BA54 -> 0 | CP54: =BF54 -> 0 | CQ54: =BC54+BD54+BE54 -> 0 | CR54: =BF54 -> 0 | CS54: =BG54+BH54+BI54+BJ54 -> 0 | CT54: =BS54 -> 0 | CU54: =BO54+BP54+BQ54+BR54 -> 0
A55: 4.3 | B55: Բժշկական գաղտնիքը հրապարակելը | C55: 145 | D55: =SUM('Երևան քաղաք'!D54+Շիրակ!D54+Կոտայք!D54+Լոռի!D54+Արագածոտն!D54+Գեղարքունիքի!D54+Արմավիր!D54+'Արարատի և Վայոց ձոր'!D54+Տավուշ!D53+Սյունիք!D54) -> 0 | E55: =SUM('Երևան քաղաք'!E54+Շիրակ!E54+Կոտայք!E54+Լոռի!E54+Արագածոտն!E54+Գեղարքունիքի!E54+Արմավիր!E54+'Արարատի և Վայոց ձոր'!E54+Տավուշ!E53+Սյունիք!E54) -> 0 | F55: =SUM('Երևան քաղաք'!F54+Շիրակ!F54+Կոտայք!F54+Լոռի!F54+Արագածոտն!F54+Գեղարքունիքի!F54+Արմավիր!F54+'Արարատի և Վայոց ձոր'!F54+Տավուշ!F53+Սյունիք!F54) -> 0 | G55: =SUM('Երևան քաղաք'!G54+Շիրակ!G54+Կոտայք!G54+Լոռի!G54+Արագածոտն!G54+Գեղարքունիքի!G54+Արմավիր!G54+'Արարատի և Վայոց ձոր'!G54+Տավուշ!G53+Սյունիք!G54) -> 0 | H55: =SUM('Երևան քաղաք'!H54+Շիրակ!H54+Կոտայք!H54+Լոռի!H54+Արագածոտն!H54+Գեղարքունիքի!H54+Արմավիր!H54+'Արարատի և Վայոց ձոր'!H54+Տավուշ!H53+Սյունիք!H54) -> 0 | I55: =SUM('Երևան քաղաք'!I54+Շիրակ!I54+Կոտայք!I54+Լոռի!I54+Արագածոտն!I54+Գեղարքունիքի!I54+Արմավիր!I54+'Արարատի և Վայոց ձոր'!I54+Տավուշ!I53+Սյունիք!I54) -> 0 | J55: =SUM('Երևան քաղաք'!J54+Շիրակ!J54+Կոտայք!J54+Լոռի!J54+Արագածոտն!J54+Գեղարքունիքի!J54+Արմավիր!J54+'Արարատի և Վայոց ձոր'!J54+Տավուշ!J53+Սյունիք!J54) -> 0 | K55: =SUM('Երևան քաղաք'!K54+Շիրակ!K54+Կոտայք!K54+Լոռի!K54+Արագածոտն!K54+Գեղարքունիքի!K54+Արմավիր!K54+'Արարատի և Վայոց ձոր'!K54+Տավուշ!K53+Սյունիք!K54) -> 0 | ... BZ55: =SUM('Երևան քաղաք'!BZ54+Շիրակ!BZ54+Կոտայք!BZ54+Լոռի!BZ54+Արագածոտն!BZ54+Գեղարքունիքի!BZ54+Արմավիր!BZ54+'Արարատի և Վայոց ձոր'!BZ54+Տավուշ!BZ53+Սյունիք!BZ54) -> 1 | CB55: =F55 -> 0 | CC55: =D55+E55 -> 0 | CD55: =L55 -> 0 | CE55: =I55+J55+K55 -> 0 | CF55: =W55 -> 0 | CG55: =O55+P55+Q55+R55+S55+T55+U55+V55 -> 0 | CH55: =L55 -> 0 | CI55: =W55+X55+Y55+Z55+AA55+AB55+AC55 -> 0 | CJ55: =L55 -> 0 | CK55: =AM55+AN55+AO55+AP55+AQ55 -> 0 | CL55: =L55 -> 0 | CM55: =AR55+AS55+AT55+AU55+AV55+AW55+AX55 -> 0 | CN55: =L55 -> 0 | CO55: =AY55+AZ55+BA55 -> 0 | CP55: =BF55 -> 0 | CQ55: =BC55+BD55+BE55 -> 0 | CR55: =BF55 -> 0 | CS55: =BG55+BH55+BI55+BJ55 -> 0 | CT55: =BS55 -> 0 | CU55: =BO55+BP55+BQ55+BR55 -> 0
A56: 4.4 | B56: Նամակագրության, հեռախոսային խոսակցությունների, փոստային, հեռագրական կամ այլ հաղորդումների գաղտնիությունը խախտելը | C56: 146 | D56: =SUM('Երևան քաղաք'!D55+Շիրակ!D55+Կոտայք!D55+Լոռի!D55+Արագածոտն!D55+Գեղարքունիքի!D55+Արմավիր!D55+'Արարատի և Վայոց ձոր'!D55+Տավուշ!D54+Սյունիք!D55) -> 0 | E56: =SUM('Երևան քաղաք'!E55+Շիրակ!E55+Կոտայք!E55+Լոռի!E55+Արագածոտն!E55+Գեղարքունիքի!E55+Արմավիր!E55+'Արարատի և Վայոց ձոր'!E55+Տավուշ!E54+Սյունիք!E55) -> 0 | F56: =SUM('Երևան քաղաք'!F55+Շիրակ!F55+Կոտայք!F55+Լոռի!F55+Արագածոտն!F55+Գեղարքունիքի!F55+Արմավիր!F55+'Արարատի և Վայոց ձոր'!F55+Տավուշ!F54+Սյունիք!F55) -> 0 | G56: =SUM('Երևան քաղաք'!G55+Շիրակ!G55+Կոտայք!G55+Լոռի!G55+Արագածոտն!G55+Գեղարքունիքի!G55+Արմավիր!G55+'Արարատի և Վայոց ձոր'!G55+Տավուշ!G54+Սյունիք!G55) -> 0 | H56: =SUM('Երևան քաղաք'!H55+Շիրակ!H55+Կոտայք!H55+Լոռի!H55+Արագածոտն!H55+Գեղարքունիքի!H55+Արմավիր!H55+'Արարատի և Վայոց ձոր'!H55+Տավուշ!H54+Սյունիք!H55) -> 0 | I56: =SUM('Երևան քաղաք'!I55+Շիրակ!I55+Կոտայք!I55+Լոռի!I55+Արագածոտն!I55+Գեղարքունիքի!I55+Արմավիր!I55+'Արարատի և Վայոց ձոր'!I55+Տավուշ!I54+Սյունիք!I55) -> 0 | J56: =SUM('Երևան քաղաք'!J55+Շիրակ!J55+Կոտայք!J55+Լոռի!J55+Արագածոտն!J55+Գեղարքունիքի!J55+Արմավիր!J55+'Արարատի և Վայոց ձոր'!J55+Տավուշ!J54+Սյունիք!J55) -> 0 | K56: =SUM('Երևան քաղաք'!K55+Շիրակ!K55+Կոտայք!K55+Լոռի!K55+Արագածոտն!K55+Գեղարքունիքի!K55+Արմավիր!K55+'Արարատի և Վայոց ձոր'!K55+Տավուշ!K54+Սյունիք!K55) -> 0 | ... BZ56: =SUM('Երևան քաղաք'!BZ55+Շիրակ!BZ55+Կոտայք!BZ55+Լոռի!BZ55+Արագածոտն!BZ55+Գեղարքունիքի!BZ55+Արմավիր!BZ55+'Արարատի և Վայոց ձոր'!BZ55+Տավուշ!BZ54+Սյունիք!BZ55) -> 0 | CB56: =F56 -> 0 | CC56: =D56+E56 -> 0 | CD56: =L56 -> 0 | CE56: =I56+J56+K56 -> 0 | CF56: =W56 -> 0 | CG56: =O56+P56+Q56+R56+S56+T56+U56+V56 -> 0 | CH56: =L56 -> 0 | CI56: =W56+X56+Y56+Z56+AA56+AB56+AC56 -> 0 | CJ56: =L56 -> 0 | CK56: =AM56+AN56+AO56+AP56+AQ56 -> 0 | CL56: =L56 -> 0 | CM56: =AR56+AS56+AT56+AU56+AV56+AW56+AX56 -> 0 | CN56: =L56 -> 0 | CO56: =AY56+AZ56+BA56 -> 0 | CP56: =BF56 -> 0 | CQ56: =BC56+BD56+BE56 -> 0 | CR56: =BF56 -> 0 | CS56: =BG56+BH56+BI56+BJ56 -> 0 | CT56: =BS56 -> 0 | CU56: =BO56+BP56+BQ56+BR56 -> 0
A57: 4.5 | B57: Բնակարանի անձեռնմխելիությունը խախտելը | C57: 147 | D57: =SUM('Երևան քաղաք'!D56+Շիրակ!D56+Կոտայք!D56+Լոռի!D56+Արագածոտն!D56+Գեղարքունիքի!D56+Արմավիր!D56+'Արարատի և Վայոց ձոր'!D56+Տավուշ!D55+Սյունիք!D56) -> 0 | E57: =SUM('Երևան քաղաք'!E56+Շիրակ!E56+Կոտայք!E56+Լոռի!E56+Արագածոտն!E56+Գեղարքունիքի!E56+Արմավիր!E56+'Արարատի և Վայոց ձոր'!E56+Տավուշ!E55+Սյունիք!E56) -> 4 | F57: =SUM('Երևան քաղաք'!F56+Շիրակ!F56+Կոտայք!F56+Լոռի!F56+Արագածոտն!F56+Գեղարքունիքի!F56+Արմավիր!F56+'Արարատի և Վայոց ձոր'!F56+Տավուշ!F55+Սյունիք!F56) -> 4 | G57: =SUM('Երևան քաղաք'!G56+Շիրակ!G56+Կոտայք!G56+Լոռի!G56+Արագածոտն!G56+Գեղարքունիքի!G56+Արմավիր!G56+'Արարատի և Վայոց ձոր'!G56+Տավուշ!G55+Սյունիք!G56) -> 0 | H57: =SUM('Երևան քաղաք'!H56+Շիրակ!H56+Կոտայք!H56+Լոռի!H56+Արագածոտն!H56+Գեղարքունիքի!H56+Արմավիր!H56+'Արարատի և Վայոց ձոր'!H56+Տավուշ!H55+Սյունիք!H56) -> 0 | I57: =SUM('Երևան քաղաք'!I56+Շիրակ!I56+Կոտայք!I56+Լոռի!I56+Արագածոտն!I56+Գեղարքունիքի!I56+Արմավիր!I56+'Արարատի և Վայոց ձոր'!I56+Տավուշ!I55+Սյունիք!I56) -> 8 | J57: =SUM('Երևան քաղաք'!J56+Շիրակ!J56+Կոտայք!J56+Լոռի!J56+Արագածոտն!J56+Գեղարքունիքի!J56+Արմավիր!J56+'Արարատի և Վայոց ձոր'!J56+Տավուշ!J55+Սյունիք!J56) -> 0 | K57: =SUM('Երևան քաղաք'!K56+Շիրակ!K56+Կոտայք!K56+Լոռի!K56+Արագածոտն!K56+Գեղարքունիքի!K56+Արմավիր!K56+'Արարատի և Վայոց ձոր'!K56+Տավուշ!K55+Սյունիք!K56) -> 0 | ... BZ57: =SUM('Երևան քաղաք'!BZ56+Շիրակ!BZ56+Կոտայք!BZ56+Լոռի!BZ56+Արագածոտն!BZ56+Գեղարքունիքի!BZ56+Արմավիր!BZ56+'Արարատի և Վայոց ձոր'!BZ56+Տավուշ!BZ55+Սյունիք!BZ56) -> 8 | CB57: =F57 -> 4 | CC57: =D57+E57 -> 4 | CD57: =L57 -> 8 | CE57: =I57+J57+K57 -> 8 | CF57: =W57 -> 1 | CG57: =O57+P57+Q57+R57+S57+T57+U57+V57 -> 1 | CH57: =L57 -> 8 | CI57: =W57+X57+Y57+Z57+AA57+AB57+AC57 -> 8 | CJ57: =L57 -> 8 | CK57: =AM57+AN57+AO57+AP57+AQ57 -> 8 | CL57: =L57 -> 8 | CM57: =AR57+AS57+AT57+AU57+AV57+AW57+AX57 -> 8 | CN57: =L57 -> 8 | CO57: =AY57+AZ57+BA57 -> 8 | CP57: =BF57 -> 0 | CQ57: =BC57+BD57+BE57 -> 0 | CR57: =BF57 -> 0 | CS57: =BG57+BH57+BI57+BJ57 -> 0 | CT57: =BS57 -> 0 | CU57: =BO57+BP57+BQ57+BR57 -> 0
A58: 4.6 | B58: Անձին տեղեկություն ներկայացնելուց հրաժարվելը | C58: 148 | D58: =SUM('Երևան քաղաք'!D57+Շիրակ!D57+Կոտայք!D57+Լոռի!D57+Արագածոտն!D57+Գեղարքունիքի!D57+Արմավիր!D57+'Արարատի և Վայոց ձոր'!D57+Տավուշ!D56+Սյունիք!D57) -> 0 | E58: =SUM('Երևան քաղաք'!E57+Շիրակ!E57+Կոտայք!E57+Լոռի!E57+Արագածոտն!E57+Գեղարքունիքի!E57+Արմավիր!E57+'Արարատի և Վայոց ձոր'!E57+Տավուշ!E56+Սյունիք!E57) -> 0 | F58: =SUM('Երևան քաղաք'!F57+Շիրակ!F57+Կոտայք!F57+Լոռի!F57+Արագածոտն!F57+Գեղարքունիքի!F57+Արմավիր!F57+'Արարատի և Վայոց ձոր'!F57+Տավուշ!F56+Սյունիք!F57) -> 0 | G58: =SUM('Երևան քաղաք'!G57+Շիրակ!G57+Կոտայք!G57+Լոռի!G57+Արագածոտն!G57+Գեղարքունիքի!G57+Արմավիր!G57+'Արարատի և Վայոց ձոր'!G57+Տավուշ!G56+Սյունիք!G57) -> 0 | H58: =SUM('Երևան քաղաք'!H57+Շիրակ!H57+Կոտայք!H57+Լոռի!H57+Արագածոտն!H57+Գեղարքունիքի!H57+Արմավիր!H57+'Արարատի և Վայոց ձոր'!H57+Տավուշ!H56+Սյունիք!H57) -> 0 | I58: =SUM('Երևան քաղաք'!I57+Շիրակ!I57+Կոտայք!I57+Լոռի!I57+Արագածոտն!I57+Գեղարքունիքի!I57+Արմավիր!I57+'Արարատի և Վայոց ձոր'!I57+Տավուշ!I56+Սյունիք!I57) -> 1 | J58: =SUM('Երևան քաղաք'!J57+Շիրակ!J57+Կոտայք!J57+Լոռի!J57+Արագածոտն!J57+Գեղարքունիքի!J57+Արմավիր!J57+'Արարատի և Վայոց ձոր'!J57+Տավուշ!J56+Սյունիք!J57) -> 0 | K58: =SUM('Երևան քաղաք'!K57+Շիրակ!K57+Կոտայք!K57+Լոռի!K57+Արագածոտն!K57+Գեղարքունիքի!K57+Արմավիր!K57+'Արարատի և Վայոց ձոր'!K57+Տավուշ!K56+Սյունիք!K57) -> 0 | ... BZ58: =SUM('Երևան քաղաք'!BZ57+Շիրակ!BZ57+Կոտայք!BZ57+Լոռի!BZ57+Արագածոտն!BZ57+Գեղարքունիքի!BZ57+Արմավիր!BZ57+'Արարատի և Վայոց ձոր'!BZ57+Տավուշ!BZ56+Սյունիք!BZ57) -> 0 | CB58: =F58 -> 0 | CC58: =D58+E58 -> 0 | CD58: =L58 -> 1 | CE58: =I58+J58+K58 -> 1 | CF58: =W58 -> 0 | CG58: =O58+P58+Q58+R58+S58+T58+U58+V58 -> 0 | CH58: =L58 -> 1 | CI58: =W58+X58+Y58+Z58+AA58+AB58+AC58 -> 1 | CJ58: =L58 -> 1 | CK58: =AM58+AN58+AO58+AP58+AQ58 -> 1 | CL58: =L58 -> 1 | CM58: =AR58+AS58+AT58+AU58+AV58+AW58+AX58 -> 1 | CN58: =L58 -> 1 | CO58: =AY58+AZ58+BA58 -> 1 | CP58: =BF58 -> 0 | CQ58: =BC58+BD58+BE58 -> 0 | CR58: =BF58 -> 0 | CS58: =BG58+BH58+BI58+BJ58 -> 0 | CT58: =BS58 -> 0 | CU58: =BO58+BP58+BQ58+BR58 -> 0
A59: 4.7 | B59: Ընտրական իրավունքի իրականացմանը, ընտրական հանձնաժողովների աշխատանքներին կամ ընտրությանը մասնակցող անձանց լիազորությունների իրականացմանը խոչընդոտելը | C59: 149 | D59: =SUM('Երևան քաղաք'!D58+Շիրակ!D58+Կոտայք!D58+Լոռի!D58+Արագածոտն!D58+Գեղարքունիքի!D58+Արմավիր!D58+'Արարատի և Վայոց ձոր'!D58+Տավուշ!D57+Սյունիք!D58) -> 0 | E59: =SUM('Երևան քաղաք'!E58+Շիրակ!E58+Կոտայք!E58+Լոռի!E58+Արագածոտն!E58+Գեղարքունիքի!E58+Արմավիր!E58+'Արարատի և Վայոց ձոր'!E58+Տավուշ!E57+Սյունիք!E58) -> 0 | F59: =SUM('Երևան քաղաք'!F58+Շիրակ!F58+Կոտայք!F58+Լոռի!F58+Արագածոտն!F58+Գեղարքունիքի!F58+Արմավիր!F58+'Արարատի և Վայոց ձոր'!F58+Տավուշ!F57+Սյունիք!F58) -> 0 | G59: =SUM('Երևան քաղաք'!G58+Շիրակ!G58+Կոտայք!G58+Լոռի!G58+Արագածոտն!G58+Գեղարքունիքի!G58+Արմավիր!G58+'Արարատի և Վայոց ձոր'!G58+Տավուշ!G57+Սյունիք!G58) -> 0 | H59: =SUM('Երևան քաղաք'!H58+Շիրակ!H58+Կոտայք!H58+Լոռի!H58+Արագածոտն!H58+Գեղարքունիքի!H58+Արմավիր!H58+'Արարատի և Վայոց ձոր'!H58+Տավուշ!H57+Սյունիք!H58) -> 0 | I59: =SUM('Երևան քաղաք'!I58+Շիրակ!I58+Կոտայք!I58+Լոռի!I58+Արագածոտն!I58+Գեղարքունիքի!I58+Արմավիր!I58+'Արարատի և Վայոց ձոր'!I58+Տավուշ!I57+Սյունիք!I58) -> 0 | J59: =SUM('Երևան քաղաք'!J58+Շիրակ!J58+Կոտայք!J58+Լոռի!J58+Արագածոտն!J58+Գեղարքունիքի!J58+Արմավիր!J58+'Արարատի և Վայոց ձոր'!J58+Տավուշ!J57+Սյունիք!J58) -> 0 | K59: =SUM('Երևան քաղաք'!K58+Շիրակ!K58+Կոտայք!K58+Լոռի!K58+Արագածոտն!K58+Գեղարքունիքի!K58+Արմավիր!K58+'Արարատի և Վայոց ձոր'!K58+Տավուշ!K57+Սյունիք!K58) -> 0 | ... BZ59: =SUM('Երևան քաղաք'!BZ58+Շիրակ!BZ58+Կոտայք!BZ58+Լոռի!BZ58+Արագածոտն!BZ58+Գեղարքունիքի!BZ58+Արմավիր!BZ58+'Արարատի և Վայոց ձոր'!BZ58+Տավուշ!BZ57+Սյունիք!BZ58) -> 0 | CB59: =F59 -> 0 | CC59: =D59+E59 -> 0 | CD59: =L59 -> 0 | CE59: =I59+J59+K59 -> 0 | CF59: =W59 -> 0 | CG59: =O59+P59+Q59+R59+S59+T59+U59+V59 -> 0 | CH59: =L59 -> 0 | CI59: =W59+X59+Y59+Z59+AA59+AB59+AC59 -> 0 | CJ59: =L59 -> 0 | CK59: =AM59+AN59+AO59+AP59+AQ59 -> 0 | CL59: =L59 -> 0 | CM59: =AR59+AS59+AT59+AU59+AV59+AW59+AX59 -> 0 | CN59: =L59 -> 0 | CO59: =AY59+AZ59+BA59 -> 0 | CP59: =BF59 -> 0 | CQ59: =BC59+BD59+BE59 -> 0 | CR59: =BF59 -> 0 | CS59: =BG59+BH59+BI59+BJ59 -> 0 | CT59: =BS59 -> 0 | CU59: =BO59+BP59+BQ59+BR59 -> 0
A60: 4.8 | B60: Ընտրությունների կամ քվեարկության արդյունքները կեղծելը | C60: 150 | D60: =SUM('Երևան քաղաք'!D59+Շիրակ!D59+Կոտայք!D59+Լոռի!D59+Արագածոտն!D59+Գեղարքունիքի!D59+Արմավիր!D59+'Արարատի և Վայոց ձոր'!D59+Տավուշ!D58+Սյունիք!D59) -> 0 | E60: =SUM('Երևան քաղաք'!E59+Շիրակ!E59+Կոտայք!E59+Լոռի!E59+Արագածոտն!E59+Գեղարքունիքի!E59+Արմավիր!E59+'Արարատի և Վայոց ձոր'!E59+Տավուշ!E58+Սյունիք!E59) -> 0 | F60: =SUM('Երևան քաղաք'!F59+Շիրակ!F59+Կոտայք!F59+Լոռի!F59+Արագածոտն!F59+Գեղարքունիքի!F59+Արմավիր!F59+'Արարատի և Վայոց ձոր'!F59+Տավուշ!F58+Սյունիք!F59) -> 0 | G60: =SUM('Երևան քաղաք'!G59+Շիրակ!G59+Կոտայք!G59+Լոռի!G59+Արագածոտն!G59+Գեղարքունիքի!G59+Արմավիր!G59+'Արարատի և Վայոց ձոր'!G59+Տավուշ!G58+Սյունիք!G59) -> 0 | H60: =SUM('Երևան քաղաք'!H59+Շիրակ!H59+Կոտայք!H59+Լոռի!H59+Արագածոտն!H59+Գեղարքունիքի!H59+Արմավիր!H59+'Արարատի և Վայոց ձոր'!H59+Տավուշ!H58+Սյունիք!H59) -> 0 | I60: =SUM('Երևան քաղաք'!I59+Շիրակ!I59+Կոտայք!I59+Լոռի!I59+Արագածոտն!I59+Գեղարքունիքի!I59+Արմավիր!I59+'Արարատի և Վայոց ձոր'!I59+Տավուշ!I58+Սյունիք!I59) -> 0 | J60: =SUM('Երևան քաղաք'!J59+Շիրակ!J59+Կոտայք!J59+Լոռի!J59+Արագածոտն!J59+Գեղարքունիքի!J59+Արմավիր!J59+'Արարատի և Վայոց ձոր'!J59+Տավուշ!J58+Սյունիք!J59) -> 0 | K60: =SUM('Երևան քաղաք'!K59+Շիրակ!K59+Կոտայք!K59+Լոռի!K59+Արագածոտն!K59+Գեղարքունիքի!K59+Արմավիր!K59+'Արարատի և Վայոց ձոր'!K59+Տավուշ!K58+Սյունիք!K59) -> 0 | ... BZ60: =SUM('Երևան քաղաք'!BZ59+Շիրակ!BZ59+Կոտայք!BZ59+Լոռի!BZ59+Արագածոտն!BZ59+Գեղարքունիքի!BZ59+Արմավիր!BZ59+'Արարատի և Վայոց ձոր'!BZ59+Տավուշ!BZ58+Սյունիք!BZ59) -> 0 | CB60: =F60 -> 0 | CC60: =D60+E60 -> 0 | CD60: =L60 -> 0 | CE60: =I60+J60+K60 -> 0 | CF60: =W60 -> 0 | CG60: =O60+P60+Q60+R60+S60+T60+U60+V60 -> 0 | CH60: =L60 -> 0 | CI60: =W60+X60+Y60+Z60+AA60+AB60+AC60 -> 0 | CJ60: =L60 -> 0 | CK60: =AM60+AN60+AO60+AP60+AQ60 -> 0 | CL60: =L60 -> 0 | CM60: =AR60+AS60+AT60+AU60+AV60+AW60+AX60 -> 0 | CN60: =L60 -> 0 | CO60: =AY60+AZ60+BA60 -> 0 | CP60: =BF60 -> 0 | CQ60: =BC60+BD60+BE60 -> 0 | CR60: =BF60 -> 0 | CS60: =BG60+BH60+BI60+BJ60 -> 0 | CT60: =BS60 -> 0 | CU60: =BO60+BP60+BQ60+BR60 -> 0
A61: 4.10 | B61: Ընտրողների ցուցակները կազմելու, դրանք քաղաքացիներին և կուսակցություններին տրամադրելու կամ հրապարակելու կարգը խախտելը | C61: 152 | D61: =SUM('Երևան քաղաք'!D60+Շիրակ!D60+Կոտայք!D60+Լոռի!D60+Արագածոտն!D60+Գեղարքունիքի!D60+Արմավիր!D60+'Արարատի և Վայոց ձոր'!D60+Տավուշ!D59+Սյունիք!D60) -> 0 | E61: =SUM('Երևան քաղաք'!E60+Շիրակ!E60+Կոտայք!E60+Լոռի!E60+Արագածոտն!E60+Գեղարքունիքի!E60+Արմավիր!E60+'Արարատի և Վայոց ձոր'!E60+Տավուշ!E59+Սյունիք!E60) -> 0 | F61: =SUM('Երևան քաղաք'!F60+Շիրակ!F60+Կոտայք!F60+Լոռի!F60+Արագածոտն!F60+Գեղարքունիքի!F60+Արմավիր!F60+'Արարատի և Վայոց ձոր'!F60+Տավուշ!F59+Սյունիք!F60) -> 0 | G61: =SUM('Երևան քաղաք'!G60+Շիրակ!G60+Կոտայք!G60+Լոռի!G60+Արագածոտն!G60+Գեղարքունիքի!G60+Արմավիր!G60+'Արարատի և Վայոց ձոր'!G60+Տավուշ!G59+Սյունիք!G60) -> 0 | H61: =SUM('Երևան քաղաք'!H60+Շիրակ!H60+Կոտայք!H60+Լոռի!H60+Արագածոտն!H60+Գեղարքունիքի!H60+Արմավիր!H60+'Արարատի և Վայոց ձոր'!H60+Տավուշ!H59+Սյունիք!H60) -> 0 | I61: =SUM('Երևան քաղաք'!I60+Շիրակ!I60+Կոտայք!I60+Լոռի!I60+Արագածոտն!I60+Գեղարքունիքի!I60+Արմավիր!I60+'Արարատի և Վայոց ձոր'!I60+Տավուշ!I59+Սյունիք!I60) -> 0 | J61: =SUM('Երևան քաղաք'!J60+Շիրակ!J60+Կոտայք!J60+Լոռի!J60+Արագածոտն!J60+Գեղարքունիքի!J60+Արմավիր!J60+'Արարատի և Վայոց ձոր'!J60+Տավուշ!J59+Սյունիք!J60) -> 0 | K61: =SUM('Երևան քաղաք'!K60+Շիրակ!K60+Կոտայք!K60+Լոռի!K60+Արագածոտն!K60+Գեղարքունիքի!K60+Արմավիր!K60+'Արարատի և Վայոց ձոր'!K60+Տավուշ!K59+Սյունիք!K60) -> 0 | ... BZ61: =SUM('Երևան քաղաք'!BZ60+Շիրակ!BZ60+Կոտայք!BZ60+Լոռի!BZ60+Արագածոտն!BZ60+Գեղարքունիքի!BZ60+Արմավիր!BZ60+'Արարատի և Վայոց ձոր'!BZ60+Տավուշ!BZ59+Սյունիք!BZ60) -> 0 | CB61: =F61 -> 0 | CC61: =D61+E61 -> 0 | CD61: =L61 -> 0 | CE61: =I61+J61+K61 -> 0 | CF61: =W61 -> 0 | CG61: =O61+P61+Q61+R61+S61+T61+U61+V61 -> 0 | CH61: =L61 -> 0 | CI61: =W61+X61+Y61+Z61+AA61+AB61+AC61 -> 0 | CJ61: =L61 -> 0 | CK61: =AM61+AN61+AO61+AP61+AQ61 -> 0 | CL61: =L61 -> 0 | CM61: =AR61+AS61+AT61+AU61+AV61+AW61+AX61 -> 0 | CN61: =L61 -> 0 | CO61: =AY61+AZ61+BA61 -> 0 | CP61: =BF61 -> 0 | CQ61: =BC61+BD61+BE61 -> 0 | CR61: =BF61 -> 0 | CS61: =BG61+BH61+BI61+BJ61 -> 0 | CT61: =BS61 -> 0 | CU61: =BO61+BP61+BQ61+BR61 -> 0
A62: 4.11 | B62: Մեկից ավելի անգամ կամ այլ անձի փոխարեն քվեարկելը | C62: 153 | D62: =SUM('Երևան քաղաք'!D61+Շիրակ!D61+Կոտայք!D61+Լոռի!D61+Արագածոտն!D61+Գեղարքունիքի!D61+Արմավիր!D61+'Արարատի և Վայոց ձոր'!D61+Տավուշ!D60+Սյունիք!D61) -> 0 | E62: =SUM('Երևան քաղաք'!E61+Շիրակ!E61+Կոտայք!E61+Լոռի!E61+Արագածոտն!E61+Գեղարքունիքի!E61+Արմավիր!E61+'Արարատի և Վայոց ձոր'!E61+Տավուշ!E60+Սյունիք!E61) -> 0 | F62: =SUM('Երևան քաղաք'!F61+Շիրակ!F61+Կոտայք!F61+Լոռի!F61+Արագածոտն!F61+Գեղարքունիքի!F61+Արմավիր!F61+'Արարատի և Վայոց ձոր'!F61+Տավուշ!F60+Սյունիք!F61) -> 0 | G62: =SUM('Երևան քաղաք'!G61+Շիրակ!G61+Կոտայք!G61+Լոռի!G61+Արագածոտն!G61+Գեղարքունիքի!G61+Արմավիր!G61+'Արարատի և Վայոց ձոր'!G61+Տավուշ!G60+Սյունիք!G61) -> 0 | H62: =SUM('Երևան քաղաք'!H61+Շիրակ!H61+Կոտայք!H61+Լոռի!H61+Արագածոտն!H61+Գեղարքունիքի!H61+Արմավիր!H61+'Արարատի և Վայոց ձոր'!H61+Տավուշ!H60+Սյունիք!H61) -> 0 | I62: =SUM('Երևան քաղաք'!I61+Շիրակ!I61+Կոտայք!I61+Լոռի!I61+Արագածոտն!I61+Գեղարքունիքի!I61+Արմավիր!I61+'Արարատի և Վայոց ձոր'!I61+Տավուշ!I60+Սյունիք!I61) -> 0 | J62: =SUM('Երևան քաղաք'!J61+Շիրակ!J61+Կոտայք!J61+Լոռի!J61+Արագածոտն!J61+Գեղարքունիքի!J61+Արմավիր!J61+'Արարատի և Վայոց ձոր'!J61+Տավուշ!J60+Սյունիք!J61) -> 1 | K62: =SUM('Երևան քաղաք'!K61+Շիրակ!K61+Կոտայք!K61+Լոռի!K61+Արագածոտն!K61+Գեղարքունիքի!K61+Արմավիր!K61+'Արարատի և Վայոց ձոր'!K61+Տավուշ!K60+Սյունիք!K61) -> 0 | ... BZ62: =SUM('Երևան քաղաք'!BZ61+Շիրակ!BZ61+Կոտայք!BZ61+Լոռի!BZ61+Արագածոտն!BZ61+Գեղարքունիքի!BZ61+Արմավիր!BZ61+'Արարատի և Վայոց ձոր'!BZ61+Տավուշ!BZ60+Սյունիք!BZ61) -> 0 | CB62: =F62 -> 0 | CC62: =D62+E62 -> 0 | CD62: =L62 -> 1 | CE62: =I62+J62+K62 -> 1 | CF62: =W62 -> 1 | CG62: =O62+P62+Q62+R62+S62+T62+U62+V62 -> 1 | CH62: =L62 -> 1 | CI62: =W62+X62+Y62+Z62+AA62+AB62+AC62 -> 1 | CJ62: =L62 -> 1 | CK62: =AM62+AN62+AO62+AP62+AQ62 -> 1 | CL62: =L62 -> 1 | CM62: =AR62+AS62+AT62+AU62+AV62+AW62+AX62 -> 1 | CN62: =L62 -> 1 | CO62: =AY62+AZ62+BA62 -> 1 | CP62: =BF62 -> 0 | CQ62: =BC62+BD62+BE62 -> 0 | CR62: =BF62 -> 0 | CS62: =BG62+BH62+BI62+BJ62 -> 0 | CT62: =BS62 -> 0 | CU62: =BO62+BP62+BQ62+BR62 -> 0
A63: 4.12 | B63: Քվեարկության գաղտնիությունը խախտելը | C63: 154 | D63: =SUM('Երևան քաղաք'!D62+Շիրակ!D62+Կոտայք!D62+Լոռի!D62+Արագածոտն!D62+Գեղարքունիքի!D62+Արմավիր!D62+'Արարատի և Վայոց ձոր'!D62+Տավուշ!D61+Սյունիք!D62) -> 0 | E63: =SUM('Երևան քաղաք'!E62+Շիրակ!E62+Կոտայք!E62+Լոռի!E62+Արագածոտն!E62+Գեղարքունիքի!E62+Արմավիր!E62+'Արարատի և Վայոց ձոր'!E62+Տավուշ!E61+Սյունիք!E62) -> 0 | F63: =SUM('Երևան քաղաք'!F62+Շիրակ!F62+Կոտայք!F62+Լոռի!F62+Արագածոտն!F62+Գեղարքունիքի!F62+Արմավիր!F62+'Արարատի և Վայոց ձոր'!F62+Տավուշ!F61+Սյունիք!F62) -> 0 | G63: =SUM('Երևան քաղաք'!G62+Շիրակ!G62+Կոտայք!G62+Լոռի!G62+Արագածոտն!G62+Գեղարքունիքի!G62+Արմավիր!G62+'Արարատի և Վայոց ձոր'!G62+Տավուշ!G61+Սյունիք!G62) -> 0 | H63: =SUM('Երևան քաղաք'!H62+Շիրակ!H62+Կոտայք!H62+Լոռի!H62+Արագածոտն!H62+Գեղարքունիքի!H62+Արմավիր!H62+'Արարատի և Վայոց ձոր'!H62+Տավուշ!H61+Սյունիք!H62) -> 0 | I63: =SUM('Երևան քաղաք'!I62+Շիրակ!I62+Կոտայք!I62+Լոռի!I62+Արագածոտն!I62+Գեղարքունիքի!I62+Արմավիր!I62+'Արարատի և Վայոց ձոր'!I62+Տավուշ!I61+Սյունիք!I62) -> 1 | J63: =SUM('Երևան քաղաք'!J62+Շիրակ!J62+Կոտայք!J62+Լոռի!J62+Արագածոտն!J62+Գեղարքունիքի!J62+Արմավիր!J62+'Արարատի և Վայոց ձոր'!J62+Տավուշ!J61+Սյունիք!J62) -> 0 | K63: =SUM('Երևան քաղաք'!K62+Շիրակ!K62+Կոտայք!K62+Լոռի!K62+Արագածոտն!K62+Գեղարքունիքի!K62+Արմավիր!K62+'Արարատի և Վայոց ձոր'!K62+Տավուշ!K61+Սյունիք!K62) -> 0 | ... BZ63: =SUM('Երևան քաղաք'!BZ62+Շիրակ!BZ62+Կոտայք!BZ62+Լոռի!BZ62+Արագածոտն!BZ62+Գեղարքունիքի!BZ62+Արմավիր!BZ62+'Արարատի և Վայոց ձոր'!BZ62+Տավուշ!BZ61+Սյունիք!BZ62) -> 0 | CB63: =F63 -> 0 | CC63: =D63+E63 -> 0 | CD63: =L63 -> 1 | CE63: =I63+J63+K63 -> 1 | CF63: =W63 -> 1 | CG63: =O63+P63+Q63+R63+S63+T63+U63+V63 -> 1 | CH63: =L63 -> 1 | CI63: =W63+X63+Y63+Z63+AA63+AB63+AC63 -> 1 | CJ63: =L63 -> 1 | CK63: =AM63+AN63+AO63+AP63+AQ63 -> 1 | CL63: =L63 -> 1 | CM63: =AR63+AS63+AT63+AU63+AV63+AW63+AX63 -> 1 | CN63: =L63 -> 1 | CO63: =AY63+AZ63+BA63 -> 1 | CP63: =BF63 -> 0 | CQ63: =BC63+BD63+BE63 -> 0 | CR63: =BF63 -> 0 | CS63: =BG63+BH63+BI63+BJ63 -> 0 | CT63: =BS63 -> 0 | CU63: =BO63+BP63+BQ63+BR63 -> 0
A64: 4.13 | B64: Կեղծ ընտրական քվեաթերթիկներ կամ քվեարկության ծրարներ, դրոշմանիշեր, կտրոններ պատրաստելը կամ ակնհայտ կեղծ ընտրական քվեաթերթիկներ կամ քվեարկության ծրարներ, դրոշմանիշեր, կտրոններ հանձնելը կամ իրացնելը | C64: 154.1 | D64: =SUM('Երևան քաղաք'!D63+Շիրակ!D63+Կոտայք!D63+Լոռի!D63+Արագածոտն!D63+Գեղարքունիքի!D63+Արմավիր!D63+'Արարատի և Վայոց ձոր'!D63+Տավուշ!D62+Սյունիք!D63) -> 0 | E64: =SUM('Երևան քաղաք'!E63+Շիրակ!E63+Կոտայք!E63+Լոռի!E63+Արագածոտն!E63+Գեղարքունիքի!E63+Արմավիր!E63+'Արարատի և Վայոց ձոր'!E63+Տավուշ!E62+Սյունիք!E63) -> 0 | F64: =SUM('Երևան քաղաք'!F63+Շիրակ!F63+Կոտայք!F63+Լոռի!F63+Արագածոտն!F63+Գեղարքունիքի!F63+Արմավիր!F63+'Արարատի և Վայոց ձոր'!F63+Տավուշ!F62+Սյունիք!F63) -> 0 | G64: =SUM('Երևան քաղաք'!G63+Շիրակ!G63+Կոտայք!G63+Լոռի!G63+Արագածոտն!G63+Գեղարքունիքի!G63+Արմավիր!G63+'Արարատի և Վայոց ձոր'!G63+Տավուշ!G62+Սյունիք!G63) -> 0 | H64: =SUM('Երևան քաղաք'!H63+Շիրակ!H63+Կոտայք!H63+Լոռի!H63+Արագածոտն!H63+Գեղարքունիքի!H63+Արմավիր!H63+'Արարատի և Վայոց ձոր'!H63+Տավուշ!H62+Սյունիք!H63) -> 0 | I64: =SUM('Երևան քաղաք'!I63+Շիրակ!I63+Կոտայք!I63+Լոռի!I63+Արագածոտն!I63+Գեղարքունիքի!I63+Արմավիր!I63+'Արարատի և Վայոց ձոր'!I63+Տավուշ!I62+Սյունիք!I63) -> 0 | J64: =SUM('Երևան քաղաք'!J63+Շիրակ!J63+Կոտայք!J63+Լոռի!J63+Արագածոտն!J63+Գեղարքունիքի!J63+Արմավիր!J63+'Արարատի և Վայոց ձոր'!J63+Տավուշ!J62+Սյունիք!J63) -> 0 | K64: =SUM('Երևան քաղաք'!K63+Շիրակ!K63+Կոտայք!K63+Լոռի!K63+Արագածոտն!K63+Գեղարքունիքի!K63+Արմավիր!K63+'Արարատի և Վայոց ձոր'!K63+Տավուշ!K62+Սյունիք!K63) -> 0 | ... BZ64: =SUM('Երևան քաղաք'!BZ63+Շիրակ!BZ63+Կոտայք!BZ63+Լոռի!BZ63+Արագածոտն!BZ63+Գեղարքունիքի!BZ63+Արմավիր!BZ63+'Արարատի և Վայոց ձոր'!BZ63+Տավուշ!BZ62+Սյունիք!BZ63) -> 0 | CB64: =F64 -> 0 | CC64: =D64+E64 -> 0 | CD64: =L64 -> 0 | CE64: =I64+J64+K64 -> 0 | CF64: =W64 -> 0 | CG64: =O64+P64+Q64+R64+S64+T64+U64+V64 -> 0 | CH64: =L64 -> 0 | CI64: =W64+X64+Y64+Z64+AA64+AB64+AC64 -> 0 | CJ64: =L64 -> 0 | CK64: =AM64+AN64+AO64+AP64+AQ64 -> 0 | CL64: =L64 -> 0 | CM64: =AR64+AS64+AT64+AU64+AV64+AW64+AX64 -> 0 | CN64: =L64 -> 0 | CO64: =AY64+AZ64+BA64 -> 0 | CP64: =BF64 -> 0 | CQ64: =BC64+BD64+BE64 -> 0 | CR64: =BF64 -> 0 | CS64: =BG64+BH64+BI64+BJ64 -> 0 | CT64: =BS64 -> 0 | CU64: =BO64+BP64+BQ64+BR64 -> 0
... A80: 4.27 | B80: Լրագրողի մասնագիտական օրինական գործողությանը խոչընդոտելը | C80: 164 | D80: =SUM('Երևան քաղաք'!D79+Շիրակ!D79+Կոտայք!D79+Լոռի!D79+Արագածոտն!D79+Գեղարքունիքի!D79+Արմավիր!D79+'Արարատի և Վայոց ձոր'!D79+Տավուշ!D78+Սյունիք!D79) -> 0 | E80: =SUM('Երևան քաղաք'!E79+Շիրակ!E79+Կոտայք!E79+Լոռի!E79+Արագածոտն!E79+Գեղարքունիքի!E79+Արմավիր!E79+'Արարատի և Վայոց ձոր'!E79+Տավուշ!E78+Սյունիք!E79) -> 0 | F80: =SUM('Երևան քաղաք'!F79+Շիրակ!F79+Կոտայք!F79+Լոռի!F79+Արագածոտն!F79+Գեղարքունիքի!F79+Արմավիր!F79+'Արարատի և Վայոց ձոր'!F79+Տավուշ!F78+Սյունիք!F79) -> 0 | G80: =SUM('Երևան քաղաք'!G79+Շիրակ!G79+Կոտայք!G79+Լոռի!G79+Արագածոտն!G79+Գեղարքունիքի!G79+Արմավիր!G79+'Արարատի և Վայոց ձոր'!G79+Տավուշ!G78+Սյունիք!G79) -> 0 | H80: =SUM('Երևան քաղաք'!H79+Շիրակ!H79+Կոտայք!H79+Լոռի!H79+Արագածոտն!H79+Գեղարքունիքի!H79+Արմավիր!H79+'Արարատի և Վայոց ձոր'!H79+Տավուշ!H78+Սյունիք!H79) -> 0 | I80: =SUM('Երևան քաղաք'!I79+Շիրակ!I79+Կոտայք!I79+Լոռի!I79+Արագածոտն!I79+Գեղարքունիքի!I79+Արմավիր!I79+'Արարատի և Վայոց ձոր'!I79+Տավուշ!I78+Սյունիք!I79) -> 2 | J80: =SUM('Երևան քաղաք'!J79+Շիրակ!J79+Կոտայք!J79+Լոռի!J79+Արագածոտն!J79+Գեղարքունիքի!J79+Արմավիր!J79+'Արարատի և Վայոց ձոր'!J79+Տավուշ!J78+Սյունիք!J79) -> 0 | K80: =SUM('Երևան քաղաք'!K79+Շիրակ!K79+Կոտայք!K79+Լոռի!K79+Արագածոտն!K79+Գեղարքունիքի!K79+Արմավիր!K79+'Արարատի և Վայոց ձոր'!K79+Տավուշ!K78+Սյունիք!K79) -> 0 | ... BZ80: =SUM('Երևան քաղաք'!BZ79+Շիրակ!BZ79+Կոտայք!BZ79+Լոռի!BZ79+Արագածոտն!BZ79+Գեղարքունիքի!BZ79+Արմավիր!BZ79+'Արարատի և Վայոց ձոր'!BZ79+Տավուշ!BZ78+Սյունիք!BZ79) -> 0 | CB80: =F80 -> 0 | CC80: =D80+E80 -> 0 | CD80: =L80 -> 2 | CE80: =I80+J80+K80 -> 2 | CF80: =W80 -> 0 | CG80: =O80+P80+Q80+R80+S80+T80+U80+V80 -> 0 | CH80: =L80 -> 2 | CI80: =W80+X80+Y80+Z80+AA80+AB80+AC80 -> 2 | CJ80: =L80 -> 2 | CK80: =AM80+AN80+AO80+AP80+AQ80 -> 2 | CL80: =L80 -> 2 | CM80: =AR80+AS80+AT80+AU80+AV80+AW80+AX80 -> 2 | CN80: =L80 -> 2 | CO80: =AY80+AZ80+BA80 -> 2 | CP80: =BF80 -> 0 | CQ80: =BC80+BD80+BE80 -> 0 | CR80: =BF80 -> 0 | CS80: =BG80+BH80+BI80+BJ80 -> 0 | CT80: =BS80 -> 0 | CU80: =BO80+BP80+BQ80+BR80 -> 0
A81: 4.28 | B81: Այլ հանցագործություններ | D81: =SUM('Երևան քաղաք'!D80+Շիրակ!D80+Կոտայք!D80+Լոռի!D80+Արագածոտն!D80+Գեղարքունիքի!D80+Արմավիր!D80+'Արարատի և Վայոց ձոր'!D80+Տավուշ!D79+Սյունիք!D80) -> 0 | E81: =SUM('Երևան քաղաք'!E80+Շիրակ!E80+Կոտայք!E80+Լոռի!E80+Արագածոտն!E80+Գեղարքունիքի!E80+Արմավիր!E80+'Արարատի և Վայոց ձոր'!E80+Տավուշ!E79+Սյունիք!E80) -> 0 | F81: =SUM('Երևան քաղաք'!F80+Շիրակ!F80+Կոտայք!F80+Լոռի!F80+Արագածոտն!F80+Գեղարքունիքի!F80+Արմավիր!F80+'Արարատի և Վայոց ձոր'!F80+Տավուշ!F79+Սյունիք!F80) -> 0 | G81: =SUM('Երևան քաղաք'!G80+Շիրակ!G80+Կոտայք!G80+Լոռի!G80+Արագածոտն!G80+Գեղարքունիքի!G80+Արմավիր!G80+'Արարատի և Վայոց ձոր'!G80+Տավուշ!G79+Սյունիք!G80) -> 0 | H81: =SUM('Երևան քաղաք'!H80+Շիրակ!H80+Կոտայք!H80+Լոռի!H80+Արագածոտն!H80+Գեղարքունիքի!H80+Արմավիր!H80+'Արարատի և Վայոց ձոր'!H80+Տավուշ!H79+Սյունիք!H80) -> 0 | I81: =SUM('Երևան քաղաք'!I80+Շիրակ!I80+Կոտայք!I80+Լոռի!I80+Արագածոտն!I80+Գեղարքունիքի!I80+Արմավիր!I80+'Արարատի և Վայոց ձոր'!I80+Տավուշ!I79+Սյունիք!I80) -> 0 | J81: =SUM('Երևան քաղաք'!J80+Շիրակ!J80+Կոտայք!J80+Լոռի!J80+Արագածոտն!J80+Գեղարքունիքի!J80+Արմավիր!J80+'Արարատի և Վայոց ձոր'!J80+Տավուշ!J79+Սյունիք!J80) -> 0 | K81: =SUM('Երևան քաղաք'!K80+Շիրակ!K80+Կոտայք!K80+Լոռի!K80+Արագածոտն!K80+Գեղարքունիքի!K80+Արմավիր!K80+'Արարատի և Վայոց ձոր'!K80+Տավուշ!K79+Սյունիք!K80) -> 0 | ... BZ81: =SUM('Երևան քաղաք'!BZ80+Շիրակ!BZ80+Կոտայք!BZ80+Լոռի!BZ80+Արագածոտն!BZ80+Գեղարքունիքի!BZ80+Արմավիր!BZ80+'Արարատի և Վայոց ձոր'!BZ80+Տավուշ!BZ79+Սյունիք!BZ80) -> 0 | CB81: =F81 -> 0 | CC81: =D81+E81 -> 0 | CD81: =L81 -> 0 | CE81: =I81+J81+K81 -> 0 | CF81: =W81 -> 0 | CG81: =O81+P81+Q81+R81+S81+T81+U81+V81 -> 0 | CH81: =L81 -> 0 | CI81: =W81+X81+Y81+Z81+AA81+AB81+AC81 -> 0 | CJ81: =L81 -> 0 | CK81: =AM81+AN81+AO81+AP81+AQ81 -> 0 | CL81: =L81 -> 0 | CM81: =AR81+AS81+AT81+AU81+AV81+AW81+AX81 -> 0 | CN81: =L81 -> 0 | CO81: =AY81+AZ81+BA81 -> 0 | CP81: =BF81 -> 0 | CQ81: =BC81+BD81+BE81 -> 0 | CR81: =BF81 -> 0 | CS81: =BG81+BH81+BI81+BJ81 -> 0 | CT81: =BS81 -> 0 | CU81: =BO81+BP81+BQ81+BR81 -> 0
A82: 5. | B82: Ընդամենը ընտանիքի և երեխայի շահերի դեմ ուղղված հանցագործությունները | D82: =SUM('Երևան քաղաք:Սյունիք'!D81) -> 0 | E82: =SUM('Երևան քաղաք:Սյունիք'!E81) -> 6 | F82: =SUM('Երևան քաղաք:Սյունիք'!F81) -> 6 | G82: =SUM('Երևան քաղաք:Սյունիք'!G81) -> 0 | H82: =SUM('Երևան քաղաք:Սյունիք'!H81) -> 0 | I82: =SUM('Երևան քաղաք:Սյունիք'!I81) -> 0 | J82: =SUM('Երևան քաղաք:Սյունիք'!J81) -> 0 | K82: =SUM('Երևան քաղաք:Սյունիք'!K81) -> 0 | ... CA82: =SUM('Երևան քաղաք:Սյունիք'!CA81) -> 0 | CB82: =F82 -> 6 | CC82: =D82+E82 -> 6 | CD82: =L82 -> 0 | CE82: =I82+J82+K82 -> 0 | CF82: =W82 -> 0 | CG82: =O82+P82+Q82+R82+S82+T82+U82+V82 -> 0 | CH82: =L82 -> 0 | CI82: =W82+X82+Y82+Z82+AA82+AB82+AC82 -> 0 | CJ82: =L82 -> 0 | CK82: =AM82+AN82+AO82+AP82+AQ82 -> 0 | CL82: =L82 -> 0 | CM82: =AR82+AS82+AT82+AU82+AV82+AW82+AX82 -> 0 | CN82: =L82 -> 0 | CO82: =AY82+AZ82+BA82 -> 0 | CP82: =BF82 -> 0 | CQ82: =BC82+BD82+BE82 -> 0 | CR82: =BF82 -> 0 | CS82: =BG82+BH82+BI82+BJ82 -> 0 | CT82: =BS82 -> 0 | CU82: =BO82+BP82+BQ82+BR82 -> 0
A83: 5.1 | B83: Անչափահասին հանցանքի կատարմանը ներգրավելը | C83: 165 | D83: =SUM('Երևան քաղաք'!D82+Շիրակ!D82+Կոտայք!D82+Լոռի!D82+Արագածոտն!D82+Գեղարքունիքի!D82+Արմավիր!D82+'Արարատի և Վայոց ձոր'!D82+Տավուշ!D81+Սյունիք!D82) -> 0 | E83: =SUM('Երևան քաղաք'!E82+Շիրակ!E82+Կոտայք!E82+Լոռի!E82+Արագածոտն!E82+Գեղարքունիքի!E82+Արմավիր!E82+'Արարատի և Վայոց ձոր'!E82+Տավուշ!E81+Սյունիք!E82) -> 0 | F83: =SUM('Երևան քաղաք'!F82+Շիրակ!F82+Կոտայք!F82+Լոռի!F82+Արագածոտն!F82+Գեղարքունիքի!F82+Արմավիր!F82+'Արարատի և Վայոց ձոր'!F82+Տավուշ!F81+Սյունիք!F82) -> 0 | G83: =SUM('Երևան քաղաք'!G82+Շիրակ!G82+Կոտայք!G82+Լոռի!G82+Արագածոտն!G82+Գեղարքունիքի!G82+Արմավիր!G82+'Արարատի և Վայոց ձոր'!G82+Տավուշ!G81+Սյունիք!G82) -> 0 | H83: =SUM('Երևան քաղաք'!H82+Շիրակ!H82+Կոտայք!H82+Լոռի!H82+Արագածոտն!H82+Գեղարքունիքի!H82+Արմավիր!H82+'Արարատի և Վայոց ձոր'!H82+Տավուշ!H81+Սյունիք!H82) -> 0 | I83: =SUM('Երևան քաղաք'!I82+Շիրակ!I82+Կոտայք!I82+Լոռի!I82+Արագածոտն!I82+Գեղարքունիքի!I82+Արմավիր!I82+'Արարատի և Վայոց ձոր'!I82+Տավուշ!I81+Սյունիք!I82) -> 0 | J83: =SUM('Երևան քաղաք'!J82+Շիրակ!J82+Կոտայք!J82+Լոռի!J82+Արագածոտն!J82+Գեղարքունիքի!J82+Արմավիր!J82+'Արարատի և Վայոց ձոր'!J82+Տավուշ!J81+Սյունիք!J82) -> 0 | K83: =SUM('Երևան քաղաք'!K82+Շիրակ!K82+Կոտայք!K82+Լոռի!K82+Արագածոտն!K82+Գեղարքունիքի!K82+Արմավիր!K82+'Արարատի և Վայոց ձոր'!K82+Տավուշ!K81+Սյունիք!K82) -> 0 | ... BZ83: =SUM('Երևան քաղաք'!BZ82+Շիրակ!BZ82+Կոտայք!BZ82+Լոռի!BZ82+Արագածոտն!BZ82+Գեղարքունիքի!BZ82+Արմավիր!BZ82+'Արարատի և Վայոց ձոր'!BZ82+Տավուշ!BZ81+Սյունիք!BZ82) -> 0 | CB83: =F83 -> 0 | CC83: =D83+E83 -> 0 | CD83: =L83 -> 0 | CE83: =I83+J83+K83 -> 0 | CF83: =W83 -> 0 | CG83: =O83+P83+Q83+R83+S83+T83+U83+V83 -> 0 | CH83: =L83 -> 0 | CI83: =W83+X83+Y83+Z83+AA83+AB83+AC83 -> 0 | CJ83: =L83 -> 0 | CK83: =AM83+AN83+AO83+AP83+AQ83 -> 0 | CL83: =L83 -> 0 | CM83: =AR83+AS83+AT83+AU83+AV83+AW83+AX83 -> 0 | CN83: =L83 -> 0 | CO83: =AY83+AZ83+BA83 -> 0 | CP83: =BF83 -> 0 | CQ83: =BC83+BD83+BE83 -> 0 | CR83: =BF83 -> 0 | CS83: =BG83+BH83+BI83+BJ83 -> 0 | CT83: =BS83 -> 0 | CU83: =BO83+BP83+BQ83+BR83 -> 0
A84: 5.2 | B84: Երեխային պոռնկության կամ պոռնկագրական բնույթի նյութեր կամ առարկաներ պատրաստելու հետ կապված գործողություններ կատարելուն ներգրավելը | C84: 166 | D84: =SUM('Երևան քաղաք'!D83+Շիրակ!D83+Կոտայք!D83+Լոռի!D83+Արագածոտն!D83+Գեղարքունիքի!D83+Արմավիր!D83+'Արարատի և Վայոց ձոր'!D83+Տավուշ!D82+Սյունիք!D83) -> 0 | E84: =SUM('Երևան քաղաք'!E83+Շիրակ!E83+Կոտայք!E83+Լոռի!E83+Արագածոտն!E83+Գեղարքունիքի!E83+Արմավիր!E83+'Արարատի և Վայոց ձոր'!E83+Տավուշ!E82+Սյունիք!E83) -> 0 | F84: =SUM('Երևան քաղաք'!F83+Շիրակ!F83+Կոտայք!F83+Լոռի!F83+Արագածոտն!F83+Գեղարքունիքի!F83+Արմավիր!F83+'Արարատի և Վայոց ձոր'!F83+Տավուշ!F82+Սյունիք!F83) -> 0 | G84: =SUM('Երևան քաղաք'!G83+Շիրակ!G83+Կոտայք!G83+Լոռի!G83+Արագածոտն!G83+Գեղարքունիքի!G83+Արմավիր!G83+'Արարատի և Վայոց ձոր'!G83+Տավուշ!G82+Սյունիք!G83) -> 0 | H84: =SUM('Երևան քաղաք'!H83+Շիրակ!H83+Կոտայք!H83+Լոռի!H83+Արագածոտն!H83+Գեղարքունիքի!H83+Արմավիր!H83+'Արարատի և Վայոց ձոր'!H83+Տավուշ!H82+Սյունիք!H83) -> 0 | I84: =SUM('Երևան քաղաք'!I83+Շիրակ!I83+Կոտայք!I83+Լոռի!I83+Արագածոտն!I83+Գեղարքունիքի!I83+Արմավիր!I83+'Արարատի և Վայոց ձոր'!I83+Տավուշ!I82+Սյունիք!I83) -> 0 | J84: =SUM('Երևան քաղաք'!J83+Շիրակ!J83+Կոտայք!J83+Լոռի!J83+Արագածոտն!J83+Գեղարքունիքի!J83+Արմավիր!J83+'Արարատի և Վայոց ձոր'!J83+Տավուշ!J82+Սյունիք!J83) -> 0 | K84: =SUM('Երևան քաղաք'!K83+Շիրակ!K83+Կոտայք!K83+Լոռի!K83+Արագածոտն!K83+Գեղարքունիքի!K83+Արմավիր!K83+'Արարատի և Վայոց ձոր'!K83+Տավուշ!K82+Սյունիք!K83) -> 0 | ... BZ84: =SUM('Երևան քաղաք'!BZ83+Շիրակ!BZ83+Կոտայք!BZ83+Լոռի!BZ83+Արագածոտն!BZ83+Գեղարքունիքի!BZ83+Արմավիր!BZ83+'Արարատի և Վայոց ձոր'!BZ83+Տավուշ!BZ82+Սյունիք!BZ83) -> 0 | CB84: =F84 -> 0 | CC84: =D84+E84 -> 0 | CD84: =L84 -> 0 | CE84: =I84+J84+K84 -> 0 | CF84: =W84 -> 0 | CG84: =O84+P84+Q84+R84+S84+T84+U84+V84 -> 0 | CH84: =L84 -> 0 | CI84: =W84+X84+Y84+Z84+AA84+AB84+AC84 -> 0 | CJ84: =L84 -> 0 | CK84: =AM84+AN84+AO84+AP84+AQ84 -> 0 | CL84: =L84 -> 0 | CM84: =AR84+AS84+AT84+AU84+AV84+AW84+AX84 -> 0 | CN84: =L84 -> 0 | CO84: =AY84+AZ84+BA84 -> 0 | CP84: =BF84 -> 0 | CQ84: =BC84+BD84+BE84 -> 0 | CR84: =BF84 -> 0 | CS84: =BG84+BH84+BI84+BJ84 -> 0 | CT84: =BS84 -> 0 | CU84: =BO84+BP84+BQ84+BR84 -> 0
A85: 5.2.1 | B85: Երեխային ոգելից խմիչքների օգտագործմանը, ուժեղ ներգործող կամ այլ թմրեցնող նյութերի ոչ բժշկական օգտագործմանը, թափառաշրջիկությանը ներգրավելը կամ մուրացկանության հետ կապված գործողություններ կատարելուն ներգրավելը | C85: 166.1 | D85: =SUM('Երևան քաղաք'!D84+Շիրակ!D84+Կոտայք!D84+Լոռի!D84+Արագածոտն!D84+Գեղարքունիքի!D84+Արմավիր!D84+'Արարատի և Վայոց ձոր'!D84+Տավուշ!D83+Սյունիք!D84) -> 0 | E85: =SUM('Երևան քաղաք'!E84+Շիրակ!E84+Կոտայք!E84+Լոռի!E84+Արագածոտն!E84+Գեղարքունիքի!E84+Արմավիր!E84+'Արարատի և Վայոց ձոր'!E84+Տավուշ!E83+Սյունիք!E84) -> 0 | F85: =SUM('Երևան քաղաք'!F84+Շիրակ!F84+Կոտայք!F84+Լոռի!F84+Արագածոտն!F84+Գեղարքունիքի!F84+Արմավիր!F84+'Արարատի և Վայոց ձոր'!F84+Տավուշ!F83+Սյունիք!F84) -> 0 | G85: =SUM('Երևան քաղաք'!G84+Շիրակ!G84+Կոտայք!G84+Լոռի!G84+Արագածոտն!G84+Գեղարքունիքի!G84+Արմավիր!G84+'Արարատի և Վայոց ձոր'!G84+Տավուշ!G83+Սյունիք!G84) -> 0 | H85: =SUM('Երևան քաղաք'!H84+Շիրակ!H84+Կոտայք!H84+Լոռի!H84+Արագածոտն!H84+Գեղարքունիքի!H84+Արմավիր!H84+'Արարատի և Վայոց ձոր'!H84+Տավուշ!H83+Սյունիք!H84) -> 0 | I85: =SUM('Երևան քաղաք'!I84+Շիրակ!I84+Կոտայք!I84+Լոռի!I84+Արագածոտն!I84+Գեղարքունիքի!I84+Արմավիր!I84+'Արարատի և Վայոց ձոր'!I84+Տավուշ!I83+Սյունիք!I84) -> 0 | J85: =SUM('Երևան քաղաք'!J84+Շիրակ!J84+Կոտայք!J84+Լոռի!J84+Արագածոտն!J84+Գեղարքունիքի!J84+Արմավիր!J84+'Արարատի և Վայոց ձոր'!J84+Տավուշ!J83+Սյունիք!J84) -> 0 | K85: =SUM('Երևան քաղաք'!K84+Շիրակ!K84+Կոտայք!K84+Լոռի!K84+Արագածոտն!K84+Գեղարքունիքի!K84+Արմավիր!K84+'Արարատի և Վայոց ձոր'!K84+Տավուշ!K83+Սյունիք!K84) -> 0 | ... BZ85: =SUM('Երևան քաղաք'!BZ84+Շիրակ!BZ84+Կոտայք!BZ84+Լոռի!BZ84+Արագածոտն!BZ84+Գեղարքունիքի!BZ84+Արմավիր!BZ84+'Արարատի և Վայոց ձոր'!BZ84+Տավուշ!BZ83+Սյունիք!BZ84) -> 0 | CB85: =F85 -> 0 | CC85: =D85+E85 -> 0 | CD85: =L85 -> 0 | CE85: =I85+J85+K85 -> 0 | CF85: =W85 -> 0 | CG85: =O85+P85+Q85+R85+S85+T85+U85+V85 -> 0 | CH85: =L85 -> 0 | CI85: =W85+X85+Y85+Z85+AA85+AB85+AC85 -> 0 | CJ85: =L85 -> 0 | CK85: =AM85+AN85+AO85+AP85+AQ85 -> 0 | CL85: =L85 -> 0 | CM85: =AR85+AS85+AT85+AU85+AV85+AW85+AX85 -> 0 | CN85: =L85 -> 0 | CO85: =AY85+AZ85+BA85 -> 0 | CP85: =BF85 -> 0 | CQ85: =BC85+BD85+BE85 -> 0 | CR85: =BF85 -> 0 | CS85: =BG85+BH85+BI85+BJ85 -> 0 | CT85: =BS85 -> 0 | CU85: =BO85+BP85+BQ85+BR85 -> 0
A86: 5.3 | B86: Ծնողներից երեխային ապօրինի բաժանելը կամ երեխային փոխելը | C86: 167 | D86: =SUM('Երևան քաղաք'!D85+Շիրակ!D85+Կոտայք!D85+Լոռի!D85+Արագածոտն!D85+Գեղարքունիքի!D85+Արմավիր!D85+'Արարատի և Վայոց ձոր'!D85+Տավուշ!D84+Սյունիք!D85) -> 0 | E86: =SUM('Երևան քաղաք'!E85+Շիրակ!E85+Կոտայք!E85+Լոռի!E85+Արագածոտն!E85+Գեղարքունիքի!E85+Արմավիր!E85+'Արարատի և Վայոց ձոր'!E85+Տավուշ!E84+Սյունիք!E85) -> 3 | F86: =SUM('Երևան քաղաք'!F85+Շիրակ!F85+Կոտայք!F85+Լոռի!F85+Արագածոտն!F85+Գեղարքունիքի!F85+Արմավիր!F85+'Արարատի և Վայոց ձոր'!F85+Տավուշ!F84+Սյունիք!F85) -> 3 | G86: =SUM('Երևան քաղաք'!G85+Շիրակ!G85+Կոտայք!G85+Լոռի!G85+Արագածոտն!G85+Գեղարքունիքի!G85+Արմավիր!G85+'Արարատի և Վայոց ձոր'!G85+Տավուշ!G84+Սյունիք!G85) -> 0 | H86: =SUM('Երևան քաղաք'!H85+Շիրակ!H85+Կոտայք!H85+Լոռի!H85+Արագածոտն!H85+Գեղարքունիքի!H85+Արմավիր!H85+'Արարատի և Վայոց ձոր'!H85+Տավուշ!H84+Սյունիք!H85) -> 0 | I86: =SUM('Երևան քաղաք'!I85+Շիրակ!I85+Կոտայք!I85+Լոռի!I85+Արագածոտն!I85+Գեղարքունիքի!I85+Արմավիր!I85+'Արարատի և Վայոց ձոր'!I85+Տավուշ!I84+Սյունիք!I85) -> 0 | J86: =SUM('Երևան քաղաք'!J85+Շիրակ!J85+Կոտայք!J85+Լոռի!J85+Արագածոտն!J85+Գեղարքունիքի!J85+Արմավիր!J85+'Արարատի և Վայոց ձոր'!J85+Տավուշ!J84+Սյունիք!J85) -> 0 | K86: =SUM('Երևան քաղաք'!K85+Շիրակ!K85+Կոտայք!K85+Լոռի!K85+Արագածոտն!K85+Գեղարքունիքի!K85+Արմավիր!K85+'Արարատի և Վայոց ձոր'!K85+Տավուշ!K84+Սյունիք!K85) -> 0 | ... BZ86: =SUM('Երևան քաղաք'!BZ85+Շիրակ!BZ85+Կոտայք!BZ85+Լոռի!BZ85+Արագածոտն!BZ85+Գեղարքունիքի!BZ85+Արմավիր!BZ85+'Արարատի և Վայոց ձոր'!BZ85+Տավուշ!BZ84+Սյունիք!BZ85) -> 0 | CB86: =F86 -> 3 | CC86: =D86+E86 -> 3 | CD86: =L86 -> 0 | CE86: =I86+J86+K86 -> 0 | CF86: =W86 -> 0 | CG86: =O86+P86+Q86+R86+S86+T86+U86+V86 -> 0 | CH86: =L86 -> 0 | CI86: =W86+X86+Y86+Z86+AA86+AB86+AC86 -> 0 | CJ86: =L86 -> 0 | CK86: =AM86+AN86+AO86+AP86+AQ86 -> 0 | CL86: =L86 -> 0 | CM86: =AR86+AS86+AT86+AU86+AV86+AW86+AX86 -> 0 | CN86: =L86 -> 0 | CO86: =AY86+AZ86+BA86 -> 0 | CP86: =BF86 -> 0 | CQ86: =BC86+BD86+BE86 -> 0 | CR86: =BF86 -> 0 | CS86: =BG86+BH86+BI86+BJ86 -> 0 | CT86: =BS86 -> 0 | CU86: =BO86+BP86+BQ86+BR86 -> 0
A87: 5.4 | B87: Խնամքը ստանձնելու նպատակով երեխայի առքը կամ ստանձնողի խնամքին հանձնելու նպատակով երեխայի վաճառքը | C87: 168 | D87: =SUM('Երևան քաղաք'!D86+Շիրակ!D86+Կոտայք!D86+Լոռի!D86+Արագածոտն!D86+Գեղարքունիքի!D86+Արմավիր!D86+'Արարատի և Վայոց ձոր'!D86+Տավուշ!D85+Սյունիք!D86) -> 0 | E87: =SUM('Երևան քաղաք'!E86+Շիրակ!E86+Կոտայք!E86+Լոռի!E86+Արագածոտն!E86+Գեղարքունիքի!E86+Արմավիր!E86+'Արարատի և Վայոց ձոր'!E86+Տավուշ!E85+Սյունիք!E86) -> 0 | F87: =SUM('Երևան քաղաք'!F86+Շիրակ!F86+Կոտայք!F86+Լոռի!F86+Արագածոտն!F86+Գեղարքունիքի!F86+Արմավիր!F86+'Արարատի և Վայոց ձոր'!F86+Տավուշ!F85+Սյունիք!F86) -> 0 | G87: =SUM('Երևան քաղաք'!G86+Շիրակ!G86+Կոտայք!G86+Լոռի!G86+Արագածոտն!G86+Գեղարքունիքի!G86+Արմավիր!G86+'Արարատի և Վայոց ձոր'!G86+Տավուշ!G85+Սյունիք!G86) -> 0 | H87: =SUM('Երևան քաղաք'!H86+Շիրակ!H86+Կոտայք!H86+Լոռի!H86+Արագածոտն!H86+Գեղարքունիքի!H86+Արմավիր!H86+'Արարատի և Վայոց ձոր'!H86+Տավուշ!H85+Սյունիք!H86) -> 0 | I87: =SUM('Երևան քաղաք'!I86+Շիրակ!I86+Կոտայք!I86+Լոռի!I86+Արագածոտն!I86+Գեղարքունիքի!I86+Արմավիր!I86+'Արարատի և Վայոց ձոր'!I86+Տավուշ!I85+Սյունիք!I86) -> 0 | J87: =SUM('Երևան քաղաք'!J86+Շիրակ!J86+Կոտայք!J86+Լոռի!J86+Արագածոտն!J86+Գեղարքունիքի!J86+Արմավիր!J86+'Արարատի և Վայոց ձոր'!J86+Տավուշ!J85+Սյունիք!J86) -> 0 | K87: =SUM('Երևան քաղաք'!K86+Շիրակ!K86+Կոտայք!K86+Լոռի!K86+Արագածոտն!K86+Գեղարքունիքի!K86+Արմավիր!K86+'Արարատի և Վայոց ձոր'!K86+Տավուշ!K85+Սյունիք!K86) -> 0 | ... BZ87: =SUM('Երևան քաղաք'!BZ86+Շիրակ!BZ86+Կոտայք!BZ86+Լոռի!BZ86+Արագածոտն!BZ86+Գեղարքունիքի!BZ86+Արմավիր!BZ86+'Արարատի և Վայոց ձոր'!BZ86+Տավուշ!BZ85+Սյունիք!BZ86) -> 0 | CB87: =F87 -> 0 | CC87: =D87+E87 -> 0 | CD87: =L87 -> 0 | CE87: =I87+J87+K87 -> 0 | CF87: =W87 -> 0 | CG87: =O87+P87+Q87+R87+S87+T87+U87+V87 -> 0 | CH87: =L87 -> 0 | CI87: =W87+X87+Y87+Z87+AA87+AB87+AC87 -> 0 | CJ87: =L87 -> 0 | CK87: =AM87+AN87+AO87+AP87+AQ87 -> 0 | CL87: =L87 -> 0 | CM87: =AR87+AS87+AT87+AU87+AV87+AW87+AX87 -> 0 | CN87: =L87 -> 0 | CO87: =AY87+AZ87+BA87 -> 0 | CP87: =BF87 -> 0 | CQ87: =BC87+BD87+BE87 -> 0 | CR87: =BF87 -> 0 | CS87: =BG87+BH87+BI87+BJ87 -> 0 | CT87: =BS87 -> 0 | CU87: =BO87+BP87+BQ87+BR87 -> 0
A88: 5.5 | B88: Որդեգրման գաղտնիքը հրապարակելը կամ որդեգրման համաձայնություն տալուն հակելը կամ հարկադրելը | C88: 169 | D88: =SUM('Երևան քաղաք'!D87+Շիրակ!D87+Կոտայք!D87+Լոռի!D87+Արագածոտն!D87+Գեղարքունիքի!D87+Արմավիր!D87+'Արարատի և Վայոց ձոր'!D87+Տավուշ!D86+Սյունիք!D87) -> 0 | E88: =SUM('Երևան քաղաք'!E87+Շիրակ!E87+Կոտայք!E87+Լոռի!E87+Արագածոտն!E87+Գեղարքունիքի!E87+Արմավիր!E87+'Արարատի և Վայոց ձոր'!E87+Տավուշ!E86+Սյունիք!E87) -> 0 | F88: =SUM('Երևան քաղաք'!F87+Շիրակ!F87+Կոտայք!F87+Լոռի!F87+Արագածոտն!F87+Գեղարքունիքի!F87+Արմավիր!F87+'Արարատի և Վայոց ձոր'!F87+Տավուշ!F86+Սյունիք!F87) -> 0 | G88: =SUM('Երևան քաղաք'!G87+Շիրակ!G87+Կոտայք!G87+Լոռի!G87+Արագածոտն!G87+Գեղարքունիքի!G87+Արմավիր!G87+'Արարատի և Վայոց ձոր'!G87+Տավուշ!G86+Սյունիք!G87) -> 0 | H88: =SUM('Երևան քաղաք'!H87+Շիրակ!H87+Կոտայք!H87+Լոռի!H87+Արագածոտն!H87+Գեղարքունիքի!H87+Արմավիր!H87+'Արարատի և Վայոց ձոր'!H87+Տավուշ!H86+Սյունիք!H87) -> 0 | I88: =SUM('Երևան քաղաք'!I87+Շիրակ!I87+Կոտայք!I87+Լոռի!I87+Արագածոտն!I87+Գեղարքունիքի!I87+Արմավիր!I87+'Արարատի և Վայոց ձոր'!I87+Տավուշ!I86+Սյունիք!I87) -> 0 | J88: =SUM('Երևան քաղաք'!J87+Շիրակ!J87+Կոտայք!J87+Լոռի!J87+Արագածոտն!J87+Գեղարքունիքի!J87+Արմավիր!J87+'Արարատի և Վայոց ձոր'!J87+Տավուշ!J86+Սյունիք!J87) -> 0 | K88: =SUM('Երևան քաղաք'!K87+Շիրակ!K87+Կոտայք!K87+Լոռի!K87+Արագածոտն!K87+Գեղարքունիքի!K87+Արմավիր!K87+'Արարատի և Վայոց ձոր'!K87+Տավուշ!K86+Սյունիք!K87) -> 0 | ... BZ88: =SUM('Երևան քաղաք'!BZ87+Շիրակ!BZ87+Կոտայք!BZ87+Լոռի!BZ87+Արագածոտն!BZ87+Գեղարքունիքի!BZ87+Արմավիր!BZ87+'Արարատի և Վայոց ձոր'!BZ87+Տավուշ!BZ86+Սյունիք!BZ87) -> 0 | CB88: =F88 -> 0 | CC88: =D88+E88 -> 0 | CD88: =L88 -> 0 | CE88: =I88+J88+K88 -> 0 | CF88: =W88 -> 0 | CG88: =O88+P88+Q88+R88+S88+T88+U88+V88 -> 0 | CH88: =L88 -> 0 | CI88: =W88+X88+Y88+Z88+AA88+AB88+AC88 -> 0 | CJ88: =L88 -> 0 | CK88: =AM88+AN88+AO88+AP88+AQ88 -> 0 | CL88: =L88 -> 0 | CM88: =AR88+AS88+AT88+AU88+AV88+AW88+AX88 -> 0 | CN88: =L88 -> 0 | CO88: =AY88+AZ88+BA88 -> 0 | CP88: =BF88 -> 0 | CQ88: =BC88+BD88+BE88 -> 0 | CR88: =BF88 -> 0 | CS88: =BG88+BH88+BI88+BJ88 -> 0 | CT88: =BS88 -> 0 | CU88: =BO88+BP88+BQ88+BR88 -> 0
A89: 5.6 | B89: Քաղաքացիական կացության ակտերի գրանցման մարմիններին սուտ տեղեկություններ հաղորդելը | C89: 169.1 | D89: =SUM('Երևան քաղաք'!D88+Շիրակ!D88+Կոտայք!D88+Լոռի!D88+Արագածոտն!D88+Գեղարքունիքի!D88+Արմավիր!D88+'Արարատի և Վայոց ձոր'!D88+Տավուշ!D87+Սյունիք!D88) -> 0 | E89: =SUM('Երևան քաղաք'!E88+Շիրակ!E88+Կոտայք!E88+Լոռի!E88+Արագածոտն!E88+Գեղարքունիքի!E88+Արմավիր!E88+'Արարատի և Վայոց ձոր'!E88+Տավուշ!E87+Սյունիք!E88) -> 1 | F89: =SUM('Երևան քաղաք'!F88+Շիրակ!F88+Կոտայք!F88+Լոռի!F88+Արագածոտն!F88+Գեղարքունիքի!F88+Արմավիր!F88+'Արարատի և Վայոց ձոր'!F88+Տավուշ!F87+Սյունիք!F88) -> 1 | G89: =SUM('Երևան քաղաք'!G88+Շիրակ!G88+Կոտայք!G88+Լոռի!G88+Արագածոտն!G88+Գեղարքունիքի!G88+Արմավիր!G88+'Արարատի և Վայոց ձոր'!G88+Տավուշ!G87+Սյունիք!G88) -> 0 | H89: =SUM('Երևան քաղաք'!H88+Շիրակ!H88+Կոտայք!H88+Լոռի!H88+Արագածոտն!H88+Գեղարքունիքի!H88+Արմավիր!H88+'Արարատի և Վայոց ձոր'!H88+Տավուշ!H87+Սյունիք!H88) -> 0 | I89: =SUM('Երևան քաղաք'!I88+Շիրակ!I88+Կոտայք!I88+Լոռի!I88+Արագածոտն!I88+Գեղարքունիքի!I88+Արմավիր!I88+'Արարատի և Վայոց ձոր'!I88+Տավուշ!I87+Սյունիք!I88) -> 0 | J89: =SUM('Երևան քաղաք'!J88+Շիրակ!J88+Կոտայք!J88+Լոռի!J88+Արագածոտն!J88+Գեղարքունիքի!J88+Արմավիր!J88+'Արարատի և Վայոց ձոր'!J88+Տավուշ!J87+Սյունիք!J88) -> 0 | K89: =SUM('Երևան քաղաք'!K88+Շիրակ!K88+Կոտայք!K88+Լոռի!K88+Արագածոտն!K88+Գեղարքունիքի!K88+Արմավիր!K88+'Արարատի և Վայոց ձոր'!K88+Տավուշ!K87+Սյունիք!K88) -> 0 | ... BZ89: =SUM('Երևան քաղաք'!BZ88+Շիրակ!BZ88+Կոտայք!BZ88+Լոռի!BZ88+Արագածոտն!BZ88+Գեղարքունիքի!BZ88+Արմավիր!BZ88+'Արարատի և Վայոց ձոր'!BZ88+Տավուշ!BZ87+Սյունիք!BZ88) -> 0 | CB89: =F89 -> 1 | CC89: =D89+E89 -> 1 | CD89: =L89 -> 0 | CE89: =I89+J89+K89 -> 0 | CF89: =W89 -> 0 | CG89: =O89+P89+Q89+R89+S89+T89+U89+V89 -> 0 | CH89: =L89 -> 0 | CI89: =W89+X89+Y89+Z89+AA89+AB89+AC89 -> 0 | CJ89: =L89 -> 0 | CK89: =AM89+AN89+AO89+AP89+AQ89 -> 0 | CL89: =L89 -> 0 | CM89: =AR89+AS89+AT89+AU89+AV89+AW89+AX89 -> 0 | CN89: =L89 -> 0 | CO89: =AY89+AZ89+BA89 -> 0 | CP89: =BF89 -> 0 | CQ89: =BC89+BD89+BE89 -> 0 | CR89: =BF89 -> 0 | CS89: =BG89+BH89+BI89+BJ89 -> 0 | CT89: =BS89 -> 0 | CU89: =BO89+BP89+BQ89+BR89 -> 0
A90: 5.7 | B90: Երեխային դաստիարակելու պարտականությունը չկատարելը | C90: 170 | D90: =SUM('Երևան քաղաք'!D89+Շիրակ!D89+Կոտայք!D89+Լոռի!D89+Արագածոտն!D89+Գեղարքունիքի!D89+Արմավիր!D89+'Արարատի և Վայոց ձոր'!D89+Տավուշ!D88+Սյունիք!D89) -> 0 | E90: =SUM('Երևան քաղաք'!E89+Շիրակ!E89+Կոտայք!E89+Լոռի!E89+Արագածոտն!E89+Գեղարքունիքի!E89+Արմավիր!E89+'Արարատի և Վայոց ձոր'!E89+Տավուշ!E88+Սյունիք!E89) -> 0 | F90: =SUM('Երևան քաղաք'!F89+Շիրակ!F89+Կոտայք!F89+Լոռի!F89+Արագածոտն!F89+Գեղարքունիքի!F89+Արմավիր!F89+'Արարատի և Վայոց ձոր'!F89+Տավուշ!F88+Սյունիք!F89) -> 0 | G90: =SUM('Երևան քաղաք'!G89+Շիրակ!G89+Կոտայք!G89+Լոռի!G89+Արագածոտն!G89+Գեղարքունիքի!G89+Արմավիր!G89+'Արարատի և Վայոց ձոր'!G89+Տավուշ!G88+Սյունիք!G89) -> 0 | H90: =SUM('Երևան քաղաք'!H89+Շիրակ!H89+Կոտայք!H89+Լոռի!H89+Արագածոտն!H89+Գեղարքունիքի!H89+Արմավիր!H89+'Արարատի և Վայոց ձոր'!H89+Տավուշ!H88+Սյունիք!H89) -> 0 | I90: =SUM('Երևան քաղաք'!I89+Շիրակ!I89+Կոտայք!I89+Լոռի!I89+Արագածոտն!I89+Գեղարքունիքի!I89+Արմավիր!I89+'Արարատի և Վայոց ձոր'!I89+Տավուշ!I88+Սյունիք!I89) -> 0 | J90: =SUM('Երևան քաղաք'!J89+Շիրակ!J89+Կոտայք!J89+Լոռի!J89+Արագածոտն!J89+Գեղարքունիքի!J89+Արմավիր!J89+'Արարատի և Վայոց ձոր'!J89+Տավուշ!J88+Սյունիք!J89) -> 0 | K90: =SUM('Երևան քաղաք'!K89+Շիրակ!K89+Կոտայք!K89+Լոռի!K89+Արագածոտն!K89+Գեղարքունիքի!K89+Արմավիր!K89+'Արարատի և Վայոց ձոր'!K89+Տավուշ!K88+Սյունիք!K89) -> 0 | ... BZ90: =SUM('Երևան քաղաք'!BZ89+Շիրակ!BZ89+Կոտայք!BZ89+Լոռի!BZ89+Արագածոտն!BZ89+Գեղարքունիքի!BZ89+Արմավիր!BZ89+'Արարատի և Վայոց ձոր'!BZ89+Տավուշ!BZ88+Սյունիք!BZ89) -> 0 | CB90: =F90 -> 0 | CC90: =D90+E90 -> 0 | CD90: =L90 -> 0 | CE90: =I90+J90+K90 -> 0 | CF90: =W90 -> 0 | CG90: =O90+P90+Q90+R90+S90+T90+U90+V90 -> 0 | CH90: =L90 -> 0 | CI90: =W90+X90+Y90+Z90+AA90+AB90+AC90 -> 0 | CJ90: =L90 -> 0 | CK90: =AM90+AN90+AO90+AP90+AQ90 -> 0 | CL90: =L90 -> 0 | CM90: =AR90+AS90+AT90+AU90+AV90+AW90+AX90 -> 0 | CN90: =L90 -> 0 | CO90: =AY90+AZ90+BA90 -> 0 | CP90: =BF90 -> 0 | CQ90: =BC90+BD90+BE90 -> 0 | CR90: =BF90 -> 0 | CS90: =BG90+BH90+BI90+BJ90 -> 0 | CT90: =BS90 -> 0 | CU90: =BO90+BP90+BQ90+BR90 -> 0
A91: 5.8 | B91: Երեխայի կյանքի անվտանգության ապահովման կամ առողջության պահպանման պարտականությունը չկատարելը կամ ոչ պատշաճ կատարելը | C91: 171 | D91: =SUM('Երևան քաղաք'!D90+Շիրակ!D90+Կոտայք!D90+Լոռի!D90+Արագածոտն!D90+Գեղարքունիքի!D90+Արմավիր!D90+'Արարատի և Վայոց ձոր'!D90+Տավուշ!D89+Սյունիք!D90) -> 0 | E91: =SUM('Երևան քաղաք'!E90+Շիրակ!E90+Կոտայք!E90+Լոռի!E90+Արագածոտն!E90+Գեղարքունիքի!E90+Արմավիր!E90+'Արարատի և Վայոց ձոր'!E90+Տավուշ!E89+Սյունիք!E90) -> 0 | F91: =SUM('Երևան քաղաք'!F90+Շիրակ!F90+Կոտայք!F90+Լոռի!F90+Արագածոտն!F90+Գեղարքունիքի!F90+Արմավիր!F90+'Արարատի և Վայոց ձոր'!F90+Տավուշ!F89+Սյունիք!F90) -> 0 | G91: =SUM('Երևան քաղաք'!G90+Շիրակ!G90+Կոտայք!G90+Լոռի!G90+Արագածոտն!G90+Գեղարքունիքի!G90+Արմավիր!G90+'Արարատի և Վայոց ձոր'!G90+Տավուշ!G89+Սյունիք!G90) -> 0 | H91: =SUM('Երևան քաղաք'!H90+Շիրակ!H90+Կոտայք!H90+Լոռի!H90+Արագածոտն!H90+Գեղարքունիքի!H90+Արմավիր!H90+'Արարատի և Վայոց ձոր'!H90+Տավուշ!H89+Սյունիք!H90) -> 0 | I91: =SUM('Երևան քաղաք'!I90+Շիրակ!I90+Կոտայք!I90+Լոռի!I90+Արագածոտն!I90+Գեղարքունիքի!I90+Արմավիր!I90+'Արարատի և Վայոց ձոր'!I90+Տավուշ!I89+Սյունիք!I90) -> 0 | J91: =SUM('Երևան քաղաք'!J90+Շիրակ!J90+Կոտայք!J90+Լոռի!J90+Արագածոտն!J90+Գեղարքունիքի!J90+Արմավիր!J90+'Արարատի և Վայոց ձոր'!J90+Տավուշ!J89+Սյունիք!J90) -> 0 | K91: =SUM('Երևան քաղաք'!K90+Շիրակ!K90+Կոտայք!K90+Լոռի!K90+Արագածոտն!K90+Գեղարքունիքի!K90+Արմավիր!K90+'Արարատի և Վայոց ձոր'!K90+Տավուշ!K89+Սյունիք!K90) -> 0 | ... BZ91: =SUM('Երևան քաղաք'!BZ90+Շիրակ!BZ90+Կոտայք!BZ90+Լոռի!BZ90+Արագածոտն!BZ90+Գեղարքունիքի!BZ90+Արմավիր!BZ90+'Արարատի և Վայոց ձոր'!BZ90+Տավուշ!BZ89+Սյունիք!BZ90) -> 0 | CB91: =F91 -> 0 | CC91: =D91+E91 -> 0 | CD91: =L91 -> 0 | CE91: =I91+J91+K91 -> 0 | CF91: =W91 -> 0 | CG91: =O91+P91+Q91+R91+S91+T91+U91+V91 -> 0 | CH91: =L91 -> 0 | CI91: =W91+X91+Y91+Z91+AA91+AB91+AC91 -> 0 | CJ91: =L91 -> 0 | CK91: =AM91+AN91+AO91+AP91+AQ91 -> 0 | CL91: =L91 -> 0 | CM91: =AR91+AS91+AT91+AU91+AV91+AW91+AX91 -> 0 | CN91: =L91 -> 0 | CO91: =AY91+AZ91+BA91 -> 0 | CP91: =BF91 -> 0 | CQ91: =BC91+BD91+BE91 -> 0 | CR91: =BF91 -> 0 | CS91: =BG91+BH91+BI91+BJ91 -> 0 | CT91: =BS91 -> 0 | CU91: =BO91+BP91+BQ91+BR91 -> 0
A92: 5.8.1 | B92: Վերարտադրողականության օժանդակ տեխնոլոգիաներից օգտվելու կանոնները խախտելը | C92: 171.1 | D92: =SUM('Երևան քաղաք'!D91+Շիրակ!D91+Կոտայք!D91+Լոռի!D91+Արագածոտն!D91+Գեղարքունիքի!D91+Արմավիր!D91+'Արարատի և Վայոց ձոր'!D91+Տավուշ!D90+Սյունիք!D91) -> 0 | E92: =SUM('Երևան քաղաք'!E91+Շիրակ!E91+Կոտայք!E91+Լոռի!E91+Արագածոտն!E91+Գեղարքունիքի!E91+Արմավիր!E91+'Արարատի և Վայոց ձոր'!E91+Տավուշ!E90+Սյունիք!E91) -> 0 | F92: =SUM('Երևան քաղաք'!F91+Շիրակ!F91+Կոտայք!F91+Լոռի!F91+Արագածոտն!F91+Գեղարքունիքի!F91+Արմավիր!F91+'Արարատի և Վայոց ձոր'!F91+Տավուշ!F90+Սյունիք!F91) -> 0 | G92: =SUM('Երևան քաղաք'!G91+Շիրակ!G91+Կոտայք!G91+Լոռի!G91+Արագածոտն!G91+Գեղարքունիքի!G91+Արմավիր!G91+'Արարատի և Վայոց ձոր'!G91+Տավուշ!G90+Սյունիք!G91) -> 0 | H92: =SUM('Երևան քաղաք'!H91+Շիրակ!H91+Կոտայք!H91+Լոռի!H91+Արագածոտն!H91+Գեղարքունիքի!H91+Արմավիր!H91+'Արարատի և Վայոց ձոր'!H91+Տավուշ!H90+Սյունիք!H91) -> 0 | I92: =SUM('Երևան քաղաք'!I91+Շիրակ!I91+Կոտայք!I91+Լոռի!I91+Արագածոտն!I91+Գեղարքունիքի!I91+Արմավիր!I91+'Արարատի և Վայոց ձոր'!I91+Տավուշ!I90+Սյունիք!I91) -> 0 | J92: =SUM('Երևան քաղաք'!J91+Շիրակ!J91+Կոտայք!J91+Լոռի!J91+Արագածոտն!J91+Գեղարքունիքի!J91+Արմավիր!J91+'Արարատի և Վայոց ձոր'!J91+Տավուշ!J90+Սյունիք!J91) -> 0 | K92: =SUM('Երևան քաղաք'!K91+Շիրակ!K91+Կոտայք!K91+Լոռի!K91+Արագածոտն!K91+Գեղարքունիքի!K91+Արմավիր!K91+'Արարատի և Վայոց ձոր'!K91+Տավուշ!K90+Սյունիք!K91) -> 0 | ... BZ92: =SUM('Երևան քաղաք'!BZ91+Շիրակ!BZ91+Կոտայք!BZ91+Լոռի!BZ91+Արագածոտն!BZ91+Գեղարքունիքի!BZ91+Արմավիր!BZ91+'Արարատի և Վայոց ձոր'!BZ91+Տավուշ!BZ90+Սյունիք!BZ91) -> 0 | CB92: =F92 -> 0 | CC92: =D92+E92 -> 0 | CD92: =L92 -> 0 | CE92: =I92+J92+K92 -> 0 | CF92: =W92 -> 0 | CG92: =O92+P92+Q92+R92+S92+T92+U92+V92 -> 0 | CH92: =L92 -> 0 | CI92: =W92+X92+Y92+Z92+AA92+AB92+AC92 -> 0 | CJ92: =L92 -> 0 | CK92: =AM92+AN92+AO92+AP92+AQ92 -> 0 | CL92: =L92 -> 0 | CM92: =AR92+AS92+AT92+AU92+AV92+AW92+AX92 -> 0 | CN92: =L92 -> 0 | CO92: =AY92+AZ92+BA92 -> 0 | CP92: =BF92 -> 0 | CQ92: =BC92+BD92+BE92 -> 0 | CR92: =BF92 -> 0 | CS92: =BG92+BH92+BI92+BJ92 -> 0 | CT92: =BS92 -> 0 | CU92: =BO92+BP92+BQ92+BR92 -> 0
A93: 5.9 | B93: Խնամակալի կամ հոգաբարձուի իրավունքները չարաշահելը | C93: 172 | D93: =SUM('Երևան քաղաք'!D92+Շիրակ!D92+Կոտայք!D92+Լոռի!D92+Արագածոտն!D92+Գեղարքունիքի!D92+Արմավիր!D92+'Արարատի և Վայոց ձոր'!D92+Տավուշ!D91+Սյունիք!D92) -> 0 | E93: =SUM('Երևան քաղաք'!E92+Շիրակ!E92+Կոտայք!E92+Լոռի!E92+Արագածոտն!E92+Գեղարքունիքի!E92+Արմավիր!E92+'Արարատի և Վայոց ձոր'!E92+Տավուշ!E91+Սյունիք!E92) -> 0 | F93: =SUM('Երևան քաղաք'!F92+Շիրակ!F92+Կոտայք!F92+Լոռի!F92+Արագածոտն!F92+Գեղարքունիքի!F92+Արմավիր!F92+'Արարատի և Վայոց ձոր'!F92+Տավուշ!F91+Սյունիք!F92) -> 0 | G93: =SUM('Երևան քաղաք'!G92+Շիրակ!G92+Կոտայք!G92+Լոռի!G92+Արագածոտն!G92+Գեղարքունիքի!G92+Արմավիր!G92+'Արարատի և Վայոց ձոր'!G92+Տավուշ!G91+Սյունիք!G92) -> 0 | H93: =SUM('Երևան քաղաք'!H92+Շիրակ!H92+Կոտայք!H92+Լոռի!H92+Արագածոտն!H92+Գեղարքունիքի!H92+Արմավիր!H92+'Արարատի և Վայոց ձոր'!H92+Տավուշ!H91+Սյունիք!H92) -> 0 | I93: =SUM('Երևան քաղաք'!I92+Շիրակ!I92+Կոտայք!I92+Լոռի!I92+Արագածոտն!I92+Գեղարքունիքի!I92+Արմավիր!I92+'Արարատի և Վայոց ձոր'!I92+Տավուշ!I91+Սյունիք!I92) -> 0 | J93: =SUM('Երևան քաղաք'!J92+Շիրակ!J92+Կոտայք!J92+Լոռի!J92+Արագածոտն!J92+Գեղարքունիքի!J92+Արմավիր!J92+'Արարատի և Վայոց ձոր'!J92+Տավուշ!J91+Սյունիք!J92) -> 0 | K93: =SUM('Երևան քաղաք'!K92+Շիրակ!K92+Կոտայք!K92+Լոռի!K92+Արագածոտն!K92+Գեղարքունիքի!K92+Արմավիր!K92+'Արարատի և Վայոց ձոր'!K92+Տավուշ!K91+Սյունիք!K92) -> 0 | ... BZ93: =SUM('Երևան քաղաք'!BZ92+Շիրակ!BZ92+Կոտայք!BZ92+Լոռի!BZ92+Արագածոտն!BZ92+Գեղարքունիքի!BZ92+Արմավիր!BZ92+'Արարատի և Վայոց ձոր'!BZ92+Տավուշ!BZ91+Սյունիք!BZ92) -> 0 | CB93: =F93 -> 0 | CC93: =D93+E93 -> 0 | CD93: =L93 -> 0 | CE93: =I93+J93+K93 -> 0 | CF93: =W93 -> 0 | CG93: =O93+P93+Q93+R93+S93+T93+U93+V93 -> 0 | CH93: =L93 -> 0 | CI93: =W93+X93+Y93+Z93+AA93+AB93+AC93 -> 0 | CJ93: =L93 -> 0 | CK93: =AM93+AN93+AO93+AP93+AQ93 -> 0 | CL93: =L93 -> 0 | CM93: =AR93+AS93+AT93+AU93+AV93+AW93+AX93 -> 0 | CN93: =L93 -> 0 | CO93: =AY93+AZ93+BA93 -> 0 | CP93: =BF93 -> 0 | CQ93: =BC93+BD93+BE93 -> 0 | CR93: =BF93 -> 0 | CS93: =BG93+BH93+BI93+BJ93 -> 0 | CT93: =BS93 -> 0 | CU93: =BO93+BP93+BQ93+BR93 -> 0
A94: 5.10 | B94: Ծնողի կողմից երեխային պահելուց չարամտորեն խուսափելը | C94: 173 | D94: =SUM('Երևան քաղաք'!D93+Շիրակ!D93+Կոտայք!D93+Լոռի!D93+Արագածոտն!D93+Գեղարքունիքի!D93+Արմավիր!D93+'Արարատի և Վայոց ձոր'!D93+Տավուշ!D92+Սյունիք!D93) -> 0 | E94: =SUM('Երևան քաղաք'!E93+Շիրակ!E93+Կոտայք!E93+Լոռի!E93+Արագածոտն!E93+Գեղարքունիքի!E93+Արմավիր!E93+'Արարատի և Վայոց ձոր'!E93+Տավուշ!E92+Սյունիք!E93) -> 1 | F94: =SUM('Երևան քաղաք'!F93+Շիրակ!F93+Կոտայք!F93+Լոռի!F93+Արագածոտն!F93+Գեղարքունիքի!F93+Արմավիր!F93+'Արարատի և Վայոց ձոր'!F93+Տավուշ!F92+Սյունիք!F93) -> 1 | G94: =SUM('Երևան քաղաք'!G93+Շիրակ!G93+Կոտայք!G93+Լոռի!G93+Արագածոտն!G93+Գեղարքունիքի!G93+Արմավիր!G93+'Արարատի և Վայոց ձոր'!G93+Տավուշ!G92+Սյունիք!G93) -> 0 | H94: =SUM('Երևան քաղաք'!H93+Շիրակ!H93+Կոտայք!H93+Լոռի!H93+Արագածոտն!H93+Գեղարքունիքի!H93+Արմավիր!H93+'Արարատի և Վայոց ձոր'!H93+Տավուշ!H92+Սյունիք!H93) -> 0 | I94: =SUM('Երևան քաղաք'!I93+Շիրակ!I93+Կոտայք!I93+Լոռի!I93+Արագածոտն!I93+Գեղարքունիքի!I93+Արմավիր!I93+'Արարատի և Վայոց ձոր'!I93+Տավուշ!I92+Սյունիք!I93) -> 0 | J94: =SUM('Երևան քաղաք'!J93+Շիրակ!J93+Կոտայք!J93+Լոռի!J93+Արագածոտն!J93+Գեղարքունիքի!J93+Արմավիր!J93+'Արարատի և Վայոց ձոր'!J93+Տավուշ!J92+Սյունիք!J93) -> 0 | K94: =SUM('Երևան քաղաք'!K93+Շիրակ!K93+Կոտայք!K93+Լոռի!K93+Արագածոտն!K93+Գեղարքունիքի!K93+Արմավիր!K93+'Արարատի և Վայոց ձոր'!K93+Տավուշ!K92+Սյունիք!K93) -> 0 | ... BZ94: =SUM('Երևան քաղաք'!BZ93+Շիրակ!BZ93+Կոտայք!BZ93+Լոռի!BZ93+Արագածոտն!BZ93+Գեղարքունիքի!BZ93+Արմավիր!BZ93+'Արարատի և Վայոց ձոր'!BZ93+Տավուշ!BZ92+Սյունիք!BZ93) -> 1 | CB94: =F94 -> 1 | CC94: =D94+E94 -> 1 | CD94: =L94 -> 0 | CE94: =I94+J94+K94 -> 0 | CF94: =W94 -> 0 | CG94: =O94+P94+Q94+R94+S94+T94+U94+V94 -> 0 | CH94: =L94 -> 0 | CI94: =W94+X94+Y94+Z94+AA94+AB94+AC94 -> 0 | CJ94: =L94 -> 0 | CK94: =AM94+AN94+AO94+AP94+AQ94 -> 0 | CL94: =L94 -> 0 | CM94: =AR94+AS94+AT94+AU94+AV94+AW94+AX94 -> 0 | CN94: =L94 -> 0 | CO94: =AY94+AZ94+BA94 -> 0 | CP94: =BF94 -> 0 | CQ94: =BC94+BD94+BE94 -> 0 | CR94: =BF94 -> 0 | CS94: =BG94+BH94+BI94+BJ94 -> 0 | CT94: =BS94 -> 0 | CU94: =BO94+BP94+BQ94+BR94 -> 0
A95: 5.11 | B95: Զավակի կողմից անաշխատունակ ծնողին պահելուց չարամտորեն խուսափելը | C95: 174 | D95: =SUM('Երևան քաղաք'!D94+Շիրակ!D94+Կոտայք!D94+Լոռի!D94+Արագածոտն!D94+Գեղարքունիքի!D94+Արմավիր!D94+'Արարատի և Վայոց ձոր'!D94+Տավուշ!D93+Սյունիք!D94) -> 0 | E95: =SUM('Երևան քաղաք'!E94+Շիրակ!E94+Կոտայք!E94+Լոռի!E94+Արագածոտն!E94+Գեղարքունիքի!E94+Արմավիր!E94+'Արարատի և Վայոց ձոր'!E94+Տավուշ!E93+Սյունիք!E94) -> 0 | F95: =SUM('Երևան քաղաք'!F94+Շիրակ!F94+Կոտայք!F94+Լոռի!F94+Արագածոտն!F94+Գեղարքունիքի!F94+Արմավիր!F94+'Արարատի և Վայոց ձոր'!F94+Տավուշ!F93+Սյունիք!F94) -> 0 | G95: =SUM('Երևան քաղաք'!G94+Շիրակ!G94+Կոտայք!G94+Լոռի!G94+Արագածոտն!G94+Գեղարքունիքի!G94+Արմավիր!G94+'Արարատի և Վայոց ձոր'!G94+Տավուշ!G93+Սյունիք!G94) -> 0 | H95: =SUM('Երևան քաղաք'!H94+Շիրակ!H94+Կոտայք!H94+Լոռի!H94+Արագածոտն!H94+Գեղարքունիքի!H94+Արմավիր!H94+'Արարատի և Վայոց ձոր'!H94+Տավուշ!H93+Սյունիք!H94) -> 0 | I95: =SUM('Երևան քաղաք'!I94+Շիրակ!I94+Կոտայք!I94+Լոռի!I94+Արագածոտն!I94+Գեղարքունիքի!I94+Արմավիր!I94+'Արարատի և Վայոց ձոր'!I94+Տավուշ!I93+Սյունիք!I94) -> 0 | J95: =SUM('Երևան քաղաք'!J94+Շիրակ!J94+Կոտայք!J94+Լոռի!J94+Արագածոտն!J94+Գեղարքունիքի!J94+Արմավիր!J94+'Արարատի և Վայոց ձոր'!J94+Տավուշ!J93+Սյունիք!J94) -> 0 | K95: =SUM('Երևան քաղաք'!K94+Շիրակ!K94+Կոտայք!K94+Լոռի!K94+Արագածոտն!K94+Գեղարքունիքի!K94+Արմավիր!K94+'Արարատի և Վայոց ձոր'!K94+Տավուշ!K93+Սյունիք!K94) -> 0 | ... BZ95: =SUM('Երևան քաղաք'!BZ94+Շիրակ!BZ94+Կոտայք!BZ94+Լոռի!BZ94+Արագածոտն!BZ94+Գեղարքունիքի!BZ94+Արմավիր!BZ94+'Արարատի և Վայոց ձոր'!BZ94+Տավուշ!BZ93+Սյունիք!BZ94) -> 0 | CB95: =F95 -> 0 | CC95: =D95+E95 -> 0 | CD95: =L95 -> 0 | CE95: =I95+J95+K95 -> 0 | CF95: =W95 -> 0 | CG95: =O95+P95+Q95+R95+S95+T95+U95+V95 -> 0 | CH95: =L95 -> 0 | CI95: =W95+X95+Y95+Z95+AA95+AB95+AC95 -> 0 | CJ95: =L95 -> 0 | CK95: =AM95+AN95+AO95+AP95+AQ95 -> 0 | CL95: =L95 -> 0 | CM95: =AR95+AS95+AT95+AU95+AV95+AW95+AX95 -> 0 | CN95: =L95 -> 0 | CO95: =AY95+AZ95+BA95 -> 0 | CP95: =BF95 -> 0 | CQ95: =BC95+BD95+BE95 -> 0 | CR95: =BF95 -> 0 | CS95: =BG95+BH95+BI95+BJ95 -> 0 | CT95: =BS95 -> 0 | CU95: =BO95+BP95+BQ95+BR95 -> 0
A96: 5.12 | B96: Այլ հանցագործություններ | D96: =SUM('Երևան քաղաք'!D95+Շիրակ!D95+Կոտայք!D95+Լոռի!D95+Արագածոտն!D95+Գեղարքունիքի!D95+Արմավիր!D95+'Արարատի և Վայոց ձոր'!D95+Տավուշ!D94+Սյունիք!D95) -> 0 | E96: =SUM('Երևան քաղաք'!E95+Շիրակ!E95+Կոտայք!E95+Լոռի!E95+Արագածոտն!E95+Գեղարքունիքի!E95+Արմավիր!E95+'Արարատի և Վայոց ձոր'!E95+Տավուշ!E94+Սյունիք!E95) -> 1 | F96: =SUM('Երևան քաղաք'!F95+Շիրակ!F95+Կոտայք!F95+Լոռի!F95+Արագածոտն!F95+Գեղարքունիքի!F95+Արմավիր!F95+'Արարատի և Վայոց ձոր'!F95+Տավուշ!F94+Սյունիք!F95) -> 1 | G96: =SUM('Երևան քաղաք'!G95+Շիրակ!G95+Կոտայք!G95+Լոռի!G95+Արագածոտն!G95+Գեղարքունիքի!G95+Արմավիր!G95+'Արարատի և Վայոց ձոր'!G95+Տավուշ!G94+Սյունիք!G95) -> 0 | H96: =SUM('Երևան քաղաք'!H95+Շիրակ!H95+Կոտայք!H95+Լոռի!H95+Արագածոտն!H95+Գեղարքունիքի!H95+Արմավիր!H95+'Արարատի և Վայոց ձոր'!H95+Տավուշ!H94+Սյունիք!H95) -> 0 | I96: =SUM('Երևան քաղաք'!I95+Շիրակ!I95+Կոտայք!I95+Լոռի!I95+Արագածոտն!I95+Գեղարքունիքի!I95+Արմավիր!I95+'Արարատի և Վայոց ձոր'!I95+Տավուշ!I94+Սյունիք!I95) -> 0 | J96: =SUM('Երևան քաղաք'!J95+Շիրակ!J95+Կոտայք!J95+Լոռի!J95+Արագածոտն!J95+Գեղարքունիքի!J95+Արմավիր!J95+'Արարատի և Վայոց ձոր'!J95+Տավուշ!J94+Սյունիք!J95) -> 0 | K96: =SUM('Երևան քաղաք'!K95+Շիրակ!K95+Կոտայք!K95+Լոռի!K95+Արագածոտն!K95+Գեղարքունիքի!K95+Արմավիր!K95+'Արարատի և Վայոց ձոր'!K95+Տավուշ!K94+Սյունիք!K95) -> 0 | ... BZ96: =SUM('Երևան քաղաք'!BZ95+Շիրակ!BZ95+Կոտայք!BZ95+Լոռի!BZ95+Արագածոտն!BZ95+Գեղարքունիքի!BZ95+Արմավիր!BZ95+'Արարատի և Վայոց ձոր'!BZ95+Տավուշ!BZ94+Սյունիք!BZ95) -> 0 | CB96: =F96 -> 1 | CC96: =D96+E96 -> 1 | CD96: =L96 -> 0 | CE96: =I96+J96+K96 -> 0 | CF96: =W96 -> 0 | CG96: =O96+P96+Q96+R96+S96+T96+U96+V96 -> 0 | CH96: =L96 -> 0 | CI96: =W96+X96+Y96+Z96+AA96+AB96+AC96 -> 0 | CJ96: =L96 -> 0 | CK96: =AM96+AN96+AO96+AP96+AQ96 -> 0 | CL96: =L96 -> 0 | CM96: =AR96+AS96+AT96+AU96+AV96+AW96+AX96 -> 0 | CN96: =L96 -> 0 | CO96: =AY96+AZ96+BA96 -> 0 | CP96: =BF96 -> 0 | CQ96: =BC96+BD96+BE96 -> 0 | CR96: =BF96 -> 0 | CS96: =BG96+BH96+BI96+BJ96 -> 0 | CT96: =BS96 -> 0 | CU96: =BO96+BP96+BQ96+BR96 -> 0
A97: 6. | B97: Ընդամենը սեփականության դեմ ուղղված հանցագործությունները | D97: =SUM('Երևան քաղաք:Սյունիք'!D96) -> 9 | E97: =SUM('Երևան քաղաք:Սյունիք'!E96) -> 123 | F97: =SUM('Երևան քաղաք:Սյունիք'!F96) -> 132 | G97: =SUM('Երևան քաղաք:Սյունիք'!G96) -> 4 | H97: =SUM('Երևան քաղաք:Սյունիք'!H96) -> 4 | I97: =SUM('Երևան քաղաք:Սյունիք'!I96) -> 324 | J97: =SUM('Երևան քաղաք:Սյունիք'!J96) -> 58 | K97: =SUM('Երևան քաղաք:Սյունիք'!K96) -> 14 | ... CA97: =SUM('Երևան քաղաք:Սյունիք'!CA96) -> 0 | CB97: =F97 -> 132 | CC97: =D97+E97 -> 132 | CD97: =L97 -> 396 | CE97: =I97+J97+K97 -> 396 | CF97: =W97 -> 230 | CG97: =O97+P97+Q97+R97+S97+T97+U97+V97 -> 230 | CH97: =L97 -> 396 | CI97: =W97+X97+Y97+Z97+AA97+AB97+AC97 -> 396 | CJ97: =L97 -> 396 | CK97: =AM97+AN97+AO97+AP97+AQ97 -> 396 | CL97: =L97 -> 396 | CM97: =AR97+AS97+AT97+AU97+AV97+AW97+AX97 -> 396 | CN97: =L97 -> 396 | CO97: =AY97+AZ97+BA97 -> 396 | CP97: =BF97 -> 40 | CQ97: =BC97+BD97+BE97 -> 40 | CR97: =BF97 -> 40 | CS97: =BG97+BH97+BI97+BJ97 -> 40 | CT97: =BS97 -> 3 | CU97: =BO97+BP97+BQ97+BR97 -> 3
A98: 6.1 | B98: Ավազակությունը | C98: 175 | D98: =SUM('Երևան քաղաք'!D97+Շիրակ!D97+Կոտայք!D97+Լոռի!D97+Արագածոտն!D97+Գեղարքունիքի!D97+Արմավիր!D97+'Արարատի և Վայոց ձոր'!D97+Տավուշ!D96+Սյունիք!D97) -> 1 | E98: =SUM('Երևան քաղաք'!E97+Շիրակ!E97+Կոտայք!E97+Լոռի!E97+Արագածոտն!E97+Գեղարքունիքի!E97+Արմավիր!E97+'Արարատի և Վայոց ձոր'!E97+Տավուշ!E96+Սյունիք!E97) -> 2 | F98: =SUM('Երևան քաղաք'!F97+Շիրակ!F97+Կոտայք!F97+Լոռի!F97+Արագածոտն!F97+Գեղարքունիքի!F97+Արմավիր!F97+'Արարատի և Վայոց ձոր'!F97+Տավուշ!F96+Սյունիք!F97) -> 3 | G98: =SUM('Երևան քաղաք'!G97+Շիրակ!G97+Կոտայք!G97+Լոռի!G97+Արագածոտն!G97+Գեղարքունիքի!G97+Արմավիր!G97+'Արարատի և Վայոց ձոր'!G97+Տավուշ!G96+Սյունիք!G97) -> 1 | H98: =SUM('Երևան քաղաք'!H97+Շիրակ!H97+Կոտայք!H97+Լոռի!H97+Արագածոտն!H97+Գեղարքունիքի!H97+Արմավիր!H97+'Արարատի և Վայոց ձոր'!H97+Տավուշ!H96+Սյունիք!H97) -> 1 | I98: =SUM('Երևան քաղաք'!I97+Շիրակ!I97+Կոտայք!I97+Լոռի!I97+Արագածոտն!I97+Գեղարքունիքի!I97+Արմավիր!I97+'Արարատի և Վայոց ձոր'!I97+Տավուշ!I96+Սյունիք!I97) -> 27 | J98: =SUM('Երևան քաղաք'!J97+Շիրակ!J97+Կոտայք!J97+Լոռի!J97+Արագածոտն!J97+Գեղարքունիքի!J97+Արմավիր!J97+'Արարատի և Վայոց ձոր'!J97+Տավուշ!J96+Սյունիք!J97) -> 4 | K98: =SUM('Երևան քաղաք'!K97+Շիրակ!K97+Կոտայք!K97+Լոռի!K97+Արագածոտն!K97+Գեղարքունիքի!K97+Արմավիր!K97+'Արարատի և Վայոց ձոր'!K97+Տավուշ!K96+Սյունիք!K97) -> 4 | ... BZ98: =SUM('Երևան քաղաք'!BZ97+Շիրակ!BZ97+Կոտայք!BZ97+Լոռի!BZ97+Արագածոտն!BZ97+Գեղարքունիքի!BZ97+Արմավիր!BZ97+'Արարատի և Վայոց ձոր'!BZ97+Տավուշ!BZ96+Սյունիք!BZ97) -> 8 | CB98: =F98 -> 3 | CC98: =D98+E98 -> 3 | CD98: =L98 -> 35 | CE98: =I98+J98+K98 -> 35 | CF98: =W98 -> 20 | CG98: =O98+P98+Q98+R98+S98+T98+U98+V98 -> 20 | CH98: =L98 -> 35 | CI98: =W98+X98+Y98+Z98+AA98+AB98+AC98 -> 35 | CJ98: =L98 -> 35 | CK98: =AM98+AN98+AO98+AP98+AQ98 -> 35 | CL98: =L98 -> 35 | CM98: =AR98+AS98+AT98+AU98+AV98+AW98+AX98 -> 35 | CN98: =L98 -> 35 | CO98: =AY98+AZ98+BA98 -> 35 | CP98: =BF98 -> 5 | CQ98: =BC98+BD98+BE98 -> 5 | CR98: =BF98 -> 5 | CS98: =BG98+BH98+BI98+BJ98 -> 5 | CT98: =BS98 -> 0 | CU98: =BO98+BP98+BQ98+BR98 -> 0
A99: 6.2 | B99: Կողոպուտը | C99: 176 | D99: =SUM('Երևան քաղաք'!D98+Շիրակ!D98+Կոտայք!D98+Լոռի!D98+Արագածոտն!D98+Գեղարքունիքի!D98+Արմավիր!D98+'Արարատի և Վայոց ձոր'!D98+Տավուշ!D97+Սյունիք!D98) -> 0 | E99: =SUM('Երևան քաղաք'!E98+Շիրակ!E98+Կոտայք!E98+Լոռի!E98+Արագածոտն!E98+Գեղարքունիքի!E98+Արմավիր!E98+'Արարատի և Վայոց ձոր'!E98+Տավուշ!E97+Սյունիք!E98) -> 1 | F99: =SUM('Երևան քաղաք'!F98+Շիրակ!F98+Կոտայք!F98+Լոռի!F98+Արագածոտն!F98+Գեղարքունիքի!F98+Արմավիր!F98+'Արարատի և Վայոց ձոր'!F98+Տավուշ!F97+Սյունիք!F98) -> 1 | G99: =SUM('Երևան քաղաք'!G98+Շիրակ!G98+Կոտայք!G98+Լոռի!G98+Արագածոտն!G98+Գեղարքունիքի!G98+Արմավիր!G98+'Արարատի և Վայոց ձոր'!G98+Տավուշ!G97+Սյունիք!G98) -> 0 | H99: =SUM('Երևան քաղաք'!H98+Շիրակ!H98+Կոտայք!H98+Լոռի!H98+Արագածոտն!H98+Գեղարքունիքի!H98+Արմավիր!H98+'Արարատի և Վայոց ձոր'!H98+Տավուշ!H97+Սյունիք!H98) -> 0 | I99: =SUM('Երևան քաղաք'!I98+Շիրակ!I98+Կոտայք!I98+Լոռի!I98+Արագածոտն!I98+Գեղարքունիքի!I98+Արմավիր!I98+'Արարատի և Վայոց ձոր'!I98+Տավուշ!I97+Սյունիք!I98) -> 15 | J99: =SUM('Երևան քաղաք'!J98+Շիրակ!J98+Կոտայք!J98+Լոռի!J98+Արագածոտն!J98+Գեղարքունիքի!J98+Արմավիր!J98+'Արարատի և Վայոց ձոր'!J98+Տավուշ!J97+Սյունիք!J98) -> 3 | K99: =SUM('Երևան քաղաք'!K98+Շիրակ!K98+Կոտայք!K98+Լոռի!K98+Արագածոտն!K98+Գեղարքունիքի!K98+Արմավիր!K98+'Արարատի և Վայոց ձոր'!K98+Տավուշ!K97+Սյունիք!K98) -> 0 | ... BZ99: =SUM('Երևան քաղաք'!BZ98+Շիրակ!BZ98+Կոտայք!BZ98+Լոռի!BZ98+Արագածոտն!BZ98+Գեղարքունիքի!BZ98+Արմավիր!BZ98+'Արարատի և Վայոց ձոր'!BZ98+Տավուշ!BZ97+Սյունիք!BZ98) -> 10 | CB99: =F99 -> 1 | CC99: =D99+E99 -> 1 | CD99: =L99 -> 18 | CE99: =I99+J99+K99 -> 18 | CF99: =W99 -> 8 | CG99: =O99+P99+Q99+R99+S99+T99+U99+V99 -> 8 | CH99: =L99 -> 18 | CI99: =W99+X99+Y99+Z99+AA99+AB99+AC99 -> 18 | CJ99: =L99 -> 18 | CK99: =AM99+AN99+AO99+AP99+AQ99 -> 18 | CL99: =L99 -> 18 | CM99: =AR99+AS99+AT99+AU99+AV99+AW99+AX99 -> 18 | CN99: =L99 -> 18 | CO99: =AY99+AZ99+BA99 -> 18 | CP99: =BF99 -> 2 | CQ99: =BC99+BD99+BE99 -> 2 | CR99: =BF99 -> 2 | CS99: =BG99+BH99+BI99+BJ99 -> 2 | CT99: =BS99 -> 0 | CU99: =BO99+BP99+BQ99+BR99 -> 0
A100: 6.3 | B100: Գողությունը | C100: 177 | D100: =SUM('Երևան քաղաք'!D99+Շիրակ!D99+Կոտայք!D99+Լոռի!D99+Արագածոտն!D99+Գեղարքունիքի!D99+Արմավիր!D99+'Արարատի և Վայոց ձոր'!D99+Տավուշ!D98+Սյունիք!D99) -> 0 | E100: =SUM('Երևան քաղաք'!E99+Շիրակ!E99+Կոտայք!E99+Լոռի!E99+Արագածոտն!E99+Գեղարքունիքի!E99+Արմավիր!E99+'Արարատի և Վայոց ձոր'!E99+Տավուշ!E98+Սյունիք!E99) -> 57 | F100: =SUM('Երևան քաղաք'!F99+Շիրակ!F99+Կոտայք!F99+Լոռի!F99+Արագածոտն!F99+Գեղարքունիքի!F99+Արմավիր!F99+'Արարատի և Վայոց ձոր'!F99+Տավուշ!F98+Սյունիք!F99) -> 57 | G100: =SUM('Երևան քաղաք'!G99+Շիրակ!G99+Կոտայք!G99+Լոռի!G99+Արագածոտն!G99+Գեղարքունիքի!G99+Արմավիր!G99+'Արարատի և Վայոց ձոր'!G99+Տավուշ!G98+Սյունիք!G99) -> 2 | H100: =SUM('Երևան քաղաք'!H99+Շիրակ!H99+Կոտայք!H99+Լոռի!H99+Արագածոտն!H99+Գեղարքունիքի!H99+Արմավիր!H99+'Արարատի և Վայոց ձոր'!H99+Տավուշ!H98+Սյունիք!H99) -> 0 | I100: =SUM('Երևան քաղաք'!I99+Շիրակ!I99+Կոտայք!I99+Լոռի!I99+Արագածոտն!I99+Գեղարքունիքի!I99+Արմավիր!I99+'Արարատի և Վայոց ձոր'!I99+Տավուշ!I98+Սյունիք!I99) -> 192 | J100: =SUM('Երևան քաղաք'!J99+Շիրակ!J99+Կոտայք!J99+Լոռի!J99+Արագածոտն!J99+Գեղարքունիքի!J99+Արմավիր!J99+'Արարատի և Վայոց ձոր'!J99+Տավուշ!J98+Սյունիք!J99) -> 38 | K100: =SUM('Երևան քաղաք'!K99+Շիրակ!K99+Կոտայք!K99+Լոռի!K99+Արագածոտն!K99+Գեղարքունիքի!K99+Արմավիր!K99+'Արարատի և Վայոց ձոր'!K99+Տավուշ!K98+Սյունիք!K99) -> 3 | ... BZ100: =SUM('Երևան քաղաք'!BZ99+Շիրակ!BZ99+Կոտայք!BZ99+Լոռի!BZ99+Արագածոտն!BZ99+Գեղարքունիքի!BZ99+Արմավիր!BZ99+'Արարատի և Վայոց ձոր'!BZ99+Տավուշ!BZ98+Սյունիք!BZ99) -> 147 | CB100: =F100 -> 57 | CC100: =D100+E100 -> 57 | CD100: =L100 -> 233 | CE100: =I100+J100+K100 -> 233 | CF100: =W100 -> 137 | CG100: =O100+P100+Q100+R100+S100+T100+U100+V100 -> 137 | CH100: =L100 -> 233 | CI100: =W100+X100+Y100+Z100+AA100+AB100+AC100 -> 233 | CJ100: =L100 -> 233 | CK100: =AM100+AN100+AO100+AP100+AQ100 -> 233 | CL100: =L100 -> 233 | CM100: =AR100+AS100+AT100+AU100+AV100+AW100+AX100 -> 233 | CN100: =L100 -> 233 | CO100: =AY100+AZ100+BA100 -> 233 | CP100: =BF100 -> 29 | CQ100: =BC100+BD100+BE100 -> 29 | CR100: =BF100 -> 29 | CS100: =BG100+BH100+BI100+BJ100 -> 29 | CT100: =BS100 -> 3 | CU100: =BO100+BP100+BQ100+BR100 -> 3
A101: 6.4 | B101: Խարդախությունը | C101: 178 | D101: =SUM('Երևան քաղաք'!D100+Շիրակ!D100+Կոտայք!D100+Լոռի!D100+Արագածոտն!D100+Գեղարքունիքի!D100+Արմավիր!D100+'Արարատի և Վայոց ձոր'!D100+Տավուշ!D99+Սյունիք!D100) -> 0 | E101: =SUM('Երևան քաղաք'!E100+Շիրակ!E100+Կոտայք!E100+Լոռի!E100+Արագածոտն!E100+Գեղարքունիքի!E100+Արմավիր!E100+'Արարատի և Վայոց ձոր'!E100+Տավուշ!E99+Սյունիք!E100) -> 36 | F101: =SUM('Երևան քաղաք'!F100+Շիրակ!F100+Կոտայք!F100+Լոռի!F100+Արագածոտն!F100+Գեղարքունիքի!F100+Արմավիր!F100+'Արարատի և Վայոց ձոր'!F100+Տավուշ!F99+Սյունիք!F100) -> 36 | G101: =SUM('Երևան քաղաք'!G100+Շիրակ!G100+Կոտայք!G100+Լոռի!G100+Արագածոտն!G100+Գեղարքունիքի!G100+Արմավիր!G100+'Արարատի և Վայոց ձոր'!G100+Տավուշ!G99+Սյունիք!G100) -> 0 | H101: =SUM('Երևան քաղաք'!H100+Շիրակ!H100+Կոտայք!H100+Լոռի!H100+Արագածոտն!H100+Գեղարքունիքի!H100+Արմավիր!H100+'Արարատի և Վայոց ձոր'!H100+Տավուշ!H99+Սյունիք!H100) -> 1 | I101: =SUM('Երևան քաղաք'!I100+Շիրակ!I100+Կոտայք!I100+Լոռի!I100+Արագածոտն!I100+Գեղարքունիքի!I100+Արմավիր!I100+'Արարատի և Վայոց ձոր'!I100+Տավուշ!I99+Սյունիք!I100) -> 54 | J101: =SUM('Երևան քաղաք'!J100+Շիրակ!J100+Կոտայք!J100+Լոռի!J100+Արագածոտն!J100+Գեղարքունիքի!J100+Արմավիր!J100+'Արարատի և Վայոց ձոր'!J100+Տավուշ!J99+Սյունիք!J100) -> 15 | K101: =SUM('Երևան քաղաք'!K100+Շիրակ!K100+Կոտայք!K100+Լոռի!K100+Արագածոտն!K100+Գեղարքունիքի!K100+Արմավիր!K100+'Արարատի և Վայոց ձոր'!K100+Տավուշ!K99+Սյունիք!K100) -> 6 | ... BZ101: =SUM('Երևան քաղաք'!BZ100+Շիրակ!BZ100+Կոտայք!BZ100+Լոռի!BZ100+Արագածոտն!BZ100+Գեղարքունիքի!BZ100+Արմավիր!BZ100+'Արարատի և Վայոց ձոր'!BZ100+Տավուշ!BZ99+Սյունիք!BZ100) -> 21 | CB101: =F101 -> 36 | CC101: =D101+E101 -> 36 | CD101: =L101 -> 75 | CE101: =I101+J101+K101 -> 75 | CF101: =W101 -> 40 | CG101: =O101+P101+Q101+R101+S101+T101+U101+V101 -> 40 | CH101: =L101 -> 75 | CI101: =W101+X101+Y101+Z101+AA101+AB101+AC101 -> 75 | CJ101: =L101 -> 75 | CK101: =AM101+AN101+AO101+AP101+AQ101 -> 75 | CL101: =L101 -> 75 | CM101: =AR101+AS101+AT101+AU101+AV101+AW101+AX101 -> 75 | CN101: =L101 -> 75 | CO101: =AY101+AZ101+BA101 -> 75 | CP101: =BF101 -> 6 | CQ101: =BC101+BD101+BE101 -> 6 | CR101: =BF101 -> 6 | CS101: =BG101+BH101+BI101+BJ101 -> 6 | CT101: =BS101 -> 0 | CU101: =BO101+BP101+BQ101+BR101 -> 0
A102: 6.5 | B102: Յուրացնելը կամ վատնելը | C102: 179 | D102: =SUM('Երևան քաղաք'!D101+Շիրակ!D101+Կոտայք!D101+Լոռի!D101+Արագածոտն!D101+Գեղարքունիքի!D101+Արմավիր!D101+'Արարատի և Վայոց ձոր'!D101+Տավուշ!D100+Սյունիք!D101) -> 0 | E102: =SUM('Երևան քաղաք'!E101+Շիրակ!E101+Կոտայք!E101+Լոռի!E101+Արագածոտն!E101+Գեղարքունիքի!E101+Արմավիր!E101+'Արարատի և Վայոց ձոր'!E101+Տավուշ!E100+Սյունիք!E101) -> 8 | F102: =SUM('Երևան քաղաք'!F101+Շիրակ!F101+Կոտայք!F101+Լոռի!F101+Արագածոտն!F101+Գեղարքունիքի!F101+Արմավիր!F101+'Արարատի և Վայոց ձոր'!F101+Տավուշ!F100+Սյունիք!F101) -> 8 | G102: =SUM('Երևան քաղաք'!G101+Շիրակ!G101+Կոտայք!G101+Լոռի!G101+Արագածոտն!G101+Գեղարքունիքի!G101+Արմավիր!G101+'Արարատի և Վայոց ձոր'!G101+Տավուշ!G100+Սյունիք!G101) -> 0 | H102: =SUM('Երևան քաղաք'!H101+Շիրակ!H101+Կոտայք!H101+Լոռի!H101+Արագածոտն!H101+Գեղարքունիքի!H101+Արմավիր!H101+'Արարատի և Վայոց ձոր'!H101+Տավուշ!H100+Սյունիք!H101) -> 0 | I102: =SUM('Երևան քաղաք'!I101+Շիրակ!I101+Կոտայք!I101+Լոռի!I101+Արագածոտն!I101+Գեղարքունիքի!I101+Արմավիր!I101+'Արարատի և Վայոց ձոր'!I101+Տավուշ!I100+Սյունիք!I101) -> 21 | J102: =SUM('Երևան քաղաք'!J101+Շիրակ!J101+Կոտայք!J101+Լոռի!J101+Արագածոտն!J101+Գեղարքունիքի!J101+Արմավիր!J101+'Արարատի և Վայոց ձոր'!J101+Տավուշ!J100+Սյունիք!J101) -> 2 | K102: =SUM('Երևան քաղաք'!K101+Շիրակ!K101+Կոտայք!K101+Լոռի!K101+Արագածոտն!K101+Գեղարքունիքի!K101+Արմավիր!K101+'Արարատի և Վայոց ձոր'!K101+Տավուշ!K100+Սյունիք!K101) -> 4 | ... BZ102: =SUM('Երևան քաղաք'!BZ101+Շիրակ!BZ101+Կոտայք!BZ101+Լոռի!BZ101+Արագածոտն!BZ101+Գեղարքունիքի!BZ101+Արմավիր!BZ101+'Արարատի և Վայոց ձոր'!BZ101+Տավուշ!BZ100+Սյունիք!BZ101) -> 6 | CB102: =F102 -> 8 | CC102: =D102+E102 -> 8 | CD102: =L102 -> 27 | CE102: =I102+J102+K102 -> 27 | CF102: =W102 -> 16 | CG102: =O102+P102+Q102+R102+S102+T102+U102+V102 -> 16 | CH102: =L102 -> 27 | CI102: =W102+X102+Y102+Z102+AA102+AB102+AC102 -> 27 | CJ102: =L102 -> 27 | CK102: =AM102+AN102+AO102+AP102+AQ102 -> 27 | CL102: =L102 -> 27 | CM102: =AR102+AS102+AT102+AU102+AV102+AW102+AX102 -> 27 | CN102: =L102 -> 27 | CO102: =AY102+AZ102+BA102 -> 27 | CP102: =BF102 -> 0 | CQ102: =BC102+BD102+BE102 -> 0 | CR102: =BF102 -> 0 | CS102: =BG102+BH102+BI102+BJ102 -> 0 | CT102: =BS102 -> 0 | CU102: =BO102+BP102+BQ102+BR102 -> 0
A103: 6.6 | B103: Առանձնակի արժեք ունեցող առարկաներ հափշտակելը | C103: 180 | D103: =SUM('Երևան քաղաք'!D102+Շիրակ!D102+Կոտայք!D102+Լոռի!D102+Արագածոտն!D102+Գեղարքունիքի!D102+Արմավիր!D102+'Արարատի և Վայոց ձոր'!D102+Տավուշ!D101+Սյունիք!D102) -> 0 | E103: =SUM('Երևան քաղաք'!E102+Շիրակ!E102+Կոտայք!E102+Լոռի!E102+Արագածոտն!E102+Գեղարքունիքի!E102+Արմավիր!E102+'Արարատի և Վայոց ձոր'!E102+Տավուշ!E101+Սյունիք!E102) -> 0 | F103: =SUM('Երևան քաղաք'!F102+Շիրակ!F102+Կոտայք!F102+Լոռի!F102+Արագածոտն!F102+Գեղարքունիքի!F102+Արմավիր!F102+'Արարատի և Վայոց ձոր'!F102+Տավուշ!F101+Սյունիք!F102) -> 0 | G103: =SUM('Երևան քաղաք'!G102+Շիրակ!G102+Կոտայք!G102+Լոռի!G102+Արագածոտն!G102+Գեղարքունիքի!G102+Արմավիր!G102+'Արարատի և Վայոց ձոր'!G102+Տավուշ!G101+Սյունիք!G102) -> 0 | H103: =SUM('Երևան քաղաք'!H102+Շիրակ!H102+Կոտայք!H102+Լոռի!H102+Արագածոտն!H102+Գեղարքունիքի!H102+Արմավիր!H102+'Արարատի և Վայոց ձոր'!H102+Տավուշ!H101+Սյունիք!H102) -> 0 | I103: =SUM('Երևան քաղաք'!I102+Շիրակ!I102+Կոտայք!I102+Լոռի!I102+Արագածոտն!I102+Գեղարքունիքի!I102+Արմավիր!I102+'Արարատի և Վայոց ձոր'!I102+Տավուշ!I101+Սյունիք!I102) -> 1 | J103: =SUM('Երևան քաղաք'!J102+Շիրակ!J102+Կոտայք!J102+Լոռի!J102+Արագածոտն!J102+Գեղարքունիքի!J102+Արմավիր!J102+'Արարատի և Վայոց ձոր'!J102+Տավուշ!J101+Սյունիք!J102) -> 0 | K103: =SUM('Երևան քաղաք'!K102+Շիրակ!K102+Կոտայք!K102+Լոռի!K102+Արագածոտն!K102+Գեղարքունիքի!K102+Արմավիր!K102+'Արարատի և Վայոց ձոր'!K102+Տավուշ!K101+Սյունիք!K102) -> 0 | ... BZ103: =SUM('Երևան քաղաք'!BZ102+Շիրակ!BZ102+Կոտայք!BZ102+Լոռի!BZ102+Արագածոտն!BZ102+Գեղարքունիքի!BZ102+Արմավիր!BZ102+'Արարատի և Վայոց ձոր'!BZ102+Տավուշ!BZ101+Սյունիք!BZ102) -> 1 | CB103: =F103 -> 0 | CC103: =D103+E103 -> 0 | CD103: =L103 -> 1 | CE103: =I103+J103+K103 -> 1 | CF103: =W103 -> 0 | CG103: =O103+P103+Q103+R103+S103+T103+U103+V103 -> 0 | CH103: =L103 -> 1 | CI103: =W103+X103+Y103+Z103+AA103+AB103+AC103 -> 1 | CJ103: =L103 -> 1 | CK103: =AM103+AN103+AO103+AP103+AQ103 -> 1 | CL103: =L103 -> 1 | CM103: =AR103+AS103+AT103+AU103+AV103+AW103+AX103 -> 1 | CN103: =L103 -> 1 | CO103: =AY103+AZ103+BA103 -> 1 | CP103: =BF103 -> 0 | CQ103: =BC103+BD103+BE103 -> 0 | CR103: =BF103 -> 0 | CS103: =BG103+BH103+BI103+BJ103 -> 0 | CT103: =BS103 -> 0 | CU103: =BO103+BP103+BQ103+BR103 -> 0
A104: 6.7 | B104: Հափշտակությունը, որը կատարվել է համակարգչային տեխնիկայի օգտագործմամբ | C104: 181 | D104: =SUM('Երևան քաղաք'!D103+Շիրակ!D103+Կոտայք!D103+Լոռի!D103+Արագածոտն!D103+Գեղարքունիքի!D103+Արմավիր!D103+'Արարատի և Վայոց ձոր'!D103+Տավուշ!D102+Սյունիք!D103) -> 0 | E104: =SUM('Երևան քաղաք'!E103+Շիրակ!E103+Կոտայք!E103+Լոռի!E103+Արագածոտն!E103+Գեղարքունիքի!E103+Արմավիր!E103+'Արարատի և Վայոց ձոր'!E103+Տավուշ!E102+Սյունիք!E103) -> 0 | F104: =SUM('Երևան քաղաք'!F103+Շիրակ!F103+Կոտայք!F103+Լոռի!F103+Արագածոտն!F103+Գեղարքունիքի!F103+Արմավիր!F103+'Արարատի և Վայոց ձոր'!F103+Տավուշ!F102+Սյունիք!F103) -> 0 | G104: =SUM('Երևան քաղաք'!G103+Շիրակ!G103+Կոտայք!G103+Լոռի!G103+Արագածոտն!G103+Գեղարքունիքի!G103+Արմավիր!G103+'Արարատի և Վայոց ձոր'!G103+Տավուշ!G102+Սյունիք!G103) -> 0 | H104: =SUM('Երևան քաղաք'!H103+Շիրակ!H103+Կոտայք!H103+Լոռի!H103+Արագածոտն!H103+Գեղարքունիքի!H103+Արմավիր!H103+'Արարատի և Վայոց ձոր'!H103+Տավուշ!H102+Սյունիք!H103) -> 0 | I104: =SUM('Երևան քաղաք'!I103+Շիրակ!I103+Կոտայք!I103+Լոռի!I103+Արագածոտն!I103+Գեղարքունիքի!I103+Արմավիր!I103+'Արարատի և Վայոց ձոր'!I103+Տավուշ!I102+Սյունիք!I103) -> 2 | J104: =SUM('Երևան քաղաք'!J103+Շիրակ!J103+Կոտայք!J103+Լոռի!J103+Արագածոտն!J103+Գեղարքունիքի!J103+Արմավիր!J103+'Արարատի և Վայոց ձոր'!J103+Տավուշ!J102+Սյունիք!J103) -> 0 | K104: =SUM('Երևան քաղաք'!K103+Շիրակ!K103+Կոտայք!K103+Լոռի!K103+Արագածոտն!K103+Գեղարքունիքի!K103+Արմավիր!K103+'Արարատի և Վայոց ձոր'!K103+Տավուշ!K102+Սյունիք!K103) -> 0 | ... BZ104: =SUM('Երևան քաղաք'!BZ103+Շիրակ!BZ103+Կոտայք!BZ103+Լոռի!BZ103+Արագածոտն!BZ103+Գեղարքունիքի!BZ103+Արմավիր!BZ103+'Արարատի և Վայոց ձոր'!BZ103+Տավուշ!BZ102+Սյունիք!BZ103) -> 2 | CB104: =F104 -> 0 | CC104: =D104+E104 -> 0 | CD104: =L104 -> 2 | CE104: =I104+J104+K104 -> 2 | CF104: =W104 -> 1 | CG104: =O104+P104+Q104+R104+S104+T104+U104+V104 -> 1 | CH104: =L104 -> 2 | CI104: =W104+X104+Y104+Z104+AA104+AB104+AC104 -> 2 | CJ104: =L104 -> 2 | CK104: =AM104+AN104+AO104+AP104+AQ104 -> 2 | CL104: =L104 -> 2 | CM104: =AR104+AS104+AT104+AU104+AV104+AW104+AX104 -> 2 | CN104: =L104 -> 2 | CO104: =AY104+AZ104+BA104 -> 2 | CP104: =BF104 -> 0 | CQ104: =BC104+BD104+BE104 -> 0 | CR104: =BF104 -> 0 | CS104: =BG104+BH104+BI104+BJ104 -> 0 | CT104: =BS104 -> 0 | CU104: =BO104+BP104+BQ104+BR104 -> 0
A105: 6.8 | B105: Շորթումը | C105: 182 | D105: =SUM('Երևան քաղաք'!D104+Շիրակ!D104+Կոտայք!D104+Լոռի!D104+Արագածոտն!D104+Գեղարքունիքի!D104+Արմավիր!D104+'Արարատի և Վայոց ձոր'!D104+Տավուշ!D103+Սյունիք!D104) -> 0 | E105: =SUM('Երևան քաղաք'!E104+Շիրակ!E104+Կոտայք!E104+Լոռի!E104+Արագածոտն!E104+Գեղարքունիքի!E104+Արմավիր!E104+'Արարատի և Վայոց ձոր'!E104+Տավուշ!E103+Սյունիք!E104) -> 2 | F105: =SUM('Երևան քաղաք'!F104+Շիրակ!F104+Կոտայք!F104+Լոռի!F104+Արագածոտն!F104+Գեղարքունիքի!F104+Արմավիր!F104+'Արարատի և Վայոց ձոր'!F104+Տավուշ!F103+Սյունիք!F104) -> 2 | G105: =SUM('Երևան քաղաք'!G104+Շիրակ!G104+Կոտայք!G104+Լոռի!G104+Արագածոտն!G104+Գեղարքունիքի!G104+Արմավիր!G104+'Արարատի և Վայոց ձոր'!G104+Տավուշ!G103+Սյունիք!G104) -> 0 | H105: =SUM('Երևան քաղաք'!H104+Շիրակ!H104+Կոտայք!H104+Լոռի!H104+Արագածոտն!H104+Գեղարքունիքի!H104+Արմավիր!H104+'Արարատի և Վայոց ձոր'!H104+Տավուշ!H103+Սյունիք!H104) -> 0 | I105: =SUM('Երևան քաղաք'!I104+Շիրակ!I104+Կոտայք!I104+Լոռի!I104+Արագածոտն!I104+Գեղարքունիքի!I104+Արմավիր!I104+'Արարատի և Վայոց ձոր'!I104+Տավուշ!I103+Սյունիք!I104) -> 10 | J105: =SUM('Երևան քաղաք'!J104+Շիրակ!J104+Կոտայք!J104+Լոռի!J104+Արագածոտն!J104+Գեղարքունիքի!J104+Արմավիր!J104+'Արարատի և Վայոց ձոր'!J104+Տավուշ!J103+Սյունիք!J104) -> 0 | K105: =SUM('Երևան քաղաք'!K104+Շիրակ!K104+Կոտայք!K104+Լոռի!K104+Արագածոտն!K104+Գեղարքունիքի!K104+Արմավիր!K104+'Արարատի և Վայոց ձոր'!K104+Տավուշ!K103+Սյունիք!K104) -> 0 | ... BZ105: =SUM('Երևան քաղաք'!BZ104+Շիրակ!BZ104+Կոտայք!BZ104+Լոռի!BZ104+Արագածոտն!BZ104+Գեղարքունիքի!BZ104+Արմավիր!BZ104+'Արարատի և Վայոց ձոր'!BZ104+Տավուշ!BZ103+Սյունիք!BZ104) -> 2 | CB105: =F105 -> 2 | CC105: =D105+E105 -> 2 | CD105: =L105 -> 10 | CE105: =I105+J105+K105 -> 10 | CF105: =W105 -> 10 | CG105: =O105+P105+Q105+R105+S105+T105+U105+V105 -> 10 | CH105: =L105 -> 10 | CI105: =W105+X105+Y105+Z105+AA105+AB105+AC105 -> 10 | CJ105: =L105 -> 10 | CK105: =AM105+AN105+AO105+AP105+AQ105 -> 10 | CL105: =L105 -> 10 | CM105: =AR105+AS105+AT105+AU105+AV105+AW105+AX105 -> 10 | CN105: =L105 -> 10 | CO105: =AY105+AZ105+BA105 -> 10 | CP105: =BF105 -> 0 | CQ105: =BC105+BD105+BE105 -> 0 | CR105: =BF105 -> 0 | CS105: =BG105+BH105+BI105+BJ105 -> 0 | CT105: =BS105 -> 0 | CU105: =BO105+BP105+BQ105+BR105 -> 0
A106: 6.9 | B106: Ավտոմեքենային կամ տրանսպորտային այլ միջոցին ապօրինաբար տիրանալն առանց հափշտակելու նպատակի | C106: 183 | D106: =SUM('Երևան քաղաք'!D105+Շիրակ!D105+Կոտայք!D105+Լոռի!D105+Արագածոտն!D105+Գեղարքունիքի!D105+Արմավիր!D105+'Արարատի և Վայոց ձոր'!D105+Տավուշ!D104+Սյունիք!D105) -> 0 | E106: =SUM('Երևան քաղաք'!E105+Շիրակ!E105+Կոտայք!E105+Լոռի!E105+Արագածոտն!E105+Գեղարքունիքի!E105+Արմավիր!E105+'Արարատի և Վայոց ձոր'!E105+Տավուշ!E104+Սյունիք!E105) -> 2 | F106: =SUM('Երևան քաղաք'!F105+Շիրակ!F105+Կոտայք!F105+Լոռի!F105+Արագածոտն!F105+Գեղարքունիքի!F105+Արմավիր!F105+'Արարատի և Վայոց ձոր'!F105+Տավուշ!F104+Սյունիք!F105) -> 2 | G106: =SUM('Երևան քաղաք'!G105+Շիրակ!G105+Կոտայք!G105+Լոռի!G105+Արագածոտն!G105+Գեղարքունիքի!G105+Արմավիր!G105+'Արարատի և Վայոց ձոր'!G105+Տավուշ!G104+Սյունիք!G105) -> 0 | H106: =SUM('Երևան քաղաք'!H105+Շիրակ!H105+Կոտայք!H105+Լոռի!H105+Արագածոտն!H105+Գեղարքունիքի!H105+Արմավիր!H105+'Արարատի և Վայոց ձոր'!H105+Տավուշ!H104+Սյունիք!H105) -> 0 | I106: =SUM('Երևան քաղաք'!I105+Շիրակ!I105+Կոտայք!I105+Լոռի!I105+Արագածոտն!I105+Գեղարքունիքի!I105+Արմավիր!I105+'Արարատի և Վայոց ձոր'!I105+Տավուշ!I104+Սյունիք!I105) -> 0 | J106: =SUM('Երևան քաղաք'!J105+Շիրակ!J105+Կոտայք!J105+Լոռի!J105+Արագածոտն!J105+Գեղարքունիքի!J105+Արմավիր!J105+'Արարատի և Վայոց ձոր'!J105+Տավուշ!J104+Սյունիք!J105) -> 0 | K106: =SUM('Երևան քաղաք'!K105+Շիրակ!K105+Կոտայք!K105+Լոռի!K105+Արագածոտն!K105+Գեղարքունիքի!K105+Արմավիր!K105+'Արարատի և Վայոց ձոր'!K105+Տավուշ!K104+Սյունիք!K105) -> 0 | ... BZ106: =SUM('Երևան քաղաք'!BZ105+Շիրակ!BZ105+Կոտայք!BZ105+Լոռի!BZ105+Արագածոտն!BZ105+Գեղարքունիքի!BZ105+Արմավիր!BZ105+'Արարատի և Վայոց ձոր'!BZ105+Տավուշ!BZ104+Սյունիք!BZ105) -> 0 | CB106: =F106 -> 2 | CC106: =D106+E106 -> 2 | CD106: =L106 -> 0 | CE106: =I106+J106+K106 -> 0 | CF106: =SUM(CF107:CF138) -> 19 | CG106: =SUM(CG107:CG138) -> 19 | CH106: =L106 -> 0 | CI106: =W106+X106+Y106+Z106+AA106+AB106+AC106 -> 0 | CJ106: =L106 -> 0 | CK106: =AM106+AN106+AO106+AP106+AQ106 -> 0 | CL106: =L106 -> 0 | CM106: =AR106+AS106+AT106+AU106+AV106+AW106+AX106 -> 0 | CN106: =L106 -> 0 | CO106: =AY106+AZ106+BA106 -> 0 | CP106: =BF106 -> 0 | CQ106: =BC106+BD106+BE106 -> 0 | CR106: =BF106 -> 0 | CS106: =BG106+BH106+BI106+BJ106 -> 0 | CT106: =BS106 -> 0 | CU106: =BO106+BP106+BQ106+BR106 -> 0
A107: 6.10 | B107: Գույքային վնաս պատճառելը խաբեության կամ վստահությունը չարաշահելու եղանակով | C107: 184 | D107: =SUM('Երևան քաղաք'!D106+Շիրակ!D106+Կոտայք!D106+Լոռի!D106+Արագածոտն!D106+Գեղարքունիքի!D106+Արմավիր!D106+'Արարատի և Վայոց ձոր'!D106+Տավուշ!D105+Սյունիք!D106) -> 0 | E107: =SUM('Երևան քաղաք'!E106+Շիրակ!E106+Կոտայք!E106+Լոռի!E106+Արագածոտն!E106+Գեղարքունիքի!E106+Արմավիր!E106+'Արարատի և Վայոց ձոր'!E106+Տավուշ!E105+Սյունիք!E106) -> 2 | F107: =SUM('Երևան քաղաք'!F106+Շիրակ!F106+Կոտայք!F106+Լոռի!F106+Արագածոտն!F106+Գեղարքունիքի!F106+Արմավիր!F106+'Արարատի և Վայոց ձոր'!F106+Տավուշ!F105+Սյունիք!F106) -> 2 | G107: =SUM('Երևան քաղաք'!G106+Շիրակ!G106+Կոտայք!G106+Լոռի!G106+Արագածոտն!G106+Գեղարքունիքի!G106+Արմավիր!G106+'Արարատի և Վայոց ձոր'!G106+Տավուշ!G105+Սյունիք!G106) -> 0 | H107: =SUM('Երևան քաղաք'!H106+Շիրակ!H106+Կոտայք!H106+Լոռի!H106+Արագածոտն!H106+Գեղարքունիքի!H106+Արմավիր!H106+'Արարատի և Վայոց ձոր'!H106+Տավուշ!H105+Սյունիք!H106) -> 0 | I107: =SUM('Երևան քաղաք'!I106+Շիրակ!I106+Կոտայք!I106+Լոռի!I106+Արագածոտն!I106+Գեղարքունիքի!I106+Արմավիր!I106+'Արարատի և Վայոց ձոր'!I106+Տավուշ!I105+Սյունիք!I106) -> 3 | J107: =SUM('Երևան քաղաք'!J106+Շիրակ!J106+Կոտայք!J106+Լոռի!J106+Արագածոտն!J106+Գեղարքունիքի!J106+Արմավիր!J106+'Արարատի և Վայոց ձոր'!J106+Տավուշ!J105+Սյունիք!J106) -> 0 | K107: =SUM('Երևան քաղաք'!K106+Շիրակ!K106+Կոտայք!K106+Լոռի!K106+Արագածոտն!K106+Գեղարքունիքի!K106+Արմավիր!K106+'Արարատի և Վայոց ձոր'!K106+Տավուշ!K105+Սյունիք!K106) -> 0 | ... BZ107: =SUM('Երևան քաղաք'!BZ106+Շիրակ!BZ106+Կոտայք!BZ106+Լոռի!BZ106+Արագածոտն!BZ106+Գեղարքունիքի!BZ106+Արմավիր!BZ106+'Արարատի և Վայոց ձոր'!BZ106+Տավուշ!BZ105+Սյունիք!BZ106) -> 0 | CB107: =F107 -> 2 | CC107: =D107+E107 -> 2 | CD107: =L107 -> 3 | CE107: =I107+J107+K107 -> 3 | CF107: =W107 -> 2 | CG107: =O107+P107+Q107+R107+S107+T107+U107+V107 -> 2 | CH107: =L107 -> 3 | CI107: =W107+X107+Y107+Z107+AA107+AB107+AC107 -> 3 | CJ107: =L107 -> 3 | CK107: =AM107+AN107+AO107+AP107+AQ107 -> 3 | CL107: =L107 -> 3 | CM107: =AR107+AS107+AT107+AU107+AV107+AW107+AX107 -> 3 | CN107: =L107 -> 3 | CO107: =AY107+AZ107+BA107 -> 3 | CP107: =BF107 -> 0 | CQ107: =BC107+BD107+BE107 -> 0 | CR107: =BF107 -> 0 | CS107: =BG107+BH107+BI107+BJ107 -> 0 | CT107: =BS107 -> 0 | CU107: =BO107+BP107+BQ107+BR107 -> 0
A108: 6.10.1 | B108: Գրավառուին վնաս պատճառելը | C108: 184.1 | D108: =SUM('Երևան քաղաք'!D107+Շիրակ!D107+Կոտայք!D107+Լոռի!D107+Արագածոտն!D107+Գեղարքունիքի!D107+Արմավիր!D107+'Արարատի և Վայոց ձոր'!D107+Տավուշ!D106+Սյունիք!D107) -> 0 | E108: =SUM('Երևան քաղաք'!E107+Շիրակ!E107+Կոտայք!E107+Լոռի!E107+Արագածոտն!E107+Գեղարքունիքի!E107+Արմավիր!E107+'Արարատի և Վայոց ձոր'!E107+Տավուշ!E106+Սյունիք!E107) -> 2 | F108: =SUM('Երևան քաղաք'!F107+Շիրակ!F107+Կոտայք!F107+Լոռի!F107+Արագածոտն!F107+Գեղարքունիքի!F107+Արմավիր!F107+'Արարատի և Վայոց ձոր'!F107+Տավուշ!F106+Սյունիք!F107) -> 2 | G108: =SUM('Երևան քաղաք'!G107+Շիրակ!G107+Կոտայք!G107+Լոռի!G107+Արագածոտն!G107+Գեղարքունիքի!G107+Արմավիր!G107+'Արարատի և Վայոց ձոր'!G107+Տավուշ!G106+Սյունիք!G107) -> 0 | H108: =SUM('Երևան քաղաք'!H107+Շիրակ!H107+Կոտայք!H107+Լոռի!H107+Արագածոտն!H107+Գեղարքունիքի!H107+Արմավիր!H107+'Արարատի և Վայոց ձոր'!H107+Տավուշ!H106+Սյունիք!H107) -> 0 | I108: =SUM('Երևան քաղաք'!I107+Շիրակ!I107+Կոտայք!I107+Լոռի!I107+Արագածոտն!I107+Գեղարքունիքի!I107+Արմավիր!I107+'Արարատի և Վայոց ձոր'!I107+Տավուշ!I106+Սյունիք!I107) -> 1 | J108: =SUM('Երևան քաղաք'!J107+Շիրակ!J107+Կոտայք!J107+Լոռի!J107+Արագածոտն!J107+Գեղարքունիքի!J107+Արմավիր!J107+'Արարատի և Վայոց ձոր'!J107+Տավուշ!J106+Սյունիք!J107) -> 0 | K108: =SUM('Երևան քաղաք'!K107+Շիրակ!K107+Կոտայք!K107+Լոռի!K107+Արագածոտն!K107+Գեղարքունիքի!K107+Արմավիր!K107+'Արարատի և Վայոց ձոր'!K107+Տավուշ!K106+Սյունիք!K107) -> 0 | ... BZ108: =SUM('Երևան քաղաք'!BZ107+Շիրակ!BZ107+Կոտայք!BZ107+Լոռի!BZ107+Արագածոտն!BZ107+Գեղարքունիքի!BZ107+Արմավիր!BZ107+'Արարատի և Վայոց ձոր'!BZ107+Տավուշ!BZ106+Սյունիք!BZ107) -> 1 | CB108: =F108 -> 2 | CC108: =D108+E108 -> 2 | CD108: =L108 -> 1 | CE108: =I108+J108+K108 -> 1 | CF108: =W108 -> 0 | CG108: =O108+P108+Q108+R108+S108+T108+U108+V108 -> 0 | CH108: =L108 -> 1 | CI108: =W108+X108+Y108+Z108+AA108+AB108+AC108 -> 1 | CJ108: =L108 -> 1 | CK108: =AM108+AN108+AO108+AP108+AQ108 -> 1 | CL108: =L108 -> 1 | CM108: =AR108+AS108+AT108+AU108+AV108+AW108+AX108 -> 1 | CN108: =L108 -> 1 | CO108: =AY108+AZ108+BA108 -> 1 | CP108: =BF108 -> 0 | CQ108: =BC108+BD108+BE108 -> 0 | CR108: =BF108 -> 0 | CS108: =BG108+BH108+BI108+BJ108 -> 0 | CT108: =BS108 -> 0 | CU108: =BO108+BP108+BQ108+BR108 -> 0
A109: 6.11 | B109: Գույքը դիտավորությամբ ոչնչացնելը կամ վնասելը | C109: 185 | D109: =SUM('Երևան քաղաք'!D108+Շիրակ!D108+Կոտայք!D108+Լոռի!D108+Արագածոտն!D108+Գեղարքունիքի!D108+Արմավիր!D108+'Արարատի և Վայոց ձոր'!D108+Տավուշ!D107+Սյունիք!D108) -> 8 | E109: =SUM('Երևան քաղաք'!E108+Շիրակ!E108+Կոտայք!E108+Լոռի!E108+Արագածոտն!E108+Գեղարքունիքի!E108+Արմավիր!E108+'Արարատի և Վայոց ձոր'!E108+Տավուշ!E107+Սյունիք!E108) -> 11 | F109: =SUM('Երևան քաղաք'!F108+Շիրակ!F108+Կոտայք!F108+Լոռի!F108+Արագածոտն!F108+Գեղարքունիքի!F108+Արմավիր!F108+'Արարատի և Վայոց ձոր'!F108+Տավուշ!F107+Սյունիք!F108) -> 19 | G109: =SUM('Երևան քաղաք'!G108+Շիրակ!G108+Կոտայք!G108+Լոռի!G108+Արագածոտն!G108+Գեղարքունիքի!G108+Արմավիր!G108+'Արարատի և Վայոց ձոր'!G108+Տավուշ!G107+Սյունիք!G108) -> 1 | H109: =SUM('Երևան քաղաք'!H108+Շիրակ!H108+Կոտայք!H108+Լոռի!H108+Արագածոտն!H108+Գեղարքունիքի!H108+Արմավիր!H108+'Արարատի և Վայոց ձոր'!H108+Տավուշ!H107+Սյունիք!H108) -> 1 | I109: =SUM('Երևան քաղաք'!I108+Շիրակ!I108+Կոտայք!I108+Լոռի!I108+Արագածոտն!I108+Գեղարքունիքի!I108+Արմավիր!I108+'Արարատի և Վայոց ձոր'!I108+Տավուշ!I107+Սյունիք!I108) -> 15 | J109: =SUM('Երևան քաղաք'!J108+Շիրակ!J108+Կոտայք!J108+Լոռի!J108+Արագածոտն!J108+Գեղարքունիքի!J108+Արմավիր!J108+'Արարատի և Վայոց ձոր'!J108+Տավուշ!J107+Սյունիք!J108) -> 0 | K109: =SUM('Երևան քաղաք'!K108+Շիրակ!K108+Կոտայք!K108+Լոռի!K108+Արագածոտն!K108+Գեղարքունիքի!K108+Արմավիր!K108+'Արարատի և Վայոց ձոր'!K108+Տավուշ!K107+Սյունիք!K108) -> 0 | ... BZ109: =SUM('Երևան քաղաք'!BZ108+Շիրակ!BZ108+Կոտայք!BZ108+Լոռի!BZ108+Արագածոտն!BZ108+Գեղարքունիքի!BZ108+Արմավիր!BZ108+'Արարատի և Վայոց ձոր'!BZ108+Տավուշ!BZ107+Սյունիք!BZ108) -> 7 | CB109: =F109 -> 19 | CC109: =D109+E109 -> 19 | CD109: =L109 -> 15 | CE109: =I109+J109+K109 -> 15 | CF109: =W109 -> 7 | CG109: =O109+P109+Q109+R109+S109+T109+U109+V109 -> 7 | CH109: =L109 -> 15 | CI109: =W109+X109+Y109+Z109+AA109+AB109+AC109 -> 15 | CJ109: =L109 -> 15 | CK109: =AM109+AN109+AO109+AP109+AQ109 -> 15 | CL109: =L109 -> 15 | CM109: =AR109+AS109+AT109+AU109+AV109+AW109+AX109 -> 15 | CN109: =L109 -> 15 | CO109: =AY109+AZ109+BA109 -> 15 | CP109: =BF109 -> 0 | CQ109: =BC109+BD109+BE109 -> 0 | CR109: =BF109 -> 0 | CS109: =BG109+BH109+BI109+BJ109 -> 0 | CT109: =BS109 -> 0 | CU109: =BO109+BP109+BQ109+BR109 -> 0
A110: 6.12 | B110: Գույքն անզգուշությամբ ոչնչացնելը կամ վնասելը | C110: 186 | D110: =SUM('Երևան քաղաք'!D109+Շիրակ!D109+Կոտայք!D109+Լոռի!D109+Արագածոտն!D109+Գեղարքունիքի!D109+Արմավիր!D109+'Արարատի և Վայոց ձոր'!D109+Տավուշ!D108+Սյունիք!D109) -> 0 | E110: =SUM('Երևան քաղաք'!E109+Շիրակ!E109+Կոտայք!E109+Լոռի!E109+Արագածոտն!E109+Գեղարքունիքի!E109+Արմավիր!E109+'Արարատի և Վայոց ձոր'!E109+Տավուշ!E108+Սյունիք!E109) -> 2 | F110: =SUM('Երևան քաղաք'!F109+Շիրակ!F109+Կոտայք!F109+Լոռի!F109+Արագածոտն!F109+Գեղարքունիքի!F109+Արմավիր!F109+'Արարատի և Վայոց ձոր'!F109+Տավուշ!F108+Սյունիք!F109) -> 2 | G110: =SUM('Երևան քաղաք'!G109+Շիրակ!G109+Կոտայք!G109+Լոռի!G109+Արագածոտն!G109+Գեղարքունիքի!G109+Արմավիր!G109+'Արարատի և Վայոց ձոր'!G109+Տավուշ!G108+Սյունիք!G109) -> 1 | H110: =SUM('Երևան քաղաք'!H109+Շիրակ!H109+Կոտայք!H109+Լոռի!H109+Արագածոտն!H109+Գեղարքունիքի!H109+Արմավիր!H109+'Արարատի և Վայոց ձոր'!H109+Տավուշ!H108+Սյունիք!H109) -> 2 | I110: =SUM('Երևան քաղաք'!I109+Շիրակ!I109+Կոտայք!I109+Լոռի!I109+Արագածոտն!I109+Գեղարքունիքի!I109+Արմավիր!I109+'Արարատի և Վայոց ձոր'!I109+Տավուշ!I108+Սյունիք!I109) -> 0 | J110: =SUM('Երևան քաղաք'!J109+Շիրակ!J109+Կոտայք!J109+Լոռի!J109+Արագածոտն!J109+Գեղարքունիքի!J109+Արմավիր!J109+'Արարատի և Վայոց ձոր'!J109+Տավուշ!J108+Սյունիք!J109) -> 0 | K110: =SUM('Երևան քաղաք'!K109+Շիրակ!K109+Կոտայք!K109+Լոռի!K109+Արագածոտն!K109+Գեղարքունիքի!K109+Արմավիր!K109+'Արարատի և Վայոց ձոր'!K109+Տավուշ!K108+Սյունիք!K109) -> 0 | ... BZ110: =SUM('Երևան քաղաք'!BZ109+Շիրակ!BZ109+Կոտայք!BZ109+Լոռի!BZ109+Արագածոտն!BZ109+Գեղարքունիքի!BZ109+Արմավիր!BZ109+'Արարատի և Վայոց ձոր'!BZ109+Տավուշ!BZ108+Սյունիք!BZ109) -> 0 | CB110: =F110 -> 2 | CC110: =D110+E110 -> 2 | CD110: =L110 -> 0 | CE110: =I110+J110+K110 -> 0 | CF110: =W110 -> 0 | CG110: =O110+P110+Q110+R110+S110+T110+U110+V110 -> 0 | CH110: =L110 -> 0 | CI110: =W110+X110+Y110+Z110+AA110+AB110+AC110 -> 0 | CJ110: =L110 -> 0 | CK110: =AM110+AN110+AO110+AP110+AQ110 -> 0 | CL110: =L110 -> 0 | CM110: =AR110+AS110+AT110+AU110+AV110+AW110+AX110 -> 0 | CN110: =L110 -> 0 | CO110: =AY110+AZ110+BA110 -> 0 | CP110: =BF110 -> 0 | CQ110: =BC110+BD110+BE110 -> 0 | CR110: =BF110 -> 0 | CS110: =BG110+BH110+BI110+BJ110 -> 0 | CT110: =BS110 -> 0 | CU110: =BO110+BP110+BQ110+BR110 -> 0
A111: 6.13 | B111: Գուքի պահպանության պարտականություններն անփույթ կամ անբարեխիղճ կատարելը | C111: 186.1 | D111: =SUM('Երևան քաղաք'!D110+Շիրակ!D110+Կոտայք!D110+Լոռի!D110+Արագածոտն!D110+Գեղարքունիքի!D110+Արմավիր!D110+'Արարատի և Վայոց ձոր'!D110+Տավուշ!D109+Սյունիք!D110) -> 1 | E111: =SUM('Երևան քաղաք'!E110+Շիրակ!E110+Կոտայք!E110+Լոռի!E110+Արագածոտն!E110+Գեղարքունիքի!E110+Արմավիր!E110+'Արարատի և Վայոց ձոր'!E110+Տավուշ!E109+Սյունիք!E110) -> 0 | F111: =SUM('Երևան քաղաք'!F110+Շիրակ!F110+Կոտայք!F110+Լոռի!F110+Արագածոտն!F110+Գեղարքունիքի!F110+Արմավիր!F110+'Արարատի և Վայոց ձոր'!F110+Տավուշ!F109+Սյունիք!F110) -> 1 | G111: =SUM('Երևան քաղաք'!G110+Շիրակ!G110+Կոտայք!G110+Լոռի!G110+Արագածոտն!G110+Գեղարքունիքի!G110+Արմավիր!G110+'Արարատի և Վայոց ձոր'!G110+Տավուշ!G109+Սյունիք!G110) -> 0 | H111: =SUM('Երևան քաղաք'!H110+Շիրակ!H110+Կոտայք!H110+Լոռի!H110+Արագածոտն!H110+Գեղարքունիքի!H110+Արմավիր!H110+'Արարատի և Վայոց ձոր'!H110+Տավուշ!H109+Սյունիք!H110) -> 0 | I111: =SUM('Երևան քաղաք'!I110+Շիրակ!I110+Կոտայք!I110+Լոռի!I110+Արագածոտն!I110+Գեղարքունիքի!I110+Արմավիր!I110+'Արարատի և Վայոց ձոր'!I110+Տավուշ!I109+Սյունիք!I110) -> 2 | J111: =SUM('Երևան քաղաք'!J110+Շիրակ!J110+Կոտայք!J110+Լոռի!J110+Արագածոտն!J110+Գեղարքունիքի!J110+Արմավիր!J110+'Արարատի և Վայոց ձոր'!J110+Տավուշ!J109+Սյունիք!J110) -> 0 | K111: =SUM('Երևան քաղաք'!K110+Շիրակ!K110+Կոտայք!K110+Լոռի!K110+Արագածոտն!K110+Գեղարքունիքի!K110+Արմավիր!K110+'Արարատի և Վայոց ձոր'!K110+Տավուշ!K109+Սյունիք!K110) -> 0 | ... BZ111: =SUM('Երևան քաղաք'!BZ110+Շիրակ!BZ110+Կոտայք!BZ110+Լոռի!BZ110+Արագածոտն!BZ110+Գեղարքունիքի!BZ110+Արմավիր!BZ110+'Արարատի և Վայոց ձոր'!BZ110+Տավուշ!BZ109+Սյունիք!BZ110) -> 0 | CB111: =F111 -> 1 | CC111: =D111+E111 -> 1 | CD111: =L111 -> 2 | CE111: =I111+J111+K111 -> 2 | CF111: =W111 -> 0 | CG111: =O111+P111+Q111+R111+S111+T111+U111+V111 -> 0 | CH111: =L111 -> 2 | CI111: =W111+X111+Y111+Z111+AA111+AB111+AC111 -> 2 | CJ111: =L111 -> 2 | CK111: =AM111+AN111+AO111+AP111+AQ111 -> 2 | CL111: =L111 -> 2 | CM111: =AR111+AS111+AT111+AU111+AV111+AW111+AX111 -> 2 | CN111: =L111 -> 2 | CO111: =AY111+AZ111+BA111 -> 2 | CP111: =BF111 -> 0 | CQ111: =BC111+BD111+BE111 -> 0 | CR111: =BF111 -> 0 | CS111: =BG111+BH111+BI111+BJ111 -> 0 | CT111: =BS111 -> 0 | CU111: =BO111+BP111+BQ111+BR111 -> 0
A112: 6.14 | B112: Այլ հանցագործություններ | D112: =SUM('Երևան քաղաք'!D111+Շիրակ!D111+Կոտայք!D111+Լոռի!D111+Արագածոտն!D111+Գեղարքունիքի!D111+Արմավիր!D111+'Արարատի և Վայոց ձոր'!D111+Տավուշ!D110+Սյունիք!D111) -> 0 | E112: =SUM('Երևան քաղաք'!E111+Շիրակ!E111+Կոտայք!E111+Լոռի!E111+Արագածոտն!E111+Գեղարքունիքի!E111+Արմավիր!E111+'Արարատի և Վայոց ձոր'!E111+Տավուշ!E110+Սյունիք!E111) -> 0 | F112: =SUM('Երևան քաղաք'!F111+Շիրակ!F111+Կոտայք!F111+Լոռի!F111+Արագածոտն!F111+Գեղարքունիքի!F111+Արմավիր!F111+'Արարատի և Վայոց ձոր'!F111+Տավուշ!F110+Սյունիք!F111) -> 0 | G112: =SUM('Երևան քաղաք'!G111+Շիրակ!G111+Կոտայք!G111+Լոռի!G111+Արագածոտն!G111+Գեղարքունիքի!G111+Արմավիր!G111+'Արարատի և Վայոց ձոր'!G111+Տավուշ!G110+Սյունիք!G111) -> 0 | H112: =SUM('Երևան քաղաք'!H111+Շիրակ!H111+Կոտայք!H111+Լոռի!H111+Արագածոտն!H111+Գեղարքունիքի!H111+Արմավիր!H111+'Արարատի և Վայոց ձոր'!H111+Տավուշ!H110+Սյունիք!H111) -> 0 | I112: =SUM('Երևան քաղաք'!I111+Շիրակ!I111+Կոտայք!I111+Լոռի!I111+Արագածոտն!I111+Գեղարքունիքի!I111+Արմավիր!I111+'Արարատի և Վայոց ձոր'!I111+Տավուշ!I110+Սյունիք!I111) -> 0 | J112: =SUM('Երևան քաղաք'!J111+Շիրակ!J111+Կոտայք!J111+Լոռի!J111+Արագածոտն!J111+Գեղարքունիքի!J111+Արմավիր!J111+'Արարատի և Վայոց ձոր'!J111+Տավուշ!J110+Սյունիք!J111) -> 0 | K112: =SUM('Երևան քաղաք'!K111+Շիրակ!K111+Կոտայք!K111+Լոռի!K111+Արագածոտն!K111+Գեղարքունիքի!K111+Արմավիր!K111+'Արարատի և Վայոց ձոր'!K111+Տավուշ!K110+Սյունիք!K111) -> 0 | ... BZ112: =SUM('Երևան քաղաք'!BZ111+Շիրակ!BZ111+Կոտայք!BZ111+Լոռի!BZ111+Արագածոտն!BZ111+Գեղարքունիքի!BZ111+Արմավիր!BZ111+'Արարատի և Վայոց ձոր'!BZ111+Տավուշ!BZ110+Սյունիք!BZ111) -> 0 | CB112: =F112 -> 0 | CC112: =D112+E112 -> 0 | CD112: =L112 -> 0 | CE112: =I112+J112+K112 -> 0 | CF112: =W112 -> 0 | CG112: =O112+P112+Q112+R112+S112+T112+U112+V112 -> 0 | CH112: =L112 -> 0 | CI112: =W112+X112+Y112+Z112+AA112+AB112+AC112 -> 0 | CJ112: =L112 -> 0 | CK112: =AM112+AN112+AO112+AP112+AQ112 -> 0 | CL112: =L112 -> 0 | CM112: =AR112+AS112+AT112+AU112+AV112+AW112+AX112 -> 0 | CN112: =L112 -> 0 | CO112: =AY112+AZ112+BA112 -> 0 | CP112: =BF112 -> 0 | CQ112: =BC112+BD112+BE112 -> 0 | CR112: =BF112 -> 0 | CS112: =BG112+BH112+BI112+BJ112 -> 0 | CT112: =BS112 -> 0 | CU112: =BO112+BP112+BQ112+BR112 -> 0
A113: 7. | B113: Ընդամենը տնտեսական գործունեության դեմ ուղղված հանցագործությունները | D113: =SUM('Երևան քաղաք:Սյունիք'!D112) -> 10 | E113: =SUM('Երևան քաղաք:Սյունիք'!E112) -> 5 | F113: =SUM('Երևան քաղաք:Սյունիք'!F112) -> 15 | G113: =SUM('Երևան քաղաք:Սյունիք'!G112) -> 0 | H113: =SUM('Երևան քաղաք:Սյունիք'!H112) -> 7 | I113: =SUM('Երևան քաղաք:Սյունիք'!I112) -> 6 | J113: =SUM('Երևան քաղաք:Սյունիք'!J112) -> 0 | K113: =SUM('Երևան քաղաք:Սյունիք'!K112) -> 1 | ... CA113: =SUM('Երևան քաղաք:Սյունիք'!CA112) -> 0 | CB113: =F113 -> 15 | CC113: =D113+E113 -> 15 | CD113: =L113 -> 7 | CE113: =I113+J113+K113 -> 7 | CF113: =W113 -> 5 | CG113: =O113+P113+Q113+R113+S113+T113+U113+V113 -> 5 | CH113: =L113 -> 7 | CI113: =W113+X113+Y113+Z113+AA113+AB113+AC113 -> 7 | CJ113: =L113 -> 7 | CK113: =AM113+AN113+AO113+AP113+AQ113 -> 7 | CL113: =L113 -> 7 | CM113: =AR113+AS113+AT113+AU113+AV113+AW113+AX113 -> 7 | CN113: =L113 -> 7 | CO113: =AY113+AZ113+BA113 -> 7 | CP113: =BF113 -> 1 | CQ113: =BC113+BD113+BE113 -> 1 | CR113: =BF113 -> 1 | CS113: =BG113+BH113+BI113+BJ113 -> 1 | CT113: =BS113 -> 0 | CU113: =BO113+BP113+BQ113+BR113 -> 0
A114: 7.1 | B114: Օրինական ձեռնարկատիրական և այլ տնտեսական գործունեությանը խոչընդոտելը | C114: 187 | D114: =SUM('Երևան քաղաք'!D113+Շիրակ!D113+Կոտայք!D113+Լոռի!D113+Արագածոտն!D113+Գեղարքունիքի!D113+Արմավիր!D113+'Արարատի և Վայոց ձոր'!D113+Տավուշ!D112+Սյունիք!D113) -> 0 | E114: =SUM('Երևան քաղաք'!E113+Շիրակ!E113+Կոտայք!E113+Լոռի!E113+Արագածոտն!E113+Գեղարքունիքի!E113+Արմավիր!E113+'Արարատի և Վայոց ձոր'!E113+Տավուշ!E112+Սյունիք!E113) -> 0 | F114: =SUM('Երևան քաղաք'!F113+Շիրակ!F113+Կոտայք!F113+Լոռի!F113+Արագածոտն!F113+Գեղարքունիքի!F113+Արմավիր!F113+'Արարատի և Վայոց ձոր'!F113+Տավուշ!F112+Սյունիք!F113) -> 0 | G114: =SUM('Երևան քաղաք'!G113+Շիրակ!G113+Կոտայք!G113+Լոռի!G113+Արագածոտն!G113+Գեղարքունիքի!G113+Արմավիր!G113+'Արարատի և Վայոց ձոր'!G113+Տավուշ!G112+Սյունիք!G113) -> 0 | H114: =SUM('Երևան քաղաք'!H113+Շիրակ!H113+Կոտայք!H113+Լոռի!H113+Արագածոտն!H113+Գեղարքունիքի!H113+Արմավիր!H113+'Արարատի և Վայոց ձոր'!H113+Տավուշ!H112+Սյունիք!H113) -> 0 | I114: =SUM('Երևան քաղաք'!I113+Շիրակ!I113+Կոտայք!I113+Լոռի!I113+Արագածոտն!I113+Գեղարքունիքի!I113+Արմավիր!I113+'Արարատի և Վայոց ձոր'!I113+Տավուշ!I112+Սյունիք!I113) -> 0 | J114: =SUM('Երևան քաղաք'!J113+Շիրակ!J113+Կոտայք!J113+Լոռի!J113+Արագածոտն!J113+Գեղարքունիքի!J113+Արմավիր!J113+'Արարատի և Վայոց ձոր'!J113+Տավուշ!J112+Սյունիք!J113) -> 0 | K114: =SUM('Երևան քաղաք'!K113+Շիրակ!K113+Կոտայք!K113+Լոռի!K113+Արագածոտն!K113+Գեղարքունիքի!K113+Արմավիր!K113+'Արարատի և Վայոց ձոր'!K113+Տավուշ!K112+Սյունիք!K113) -> 0 | ... BZ114: =SUM('Երևան քաղաք'!BZ113+Շիրակ!BZ113+Կոտայք!BZ113+Լոռի!BZ113+Արագածոտն!BZ113+Գեղարքունիքի!BZ113+Արմավիր!BZ113+'Արարատի և Վայոց ձոր'!BZ113+Տավուշ!BZ112+Սյունիք!BZ113) -> 0 | CB114: =F114 -> 0 | CC114: =D114+E114 -> 0 | CD114: =L114 -> 0 | CE114: =I114+J114+K114 -> 0 | CF114: =W114 -> 0 | CG114: =O114+P114+Q114+R114+S114+T114+U114+V114 -> 0 | CH114: =L114 -> 0 | CI114: =W114+X114+Y114+Z114+AA114+AB114+AC114 -> 0 | CJ114: =L114 -> 0 | CK114: =AM114+AN114+AO114+AP114+AQ114 -> 0 | CL114: =L114 -> 0 | CM114: =AR114+AS114+AT114+AU114+AV114+AW114+AX114 -> 0 | CN114: =L114 -> 0 | CO114: =AY114+AZ114+BA114 -> 0 | CP114: =BF114 -> 0 | CQ114: =BC114+BD114+BE114 -> 0 | CR114: =BF114 -> 0 | CS114: =BG114+BH114+BI114+BJ114 -> 0 | CT114: =BS114 -> 0 | CU114: =BO114+BP114+BQ114+BR114 -> 0
A115: 7.2 | B115: Ապօրինի ձեռնարկատիրությունը | C115: 188 | D115: =SUM('Երևան քաղաք'!D114+Շիրակ!D114+Կոտայք!D114+Լոռի!D114+Արագածոտն!D114+Գեղարքունիքի!D114+Արմավիր!D114+'Արարատի և Վայոց ձոր'!D114+Տավուշ!D113+Սյունիք!D114) -> 0 | E115: =SUM('Երևան քաղաք'!E114+Շիրակ!E114+Կոտայք!E114+Լոռի!E114+Արագածոտն!E114+Գեղարքունիքի!E114+Արմավիր!E114+'Արարատի և Վայոց ձոր'!E114+Տավուշ!E113+Սյունիք!E114) -> 1 | F115: =SUM('Երևան քաղաք'!F114+Շիրակ!F114+Կոտայք!F114+Լոռի!F114+Արագածոտն!F114+Գեղարքունիքի!F114+Արմավիր!F114+'Արարատի և Վայոց ձոր'!F114+Տավուշ!F113+Սյունիք!F114) -> 1 | G115: =SUM('Երևան քաղաք'!G114+Շիրակ!G114+Կոտայք!G114+Լոռի!G114+Արագածոտն!G114+Գեղարքունիքի!G114+Արմավիր!G114+'Արարատի և Վայոց ձոր'!G114+Տավուշ!G113+Սյունիք!G114) -> 0 | H115: =SUM('Երևան քաղաք'!H114+Շիրակ!H114+Կոտայք!H114+Լոռի!H114+Արագածոտն!H114+Գեղարքունիքի!H114+Արմավիր!H114+'Արարատի և Վայոց ձոր'!H114+Տավուշ!H113+Սյունիք!H114) -> 2 | I115: =SUM('Երևան քաղաք'!I114+Շիրակ!I114+Կոտայք!I114+Լոռի!I114+Արագածոտն!I114+Գեղարքունիքի!I114+Արմավիր!I114+'Արարատի և Վայոց ձոր'!I114+Տավուշ!I113+Սյունիք!I114) -> 0 | J115: =SUM('Երևան քաղաք'!J114+Շիրակ!J114+Կոտայք!J114+Լոռի!J114+Արագածոտն!J114+Գեղարքունիքի!J114+Արմավիր!J114+'Արարատի և Վայոց ձոր'!J114+Տավուշ!J113+Սյունիք!J114) -> 0 | K115: =SUM('Երևան քաղաք'!K114+Շիրակ!K114+Կոտայք!K114+Լոռի!K114+Արագածոտն!K114+Գեղարքունիքի!K114+Արմավիր!K114+'Արարատի և Վայոց ձոր'!K114+Տավուշ!K113+Սյունիք!K114) -> 0 | ... BZ115: =SUM('Երևան քաղաք'!BZ114+Շիրակ!BZ114+Կոտայք!BZ114+Լոռի!BZ114+Արագածոտն!BZ114+Գեղարքունիքի!BZ114+Արմավիր!BZ114+'Արարատի և Վայոց ձոր'!BZ114+Տավուշ!BZ113+Սյունիք!BZ114) -> 0 | CB115: =F115 -> 1 | CC115: =D115+E115 -> 1 | CD115: =L115 -> 0 | CE115: =I115+J115+K115 -> 0 | CF115: =W115 -> 0 | CG115: =O115+P115+Q115+R115+S115+T115+U115+V115 -> 0 | CH115: =L115 -> 0 | CI115: =W115+X115+Y115+Z115+AA115+AB115+AC115 -> 0 | CJ115: =L115 -> 0 | CK115: =AM115+AN115+AO115+AP115+AQ115 -> 0 | CL115: =L115 -> 0 | CM115: =AR115+AS115+AT115+AU115+AV115+AW115+AX115 -> 0 | CN115: =L115 -> 0 | CO115: =AY115+AZ115+BA115 -> 0 | CP115: =BF115 -> 0 | CQ115: =BC115+BD115+BE115 -> 0 | CR115: =BF115 -> 0 | CS115: =BG115+BH115+BI115+BJ115 -> 0 | CT115: =BS115 -> 0 | CU115: =BO115+BP115+BQ115+BR115 -> 0
A116: 7.3 | B116: Առանց լիցենազիայի արտարժույթի վաճառքի իրականացումը | C116: 188.1 | D116: =SUM('Երևան քաղաք'!D115+Շիրակ!D115+Կոտայք!D115+Լոռի!D115+Արագածոտն!D115+Գեղարքունիքի!D115+Արմավիր!D115+'Արարատի և Վայոց ձոր'!D115+Տավուշ!D114+Սյունիք!D115) -> 1 | E116: =SUM('Երևան քաղաք'!E115+Շիրակ!E115+Կոտայք!E115+Լոռի!E115+Արագածոտն!E115+Գեղարքունիքի!E115+Արմավիր!E115+'Արարատի և Վայոց ձոր'!E115+Տավուշ!E114+Սյունիք!E115) -> 0 | F116: =SUM('Երևան քաղաք'!F115+Շիրակ!F115+Կոտայք!F115+Լոռի!F115+Արագածոտն!F115+Գեղարքունիքի!F115+Արմավիր!F115+'Արարատի և Վայոց ձոր'!F115+Տավուշ!F114+Սյունիք!F115) -> 1 | G116: =SUM('Երևան քաղաք'!G115+Շիրակ!G115+Կոտայք!G115+Լոռի!G115+Արագածոտն!G115+Գեղարքունիքի!G115+Արմավիր!G115+'Արարատի և Վայոց ձոր'!G115+Տավուշ!G114+Սյունիք!G115) -> 0 | H116: =SUM('Երևան քաղաք'!H115+Շիրակ!H115+Կոտայք!H115+Լոռի!H115+Արագածոտն!H115+Գեղարքունիքի!H115+Արմավիր!H115+'Արարատի և Վայոց ձոր'!H115+Տավուշ!H114+Սյունիք!H115) -> 3 | I116: =SUM('Երևան քաղաք'!I115+Շիրակ!I115+Կոտայք!I115+Լոռի!I115+Արագածոտն!I115+Գեղարքունիքի!I115+Արմավիր!I115+'Արարատի և Վայոց ձոր'!I115+Տավուշ!I114+Սյունիք!I115) -> 1 | J116: =SUM('Երևան քաղաք'!J115+Շիրակ!J115+Կոտայք!J115+Լոռի!J115+Արագածոտն!J115+Գեղարքունիքի!J115+Արմավիր!J115+'Արարատի և Վայոց ձոր'!J115+Տավուշ!J114+Սյունիք!J115) -> 0 | K116: =SUM('Երևան քաղաք'!K115+Շիրակ!K115+Կոտայք!K115+Լոռի!K115+Արագածոտն!K115+Գեղարքունիքի!K115+Արմավիր!K115+'Արարատի և Վայոց ձոր'!K115+Տավուշ!K114+Սյունիք!K115) -> 0 | ... BZ116: =SUM('Երևան քաղաք'!BZ115+Շիրակ!BZ115+Կոտայք!BZ115+Լոռի!BZ115+Արագածոտն!BZ115+Գեղարքունիքի!BZ115+Արմավիր!BZ115+'Արարատի և Վայոց ձոր'!BZ115+Տավուշ!BZ114+Սյունիք!BZ115) -> 2 | CB116: =F116 -> 1 | CC116: =D116+E116 -> 1 | CD116: =L116 -> 1 | CE116: =I116+J116+K116 -> 1 | CF116: =W116 -> 0 | CG116: =O116+P116+Q116+R116+S116+T116+U116+V116 -> 0 | CH116: =L116 -> 1 | CI116: =W116+X116+Y116+Z116+AA116+AB116+AC116 -> 1 | CJ116: =L116 -> 1 | CK116: =AM116+AN116+AO116+AP116+AQ116 -> 1 | CL116: =L116 -> 1 | CM116: =AR116+AS116+AT116+AU116+AV116+AW116+AX116 -> 1 | CN116: =L116 -> 1 | CO116: =AY116+AZ116+BA116 -> 1 | CP116: =BF116 -> 0 | CQ116: =BC116+BD116+BE116 -> 0 | CR116: =BF116 -> 0 | CS116: =BG116+BH116+BI116+BJ116 -> 0 | CT116: =BS116 -> 0 | CU116: =BO116+BP116+BQ116+BR116 -> 0
A117: 7.4 | B117: Կեղծ ձեռնարկատիրությունը | C117: 189 | D117: =SUM('Երևան քաղաք'!D116+Շիրակ!D116+Կոտայք!D116+Լոռի!D116+Արագածոտն!D116+Գեղարքունիքի!D116+Արմավիր!D116+'Արարատի և Վայոց ձոր'!D116+Տավուշ!D115+Սյունիք!D116) -> 0 | E117: =SUM('Երևան քաղաք'!E116+Շիրակ!E116+Կոտայք!E116+Լոռի!E116+Արագածոտն!E116+Գեղարքունիքի!E116+Արմավիր!E116+'Արարատի և Վայոց ձոր'!E116+Տավուշ!E115+Սյունիք!E116) -> 0 | F117: =SUM('Երևան քաղաք'!F116+Շիրակ!F116+Կոտայք!F116+Լոռի!F116+Արագածոտն!F116+Գեղարքունիքի!F116+Արմավիր!F116+'Արարատի և Վայոց ձոր'!F116+Տավուշ!F115+Սյունիք!F116) -> 0 | G117: =SUM('Երևան քաղաք'!G116+Շիրակ!G116+Կոտայք!G116+Լոռի!G116+Արագածոտն!G116+Գեղարքունիքի!G116+Արմավիր!G116+'Արարատի և Վայոց ձոր'!G116+Տավուշ!G115+Սյունիք!G116) -> 0 | H117: =SUM('Երևան քաղաք'!H116+Շիրակ!H116+Կոտայք!H116+Լոռի!H116+Արագածոտն!H116+Գեղարքունիքի!H116+Արմավիր!H116+'Արարատի և Վայոց ձոր'!H116+Տավուշ!H115+Սյունիք!H116) -> 0 | I117: =SUM('Երևան քաղաք'!I116+Շիրակ!I116+Կոտայք!I116+Լոռի!I116+Արագածոտն!I116+Գեղարքունիքի!I116+Արմավիր!I116+'Արարատի և Վայոց ձոր'!I116+Տավուշ!I115+Սյունիք!I116) -> 0 | J117: =SUM('Երևան քաղաք'!J116+Շիրակ!J116+Կոտայք!J116+Լոռի!J116+Արագածոտն!J116+Գեղարքունիքի!J116+Արմավիր!J116+'Արարատի և Վայոց ձոր'!J116+Տավուշ!J115+Սյունիք!J116) -> 0 | K117: =SUM('Երևան քաղաք'!K116+Շիրակ!K116+Կոտայք!K116+Լոռի!K116+Արագածոտն!K116+Գեղարքունիքի!K116+Արմավիր!K116+'Արարատի և Վայոց ձոր'!K116+Տավուշ!K115+Սյունիք!K116) -> 0 | ... BZ117: =SUM('Երևան քաղաք'!BZ116+Շիրակ!BZ116+Կոտայք!BZ116+Լոռի!BZ116+Արագածոտն!BZ116+Գեղարքունիքի!BZ116+Արմավիր!BZ116+'Արարատի և Վայոց ձոր'!BZ116+Տավուշ!BZ115+Սյունիք!BZ116) -> 0 | CB117: =F117 -> 0 | CC117: =D117+E117 -> 0 | CD117: =L117 -> 0 | CE117: =I117+J117+K117 -> 0 | CF117: =W117 -> 0 | CG117: =O117+P117+Q117+R117+S117+T117+U117+V117 -> 0 | CH117: =L117 -> 0 | CI117: =W117+X117+Y117+Z117+AA117+AB117+AC117 -> 0 | CJ117: =L117 -> 0 | CK117: =AM117+AN117+AO117+AP117+AQ117 -> 0 | CL117: =L117 -> 0 | CM117: =AR117+AS117+AT117+AU117+AV117+AW117+AX117 -> 0 | CN117: =L117 -> 0 | CO117: =AY117+AZ117+BA117 -> 0 | CP117: =BF117 -> 0 | CQ117: =BC117+BD117+BE117 -> 0 | CR117: =BF117 -> 0 | CS117: =BG117+BH117+BI117+BJ117 -> 0 | CT117: =BS117 -> 0 | CU117: =BO117+BP117+BQ117+BR117 -> 0
A118: 7.4.1 | B118: Ֆինանսական բուրգ ստեղծելը, կազմակերպելը կամ ղեկավարելը | C118: 189.1 | D118: =SUM('Երևան քաղաք'!D117+Շիրակ!D117+Կոտայք!D117+Լոռի!D117+Արագածոտն!D117+Գեղարքունիքի!D117+Արմավիր!D117+'Արարատի և Վայոց ձոր'!D117+Տավուշ!D116+Սյունիք!D117) -> 0 | E118: =SUM('Երևան քաղաք'!E117+Շիրակ!E117+Կոտայք!E117+Լոռի!E117+Արագածոտն!E117+Գեղարքունիքի!E117+Արմավիր!E117+'Արարատի և Վայոց ձոր'!E117+Տավուշ!E116+Սյունիք!E117) -> 0 | F118: =SUM('Երևան քաղաք'!F117+Շիրակ!F117+Կոտայք!F117+Լոռի!F117+Արագածոտն!F117+Գեղարքունիքի!F117+Արմավիր!F117+'Արարատի և Վայոց ձոր'!F117+Տավուշ!F116+Սյունիք!F117) -> 0 | G118: =SUM('Երևան քաղաք'!G117+Շիրակ!G117+Կոտայք!G117+Լոռի!G117+Արագածոտն!G117+Գեղարքունիքի!G117+Արմավիր!G117+'Արարատի և Վայոց ձոր'!G117+Տավուշ!G116+Սյունիք!G117) -> 0 | H118: =SUM('Երևան քաղաք'!H117+Շիրակ!H117+Կոտայք!H117+Լոռի!H117+Արագածոտն!H117+Գեղարքունիքի!H117+Արմավիր!H117+'Արարատի և Վայոց ձոր'!H117+Տավուշ!H116+Սյունիք!H117) -> 0 | I118: =SUM('Երևան քաղաք'!I117+Շիրակ!I117+Կոտայք!I117+Լոռի!I117+Արագածոտն!I117+Գեղարքունիքի!I117+Արմավիր!I117+'Արարատի և Վայոց ձոր'!I117+Տավուշ!I116+Սյունիք!I117) -> 0 | J118: =SUM('Երևան քաղաք'!J117+Շիրակ!J117+Կոտայք!J117+Լոռի!J117+Արագածոտն!J117+Գեղարքունիքի!J117+Արմավիր!J117+'Արարատի և Վայոց ձոր'!J117+Տավուշ!J116+Սյունիք!J117) -> 0 | K118: =SUM('Երևան քաղաք'!K117+Շիրակ!K117+Կոտայք!K117+Լոռի!K117+Արագածոտն!K117+Գեղարքունիքի!K117+Արմավիր!K117+'Արարատի և Վայոց ձոր'!K117+Տավուշ!K116+Սյունիք!K117) -> 0 | ... BZ118: =SUM('Երևան քաղաք'!BZ117+Շիրակ!BZ117+Կոտայք!BZ117+Լոռի!BZ117+Արագածոտն!BZ117+Գեղարքունիքի!BZ117+Արմավիր!BZ117+'Արարատի և Վայոց ձոր'!BZ117+Տավուշ!BZ116+Սյունիք!BZ117) -> 0 | CB118: =F118 -> 0 | CC118: =D118+E118 -> 0 | CD118: =L118 -> 0 | CE118: =I118+J118+K118 -> 0 | CF118: =W118 -> 0 | CG118: =O118+P118+Q118+R118+S118+T118+U118+V118 -> 0 | CH118: =L118 -> 0 | CI118: =W118+X118+Y118+Z118+AA118+AB118+AC118 -> 0 | CJ118: =L118 -> 0 | CK118: =AM118+AN118+AO118+AP118+AQ118 -> 0 | CL118: =L118 -> 0 | CM118: =AR118+AS118+AT118+AU118+AV118+AW118+AX118 -> 0 | CN118: =L118 -> 0 | CO118: =AY118+AZ118+BA118 -> 0 | CP118: =BF118 -> 0 | CQ118: =BC118+BD118+BE118 -> 0 | CR118: =BF118 -> 0 | CS118: =BG118+BH118+BI118+BJ118 -> 0 | CT118: =BS118 -> 0 | CU118: =BO118+BP118+BQ118+BR118 -> 0
A119: 7.5 | B119: Հանցավոր ճանապարհով ստացված գույքն օրինականացնելը (փողերի լվացումը) | C119: 190 | D119: =SUM('Երևան քաղաք'!D118+Շիրակ!D118+Կոտայք!D118+Լոռի!D118+Արագածոտն!D118+Գեղարքունիքի!D118+Արմավիր!D118+'Արարատի և Վայոց ձոր'!D118+Տավուշ!D117+Սյունիք!D118) -> 0 | E119: =SUM('Երևան քաղաք'!E118+Շիրակ!E118+Կոտայք!E118+Լոռի!E118+Արագածոտն!E118+Գեղարքունիքի!E118+Արմավիր!E118+'Արարատի և Վայոց ձոր'!E118+Տավուշ!E117+Սյունիք!E118) -> 0 | F119: =SUM('Երևան քաղաք'!F118+Շիրակ!F118+Կոտայք!F118+Լոռի!F118+Արագածոտն!F118+Գեղարքունիքի!F118+Արմավիր!F118+'Արարատի և Վայոց ձոր'!F118+Տավուշ!F117+Սյունիք!F118) -> 0 | G119: =SUM('Երևան քաղաք'!G118+Շիրակ!G118+Կոտայք!G118+Լոռի!G118+Արագածոտն!G118+Գեղարքունիքի!G118+Արմավիր!G118+'Արարատի և Վայոց ձոր'!G118+Տավուշ!G117+Սյունիք!G118) -> 0 | H119: =SUM('Երևան քաղաք'!H118+Շիրակ!H118+Կոտայք!H118+Լոռի!H118+Արագածոտն!H118+Գեղարքունիքի!H118+Արմավիր!H118+'Արարատի և Վայոց ձոր'!H118+Տավուշ!H117+Սյունիք!H118) -> 0 | I119: =SUM('Երևան քաղաք'!I118+Շիրակ!I118+Կոտայք!I118+Լոռի!I118+Արագածոտն!I118+Գեղարքունիքի!I118+Արմավիր!I118+'Արարատի և Վայոց ձոր'!I118+Տավուշ!I117+Սյունիք!I118) -> 0 | J119: =SUM('Երևան քաղաք'!J118+Շիրակ!J118+Կոտայք!J118+Լոռի!J118+Արագածոտն!J118+Գեղարքունիքի!J118+Արմավիր!J118+'Արարատի և Վայոց ձոր'!J118+Տավուշ!J117+Սյունիք!J118) -> 0 | K119: =SUM('Երևան քաղաք'!K118+Շիրակ!K118+Կոտայք!K118+Լոռի!K118+Արագածոտն!K118+Գեղարքունիքի!K118+Արմավիր!K118+'Արարատի և Վայոց ձոր'!K118+Տավուշ!K117+Սյունիք!K118) -> 0 | ... BZ119: =SUM('Երևան քաղաք'!BZ118+Շիրակ!BZ118+Կոտայք!BZ118+Լոռի!BZ118+Արագածոտն!BZ118+Գեղարքունիքի!BZ118+Արմավիր!BZ118+'Արարատի և Վայոց ձոր'!BZ118+Տավուշ!BZ117+Սյունիք!BZ118) -> 0 | CB119: =F119 -> 0 | CC119: =D119+E119 -> 0 | CD119: =L119 -> 0 | CE119: =I119+J119+K119 -> 0 | CF119: =W119 -> 0 | CG119: =O119+P119+Q119+R119+S119+T119+U119+V119 -> 0 | CH119: =L119 -> 0 | CI119: =W119+X119+Y119+Z119+AA119+AB119+AC119 -> 0 | CJ119: =L119 -> 0 | CK119: =AM119+AN119+AO119+AP119+AQ119 -> 0 | CL119: =L119 -> 0 | CM119: =AR119+AS119+AT119+AU119+AV119+AW119+AX119 -> 0 | CN119: =L119 -> 0 | CO119: =AY119+AZ119+BA119 -> 0 | CP119: =BF119 -> 0 | CQ119: =BC119+BD119+BE119 -> 0 | CR119: =BF119 -> 0 | CS119: =BG119+BH119+BI119+BJ119 -> 0 | CT119: =BS119 -> 0 | CU119: =BO119+BP119+BQ119+BR119 -> 0
A120: 7.5.1 | B120: Ներքին տեղեկությունների անբարեխիղճ օգտագործումը | C120: 190.1 | D120: =SUM('Երևան քաղաք'!D119+Շիրակ!D119+Կոտայք!D119+Լոռի!D119+Արագածոտն!D119+Գեղարքունիքի!D119+Արմավիր!D119+'Արարատի և Վայոց ձոր'!D119+Տավուշ!D118+Սյունիք!D119) -> 0 | E120: =SUM('Երևան քաղաք'!E119+Շիրակ!E119+Կոտայք!E119+Լոռի!E119+Արագածոտն!E119+Գեղարքունիքի!E119+Արմավիր!E119+'Արարատի և Վայոց ձոր'!E119+Տավուշ!E118+Սյունիք!E119) -> 0 | F120: =SUM('Երևան քաղաք'!F119+Շիրակ!F119+Կոտայք!F119+Լոռի!F119+Արագածոտն!F119+Գեղարքունիքի!F119+Արմավիր!F119+'Արարատի և Վայոց ձոր'!F119+Տավուշ!F118+Սյունիք!F119) -> 0 | G120: =SUM('Երևան քաղաք'!G119+Շիրակ!G119+Կոտայք!G119+Լոռի!G119+Արագածոտն!G119+Գեղարքունիքի!G119+Արմավիր!G119+'Արարատի և Վայոց ձոր'!G119+Տավուշ!G118+Սյունիք!G119) -> 0 | H120: =SUM('Երևան քաղաք'!H119+Շիրակ!H119+Կոտայք!H119+Լոռի!H119+Արագածոտն!H119+Գեղարքունիքի!H119+Արմավիր!H119+'Արարատի և Վայոց ձոր'!H119+Տավուշ!H118+Սյունիք!H119) -> 0 | I120: =SUM('Երևան քաղաք'!I119+Շիրակ!I119+Կոտայք!I119+Լոռի!I119+Արագածոտն!I119+Գեղարքունիքի!I119+Արմավիր!I119+'Արարատի և Վայոց ձոր'!I119+Տավուշ!I118+Սյունիք!I119) -> 0 | J120: =SUM('Երևան քաղաք'!J119+Շիրակ!J119+Կոտայք!J119+Լոռի!J119+Արագածոտն!J119+Գեղարքունիքի!J119+Արմավիր!J119+'Արարատի և Վայոց ձոր'!J119+Տավուշ!J118+Սյունիք!J119) -> 0 | K120: =SUM('Երևան քաղաք'!K119+Շիրակ!K119+Կոտայք!K119+Լոռի!K119+Արագածոտն!K119+Գեղարքունիքի!K119+Արմավիր!K119+'Արարատի և Վայոց ձոր'!K119+Տավուշ!K118+Սյունիք!K119) -> 0 | ... BZ120: =SUM('Երևան քաղաք'!BZ119+Շիրակ!BZ119+Կոտայք!BZ119+Լոռի!BZ119+Արագածոտն!BZ119+Գեղարքունիքի!BZ119+Արմավիր!BZ119+'Արարատի և Վայոց ձոր'!BZ119+Տավուշ!BZ118+Սյունիք!BZ119) -> 0 | CB120: =F120 -> 0 | CC120: =D120+E120 -> 0 | CD120: =L120 -> 0 | CE120: =I120+J120+K120 -> 0 | CF120: =W120 -> 0 | CG120: =O120+P120+Q120+R120+S120+T120+U120+V120 -> 0 | CH120: =L120 -> 0 | CI120: =W120+X120+Y120+Z120+AA120+AB120+AC120 -> 0 | CJ120: =L120 -> 0 | CK120: =AM120+AN120+AO120+AP120+AQ120 -> 0 | CL120: =L120 -> 0 | CM120: =AR120+AS120+AT120+AU120+AV120+AW120+AX120 -> 0 | CN120: =L120 -> 0 | CO120: =AY120+AZ120+BA120 -> 0 | CP120: =BF120 -> 0 | CQ120: =BC120+BD120+BE120 -> 0 | CR120: =BF120 -> 0 | CS120: =BG120+BH120+BI120+BJ120 -> 0 | CT120: =BS120 -> 0 | CU120: =BO120+BP120+BQ120+BR120 -> 0
A121: 7.5.2 | B121: Գնային չարաշահումը | C121: 190.2 | D121: =SUM('Երևան քաղաք'!D120+Շիրակ!D120+Կոտայք!D120+Լոռի!D120+Արագածոտն!D120+Գեղարքունիքի!D120+Արմավիր!D120+'Արարատի և Վայոց ձոր'!D120+Տավուշ!D119+Սյունիք!D120) -> 0 | E121: =SUM('Երևան քաղաք'!E120+Շիրակ!E120+Կոտայք!E120+Լոռի!E120+Արագածոտն!E120+Գեղարքունիքի!E120+Արմավիր!E120+'Արարատի և Վայոց ձոր'!E120+Տավուշ!E119+Սյունիք!E120) -> 0 | F121: =SUM('Երևան քաղաք'!F120+Շիրակ!F120+Կոտայք!F120+Լոռի!F120+Արագածոտն!F120+Գեղարքունիքի!F120+Արմավիր!F120+'Արարատի և Վայոց ձոր'!F120+Տավուշ!F119+Սյունիք!F120) -> 0 | G121: =SUM('Երևան քաղաք'!G120+Շիրակ!G120+Կոտայք!G120+Լոռի!G120+Արագածոտն!G120+Գեղարքունիքի!G120+Արմավիր!G120+'Արարատի և Վայոց ձոր'!G120+Տավուշ!G119+Սյունիք!G120) -> 0 | H121: =SUM('Երևան քաղաք'!H120+Շիրակ!H120+Կոտայք!H120+Լոռի!H120+Արագածոտն!H120+Գեղարքունիքի!H120+Արմավիր!H120+'Արարատի և Վայոց ձոր'!H120+Տավուշ!H119+Սյունիք!H120) -> 0 | I121: =SUM('Երևան քաղաք'!I120+Շիրակ!I120+Կոտայք!I120+Լոռի!I120+Արագածոտն!I120+Գեղարքունիքի!I120+Արմավիր!I120+'Արարատի և Վայոց ձոր'!I120+Տավուշ!I119+Սյունիք!I120) -> 0 | J121: =SUM('Երևան քաղաք'!J120+Շիրակ!J120+Կոտայք!J120+Լոռի!J120+Արագածոտն!J120+Գեղարքունիքի!J120+Արմավիր!J120+'Արարատի և Վայոց ձոր'!J120+Տավուշ!J119+Սյունիք!J120) -> 0 | K121: =SUM('Երևան քաղաք'!K120+Շիրակ!K120+Կոտայք!K120+Լոռի!K120+Արագածոտն!K120+Գեղարքունիքի!K120+Արմավիր!K120+'Արարատի և Վայոց ձոր'!K120+Տավուշ!K119+Սյունիք!K120) -> 0 | ... BZ121: =SUM('Երևան քաղաք'!BZ120+Շիրակ!BZ120+Կոտայք!BZ120+Լոռի!BZ120+Արագածոտն!BZ120+Գեղարքունիքի!BZ120+Արմավիր!BZ120+'Արարատի և Վայոց ձոր'!BZ120+Տավուշ!BZ119+Սյունիք!BZ120) -> 0 | CB121: =F121 -> 0 | CC121: =D121+E121 -> 0 | CD121: =L121 -> 0 | CE121: =I121+J121+K121 -> 0 | CF121: =W121 -> 0 | CG121: =O121+P121+Q121+R121+S121+T121+U121+V121 -> 0 | CH121: =L121 -> 0 | CI121: =W121+X121+Y121+Z121+AA121+AB121+AC121 -> 0 | CJ121: =L121 -> 0 | CK121: =AM121+AN121+AO121+AP121+AQ121 -> 0 | CL121: =L121 -> 0 | CM121: =AR121+AS121+AT121+AU121+AV121+AW121+AX121 -> 0 | CN121: =L121 -> 0 | CO121: =AY121+AZ121+BA121 -> 0 | CP121: =BF121 -> 0 | CQ121: =BC121+BD121+BE121 -> 0 | CR121: =BF121 -> 0 | CS121: =BG121+BH121+BI121+BJ121 -> 0 | CT121: =BS121 -> 0 | CU121: =BO121+BP121+BQ121+BR121 -> 0
A122: 7.6 | B122: Վարկը ոչ նպատակային օգտագործելը | C122: 191 | D122: =SUM('Երևան քաղաք'!D121+Շիրակ!D121+Կոտայք!D121+Լոռի!D121+Արագածոտն!D121+Գեղարքունիքի!D121+Արմավիր!D121+'Արարատի և Վայոց ձոր'!D121+Տավուշ!D120+Սյունիք!D121) -> 0 | E122: =SUM('Երևան քաղաք'!E121+Շիրակ!E121+Կոտայք!E121+Լոռի!E121+Արագածոտն!E121+Գեղարքունիքի!E121+Արմավիր!E121+'Արարատի և Վայոց ձոր'!E121+Տավուշ!E120+Սյունիք!E121) -> 0 | F122: =SUM('Երևան քաղաք'!F121+Շիրակ!F121+Կոտայք!F121+Լոռի!F121+Արագածոտն!F121+Գեղարքունիքի!F121+Արմավիր!F121+'Արարատի և Վայոց ձոր'!F121+Տավուշ!F120+Սյունիք!F121) -> 0 | G122: =SUM('Երևան քաղաք'!G121+Շիրակ!G121+Կոտայք!G121+Լոռի!G121+Արագածոտն!G121+Գեղարքունիքի!G121+Արմավիր!G121+'Արարատի և Վայոց ձոր'!G121+Տավուշ!G120+Սյունիք!G121) -> 0 | H122: =SUM('Երևան քաղաք'!H121+Շիրակ!H121+Կոտայք!H121+Լոռի!H121+Արագածոտն!H121+Գեղարքունիքի!H121+Արմավիր!H121+'Արարատի և Վայոց ձոր'!H121+Տավուշ!H120+Սյունիք!H121) -> 0 | I122: =SUM('Երևան քաղաք'!I121+Շիրակ!I121+Կոտայք!I121+Լոռի!I121+Արագածոտն!I121+Գեղարքունիքի!I121+Արմավիր!I121+'Արարատի և Վայոց ձոր'!I121+Տավուշ!I120+Սյունիք!I121) -> 0 | J122: =SUM('Երևան քաղաք'!J121+Շիրակ!J121+Կոտայք!J121+Լոռի!J121+Արագածոտն!J121+Գեղարքունիքի!J121+Արմավիր!J121+'Արարատի և Վայոց ձոր'!J121+Տավուշ!J120+Սյունիք!J121) -> 0 | K122: =SUM('Երևան քաղաք'!K121+Շիրակ!K121+Կոտայք!K121+Լոռի!K121+Արագածոտն!K121+Գեղարքունիքի!K121+Արմավիր!K121+'Արարատի և Վայոց ձոր'!K121+Տավուշ!K120+Սյունիք!K121) -> 0 | ... BZ122: =SUM('Երևան քաղաք'!BZ121+Շիրակ!BZ121+Կոտայք!BZ121+Լոռի!BZ121+Արագածոտն!BZ121+Գեղարքունիքի!BZ121+Արմավիր!BZ121+'Արարատի և Վայոց ձոր'!BZ121+Տավուշ!BZ120+Սյունիք!BZ121) -> 0 | CB122: =F122 -> 0 | CC122: =D122+E122 -> 0 | CD122: =L122 -> 0 | CE122: =I122+J122+K122 -> 0 | CF122: =W122 -> 0 | CG122: =O122+P122+Q122+R122+S122+T122+U122+V122 -> 0 | CH122: =L122 -> 0 | CI122: =W122+X122+Y122+Z122+AA122+AB122+AC122 -> 0 | CJ122: =L122 -> 0 | CK122: =AM122+AN122+AO122+AP122+AQ122 -> 0 | CL122: =L122 -> 0 | CM122: =AR122+AS122+AT122+AU122+AV122+AW122+AX122 -> 0 | CN122: =L122 -> 0 | CO122: =AY122+AZ122+BA122 -> 0 | CP122: =BF122 -> 0 | CQ122: =BC122+BD122+BE122 -> 0 | CR122: =BF122 -> 0 | CS122: =BG122+BH122+BI122+BJ122 -> 0 | CT122: =BS122 -> 0 | CU122: =BO122+BP122+BQ122+BR122 -> 0
A123: 7.7 | B123: Անօրինական գործողությունները սնանկության ընթացքում | C123: 192 | D123: =SUM('Երևան քաղաք'!D122+Շիրակ!D122+Կոտայք!D122+Լոռի!D122+Արագածոտն!D122+Գեղարքունիքի!D122+Արմավիր!D122+'Արարատի և Վայոց ձոր'!D122+Տավուշ!D121+Սյունիք!D122) -> 0 | E123: =SUM('Երևան քաղաք'!E122+Շիրակ!E122+Կոտայք!E122+Լոռի!E122+Արագածոտն!E122+Գեղարքունիքի!E122+Արմավիր!E122+'Արարատի և Վայոց ձոր'!E122+Տավուշ!E121+Սյունիք!E122) -> 1 | F123: =SUM('Երևան քաղաք'!F122+Շիրակ!F122+Կոտայք!F122+Լոռի!F122+Արագածոտն!F122+Գեղարքունիքի!F122+Արմավիր!F122+'Արարատի և Վայոց ձոր'!F122+Տավուշ!F121+Սյունիք!F122) -> 1 | G123: =SUM('Երևան քաղաք'!G122+Շիրակ!G122+Կոտայք!G122+Լոռի!G122+Արագածոտն!G122+Գեղարքունիքի!G122+Արմավիր!G122+'Արարատի և Վայոց ձոր'!G122+Տավուշ!G121+Սյունիք!G122) -> 0 | H123: =SUM('Երևան քաղաք'!H122+Շիրակ!H122+Կոտայք!H122+Լոռի!H122+Արագածոտն!H122+Գեղարքունիքի!H122+Արմավիր!H122+'Արարատի և Վայոց ձոր'!H122+Տավուշ!H121+Սյունիք!H122) -> 0 | I123: =SUM('Երևան քաղաք'!I122+Շիրակ!I122+Կոտայք!I122+Լոռի!I122+Արագածոտն!I122+Գեղարքունիքի!I122+Արմավիր!I122+'Արարատի և Վայոց ձոր'!I122+Տավուշ!I121+Սյունիք!I122) -> 0 | J123: =SUM('Երևան քաղաք'!J122+Շիրակ!J122+Կոտայք!J122+Լոռի!J122+Արագածոտն!J122+Գեղարքունիքի!J122+Արմավիր!J122+'Արարատի և Վայոց ձոր'!J122+Տավուշ!J121+Սյունիք!J122) -> 0 | K123: =SUM('Երևան քաղաք'!K122+Շիրակ!K122+Կոտայք!K122+Լոռի!K122+Արագածոտն!K122+Գեղարքունիքի!K122+Արմավիր!K122+'Արարատի և Վայոց ձոր'!K122+Տավուշ!K121+Սյունիք!K122) -> 0 | ... BZ123: =SUM('Երևան քաղաք'!BZ122+Շիրակ!BZ122+Կոտայք!BZ122+Լոռի!BZ122+Արագածոտն!BZ122+Գեղարքունիքի!BZ122+Արմավիր!BZ122+'Արարատի և Վայոց ձոր'!BZ122+Տավուշ!BZ121+Սյունիք!BZ122) -> 0 | CB123: =F123 -> 1 | CC123: =D123+E123 -> 1 | CD123: =L123 -> 0 | CE123: =I123+J123+K123 -> 0 | CF123: =W123 -> 0 | CG123: =O123+P123+Q123+R123+S123+T123+U123+V123 -> 0 | CH123: =L123 -> 0 | CI123: =W123+X123+Y123+Z123+AA123+AB123+AC123 -> 0 | CJ123: =L123 -> 0 | CK123: =AM123+AN123+AO123+AP123+AQ123 -> 0 | CL123: =L123 -> 0 | CM123: =AR123+AS123+AT123+AU123+AV123+AW123+AX123 -> 0 | CN123: =L123 -> 0 | CO123: =AY123+AZ123+BA123 -> 0 | CP123: =BF123 -> 0 | CQ123: =BC123+BD123+BE123 -> 0 | CR123: =BF123 -> 0 | CS123: =BG123+BH123+BI123+BJ123 -> 0 | CT123: =BS123 -> 0 | CU123: =BO123+BP123+BQ123+BR123 -> 0
A124: 7.8 | B124: Կանխամտածված սնանկությունը | C124: 193 | D124: =SUM('Երևան քաղաք'!D123+Շիրակ!D123+Կոտայք!D123+Լոռի!D123+Արագածոտն!D123+Գեղարքունիքի!D123+Արմավիր!D123+'Արարատի և Վայոց ձոր'!D123+Տավուշ!D122+Սյունիք!D123) -> 0 | E124: =SUM('Երևան քաղաք'!E123+Շիրակ!E123+Կոտայք!E123+Լոռի!E123+Արագածոտն!E123+Գեղարքունիքի!E123+Արմավիր!E123+'Արարատի և Վայոց ձոր'!E123+Տավուշ!E122+Սյունիք!E123) -> 0 | F124: =SUM('Երևան քաղաք'!F123+Շիրակ!F123+Կոտայք!F123+Լոռի!F123+Արագածոտն!F123+Գեղարքունիքի!F123+Արմավիր!F123+'Արարատի և Վայոց ձոր'!F123+Տավուշ!F122+Սյունիք!F123) -> 0 | G124: =SUM('Երևան քաղաք'!G123+Շիրակ!G123+Կոտայք!G123+Լոռի!G123+Արագածոտն!G123+Գեղարքունիքի!G123+Արմավիր!G123+'Արարատի և Վայոց ձոր'!G123+Տավուշ!G122+Սյունիք!G123) -> 0 | H124: =SUM('Երևան քաղաք'!H123+Շիրակ!H123+Կոտայք!H123+Լոռի!H123+Արագածոտն!H123+Գեղարքունիքի!H123+Արմավիր!H123+'Արարատի և Վայոց ձոր'!H123+Տավուշ!H122+Սյունիք!H123) -> 0 | I124: =SUM('Երևան քաղաք'!I123+Շիրակ!I123+Կոտայք!I123+Լոռի!I123+Արագածոտն!I123+Գեղարքունիքի!I123+Արմավիր!I123+'Արարատի և Վայոց ձոր'!I123+Տավուշ!I122+Սյունիք!I123) -> 0 | J124: =SUM('Երևան քաղաք'!J123+Շիրակ!J123+Կոտայք!J123+Լոռի!J123+Արագածոտն!J123+Գեղարքունիքի!J123+Արմավիր!J123+'Արարատի և Վայոց ձոր'!J123+Տավուշ!J122+Սյունիք!J123) -> 0 | K124: =SUM('Երևան քաղաք'!K123+Շիրակ!K123+Կոտայք!K123+Լոռի!K123+Արագածոտն!K123+Գեղարքունիքի!K123+Արմավիր!K123+'Արարատի և Վայոց ձոր'!K123+Տավուշ!K122+Սյունիք!K123) -> 0 | ... BZ124: =SUM('Երևան քաղաք'!BZ123+Շիրակ!BZ123+Կոտայք!BZ123+Լոռի!BZ123+Արագածոտն!BZ123+Գեղարքունիքի!BZ123+Արմավիր!BZ123+'Արարատի և Վայոց ձոր'!BZ123+Տավուշ!BZ122+Սյունիք!BZ123) -> 0 | CB124: =F124 -> 0 | CC124: =D124+E124 -> 0 | CD124: =L124 -> 0 | CE124: =I124+J124+K124 -> 0 | CF124: =W124 -> 0 | CG124: =O124+P124+Q124+R124+S124+T124+U124+V124 -> 0 | CH124: =L124 -> 0 | CI124: =W124+X124+Y124+Z124+AA124+AB124+AC124 -> 0 | CJ124: =L124 -> 0 | CK124: =AM124+AN124+AO124+AP124+AQ124 -> 0 | CL124: =L124 -> 0 | CM124: =AR124+AS124+AT124+AU124+AV124+AW124+AX124 -> 0 | CN124: =L124 -> 0 | CO124: =AY124+AZ124+BA124 -> 0 | CP124: =BF124 -> 0 | CQ124: =BC124+BD124+BE124 -> 0 | CR124: =BF124 -> 0 | CS124: =BG124+BH124+BI124+BJ124 -> 0 | CT124: =BS124 -> 0 | CU124: =BO124+BP124+BQ124+BR124 -> 0
A125: 7.9 | B125: Կեղծ սնանկությունը | C125: 194 | D125: =SUM('Երևան քաղաք'!D124+Շիրակ!D124+Կոտայք!D124+Լոռի!D124+Արագածոտն!D124+Գեղարքունիքի!D124+Արմավիր!D124+'Արարատի և Վայոց ձոր'!D124+Տավուշ!D123+Սյունիք!D124) -> 0 | E125: =SUM('Երևան քաղաք'!E124+Շիրակ!E124+Կոտայք!E124+Լոռի!E124+Արագածոտն!E124+Գեղարքունիքի!E124+Արմավիր!E124+'Արարատի և Վայոց ձոր'!E124+Տավուշ!E123+Սյունիք!E124) -> 0 | F125: =SUM('Երևան քաղաք'!F124+Շիրակ!F124+Կոտայք!F124+Լոռի!F124+Արագածոտն!F124+Գեղարքունիքի!F124+Արմավիր!F124+'Արարատի և Վայոց ձոր'!F124+Տավուշ!F123+Սյունիք!F124) -> 0 | G125: =SUM('Երևան քաղաք'!G124+Շիրակ!G124+Կոտայք!G124+Լոռի!G124+Արագածոտն!G124+Գեղարքունիքի!G124+Արմավիր!G124+'Արարատի և Վայոց ձոր'!G124+Տավուշ!G123+Սյունիք!G124) -> 0 | H125: =SUM('Երևան քաղաք'!H124+Շիրակ!H124+Կոտայք!H124+Լոռի!H124+Արագածոտն!H124+Գեղարքունիքի!H124+Արմավիր!H124+'Արարատի և Վայոց ձոր'!H124+Տավուշ!H123+Սյունիք!H124) -> 0 | I125: =SUM('Երևան քաղաք'!I124+Շիրակ!I124+Կոտայք!I124+Լոռի!I124+Արագածոտն!I124+Գեղարքունիքի!I124+Արմավիր!I124+'Արարատի և Վայոց ձոր'!I124+Տավուշ!I123+Սյունիք!I124) -> 0 | J125: =SUM('Երևան քաղաք'!J124+Շիրակ!J124+Կոտայք!J124+Լոռի!J124+Արագածոտն!J124+Գեղարքունիքի!J124+Արմավիր!J124+'Արարատի և Վայոց ձոր'!J124+Տավուշ!J123+Սյունիք!J124) -> 0 | K125: =SUM('Երևան քաղաք'!K124+Շիրակ!K124+Կոտայք!K124+Լոռի!K124+Արագածոտն!K124+Գեղարքունիքի!K124+Արմավիր!K124+'Արարատի և Վայոց ձոր'!K124+Տավուշ!K123+Սյունիք!K124) -> 0 | ... BZ125: =SUM('Երևան քաղաք'!BZ124+Շիրակ!BZ124+Կոտայք!BZ124+Լոռի!BZ124+Արագածոտն!BZ124+Գեղարքունիքի!BZ124+Արմավիր!BZ124+'Արարատի և Վայոց ձոր'!BZ124+Տավուշ!BZ123+Սյունիք!BZ124) -> 0 | CB125: =F125 -> 0 | CC125: =D125+E125 -> 0 | CD125: =L125 -> 0 | CE125: =I125+J125+K125 -> 0 | CF125: =W125 -> 0 | CG125: =O125+P125+Q125+R125+S125+T125+U125+V125 -> 0 | CH125: =L125 -> 0 | CI125: =W125+X125+Y125+Z125+AA125+AB125+AC125 -> 0 | CJ125: =L125 -> 0 | CK125: =AM125+AN125+AO125+AP125+AQ125 -> 0 | CL125: =L125 -> 0 | CM125: =AR125+AS125+AT125+AU125+AV125+AW125+AX125 -> 0 | CN125: =L125 -> 0 | CO125: =AY125+AZ125+BA125 -> 0 | CP125: =BF125 -> 0 | CQ125: =BC125+BD125+BE125 -> 0 | CR125: =BF125 -> 0 | CS125: =BG125+BH125+BI125+BJ125 -> 0 | CT125: =BS125 -> 0 | CU125: =BO125+BP125+BQ125+BR125 -> 0
... A148: 7.31 | B148: Ակնհայտ հանցավոր ճանապարհով ձեռք բերված գույք ձեռք բերելը կամ իրացնելը | C148: 216 | D148: =SUM('Երևան քաղաք'!D147+Շիրակ!D147+Կոտայք!D147+Լոռի!D147+Արագածոտն!D147+Գեղարքունիքի!D147+Արմավիր!D147+'Արարատի և Վայոց ձոր'!D147+Տավուշ!D146+Սյունիք!D147) -> 0 | E148: =SUM('Երևան քաղաք'!E147+Շիրակ!E147+Կոտայք!E147+Լոռի!E147+Արագածոտն!E147+Գեղարքունիքի!E147+Արմավիր!E147+'Արարատի և Վայոց ձոր'!E147+Տավուշ!E146+Սյունիք!E147) -> 0 | F148: =SUM('Երևան քաղաք'!F147+Շիրակ!F147+Կոտայք!F147+Լոռի!F147+Արագածոտն!F147+Գեղարքունիքի!F147+Արմավիր!F147+'Արարատի և Վայոց ձոր'!F147+Տավուշ!F146+Սյունիք!F147) -> 0 | G148: =SUM('Երևան քաղաք'!G147+Շիրակ!G147+Կոտայք!G147+Լոռի!G147+Արագածոտն!G147+Գեղարքունիքի!G147+Արմավիր!G147+'Արարատի և Վայոց ձոր'!G147+Տավուշ!G146+Սյունիք!G147) -> 0 | H148: =SUM('Երևան քաղաք'!H147+Շիրակ!H147+Կոտայք!H147+Լոռի!H147+Արագածոտն!H147+Գեղարքունիքի!H147+Արմավիր!H147+'Արարատի և Վայոց ձոր'!H147+Տավուշ!H146+Սյունիք!H147) -> 0 | I148: =SUM('Երևան քաղաք'!I147+Շիրակ!I147+Կոտայք!I147+Լոռի!I147+Արագածոտն!I147+Գեղարքունիքի!I147+Արմավիր!I147+'Արարատի և Վայոց ձոր'!I147+Տավուշ!I146+Սյունիք!I147) -> 1 | J148: =SUM('Երևան քաղաք'!J147+Շիրակ!J147+Կոտայք!J147+Լոռի!J147+Արագածոտն!J147+Գեղարքունիքի!J147+Արմավիր!J147+'Արարատի և Վայոց ձոր'!J147+Տավուշ!J146+Սյունիք!J147) -> 0 | K148: =SUM('Երևան քաղաք'!K147+Շիրակ!K147+Կոտայք!K147+Լոռի!K147+Արագածոտն!K147+Գեղարքունիքի!K147+Արմավիր!K147+'Արարատի և Վայոց ձոր'!K147+Տավուշ!K146+Սյունիք!K147) -> 0 | ... BZ148: =SUM('Երևան քաղաք'!BZ147+Շիրակ!BZ147+Կոտայք!BZ147+Լոռի!BZ147+Արագածոտն!BZ147+Գեղարքունիքի!BZ147+Արմավիր!BZ147+'Արարատի և Վայոց ձոր'!BZ147+Տավուշ!BZ146+Սյունիք!BZ147) -> 0 | CB148: =F148 -> 0 | CC148: =D148+E148 -> 0 | CD148: =L148 -> 1 | CE148: =I148+J148+K148 -> 1 | CF148: =W148 -> 0 | CG148: =O148+P148+Q148+R148+S148+T148+U148+V148 -> 0 | CH148: =L148 -> 1 | CI148: =W148+X148+Y148+Z148+AA148+AB148+AC148 -> 1 | CJ148: =L148 -> 1 | CK148: =AM148+AN148+AO148+AP148+AQ148 -> 1 | CL148: =L148 -> 1 | CM148: =AR148+AS148+AT148+AU148+AV148+AW148+AX148 -> 1 | CN148: =L148 -> 1 | CO148: =AY148+AZ148+BA148 -> 1 | CP148: =BF148 -> 1 | CQ148: =BC148+BD148+BE148 -> 1 | CR148: =BF148 -> 1 | CS148: =BG148+BH148+BI148+BJ148 -> 1 | CT148: =BS148 -> 0 | CU148: =BO148+BP148+BQ148+BR148 -> 0
A149: 7.32 | B149: Այլ հանցագործություններ | D149: =SUM('Երևան քաղաք'!D148+Շիրակ!D148+Կոտայք!D148+Լոռի!D148+Արագածոտն!D148+Գեղարքունիքի!D148+Արմավիր!D148+'Արարատի և Վայոց ձոր'!D148+Տավուշ!D147+Սյունիք!D148) -> 0 | E149: =SUM('Երևան քաղաք'!E148+Շիրակ!E148+Կոտայք!E148+Լոռի!E148+Արագածոտն!E148+Գեղարքունիքի!E148+Արմավիր!E148+'Արարատի և Վայոց ձոր'!E148+Տավուշ!E147+Սյունիք!E148) -> 0 | F149: =SUM('Երևան քաղաք'!F148+Շիրակ!F148+Կոտայք!F148+Լոռի!F148+Արագածոտն!F148+Գեղարքունիքի!F148+Արմավիր!F148+'Արարատի և Վայոց ձոր'!F148+Տավուշ!F147+Սյունիք!F148) -> 0 | G149: =SUM('Երևան քաղաք'!G148+Շիրակ!G148+Կոտայք!G148+Լոռի!G148+Արագածոտն!G148+Գեղարքունիքի!G148+Արմավիր!G148+'Արարատի և Վայոց ձոր'!G148+Տավուշ!G147+Սյունիք!G148) -> 0 | H149: =SUM('Երևան քաղաք'!H148+Շիրակ!H148+Կոտայք!H148+Լոռի!H148+Արագածոտն!H148+Գեղարքունիքի!H148+Արմավիր!H148+'Արարատի և Վայոց ձոր'!H148+Տավուշ!H147+Սյունիք!H148) -> 0 | I149: =SUM('Երևան քաղաք'!I148+Շիրակ!I148+Կոտայք!I148+Լոռի!I148+Արագածոտն!I148+Գեղարքունիքի!I148+Արմավիր!I148+'Արարատի և Վայոց ձոր'!I148+Տավուշ!I147+Սյունիք!I148) -> 0 | J149: =SUM('Երևան քաղաք'!J148+Շիրակ!J148+Կոտայք!J148+Լոռի!J148+Արագածոտն!J148+Գեղարքունիքի!J148+Արմավիր!J148+'Արարատի և Վայոց ձոր'!J148+Տավուշ!J147+Սյունիք!J148) -> 0 | K149: =SUM('Երևան քաղաք'!K148+Շիրակ!K148+Կոտայք!K148+Լոռի!K148+Արագածոտն!K148+Գեղարքունիքի!K148+Արմավիր!K148+'Արարատի և Վայոց ձոր'!K148+Տավուշ!K147+Սյունիք!K148) -> 0 | ... BZ149: =SUM('Երևան քաղաք'!BZ148+Շիրակ!BZ148+Կոտայք!BZ148+Լոռի!BZ148+Արագածոտն!BZ148+Գեղարքունիքի!BZ148+Արմավիր!BZ148+'Արարատի և Վայոց ձոր'!BZ148+Տավուշ!BZ147+Սյունիք!BZ148) -> 0 | CB149: =F149 -> 0 | CC149: =D149+E149 -> 0 | CD149: =L149 -> 0 | CE149: =I149+J149+K149 -> 0 | CF149: =W149 -> 0 | CG149: =O149+P149+Q149+R149+S149+T149+U149+V149 -> 0 | CH149: =L149 -> 0 | CI149: =W149+X149+Y149+Z149+AA149+AB149+AC149 -> 0 | CJ149: =L149 -> 0 | CK149: =AM149+AN149+AO149+AP149+AQ149 -> 0 | CL149: =L149 -> 0 | CM149: =AR149+AS149+AT149+AU149+AV149+AW149+AX149 -> 0 | CN149: =L149 -> 0 | CO149: =AY149+AZ149+BA149 -> 0 | CP149: =BF149 -> 0 | CQ149: =BC149+BD149+BE149 -> 0 | CR149: =BF149 -> 0 | CS149: =BG149+BH149+BI149+BJ149 -> 0 | CT149: =BS149 -> 0 | CU149: =BO149+BP149+BQ149+BR149 -> 0
A150: 8. | B150: Ընդամենը հասարակական անվտանգության դեմ ուղղված հանցագործությունները | D150: =SUM('Երևան քաղաք:Սյունիք'!D149) -> 33 | E150: =SUM('Երևան քաղաք:Սյունիք'!E149) -> 115 | F150: =SUM('Երևան քաղաք:Սյունիք'!F149) -> 148 | G150: =SUM('Երևան քաղաք:Սյունիք'!G149) -> 1 | H150: =SUM('Երևան քաղաք:Սյունիք'!H149) -> 10 | I150: =SUM('Երևան քաղաք:Սյունիք'!I149) -> 727 | J150: =SUM('Երևան քաղաք:Սյունիք'!J149) -> 0 | K150: =SUM('Երևան քաղաք:Սյունիք'!K149) -> 0 | ... CA150: =SUM('Երևան քաղաք:Սյունիք'!CA149) -> 0 | CB150: =F150 -> 148 | CC150: =D150+E150 -> 148 | CD150: =L150 -> 727 | CE150: =I150+J150+K150 -> 727 | CF150: =W150 -> 114 | CG150: =O150+P150+Q150+R150+S150+T150+U150+V150 -> 114 | CH150: =L150 -> 727 | CI150: =W150+X150+Y150+Z150+AA150+AB150+AC150 -> 727 | CJ150: =L150 -> 727 | CK150: =AM150+AN150+AO150+AP150+AQ150 -> 727 | CL150: =L150 -> 727 | CM150: =AR150+AS150+AT150+AU150+AV150+AW150+AX150 -> 727 | CN150: =L150 -> 727 | CO150: =AY150+AZ150+BA150 -> 727 | CP150: =BF150 -> 31 | CQ150: =BC150+BD150+BE150 -> 31 | CR150: =BF150 -> 31 | CS150: =BG150+BH150+BI150+BJ150 -> 31 | CT150: =BS150 -> 6 | CU150: =BO150+BP150+BQ150+BR150 -> 6
...

Sheet Երևան քաղաք
A1: ՀԱՇՎԵՏՎՈՒԹՅՈՒՆ
A2: 2022թ.տարեկան | C2: ԱՆՁԱՆՑ ՎԵՐԱԲԵՐՅԱԼ, ՈՐՈՆՑ ԿԱՊԱԿՑՈՒԹՅԱՄԲ ԿԱՅԱՑՎԱԾ ԴԱՏԱԿԱՆ ԱԿՏԵՐԸ ՄՏԵԼ ԵՆ ՕՐԻՆԱԿԱՆ ՈւԺԻ ՄԵՋ
A3: Վիճակագրական տողի համարը | B3: ՀԱՆՑԱԳՈՐԾՈՒԹՅՈՒՆՆԵՐԻ ՏԵՍԱԿՆԵՐԸ | C3: ՀՀ Քրեական օրենսգրքի հոդվածը | D3: Անձանց թիվը, որոնց վերաբերյալ գործերը կարճվել կամ քրեական հետապնդումը դադարեցվել է | G3: Անմեղսունակներ, որոնց նկատմամբ կիրառվել են բժշկական բնույթի հարկադրական միջոցներ | H3: Արդարացվածների թիվը | I3: Դատապարտյալների թիվը (ծանոթություն.Մեղադրյալը, որի վերաբերյալ կա օրինական ուժի մեջ մտած դատարանի դատավճիռ, որն ամբողջությամբ կամ մասնակիորեն մեղադրական է, կոչվում է դատապարտյալ) | O3: Դատապարտյալների նկատմամբ նշանակված հիմնական պատիժներ | AD3: նշանակված պատիժը պայմանականորեն չի կիրառվել | AE3: կիրառվել է համաներման ակտ | AF3: Լրացուցիչ պատիժներ | AI3: Օրենքով նախատեսվածից ավելի մեղմ պատիժ է նշանակվել | AJ3: Հանցանքը կատարվել է | AR3: Անձի զբաղմունքի տեսակը` նախքան դատապարտվելը | AY3: Անձի քաղաքացիությունը | BB3: Դատապարտվածների թիվը, որոնց նախկին դատվածությունը հանվել կամ մարվել է | BC3: Դատապարտյալների թիվը, որոնք ունեն չհանված կամ չմարված դատվածություն | BG3: Դրանցից (սյունակ 55) եղել են դատապարտված | BK3: Չհանված, չմարված դատվածությամբ դատապարտյալը պատժից ազատվել է | BO3: Նոր հանցագործությունը կատարել է պատիժը չկրած | BT3: Նոր հանցագործությունը կատարել է ազատազրկման վայրից ազատվելուց առաջին տարվա ընթացքում | BU3: Անձանց թիվը, որոնց վերաբերյալ հաշվետու տարվա ընթացքում քննվել են գործեր | BV3: Դատապարտյալը հանձնվել է վերադաստիրակման կամ հսկողության | BW3: Դատապարտյալի նկատմամբ նշանակվել է հարկադիր բուժում գինեմոլության դեմ | BX3: Դատապարտյալի նկատմամբ նշանակվել է հարկադիր բուժում թմրամոլության դեմ | BY3: Դատվածությունների շարժը
D4: Այդ թվում՝ հանցադեպի կամ հանցակազմի բացակայության և մեղադրանքի չապացուցված լինելու պատճառով | E4: այլ հիմքով | F4: Ընդամենը | I4: որից դատապարտվել են | L4: Ընդամենը(6,7,8 սյունակներ) | M4: Այդ թվում՝ կանայք | N4: Այդ թվում` անչափահասներ | O4: Ա զ ա տ ա զ ր կ ու մ | X4: հանրային աշխատանքներ | Y4: տուգանք | Z4: Որոշակի պաշտոններ զբաղ. կամ որոշակի գործ. զբաղվ. իրավ. զրկում | AA4: Կարգապահական գումարտակում պահելը | AB4: զին. Ծառայության մեջ սահմանափակում | AC4: կալանք | AF4: գույքի բռնագրավում | AG4: հատուկ կամ զին. կոչումից, կարգից, աստիճանից կամ որակավորման դասից զրկելը | AH4: որոշակի պաշտ. զբաղ. կամ որոշակի գործ.զբաղվ. իրավ. զրկում | AJ4: ալկ., թմրամիջ. կամ թնրեցնող այլ նյութերի ազդ. | AK4: Մի խումբ անձանց կազմում | AL4: Կազմակերպված խմբի կամ հանցավոր համագործակցության կազմում | AM4: 14-16 տարեկան հասակում | AN4: 16-18 տարեկան հասակում | AO4: 18-29 տարեկան հասակում | AP4: 30-49 տարեկան հասակում | AQ4: 50 տարեկան և բարձր | AR4: Պաշտոնատար անձինք | AS4: Զին. ծառայողներ | AT4: Այլ զբաղմունք | AU4: Սովորողներ | AW4: Չաշխատող և չսովորող աշխատունակներ | AX4: արգելանքի տակ գտնվող անձ | AY4: ՀՀ քաղաքացի | AZ4: Քաղաքացիություն չունեցող անձ | BA4: Օտարերկրյա պետության քաղաքացի | BC4: Մեկ դատվածություն | BD4: Երկու դատվածություն | BE4: Երեք և ավելի դատվածություն | BF4: Ընդամենը | BG4: Սպանության, դիտավորյամբ առողջությանը ծանր վնաս պատճառելու, բռնաբարության համար | BH4: Գույքի հափշտակության համար | BI4: Խուլիգանության համար | BJ4: այլ հանցագործությունների համար | BK4: Պատիժը կրել է լրիվ չափով | BL4: Պայմանական վաղաժամկետ | BM4: Համաներման ակտի կիրառմամբ | BN4: Այլ հիմքերով | BO4: Ազատազրկման վայրում | BP4: Այլ պատիժ կրելիս | BQ4: Դատավճռի կատարման հետաձգման ժամանակահատվածում | BR4: Փորձաշրջանի ընթացքում | BS4: Ընդամենը | BY4: Հաշվետու տարվա ընթացքում դատապարտված անձանց թիվը | BZ4: Հաշվետու տարվան նախորդող տարվա ընթացքում դատապարտված անձանց թիվը | CA4: ավելացել է պակասել է
I5: Ավարտված հանցագործության համար | J5: Հանցափորձի համար(ՀՀ քր. օր-ի 34-րդ հոդ.) | K5: Հանցակցության համար(ՀՀ քր.օր-ի 38-րդ հոդ.) | O5: 1 տարի ներառյալ | P5: 1 տարուց ավել, մինչև 2 տարի ներառյալ | Q5: 2 տարուց ավել, մինչև 3 տարի ներառյալ | R5: 3 տարուց ավել, մինչև 5 տարի ներառյալ | S5: 5 տարուց ավել, մինչև 8 տարի ներառյալ | T5: 8 տարուց ավել, մինչև 10 տարի ներառյալ | U5: 10 տարուց ավել, մինչև 15 տարի ներառյալ | V5: ցմահ ազատազրկում | W5: ընդամենը | AU5: 18 տարեկանից ցածր | AV5: 18 տարեկանից բարձր
D6: 1 | E6: 2 | F6: 3 | G6: 4 | H6: 5 | I6: 6 | J6: 7 | K6: 8 | L6: 9 | M6: 10 | N6: 11 | O6: 12 | P6: 13 | Q6: 14 | R6: 15 | S6: 16 | T6: 17 | U6: 18 | V6: 19 | W6: 20 | X6: 21 | Y6: 22 | Z6: 23 | AA6: 24 | AB6: 25 | AC6: 26 | AD6: 27 | AE6: 28 | AF6: 29 | AG6: 30 | AH6: 31 | AI6: 32 | AJ6: 33 | AK6: 34 | AL6: 35 | AM6: 36 | AN6: 37 | AO6: 38 | AP6: 39 | AQ6: 40 | AR6: 41 | AS6: 42 | AT6: 43 | AU6: 44 | AV6: 45 | AW6: 46 | AX6: 47 | AY6: 48 | AZ6: 49 | BA6: 50 | BB6: 51 | BC6: 52 | BD6: 53 | BE6: 54 | BF6: 55 | BG6: 56 | BH6: 57 | BI6: 58 | BJ6: 59 | BK6: 60 | BL6: 61 | BM6: 62 | BN6: 63 | BO6: 64 | BP6: 65 | BQ6: 66 | BR6: 67 | BS6: 68 | BT6: 69 | BU6: 70 | BV6: 71 | BW6: 72 | BX6: 73 | BY6: 74 | BZ6: 75 | CA6: 76
A7: 1. | B7: Ընդամենը կյանքի և առողջության դեմ ուղղված հանցագործությունները | D7: =SUM(D8:D34) -> 0 | E7: =SUM(E8:E34) -> 25 | F7: =SUM(F8:F34) -> 25 | G7: =SUM(G8:G34) -> 3 | H7: =SUM(H8:H34) -> 0 | I7: =SUM(I8:I34) -> 21 | J7: =SUM(J8:J34) -> 1 | K7: =SUM(K8:K34) -> 0 | ... CA7: =SUM(CA8:CA34) -> 0
A8: 1.1 | B8: Սպանությունը | C8: 104 | G8: 1 | I8: 1 | J8: 1 | L8: 2 | R8: 1 | S8: 1 | W8: 2 | AD8: 1 | AP8: 1 | AQ8: 1 | AW8: 2 | AY8: 2 | BU8: 1 | BY8: 1
A9: 1.2 | B9: Հոգեկան խիստ հուզմունքի վիճակում կատարված սպանությունը | C9: 105
A10: 1.3 | B10: Մոր կողմից նորածին երեխայի սպանությունը | C10: 106
A11: 1.4 | B11: Հանցանք կատարած անձին բռնելու համար անհրաժեշտ միջոցների սահմանազանցմամբ սպանությունը | C11: 107
A12: 1.5 | B12: Անհրաժեշտ պաշտպանության սահմանազանցմամբ սպանությունը | C12: 108
A13: 1.6 | B13: Անզգուշությամբ մահ պատճառելը | C13: 109
A14: 1.7 | B14: Ինքնասպանության հասցնելը | C14: 110
A15: 1.8 | B15: Ինքնասպանության հակելը | C15: 111
A16: 1.9 | B16: Դիտավորությամբ առողջությանը ծանր վնաս պատճառելը | C16: 112 | E16: 1 | F16: 1 | I16: 8 | L16: 8 | N16: 4 | Q16: 2 | R16: 6 | W16: 8 | AD16: 6 | AN16: 4 | AO16: 2 | AP16: 2 | AT16: 3 | AU16: 1 | AW16: 4 | AY16: 8 | BU16: 3 | BY16: 3
