Workbook

Sheet HANRAPET
A1: Ð²ÞìºîìàôÂÚàôÜ
A2: ø²Ô²ø²ø²òÆ²Î²Ü ¶àðÌºðÆ øÜÜàôÂÚ²Ü ìºð²´ºðÚ²È
A3: ÐÐ ³é³çÇÝ ³ïÛ³ÝÇ ¹³ï³ñ³ÝÝ»ñÇ
A4: 2007Ã Ñ³Ù³ñ
A6: êïáõ·Çã Ñ³í³ë³ñáõÙÝ»ñ 1 ¨ 2 ëÛáõÝ³ÏÝ»ñÇ Ãí»ñÇ ·áõÙ³ñÁ Ñ³í³ë³ñ ¿ 8 ¨ 10 ëÛáõÝ³ÏÝ»ñÇ Ãí»ñÇ ·áõÙ³ñÇÝ: 8 ëÛáõÝ³ÏÇ ÃÇíÁ Ñ³í³ë³ñ ¿ 3,5-7 ëÛáõÝ³ÏÝ»ñÇ Ãí»ñÇ ·áõÙ³ñÇÝ: | E6: ø³Õ³ù³óÇ³Ï³Ý ·áñÍ»ñÇ ß³ñÅÁ
E7: ²í³ñïí»É »Ý ·áñÍ»ñ Ñ³ßí»ïáõ Å³Ù³Ý³Ï³ßñç³ÝáõÙ
C8: ²Ý³í³ñï ·áñÍ»ñÇ ÙÝ³óáñ¹Á Ñ³ßí»ïáõ Å³Ù³Ý³Ï³ßñç³ÝÇ ëÏ½µáõÙ | D8: êï³óí»É »Ý ·áñÍ»ñ Ñ³ßí»ïáõ Å³Ù³Ý³Ï³ßñç³ÝáõÙ | E8: ÀÝ¹³Ù»ÝÁ ùÝÝí»É »Ý ·áñÍ»ñ í×éÇ Ï³Û³óáõÙáí | F8: ²Û¹ ÃíáõÙ Ñ³ÛóÇ µ³í³ñ³ñÙ³Ùµ | G8: Î³ñ×í»É »Ý ·áñÍ»ñ í×éÇ Ï³Û³óáõÙáí | H8: Ð³Ûó»ñÁ ÃáÕÝí»É »Ý ³é³Ýó ùÝÝáõÃÛ³Ý | I8: ¶áñÍ»ñÁ Ñ³ÝÓÝí»É »Ý ³ÛÉ ¹³ï³ñ³ÝÝ»ñÇ | J8: ÀÝ¹³Ù»ÝÁ ³í³ñïí»É »Ý ·áñÍ»ñ (3, 5-7 ëÛáõÝ³ÏÝ»ñ) | K8: ²Û¹ ÃíáõÙ ù³Õ, ¹³ï, ûñ-áí Ý³Ë³ï»ëí³ÍÇó ³í»ÉÇ Å³ÙÏ»ïáõÙ | L8: ²Ý³í³ñï ·áñÍ»ñÇ ÙÝ³óáñ¹Á Ñ³ßí»ïáõ Å³Ù³Ý³Ï³ßñç³ÝÇ í»ñçáõÙ | M8: ²Û¹ ÃíáõÙ ·ïÝíáõÙ »Ý 3 ³ÙëÇó ³í»ÉÇ (Ï³ë»óí³Í ·áñÍ»ñÇ Ñ»ï Ù»Ïï»Õ) | N8: ä»ïáõÃÛ³Ý û·ïÇÝ ÙáõÍí³Í å»ï³Ï³Ý ïáõñùÇ ã³÷Á (¹ñ³Ùáí)
C9: 1 | D9: 2 | E9: 3 | F9: 4 | G9: 5 | H9: 6 | I9: 7 | J9: 8 | K9: 9 | L9: 10 | M9: 11 | N9: 12
A10: 1. ²½³ïí³ÍÝ»ñÇÝ ³ßË³ï³ÝùáõÙ í»ñ³Ï³Ý·Ý»Éáõ í»ñ³µ»ñÛ³É Ñ³Ûó»ñ | C10: =SUM(Marzer!C10+Erevan!C10) -> 25 | D10: =SUM(Marzer!D10+Erevan!D10) -> 193 | E10: =SUM(Marzer!E10+Erevan!E10) -> 147 | F10: =SUM(Marzer!F10+Erevan!F10) -> 93 | G10: =SUM(Marzer!G10+Erevan!G10) -> 17 | H10: =SUM(Marzer!H10+Erevan!H10) -> 19 | I10: =SUM(Marzer!I10+Erevan!I10) -> 6 | J10: =SUM(Marzer!J10+Erevan!J10) -> 189 | ... N10: =SUM(Marzer!N10+Erevan!N10) -> 12000
A11: 2. ²ßË³ï³Ýù³ÛÇÝ í»×»ñ | C11: =SUM(Marzer!C11+Erevan!C11) -> 79 | D11: =SUM(Marzer!D11+Erevan!D11) -> 739 | E11: =SUM(Marzer!E11+Erevan!E11) -> 638 | F11: =SUM(Marzer!F11+Erevan!F11) -> 601 | G11: =SUM(Marzer!G11+Erevan!G11) -> 33 | H11: =SUM(Marzer!H11+Erevan!H11) -> 77 | I11: =SUM(Marzer!I11+Erevan!I11) -> 8 | J11: =SUM(Marzer!J11+Erevan!J11) -> 756 | ... N11: =SUM(Marzer!N11+Erevan!N11) -> 279462
A12: 3. ²ßË.å³ñï³Ï³ÝáõÃ. Ï³ï³ñ»ÉÇë µ³Ýí.¨ Í³é³ÛáÕÝ»ñÇ ÏáÕÙÇó ÝÛáõÃ. íÝ³ëÇ Ñ³ïáõóÙ³Ý í»ñ³µ»ñÛ³É (³ßË, ûñ, 129-134 ÑÑ) Ñ³Ûó»ñ | C12: =SUM(Marzer!C12+Erevan!C12) -> 4 | D12: =SUM(Marzer!D12+Erevan!D12) -> 34 | E12: =SUM(Marzer!E12+Erevan!E12) -> 18 | F12: =SUM(Marzer!F12+Erevan!F12) -> 17 | G12: =SUM(Marzer!G12+Erevan!G12) -> 2 | H12: =SUM(Marzer!H12+Erevan!H12) -> 13 | I12: =SUM(Marzer!I12+Erevan!I12) -> 1 | J12: =SUM(Marzer!J12+Erevan!J12) -> 34 | ... N12: =SUM(Marzer!N12+Erevan!N12) -> 83000
C13: =SUM(Marzer!C13+Erevan!C13) -> 0 | D13: =SUM(Marzer!D13+Erevan!D13) -> 0 | E13: =SUM(Marzer!E13+Erevan!E13) -> 0 | F13: =SUM(Marzer!F13+Erevan!F13) -> 0 | G13: =SUM(Marzer!G13+Erevan!G13) -> 0 | H13: =SUM(Marzer!H13+Erevan!H13) -> 0 | I13: =SUM(Marzer!I13+Erevan!I13) -> 0 | J13: =SUM(Marzer!J13+Erevan!J13) -> 0 | ... N13: =SUM(Marzer!N13+Erevan!N13) -> 0
A14: 4. ºñ»Ë³Ý»ñÇÝ å³Ñ»Éáõ Ñ³Ù³ñ ³ÉÇÙ»ÝïÇ µéÝ³·³ÝÓÙ³Ý í»ñ³µ»ñÛ³É Ñ³Ûó»ñ | C14: =SUM(Marzer!C14+Erevan!C14) -> 67 | D14: =SUM(Marzer!D14+Erevan!D14) -> 1008 | E14: =SUM(Marzer!E14+Erevan!E14) -> 768 | F14: =SUM(Marzer!F14+Erevan!F14) -> 716 | G14: =SUM(Marzer!G14+Erevan!G14) -> 77 | H14: =SUM(Marzer!H14+Erevan!H14) -> 125 | I14: =SUM(Marzer!I14+Erevan!I14) -> 2 | J14: =SUM(Marzer!J14+Erevan!J14) -> 972 | ... N14: =SUM(Marzer!N14+Erevan!N14) -> 194640
A15: 5. Ð³ÛñáõÃÛ³Ý Ñ³ëï³ïÙ³Ý í»ñ³µ»ñÛ³É Ñ³Ûó»ñ | C15: =SUM(Marzer!C15+Erevan!C15) -> 13 | D15: =SUM(Marzer!D15+Erevan!D15) -> 153 | E15: =SUM(Marzer!E15+Erevan!E15) -> 112 | F15: =SUM(Marzer!F15+Erevan!F15) -> 106 | G15: =SUM(Marzer!G15+Erevan!G15) -> 7 | H15: =SUM(Marzer!H15+Erevan!H15) -> 33 | I15: =SUM(Marzer!I15+Erevan!I15) -> 1 | J15: =SUM(Marzer!J15+Erevan!J15) -> 153 | ... N15: =SUM(Marzer!N15+Erevan!N15) -> 453500
A16: 6. ÌÝáÕ³Ï³Ý Çñ³íáõÝùÇó ½ñÏ»Éáõ í»ñ³µ»ñÛ³É Ñ³Ûó»ñ | C16: =SUM(Marzer!C16+Erevan!C16) -> 8 | D16: =SUM(Marzer!D16+Erevan!D16) -> 56 | E16: =SUM(Marzer!E16+Erevan!E16) -> 34 | F16: =SUM(Marzer!F16+Erevan!F16) -> 28 | G16: =SUM(Marzer!G16+Erevan!G16) -> 4 | H16: =SUM(Marzer!H16+Erevan!H16) -> 18 | I16: =SUM(Marzer!I16+Erevan!I16) -> 0 | J16: =SUM(Marzer!J16+Erevan!J16) -> 56 | ... N16: =SUM(Marzer!N16+Erevan!N16) -> 198000
A17: 7. ²ÙáõëÝ³ÉáõÍáõÃÛ³Ý í»ñ³µ»ñÛ³É Ñ³Ûó»ñ | C17: =SUM(Marzer!C17+Erevan!C17) -> 149 | D17: =SUM(Marzer!D17+Erevan!D17) -> 1746 | E17: =SUM(Marzer!E17+Erevan!E17) -> 1320 | F17: =SUM(Marzer!F17+Erevan!F17) -> 1304 | G17: =SUM(Marzer!G17+Erevan!G17) -> 117 | H17: =SUM(Marzer!H17+Erevan!H17) -> 250 | I17: =SUM(Marzer!I17+Erevan!I17) -> 16 | J17: =SUM(Marzer!J17+Erevan!J17) -> 1703 | ... N17: =SUM(Marzer!N17+Erevan!N17) -> 6665160
A18: 8. ´Ý³Ï³ñ³ÝÇ Ñ³ïÏ³óáõÙáí íï³ñ»Éáõ í»ñ³µ»ñÛ³É Ñ³Ûó»ñ | C18: =SUM(Marzer!C18+Erevan!C18) -> 8 | D18: =SUM(Marzer!D18+Erevan!D18) -> 65 | E18: =SUM(Marzer!E18+Erevan!E18) -> 47 | F18: =SUM(Marzer!F18+Erevan!F18) -> 43 | G18: =SUM(Marzer!G18+Erevan!G18) -> 11 | H18: =SUM(Marzer!H18+Erevan!H18) -> 10 | I18: =SUM(Marzer!I18+Erevan!I18) -> 0 | J18: =SUM(Marzer!J18+Erevan!J18) -> 68 | ... N18: =SUM(Marzer!N18+Erevan!N18) -> 215000
A19: 9. ²é³Ýó ³ÛÉ µÝ³Ï³ñ³ÝÇ Ñ³ïÏ³óÙ³Ý íï³ñ»Éáõ í»ñ³µ»ñÛ³É Ñ³Ûó»ñ | C19: =SUM(Marzer!C19+Erevan!C19) -> 78 | D19: =SUM(Marzer!D19+Erevan!D19) -> 373 | E19: =SUM(Marzer!E19+Erevan!E19) -> 258 | F19: =SUM(Marzer!F19+Erevan!F19) -> 226 | G19: =SUM(Marzer!G19+Erevan!G19) -> 50 | H19: =SUM(Marzer!H19+Erevan!H19) -> 85 | I19: =SUM(Marzer!I19+Erevan!I19) -> 2 | J19: =SUM(Marzer!J19+Erevan!J19) -> 395 | ... N19: =SUM(Marzer!N19+Erevan!N19) -> 1346192
A20: 10. ²ÛÉ µÝ³Ï³ñ³Ý³ÛÇÝ Ñ³Ûó»ñ | C20: =SUM(Marzer!C20+Erevan!C20) -> 102 | D20: =SUM(Marzer!D20+Erevan!D20) -> 562 | E20: =SUM(Marzer!E20+Erevan!E20) -> 289 | F20: =SUM(Marzer!F20+Erevan!F20) -> 229 | G20: =SUM(Marzer!G20+Erevan!G20) -> 98 | H20: =SUM(Marzer!H20+Erevan!H20) -> 171 | I20: =SUM(Marzer!I20+Erevan!I20) -> 10 | J20: =SUM(Marzer!J20+Erevan!J20) -> 568 | ... N20: =SUM(Marzer!N20+Erevan!N20) -> 1785490
A21: 11. ´Ý³ÏáõÃÛ³Ý Çñ³íáõÝùÁ ×³Ý³ã»Éáõ í»ñ³µ»ñÛ³É Ñ³Ûó»ñ | C21: =SUM(Marzer!C21+Erevan!C21) -> 28 | D21: =SUM(Marzer!D21+Erevan!D21) -> 100 | E21: =SUM(Marzer!E21+Erevan!E21) -> 67 | F21: =SUM(Marzer!F21+Erevan!F21) -> 41 | G21: =SUM(Marzer!G21+Erevan!G21) -> 19 | H21: =SUM(Marzer!H21+Erevan!H21) -> 28 | I21: =SUM(Marzer!I21+Erevan!I21) -> 0 | J21: =SUM(Marzer!J21+Erevan!J21) -> 114 | ... N21: =SUM(Marzer!N21+Erevan!N21) -> 340500
A22: 12. ´Ý³ÏáõÃÛ³Ý Çñ³íáõÝùÁ Ïáñóñ³Í ×³Ý³ã»Éáõ í»ñ³µ»ñÛ³É Ñ³Ûó»ñ | C22: =SUM(Marzer!C22+Erevan!C22) -> 44 | D22: =SUM(Marzer!D22+Erevan!D22) -> 238 | E22: =SUM(Marzer!E22+Erevan!E22) -> 140 | F22: =SUM(Marzer!F22+Erevan!F22) -> 125 | G22: =SUM(Marzer!G22+Erevan!G22) -> 21 | H22: =SUM(Marzer!H22+Erevan!H22) -> 63 | I22: =SUM(Marzer!I22+Erevan!I22) -> 2 | J22: =SUM(Marzer!J22+Erevan!J22) -> 226 | ... N22: =SUM(Marzer!N22+Erevan!N22) -> 950600
A23: 13. ø³Õ³ù³óÇÝ»ñÇ ë»÷³Ï³ÝáõÃÛ³Ý Çñ³íáõÝùÇ í»ñ³µ»ñÛ³É Ñ³Ûó»ñ | C23: =SUM(Marzer!C23+Erevan!C23) -> 177 | D23: =SUM(Marzer!D23+Erevan!D23) -> 1018 | E23: =SUM(Marzer!E23+Erevan!E23) -> 655 | F23: =SUM(Marzer!F23+Erevan!F23) -> 535 | G23: =SUM(Marzer!G23+Erevan!G23) -> 122 | H23: =SUM(Marzer!H23+Erevan!H23) -> 207 | I23: =SUM(Marzer!I23+Erevan!I23) -> 20 | J23: =SUM(Marzer!J23+Erevan!J23) -> 1004 | ... N23: =SUM(Marzer!N23+Erevan!N23) -> 3989935
A24: 14. ê»÷³Ï³ÝáõÃÛ³Ý Çñ³íáõÝùÇ í»ñ³µ»ñÛ³É Ñ³Ûó»ñ | C24: =SUM(Marzer!C24+Erevan!C24) -> 185 | D24: =SUM(Marzer!D24+Erevan!D24) -> 1547 | E24: =SUM(Marzer!E24+Erevan!E24) -> 934 | F24: =SUM(Marzer!F24+Erevan!F24) -> 666 | G24: =SUM(Marzer!G24+Erevan!G24) -> 170 | H24: =SUM(Marzer!H24+Erevan!H24) -> 323 | I24: =SUM(Marzer!I24+Erevan!I24) -> 39 | J24: =SUM(Marzer!J24+Erevan!J24) -> 1466 | ... N24: =SUM(Marzer!N24+Erevan!N24) -> 5584237
A25: 15.Ê»Õ³Ý¹³ÙáõÃ.Ï³Ù Ù³Ñí³Ý Ñ³Ù³ñ íÝ³ëÁ Ñ³ïáõó»Éáõ Ù³ëÇÝ Ñ³ñáõóí³Í Ñ³Ûó»ñ | C25: =SUM(Marzer!C25+Erevan!C25) -> 2 | D25: =SUM(Marzer!D25+Erevan!D25) -> 15 | E25: =SUM(Marzer!E25+Erevan!E25) -> 11 | F25: =SUM(Marzer!F25+Erevan!F25) -> 8 | G25: =SUM(Marzer!G25+Erevan!G25) -> 0 | H25: =SUM(Marzer!H25+Erevan!H25) -> 3 | I25: =SUM(Marzer!I25+Erevan!I25) -> 0 | J25: =SUM(Marzer!J25+Erevan!J25) -> 14 | ... N25: =SUM(Marzer!N25+Erevan!N25) -> 0
... A35: 25. ÀÝ¹³Ù»ÝÁ Ñ³Ûó³ÛÇÝ í³ñáõÛÃÇ ·áñÍ»ñ (1-25 ïáÕ»ñ) | C35: =SUM(Marzer!C35+Erevan!C35) -> 3727 | D35: =SUM(Marzer!D35+Erevan!D35) -> 26179 | E35: =SUM(Marzer!E35+Erevan!E35) -> 17568 | F35: =SUM(Marzer!F35+Erevan!F35) -> 13968 | G35: =SUM(Marzer!G35+Erevan!G35) -> 2962 | H35: =SUM(Marzer!H35+Erevan!H35) -> 3995 | I35: =SUM(Marzer!I35+Erevan!I35) -> 536 | J35: =SUM(Marzer!J35+Erevan!J35) -> 25061 | ... N35: =SUM(Marzer!N35+Erevan!N35) -> 118557768
A36: ì³ñã³-Çñ³í³Ï³Ý Ñ³ñ³µ»ñáõÃÛáõÝÝ»ñÇó | B36: 26.Ð³ñÏ»ñÇ ³å³éùÝ»ñÇ ·³ÝÓÙ³Ý í»ñ³µ»ñÛ³É Ñ³Ûó»ñ | C36: =SUM(Marzer!C36+Erevan!C36) -> 10 | D36: =SUM(Marzer!D36+Erevan!D36) -> 312 | E36: =SUM(Marzer!E36+Erevan!E36) -> 197 | F36: =SUM(Marzer!F36+Erevan!F36) -> 162 | G36: =SUM(Marzer!G36+Erevan!G36) -> 39 | H36: =SUM(Marzer!H36+Erevan!H36) -> 30 | I36: =SUM(Marzer!I36+Erevan!I36) -> 3 | J36: =SUM(Marzer!J36+Erevan!J36) -> 269 | ... N36: =SUM(Marzer!N36+Erevan!N36) -> 844848
B37: 27.ì³ñã³-Çñ³í³Ï³Ý Ñ³ñ³µ»ñáõÃÛáõÝÝ»ñÇó ³é³ç³ó³Í Ñ³Ûó»ñ | C37: =SUM(Marzer!C37+Erevan!C37) -> 1157 | D37: =SUM(Marzer!D37+Erevan!D37) -> 4169 | E37: =SUM(Marzer!E37+Erevan!E37) -> 2396 | F37: =SUM(Marzer!F37+Erevan!F37) -> 2178 | G37: =SUM(Marzer!G37+Erevan!G37) -> 270 | H37: =SUM(Marzer!H37+Erevan!H37) -> 407 | I37: =SUM(Marzer!I37+Erevan!I37) -> 546 | J37: =SUM(Marzer!J37+Erevan!J37) -> 3619 | ... N37: =SUM(Marzer!N37+Erevan!N37) -> 8076686
B38: 28.ä»ï³Ï³Ý Ï³é³í³ñÙ³Ý Ù³ñÙÇÝÝ»ñÇ ¨ å³ßïáÝ³ï³ñ ³ÝÓ³Ýó ³åûñÇÝÇ ·áñÍáÕáõÃÛáõÝÝ»ñÇ í»ñ³µ»ñÛ³É Ñ³Ûó»ñ | C38: =SUM(Marzer!C38+Erevan!C38) -> 91 | D38: =SUM(Marzer!D38+Erevan!D38) -> 867 | E38: =SUM(Marzer!E38+Erevan!E38) -> 607 | F38: =SUM(Marzer!F38+Erevan!F38) -> 308 | G38: =SUM(Marzer!G38+Erevan!G38) -> 104 | H38: =SUM(Marzer!H38+Erevan!H38) -> 110 | I38: =SUM(Marzer!I38+Erevan!I38) -> 89 | J38: =SUM(Marzer!J38+Erevan!J38) -> 910 | ... N38: =SUM(Marzer!N38+Erevan!N38) -> 1974632
B39: 29.ÀÝ¹³Ù»ÝÁ í³ñã³-Çñ³í³Ï³Ý Ñ³ñ³µ»ñáõÃÛáõÝÝ»ñÇó ³é³ç³ó³Í Ñ³Ûó»ñ (27-29 ïáÕ»ñ) | C39: =SUM(Marzer!C39+Erevan!C39) -> 1258 | D39: =SUM(Marzer!D39+Erevan!D39) -> 5348 | E39: =SUM(Marzer!E39+Erevan!E39) -> 3200 | F39: =SUM(Marzer!F39+Erevan!F39) -> 2648 | G39: =SUM(Marzer!G39+Erevan!G39) -> 413 | H39: =SUM(Marzer!H39+Erevan!H39) -> 547 | I39: =SUM(Marzer!I39+Erevan!I39) -> 638 | J39: =SUM(Marzer!J39+Erevan!J39) -> 4798 | ... N39: =SUM(Marzer!N39+Erevan!N39) -> 10896166
A40: Ð³ïáõÏ í³ñáõÛÃÇ ·áñÍ»ñ | B40: 30.Æñ³í³µ³Ý³Ï³Ý Ýß³Ý³ÏáõÃÛáõÝ áõÝ»óáÕ ÷³ëï»ñ Ñ³ëï³ï»Éáõ í»ñ³µ»ñÛ³É Ñ³Ûó»ñ | C40: =SUM(Marzer!C40+Erevan!C40) -> 166 | D40: =SUM(Marzer!D40+Erevan!D40) -> 3530 | E40: =SUM(Marzer!E40+Erevan!E40) -> 3131 | F40: =SUM(Marzer!F40+Erevan!F40) -> 2959 | G40: =SUM(Marzer!G40+Erevan!G40) -> 69 | H40: =SUM(Marzer!H40+Erevan!H40) -> 302 | I40: =SUM(Marzer!I40+Erevan!I40) -> 19 | J40: =SUM(Marzer!J40+Erevan!J40) -> 3521 | ... N40: =SUM(Marzer!N40+Erevan!N40) -> 8966252
B41: 31.Üáï³ñ³Ï³Ý ·áñÍáÕáõÃÛáõÝÝ»ñÇ Ï³Ù ¹ñ³Ýó Ï³ï³ñÙ³Ý Ù»ñÅÙ³Ý Ñ³Ù³ñ µáÕáùÝ»ñáí | C41: =SUM(Marzer!C41+Erevan!C41) -> 4 | D41: =SUM(Marzer!D41+Erevan!D41) -> 21 | E41: =SUM(Marzer!E41+Erevan!E41) -> 17 | F41: =SUM(Marzer!F41+Erevan!F41) -> 14 | G41: =SUM(Marzer!G41+Erevan!G41) -> 0 | H41: =SUM(Marzer!H41+Erevan!H41) -> 5 | I41: =SUM(Marzer!I41+Erevan!I41) -> 1 | J41: =SUM(Marzer!J41+Erevan!J41) -> 23 | ... N41: =SUM(Marzer!N41+Erevan!N41) -> 111500
B42: 32.¶áñÍ»ñ øÎ²¶-Ç Ù³ïÛ³ÝÝ»ñáõÙ áã ×Çßï ·ñ³ÝóáõÙÝ»ñÇ í»ñ³µ»ñÛ³É ·³Ý·³ïÝ»ñÇ ³éÃÇí | C42: =SUM(Marzer!C42+Erevan!C42) -> 2 | D42: =SUM(Marzer!D42+Erevan!D42) -> 59 | E42: =SUM(Marzer!E42+Erevan!E42) -> 55 | F42: =SUM(Marzer!F42+Erevan!F42) -> 45 | G42: =SUM(Marzer!G42+Erevan!G42) -> 0 | H42: =SUM(Marzer!H42+Erevan!H42) -> 6 | I42: =SUM(Marzer!I42+Erevan!I42) -> 0 | J42: =SUM(Marzer!J42+Erevan!J42) -> 61 | ... N42: =SUM(Marzer!N42+Erevan!N42) -> 180000
B43: 33. Ð³ïáõÏ í³ñáõÛÃÇ ³ÛÉ ·áñÍ»ñ | C43: =SUM(Marzer!C43+Erevan!C43) -> 150 | D43: =SUM(Marzer!D43+Erevan!D43) -> 1550 | E43: =SUM(Marzer!E43+Erevan!E43) -> 1290 | F43: =SUM(Marzer!F43+Erevan!F43) -> 1253 | G43: =SUM(Marzer!G43+Erevan!G43) -> 71 | H43: =SUM(Marzer!H43+Erevan!H43) -> 169 | I43: =SUM(Marzer!I43+Erevan!I43) -> 0 | J43: =SUM(Marzer!J43+Erevan!J43) -> 1530 | ... N43: =SUM(Marzer!N43+Erevan!N43) -> 4219930
B44: 34. ÀÝ¹³Ù»ÝÁ Ñ³ïáõÏ í³ñáõÛÃÇ ·áñÍ»ñ (31-34 ïáÕ»ñ) | C44: =SUM(Marzer!C44+Erevan!C44) -> 322 | D44: =SUM(Marzer!D44+Erevan!D44) -> 5160 | E44: =SUM(Marzer!E44+Erevan!E44) -> 4493 | F44: =SUM(Marzer!F44+Erevan!F44) -> 4271 | G44: =SUM(Marzer!G44+Erevan!G44) -> 140 | H44: =SUM(Marzer!H44+Erevan!H44) -> 482 | I44: =SUM(Marzer!I44+Erevan!I44) -> 20 | J44: =SUM(Marzer!J44+Erevan!J44) -> 5135 | ... N44: =SUM(Marzer!N44+Erevan!N44) -> 13477682
A45: 35. ÀÝ¹³Ù»ÝÁ ù³Õ³ù³óÇ³Ï³Ý ·áñÍ»ñ (26, 30, 35) | C45: =SUM(Marzer!C45+Erevan!C45) -> 5307 | D45: =SUM(Marzer!D45+Erevan!D45) -> 36687 | E45: =SUM(Marzer!E45+Erevan!E45) -> 25261 | F45: =SUM(Marzer!F45+Erevan!F45) -> 20887 | G45: =SUM(Marzer!G45+Erevan!G45) -> 3515 | H45: =SUM(Marzer!H45+Erevan!H45) -> 5024 | I45: =SUM(Marzer!I45+Erevan!I45) -> 1194 | J45: =SUM(Marzer!J45+Erevan!J45) -> 34994 | ... N45: =SUM(Marzer!N45+Erevan!N45) -> 142931616
A48: ¸³ï³Ï³Ý åñ³ÏïÇÏ³ÛÇ ³Ù÷á÷Ù³Ý í³ñãáõÃÛ³Ý å»ïª Î. öáÉ³¹Û³Ý

Sheet Marzer
A1: Ð²ÞìºîìàôÂÚàôÜ
A2: ø²Ô²ø²ø²òÆ²Î²Ü ¶àðÌºðÆ øÜÜàôÂÚ²Ü ìºð²´ºðÚ²È
A3: ÐÐ Ù³ñ½»ñÇ ³é³çÇÝ ³ïÛ³ÝÇ ¹³ï³ñ³ÝÝ»ñÇ
A4: 2007Ã. Ñ³Ù³ñ
A6: ¦²§ µ³ÅÝÇ í»ñ³µ»ñÛ³É ëïáõ·Çã Ñ³í³ë³ñáõÙÝ»ñ 1 ¨ 2 ëÛáõÝ³ÏÝ»ñÇ Ãí»ñÇ ·áõÙ³ñÁ Ñ³í³ë³ñ ¿ 8 ¨ 10 ëÛáõÝ³ÏÝ»ñÇ Ãí»ñÇ ·áõÙ³ñÇÝ: 8 ëÛáõÝ³ÏÇ ÃÇíÁ Ñ³í³ë³ñ ¿ 3,5-7 ëÛáõÝ³ÏÝ»ñÇ Ãí»ñÇ ·áõÙ³ñÇÝ: | E6: ² ù³Õ³ù³óÇ³Ï³Ý ·áñÍ»ñÇ ß³ñÅÁ
E7: ²í³ñïí»É »Ý ·áñÍ»ñ Ñ³ßí»ïáõ Å³Ù³Ý³Ï³ßñç³ÝáõÙ
C8: ²Ý³í³ñï ·áñÍ»ñÇ ÙÝ³óáñ¹Á Ñ³ßí»ïáõ Å³Ù³Ý³Ï³ßñç³ÝÇ ëÏ½µáõÙ | D8: êï³óí»É »Ý ·áñÍ»ñ Ñ³ßí»ïáõ Å³Ù³Ý³Ï³ßñç³ÝáõÙ | E8: ÀÝ¹³Ù»ÝÁ ùÝÝí»É »Ý ·áñÍ»ñ í×éÇ Ï³Û³óáõÙáí | F8: ²Û¹ ÃíáõÙ Ñ³ÛóÇ µ³í³ñ³ñÙ³Ùµ | G8: Î³ñ×í»É »Ý ·áñÍ»ñ í×éÇ Ï³Û³óáõÙáí | H8: Ð³Ûó»ñÁ ÃáÕÝí»É »Ý ³é³Ýó ùÝÝáõÃÛ³Ý | I8: ¶áñÍ»ñÁ Ñ³ÝÓÝí»É »Ý ³ÛÉ ¹³ï³ñ³ÝÝ»ñÇ | J8: ÀÝ¹³Ù»ÝÁ ³í³ñïí»É »Ý ·áñÍ»ñ (3, 5-7 ëÛáõÝ³ÏÝ»ñ) | K8: ²Û¹ ÃíáõÙ ù³Õ, ¹³ï, ûñ-áí Ý³Ë³ï»ëí³ÍÇó ³í»ÉÇ Å³ÙÏ»ïáõÙ | L8: ²Ý³í³ñï ·áñÍ»ñÇ ÙÝ³óáñ¹Á Ñ³ßí»ïáõ Å³Ù³Ý³Ï³ßñç³ÝÇ í»ñçáõÙ | M8: ²Û¹ ÃíáõÙ ·ïÝíáõÙ »Ý 3 ³ÙëÇó ³í»ÉÇ (Ï³ë»óí³Í ·áñÍ»ñÇ Ñ»ï Ù»Ïï»Õ) | N8: ä»ïáõÃÛ³Ý û·ïÇÝ ÙáõÍí³Í å»ï³Ï³Ý ïáõñùÇ ã³÷Á (¹ñ³Ùáí)
C9: 1 | D9: 2 | E9: 3 | F9: 4 | G9: 5 | H9: 6 | I9: 7 | J9: 8 | K9: 9 | L9: 10 | M9: 11 | N9: 12
A10: 1. ²½³ïí³ÍÝ»ñÇÝ ³ßË³ï³ÝùáõÙ í»ñ³Ï³Ý·Ý»Éáõ í»ñ³µ»ñÛ³É Ñ³Ûó»ñ | C10: =SUM(Shirak!C10+VDz!C10+Suniq!C10+Lori!C10+Gex!C10+Kotaiq!C10+Armavir!C10+Ararat!C10+Aragacotn!C10+Tavush!C10) -> 7 | D10: =SUM(Shirak!D10+VDz!D10+Suniq!D10+Lori!D10+Gex!D10+Kotaiq!D10+Armavir!D10+Ararat!D10+Aragacotn!D10+Tavush!D10) -> 126 | E10: =SUM(Shirak!E10+VDz!E10+Suniq!E10+Lori!E10+Gex!E10+Kotaiq!E10+Armavir!E10+Ararat!E10+Aragacotn!E10+Tavush!E10) -> 98 | F10: =SUM(Shirak!F10+VDz!F10+Suniq!F10+Lori!F10+Gex!F10+Kotaiq!F10+Armavir!F10+Ararat!F10+Aragacotn!F10+Tavush!F10) -> 73 | G10: =SUM(Shirak!G10+VDz!G10+Suniq!G10+Lori!G10+Gex!G10+Kotaiq!G10+Armavir!G10+Ararat!G10+Aragacotn!G10+Tavush!G10) -> 11 | H10: =SUM(Shirak!H10+VDz!H10+Suniq!H10+Lori!H10+Gex!H10+Kotaiq!H10+Armavir!H10+Ararat!H10+Aragacotn!H10+Tavush!H10) -> 12 | I10: =SUM(Shirak!I10+VDz!I10+Suniq!I10+Lori!I10+Gex!I10+Kotaiq!I10+Armavir!I10+Ararat!I10+Aragacotn!I10+Tavush!I10) -> 3 | J10: =SUM(Shirak!J10+VDz!J10+Suniq!J10+Lori!J10+Gex!J10+Kotaiq!J10+Armavir!J10+Ararat!J10+Aragacotn!J10+Tavush!J10) -> 124 | ... N10: =SUM(Shirak!N10+VDz!N10+Suniq!N10+Lori!N10+Gex!N10+Kotaiq!N10+Armavir!N10+Ararat!N10+Aragacotn!N10+Tavush!N10) -> 12000
A11: 2. ´³ÝíáñÝ»ñÇ ¨ Í³é³ÛáÕÝ»ñÇ ³ÛÉ ³ßË³ï³Ýù³ÛÇÝ í»×»ñ | C11: =SUM(Shirak!C11+VDz!C11+Suniq!C11+Lori!C11+Gex!C11+Kotaiq!C11+Armavir!C11+Ararat!C11+Aragacotn!C11+Tavush!C11) -> 28 | D11: =SUM(Shirak!D11+VDz!D11+Suniq!D11+Lori!D11+Gex!D11+Kotaiq!D11+Armavir!D11+Ararat!D11+Aragacotn!D11+Tavush!D11) -> 218 | E11: =SUM(Shirak!E11+VDz!E11+Suniq!E11+Lori!E11+Gex!E11+Kotaiq!E11+Armavir!E11+Ararat!E11+Aragacotn!E11+Tavush!E11) -> 189 | F11: =SUM(Shirak!F11+VDz!F11+Suniq!F11+Lori!F11+Gex!F11+Kotaiq!F11+Armavir!F11+Ararat!F11+Aragacotn!F11+Tavush!F11) -> 177 | G11: =SUM(Shirak!G11+VDz!G11+Suniq!G11+Lori!G11+Gex!G11+Kotaiq!G11+Armavir!G11+Ararat!G11+Aragacotn!G11+Tavush!G11) -> 13 | H11: =SUM(Shirak!H11+VDz!H11+Suniq!H11+Lori!H11+Gex!H11+Kotaiq!H11+Armavir!H11+Ararat!H11+Aragacotn!H11+Tavush!H11) -> 30 | I11: =SUM(Shirak!I11+VDz!I11+Suniq!I11+Lori!I11+Gex!I11+Kotaiq!I11+Armavir!I11+Ararat!I11+Aragacotn!I11+Tavush!I11) -> 6 | J11: =SUM(Shirak!J11+VDz!J11+Suniq!J11+Lori!J11+Gex!J11+Kotaiq!J11+Armavir!J11+Ararat!J11+Aragacotn!J11+Tavush!J11) -> 238 | ... N11: =SUM(Shirak!N11+VDz!N11+Suniq!N11+Lori!N11+Gex!N11+Kotaiq!N11+Armavir!N11+Ararat!N11+Aragacotn!N11+Tavush!N11) -> 17820
A12: 3. ²ßË.å³ñï³Ï³ÝáõÃ. Ï³ï³ñ»ÉÇë µ³Ýí.¨ Í³é³ÛáÕÝ»ñÇ ÏáÕÙÇó ÝÛáõÃ. íÝ³ëÇ Ñ³ïáõóÙ³Ý í»ñ³µ»ñÛ³É (³ßË, ûñ, 129-134 ÑÑ) Ñ³Ûó»ñ | C12: =SUM(Shirak!C12+VDz!C12+Suniq!C12+Lori!C12+Gex!C12+Kotaiq!C12+Armavir!C12+Ararat!C12+Aragacotn!C12+Tavush!C12) -> 3 | D12: =SUM(Shirak!D12+VDz!D12+Suniq!D12+Lori!D12+Gex!D12+Kotaiq!D12+Armavir!D12+Ararat!D12+Aragacotn!D12+Tavush!D12) -> 16 | E12: =SUM(Shirak!E12+VDz!E12+Suniq!E12+Lori!E12+Gex!E12+Kotaiq!E12+Armavir!E12+Ararat!E12+Aragacotn!E12+Tavush!E12) -> 7 | F12: =SUM(Shirak!F12+VDz!F12+Suniq!F12+Lori!F12+Gex!F12+Kotaiq!F12+Armavir!F12+Ararat!F12+Aragacotn!F12+Tavush!F12) -> 6 | G12: =SUM(Shirak!G12+VDz!G12+Suniq!G12+Lori!G12+Gex!G12+Kotaiq!G12+Armavir!G12+Ararat!G12+Aragacotn!G12+Tavush!G12) -> 2 | H12: =SUM(Shirak!H12+VDz!H12+Suniq!H12+Lori!H12+Gex!H12+Kotaiq!H12+Armavir!H12+Ararat!H12+Aragacotn!H12+Tavush!H12) -> 8 | I12: =SUM(Shirak!I12+VDz!I12+Suniq!I12+Lori!I12+Gex!I12+Kotaiq!I12+Armavir!I12+Ararat!I12+Aragacotn!I12+Tavush!I12) -> 1 | J12: =SUM(Shirak!J12+VDz!J12+Suniq!J12+Lori!J12+Gex!J12+Kotaiq!J12+Armavir!J12+Ararat!J12+Aragacotn!J12+Tavush!J12) -> 18 | ... N12: =SUM(Shirak!N12+VDz!N12+Suniq!N12+Lori!N12+Gex!N12+Kotaiq!N12+Armavir!N12+Ararat!N12+Aragacotn!N12+Tavush!N12) -> 67000
A13: 4. ¶ÛáõÕ. ÏáÉ»ÏïÇí ïÝï»ëáõÃÛ³Ý ³Ý¹³ÙÝ»ñÇ ÏáÕÙÇó Ý»ñÏ³Û³óí³Í Ñ³Ûó»ñ | C13: =SUM(Shirak!C13+VDz!C13+Suniq!C13+Lori!C13+Gex!C13+Kotaiq!C13+Armavir!C13+Ararat!C13+Aragacotn!C13+Tavush!C13) -> 0 | D13: =SUM(Shirak!D13+VDz!D13+Suniq!D13+Lori!D13+Gex!D13+Kotaiq!D13+Armavir!D13+Ararat!D13+Aragacotn!D13+Tavush!D13) -> 0 | E13: =SUM(Shirak!E13+VDz!E13+Suniq!E13+Lori!E13+Gex!E13+Kotaiq!E13+Armavir!E13+Ararat!E13+Aragacotn!E13+Tavush!E13) -> 0 | F13: =SUM(Shirak!F13+VDz!F13+Suniq!F13+Lori!F13+Gex!F13+Kotaiq!F13+Armavir!F13+Ararat!F13+Aragacotn!F13+Tavush!F13) -> 0 | G13: =SUM(Shirak!G13+VDz!G13+Suniq!G13+Lori!G13+Gex!G13+Kotaiq!G13+Armavir!G13+Ararat!G13+Aragacotn!G13+Tavush!G13) -> 0 | H13: =SUM(Shirak!H13+VDz!H13+Suniq!H13+Lori!H13+Gex!H13+Kotaiq!H13+Armavir!H13+Ararat!H13+Aragacotn!H13+Tavush!H13) -> 0 | I13: =SUM(Shirak!I13+VDz!I13+Suniq!I13+Lori!I13+Gex!I13+Kotaiq!I13+Armavir!I13+Ararat!I13+Aragacotn!I13+Tavush!I13) -> 0 | J13: =SUM(Shirak!J13+VDz!J13+Suniq!J13+Lori!J13+Gex!J13+Kotaiq!J13+Armavir!J13+Ararat!J13+Aragacotn!J13+Tavush!J13) -> 0 | ... N13: =SUM(Shirak!N13+VDz!N13+Suniq!N13+Lori!N13+Gex!N13+Kotaiq!N13+Armavir!N13+Ararat!N13+Aragacotn!N13+Tavush!N13) -> 0
A14: 5. ºñ»Ë³Ý»ñÇÝ å³Ñ»Éáõ Ñ³Ù³ñ ³ÉÇÙ»ÝïÇ µéÝ³·³ÝÓÙ³Ý í»ñ³µ»ñÛ³É Ñ³Ûó»ñ | C14: =SUM(Shirak!C14+VDz!C14+Suniq!C14+Lori!C14+Gex!C14+Kotaiq!C14+Armavir!C14+Ararat!C14+Aragacotn!C14+Tavush!C14) -> 19 | D14: =SUM(Shirak!D14+VDz!D14+Suniq!D14+Lori!D14+Gex!D14+Kotaiq!D14+Armavir!D14+Ararat!D14+Aragacotn!D14+Tavush!D14) -> 517 | E14: =SUM(Shirak!E14+VDz!E14+Suniq!E14+Lori!E14+Gex!E14+Kotaiq!E14+Armavir!E14+Ararat!E14+Aragacotn!E14+Tavush!E14) -> 417 | F14: =SUM(Shirak!F14+VDz!F14+Suniq!F14+Lori!F14+Gex!F14+Kotaiq!F14+Armavir!F14+Ararat!F14+Aragacotn!F14+Tavush!F14) -> 392 | G14: =SUM(Shirak!G14+VDz!G14+Suniq!G14+Lori!G14+Gex!G14+Kotaiq!G14+Armavir!G14+Ararat!G14+Aragacotn!G14+Tavush!G14) -> 33 | H14: =SUM(Shirak!H14+VDz!H14+Suniq!H14+Lori!H14+Gex!H14+Kotaiq!H14+Armavir!H14+Ararat!H14+Aragacotn!H14+Tavush!H14) -> 51 | I14: =SUM(Shirak!I14+VDz!I14+Suniq!I14+Lori!I14+Gex!I14+Kotaiq!I14+Armavir!I14+Ararat!I14+Aragacotn!I14+Tavush!I14) -> 0 | J14: =SUM(Shirak!J14+VDz!J14+Suniq!J14+Lori!J14+Gex!J14+Kotaiq!J14+Armavir!J14+Ararat!J14+Aragacotn!J14+Tavush!J14) -> 501 | ... N14: =SUM(Shirak!N14+VDz!N14+Suniq!N14+Lori!N14+Gex!N14+Kotaiq!N14+Armavir!N14+Ararat!N14+Aragacotn!N14+Tavush!N14) -> 90320
A15: 6. Ð³ÛñáõÃÛ³Ý Ñ³ëï³ïÙ³Ý í»ñ³µ»ñÛ³É Ñ³Ûó»ñ | C15: =SUM(Shirak!C15+VDz!C15+Suniq!C15+Lori!C15+Gex!C15+Kotaiq!C15+Armavir!C15+Ararat!C15+Aragacotn!C15+Tavush!C15) -> 8 | D15: =SUM(Shirak!D15+VDz!D15+Suniq!D15+Lori!D15+Gex!D15+Kotaiq!D15+Armavir!D15+Ararat!D15+Aragacotn!D15+Tavush!D15) -> 111 | E15: =SUM(Shirak!E15+VDz!E15+Suniq!E15+Lori!E15+Gex!E15+Kotaiq!E15+Armavir!E15+Ararat!E15+Aragacotn!E15+Tavush!E15) -> 80 | F15: =SUM(Shirak!F15+VDz!F15+Suniq!F15+Lori!F15+Gex!F15+Kotaiq!F15+Armavir!F15+Ararat!F15+Aragacotn!F15+Tavush!F15) -> 78 | G15: =SUM(Shirak!G15+VDz!G15+Suniq!G15+Lori!G15+Gex!G15+Kotaiq!G15+Armavir!G15+Ararat!G15+Aragacotn!G15+Tavush!G15) -> 5 | H15: =SUM(Shirak!H15+VDz!H15+Suniq!H15+Lori!H15+Gex!H15+Kotaiq!H15+Armavir!H15+Ararat!H15+Aragacotn!H15+Tavush!H15) -> 23 | I15: =SUM(Shirak!I15+VDz!I15+Suniq!I15+Lori!I15+Gex!I15+Kotaiq!I15+Armavir!I15+Ararat!I15+Aragacotn!I15+Tavush!I15) -> 0 | J15: =SUM(Shirak!J15+VDz!J15+Suniq!J15+Lori!J15+Gex!J15+Kotaiq!J15+Armavir!J15+Ararat!J15+Aragacotn!J15+Tavush!J15) -> 108 | ... N15: =SUM(Shirak!N15+VDz!N15+Suniq!N15+Lori!N15+Gex!N15+Kotaiq!N15+Armavir!N15+Ararat!N15+Aragacotn!N15+Tavush!N15) -> 329500
A16: 7. ÌÝáÕ³Ï³Ý Çñ³íáõÝùÇó ½ñÏ»Éáõ í»ñ³µ»ñÛ³É Ñ³Ûó»ñ | C16: =SUM(Shirak!C16+VDz!C16+Suniq!C16+Lori!C16+Gex!C16+Kotaiq!C16+Armavir!C16+Ararat!C16+Aragacotn!C16+Tavush!C16) -> 0 | D16: =SUM(Shirak!D16+VDz!D16+Suniq!D16+Lori!D16+Gex!D16+Kotaiq!D16+Armavir!D16+Ararat!D16+Aragacotn!D16+Tavush!D16) -> 22 | E16: =SUM(Shirak!E16+VDz!E16+Suniq!E16+Lori!E16+Gex!E16+Kotaiq!E16+Armavir!E16+Ararat!E16+Aragacotn!E16+Tavush!E16) -> 12 | F16: =SUM(Shirak!F16+VDz!F16+Suniq!F16+Lori!F16+Gex!F16+Kotaiq!F16+Armavir!F16+Ararat!F16+Aragacotn!F16+Tavush!F16) -> 11 | G16: =SUM(Shirak!G16+VDz!G16+Suniq!G16+Lori!G16+Gex!G16+Kotaiq!G16+Armavir!G16+Ararat!G16+Aragacotn!G16+Tavush!G16) -> 0 | H16: =SUM(Shirak!H16+VDz!H16+Suniq!H16+Lori!H16+Gex!H16+Kotaiq!H16+Armavir!H16+Ararat!H16+Aragacotn!H16+Tavush!H16) -> 8 | I16: =SUM(Shirak!I16+VDz!I16+Suniq!I16+Lori!I16+Gex!I16+Kotaiq!I16+Armavir!I16+Ararat!I16+Aragacotn!I16+Tavush!I16) -> 0 | J16: =SUM(Shirak!J16+VDz!J16+Suniq!J16+Lori!J16+Gex!J16+Kotaiq!J16+Armavir!J16+Ararat!J16+Aragacotn!J16+Tavush!J16) -> 20 | ... N16: =SUM(Shirak!N16+VDz!N16+Suniq!N16+Lori!N16+Gex!N16+Kotaiq!N16+Armavir!N16+Ararat!N16+Aragacotn!N16+Tavush!N16) -> 70000
A17: 8. ²ÙáõëÝ³ÉáõÍáõÃÛ³Ý í»ñ³µ»ñÛ³É Ñ³Ûó»ñ | C17: =SUM(Shirak!C17+VDz!C17+Suniq!C17+Lori!C17+Gex!C17+Kotaiq!C17+Armavir!C17+Ararat!C17+Aragacotn!C17+Tavush!C17) -> 63 | D17: =SUM(Shirak!D17+VDz!D17+Suniq!D17+Lori!D17+Gex!D17+Kotaiq!D17+Armavir!D17+Ararat!D17+Aragacotn!D17+Tavush!D17) -> 952 | E17: =SUM(Shirak!E17+VDz!E17+Suniq!E17+Lori!E17+Gex!E17+Kotaiq!E17+Armavir!E17+Ararat!E17+Aragacotn!E17+Tavush!E17) -> 749 | F17: =SUM(Shirak!F17+VDz!F17+Suniq!F17+Lori!F17+Gex!F17+Kotaiq!F17+Armavir!F17+Ararat!F17+Aragacotn!F17+Tavush!F17) -> 737 | G17: =SUM(Shirak!G17+VDz!G17+Suniq!G17+Lori!G17+Gex!G17+Kotaiq!G17+Armavir!G17+Ararat!G17+Aragacotn!G17+Tavush!G17) -> 54 | H17: =SUM(Shirak!H17+VDz!H17+Suniq!H17+Lori!H17+Gex!H17+Kotaiq!H17+Armavir!H17+Ararat!H17+Aragacotn!H17+Tavush!H17) -> 126 | I17: =SUM(Shirak!I17+VDz!I17+Suniq!I17+Lori!I17+Gex!I17+Kotaiq!I17+Armavir!I17+Ararat!I17+Aragacotn!I17+Tavush!I17) -> 5 | J17: =SUM(Shirak!J17+VDz!J17+Suniq!J17+Lori!J17+Gex!J17+Kotaiq!J17+Armavir!J17+Ararat!J17+Aragacotn!J17+Tavush!J17) -> 934 | ... N17: =SUM(Shirak!N17+VDz!N17+Suniq!N17+Lori!N17+Gex!N17+Kotaiq!N17+Armavir!N17+Ararat!N17+Aragacotn!N17+Tavush!N17) -> 3745160
A18: 9. ´Ý³Ï³ñ³ÝÇ Ñ³ïÏ³óáõÙáí íï³ñ»Éáõ í»ñ³µ»ñÛ³É Ñ³Ûó»ñ | C18: 4 | D18: =SUM(Shirak!D18+VDz!D18+Suniq!D18+Lori!D18+Gex!D18+Kotaiq!D18+Armavir!D18+Ararat!D18+Aragacotn!D18+Tavush!D18) -> 38 | E18: =SUM(Shirak!E18+VDz!E18+Suniq!E18+Lori!E18+Gex!E18+Kotaiq!E18+Armavir!E18+Ararat!E18+Aragacotn!E18+Tavush!E18) -> 30 | F18: =SUM(Shirak!F18+VDz!F18+Suniq!F18+Lori!F18+Gex!F18+Kotaiq!F18+Armavir!F18+Ararat!F18+Aragacotn!F18+Tavush!F18) -> 29 | G18: =SUM(Shirak!G18+VDz!G18+Suniq!G18+Lori!G18+Gex!G18+Kotaiq!G18+Armavir!G18+Ararat!G18+Aragacotn!G18+Tavush!G18) -> 4 | H18: =SUM(Shirak!H18+VDz!H18+Suniq!H18+Lori!H18+Gex!H18+Kotaiq!H18+Armavir!H18+Ararat!H18+Aragacotn!H18+Tavush!H18) -> 4 | I18: =SUM(Shirak!I18+VDz!I18+Suniq!I18+Lori!I18+Gex!I18+Kotaiq!I18+Armavir!I18+Ararat!I18+Aragacotn!I18+Tavush!I18) -> 0 | J18: =SUM(Shirak!J18+VDz!J18+Suniq!J18+Lori!J18+Gex!J18+Kotaiq!J18+Armavir!J18+Ararat!J18+Aragacotn!J18+Tavush!J18) -> 38 | K18: =SUM(Shirak!K18+VDz!K18+Suniq!K18+Lori!K18+Gex!K18+Kotaiq!K18+Armavir!K18+Ararat!K18+Aragacotn!K18+Tavush!K18) -> 0 | ... N18: =SUM(Shirak!N18+VDz!N18+Suniq!N18+Lori!N18+Gex!N18+Kotaiq!N18+Armavir!N18+Ararat!N18+Aragacotn!N18+Tavush!N18) -> 148000
A19: 10. ²é³Ýó ³ÛÉ µÝ³Ï³ñ³ÝÇ Ñ³ïÏ³óÙ³Ý íï³ñ»Éáõ í»ñ³µ»ñÛ³É Ñ³Ûó»ñ | C19: =SUM(Shirak!C19+VDz!C19+Suniq!C19+Lori!C19+Gex!C19+Kotaiq!C19+Armavir!C19+Ararat!C19+Aragacotn!C19+Tavush!C19) -> 34 | D19: =SUM(Shirak!D19+VDz!D19+Suniq!D19+Lori!D19+Gex!D19+Kotaiq!D19+Armavir!D19+Ararat!D19+Aragacotn!D19+Tavush!D19) -> 106 | E19: =SUM(Shirak!E19+VDz!E19+Suniq!E19+Lori!E19+Gex!E19+Kotaiq!E19+Armavir!E19+Ararat!E19+Aragacotn!E19+Tavush!E19) -> 81 | F19: =SUM(Shirak!F19+VDz!F19+Suniq!F19+Lori!F19+Gex!F19+Kotaiq!F19+Armavir!F19+Ararat!F19+Aragacotn!F19+Tavush!F19) -> 70 | G19: =SUM(Shirak!G19+VDz!G19+Suniq!G19+Lori!G19+Gex!G19+Kotaiq!G19+Armavir!G19+Ararat!G19+Aragacotn!G19+Tavush!G19) -> 15 | H19: =SUM(Shirak!H19+VDz!H19+Suniq!H19+Lori!H19+Gex!H19+Kotaiq!H19+Armavir!H19+Ararat!H19+Aragacotn!H19+Tavush!H19) -> 31 | I19: =SUM(Shirak!I19+VDz!I19+Suniq!I19+Lori!I19+Gex!I19+Kotaiq!I19+Armavir!I19+Ararat!I19+Aragacotn!I19+Tavush!I19) -> 1 | J19: =SUM(Shirak!J19+VDz!J19+Suniq!J19+Lori!J19+Gex!J19+Kotaiq!J19+Armavir!J19+Ararat!J19+Aragacotn!J19+Tavush!J19) -> 128 | ... N19: =SUM(Shirak!N19+VDz!N19+Suniq!N19+Lori!N19+Gex!N19+Kotaiq!N19+Armavir!N19+Ararat!N19+Aragacotn!N19+Tavush!N19) -> 405892
A20: 11. ²ÛÉ µÝ³Ï³ñ³Ý³ÛÇÝ Ñ³Ûó»ñ | C20: =SUM(Shirak!C20+VDz!C20+Suniq!C20+Lori!C20+Gex!C20+Kotaiq!C20+Armavir!C20+Ararat!C20+Aragacotn!C20+Tavush!C20) -> 51 | D20: =SUM(Shirak!D20+VDz!D20+Suniq!D20+Lori!D20+Gex!D20+Kotaiq!D20+Armavir!D20+Ararat!D20+Aragacotn!D20+Tavush!D20) -> 272 | E20: =SUM(Shirak!E20+VDz!E20+Suniq!E20+Lori!E20+Gex!E20+Kotaiq!E20+Armavir!E20+Ararat!E20+Aragacotn!E20+Tavush!E20) -> 156 | F20: =SUM(Shirak!F20+VDz!F20+Suniq!F20+Lori!F20+Gex!F20+Kotaiq!F20+Armavir!F20+Ararat!F20+Aragacotn!F20+Tavush!F20) -> 137 | G20: =SUM(Shirak!G20+VDz!G20+Suniq!G20+Lori!G20+Gex!G20+Kotaiq!G20+Armavir!G20+Ararat!G20+Aragacotn!G20+Tavush!G20) -> 50 | H20: =SUM(Shirak!H20+VDz!H20+Suniq!H20+Lori!H20+Gex!H20+Kotaiq!H20+Armavir!H20+Ararat!H20+Aragacotn!H20+Tavush!H20) -> 81 | I20: =SUM(Shirak!I20+VDz!I20+Suniq!I20+Lori!I20+Gex!I20+Kotaiq!I20+Armavir!I20+Ararat!I20+Aragacotn!I20+Tavush!I20) -> 2 | J20: =SUM(Shirak!J20+VDz!J20+Suniq!J20+Lori!J20+Gex!J20+Kotaiq!J20+Armavir!J20+Ararat!J20+Aragacotn!J20+Tavush!J20) -> 289 | ... N20: =SUM(Shirak!N20+VDz!N20+Suniq!N20+Lori!N20+Gex!N20+Kotaiq!N20+Armavir!N20+Ararat!N20+Aragacotn!N20+Tavush!N20) -> 981340
A21: 12. ´Ý³ÏáõÃÛ³Ý Çñ³íáõÝùÁ ×³Ý³ã»Éáõ í»ñ³µ»ñÛ³É Ñ³Ûó»ñ | C21: =SUM(Shirak!C21+VDz!C21+Suniq!C21+Lori!C21+Gex!C21+Kotaiq!C21+Armavir!C21+Ararat!C21+Aragacotn!C21+Tavush!C21) -> 12 | D21: =SUM(Shirak!D21+VDz!D21+Suniq!D21+Lori!D21+Gex!D21+Kotaiq!D21+Armavir!D21+Ararat!D21+Aragacotn!D21+Tavush!D21) -> 25 | E21: =SUM(Shirak!E21+VDz!E21+Suniq!E21+Lori!E21+Gex!E21+Kotaiq!E21+Armavir!E21+Ararat!E21+Aragacotn!E21+Tavush!E21) -> 24 | F21: =SUM(Shirak!F21+VDz!F21+Suniq!F21+Lori!F21+Gex!F21+Kotaiq!F21+Armavir!F21+Ararat!F21+Aragacotn!F21+Tavush!F21) -> 15 | G21: =SUM(Shirak!G21+VDz!G21+Suniq!G21+Lori!G21+Gex!G21+Kotaiq!G21+Armavir!G21+Ararat!G21+Aragacotn!G21+Tavush!G21) -> 8 | H21: =SUM(Shirak!H21+VDz!H21+Suniq!H21+Lori!H21+Gex!H21+Kotaiq!H21+Armavir!H21+Ararat!H21+Aragacotn!H21+Tavush!H21) -> 2 | I21: =SUM(Shirak!I21+VDz!I21+Suniq!I21+Lori!I21+Gex!I21+Kotaiq!I21+Armavir!I21+Ararat!I21+Aragacotn!I21+Tavush!I21) -> 0 | J21: =SUM(Shirak!J21+VDz!J21+Suniq!J21+Lori!J21+Gex!J21+Kotaiq!J21+Armavir!J21+Ararat!J21+Aragacotn!J21+Tavush!J21) -> 34 | ... N21: =SUM(Shirak!N21+VDz!N21+Suniq!N21+Lori!N21+Gex!N21+Kotaiq!N21+Armavir!N21+Ararat!N21+Aragacotn!N21+Tavush!N21) -> 105500
A22: 13. ´Ý³ÏáõÃÛ³Ý Çñ³íáõÝùÁ Ïáñóñ³Í ×³Ý³ã»Éáõ í»ñ³µ»ñÛ³É Ñ³Ûó»ñ | C22: =SUM(Shirak!C22+VDz!C22+Suniq!C22+Lori!C22+Gex!C22+Kotaiq!C22+Armavir!C22+Ararat!C22+Aragacotn!C22+Tavush!C22) -> 11 | D22: =SUM(Shirak!D22+VDz!D22+Suniq!D22+Lori!D22+Gex!D22+Kotaiq!D22+Armavir!D22+Ararat!D22+Aragacotn!D22+Tavush!D22) -> 67 | E22: =SUM(Shirak!E22+VDz!E22+Suniq!E22+Lori!E22+Gex!E22+Kotaiq!E22+Armavir!E22+Ararat!E22+Aragacotn!E22+Tavush!E22) -> 44 | F22: =SUM(Shirak!F22+VDz!F22+Suniq!F22+Lori!F22+Gex!F22+Kotaiq!F22+Armavir!F22+Ararat!F22+Aragacotn!F22+Tavush!F22) -> 43 | G22: =SUM(Shirak!G22+VDz!G22+Suniq!G22+Lori!G22+Gex!G22+Kotaiq!G22+Armavir!G22+Ararat!G22+Aragacotn!G22+Tavush!G22) -> 5 | H22: =SUM(Shirak!H22+VDz!H22+Suniq!H22+Lori!H22+Gex!H22+Kotaiq!H22+Armavir!H22+Ararat!H22+Aragacotn!H22+Tavush!H22) -> 21 | I22: =SUM(Shirak!I22+VDz!I22+Suniq!I22+Lori!I22+Gex!I22+Kotaiq!I22+Armavir!I22+Ararat!I22+Aragacotn!I22+Tavush!I22) -> 1 | J22: =SUM(Shirak!J22+VDz!J22+Suniq!J22+Lori!J22+Gex!J22+Kotaiq!J22+Armavir!J22+Ararat!J22+Aragacotn!J22+Tavush!J22) -> 71 | ... N22: =SUM(Shirak!N22+VDz!N22+Suniq!N22+Lori!N22+Gex!N22+Kotaiq!N22+Armavir!N22+Ararat!N22+Aragacotn!N22+Tavush!N22) -> 192000
A23: 14. ø³Õ³ù³óÇÝ»ñÇ ë»÷³Ï³ÝáõÃÛ³Ý Çñ³íáõÝùÇ í»ñ³µ»ñÛ³É Ñ³Ûó»ñ | C23: =SUM(Shirak!C23+VDz!C23+Suniq!C23+Lori!C23+Gex!C23+Kotaiq!C23+Armavir!C23+Ararat!C23+Aragacotn!C23+Tavush!C23) -> 31 | D23: =SUM(Shirak!D23+VDz!D23+Suniq!D23+Lori!D23+Gex!D23+Kotaiq!D23+Armavir!D23+Ararat!D23+Aragacotn!D23+Tavush!D23) -> 370 | E23: =SUM(Shirak!E23+VDz!E23+Suniq!E23+Lori!E23+Gex!E23+Kotaiq!E23+Armavir!E23+Ararat!E23+Aragacotn!E23+Tavush!E23) -> 269 | F23: =SUM(Shirak!F23+VDz!F23+Suniq!F23+Lori!F23+Gex!F23+Kotaiq!F23+Armavir!F23+Ararat!F23+Aragacotn!F23+Tavush!F23) -> 235 | G23: =SUM(Shirak!G23+VDz!G23+Suniq!G23+Lori!G23+Gex!G23+Kotaiq!G23+Armavir!G23+Ararat!G23+Aragacotn!G23+Tavush!G23) -> 39 | H23: =SUM(Shirak!H23+VDz!H23+Suniq!H23+Lori!H23+Gex!H23+Kotaiq!H23+Armavir!H23+Ararat!H23+Aragacotn!H23+Tavush!H23) -> 55 | I23: =SUM(Shirak!I23+VDz!I23+Suniq!I23+Lori!I23+Gex!I23+Kotaiq!I23+Armavir!I23+Ararat!I23+Aragacotn!I23+Tavush!I23) -> 7 | J23: =SUM(Shirak!J23+VDz!J23+Suniq!J23+Lori!J23+Gex!J23+Kotaiq!J23+Armavir!J23+Ararat!J23+Aragacotn!J23+Tavush!J23) -> 370 | ... N23: =SUM(Shirak!N23+VDz!N23+Suniq!N23+Lori!N23+Gex!N23+Kotaiq!N23+Armavir!N23+Ararat!N23+Aragacotn!N23+Tavush!N23) -> 1822085
A24: 15. ê»÷³Ï³ÝáõÃÛ³Ý Çñ³íáõÝùÇ í»ñ³µ»ñÛ³É Ñ³Ûó»ñ | C24: =SUM(Shirak!C24+VDz!C24+Suniq!C24+Lori!C24+Gex!C24+Kotaiq!C24+Armavir!C24+Ararat!C24+Aragacotn!C24+Tavush!C24) -> 102 | D24: =SUM(Shirak!D24+VDz!D24+Suniq!D24+Lori!D24+Gex!D24+Kotaiq!D24+Armavir!D24+Ararat!D24+Aragacotn!D24+Tavush!D24) -> 920 | E24: =SUM(Shirak!E24+VDz!E24+Suniq!E24+Lori!E24+Gex!E24+Kotaiq!E24+Armavir!E24+Ararat!E24+Aragacotn!E24+Tavush!E24) -> 646 | F24: =SUM(Shirak!F24+VDz!F24+Suniq!F24+Lori!F24+Gex!F24+Kotaiq!F24+Armavir!F24+Ararat!F24+Aragacotn!F24+Tavush!F24) -> 452 | G24: =SUM(Shirak!G24+VDz!G24+Suniq!G24+Lori!G24+Gex!G24+Kotaiq!G24+Armavir!G24+Ararat!G24+Aragacotn!G24+Tavush!G24) -> 98 | H24: =SUM(Shirak!H24+VDz!H24+Suniq!H24+Lori!H24+Gex!H24+Kotaiq!H24+Armavir!H24+Ararat!H24+Aragacotn!H24+Tavush!H24) -> 139 | I24: =SUM(Shirak!I24+VDz!I24+Suniq!I24+Lori!I24+Gex!I24+Kotaiq!I24+Armavir!I24+Ararat!I24+Aragacotn!I24+Tavush!I24) -> 20 | J24: =SUM(Shirak!J24+VDz!J24+Suniq!J24+Lori!J24+Gex!J24+Kotaiq!J24+Armavir!J24+Ararat!J24+Aragacotn!J24+Tavush!J24) -> 903 | ... N24: =SUM(Shirak!N24+VDz!N24+Suniq!N24+Lori!N24+Gex!N24+Kotaiq!N24+Armavir!N24+Ararat!N24+Aragacotn!N24+Tavush!N24) -> 3117837
A25: 16.Ê»Õ³Ý¹³ÙáõÃ.Ï³Ù Ù³Ñí³Ý Ñ³Ù³ñ íÝ³ëÁ Ñ³ïáõó»Éáõ Ù³ëÇÝ Ýáñ Ñ³ñáõóí³Í Ñ³Ûó»ñ | C25: =SUM(Shirak!C25+VDz!C25+Suniq!C25+Lori!C25+Gex!C25+Kotaiq!C25+Armavir!C25+Ararat!C25+Aragacotn!C25+Tavush!C25) -> 2 | D25: =SUM(Shirak!D25+VDz!D25+Suniq!D25+Lori!D25+Gex!D25+Kotaiq!D25+Armavir!D25+Ararat!D25+Aragacotn!D25+Tavush!D25) -> 9 | E25: =SUM(Shirak!E25+VDz!E25+Suniq!E25+Lori!E25+Gex!E25+Kotaiq!E25+Armavir!E25+Ararat!E25+Aragacotn!E25+Tavush!E25) -> 6 | F25: =SUM(Shirak!F25+VDz!F25+Suniq!F25+Lori!F25+Gex!F25+Kotaiq!F25+Armavir!F25+Ararat!F25+Aragacotn!F25+Tavush!F25) -> 4 | G25: =SUM(Shirak!G25+VDz!G25+Suniq!G25+Lori!G25+Gex!G25+Kotaiq!G25+Armavir!G25+Ararat!G25+Aragacotn!G25+Tavush!G25) -> 0 | H25: =SUM(Shirak!H25+VDz!H25+Suniq!H25+Lori!H25+Gex!H25+Kotaiq!H25+Armavir!H25+Ararat!H25+Aragacotn!H25+Tavush!H25) -> 2 | I25: =SUM(Shirak!I25+VDz!I25+Suniq!I25+Lori!I25+Gex!I25+Kotaiq!I25+Armavir!I25+Ararat!I25+Aragacotn!I25+Tavush!I25) -> 0 | J25: =SUM(Shirak!J25+VDz!J25+Suniq!J25+Lori!J25+Gex!J25+Kotaiq!J25+Armavir!J25+Ararat!J25+Aragacotn!J25+Tavush!J25) -> 8 | ... N25: =SUM(Shirak!N25+VDz!N25+Suniq!N25+Lori!N25+Gex!N25+Kotaiq!N25+Armavir!N25+Ararat!N25+Aragacotn!N25+Tavush!N25) -> 0
A26: 17. ¶áõÛùÁ í»ñ·ñÇó Ñ³Ý»Éáõ í»ñ³µ»ñÛ³É Ñ³Ûó»ñ | C26: =SUM(Shirak!C26+VDz!C26+Suniq!C26+Lori!C26+Gex!C26+Kotaiq!C26+Armavir!C26+Ararat!C26+Aragacotn!C26+Tavush!C26) -> 7 | D26: =SUM(Shirak!D26+VDz!D26+Suniq!D26+Lori!D26+Gex!D26+Kotaiq!D26+Armavir!D26+Ararat!D26+Aragacotn!D26+Tavush!D26) -> 69 | E26: =SUM(Shirak!E26+VDz!E26+Suniq!E26+Lori!E26+Gex!E26+Kotaiq!E26+Armavir!E26+Ararat!E26+Aragacotn!E26+Tavush!E26) -> 52 | F26: =SUM(Shirak!F26+VDz!F26+Suniq!F26+Lori!F26+Gex!F26+Kotaiq!F26+Armavir!F26+Ararat!F26+Aragacotn!F26+Tavush!F26) -> 45 | G26: =SUM(Shirak!G26+VDz!G26+Suniq!G26+Lori!G26+Gex!G26+Kotaiq!G26+Armavir!G26+Ararat!G26+Aragacotn!G26+Tavush!G26) -> 6 | H26: =SUM(Shirak!H26+VDz!H26+Suniq!H26+Lori!H26+Gex!H26+Kotaiq!H26+Armavir!H26+Ararat!H26+Aragacotn!H26+Tavush!H26) -> 14 | I26: =SUM(Shirak!I26+VDz!I26+Suniq!I26+Lori!I26+Gex!I26+Kotaiq!I26+Armavir!I26+Ararat!I26+Aragacotn!I26+Tavush!I26) -> 1 | J26: =SUM(Shirak!J26+VDz!J26+Suniq!J26+Lori!J26+Gex!J26+Kotaiq!J26+Armavir!J26+Ararat!J26+Aragacotn!J26+Tavush!J26) -> 73 | ... N26: =SUM(Shirak!N26+VDz!N26+Suniq!N26+Lori!N26+Gex!N26+Kotaiq!N26+Armavir!N26+Ararat!N26+Aragacotn!N26+Tavush!N26) -> 212000
A27: 18.Ð³Ûó»ñ Ñ»ÕÇÝ³ÏÇ Çñ³íáõÝùÇ í»ñ³µ»ñÛ³É í»×»ñáí | C27: =SUM(Shirak!C27+VDz!C27+Suniq!C27+Lori!C27+Gex!C27+Kotaiq!C27+Armavir!C27+Ararat!C27+Aragacotn!C27+Tavush!C27) -> 0 | D27: =SUM(Shirak!D27+VDz!D27+Suniq!D27+Lori!D27+Gex!D27+Kotaiq!D27+Armavir!D27+Ararat!D27+Aragacotn!D27+Tavush!D27) -> 0 | E27: =SUM(Shirak!E27+VDz!E27+Suniq!E27+Lori!E27+Gex!E27+Kotaiq!E27+Armavir!E27+Ararat!E27+Aragacotn!E27+Tavush!E27) -> 0 | F27: =SUM(Shirak!F27+VDz!F27+Suniq!F27+Lori!F27+Gex!F27+Kotaiq!F27+Armavir!F27+Ararat!F27+Aragacotn!F27+Tavush!F27) -> 0 | G27: =SUM(Shirak!G27+VDz!G27+Suniq!G27+Lori!G27+Gex!G27+Kotaiq!G27+Armavir!G27+Ararat!G27+Aragacotn!G27+Tavush!G27) -> 0 | H27: =SUM(Shirak!H27+VDz!H27+Suniq!H27+Lori!H27+Gex!H27+Kotaiq!H27+Armavir!H27+Ararat!H27+Aragacotn!H27+Tavush!H27) -> 0 | I27: =SUM(Shirak!I27+VDz!I27+Suniq!I27+Lori!I27+Gex!I27+Kotaiq!I27+Armavir!I27+Ararat!I27+Aragacotn!I27+Tavush!I27) -> 0 | J27: =SUM(Shirak!J27+VDz!J27+Suniq!J27+Lori!J27+Gex!J27+Kotaiq!J27+Armavir!J27+Ararat!J27+Aragacotn!J27+Tavush!J27) -> 0 | ... N27: =SUM(Shirak!N27+VDz!N27+Suniq!N27+Lori!N27+Gex!N27+Kotaiq!N27+Armavir!N27+Ararat!N27+Aragacotn!N27+Tavush!N27) -> 0
A28: 19. Ú³Ûó»ñ ·Ûáõï³ñ³ñáõÃÛ³Ý Çñ³íáõÝùÇ í»ñ³µ»ñÛ³É í»×»ñáí | C28: =SUM(Shirak!C28+VDz!C28+Suniq!C28+Lori!C28+Gex!C28+Kotaiq!C28+Armavir!C28+Ararat!C28+Aragacotn!C28+Tavush!C28) -> 0 | D28: =SUM(Shirak!D28+VDz!D28+Suniq!D28+Lori!D28+Gex!D28+Kotaiq!D28+Armavir!D28+Ararat!D28+Aragacotn!D28+Tavush!D28) -> 0 | E28: =SUM(Shirak!E28+VDz!E28+Suniq!E28+Lori!E28+Gex!E28+Kotaiq!E28+Armavir!E28+Ararat!E28+Aragacotn!E28+Tavush!E28) -> 0 | F28: =SUM(Shirak!F28+VDz!F28+Suniq!F28+Lori!F28+Gex!F28+Kotaiq!F28+Armavir!F28+Ararat!F28+Aragacotn!F28+Tavush!F28) -> 0 | G28: =SUM(Shirak!G28+VDz!G28+Suniq!G28+Lori!G28+Gex!G28+Kotaiq!G28+Armavir!G28+Ararat!G28+Aragacotn!G28+Tavush!G28) -> 0 | H28: =SUM(Shirak!H28+VDz!H28+Suniq!H28+Lori!H28+Gex!H28+Kotaiq!H28+Armavir!H28+Ararat!H28+Aragacotn!H28+Tavush!H28) -> 0 | I28: =SUM(Shirak!I28+VDz!I28+Suniq!I28+Lori!I28+Gex!I28+Kotaiq!I28+Armavir!I28+Ararat!I28+Aragacotn!I28+Tavush!I28) -> 0 | J28: =SUM(Shirak!J28+VDz!J28+Suniq!J28+Lori!J28+Gex!J28+Kotaiq!J28+Armavir!J28+Ararat!J28+Aragacotn!J28+Tavush!J28) -> 0 | ... N28: =SUM(Shirak!N28+VDz!N28+Suniq!N28+Lori!N28+Gex!N28+Kotaiq!N28+Armavir!N28+Ararat!N28+Aragacotn!N28+Tavush!N28) -> 0
A29: 20. ²Ýï³éÝ»ñÇ Ë³ËïáõÙÝ»ñÇ Ñ³Ù³ñ ·áõÛù³ÛÇÝ å³ï³ëË³Ý³ïíáõÃÛ³Ý í»ñ³µ»ñÛ³É Ñ³Ûó»ñ | C29: =SUM(Shirak!C29+VDz!C29+Suniq!C29+Lori!C29+Gex!C29+Kotaiq!C29+Armavir!C29+Ararat!C29+Aragacotn!C29+Tavush!C29) -> 5 | D29: =SUM(Shirak!D29+VDz!D29+Suniq!D29+Lori!D29+Gex!D29+Kotaiq!D29+Armavir!D29+Ararat!D29+Aragacotn!D29+Tavush!D29) -> 33 | E29: =SUM(Shirak!E29+VDz!E29+Suniq!E29+Lori!E29+Gex!E29+Kotaiq!E29+Armavir!E29+Ararat!E29+Aragacotn!E29+Tavush!E29) -> 32 | F29: =SUM(Shirak!F29+VDz!F29+Suniq!F29+Lori!F29+Gex!F29+Kotaiq!F29+Armavir!F29+Ararat!F29+Aragacotn!F29+Tavush!F29) -> 32 | G29: =SUM(Shirak!G29+VDz!G29+Suniq!G29+Lori!G29+Gex!G29+Kotaiq!G29+Armavir!G29+Ararat!G29+Aragacotn!G29+Tavush!G29) -> 2 | H29: =SUM(Shirak!H29+VDz!H29+Suniq!H29+Lori!H29+Gex!H29+Kotaiq!H29+Armavir!H29+Ararat!H29+Aragacotn!H29+Tavush!H29) -> 1 | I29: =SUM(Shirak!I29+VDz!I29+Suniq!I29+Lori!I29+Gex!I29+Kotaiq!I29+Armavir!I29+Ararat!I29+Aragacotn!I29+Tavush!I29) -> 0 | J29: =SUM(Shirak!J29+VDz!J29+Suniq!J29+Lori!J29+Gex!J29+Kotaiq!J29+Armavir!J29+Ararat!J29+Aragacotn!J29+Tavush!J29) -> 35 | ... N29: =SUM(Shirak!N29+VDz!N29+Suniq!N29+Lori!N29+Gex!N29+Kotaiq!N29+Armavir!N29+Ararat!N29+Aragacotn!N29+Tavush!N29) -> 86122
A30: 21. ²åûñÇÝÇ áñëÇ ¨ ÓÏ³Ý å³ß³ñÝ»ñÇ áãÝã³óÙ³Ý Ñ»ï¨³Ýùáí ³é³ç³½áó ÝÛáõÃ³Ï³Ý å³ï³ëË³Ý³ïíáõÃÛ³Ý í»ñ³µ»ñÛ³É Ñ³Ûó»ñ | C30: =SUM(Shirak!C30+VDz!C30+Suniq!C30+Lori!C30+Gex!C30+Kotaiq!C30+Armavir!C30+Ararat!C30+Aragacotn!C30+Tavush!C30) -> 0 | D30: =SUM(Shirak!D30+VDz!D30+Suniq!D30+Lori!D30+Gex!D30+Kotaiq!D30+Armavir!D30+Ararat!D30+Aragacotn!D30+Tavush!D30) -> 0 | E30: =SUM(Shirak!E30+VDz!E30+Suniq!E30+Lori!E30+Gex!E30+Kotaiq!E30+Armavir!E30+Ararat!E30+Aragacotn!E30+Tavush!E30) -> 0 | F30: =SUM(Shirak!F30+VDz!F30+Suniq!F30+Lori!F30+Gex!F30+Kotaiq!F30+Armavir!F30+Ararat!F30+Aragacotn!F30+Tavush!F30) -> 0 | G30: =SUM(Shirak!G30+VDz!G30+Suniq!G30+Lori!G30+Gex!G30+Kotaiq!G30+Armavir!G30+Ararat!G30+Aragacotn!G30+Tavush!G30) -> 0 | H30: =SUM(Shirak!H30+VDz!H30+Suniq!H30+Lori!H30+Gex!H30+Kotaiq!H30+Armavir!H30+Ararat!H30+Aragacotn!H30+Tavush!H30) -> 0 | I30: =SUM(Shirak!I30+VDz!I30+Suniq!I30+Lori!I30+Gex!I30+Kotaiq!I30+Armavir!I30+Ararat!I30+Aragacotn!I30+Tavush!I30) -> 0 | J30: =SUM(Shirak!J30+VDz!J30+Suniq!J30+Lori!J30+Gex!J30+Kotaiq!J30+Armavir!J30+Ararat!J30+Aragacotn!J30+Tavush!J30) -> 0 | ... N30: =SUM(Shirak!N30+VDz!N30+Suniq!N30+Lori!N30+Gex!N30+Kotaiq!N30+Armavir!N30+Ararat!N30+Aragacotn!N30+Tavush!N30) -> 0
... A35: 26. ÀÝ¹³Ù»ÝÁ Ñ³Ûó³ÛÇÝ í³ñáõÛÃÇ ·áñÍ»ñ (1-25 ïáÕ»ñ) | C35: =SUM(Shirak!C35+VDz!C35+Suniq!C35+Lori!C35+Gex!C35+Kotaiq!C35+Armavir!C35+Ararat!C35+Aragacotn!C35+Tavush!C35) -> 1117 | D35: =SUM(Shirak!D35+VDz!D35+Suniq!D35+Lori!D35+Gex!D35+Kotaiq!D35+Armavir!D35+Ararat!D35+Aragacotn!D35+Tavush!D35) -> 13849 | E35: =SUM(Shirak!E35+VDz!E35+Suniq!E35+Lori!E35+Gex!E35+Kotaiq!E35+Armavir!E35+Ararat!E35+Aragacotn!E35+Tavush!E35) -> 10220 | F35: =SUM(Shirak!F35+VDz!F35+Suniq!F35+Lori!F35+Gex!F35+Kotaiq!F35+Armavir!F35+Ararat!F35+Aragacotn!F35+Tavush!F35) -> 7856 | G35: =SUM(Shirak!G35+VDz!G35+Suniq!G35+Lori!G35+Gex!G35+Kotaiq!G35+Armavir!G35+Ararat!G35+Aragacotn!G35+Tavush!G35) -> 1323 | H35: =SUM(Shirak!H35+VDz!H35+Suniq!H35+Lori!H35+Gex!H35+Kotaiq!H35+Armavir!H35+Ararat!H35+Aragacotn!H35+Tavush!H35) -> 1585 | I35: =SUM(Shirak!I35+VDz!I35+Suniq!I35+Lori!I35+Gex!I35+Kotaiq!I35+Armavir!I35+Ararat!I35+Aragacotn!I35+Tavush!I35) -> 180 | J35: =SUM(Shirak!J35+VDz!J35+Suniq!J35+Lori!J35+Gex!J35+Kotaiq!J35+Armavir!J35+Ararat!J35+Aragacotn!J35+Tavush!J35) -> 13308 | ... N35: =SUM(Shirak!N35+VDz!N35+Suniq!N35+Lori!N35+Gex!N35+Kotaiq!N35+Armavir!N35+Ararat!N35+Aragacotn!N35+Tavush!N35) -> 51811816
A36: ì³ñã³-Çñ³í³Ï³Ý Ñ³ñ³µ»ñáõÃÛáõÝÝ»ñÇó | B36: 27.Ð³ñÏ»ñÇ ³å³éùÝ»ñÇ ·³ÝÓÙ³Ý í»ñ³µ»ñÛ³É Ñ³Ûó»ñ | C36: =SUM(Shirak!C36+VDz!C36+Suniq!C36+Lori!C36+Gex!C36+Kotaiq!C36+Armavir!C36+Ararat!C36+Aragacotn!C36+Tavush!C36) -> 10 | D36: =SUM(Shirak!D36+VDz!D36+Suniq!D36+Lori!D36+Gex!D36+Kotaiq!D36+Armavir!D36+Ararat!D36+Aragacotn!D36+Tavush!D36) -> 241 | E36: =SUM(Shirak!E36+VDz!E36+Suniq!E36+Lori!E36+Gex!E36+Kotaiq!E36+Armavir!E36+Ararat!E36+Aragacotn!E36+Tavush!E36) -> 160 | F36: =SUM(Shirak!F36+VDz!F36+Suniq!F36+Lori!F36+Gex!F36+Kotaiq!F36+Armavir!F36+Ararat!F36+Aragacotn!F36+Tavush!F36) -> 126 | G36: =SUM(Shirak!G36+VDz!G36+Suniq!G36+Lori!G36+Gex!G36+Kotaiq!G36+Armavir!G36+Ararat!G36+Aragacotn!G36+Tavush!G36) -> 25 | H36: =SUM(Shirak!H36+VDz!H36+Suniq!H36+Lori!H36+Gex!H36+Kotaiq!H36+Armavir!H36+Ararat!H36+Aragacotn!H36+Tavush!H36) -> 16 | I36: =SUM(Shirak!I36+VDz!I36+Suniq!I36+Lori!I36+Gex!I36+Kotaiq!I36+Armavir!I36+Ararat!I36+Aragacotn!I36+Tavush!I36) -> 0 | J36: =SUM(Shirak!J36+VDz!J36+Suniq!J36+Lori!J36+Gex!J36+Kotaiq!J36+Armavir!J36+Ararat!J36+Aragacotn!J36+Tavush!J36) -> 201 | ... N36: =SUM(Shirak!N36+VDz!N36+Suniq!N36+Lori!N36+Gex!N36+Kotaiq!N36+Armavir!N36+Ararat!N36+Aragacotn!N36+Tavush!N36) -> 696848
B37: 28.ì³ñã³-Çñ³í³Ï³Ý Ñ³ñ³µ»ñáõÃÛáõÝÝ»ñÇó ³é³ç³ó³Í Ñ³Ûó»ñ | C37: =SUM(Shirak!C37+VDz!C37+Suniq!C37+Lori!C37+Gex!C37+Kotaiq!C37+Armavir!C37+Ararat!C37+Aragacotn!C37+Tavush!C37) -> 50 | D37: =SUM(Shirak!D37+VDz!D37+Suniq!D37+Lori!D37+Gex!D37+Kotaiq!D37+Armavir!D37+Ararat!D37+Aragacotn!D37+Tavush!D37) -> 741 | E37: =SUM(Shirak!E37+VDz!E37+Suniq!E37+Lori!E37+Gex!E37+Kotaiq!E37+Armavir!E37+Ararat!E37+Aragacotn!E37+Tavush!E37) -> 565 | F37: =SUM(Shirak!F37+VDz!F37+Suniq!F37+Lori!F37+Gex!F37+Kotaiq!F37+Armavir!F37+Ararat!F37+Aragacotn!F37+Tavush!F37) -> 497 | G37: =SUM(Shirak!G37+VDz!G37+Suniq!G37+Lori!G37+Gex!G37+Kotaiq!G37+Armavir!G37+Ararat!G37+Aragacotn!G37+Tavush!G37) -> 112 | H37: =SUM(Shirak!H37+VDz!H37+Suniq!H37+Lori!H37+Gex!H37+Kotaiq!H37+Armavir!H37+Ararat!H37+Aragacotn!H37+Tavush!H37) -> 50 | I37: =SUM(Shirak!I37+VDz!I37+Suniq!I37+Lori!I37+Gex!I37+Kotaiq!I37+Armavir!I37+Ararat!I37+Aragacotn!I37+Tavush!I37) -> 34 | J37: =SUM(Shirak!J37+VDz!J37+Suniq!J37+Lori!J37+Gex!J37+Kotaiq!J37+Armavir!J37+Ararat!J37+Aragacotn!J37+Tavush!J37) -> 761 | ... N37: =SUM(Shirak!N37+VDz!N37+Suniq!N37+Lori!N37+Gex!N37+Kotaiq!N37+Armavir!N37+Ararat!N37+Aragacotn!N37+Tavush!N37) -> 2427143
B38: 29.ä»ï³Ï³Ý Ï³é³í³ñÙ³Ý Ù³ñÙÇÝÝ»ñÇ ¨ å³ßïáÝ³ï³ñ ³ÝÓ³Ýó ³åûñÇÝÇ ·áñÍáÕáõÃÛáõÝÝ»ñÇ í»ñ³µ»ñÛ³É Ñ³Ûó»ñ | C38: =SUM(Shirak!C38+VDz!C38+Suniq!C38+Lori!C38+Gex!C38+Kotaiq!C38+Armavir!C38+Ararat!C38+Aragacotn!C38+Tavush!C38) -> 10 | D38: =SUM(Shirak!D38+VDz!D38+Suniq!D38+Lori!D38+Gex!D38+Kotaiq!D38+Armavir!D38+Ararat!D38+Aragacotn!D38+Tavush!D38) -> 283 | E38: =SUM(Shirak!E38+VDz!E38+Suniq!E38+Lori!E38+Gex!E38+Kotaiq!E38+Armavir!E38+Ararat!E38+Aragacotn!E38+Tavush!E38) -> 191 | F38: =SUM(Shirak!F38+VDz!F38+Suniq!F38+Lori!F38+Gex!F38+Kotaiq!F38+Armavir!F38+Ararat!F38+Aragacotn!F38+Tavush!F38) -> 147 | G38: =SUM(Shirak!G38+VDz!G38+Suniq!G38+Lori!G38+Gex!G38+Kotaiq!G38+Armavir!G38+Ararat!G38+Aragacotn!G38+Tavush!G38) -> 33 | H38: =SUM(Shirak!H38+VDz!H38+Suniq!H38+Lori!H38+Gex!H38+Kotaiq!H38+Armavir!H38+Ararat!H38+Aragacotn!H38+Tavush!H38) -> 39 | I38: =SUM(Shirak!I38+VDz!I38+Suniq!I38+Lori!I38+Gex!I38+Kotaiq!I38+Armavir!I38+Ararat!I38+Aragacotn!I38+Tavush!I38) -> 17 | J38: =SUM(Shirak!J38+VDz!J38+Suniq!J38+Lori!J38+Gex!J38+Kotaiq!J38+Armavir!J38+Ararat!J38+Aragacotn!J38+Tavush!J38) -> 280 | ... N38: =SUM(Shirak!N38+VDz!N38+Suniq!N38+Lori!N38+Gex!N38+Kotaiq!N38+Armavir!N38+Ararat!N38+Aragacotn!N38+Tavush!N38) -> 843600
B39: 30.ÀÝ¹³Ù»ÝÁ í³ñã³-Çñ³í³Ï³Ý Ñ³ñ³µ»ñáõÃÛáõÝÝ»ñÇó ³é³ç³ó³Í Ñ³Ûó»ñ (27-29 ïáÕ»ñ) | C39: =SUM(Shirak!C39+VDz!C39+Suniq!C39+Lori!C39+Gex!C39+Kotaiq!C39+Armavir!C39+Ararat!C39+Aragacotn!C39+Tavush!C39) -> 70 | D39: =SUM(Shirak!D39+VDz!D39+Suniq!D39+Lori!D39+Gex!D39+Kotaiq!D39+Armavir!D39+Ararat!D39+Aragacotn!D39+Tavush!D39) -> 1265 | E39: =SUM(Shirak!E39+VDz!E39+Suniq!E39+Lori!E39+Gex!E39+Kotaiq!E39+Armavir!E39+Ararat!E39+Aragacotn!E39+Tavush!E39) -> 916 | F39: =SUM(Shirak!F39+VDz!F39+Suniq!F39+Lori!F39+Gex!F39+Kotaiq!F39+Armavir!F39+Ararat!F39+Aragacotn!F39+Tavush!F39) -> 770 | G39: =SUM(Shirak!G39+VDz!G39+Suniq!G39+Lori!G39+Gex!G39+Kotaiq!G39+Armavir!G39+Ararat!G39+Aragacotn!G39+Tavush!G39) -> 170 | H39: =SUM(Shirak!H39+VDz!H39+Suniq!H39+Lori!H39+Gex!H39+Kotaiq!H39+Armavir!H39+Ararat!H39+Aragacotn!H39+Tavush!H39) -> 105 | I39: =SUM(Shirak!I39+VDz!I39+Suniq!I39+Lori!I39+Gex!I39+Kotaiq!I39+Armavir!I39+Ararat!I39+Aragacotn!I39+Tavush!I39) -> 51 | J39: =SUM(Shirak!J39+VDz!J39+Suniq!J39+Lori!J39+Gex!J39+Kotaiq!J39+Armavir!J39+Ararat!J39+Aragacotn!J39+Tavush!J39) -> 1242 | ... N39: =SUM(Shirak!N39+VDz!N39+Suniq!N39+Lori!N39+Gex!N39+Kotaiq!N39+Armavir!N39+Ararat!N39+Aragacotn!N39+Tavush!N39) -> 3967591
A40: Ð³ïáõÏ í³ñáõÛÃÇ ·áñÍ»ñ | B40: 31.Æñ³í³µ³Ý³Ï³Ý Ýß³Ý³ÏáõÃÛáõÝ áõÝ»óáÕ ÷³ëï»ñ Ñ³ëï³ï»Éáõ í»ñ³µ»ñÛ³É Ñ³Ûó»ñ | C40: =SUM(Shirak!C40+VDz!C40+Suniq!C40+Lori!C40+Gex!C40+Kotaiq!C40+Armavir!C40+Ararat!C40+Aragacotn!C40+Tavush!C40) -> 77 | D40: =SUM(Shirak!D40+VDz!D40+Suniq!D40+Lori!D40+Gex!D40+Kotaiq!D40+Armavir!D40+Ararat!D40+Aragacotn!D40+Tavush!D40) -> 2218 | E40: =SUM(Shirak!E40+VDz!E40+Suniq!E40+Lori!E40+Gex!E40+Kotaiq!E40+Armavir!E40+Ararat!E40+Aragacotn!E40+Tavush!E40) -> 2063 | F40: =SUM(Shirak!F40+VDz!F40+Suniq!F40+Lori!F40+Gex!F40+Kotaiq!F40+Armavir!F40+Ararat!F40+Aragacotn!F40+Tavush!F40) -> 1981 | G40: =SUM(Shirak!G40+VDz!G40+Suniq!G40+Lori!G40+Gex!G40+Kotaiq!G40+Armavir!G40+Ararat!G40+Aragacotn!G40+Tavush!G40) -> 28 | H40: =SUM(Shirak!H40+VDz!H40+Suniq!H40+Lori!H40+Gex!H40+Kotaiq!H40+Armavir!H40+Ararat!H40+Aragacotn!H40+Tavush!H40) -> 129 | I40: =SUM(Shirak!I40+VDz!I40+Suniq!I40+Lori!I40+Gex!I40+Kotaiq!I40+Armavir!I40+Ararat!I40+Aragacotn!I40+Tavush!I40) -> 9 | J40: =SUM(Shirak!J40+VDz!J40+Suniq!J40+Lori!J40+Gex!J40+Kotaiq!J40+Armavir!J40+Ararat!J40+Aragacotn!J40+Tavush!J40) -> 2229 | ... N40: =SUM(Shirak!N40+VDz!N40+Suniq!N40+Lori!N40+Gex!N40+Kotaiq!N40+Armavir!N40+Ararat!N40+Aragacotn!N40+Tavush!N40) -> 5282100
B41: 32.Üáï³ñ³Ï³Ý ·áñÍáÕáõÃÛáõÝÝ»ñÇ Ï³Ù ¹ñ³Ýó Ï³ï³ñÙ³Ý Ù»ñÅÙ³Ý Ñ³Ù³ñ µáÕáùÝ»ñáí | C41: =SUM(Shirak!C41+VDz!C41+Suniq!C41+Lori!C41+Gex!C41+Kotaiq!C41+Armavir!C41+Ararat!C41+Aragacotn!C41+Tavush!C41) -> 2 | D41: =SUM(Shirak!D41+VDz!D41+Suniq!D41+Lori!D41+Gex!D41+Kotaiq!D41+Armavir!D41+Ararat!D41+Aragacotn!D41+Tavush!D41) -> 20 | E41: =SUM(Shirak!E41+VDz!E41+Suniq!E41+Lori!E41+Gex!E41+Kotaiq!E41+Armavir!E41+Ararat!E41+Aragacotn!E41+Tavush!E41) -> 15 | F41: =SUM(Shirak!F41+VDz!F41+Suniq!F41+Lori!F41+Gex!F41+Kotaiq!F41+Armavir!F41+Ararat!F41+Aragacotn!F41+Tavush!F41) -> 13 | G41: =SUM(Shirak!G41+VDz!G41+Suniq!G41+Lori!G41+Gex!G41+Kotaiq!G41+Armavir!G41+Ararat!G41+Aragacotn!G41+Tavush!G41) -> 0 | H41: =SUM(Shirak!H41+VDz!H41+Suniq!H41+Lori!H41+Gex!H41+Kotaiq!H41+Armavir!H41+Ararat!H41+Aragacotn!H41+Tavush!H41) -> 5 | I41: =SUM(Shirak!I41+VDz!I41+Suniq!I41+Lori!I41+Gex!I41+Kotaiq!I41+Armavir!I41+Ararat!I41+Aragacotn!I41+Tavush!I41) -> 0 | J41: =SUM(Shirak!J41+VDz!J41+Suniq!J41+Lori!J41+Gex!J41+Kotaiq!J41+Armavir!J41+Ararat!J41+Aragacotn!J41+Tavush!J41) -> 20 | ... N41: =SUM(Shirak!N41+VDz!N41+Suniq!N41+Lori!N41+Gex!N41+Kotaiq!N41+Armavir!N41+Ararat!N41+Aragacotn!N41+Tavush!N41) -> 107500
B42: 33.¶áñÍ»ñ ¼²¶ê-Ç Ù³ïÛ³ÝÝ»ñáõÙ áã ×Çßï ·ñ³ÝóáõÙÝ»ñÇ í»ñ³µ»ñÛ³É ·³Ý·³ïÝ»ñÇ ³éÃÇí | C42: =SUM(Shirak!C42+VDz!C42+Suniq!C42+Lori!C42+Gex!C42+Kotaiq!C42+Armavir!C42+Ararat!C42+Aragacotn!C42+Tavush!C42) -> 2 | D42: =SUM(Shirak!D42+VDz!D42+Suniq!D42+Lori!D42+Gex!D42+Kotaiq!D42+Armavir!D42+Ararat!D42+Aragacotn!D42+Tavush!D42) -> 57 | E42: =SUM(Shirak!E42+VDz!E42+Suniq!E42+Lori!E42+Gex!E42+Kotaiq!E42+Armavir!E42+Ararat!E42+Aragacotn!E42+Tavush!E42) -> 53 | F42: =SUM(Shirak!F42+VDz!F42+Suniq!F42+Lori!F42+Gex!F42+Kotaiq!F42+Armavir!F42+Ararat!F42+Aragacotn!F42+Tavush!F42) -> 43 | G42: =SUM(Shirak!G42+VDz!G42+Suniq!G42+Lori!G42+Gex!G42+Kotaiq!G42+Armavir!G42+Ararat!G42+Aragacotn!G42+Tavush!G42) -> 0 | H42: =SUM(Shirak!H42+VDz!H42+Suniq!H42+Lori!H42+Gex!H42+Kotaiq!H42+Armavir!H42+Ararat!H42+Aragacotn!H42+Tavush!H42) -> 6 | I42: =SUM(Shirak!I42+VDz!I42+Suniq!I42+Lori!I42+Gex!I42+Kotaiq!I42+Armavir!I42+Ararat!I42+Aragacotn!I42+Tavush!I42) -> 0 | J42: =SUM(Shirak!J42+VDz!J42+Suniq!J42+Lori!J42+Gex!J42+Kotaiq!J42+Armavir!J42+Ararat!J42+Aragacotn!J42+Tavush!J42) -> 59 | ... N42: =SUM(Shirak!N42+VDz!N42+Suniq!N42+Lori!N42+Gex!N42+Kotaiq!N42+Armavir!N42+Ararat!N42+Aragacotn!N42+Tavush!N42) -> 173000
B43: 34. Ð³ïáõÏ í³ñáõÛÃÇ ³ÛÉ ·áñÍ»ñ | C43: =SUM(Shirak!C43+VDz!C43+Suniq!C43+Lori!C43+Gex!C43+Kotaiq!C43+Armavir!C43+Ararat!C43+Aragacotn!C43+Tavush!C43) -> 71 | D43: =SUM(Shirak!D43+VDz!D43+Suniq!D43+Lori!D43+Gex!D43+Kotaiq!D43+Armavir!D43+Ararat!D43+Aragacotn!D43+Tavush!D43) -> 971 | E43: =SUM(Shirak!E43+VDz!E43+Suniq!E43+Lori!E43+Gex!E43+Kotaiq!E43+Armavir!E43+Ararat!E43+Aragacotn!E43+Tavush!E43) -> 845 | F43: =SUM(Shirak!F43+VDz!F43+Suniq!F43+Lori!F43+Gex!F43+Kotaiq!F43+Armavir!F43+Ararat!F43+Aragacotn!F43+Tavush!F43) -> 823 | G43: =SUM(Shirak!G43+VDz!G43+Suniq!G43+Lori!G43+Gex!G43+Kotaiq!G43+Armavir!G43+Ararat!G43+Aragacotn!G43+Tavush!G43) -> 42 | H43: =SUM(Shirak!H43+VDz!H43+Suniq!H43+Lori!H43+Gex!H43+Kotaiq!H43+Armavir!H43+Ararat!H43+Aragacotn!H43+Tavush!H43) -> 78 | I43: =SUM(Shirak!I43+VDz!I43+Suniq!I43+Lori!I43+Gex!I43+Kotaiq!I43+Armavir!I43+Ararat!I43+Aragacotn!I43+Tavush!I43) -> 0 | J43: =SUM(Shirak!J43+VDz!J43+Suniq!J43+Lori!J43+Gex!J43+Kotaiq!J43+Armavir!J43+Ararat!J43+Aragacotn!J43+Tavush!J43) -> 965 | ... N43: =SUM(Shirak!N43+VDz!N43+Suniq!N43+Lori!N43+Gex!N43+Kotaiq!N43+Armavir!N43+Ararat!N43+Aragacotn!N43+Tavush!N43) -> 2905430
B44: 35. ÀÝ¹³Ù»ÝÁ Ñ³ïáõÏ í³ñáõÛÃÇ ·áñÍ»ñ (31-34 ïáÕ»ñ) | C44: =SUM(Shirak!C44+VDz!C44+Suniq!C44+Lori!C44+Gex!C44+Kotaiq!C44+Armavir!C44+Ararat!C44+Aragacotn!C44+Tavush!C44) -> 152 | D44: =SUM(Shirak!D44+VDz!D44+Suniq!D44+Lori!D44+Gex!D44+Kotaiq!D44+Armavir!D44+Ararat!D44+Aragacotn!D44+Tavush!D44) -> 3266 | E44: =SUM(Shirak!E44+VDz!E44+Suniq!E44+Lori!E44+Gex!E44+Kotaiq!E44+Armavir!E44+Ararat!E44+Aragacotn!E44+Tavush!E44) -> 2976 | F44: =SUM(Shirak!F44+VDz!F44+Suniq!F44+Lori!F44+Gex!F44+Kotaiq!F44+Armavir!F44+Ararat!F44+Aragacotn!F44+Tavush!F44) -> 2860 | G44: =SUM(Shirak!G44+VDz!G44+Suniq!G44+Lori!G44+Gex!G44+Kotaiq!G44+Armavir!G44+Ararat!G44+Aragacotn!G44+Tavush!G44) -> 70 | H44: =SUM(Shirak!H44+VDz!H44+Suniq!H44+Lori!H44+Gex!H44+Kotaiq!H44+Armavir!H44+Ararat!H44+Aragacotn!H44+Tavush!H44) -> 218 | I44: =SUM(Shirak!I44+VDz!I44+Suniq!I44+Lori!I44+Gex!I44+Kotaiq!I44+Armavir!I44+Ararat!I44+Aragacotn!I44+Tavush!I44) -> 9 | J44: =SUM(Shirak!J44+VDz!J44+Suniq!J44+Lori!J44+Gex!J44+Kotaiq!J44+Armavir!J44+Ararat!J44+Aragacotn!J44+Tavush!J44) -> 3273 | ... N44: =SUM(Shirak!N44+VDz!N44+Suniq!N44+Lori!N44+Gex!N44+Kotaiq!N44+Armavir!N44+Ararat!N44+Aragacotn!N44+Tavush!N44) -> 8468030
A45: 36. ÀÝ¹³Ù»ÝÁ ù³Õ³ù³óÇ³Ï³Ý ·áñÍ»ñ (26, 30, 35) | C45: =SUM(Shirak!C45+VDz!C45+Suniq!C45+Lori!C45+Gex!C45+Kotaiq!C45+Armavir!C45+Ararat!C45+Aragacotn!C45+Tavush!C45) -> 1339 | D45: =SUM(Shirak!D45+VDz!D45+Suniq!D45+Lori!D45+Gex!D45+Kotaiq!D45+Armavir!D45+Ararat!D45+Aragacotn!D45+Tavush!D45) -> 18380 | E45: =SUM(Shirak!E45+VDz!E45+Suniq!E45+Lori!E45+Gex!E45+Kotaiq!E45+Armavir!E45+Ararat!E45+Aragacotn!E45+Tavush!E45) -> 14112 | F45: =SUM(Shirak!F45+VDz!F45+Suniq!F45+Lori!F45+Gex!F45+Kotaiq!F45+Armavir!F45+Ararat!F45+Aragacotn!F45+Tavush!F45) -> 11486 | G45: =SUM(Shirak!G45+VDz!G45+Suniq!G45+Lori!G45+Gex!G45+Kotaiq!G45+Armavir!G45+Ararat!G45+Aragacotn!G45+Tavush!G45) -> 1563 | H45: =SUM(Shirak!H45+VDz!H45+Suniq!H45+Lori!H45+Gex!H45+Kotaiq!H45+Armavir!H45+Ararat!H45+Aragacotn!H45+Tavush!H45) -> 1908 | I45: =SUM(Shirak!I45+VDz!I45+Suniq!I45+Lori!I45+Gex!I45+Kotaiq!I45+Armavir!I45+Ararat!I45+Aragacotn!I45+Tavush!I45) -> 240 | J45: =SUM(Shirak!J45+VDz!J45+Suniq!J45+Lori!J45+Gex!J45+Kotaiq!J45+Armavir!J45+Ararat!J45+Aragacotn!J45+Tavush!J45) -> 17823 | ... N45: =SUM(Shirak!N45+VDz!N45+Suniq!N45+Lori!N45+Gex!N45+Kotaiq!N45+Armavir!N45+Ararat!N45+Aragacotn!N45+Tavush!N45) -> 64247437

Sheet Erevan
A1: Ð²ÞìºîìàôÂÚàôÜ
A2: ø²Ô²ø²ø²òÆ²Î²Ü ¶àðÌºðÆ øÜÜàôÂÚ²Ü ìºð²´ºðÚ²È
A3: ºñ¨³Ý ù³Õ³ùÇ ³é³çÇÝ ³ïÛ³ÝÇ ¹³ï³ñ³ÝÝ»ñÇ
A4: 2007Ã. Ñ³Ù³ñ
A6: ¦²§ µ³ÅÝÇ í»ñ³µ»ñÛ³É ëïáõ·Çã Ñ³í³ë³ñáõÙÝ»ñ 1 ¨ 2 ëÛáõÝ³ÏÝ»ñÇ Ãí»ñÇ ·áõÙ³ñÁ Ñ³í³ë³ñ ¿ 8 ¨ 10 ëÛáõÝ³ÏÝ»ñÇ Ãí»ñÇ ·áõÙ³ñÇÝ: 8 ëÛáõÝ³ÏÇ ÃÇíÁ Ñ³í³ë³ñ ¿ 3,5-7 ëÛáõÝ³ÏÝ»ñÇ Ãí»ñÇ ·áõÙ³ñÇÝ: | E6: ² ù³Õ³ù³óÇ³Ï³Ý ·áñÍ»ñÇ ß³ñÅÁ
E7: ²í³ñïí»É »Ý ·áñÍ»ñ Ñ³ßí»ïáõ Å³Ù³Ý³Ï³ßñç³ÝáõÙ
C8: ²Ý³í³ñï ·áñÍ»ñÇ ÙÝ³óáñ¹Á Ñ³ßí»ïáõ Å³Ù³Ý³Ï³ßñç³ÝÇ ëÏ½µáõÙ | D8: êï³óí»É »Ý ·áñÍ»ñ Ñ³ßí»ïáõ Å³Ù³Ý³Ï³ßñç³ÝáõÙ | E8: ÀÝ¹³Ù»ÝÁ ùÝÝí»É »Ý ·áñÍ»ñ í×éÇ Ï³Û³óáõÙáí | F8: ²Û¹ ÃíáõÙ Ñ³ÛóÇ µ³í³ñ³ñÙ³Ùµ | G8: Î³ñ×í»É »Ý ·áñÍ»ñ í×éÇ Ï³Û³óáõÙáí | H8: Ð³Ûó»ñÁ ÃáÕÝí»É »Ý ³é³Ýó ùÝÝáõÃÛ³Ý | I8: ¶áñÍ»ñÁ Ñ³ÝÓÝí»É »Ý ³ÛÉ ¹³ï³ñ³ÝÝ»ñÇ | J8: ÀÝ¹³Ù»ÝÁ ³í³ñïí»É »Ý ·áñÍ»ñ (3, 5-7 ëÛáõÝ³ÏÝ»ñ) | K8: ²Û¹ ÃíáõÙ ù³Õ, ¹³ï, ûñ-áí Ý³Ë³ï»ëí³ÍÇó ³í»ÉÇ Å³ÙÏ»ïáõÙ | L8: ²Ý³í³ñï ·áñÍ»ñÇ ÙÝ³óáñ¹Á Ñ³ßí»ïáõ Å³Ù³Ý³Ï³ßñç³ÝÇ í»ñçáõÙ | M8: ²Û¹ ÃíáõÙ ·ïÝíáõÙ »Ý 3 ³ÙëÇó ³í»ÉÇ (Ï³ë»óí³Í ·áñÍ»ñÇ Ñ»ï Ù»Ïï»Õ) | N8: ä»ïáõÃÛ³Ý û·ïÇÝ ÙáõÍí³Í å»ï³Ï³Ý ïáõñùÇ ã³÷Á (¹ñ³Ùáí)
C9: 1 | D9: 2 | E9: 3 | F9: 4 | G9: 5 | H9: 6 | I9: 7 | J9: 8 | K9: 9 | L9: 10 | M9: 11 | N9: 12
A10: 1. ²½³ïí³ÍÝ»ñÇÝ ³ßË³ï³ÝùáõÙ í»ñ³Ï³Ý·Ý»Éáõ í»ñ³µ»ñÛ³É Ñ³Ûó»ñ | C10: =SUM(Adjapniak!C10+Shengavit!C10+Kentron!C10+Arabkir!C10+Erebuni!C10+Avan!C10+Malatia!C10) -> 18 | D10: =SUM(Adjapniak!D10+Shengavit!D10+Kentron!D10+Arabkir!D10+Erebuni!D10+Avan!D10+Malatia!D10) -> 67 | E10: =SUM(Adjapniak!E10+Shengavit!E10+Kentron!E10+Arabkir!E10+Erebuni!E10+Avan!E10+Malatia!E10) -> 49 | F10: =SUM(Adjapniak!F10+Shengavit!F10+Kentron!F10+Arabkir!F10+Erebuni!F10+Avan!F10+Malatia!F10) -> 20 | G10: =SUM(Adjapniak!G10+Shengavit!G10+Kentron!G10+Arabkir!G10+Erebuni!G10+Avan!G10+Malatia!G10) -> 6 | H10: =SUM(Adjapniak!H10+Shengavit!H10+Kentron!H10+Arabkir!H10+Erebuni!H10+Avan!H10+Malatia!H10) -> 7 | I10: =SUM(Adjapniak!I10+Shengavit!I10+Kentron!I10+Arabkir!I10+Erebuni!I10+Avan!I10+Malatia!I10) -> 3 | J10: =SUM(Adjapniak!J10+Shengavit!J10+Kentron!J10+Arabkir!J10+Erebuni!J10+Avan!J10+Malatia!J10) -> 65 | ... N10: =SUM(Adjapniak!N10+Shengavit!N10+Kentron!N10+Arabkir!N10+Erebuni!N10+Avan!N10+Malatia!N10) -> 0
A11: 2. ´³ÝíáñÝ»ñÇ ¨ Í³é³ÛáÕÝ»ñÇ ³ÛÉ ³ßË³ï³Ýù³ÛÇÝ í»×»ñ | C11: =SUM(Adjapniak!C11+Shengavit!C11+Kentron!C11+Arabkir!C11+Erebuni!C11+Avan!C11+Malatia!C11) -> 51 | D11: =SUM(Adjapniak!D11+Shengavit!D11+Kentron!D11+Arabkir!D11+Erebuni!D11+Avan!D11+Malatia!D11) -> 521 | E11: =SUM(Adjapniak!E11+Shengavit!E11+Kentron!E11+Arabkir!E11+Erebuni!E11+Avan!E11+Malatia!E11) -> 449 | F11: =SUM(Adjapniak!F11+Shengavit!F11+Kentron!F11+Arabkir!F11+Erebuni!F11+Avan!F11+Malatia!F11) -> 424 | G11: =SUM(Adjapniak!G11+Shengavit!G11+Kentron!G11+Arabkir!G11+Erebuni!G11+Avan!G11+Malatia!G11) -> 20 | H11: =SUM(Adjapniak!H11+Shengavit!H11+Kentron!H11+Arabkir!H11+Erebuni!H11+Avan!H11+Malatia!H11) -> 47 | I11: =SUM(Adjapniak!I11+Shengavit!I11+Kentron!I11+Arabkir!I11+Erebuni!I11+Avan!I11+Malatia!I11) -> 2 | J11: =SUM(Adjapniak!J11+Shengavit!J11+Kentron!J11+Arabkir!J11+Erebuni!J11+Avan!J11+Malatia!J11) -> 518 | ... N11: =SUM(Adjapniak!N11+Shengavit!N11+Kentron!N11+Arabkir!N11+Erebuni!N11+Avan!N11+Malatia!N11) -> 261642
A12: 3. ²ßË.å³ñï³Ï³ÝáõÃ. Ï³ï³ñ»ÉÇë µ³Ýí.¨ Í³é³ÛáÕÝ»ñÇ ÏáÕÙÇó ÝÛáõÃ. íÝ³ëÇ Ñ³ïáõóÙ³Ý í»ñ³µ»ñÛ³É (³ßË, ûñ, 129-134 ÑÑ) Ñ³Ûó»ñ | C12: =SUM(Adjapniak!C12+Shengavit!C12+Kentron!C12+Arabkir!C12+Erebuni!C12+Avan!C12+Malatia!C12) -> 1 | D12: =SUM(Adjapniak!D12+Shengavit!D12+Kentron!D12+Arabkir!D12+Erebuni!D12+Avan!D12+Malatia!D12) -> 18 | E12: =SUM(Adjapniak!E12+Shengavit!E12+Kentron!E12+Arabkir!E12+Erebuni!E12+Avan!E12+Malatia!E12) -> 11 | F12: =SUM(Adjapniak!F12+Shengavit!F12+Kentron!F12+Arabkir!F12+Erebuni!F12+Avan!F12+Malatia!F12) -> 11 | G12: =SUM(Adjapniak!G12+Shengavit!G12+Kentron!G12+Arabkir!G12+Erebuni!G12+Avan!G12+Malatia!G12) -> 0 | H12: =SUM(Adjapniak!H12+Shengavit!H12+Kentron!H12+Arabkir!H12+Erebuni!H12+Avan!H12+Malatia!H12) -> 5 | I12: =SUM(Adjapniak!I12+Shengavit!I12+Kentron!I12+Arabkir!I12+Erebuni!I12+Avan!I12+Malatia!I12) -> 0 | J12: =SUM(Adjapniak!J12+Shengavit!J12+Kentron!J12+Arabkir!J12+Erebuni!J12+Avan!J12+Malatia!J12) -> 16 | ... N12: =SUM(Adjapniak!N12+Shengavit!N12+Kentron!N12+Arabkir!N12+Erebuni!N12+Avan!N12+Malatia!N12) -> 16000
A13: 4. ¶ÛáõÕ. ÏáÉ»ÏïÇí ïÝï»ëáõÃÛ³Ý ³Ý¹³ÙÝ»ñÇ ÏáÕÙÇó Ý»ñÏ³Û³óí³Í Ñ³Ûó»ñ | C13: =SUM(Adjapniak!C13+Shengavit!C13+Kentron!C13+Arabkir!C13+Erebuni!C13+Avan!C13+Malatia!C13) -> 0 | D13: =SUM(Adjapniak!D13+Shengavit!D13+Kentron!D13+Arabkir!D13+Erebuni!D13+Avan!D13+Malatia!D13) -> 0 | E13: =SUM(Adjapniak!E13+Shengavit!E13+Kentron!E13+Arabkir!E13+Erebuni!E13+Avan!E13+Malatia!E13) -> 0 | F13: =SUM(Adjapniak!F13+Shengavit!F13+Kentron!F13+Arabkir!F13+Erebuni!F13+Avan!F13+Malatia!F13) -> 0 | G13: =SUM(Adjapniak!G13+Shengavit!G13+Kentron!G13+Arabkir!G13+Erebuni!G13+Avan!G13+Malatia!G13) -> 0 | H13: =SUM(Adjapniak!H13+Shengavit!H13+Kentron!H13+Arabkir!H13+Erebuni!H13+Avan!H13+Malatia!H13) -> 0 | I13: =SUM(Adjapniak!I13+Shengavit!I13+Kentron!I13+Arabkir!I13+Erebuni!I13+Avan!I13+Malatia!I13) -> 0 | J13: =SUM(Adjapniak!J13+Shengavit!J13+Kentron!J13+Arabkir!J13+Erebuni!J13+Avan!J13+Malatia!J13) -> 0 | ... N13: =SUM(Adjapniak!N13+Shengavit!N13+Kentron!N13+Arabkir!N13+Erebuni!N13+Avan!N13+Malatia!N13) -> 0
A14: 5. ºñ»Ë³Ý»ñÇÝ å³Ñ»Éáõ Ñ³Ù³ñ ³ÉÇÙ»ÝïÇ µéÝ³·³ÝÓÙ³Ý í»ñ³µ»ñÛ³É Ñ³Ûó»ñ | C14: =SUM(Adjapniak!C14+Shengavit!C14+Kentron!C14+Arabkir!C14+Erebuni!C14+Avan!C14+Malatia!C14) -> 48 | D14: =SUM(Adjapniak!D14+Shengavit!D14+Kentron!D14+Arabkir!D14+Erebuni!D14+Avan!D14+Malatia!D14) -> 491 | E14: =SUM(Adjapniak!E14+Shengavit!E14+Kentron!E14+Arabkir!E14+Erebuni!E14+Avan!E14+Malatia!E14) -> 351 | F14: =SUM(Adjapniak!F14+Shengavit!F14+Kentron!F14+Arabkir!F14+Erebuni!F14+Avan!F14+Malatia!F14) -> 324 | G14: =SUM(Adjapniak!G14+Shengavit!G14+Kentron!G14+Arabkir!G14+Erebuni!G14+Avan!G14+Malatia!G14) -> 44 | H14: =SUM(Adjapniak!H14+Shengavit!H14+Kentron!H14+Arabkir!H14+Erebuni!H14+Avan!H14+Malatia!H14) -> 74 | I14: =SUM(Adjapniak!I14+Shengavit!I14+Kentron!I14+Arabkir!I14+Erebuni!I14+Avan!I14+Malatia!I14) -> 2 | J14: =SUM(Adjapniak!J14+Shengavit!J14+Kentron!J14+Arabkir!J14+Erebuni!J14+Avan!J14+Malatia!J14) -> 471 | ... N14: =SUM(Adjapniak!N14+Shengavit!N14+Kentron!N14+Arabkir!N14+Erebuni!N14+Avan!N14+Malatia!N14) -> 104320
A15: 6. Ð³ÛñáõÃÛ³Ý Ñ³ëï³ïÙ³Ý í»ñ³µ»ñÛ³É Ñ³Ûó»ñ | C15: =SUM(Adjapniak!C15+Shengavit!C15+Kentron!C15+Arabkir!C15+Erebuni!C15+Avan!C15+Malatia!C15) -> 5 | D15: =SUM(Adjapniak!D15+Shengavit!D15+Kentron!D15+Arabkir!D15+Erebuni!D15+Avan!D15+Malatia!D15) -> 42 | E15: =SUM(Adjapniak!E15+Shengavit!E15+Kentron!E15+Arabkir!E15+Erebuni!E15+Avan!E15+Malatia!E15) -> 32 | F15: =SUM(Adjapniak!F15+Shengavit!F15+Kentron!F15+Arabkir!F15+Erebuni!F15+Avan!F15+Malatia!F15) -> 28 | G15: =SUM(Adjapniak!G15+Shengavit!G15+Kentron!G15+Arabkir!G15+Erebuni!G15+Avan!G15+Malatia!G15) -> 2 | H15: =SUM(Adjapniak!H15+Shengavit!H15+Kentron!H15+Arabkir!H15+Erebuni!H15+Avan!H15+Malatia!H15) -> 10 | I15: =SUM(Adjapniak!I15+Shengavit!I15+Kentron!I15+Arabkir!I15+Erebuni!I15+Avan!I15+Malatia!I15) -> 1 | J15: =SUM(Adjapniak!J15+Shengavit!J15+Kentron!J15+Arabkir!J15+Erebuni!J15+Avan!J15+Malatia!J15) -> 45 | ... N15: =SUM(Adjapniak!N15+Shengavit!N15+Kentron!N15+Arabkir!N15+Erebuni!N15+Avan!N15+Malatia!N15) -> 124000
A16: 7. ÌÝáÕ³Ï³Ý Çñ³íáõÝùÇó ½ñÏ»Éáõ í»ñ³µ»ñÛ³É Ñ³Ûó»ñ | C16: =SUM(Adjapniak!C16+Shengavit!C16+Kentron!C16+Arabkir!C16+Erebuni!C16+Avan!C16+Malatia!C16) -> 8 | D16: =SUM(Adjapniak!D16+Shengavit!D16+Kentron!D16+Arabkir!D16+Erebuni!D16+Avan!D16+Malatia!D16) -> 34 | E16: =SUM(Adjapniak!E16+Shengavit!E16+Kentron!E16+Arabkir!E16+Erebuni!E16+Avan!E16+Malatia!E16) -> 22 | F16: =SUM(Adjapniak!F16+Shengavit!F16+Kentron!F16+Arabkir!F16+Erebuni!F16+Avan!F16+Malatia!F16) -> 17 | G16: =SUM(Adjapniak!G16+Shengavit!G16+Kentron!G16+Arabkir!G16+Erebuni!G16+Avan!G16+Malatia!G16) -> 4 | H16: =SUM(Adjapniak!H16+Shengavit!H16+Kentron!H16+Arabkir!H16+Erebuni!H16+Avan!H16+Malatia!H16) -> 10 | I16: =SUM(Adjapniak!I16+Shengavit!I16+Kentron!I16+Arabkir!I16+Erebuni!I16+Avan!I16+Malatia!I16) -> 0 | J16: =SUM(Adjapniak!J16+Shengavit!J16+Kentron!J16+Arabkir!J16+Erebuni!J16+Avan!J16+Malatia!J16) -> 36 | ... N16: =SUM(Adjapniak!N16+Shengavit!N16+Kentron!N16+Arabkir!N16+Erebuni!N16+Avan!N16+Malatia!N16) -> 128000
A17: 8. ²ÙáõëÝ³ÉáõÍáõÃÛ³Ý í»ñ³µ»ñÛ³É Ñ³Ûó»ñ | C17: =SUM(Adjapniak!C17+Shengavit!C17+Kentron!C17+Arabkir!C17+Erebuni!C17+Avan!C17+Malatia!C17) -> 86 | D17: =SUM(Adjapniak!D17+Shengavit!D17+Kentron!D17+Arabkir!D17+Erebuni!D17+Avan!D17+Malatia!D17) -> 794 | E17: =SUM(Adjapniak!E17+Shengavit!E17+Kentron!E17+Arabkir!E17+Erebuni!E17+Avan!E17+Malatia!E17) -> 571 | F17: =SUM(Adjapniak!F17+Shengavit!F17+Kentron!F17+Arabkir!F17+Erebuni!F17+Avan!F17+Malatia!F17) -> 567 | G17: =SUM(Adjapniak!G17+Shengavit!G17+Kentron!G17+Arabkir!G17+Erebuni!G17+Avan!G17+Malatia!G17) -> 63 | H17: =SUM(Adjapniak!H17+Shengavit!H17+Kentron!H17+Arabkir!H17+Erebuni!H17+Avan!H17+Malatia!H17) -> 124 | I17: =SUM(Adjapniak!I17+Shengavit!I17+Kentron!I17+Arabkir!I17+Erebuni!I17+Avan!I17+Malatia!I17) -> 11 | J17: =SUM(Adjapniak!J17+Shengavit!J17+Kentron!J17+Arabkir!J17+Erebuni!J17+Avan!J17+Malatia!J17) -> 769 | ... N17: =SUM(Adjapniak!N17+Shengavit!N17+Kentron!N17+Arabkir!N17+Erebuni!N17+Avan!N17+Malatia!N17) -> 2920000
A18: 9. ´Ý³Ï³ñ³ÝÇ Ñ³ïÏ³óáõÙáí íï³ñ»Éáõ í»ñ³µ»ñÛ³É Ñ³Ûó»ñ | C18: =SUM(Adjapniak!C18+Shengavit!C18+Kentron!C18+Arabkir!C18+Erebuni!C18+Avan!C18+Malatia!C18) -> 4 | D18: =SUM(Adjapniak!D18+Shengavit!D18+Kentron!D18+Arabkir!D18+Erebuni!D18+Avan!D18+Malatia!D18) -> 27 | E18: =SUM(Adjapniak!E18+Shengavit!E18+Kentron!E18+Arabkir!E18+Erebuni!E18+Avan!E18+Malatia!E18) -> 17 | F18: =SUM(Adjapniak!F18+Shengavit!F18+Kentron!F18+Arabkir!F18+Erebuni!F18+Avan!F18+Malatia!F18) -> 14 | G18: =SUM(Adjapniak!G18+Shengavit!G18+Kentron!G18+Arabkir!G18+Erebuni!G18+Avan!G18+Malatia!G18) -> 7 | H18: =SUM(Adjapniak!H18+Shengavit!H18+Kentron!H18+Arabkir!H18+Erebuni!H18+Avan!H18+Malatia!H18) -> 6 | I18: =SUM(Adjapniak!I18+Shengavit!I18+Kentron!I18+Arabkir!I18+Erebuni!I18+Avan!I18+Malatia!I18) -> 0 | J18: =SUM(Adjapniak!J18+Shengavit!J18+Kentron!J18+Arabkir!J18+Erebuni!J18+Avan!J18+Malatia!J18) -> 30 | ... N18: =SUM(Adjapniak!N18+Shengavit!N18+Kentron!N18+Arabkir!N18+Erebuni!N18+Avan!N18+Malatia!N18) -> 67000
A19: 10. ²é³Ýó ³ÛÉ µÝ³Ï³ñ³ÝÇ Ñ³ïÏ³óÙ³Ý íï³ñ»Éáõ í»ñ³µ»ñÛ³É Ñ³Ûó»ñ | C19: =SUM(Adjapniak!C19+Shengavit!C19+Kentron!C19+Arabkir!C19+Erebuni!C19+Avan!C19+Malatia!C19) -> 44 | D19: =SUM(Adjapniak!D19+Shengavit!D19+Kentron!D19+Arabkir!D19+Erebuni!D19+Avan!D19+Malatia!D19) -> 267 | E19: =SUM(Adjapniak!E19+Shengavit!E19+Kentron!E19+Arabkir!E19+Erebuni!E19+Avan!E19+Malatia!E19) -> 177 | F19: =SUM(Adjapniak!F19+Shengavit!F19+Kentron!F19+Arabkir!F19+Erebuni!F19+Avan!F19+Malatia!F19) -> 156 | G19: =SUM(Adjapniak!G19+Shengavit!G19+Kentron!G19+Arabkir!G19+Erebuni!G19+Avan!G19+Malatia!G19) -> 35 | H19: =SUM(Adjapniak!H19+Shengavit!H19+Kentron!H19+Arabkir!H19+Erebuni!H19+Avan!H19+Malatia!H19) -> 54 | I19: =SUM(Adjapniak!I19+Shengavit!I19+Kentron!I19+Arabkir!I19+Erebuni!I19+Avan!I19+Malatia!I19) -> 1 | J19: =SUM(Adjapniak!J19+Shengavit!J19+Kentron!J19+Arabkir!J19+Erebuni!J19+Avan!J19+Malatia!J19) -> 267 | ... N19: =SUM(Adjapniak!N19+Shengavit!N19+Kentron!N19+Arabkir!N19+Erebuni!N19+Avan!N19+Malatia!N19) -> 940300
A20: 11. ²ÛÉ µÝ³Ï³ñ³Ý³ÛÇÝ Ñ³Ûó»ñ | C20: =SUM(Adjapniak!C20+Shengavit!C20+Kentron!C20+Arabkir!C20+Erebuni!C20+Avan!C20+Malatia!C20) -> 51 | D20: =SUM(Adjapniak!D20+Shengavit!D20+Kentron!D20+Arabkir!D20+Erebuni!D20+Avan!D20+Malatia!D20) -> 290 | E20: =SUM(Adjapniak!E20+Shengavit!E20+Kentron!E20+Arabkir!E20+Erebuni!E20+Avan!E20+Malatia!E20) -> 133 | F20: =SUM(Adjapniak!F20+Shengavit!F20+Kentron!F20+Arabkir!F20+Erebuni!F20+Avan!F20+Malatia!F20) -> 92 | G20: =SUM(Adjapniak!G20+Shengavit!G20+Kentron!G20+Arabkir!G20+Erebuni!G20+Avan!G20+Malatia!G20) -> 48 | H20: =SUM(Adjapniak!H20+Shengavit!H20+Kentron!H20+Arabkir!H20+Erebuni!H20+Avan!H20+Malatia!H20) -> 90 | I20: =SUM(Adjapniak!I20+Shengavit!I20+Kentron!I20+Arabkir!I20+Erebuni!I20+Avan!I20+Malatia!I20) -> 8 | J20: =SUM(Adjapniak!J20+Shengavit!J20+Kentron!J20+Arabkir!J20+Erebuni!J20+Avan!J20+Malatia!J20) -> 279 | ... N20: =SUM(Adjapniak!N20+Shengavit!N20+Kentron!N20+Arabkir!N20+Erebuni!N20+Avan!N20+Malatia!N20) -> 804150
A21: 12. ´Ý³ÏáõÃÛ³Ý Çñ³íáõÝùÁ ×³Ý³ã»Éáõ í»ñ³µ»ñÛ³É Ñ³Ûó»ñ | C21: =SUM(Adjapniak!C21+Shengavit!C21+Kentron!C21+Arabkir!C21+Erebuni!C21+Avan!C21+Malatia!C21) -> 16 | D21: =SUM(Adjapniak!D21+Shengavit!D21+Kentron!D21+Arabkir!D21+Erebuni!D21+Avan!D21+Malatia!D21) -> 75 | E21: =SUM(Adjapniak!E21+Shengavit!E21+Kentron!E21+Arabkir!E21+Erebuni!E21+Avan!E21+Malatia!E21) -> 43 | F21: =SUM(Adjapniak!F21+Shengavit!F21+Kentron!F21+Arabkir!F21+Erebuni!F21+Avan!F21+Malatia!F21) -> 26 | G21: =SUM(Adjapniak!G21+Shengavit!G21+Kentron!G21+Arabkir!G21+Erebuni!G21+Avan!G21+Malatia!G21) -> 11 | H21: =SUM(Adjapniak!H21+Shengavit!H21+Kentron!H21+Arabkir!H21+Erebuni!H21+Avan!H21+Malatia!H21) -> 26 | I21: =SUM(Adjapniak!I21+Shengavit!I21+Kentron!I21+Arabkir!I21+Erebuni!I21+Avan!I21+Malatia!I21) -> 0 | J21: =SUM(Adjapniak!J21+Shengavit!J21+Kentron!J21+Arabkir!J21+Erebuni!J21+Avan!J21+Malatia!J21) -> 80 | ... N21: =SUM(Adjapniak!N21+Shengavit!N21+Kentron!N21+Arabkir!N21+Erebuni!N21+Avan!N21+Malatia!N21) -> 235000
... A35: 26. ÀÝ¹³Ù»ÝÁ Ñ³Ûó³ÛÇÝ í³ñáõÛÃÇ ·áñÍ»ñ (1-25 ïáÕ»ñ) | C35: =SUM(Adjapniak!C35+Shengavit!C35+Kentron!C35+Arabkir!C35+Erebuni!C35+Avan!C35+Malatia!C35) -> 2610 | D35: =SUM(Adjapniak!D35+Shengavit!D35+Kentron!D35+Arabkir!D35+Erebuni!D35+Avan!D35+Malatia!D35) -> 12330 | E35: =SUM(Adjapniak!E35+Shengavit!E35+Kentron!E35+Arabkir!E35+Erebuni!E35+Avan!E35+Malatia!E35) -> 7348 | F35: =SUM(Adjapniak!F35+Shengavit!F35+Kentron!F35+Arabkir!F35+Erebuni!F35+Avan!F35+Malatia!F35) -> 6112 | G35: =SUM(Adjapniak!G35+Shengavit!G35+Kentron!G35+Arabkir!G35+Erebuni!G35+Avan!G35+Malatia!G35) -> 1639 | H35: =SUM(Adjapniak!H35+Shengavit!H35+Kentron!H35+Arabkir!H35+Erebuni!H35+Avan!H35+Malatia!H35) -> 2410 | I35: =SUM(Adjapniak!I35+Shengavit!I35+Kentron!I35+Arabkir!I35+Erebuni!I35+Avan!I35+Malatia!I35) -> 356 | J35: =SUM(Adjapniak!J35+Shengavit!J35+Kentron!J35+Arabkir!J35+Erebuni!J35+Avan!J35+Malatia!J35) -> 11753 | ... N35: =SUM(Adjapniak!N35+Shengavit!N35+Kentron!N35+Arabkir!N35+Erebuni!N35+Avan!N35+Malatia!N35) -> 66745952
A36: ì³ñã³-Çñ³í³Ï³Ý Ñ³ñ³µ»ñáõÃÛáõÝÝ»ñÇó | B36: 27.Ð³ñÏ»ñÇ ³å³éùÝ»ñÇ ·³ÝÓÙ³Ý í»ñ³µ»ñÛ³É Ñ³Ûó»ñ | C36: =SUM(Adjapniak!C36+Shengavit!C36+Kentron!C36+Arabkir!C36+Erebuni!C36+Avan!C36+Malatia!C36) -> 0 | D36: =SUM(Adjapniak!D36+Shengavit!D36+Kentron!D36+Arabkir!D36+Erebuni!D36+Avan!D36+Malatia!D36) -> 71 | E36: =SUM(Adjapniak!E36+Shengavit!E36+Kentron!E36+Arabkir!E36+Erebuni!E36+Avan!E36+Malatia!E36) -> 37 | F36: =SUM(Adjapniak!F36+Shengavit!F36+Kentron!F36+Arabkir!F36+Erebuni!F36+Avan!F36+Malatia!F36) -> 36 | G36: =SUM(Adjapniak!G36+Shengavit!G36+Kentron!G36+Arabkir!G36+Erebuni!G36+Avan!G36+Malatia!G36) -> 14 | H36: =SUM(Adjapniak!H36+Shengavit!H36+Kentron!H36+Arabkir!H36+Erebuni!H36+Avan!H36+Malatia!H36) -> 14 | I36: =SUM(Adjapniak!I36+Shengavit!I36+Kentron!I36+Arabkir!I36+Erebuni!I36+Avan!I36+Malatia!I36) -> 3 | J36: =SUM(Adjapniak!J36+Shengavit!J36+Kentron!J36+Arabkir!J36+Erebuni!J36+Avan!J36+Malatia!J36) -> 68 | ... N36: =SUM(Adjapniak!N36+Shengavit!N36+Kentron!N36+Arabkir!N36+Erebuni!N36+Avan!N36+Malatia!N36) -> 148000
B37: 28.ì³ñã³-Çñ³í³Ï³Ý Ñ³ñ³µ»ñáõÃÛáõÝÝ»ñÇó ³é³ç³ó³Í Ñ³Ûó»ñ ä²î | C37: =SUM(Adjapniak!C37+Shengavit!C37+Kentron!C37+Arabkir!C37+Erebuni!C37+Avan!C37+Malatia!C37) -> 1107 | D37: =SUM(Adjapniak!D37+Shengavit!D37+Kentron!D37+Arabkir!D37+Erebuni!D37+Avan!D37+Malatia!D37) -> 3428 | E37: =SUM(Adjapniak!E37+Shengavit!E37+Kentron!E37+Arabkir!E37+Erebuni!E37+Avan!E37+Malatia!E37) -> 1831 | F37: =SUM(Adjapniak!F37+Shengavit!F37+Kentron!F37+Arabkir!F37+Erebuni!F37+Avan!F37+Malatia!F37) -> 1681 | G37: =SUM(Adjapniak!G37+Shengavit!G37+Kentron!G37+Arabkir!G37+Erebuni!G37+Avan!G37+Malatia!G37) -> 158 | H37: =SUM(Adjapniak!H37+Shengavit!H37+Kentron!H37+Arabkir!H37+Erebuni!H37+Avan!H37+Malatia!H37) -> 357 | I37: =SUM(Adjapniak!I37+Shengavit!I37+Kentron!I37+Arabkir!I37+Erebuni!I37+Avan!I37+Malatia!I37) -> 512 | J37: =SUM(Adjapniak!J37+Shengavit!J37+Kentron!J37+Arabkir!J37+Erebuni!J37+Avan!J37+Malatia!J37) -> 2858 | ... N37: =SUM(Adjapniak!N37+Shengavit!N37+Kentron!N37+Arabkir!N37+Erebuni!N37+Avan!N37+Malatia!N37) -> 5649543
B38: 29.ä»ï³Ï³Ý Ï³é³í³ñÙ³Ý Ù³ñÙÇÝÝ»ñÇ ¨ å³ßïáÝ³ï³ñ ³ÝÓ³Ýó ³åûñÇÝÇ ·áñÍáÕáõÃÛáõÝÝ»ñÇ í»ñ³µ»ñÛ³É Ñ³Ûó»ñ | C38: =SUM(Adjapniak!C38+Shengavit!C38+Kentron!C38+Arabkir!C38+Erebuni!C38+Avan!C38+Malatia!C38) -> 81 | D38: =SUM(Adjapniak!D38+Shengavit!D38+Kentron!D38+Arabkir!D38+Erebuni!D38+Avan!D38+Malatia!D38) -> 584 | E38: =SUM(Adjapniak!E38+Shengavit!E38+Kentron!E38+Arabkir!E38+Erebuni!E38+Avan!E38+Malatia!E38) -> 416 | F38: =SUM(Adjapniak!F38+Shengavit!F38+Kentron!F38+Arabkir!F38+Erebuni!F38+Avan!F38+Malatia!F38) -> 161 | G38: =SUM(Adjapniak!G38+Shengavit!G38+Kentron!G38+Arabkir!G38+Erebuni!G38+Avan!G38+Malatia!G38) -> 71 | H38: =SUM(Adjapniak!H38+Shengavit!H38+Kentron!H38+Arabkir!H38+Erebuni!H38+Avan!H38+Malatia!H38) -> 71 | I38: =SUM(Adjapniak!I38+Shengavit!I38+Kentron!I38+Arabkir!I38+Erebuni!I38+Avan!I38+Malatia!I38) -> 72 | J38: =SUM(Adjapniak!J38+Shengavit!J38+Kentron!J38+Arabkir!J38+Erebuni!J38+Avan!J38+Malatia!J38) -> 630 | ... N38: =SUM(Adjapniak!N38+Shengavit!N38+Kentron!N38+Arabkir!N38+Erebuni!N38+Avan!N38+Malatia!N38) -> 1131032
B39: 30.ÀÝ¹³Ù»ÝÁ í³ñã³-Çñ³í³Ï³Ý Ñ³ñ³µ»ñáõÃÛáõÝÝ»ñÇó ³é³ç³ó³Í Ñ³Ûó»ñ (27-29 ïáÕ»ñ) | C39: =SUM(Adjapniak!C39+Shengavit!C39+Kentron!C39+Arabkir!C39+Erebuni!C39+Avan!C39+Malatia!C39) -> 1188 | D39: =SUM(Adjapniak!D39+Shengavit!D39+Kentron!D39+Arabkir!D39+Erebuni!D39+Avan!D39+Malatia!D39) -> 4083 | E39: =SUM(Adjapniak!E39+Shengavit!E39+Kentron!E39+Arabkir!E39+Erebuni!E39+Avan!E39+Malatia!E39) -> 2284 | F39: =SUM(Adjapniak!F39+Shengavit!F39+Kentron!F39+Arabkir!F39+Erebuni!F39+Avan!F39+Malatia!F39) -> 1878 | G39: =SUM(Adjapniak!G39+Shengavit!G39+Kentron!G39+Arabkir!G39+Erebuni!G39+Avan!G39+Malatia!G39) -> 243 | H39: =SUM(Adjapniak!H39+Shengavit!H39+Kentron!H39+Arabkir!H39+Erebuni!H39+Avan!H39+Malatia!H39) -> 442 | I39: =SUM(Adjapniak!I39+Shengavit!I39+Kentron!I39+Arabkir!I39+Erebuni!I39+Avan!I39+Malatia!I39) -> 587 | J39: =SUM(Adjapniak!J39+Shengavit!J39+Kentron!J39+Arabkir!J39+Erebuni!J39+Avan!J39+Malatia!J39) -> 3556 | ... N39: =SUM(Adjapniak!N39+Shengavit!N39+Kentron!N39+Arabkir!N39+Erebuni!N39+Avan!N39+Malatia!N39) -> 6928575
A40: Ð³ïáõÏ í³ñáõÛÃÇ ·áñÍ»ñ | B40: 31.Æñ³í³µ³Ý³Ï³Ý Ýß³Ý³ÏáõÃÛáõÝ áõÝ»óáÕ ÷³ëï»ñ Ñ³ëï³ï»Éáõ í»ñ³µ»ñÛ³É Ñ³Ûó»ñ | C40: =SUM(Adjapniak!C40+Shengavit!C40+Kentron!C40+Arabkir!C40+Erebuni!C40+Avan!C40+Malatia!C40) -> 89 | D40: =SUM(Adjapniak!D40+Shengavit!D40+Kentron!D40+Arabkir!D40+Erebuni!D40+Avan!D40+Malatia!D40) -> 1312 | E40: =SUM(Adjapniak!E40+Shengavit!E40+Kentron!E40+Arabkir!E40+Erebuni!E40+Avan!E40+Malatia!E40) -> 1068 | F40: =SUM(Adjapniak!F40+Shengavit!F40+Kentron!F40+Arabkir!F40+Erebuni!F40+Avan!F40+Malatia!F40) -> 978 | G40: =SUM(Adjapniak!G40+Shengavit!G40+Kentron!G40+Arabkir!G40+Erebuni!G40+Avan!G40+Malatia!G40) -> 41 | H40: =SUM(Adjapniak!H40+Shengavit!H40+Kentron!H40+Arabkir!H40+Erebuni!H40+Avan!H40+Malatia!H40) -> 173 | I40: =SUM(Adjapniak!I40+Shengavit!I40+Kentron!I40+Arabkir!I40+Erebuni!I40+Avan!I40+Malatia!I40) -> 10 | J40: =SUM(Adjapniak!J40+Shengavit!J40+Kentron!J40+Arabkir!J40+Erebuni!J40+Avan!J40+Malatia!J40) -> 1292 | ... N40: =SUM(Adjapniak!N40+Shengavit!N40+Kentron!N40+Arabkir!N40+Erebuni!N40+Avan!N40+Malatia!N40) -> 3684152
B41: 32.Üáï³ñ³Ï³Ý ·áñÍáÕáõÃÛáõÝÝ»ñÇ Ï³Ù ¹ñ³Ýó Ï³ï³ñÙ³Ý Ù»ñÅÙ³Ý Ñ³Ù³ñ µáÕáùÝ»ñáí | C41: =SUM(Adjapniak!C41+Shengavit!C41+Kentron!C41+Arabkir!C41+Erebuni!C41+Avan!C41+Malatia!C41) -> 2 | D41: =SUM(Adjapniak!D41+Shengavit!D41+Kentron!D41+Arabkir!D41+Erebuni!D41+Avan!D41+Malatia!D41) -> 1 | E41: =SUM(Adjapniak!E41+Shengavit!E41+Kentron!E41+Arabkir!E41+Erebuni!E41+Avan!E41+Malatia!E41) -> 2 | F41: =SUM(Adjapniak!F41+Shengavit!F41+Kentron!F41+Arabkir!F41+Erebuni!F41+Avan!F41+Malatia!F41) -> 1 | G41: =SUM(Adjapniak!G41+Shengavit!G41+Kentron!G41+Arabkir!G41+Erebuni!G41+Avan!G41+Malatia!G41) -> 0 | H41: =SUM(Adjapniak!H41+Shengavit!H41+Kentron!H41+Arabkir!H41+Erebuni!H41+Avan!H41+Malatia!H41) -> 0 | I41: =SUM(Adjapniak!I41+Shengavit!I41+Kentron!I41+Arabkir!I41+Erebuni!I41+Avan!I41+Malatia!I41) -> 1 | J41: =SUM(Adjapniak!J41+Shengavit!J41+Kentron!J41+Arabkir!J41+Erebuni!J41+Avan!J41+Malatia!J41) -> 3 | ... N41: =SUM(Adjapniak!N41+Shengavit!N41+Kentron!N41+Arabkir!N41+Erebuni!N41+Avan!N41+Malatia!N41) -> 4000
B42: 33.¶áñÍ»ñ ¼²¶ê-Ç Ù³ïÛ³ÝÝ»ñáõÙ áã ×Çßï ·ñ³ÝóáõÙÝ»ñÇ í»ñ³µ»ñÛ³É ·³Ý·³ïÝ»ñÇ ³éÃÇí | C42: =SUM(Adjapniak!C42+Shengavit!C42+Kentron!C42+Arabkir!C42+Erebuni!C42+Avan!C42+Malatia!C42) -> 0 | D42: =SUM(Adjapniak!D42+Shengavit!D42+Kentron!D42+Arabkir!D42+Erebuni!D42+Avan!D42+Malatia!D42) -> 2 | E42: =SUM(Adjapniak!E42+Shengavit!E42+Kentron!E42+Arabkir!E42+Erebuni!E42+Avan!E42+Malatia!E42) -> 2 | F42: =SUM(Adjapniak!F42+Shengavit!F42+Kentron!F42+Arabkir!F42+Erebuni!F42+Avan!F42+Malatia!F42) -> 2 | G42: =SUM(Adjapniak!G42+Shengavit!G42+Kentron!G42+Arabkir!G42+Erebuni!G42+Avan!G42+Malatia!G42) -> 0 | H42: =SUM(Adjapniak!H42+Shengavit!H42+Kentron!H42+Arabkir!H42+Erebuni!H42+Avan!H42+Malatia!H42) -> 0 | I42: =SUM(Adjapniak!I42+Shengavit!I42+Kentron!I42+Arabkir!I42+Erebuni!I42+Avan!I42+Malatia!I42) -> 0 | J42: =SUM(Adjapniak!J42+Shengavit!J42+Kentron!J42+Arabkir!J42+Erebuni!J42+Avan!J42+Malatia!J42) -> 2 | ... N42: =SUM(Adjapniak!N42+Shengavit!N42+Kentron!N42+Arabkir!N42+Erebuni!N42+Avan!N42+Malatia!N42) -> 7000
B43: 34. Ð³ïáõÏ í³ñáõÛÃÇ ³ÛÉ ·áñÍ»ñ | C43: =SUM(Adjapniak!C43+Shengavit!C43+Kentron!C43+Arabkir!C43+Erebuni!C43+Avan!C43+Malatia!C43) -> 79 | D43: =SUM(Adjapniak!D43+Shengavit!D43+Kentron!D43+Arabkir!D43+Erebuni!D43+Avan!D43+Malatia!D43) -> 579 | E43: =SUM(Adjapniak!E43+Shengavit!E43+Kentron!E43+Arabkir!E43+Erebuni!E43+Avan!E43+Malatia!E43) -> 445 | F43: =SUM(Adjapniak!F43+Shengavit!F43+Kentron!F43+Arabkir!F43+Erebuni!F43+Avan!F43+Malatia!F43) -> 430 | G43: =SUM(Adjapniak!G43+Shengavit!G43+Kentron!G43+Arabkir!G43+Erebuni!G43+Avan!G43+Malatia!G43) -> 29 | H43: =SUM(Adjapniak!H43+Shengavit!H43+Kentron!H43+Arabkir!H43+Erebuni!H43+Avan!H43+Malatia!H43) -> 91 | I43: =SUM(Adjapniak!I43+Shengavit!I43+Kentron!I43+Arabkir!I43+Erebuni!I43+Avan!I43+Malatia!I43) -> 0 | J43: =SUM(Adjapniak!J43+Shengavit!J43+Kentron!J43+Arabkir!J43+Erebuni!J43+Avan!J43+Malatia!J43) -> 565 | ... N43: =SUM(Adjapniak!N43+Shengavit!N43+Kentron!N43+Arabkir!N43+Erebuni!N43+Avan!N43+Malatia!N43) -> 1314500
B44: 35. ÀÝ¹³Ù»ÝÁ Ñ³ïáõÏ í³ñáõÛÃÇ ·áñÍ»ñ (31-34 ïáÕ»ñ) | C44: =SUM(Adjapniak!C44+Shengavit!C44+Kentron!C44+Arabkir!C44+Erebuni!C44+Avan!C44+Malatia!C44) -> 170 | D44: =SUM(Adjapniak!D44+Shengavit!D44+Kentron!D44+Arabkir!D44+Erebuni!D44+Avan!D44+Malatia!D44) -> 1894 | E44: =SUM(Adjapniak!E44+Shengavit!E44+Kentron!E44+Arabkir!E44+Erebuni!E44+Avan!E44+Malatia!E44) -> 1517 | F44: =SUM(Adjapniak!F44+Shengavit!F44+Kentron!F44+Arabkir!F44+Erebuni!F44+Avan!F44+Malatia!F44) -> 1411 | G44: =SUM(Adjapniak!G44+Shengavit!G44+Kentron!G44+Arabkir!G44+Erebuni!G44+Avan!G44+Malatia!G44) -> 70 | H44: =SUM(Adjapniak!H44+Shengavit!H44+Kentron!H44+Arabkir!H44+Erebuni!H44+Avan!H44+Malatia!H44) -> 264 | I44: =SUM(Adjapniak!I44+Shengavit!I44+Kentron!I44+Arabkir!I44+Erebuni!I44+Avan!I44+Malatia!I44) -> 11 | J44: =SUM(Adjapniak!J44+Shengavit!J44+Kentron!J44+Arabkir!J44+Erebuni!J44+Avan!J44+Malatia!J44) -> 1862 | ... N44: =SUM(Adjapniak!N44+Shengavit!N44+Kentron!N44+Arabkir!N44+Erebuni!N44+Avan!N44+Malatia!N44) -> 5009652
A45: 36. ÀÝ¹³Ù»ÝÁ ù³Õ³ù³óÇ³Ï³Ý ·áñÍ»ñ (26, 30, 35) | C45: =SUM(Adjapniak!C45+Shengavit!C45+Kentron!C45+Arabkir!C45+Erebuni!C45+Avan!C45+Malatia!C45) -> 3968 | D45: =SUM(Adjapniak!D45+Shengavit!D45+Kentron!D45+Arabkir!D45+Erebuni!D45+Avan!D45+Malatia!D45) -> 18307 | E45: =SUM(Adjapniak!E45+Shengavit!E45+Kentron!E45+Arabkir!E45+Erebuni!E45+Avan!E45+Malatia!E45) -> 11149 | F45: =SUM(Adjapniak!F45+Shengavit!F45+Kentron!F45+Arabkir!F45+Erebuni!F45+Avan!F45+Malatia!F45) -> 9401 | G45: =SUM(Adjapniak!G45+Shengavit!G45+Kentron!G45+Arabkir!G45+Erebuni!G45+Avan!G45+Malatia!G45) -> 1952 | H45: =SUM(Adjapniak!H45+Shengavit!H45+Kentron!H45+Arabkir!H45+Erebuni!H45+Avan!H45+Malatia!H45) -> 3116 | I45: =SUM(Adjapniak!I45+Shengavit!I45+Kentron!I45+Arabkir!I45+Erebuni!I45+Avan!I45+Malatia!I45) -> 954 | J45: =SUM(Adjapniak!J45+Shengavit!J45+Kentron!J45+Arabkir!J45+Erebuni!J45+Avan!J45+Malatia!J45) -> 17171 | ... N45: =SUM(Adjapniak!N45+Shengavit!N45+Kentron!N45+Arabkir!N45+Erebuni!N45+Avan!N45+Malatia!N45) -> 78684179

Sheet Adjapniak
A1: Ð²ÞìºîìàôÂÚàôÜ
A2: ø²Ô²ø²ø²òÆ²Î²Ü ¶àðÌºðÆ øÜÜàôÂÚ²Ü ìºð²´ºðÚ²È
A3: ºñ¨³Ý ù³Õ³ùÇ ²ç³÷ÝÛ³Ï Ñ³Ù³ÛÝùÇ ³é³çÇÝ ³ïÛ³ÝÇ ¹³ï³ñ³ÝÇ
A4: 2007Ã -Ç Ñ³Ù³ñ
A6: ¦²§ µ³ÅÝÇ í»ñ³µ»ñÛ³É ëïáõ·Çã Ñ³í³ë³ñáõÙÝ»ñ 1 ¨ 2 ëÛáõÝ³ÏÝ»ñÇ Ãí»ñÇ ·áõÙ³ñÁ Ñ³í³ë³ñ ¿ 8 ¨ 10 ëÛáõÝ³ÏÝ»ñÇ Ãí»ñÇ ·áõÙ³ñÇÝ: 8 ëÛáõÝ³ÏÇ ÃÇíÁ Ñ³í³ë³ñ ¿ 3,5-7 ëÛáõÝ³ÏÝ»ñÇ Ãí»ñÇ ·áõÙ³ñÇÝ: | E6: ² ù³Õ³ù³óÇ³Ï³Ý ·áñÍ»ñÇ ß³ñÅÁ
E7: ²í³ñïí»É »Ý ·áñÍ»ñ Ñ³ßí»ïáõ Å³Ù³Ý³Ï³ßñç³ÝáõÙ
C8: ²Ý³í³ñï ·áñÍ»ñÇ ÙÝ³óáñ¹Á Ñ³ßí»ïáõ Å³Ù³Ý³Ï³ßñç³ÝÇ ëÏ½µáõÙ | D8: êï³óí»É »Ý ·áñÍ»ñ Ñ³ßí»ïáõ Å³Ù³Ý³Ï³ßñç³ÝáõÙ | E8: ÀÝ¹³Ù»ÝÁ ùÝÝí»É »Ý ·áñÍ»ñ í×éÇ Ï³Û³óáõÙáí | F8: ²Û¹ ÃíáõÙ Ñ³ÛóÇ µ³í³ñ³ñÙ³Ùµ | G8: Î³ñ×í»É »Ý ·áñÍ»ñ í×éÇ Ï³Û³óáõÙáí | H8: Ð³Ûó»ñÁ ÃáÕÝí»É »Ý ³é³Ýó ùÝÝáõÃÛ³Ý | I8: ¶áñÍ»ñÁ Ñ³ÝÓÝí»É »Ý ³ÛÉ ¹³ï³ñ³ÝÝ»ñÇ | J8: ÀÝ¹³Ù»ÝÁ ³í³ñïí»É »Ý ·áñÍ»ñ (3, 5-7 ëÛáõÝ³ÏÝ»ñ) | K8: ²Û¹ ÃíáõÙ ù³Õ, ¹³ï, ûñ-áí Ý³Ë³ï»ëí³ÍÇó ³í»ÉÇ Å³ÙÏ»ïáõÙ | L8: ²Ý³í³ñï ·áñÍ»ñÇ ÙÝ³óáñ¹Á Ñ³ßí»ïáõ Å³Ù³Ý³Ï³ßñç³ÝÇ í»ñçáõÙ | M8: ²Û¹ ÃíáõÙ ·ïÝíáõÙ »Ý 3 ³ÙëÇó ³í»ÉÇ (Ï³ë»óí³Í ·áñÍ»ñÇ Ñ»ï Ù»Ïï»Õ) | N8: ä»ïáõÃÛ³Ý û·ïÇÝ ÙáõÍí³Í å»ï³Ï³Ý ïáõñùÇ ã³÷Á (¹ñ³Ùáí)
C9: 1 | D9: 2 | E9: 3 | F9: 4 | G9: 5 | H9: 6 | I9: 7 | J9: 8 | K9: 9 | L9: 10 | M9: 11 | N9: 12
A10: 1. ²½³ïí³ÍÝ»ñÇÝ ³ßË³ï³ÝùáõÙ í»ñ³Ï³Ý·Ý»Éáõ í»ñ³µ»ñÛ³É Ñ³Ûó»ñ | C10: 2 | D10: 2 | E10: 2 | F10: 1 | H10: 1 | J10: 3 | L10: 1
A11: 2. ´³ÝíáñÝ»ñÇ ¨ Í³é³ÛáÕÝ»ñÇ ³ÛÉ ³ßË³ï³Ýù³ÛÇÝ í»×»ñ | D11: 186 | E11: 168 | F11: 168 | H11: 5 | J11: 173 | L11: 13 | N11: 241642
A12: 3. ²ßË.å³ñï³Ï³ÝáõÃ. Ï³ï³ñ»ÉÇë µ³Ýí.¨ Í³é³ÛáÕÝ»ñÇ ÏáÕÙÇó ÝÛáõÃ. íÝ³ëÇ Ñ³ïáõóÙ³Ý í»ñ³µ»ñÛ³É (³ßË, ûñ, 129-134 ÑÑ) Ñ³Ûó»ñ | C12: 1 | D12: 1 | H12: 1 | J12: 1 | L12: 1 | M12: 1 | N12: 16000
A13: 4. ¶ÛáõÕ. ÏáÉ»ÏïÇí ïÝï»ëáõÃÛ³Ý ³Ý¹³ÙÝ»ñÇ ÏáÕÙÇó Ý»ñÏ³Û³óí³Í Ñ³Ûó»ñ
A14: 5. ºñ»Ë³Ý»ñÇÝ å³Ñ»Éáõ Ñ³Ù³ñ ³ÉÇÙ»ÝïÇ µéÝ³·³ÝÓÙ³Ý í»ñ³µ»ñÛ³É Ñ³Ûó»ñ | C14: 1 | D14: 77 | E14: 50 | F14: 48 | G14: 8 | H14: 13 | J14: 71 | L14: 7 | M14: 1 | N14: 54320
A15: 6. Ð³ÛñáõÃÛ³Ý Ñ³ëï³ïÙ³Ý í»ñ³µ»ñÛ³É Ñ³Ûó»ñ | C15: 2 | D15: 12 | E15: 10 | F15: 9 | H15: 4 | J15: 14 | N15: 28000
A16: 7. ÌÝáÕ³Ï³Ý Çñ³íáõÝùÇó ½ñÏ»Éáõ í»ñ³µ»ñÛ³É Ñ³Ûó»ñ | C16: 2 | D16: 2 | E16: 2 | F16: 2 | G16: 1 | H16: 1 | J16: 4 | N16: 4000
A17: 8. ²ÙáõëÝ³ÉáõÍáõÃÛ³Ý í»ñ³µ»ñÛ³É Ñ³Ûó»ñ | C17: 17 | D17: 125 | E17: 100 | F17: 100 | G17: 7 | H17: 22 | J17: 129 | L17: 13 | N17: 447000
A18: 9. ´Ý³Ï³ñ³ÝÇ Ñ³ïÏ³óáõÙáí íï³ñ»Éáõ í»ñ³µ»ñÛ³É Ñ³Ûó»ñ | D18: 1 | G18: 1 | J18: 1 | N18: 4000
A19: 10. ²é³Ýó ³ÛÉ µÝ³Ï³ñ³ÝÇ Ñ³ïÏ³óÙ³Ý íï³ñ»Éáõ í»ñ³µ»ñÛ³É Ñ³Ûó»ñ | C19: 4 | D19: 63 | E19: 44 | F19: 44 | G19: 8 | H19: 7 | J19: 59 | L19: 8 | M19: 1 | N19: 256000
A20: 11. ²ÛÉ µÝ³Ï³ñ³Ý³ÛÇÝ Ñ³Ûó»ñ | C20: 7 | D20: 9 | E20: 7 | F20: 4 | G20: 2 | H20: 6 | J20: 15 | L20: 1 | M20: 1 | N20: 28000
A21: 12. ´Ý³ÏáõÃÛ³Ý Çñ³íáõÝùÁ ×³Ý³ã»Éáõ í»ñ³µ»ñÛ³É Ñ³Ûó»ñ | C21: 1 | D21: 14 | E21: 5 | F21: 1 | G21: 3 | H21: 5 | J21: 13 | L21: 2 | N21: 32000
A22: 13. ´Ý³ÏáõÃÛ³Ý Çñ³íáõÝùÁ Ïáñóñ³Í ×³Ý³ã»Éáõ í»ñ³µ»ñÛ³É Ñ³Ûó»ñ | C22: 3 | D22: 37 | E22: 24 | F22: 22 | G22: 2 | H22: 9 | J22: 35 | L22: 5 | N22: 118600
A23: 14. ø³Õ³ù³óÇÝ»ñÇ ë»÷³Ï³ÝáõÃÛ³Ý Çñ³íáõÝùÇ í»ñ³µ»ñÛ³É Ñ³Ûó»ñ | C23: 35 | D23: 135 | E23: 90 | F23: 77 | G23: 14 | H23: 31 | J23: 135 | L23: 35 | N23: 452700
A24: 15. ê»÷³Ï³ÝáõÃÛ³Ý Çñ³íáõÝùÇ í»ñ³µ»ñÛ³É Ñ³Ûó»ñ | C24: 10 | D24: 101 | E24: 27 | F24: 20 | G24: 14 | H24: 29 | I24: 4 | J24: 74 | L24: 37 | M24: 5 | N24: 329300
A25: 16.Ê»Õ³Ý¹³ÙáõÃ.Ï³Ù Ù³Ñí³Ý Ñ³Ù³ñ íÝ³ëÁ Ñ³ïáõó»Éáõ Ù³ëÇÝ Ýáñ Ñ³ñáõóí³Í Ñ³Ûó»ñ
A26: 17. ¶áõÛùÁ í»ñ·ñÇó Ñ³Ý»Éáõ í»ñ³µ»ñÛ³É Ñ³Ûó»ñ | D26: 14 | E26: 7 | F26: 6 | H26: 4 | I26: 1 | J26: 12 | L26: 2 | N26: 35500
A27: 18.Ð³Ûó»ñ Ñ»ÕÇÝ³ÏÇ Çñ³íáõÝùÇ í»ñ³µ»ñÛ³É í»×»ñáí
A28: 19. Ú³Ûó»ñ ·Ûáõï³ñ³ñáõÃÛ³Ý Çñ³íáõÝùÇ í»ñ³µ»ñÛ³É í»×»ñáí
A29: 20. ²Ýï³éÝ»ñÇ Ë³ËïáõÙÝ»ñÇ Ñ³Ù³ñ ·áõÛù³ÛÇÝ å³ï³ëË³Ý³ïíáõÃÛ³Ý í»ñ³µ»ñÛ³É Ñ³Ûó»ñ
A30: 21. ²åûñÇÝÇ áñëÇ ¨ ÓÏ³Ý å³ß³ñÝ»ñÇ áãÝã³óÙ³Ý Ñ»ï¨³Ýùáí ³é³ç³½áó ÝÛáõÃ³Ï³Ý å³ï³ëË³Ý³ïíáõÃÛ³Ý í»ñ³µ»ñÛ³É Ñ³Ûó»ñ
A31: 22. ÀÝïñ³Ï³Ý ·áñÍÁÝÃ³ó³ÛÇÝ í»ñ³µ»ñÛ³É Ñ³Ûó»ñ | D31: 1 | E31: 1 | F31: 1 | J31: 1
A32: 23. ¶áñÍ³ñùÝ»ñÁ ¨ å³ÛÙ³Ý³·ñ»ñÁ í³í»ñ³óÝ»Éáõ Ï³Ù ³Ýí³í»ñ ×³Ý³ã»Éáõ í»ñ³µ»ñÛ³É Ñ³Ûó»ñ | C32: 25 | D32: 88 | E32: 46 | F32: 31 | G32: 6 | H32: 31 | I32: 14 | J32: 97 | L32: 16 | M32: 2 | N32: 298000
A33: 24. ä³ïíÇ ¨ ³ñÅ³Ý³å³ïíáõÃÛ³Ý å³ßïå³ÝáõÃÛ³Ý í»ñ³µ»ñÛ³É ·áñÍ»ñ | C33: 1 | L33: 1 | M33: 1
A34: 25. Ð³Ûó³ÛÇÝ ³ÛÉ ·áñÍ»ñ | C34: 72 | D34: 856 | E34: 340 | F34: 273 | G34: 154 | H34: 301 | I34: 11 | J34: 806 | L34: 122 | M34: 11 | N34: 3675749
A35: 26. ÀÝ¹³Ù»ÝÁ Ñ³Ûó³ÛÇÝ í³ñáõÛÃÇ ·áñÍ»ñ (1-25 ïáÕ»ñ) | C35: =SUM(C10:C34) -> 183 | D35: =SUM(D10:D34) -> 1724 | E35: =SUM(E10:E34) -> 923 | F35: =SUM(F10:F34) -> 807 | G35: =SUM(G10:G34) -> 220 | H35: =SUM(H10:H34) -> 470 | I35: =SUM(I10:I34) -> 30 | J35: =SUM(J10:J34) -> 1643 | L35: =SUM(L10:L34) -> 264 | M35: =SUM(M10:M34) -> 23 | N35: =SUM(N10:N34) -> 6020811
A36: ì³ñã³-Çñ³í³Ï³Ý Ñ³ñ³µ»ñáõÃÛáõÝÝ»ñÇó | B36: 27.Ð³ñÏ»ñÇ ³å³éùÝ»ñÇ ·³ÝÓÙ³Ý í»ñ³µ»ñÛ³É Ñ³Ûó»ñ
B37: 28.ì³ñã³-Çñ³í³Ï³Ý Ñ³ñ³µ»ñáõÃÛáõÝÝ»ñÇó ³é³ç³ó³Í Ñ³Ûó»ñ | C37: 23 | D37: 113 | E37: 82 | F37: 60 | G37: 9 | H37: 8 | I37: 23 | J37: 122 | L37: 14 | M37: 1 | N37: 413047
B38: 29.ä»ï³Ï³Ý Ï³é³í³ñÙ³Ý Ù³ñÙÇÝÝ»ñÇ ¨ å³ßïáÝ³ï³ñ ³ÝÓ³Ýó ³åûñÇÝÇ ·áñÍáÕáõÃÛáõÝÝ»ñÇ í»ñ³µ»ñÛ³É Ñ³Ûó»ñ | C38: 16 | D38: 127 | E38: 72 | F38: 38 | G38: 21 | H38: 26 | I38: 16 | J38: 135 | L38: 8 | M38: 1 | N38: 286000
B39: 30.ÀÝ¹³Ù»ÝÁ í³ñã³-Çñ³í³Ï³Ý Ñ³ñ³µ»ñáõÃÛáõÝÝ»ñÇó ³é³ç³ó³Í Ñ³Ûó»ñ (27-29 ïáÕ»ñ) | C39: =SUM(C37:C38) -> 39 | D39: =SUM(D37:D38) -> 240 | E39: =SUM(E37:E38) -> 154 | F39: =SUM(F37:F38) -> 98 | G39: =SUM(G37:G38) -> 30 | H39: =SUM(H37:H38) -> 34 | I39: =SUM(I37:I38) -> 39 | J39: =SUM(J37:J38) -> 257 | L39: =SUM(L37:L38) -> 22 | M39: =SUM(M37:M38) -> 2 | N39: =SUM(N37:N38) -> 699047
A40: Ð³ïáõÏ í³ñáõÛÃÇ ·áñÍ»ñ | B40: 31.Æñ³í³µ³Ý³Ï³Ý Ýß³Ý³ÏáõÃÛáõÝ áõÝ»óáÕ ÷³ëï»ñ Ñ³ëï³ï»Éáõ í»ñ³µ»ñÛ³É Ñ³Ûó»ñ | C40: 15 | D40: 182 | E40: 152 | F40: 146 | G40: 1 | H40: 33 | I40: 2 | J40: 188 | L40: 9 | N40: 485500
B41: 32.Üáï³ñ³Ï³Ý ·áñÍáÕáõÃÛáõÝÝ»ñÇ Ï³Ù ¹ñ³Ýó Ï³ï³ñÙ³Ý Ù»ñÅÙ³Ý Ñ³Ù³ñ µáÕáùÝ»ñáí
B42: 33.¶áñÍ»ñ ¼²¶ê-Ç Ù³ïÛ³ÝÝ»ñáõÙ áã ×Çßï ·ñ³ÝóáõÙÝ»ñÇ í»ñ³µ»ñÛ³É ·³Ý·³ïÝ»ñÇ ³éÃÇí
B43: 34. Ð³ïáõÏ í³ñáõÛÃÇ ³ÛÉ ·áñÍ»ñ | C43: 11 | D43: 61 | E43: 49 | F43: 48 | G43: 2 | H43: 14 | J43: 65 | L43: 7 | N43: 162900
B44: 35. ÀÝ¹³Ù»ÝÁ Ñ³ïáõÏ í³ñáõÛÃÇ ·áñÍ»ñ (31-34 ïáÕ»ñ) | C44: =SUM(C40:C43) -> 26 | D44: =SUM(D40:D43) -> 243 | E44: =SUM(E40:E43) -> 201 | F44: =SUM(F40:F43) -> 194 | G44: =SUM(G40:G43) -> 3 | H44: =SUM(H40:H43) -> 47 | I44: =SUM(I40:I43) -> 2 | J44: =SUM(J40:J43) -> 253 | L44: =SUM(L40:L43) -> 16 | N44: =SUM(N40:N43) -> 648400
A45: 36. ÀÝ¹³Ù»ÝÁ ù³Õ³ù³óÇ³Ï³Ý ·áñÍ»ñ (26, 30, 35) | C45: =SUM(C35+C39+C44) -> 248 | D45: =SUM(D35+D39+D44) -> 2207 | E45: =SUM(E35+E39+E44) -> 1278 | F45: =SUM(F35+F39+F44) -> 1099 | G45: =SUM(G35+G39+G44) -> 253 | H45: =SUM(H35+H39+H44) -> 551 | I45: =SUM(I35+I39+I44) -> 71 | J45: =SUM(J35+J39+J44) -> 2153 | ... N45: =SUM(N35+N39+N44) -> 7368258

Sheet Shengavit
A1: Ð²ÞìºîìàôÂÚàôÜ
A2: ø²Ô²ø²ø²òÆ²Î²Ü ¶àðÌºðÆ øÜÜàôÂÚ²Ü ìºð²´ºðÚ²È
A3: ºñ¨³Ý ù³Õ³ùÇ Þ»Ý·³íÇÃ Ñ³Ù³ÛÝùÇ ³é³çÇÝ ³ïÛ³ÝÇ ¹³ï³ñ³ÝÇ
A4: 2007Ã. Ñ³Ù³ñ
A6: ¦²§ µ³ÅÝÇ í»ñ³µ»ñÛ³É ëïáõ·Çã Ñ³í³ë³ñáõÙÝ»ñ 1 ¨ 2 ëÛáõÝ³ÏÝ»ñÇ Ãí»ñÇ ·áõÙ³ñÁ Ñ³í³ë³ñ ¿ 8 ¨ 10 ëÛáõÝ³ÏÝ»ñÇ Ãí»ñÇ ·áõÙ³ñÇÝ: 8 ëÛáõÝ³ÏÇ ÃÇíÁ Ñ³í³ë³ñ ¿ 3,5-7 ëÛáõÝ³ÏÝ»ñÇ Ãí»ñÇ ·áõÙ³ñÇÝ: | E6: ² ù³Õ³ù³óÇ³Ï³Ý ·áñÍ»ñÇ ß³ñÅÁ
E7: ²í³ñïí»É »Ý ·áñÍ»ñ Ñ³ßí»ïáõ Å³Ù³Ý³Ï³ßñç³ÝáõÙ
C8: ²Ý³í³ñï ·áñÍ»ñÇ ÙÝ³óáñ¹Á Ñ³ßí»ïáõ Å³Ù³Ý³Ï³ßñç³ÝÇ ëÏ½µáõÙ | D8: êï³óí»É »Ý ·áñÍ»ñ Ñ³ßí»ïáõ Å³Ù³Ý³Ï³ßñç³ÝáõÙ | E8: ÀÝ¹³Ù»ÝÁ ùÝÝí»É »Ý ·áñÍ»ñ í×éÇ Ï³Û³óáõÙáí | F8: ²Û¹ ÃíáõÙ Ñ³ÛóÇ µ³í³ñ³ñÙ³Ùµ | G8: Î³ñ×í»É »Ý ·áñÍ»ñ í×éÇ Ï³Û³óáõÙáí | H8: Ð³Ûó»ñÁ ÃáÕÝí»É »Ý ³é³Ýó ùÝÝáõÃÛ³Ý | I8: ¶áñÍ»ñÁ Ñ³ÝÓÝí»É »Ý ³ÛÉ ¹³ï³ñ³ÝÝ»ñÇ | J8: ÀÝ¹³Ù»ÝÁ ³í³ñïí»É »Ý ·áñÍ»ñ (3, 5-7 ëÛáõÝ³ÏÝ»ñ) | K8: ²Û¹ ÃíáõÙ ù³Õ, ¹³ï, ûñ-áí Ý³Ë³ï»ëí³ÍÇó ³í»ÉÇ Å³ÙÏ»ïáõÙ | L8: ²Ý³í³ñï ·áñÍ»ñÇ ÙÝ³óáñ¹Á Ñ³ßí»ïáõ Å³Ù³Ý³Ï³ßñç³ÝÇ í»ñçáõÙ | M8: ²Û¹ ÃíáõÙ ·ïÝíáõÙ »Ý 3 ³ÙëÇó ³í»ÉÇ (Ï³ë»óí³Í ·áñÍ»ñÇ Ñ»ï Ù»Ïï»Õ) | N8: ä»ïáõÃÛ³Ý û·ïÇÝ ÙáõÍí³Í å»ï³Ï³Ý ïáõñùÇ ã³÷Á (¹ñ³Ùáí)
C9: 1 | D9: 2 | E9: 3 | F9: 4 | G9: 5 | H9: 6 | I9: 7 | J9: 8 | K9: 9 | L9: 10 | M9: 11 | N9: 12
A10: 1. ²½³ïí³ÍÝ»ñÇÝ ³ßË³ï³ÝùáõÙ í»ñ³Ï³Ý·Ý»Éáõ í»ñ³µ»ñÛ³É Ñ³Ûó»ñ | D10: 2 | E10: 2 | F10: 1 | J10: 2
A11: 2. ´³ÝíáñÝ»ñÇ ¨ Í³é³ÛáÕÝ»ñÇ ³ÛÉ ³ßË³ï³Ýù³ÛÇÝ í»×»ñ | C11: 3 | D11: 197 | E11: 175 | F11: 175 | G11: 10 | H11: 13 | J11: 198 | L11: 2
A12: 3. ²ßË.å³ñï³Ï³ÝáõÃ. Ï³ï³ñ»ÉÇë µ³Ýí.¨ Í³é³ÛáÕÝ»ñÇ ÏáÕÙÇó ÝÛáõÃ. íÝ³ëÇ Ñ³ïáõóÙ³Ý í»ñ³µ»ñÛ³É (³ßË, ûñ, 129-134 ÑÑ) Ñ³Ûó»ñ | D12: 17 | E12: 11 | F12: 11 | H12: 4 | J12: 15 | L12: 2
A13: 4. ¶ÛáõÕ. ÏáÉ»ÏïÇí ïÝï»ëáõÃÛ³Ý ³Ý¹³ÙÝ»ñÇ ÏáÕÙÇó Ý»ñÏ³Û³óí³Í Ñ³Ûó»ñ
A14: 5. ºñ»Ë³Ý»ñÇÝ å³Ñ»Éáõ Ñ³Ù³ñ ³ÉÇÙ»ÝïÇ µéÝ³·³ÝÓÙ³Ý í»ñ³µ»ñÛ³É Ñ³Ûó»ñ | C14: 4 | D14: 67 | E14: 48 | F14: 44 | G14: 9 | H14: 11 | J14: 68 | L14: 3
A15: 6. Ð³ÛñáõÃÛ³Ý Ñ³ëï³ïÙ³Ý í»ñ³µ»ñÛ³É Ñ³Ûó»ñ | C15: 1 | D15: 5 | E15: 5 | F15: 4 | H15: 1 | J15: 6 | N15: 20000
A16: 7. ÌÝáÕ³Ï³Ý Çñ³íáõÝùÇó ½ñÏ»Éáõ í»ñ³µ»ñÛ³É Ñ³Ûó»ñ | D16: 2 | E16: 2 | F16: 1 | J16: 2 | N16: 8000
A17: 8. ²ÙáõëÝ³ÉáõÍáõÃÛ³Ý í»ñ³µ»ñÛ³É Ñ³Ûó»ñ | C17: 3 | D17: 95 | E17: 62 | F17: 62 | G17: 7 | H17: 13 | I17: 1 | J17: 83 | L17: 15 | N17: 375000
A18: 9. ´Ý³Ï³ñ³ÝÇ Ñ³ïÏ³óáõÙáí íï³ñ»Éáõ í»ñ³µ»ñÛ³É Ñ³Ûó»ñ | D18: 9 | E18: 6 | F18: 3 | G18: 1 | H18: 2 | J18: 9 | N18: 27000
A19: 10. ²é³Ýó ³ÛÉ µÝ³Ï³ñ³ÝÇ Ñ³ïÏ³óÙ³Ý íï³ñ»Éáõ í»ñ³µ»ñÛ³É Ñ³Ûó»ñ | C19: 5 | D19: 44 | E19: 30 | F19: 25 | G19: 3 | H19: 12 | J19: 45 | L19: 4 | N19: 176000
A20: 11. ²ÛÉ µÝ³Ï³ñ³Ý³ÛÇÝ Ñ³Ûó»ñ | C20: 9 | D20: 121 | E20: 53 | F20: 44 | G20: 19 | H20: 43 | I20: 1 | J20: 116 | L20: 14 | N20: 332000
A21: 12. ´Ý³ÏáõÃÛ³Ý Çñ³íáõÝùÁ ×³Ý³ã»Éáõ í»ñ³µ»ñÛ³É Ñ³Ûó»ñ | D21: 6 | E21: 3 | F21: 3 | G21: 1 | H21: 2 | J21: 6 | N21: 12000
A22: 13. ´Ý³ÏáõÃÛ³Ý Çñ³íáõÝùÁ Ïáñóñ³Í ×³Ý³ã»Éáõ í»ñ³µ»ñÛ³É Ñ³Ûó»ñ | C22: 2 | D22: 3 | E22: 3 | F22: 3 | H22: 2 | J22: 5 | N22: 16000
A23: 14. ø³Õ³ù³óÇÝ»ñÇ ë»÷³Ï³ÝáõÃÛ³Ý Çñ³íáõÝùÇ í»ñ³µ»ñÛ³É Ñ³Ûó»ñ | C23: 8 | D23: 97 | E23: 60 | F23: 48 | G23: 10 | H23: 22 | I23: 2 | J23: 94 | L23: 11 | N23: 107000
A24: 15. ê»÷³Ï³ÝáõÃÛ³Ý Çñ³íáõÝùÇ í»ñ³µ»ñÛ³É Ñ³Ûó»ñ | C24: 5 | D24: 91 | E24: 58 | F24: 49 | G24: 3 | H24: 25 | I24: 1 | J24: 87 | L24: 9 | N24: 382900
A25: 16.Ê»Õ³Ý¹³ÙáõÃ.Ï³Ù Ù³Ñí³Ý Ñ³Ù³ñ íÝ³ëÁ Ñ³ïáõó»Éáõ Ù³ëÇÝ Ýáñ Ñ³ñáõóí³Í Ñ³Ûó»ñ | D25: 4 | E25: 3 | F25: 3 | H25: 1 | J25: 4
A26: 17. ¶áõÛùÁ í»ñ·ñÇó Ñ³Ý»Éáõ í»ñ³µ»ñÛ³É Ñ³Ûó»ñ | C26: 2 | D26: 29 | E26: 20 | F26: 18 | G26: 3 | H26: 8 | J26: 31 | N26: 91000
A27: 18.Ð³Ûó»ñ Ñ»ÕÇÝ³ÏÇ Çñ³íáõÝùÇ í»ñ³µ»ñÛ³É í»×»ñáí
A28: 19. Ú³Ûó»ñ ·Ûáõï³ñ³ñáõÃÛ³Ý Çñ³íáõÝùÇ í»ñ³µ»ñÛ³É í»×»ñáí
A29: 20. ²Ýï³éÝ»ñÇ Ë³ËïáõÙÝ»ñÇ Ñ³Ù³ñ ·áõÛù³ÛÇÝ å³ï³ëË³Ý³ïíáõÃÛ³Ý í»ñ³µ»ñÛ³É Ñ³Ûó»ñ
A30: 21. ²åûñÇÝÇ áñëÇ ¨ ÓÏ³Ý å³ß³ñÝ»ñÇ áãÝã³óÙ³Ý Ñ»ï¨³Ýùáí ³é³ç³½áó ÝÛáõÃ³Ï³Ý å³ï³ëË³Ý³ïíáõÃÛ³Ý í»ñ³µ»ñÛ³É Ñ³Ûó»ñ
A31: 22. ÀÝïñ³Ï³Ý ·áñÍÁÝÃ³ó³ÛÇÝ í»ñ³µ»ñÛ³É Ñ³Ûó»ñ
A32: 23. ¶áñÍ³ñùÝ»ñÁ ¨ å³ÛÙ³Ý³·ñ»ñÁ í³í»ñ³óÝ»Éáõ Ï³Ù ³Ýí³í»ñ ×³Ý³ã»Éáõ í»ñ³µ»ñÛ³É Ñ³Ûó»ñ | C32: 9 | D32: 71 | E32: 41 | F32: 30 | G32: 9 | H32: 23 | I32: 3 | J32: 76 | L32: 4 | N32: 841000
A33: 24. ä³ïíÇ ¨ ³ñÅ³Ý³å³ïíáõÃÛ³Ý å³ßïå³ÝáõÃÛ³Ý í»ñ³µ»ñÛ³É ·áñÍ»ñ | D33: 3 | E33: 1 | F33: 1 | G33: 1 | H33: 1 | J33: 3 | N33: 4000
A34: 25. Ð³Ûó³ÛÇÝ ³ÛÉ ·áñÍ»ñ | C34: 40 | D34: 501 | E34: 344 | F34: 308 | G34: 59 | H34: 76 | I34: 4 | J34: 483 | L34: 58 | N34: 3612000
A35: 26. ÀÝ¹³Ù»ÝÁ Ñ³Ûó³ÛÇÝ í³ñáõÛÃÇ ·áñÍ»ñ (1-25 ïáÕ»ñ) | C35: =SUM(C10:C34) -> 91 | D35: =SUM(D10:D34) -> 1364 | E35: =SUM(E10:E34) -> 927 | F35: =SUM(F10:F34) -> 833 | G35: =SUM(G10:G34) -> 135 | H35: =SUM(H10:H34) -> 259 | I35: =SUM(I10:I34) -> 12 | J35: =SUM(J10:J34) -> 1333 | L35: =SUM(L10:L34) -> 122 | N35: =SUM(N10:N34) -> 6003900
A36: ì³ñã³-Çñ³í³Ï³Ý Ñ³ñ³µ»ñáõÃÛáõÝÝ»ñÇó | B36: 27.Ð³ñÏ»ñÇ ³å³éùÝ»ñÇ ·³ÝÓÙ³Ý í»ñ³µ»ñÛ³É Ñ³Ûó»ñ
B37: 28.ì³ñã³-Çñ³í³Ï³Ý Ñ³ñ³µ»ñáõÃÛáõÝÝ»ñÇó ³é³ç³ó³Í Ñ³Ûó»ñ | C37: 9 | D37: 278 | E37: 231 | F37: 221 | G37: 26 | H37: 14 | I37: 3 | J37: 274 | L37: 13 | N37: 1891000
B38: 29.ä»ï³Ï³Ý Ï³é³í³ñÙ³Ý Ù³ñÙÇÝÝ»ñÇ ¨ å³ßïáÝ³ï³ñ ³ÝÓ³Ýó ³åûñÇÝÇ ·áñÍáÕáõÃÛáõÝÝ»ñÇ í»ñ³µ»ñÛ³É Ñ³Ûó»ñ | C38: 6 | D38: 15 | E38: 9 | F38: 6 | G38: 2 | H38: 6 | I38: 4 | J38: 21 | N38: 144000
B39: 30.ÀÝ¹³Ù»ÝÁ í³ñã³-Çñ³í³Ï³Ý Ñ³ñ³µ»ñáõÃÛáõÝÝ»ñÇó ³é³ç³ó³Í Ñ³Ûó»ñ (27-29 ïáÕ»ñ) | C39: =SUM(C37:C38) -> 15 | D39: =SUM(D37:D38) -> 293 | E39: =SUM(E37:E38) -> 240 | F39: =SUM(F37:F38) -> 227 | G39: =SUM(G37:G38) -> 28 | H39: =SUM(H37:H38) -> 20 | I39: =SUM(I37:I38) -> 7 | J39: =SUM(J37:J38) -> 295 | L39: =SUM(L37:L38) -> 13 | N39: =SUM(N37:N38) -> 2035000
A40: Ð³ïáõÏ í³ñáõÛÃÇ ·áñÍ»ñ | B40: 31.Æñ³í³µ³Ý³Ï³Ý Ýß³Ý³ÏáõÃÛáõÝ áõÝ»óáÕ ÷³ëï»ñ Ñ³ëï³ï»Éáõ í»ñ³µ»ñÛ³É Ñ³Ûó»ñ | C40: 9 | D40: 121 | E40: 101 | F40: 93 | G40: 2 | H40: 19 | J40: 122 | L40: 8 | N40: 305000
B41: 32.Üáï³ñ³Ï³Ý ·áñÍáÕáõÃÛáõÝÝ»ñÇ Ï³Ù ¹ñ³Ýó Ï³ï³ñÙ³Ý Ù»ñÅÙ³Ý Ñ³Ù³ñ µáÕáùÝ»ñáí | C41: 2 | E41: 1 | I41: 1 | J41: 2 | N41: 4000
B42: 33.¶áñÍ»ñ ¼²¶ê-Ç Ù³ïÛ³ÝÝ»ñáõÙ áã ×Çßï ·ñ³ÝóáõÙÝ»ñÇ í»ñ³µ»ñÛ³É ·³Ý·³ïÝ»ñÇ ³éÃÇí | D42: 1 | E42: 1 | F42: 1 | J42: 1 | N42: 4000
B43: 34. Ð³ïáõÏ í³ñáõÛÃÇ ³ÛÉ ·áñÍ»ñ | C43: 9 | D43: 80 | E43: 67 | F43: 65 | G43: 2 | H43: 15 | J43: 84 | L43: 5 | N43: 207000
B44: 35. ÀÝ¹³Ù»ÝÁ Ñ³ïáõÏ í³ñáõÛÃÇ ·áñÍ»ñ (31-34 ïáÕ»ñ) | C44: =SUM(C40:C43) -> 20 | D44: =SUM(D40:D43) -> 202 | E44: =SUM(E40:E43) -> 170 | F44: =SUM(F40:F43) -> 159 | G44: =SUM(G40:G43) -> 4 | H44: =SUM(H40:H43) -> 34 | I44: =SUM(I40:I43) -> 1 | J44: =SUM(J40:J43) -> 209 | L44: =SUM(L40:L43) -> 13 | N44: =SUM(N40:N43) -> 520000
A45: 36. ÀÝ¹³Ù»ÝÁ ù³Õ³ù³óÇ³Ï³Ý ·áñÍ»ñ (26, 30, 35) | C45: =SUM(C35+C39+C44) -> 126 | D45: =SUM(D35+D39+D44) -> 1859 | E45: =SUM(E35+E39+E44) -> 1337 | F45: =SUM(F35+F39+F44) -> 1219 | G45: =SUM(G35+G39+G44) -> 167 | H45: =SUM(H35+H39+H44) -> 313 | I45: =SUM(I35+I39+I44) -> 20 | J45: =SUM(E45+G45+H45+I45) -> 1837 | L45: =SUM(L35+L39+L44) -> 148 | N45: =SUM(N35+N39+N44) -> 8558900

Sheet Kentron
A1: Ð²ÞìºîìàôÂÚàôÜ
A2: ø²Ô²ø²ø²òÆ²Î²Ü ¶àðÌºðÆ øÜÜàôÂÚ²Ü ìºð²´ºðÚ²È
A3: ºñ¨³Ý ù³Õ³ùÇ Î»ÝïñáÝ ¨ Üáñù-Ø³ñ³ß Ñ³Ù³ÛÝùÝ»ñÇ ³é³çÇÝ ³ïÛ³ÝÇ ¹³ï³ñ³ÝÇ
A4: 2007Ã . Ñ³Ù³ñ
A6: ¦²§ µ³ÅÝÇ í»ñ³µ»ñÛ³É ëïáõ·Çã Ñ³í³ë³ñáõÙÝ»ñ 1 ¨ 2 ëÛáõÝ³ÏÝ»ñÇ Ãí»ñÇ ·áõÙ³ñÁ Ñ³í³ë³ñ ¿ 8 ¨ 10 ëÛáõÝ³ÏÝ»ñÇ Ãí»ñÇ ·áõÙ³ñÇÝ: 8 ëÛáõÝ³ÏÇ ÃÇíÁ Ñ³í³ë³ñ ¿ 3,5-7 ëÛáõÝ³ÏÝ»ñÇ Ãí»ñÇ ·áõÙ³ñÇÝ: | E6: ² ù³Õ³ù³óÇ³Ï³Ý ·áñÍ»ñÇ ß³ñÅÁ
E7: ²í³ñïí»É »Ý ·áñÍ»ñ Ñ³ßí»ïáõ Å³Ù³Ý³Ï³ßñç³ÝáõÙ
C8: ²Ý³í³ñï ·áñÍ»ñÇ ÙÝ³óáñ¹Á Ñ³ßí»ïáõ Å³Ù³Ý³Ï³ßñç³ÝÇ ëÏ½µáõÙ | D8: êï³óí»É »Ý ·áñÍ»ñ Ñ³ßí»ïáõ Å³Ù³Ý³Ï³ßñç³ÝáõÙ | E8: ÀÝ¹³Ù»ÝÁ ùÝÝí»É »Ý ·áñÍ»ñ í×éÇ Ï³Û³óáõÙáí | F8: ²Û¹ ÃíáõÙ Ñ³ÛóÇ µ³í³ñ³ñÙ³Ùµ | G8: Î³ñ×í»É »Ý ·áñÍ»ñ í×éÇ Ï³Û³óáõÙáí | H8: Ð³Ûó»ñÁ ÃáÕÝí»É »Ý ³é³Ýó ùÝÝáõÃÛ³Ý | I8: ¶áñÍ»ñÁ Ñ³ÝÓÝí»É »Ý ³ÛÉ ¹³ï³ñ³ÝÝ»ñÇ | J8: ÀÝ¹³Ù»ÝÁ ³í³ñïí»É »Ý ·áñÍ»ñ (3, 5-7 ëÛáõÝ³ÏÝ»ñ) | K8: ²Û¹ ÃíáõÙ ù³Õ, ¹³ï, ûñ-áí Ý³Ë³ï»ëí³ÍÇó ³í»ÉÇ Å³ÙÏ»ïáõÙ | L8: ²Ý³í³ñï ·áñÍ»ñÇ ÙÝ³óáñ¹Á Ñ³ßí»ïáõ Å³Ù³Ý³Ï³ßñç³ÝÇ í»ñçáõÙ | M8: ²Û¹ ÃíáõÙ ·ïÝíáõÙ »Ý 3 ³ÙëÇó ³í»ÉÇ (Ï³ë»óí³Í ·áñÍ»ñÇ Ñ»ï Ù»Ïï»Õ) | N8: ä»ïáõÃÛ³Ý û·ïÇÝ ÙáõÍí³Í å»ï³Ï³Ý ïáõñùÇ ã³÷Á (¹ñ³Ùáí)
C9: 1 | D9: 2 | E9: 3 | F9: 4 | G9: 5 | H9: 6 | I9: 7 | J9: 8 | K9: 9 | L9: 10 | M9: 11 | N9: 12
A10: 1. ²½³ïí³ÍÝ»ñÇÝ ³ßË³ï³ÝùáõÙ í»ñ³Ï³Ý·Ý»Éáõ í»ñ³µ»ñÛ³É Ñ³Ûó»ñ | C10: 15 | D10: 58 | E10: 40 | F10: 16 | G10: 5 | H10: 6 | I10: 3 | J10: 54 | L10: 19
A11: 2. ´³ÝíáñÝ»ñÇ ¨ Í³é³ÛáÕÝ»ñÇ ³ÛÉ ³ßË³ï³Ýù³ÛÇÝ í»×»ñ | C11: 40 | D11: 85 | E11: 68 | F11: 61 | G11: 3 | H11: 17 | I11: 2 | J11: 90 | L11: 35 | N11: 20000
A12: 3. ²ßË.å³ñï³Ï³ÝáõÃ. Ï³ï³ñ»ÉÇë µ³Ýí.¨ Í³é³ÛáÕÝ»ñÇ ÏáÕÙÇó ÝÛáõÃ. íÝ³ëÇ Ñ³ïáõóÙ³Ý í»ñ³µ»ñÛ³É (³ßË, ûñ, 129-134 ÑÑ) Ñ³Ûó»ñ
A13: 4. ¶ÛáõÕ. ÏáÉ»ÏïÇí ïÝï»ëáõÃÛ³Ý ³Ý¹³ÙÝ»ñÇ ÏáÕÙÇó Ý»ñÏ³Û³óí³Í Ñ³Ûó»ñ
A14: 5. ºñ»Ë³Ý»ñÇÝ å³Ñ»Éáõ Ñ³Ù³ñ ³ÉÇÙ»ÝïÇ µéÝ³·³ÝÓÙ³Ý í»ñ³µ»ñÛ³É Ñ³Ûó»ñ | C14: 10 | D14: 48 | E14: 35 | F14: 28 | G14: 4 | H14: 7 | J14: 46 | L14: 12
A15: 6. Ð³ÛñáõÃÛ³Ý Ñ³ëï³ïÙ³Ý í»ñ³µ»ñÛ³É Ñ³Ûó»ñ
A16: 7. ÌÝáÕ³Ï³Ý Çñ³íáõÝùÇó ½ñÏ»Éáõ í»ñ³µ»ñÛ³É Ñ³Ûó»ñ | C16: 2 | D16: 6 | E16: 4 | F16: 3 | H16: 2 | J16: 6 | L16: 2 | N16: 20000
A17: 8. ²ÙáõëÝ³ÉáõÍáõÃÛ³Ý í»ñ³µ»ñÛ³É Ñ³Ûó»ñ | C17: 16 | D17: 112 | E17: 73 | F17: 69 | G17: 14 | H17: 15 | I17: 3 | J17: 105 | L17: 23 | N17: 399000
A18: 9. ´Ý³Ï³ñ³ÝÇ Ñ³ïÏ³óáõÙáí íï³ñ»Éáõ í»ñ³µ»ñÛ³É Ñ³Ûó»ñ
A19: 10. ²é³Ýó ³ÛÉ µÝ³Ï³ñ³ÝÇ Ñ³ïÏ³óÙ³Ý íï³ñ»Éáõ í»ñ³µ»ñÛ³É Ñ³Ûó»ñ | C19: 12 | D19: 21 | E19: 20 | F19: 15 | G19: 1 | H19: 7 | J19: 28 | L19: 5 | N19: 95000
A20: 11. ²ÛÉ µÝ³Ï³ñ³Ý³ÛÇÝ Ñ³Ûó»ñ | C20: 12 | D20: 45 | E20: 18 | F20: 6 | G20: 7 | H20: 11 | I20: 3 | J20: 39 | L20: 18 | N20: 124150
A21: 12. ´Ý³ÏáõÃÛ³Ý Çñ³íáõÝùÁ ×³Ý³ã»Éáõ í»ñ³µ»ñÛ³É Ñ³Ûó»ñ | C21: 3 | D21: 7 | E21: 6 | F21: 4 | G21: 1 | H21: 1 | J21: 8 | L21: 2 | N21: 20000
A22: 13. ´Ý³ÏáõÃÛ³Ý Çñ³íáõÝùÁ Ïáñóñ³Í ×³Ý³ã»Éáõ í»ñ³µ»ñÛ³É Ñ³Ûó»ñ | C22: 5 | D22: 32 | E22: 9 | F22: 8 | G22: 3 | H22: 12 | I22: 1 | J22: 25 | L22: 12 | N22: 342000
A23: 14. ø³Õ³ù³óÇÝ»ñÇ ë»÷³Ï³ÝáõÃÛ³Ý Çñ³íáõÝùÇ í»ñ³µ»ñÛ³É Ñ³Ûó»ñ | C23: 39 | D23: 83 | E23: 34 | F23: 17 | G23: 10 | H23: 34 | I23: 4 | J23: 82 | L23: 40 | N23: 254150
A24: 15. ê»÷³Ï³ÝáõÃÛ³Ý Çñ³íáõÝùÇ í»ñ³µ»ñÛ³É Ñ³Ûó»ñ | C24: 11 | D24: 130 | E24: 59 | F24: 34 | G24: 9 | H24: 33 | I24: 7 | J24: 108 | L24: 33 | N24: 524700
A25: 16.Ê»Õ³Ý¹³ÙáõÃ.Ï³Ù Ù³Ñí³Ý Ñ³Ù³ñ íÝ³ëÁ Ñ³ïáõó»Éáõ Ù³ëÇÝ Ýáñ Ñ³ñáõóí³Í Ñ³Ûó»ñ | D25: 2 | E25: 2 | F25: 1 | J25: 2
A26: 17. ¶áõÛùÁ í»ñ·ñÇó Ñ³Ý»Éáõ í»ñ³µ»ñÛ³É Ñ³Ûó»ñ | C26: 14 | D26: 31 | E26: 27 | F26: 18 | G26: 3 | H26: 8 | I26: 1 | J26: 39 | L26: 6 | N26: 120000
A27: 18.Ð³Ûó»ñ Ñ»ÕÇÝ³ÏÇ Çñ³íáõÝùÇ í»ñ³µ»ñÛ³É í»×»ñáí | C27: 1 | D27: 1 | E27: 2 | F27: 1 | J27: 2 | N27: 4000
A28: 19. Ú³Ûó»ñ ·Ûáõï³ñ³ñáõÃÛ³Ý Çñ³íáõÝùÇ í»ñ³µ»ñÛ³É í»×»ñáí
A29: 20. ²Ýï³éÝ»ñÇ Ë³ËïáõÙÝ»ñÇ Ñ³Ù³ñ ·áõÛù³ÛÇÝ å³ï³ëË³Ý³ïíáõÃÛ³Ý í»ñ³µ»ñÛ³É Ñ³Ûó»ñ
A30: 21. ²åûñÇÝÇ áñëÇ ¨ ÓÏ³Ý å³ß³ñÝ»ñÇ áãÝã³óÙ³Ý Ñ»ï¨³Ýùáí ³é³ç³½áó ÝÛáõÃ³Ï³Ý å³ï³ëË³Ý³ïíáõÃÛ³Ý í»ñ³µ»ñÛ³É Ñ³Ûó»ñ
A31: 22. ÀÝïñ³Ï³Ý ·áñÍÁÝÃ³ó³ÛÇÝ í»ñ³µ»ñÛ³É Ñ³Ûó»ñ | D31: 20 | E31: 20 | F31: 1 | J31: 20 | N31: 8000
A32: 23. ¶áñÍ³ñùÝ»ñÁ ¨ å³ÛÙ³Ý³·ñ»ñÁ í³í»ñ³óÝ»Éáõ Ï³Ù ³Ýí³í»ñ ×³Ý³ã»Éáõ í»ñ³µ»ñÛ³É Ñ³Ûó»ñ | C32: 5 | D32: 57 | E32: 16 | F32: 7 | G32: 11 | H32: 15 | I32: 7 | J32: 49 | L32: 13 | N32: 1662285
A33: 24. ä³ïíÇ ¨ ³ñÅ³Ý³å³ïíáõÃÛ³Ý å³ßïå³ÝáõÃÛ³Ý í»ñ³µ»ñÛ³É ·áñÍ»ñ | D33: 7 | E33: 1 | G33: 4 | H33: 2 | J33: 7 | N33: 12000
A34: 25. Ð³Ûó³ÛÇÝ ³ÛÉ ·áñÍ»ñ | C34: 419 | D34: 2610 | E34: 1251 | F34: 875 | G34: 327 | H34: 519 | I34: 113 | J34: 2210 | L34: 819 | N34: 17168900
A35: 26. ÀÝ¹³Ù»ÝÁ Ñ³Ûó³ÛÇÝ í³ñáõÛÃÇ ·áñÍ»ñ (1-25 ïáÕ»ñ) | C35: =SUM(C10:C34) -> 604 | D35: =SUM(D10:D34) -> 3355 | E35: =SUM(E10:E34) -> 1685 | F35: =SUM(F10:F34) -> 1164 | G35: =SUM(G10:G34) -> 402 | H35: =SUM(H10:H34) -> 689 | I35: =SUM(I10:I34) -> 144 | J35: =SUM(J10:J34) -> 2920 | L35: =SUM(L10:L34) -> 1039 | N35: =SUM(N10:N34) -> 20774185
A36: ì³ñã³-Çñ³í³Ï³Ý Ñ³ñ³µ»ñáõÃÛáõÝÝ»ñÇó | B36: 27.Ð³ñÏ»ñÇ ³å³éùÝ»ñÇ ·³ÝÓÙ³Ý í»ñ³µ»ñÛ³É Ñ³Ûó»ñ
B37: 28.ì³ñã³-Çñ³í³Ï³Ý Ñ³ñ³µ»ñáõÃÛáõÝÝ»ñÇó ³é³ç³ó³Í Ñ³Ûó»ñ | C37: 60 | D37: 760 | E37: 390 | F37: 334 | G37: 35 | H37: 19 | I37: 160 | J37: 604 | L37: 216 | N37: 1380602
B38: 29.ä»ï³Ï³Ý Ï³é³í³ñÙ³Ý Ù³ñÙÇÝÝ»ñÇ ¨ å³ßïáÝ³ï³ñ ³ÝÓ³Ýó ³åûñÇÝÇ ·áñÍáÕáõÃÛáõÝÝ»ñÇ í»ñ³µ»ñÛ³É Ñ³Ûó»ñ | C38: 49 | D38: 292 | E38: 239 | F38: 53 | G38: 27 | H38: 22 | I38: 39 | J38: 327 | L38: 14 | N38: 284032
B39: 30.ÀÝ¹³Ù»ÝÁ í³ñã³-Çñ³í³Ï³Ý Ñ³ñ³µ»ñáõÃÛáõÝÝ»ñÇó ³é³ç³ó³Í Ñ³Ûó»ñ (27-29 ïáÕ»ñ) | C39: =SUM(C37:C38) -> 109 | D39: =SUM(D37:D38) -> 1052 | E39: =SUM(E37:E38) -> 629 | F39: =SUM(F37:F38) -> 387 | G39: =SUM(G37:G38) -> 62 | H39: =SUM(H37:H38) -> 41 | I39: =SUM(I37:I38) -> 199 | J39: =SUM(J37:J38) -> 931 | L39: =SUM(L37:L38) -> 230 | N39: =SUM(N37:N38) -> 1664634
A40: Ð³ïáõÏ í³ñáõÛÃÇ ·áñÍ»ñ | B40: 31.Æñ³í³µ³Ý³Ï³Ý Ýß³Ý³ÏáõÃÛáõÝ áõÝ»óáÕ ÷³ëï»ñ Ñ³ëï³ï»Éáõ í»ñ³µ»ñÛ³É Ñ³Ûó»ñ | C40: 20 | D40: 228 | E40: 177 | F40: 158 | G40: 10 | H40: 28 | J40: 215 | L40: 33 | N40: 583578
B41: 32.Üáï³ñ³Ï³Ý ·áñÍáÕáõÃÛáõÝÝ»ñÇ Ï³Ù ¹ñ³Ýó Ï³ï³ñÙ³Ý Ù»ñÅÙ³Ý Ñ³Ù³ñ µáÕáùÝ»ñáí | D41: 1 | E41: 1 | F41: 1 | J41: 1
B42: 33.¶áñÍ»ñ ¼²¶ê-Ç Ù³ïÛ³ÝÝ»ñáõÙ áã ×Çßï ·ñ³ÝóáõÙÝ»ñÇ í»ñ³µ»ñÛ³É ·³Ý·³ïÝ»ñÇ ³éÃÇí
B43: 34. Ð³ïáõÏ í³ñáõÛÃÇ ³ÛÉ ·áñÍ»ñ | C43: 13 | D43: 68 | E43: 49 | F43: 46 | G43: 6 | H43: 9 | J43: 64 | L43: 17 | N43: 136600
B44: 35. ÀÝ¹³Ù»ÝÁ Ñ³ïáõÏ í³ñáõÛÃÇ ·áñÍ»ñ (31-34 ïáÕ»ñ) | C44: =SUM(C40:C43) -> 33 | D44: =SUM(D40:D43) -> 297 | E44: =SUM(E40:E43) -> 227 | F44: =SUM(F40:F43) -> 205 | G44: =SUM(G40:G43) -> 16 | H44: =SUM(H40:H43) -> 37 | J44: =SUM(J40:J43) -> 280 | L44: =SUM(L40:L43) -> 50 | N44: =SUM(N40:N43) -> 720178
A45: 36. ÀÝ¹³Ù»ÝÁ ù³Õ³ù³óÇ³Ï³Ý ·áñÍ»ñ (26, 30, 35) | C45: =SUM(C35+C39+C44) -> 746 | D45: =SUM(D35+D39+D44) -> 4704 | E45: =SUM(E35+E39+E44) -> 2541 | F45: =SUM(F35+F39+F44) -> 1756 | G45: =SUM(G35+G39+G44) -> 480 | H45: =SUM(H35+H39+H44) -> 767 | I45: =SUM(I35+I39+I44) -> 343 | J45: =SUM(J35+J39+J44) -> 4131 | L45: =SUM(L35+L39+L44) -> 1319 | N45: =SUM(N35+N39+N44) -> 23158997

Sheet Arabkir
A1: Ð²ÞìºîìàôÂÚàôÜ
A2: ø²Ô²ø²ø²òÆ²Î²Ü ¶àðÌºðÆ øÜÜàôÂÚ²Ü ìºð²´ºðÚ²È
A3: ºñ¨³Ý ù³Õ³ùÇ ²ñ³µÏÇñ ¨ ø³Ý³ù»é-¼»ÛÃáõÝ Ñ³Ù³ÛÝùÝ»ñÇ ³é³çÇÝ ³ïÛ³ÝÇ ¹³ï³ñ³ÝÇ
A4: 2007Ã. Ñ³Ù³ñ
A6: ¦²§ µ³ÅÝÇ í»ñ³µ»ñÛ³É ëïáõ·Çã Ñ³í³ë³ñáõÙÝ»ñ 1 ¨ 2 ëÛáõÝ³ÏÝ»ñÇ Ãí»ñÇ ·áõÙ³ñÁ Ñ³í³ë³ñ ¿ 8 ¨ 10 ëÛáõÝ³ÏÝ»ñÇ Ãí»ñÇ ·áõÙ³ñÇÝ: 8 ëÛáõÝ³ÏÇ ÃÇíÁ Ñ³í³ë³ñ ¿ 3,5-7 ëÛáõÝ³ÏÝ»ñÇ Ãí»ñÇ ·áõÙ³ñÇÝ: | E6: ² ù³Õ³ù³óÇ³Ï³Ý ·áñÍ»ñÇ ß³ñÅÁ
E7: ²í³ñïí»É »Ý ·áñÍ»ñ Ñ³ßí»ïáõ Å³Ù³Ý³Ï³ßñç³ÝáõÙ
C8: ²Ý³í³ñï ·áñÍ»ñÇ ÙÝ³óáñ¹Á Ñ³ßí»ïáõ Å³Ù³Ý³Ï³ßñç³ÝÇ ëÏ½µáõÙ | D8: êï³óí»É »Ý ·áñÍ»ñ Ñ³ßí»ïáõ Å³Ù³Ý³Ï³ßñç³ÝáõÙ | E8: ÀÝ¹³Ù»ÝÁ ùÝÝí»É »Ý ·áñÍ»ñ í×éÇ Ï³Û³óáõÙáí | F8: ²Û¹ ÃíáõÙ Ñ³ÛóÇ µ³í³ñ³ñÙ³Ùµ | G8: Î³ñ×í»É »Ý ·áñÍ»ñ í×éÇ Ï³Û³óáõÙáí | H8: Ð³Ûó»ñÁ ÃáÕÝí»É »Ý ³é³Ýó ùÝÝáõÃÛ³Ý | I8: ¶áñÍ»ñÁ Ñ³ÝÓÝí»É »Ý ³ÛÉ ¹³ï³ñ³ÝÝ»ñÇ | J8: ÀÝ¹³Ù»ÝÁ ³í³ñïí»É »Ý ·áñÍ»ñ (3, 5-7 ëÛáõÝ³ÏÝ»ñ) | K8: ²Û¹ ÃíáõÙ ù³Õ, ¹³ï, ûñ-áí Ý³Ë³ï»ëí³ÍÇó ³í»ÉÇ Å³ÙÏ»ïáõÙ | L8: ²Ý³í³ñï ·áñÍ»ñÇ ÙÝ³óáñ¹Á Ñ³ßí»ïáõ Å³Ù³Ý³Ï³ßñç³ÝÇ í»ñçáõÙ | M8: ²Û¹ ÃíáõÙ ·ïÝíáõÙ »Ý 3 ³ÙëÇó ³í»ÉÇ (Ï³ë»óí³Í ·áñÍ»ñÇ Ñ»ï Ù»Ïï»Õ) | N8: ä»ïáõÃÛ³Ý û·ïÇÝ ÙáõÍí³Í å»ï³Ï³Ý ïáõñùÇ ã³÷Á (¹ñ³Ùáí)
C9: 1 | D9: 2 | E9: 3 | F9: 4 | G9: 5 | H9: 6 | I9: 7 | J9: 8 | K9: 9 | L9: 10 | M9: 11 | N9: 12
A10: 1. ²½³ïí³ÍÝ»ñÇÝ ³ßË³ï³ÝùáõÙ í»ñ³Ï³Ý·Ý»Éáõ í»ñ³µ»ñÛ³É Ñ³Ûó»ñ
A11: 2. ´³ÝíáñÝ»ñÇ ¨ Í³é³ÛáÕÝ»ñÇ ³ÛÉ ³ßË³ï³Ýù³ÛÇÝ í»×»ñ | C11: 3 | D11: 40 | E11: 27 | F11: 13 | G11: 3 | H11: 10 | J11: 40 | L11: 3
A12: 3. ²ßË.å³ñï³Ï³ÝáõÃ. Ï³ï³ñ»ÉÇë µ³Ýí.¨ Í³é³ÛáÕÝ»ñÇ ÏáÕÙÇó ÝÛáõÃ. íÝ³ëÇ Ñ³ïáõóÙ³Ý í»ñ³µ»ñÛ³É (³ßË, ûñ, 129-134 ÑÑ) Ñ³Ûó»ñ
A13: 4. ¶ÛáõÕ. ÏáÉ»ÏïÇí ïÝï»ëáõÃÛ³Ý ³Ý¹³ÙÝ»ñÇ ÏáÕÙÇó Ý»ñÏ³Û³óí³Í Ñ³Ûó»ñ
A14: 5. ºñ»Ë³Ý»ñÇÝ å³Ñ»Éáõ Ñ³Ù³ñ ³ÉÇÙ»ÝïÇ µéÝ³·³ÝÓÙ³Ý í»ñ³µ»ñÛ³É Ñ³Ûó»ñ | C14: 17 | D14: 113 | E14: 87 | F14: 76 | G14: 8 | H14: 11 | I14: 1 | J14: 107 | L14: 23 | N14: 8000
A15: 6. Ð³ÛñáõÃÛ³Ý Ñ³ëï³ïÙ³Ý í»ñ³µ»ñÛ³É Ñ³Ûó»ñ | D15: 4 | E15: 4 | F15: 4 | J15: 4
A16: 7. ÌÝáÕ³Ï³Ý Çñ³íáõÝùÇó ½ñÏ»Éáõ í»ñ³µ»ñÛ³É Ñ³Ûó»ñ | D16: 5 | E16: 3 | F16: 3 | H16: 2 | J16: 5 | N16: 8000
A17: 8. ²ÙáõëÝ³ÉáõÍáõÃÛ³Ý í»ñ³µ»ñÛ³É Ñ³Ûó»ñ | C17: 19 | D17: 173 | E17: 115 | F17: 115 | G17: 15 | H17: 21 | I17: 5 | J17: 156 | L17: 36 | N17: 647000
A18: 9. ´Ý³Ï³ñ³ÝÇ Ñ³ïÏ³óáõÙáí íï³ñ»Éáõ í»ñ³µ»ñÛ³É Ñ³Ûó»ñ | C18: 4 | D18: 17 | E18: 11 | F18: 11 | G18: 5 | H18: 4 | J18: 20 | L18: 1 | N18: 36000
A19: 10. ²é³Ýó ³ÛÉ µÝ³Ï³ñ³ÝÇ Ñ³ïÏ³óÙ³Ý íï³ñ»Éáõ í»ñ³µ»ñÛ³É Ñ³Ûó»ñ | C19: 5 | D19: 59 | E19: 30 | F19: 28 | G19: 10 | H19: 8 | J19: 48 | L19: 16 | N19: 147000
A20: 11. ²ÛÉ µÝ³Ï³ñ³Ý³ÛÇÝ Ñ³Ûó»ñ | C20: 9 | D20: 52 | E20: 22 | F20: 14 | G20: 6 | H20: 14 | I20: 3 | J20: 45 | L20: 16 | N20: 136000
A21: 12. ´Ý³ÏáõÃÛ³Ý Çñ³íáõÝùÁ ×³Ý³ã»Éáõ í»ñ³µ»ñÛ³É Ñ³Ûó»ñ | C21: 7 | D21: 35 | E21: 19 | F21: 12 | G21: 5 | H21: 13 | J21: 37 | L21: 5 | N21: 107000
A22: 13. ´Ý³ÏáõÃÛ³Ý Çñ³íáõÝùÁ Ïáñóñ³Í ×³Ý³ã»Éáõ í»ñ³µ»ñÛ³É Ñ³Ûó»ñ | C22: 12 | D22: 50 | E22: 26 | F22: 18 | G22: 7 | H22: 10 | J22: 43 | L22: 19 | N22: 148000
A23: 14. ø³Õ³ù³óÇÝ»ñÇ ë»÷³Ï³ÝáõÃÛ³Ý Çñ³íáõÝùÇ í»ñ³µ»ñÛ³É Ñ³Ûó»ñ | C23: 49 | D23: 268 | E23: 162 | F23: 128 | G23: 37 | H23: 51 | I23: 6 | J23: 256 | L23: 61 | N23: 1024000
A24: 15. ê»÷³Ï³ÝáõÃÛ³Ý Çñ³íáõÝùÇ í»ñ³µ»ñÛ³É Ñ³Ûó»ñ | C24: 18 | D24: 65 | E24: 26 | F24: 15 | G24: 6 | H24: 18 | I24: 3 | J24: 53 | L24: 30 | N24: 269500
A25: 16.Ê»Õ³Ý¹³ÙáõÃ.Ï³Ù Ù³Ñí³Ý Ñ³Ù³ñ íÝ³ëÁ Ñ³ïáõó»Éáõ Ù³ëÇÝ Ýáñ Ñ³ñáõóí³Í Ñ³Ûó»ñ
A26: 17. ¶áõÛùÁ í»ñ·ñÇó Ñ³Ý»Éáõ í»ñ³µ»ñÛ³É Ñ³Ûó»ñ | C26: 1 | D26: 31 | E26: 23 | F26: 17 | G26: 4 | J26: 27 | L26: 5 | N26: 56000
A27: 18.Ð³Ûó»ñ Ñ»ÕÇÝ³ÏÇ Çñ³íáõÝùÇ í»ñ³µ»ñÛ³É í»×»ñáí
A28: 19. Ú³Ûó»ñ ·Ûáõï³ñ³ñáõÃÛ³Ý Çñ³íáõÝùÇ í»ñ³µ»ñÛ³É í»×»ñáí
A29: 20. ²Ýï³éÝ»ñÇ Ë³ËïáõÙÝ»ñÇ Ñ³Ù³ñ ·áõÛù³ÛÇÝ å³ï³ëË³Ý³ïíáõÃÛ³Ý í»ñ³µ»ñÛ³É Ñ³Ûó»ñ
A30: 21. ²åûñÇÝÇ áñëÇ ¨ ÓÏ³Ý å³ß³ñÝ»ñÇ áãÝã³óÙ³Ý Ñ»ï¨³Ýùáí ³é³ç³½áó ÝÛáõÃ³Ï³Ý å³ï³ëË³Ý³ïíáõÃÛ³Ý í»ñ³µ»ñÛ³É Ñ³Ûó»ñ
A31: 22. ÀÝïñ³Ï³Ý ·áñÍÁÝÃ³ó³ÛÇÝ í»ñ³µ»ñÛ³É Ñ³Ûó»ñ
A32: 23. ¶áñÍ³ñùÝ»ñÁ ¨ å³ÛÙ³Ý³·ñ»ñÁ í³í»ñ³óÝ»Éáõ Ï³Ù ³Ýí³í»ñ ×³Ý³ã»Éáõ í»ñ³µ»ñÛ³É Ñ³Ûó»ñ | C32: 16 | D32: 151 | E32: 89 | F32: 59 | G32: 32 | H32: 18 | I32: 12 | J32: 151 | L32: 16 | N32: 597000
A33: 24. ä³ïíÇ ¨ ³ñÅ³Ý³å³ïíáõÃÛ³Ý å³ßïå³ÝáõÃÛ³Ý í»ñ³µ»ñÛ³É ·áñÍ»ñ
A34: 25. Ð³Ûó³ÛÇÝ ³ÛÉ ·áñÍ»ñ | C34: 294 | D34: 1357 | E34: 862 | F34: 741 | G34: 180 | H34: 127 | I34: 68 | J34: 1237 | L34: 414 | N34: 12416728
A35: 26. ÀÝ¹³Ù»ÝÁ Ñ³Ûó³ÛÇÝ í³ñáõÛÃÇ ·áñÍ»ñ (1-25 ïáÕ»ñ) | C35: =SUM(C11:C34) -> 454 | D35: =SUM(D11:D34) -> 2420 | E35: =SUM(E11:E34) -> 1506 | F35: =SUM(F11:F34) -> 1254 | G35: =SUM(G11:G34) -> 318 | H35: =SUM(H11:H34) -> 307 | I35: =SUM(I11:I34) -> 98 | J35: =SUM(J11:J34) -> 2229 | L35: =SUM(L11:L34) -> 645 | N35: =SUM(N10:N34) -> 15600228
A36: ì³ñã³-Çñ³í³Ï³Ý Ñ³ñ³µ»ñáõÃÛáõÝÝ»ñÇó | B36: 27.Ð³ñÏ»ñÇ ³å³éùÝ»ñÇ ·³ÝÓÙ³Ý í»ñ³µ»ñÛ³É Ñ³Ûó»ñ
B37: 28.ì³ñã³-Çñ³í³Ï³Ý Ñ³ñ³µ»ñáõÃÛáõÝÝ»ñÇó ³é³ç³ó³Í Ñ³Ûó»ñ ä²î | C37: 999 | D37: 666 | E37: 583 | F37: 553 | G37: 53 | H37: 303 | I37: 26 | J37: 965 | L37: 700 | N37: 918434
B38: 29.ä»ï³Ï³Ý Ï³é³í³ñÙ³Ý Ù³ñÙÇÝÝ»ñÇ ¨ å³ßïáÝ³ï³ñ ³ÝÓ³Ýó ³åûñÇÝÇ ·áñÍáÕáõÃÛáõÝÝ»ñÇ í»ñ³µ»ñÛ³É Ñ³Ûó»ñ | C38: 3 | D38: 60 | E38: 35 | F38: 22 | G38: 7 | H38: 8 | I38: 8 | J38: 58 | L38: 5 | N38: 135000
B39: 30.ÀÝ¹³Ù»ÝÁ í³ñã³-Çñ³í³Ï³Ý Ñ³ñ³µ»ñáõÃÛáõÝÝ»ñÇó ³é³ç³ó³Í Ñ³Ûó»ñ (27-29 ïáÕ»ñ) | C39: =SUM(C37:C38) -> 1002 | D39: =SUM(D37:D38) -> 726 | E39: =SUM(E37:E38) -> 618 | F39: =SUM(F37:F38) -> 575 | G39: =SUM(G37:G38) -> 60 | H39: =SUM(H37:H38) -> 311 | I39: =SUM(I37:I38) -> 34 | J39: =SUM(J37:J38) -> 1023 | L39: =SUM(L37:L38) -> 705 | N39: =SUM(N37:N38) -> 1053434
A40: Ð³ïáõÏ í³ñáõÛÃÇ ·áñÍ»ñ | B40: 31.Æñ³í³µ³Ý³Ï³Ý Ýß³Ý³ÏáõÃÛáõÝ áõÝ»óáÕ ÷³ëï»ñ Ñ³ëï³ï»Éáõ í»ñ³µ»ñÛ³É Ñ³Ûó»ñ | C40: 27 | D40: 339 | E40: 264 | F40: 233 | G40: 13 | H40: 38 | I40: 7 | J40: 322 | L40: 44 | N40: 1011274
B41: 32.Üáï³ñ³Ï³Ý ·áñÍáÕáõÃÛáõÝÝ»ñÇ Ï³Ù ¹ñ³Ýó Ï³ï³ñÙ³Ý Ù»ñÅÙ³Ý Ñ³Ù³ñ µáÕáùÝ»ñáí
B42: 33.¶áñÍ»ñ ¼²¶ê-Ç Ù³ïÛ³ÝÝ»ñáõÙ áã ×Çßï ·ñ³ÝóáõÙÝ»ñÇ í»ñ³µ»ñÛ³É ·³Ý·³ïÝ»ñÇ ³éÃÇí
B43: 34. Ð³ïáõÏ í³ñáõÛÃÇ ³ÛÉ ·áñÍ»ñ | C43: 10 | D43: 119 | E43: 77 | F43: 77 | G43: 10 | H43: 13 | J43: 100 | L43: 29 | N43: 255000
B44: 35. ÀÝ¹³Ù»ÝÁ Ñ³ïáõÏ í³ñáõÛÃÇ ·áñÍ»ñ (31-34 ïáÕ»ñ) | C44: =SUM(C40:C43) -> 37 | D44: =SUM(D40:D43) -> 458 | E44: =SUM(E40:E43) -> 341 | F44: =SUM(F40:F43) -> 310 | G44: =SUM(G40:G43) -> 23 | H44: =SUM(H40:H43) -> 51 | I44: =SUM(I40:I43) -> 7 | J44: =SUM(J40:J43) -> 422 | L44: =SUM(L40:L43) -> 73 | N44: =SUM(N40:N43) -> 1266274
A45: 36. ÀÝ¹³Ù»ÝÁ ù³Õ³ù³óÇ³Ï³Ý ·áñÍ»ñ (26, 30, 35) | C45: =SUM(C35+C39+C44) -> 1493 | D45: =SUM(D35+D39+D44) -> 3604 | E45: =SUM(E35+E39+E44) -> 2465 | F45: =SUM(F35+F39+F44) -> 2139 | G45: =SUM(G35+G39+G44) -> 401 | H45: =SUM(H35+H39+H44) -> 669 | I45: =SUM(I35+I39+I44) -> 139 | J45: =SUM(J35+J39+J44) -> 3674 | L45: =SUM(L35+L39+L44) -> 1423 | N45: =SUM(N35+N39+N44) -> 17919936

Sheet Erebuni
A1: Ð²ÞìºîìàôÂÚàôÜ
A2: ø²Ô²ø²ø²òÆ²Î²Ü ¶àðÌºðÆ øÜÜàôÂÚ²Ü ìºð²´ºðÚ²È
A3: ºñ¨³Ý ù³Õ³ùÇ ¾ñ»µáõÝÇ ¨ Üáõµ³ñ³ß»Ý Ñ³Ù³ÛÝùÝ»ñÇ ³é³çÇÝ ³ïÛ³ÝÇ ¹³ï³ñ³ÝÇ
A4: 2007Ã. Ñ³Ù³ñ
A6: ¦²§ µ³ÅÝÇ í»ñ³µ»ñÛ³É ëïáõ·Çã Ñ³í³ë³ñáõÙÝ»ñ 1 ¨ 2 ëÛáõÝ³ÏÝ»ñÇ Ãí»ñÇ ·áõÙ³ñÁ Ñ³í³ë³ñ ¿ 8 ¨ 10 ëÛáõÝ³ÏÝ»ñÇ Ãí»ñÇ ·áõÙ³ñÇÝ: 8 ëÛáõÝ³ÏÇ ÃÇíÁ Ñ³í³ë³ñ ¿ 3,5-7 ëÛáõÝ³ÏÝ»ñÇ Ãí»ñÇ ·áõÙ³ñÇÝ: | E6: ² ù³Õ³ù³óÇ³Ï³Ý ·áñÍ»ñÇ ß³ñÅÁ
E7: ²í³ñïí»É »Ý ·áñÍ»ñ Ñ³ßí»ïáõ Å³Ù³Ý³Ï³ßñç³ÝáõÙ
C8: ²Ý³í³ñï ·áñÍ»ñÇ ÙÝ³óáñ¹Á Ñ³ßí»ïáõ Å³Ù³Ý³Ï³ßñç³ÝÇ ëÏ½µáõÙ | D8: êï³óí»É »Ý ·áñÍ»ñ Ñ³ßí»ïáõ Å³Ù³Ý³Ï³ßñç³ÝáõÙ | E8: ÀÝ¹³Ù»ÝÁ ùÝÝí»É »Ý ·áñÍ»ñ í×éÇ Ï³Û³óáõÙáí | F8: ²Û¹ ÃíáõÙ Ñ³ÛóÇ µ³í³ñ³ñÙ³Ùµ | G8: Î³ñ×í»É »Ý ·áñÍ»ñ í×éÇ Ï³Û³óáõÙáí | H8: Ð³Ûó»ñÁ ÃáÕÝí»É »Ý ³é³Ýó ùÝÝáõÃÛ³Ý | I8: ¶áñÍ»ñÁ Ñ³ÝÓÝí»É »Ý ³ÛÉ ¹³ï³ñ³ÝÝ»ñÇ | J8: ÀÝ¹³Ù»ÝÁ ³í³ñïí»É »Ý ·áñÍ»ñ (3, 5-7 ëÛáõÝ³ÏÝ»ñ) | K8: ²Û¹ ÃíáõÙ ù³Õ, ¹³ï, ûñ-áí Ý³Ë³ï»ëí³ÍÇó ³í»ÉÇ Å³ÙÏ»ïáõÙ | L8: ²Ý³í³ñï ·áñÍ»ñÇ ÙÝ³óáñ¹Á Ñ³ßí»ïáõ Å³Ù³Ý³Ï³ßñç³ÝÇ í»ñçáõÙ | M8: ²Û¹ ÃíáõÙ ·ïÝíáõÙ »Ý 3 ³ÙëÇó ³í»ÉÇ (Ï³ë»óí³Í ·áñÍ»ñÇ Ñ»ï Ù»Ïï»Õ) | N8: ä»ïáõÃÛ³Ý û·ïÇÝ ÙáõÍí³Í å»ï³Ï³Ý ïáõñùÇ ã³÷Á (¹ñ³Ùáí)
C9: 1 | D9: 2 | E9: 3 | F9: 4 | G9: 5 | H9: 6 | I9: 7 | J9: 8 | K9: 9 | L9: 10 | M9: 11 | N9: 12
A10: 1. ²½³ïí³ÍÝ»ñÇÝ ³ßË³ï³ÝùáõÙ í»ñ³Ï³Ý·Ý»Éáõ í»ñ³µ»ñÛ³É Ñ³Ûó»ñ | D10: 2 | E10: 1 | F10: 1 | G10: 1 | J10: 2
A11: 2. ´³ÝíáñÝ»ñÇ ¨ Í³é³ÛáÕÝ»ñÇ ³ÛÉ ³ßË³ï³Ýù³ÛÇÝ í»×»ñ | C11: 4 | D11: 9 | E11: 9 | F11: 5 | G11: 2 | H11: 2 | J11: 13
A12: 3. ²ßË.å³ñï³Ï³ÝáõÃ. Ï³ï³ñ»ÉÇë µ³Ýí.¨ Í³é³ÛáÕÝ»ñÇ ÏáÕÙÇó ÝÛáõÃ. íÝ³ëÇ Ñ³ïáõóÙ³Ý í»ñ³µ»ñÛ³É (³ßË, ûñ, 129-134 ÑÑ) Ñ³Ûó»ñ
A13: 4. ¶ÛáõÕ. ÏáÉ»ÏïÇí ïÝï»ëáõÃÛ³Ý ³Ý¹³ÙÝ»ñÇ ÏáÕÙÇó Ý»ñÏ³Û³óí³Í Ñ³Ûó»ñ
A14: 5. ºñ»Ë³Ý»ñÇÝ å³Ñ»Éáõ Ñ³Ù³ñ ³ÉÇÙ»ÝïÇ µéÝ³·³ÝÓÙ³Ý í»ñ³µ»ñÛ³É Ñ³Ûó»ñ | C14: 1 | D14: 48 | E14: 36 | F14: 36 | G14: 2 | H14: 5 | I14: 1 | J14: 44 | L14: 5 | M14: 1
A15: 6. Ð³ÛñáõÃÛ³Ý Ñ³ëï³ïÙ³Ý í»ñ³µ»ñÛ³É Ñ³Ûó»ñ | D15: 9 | E15: 5 | F15: 4 | G15: 1 | H15: 2 | J15: 8 | L15: 1 | N15: 32000
A16: 7. ÌÝáÕ³Ï³Ý Çñ³íáõÝùÇó ½ñÏ»Éáõ í»ñ³µ»ñÛ³É Ñ³Ûó»ñ | C16: 1 | D16: 9 | E16: 4 | F16: 3 | G16: 2 | H16: 3 | J16: 9 | L16: 1 | N16: 40000
A17: 8. ²ÙáõëÝ³ÉáõÍáõÃÛ³Ý í»ñ³µ»ñÛ³É Ñ³Ûó»ñ | C17: 2 | D17: 90 | E17: 63 | F17: 63 | G17: 5 | H17: 13 | I17: 2 | J17: 83 | L17: 9 | N17: 335000
A18: 9. ´Ý³Ï³ñ³ÝÇ Ñ³ïÏ³óáõÙáí íï³ñ»Éáõ í»ñ³µ»ñÛ³É Ñ³Ûó»ñ
A19: 10. ²é³Ýó ³ÛÉ µÝ³Ï³ñ³ÝÇ Ñ³ïÏ³óÙ³Ý íï³ñ»Éáõ í»ñ³µ»ñÛ³É Ñ³Ûó»ñ | C19: 3 | D19: 31 | E19: 14 | F19: 9 | G19: 9 | H19: 8 | J19: 31 | L19: 3 | N19: 111300
A20: 11. ²ÛÉ µÝ³Ï³ñ³Ý³ÛÇÝ Ñ³Ûó»ñ | C20: 2 | D20: 24 | E20: 13 | F20: 11 | G20: 7 | H20: 3 | I20: 1 | J20: 24 | L20: 2 | M20: 2 | N20: 80000
A21: 12. ´Ý³ÏáõÃÛ³Ý Çñ³íáõÝùÁ ×³Ý³ã»Éáõ í»ñ³µ»ñÛ³É Ñ³Ûó»ñ | D21: 2 | E21: 1 | F21: 1 | H21: 1 | J21: 2 | N21: 8000
A22: 13. ´Ý³ÏáõÃÛ³Ý Çñ³íáõÝùÁ Ïáñóñ³Í ×³Ý³ã»Éáõ í»ñ³µ»ñÛ³É Ñ³Ûó»ñ | D22: 3 | E22: 2 | F22: 2 | H22: 1 | J22: 3 | N22: 8000
A23: 14. ø³Õ³ù³óÇÝ»ñÇ ë»÷³Ï³ÝáõÃÛ³Ý Çñ³íáõÝùÇ í»ñ³µ»ñÛ³É Ñ³Ûó»ñ
A24: 15. ê»÷³Ï³ÝáõÃÛ³Ý Çñ³íáõÝùÇ í»ñ³µ»ñÛ³É Ñ³Ûó»ñ | C24: 21 | D24: 116 | E24: 67 | F24: 56 | G24: 14 | H24: 31 | I24: 2 | J24: 114 | L24: 23 | M24: 15 | N24: 504000
A25: 16.Ê»Õ³Ý¹³ÙáõÃ.Ï³Ù Ù³Ñí³Ý Ñ³Ù³ñ íÝ³ëÁ Ñ³ïáõó»Éáõ Ù³ëÇÝ Ýáñ Ñ³ñáõóí³Í Ñ³Ûó»ñ
A26: 17. ¶áõÛùÁ í»ñ·ñÇó Ñ³Ý»Éáõ í»ñ³µ»ñÛ³É Ñ³Ûó»ñ | C26: 1 | D26: 4 | E26: 3 | F26: 3 | G26: 1 | J26: 4 | L26: 1 | M26: 1 | N26: 12000
A27: 18.Ð³Ûó»ñ Ñ»ÕÇÝ³ÏÇ Çñ³íáõÝùÇ í»ñ³µ»ñÛ³É í»×»ñáí
A28: 19. Ú³Ûó»ñ ·Ûáõï³ñ³ñáõÃÛ³Ý Çñ³íáõÝùÇ í»ñ³µ»ñÛ³É í»×»ñáí
A29: 20. ²Ýï³éÝ»ñÇ Ë³ËïáõÙÝ»ñÇ Ñ³Ù³ñ ·áõÛù³ÛÇÝ å³ï³ëË³Ý³ïíáõÃÛ³Ý í»ñ³µ»ñÛ³É Ñ³Ûó»ñ
A30: 21. ²åûñÇÝÇ áñëÇ ¨ ÓÏ³Ý å³ß³ñÝ»ñÇ áãÝã³óÙ³Ý Ñ»ï¨³Ýùáí ³é³ç³½áó ÝÛáõÃ³Ï³Ý å³ï³ëË³Ý³ïíáõÃÛ³Ý í»ñ³µ»ñÛ³É Ñ³Ûó»ñ
A31: 22. ÀÝïñ³Ï³Ý ·áñÍÁÝÃ³ó³ÛÇÝ í»ñ³µ»ñÛ³É Ñ³Ûó»ñ
A32: 23. ¶áñÍ³ñùÝ»ñÁ ¨ å³ÛÙ³Ý³·ñ»ñÁ í³í»ñ³óÝ»Éáõ Ï³Ù ³Ýí³í»ñ ×³Ý³ã»Éáõ í»ñ³µ»ñÛ³É Ñ³Ûó»ñ | C32: 2 | D32: 43 | E32: 28 | F32: 21 | G32: 6 | H32: 8 | I32: 2 | J32: 44 | L32: 1 | M32: 1 | N32: 454262
A33: 24. ä³ïíÇ ¨ ³ñÅ³Ý³å³ïíáõÃÛ³Ý å³ßïå³ÝáõÃÛ³Ý í»ñ³µ»ñÛ³É ·áñÍ»ñ | D33: 1 | I33: 1 | J33: 1 | N33: 4000
A34: 25. Ð³Ûó³ÛÇÝ ³ÛÉ ·áñÍ»ñ | C34: 41 | D34: 604 | E34: 384 | F34: 350 | G34: 102 | H34: 78 | I34: 11 | J34: 575 | L34: 70 | M34: 31 | N34: 4984206
A35: 26. ÀÝ¹³Ù»ÝÁ Ñ³Ûó³ÛÇÝ í³ñáõÛÃÇ ·áñÍ»ñ (1-25 ïáÕ»ñ) | C35: =SUM(C10:C34) -> 78 | D35: =SUM(D10:D34) -> 995 | E35: =SUM(E10:E34) -> 630 | F35: =SUM(F10:F34) -> 565 | G35: =SUM(G10:G34) -> 152 | H35: =SUM(H10:H34) -> 155 | I35: =SUM(I10:I34) -> 20 | J35: =SUM(J10:J34) -> 957 | L35: =SUM(L10:L34) -> 116 | M35: =SUM(M10:M34) -> 51 | N35: =SUM(N10:N34) -> 6572768
A36: ì³ñã³-Çñ³í³Ï³Ý Ñ³ñ³µ»ñáõÃÛáõÝÝ»ñÇó | B36: 27.Ð³ñÏ»ñÇ ³å³éùÝ»ñÇ ·³ÝÓÙ³Ý í»ñ³µ»ñÛ³É Ñ³Ûó»ñ | D36: 47 | E36: 30 | F36: 29 | G36: 6 | H36: 6 | I36: 3 | J36: 45 | L36: 2 | M36: 2 | N36: 148000
B37: 28.ì³ñã³-Çñ³í³Ï³Ý Ñ³ñ³µ»ñáõÃÛáõÝÝ»ñÇó ³é³ç³ó³Í Ñ³Ûó»ñ ä²î | C37: 6 | D37: 68 | E37: 57 | F37: 50 | G37: 7 | H37: 6 | J37: 70 | L37: 4 | M37: 3 | N37: 63500
B38: 29.ä»ï³Ï³Ý Ï³é³í³ñÙ³Ý Ù³ñÙÇÝÝ»ñÇ ¨ å³ßïáÝ³ï³ñ ³ÝÓ³Ýó ³åûñÇÝÇ ·áñÍáÕáõÃÛáõÝÝ»ñÇ í»ñ³µ»ñÛ³É Ñ³Ûó»ñ | C38: 2 | D38: 46 | E38: 30 | F38: 24 | G38: 4 | H38: 8 | I38: 2 | J38: 44 | L38: 4 | M38: 3 | N38: 134000
B39: 30.ÀÝ¹³Ù»ÝÁ í³ñã³-Çñ³í³Ï³Ý Ñ³ñ³µ»ñáõÃÛáõÝÝ»ñÇó ³é³ç³ó³Í Ñ³Ûó»ñ (27-29 ïáÕ»ñ) | C39: =SUM(C36:C38) -> 8 | D39: =SUM(D36:D38) -> 161 | E39: =SUM(E36:E38) -> 117 | F39: =SUM(F36:F38) -> 103 | G39: =SUM(G36:G38) -> 17 | H39: =SUM(H36:H38) -> 20 | I39: =SUM(I36:I38) -> 5 | J39: =SUM(J36:J38) -> 159 | L39: =SUM(L36:L38) -> 10 | M39: =SUM(M36:M38) -> 8 | N39: =SUM(N36:N38) -> 345500
A40: Ð³ïáõÏ í³ñáõÛÃÇ ·áñÍ»ñ | B40: 31.Æñ³í³µ³Ý³Ï³Ý Ýß³Ý³ÏáõÃÛáõÝ áõÝ»óáÕ ÷³ëï»ñ Ñ³ëï³ï»Éáõ í»ñ³µ»ñÛ³É Ñ³Ûó»ñ | C40: 5 | D40: 200 | E40: 164 | F40: 155 | G40: 11 | H40: 21 | J40: 196 | L40: 9 | M40: 5 | N40: 650800
B41: 32.Üáï³ñ³Ï³Ý ·áñÍáÕáõÃÛáõÝÝ»ñÇ Ï³Ù ¹ñ³Ýó Ï³ï³ñÙ³Ý Ù»ñÅÙ³Ý Ñ³Ù³ñ µáÕáùÝ»ñáí
B42: 33.¶áñÍ»ñ ¼²¶ê-Ç Ù³ïÛ³ÝÝ»ñáõÙ áã ×Çßï ·ñ³ÝóáõÙÝ»ñÇ í»ñ³µ»ñÛ³É ·³Ý·³ïÝ»ñÇ ³éÃÇí | D42: 1 | E42: 1 | F42: 1 | J42: 1 | N42: 3000
B43: 34. Ð³ïáõÏ í³ñáõÛÃÇ ³ÛÉ ·áñÍ»ñ | C43: 5 | D43: 61 | E43: 52 | F43: 51 | G43: 4 | H43: 5 | J43: 61 | L43: 5 | M43: 3 | N43: 157000
B44: 35. ÀÝ¹³Ù»ÝÁ Ñ³ïáõÏ í³ñáõÛÃÇ ·áñÍ»ñ (31-34 ïáÕ»ñ) | C44: =SUM(C40:C43) -> 10 | D44: =SUM(D40:D43) -> 262 | E44: =SUM(E40:E43) -> 217 | F44: =SUM(F40:F43) -> 207 | G44: =SUM(G40:G43) -> 15 | H44: =SUM(H40:H43) -> 26 | J44: =SUM(J40:J43) -> 258 | L44: =SUM(L40:L43) -> 14 | M44: =SUM(M40:M43) -> 8 | N44: =SUM(N40:N43) -> 810800
A45: 36. ÀÝ¹³Ù»ÝÁ ù³Õ³ù³óÇ³Ï³Ý ·áñÍ»ñ (26, 30, 35) | C45: 96 | D45: 1418 | E45: 964 | F45: 875 | G45: 184 | H45: 201 | I45: 25 | J45: 1374 | L45: 140 | M45: 67 | N45: 7729068

Sheet Avan
A1: Ð²ÞìºîìàôÂÚàôÜ
A2: ø²Ô²ø²ø²òÆ²Î²Ü ¶àðÌºðÆ øÜÜàôÂÚ²Ü ìºð²´ºðÚ²È
A3: ºñ¨³Ý ù³Õ³ùÇ ²í³Ý ¨ Üáñ-Üáñù Ñ³Ù³ÛÝùÝ»ñÇ ³é³çÇÝ ³ïÛ³ÝÇ ¹³ï³ñ³ÝÇ
A4: 2007Ã. Ñ³Ù³ñ
A6: ¦²§ µ³ÅÝÇ í»ñ³µ»ñÛ³É ëïáõ·Çã Ñ³í³ë³ñáõÙÝ»ñ 1 ¨ 2 ëÛáõÝ³ÏÝ»ñÇ Ãí»ñÇ ·áõÙ³ñÁ Ñ³í³ë³ñ ¿ 8 ¨ 10 ëÛáõÝ³ÏÝ»ñÇ Ãí»ñÇ ·áõÙ³ñÇÝ: 8 ëÛáõÝ³ÏÇ ÃÇíÁ Ñ³í³ë³ñ ¿ 3,5-7 ëÛáõÝ³ÏÝ»ñÇ Ãí»ñÇ ·áõÙ³ñÇÝ: | E6: ² ù³Õ³ù³óÇ³Ï³Ý ·áñÍ»ñÇ ß³ñÅÁ
E7: ²í³ñïí»É »Ý ·áñÍ»ñ Ñ³ßí»ïáõ Å³Ù³Ý³Ï³ßñç³ÝáõÙ
C8: ²Ý³í³ñï ·áñÍ»ñÇ ÙÝ³óáñ¹Á Ñ³ßí»ïáõ Å³Ù³Ý³Ï³ßñç³ÝÇ ëÏ½µáõÙ | D8: êï³óí»É »Ý ·áñÍ»ñ Ñ³ßí»ïáõ Å³Ù³Ý³Ï³ßñç³ÝáõÙ | E8: ÀÝ¹³Ù»ÝÁ ùÝÝí»É »Ý ·áñÍ»ñ í×éÇ Ï³Û³óáõÙáí | F8: ²Û¹ ÃíáõÙ Ñ³ÛóÇ µ³í³ñ³ñÙ³Ùµ | G8: Î³ñ×í»É »Ý ·áñÍ»ñ í×éÇ Ï³Û³óáõÙáí | H8: Ð³Ûó»ñÁ ÃáÕÝí»É »Ý ³é³Ýó ùÝÝáõÃÛ³Ý | I8: ¶áñÍ»ñÁ Ñ³ÝÓÝí»É »Ý ³ÛÉ ¹³ï³ñ³ÝÝ»ñÇ | J8: ÀÝ¹³Ù»ÝÁ ³í³ñïí»É »Ý ·áñÍ»ñ (3, 5-7 ëÛáõÝ³ÏÝ»ñ) | K8: ²Û¹ ÃíáõÙ ù³Õ, ¹³ï, ûñ-áí Ý³Ë³ï»ëí³ÍÇó ³í»ÉÇ Å³ÙÏ»ïáõÙ | L8: ²Ý³í³ñï ·áñÍ»ñÇ ÙÝ³óáñ¹Á Ñ³ßí»ïáõ Å³Ù³Ý³Ï³ßñç³ÝÇ í»ñçáõÙ | M8: ²Û¹ ÃíáõÙ ·ïÝíáõÙ »Ý 3 ³ÙëÇó ³í»ÉÇ (Ï³ë»óí³Í ·áñÍ»ñÇ Ñ»ï Ù»Ïï»Õ) | N8: ä»ïáõÃÛ³Ý û·ïÇÝ ÙáõÍí³Í å»ï³Ï³Ý ïáõñùÇ ã³÷Á (¹ñ³Ùáí)
C9: 1 | D9: 2 | E9: 3 | F9: 4 | G9: 5 | H9: 6 | I9: 7 | J9: 8 | K9: 9 | L9: 10 | M9: 11 | N9: 12
A10: 1. ²½³ïí³ÍÝ»ñÇÝ ³ßË³ï³ÝùáõÙ í»ñ³Ï³Ý·Ý»Éáõ í»ñ³µ»ñÛ³É Ñ³Ûó»ñ | D10: 3 | E10: 3 | F10: 1 | J10: 3
A11: 2. ´³ÝíáñÝ»ñÇ ¨ Í³é³ÛáÕÝ»ñÇ ³ÛÉ ³ßË³ï³Ýù³ÛÇÝ í»×»ñ
A12: 3. ²ßË.å³ñï³Ï³ÝáõÃ. Ï³ï³ñ»ÉÇë µ³Ýí.¨ Í³é³ÛáÕÝ»ñÇ ÏáÕÙÇó ÝÛáõÃ. íÝ³ëÇ Ñ³ïáõóÙ³Ý í»ñ³µ»ñÛ³É (³ßË, ûñ, 129-134 ÑÑ) Ñ³Ûó»ñ
A13: 4. ¶ÛáõÕ. ÏáÉ»ÏïÇí ïÝï»ëáõÃÛ³Ý ³Ý¹³ÙÝ»ñÇ ÏáÕÙÇó Ý»ñÏ³Û³óí³Í Ñ³Ûó»ñ
A14: 5. ºñ»Ë³Ý»ñÇÝ å³Ñ»Éáõ Ñ³Ù³ñ ³ÉÇÙ»ÝïÇ µéÝ³·³ÝÓÙ³Ý í»ñ³µ»ñÛ³É Ñ³Ûó»ñ | C14: 11 | D14: 101 | E14: 64 | F14: 64 | G14: 8 | H14: 23 | J14: 95 | L14: 17
A15: 6. Ð³ÛñáõÃÛ³Ý Ñ³ëï³ïÙ³Ý í»ñ³µ»ñÛ³É Ñ³Ûó»ñ | C15: 2 | D15: 6 | E15: 4 | F15: 3 | H15: 2 | I15: 1 | J15: 7 | L15: 1 | N15: 20000
A16: 7. ÌÝáÕ³Ï³Ý Çñ³íáõÝùÇó ½ñÏ»Éáõ í»ñ³µ»ñÛ³É Ñ³Ûó»ñ | C16: 3 | D16: 8 | E16: 5 | F16: 3 | G16: 1 | H16: 2 | J16: 8 | L16: 3 | N16: 40000
A17: 8. ²ÙáõëÝ³ÉáõÍáõÃÛ³Ý í»ñ³µ»ñÛ³É Ñ³Ûó»ñ | C17: 16 | D17: 115 | E17: 90 | F17: 90 | G17: 10 | H17: 22 | J17: 122 | L17: 9 | N17: 396000
A18: 9. ´Ý³Ï³ñ³ÝÇ Ñ³ïÏ³óáõÙáí íï³ñ»Éáõ í»ñ³µ»ñÛ³É Ñ³Ûó»ñ
A19: 10. ²é³Ýó ³ÛÉ µÝ³Ï³ñ³ÝÇ Ñ³ïÏ³óÙ³Ý íï³ñ»Éáõ í»ñ³µ»ñÛ³É Ñ³Ûó»ñ | C19: 12 | D19: 29 | E19: 23 | F19: 21 | G19: 2 | H19: 10 | I19: 1 | J19: 36 | L19: 5 | N19: 50000
A20: 11. ²ÛÉ µÝ³Ï³ñ³Ý³ÛÇÝ Ñ³Ûó»ñ | C20: 5 | D20: 28 | E20: 12 | F20: 7 | G20: 2 | H20: 10 | J20: 24 | L20: 9 | N20: 40000
A21: 12. ´Ý³ÏáõÃÛ³Ý Çñ³íáõÝùÁ ×³Ý³ã»Éáõ í»ñ³µ»ñÛ³É Ñ³Ûó»ñ | C21: 2 | D21: 2 | E21: 3 | F21: 1 | G21: 1 | J21: 4 | N21: 4000
A22: 13. ´Ý³ÏáõÃÛ³Ý Çñ³íáõÝùÁ Ïáñóñ³Í ×³Ý³ã»Éáõ í»ñ³µ»ñÛ³É Ñ³Ûó»ñ | C22: 7 | D22: 29 | E22: 16 | F22: 16 | G22: 4 | H22: 6 | J22: 26 | L22: 10 | N22: 50000
A23: 14. ø³Õ³ù³óÇÝ»ñÇ ë»÷³Ï³ÝáõÃÛ³Ý Çñ³íáõÝùÇ í»ñ³µ»ñÛ³É Ñ³Ûó»ñ
A24: 15. ê»÷³Ï³ÝáõÃÛ³Ý Çñ³íáõÝùÇ í»ñ³µ»ñÛ³É Ñ³Ûó»ñ | C24: 17 | D24: 93 | E24: 32 | F24: 25 | G24: 23 | H24: 41 | I24: 1 | J24: 97 | L24: 13 | N24: 300000
A25: 16.Ê»Õ³Ý¹³ÙáõÃ.Ï³Ù Ù³Ñí³Ý Ñ³Ù³ñ íÝ³ëÁ Ñ³ïáõó»Éáõ Ù³ëÇÝ Ýáñ Ñ³ñáõóí³Í Ñ³Ûó»ñ
A26: 17. ¶áõÛùÁ í»ñ·ñÇó Ñ³Ý»Éáõ í»ñ³µ»ñÛ³É Ñ³Ûó»ñ | C26: 1 | D26: 30 | E26: 16 | F26: 15 | H26: 7 | J26: 23 | L26: 8 | N26: 60000
A27: 18.Ð³Ûó»ñ Ñ»ÕÇÝ³ÏÇ Çñ³íáõÝùÇ í»ñ³µ»ñÛ³É í»×»ñáí
A28: 19. Ú³Ûó»ñ ·Ûáõï³ñ³ñáõÃÛ³Ý Çñ³íáõÝùÇ í»ñ³µ»ñÛ³É í»×»ñáí
A29: 20. ²Ýï³éÝ»ñÇ Ë³ËïáõÙÝ»ñÇ Ñ³Ù³ñ ·áõÛù³ÛÇÝ å³ï³ëË³Ý³ïíáõÃÛ³Ý í»ñ³µ»ñÛ³É Ñ³Ûó»ñ
A30: 21. ²åûñÇÝÇ áñëÇ ¨ ÓÏ³Ý å³ß³ñÝ»ñÇ áãÝã³óÙ³Ý Ñ»ï¨³Ýùáí ³é³ç³½áó ÝÛáõÃ³Ï³Ý å³ï³ëË³Ý³ïíáõÃÛ³Ý í»ñ³µ»ñÛ³É Ñ³Ûó»ñ
A31: 22. ÀÝïñ³Ï³Ý ·áñÍÁÝÃ³ó³ÛÇÝ í»ñ³µ»ñÛ³É Ñ³Ûó»ñ | D31: 4 | E31: 4 | F31: 4 | J31: 4
A32: 23. ¶áñÍ³ñùÝ»ñÁ ¨ å³ÛÙ³Ý³·ñ»ñÁ í³í»ñ³óÝ»Éáõ Ï³Ù ³Ýí³í»ñ ×³Ý³ã»Éáõ í»ñ³µ»ñÛ³É Ñ³Ûó»ñ | C32: 19 | D32: 78 | E32: 38 | F32: 16 | G32: 9 | H32: 35 | I32: 3 | J32: 85 | L32: 12 | N32: 220000
A33: 24. ä³ïíÇ ¨ ³ñÅ³Ý³å³ïíáõÃÛ³Ý å³ßïå³ÝáõÃÛ³Ý í»ñ³µ»ñÛ³É ·áñÍ»ñ
A34: 25. Ð³Ûó³ÛÇÝ ³ÛÉ ·áñÍ»ñ | C34: 1000 | D34: 991 | E34: 691 | F34: 614 | G34: 224 | H34: 239 | I34: 32 | J34: 1186 | L34: 805 | N34: 5713381
A35: 26. ÀÝ¹³Ù»ÝÁ Ñ³Ûó³ÛÇÝ í³ñáõÛÃÇ ·áñÍ»ñ (1-25 ïáÕ»ñ) | C35: =SUM(C10:C34) -> 1095 | D35: =SUM(D10:D34) -> 1517 | E35: =SUM(E10:E34) -> 1001 | F35: =SUM(F10:F34) -> 880 | G35: =SUM(G10:G34) -> 284 | H35: =SUM(H10:H34) -> 397 | I35: =SUM(I10:I34) -> 38 | J35: =SUM(J10:J34) -> 1720 | L35: =SUM(L10:L34) -> 892 | N35: =SUM(N10:N34) -> 6893381
A36: ì³ñã³-Çñ³í³Ï³Ý Ñ³ñ³µ»ñáõÃÛáõÝÝ»ñÇó | B36: 27.Ð³ñÏ»ñÇ ³å³éùÝ»ñÇ ·³ÝÓÙ³Ý í»ñ³µ»ñÛ³É Ñ³Ûó»ñ | D36: 24 | E36: 7 | F36: 7 | G36: 8 | H36: 8 | J36: 23 | L36: 1
B37: 28.ì³ñã³-Çñ³í³Ï³Ý Ñ³ñ³µ»ñáõÃÛáõÝÝ»ñÇó ³é³ç³ó³Í Ñ³Ûó»ñ | D37: 1158 | E37: 252 | F37: 241 | G37: 5 | H37: 5 | I37: 202 | J37: 464 | L37: 694 | N37: 207000
B38: 29.ä»ï³Ï³Ý Ï³é³í³ñÙ³Ý Ù³ñÙÇÝÝ»ñÇ ¨ å³ßïáÝ³ï³ñ ³ÝÓ³Ýó ³åûñÇÝÇ ·áñÍáÕáõÃÛáõÝÝ»ñÇ í»ñ³µ»ñÛ³É Ñ³Ûó»ñ | C38: 5 | D38: 31 | E38: 22 | F38: 12 | G38: 8 | I38: 2 | J38: 32 | L38: 4 | N38: 98000
B39: 30.ÀÝ¹³Ù»ÝÁ í³ñã³-Çñ³í³Ï³Ý Ñ³ñ³µ»ñáõÃÛáõÝÝ»ñÇó ³é³ç³ó³Í Ñ³Ûó»ñ (27-29 ïáÕ»ñ) | C39: =SUM(C36:C38) -> 5 | D39: =SUM(D36:D38) -> 1213 | E39: =SUM(E36:E38) -> 281 | F39: =SUM(F36:F38) -> 260 | G39: =SUM(G36:G38) -> 21 | H39: =SUM(H36:H38) -> 13 | I39: =SUM(I36:I38) -> 204 | J39: =SUM(J36:J38) -> 519 | L39: =SUM(L36:L38) -> 699 | N39: =SUM(N36:N38) -> 305000
A40: Ð³ïáõÏ í³ñáõÛÃÇ ·áñÍ»ñ | B40: 31.Æñ³í³µ³Ý³Ï³Ý Ýß³Ý³ÏáõÃÛáõÝ áõÝ»óáÕ ÷³ëï»ñ Ñ³ëï³ï»Éáõ í»ñ³µ»ñÛ³É Ñ³Ûó»ñ | C40: 6 | D40: 113 | E40: 97 | F40: 93 | G40: 1 | H40: 14 | I40: 1 | J40: 113 | L40: 6 | N40: 275000
B41: 32.Üáï³ñ³Ï³Ý ·áñÍáÕáõÃÛáõÝÝ»ñÇ Ï³Ù ¹ñ³Ýó Ï³ï³ñÙ³Ý Ù»ñÅÙ³Ý Ñ³Ù³ñ µáÕáùÝ»ñáí
B42: 33.¶áñÍ»ñ ¼²¶ê-Ç Ù³ïÛ³ÝÝ»ñáõÙ áã ×Çßï ·ñ³ÝóáõÙÝ»ñÇ í»ñ³µ»ñÛ³É ·³Ý·³ïÝ»ñÇ ³éÃÇí
B43: 34. Ð³ïáõÏ í³ñáõÛÃÇ ³ÛÉ ·áñÍ»ñ | C43: 22 | D43: 108 | E43: 87 | F43: 82 | G43: 4 | H43: 21 | J43: 112 | L43: 18 | N43: 198000
B44: 35. ÀÝ¹³Ù»ÝÁ Ñ³ïáõÏ í³ñáõÛÃÇ ·áñÍ»ñ (31-34 ïáÕ»ñ) | C44: =SUM(C40:C43) -> 28 | D44: =SUM(D40:D43) -> 221 | E44: =SUM(E40:E43) -> 184 | F44: =SUM(F40:F43) -> 175 | G44: =SUM(G40:G43) -> 5 | H44: =SUM(H40:H43) -> 35 | I44: =SUM(I40:I43) -> 1 | J44: =SUM(J40:J43) -> 225 | L44: =SUM(L40:L43) -> 24 | N44: =SUM(N40:N43) -> 473000
A45: 36. ÀÝ¹³Ù»ÝÁ ù³Õ³ù³óÇ³Ï³Ý ·áñÍ»ñ (26, 30, 35) | C45: 1128 | D45: 2951 | E45: 1466 | F45: 1315 | G45: 310 | H45: 445 | I45: 243 | J45: 2464 | L45: 1615 | N45: 7671381

Sheet Malatia
A1: Ð²ÞìºîìàôÂÚàôÜ
A2: ø²Ô²ø²ø²òÆ²Î²Ü ¶àðÌºðÆ øÜÜàôÂÚ²Ü ìºð²´ºðÚ²È
A3: ºñ¨³Ý ù³Õ³ùÇ Ø³É³ÃÇ³-ê»µ³ëïÇ³ Ñ³Ù³ÛÝùÇ ³é³çÇÝ ³ïÛ³ÝÇ ¹³ï³ñ³ÝÇ
A4: 2007Ã. Ñ³Ù³ñ
A6: ¦²§ µ³ÅÝÇ í»ñ³µ»ñÛ³É ëïáõ·Çã Ñ³í³ë³ñáõÙÝ»ñ 1 ¨ 2 ëÛáõÝ³ÏÝ»ñÇ Ãí»ñÇ ·áõÙ³ñÁ Ñ³í³ë³ñ ¿ 8 ¨ 10 ëÛáõÝ³ÏÝ»ñÇ Ãí»ñÇ ·áõÙ³ñÇÝ: 8 ëÛáõÝ³ÏÇ ÃÇíÁ Ñ³í³ë³ñ ¿ 3,5-7 ëÛáõÝ³ÏÝ»ñÇ Ãí»ñÇ ·áõÙ³ñÇÝ: | E6: ² ù³Õ³ù³óÇ³Ï³Ý ·áñÍ»ñÇ ß³ñÅÁ
E7: ²í³ñïí»É »Ý ·áñÍ»ñ Ñ³ßí»ïáõ Å³Ù³Ý³Ï³ßñç³ÝáõÙ
C8: ²Ý³í³ñï ·áñÍ»ñÇ ÙÝ³óáñ¹Á Ñ³ßí»ïáõ Å³Ù³Ý³Ï³ßñç³ÝÇ ëÏ½µáõÙ | D8: êï³óí»É »Ý ·áñÍ»ñ Ñ³ßí»ïáõ Å³Ù³Ý³Ï³ßñç³ÝáõÙ | E8: ÀÝ¹³Ù»ÝÁ ùÝÝí»É »Ý ·áñÍ»ñ í×éÇ Ï³Û³óáõÙáí | F8: ²Û¹ ÃíáõÙ Ñ³ÛóÇ µ³í³ñ³ñÙ³Ùµ | G8: Î³ñ×í»É »Ý ·áñÍ»ñ í×éÇ Ï³Û³óáõÙáí | H8: Ð³Ûó»ñÁ ÃáÕÝí»É »Ý ³é³Ýó ùÝÝáõÃÛ³Ý | I8: ¶áñÍ»ñÁ Ñ³ÝÓÝí»É »Ý ³ÛÉ ¹³ï³ñ³ÝÝ»ñÇ | J8: ÀÝ¹³Ù»ÝÁ ³í³ñïí»É »Ý ·áñÍ»ñ (3, 5-7 ëÛáõÝ³ÏÝ»ñ) | K8: ²Û¹ ÃíáõÙ ù³Õ, ¹³ï, ûñ-áí Ý³Ë³ï»ëí³ÍÇó ³í»ÉÇ Å³ÙÏ»ïáõÙ | L8: ²Ý³í³ñï ·áñÍ»ñÇ ÙÝ³óáñ¹Á Ñ³ßí»ïáõ Å³Ù³Ý³Ï³ßñç³ÝÇ í»ñçáõÙ | M8: ²Û¹ ÃíáõÙ ·ïÝíáõÙ »Ý 3 ³ÙëÇó ³í»ÉÇ (Ï³ë»óí³Í ·áñÍ»ñÇ Ñ»ï Ù»Ïï»Õ) | N8: ä»ïáõÃÛ³Ý û·ïÇÝ ÙáõÍí³Í å»ï³Ï³Ý ïáõñùÇ ã³÷Á (¹ñ³Ùáí)
C9: 1 | D9: 2 | E9: 3 | F9: 4 | G9: 5 | H9: 6 | I9: 7 | J9: 8 | K9: 9 | L9: 10 | M9: 11 | N9: 12
A10: 1. ²½³ïí³ÍÝ»ñÇÝ ³ßË³ï³ÝùáõÙ í»ñ³Ï³Ý·Ý»Éáõ í»ñ³µ»ñÛ³É Ñ³Ûó»ñ | C10: 1 | E10: 1 | J10: 1
A11: 2. ´³ÝíáñÝ»ñÇ ¨ Í³é³ÛáÕÝ»ñÇ ³ÛÉ ³ßË³ï³Ýù³ÛÇÝ í»×»ñ | C11: 1 | D11: 4 | E11: 2 | F11: 2 | G11: 2 | J11: 4 | L11: 1
A12: 3. ²ßË.å³ñï³Ï³ÝáõÃ. Ï³ï³ñ»ÉÇë µ³Ýí.¨ Í³é³ÛáÕÝ»ñÇ ÏáÕÙÇó ÝÛáõÃ. íÝ³ëÇ Ñ³ïáõóÙ³Ý í»ñ³µ»ñÛ³É (³ßË, ûñ, 129-134 ÑÑ) Ñ³Ûó»ñ
A13: 4. ¶ÛáõÕ. ÏáÉ»ÏïÇí ïÝï»ëáõÃÛ³Ý ³Ý¹³ÙÝ»ñÇ ÏáÕÙÇó Ý»ñÏ³Û³óí³Í Ñ³Ûó»ñ
A14: 5. ºñ»Ë³Ý»ñÇÝ å³Ñ»Éáõ Ñ³Ù³ñ ³ÉÇÙ»ÝïÇ µéÝ³·³ÝÓÙ³Ý í»ñ³µ»ñÛ³É Ñ³Ûó»ñ | C14: 4 | D14: 37 | E14: 31 | F14: 28 | G14: 5 | H14: 4 | J14: 40 | L14: 1 | N14: 42000
A15: 6. Ð³ÛñáõÃÛ³Ý Ñ³ëï³ïÙ³Ý í»ñ³µ»ñÛ³É Ñ³Ûó»ñ | D15: 6 | E15: 4 | F15: 4 | G15: 1 | H15: 1 | J15: 6 | N15: 24000
A16: 7. ÌÝáÕ³Ï³Ý Çñ³íáõÝùÇó ½ñÏ»Éáõ í»ñ³µ»ñÛ³É Ñ³Ûó»ñ | D16: 2 | E16: 2 | F16: 2 | J16: 2 | N16: 8000
A17: 8. ²ÙáõëÝ³ÉáõÍáõÃÛ³Ý í»ñ³µ»ñÛ³É Ñ³Ûó»ñ | C17: 13 | D17: 84 | E17: 68 | F17: 68 | G17: 5 | H17: 18 | J17: 91 | L17: 6 | M17: 1 | N17: 321000
A18: 9. ´Ý³Ï³ñ³ÝÇ Ñ³ïÏ³óáõÙáí íï³ñ»Éáõ í»ñ³µ»ñÛ³É Ñ³Ûó»ñ
A19: 10. ²é³Ýó ³ÛÉ µÝ³Ï³ñ³ÝÇ Ñ³ïÏ³óÙ³Ý íï³ñ»Éáõ í»ñ³µ»ñÛ³É Ñ³Ûó»ñ | C19: 3 | D19: 20 | E19: 16 | F19: 14 | G19: 2 | H19: 2 | J19: 20 | L19: 3 | N19: 105000
A20: 11. ²ÛÉ µÝ³Ï³ñ³Ý³ÛÇÝ Ñ³Ûó»ñ | C20: 7 | D20: 11 | E20: 8 | F20: 6 | G20: 5 | H20: 3 | J20: 16 | L20: 2 | M20: 1 | N20: 64000
A21: 12. ´Ý³ÏáõÃÛ³Ý Çñ³íáõÝùÁ ×³Ý³ã»Éáõ í»ñ³µ»ñÛ³É Ñ³Ûó»ñ | C21: 3 | D21: 9 | E21: 6 | F21: 4 | H21: 4 | J21: 10 | L21: 2 | N21: 52000
A22: 13. ´Ý³ÏáõÃÛ³Ý Çñ³íáõÝùÁ Ïáñóñ³Í ×³Ý³ã»Éáõ í»ñ³µ»ñÛ³É Ñ³Ûó»ñ | C22: 4 | D22: 17 | E22: 16 | F22: 13 | H22: 2 | J22: 18 | L22: 3 | M22: 3 | N22: 76000
A23: 14. ø³Õ³ù³óÇÝ»ñÇ ë»÷³Ï³ÝáõÃÛ³Ý Çñ³íáõÝùÇ í»ñ³µ»ñÛ³É Ñ³Ûó»ñ | C23: 15 | D23: 65 | E23: 40 | F23: 30 | G23: 12 | H23: 14 | I23: 1 | J23: 67 | L23: 13 | M23: 5 | N23: 330000
A24: 15. ê»÷³Ï³ÝáõÃÛ³Ý Çñ³íáõÝùÇ í»ñ³µ»ñÛ³É Ñ³Ûó»ñ | C24: 1 | D24: 31 | E24: 19 | F24: 15 | G24: 3 | H24: 7 | I24: 1 | J24: 30 | L24: 2 | M24: 2 | N24: 156000
A25: 16.Ê»Õ³Ý¹³ÙáõÃ.Ï³Ù Ù³Ñí³Ý Ñ³Ù³ñ íÝ³ëÁ Ñ³ïáõó»Éáõ Ù³ëÇÝ Ýáñ Ñ³ñáõóí³Í Ñ³Ûó»ñ
A26: 17. ¶áõÛùÁ í»ñ·ñÇó Ñ³Ý»Éáõ í»ñ³µ»ñÛ³É Ñ³Ûó»ñ | C26: 2 | D26: 5 | E26: 4 | F26: 2 | H26: 2 | J26: 6 | L26: 1 | M26: 1 | N26: 11000
A27: 18.Ð³Ûó»ñ Ñ»ÕÇÝ³ÏÇ Çñ³íáõÝùÇ í»ñ³µ»ñÛ³É í»×»ñáí
A28: 19. Ú³Ûó»ñ ·Ûáõï³ñ³ñáõÃÛ³Ý Çñ³íáõÝùÇ í»ñ³µ»ñÛ³É í»×»ñáí
A29: 20. ²Ýï³éÝ»ñÇ Ë³ËïáõÙÝ»ñÇ Ñ³Ù³ñ ·áõÛù³ÛÇÝ å³ï³ëË³Ý³ïíáõÃÛ³Ý í»ñ³µ»ñÛ³É Ñ³Ûó»ñ
A30: 21. ²åûñÇÝÇ áñëÇ ¨ ÓÏ³Ý å³ß³ñÝ»ñÇ áãÝã³óÙ³Ý Ñ»ï¨³Ýùáí ³é³ç³½áó ÝÛáõÃ³Ï³Ý å³ï³ëË³Ý³ïíáõÃÛ³Ý í»ñ³µ»ñÛ³É Ñ³Ûó»ñ
A31: 22. ÀÝïñ³Ï³Ý ·áñÍÁÝÃ³ó³ÛÇÝ í»ñ³µ»ñÛ³É Ñ³Ûó»ñ
A32: 23. ¶áñÍ³ñùÝ»ñÁ ¨ å³ÛÙ³Ý³·ñ»ñÁ í³í»ñ³óÝ»Éáõ Ï³Ù ³Ýí³í»ñ ×³Ý³ã»Éáõ í»ñ³µ»ñÛ³É Ñ³Ûó»ñ | C32: 7 | D32: 17 | E32: 12 | F32: 8 | G32: 3 | H32: 7 | I32: 1 | J32: 23 | L32: 1 | M32: 1 | N32: 88000
A33: 24. ä³ïíÇ ¨ ³ñÅ³Ý³å³ïíáõÃÛ³Ý å³ßïå³ÝáõÃÛ³Ý í»ñ³µ»ñÛ³É ·áñÍ»ñ
A34: 25. Ð³Ûó³ÛÇÝ ³ÛÉ ·áñÍ»ñ | C34: 44 | D34: 647 | E34: 447 | F34: 413 | G34: 90 | H34: 69 | I34: 11 | J34: 617 | L34: 74 | M34: 17 | N34: 3603679
A35: 26. ÀÝ¹³Ù»ÝÁ Ñ³Ûó³ÛÇÝ í³ñáõÛÃÇ ·áñÍ»ñ (1-25 ïáÕ»ñ) | C35: =SUM(C10:C34) -> 105 | D35: =SUM(D10:D34) -> 955 | E35: =SUM(E10:E34) -> 676 | F35: =SUM(F10:F34) -> 609 | G35: =SUM(G10:G34) -> 128 | H35: =SUM(H10:H34) -> 133 | I35: =SUM(I10:I34) -> 14 | J35: =SUM(J10:J34) -> 951 | L35: =SUM(L10:L34) -> 109 | M35: =SUM(M10:M34) -> 31 | N35: =SUM(N10:N34) -> 4880679
A36: ì³ñã³-Çñ³í³Ï³Ý Ñ³ñ³µ»ñáõÃÛáõÝÝ»ñÇó | B36: 27.Ð³ñÏ»ñÇ ³å³éùÝ»ñÇ ·³ÝÓÙ³Ý í»ñ³µ»ñÛ³É Ñ³Ûó»ñ
B37: 28.ì³ñã³-Çñ³í³Ï³Ý Ñ³ñ³µ»ñáõÃÛáõÝÝ»ñÇó ³é³ç³ó³Í Ñ³Ûó»ñ | C37: 10 | D37: 385 | E37: 236 | F37: 222 | G37: 23 | H37: 2 | I37: 98 | J37: 359 | L37: 36 | M37: 15 | N37: 775960
B38: 29.ä»ï³Ï³Ý Ï³é³í³ñÙ³Ý Ù³ñÙÇÝÝ»ñÇ ¨ å³ßïáÝ³ï³ñ ³ÝÓ³Ýó ³åûñÇÝÇ ·áñÍáÕáõÃÛáõÝÝ»ñÇ í»ñ³µ»ñÛ³É Ñ³Ûó»ñ | D38: 13 | E38: 9 | F38: 6 | G38: 2 | H38: 1 | I38: 1 | J38: 13 | N38: 50000
B39: 30.ÀÝ¹³Ù»ÝÁ í³ñã³-Çñ³í³Ï³Ý Ñ³ñ³µ»ñáõÃÛáõÝÝ»ñÇó ³é³ç³ó³Í Ñ³Ûó»ñ (27-29 ïáÕ»ñ) | C39: =SUM(C37:C38) -> 10 | D39: =SUM(D37:D38) -> 398 | E39: =SUM(E37:E38) -> 245 | F39: =SUM(F37:F38) -> 228 | G39: =SUM(G37:G38) -> 25 | H39: =SUM(H37:H38) -> 3 | I39: =SUM(I37:I38) -> 99 | J39: =SUM(J37:J38) -> 372 | L39: =SUM(L37:L38) -> 36 | M39: =SUM(M37:M38) -> 15 | N39: =SUM(N37:N38) -> 825960
A40: Ð³ïáõÏ í³ñáõÛÃÇ ·áñÍ»ñ | B40: 31.Æñ³í³µ³Ý³Ï³Ý Ýß³Ý³ÏáõÃÛáõÝ áõÝ»óáÕ ÷³ëï»ñ Ñ³ëï³ï»Éáõ í»ñ³µ»ñÛ³É Ñ³Ûó»ñ | C40: 7 | D40: 129 | E40: 113 | F40: 100 | G40: 3 | H40: 20 | J40: 136 | N40: 373000
B41: 32.Üáï³ñ³Ï³Ý ·áñÍáÕáõÃÛáõÝÝ»ñÇ Ï³Ù ¹ñ³Ýó Ï³ï³ñÙ³Ý Ù»ñÅÙ³Ý Ñ³Ù³ñ µáÕáùÝ»ñáí
B42: 33.¶áñÍ»ñ ¼²¶ê-Ç Ù³ïÛ³ÝÝ»ñáõÙ áã ×Çßï ·ñ³ÝóáõÙÝ»ñÇ í»ñ³µ»ñÛ³É ·³Ý·³ïÝ»ñÇ ³éÃÇí
B43: 34. Ð³ïáõÏ í³ñáõÛÃÇ ³ÛÉ ·áñÍ»ñ | C43: 9 | D43: 82 | E43: 64 | F43: 61 | G43: 1 | H43: 14 | J43: 79 | L43: 12 | M43: 7 | N43: 198000
B44: 35. ÀÝ¹³Ù»ÝÁ Ñ³ïáõÏ í³ñáõÛÃÇ ·áñÍ»ñ (31-34 ïáÕ»ñ) | C44: =SUM(C40:C43) -> 16 | D44: =SUM(D40:D43) -> 211 | E44: =SUM(E40:E43) -> 177 | F44: =SUM(F40:F43) -> 161 | G44: =SUM(G40:G43) -> 4 | H44: =SUM(H40:H43) -> 34 | J44: =SUM(J40:J43) -> 215 | L44: =SUM(L40:L43) -> 12 | M44: =SUM(M40:M43) -> 7 | N44: =SUM(N40:N43) -> 571000
A45: 36. ÀÝ¹³Ù»ÝÁ ù³Õ³ù³óÇ³Ï³Ý ·áñÍ»ñ (26, 30, 35) | C45: =SUM(C35+C39+C44) -> 131 | D45: =SUM(D35+D39+D44) -> 1564 | E45: =SUM(E35+E39+E44) -> 1098 | F45: =SUM(F35+F39+F44) -> 998 | G45: =SUM(G35+G39+G44) -> 157 | H45: =SUM(H35+H39+H44) -> 170 | I45: =SUM(I35+I39+I44) -> 113 | J45: =SUM(J35+J39+J44) -> 1538 | L45: =SUM(L35+L39+L44) -> 157 | M45: =SUM(M35+M39+M44) -> 53 | N45: =SUM(N35+N39+N44) -> 6277639

Sheet Shirak
A1: Ð²ÞìºîìàôÂÚàôÜ
A2: ø²Ô²ø²ø²òÆ²Î²Ü ¶àðÌºðÆ øÜÜàôÂÚ²Ü ìºð²´ºðÚ²È
A3: ÐÐ ÞÇñ³ÏÇ Ù³ñ½Ç ³é³çÇÝ ³ïÛ³ÝÇ ¹³ï³ñ³ÝÇ
A4: 2007Ã. Ñ³Ù³ñ
A6: ¦²§ µ³ÅÝÇ í»ñ³µ»ñÛ³É ëïáõ·Çã Ñ³í³ë³ñáõÙÝ»ñ 1 ¨ 2 ëÛáõÝ³ÏÝ»ñÇ Ãí»ñÇ ·áõÙ³ñÁ Ñ³í³ë³ñ ¿ 8 ¨ 10 ëÛáõÝ³ÏÝ»ñÇ Ãí»ñÇ ·áõÙ³ñÇÝ: 8 ëÛáõÝ³ÏÇ ÃÇíÁ Ñ³í³ë³ñ ¿ 3,5-7 ëÛáõÝ³ÏÝ»ñÇ Ãí»ñÇ ·áõÙ³ñÇÝ: | E6: ² ù³Õ³ù³óÇ³Ï³Ý ·áñÍ»ñÇ ß³ñÅÁ
E7: ²í³ñïí»É »Ý ·áñÍ»ñ Ñ³ßí»ïáõ Å³Ù³Ý³Ï³ßñç³ÝáõÙ
C8: ²Ý³í³ñï ·áñÍ»ñÇ ÙÝ³óáñ¹Á Ñ³ßí»ïáõ Å³Ù³Ý³Ï³ßñç³ÝÇ ëÏ½µáõÙ | D8: êï³óí»É »Ý ·áñÍ»ñ Ñ³ßí»ïáõ Å³Ù³Ý³Ï³ßñç³ÝáõÙ | E8: ÀÝ¹³Ù»ÝÁ ùÝÝí»É »Ý ·áñÍ»ñ í×éÇ Ï³Û³óáõÙáí | F8: ²Û¹ ÃíáõÙ Ñ³ÛóÇ µ³í³ñ³ñÙ³Ùµ | G8: Î³ñ×í»É »Ý ·áñÍ»ñ í×éÇ Ï³Û³óáõÙáí | H8: Ð³Ûó»ñÁ ÃáÕÝí»É »Ý ³é³Ýó ùÝÝáõÃÛ³Ý | I8: ¶áñÍ»ñÁ Ñ³ÝÓÝí»É »Ý ³ÛÉ ¹³ï³ñ³ÝÝ»ñÇ | J8: ÀÝ¹³Ù»ÝÁ ³í³ñïí»É »Ý ·áñÍ»ñ (3, 5-7 ëÛáõÝ³ÏÝ»ñ) | K8: ²Û¹ ÃíáõÙ ù³Õ, ¹³ï, ûñ-áí Ý³Ë³ï»ëí³ÍÇó ³í»ÉÇ Å³ÙÏ»ïáõÙ | L8: ²Ý³í³ñï ·áñÍ»ñÇ ÙÝ³óáñ¹Á Ñ³ßí»ïáõ Å³Ù³Ý³Ï³ßñç³ÝÇ í»ñçáõÙ | M8: ²Û¹ ÃíáõÙ ·ïÝíáõÙ »Ý 3 ³ÙëÇó ³í»ÉÇ (Ï³ë»óí³Í ·áñÍ»ñÇ Ñ»ï Ù»Ïï»Õ) | N8: ä»ïáõÃÛ³Ý û·ïÇÝ ÙáõÍí³Í å»ï³Ï³Ý ïáõñùÇ ã³÷Á (¹ñ³Ùáí)
C9: 1 | D9: 2 | E9: 3 | F9: 4 | G9: 5 | H9: 6 | I9: 7 | J9: 8 | K9: 9 | L9: 10 | M9: 11 | N9: 12
A10: 1. ²½³ïí³ÍÝ»ñÇÝ ³ßË³ï³ÝùáõÙ í»ñ³Ï³Ý·Ý»Éáõ í»ñ³µ»ñÛ³É Ñ³Ûó»ñ | D10: 13 | E10: 10 | F10: 5 | G10: 2 | H10: 1 | J10: 13
A11: 2. ´³ÝíáñÝ»ñÇ ¨ Í³é³ÛáÕÝ»ñÇ ³ÛÉ ³ßË³ï³Ýù³ÛÇÝ í»×»ñ | D11: 62 | E11: 45 | F11: 45 | G11: 2 | H11: 13 | J11: 60 | L11: 2
A12: 3. ²ßË.å³ñï³Ï³ÝáõÃ. Ï³ï³ñ»ÉÇë µ³Ýí.¨ Í³é³ÛáÕÝ»ñÇ ÏáÕÙÇó ÝÛáõÃ. íÝ³ëÇ Ñ³ïáõóÙ³Ý í»ñ³µ»ñÛ³É (³ßË, ûñ, 129-134 ÑÑ) Ñ³Ûó»ñ
A13: 4. ¶ÛáõÕ. ÏáÉ»ÏïÇí ïÝï»ëáõÃÛ³Ý ³Ý¹³ÙÝ»ñÇ ÏáÕÙÇó Ý»ñÏ³Û³óí³Í Ñ³Ûó»ñ
A14: 5. ºñ»Ë³Ý»ñÇÝ å³Ñ»Éáõ Ñ³Ù³ñ ³ÉÇÙ»ÝïÇ µéÝ³·³ÝÓÙ³Ý í»ñ³µ»ñÛ³É Ñ³Ûó»ñ | C14: 1 | D14: 70 | E14: 61 | F14: 58 | G14: 3 | H14: 6 | J14: 70 | L14: 1
A15: 6. Ð³ÛñáõÃÛ³Ý Ñ³ëï³ïÙ³Ý í»ñ³µ»ñÛ³É Ñ³Ûó»ñ | D15: 7 | E15: 4 | F15: 4 | G15: 1 | H15: 1 | J15: 6 | L15: 1 | N15: 28000
A16: 7. ÌÝáÕ³Ï³Ý Çñ³íáõÝùÇó ½ñÏ»Éáõ í»ñ³µ»ñÛ³É Ñ³Ûó»ñ
A17: 8. ²ÙáõëÝ³ÉáõÍáõÃÛ³Ý í»ñ³µ»ñÛ³É Ñ³Ûó»ñ | C17: 1 | D17: 142 | E17: 128 | F17: 127 | G17: 5 | H17: 5 | J17: 138 | L17: 5 | N17: 572000
A18: 9. ´Ý³Ï³ñ³ÝÇ Ñ³ïÏ³óáõÙáí íï³ñ»Éáõ í»ñ³µ»ñÛ³É Ñ³Ûó»ñ | C18: 4 | D18: 3 | E18: 3 | F18: 3 | G18: 1 | H18: 1 | J18: 5 | L18: 2 | M18: 2 | N18: 12000
A19: 10. ²é³Ýó ³ÛÉ µÝ³Ï³ñ³ÝÇ Ñ³ïÏ³óÙ³Ý íï³ñ»Éáõ í»ñ³µ»ñÛ³É Ñ³Ûó»ñ | C19: 2 | D19: 8 | E19: 7 | F19: 7 | G19: 1 | H19: 1 | J19: 9 | L19: 1 | N19: 30000
A20: 11. ²ÛÉ µÝ³Ï³ñ³Ý³ÛÇÝ Ñ³Ûó»ñ | C20: 2 | D20: 71 | E20: 33 | F20: 35 | G20: 5 | H20: 22 | J20: 60 | L20: 13 | M20: 3 | N20: 219000
A21: 12. ´Ý³ÏáõÃÛ³Ý Çñ³íáõÝùÁ ×³Ý³ã»Éáõ í»ñ³µ»ñÛ³É Ñ³Ûó»ñ | C21: 2 | D21: 1 | E21: 3 | F21: 3 | J21: 3 | N21: 9000
A22: 13. ´Ý³ÏáõÃÛ³Ý Çñ³íáõÝùÁ Ïáñóñ³Í ×³Ý³ã»Éáõ í»ñ³µ»ñÛ³É Ñ³Ûó»ñ | D22: 8 | E22: 3 | F22: 2 | G22: 2 | H22: 3 | J22: 8 | N22: 24000
A23: 14. ø³Õ³ù³óÇÝ»ñÇ ë»÷³Ï³ÝáõÃÛ³Ý Çñ³íáõÝùÇ í»ñ³µ»ñÛ³É Ñ³Ûó»ñ | D23: 20 | E23: 17 | F23: 17 | H23: 2 | I23: 1 | J23: 20 | N23: 60000
A24: 15. ê»÷³Ï³ÝáõÃÛ³Ý Çñ³íáõÝùÇ í»ñ³µ»ñÛ³É Ñ³Ûó»ñ | C24: 5 | D24: 72 | E24: 57 | F24: 47 | G24: 1 | H24: 9 | I24: 3 | J24: 70 | L24: 7 | M24: 3 | N24: 231000
A25: 16.Ê»Õ³Ý¹³ÙáõÃ.Ï³Ù Ù³Ñí³Ý Ñ³Ù³ñ íÝ³ëÁ Ñ³ïáõó»Éáõ Ù³ëÇÝ Ýáñ Ñ³ñáõóí³Í Ñ³Ûó»ñ | D25: 3 | E25: 2 | H25: 1 | J25: 3
A26: 17. ¶áõÛùÁ í»ñ·ñÇó Ñ³Ý»Éáõ í»ñ³µ»ñÛ³É Ñ³Ûó»ñ | D26: 8 | E26: 6 | F26: 4 | G26: 2 | J26: 8 | N26: 24000
A27: 18.Ð³Ûó»ñ Ñ»ÕÇÝ³ÏÇ Çñ³íáõÝùÇ í»ñ³µ»ñÛ³É í»×»ñáí
A28: 19. Ú³Ûó»ñ ·Ûáõï³ñ³ñáõÃÛ³Ý Çñ³íáõÝùÇ í»ñ³µ»ñÛ³É í»×»ñáí
A29: 20. ²Ýï³éÝ»ñÇ Ë³ËïáõÙÝ»ñÇ Ñ³Ù³ñ ·áõÛù³ÛÇÝ å³ï³ëË³Ý³ïíáõÃÛ³Ý í»ñ³µ»ñÛ³É Ñ³Ûó»ñ
A30: 21. ²åûñÇÝÇ áñëÇ ¨ ÓÏ³Ý å³ß³ñÝ»ñÇ áãÝã³óÙ³Ý Ñ»ï¨³Ýùáí ³é³ç³½áó ÝÛáõÃ³Ï³Ý å³ï³ëË³Ý³ïíáõÃÛ³Ý í»ñ³µ»ñÛ³É Ñ³Ûó»ñ
A31: 22. ÀÝïñ³Ï³Ý ·áñÍÁÝÃ³ó³ÛÇÝ í»ñ³µ»ñÛ³É Ñ³Ûó»ñ | D31: 73 | E31: 73 | F31: 73 | J31: 73
A32: 23. ¶áñÍ³ñùÝ»ñÁ ¨ å³ÛÙ³Ý³·ñ»ñÁ í³í»ñ³óÝ»Éáõ Ï³Ù ³Ýí³í»ñ ×³Ý³ã»Éáõ í»ñ³µ»ñÛ³É Ñ³Ûó»ñ | C32: 5 | D32: 90 | E32: 61 | F32: 45 | G32: 12 | H32: 8 | I32: 3 | J32: 84 | L32: 11 | M32: 1 | N32: 285000
A33: 24. ä³ïíÇ ¨ ³ñÅ³Ý³å³ïíáõÃÛ³Ý å³ßïå³ÝáõÃÛ³Ý í»ñ³µ»ñÛ³É ·áñÍ»ñ | D33: 1 | E33: 1 | F33: 1 | J33: 1 | N33: 4000
A34: 25. Ð³Ûó³ÛÇÝ ³ÛÉ ·áñÍ»ñ | C34: 97 | D34: 2908 | E34: 2581 | F34: 954 | G34: 148 | H34: 117 | I34: 10 | J34: 2856 | L34: 149 | M34: 52 | N34: 6070209
A35: 26. ÀÝ¹³Ù»ÝÁ Ñ³Ûó³ÛÇÝ í³ñáõÛÃÇ ·áñÍ»ñ (1-25 ïáÕ»ñ) | C35: =SUM(C10:C34) -> 119 | D35: =SUM(D10:D34) -> 3560 | E35: =SUM(E10:E34) -> 3095 | F35: =SUM(F10:F34) -> 1430 | G35: =SUM(G10:G34) -> 185 | H35: =SUM(H10:H34) -> 190 | I35: =SUM(I10:I34) -> 17 | J35: =SUM(J10:J34) -> 3487 | L35: =SUM(L10:L34) -> 192 | M35: =SUM(M10:M34) -> 61 | N35: 7568209
A36: ì³ñã³-Çñ³í³Ï³Ý Ñ³ñ³µ»ñáõÃÛáõÝÝ»ñÇó | B36: 27.Ð³ñÏ»ñÇ ³å³éùÝ»ñÇ ·³ÝÓÙ³Ý í»ñ³µ»ñÛ³É Ñ³Ûó»ñ
B37: 28.ì³ñã³-Çñ³í³Ï³Ý Ñ³ñ³µ»ñáõÃÛáõÝÝ»ñÇó ³é³ç³ó³Í Ñ³Ûó»ñ | C37: 2 | D37: 38 | E37: 31 | F37: 28 | G37: 5 | I37: 1 | J37: 37 | L37: 3 | N37: 60000
B38: 29.ä»ï³Ï³Ý Ï³é³í³ñÙ³Ý Ù³ñÙÇÝÝ»ñÇ ¨ å³ßïáÝ³ï³ñ ³ÝÓ³Ýó ³åûñÇÝÇ ·áñÍáÕáõÃÛáõÝÝ»ñÇ í»ñ³µ»ñÛ³É Ñ³Ûó»ñ | C38: 1 | D38: 15 | E38: 11 | F38: 9 | G38: 3 | I38: 2 | J38: 16 | N38: 48000
B39: 30.ÀÝ¹³Ù»ÝÁ í³ñã³-Çñ³í³Ï³Ý Ñ³ñ³µ»ñáõÃÛáõÝÝ»ñÇó ³é³ç³ó³Í Ñ³Ûó»ñ (27-29 ïáÕ»ñ) | C39: =SUM(C36:C38) -> 3 | D39: =SUM(D36:D38) -> 53 | E39: =SUM(E36:E38) -> 42 | F39: =SUM(F36:F38) -> 37 | G39: =SUM(G36:G38) -> 8 | I39: =SUM(I36:I38) -> 3 | J39: =SUM(J36:J38) -> 53 | L39: 3 | N39: =SUM(N36:N38) -> 108000
A40: Ð³ïáõÏ í³ñáõÛÃÇ ·áñÍ»ñ | B40: 31.Æñ³í³µ³Ý³Ï³Ý Ýß³Ý³ÏáõÃÛáõÝ áõÝ»óáÕ ÷³ëï»ñ Ñ³ëï³ï»Éáõ í»ñ³µ»ñÛ³É Ñ³Ûó»ñ | C40: 2 | D40: 276 | E40: 256 | F40: 251 | G40: 6 | H40: 14 | J40: 276 | L40: 2 | M40: 1 | N40: 834000
B41: 32.Üáï³ñ³Ï³Ý ·áñÍáÕáõÃÛáõÝÝ»ñÇ Ï³Ù ¹ñ³Ýó Ï³ï³ñÙ³Ý Ù»ñÅÙ³Ý Ñ³Ù³ñ µáÕáùÝ»ñáí | C41: 1 | D41: 1 | E41: 2 | F41: 2 | J41: 2 | N41: 1500
B42: 33.¶áñÍ»ñ ¼²¶ê-Ç Ù³ïÛ³ÝÝ»ñáõÙ áã ×Çßï ·ñ³ÝóáõÙÝ»ñÇ í»ñ³µ»ñÛ³É ·³Ý·³ïÝ»ñÇ ³éÃÇí
B43: 34. Ð³ïáõÏ í³ñáõÛÃÇ ³ÛÉ ·áñÍ»ñ | C43: 10 | D43: 149 | E43: 143 | F43: 140 | G43: 4 | H43: 7 | J43: 154 | L43: 5 | N43: 477000
B44: 35. ÀÝ¹³Ù»ÝÁ Ñ³ïáõÏ í³ñáõÛÃÇ ·áñÍ»ñ (31-34 ïáÕ»ñ) | C44: =SUM(C40:C43) -> 13 | D44: =SUM(D40:D43) -> 426 | E44: =SUM(E40:E43) -> 401 | F44: =SUM(F40:F43) -> 393 | G44: =SUM(G40:G43) -> 10 | H44: =SUM(H40:H43) -> 21 | J44: =SUM(J40:J43) -> 432 | L44: =SUM(L40:L43) -> 7 | M44: 1 | N44: =SUM(N40:N43) -> 1312500
A45: 36. ÀÝ¹³Ù»ÝÁ ù³Õ³ù³óÇ³Ï³Ý ·áñÍ»ñ (26, 30, 35) | C45: =SUM(C35+C39+C44) -> 135 | D45: =SUM(D35+D39+D44) -> 4039 | E45: =SUM(E35+E39+E44) -> 3538 | F45: =SUM(F35+F39+F44) -> 1860 | G45: =SUM(G35+G39+G44) -> 203 | H45: =SUM(H35+H44) -> 211 | I45: =SUM(I35+I39) -> 20 | J45: =SUM(J35+J39+J44) -> 3972 | L45: =SUM(L35+L39+L44) -> 202 | M45: =SUM(M35+M44) -> 62 | N45: =SUM(N35+N39+N44) -> 8988709

Sheet VDz
A1: Ð²ÞìºîìàôÂÚàôÜ
A2: ø²Ô²ø²ø²òÆ²Î²Ü ¶àðÌºðÆ øÜÜàôÂÚ²Ü ìºð²´ºðÚ²È
A3: ÐÐ ì³Ûáó ÒáñÇ Ù³ñ½Ç ³é³çÇÝ ³ïÛ³ÝÇ ¹³ï³ñ³ÝÇ
A4: 2007Ã. Ñ³Ù³ñ
A6: ¦²§ µ³ÅÝÇ í»ñ³µ»ñÛ³É ëïáõ·Çã Ñ³í³ë³ñáõÙÝ»ñ 1 ¨ 2 ëÛáõÝ³ÏÝ»ñÇ Ãí»ñÇ ·áõÙ³ñÁ Ñ³í³ë³ñ ¿ 8 ¨ 10 ëÛáõÝ³ÏÝ»ñÇ Ãí»ñÇ ·áõÙ³ñÇÝ: 8 ëÛáõÝ³ÏÇ ÃÇíÁ Ñ³í³ë³ñ ¿ 3,5-7 ëÛáõÝ³ÏÝ»ñÇ Ãí»ñÇ ·áõÙ³ñÇÝ: | E6: ² ù³Õ³ù³óÇ³Ï³Ý ·áñÍ»ñÇ ß³ñÅÁ
E7: ²í³ñïí»É »Ý ·áñÍ»ñ Ñ³ßí»ïáõ Å³Ù³Ý³Ï³ßñç³ÝáõÙ
C8: ²Ý³í³ñï ·áñÍ»ñÇ ÙÝ³óáñ¹Á Ñ³ßí»ïáõ Å³Ù³Ý³Ï³ßñç³ÝÇ ëÏ½µáõÙ | D8: êï³óí»É »Ý ·áñÍ»ñ Ñ³ßí»ïáõ Å³Ù³Ý³Ï³ßñç³ÝáõÙ | E8: ÀÝ¹³Ù»ÝÁ ùÝÝí»É »Ý ·áñÍ»ñ í×éÇ Ï³Û³óáõÙáí | F8: ²Û¹ ÃíáõÙ Ñ³ÛóÇ µ³í³ñ³ñÙ³Ùµ | G8: Î³ñ×í»É »Ý ·áñÍ»ñ í×éÇ Ï³Û³óáõÙáí | H8: Ð³Ûó»ñÁ ÃáÕÝí»É »Ý ³é³Ýó ùÝÝáõÃÛ³Ý | I8: ¶áñÍ»ñÁ Ñ³ÝÓÝí»É »Ý ³ÛÉ ¹³ï³ñ³ÝÝ»ñÇ | J8: ÀÝ¹³Ù»ÝÁ ³í³ñïí»É »Ý ·áñÍ»ñ (3, 5-7 ëÛáõÝ³ÏÝ»ñ) | K8: ²Û¹ ÃíáõÙ ù³Õ, ¹³ï, ûñ-áí Ý³Ë³ï»ëí³ÍÇó ³í»ÉÇ Å³ÙÏ»ïáõÙ | L8: ²Ý³í³ñï ·áñÍ»ñÇ ÙÝ³óáñ¹Á Ñ³ßí»ïáõ Å³Ù³Ý³Ï³ßñç³ÝÇ í»ñçáõÙ | M8: ²Û¹ ÃíáõÙ ·ïÝíáõÙ »Ý 3 ³ÙëÇó ³í»ÉÇ (Ï³ë»óí³Í ·áñÍ»ñÇ Ñ»ï Ù»Ïï»Õ) | N8: ä»ïáõÃÛ³Ý û·ïÇÝ ÙáõÍí³Í å»ï³Ï³Ý ïáõñùÇ ã³÷Á (¹ñ³Ùáí)
C9: 1 | D9: 2 | E9: 3 | F9: 4 | G9: 5 | H9: 6 | I9: 7 | J9: 8 | K9: 9 | L9: 10 | M9: 11 | N9: 12
A10: 1. ²½³ïí³ÍÝ»ñÇÝ ³ßË³ï³ÝùáõÙ í»ñ³Ï³Ý·Ý»Éáõ í»ñ³µ»ñÛ³É Ñ³Ûó»ñ | D10: 5 | E10: 5 | F10: 4 | J10: 5
A11: 2. ´³ÝíáñÝ»ñÇ ¨ Í³é³ÛáÕÝ»ñÇ ³ÛÉ ³ßË³ï³Ýù³ÛÇÝ í»×»ñ | D11: 5 | E11: 4 | G11: 1 | J11: 5
A12: 3. ²ßË.å³ñï³Ï³ÝáõÃ. Ï³ï³ñ»ÉÇë µ³Ýí.¨ Í³é³ÛáÕÝ»ñÇ ÏáÕÙÇó ÝÛáõÃ. íÝ³ëÇ Ñ³ïáõóÙ³Ý í»ñ³µ»ñÛ³É (³ßË, ûñ, 129-134 ÑÑ) Ñ³Ûó»ñ
A13: 4. ¶ÛáõÕ. ÏáÉ»ÏïÇí ïÝï»ëáõÃÛ³Ý ³Ý¹³ÙÝ»ñÇ ÏáÕÙÇó Ý»ñÏ³Û³óí³Í Ñ³Ûó»ñ
A14: 5. ºñ»Ë³Ý»ñÇÝ å³Ñ»Éáõ Ñ³Ù³ñ ³ÉÇÙ»ÝïÇ µéÝ³·³ÝÓÙ³Ý í»ñ³µ»ñÛ³É Ñ³Ûó»ñ | D14: 15 | E14: 14 | F14: 13 | J14: 14 | L14: 1
A15: 6. Ð³ÛñáõÃÛ³Ý Ñ³ëï³ïÙ³Ý í»ñ³µ»ñÛ³É Ñ³Ûó»ñ | D15: 2 | E15: 2 | F15: 2 | J15: 2 | N15: 2000
A16: 7. ÌÝáÕ³Ï³Ý Çñ³íáõÝùÇó ½ñÏ»Éáõ í»ñ³µ»ñÛ³É Ñ³Ûó»ñ
A17: 8. ²ÙáõëÝ³ÉáõÍáõÃÛ³Ý í»ñ³µ»ñÛ³É Ñ³Ûó»ñ
A18: 9. ´Ý³Ï³ñ³ÝÇ Ñ³ïÏ³óáõÙáí íï³ñ»Éáõ í»ñ³µ»ñÛ³É Ñ³Ûó»ñ | D18: 34 | E18: 27 | F18: 26 | G18: 3 | H18: 3 | J18: 33 | L18: 1 | N18: 132000
A19: 10. ²é³Ýó ³ÛÉ µÝ³Ï³ñ³ÝÇ Ñ³ïÏ³óÙ³Ý íï³ñ»Éáõ í»ñ³µ»ñÛ³É Ñ³Ûó»ñ
A20: 11. ²ÛÉ µÝ³Ï³ñ³Ý³ÛÇÝ Ñ³Ûó»ñ | D20: 9 | E20: 6 | F20: 4 | G20: 1 | H20: 2 | J20: 9 | N20: 22000
A21: 12. ´Ý³ÏáõÃÛ³Ý Çñ³íáõÝùÁ ×³Ý³ã»Éáõ í»ñ³µ»ñÛ³É Ñ³Ûó»ñ | D21: 2 | E21: 1 | J21: 1 | L21: 1 | N21: 12000
A22: 13. ´Ý³ÏáõÃÛ³Ý Çñ³íáõÝùÁ Ïáñóñ³Í ×³Ý³ã»Éáõ í»ñ³µ»ñÛ³É Ñ³Ûó»ñ | D22: 4 | E22: 1 | F22: 1 | H22: 3 | J22: 4 | N22: 12000
A23: 14. ø³Õ³ù³óÇÝ»ñÇ ë»÷³Ï³ÝáõÃÛ³Ý Çñ³íáõÝùÇ í»ñ³µ»ñÛ³É Ñ³Ûó»ñ | C23: 2 | D23: 42 | E23: 33 | F23: 25 | G23: 7 | H23: 4 | J23: 44 | N23: 169000
A24: 15. ê»÷³Ï³ÝáõÃÛ³Ý Çñ³íáõÝùÇ í»ñ³µ»ñÛ³É Ñ³Ûó»ñ | D24: 5 | E24: 3 | F24: 3 | H24: 2 | J24: 5 | N24: 14000
A25: 16.Ê»Õ³Ý¹³ÙáõÃ.Ï³Ù Ù³Ñí³Ý Ñ³Ù³ñ íÝ³ëÁ Ñ³ïáõó»Éáõ Ù³ëÇÝ Ýáñ Ñ³ñáõóí³Í Ñ³Ûó»ñ
A26: 17. ¶áõÛùÁ í»ñ·ñÇó Ñ³Ý»Éáõ í»ñ³µ»ñÛ³É Ñ³Ûó»ñ
A27: 18.Ð³Ûó»ñ Ñ»ÕÇÝ³ÏÇ Çñ³íáõÝùÇ í»ñ³µ»ñÛ³É í»×»ñáí
A28: 19. Ú³Ûó»ñ ·Ûáõï³ñ³ñáõÃÛ³Ý Çñ³íáõÝùÇ í»ñ³µ»ñÛ³É í»×»ñáí
A29: 20. ²Ýï³éÝ»ñÇ Ë³ËïáõÙÝ»ñÇ Ñ³Ù³ñ ·áõÛù³ÛÇÝ å³ï³ëË³Ý³ïíáõÃÛ³Ý í»ñ³µ»ñÛ³É Ñ³Ûó»ñ
A30: 21. ²åûñÇÝÇ áñëÇ ¨ ÓÏ³Ý å³ß³ñÝ»ñÇ áãÝã³óÙ³Ý Ñ»ï¨³Ýùáí ³é³ç³½áó ÝÛáõÃ³Ï³Ý å³ï³ëË³Ý³ïíáõÃÛ³Ý í»ñ³µ»ñÛ³É Ñ³Ûó»ñ
A31: 22. ÀÝïñ³Ï³Ý ·áñÍÁÝÃ³ó³ÛÇÝ í»ñ³µ»ñÛ³É Ñ³Ûó»ñ | D31: 3 | E31: 3 | F31: 2 | J31: 3 | N31: 4000
A32: 23. ¶áñÍ³ñùÝ»ñÁ ¨ å³ÛÙ³Ý³·ñ»ñÁ í³í»ñ³óÝ»Éáõ Ï³Ù ³Ýí³í»ñ ×³Ý³ã»Éáõ í»ñ³µ»ñÛ³É Ñ³Ûó»ñ | C32: 3 | D32: 14 | E32: 9 | F32: 7 | H32: 2 | I32: 2 | J32: 13 | L32: 4 | N32: 102673
A33: 24. ä³ïíÇ ¨ ³ñÅ³Ý³å³ïíáõÃÛ³Ý å³ßïå³ÝáõÃÛ³Ý í»ñ³µ»ñÛ³É ·áñÍ»ñ
A34: 25. Ð³Ûó³ÛÇÝ ³ÛÉ ·áñÍ»ñ | C34: 4 | D34: 163 | E34: 108 | F34: 98 | G34: 38 | H34: 12 | I34: 4 | J34: 162 | L34: 5 | M34: 1 | N34: 1214591
A35: 26. ÀÝ¹³Ù»ÝÁ Ñ³Ûó³ÛÇÝ í³ñáõÛÃÇ ·áñÍ»ñ (1-25 ïáÕ»ñ) | C35: =SUM(C10:C34) -> 9 | D35: =SUM(D10:D34) -> 303 | E35: =SUM(E10:E34) -> 216 | F35: =SUM(F10:F34) -> 185 | G35: =SUM(G10:G34) -> 50 | H35: =SUM(H10:H34) -> 28 | I35: =SUM(I10:I34) -> 6 | J35: =SUM(J10:J34) -> 300 | L35: =SUM(L10:L34) -> 12 | M35: =SUM(M10:M34) -> 1 | N35: =SUM(N10:N34) -> 1684264
A36: ì³ñã³-Çñ³í³Ï³Ý Ñ³ñ³µ»ñáõÃÛáõÝÝ»ñÇó | B36: 27.Ð³ñÏ»ñÇ ³å³éùÝ»ñÇ ·³ÝÓÙ³Ý í»ñ³µ»ñÛ³É Ñ³Ûó»ñ
B37: 28.ì³ñã³-Çñ³í³Ï³Ý Ñ³ñ³µ»ñáõÃÛáõÝÝ»ñÇó ³é³ç³ó³Í Ñ³Ûó»ñ | C37: 4 | D37: 45 | E37: 36 | F37: 26 | G37: 4 | H37: 8 | J37: 48 | L37: 1 | N37: 79000
B38: 29.ä»ï³Ï³Ý Ï³é³í³ñÙ³Ý Ù³ñÙÇÝÝ»ñÇ ¨ å³ßïáÝ³ï³ñ ³ÝÓ³Ýó ³åûñÇÝÇ ·áñÍáÕáõÃÛáõÝÝ»ñÇ í»ñ³µ»ñÛ³É Ñ³Ûó»ñ | D38: 5 | E38: 2 | G38: 2 | H38: 1 | J38: 5 | N38: 12000
B39: 30.ÀÝ¹³Ù»ÝÁ í³ñã³-Çñ³í³Ï³Ý Ñ³ñ³µ»ñáõÃÛáõÝÝ»ñÇó ³é³ç³ó³Í Ñ³Ûó»ñ (27-29 ïáÕ»ñ) | C39: =SUM(C37:C38) -> 4 | D39: =SUM(D37:D38) -> 50 | E39: =SUM(E37:E38) -> 38 | F39: =SUM(F37:F38) -> 26 | G39: =SUM(G37:G38) -> 6 | H39: =SUM(H37:H38) -> 9 | J39: =SUM(J37:J38) -> 53 | L39: =SUM(L37:L38) -> 1 | N39: =SUM(N37:N38) -> 91000
A40: Ð³ïáõÏ í³ñáõÛÃÇ ·áñÍ»ñ | B40: 31.Æñ³í³µ³Ý³Ï³Ý Ýß³Ý³ÏáõÃÛáõÝ áõÝ»óáÕ ÷³ëï»ñ Ñ³ëï³ï»Éáõ í»ñ³µ»ñÛ³É Ñ³Ûó»ñ | C40: 2 | D40: 81 | E40: 80 | F40: 75 | H40: 3 | J40: 83 | N40: 190500
B41: 32.Üáï³ñ³Ï³Ý ·áñÍáÕáõÃÛáõÝÝ»ñÇ Ï³Ù ¹ñ³Ýó Ï³ï³ñÙ³Ý Ù»ñÅÙ³Ý Ñ³Ù³ñ µáÕáùÝ»ñáí | D41: 1 | E41: 1 | F41: 1 | J41: 1 | N41: 4000
B42: 33.¶áñÍ»ñ ¼²¶ê-Ç Ù³ïÛ³ÝÝ»ñáõÙ áã ×Çßï ·ñ³ÝóáõÙÝ»ñÇ í»ñ³µ»ñÛ³É ·³Ý·³ïÝ»ñÇ ³éÃÇí
B43: 34. Ð³ïáõÏ í³ñáõÛÃÇ ³ÛÉ ·áñÍ»ñ | C43: 1 | D43: 27 | E43: 25 | F43: 24 | G43: 2 | H43: 1 | J43: 28 | N43: 75000
B44: 35. ÀÝ¹³Ù»ÝÁ Ñ³ïáõÏ í³ñáõÛÃÇ ·áñÍ»ñ (31-34 ïáÕ»ñ) | C44: =SUM(C40:C43) -> 3 | D44: =SUM(D40:D43) -> 109 | E44: =SUM(E40:E43) -> 106 | F44: =SUM(F40:F43) -> 100 | G44: =SUM(G40:G43) -> 2 | H44: =SUM(H40:H43) -> 4 | J44: =SUM(J40:J43) -> 112 | N44: =SUM(N40:N43) -> 269500
A45: 36. ÀÝ¹³Ù»ÝÁ ù³Õ³ù³óÇ³Ï³Ý ·áñÍ»ñ (26, 30, 35) | C45: =SUM(C35+C39+C44) -> 16 | D45: =SUM(D35+D39+D44) -> 462 | E45: =SUM(E35+E39+E44) -> 360 | F45: =SUM(F35+F39+F44) -> 311 | G45: =SUM(G35+G39+G44) -> 58 | H45: =SUM(H35+H39+H44) -> 41 | I45: =SUM(I35+I39+I44) -> 6 | J45: =SUM(J35+J39+J44) -> 465 | L45: =SUM(L35+L39+L44) -> 13 | M45: =SUM(M35+M39+M44) -> 1 | N45: =SUM(N35+N39+N44) -> 2044764

Sheet Suniq
A1: Ð²ÞìºîìàôÂÚàôÜ
A2: ø²Ô²ø²ø²òÆ²Î²Ü ¶àðÌºðÆ øÜÜàôÂÚ²Ü ìºð²´ºðÚ²È
A3: ÐÐ êÛáõÝÇùÇ Ù³ñ½Ç ³é³çÇÝ ³ïÛ³ÝÇ ¹³ï³ñ³ÝÇ
A4: 2007Ã. Ñ³Ù³ñ
A6: ¦²§ µ³ÅÝÇ í»ñ³µ»ñÛ³É ëïáõ·Çã Ñ³í³ë³ñáõÙÝ»ñ 1 ¨ 2 ëÛáõÝ³ÏÝ»ñÇ Ãí»ñÇ ·áõÙ³ñÁ Ñ³í³ë³ñ ¿ 8 ¨ 10 ëÛáõÝ³ÏÝ»ñÇ Ãí»ñÇ ·áõÙ³ñÇÝ: 8 ëÛáõÝ³ÏÇ ÃÇíÁ Ñ³í³ë³ñ ¿ 3,5-7 ëÛáõÝ³ÏÝ»ñÇ Ãí»ñÇ ·áõÙ³ñÇÝ: | E6: ² ù³Õ³ù³óÇ³Ï³Ý ·áñÍ»ñÇ ß³ñÅÁ
E7: ²í³ñïí»É »Ý ·áñÍ»ñ Ñ³ßí»ïáõ Å³Ù³Ý³Ï³ßñç³ÝáõÙ
C8: ²Ý³í³ñï ·áñÍ»ñÇ ÙÝ³óáñ¹Á Ñ³ßí»ïáõ Å³Ù³Ý³Ï³ßñç³ÝÇ ëÏ½µáõÙ | D8: êï³óí»É »Ý ·áñÍ»ñ Ñ³ßí»ïáõ Å³Ù³Ý³Ï³ßñç³ÝáõÙ | E8: ÀÝ¹³Ù»ÝÁ ùÝÝí»É »Ý ·áñÍ»ñ í×éÇ Ï³Û³óáõÙáí | F8: ²Û¹ ÃíáõÙ Ñ³ÛóÇ µ³í³ñ³ñÙ³Ùµ | G8: Î³ñ×í»É »Ý ·áñÍ»ñ í×éÇ Ï³Û³óáõÙáí | H8: Ð³Ûó»ñÁ ÃáÕÝí»É »Ý ³é³Ýó ùÝÝáõÃÛ³Ý | I8: ¶áñÍ»ñÁ Ñ³ÝÓÝí»É »Ý ³ÛÉ ¹³ï³ñ³ÝÝ»ñÇ | J8: ÀÝ¹³Ù»ÝÁ ³í³ñïí»É »Ý ·áñÍ»ñ (3, 5-7 ëÛáõÝ³ÏÝ»ñ) | K8: ²Û¹ ÃíáõÙ ù³Õ, ¹³ï, ûñ-áí Ý³Ë³ï»ëí³ÍÇó ³í»ÉÇ Å³ÙÏ»ïáõÙ | L8: ²Ý³í³ñï ·áñÍ»ñÇ ÙÝ³óáñ¹Á Ñ³ßí»ïáõ Å³Ù³Ý³Ï³ßñç³ÝÇ í»ñçáõÙ | M8: ²Û¹ ÃíáõÙ ·ïÝíáõÙ »Ý 3 ³ÙëÇó ³í»ÉÇ (Ï³ë»óí³Í ·áñÍ»ñÇ Ñ»ï Ù»Ïï»Õ) | N8: ä»ïáõÃÛ³Ý û·ïÇÝ ÙáõÍí³Í å»ï³Ï³Ý ïáõñùÇ ã³÷Á (¹ñ³Ùáí)
C9: 1 | D9: 2 | E9: 3 | F9: 4 | G9: 5 | H9: 6 | I9: 7 | J9: 8 | K9: 9 | L9: 10 | M9: 11 | N9: 12
A10: 1. ²½³ïí³ÍÝ»ñÇÝ ³ßË³ï³ÝùáõÙ í»ñ³Ï³Ý·Ý»Éáõ í»ñ³µ»ñÛ³É Ñ³Ûó»ñ | D10: 9 | E10: 7 | F10: 5 | G10: 1 | J10: 8 | L10: 1 | N10: 4000
A11: 2. ´³ÝíáñÝ»ñÇ ¨ Í³é³ÛáÕÝ»ñÇ ³ÛÉ ³ßË³ï³Ýù³ÛÇÝ í»×»ñ | C11: 2 | D11: 18 | E11: 13 | F11: 12 | H11: 1 | I11: 5 | J11: 19 | L11: 1 | N11: 4000
A12: 3. ²ßË.å³ñï³Ï³ÝáõÃ. Ï³ï³ñ»ÉÇë µ³Ýí.¨ Í³é³ÛáÕÝ»ñÇ ÏáÕÙÇó ÝÛáõÃ. íÝ³ëÇ Ñ³ïáõóÙ³Ý í»ñ³µ»ñÛ³É (³ßË, ûñ, 129-134 ÑÑ) Ñ³Ûó»ñ | C12: 3 | E12: 2 | F12: 2 | J12: 2 | L12: 1 | M12: 1
A13: 4. ¶ÛáõÕ. ÏáÉ»ÏïÇí ïÝï»ëáõÃÛ³Ý ³Ý¹³ÙÝ»ñÇ ÏáÕÙÇó Ý»ñÏ³Û³óí³Í Ñ³Ûó»ñ
A14: 5. ºñ»Ë³Ý»ñÇÝ å³Ñ»Éáõ Ñ³Ù³ñ ³ÉÇÙ»ÝïÇ µéÝ³·³ÝÓÙ³Ý í»ñ³µ»ñÛ³É Ñ³Ûó»ñ | C14: 1 | D14: 47 | E14: 44 | F14: 43 | G14: 2 | H14: 1 | J14: 47 | L14: 1 | M14: 1 | N14: 8800
A15: 6. Ð³ÛñáõÃÛ³Ý Ñ³ëï³ïÙ³Ý í»ñ³µ»ñÛ³É Ñ³Ûó»ñ | D15: 9 | E15: 8 | F15: 8 | H15: 1 | J15: 9 | N15: 33000
A16: 7. ÌÝáÕ³Ï³Ý Çñ³íáõÝùÇó ½ñÏ»Éáõ í»ñ³µ»ñÛ³É Ñ³Ûó»ñ
A17: 8. ²ÙáõëÝ³ÉáõÍáõÃÛ³Ý í»ñ³µ»ñÛ³É Ñ³Ûó»ñ | C17: 13 | D17: 70 | E17: 63 | F17: 63 | G17: 9 | H17: 6 | J17: 78 | L17: 5 | N17: 284000
A18: 9. ´Ý³Ï³ñ³ÝÇ Ñ³ïÏ³óáõÙáí íï³ñ»Éáõ í»ñ³µ»ñÛ³É Ñ³Ûó»ñ
A19: 10. ²é³Ýó ³ÛÉ µÝ³Ï³ñ³ÝÇ Ñ³ïÏ³óÙ³Ý íï³ñ»Éáõ í»ñ³µ»ñÛ³É Ñ³Ûó»ñ | D19: 10 | E19: 10 | F19: 8 | J19: 10 | N19: 53650
A20: 11. ²ÛÉ µÝ³Ï³ñ³Ý³ÛÇÝ Ñ³Ûó»ñ | C20: 4 | D20: 24 | E20: 15 | F20: 15 | G20: 7 | H20: 2 | J20: 24 | L20: 4 | M20: 3 | N20: 98600
A21: 12. ´Ý³ÏáõÃÛ³Ý Çñ³íáõÝùÁ ×³Ý³ã»Éáõ í»ñ³µ»ñÛ³É Ñ³Ûó»ñ | D21: 2 | E21: 1 | F21: 1 | G21: 1 | J21: 2 | N21: 8000
A22: 13. ´Ý³ÏáõÃÛ³Ý Çñ³íáõÝùÁ Ïáñóñ³Í ×³Ý³ã»Éáõ í»ñ³µ»ñÛ³É Ñ³Ûó»ñ | D22: 2 | E22: 2 | F22: 2 | J22: 2 | N22: 8000
A23: 14. ø³Õ³ù³óÇÝ»ñÇ ë»÷³Ï³ÝáõÃÛ³Ý Çñ³íáõÝùÇ í»ñ³µ»ñÛ³É Ñ³Ûó»ñ | D23: 1 | E23: 1 | F23: 1 | J23: 1 | N23: 4000
A24: 15. ê»÷³Ï³ÝáõÃÛ³Ý Çñ³íáõÝùÇ í»ñ³µ»ñÛ³É Ñ³Ûó»ñ | C24: 5 | D24: 24 | E24: 10 | F24: 9 | G24: 7 | H24: 5 | I24: 2 | J24: 24 | L24: 5 | M24: 1 | N24: 116500
A25: 16.Ê»Õ³Ý¹³ÙáõÃ.Ï³Ù Ù³Ñí³Ý Ñ³Ù³ñ íÝ³ëÁ Ñ³ïáõó»Éáõ Ù³ëÇÝ Ýáñ Ñ³ñáõóí³Í Ñ³Ûó»ñ
A26: 17. ¶áõÛùÁ í»ñ·ñÇó Ñ³Ý»Éáõ í»ñ³µ»ñÛ³É Ñ³Ûó»ñ | D26: 8 | E26: 6 | F26: 5 | G26: 2 | J26: 8 | N26: 32000
A27: 18.Ð³Ûó»ñ Ñ»ÕÇÝ³ÏÇ Çñ³íáõÝùÇ í»ñ³µ»ñÛ³É í»×»ñáí
A28: 19. Ú³Ûó»ñ ·Ûáõï³ñ³ñáõÃÛ³Ý Çñ³íáõÝùÇ í»ñ³µ»ñÛ³É í»×»ñáí
A29: 20. ²Ýï³éÝ»ñÇ Ë³ËïáõÙÝ»ñÇ Ñ³Ù³ñ ·áõÛù³ÛÇÝ å³ï³ëË³Ý³ïíáõÃÛ³Ý í»ñ³µ»ñÛ³É Ñ³Ûó»ñ
A30: 21. ²åûñÇÝÇ áñëÇ ¨ ÓÏ³Ý å³ß³ñÝ»ñÇ áãÝã³óÙ³Ý Ñ»ï¨³Ýùáí ³é³ç³½áó ÝÛáõÃ³Ï³Ý å³ï³ëË³Ý³ïíáõÃÛ³Ý í»ñ³µ»ñÛ³É Ñ³Ûó»ñ
A31: 22. ÀÝïñ³Ï³Ý ·áñÍÁÝÃ³ó³ÛÇÝ í»ñ³µ»ñÛ³É Ñ³Ûó»ñ | D31: 1 | E31: 1 | F31: 1 | J31: 1
A32: 23. ¶áñÍ³ñùÝ»ñÁ ¨ å³ÛÙ³Ý³·ñ»ñÁ í³í»ñ³óÝ»Éáõ Ï³Ù ³Ýí³í»ñ ×³Ý³ã»Éáõ í»ñ³µ»ñÛ³É Ñ³Ûó»ñ | C32: 2 | D32: 31 | E32: 20 | F32: 12 | G32: 8 | H32: 3 | I32: 1 | J32: 32 | L32: 1 | M32: 1 | N32: 205329
A33: 24. ä³ïíÇ ¨ ³ñÅ³Ý³å³ïíáõÃÛ³Ý å³ßïå³ÝáõÃÛ³Ý í»ñ³µ»ñÛ³É ·áñÍ»ñ
A34: 25. Ð³Ûó³ÛÇÝ ³ÛÉ ·áñÍ»ñ | C34: 38 | D34: 829 | E34: 603 | F34: 563 | G34: 105 | H34: 113 | I34: 10 | J34: 831 | L34: 36 | M34: 6 | N34: 3700519
A35: 26. ÀÝ¹³Ù»ÝÁ Ñ³Ûó³ÛÇÝ í³ñáõÛÃÇ ·áñÍ»ñ (1-25 ïáÕ»ñ) | C35: =SUM(C10:C34) -> 68 | D35: =SUM(D10:D34) -> 1085 | E35: =SUM(E10:E34) -> 806 | F35: =SUM(F10:F34) -> 750 | G35: =SUM(G10:G34) -> 142 | H35: =SUM(H10:H34) -> 132 | I35: =SUM(I10:I34) -> 18 | J35: =SUM(J10:J34) -> 1098 | L35: =SUM(L10:L34) -> 55 | M35: =SUM(M10:M34) -> 13 | N35: =SUM(N10:N34) -> 4560398
A36: ì³ñã³-Çñ³í³Ï³Ý Ñ³ñ³µ»ñáõÃÛáõÝÝ»ñÇó | B36: 27.Ð³ñÏ»ñÇ ³å³éùÝ»ñÇ ·³ÝÓÙ³Ý í»ñ³µ»ñÛ³É Ñ³Ûó»ñ | C36: 1 | E36: 1 | F36: 1 | J36: 1
B37: 28.ì³ñã³-Çñ³í³Ï³Ý Ñ³ñ³µ»ñáõÃÛáõÝÝ»ñÇó ³é³ç³ó³Í Ñ³Ûó»ñ | C37: 2 | D37: 83 | E37: 69 | F37: 64 | G37: 12 | H37: 1 | J37: 82 | L37: 3 | M37: 3 | N37: 214642
B38: 29.ä»ï³Ï³Ý Ï³é³í³ñÙ³Ý Ù³ñÙÇÝÝ»ñÇ ¨ å³ßïáÝ³ï³ñ ³ÝÓ³Ýó ³åûñÇÝÇ ·áñÍáÕáõÃÛáõÝÝ»ñÇ í»ñ³µ»ñÛ³É Ñ³Ûó»ñ | C38: 1 | D38: 17 | E38: 11 | F38: 9 | G38: 4 | H38: 1 | I38: 2 | J38: 18 | N38: 50000
B39: 30.ÀÝ¹³Ù»ÝÁ í³ñã³-Çñ³í³Ï³Ý Ñ³ñ³µ»ñáõÃÛáõÝÝ»ñÇó ³é³ç³ó³Í Ñ³Ûó»ñ (27-29 ïáÕ»ñ) | C39: =SUM(C36:C38) -> 4 | D39: =SUM(D36:D38) -> 100 | E39: =SUM(E36:E38) -> 81 | F39: =SUM(F36:F38) -> 74 | G39: =SUM(G36:G38) -> 16 | H39: =SUM(H36:H38) -> 2 | I39: =SUM(I36:I38) -> 2 | J39: =SUM(J36:J38) -> 101 | L39: =SUM(L36:L38) -> 3 | M39: =SUM(M36:M38) -> 3 | N39: =SUM(N36:N38) -> 264642
A40: Ð³ïáõÏ í³ñáõÛÃÇ ·áñÍ»ñ | B40: 31.Æñ³í³µ³Ý³Ï³Ý Ýß³Ý³ÏáõÃÛáõÝ áõÝ»óáÕ ÷³ëï»ñ Ñ³ëï³ï»Éáõ í»ñ³µ»ñÛ³É Ñ³Ûó»ñ | C40: 3 | D40: 140 | E40: 115 | F40: 114 | G40: 6 | H40: 13 | J40: 134 | L40: 9 | N40: 352000
B41: 32.Üáï³ñ³Ï³Ý ·áñÍáÕáõÃÛáõÝÝ»ñÇ Ï³Ù ¹ñ³Ýó Ï³ï³ñÙ³Ý Ù»ñÅÙ³Ý Ñ³Ù³ñ µáÕáùÝ»ñáí | D41: 3 | E41: 3 | F41: 3 | J41: 3 | N41: 12000
B42: 33.¶áñÍ»ñ ¼²¶ê-Ç Ù³ïÛ³ÝÝ»ñáõÙ áã ×Çßï ·ñ³ÝóáõÙÝ»ñÇ í»ñ³µ»ñÛ³É ·³Ý·³ïÝ»ñÇ ³éÃÇí | D42: 6 | E42: 6 | F42: 5 | J42: 6 | N42: 20000
B43: 34. Ð³ïáõÏ í³ñáõÛÃÇ ³ÛÉ ·áñÍ»ñ | C43: 3 | D43: 81 | E43: 59 | F43: 56 | G43: 15 | H43: 8 | J43: 82 | L43: 2 | M43: 2 | N43: 298560
B44: 35. ÀÝ¹³Ù»ÝÁ Ñ³ïáõÏ í³ñáõÛÃÇ ·áñÍ»ñ (31-34 ïáÕ»ñ) | C44: =SUM(C40:C43) -> 6 | D44: =SUM(D40:D43) -> 230 | E44: =SUM(E40:E43) -> 183 | F44: =SUM(F40:F43) -> 178 | G44: =SUM(G40:G43) -> 21 | H44: =SUM(H40:H43) -> 21 | J44: =SUM(J40:J43) -> 225 | L44: =SUM(L40:L43) -> 11 | M44: =SUM(M40:M43) -> 2 | N44: =SUM(N40:N43) -> 682560
A45: 36. ÀÝ¹³Ù»ÝÁ ù³Õ³ù³óÇ³Ï³Ý ·áñÍ»ñ (26, 30, 35) | C45: =SUM(C35+C39+C44) -> 78 | D45: =SUM(D35+D39+D44) -> 1415 | E45: =SUM(E35+E39+E44) -> 1070 | F45: =SUM(F35+F39+F44) -> 1002 | G45: =SUM(G35+G39+G44) -> 179 | H45: =SUM(H35+H39+H44) -> 155 | I45: =SUM(I35+I39+I44) -> 20 | J45: =SUM(J35+J39+J44) -> 1424 | L45: =SUM(L35+L39+L44) -> 69 | M45: =SUM(M35+M39+M44) -> 18 | N45: =SUM(N35+N39+N44) -> 5507600

Sheet Lori
A1: Ð²ÞìºîìàôÂÚàôÜ
A2: ø²Ô²ø²ø²òÆ²Î²Ü ¶àðÌºðÆ øÜÜàôÂÚ²Ü ìºð²´ºðÚ²È
A3: ÐÐ Èáéáõ Ù³ñ½Ç ³é³çÇÝ ³ïÛ³ÝÇ ¹³ï³ñ³ÝÇ 2007Ã. Ñ³ßí»ïíáõÃÛáõÝ
A6: ¦²§ µ³ÅÝÇ í»ñ³µ»ñÛ³É ëïáõ·Çã Ñ³í³ë³ñáõÙÝ»ñ 1 ¨ 2 ëÛáõÝ³ÏÝ»ñÇ Ãí»ñÇ ·áõÙ³ñÁ Ñ³í³ë³ñ ¿ 8 ¨ 10 ëÛáõÝ³ÏÝ»ñÇ Ãí»ñÇ ·áõÙ³ñÇÝ: 8 ëÛáõÝ³ÏÇ ÃÇíÁ Ñ³í³ë³ñ ¿ 3,5-7 ëÛáõÝ³ÏÝ»ñÇ Ãí»ñÇ ·áõÙ³ñÇÝ: | E6: ² ù³Õ³ù³óÇ³Ï³Ý ·áñÍ»ñÇ ß³ñÅÁ
E7: ²í³ñïí»É »Ý ·áñÍ»ñ Ñ³ßí»ïáõ Å³Ù³Ý³Ï³ßñç³ÝáõÙ
C8: ²Ý³í³ñï ·áñÍ»ñÇ ÙÝ³óáñ¹Á Ñ³ßí»ïáõ Å³Ù³Ý³Ï³ßñç³ÝÇ ëÏ½µáõÙ | D8: êï³óí»É »Ý ·áñÍ»ñ Ñ³ßí»ïáõ Å³Ù³Ý³Ï³ßñç³ÝáõÙ | E8: ÀÝ¹³Ù»ÝÁ ùÝÝí»É »Ý ·áñÍ»ñ í×éÇ Ï³Û³óáõÙáí | F8: ²Û¹ ÃíáõÙ Ñ³ÛóÇ µ³í³ñ³ñÙ³Ùµ | G8: Î³ñ×í»É »Ý ·áñÍ»ñ í×éÇ Ï³Û³óáõÙáí | H8: Ð³Ûó»ñÁ ÃáÕÝí»É »Ý ³é³Ýó ùÝÝáõÃÛ³Ý | I8: ¶áñÍ»ñÁ Ñ³ÝÓÝí»É »Ý ³ÛÉ ¹³ï³ñ³ÝÝ»ñÇ | J8: ÀÝ¹³Ù»ÝÁ ³í³ñïí»É »Ý ·áñÍ»ñ (3, 5-7 ëÛáõÝ³ÏÝ»ñ) | K8: ²Û¹ ÃíáõÙ ù³Õ, ¹³ï, ûñ-áí Ý³Ë³ï»ëí³ÍÇó ³í»ÉÇ Å³ÙÏ»ïáõÙ | L8: ²Ý³í³ñï ·áñÍ»ñÇ ÙÝ³óáñ¹Á Ñ³ßí»ïáõ Å³Ù³Ý³Ï³ßñç³ÝÇ í»ñçáõÙ | M8: ²Û¹ ÃíáõÙ ·ïÝíáõÙ »Ý 3 ³ÙëÇó ³í»ÉÇ (Ï³ë»óí³Í ·áñÍ»ñÇ Ñ»ï Ù»Ïï»Õ) | N8: ä»ïáõÃÛ³Ý û·ïÇÝ ÙáõÍí³Í å»ï³Ï³Ý ïáõñùÇ ã³÷Á (¹ñ³Ùáí)
C9: 1 | D9: 2 | E9: 3 | F9: 4 | G9: 5 | H9: 6 | I9: 7 | J9: 8 | K9: 9 | L9: 10 | M9: 11 | N9: 12
A10: 1. ²½³ïí³ÍÝ»ñÇÝ ³ßË³ï³ÝùáõÙ í»ñ³Ï³Ý·Ý»Éáõ í»ñ³µ»ñÛ³É Ñ³Ûó»ñ | C10: 1 | D10: 7 | E10: 6 | F10: 4 | H10: 1 | J10: 7 | L10: 1
A11: 2. ´³ÝíáñÝ»ñÇ ¨ Í³é³ÛáÕÝ»ñÇ ³ÛÉ ³ßË³ï³Ýù³ÛÇÝ í»×»ñ | C11: 9 | D11: 17 | E11: 21 | F11: 17 | G11: 1 | H11: 3 | I11: 1 | J11: 26
A12: 3. ²ßË.å³ñï³Ï³ÝáõÃ. Ï³ï³ñ»ÉÇë µ³Ýí.¨ Í³é³ÛáÕÝ»ñÇ ÏáÕÙÇó ÝÛáõÃ. íÝ³ëÇ Ñ³ïáõóÙ³Ý í»ñ³µ»ñÛ³É (³ßË, ûñ, 129-134 ÑÑ) Ñ³Ûó»ñ | D12: 15 | E12: 5 | F12: 4 | G12: 1 | H12: 8 | I12: 1 | J12: 15 | N12: 67000
A13: 4. ¶ÛáõÕ. ÏáÉ»ÏïÇí ïÝï»ëáõÃÛ³Ý ³Ý¹³ÙÝ»ñÇ ÏáÕÙÇó Ý»ñÏ³Û³óí³Í Ñ³Ûó»ñ
A14: 5. ºñ»Ë³Ý»ñÇÝ å³Ñ»Éáõ Ñ³Ù³ñ ³ÉÇÙ»ÝïÇ µéÝ³·³ÝÓÙ³Ý í»ñ³µ»ñÛ³É Ñ³Ûó»ñ | C14: 7 | D14: 70 | E14: 49 | F14: 48 | G14: 7 | H14: 9 | J14: 65 | L14: 12
A15: 6. Ð³ÛñáõÃÛ³Ý Ñ³ëï³ïÙ³Ý í»ñ³µ»ñÛ³É Ñ³Ûó»ñ | C15: 1 | D15: 10 | E15: 6 | F15: 6 | H15: 5 | J15: 11 | K15: 1 | N15: 12000
A16: 7. ÌÝáÕ³Ï³Ý Çñ³íáõÝùÇó ½ñÏ»Éáõ í»ñ³µ»ñÛ³É Ñ³Ûó»ñ | D16: 12 | E16: 5 | F16: 5 | H16: 5 | J16: 10 | L16: 2 | N16: 37000
A17: 8. ²ÙáõëÝ³ÉáõÍáõÃÛ³Ý í»ñ³µ»ñÛ³É Ñ³Ûó»ñ | C17: 11 | D17: 200 | E17: 145 | F17: 140 | G17: 8 | H17: 30 | I17: 3 | J17: 186 | K17: 16 | L17: 25 | N17: 788000
A18: 9. ´Ý³Ï³ñ³ÝÇ Ñ³ïÏ³óáõÙáí íï³ñ»Éáõ í»ñ³µ»ñÛ³É Ñ³Ûó»ñ | D18: 1 | L18: 1 | N18: 4000
A19: 10. ²é³Ýó ³ÛÉ µÝ³Ï³ñ³ÝÇ Ñ³ïÏ³óÙ³Ý íï³ñ»Éáõ í»ñ³µ»ñÛ³É Ñ³Ûó»ñ | C19: 20 | D19: 9 | E19: 16 | F19: 15 | H19: 10 | I19: 1 | J19: 27 | K19: 6 | L19: 2 | N19: 58240
A20: 11. ²ÛÉ µÝ³Ï³ñ³Ý³ÛÇÝ Ñ³Ûó»ñ | C20: 19 | D20: 52 | E20: 30 | F20: 19 | G20: 8 | H20: 27 | I20: 1 | J20: 66 | K20: 14 | L20: 5 | N20: 204000
A21: 12. ´Ý³ÏáõÃÛ³Ý Çñ³íáõÝùÁ ×³Ý³ã»Éáõ í»ñ³µ»ñÛ³É Ñ³Ûó»ñ | D21: 1 | L21: 1
A22: 13. ´Ý³ÏáõÃÛ³Ý Çñ³íáõÝùÁ Ïáñóñ³Í ×³Ý³ã»Éáõ í»ñ³µ»ñÛ³É Ñ³Ûó»ñ | C22: 1 | D22: 10 | E22: 2 | F22: 2 | H22: 9 | J22: 11 | K22: 2 | N22: 16000
A23: 14. ø³Õ³ù³óÇÝ»ñÇ ë»÷³Ï³ÝáõÃÛ³Ý Çñ³íáõÝùÇ í»ñ³µ»ñÛ³É Ñ³Ûó»ñ | D23: 27 | E23: 16 | F23: 12 | G23: 3 | H23: 7 | J23: 26 | L23: 1 | N23: 82000
A24: 15. ê»÷³Ï³ÝáõÃÛ³Ý Çñ³íáõÝùÇ í»ñ³µ»ñÛ³É Ñ³Ûó»ñ | C24: 19 | D24: 87 | E24: 60 | F24: 36 | G24: 8 | H24: 25 | I24: 4 | J24: 97 | L24: 9 | N24: 326000
A25: 16.Ê»Õ³Ý¹³ÙáõÃ.Ï³Ù Ù³Ñí³Ý Ñ³Ù³ñ íÝ³ëÁ Ñ³ïáõó»Éáõ Ù³ëÇÝ Ýáñ Ñ³ñáõóí³Í Ñ³Ûó»ñ | D25: 1 | E25: 1 | F25: 1 | J25: 1
A26: 17. ¶áõÛùÁ í»ñ·ñÇó Ñ³Ý»Éáõ í»ñ³µ»ñÛ³É Ñ³Ûó»ñ | C26: 1 | D26: 16 | E26: 12 | F26: 10 | H26: 5 | J26: 17 | K26: 1 | N26: 64000
A27: 18.Ð³Ûó»ñ Ñ»ÕÇÝ³ÏÇ Çñ³íáõÝùÇ í»ñ³µ»ñÛ³É í»×»ñáí
A28: 19. Ú³Ûó»ñ ·Ûáõï³ñ³ñáõÃÛ³Ý Çñ³íáõÝùÇ í»ñ³µ»ñÛ³É í»×»ñáí
A29: 20. ²Ýï³éÝ»ñÇ Ë³ËïáõÙÝ»ñÇ Ñ³Ù³ñ ·áõÛù³ÛÇÝ å³ï³ëË³Ý³ïíáõÃÛ³Ý í»ñ³µ»ñÛ³É Ñ³Ûó»ñ | C29: 5 | D29: 33 | E29: 32 | F29: 32 | G29: 2 | H29: 1 | J29: 35 | L29: 3 | N29: 86122
A30: 21. ²åûñÇÝÇ áñëÇ ¨ ÓÏ³Ý å³ß³ñÝ»ñÇ áãÝã³óÙ³Ý Ñ»ï¨³Ýùáí ³é³ç³½áó ÝÛáõÃ³Ï³Ý å³ï³ëË³Ý³ïíáõÃÛ³Ý í»ñ³µ»ñÛ³É Ñ³Ûó»ñ
A31: 22. ÀÝïñ³Ï³Ý ·áñÍÁÝÃ³ó³ÛÇÝ í»ñ³µ»ñÛ³É Ñ³Ûó»ñ | D31: 5 | E31: 3 | F31: 1 | H31: 2 | J31: 5 | N31: 12000
A32: 23. ¶áñÍ³ñùÝ»ñÁ ¨ å³ÛÙ³Ý³·ñ»ñÁ í³í»ñ³óÝ»Éáõ Ï³Ù ³Ýí³í»ñ ×³Ý³ã»Éáõ í»ñ³µ»ñÛ³É Ñ³Ûó»ñ | C32: 8 | D32: 96 | E32: 52 | F32: 37 | G32: 13 | H32: 19 | I32: 9 | J32: 93 | L32: 11 | N32: 383000
A33: 24. ä³ïíÇ ¨ ³ñÅ³Ý³å³ïíáõÃÛ³Ý å³ßïå³ÝáõÃÛ³Ý í»ñ³µ»ñÛ³É ·áñÍ»ñ | C33: 1 | D33: 2 | E33: 1 | F33: 1 | G33: 1 | J33: 2 | L33: 1
A34: 25. Ð³Ûó³ÛÇÝ ³ÛÉ ·áñÍ»ñ | C34: 125 | D34: 1271 | E34: 602 | F34: 510 | G34: 115 | H34: 189 | I34: 26 | J34: 932 | K34: 84 | L34: 464 | N34: 7567759
A35: 26. ÀÝ¹³Ù»ÝÁ Ñ³Ûó³ÛÇÝ í³ñáõÛÃÇ ·áñÍ»ñ (1-25 ïáÕ»ñ) | C35: 228 | D35: 1942 | E35: =SUM(E10:E34) -> 1064 | F35: =SUM(F10:F34) -> 900 | G35: =SUM(G10:G34) -> 167 | H35: =SUM(H10:H34) -> 355 | I35: 46 | J35: =SUM(J10:J34) -> 1632 | K35: 124 | L35: =SUM(L10:L34) -> 538 | N35: =SUM(N10:N34) -> 9707121
A36: ì³ñã³-Çñ³í³Ï³Ý Ñ³ñ³µ»ñáõÃÛáõÝÝ»ñÇó | B36: 27.Ð³ñÏ»ñÇ ³å³éùÝ»ñÇ ·³ÝÓÙ³Ý í»ñ³µ»ñÛ³É Ñ³Ûó»ñ | C36: 6 | D36: 34 | E36: 23 | F36: 18 | G36: 3 | H36: 8 | J36: 34 | K36: 2 | L36: 6 | N36: 69336
B37: 28.ì³ñã³-Çñ³í³Ï³Ý Ñ³ñ³µ»ñáõÃÛáõÝÝ»ñÇó ³é³ç³ó³Í Ñ³Ûó»ñ | D37: 69 | E37: 52 | F37: 39 | G37: 7 | H37: 6 | I37: 1 | J37: 66 | L37: 3 | M37: 1 | N37: 239229
B38: 29.ä»ï³Ï³Ý Ï³é³í³ñÙ³Ý Ù³ñÙÇÝÝ»ñÇ ¨ å³ßïáÝ³ï³ñ ³ÝÓ³Ýó ³åûñÇÝÇ ·áñÍáÕáõÃÛáõÝÝ»ñÇ í»ñ³µ»ñÛ³É Ñ³Ûó»ñ | C38: 4 | D38: 92 | E38: 61 | F38: 40 | G38: 2 | H38: 24 | I38: 8 | J38: 95 | K38: 4 | L38: 1 | M38: 4 | N38: 276000
B39: 30.ÀÝ¹³Ù»ÝÁ í³ñã³-Çñ³í³Ï³Ý Ñ³ñ³µ»ñáõÃÛáõÝÝ»ñÇó ³é³ç³ó³Í Ñ³Ûó»ñ (27-29 ïáÕ»ñ) | C39: 10 | D39: =SUM(D36:D38) -> 195 | E39: =SUM(E36:E38) -> 136 | F39: =SUM(F36:F38) -> 97 | G39: 12 | H39: =SUM(H36:H38) -> 38 | I39: 9 | J39: =SUM(J36:J38) -> 195 | K39: 6 | L39: 10 | M39: 5 | N39: =SUM(N36:N38) -> 584565
A40: Ð³ïáõÏ í³ñáõÛÃÇ ·áñÍ»ñ | B40: 31.Æñ³í³µ³Ý³Ï³Ý Ýß³Ý³ÏáõÃÛáõÝ áõÝ»óáÕ ÷³ëï»ñ Ñ³ëï³ï»Éáõ í»ñ³µ»ñÛ³É Ñ³Ûó»ñ | C40: 21 | D40: 434 | E40: 408 | F40: 403 | G40: 2 | H40: 26 | I40: 1 | J40: 437 | K40: 2 | L40: 18 | M40: 1 | N40: 837000
B41: 32.Üáï³ñ³Ï³Ý ·áñÍáÕáõÃÛáõÝÝ»ñÇ Ï³Ù ¹ñ³Ýó Ï³ï³ñÙ³Ý Ù»ñÅÙ³Ý Ñ³Ù³ñ µáÕáùÝ»ñáí | C41: 1 | D41: 9 | E41: 3 | F41: 2 | H41: 5 | J41: 8 | L41: 2 | N41: 51000
B42: 33.¶áñÍ»ñ ¼²¶ê-Ç Ù³ïÛ³ÝÝ»ñáõÙ áã ×Çßï ·ñ³ÝóáõÙÝ»ñÇ í»ñ³µ»ñÛ³É ·³Ý·³ïÝ»ñÇ ³éÃÇí | D42: 25 | E42: 21 | F42: 21 | H42: 4 | J42: 25 | N42: 71000
B43: 34. Ð³ïáõÏ í³ñáõÛÃÇ ³ÛÉ ·áñÍ»ñ | C43: 8 | D43: 133 | E43: 99 | F43: 91 | G43: 5 | H43: 23 | J43: 127 | K43: 1 | L43: 14 | M43: 2 | N43: 383000
B44: 35. ÀÝ¹³Ù»ÝÁ Ñ³ïáõÏ í³ñáõÛÃÇ ·áñÍ»ñ (31-34 ïáÕ»ñ) | C44: 30 | D44: =SUM(D40:D43) -> 601 | E44: =SUM(E40:E43) -> 531 | F44: =SUM(F40:F43) -> 517 | G44: 7 | H44: =SUM(H40:H43) -> 58 | I44: 1 | J44: =SUM(J40:J43) -> 597 | K44: 3 | L44: =SUM(L40:L43) -> 34 | M44: 3 | N44: =SUM(N40:N43) -> 1342000
A45: 36. ÀÝ¹³Ù»ÝÁ ù³Õ³ù³óÇ³Ï³Ý ·áñÍ»ñ (26, 30, 35) | C45: =SUM(C35+C39+C44) -> 268 | D45: =SUM(D35+D39+D44) -> 2738 | E45: =SUM(E35+E39+E44) -> 1731 | F45: =SUM(F35+F39+F44) -> 1514 | G45: =SUM(G35+G39+G44) -> 186 | H45: =SUM(H35+H39+H44) -> 451 | I45: =SUM(I35+I39+I44) -> 56 | J45: =SUM(J35+J39+J44) -> 2424 | ... L45: =SUM(L35+L39+L44) -> 582 | M45: 8 | N45: =SUM(N35+N39+N44) -> 11633686

Sheet Gex
A1: Ð²ÞìºîìàôÂÚàôÜ
A2: ø²Ô²ø²ø²òÆ²Î²Ü ¶àðÌºðÆ øÜÜàôÂÚ²Ü ìºð²´ºðÚ²È
A3: ÐÐ ¶»Õ³ñùáõÝÇùÇ Ù³ñ½Ç ³é³çÇÝ ³ïÛ³ÝÇ ¹³ï³ñ³ÝÇ
A4: 2007Ã Ñ³Ù³ñ
A6: ¦²§ µ³ÅÝÇ í»ñ³µ»ñÛ³É ëïáõ·Çã Ñ³í³ë³ñáõÙÝ»ñ 1 ¨ 2 ëÛáõÝ³ÏÝ»ñÇ Ãí»ñÇ ·áõÙ³ñÁ Ñ³í³ë³ñ ¿ 8 ¨ 10 ëÛáõÝ³ÏÝ»ñÇ Ãí»ñÇ ·áõÙ³ñÇÝ: 8 ëÛáõÝ³ÏÇ ÃÇíÁ Ñ³í³ë³ñ ¿ 3,5-7 ëÛáõÝ³ÏÝ»ñÇ Ãí»ñÇ ·áõÙ³ñÇÝ: | E6: ² ù³Õ³ù³óÇ³Ï³Ý ·áñÍ»ñÇ ß³ñÅÁ
E7: ²í³ñïí»É »Ý ·áñÍ»ñ Ñ³ßí»ïáõ Å³Ù³Ý³Ï³ßñç³ÝáõÙ
C8: ²Ý³í³ñï ·áñÍ»ñÇ ÙÝ³óáñ¹Á Ñ³ßí»ïáõ Å³Ù³Ý³Ï³ßñç³ÝÇ ëÏ½µáõÙ | D8: êï³óí»É »Ý ·áñÍ»ñ Ñ³ßí»ïáõ Å³Ù³Ý³Ï³ßñç³ÝáõÙ | E8: ÀÝ¹³Ù»ÝÁ ùÝÝí»É »Ý ·áñÍ»ñ í×éÇ Ï³Û³óáõÙáí | F8: ²Û¹ ÃíáõÙ Ñ³ÛóÇ µ³í³ñ³ñÙ³Ùµ | G8: Î³ñ×í»É »Ý ·áñÍ»ñ í×éÇ Ï³Û³óáõÙáí | H8: Ð³Ûó»ñÁ ÃáÕÝí»É »Ý ³é³Ýó ùÝÝáõÃÛ³Ý | I8: ¶áñÍ»ñÁ Ñ³ÝÓÝí»É »Ý ³ÛÉ ¹³ï³ñ³ÝÝ»ñÇ | J8: ÀÝ¹³Ù»ÝÁ ³í³ñïí»É »Ý ·áñÍ»ñ (3, 5-7 ëÛáõÝ³ÏÝ»ñ) | K8: ²Û¹ ÃíáõÙ ù³Õ, ¹³ï, ûñ-áí Ý³Ë³ï»ëí³ÍÇó ³í»ÉÇ Å³ÙÏ»ïáõÙ | L8: ²Ý³í³ñï ·áñÍ»ñÇ ÙÝ³óáñ¹Á Ñ³ßí»ïáõ Å³Ù³Ý³Ï³ßñç³ÝÇ í»ñçáõÙ | M8: ²Û¹ ÃíáõÙ ·ïÝíáõÙ »Ý 3 ³ÙëÇó ³í»ÉÇ (Ï³ë»óí³Í ·áñÍ»ñÇ Ñ»ï Ù»Ïï»Õ) | N8: ä»ïáõÃÛ³Ý û·ïÇÝ ÙáõÍí³Í å»ï³Ï³Ý ïáõñùÇ ã³÷Á (¹ñ³Ùáí)
C9: 1 | D9: 2 | E9: 3 | F9: 4 | G9: 5 | H9: 6 | I9: 7 | J9: 8 | K9: 9 | L9: 10 | M9: 11 | N9: 12
A10: 1. ²½³ïí³ÍÝ»ñÇÝ ³ßË³ï³ÝùáõÙ í»ñ³Ï³Ý·Ý»Éáõ í»ñ³µ»ñÛ³É Ñ³Ûó»ñ | C10: 2 | D10: 16 | E10: 9 | F10: 4 | G10: 1 | H10: 6 | I10: 1 | J10: 17 | L10: 1
A11: 2. ´³ÝíáñÝ»ñÇ ¨ Í³é³ÛáÕÝ»ñÇ ³ÛÉ ³ßË³ï³Ýù³ÛÇÝ í»×»ñ | C11: 6 | D11: 47 | E11: 41 | F11: 41 | G11: 6 | H11: 4 | J11: 51 | L11: 2
A12: 3. ²ßË.å³ñï³Ï³ÝáõÃ. Ï³ï³ñ»ÉÇë µ³Ýí.¨ Í³é³ÛáÕÝ»ñÇ ÏáÕÙÇó ÝÛáõÃ. íÝ³ëÇ Ñ³ïáõóÙ³Ý í»ñ³µ»ñÛ³É (³ßË, ûñ, 129-134 ÑÑ) Ñ³Ûó»ñ
A13: 4. ¶ÛáõÕ. ÏáÉ»ÏïÇí ïÝï»ëáõÃÛ³Ý ³Ý¹³ÙÝ»ñÇ ÏáÕÙÇó Ý»ñÏ³Û³óí³Í Ñ³Ûó»ñ
A14: 5. ºñ»Ë³Ý»ñÇÝ å³Ñ»Éáõ Ñ³Ù³ñ ³ÉÇÙ»ÝïÇ µéÝ³·³ÝÓÙ³Ý í»ñ³µ»ñÛ³É Ñ³Ûó»ñ | D14: 26 | E14: 21 | F14: 10 | G14: 1 | H14: 4 | J14: 26
A15: 6. Ð³ÛñáõÃÛ³Ý Ñ³ëï³ïÙ³Ý í»ñ³µ»ñÛ³É Ñ³Ûó»ñ | D15: 3 | E15: 2 | G15: 1 | J15: 3 | N15: 8000
A16: 7. ÌÝáÕ³Ï³Ý Çñ³íáõÝùÇó ½ñÏ»Éáõ í»ñ³µ»ñÛ³É Ñ³Ûó»ñ
A17: 8. ²ÙáõëÝ³ÉáõÍáõÃÛ³Ý í»ñ³µ»ñÛ³É Ñ³Ûó»ñ | C17: 5 | D17: 56 | E17: 37 | F17: 37 | G17: 9 | H17: 10 | J17: 56 | L17: 5 | N17: 228000
A18: 9. ´Ý³Ï³ñ³ÝÇ Ñ³ïÏ³óáõÙáí íï³ñ»Éáõ í»ñ³µ»ñÛ³É Ñ³Ûó»ñ
A19: 10. ²é³Ýó ³ÛÉ µÝ³Ï³ñ³ÝÇ Ñ³ïÏ³óÙ³Ý íï³ñ»Éáõ í»ñ³µ»ñÛ³É Ñ³Ûó»ñ | D19: 5 | E19: 3 | F19: 1 | H19: 1 | J19: 4 | L19: 1 | N19: 20000
A20: 11. ²ÛÉ µÝ³Ï³ñ³Ý³ÛÇÝ Ñ³Ûó»ñ | C20: 1 | D20: 6 | E20: 2 | F20: 2 | G20: 3 | H20: 2 | J20: 7 | N20: 28000
A21: 12. ´Ý³ÏáõÃÛ³Ý Çñ³íáõÝùÁ ×³Ý³ã»Éáõ í»ñ³µ»ñÛ³É Ñ³Ûó»ñ | D21: 1 | E21: 1 | J21: 1 | N21: 4000
A22: 13. ´Ý³ÏáõÃÛ³Ý Çñ³íáõÝùÁ Ïáñóñ³Í ×³Ý³ã»Éáõ í»ñ³µ»ñÛ³É Ñ³Ûó»ñ
A23: 14. ø³Õ³ù³óÇÝ»ñÇ ë»÷³Ï³ÝáõÃÛ³Ý Çñ³íáõÝùÇ í»ñ³µ»ñÛ³É Ñ³Ûó»ñ | D23: 27 | E23: 20 | F23: 17 | H23: 7 | J23: 27 | N23: 108000
A24: 15. ê»÷³Ï³ÝáõÃÛ³Ý Çñ³íáõÝùÇ í»ñ³µ»ñÛ³É Ñ³Ûó»ñ | C24: 3 | D24: 22 | E24: 19 | F24: 18 | G24: 2 | H24: 4 | J24: 25 | N24: 54200
A25: 16.Ê»Õ³Ý¹³ÙáõÃ.Ï³Ù Ù³Ñí³Ý Ñ³Ù³ñ íÝ³ëÁ Ñ³ïáõó»Éáõ Ù³ëÇÝ Ýáñ Ñ³ñáõóí³Í Ñ³Ûó»ñ | C25: 1 | D25: 2 | E25: 1 | F25: 1 | H25: 1 | J25: 2 | L25: 1
A26: 17. ¶áõÛùÁ í»ñ·ñÇó Ñ³Ý»Éáõ í»ñ³µ»ñÛ³É Ñ³Ûó»ñ | D26: 2 | E26: 1 | F26: 1 | J26: 1 | L26: 1
A27: 18.Ð³Ûó»ñ Ñ»ÕÇÝ³ÏÇ Çñ³íáõÝùÇ í»ñ³µ»ñÛ³É í»×»ñáí
A28: 19. Ú³Ûó»ñ ·Ûáõï³ñ³ñáõÃÛ³Ý Çñ³íáõÝùÇ í»ñ³µ»ñÛ³É í»×»ñáí
A29: 20. ²Ýï³éÝ»ñÇ Ë³ËïáõÙÝ»ñÇ Ñ³Ù³ñ ·áõÛù³ÛÇÝ å³ï³ëË³Ý³ïíáõÃÛ³Ý í»ñ³µ»ñÛ³É Ñ³Ûó»ñ
A30: 21. ²åûñÇÝÇ áñëÇ ¨ ÓÏ³Ý å³ß³ñÝ»ñÇ áãÝã³óÙ³Ý Ñ»ï¨³Ýùáí ³é³ç³½áó ÝÛáõÃ³Ï³Ý å³ï³ëË³Ý³ïíáõÃÛ³Ý í»ñ³µ»ñÛ³É Ñ³Ûó»ñ
A31: 22. ÀÝïñ³Ï³Ý ·áñÍÁÝÃ³ó³ÛÇÝ í»ñ³µ»ñÛ³É Ñ³Ûó»ñ | D31: 8 | E31: 7 | F31: 7 | H31: 1 | J31: 8 | N31: 20000
A32: 23. ¶áñÍ³ñùÝ»ñÁ ¨ å³ÛÙ³Ý³·ñ»ñÁ í³í»ñ³óÝ»Éáõ Ï³Ù ³Ýí³í»ñ ×³Ý³ã»Éáõ í»ñ³µ»ñÛ³É Ñ³Ûó»ñ | C32: 6 | D32: 28 | E32: 17 | F32: 14 | G32: 3 | H32: 10 | J32: 30 | L32: 4 | N32: 89940
A33: 24. ä³ïíÇ ¨ ³ñÅ³Ý³å³ïíáõÃÛ³Ý å³ßïå³ÝáõÃÛ³Ý í»ñ³µ»ñÛ³É ·áñÍ»ñ
A34: 25. Ð³Ûó³ÛÇÝ ³ÛÉ ·áñÍ»ñ | C34: 22 | D34: 332 | E34: 217 | F34: 185 | G34: 48 | H34: 32 | I34: 6 | J34: 303 | L34: 51 | N34: 1787955
A35: 26. ÀÝ¹³Ù»ÝÁ Ñ³Ûó³ÛÇÝ í³ñáõÛÃÇ ·áñÍ»ñ (1-25 ïáÕ»ñ) | C35: =SUM(C10:C34) -> 46 | D35: =SUM(D10:D34) -> 581 | E35: =SUM(E10:E34) -> 398 | F35: =SUM(F10:F34) -> 338 | G35: =SUM(G10:G34) -> 74 | H35: =SUM(H10:H34) -> 82 | I35: =SUM(I10:I34) -> 7 | J35: =SUM(J10:J34) -> 561 | L35: =SUM(L10:L34) -> 66 | N35: =SUM(N10:N34) -> 2348095
A36: ì³ñã³-Çñ³í³Ï³Ý Ñ³ñ³µ»ñáõÃÛáõÝÝ»ñÇó | B36: 27.Ð³ñÏ»ñÇ ³å³éùÝ»ñÇ ·³ÝÓÙ³Ý í»ñ³µ»ñÛ³É Ñ³Ûó»ñ | D36: 84 | E36: 38 | F36: 24 | G36: 17 | H36: 3 | J36: 58 | L36: 26 | M36: 3 | N36: 145751
B37: 28.ì³ñã³-Çñ³í³Ï³Ý Ñ³ñ³µ»ñáõÃÛáõÝÝ»ñÇó ³é³ç³ó³Í Ñ³Ûó»ñ | C37: 5 | D37: 152 | E37: 107 | F37: 90 | G37: 32 | H37: 7 | I37: 4 | J37: 150 | L37: 7 | N37: 533227
B38: 29.ä»ï³Ï³Ý Ï³é³í³ñÙ³Ý Ù³ñÙÇÝÝ»ñÇ ¨ å³ßïáÝ³ï³ñ ³ÝÓ³Ýó ³åûñÇÝÇ ·áñÍáÕáõÃÛáõÝÝ»ñÇ í»ñ³µ»ñÛ³É Ñ³Ûó»ñ | D38: 7 | E38: 4 | F38: 3 | G38: 1 | H38: 2 | J38: 7 | N38: 16000
B39: 30.ÀÝ¹³Ù»ÝÁ í³ñã³-Çñ³í³Ï³Ý Ñ³ñ³µ»ñáõÃÛáõÝÝ»ñÇó ³é³ç³ó³Í Ñ³Ûó»ñ (27-29 ïáÕ»ñ) | C39: =SUM(C36:C38) -> 5 | D39: =SUM(D36:D38) -> 243 | E39: =SUM(E36:E38) -> 149 | F39: =SUM(F36:F38) -> 117 | G39: =SUM(G36:G38) -> 50 | H39: =SUM(H36:H38) -> 12 | I39: =SUM(I36:I38) -> 4 | J39: =SUM(J36:J38) -> 215 | L39: =SUM(L36:L38) -> 33 | M39: =SUM(M36:M38) -> 3 | N39: =SUM(N36:N38) -> 694978
A40: Ð³ïáõÏ í³ñáõÛÃÇ ·áñÍ»ñ | B40: 31.Æñ³í³µ³Ý³Ï³Ý Ýß³Ý³ÏáõÃÛáõÝ áõÝ»óáÕ ÷³ëï»ñ Ñ³ëï³ï»Éáõ í»ñ³µ»ñÛ³É Ñ³Ûó»ñ | C40: 9 | D40: 135 | E40: 126 | F40: 104 | G40: 1 | H40: 10 | J40: 137 | L40: 7 | N40: 266500
B41: 32.Üáï³ñ³Ï³Ý ·áñÍáÕáõÃÛáõÝÝ»ñÇ Ï³Ù ¹ñ³Ýó Ï³ï³ñÙ³Ý Ù»ñÅÙ³Ý Ñ³Ù³ñ µáÕáùÝ»ñáí
B42: 33.¶áñÍ»ñ ¼²¶ê-Ç Ù³ïÛ³ÝÝ»ñáõÙ áã ×Çßï ·ñ³ÝóáõÙÝ»ñÇ í»ñ³µ»ñÛ³É ·³Ý·³ïÝ»ñÇ ³éÃÇí | D42: 14 | E42: 14 | F42: 6 | J42: 14 | N42: 36000
B43: 34. Ð³ïáõÏ í³ñáõÛÃÇ ³ÛÉ ·áñÍ»ñ | C43: 7 | D43: 82 | E43: 77 | F43: 75 | G43: 2 | H43: 2 | J43: 81 | L43: 8 | N43: 208500
B44: 35. ÀÝ¹³Ù»ÝÁ Ñ³ïáõÏ í³ñáõÛÃÇ ·áñÍ»ñ (31-34 ïáÕ»ñ) | C44: =SUM(C40:C43) -> 16 | D44: =SUM(D40:D43) -> 231 | E44: =SUM(E40:E43) -> 217 | F44: =SUM(F40:F43) -> 185 | G44: =SUM(G40:G43) -> 3 | H44: =SUM(H40:H43) -> 12 | J44: =SUM(J40:J43) -> 232 | L44: =SUM(L40:L43) -> 15 | N44: =SUM(N40:N43) -> 511000
A45: 36. ÀÝ¹³Ù»ÝÁ ù³Õ³ù³óÇ³Ï³Ý ·áñÍ»ñ (26, 30, 35) | C45: =SUM(C35+C39+C44) -> 67 | D45: =SUM(D35+D39+D44) -> 1055 | E45: =SUM(E35+E39+E44) -> 764 | F45: =SUM(F35+F39+F44) -> 640 | G45: =SUM(G35+G39+G44) -> 127 | H45: =SUM(H35+H39+H44) -> 106 | I45: =SUM(I35+I39+I44) -> 11 | J45: =SUM(J35+J39+J44) -> 1008 | L45: =SUM(L35+L39+L44) -> 114 | M45: =SUM(M35+M39+M44) -> 3 | N45: =SUM(N35+N39+N44) -> 3554073

Sheet Kotaiq
A1: Ð²ÞìºîìàôÂÚàôÜ
A2: ø²Ô²ø²ø²òÆ²Î²Ü ¶àðÌºðÆ øÜÜàôÂÚ²Ü ìºð²´ºðÚ²È
A3: ÐÐ Îáï³ÛùÇ Ù³ñ½Ç ³é³çÇÝ ³ïÛ³ÝÇ ¹³ï³ñ³ÝÇ
A4: 2007Ã Ñ³Ù³ñ
A6: ¦²§ µ³ÅÝÇ í»ñ³µ»ñÛ³É ëïáõ·Çã Ñ³í³ë³ñáõÙÝ»ñ 1 ¨ 2 ëÛáõÝ³ÏÝ»ñÇ Ãí»ñÇ ·áõÙ³ñÁ Ñ³í³ë³ñ ¿ 8 ¨ 10 ëÛáõÝ³ÏÝ»ñÇ Ãí»ñÇ ·áõÙ³ñÇÝ: 8 ëÛáõÝ³ÏÇ ÃÇíÁ Ñ³í³ë³ñ ¿ 3,5-7 ëÛáõÝ³ÏÝ»ñÇ Ãí»ñÇ ·áõÙ³ñÇÝ: | E6: ² ù³Õ³ù³óÇ³Ï³Ý ·áñÍ»ñÇ ß³ñÅÁ
E7: ²í³ñïí»É »Ý ·áñÍ»ñ Ñ³ßí»ïáõ Å³Ù³Ý³Ï³ßñç³ÝáõÙ
C8: ²Ý³í³ñï ·áñÍ»ñÇ ÙÝ³óáñ¹Á Ñ³ßí»ïáõ Å³Ù³Ý³Ï³ßñç³ÝÇ ëÏ½µáõÙ | D8: êï³óí»É »Ý ·áñÍ»ñ Ñ³ßí»ïáõ Å³Ù³Ý³Ï³ßñç³ÝáõÙ | E8: ÀÝ¹³Ù»ÝÁ ùÝÝí»É »Ý ·áñÍ»ñ í×éÇ Ï³Û³óáõÙáí | F8: ²Û¹ ÃíáõÙ Ñ³ÛóÇ µ³í³ñ³ñÙ³Ùµ | G8: Î³ñ×í»É »Ý ·áñÍ»ñ í×éÇ Ï³Û³óáõÙáí | H8: Ð³Ûó»ñÁ ÃáÕÝí»É »Ý ³é³Ýó ùÝÝáõÃÛ³Ý | I8: ¶áñÍ»ñÁ Ñ³ÝÓÝí»É »Ý ³ÛÉ ¹³ï³ñ³ÝÝ»ñÇ | J8: ÀÝ¹³Ù»ÝÁ ³í³ñïí»É »Ý ·áñÍ»ñ (3, 5-7 ëÛáõÝ³ÏÝ»ñ) | K8: ²Û¹ ÃíáõÙ ù³Õ, ¹³ï, ûñ-áí Ý³Ë³ï»ëí³ÍÇó ³í»ÉÇ Å³ÙÏ»ïáõÙ | L8: ²Ý³í³ñï ·áñÍ»ñÇ ÙÝ³óáñ¹Á Ñ³ßí»ïáõ Å³Ù³Ý³Ï³ßñç³ÝÇ í»ñçáõÙ | M8: ²Û¹ ÃíáõÙ ·ïÝíáõÙ »Ý 3 ³ÙëÇó ³í»ÉÇ (Ï³ë»óí³Í ·áñÍ»ñÇ Ñ»ï Ù»Ïï»Õ) | N8: ä»ïáõÃÛ³Ý û·ïÇÝ ÙáõÍí³Í å»ï³Ï³Ý ïáõñùÇ ã³÷Á (¹ñ³Ùáí)
C9: 1 | D9: 2 | E9: 3 | F9: 4 | G9: 5 | H9: 6 | I9: 7 | J9: 8 | K9: 9 | L9: 10 | M9: 11 | N9: 12
A10: 1. ²½³ïí³ÍÝ»ñÇÝ ³ßË³ï³ÝùáõÙ í»ñ³Ï³Ý·Ý»Éáõ í»ñ³µ»ñÛ³É Ñ³Ûó»ñ | C10: 2 | D10: 50 | E10: 41 | F10: 38 | G10: 1 | H10: 3 | I10: 1 | J10: 46 | L10: 6
A11: 2. ´³ÝíáñÝ»ñÇ ¨ Í³é³ÛáÕÝ»ñÇ ³ÛÉ ³ßË³ï³Ýù³ÛÇÝ í»×»ñ | D11: 3 | E11: 3 | F11: 1 | J11: 3
A12: 3. ²ßË.å³ñï³Ï³ÝáõÃ. Ï³ï³ñ»ÉÇë µ³Ýí.¨ Í³é³ÛáÕÝ»ñÇ ÏáÕÙÇó ÝÛáõÃ. íÝ³ëÇ Ñ³ïáõóÙ³Ý í»ñ³µ»ñÛ³É (³ßË, ûñ, 129-134 ÑÑ) Ñ³Ûó»ñ
A13: 4. ¶ÛáõÕ. ÏáÉ»ÏïÇí ïÝï»ëáõÃÛ³Ý ³Ý¹³ÙÝ»ñÇ ÏáÕÙÇó Ý»ñÏ³Û³óí³Í Ñ³Ûó»ñ
A14: 5. ºñ»Ë³Ý»ñÇÝ å³Ñ»Éáõ Ñ³Ù³ñ ³ÉÇÙ»ÝïÇ µéÝ³·³ÝÓÙ³Ý í»ñ³µ»ñÛ³É Ñ³Ûó»ñ | C14: 2 | D14: 65 | E14: 58 | F14: 54 | G14: 1 | H14: 4 | J14: 63 | L14: 4
A15: 6. Ð³ÛñáõÃÛ³Ý Ñ³ëï³ïÙ³Ý í»ñ³µ»ñÛ³É Ñ³Ûó»ñ | C15: 3 | D15: 13 | E15: 11 | F15: 11 | H15: 3 | J15: 14 | L15: 2 | N15: 46000
A16: 7. ÌÝáÕ³Ï³Ý Çñ³íáõÝùÇó ½ñÏ»Éáõ í»ñ³µ»ñÛ³É Ñ³Ûó»ñ | D16: 1 | H16: 1 | J16: 1 | N16: 4000
A17: 8. ²ÙáõëÝ³ÉáõÍáõÃÛ³Ý í»ñ³µ»ñÛ³É Ñ³Ûó»ñ | C17: 12 | D17: 150 | E17: 121 | F17: 115 | G17: 6 | H17: 19 | J17: 146 | L17: 16 | N17: 607000
A18: 9. ´Ý³Ï³ñ³ÝÇ Ñ³ïÏ³óáõÙáí íï³ñ»Éáõ í»ñ³µ»ñÛ³É Ñ³Ûó»ñ
A19: 10. ²é³Ýó ³ÛÉ µÝ³Ï³ñ³ÝÇ Ñ³ïÏ³óÙ³Ý íï³ñ»Éáõ í»ñ³µ»ñÛ³É Ñ³Ûó»ñ | C19: 3 | D19: 5 | E19: 4 | F19: 4 | G19: 1 | H19: 2 | J19: 7 | L19: 1 | N19: 12000
A20: 11. ²ÛÉ µÝ³Ï³ñ³Ý³ÛÇÝ Ñ³Ûó»ñ | C20: 9 | D20: 37 | E20: 29 | F20: 27 | G20: 4 | H20: 8 | J20: 41 | L20: 5 | N20: 133500
A21: 12. ´Ý³ÏáõÃÛ³Ý Çñ³íáõÝùÁ ×³Ý³ã»Éáõ í»ñ³µ»ñÛ³É Ñ³Ûó»ñ | D21: 5 | E21: 4 | F21: 3 | H21: 1 | J21: 5 | N21: 16500
A22: 13. ´Ý³ÏáõÃÛ³Ý Çñ³íáõÝùÁ Ïáñóñ³Í ×³Ý³ã»Éáõ í»ñ³µ»ñÛ³É Ñ³Ûó»ñ | C22: 5 | D22: 5 | E22: 5 | F22: 5 | J22: 5 | L22: 5
A23: 14. ø³Õ³ù³óÇÝ»ñÇ ë»÷³Ï³ÝáõÃÛ³Ý Çñ³íáõÝùÇ í»ñ³µ»ñÛ³É Ñ³Ûó»ñ | D23: 16 | E23: 12 | F23: 12 | H23: 2 | J23: 14 | L23: 2 | N23: 54000
A24: 15. ê»÷³Ï³ÝáõÃÛ³Ý Çñ³íáõÝùÇ í»ñ³µ»ñÛ³É Ñ³Ûó»ñ | C24: 9 | D24: 103 | E24: 70 | F24: 58 | G24: 11 | H24: 19 | I24: 3 | J24: 103 | L24: 9 | N24: 441000
A25: 16.Ê»Õ³Ý¹³ÙáõÃ.Ï³Ù Ù³Ñí³Ý Ñ³Ù³ñ íÝ³ëÁ Ñ³ïáõó»Éáõ Ù³ëÇÝ Ýáñ Ñ³ñáõóí³Í Ñ³Ûó»ñ
A26: 17. ¶áõÛùÁ í»ñ·ñÇó Ñ³Ý»Éáõ í»ñ³µ»ñÛ³É Ñ³Ûó»ñ | C26: 2 | D26: 8 | E26: 9 | F26: 9 | H26: 1 | J26: 10 | N26: 16000
A27: 18.Ð³Ûó»ñ Ñ»ÕÇÝ³ÏÇ Çñ³íáõÝùÇ í»ñ³µ»ñÛ³É í»×»ñáí
A28: 19. Ú³Ûó»ñ ·Ûáõï³ñ³ñáõÃÛ³Ý Çñ³íáõÝùÇ í»ñ³µ»ñÛ³É í»×»ñáí
A29: 20. ²Ýï³éÝ»ñÇ Ë³ËïáõÙÝ»ñÇ Ñ³Ù³ñ ·áõÛù³ÛÇÝ å³ï³ëË³Ý³ïíáõÃÛ³Ý í»ñ³µ»ñÛ³É Ñ³Ûó»ñ
A30: 21. ²åûñÇÝÇ áñëÇ ¨ ÓÏ³Ý å³ß³ñÝ»ñÇ áãÝã³óÙ³Ý Ñ»ï¨³Ýùáí ³é³ç³½áó ÝÛáõÃ³Ï³Ý å³ï³ëË³Ý³ïíáõÃÛ³Ý í»ñ³µ»ñÛ³É Ñ³Ûó»ñ
A31: 22. ÀÝïñ³Ï³Ý ·áñÍÁÝÃ³ó³ÛÇÝ í»ñ³µ»ñÛ³É Ñ³Ûó»ñ | D31: 12 | E31: 12 | F31: 12 | J31: 12
A32: 23. ¶áñÍ³ñùÝ»ñÁ ¨ å³ÛÙ³Ý³·ñ»ñÁ í³í»ñ³óÝ»Éáõ Ï³Ù ³Ýí³í»ñ ×³Ý³ã»Éáõ í»ñ³µ»ñÛ³É Ñ³Ûó»ñ | C32: 2 | D32: 68 | E32: 53 | F32: 46 | G32: 1 | H32: 9 | I32: 3 | J32: 66 | L32: 4 | N32: 193000
A33: 24. ä³ïíÇ ¨ ³ñÅ³Ý³å³ïíáõÃÛ³Ý å³ßïå³ÝáõÃÛ³Ý í»ñ³µ»ñÛ³É ·áñÍ»ñ
A34: 25. Ð³Ûó³ÛÇÝ ³ÛÉ ·áñÍ»ñ | C34: 80 | D34: 772 | E34: 516 | F34: 465 | G34: 63 | H34: 77 | I34: 19 | J34: 675 | L34: 177 | N34: 4549244
A35: 26. ÀÝ¹³Ù»ÝÁ Ñ³Ûó³ÛÇÝ í³ñáõÛÃÇ ·áñÍ»ñ (1-25 ïáÕ»ñ) | C35: =SUM(C10:C34) -> 129 | D35: =SUM(D10:D34) -> 1313 | E35: =SUM(E10:E34) -> 948 | F35: =SUM(F10:F34) -> 860 | G35: =SUM(G10:G34) -> 88 | H35: =SUM(H10:H34) -> 149 | I35: =SUM(I10:I34) -> 26 | J35: =SUM(J10:J34) -> 1211 | L35: =SUM(L10:L34) -> 231 | N35: =SUM(N10:N34) -> 6072244
A36: ì³ñã³-Çñ³í³Ï³Ý Ñ³ñ³µ»ñáõÃÛáõÝÝ»ñÇó | B36: 27.Ð³ñÏ»ñÇ ³å³éùÝ»ñÇ ·³ÝÓÙ³Ý í»ñ³µ»ñÛ³É Ñ³Ûó»ñ
B37: 28.ì³ñã³-Çñ³í³Ï³Ý Ñ³ñ³µ»ñáõÃÛáõÝÝ»ñÇó ³é³ç³ó³Í Ñ³Ûó»ñ | D37: 52 | E37: 40 | F37: 38 | G37: 6 | H37: 2 | J37: 48 | L37: 4 | N37: 91040
B38: 29.ä»ï³Ï³Ý Ï³é³í³ñÙ³Ý Ù³ñÙÇÝÝ»ñÇ ¨ å³ßïáÝ³ï³ñ ³ÝÓ³Ýó ³åûñÇÝÇ ·áñÍáÕáõÃÛáõÝÝ»ñÇ í»ñ³µ»ñÛ³É Ñ³Ûó»ñ | C38: 1 | D38: 27 | E38: 17 | F38: 17 | G38: 2 | H38: 3 | J38: 22 | L38: 6 | N38: 73100
B39: 30.ÀÝ¹³Ù»ÝÁ í³ñã³-Çñ³í³Ï³Ý Ñ³ñ³µ»ñáõÃÛáõÝÝ»ñÇó ³é³ç³ó³Í Ñ³Ûó»ñ (27-29 ïáÕ»ñ) | C39: =SUM(C37:C38) -> 1 | D39: =SUM(D37:D38) -> 79 | E39: =SUM(E37:E38) -> 57 | F39: =SUM(F37:F38) -> 55 | G39: =SUM(G37:G38) -> 8 | H39: =SUM(H37:H38) -> 5 | J39: =SUM(J37:J38) -> 70 | L39: =SUM(L37:L38) -> 10 | N39: =SUM(N37:N38) -> 164140
A40: Ð³ïáõÏ í³ñáõÛÃÇ ·áñÍ»ñ | B40: 31.Æñ³í³µ³Ý³Ï³Ý Ýß³Ý³ÏáõÃÛáõÝ áõÝ»óáÕ ÷³ëï»ñ Ñ³ëï³ï»Éáõ í»ñ³µ»ñÛ³É Ñ³Ûó»ñ | C40: 15 | D40: 309 | E40: 296 | F40: 258 | G40: 2 | H40: 15 | I40: 4 | J40: 317 | L40: 7 | N40: 742000
B41: 32.Üáï³ñ³Ï³Ý ·áñÍáÕáõÃÛáõÝÝ»ñÇ Ï³Ù ¹ñ³Ýó Ï³ï³ñÙ³Ý Ù»ñÅÙ³Ý Ñ³Ù³ñ µáÕáùÝ»ñáí
B42: 33.¶áñÍ»ñ ¼²¶ê-Ç Ù³ïÛ³ÝÝ»ñáõÙ áã ×Çßï ·ñ³ÝóáõÙÝ»ñÇ í»ñ³µ»ñÛ³É ·³Ý·³ïÝ»ñÇ ³éÃÇí | C42: 2 | D42: 4 | E42: 4 | F42: 3 | H42: 2 | J42: 6 | N42: 31000
B43: 34. Ð³ïáõÏ í³ñáõÛÃÇ ³ÛÉ ·áñÍ»ñ | C43: 15 | D43: 170 | E43: 157 | F43: 153 | G43: 2 | H43: 12 | J43: 171 | L43: 14 | N43: 563000
B44: 35. ÀÝ¹³Ù»ÝÁ Ñ³ïáõÏ í³ñáõÛÃÇ ·áñÍ»ñ (31-34 ïáÕ»ñ) | C44: =SUM(C40:C43) -> 32 | D44: =SUM(D40:D43) -> 483 | E44: =SUM(E40:E43) -> 457 | F44: =SUM(F40:F43) -> 414 | G44: =SUM(G40:G43) -> 4 | H44: =SUM(H40:H43) -> 29 | I44: =SUM(I40:I43) -> 4 | J44: =SUM(J40:J43) -> 494 | L44: =SUM(L40:L43) -> 21 | N44: =SUM(N40:N43) -> 1336000
A45: 36. ÀÝ¹³Ù»ÝÁ ù³Õ³ù³óÇ³Ï³Ý ·áñÍ»ñ (26, 30, 35) | C45: =SUM(C35+C39+C44) -> 162 | D45: =SUM(D35+D39+D44) -> 1875 | E45: =SUM(E35+E39+E44) -> 1462 | F45: =SUM(F35+F39+F44) -> 1329 | G45: =SUM(G35+G39+G44) -> 100 | H45: =SUM(H35+H39+H44) -> 183 | I45: =SUM(I35+I39+I44) -> 30 | J45: =SUM(J35+J39+J44) -> 1775 | L45: =SUM(L35+L39+L44) -> 262 | N45: =SUM(N35+N39+N44) -> 7572384

Sheet Armavir
A1: Ð²ÞìºîìàôÂÚàôÜ
A2: ø²Ô²ø²ø²òÆ²Î²Ü ¶àðÌºðÆ øÜÜàôÂÚ²Ü ìºð²´ºðÚ²È
A3: ÐÐ ²ñÙ³íÇñÇ Ù³ñ½Ç ³é³çÇÝ ³ïÛ³ÝÇ ¹³ï³ñ³ÝÇ
A4: 2007Ã. Ñ³Ù³ñ
A6: ¦²§ µ³ÅÝÇ í»ñ³µ»ñÛ³É ëïáõ·Çã Ñ³í³ë³ñáõÙÝ»ñ 1 ¨ 2 ëÛáõÝ³ÏÝ»ñÇ Ãí»ñÇ ·áõÙ³ñÁ Ñ³í³ë³ñ ¿ 8 ¨ 10 ëÛáõÝ³ÏÝ»ñÇ Ãí»ñÇ ·áõÙ³ñÇÝ: 8 ëÛáõÝ³ÏÇ ÃÇíÁ Ñ³í³ë³ñ ¿ 3,5-7 ëÛáõÝ³ÏÝ»ñÇ Ãí»ñÇ ·áõÙ³ñÇÝ: | E6: ² ù³Õ³ù³óÇ³Ï³Ý ·áñÍ»ñÇ ß³ñÅÁ
E7: ²í³ñïí»É »Ý ·áñÍ»ñ Ñ³ßí»ïáõ Å³Ù³Ý³Ï³ßñç³ÝáõÙ
C8: ²Ý³í³ñï ·áñÍ»ñÇ ÙÝ³óáñ¹Á Ñ³ßí»ïáõ Å³Ù³Ý³Ï³ßñç³ÝÇ ëÏ½µáõÙ | D8: êï³óí»É »Ý ·áñÍ»ñ Ñ³ßí»ïáõ Å³Ù³Ý³Ï³ßñç³ÝáõÙ | E8: ÀÝ¹³Ù»ÝÁ ùÝÝí»É »Ý ·áñÍ»ñ í×éÇ Ï³Û³óáõÙáí | F8: ²Û¹ ÃíáõÙ Ñ³ÛóÇ µ³í³ñ³ñÙ³Ùµ | G8: Î³ñ×í»É »Ý ·áñÍ»ñ í×éÇ Ï³Û³óáõÙáí | H8: Ð³Ûó»ñÁ ÃáÕÝí»É »Ý ³é³Ýó ùÝÝáõÃÛ³Ý | I8: ¶áñÍ»ñÁ Ñ³ÝÓÝí»É »Ý ³ÛÉ ¹³ï³ñ³ÝÝ»ñÇ | J8: ÀÝ¹³Ù»ÝÁ ³í³ñïí»É »Ý ·áñÍ»ñ (3, 5-7 ëÛáõÝ³ÏÝ»ñ) | K8: ²Û¹ ÃíáõÙ ù³Õ, ¹³ï, ûñ-áí Ý³Ë³ï»ëí³ÍÇó ³í»ÉÇ Å³ÙÏ»ïáõÙ | L8: ²Ý³í³ñï ·áñÍ»ñÇ ÙÝ³óáñ¹Á Ñ³ßí»ïáõ Å³Ù³Ý³Ï³ßñç³ÝÇ í»ñçáõÙ | M8: ²Û¹ ÃíáõÙ ·ïÝíáõÙ »Ý 3 ³ÙëÇó ³í»ÉÇ (Ï³ë»óí³Í ·áñÍ»ñÇ Ñ»ï Ù»Ïï»Õ) | N8: ä»ïáõÃÛ³Ý û·ïÇÝ ÙáõÍí³Í å»ï³Ï³Ý ïáõñùÇ ã³÷Á (¹ñ³Ùáí)
C9: 1 | D9: 2 | E9: 3 | F9: 4 | G9: 5 | H9: 6 | I9: 7 | J9: 8 | K9: 9 | L9: 10 | M9: 11 | N9: 12
A10: 1. ²½³ïí³ÍÝ»ñÇÝ ³ßË³ï³ÝùáõÙ í»ñ³Ï³Ý·Ý»Éáõ í»ñ³µ»ñÛ³É Ñ³Ûó»ñ | D10: 11 | E10: 9 | F10: 3 | G10: 1 | H10: 1 | J10: 11 | N10: 4000
A11: 2. ´³ÝíáñÝ»ñÇ ¨ Í³é³ÛáÕÝ»ñÇ ³ÛÉ ³ßË³ï³Ýù³ÛÇÝ í»×»ñ | C11: 2 | D11: 25 | E11: 19 | F11: 18 | G11: 1 | H11: 5 | J11: 25 | L11: 2 | M11: 1 | N11: 13820
A12: 3. ²ßË.å³ñï³Ï³ÝáõÃ. Ï³ï³ñ»ÉÇë µ³Ýí.¨ Í³é³ÛáÕÝ»ñÇ ÏáÕÙÇó ÝÛáõÃ. íÝ³ëÇ Ñ³ïáõóÙ³Ý í»ñ³µ»ñÛ³É (³ßË, ûñ, 129-134 ÑÑ) Ñ³Ûó»ñ
A13: 4. ¶ÛáõÕ. ÏáÉ»ÏïÇí ïÝï»ëáõÃÛ³Ý ³Ý¹³ÙÝ»ñÇ ÏáÕÙÇó Ý»ñÏ³Û³óí³Í Ñ³Ûó»ñ
A14: 5. ºñ»Ë³Ý»ñÇÝ å³Ñ»Éáõ Ñ³Ù³ñ ³ÉÇÙ»ÝïÇ µéÝ³·³ÝÓÙ³Ý í»ñ³µ»ñÛ³É Ñ³Ûó»ñ | C14: 4 | D14: 79 | E14: 64 | F14: 62 | G14: 4 | H14: 9 | J14: 77 | L14: 6 | M14: 2 | N14: 72480
A15: 6. Ð³ÛñáõÃÛ³Ý Ñ³ëï³ïÙ³Ý í»ñ³µ»ñÛ³É Ñ³Ûó»ñ | C15: 3 | D15: 35 | E15: 24 | F15: 24 | G15: 1 | H15: 8 | J15: 33 | K15: 5 | L15: 5 | M15: 2 | N15: 99500
A16: 7. ÌÝáÕ³Ï³Ý Çñ³íáõÝùÇó ½ñÏ»Éáõ í»ñ³µ»ñÛ³É Ñ³Ûó»ñ | D16: 4 | E16: 4 | F16: 3 | J16: 4 | N16: 12000
A17: 8. ²ÙáõëÝ³ÉáõÍáõÃÛ³Ý í»ñ³µ»ñÛ³É Ñ³Ûó»ñ | C17: 7 | D17: 133 | E17: 98 | F17: 98 | G17: 7 | H17: 30 | J17: 135 | L17: 5 | M17: 1 | N17: 476000
A18: 9. ´Ý³Ï³ñ³ÝÇ Ñ³ïÏ³óáõÙáí íï³ñ»Éáõ í»ñ³µ»ñÛ³É Ñ³Ûó»ñ
A19: 10. ²é³Ýó ³ÛÉ µÝ³Ï³ñ³ÝÇ Ñ³ïÏ³óÙ³Ý íï³ñ»Éáõ í»ñ³µ»ñÛ³É Ñ³Ûó»ñ | C19: 2 | D19: 39 | E19: 24 | F19: 21 | G19: 5 | H19: 10 | J19: 39 | K19: 1 | L19: 2 | N19: 125002
A20: 11. ²ÛÉ µÝ³Ï³ñ³Ý³ÛÇÝ Ñ³Ûó»ñ | C20: 1 | D20: 15 | E20: 11 | F20: 7 | G20: 3 | H20: 2 | J20: 16 | N20: 67600
A21: 12. ´Ý³ÏáõÃÛ³Ý Çñ³íáõÝùÁ ×³Ý³ã»Éáõ í»ñ³µ»ñÛ³É Ñ³Ûó»ñ | D21: 4 | E21: 3 | G21: 1 | J21: 4 | N21: 16000
A22: 13. ´Ý³ÏáõÃÛ³Ý Çñ³íáõÝùÁ Ïáñóñ³Í ×³Ý³ã»Éáõ í»ñ³µ»ñÛ³É Ñ³Ûó»ñ | C22: 2 | D22: 34 | E22: 26 | F22: 26 | G22: 3 | H22: 5 | I22: 1 | J22: 35 | K22: 1 | L22: 1 | N22: 120000
A23: 14. ø³Õ³ù³óÇÝ»ñÇ ë»÷³Ï³ÝáõÃÛ³Ý Çñ³íáõÝùÇ í»ñ³µ»ñÛ³É Ñ³Ûó»ñ | D23: 4 | E23: 2 | F23: 2 | G23: 2 | J23: 4 | K23: 1 | N23: 16000
A24: 15. ê»÷³Ï³ÝáõÃÛ³Ý Çñ³íáõÝùÇ í»ñ³µ»ñÛ³É Ñ³Ûó»ñ | C24: 5 | D24: 128 | E24: 94 | F24: 80 | G24: 12 | H24: 24 | I24: 2 | J24: 132 | K24: 1 | L24: 1 | M24: 1 | N24: 450000
A25: 16.Ê»Õ³Ý¹³ÙáõÃ.Ï³Ù Ù³Ñí³Ý Ñ³Ù³ñ íÝ³ëÁ Ñ³ïáõó»Éáõ Ù³ëÇÝ Ýáñ Ñ³ñáõóí³Í Ñ³Ûó»ñ | C25: 1 | L25: 1 | M25: 1
A26: 17. ¶áõÛùÁ í»ñ·ñÇó Ñ³Ý»Éáõ í»ñ³µ»ñÛ³É Ñ³Ûó»ñ | C26: 3 | D26: 20 | E26: 16 | F26: 14 | G26: 1 | H26: 6 | J26: 23 | N26: 55000
A27: 18.Ð³Ûó»ñ Ñ»ÕÇÝ³ÏÇ Çñ³íáõÝùÇ í»ñ³µ»ñÛ³É í»×»ñáí
A28: 19. Ú³Ûó»ñ ·Ûáõï³ñ³ñáõÃÛ³Ý Çñ³íáõÝùÇ í»ñ³µ»ñÛ³É í»×»ñáí
A29: 20. ²Ýï³éÝ»ñÇ Ë³ËïáõÙÝ»ñÇ Ñ³Ù³ñ ·áõÛù³ÛÇÝ å³ï³ëË³Ý³ïíáõÃÛ³Ý í»ñ³µ»ñÛ³É Ñ³Ûó»ñ
A30: 21. ²åûñÇÝÇ áñëÇ ¨ ÓÏ³Ý å³ß³ñÝ»ñÇ áãÝã³óÙ³Ý Ñ»ï¨³Ýùáí ³é³ç³½áó ÝÛáõÃ³Ï³Ý å³ï³ëË³Ý³ïíáõÃÛ³Ý í»ñ³µ»ñÛ³É Ñ³Ûó»ñ
A31: 22. ÀÝïñ³Ï³Ý ·áñÍÁÝÃ³ó³ÛÇÝ í»ñ³µ»ñÛ³É Ñ³Ûó»ñ | D31: 134 | E31: 130 | F31: 126 | G31: 3 | H31: 1 | J31: 134 | N31: 15000
A32: 23. ¶áñÍ³ñùÝ»ñÁ ¨ å³ÛÙ³Ý³·ñ»ñÁ í³í»ñ³óÝ»Éáõ Ï³Ù ³Ýí³í»ñ ×³Ý³ã»Éáõ í»ñ³µ»ñÛ³É Ñ³Ûó»ñ | C32: 6 | D32: 127 | E32: 97 | F32: 87 | G32: 7 | H32: 24 | I32: 3 | J32: 131 | K32: 2 | L32: 2 | N32: 535500
A33: 24. ä³ïíÇ ¨ ³ñÅ³Ý³å³ïíáõÃÛ³Ý å³ßïå³ÝáõÃÛ³Ý í»ñ³µ»ñÛ³É ·áñÍ»ñ
A34: 25. Ð³Ûó³ÛÇÝ ³ÛÉ ·áñÍ»ñ | C34: 189 | D34: 1690 | E34: 1279 | F34: 1226 | G34: 175 | H34: 248 | I34: 7 | J34: 1709 | K34: 15 | L34: 170 | M34: 30 | N34: 6076677
A35: 26. ÀÝ¹³Ù»ÝÁ Ñ³Ûó³ÛÇÝ í³ñáõÛÃÇ ·áñÍ»ñ (1-25 ïáÕ»ñ) | C35: =SUM(C10:C34) -> 225 | D35: =SUM(D10:D34) -> 2482 | E35: =SUM(E10:E34) -> 1900 | F35: =SUM(F10:F34) -> 1797 | G35: =SUM(G10:G34) -> 226 | H35: =SUM(H10:H34) -> 373 | I35: =SUM(I10:I34) -> 13 | J35: =SUM(J10:J34) -> 2512 | ... N35: =SUM(N10:N34) -> 8154579
A36: ì³ñã³-Çñ³í³Ï³Ý Ñ³ñ³µ»ñáõÃÛáõÝÝ»ñÇó | B36: 27.Ð³ñÏ»ñÇ ³å³éùÝ»ñÇ ·³ÝÓÙ³Ý í»ñ³µ»ñÛ³É Ñ³Ûó»ñ
B37: 28.ì³ñã³-Çñ³í³Ï³Ý Ñ³ñ³µ»ñáõÃÛáõÝÝ»ñÇó ³é³ç³ó³Í Ñ³Ûó»ñ | C37: 4 | D37: 168 | E37: 107 | F37: 99 | G37: 28 | H37: 7 | I37: 26 | J37: 168 | L37: 4 | M37: 3 | N37: 366896
B38: 29.ä»ï³Ï³Ý Ï³é³í³ñÙ³Ý Ù³ñÙÇÝÝ»ñÇ ¨ å³ßïáÝ³ï³ñ ³ÝÓ³Ýó ³åûñÇÝÇ ·áñÍáÕáõÃÛáõÝÝ»ñÇ í»ñ³µ»ñÛ³É Ñ³Ûó»ñ | C38: 1 | D38: 16 | E38: 9 | F38: 6 | G38: 5 | H38: 3 | J38: 17 | N38: 50000
B39: 30.ÀÝ¹³Ù»ÝÁ í³ñã³-Çñ³í³Ï³Ý Ñ³ñ³µ»ñáõÃÛáõÝÝ»ñÇó ³é³ç³ó³Í Ñ³Ûó»ñ (27-29 ïáÕ»ñ) | C39: =SUM(C37:C38) -> 5 | D39: =SUM(D37:D38) -> 184 | E39: =SUM(E37:E38) -> 116 | F39: =SUM(F37:F38) -> 105 | G39: =SUM(G37:G38) -> 33 | H39: =SUM(H37:H38) -> 10 | I39: =SUM(I37:I38) -> 26 | J39: =SUM(J37:J38) -> 185 | L39: =SUM(L37:L38) -> 4 | M39: =SUM(M37:M38) -> 3 | N39: =SUM(N37:N38) -> 416896
A40: Ð³ïáõÏ í³ñáõÛÃÇ ·áñÍ»ñ | B40: 31.Æñ³í³µ³Ý³Ï³Ý Ýß³Ý³ÏáõÃÛáõÝ áõÝ»óáÕ ÷³ëï»ñ Ñ³ëï³ï»Éáõ í»ñ³µ»ñÛ³É Ñ³Ûó»ñ | C40: 2 | D40: 196 | E40: 186 | F40: 184 | H40: 11 | J40: 197 | L40: 1 | N40: 516100
B41: 32.Üáï³ñ³Ï³Ý ·áñÍáÕáõÃÛáõÝÝ»ñÇ Ï³Ù ¹ñ³Ýó Ï³ï³ñÙ³Ý Ù»ñÅÙ³Ý Ñ³Ù³ñ µáÕáùÝ»ñáí
B42: 33.¶áñÍ»ñ ¼²¶ê-Ç Ù³ïÛ³ÝÝ»ñáõÙ áã ×Çßï ·ñ³ÝóáõÙÝ»ñÇ í»ñ³µ»ñÛ³É ·³Ý·³ïÝ»ñÇ ³éÃÇí
B43: 34. Ð³ïáõÏ í³ñáõÛÃÇ ³ÛÉ ·áñÍ»ñ | C43: 4 | D43: 40 | E43: 34 | F43: 34 | G43: 2 | H43: 3 | J43: 39 | L43: 5 | N43: 113500
B44: 35. ÀÝ¹³Ù»ÝÁ Ñ³ïáõÏ í³ñáõÛÃÇ ·áñÍ»ñ (31-34 ïáÕ»ñ) | C44: =SUM(C40:C43) -> 6 | D44: =SUM(D40:D43) -> 236 | E44: =SUM(E40:E43) -> 220 | F44: =SUM(F40:F43) -> 218 | G44: =SUM(G40:G43) -> 2 | H44: =SUM(H40:H43) -> 14 | J44: =SUM(J40:J43) -> 236 | L44: =SUM(L40:L43) -> 6 | N44: =SUM(N40:N43) -> 629600
A45: 36. ÀÝ¹³Ù»ÝÁ ù³Õ³ù³óÇ³Ï³Ý ·áñÍ»ñ (26, 30, 35) | C45: 236 | D45: 2902 | E45: 2236 | F45: 2120 | G45: 261 | H45: 397 | I45: 39 | J45: 2933 | K45: 26 | L45: 205 | M45: 41 | N45: 9201075

Sheet Ararat
A1: Ð²ÞìºîìàôÂÚàôÜ
A2: ø²Ô²ø²ø²òÆ²Î²Ü ¶àðÌºðÆ øÜÜàôÂÚ²Ü ìºð²´ºðÚ²È
A3: ÐÐ ²ñ³ñ³ïÇ Ù³ñ½Ç ³é³çÇÝ ³ïÛ³ÝÇ ¹³ï³ñ³ÝÇ
A4: 2007Ã. Ñ³Ù³ñ
A6: ¦²§ µ³ÅÝÇ í»ñ³µ»ñÛ³É ëïáõ·Çã Ñ³í³ë³ñáõÙÝ»ñ 1 ¨ 2 ëÛáõÝ³ÏÝ»ñÇ Ãí»ñÇ ·áõÙ³ñÁ Ñ³í³ë³ñ ¿ 8 ¨ 10 ëÛáõÝ³ÏÝ»ñÇ Ãí»ñÇ ·áõÙ³ñÇÝ: 8 ëÛáõÝ³ÏÇ ÃÇíÁ Ñ³í³ë³ñ ¿ 3,5-7 ëÛáõÝ³ÏÝ»ñÇ Ãí»ñÇ ·áõÙ³ñÇÝ: | E6: ² ù³Õ³ù³óÇ³Ï³Ý ·áñÍ»ñÇ ß³ñÅÁ
E7: ²í³ñïí»É »Ý ·áñÍ»ñ Ñ³ßí»ïáõ Å³Ù³Ý³Ï³ßñç³ÝáõÙ
C8: ²Ý³í³ñï ·áñÍ»ñÇ ÙÝ³óáñ¹Á Ñ³ßí»ïáõ Å³Ù³Ý³Ï³ßñç³ÝÇ ëÏ½µáõÙ | D8: êï³óí»É »Ý ·áñÍ»ñ Ñ³ßí»ïáõ Å³Ù³Ý³Ï³ßñç³ÝáõÙ | E8: ÀÝ¹³Ù»ÝÁ ùÝÝí»É »Ý ·áñÍ»ñ í×éÇ Ï³Û³óáõÙáí | F8: ²Û¹ ÃíáõÙ Ñ³ÛóÇ µ³í³ñ³ñÙ³Ùµ | G8: Î³ñ×í»É »Ý ·áñÍ»ñ í×éÇ Ï³Û³óáõÙáí | H8: Ð³Ûó»ñÁ ÃáÕÝí»É »Ý ³é³Ýó ùÝÝáõÃÛ³Ý | I8: ¶áñÍ»ñÁ Ñ³ÝÓÝí»É »Ý ³ÛÉ ¹³ï³ñ³ÝÝ»ñÇ | J8: ÀÝ¹³Ù»ÝÁ ³í³ñïí»É »Ý ·áñÍ»ñ (3, 5-7 ëÛáõÝ³ÏÝ»ñ) | K8: ²Û¹ ÃíáõÙ ù³Õ, ¹³ï, ûñ-áí Ý³Ë³ï»ëí³ÍÇó ³í»ÉÇ Å³ÙÏ»ïáõÙ | L8: ²Ý³í³ñï ·áñÍ»ñÇ ÙÝ³óáñ¹Á Ñ³ßí»ïáõ Å³Ù³Ý³Ï³ßñç³ÝÇ í»ñçáõÙ | M8: ²Û¹ ÃíáõÙ ·ïÝíáõÙ »Ý 3 ³ÙëÇó ³í»ÉÇ (Ï³ë»óí³Í ·áñÍ»ñÇ Ñ»ï Ù»Ïï»Õ) | N8: ä»ïáõÃÛ³Ý û·ïÇÝ ÙáõÍí³Í å»ï³Ï³Ý ïáõñùÇ ã³÷Á (¹ñ³Ùáí)
C9: 1 | D9: 2 | E9: 3 | F9: 4 | G9: 5 | H9: 6 | I9: 7 | J9: 8 | K9: 9 | L9: 10 | M9: 11 | N9: 12
A10: 1. ²½³ïí³ÍÝ»ñÇÝ ³ßË³ï³ÝùáõÙ í»ñ³Ï³Ý·Ý»Éáõ í»ñ³µ»ñÛ³É Ñ³Ûó»ñ | D10: 9 | E10: 4 | F10: 4 | G10: 5 | J10: 9 | N10: 4000
A11: 2. ´³ÝíáñÝ»ñÇ ¨ Í³é³ÛáÕÝ»ñÇ ³ÛÉ ³ßË³ï³Ýù³ÛÇÝ í»×»ñ | D11: 1 | G11: 1 | J11: 1
A12: 3. ²ßË.å³ñï³Ï³ÝáõÃ. Ï³ï³ñ»ÉÇë µ³Ýí.¨ Í³é³ÛáÕÝ»ñÇ ÏáÕÙÇó ÝÛáõÃ. íÝ³ëÇ Ñ³ïáõóÙ³Ý í»ñ³µ»ñÛ³É (³ßË, ûñ, 129-134 ÑÑ) Ñ³Ûó»ñ
A13: 4. ¶ÛáõÕ. ÏáÉ»ÏïÇí ïÝï»ëáõÃÛ³Ý ³Ý¹³ÙÝ»ñÇ ÏáÕÙÇó Ý»ñÏ³Û³óí³Í Ñ³Ûó»ñ
A14: 5. ºñ»Ë³Ý»ñÇÝ å³Ñ»Éáõ Ñ³Ù³ñ ³ÉÇÙ»ÝïÇ µéÝ³·³ÝÓÙ³Ý í»ñ³µ»ñÛ³É Ñ³Ûó»ñ | C14: 2 | D14: 84 | E14: 53 | F14: 53 | G14: 13 | H14: 15 | J14: 81 | L14: 5 | N14: 5040
A15: 6. Ð³ÛñáõÃÛ³Ý Ñ³ëï³ïÙ³Ý í»ñ³µ»ñÛ³É Ñ³Ûó»ñ | D15: 13 | E15: 10 | F15: 10 | H15: 1 | J15: 11 | L15: 2 | M15: 1 | N15: 39000
A16: 7. ÌÝáÕ³Ï³Ý Çñ³íáõÝùÇó ½ñÏ»Éáõ í»ñ³µ»ñÛ³É Ñ³Ûó»ñ | D16: 3 | E16: 2 | F16: 2 | H16: 1 | J16: 3 | N16: 9000
A17: 8. ²ÙáõëÝ³ÉáõÍáõÃÛ³Ý í»ñ³µ»ñÛ³É Ñ³Ûó»ñ | C17: 6 | D17: 109 | E17: 77 | F17: 77 | G17: 7 | H17: 15 | I17: 1 | J17: 100 | L17: 15 | M17: 1 | N17: 436160
A18: 9. ´Ý³Ï³ñ³ÝÇ Ñ³ïÏ³óáõÙáí íï³ñ»Éáõ í»ñ³µ»ñÛ³É Ñ³Ûó»ñ
A19: 10. ²é³Ýó ³ÛÉ µÝ³Ï³ñ³ÝÇ Ñ³ïÏ³óÙ³Ý íï³ñ»Éáõ í»ñ³µ»ñÛ³É Ñ³Ûó»ñ | C19: 5 | D19: 14 | E19: 8 | F19: 8 | G19: 6 | H19: 2 | J19: 16 | L19: 3 | M19: 2 | N19: 52000
A20: 11. ²ÛÉ µÝ³Ï³ñ³Ý³ÛÇÝ Ñ³Ûó»ñ | C20: 11 | D20: 41 | E20: 19 | F20: 19 | G20: 15 | H20: 11 | I20: 1 | J20: 46 | L20: 6 | M20: 4 | N20: 142400
A21: 12. ´Ý³ÏáõÃÛ³Ý Çñ³íáõÝùÁ ×³Ý³ã»Éáõ í»ñ³µ»ñÛ³É Ñ³Ûó»ñ | C21: 7 | D21: 1 | E21: 3 | F21: 3 | G21: 4 | J21: 7 | L21: 1 | M21: 1 | N21: 8000
A22: 13. ´Ý³ÏáõÃÛ³Ý Çñ³íáõÝùÁ Ïáñóñ³Í ×³Ý³ã»Éáõ í»ñ³µ»ñÛ³É Ñ³Ûó»ñ | C22: 1 | D22: 3 | E22: 4 | F22: 4 | J22: 4 | N22: 8000
A23: 14. ø³Õ³ù³óÇÝ»ñÇ ë»÷³Ï³ÝáõÃÛ³Ý Çñ³íáõÝùÇ í»ñ³µ»ñÛ³É Ñ³Ûó»ñ | C23: 4 | D23: 58 | E23: 27 | F23: 27 | G23: 15 | H23: 11 | I23: 2 | J23: 55 | L23: 7 | N23: 237000
A24: 15. ê»÷³Ï³ÝáõÃÛ³Ý Çñ³íáõÝùÇ í»ñ³µ»ñÛ³É Ñ³Ûó»ñ | C24: 39 | D24: 134 | E24: 72 | F24: 72 | G24: 32 | H24: 27 | I24: 4 | J24: 135 | L24: 38 | M24: 24 | N24: 539500
A25: 16.Ê»Õ³Ý¹³ÙáõÃ.Ï³Ù Ù³Ñí³Ý Ñ³Ù³ñ íÝ³ëÁ Ñ³ïáõó»Éáõ Ù³ëÇÝ Ýáñ Ñ³ñáõóí³Í Ñ³Ûó»ñ | D25: 3 | E25: 2 | F25: 2 | J25: 2 | L25: 1
A26: 17. ¶áõÛùÁ í»ñ·ñÇó Ñ³Ý»Éáõ í»ñ³µ»ñÛ³É Ñ³Ûó»ñ | D26: 4 | E26: 2 | F26: 2 | G26: 1 | I26: 1 | J26: 4 | N26: 12000
A27: 18.Ð³Ûó»ñ Ñ»ÕÇÝ³ÏÇ Çñ³íáõÝùÇ í»ñ³µ»ñÛ³É í»×»ñáí
A28: 19. Ú³Ûó»ñ ·Ûáõï³ñ³ñáõÃÛ³Ý Çñ³íáõÝùÇ í»ñ³µ»ñÛ³É í»×»ñáí
A29: 20. ²Ýï³éÝ»ñÇ Ë³ËïáõÙÝ»ñÇ Ñ³Ù³ñ ·áõÛù³ÛÇÝ å³ï³ëË³Ý³ïíáõÃÛ³Ý í»ñ³µ»ñÛ³É Ñ³Ûó»ñ
A30: 21. ²åûñÇÝÇ áñëÇ ¨ ÓÏ³Ý å³ß³ñÝ»ñÇ áãÝã³óÙ³Ý Ñ»ï¨³Ýùáí ³é³ç³½áó ÝÛáõÃ³Ï³Ý å³ï³ëË³Ý³ïíáõÃÛ³Ý í»ñ³µ»ñÛ³É Ñ³Ûó»ñ
A31: 22. ÀÝïñ³Ï³Ý ·áñÍÁÝÃ³ó³ÛÇÝ í»ñ³µ»ñÛ³É Ñ³Ûó»ñ | D31: 5 | E31: 5 | F31: 5 | J31: 5
A32: 23. ¶áñÍ³ñùÝ»ñÁ ¨ å³ÛÙ³Ý³·ñ»ñÁ í³í»ñ³óÝ»Éáõ Ï³Ù ³Ýí³í»ñ ×³Ý³ã»Éáõ í»ñ³µ»ñÛ³É Ñ³Ûó»ñ | C32: 8 | D32: 64 | E32: 43 | F32: 43 | G32: 14 | H32: 9 | I32: 3 | J32: 69 | L32: 3 | M32: 3 | N32: 246500
A33: 24. ä³ïíÇ ¨ ³ñÅ³Ý³å³ïíáõÃÛ³Ý å³ßïå³ÝáõÃÛ³Ý í»ñ³µ»ñÛ³É ·áñÍ»ñ
A34: 25. Ð³Ûó³ÛÇÝ ³ÛÉ ·áñÍ»ñ | C34: 80 | D34: 804 | E34: 488 | F34: 488 | G34: 174 | H34: 61 | I34: 22 | J34: 745 | L34: 139 | M34: 48 | N34: 4670691
A35: 26. ÀÝ¹³Ù»ÝÁ Ñ³Ûó³ÛÇÝ í³ñáõÛÃÇ ·áñÍ»ñ (1-25 ïáÕ»ñ) | C35: =SUM(C10:C34) -> 163 | D35: =SUM(D10:D34) -> 1350 | E35: =SUM(E10:E34) -> 819 | F35: =SUM(F10:F34) -> 819 | G35: =SUM(G10:G34) -> 287 | H35: =SUM(H10:H34) -> 153 | I35: =SUM(I10:I34) -> 34 | J35: =SUM(J10:J34) -> 1293 | L35: =SUM(L10:L34) -> 220 | M35: =SUM(M10:M34) -> 84 | N35: =SUM(N10:N34) -> 6409291
A36: ì³ñã³-Çñ³í³Ï³Ý Ñ³ñ³µ»ñáõÃÛáõÝÝ»ñÇó | B36: 27.Ð³ñÏ»ñÇ ³å³éùÝ»ñÇ ·³ÝÓÙ³Ý í»ñ³µ»ñÛ³É Ñ³Ûó»ñ
B37: 28.ì³ñã³-Çñ³í³Ï³Ý Ñ³ñ³µ»ñáõÃÛáõÝÝ»ñÇó ³é³ç³ó³Í Ñ³Ûó»ñ
B38: 29.ä»ï³Ï³Ý Ï³é³í³ñÙ³Ý Ù³ñÙÇÝÝ»ñÇ ¨ å³ßïáÝ³ï³ñ ³ÝÓ³Ýó ³åûñÇÝÇ ·áñÍáÕáõÃÛáõÝÝ»ñÇ í»ñ³µ»ñÛ³É Ñ³Ûó»ñ | D38: 34 | E38: 21 | F38: 21 | G38: 7 | H38: 2 | I38: 1 | J38: 31 | L38: 3 | M38: 1 | N38: 67000
B39: 30.ÀÝ¹³Ù»ÝÁ í³ñã³-Çñ³í³Ï³Ý Ñ³ñ³µ»ñáõÃÛáõÝÝ»ñÇó ³é³ç³ó³Í Ñ³Ûó»ñ (27-29 ïáÕ»ñ) | D39: =SUM(D38) -> 34 | E39: =SUM(E38) -> 21 | F39: =SUM(F38) -> 21 | G39: =SUM(G38) -> 7 | H39: =SUM(H38) -> 2 | I39: =SUM(I38) -> 1 | J39: =SUM(J38) -> 31 | L39: =SUM(L38) -> 3 | M39: =SUM(M38) -> 1 | N39: =SUM(N38) -> 67000
A40: Ð³ïáõÏ í³ñáõÛÃÇ ·áñÍ»ñ | B40: 31.Æñ³í³µ³Ý³Ï³Ý Ýß³Ý³ÏáõÃÛáõÝ áõÝ»óáÕ ÷³ëï»ñ Ñ³ëï³ï»Éáõ í»ñ³µ»ñÛ³É Ñ³Ûó»ñ | C40: 9 | D40: 268 | E40: 234 | F40: 234 | G40: 8 | H40: 20 | I40: 2 | J40: 264 | L40: 13 | N40: 617500
B41: 32.Üáï³ñ³Ï³Ý ·áñÍáÕáõÃÛáõÝÝ»ñÇ Ï³Ù ¹ñ³Ýó Ï³ï³ñÙ³Ý Ù»ñÅÙ³Ý Ñ³Ù³ñ µáÕáùÝ»ñáí
B42: 33.¶áñÍ»ñ ¼²¶ê-Ç Ù³ïÛ³ÝÝ»ñáõÙ áã ×Çßï ·ñ³ÝóáõÙÝ»ñÇ í»ñ³µ»ñÛ³É ·³Ý·³ïÝ»ñÇ ³éÃÇí | D42: 1 | E42: 1 | F42: 1 | J42: 1 | N42: 2000
B43: 34. Ð³ïáõÏ í³ñáõÛÃÇ ³ÛÉ ·áñÍ»ñ | C43: 16 | D43: 156 | E43: 130 | F43: 130 | G43: 8 | H43: 10 | J43: 148 | L43: 24 | M43: 5 | N43: 368000
B44: 35. ÀÝ¹³Ù»ÝÁ Ñ³ïáõÏ í³ñáõÛÃÇ ·áñÍ»ñ (31-34 ïáÕ»ñ) | C44: =SUM(C40:C43) -> 25 | D44: =SUM(D40:D43) -> 425 | E44: =SUM(E40:E43) -> 365 | F44: =SUM(F40:F43) -> 365 | G44: =SUM(G40:G43) -> 16 | H44: =SUM(H40:H43) -> 30 | I44: =SUM(I40:I43) -> 2 | J44: =SUM(J40:J43) -> 413 | L44: =SUM(L40:L43) -> 37 | M44: =SUM(M40:M43) -> 5 | N44: =SUM(N40:N43) -> 987500
A45: 36. ÀÝ¹³Ù»ÝÁ ù³Õ³ù³óÇ³Ï³Ý ·áñÍ»ñ (26, 30, 35) | C45: =SUM(C35+C39+C44) -> 188 | D45: =SUM(D35+D39+D44) -> 1809 | E45: =SUM(E35+E39+E44) -> 1205 | F45: =SUM(F35+F39+F44) -> 1205 | G45: =SUM(G35+G39+G44) -> 310 | H45: =SUM(H35+H39+H44) -> 185 | I45: =SUM(I35+I39+I44) -> 37 | J45: =SUM(J35+J39+J44) -> 1737 | ... N45: =SUM(N35+N39+N44) -> 7463791

Sheet Aragacotn
A1: Ð²ÞìºîìàôÂÚàôÜ
A2: ø²Ô²ø²ø²òÆ²Î²Ü ¶àðÌºðÆ øÜÜàôÂÚ²Ü ìºð²´ºðÚ²È
A3: ÐÐ ²ñ³·³ÍáïÝÇ Ù³ñ½Ç ³é³çÇÝ ³ïÛ³ÝÇ ¹³ï³ñ³ÝÇ
A4: 2007Ã.. Ñ³Ù³ñ
A6: ¦²§ µ³ÅÝÇ í»ñ³µ»ñÛ³É ëïáõ·Çã Ñ³í³ë³ñáõÙÝ»ñ 1 ¨ 2 ëÛáõÝ³ÏÝ»ñÇ Ãí»ñÇ ·áõÙ³ñÁ Ñ³í³ë³ñ ¿ 8 ¨ 10 ëÛáõÝ³ÏÝ»ñÇ Ãí»ñÇ ·áõÙ³ñÇÝ: 8 ëÛáõÝ³ÏÇ ÃÇíÁ Ñ³í³ë³ñ ¿ 3,5-7 ëÛáõÝ³ÏÝ»ñÇ Ãí»ñÇ ·áõÙ³ñÇÝ: | E6: ² ù³Õ³ù³óÇ³Ï³Ý ·áñÍ»ñÇ ß³ñÅÁ
E7: ²í³ñïí»É »Ý ·áñÍ»ñ Ñ³ßí»ïáõ Å³Ù³Ý³Ï³ßñç³ÝáõÙ
C8: ²Ý³í³ñï ·áñÍ»ñÇ ÙÝ³óáñ¹Á Ñ³ßí»ïáõ Å³Ù³Ý³Ï³ßñç³ÝÇ ëÏ½µáõÙ | D8: êï³óí»É »Ý ·áñÍ»ñ Ñ³ßí»ïáõ Å³Ù³Ý³Ï³ßñç³ÝáõÙ | E8: ÀÝ¹³Ù»ÝÁ ùÝÝí»É »Ý ·áñÍ»ñ í×éÇ Ï³Û³óáõÙáí | F8: ²Û¹ ÃíáõÙ Ñ³ÛóÇ µ³í³ñ³ñÙ³Ùµ | G8: Î³ñ×í»É »Ý ·áñÍ»ñ í×éÇ Ï³Û³óáõÙáí | H8: Ð³Ûó»ñÁ ÃáÕÝí»É »Ý ³é³Ýó ùÝÝáõÃÛ³Ý | I8: ¶áñÍ»ñÁ Ñ³ÝÓÝí»É »Ý ³ÛÉ ¹³ï³ñ³ÝÝ»ñÇ | J8: ÀÝ¹³Ù»ÝÁ ³í³ñïí»É »Ý ·áñÍ»ñ (3, 5-7 ëÛáõÝ³ÏÝ»ñ) | K8: ²Û¹ ÃíáõÙ ù³Õ, ¹³ï, ûñ-áí Ý³Ë³ï»ëí³ÍÇó ³í»ÉÇ Å³ÙÏ»ïáõÙ | L8: ²Ý³í³ñï ·áñÍ»ñÇ ÙÝ³óáñ¹Á Ñ³ßí»ïáõ Å³Ù³Ý³Ï³ßñç³ÝÇ í»ñçáõÙ | M8: ²Û¹ ÃíáõÙ ·ïÝíáõÙ »Ý 3 ³ÙëÇó ³í»ÉÇ (Ï³ë»óí³Í ·áñÍ»ñÇ Ñ»ï Ù»Ïï»Õ) | N8: ä»ïáõÃÛ³Ý û·ïÇÝ ÙáõÍí³Í å»ï³Ï³Ý ïáõñùÇ ã³÷Á (¹ñ³Ùáí)
C9: 1 | D9: 2 | E9: 3 | F9: 4 | G9: 5 | H9: 6 | I9: 7 | J9: 8 | K9: 9 | L9: 10 | M9: 11 | N9: 12
A10: 1. ²½³ïí³ÍÝ»ñÇÝ ³ßË³ï³ÝùáõÙ í»ñ³Ï³Ý·Ý»Éáõ í»ñ³µ»ñÛ³É Ñ³Ûó»ñ | C10: 2 | D10: 4 | E10: 6 | F10: 6 | J10: 6
A11: 2. ´³ÝíáñÝ»ñÇ ¨ Í³é³ÛáÕÝ»ñÇ ³ÛÉ ³ßË³ï³Ýù³ÛÇÝ í»×»ñ | C11: 7 | D11: 40 | E11: 41 | F11: 41 | G11: 1 | H11: 4 | J11: 46 | L11: 1
A12: 3. ²ßË.å³ñï³Ï³ÝáõÃ. Ï³ï³ñ»ÉÇë µ³Ýí.¨ Í³é³ÛáÕÝ»ñÇ ÏáÕÙÇó ÝÛáõÃ. íÝ³ëÇ Ñ³ïáõóÙ³Ý í»ñ³µ»ñÛ³É (³ßË, ûñ, 129-134 ÑÑ) Ñ³Ûó»ñ
A13: 4. ¶ÛáõÕ. ÏáÉ»ÏïÇí ïÝï»ëáõÃÛ³Ý ³Ý¹³ÙÝ»ñÇ ÏáÕÙÇó Ý»ñÏ³Û³óí³Í Ñ³Ûó»ñ
A14: 5. ºñ»Ë³Ý»ñÇÝ å³Ñ»Éáõ Ñ³Ù³ñ ³ÉÇÙ»ÝïÇ µéÝ³·³ÝÓÙ³Ý í»ñ³µ»ñÛ³É Ñ³Ûó»ñ | C14: 2 | D14: 37 | E14: 33 | F14: 31 | G14: 2 | H14: 1 | J14: 36 | L14: 3 | N14: 4000
A15: 6. Ð³ÛñáõÃÛ³Ý Ñ³ëï³ïÙ³Ý í»ñ³µ»ñÛ³É Ñ³Ûó»ñ | C15: 1 | D15: 12 | E15: 9 | F15: 9 | G15: 2 | H15: 1 | J15: 12 | L15: 1 | N15: 39000
A16: 7. ÌÝáÕ³Ï³Ý Çñ³íáõÝùÇó ½ñÏ»Éáõ í»ñ³µ»ñÛ³É Ñ³Ûó»ñ | D16: 2 | E16: 1 | F16: 1 | H16: 1 | J16: 2 | N16: 8000
A17: 8. ²ÙáõëÝ³ÉáõÍáõÃÛ³Ý í»ñ³µ»ñÛ³É Ñ³Ûó»ñ | C17: 2 | D17: 35 | E17: 32 | F17: 32 | H17: 2 | I17: 1 | J17: 35 | L17: 2 | N17: 143000
A18: 9. ´Ý³Ï³ñ³ÝÇ Ñ³ïÏ³óáõÙáí íï³ñ»Éáõ í»ñ³µ»ñÛ³É Ñ³Ûó»ñ
A19: 10. ²é³Ýó ³ÛÉ µÝ³Ï³ñ³ÝÇ Ñ³ïÏ³óÙ³Ý íï³ñ»Éáõ í»ñ³µ»ñÛ³É Ñ³Ûó»ñ | D19: 8 | E19: 4 | F19: 4 | H19: 3 | J19: 7 | L19: 1 | N19: 27000
A20: 11. ²ÛÉ µÝ³Ï³ñ³Ý³ÛÇÝ Ñ³Ûó»ñ | C20: 3 | D20: 6 | E20: 5 | F20: 3 | G20: 3 | H20: 1 | J20: 9 | N20: 24000
A21: 12. ´Ý³ÏáõÃÛ³Ý Çñ³íáõÝùÁ ×³Ý³ã»Éáõ í»ñ³µ»ñÛ³É Ñ³Ûó»ñ | C21: 3 | D21: 8 | E21: 8 | F21: 5 | G21: 2 | H21: 1 | J21: 11 | N21: 32000
A22: 13. ´Ý³ÏáõÃÛ³Ý Çñ³íáõÝùÁ Ïáñóñ³Í ×³Ý³ã»Éáõ í»ñ³µ»ñÛ³É Ñ³Ûó»ñ | C22: 1 | D22: 1 | E22: 1 | F22: 1 | H22: 1 | J22: 2 | N22: 4000
A23: 14. ø³Õ³ù³óÇÝ»ñÇ ë»÷³Ï³ÝáõÃÛ³Ý Çñ³íáõÝùÇ í»ñ³µ»ñÛ³É Ñ³Ûó»ñ | C23: 16 | D23: 131 | E23: 98 | F23: 79 | G23: 11 | H23: 17 | I23: 2 | J23: 128 | L23: 19 | N23: 943585
A24: 15. ê»÷³Ï³ÝáõÃÛ³Ý Çñ³íáõÝùÇ í»ñ³µ»ñÛ³É Ñ³Ûó»ñ | C24: 12 | D24: 286 | E24: 209 | F24: 82 | G24: 20 | H24: 17 | I24: 2 | J24: 248 | L24: 50 | N24: 760137
A25: 16.Ê»Õ³Ý¹³ÙáõÃ.Ï³Ù Ù³Ñí³Ý Ñ³Ù³ñ íÝ³ëÁ Ñ³ïáõó»Éáõ Ù³ëÇÝ Ýáñ Ñ³ñáõóí³Í Ñ³Ûó»ñ
A26: 17. ¶áõÛùÁ í»ñ·ñÇó Ñ³Ý»Éáõ í»ñ³µ»ñÛ³É Ñ³Ûó»ñ | C26: 1 | D26: 3 | H26: 2 | J26: 2 | L26: 2 | N26: 9000
A27: 18.Ð³Ûó»ñ Ñ»ÕÇÝ³ÏÇ Çñ³íáõÝùÇ í»ñ³µ»ñÛ³É í»×»ñáí
A28: 19. Ú³Ûó»ñ ·Ûáõï³ñ³ñáõÃÛ³Ý Çñ³íáõÝùÇ í»ñ³µ»ñÛ³É í»×»ñáí
A29: 20. ²Ýï³éÝ»ñÇ Ë³ËïáõÙÝ»ñÇ Ñ³Ù³ñ ·áõÛù³ÛÇÝ å³ï³ëË³Ý³ïíáõÃÛ³Ý í»ñ³µ»ñÛ³É Ñ³Ûó»ñ
A30: 21. ²åûñÇÝÇ áñëÇ ¨ ÓÏ³Ý å³ß³ñÝ»ñÇ áãÝã³óÙ³Ý Ñ»ï¨³Ýùáí ³é³ç³½áó ÝÛáõÃ³Ï³Ý å³ï³ëË³Ý³ïíáõÃÛ³Ý í»ñ³µ»ñÛ³É Ñ³Ûó»ñ
A31: 22. ÀÝïñ³Ï³Ý ·áñÍÁÝÃ³ó³ÛÇÝ í»ñ³µ»ñÛ³É Ñ³Ûó»ñ | D31: 7 | E31: 7 | F31: 7 | J31: 7 | N31: 7000
A32: 23. ¶áñÍ³ñùÝ»ñÁ ¨ å³ÛÙ³Ý³·ñ»ñÁ í³í»ñ³óÝ»Éáõ Ï³Ù ³Ýí³í»ñ ×³Ý³ã»Éáõ í»ñ³µ»ñÛ³É Ñ³Ûó»ñ | C32: 3 | D32: 38 | E32: 26 | F32: 21 | G32: 4 | H32: 6 | I32: 1 | J32: 37 | L32: 4 | N32: 157000
A33: 24. ä³ïíÇ ¨ ³ñÅ³Ý³å³ïíáõÃÛ³Ý å³ßïå³ÝáõÃÛ³Ý í»ñ³µ»ñÛ³É ·áñÍ»ñ
A34: 25. Ð³Ûó³ÛÇÝ ³ÛÉ ·áñÍ»ñ | C34: 18 | D34: 126 | E34: 101 | F34: 94 | G34: 11 | H34: 15 | I34: 2 | J34: 129 | L34: 15 | N34: 549922
A35: 26. ÀÝ¹³Ù»ÝÁ Ñ³Ûó³ÛÇÝ í³ñáõÛÃÇ ·áñÍ»ñ (1-25 ïáÕ»ñ) | C35: =SUM(C10:C34) -> 71 | D35: =SUM(D10:D34) -> 744 | E35: =SUM(E10:E34) -> 581 | F35: =SUM(F10:F34) -> 416 | G35: =SUM(G10:G34) -> 56 | H35: =SUM(H10:H34) -> 72 | I35: =SUM(I10:I34) -> 8 | J35: =SUM(J10:J34) -> 717 | L35: =SUM(L10:L34) -> 98 | N35: =SUM(N10:N34) -> 2707644
A36: ì³ñã³-Çñ³í³Ï³Ý Ñ³ñ³µ»ñáõÃÛáõÝÝ»ñÇó | B36: 27.Ð³ñÏ»ñÇ ³å³éùÝ»ñÇ ·³ÝÓÙ³Ý í»ñ³µ»ñÛ³É Ñ³Ûó»ñ | C36: 3 | D36: 81 | E36: 69 | F36: 59 | H36: 4 | J36: 73 | L36: 11 | N36: 349109
B37: 28.ì³ñã³-Çñ³í³Ï³Ý Ñ³ñ³µ»ñáõÃÛáõÝÝ»ñÇó ³é³ç³ó³Í Ñ³Ûó»ñ | C37: 33 | D37: 65 | E37: 69 | F37: 61 | G37: 6 | H37: 17 | I37: 2 | J37: 94 | L37: 4 | N37: 675167
B38: 29.ä»ï³Ï³Ý Ï³é³í³ñÙ³Ý Ù³ñÙÇÝÝ»ñÇ ¨ å³ßïáÝ³ï³ñ ³ÝÓ³Ýó ³åûñÇÝÇ ·áñÍáÕáõÃÛáõÝÝ»ñÇ í»ñ³µ»ñÛ³É Ñ³Ûó»ñ | C38: 2 | D38: 56 | E38: 45 | F38: 35 | G38: 5 | H38: 3 | I38: 3 | J38: 56 | L38: 2 | N38: 203500
B39: 30.ÀÝ¹³Ù»ÝÁ í³ñã³-Çñ³í³Ï³Ý Ñ³ñ³µ»ñáõÃÛáõÝÝ»ñÇó ³é³ç³ó³Í Ñ³Ûó»ñ (27-29 ïáÕ»ñ) | C39: =SUM(C36:C38) -> 38 | D39: =SUM(D36:D38) -> 202 | E39: =SUM(E36:E38) -> 183 | F39: =SUM(F36:F38) -> 155 | G39: =SUM(G36:G38) -> 11 | H39: =SUM(H36:H38) -> 24 | I39: =SUM(I36:I38) -> 5 | J39: =SUM(J36:J38) -> 223 | L39: =SUM(L36:L38) -> 17 | N39: =SUM(N36:N38) -> 1227776
A40: Ð³ïáõÏ í³ñáõÛÃÇ ·áñÍ»ñ | B40: 31.Æñ³í³µ³Ý³Ï³Ý Ýß³Ý³ÏáõÃÛáõÝ áõÝ»óáÕ ÷³ëï»ñ Ñ³ëï³ï»Éáõ í»ñ³µ»ñÛ³É Ñ³Ûó»ñ | C40: 7 | D40: 242 | E40: 230 | F40: 228 | G40: 3 | H40: 10 | I40: 2 | J40: 245 | L40: 4 | N40: 561500
B41: 32.Üáï³ñ³Ï³Ý ·áñÍáÕáõÃÛáõÝÝ»ñÇ Ï³Ù ¹ñ³Ýó Ï³ï³ñÙ³Ý Ù»ñÅÙ³Ý Ñ³Ù³ñ µáÕáùÝ»ñáí | D41: 5 | E41: 5 | F41: 4 | J41: 5 | N41: 31000
B42: 33.¶áñÍ»ñ ¼²¶ê-Ç Ù³ïÛ³ÝÝ»ñáõÙ áã ×Çßï ·ñ³ÝóáõÙÝ»ñÇ í»ñ³µ»ñÛ³É ·³Ý·³ïÝ»ñÇ ³éÃÇí | D42: 7 | E42: 7 | F42: 7 | J42: 7 | N42: 13000
B43: 34. Ð³ïáõÏ í³ñáõÛÃÇ ³ÛÉ ·áñÍ»ñ | C43: 1 | D43: 50 | E43: 42 | F43: 42 | G43: 1 | H43: 5 | J43: 48 | L43: 3 | N43: 145500
B44: 35. ÀÝ¹³Ù»ÝÁ Ñ³ïáõÏ í³ñáõÛÃÇ ·áñÍ»ñ (31-34 ïáÕ»ñ) | C44: =SUM(C40:C43) -> 8 | D44: =SUM(D40:D43) -> 304 | E44: =SUM(E40:E43) -> 284 | F44: =SUM(F40:F43) -> 281 | G44: =SUM(G40:G43) -> 4 | H44: =SUM(H40:H43) -> 15 | I44: =SUM(I40:I43) -> 2 | J44: =SUM(J40:J43) -> 305 | L44: =SUM(L40:L43) -> 7 | N44: =SUM(N40:N43) -> 751000
A45: 36. ÀÝ¹³Ù»ÝÁ ù³Õ³ù³óÇ³Ï³Ý ·áñÍ»ñ (26, 30, 35) | C45: =SUM(C35+C39+C44) -> 117 | D45: =SUM(D35+D39+D44) -> 1250 | E45: =SUM(E35+E39+E44) -> 1048 | F45: =SUM(F35+F39+F44) -> 852 | G45: =SUM(G35+G39+G44) -> 71 | H45: =SUM(H35+H39+H44) -> 111 | I45: =SUM(I35+I39+I44) -> 15 | J45: =SUM(J35+J39+J44) -> 1245 | L45: =SUM(L35+L39+L44) -> 122 | N45: =SUM(N35+N39+N44) -> 4686420

Sheet Tavush
A1: Ð²ÞìºîìàôÂÚàôÜ
A2: ø²Ô²ø²ø²òÆ²Î²Ü ¶àðÌºðÆ øÜÜàôÂÚ²Ü ìºð²´ºðÚ²È
A3: ÐÐ î³íáõßÇ Ù³ñ½Ç ³é³çÇÝ ³ïÛ³ÝÇ ¹³ï³ñ³ÝÇ
A4: 2007Ã. Ñ³Ù³ñ
A6: ¦²§ µ³ÅÝÇ í»ñ³µ»ñÛ³É ëïáõ·Çã Ñ³í³ë³ñáõÙÝ»ñ 1 ¨ 2 ëÛáõÝ³ÏÝ»ñÇ Ãí»ñÇ ·áõÙ³ñÁ Ñ³í³ë³ñ ¿ 8 ¨ 10 ëÛáõÝ³ÏÝ»ñÇ Ãí»ñÇ ·áõÙ³ñÇÝ: 8 ëÛáõÝ³ÏÇ ÃÇíÁ Ñ³í³ë³ñ ¿ 3,5-7 ëÛáõÝ³ÏÝ»ñÇ Ãí»ñÇ ·áõÙ³ñÇÝ: | E6: ² ù³Õ³ù³óÇ³Ï³Ý ·áñÍ»ñÇ ß³ñÅÁ
E7: ²í³ñïí»É »Ý ·áñÍ»ñ Ñ³ßí»ïáõ Å³Ù³Ý³Ï³ßñç³ÝáõÙ
C8: ²Ý³í³ñï ·áñÍ»ñÇ ÙÝ³óáñ¹Á Ñ³ßí»ïáõ Å³Ù³Ý³Ï³ßñç³ÝÇ ëÏ½µáõÙ | D8: êï³óí»É »Ý ·áñÍ»ñ Ñ³ßí»ïáõ Å³Ù³Ý³Ï³ßñç³ÝáõÙ | E8: ÀÝ¹³Ù»ÝÁ ùÝÝí»É »Ý ·áñÍ»ñ í×éÇ Ï³Û³óáõÙáí | F8: ²Û¹ ÃíáõÙ Ñ³ÛóÇ µ³í³ñ³ñÙ³Ùµ | G8: Î³ñ×í»É »Ý ·áñÍ»ñ í×éÇ Ï³Û³óáõÙáí | H8: Ð³Ûó»ñÁ ÃáÕÝí»É »Ý ³é³Ýó ùÝÝáõÃÛ³Ý | I8: ¶áñÍ»ñÁ Ñ³ÝÓÝí»É »Ý ³ÛÉ ¹³ï³ñ³ÝÝ»ñÇ | J8: ÀÝ¹³Ù»ÝÁ ³í³ñïí»É »Ý ·áñÍ»ñ (3, 5-7 ëÛáõÝ³ÏÝ»ñ) | K8: ²Û¹ ÃíáõÙ ù³Õ, ¹³ï, ûñ-áí Ý³Ë³ï»ëí³ÍÇó ³í»ÉÇ Å³ÙÏ»ïáõÙ | L8: ²Ý³í³ñï ·áñÍ»ñÇ ÙÝ³óáñ¹Á Ñ³ßí»ïáõ Å³Ù³Ý³Ï³ßñç³ÝÇ í»ñçáõÙ | M8: ²Û¹ ÃíáõÙ ·ïÝíáõÙ »Ý 3 ³ÙëÇó ³í»ÉÇ (Ï³ë»óí³Í ·áñÍ»ñÇ Ñ»ï Ù»Ïï»Õ) | N8: ä»ïáõÃÛ³Ý û·ïÇÝ ÙáõÍí³Í å»ï³Ï³Ý ïáõñùÇ ã³÷Á (¹ñ³Ùáí)
C9: 1 | D9: 2 | E9: 3 | F9: 4 | G9: 5 | H9: 6 | I9: 7 | J9: 8 | K9: 9 | L9: 10 | M9: 11 | N9: 12
A10: 1. ²½³ïí³ÍÝ»ñÇÝ ³ßË³ï³ÝùáõÙ í»ñ³Ï³Ý·Ý»Éáõ í»ñ³µ»ñÛ³É Ñ³Ûó»ñ | D10: 2 | E10: 1 | I10: 1 | J10: 2
A11: 2. ´³ÝíáñÝ»ñÇ ¨ Í³é³ÛáÕÝ»ñÇ ³ÛÉ ³ßË³ï³Ýù³ÛÇÝ í»×»ñ | C11: 2 | E11: 2 | F11: 2 | J11: 2
A12: 3. ²ßË.å³ñï³Ï³ÝáõÃ. Ï³ï³ñ»ÉÇë µ³Ýí.¨ Í³é³ÛáÕÝ»ñÇ ÏáÕÙÇó ÝÛáõÃ. íÝ³ëÇ Ñ³ïáõóÙ³Ý í»ñ³µ»ñÛ³É (³ßË, ûñ, 129-134 ÑÑ) Ñ³Ûó»ñ | D12: 1 | G12: 1 | J12: 1
A13: 4. ¶ÛáõÕ. ÏáÉ»ÏïÇí ïÝï»ëáõÃÛ³Ý ³Ý¹³ÙÝ»ñÇ ÏáÕÙÇó Ý»ñÏ³Û³óí³Í Ñ³Ûó»ñ
A14: 5. ºñ»Ë³Ý»ñÇÝ å³Ñ»Éáõ Ñ³Ù³ñ ³ÉÇÙ»ÝïÇ µéÝ³·³ÝÓÙ³Ý í»ñ³µ»ñÛ³É Ñ³Ûó»ñ | D14: 24 | E14: 20 | F14: 20 | H14: 2 | J14: 22 | L14: 2
A15: 6. Ð³ÛñáõÃÛ³Ý Ñ³ëï³ïÙ³Ý í»ñ³µ»ñÛ³É Ñ³Ûó»ñ | D15: 7 | E15: 4 | F15: 4 | H15: 3 | J15: 7 | N15: 23000
A16: 7. ÌÝáÕ³Ï³Ý Çñ³íáõÝùÇó ½ñÏ»Éáõ í»ñ³µ»ñÛ³É Ñ³Ûó»ñ
A17: 8. ²ÙáõëÝ³ÉáõÍáõÃÛ³Ý í»ñ³µ»ñÛ³É Ñ³Ûó»ñ | C17: 6 | D17: 57 | E17: 48 | F17: 48 | G17: 3 | H17: 9 | J17: 60 | L17: 3 | N17: 211000
A18: 9. ´Ý³Ï³ñ³ÝÇ Ñ³ïÏ³óáõÙáí íï³ñ»Éáõ í»ñ³µ»ñÛ³É Ñ³Ûó»ñ
A19: 10. ²é³Ýó ³ÛÉ µÝ³Ï³ñ³ÝÇ Ñ³ïÏ³óÙ³Ý íï³ñ»Éáõ í»ñ³µ»ñÛ³É Ñ³Ûó»ñ | C19: 2 | D19: 8 | E19: 5 | F19: 2 | G19: 2 | H19: 2 | J19: 9 | L19: 1 | N19: 28000
A20: 11. ²ÛÉ µÝ³Ï³ñ³Ý³ÛÇÝ Ñ³Ûó»ñ | C20: 1 | D20: 11 | E20: 6 | F20: 6 | G20: 1 | H20: 4 | J20: 11 | L20: 1 | M20: 1 | N20: 42240
A21: 12. ´Ý³ÏáõÃÛ³Ý Çñ³íáõÝùÁ ×³Ý³ã»Éáõ í»ñ³µ»ñÛ³É Ñ³Ûó»ñ
A22: 13. ´Ý³ÏáõÃÛ³Ý Çñ³íáõÝùÁ Ïáñóñ³Í ×³Ý³ã»Éáõ í»ñ³µ»ñÛ³É Ñ³Ûó»ñ | C22: 1 | L22: 1 | M22: 1
A23: 14. ø³Õ³ù³óÇÝ»ñÇ ë»÷³Ï³ÝáõÃÛ³Ý Çñ³íáõÝùÇ í»ñ³µ»ñÛ³É Ñ³Ûó»ñ | C23: 9 | D23: 44 | E23: 43 | F23: 43 | G23: 1 | H23: 5 | I23: 2 | J23: 51 | L23: 2 | N23: 148500
A24: 15. ê»÷³Ï³ÝáõÃÛ³Ý Çñ³íáõÝùÇ í»ñ³µ»ñÛ³É Ñ³Ûó»ñ | C24: 5 | D24: 59 | E24: 52 | F24: 47 | G24: 5 | H24: 7 | J24: 64 | N24: 185500
A25: 16.Ê»Õ³Ý¹³ÙáõÃ.Ï³Ù Ù³Ñí³Ý Ñ³Ù³ñ íÝ³ëÁ Ñ³ïáõó»Éáõ Ù³ëÇÝ Ýáñ Ñ³ñáõóí³Í Ñ³Ûó»ñ
A26: 17. ¶áõÛùÁ í»ñ·ñÇó Ñ³Ý»Éáõ í»ñ³µ»ñÛ³É Ñ³Ûó»ñ
A27: 18.Ð³Ûó»ñ Ñ»ÕÇÝ³ÏÇ Çñ³íáõÝùÇ í»ñ³µ»ñÛ³É í»×»ñáí
A28: 19. Ú³Ûó»ñ ·Ûáõï³ñ³ñáõÃÛ³Ý Çñ³íáõÝùÇ í»ñ³µ»ñÛ³É í»×»ñáí
A29: 20. ²Ýï³éÝ»ñÇ Ë³ËïáõÙÝ»ñÇ Ñ³Ù³ñ ·áõÛù³ÛÇÝ å³ï³ëË³Ý³ïíáõÃÛ³Ý í»ñ³µ»ñÛ³É Ñ³Ûó»ñ
A30: 21. ²åûñÇÝÇ áñëÇ ¨ ÓÏ³Ý å³ß³ñÝ»ñÇ áãÝã³óÙ³Ý Ñ»ï¨³Ýùáí ³é³ç³½áó ÝÛáõÃ³Ï³Ý å³ï³ëË³Ý³ïíáõÃÛ³Ý í»ñ³µ»ñÛ³É Ñ³Ûó»ñ
A31: 22. ÀÝïñ³Ï³Ý ·áñÍÁÝÃ³ó³ÛÇÝ í»ñ³µ»ñÛ³É Ñ³Ûó»ñ | D31: 1 | I31: 1 | J31: 1
A32: 23. ¶áñÍ³ñùÝ»ñÁ ¨ å³ÛÙ³Ý³·ñ»ñÁ í³í»ñ³óÝ»Éáõ Ï³Ù ³Ýí³í»ñ ×³Ý³ã»Éáõ í»ñ³µ»ñÛ³É Ñ³Ûó»ñ | C32: 1 | D32: 30 | E32: 23 | F32: 18 | G32: 3 | H32: 3 | I32: 1 | J32: 30 | L32: 1 | N32: 102870
A33: 24. ä³ïíÇ ¨ ³ñÅ³Ý³å³ïíáõÃÛ³Ý å³ßïå³ÝáõÃÛ³Ý í»ñ³µ»ñÛ³É ·áñÍ»ñ
A34: 25. Ð³Ûó³ÛÇÝ ³ÛÉ ·áñÍ»ñ | C34: 32 | D34: 245 | E34: 189 | F34: 171 | G34: 32 | H34: 16 | J34: 237 | L34: 40 | M34: 9 | N34: 1858861
A35: 26. ÀÝ¹³Ù»ÝÁ Ñ³Ûó³ÛÇÝ í³ñáõÛÃÇ ·áñÍ»ñ (1-25 ïáÕ»ñ) | C35: =SUM(C10:C34) -> 59 | D35: =SUM(D10:D34) -> 489 | E35: =SUM(E10:E34) -> 393 | F35: =SUM(F10:F34) -> 361 | G35: =SUM(G10:G34) -> 48 | H35: =SUM(H10:H34) -> 51 | I35: =SUM(I10:I34) -> 5 | J35: =SUM(J10:J34) -> 497 | L35: =SUM(L10:L34) -> 51 | M35: =SUM(M10:M34) -> 11 | N35: =SUM(N10:N34) -> 2599971
A36: ì³ñã³-Çñ³í³Ï³Ý Ñ³ñ³µ»ñáõÃÛáõÝÝ»ñÇó | B36: 27.Ð³ñÏ»ñÇ ³å³éùÝ»ñÇ ·³ÝÓÙ³Ý í»ñ³µ»ñÛ³É Ñ³Ûó»ñ | D36: 42 | E36: 29 | F36: 24 | G36: 5 | H36: 1 | J36: 35 | L36: 7 | N36: 132652
B37: 28.ì³ñã³-Çñ³í³Ï³Ý Ñ³ñ³µ»ñáõÃÛáõÝÝ»ñÇó ³é³ç³ó³Í Ñ³Ûó»ñ | D37: 69 | E37: 54 | F37: 52 | G37: 12 | H37: 2 | J37: 68 | L37: 1 | M37: 1 | N37: 167942
B38: 29.ä»ï³Ï³Ý Ï³é³í³ñÙ³Ý Ù³ñÙÇÝÝ»ñÇ ¨ å³ßïáÝ³ï³ñ ³ÝÓ³Ýó ³åûñÇÝÇ ·áñÍáÕáõÃÛáõÝÝ»ñÇ í»ñ³µ»ñÛ³É Ñ³Ûó»ñ | D38: 14 | E38: 10 | F38: 7 | G38: 2 | I38: 1 | J38: 13 | L38: 1 | N38: 48000
B39: 30.ÀÝ¹³Ù»ÝÁ í³ñã³-Çñ³í³Ï³Ý Ñ³ñ³µ»ñáõÃÛáõÝÝ»ñÇó ³é³ç³ó³Í Ñ³Ûó»ñ (27-29 ïáÕ»ñ) | D39: =SUM(D36:D38) -> 125 | E39: =SUM(E36:E38) -> 93 | F39: =SUM(F36:F38) -> 83 | G39: =SUM(G36:G38) -> 19 | H39: =SUM(H36:H38) -> 3 | I39: =SUM(I36:I38) -> 1 | J39: =SUM(J36:J38) -> 116 | L39: =SUM(L36:L38) -> 9 | M39: =SUM(M36:M38) -> 1 | N39: =SUM(N36:N38) -> 348594
A40: Ð³ïáõÏ í³ñáõÛÃÇ ·áñÍ»ñ | B40: 31.Æñ³í³µ³Ý³Ï³Ý Ýß³Ý³ÏáõÃÛáõÝ áõÝ»óáÕ ÷³ëï»ñ Ñ³ëï³ï»Éáõ í»ñ³µ»ñÛ³É Ñ³Ûó»ñ | C40: 7 | D40: 137 | E40: 132 | F40: 130 | H40: 7 | J40: 139 | L40: 5 | N40: 365000
B41: 32.Üáï³ñ³Ï³Ý ·áñÍáÕáõÃÛáõÝÝ»ñÇ Ï³Ù ¹ñ³Ýó Ï³ï³ñÙ³Ý Ù»ñÅÙ³Ý Ñ³Ù³ñ µáÕáùÝ»ñáí | D41: 1 | E41: 1 | F41: 1 | J41: 1 | N41: 8000
B42: 33.¶áñÍ»ñ ¼²¶ê-Ç Ù³ïÛ³ÝÝ»ñáõÙ áã ×Çßï ·ñ³ÝóáõÙÝ»ñÇ í»ñ³µ»ñÛ³É ·³Ý·³ïÝ»ñÇ ³éÃÇí
B43: 34. Ð³ïáõÏ í³ñáõÛÃÇ ³ÛÉ ·áñÍ»ñ | C43: 6 | D43: 83 | E43: 79 | F43: 78 | G43: 1 | H43: 7 | J43: 87 | L43: 2 | M43: 2 | N43: 273370
B44: 35. ÀÝ¹³Ù»ÝÁ Ñ³ïáõÏ í³ñáõÛÃÇ ·áñÍ»ñ (31-34 ïáÕ»ñ) | C44: =SUM(C40:C43) -> 13 | D44: =SUM(D40:D43) -> 221 | E44: =SUM(E40:E43) -> 212 | F44: =SUM(F40:F43) -> 209 | G44: =SUM(G40:G43) -> 1 | H44: =SUM(H40:H43) -> 14 | J44: =SUM(J40:J43) -> 227 | L44: =SUM(L40:L43) -> 7 | M44: =SUM(M40:M43) -> 2 | N44: =SUM(N40:N43) -> 646370
A45: 36. ÀÝ¹³Ù»ÝÁ ù³Õ³ù³óÇ³Ï³Ý ·áñÍ»ñ (26, 30, 35) | C45: =SUM(C35+C39+C44) -> 72 | D45: =SUM(D35+D39+D44) -> 835 | E45: =SUM(E35+E39+E44) -> 698 | F45: =SUM(F35+F39+F44) -> 653 | G45: =SUM(G35+G39+G44) -> 68 | H45: =SUM(H35+H39+H44) -> 68 | I45: =SUM(I35+I39+I44) -> 6 | J45: =SUM(J35+J39+J44) -> 840 | L45: =SUM(L35+L39+L44) -> 67 | M45: =SUM(M35+M39+M44) -> 14 | N45: =SUM(N35+N39+N44) -> 3594935
