Workbook

Sheet HANRAPET
A1: Ð²ÞìºîìàôÂÚàôÜ
A2: ø²Ô²ø²ø²òÆ²Î²Ü ¶àðÌºðÆ øÜÜàôÂÚ²Ü ìºð²´ºðÚ²È
A3: ÐÐ ³é³çÇÝ ³ïÛ³ÝÇ ¹³ï³ñ³ÝÝ»ñÇ
A4: 2007Ã Ñ³Ù³ñ
A6: êïáõ·Çã Ñ³í³ë³ñáõÙÝ»ñ 1 ¨ 2 ëÛáõÝ³ÏÝ»ñÇ Ãí»ñÇ ·áõÙ³ñÁ Ñ³í³ë³ñ ¿ 8 ¨ 10 ëÛáõÝ³ÏÝ»ñÇ Ãí»ñÇ ·áõÙ³ñÇÝ: 8 ëÛáõÝ³ÏÇ ÃÇíÁ Ñ³í³ë³ñ ¿ 3,5-7 ëÛáõÝ³ÏÝ»ñÇ Ãí»ñÇ ·áõÙ³ñÇÝ: | E6: ø³Õ³ù³óÇ³Ï³Ý ·áñÍ»ñÇ ß³ñÅÁ
E7: ²í³ñïí»É »Ý ·áñÍ»ñ Ñ³ßí»ïáõ Å³Ù³Ý³Ï³ßñç³ÝáõÙ
C8: ²Ý³í³ñï ·áñÍ»ñÇ ÙÝ³óáñ¹Á Ñ³ßí»ïáõ Å³Ù³Ý³Ï³ßñç³ÝÇ ëÏ½µáõÙ | D8: êï³óí»É »Ý ·áñÍ»ñ Ñ³ßí»ïáõ Å³Ù³Ý³Ï³ßñç³ÝáõÙ | E8: ÀÝ¹³Ù»ÝÁ ùÝÝí»É »Ý ·áñÍ»ñ í×éÇ Ï³Û³óáõÙáí | F8: ²Û¹ ÃíáõÙ Ñ³ÛóÇ µ³í³ñ³ñÙ³Ùµ | G8: Î³ñ×í»É »Ý ·áñÍ»ñ í×éÇ Ï³Û³óáõÙáí | H8: Ð³Ûó»ñÁ ÃáÕÝí»É »Ý ³é³Ýó ùÝÝáõÃÛ³Ý | I8: ¶áñÍ»ñÁ Ñ³ÝÓÝí»É »Ý ³ÛÉ ¹³ï³ñ³ÝÝ»ñÇ | J8: ÀÝ¹³Ù»ÝÁ ³í³ñïí»É »Ý ·áñÍ»ñ (3, 5-7 ëÛáõÝ³ÏÝ»ñ) | K8: ²Û¹ ÃíáõÙ ù³Õ, ¹³ï, ûñ-áí Ý³Ë³ï»ëí³ÍÇó ³í»ÉÇ Å³ÙÏ»ïáõÙ | L8: ²Ý³í³ñï ·áñÍ»ñÇ ÙÝ³óáñ¹Á Ñ³ßí»ïáõ Å³Ù³Ý³Ï³ßñç³ÝÇ í»ñçáõÙ | M8: ²Û¹ ÃíáõÙ ·ïÝíáõÙ »Ý 3 ³ÙëÇó ³í»ÉÇ (Ï³ë»óí³Í ·áñÍ»ñÇ Ñ»ï Ù»Ïï»Õ) | N8: ä»ïáõÃÛ³Ý û·ïÇÝ ÙáõÍí³Í å»ï³Ï³Ý ïáõñùÇ ã³÷Á (¹ñ³Ùáí)
C9: 1 | D9: 2 | E9: 3 | F9: 4 | G9: 5 | H9: 6 | I9: 7 | J9: 8 | K9: 9 | L9: 10 | M9: 11 | N9: 12
A10: 1. ²½³ïí³ÍÝ»ñÇÝ ³ßË³ï³ÝùáõÙ í»ñ³Ï³Ý·Ý»Éáõ í»ñ³µ»ñÛ³É Ñ³Ûó»ñ | C10: =SUM(Marzer!C10+Erevan!C10) -> 25 | D10: =SUM(Marzer!D10+Erevan!D10) -> 193 | E10: =SUM(Marzer!E10+Erevan!E10) -> 147 | F10: =SUM(Marzer!F10+Erevan!F10) -> 93 | G10: =SUM(Marzer!G10+Erevan!G10) -> 17 | H10: =SUM(Marzer!H10+Erevan!H10) -> 19 | I10: =SUM(Marzer!I10+Erevan!I10) -> 6 | J10: =SUM(Marzer!J10+Erevan!J10) -> 189 | ... N10: =SUM(Marzer!N10+Erevan!N10) -> 12000
A11: 2. ²ßË³ï³Ýù³ÛÇÝ í»×»ñ | C11: =SUM(Marzer!C11+Erevan!C11) -> 79 | D11: =SUM(Marzer!D11+Erevan!D11) -> 739 | E11: =SUM(Marzer!E11+Erevan!E11) -> 638 | F11: =SUM(Marzer!F11+Erevan!F11) -> 601 | G11: =SUM(Marzer!G11+Erevan!G11) -> 33 | H11: =SUM(Marzer!H11+Erevan!H11) -> 77 | I11: =SUM(Marzer!I11+Erevan!I11) -> 8 | J11: =SUM(Marzer!J11+Erevan!J11) -> 756 | ... N11: =SUM(Marzer!N11+Erevan!N11) -> 279462
A12: 3. ²ßË.å³ñï³Ï³ÝáõÃ. Ï³ï³ñ»ÉÇë µ³Ýí.¨ Í³é³ÛáÕÝ»ñÇ ÏáÕÙÇó ÝÛáõÃ. íÝ³ëÇ Ñ³ïáõóÙ³Ý í»ñ³µ»ñÛ³É (³ßË, ûñ, 129-134 ÑÑ) Ñ³Ûó»ñ | C12: =SUM(Marzer!C12+Erevan!C12) -> 4 | D12: =SUM(Marzer!D12+Erevan!D12) -> 34 | E12: =SUM(Marzer!E12+Erevan!E12) -> 18 | F12: =SUM(Marzer!F12+Erevan!F12) -> 17 | G12: =SUM(Marzer!G12+Erevan!G12) -> 2 | H12: =SUM(Marzer!H12+Erevan!H12) -> 13 | I12: =SUM(Marzer!I12+Erevan!I12) -> 1 | J12: =SUM(Marzer!J12+Erevan!J12) -> 34 | ... N12: =SUM(Marzer!N12+Erevan!N12) -> 83000
C13: =SUM(Marzer!C13+Erevan!C13) -> 0 | D13: =SUM(Marzer!D13+Erevan!D13) -> 0 | E13: =SUM(Marzer!E13+Erevan!E13) -> 0 | F13: =SUM(Marzer!F13+Erevan!F13) -> 0 | G13: =SUM(Marzer!G13+Erevan!G13) -> 0 | H13: =SUM(Marzer!H13+Erevan!H13) -> 0 | I13: =SUM(Marzer!I13+Erevan!I13) -> 0 | J13: =SUM(Marzer!J13+Erevan!J13) -> 0 | ... N13: =SUM(Marzer!N13+Erevan!N13) -> 0
A14: 4. ºñ»Ë³Ý»ñÇÝ å³Ñ»Éáõ Ñ³Ù³ñ ³ÉÇÙ»ÝïÇ µéÝ³·³ÝÓÙ³Ý í»ñ³µ»ñÛ³É Ñ³Ûó»ñ | C14: =SUM(Marzer!C14+Erevan!C14) -> 67 | D14: =SUM(Marzer!D14+Erevan!D14) -> 1008 | E14: =SUM(Marzer!E14+Erevan!E14) -> 768 | F14: =SUM(Marzer!F14+Erevan!F14) -> 716 | G14: =SUM(Marzer!G14+Erevan!G14) -> 77 | H14: =SUM(Marzer!H14+Erevan!H14) -> 125 | I14: =SUM(Marzer!I14+Erevan!I14) -> 2 | J14: =SUM(Marzer!J14+Erevan!J14) -> 972 | ... N14: =SUM(Marzer!N14+Erevan!N14) -> 194640
A15: 5. Ð³ÛñáõÃÛ³Ý Ñ³ëï³ïÙ³Ý í»ñ³µ»ñÛ³É Ñ³Ûó»ñ | C15: =SUM(Marzer!C15+Erevan!C15) -> 13 | D15: =SUM(Marzer!D15+Erevan!D15) -> 153 | E15: =SUM(Marzer!E15+Erevan!E15) -> 112 | F15: =SUM(Marzer!F15+Erevan!F15) -> 106 | G15: =SUM(Marzer!G15+Erevan!G15) -> 7 | H15: =SUM(Marzer!H15+Erevan!H15) -> 33 | I15: =SUM(Marzer!I15+Erevan!I15) -> 1 | J15: =SUM(Marzer!J15+Erevan!J15) -> 153 | ... N15: =SUM(Marzer!N15+Erevan!N15) -> 453500
A16: 6. ÌÝáÕ³Ï³Ý Çñ³íáõÝùÇó ½ñÏ»Éáõ í»ñ³µ»ñÛ³É Ñ³Ûó»ñ | C16: =SUM(Marzer!C16+Erevan!C16) -> 8 | D16: =SUM(Marzer!D16+Erevan!D16) -> 56 | E16: =SUM(Marzer!E16+Erevan!E16) -> 34 | F16: =SUM(Marzer!F16+Erevan!F16) -> 28 | G16: =SUM(Marzer!G16+Erevan!G16) -> 4 | H16: =SUM(Marzer!H16+Erevan!H16) -> 18 | I16: =SUM(Marzer!I16+Erevan!I16) -> 0 | J16: =SUM(Marzer!J16+Erevan!J16) -> 56 | ... N16: =SUM(Marzer!N16+Erevan!N16) -> 198000
A17: 7. ²ÙáõëÝ³ÉáõÍáõÃÛ³Ý í»ñ³µ»ñÛ³É Ñ³Ûó»ñ | C17: =SUM(Marzer!C17+Erevan!C17) -> 149 | D17: =SUM(Marzer!D17+Erevan!D17) -> 1746 | E17: =SUM(Marzer!E17+Erevan!E17) -> 1320 | F17: =SUM(Marzer!F17+Erevan!F17) -> 1304 | G17: =SUM(Marzer!G17+Erevan!G17) -> 117 | H17: =SUM(Marzer!H17+Erevan!H17) -> 250 | I17: =SUM(Marzer!I17+Erevan!I17) -> 16 | J17: =SUM(Marzer!J17+Erevan!J17) -> 1703 | ... N17: =SUM(Marzer!N17+Erevan!N17) -> 6665160
A18: 8. ´Ý³Ï³ñ³ÝÇ Ñ³ïÏ³óáõÙáí íï³ñ»Éáõ í»ñ³µ»ñÛ³É Ñ³Ûó»ñ | C18: =SUM(Marzer!C18+Erevan!C18) -> 8 | D18: =SUM(Marzer!D18+Erevan!D18) -> 65 | E18: =SUM(Marzer!E18+Erevan!E18) -> 47 | F18: =SUM(Marzer!F18+Erevan!F18) -> 43 | G18: =SUM(Marzer!G18+Erevan!G18) -> 11 | H18: =SUM(Marzer!H18+Erevan!H18) -> 10 | I18: =SUM(Marzer!I18+Erevan!I18) -> 0 | J18: =SUM(Marzer!J18+Erevan!J18) -> 68 | ... N18: =SUM(Marzer!N18+Erevan!N18) -> 215000
A19: 9. ²é³Ýó ³ÛÉ µÝ³Ï³ñ³ÝÇ Ñ³ïÏ³óÙ³Ý íï³ñ»Éáõ í»ñ³µ»ñÛ³É Ñ³Ûó»ñ | C19: =SUM(Marzer!C19+Erevan!C19) -> 78 | D19: =SUM(Marzer!D19+Erevan!D19) -> 373 | E19: =SUM(Marzer!E19+Erevan!E19) -> 258 | F19: =SUM(Marzer!F19+Erevan!F19) -> 226 | G19: =SUM(Marzer!G19+Erevan!G19) -> 50 | H19: =SUM(Marzer!H19+Erevan!H19) -> 85 | I19: =SUM(Marzer!I19+Erevan!I19) -> 2 | J19: =SUM(Marzer!J19+Erevan!J19) -> 395 | ... N19: =SUM(Marzer!N19+Erevan!N19) -> 1346192
A20: 10. ²ÛÉ µÝ³Ï³ñ³Ý³ÛÇÝ Ñ³Ûó»ñ | C20: =SUM(Marzer!C20+Erevan!C20) -> 102 | D20: =SUM(Marzer!D20+Erevan!D20) -> 562 | E20: =SUM(Marzer!E20+Erevan!E20) -> 289 | F20: =SUM(Marzer!F20+Erevan!F20) -> 229 | G20: =SUM(Marzer!G20+Erevan!G20) -> 98 | H20: =SUM(Marzer!H20+Erevan!H20) -> 171 | I20: =SUM(Marzer!I20+Erevan!I20) -> 10 | J20: =SUM(Marzer!J20+Erevan!J20) -> 568 | ... N20: =SUM(Marzer!N20+Erevan!N20) -> 1785490
A21: 11. ´Ý³ÏáõÃÛ³Ý Çñ³íáõÝùÁ ×³Ý³ã»Éáõ í»ñ³µ»ñÛ³É Ñ³Ûó»ñ | C21: =SUM(Marzer!C21+Erevan!C21) -> 28 | D21: =SUM(Marzer!D21+Erevan!D21) -> 100 | E21: =SUM(Marzer!E21+Erevan!E21) -> 67 | F21: =SUM(Marzer!F21+Erevan!F21) -> 41 | G21: =SUM(Marzer!G21+Erevan!G21) -> 19 | H21: =SUM(Marzer!H21+Erevan!H21) -> 28 | I21: =SUM(Marzer!I21+Erevan!I21) -> 0 | J21: =SUM(Marzer!J21+Erevan!J21) -> 114 | ... N21: =SUM(Marzer!N21+Erevan!N21) -> 340500
A22: 12. ´Ý³ÏáõÃÛ³Ý Çñ³íáõÝùÁ Ïáñóñ³Í ×³Ý³ã»Éáõ í»ñ³µ»ñÛ³É Ñ³Ûó»ñ | C22: =SUM(Marzer!C22+Erevan!C22) -> 44 | D22: =SUM(Marzer!D22+Erevan!D22) -> 238 | E22: =SUM(Marzer!E22+Erevan!E22) -> 140 | F22: =SUM(Marzer!F22+Erevan!F22) -> 125 | G22: =SUM(Marzer!G22+Erevan!G22) -> 21 | H22: =SUM(Marzer!H22+Erevan!H22) -> 63 | I22: =SUM(Marzer!I22+Erevan!I22) -> 2 | J22: =SUM(Marzer!J22+Erevan!J22) -> 226 | ... N22: =SUM(Marzer!N22+Erevan!N22) -> 950600
A23: 13. ø³Õ³ù³óÇÝ»ñÇ ë»÷³Ï³ÝáõÃÛ³Ý Çñ³íáõÝùÇ í»ñ³µ»ñÛ³É Ñ³Ûó»ñ | C23: =SUM(Marzer!C23+Erevan!C23) -> 177 | D23: =SUM(Marzer!D23+Erevan!D23) -> 1018 | E23: =SUM(Marzer!E23+Erevan!E23) -> 655 | F23: =SUM(Marzer!F23+Erevan!F23) -> 535 | G23: =SUM(Marzer!G23+Erevan!G23) -> 122 | H23: =SUM(Marzer!H23+Erevan!H23) -> 207 | I23: =SUM(Marzer!I23+Erevan!I23) -> 20 | J23: =SUM(Marzer!J23+Erevan!J23) -> 1004 | ... N23: =SUM(Marzer!N23+Erevan!N23) -> 3989935
A24: 14. ê»÷³Ï³ÝáõÃÛ³Ý Çñ³íáõÝùÇ í»ñ³µ»ñÛ³É Ñ³Ûó»ñ | C24: =SUM(Marzer!C24+Erevan!C24) -> 185 | D24: =SUM(Marzer!D24+Erevan!D24) -> 1547 | E24: =SUM(Marzer!E24+Erevan!E24) -> 934 | F24: =SUM(Marzer!F24+Erevan!F24) -> 666 | G24: =SUM(Marzer!G24+Erevan!G24) -> 170 | H24: =SUM(Marzer!H24+Erevan!H24) -> 323 | I24: =SUM(Marzer!I24+Erevan!I24) -> 39 | J24: =SUM(Marzer!J24+Erevan!J24) -> 1466 | ... N24: =SUM(Marzer!N24+Erevan!N24) -> 5584237
A25: 15.Ê»Õ³Ý¹³ÙáõÃ.Ï³Ù Ù³Ñí³Ý Ñ³Ù³ñ íÝ³ëÁ Ñ³ïáõó»Éáõ Ù³ëÇÝ Ñ³ñáõóí³Í Ñ³Ûó»ñ | C25: =SUM(Marzer!C25+Erevan!C25) -> 2 | D25: =SUM(Marzer!D25+Erevan!D25) -> 15 | E25: =SUM(Marzer!E25+Erevan!E25) -> 11 | F25: =SUM(Marzer!F25+Erevan!F25) -> 8 | G25: =SUM(Marzer!G25+Erevan!G25) -> 0 | H25: =SUM(Marzer!H25+Erevan!H25) -> 3 | I25: =SUM(Marzer!I25+Erevan!I25) -> 0 | J25: =SUM(Marzer!J25+Erevan!J25) -> 14 | ... N25: =SUM(Marzer!N25+Erevan!N25) -> 0
... A35: 25. ÀÝ¹³Ù»ÝÁ Ñ³Ûó³ÛÇÝ í³ñáõÛÃÇ ·áñÍ»ñ (1-25 ïáÕ»ñ) | C35: =SUM(Marzer!C35+Erevan!C35) -> 3727 | D35: =SUM(Marzer!D35+Erevan!D35) -> 26179 | E35: =SUM(Marzer!E35+Erevan!E35) -> 17568 | F35: =SUM(Marzer!F35+Erevan!F35) -> 13968 | G35: =SUM(Marzer!G35+Erevan!G35) -> 2962 | H35: =SUM(Marzer!H35+Erevan!H35) -> 3995 | I35: =SUM(Marzer!I35+Erevan!I35) -> 536 | J35: =SUM(Marzer!J35+Erevan!J35) -> 25061 | ... N35: =SUM(Marzer!N35+Erevan!N35) -> 118557768
A36: ì³ñã³-Çñ³í³Ï³Ý Ñ³ñ³µ»ñáõÃÛáõÝÝ»ñÇó | B36: 26.Ð³ñÏ»ñÇ ³å³éùÝ»ñÇ ·³ÝÓÙ³Ý í»ñ³µ»ñÛ³É Ñ³Ûó»ñ | C36: =SUM(Marzer!C36+Erevan!C36) -> 10 | D36: =SUM(Marzer!D36+Erevan!D36) -> 312 | E36: =SUM(Marzer!E36+Erevan!E36) -> 197 | F36: =SUM(Marzer!F36+Erevan!F36) -> 162 | G36: =SUM(Marzer!G36+Erevan!G36) -> 39 | H36: =SUM(Marzer!H36+Erevan!H36) -> 30 | I36: =SUM(Marzer!I36+Erevan!I36) -> 3 | J36: =SUM(Marzer!J36+Erevan!J36) -> 269 | ... N36: =SUM(Marzer!N36+Erevan!N36) -> 844848
B37: 27.ì³ñã³-Çñ³í³Ï³Ý Ñ³ñ³µ»ñáõÃÛáõÝÝ»ñÇó ³é³ç³ó³Í Ñ³Ûó»ñ | C37: =SUM(Marzer!C37+Erevan!C37) -> 1157 | D37: =SUM(Marzer!D37+Erevan!D37) -> 4169 | E37: =SUM(Marzer!E37+Erevan!E37) -> 2396 | F37: =SUM(Marzer!F37+Erevan!F37) -> 2178 | G37: =SUM(Marzer!G37+Erevan!G37) -> 270 | H37: =SUM(Marzer!H37+Erevan!H37) -> 407 | I37: =SUM(Marzer!I37+Erevan!I37) -> 546 | J37: =SUM(Marzer!J37+Erevan!J37) -> 3619 | ... N37: =SUM(Marzer!N37+Erevan!N37) -> 8076686
B38: 28.ä»ï³Ï³Ý Ï³é³í³ñÙ³Ý Ù³ñÙÇÝÝ»ñÇ ¨ å³ßïáÝ³ï³ñ ³ÝÓ³Ýó ³åûñÇÝÇ ·áñÍáÕáõÃÛáõÝÝ»ñÇ í»ñ³µ»ñÛ³É Ñ³Ûó»ñ | C38: =SUM(Marzer!C38+Erevan!C38) -> 91 | D38: =SUM(Marzer!D38+Erevan!D38) -> 867 | E38: =SUM(Marzer!E38+Erevan!E38) -> 607 | F38: =SUM(Marzer!F38+Erevan!F38) -> 308 | G38: =SUM(Marzer!G38+Erevan!G38) -> 104 | H38: =SUM(Marzer!H38+Erevan!H38) -> 110 | I38: =SUM(Marzer!I38+Erevan!I38) -> 89 | J38: =SUM(Marzer!J38+Erevan!J38) -> 910 | ... N38: =SUM(Marzer!N38+Erevan!N38) -> 1974632
B39: 29.ÀÝ¹³Ù»ÝÁ í³ñã³-Çñ³í³Ï³Ý Ñ³ñ³µ»ñáõÃÛáõÝÝ»ñÇó ³é³ç³ó³Í Ñ³Ûó»ñ (27-29 ïáÕ»ñ) | C39: =SUM(Marzer!C39+Erevan!C39) -> 1258 | D39: =SUM(Marzer!D39+Erevan!D39) -> 5348 | E39: =SUM(Marzer!E39+Erevan!E39) -> 3200 | F39: =SUM(Marzer!F39+Erevan!F39) -> 2648 | G39: =SUM(Marzer!G39+Erevan!G39) -> 413 | H39: =SUM(Marzer!H39+Erevan!H39) -> 547 | I39: =SUM(Marzer!I39+Erevan!I39) -> 638 | J39: =SUM(Marzer!J39+Erevan!J39) -> 4798 | ... N39: =SUM(Marzer!N39+Erevan!N39) -> 10896166
A40: Ð³ïáõÏ í³ñáõÛÃÇ ·áñÍ»ñ | B40: 30.Æñ³í³µ³Ý³Ï³Ý Ýß³Ý³ÏáõÃÛáõÝ áõÝ»óáÕ ÷³ëï»ñ Ñ³ëï³ï»Éáõ í»ñ³µ»ñÛ³É Ñ³Ûó»ñ | C40: =SUM(Marzer!C40+Erevan!C40) -> 166 | D40: =SUM(Marzer!D40+Erevan!D40) -> 3530 | E40: =SUM(Marzer!E40+Erevan!E40) -> 3131 | F40: =SUM(Marzer!F40+Erevan!F40) -> 2959 | G40: =SUM(Marzer!G40+Erevan!G40) -> 69 | H40: =SUM(Marzer!H40+Erevan!H40) -> 302 | I40: =SUM(Marzer!I40+Erevan!I40) -> 19 | J40: =SUM(Marzer!J40+Erevan!J40) -> 3521 | ... N40: =SUM(Marzer!N40+Erevan!N40) -> 8966252
B41: 31.Üáï³ñ³Ï³Ý ·áñÍáÕáõÃÛáõÝÝ»ñÇ Ï³Ù ¹ñ³Ýó Ï³ï³ñÙ³Ý Ù»ñÅÙ³Ý Ñ³Ù³ñ µáÕáùÝ»ñáí | C41: =SUM(Marzer!C41+Erevan!C41) -> 4 | D41: =SUM(Marzer!D41+Erevan!D41) -> 21 | E41: =SUM(Marzer!E41+Erevan!E41) -> 17 | F41: =SUM(Marzer!F41+Erevan!F41) -> 14 | G41: =SUM(Marzer!G41+Erevan!G41) -> 0 | H41: =SUM(Marzer!H41+Erevan!H41) -> 5 | I41: =SUM(Marzer!I41+Erevan!I41) -> 1 | J41: =SUM(Marzer!J41+Erevan!J41) -> 23 | ... N41: =SUM(Marzer!N41+Erevan!N41) -> 111500
B42: 32.¶áñÍ»ñ øÎ²¶-Ç Ù³ïÛ³ÝÝ»ñáõÙ áã ×Çßï ·ñ³ÝóáõÙÝ»ñÇ í»ñ³µ»ñÛ³É ·³Ý·³ïÝ»ñÇ ³éÃÇí | C42: =SUM(Marzer!C42+Erevan!C42) -> 2 | D42: =SUM(Marzer!D42+Erevan!D42) -> 59 | E42: =SUM(Marzer!E42+Erevan!E42) -> 55 | F42: =SUM(Marzer!F42+Erevan!F42) -> 45 | G42: =SUM(Marzer!G42+Erevan!G42) -> 0 | H42: =SUM(Marzer!H42+Erevan!H42) -> 6 | I42: =SUM(Marzer!I42+Erevan!I42) -> 0 | J42: =SUM(Marzer!J42+Erevan!J42) -> 61 | ... N42: =SUM(Marzer!N42+Erevan!N42) -> 180000
B43: 33. Ð³ïáõÏ í³ñáõÛÃÇ ³ÛÉ ·áñÍ»ñ | C43: =SUM(Marzer!C43+Erevan!C43) -> 150 | D43: =SUM(Marzer!D43+Erevan!D43) -> 1550 | E43: =SUM(Marzer!E43+Erevan!E43) -> 1290 | F43: =SUM(Marzer!F43+Erevan!F43) -> 1253 | G43: =SUM(Marzer!G43+Erevan!G43) -> 71 | H43: =SUM(Marzer!H43+Erevan!H43) -> 169 | I43: =SUM(Marzer!I43+Erevan!I43) -> 0 | J43: =SUM(Marzer!J43+Erevan!J43) -> 1530 | ... N43: =SUM(Marzer!N43+Erevan!N43) -> 4219930
B44: 34. ÀÝ¹³Ù»ÝÁ Ñ³ïáõÏ í³ñáõÛÃÇ ·áñÍ»ñ (31-34 ïáÕ»ñ) | C44: =SUM(Marzer!C44+Erevan!C44) -> 322 | D44: =SUM(Marzer!D44+Erevan!D44) -> 5160 | E44: =SUM(Marzer!E44+Erevan!E44) -> 4493 | F44: =SUM(Marzer!F44+Erevan!F44) -> 4271 | G44: =SUM(Marzer!G44+Erevan!G44) -> 140 | H44: =SUM(Marzer!H44+Erevan!H44) -> 482 | I44: =SUM(Marzer!I44+Erevan!I44) -> 20 | J44: =SUM(Marzer!J44+Erevan!J44) -> 5135 | ... N44: =SUM(Marzer!N44+Erevan!N44) -> 13477682
A45: 35. ÀÝ¹³Ù»ÝÁ ù³Õ³ù³óÇ³Ï³Ý ·áñÍ»ñ (26, 30, 35) | C45: =SUM(Marzer!C45+Erevan!C45) -> 5307 | D45: =SUM(Marzer!D45+Erevan!D45) -> 36687 | E45: =SUM(Marzer!E45+Erevan!E45) -> 25261 | F45: =SUM(Marzer!F45+Erevan!F45) -> 20887 | G45: =SUM(Marzer!G45+Erevan!G45) -> 3515 | H45: =SUM(Marzer!H45+Erevan!H45) -> 5024 | I45: =SUM(Marzer!I45+Erevan!I45) -> 1194 | J45: =SUM(Marzer!J45+Erevan!J45) -> 34994 | ... N45: =SUM(Marzer!N45+Erevan!N45) -> 142931616
A48: ¸³ï³Ï³Ý åñ³ÏïÇÏ³ÛÇ ³Ù÷á÷Ù³Ý í³ñãáõÃÛ³Ý å»ïª Î. öáÉ³¹Û³Ý

Sheet Marzer
A1: Ð²ÞìºîìàôÂÚàôÜ
A2: ø²Ô²ø²ø²òÆ²Î²Ü ¶àðÌºðÆ øÜÜàôÂÚ²Ü ìºð²´ºðÚ²È
A3: ÐÐ Ù³ñ½»ñÇ ³é³çÇÝ ³ïÛ³ÝÇ ¹³ï³ñ³ÝÝ»ñÇ
A4: 2007Ã. Ñ³Ù³ñ
A6: ¦²§ µ³ÅÝÇ í»ñ³µ»ñÛ³É ëïáõ·Çã Ñ³í³ë³ñáõÙÝ»ñ 1 ¨ 2 ëÛáõÝ³ÏÝ»ñÇ Ãí»ñÇ ·áõÙ³ñÁ Ñ³í³ë³ñ ¿ 8 ¨ 10 ëÛáõÝ³ÏÝ»ñÇ Ãí»ñÇ ·áõÙ³ñÇÝ: 8 ëÛáõÝ³ÏÇ ÃÇíÁ Ñ³í³ë³ñ ¿ 3,5-7 ëÛáõÝ³ÏÝ»ñÇ Ãí»ñÇ ·áõÙ³ñÇÝ: | E6: ² ù³Õ³ù³óÇ³Ï³Ý ·áñÍ»ñÇ ß³ñÅÁ
E7: ²í³ñïí»É »Ý ·áñÍ»ñ Ñ³ßí»ïáõ Å³Ù³Ý³Ï³ßñç³ÝáõÙ
C8: ²Ý³í³ñï ·áñÍ»ñÇ ÙÝ³óáñ¹Á Ñ³ßí»ïáõ Å³Ù³Ý³Ï³ßñç³ÝÇ ëÏ½µáõÙ | D8: êï³óí»É »Ý ·áñÍ»ñ Ñ³ßí»ïáõ Å³Ù³Ý³Ï³ßñç³ÝáõÙ | E8: ÀÝ¹³Ù»ÝÁ ùÝÝí»É »Ý ·áñÍ»ñ í×éÇ Ï³Û³óáõÙáí | F8: ²Û¹ ÃíáõÙ Ñ³ÛóÇ µ³í³ñ³ñÙ³Ùµ | G8: Î³ñ×í»É »Ý ·áñÍ»ñ í×éÇ Ï³Û³óáõÙáí | H8: Ð³Ûó»ñÁ ÃáÕÝí»É »Ý ³é³Ýó ùÝÝáõÃÛ³Ý | I8: ¶áñÍ»ñÁ Ñ³ÝÓÝí»É »Ý ³ÛÉ ¹³ï³ñ³ÝÝ»ñÇ | J8: ÀÝ¹³Ù»ÝÁ ³í³ñïí»É »Ý ·áñÍ»ñ (3, 5-7 ëÛáõÝ³ÏÝ»ñ) | K8: ²Û¹ ÃíáõÙ ù³Õ, ¹³ï, ûñ-áí Ý³Ë³ï»ëí³ÍÇó ³í»ÉÇ Å³ÙÏ»ïáõÙ | L8: ²Ý³í³ñï ·áñÍ»ñÇ ÙÝ³óáñ¹Á Ñ³ßí»ïáõ Å³Ù³Ý³Ï³ßñç³ÝÇ í»ñçáõÙ | M8: ²Û¹ ÃíáõÙ ·ïÝíáõÙ »Ý 3 ³ÙëÇó ³í»ÉÇ (Ï³ë»óí³Í ·áñÍ»ñÇ Ñ»ï Ù»Ïï»Õ) | N8: ä»ïáõÃÛ³Ý û·ïÇÝ ÙáõÍí³Í å»ï³Ï³Ý ïáõñùÇ ã³÷Á (¹ñ³Ùáí)
C9: 1 | D9: 2 | E9: 3 | F9: 4 | G9: 5 | H9: 6 | I9: 7 | J9: 8 | K9: 9 | L9: 10 | M9: 11 | N9: 12
A10: 1. ²½³ïí³ÍÝ»ñÇÝ ³ßË³ï³ÝùáõÙ í»ñ³Ï³Ý·Ý»Éáõ í»ñ³µ»ñÛ³É Ñ³Ûó»ñ | C10: =SUM(Shirak!C10+VDz!C10+Suniq!C10+Lori!C10+Gex!C10+Kotaiq!C10+Armavir!C10+Ararat!C10+Aragacotn!C10+Tavush!C10) -> 7 | D10: =SUM(Shirak!D10+VDz!D10+Suniq!D10+Lori!D10+Gex!D10+Kotaiq!D10+Armavir!D10+Ararat!D10+Aragacotn!D10+Tavush!D10) -> 126 | E10: =SUM(Shirak!E10+VDz!E10+Suniq!E10+Lori!E10+Gex!E10+Kotaiq!E10+Armavir!E10+Ararat!E10+Aragacotn!E10+Tavush!E10) -> 98 | F10: =SUM(Shirak!F10+VDz!F10+Suniq!F10+Lori!F10+Gex!F10+Kotaiq!F10+Armavir!F10+Ararat!F10+Aragacotn!F10+Tavush!F10) -> 73 | G10: =SUM(Shirak!G10+VDz!G10+Suniq!G10+Lori!G10+Gex!G10+Kotaiq!G10+Armavir!G10+Ararat!G10+Aragacotn!G10+Tavush!G10) -> 11 | H10: =SUM(Shirak!H10+VDz!H10+Suniq!H10+Lori!H10+Gex!H10+Kotaiq!H10+Armavir!H10+Ararat!H10+Aragacotn!H10+Tavush!H10) -> 12 | I10: =SUM(Shirak!I10+VDz!I10+Suniq!I10+Lori!I10+Gex!I10+Kotaiq!I10+Armavir!I10+Ararat!I10+Aragacotn!I10+Tavush!I10) -> 3 | J10: =SUM(Shirak!J10+VDz!J10+Suniq!J10+Lori!J10+Gex!J10+Kotaiq!J10+Armavir!J10+Ararat!J10+Aragacotn!J10+Tavush!J10) -> 124 | ... N10: =SUM(Shirak!N10+VDz!N10+Suniq!N10+Lori!N10+Gex!N10+Kotaiq!N10+Armavir!N10+Ararat!N10+Aragacotn!N10+Tavush!N10) -> 12000
A11: 2. ´³ÝíáñÝ»ñÇ ¨ Í³é³ÛáÕÝ»ñÇ ³ÛÉ ³ßË³ï³Ýù³ÛÇÝ í»×»ñ | C11: =SUM(Shirak!C11+VDz!C11+Suniq!C11+Lori!C11+Gex!C11+Kotaiq!C11+Armavir!C11+Ararat!C11+Aragacotn!C11+Tavush!C11) -> 28 | D11: =SUM(Shirak!D11+VDz!D11+Suniq!D11+Lori!D11+Gex!D11+Kotaiq!D11+Armavir!D11+Ararat!D11+Aragacotn!D11+Tavush!D11) -> 218 | E11: =SUM(Shirak!E11+VDz!E11+Suniq!E11+Lori!E11+Gex!E11+Kotaiq!E11+Armavir!E11+Ararat!E11+Aragacotn!E11+Tavush!E11) -> 189 | F11: =SUM(Shirak!F11+VDz!F11+Suniq!F11+Lori!F11+Gex!F11+Kotaiq!F11+Armavir!F11+Ararat!F11+Aragacotn!F11+Tavush!F11) -> 177 | G11: =SUM(Shirak!G11+VDz!G11+Suniq!G11+Lori!G11+Gex!G11+Kotaiq!G11+Armavir!G11+Ararat!G11+Aragacotn!G11+Tavush!G11) -> 13 | H11: =SUM(Shirak!H11+VDz!H11+Suniq!H11+Lori!H11+Gex!H11+Kotaiq!H11+Armavir!H11+Ararat!H11+Aragacotn!H11+Tavush!H11) -> 30 | I11: =SUM(Shirak!I11+VDz!I11+Suniq!I11+Lori!I11+Gex!I11+Kotaiq!I11+Armavir!I11+Ararat!I11+Aragacotn!I11+Tavush!I11) -> 6 | J11: =SUM(Shirak!J11+VDz!J11+Suniq!J11+Lori!J11+Gex!J11+Kotaiq!J11+Armavir!J11+Ararat!J11+Aragacotn!J11+Tavush!J11) -> 238 | ... N11: =SUM(Shirak!N11+VDz!N11+Suniq!N11+Lori!N11+Gex!N11+Kotaiq!N11+Armavir!N11+Ararat!N11+Aragacotn!N11+Tavush!N11) -> 17820
A12: 3. ²ßË.å³ñï³Ï³ÝáõÃ. Ï³ï³ñ»ÉÇë µ³Ýí.¨ Í³é³ÛáÕÝ»ñÇ ÏáÕÙÇó ÝÛáõÃ. íÝ³ëÇ Ñ³ïáõóÙ³Ý í»ñ³µ»ñÛ³É (³ßË, ûñ, 129-134 ÑÑ) Ñ³Ûó»ñ | C12: =SUM(Shirak!C12+VDz!C12+Suniq!C12+Lori!C12+Gex!C12+Kotaiq!C12+Armavir!C12+Ararat!C12+Aragacotn!C12+Tavush!C12) -> 3 | D12: =SUM(Shirak!D12+VDz!D12+Suniq!D12+Lori!D12+Gex!D12+Kotaiq!D12+Armavir!D12+Ararat!D12+Aragacotn!D12+Tavush!D12) -> 16 | E12: =SUM(Shirak!E12+VDz!E12+Suniq!E12+Lori!E12+Gex!E12+Kotaiq!E12+Armavir!E12+Ararat!E12+Aragacotn!E12+Tavush!E12) -> 7 | F12: =SUM(Shirak!F12+VDz!F12+Suniq!F12+Lori!F12+Gex!F12+Kotaiq!F12+Armavir!F12+Ararat!F12+Aragacotn!F12+Tavush!F12) -> 6 | G12: =SUM(Shirak!G12+VDz!G12+Suniq!G12+Lori!G12+Gex!G12+Kotaiq!G12+Armavir!G12+Ararat!G12+Aragacotn!G12+Tavush!G12) -> 2 | H12: =SUM(Shirak!H12+VDz!H12+Suniq!H12+Lori!H12+Gex!H12+Kotaiq!H12+Armavir!H12+Ararat!H12+Aragacotn!H12+Tavush!H12) -> 8 | I12: =SUM(Shirak!I12+VDz!I12+Suniq!I12+Lori!I12+Gex!I12+Kotaiq!I12+Armavir!I12+Ararat!I12+Aragacotn!I12+Tavush!I12) -> 1 | J12: =SUM(Shirak!J12+VDz!J12+Suniq!J12+Lori!J12+Gex!J12+Kotaiq!J12+Armavir!J12+Ararat!J12+Aragacotn!J12+Tavush!J12) -> 18 | ... N12: =SUM(Shirak!N12+VDz!N12+Suniq!N12+Lori!N12+Gex!N12+Kotaiq!N12+Armavir!N12+Ararat!N12+Aragacotn!N12+Tavush!N12) -> 67000
A13: 4. ¶ÛáõÕ. ÏáÉ»ÏïÇí ïÝï»ëáõÃÛ³Ý ³Ý¹³ÙÝ»ñÇ ÏáÕÙÇó Ý»ñÏ³Û³óí³Í Ñ³Ûó»ñ | C13: =SUM(Shirak!C13+VDz!C13+Suniq!C13+Lori!C13+Gex!C13+Kotaiq!C13+Armavir!C13+Ararat!C13+Aragacotn!C13+Tavush!C13) -> 0 | D13: =SUM(Shirak!D13+VDz!D13+Suniq!D13+Lori!D13+Gex!D13+Kotaiq!D13+Armavir!D13+Ararat!D13+Aragacotn!D13+Tavush!D13) -> 0 | E13: =SUM(Shirak!E13+VDz!E13+Suniq!E13+Lori!E13+Gex!E13+Kotaiq!E13+Armavir!E13+Ararat!E13+Aragacotn!E13+Tavush!E13) -> 0 | F13: =SUM(Shirak!F13+VDz!F13+Suniq!F13+Lori!F13+Gex!F13+Kotaiq!F13+Armavir!F13+Ararat!F13+Aragacotn!F13+Tavush!F13) -> 0 | G13: =SUM(Shirak!G13+VDz!G13+Suniq!G13+Lori!G13+Gex!G13+Kotaiq!G13+Armavir!G13+Ararat!G13+Aragacotn!G13+Tavush!G13) -> 0 | H13: =SUM(Shirak!H13+VDz!H13+Suniq!H13+Lori!H13+Gex!H13+Kotaiq!H13+Armavir!H13+Ararat!H13+Aragacotn!H13+Tavush!H13) -> 0 | I13: =SUM(Shirak!I13+VDz!I13+Suniq!I13+Lori!I13+Gex!I13+Kotaiq!I13+Armavir!I13+Ararat!I13+Aragacotn!I13+Tavush!I13) -> 0 | J13: =SUM(Shirak!J13+VDz!J13+Suniq!J13+Lori!J13+Gex!J13+Kotaiq!J13+Armavir!J13+Ararat!J13+Aragacotn!J13+Tavush!J13) -> 0 | ... N13: =SUM(Shirak!N13+VDz!N13+Suniq!N13+Lori!N13+Gex!N13+Kotaiq!N13+Armavir!N13+Ararat!N13+Aragacotn!N13+Tavush!N13) -> 0
A14: 5. ºñ»Ë³Ý»ñÇÝ å³Ñ»Éáõ Ñ³Ù³ñ ³ÉÇÙ»ÝïÇ µéÝ³·³ÝÓÙ³Ý í»ñ³µ»ñÛ³É Ñ³Ûó»ñ | C14: =SUM(Shirak!C14+VDz!C14+Suniq!C14+Lori!C14+Gex!C14+Kotaiq!C14+Armavir!C14+Ararat!C14+Aragacotn!C14+Tavush!C14) -> 19 | D14: =SUM(Shirak!D14+VDz!D14+Suniq!D14+Lori!D14+Gex!D14+Kotaiq!D14+Armavir!D14+Ararat!D14+Aragacotn!D14+Tavush!D14) -> 517 | E14: =SUM(Shirak!E14+VDz!E14+Suniq!E14+Lori!E14+Gex!E14+Kotaiq!E14+Armavir!E14+Ararat!E14+Aragacotn!E14+Tavush!E14) -> 417 | F14: =SUM(Shirak!F14+VDz!F14+Suniq!F14+Lori!F14+Gex!F14+Kotaiq!F14+Armavir!F14+Ararat!F14+Aragacotn!F14+Tavush!F14) -> 392 | G14: =SUM(Shirak!G14+VDz!G14+Suniq!G14+Lori!G14+Gex!G14+Kotaiq!G14+Armavir!G14+Ararat!G14+Aragacotn!G14+Tavush!G14) -> 33 | H14: =SUM(Shirak!H14+VDz!H14+Suniq!H14+Lori!H14+Gex!H14+Kotaiq!H14+Armavir!H14+Ararat!H14+Aragacotn!H14+Tavush!H14) -> 51 | I14: =SUM(Shirak!I14+VDz!I14+Suniq!I14+Lori!I14+Gex!I14+Kotaiq!I14+Armavir!I14+Ararat!I14+Aragacotn!I14+Tavush!I14) -> 0 | J14: =SUM(Shirak!J14+VDz!J14+Suniq!J14+Lori!J14+Gex!J14+Kotaiq!J14+Armavir!J14+Ararat!J14+Aragacotn!J14+Tavush!J14) -> 501 | ... N14: =SUM(Shirak!N14+VDz!N14+Suniq!N14+Lori!N14+Gex!N14+Kotaiq!N14+Armavir!N14+Ararat!N14+Aragacotn!N14+Tavush!N14) -> 90320
A15: 6. Ð³ÛñáõÃÛ³Ý Ñ³ëï³ïÙ³Ý í»ñ³µ»ñÛ³É Ñ³Ûó»ñ | C15: =SUM(Shirak!C15+VDz!C15+Suniq!C15+Lori!C15+Gex!C15+Kotaiq!C15+Armavir!C15+Ararat!C15+Aragacotn!C15+Tavush!C15) -> 8 | D15: =SUM(Shirak!D15+VDz!D15+Suniq!D15+Lori!D15+Gex!D15+Kotaiq!D15+Armavir!D15+Ararat!D15+Aragacotn!D15+Tavush!D15) -> 111 | E15: =SUM(Shirak!E15+VDz!E15+Suniq!E15+Lori!E15+Gex!E15+Kotaiq!E15+Armavir!E15+Ararat!E15+Aragacotn!E15+Tavush!E15) -> 80 | F15: =SUM(Shirak!F15+VDz!F15+Suniq!F15+Lori!F15+Gex!F15+Kotaiq!F15+Armavir!F15+Ararat!F15+Aragacotn!F15+Tavush!F15) -> 78 | G15: =SUM(Shirak!G15+VDz!G15+Suniq!G15+Lori!G15+Gex!G15+Kotaiq!G15+Armavir!G15+Ararat!G15+Aragacotn!G15+Tavush!G15) -> 5 | H15: =SUM(Shirak!H15+VDz!H15+Suniq!H15+Lori!H15+Gex!H15+Kotaiq!H15+Armavir!H15+Ararat!H15+Aragacotn!H15+Tavush!H15) -> 23 | I15: =SUM(Shirak!I15+VDz!I15+Suniq!I15+Lori!I15+Gex!I15+Kotaiq!I15+Armavir!I15+Ararat!I15+Aragacotn!I15+Tavush!I15) -> 0 | J15: =SUM(Shirak!J15+VDz!J15+Suniq!J15+Lori!J15+Gex!J15+Kotaiq!J15+Armavir!J15+Ararat!J15+Aragacotn!J15+Tavush!J15) -> 108 | ... N15: =SUM(Shirak!N15+VDz!N15+Suniq!N15+Lori!N15+Gex!N15+Kotaiq!N15+Armavir!N15+Ararat!N15+Aragacotn!N15+Tavush!N15) -> 329500
A16: 7. ÌÝáÕ³Ï³Ý Çñ³íáõÝùÇó ½ñÏ»Éáõ í»ñ³µ»ñÛ³É Ñ³Ûó»ñ | C16: =SUM(Shirak!C16+VDz!C16+Suniq!C16+Lori!C16+Gex!C16+Kotaiq!C16+Armavir!C16+Ararat!C16+Aragacotn!C16+Tavush!C16) -> 0 | D16: =SUM(Shirak!D16+VDz!D16+Suniq!D16+Lori!D16+Gex!D16+Kotaiq!D16+Armavir!D16+Ararat!D16+Aragacotn!D16+Tavush!D16) -> 22 | E16: =SUM(Shirak!E16+VDz!E16+Suniq!E16+Lori!E16+Gex!E16+Kotaiq!E16+Armavir!E16+Ararat!E16+Aragacotn!E16+Tavush!E16) -> 12 | F16: =SUM(Shirak!F16+VDz!F16+Suniq!F16+Lori!F16+Gex!F16+Kotaiq!F16+Armavir!F16+Ararat!F16+Aragacotn!F16+Tavush!F16) -> 11 | G16: =SUM(Shirak!G16+VDz!G16+Suniq!G16+Lori!G16+Gex!G16+Kotaiq!G16+Armavir!G16+Ararat!G16+Aragacotn!G16+Tavush!G16) -> 0 | H16: =SUM(Shirak!H16+VDz!H16+Suniq!H16+Lori!H16+Gex!H16+Kotaiq!H16+Armavir!H16+Ararat!H16+Aragacotn!H16+Tavush!H16) -> 8 | I16: =SUM(Shirak!I16+VDz!I16+Suniq!I16+Lori!I16+Gex!I16+Kotaiq!I16+Armavir!I16+Ararat!I16+Aragacotn!I16+Tavush!I16) -> 0 | J16: =SUM(Shirak!J16+VDz!J16+Suniq!J16+Lori!J16+Gex!J16+Kotaiq!J16+Armavir!J16+Ararat!J16+Aragacotn!J16+Tavush!J16) -> 20 | ... N16: =SUM(Shirak!N16+VDz!N16+Suniq!N16+Lori!N16+Gex!N16+Kotaiq!N16+Armavir!N16+Ararat!N16+Aragacotn!N16+Tavush!N16) -> 70000
A17: 8. ²ÙáõëÝ³ÉáõÍáõÃÛ³Ý í»ñ³µ»ñÛ³É Ñ³Ûó»ñ | C17: =SUM(Shirak!C17+VDz!C17+Suniq!C17+Lori!C17+Gex!C17+Kotaiq!C17+Armavir!C17+Ararat!C17+Aragacotn!C17+Tavush!C17) -> 63 | D17: =SUM(Shirak!D17+VDz!D17+Suniq!D17+Lori!D17+Gex!D17+Kotaiq!D17+Armavir!D17+Ararat!D17+Aragacotn!D17+Tavush!D17) -> 952 | E17: =SUM(Shirak!E17+VDz!E17+Suniq!E17+Lori!E17+Gex!E17+Kotaiq!E17+Armavir!E17+Ararat!E17+Aragacotn!E17+Tavush!E17) -> 749 | F17: =SUM(Shirak!F17+VDz!F17+Suniq!F17+Lori!F17+Gex!F17+Kotaiq!F17+Armavir!F17+Ararat!F17+Aragacotn!F17+Tavush!F17) -> 737 | G17: =SUM(Shirak!G17+VDz!G17+Suniq!G17+Lori!G17+Gex!G17+Kotaiq!G17+Armavir!G17+Ararat!G17+Aragacotn!G17+Tavush!G17) -> 54 | H17: =SUM(Shirak!H17+VDz!H17+Suniq!H17+Lori!H17+Gex!H17+Kotaiq!H17+Armavir!H17+Ararat!H17+Aragacotn!H17+Tavush!H17) -> 126 | I17: =SUM(Shirak!I17+VDz!I17+Suniq!I17+Lori!I17+Gex!I17+Kotaiq!I17+Armavir!I17+Ararat!I17+Aragacotn!I17+Tavush!I17) -> 5 | J17: =SUM(Shirak!J17+VDz!J17+Suniq!J17+Lori!J17+Gex!J17+Kotaiq!J17+Armavir!J17+Ararat!J17+Aragacotn!J17+Tavush!J17) -> 934 | ... N17: =SUM(Shirak!N17+VDz!N17+Suniq!N17+Lori!N17+Gex!N17+Kotaiq!N17+Armavir!N17+Ararat!N17+Aragacotn!N17+Tavush!N17) -> 3745160
A18: 9. ´Ý³Ï³ñ³ÝÇ Ñ³ïÏ³óáõÙáí íï³ñ»Éáõ í»ñ³µ»ñÛ³É Ñ³Ûó»ñ | C18: 4 | D18: =SUM(Shirak!D18+VDz!D18+Suniq!D18+Lori!D18+Gex!D18+Kotaiq!D18+Armavir!D18+Ararat!D18+Aragacotn!D18+Tavush!D18) -> 38 | E18: =SUM(Shirak!E18+VDz!E18+Suniq!E18+Lori!E18+Gex!E18+Kotaiq!E18+Armavir!E18+Ararat!E18+Aragacotn!E18+Tavush!E18) -> 30 | F18: =SUM(Shirak!F18+VDz!F18+Suniq!F18+Lori!F18+Gex!F18+Kotaiq!F18+Armavir!F18+Ararat!F18+Aragacotn!F18+Tavush!F18) -> 29 | G18: =SUM(Shirak!G18+VDz!G18+Suniq!G18+Lori!G18+Gex!G18+Kotaiq!G18+Armavir!G18+Ararat!G18+Aragacotn!G18+Tavush!G18) -> 4 | H18: =SUM(Shirak!H18+VDz!H18+Suniq!H18+Lori!H18+Gex!H18+Kotaiq!H18+Armavir!H18+Ararat!H18+Aragacotn!H18+Tavush!H18) -> 4 | I18: =SUM(Shirak!I18+VDz!I18+Suniq!I18+Lori!I18+Gex!I18+Kotaiq!I18+Armavir!I18+Ararat!I18+Aragacotn!I18+Tavush!I18) -> 0 | J18: =SUM(Shirak!J18+VDz!J18+Suniq!J18+Lori!J18+Gex!J18+Kotaiq!J18+Armavir!J18+Ararat!J18+Aragacotn!J18+Tavush!J18) -> 38 | K18: =SUM(Shirak!K18+VDz!K18+Suniq!K18+Lori!K18+Gex!K18+Kotaiq!K18+Armavir!K18+Ararat!K18+Aragacotn!K18+Tavush!K18) -> 0 | ... N18: =SUM(Shirak!N18+VDz!N18+Suniq!N18+Lori!N18+Gex!N18+Kotaiq!N18+Armavir!N18+Ararat!N18+Aragacotn!N18+Tavush!N18) -> 148000
A19: 10. ²é³Ýó ³ÛÉ µÝ³Ï³ñ³ÝÇ Ñ³ïÏ³óÙ³Ý íï³ñ»Éáõ í»ñ³µ»ñÛ³É Ñ³Ûó»ñ | C19: =SUM(Shirak!C19+VDz!C19+Suniq!C19+Lori!C19+Gex!C19+Kotaiq!C19+Armavir!C19+Ararat!C19+Aragacotn!C19+Tavush!C19) -> 34 | D19: =SUM(Shirak!D19+VDz!D19+Suniq!D19+Lori!D19+Gex!D19+Kotaiq!D19+Armavir!D19+Ararat!D19+Aragacotn!D19+Tavush!D19) -> 106 | E19: =SUM(Shirak!E19+VDz!E19+Suniq!E19+Lori!E19+Gex!E19+Kotaiq!E19+Armavir!E19+Ararat!E19+Aragacotn!E19+Tavush!E19) -> 81 | F19: =SUM(Shirak!F19+VDz!F19+Suniq!F19+Lori!F19+Gex!F19+Kotaiq!F19+Armavir!F19+Ararat!F19+Aragacotn!F19+Tavush!F19) -> 70 | G19: =SUM(Shirak!G19+VDz!G19+Suniq!G19+Lori!G19+Gex!G19+Kotaiq!G19+Armavir!G19+Ararat!G19+Aragacotn!G19+Tavush!G19) -> 15 | H19: =SUM(Shirak!H19+VDz!H19+Suniq!H19+Lori!H19+Gex!H19+Kotaiq!H19+Armavir!H19+Ararat!H19+Aragacotn!H19+Tavush!H19) -> 31 | I19: =SUM(Shirak!I19+VDz!I19+Suniq!I19+Lori!I19+Gex!I19+Kotaiq!I19+Armavir!I19+Ararat!I19+Aragacotn!I19+Tavush!I19) -> 1 | J19: =SUM(Shirak!J19+VDz!J19+Suniq!J19+Lori!J19+Gex!J19+Kotaiq!J19+Armavir!J19+Ararat!J19+Aragacotn!J19+Tavush!J19) -> 128 | ... N19: =SUM(Shirak!N19+VDz!N19+Suniq!N19+Lori!N19+Gex!N19+Kotaiq!N19+Armavir!N19+Ararat!N19+Aragacotn!N19+Tavush!N19) -> 405892
A20: 11. ²ÛÉ µÝ³Ï³ñ³Ý³ÛÇÝ Ñ³Ûó»ñ | C20: =SUM(Shirak!C20+VDz!C20+Suniq!C20+Lori!C20+Gex!C20+Kotaiq!C20+Armavir!C20+Ararat!C20+Aragacotn!C20+Tavush!C20) -> 51 | D20: =SUM(Shirak!D20+VDz!D20+Suniq!D20+Lori!D20+Gex!D20+Kotaiq!D20+Armavir!D20+Ararat!D20+Aragacotn!D20+Tavush!D20) -> 272 | E20: =SUM(Shirak!E20+VDz!E20+Suniq!E20+Lori!E20+Gex!E20+Kotaiq!E20+Armavir!E20+Ararat!E20+Aragacotn!E20+Tavush!E20) -> 156 | F20: =SUM(Shirak!F20+VDz!F20+Suniq!F20+Lori!F20+Gex!F20+Kotaiq!F20+Armavir!F20+Ararat!F20+Aragacotn!F20+Tavush!F20) -> 137 | G20: =SUM(Shirak!G20+VDz!G20+Suniq!G20+Lori!G20+Gex!G20+Kotaiq!G20+Armavir!G20+Ararat!G20+Aragacotn!G20+Tavush!G20) -> 50 | H20: =SUM(Shirak!H20+VDz!H20+Suniq!H20+Lori!H20+Gex!H20+Kotaiq!H20+Armavir!H20+Ararat!H20+Aragacotn!H20+Tavush!H20) -> 81 | I20: =SUM(Shirak!I20+VDz!I20+Suniq!I20+Lori!I20+Gex!I20+Kotaiq!I20+Armavir!I20+Ararat!I20+Aragacotn!I20+Tavush!I20) -> 2 | J20: =SUM(Shirak!J20+VDz!J20+Suniq!J20+Lori!J20+Gex!J20+Kotaiq!J20+Armavir!J20+Ararat!J20+Aragacotn!J20+Tavush!J20) -> 289 | ... N20: =SUM(Shirak!N20+VDz!N20+Suniq!N20+Lori!N20+Gex!N20+Kotaiq!N20+Armavir!N20+Ararat!N20+Aragacotn!N20+Tavush!N20) -> 981340
A21: 12. ´Ý³ÏáõÃÛ³Ý Çñ³íáõÝùÁ ×³Ý³ã»Éáõ í»ñ³µ»ñÛ³É Ñ³Ûó»ñ | C21: =SUM(Shirak!C21+VDz!C21+Suniq!C21+Lori!C21+Gex!C21+Kotaiq!C21+Armavir!C21+Ararat!C21+Aragacotn!C21+Tavush!C21) -> 12 | D21: =SUM(Shirak!D21+VDz!D21+Suniq!D21+Lori!D21+Gex!D21+Kotaiq!D21+Armavir!D21+Ararat!D21+Aragacotn!D21+Tavush!D21) -> 25 | E21: =SUM(Shirak!E21+VDz!E21+Suniq!E21+Lori!E21+Gex!E21+Kotaiq!E21+Armavir!E21+Ararat!E21+Aragacotn!E21+Tavush!E21) -> 24 | F21: =SUM(Shirak!F21+VDz!F21+Suniq!F21+Lori!F21+Gex!F21+Kotaiq!F21+Armavir!F21+Ararat!F21+Aragacotn!F21+Tavush!F21) -> 15 | G21: =SUM(Shirak!G21+VDz!G21+Suniq!G21+Lori!G21+Gex!G21+Kotaiq!G21+Armavir!G21+Ararat!G21+Aragacotn!G21+Tavush!G21) -> 8 | H21: =SUM(Shirak!H21+VDz!H21+Suniq!H21+Lori!H21+Gex!H21+Kotaiq!H21+Armavir!H21+Ararat!H21+Aragacotn!H21+Tavush!H21) -> 2 | I21: =SUM(Shirak!I21+VDz!I21+Suniq!I21+Lori!I21+Gex!I21+Kotaiq!I21+Armavir!I21+Ararat!I21+Aragacotn!I21+Tavush!I21) -> 0 | J21: =SUM(Shirak!J21+VDz!J21+Suniq!J21+Lori!J21+Gex!J21+Kotaiq!J21+Armavir!J21+Ararat!J21+Aragacotn!J21+Tavush!J21) -> 34 | ... N21: =SUM(Shirak!N21+VDz!N21+Suniq!N21+Lori!N21+Gex!N21+Kotaiq!N21+Armavir!N21+Ararat!N21+Aragacotn!N21+Tavush!N21) -> 105500
A22: 13. ´Ý³ÏáõÃÛ³Ý Çñ³íáõÝùÁ Ïáñóñ³Í ×³Ý³ã»Éáõ í»ñ³µ»ñÛ³É Ñ³Ûó»ñ | C22: =SUM(Shirak!C22+VDz!C22+Suniq!C22+Lori!C22+Gex!C22+Kotaiq!C22+Armavir!C22+Ararat!C22+Aragacotn!C22+Tavush!C22) -> 11 | D22: =SUM(Shirak!D22+VDz!D22+Suniq!D22+Lori!D22+Gex!D22+Kotaiq!D22+Armavir!D22+Ararat!D22+Aragacotn!D22+Tavush!D22) -> 67 | E22: =SUM(Shirak!E22+VDz!E22+Suniq!E22+Lori!E22+Gex!E22+Kotaiq!E22+Armavir!E22+Ararat!E22+Aragacotn!E22+Tavush!E22) -> 44 | F22: =SUM(Shirak!F22+VDz!F22+Suniq!F22+Lori!F22+Gex!F22+Kotaiq!F22+Armavir!F22+Ararat!F22+Aragacotn!F22+Tavush!F22) -> 43 | G22: =SUM(Shirak!G22+VDz!G22+Suniq!G22+Lori!G22+Gex!G22+Kotaiq!G22+Armavir!G22+Ararat!G22+Aragacotn!G22+Tavush!G22) -> 5 | H22: =SUM(Shirak!H22+VDz!H22+Suniq!H22+Lori!H22+Gex!H22+Kotaiq!H22+Armavir!H22+Ararat!H22+Aragacotn!H22+Tavush!H22) -> 21 | I22: =SUM(Shirak!I22+VDz!I22+Suniq!I22+Lori!I22+Gex!I22+Kotaiq!I22+Armavir!I22+Ararat!I22+Aragacotn!I22+Tavush!I22) -> 1 | J22: =SUM(Shirak!J22+VDz!J22+Suniq!J22+Lori!J22+Gex!J22+Kotaiq!J22+Armavir!J22+Ararat!J22+Aragacotn!J22+Tavush!J22) -> 71 | ... N22: =SUM(Shirak!N22+VDz!N22+Suniq!N22+Lori!N22+Gex!N22+Kotaiq!N22+Armavir!N22+Ararat!N22+Aragacotn!N22+Tavush!N22) -> 192000
A23: 14. ø³Õ³ù³óÇÝ»ñÇ ë»÷³Ï³ÝáõÃÛ³Ý Çñ³íáõÝùÇ í»ñ³µ»ñÛ³É Ñ³Ûó»ñ | C23: =SUM(Shirak!C23+VDz!C23+Suniq!C23+Lori!C23+Gex!C23+Kotaiq!C23+Armavir!C23+Ararat!C23+Aragacotn!C23+Tavush!C23) -> 31 | D23: =SUM(Shirak!D23+VDz!D23+Suniq!D23+Lori!D23+Gex!D23+Kotaiq!D23+Armavir!D23+Ararat!D23+Aragacotn!D23+Tavush!D23) -> 370 | E23: =SUM(Shirak!E23+VDz!E23+Suniq!E23+Lori!E23+Gex!E23+Kotaiq!E23+Armavir!E23+Ararat!E23+Aragacotn!E23+Tavush!E23) -> 269 | F23: =SUM(Shirak!F23+VDz!F23+Suniq!F23+Lori!F23+Gex!F23+Kotaiq!F23+Armavir!F23+Ararat!F23+Aragacotn!F23+Tavush!F23) -> 235 | G23: =SUM(Shirak!G23+VDz!G23+Suniq!G23+Lori!G23+Gex!G23+Kotaiq!G23+Armavir!G23+Ararat!G23+Aragacotn!G23+Tavush!G23) -> 39 | H23: =SUM(Shirak!H23+VDz!H23+Suniq!H23+Lori!H23+Gex!H23+Kotaiq!H23+Armavir!H23+Ararat!H23+Aragacotn!H23+Tavush!H23) -> 55 | I23: =SUM(Shirak!I23+VDz!I23+Suniq!I23+Lori!I23+Gex!I23+Kotaiq!I23+Armavir!I23+Ararat!I23+Aragacotn!I23+Tavush!I23) -> 7 | J23: =SUM(Shirak!J23+VDz!J23+Suniq!J23+Lori!J23+Gex!J23+Kotaiq!J23+Armavir!J23+Ararat!J23+Aragacotn!J23+Tavush!J23) -> 370 | ... N23: =SUM(Shirak!N23+VDz!N23+Suniq!N23+Lori!N23+Gex!N23+Kotaiq!N23+Armavir!N23+Ararat!N23+Aragacotn!N23+Tavush!N23) -> 1822085
A24: 15. ê»÷³Ï³ÝáõÃÛ³Ý Çñ³íáõÝùÇ í»ñ³µ»ñÛ³É Ñ³Ûó»ñ | C24: =SUM(Shirak!C24+VDz!C24+Suniq!C24+Lori!C24+Gex!C24+Kotaiq!C24+Armavir!C24+Ararat!C24+Aragacotn!C24+Tavush!C24) -> 102 | D24: =SUM(Shirak!D24+VDz!D24+Suniq!D24+Lori!D24+Gex!D24+Kotaiq!D24+Armavir!D24+Ararat!D24+Aragacotn!D24+Tavush!D24) -> 920 | E24: =SUM(Shirak!E24+VDz!E24+Suniq!E24+Lori!E24+Gex!E24+Kotaiq!E24+Armavir!E24+Ararat!E24+Aragacotn!E24+Tavush!E24) -> 646 | F24: =SUM(Shirak!F24+VDz!F24+Suniq!F24+Lori!F24+Gex!F24+Kotaiq!F24+Armavir!F24+Ararat!F24+Aragacotn!F24+Tavush!F24) -> 452 | G24: =SUM(Shirak!G24+VDz!G24+Suniq!G24+Lori!G24+Gex!G24+Kotaiq!G24+Armavir!G24+Ararat!G24+Aragacotn!G24+Tavush!G24) -> 98 | H24: =SUM(Shirak!H24+VDz!H24+Suniq!H24+Lori!H24+Gex!H24+Kotaiq!H24+Armavir!H24+Ararat!H24+Aragacotn!H24+Tavush!H24) -> 139 | I24: =SUM(Shirak!I24+VDz!I24+Suniq!I24+Lori!I24+Gex!I24+Kotaiq!I24+Armavir!I24+Ararat!I24+Aragacotn!I24+Tavush!I24) -> 20 | J24: =SUM(Shirak!J24+VDz!J24+Suniq!J24+Lori!J24+Gex!J24+Kotaiq!J24+Armavir!J24+Ararat!J24+Aragacotn!J24+Tavush!J24) -> 903 | ... N24: =SUM(Shirak!N24+VDz!N24+Suniq!N24+Lori!N24+Gex!N24+Kotaiq!N24+Armavir!N24+Ararat!N24+Aragacotn!N24+Tavush!N24) -> 3117837
A25: 16.Ê»Õ³Ý¹³ÙáõÃ.Ï³Ù Ù³Ñí³Ý Ñ³Ù³ñ íÝ³ëÁ Ñ³ïáõó»Éáõ Ù³ëÇÝ Ýáñ Ñ³ñáõóí³Í Ñ³Ûó»ñ | C25: =SUM(Shirak!C25+VDz!C25+Suniq!C25+Lori!C25+Gex!C25+Kotaiq!C25+Armavir!C25+Ararat!C25+Aragacotn!C25+Tavush!C25) -> 2 | D25: =SUM(Shirak!D25+VDz!D25+Suniq!D25+Lori!D25+Gex!D25+Kotaiq!D25+Armavir!D25+Ararat!D25+Aragacotn!D25+Tavush!D25) -> 9 | E25: =SUM(Shirak!E25+VDz!E25+Suniq!E25+Lori!E25+Gex!E25+Kotaiq!E25+Armavir!E25+Ararat!E25+Aragacotn!E25+Tavush!E25) -> 6 | F25: =SUM(Shirak!F25+VDz!F25+Suniq!F25+Lori!F25+Gex!F25+Kotaiq!F25+Armavir!F25+Ararat!F25+Aragacotn!F25+Tavush!F25) -> 4 | G25: =SUM(Shirak!G25+VDz!G25+Suniq!G25+Lori!G25+Gex!G25+Kotaiq!G25+Armavir!G25+Ararat!G25+Aragacotn!G25+Tavush!G25) -> 0 | H25: =SUM(Shirak!H25+VDz!H25+Suniq!H25+Lori!H25+Gex!H25+Kotaiq!H25+Armavir!H25+Ararat!H25+Aragacotn!H25+Tavush!H25) -> 2 | I25: =SUM(Shirak!I25+VDz!I25+Suniq!I25+Lori!I25+Gex!I25+Kotaiq!I25+Armavir!I25+Ararat!I25+Aragacotn!I25+Tavush!I25) -> 0 | J25: =SUM(Shirak!J25+VDz!J25+Suniq!J25+Lori!J25+Gex!J25+Kotaiq!J25+Armavir!J25+Ararat!J25+Aragacotn!J25+Tavush!J25) -> 8 | ... N25: =SUM(Shirak!N25+VDz!N25+Suniq!N25+Lori!N25+Gex!N25+Kotaiq!N25+Armavir!N25+Ararat!N25+Aragacotn!N25+Tavush!N25) -> 0
A26: 17. ¶áõÛùÁ í»ñ·ñÇó Ñ³Ý»Éáõ í»ñ³µ»ñÛ³É Ñ³Ûó»ñ | C26: =SUM(Shirak!C26+VDz!C26+Suniq!C26+Lori!C26+Gex!C26+Kotaiq!C26+Armavir!C26+Ararat!C26+Aragacotn!C26+Tavush!C26) -> 7 | D26: =SUM(Shirak!D26+VDz!D26+Suniq!D26+Lori!D26+Gex!D26+Kotaiq!D26+Armavir!D26+Ararat!D26+Aragacotn!D26+Tavush!D26) -> 69 | E26: =SUM(Shirak!E26+VDz!E26+Suniq!E26+Lori!E26+Gex!E26+Kotaiq!E26+Armavir!E26+Ararat!E26+Aragacotn!E26+Tavush!E26) -> 52 | F26: =SUM(Shirak!F26+VDz!F26+Suniq!F26+Lori!F26+Gex!F26+Kotaiq!F26+Armavir!F26+Ararat!F26+Aragacotn!F26+Tavush!F26) -> 45 | G26: =SUM(Shirak!G26+VDz!G26+Suniq!G26+Lori!G26+Gex!G26+Kotaiq!G26+Armavir!G26+Ararat!G26+Aragacotn!G26+Tavush!G26) -> 6 | H26: =SUM(Shirak!H26+VDz!H26+Suniq!H26+Lori!H26+Gex!H26+Kotaiq!H26+Armavir!H26+Ararat!H26+Aragacotn!H26+Tavush!H26) -> 14 | I26: =SUM(Shirak!I26+VDz!I26+Suniq!I26+Lori!I26+Gex!I26+Kotaiq!I26+Armavir!I26+Ararat!I26+Aragacotn!I26+Tavush!I26) -> 1 | J26: =SUM(Shirak!J26+VDz!J26+Suniq!J26+Lori!J26+Gex!J26+Kotaiq!J26+Armavir!J26+Ararat!J26+Aragacotn!J26+Tavush!J26) -> 73 | ... N26: =SUM(Shirak!N26+VDz!N26+Suniq!N26+Lori!N26+Gex!N26+Kotaiq!N26+Armavir!N26+Ararat!N26+Aragacotn!N26+Tavush!N26) -> 212000
A27: 18.Ð³Ûó»ñ Ñ»ÕÇÝ³ÏÇ Çñ³íáõÝùÇ í»ñ³µ»ñÛ³É í»×»ñáí | C27: =SUM(Shirak!C27+VDz!C27+Suniq!C27+Lori!C27+Gex!C27+Kotaiq!C27+Armavir!C27+Ararat!C27+Aragacotn!C27+Tavush!C27) -> 0 | D27: =SUM(Shirak!D27+VDz!D27+Suniq!D27+Lori!D27+Gex!D27+Kotaiq!D27+Armavir!D27+Ararat!D27+Aragacotn!D27+Tavush!D27) -> 0 | E27: =SUM(Shirak!E27+VDz!E27+Suniq!E27+Lori!E27+Gex!E27+Kotaiq!E27+Armavir!E27+Ararat!E27+Aragacotn!E27+Tavush!E27) -> 0 | F27: =SUM(Shirak!F27+VDz!F27+Suniq!F27+Lori!F27+Gex!F27+Kotaiq!F27+Armavir!F27+Ararat!F27+Aragacotn!F27+Tavush!F27) -> 0 | G27: =SUM(Shirak!G27+VDz!G27+Suniq!G27+Lori!G27+Gex!G27+Kotaiq!G27+Armavir!G27+Ararat!G27+Aragacotn!G27+Tavush!G27) -> 0 | H27: =SUM(Shirak!H27+VDz!H27+Suniq!H27+Lori!H27+Gex!H27+Kotaiq!H27+Armavir!H27+Ararat!H27+Aragacotn!H27+Tavush!H27) -> 0 | I27: =SUM(Shirak!I27+VDz!I27+Suniq!I27+Lori!I27+Gex!I27+Kotaiq!I27+Armavir!I27+Ararat!I27+Aragacotn!I27+Tavush!I27) -> 0 | J27: =SUM(Shirak!J27+VDz!J27+Suniq!J27+Lori!J27+Gex!J27+Kotaiq!J27+Armavir!J27+Ararat!J27+Aragacotn!J27+Tavush!J27) -> 0 | ... N27: =SUM(Shirak!N27+VDz!N27+Suniq!N27+Lori!N27+Gex!N27+Kotaiq!N27+Armavir!N27+Ararat!N27+Aragacotn!N27+Tavush!N27) -> 0
A28: 19. Ú³Ûó»ñ ·Ûáõï³ñ³ñáõÃÛ³Ý Çñ³íáõÝùÇ í»ñ³µ»ñÛ³É í»×»ñáí | C28: =SUM(Shirak!C28+VDz!C28+Suniq!C28+Lori!C28+Gex!C28+Kotaiq!C28+Armavir!C28+Ararat!C28+Aragacotn!C28+Tavush!C28) -> 0 | D28: =SUM(Shirak!D28+VDz!D28+Suniq!D28+Lori!D28+Gex!D28+Kotaiq!D28+Armavir!D28+Ararat!D28+Aragacotn!D28+Tavush!D28) -> 0 | E28: =SUM(Shirak!E28+VDz!E28+Suniq!E28+Lori!E28+Gex!E28+Kotaiq!E28+Armavir!E28+Ararat!E28+Aragacotn!E28+Tavush!E28) -> 0 | F28: =SUM(Shirak!F28+VDz!F28+Suniq!F28+Lori!F28+Gex!F28+Kotaiq!F28+Armavir!F28+Ararat!F28+Aragacotn!F28+Tavush!F28) -> 0 | G28: =SUM(Shirak!G28+VDz!G28+Suniq!G28+Lori!G28+Gex!G28+Kotaiq!G28+Armavir!G28+Ararat!G28+Aragacotn!G28+Tavush!G28) -> 0 | H28: =SUM(Shirak!H28+VDz!H28+Suniq!H28+Lori!H28+Gex!H28+Kotaiq!H28+Armavir!H28+Ararat!H28+Aragacotn!H28+Tavush!H28) -> 0 | I28: =SUM(Shirak!I28+VDz!I28+Suniq!I28+Lori!I28+Gex!I28+Kotaiq!I28+Armavir!I28+Ararat!I28+Aragacotn!I28+Tavush!I28) -> 0 | J28: =SUM(Shirak!J28+VDz!J28+Suniq!J28+Lori!J28+Gex!J28+Kotaiq!J28+Armavir!J28+Ararat!J28+Aragacotn!J28+Tavush!J28) -> 0 | ... N28: =SUM(Shirak!N28+VDz!N28+Suniq!N28+Lori!N28+Gex!N28+Kotaiq!N28+Armavir!N28+Ararat!N28+Aragacotn!N28+Tavush!N28) -> 0
A29: 20. ²Ýï³éÝ»ñÇ Ë³ËïáõÙÝ»ñÇ Ñ³Ù³ñ ·áõÛù³ÛÇÝ å³ï³ëË³Ý³ïíáõÃÛ³Ý í»ñ³µ»ñÛ³É Ñ³Ûó»ñ | C29: =SUM(Shirak!C29+VDz!C29+Suniq!C29+Lori!C29+Gex!C29+Kotaiq!C29+Armavir!C29+Ararat!C29+Aragacotn!C29+Tavush!C29) -> 5 | D29: =SUM(Shirak!D29+VDz!D29+Suniq!D29+Lori!D29+Gex!D29+Kotaiq!D29+Armavir!D29+Ararat!D29+Aragacotn!D29+Tavush!D29) -> 33 | E29: =SUM(Shirak!E29+VDz!E29+Suniq!E29+Lori!E29+Gex!E29+Kotaiq!E29+Armavir!E29+Ararat!E29+Aragacotn!E29+Tavush!E29) -> 32 | F29: =SUM(Shirak!F29+VDz!F29+Suniq!F29+Lori!F29+Gex!F29+Kotaiq!F29+Armavir!F29+Ararat!F29+Aragacotn!F29+Tavush!F29) -> 32 | G29: =SUM(Shirak!G29+VDz!G29+Suniq!G29+Lori!G29+Gex!G29+Kotaiq!G29+Armavir!G29+Ararat!G29+Aragacotn!G29+Tavush!G29) -> 2 | H29: =SUM(Shirak!H29+VDz!H29+Suniq!H29+Lori!H29+Gex!H29+Kotaiq!H29+Armavir!H29+Ararat!H29+Aragacotn!H29+Tavush!H29) -> 1 | I29: =SUM(Shirak!I29+VDz!I29+Suniq!I29+Lori!I29+Gex!I29+Kotaiq!I29+Armavir!I29+Ararat!I29+Aragacotn!I29+Tavush!I29) -> 0 | J29: =SUM(Shirak!J29+VDz!J29+Suniq!J29+Lori!J29+Gex!J29+Kotaiq!J29+Armavir!J29+Ararat!J29+Aragacotn!J29+Tavush!J29) -> 35 | ... N29: =SUM(Shirak!N29+VDz!N29+Suniq!N29+Lori!N29+Gex!N29+Kotaiq!N29+Armavir!N29+Ararat!N29+Aragacotn!N29+Tavush!N29) -> 86122
A30: 21. ²åûñÇÝÇ áñëÇ ¨ ÓÏ³Ý å³ß³ñÝ»ñÇ áãÝã³óÙ³Ý Ñ»ï¨³Ýùáí ³é³ç³½áó ÝÛáõÃ³Ï³Ý å³ï³ëË³Ý³ïíáõÃÛ³Ý í»ñ³µ»ñÛ³É Ñ³Ûó»ñ | C30: =SUM(Shirak!C30+VDz!C30+Suniq!C30+Lori!C30+Gex!C30+Kotaiq!C30+Armavir!C30+Ararat!C30+Aragacotn!C30+Tavush!C30) -> 0 | D30: =SUM(Shirak!D30+VDz!D30+Suniq!D30+Lori!D30+Gex!D30+Kotaiq!D30+Armavir!D30+Ararat!D30+Aragacotn!D30+Tavush!D30) -> 0 | E30: =SUM(Shirak!E30+VDz!E30+Suniq!E30+Lori!E30+Gex!E30+Kotaiq!E30+Armavir!E30+Ararat!E30+Aragacotn!E30+Tavush!E30) -> 0 | F30: =SUM(Shirak!F30+VDz!F30+Suniq!F30+Lori!F30+Gex!F30+Kotaiq!F30+Armavir!F30+Ararat!F30+Aragacotn!F30+Tavush!F30) -> 0 | G30: =SUM(Shirak!G30+VDz!G30+Suniq!G30+Lori!G30+Gex!G30+Kotaiq!G30+Armavir!G30+Ararat!G30+Aragacotn!G30+Tavush!G30) -> 0 | H30: =SUM(Shirak!H30+VDz!H30+Suniq!H30+Lori!H30+Gex!H30+Kotaiq!H30+Armavir!H30+Ararat!H30+Aragacotn!H30+Tavush!H30) -> 0 | I30: =SUM(Shirak!I30+VDz!I30+Suniq!I30+Lori!I30+Gex!I30+Kotaiq!I30+Armavir!I30+Ararat!I30+Aragacotn!I30+Tavush!I30) -> 0 | J30: =SUM(Shirak!J30+VDz!J30+Suniq!J30+Lori!J30+Gex!J30+Kotaiq!J30+Armavir!J30+Ararat!J30+Aragacotn!J30+Tavush!J30) -> 0 | ... N30: =SUM(Shirak!N30+VDz!N30+Suniq!N30+Lori!N30+Gex!N30+Kotaiq!N30+Armavir!N30+Ararat!N30+Aragacotn!N30+Tavush!N30) -> 0
... A35: 26. ÀÝ¹³Ù»ÝÁ Ñ³Ûó³ÛÇÝ í³ñáõÛÃÇ ·áñÍ»ñ (1-25 ïáÕ»ñ) | C35: =SUM(Shirak!C35+VDz!C35+Suniq!C35+Lori!C35+Gex!C35+Kotaiq!C35+Armavir!C35+Ararat!C35+Aragacotn!C35+Tavush!C35) -> 1117 | D35: =SUM(Shirak!D35+VDz!D35+Suniq!D35+Lori!D35+Gex!D35+Kotaiq!D35+Armavir!D35+Ararat!D35+Aragacotn!D35+Tavush!D35) -> 13849 | E35: =SUM(Shirak!E35+VDz!E35+Suniq!E35+Lori!E35+Gex!E35+Kotaiq!E35+Armavir!E35+Ararat!E35+Aragacotn!E35+Tavush!E35) -> 10220 | F35: =SUM(Shirak!F35+VDz!F35+Suniq!F35+Lori!F35+Gex!F35+Kotaiq!F35+Armavir!F35+Ararat!F35+Aragacotn!F35+Tavush!F35) -> 7856 | G35: =SUM(Shirak!G35+VDz!G35+Suniq!G35+Lori!G35+Gex!G35+Kotaiq!G35+Armavir!G35+Ararat!G35+Aragacotn!G35+Tavush!G35) -> 1323 | H35: =SUM(Shirak!H35+VDz!H35+Suniq!H35+Lori!H35+Gex!H35+Kotaiq!H35+Armavir!H35+Ararat!H35+Aragacotn!H35+Tavush!H35) -> 1585 | I35: =SUM(Shirak!I35+VDz!I35+Suniq!I35+Lori!I35+Gex!I35+Kotaiq!I35+Armavir!I35+Ararat!I35+Aragacotn!I35+Tavush!I35) -> 180 | J35: =SUM(Shirak!J35+VDz!J35+Suniq!J35+Lori!J35+Gex!J35+Kotaiq!J35+Armavir!J35+Ararat!J35+Aragacotn!J35+Tavush!J35) -> 13308 | ... N35: =SUM(Shirak!N35+VDz!N35+Suniq!N35+Lori!N35+Gex!N35+Kotaiq!N35+Armavir!N35+Ararat!N35+Aragacotn!N35+Tavush!N35) -> 51811816
A36: ì³ñã³-Çñ³í³Ï³Ý Ñ³ñ³µ»ñáõÃÛáõÝÝ»ñÇó | B36: 27.Ð³ñÏ»ñÇ ³å³éùÝ»ñÇ ·³ÝÓÙ³Ý í»ñ³µ»ñÛ³É Ñ³Ûó»ñ | C36: =SUM(Shirak!C36+VDz!C36+Suniq!C36+Lori!C36+Gex!C36+Kotaiq!C36+Armavir!C36+Ararat!C36+Aragacotn!C36+Tavush!C36) -> 10 | D36: =SUM(Shirak!D36+VDz!D36+Suniq!D36+Lori!D36+Gex!D36+Kotaiq!D36+Armavir!D36+Ararat!D36+Aragacotn!D36+Tavush!D36) -> 241 | E36: =SUM(Shirak!E36+VDz!E36+Suniq!E36+Lori!E36+Gex!E36+Kotaiq!E36+Armavir!E36+Ararat!E36+Aragacotn!E36+Tavush!E36) -> 160 | F36: =SUM(Shirak!F36+VDz!F36+Suniq!F36+Lori!F36+Gex!F36+Kotaiq!F36+Armavir!F36+Ararat!F36+Aragacotn!F36+Tavush!F36) -> 126 | G36: =SUM(Shirak!G36+VDz!G36+Suniq!G36+Lori!G36+Gex!G36+Kotaiq!G36+Armavir!G36+Ararat!G36+Aragacotn!G36+Tavush!G36) -> 25 | H36: =SUM(Shirak!H36+VDz!H36+Suniq!H36+Lori!H36+Gex!H36+Kotaiq!H36+Armavir!H36+Ararat!H36+Aragacotn!H36+Tavush!H36) -> 16 | I36: =SUM(Shirak!I36+VDz!I36+Suniq!I36+Lori!I36+Gex!I36+Kotaiq!I36+Armavir!I36+Ararat!I36+Aragacotn!I36+Tavush!I36) -> 0 | J36: =SUM(Shirak!J36+VDz!J36+Suniq!J36+Lori!J36+Gex!J36+Kotaiq!J36+Armavir!J36+Ararat!J36+Aragacotn!J36+Tavush!J36) -> 201 | ... N36: =SUM(Shirak!N36+VDz!N36+Suniq!N36+Lori!N36+Gex!N36+Kotaiq!N36+Armavir!N36+Ararat!N36+Aragacotn!N36+Tavush!N36) -> 696848
B37: 28.ì³ñã³-Çñ³í³Ï³Ý Ñ³ñ³µ»ñáõÃÛáõÝÝ»ñÇó ³é³ç³ó³Í Ñ³Ûó»ñ | C37: =SUM(Shirak!C37+VDz!C37+Suniq!C37+Lori!C37+Gex!C37+Kotaiq!C37+Armavir!C37+Ararat!C37+Aragacotn!C37+Tavush!C37) -> 50 | D37: =SUM(Shirak!D37+VDz!D37+Suniq!D37+Lori!D37+Gex!D37+Kotaiq!D37+Armavir!D37+Ararat!D37+Aragacotn!D37+Tavush!D37) -> 741 | E37: =SUM(Shirak!E37+VDz!E37+Suniq!E37+Lori!E37+Gex!E37+Kotaiq!E37+Armavir!E37+Ararat!E37+Aragacotn!E37+Tavush!E37) -> 565 | F37: =SUM(Shirak!F37+VDz!F37+Suniq!F37+Lori!F37+Gex!F37+Kotaiq!F37+Armavir!F37+Ararat!F37+Aragacotn!F37+Tavush!F37) -> 497 | G37: =SUM(Shirak!G37+VDz!G37+Suniq!G37+Lori!G37+Gex!G37+Kotaiq!G37+Armavir!G37+Ararat!G37+Aragacotn!G37+Tavush!G37) -> 112 | H37: =SUM(Shirak!H37+VDz!H37+Suniq!H37+Lori!H37+Gex!H37+Kotaiq!H37+Armavir!H37+Ararat!H37+Aragacotn!H37+Tavush!H37) -> 50 | I37: =SUM(Shirak!I37+VDz!I37+Suniq!I37+Lori!I37+Gex!I37+Kotaiq!I37+Armavir!I37+Ararat!I37+Aragacotn!I37+Tavush!I37) -> 34 | J37: =SUM(Shirak!J37+VDz!J37+Suniq!J37+Lori!J37+Gex!J37+Kotaiq!J37+Armavir!J37+Ararat!J37+Aragacotn!J37+Tavush!J37) -> 761 | ... N37: =SUM(Shirak!N37+VDz!N37+Suniq!N37+Lori!N37+Gex!N37+Kotaiq!N37+Armavir!N37+Ararat!N37+Aragacotn!N37+Tavush!N37) -> 2427143
B38: 29.ä»ï³Ï³Ý Ï³é³í³ñÙ³Ý Ù³ñÙÇÝÝ»ñÇ ¨ å³ßïáÝ³ï³ñ ³ÝÓ³Ýó ³åûñÇÝÇ ·áñÍáÕáõÃÛáõÝÝ»ñÇ í»ñ³µ»ñÛ³É Ñ³Ûó»ñ | C38: =SUM(Shirak!C38+VDz!C38+Suniq!C38+Lori!C38+Gex!C38+Kotaiq!C38+Armavir!C38+Ararat!C38+Aragacotn!C38+Tavush!C38) -> 10 | D38: =SUM(Shirak!D38+VDz!D38+Suniq!D38+Lori!D38+Gex!D38+Kotaiq!D38+Armavir!D38+Ararat!D38+Aragacotn!D38+Tavush!D38) -> 283 | E38: =SUM(Shirak!E38+VDz!E38+Suniq!E38+Lori!E38+Gex!E38+Kotaiq!E38+Armavir!E38+Ararat!E38+Aragacotn!E38+Tavush!E38) -> 191 | F38: =SUM(Shirak!F38+VDz!F38+Suniq!F38+Lori!F38+Gex!F38+Kotaiq!F38+Armavir!F38+Ararat!F38+Aragacotn!F38+Tavush!F38) -> 147 | G38: =SUM(Shirak!G38+VDz!G38+Suniq!G38+Lori!G38+Gex!G38+Kotaiq!G38+Armavir!G38+Ararat!G38+Aragacotn!G38+Tavush!G38) -> 33 | H38: =SUM(Shirak!H38+VDz!H38+Suniq!H38+Lori!H38+Gex!H38+Kotaiq!H38+Armavir!H38+Ararat!H38+Aragacotn!H38+Tavush!H38) -> 39 | I38: =SUM(Shirak!I38+VDz!I38+Suniq!I38+Lori!I38+Gex!I38+Kotaiq!I38+Armavir!I38+Ararat!I38+Aragacotn!I38+Tavush!I38) -> 17 | J38: =SUM(Shirak!J38+VDz!J38+Suniq!J38+Lori!J38+Gex!J38+Kotaiq!J38+Armavir!J38+Ararat!J38+Aragacotn!J38+Tavush!J38) -> 280 | ... N38: =SUM(Shirak!N38+VDz!N38+Suniq!N38+Lori!N38+Gex!N38+Kotaiq!N38+Armavir!N38+Ararat!N38+Aragacotn!N38+Tavush!N38) -> 843600
B39: 30.ÀÝ¹³Ù»ÝÁ í³ñã³-Çñ³í³Ï³Ý Ñ³ñ³µ»ñáõÃÛáõÝÝ»ñÇó ³é³ç³ó³Í Ñ³Ûó»ñ (27-29 ïáÕ»ñ) | C39: =SUM(Shirak!C39+VDz!C39+Suniq!C39+Lori!C39+Gex!C39+Kotaiq!C39+Armavir!C39+Ararat!C39+Aragacotn!C39+Tavush!C39) -> 70 | D39: =SUM(Shirak!D39+VDz!D39+Suniq!D39+Lori!D39+Gex!D39+Kotaiq!D39+Armavir!D39+Ararat!D39+Aragacotn!D39+Tavush!D39) -> 1265 | E39: =SUM(Shirak!E39+VDz!E39+Suniq!E39+Lori!E39+Gex!E39+Kotaiq!E39+Armavir!E39+Ararat!E39+Aragacotn!E39+Tavush!E39) -> 916 | F39: =SUM(Shirak!F39+VDz!F39+Suniq!F39+Lori!F39+Gex!F39+Kotaiq!F39+Armavir!F39+Ararat!F39+Aragacotn!F39+Tavush!F39) -> 770 | G39: =SUM(Shirak!G39+VDz!G39+Suniq!G39+Lori!G39+Gex!G39+Kotaiq!G39+Armavir!G39+Ararat!G39+Aragacotn!G39+Tavush!G39) -> 170 | H39: =SUM(Shirak!H39+VDz!H39+Suniq!H39+Lori!H39+Gex!H39+Kotaiq!H39+Armavir!H39+Ararat!H39+Aragacotn!H39+Tavush!H39) -> 105 | I39: =SUM(Shirak!I39+VDz!I39+Suniq!I39+Lori!I39+Gex!I39+Kotaiq!I39+Armavir!I39+Ararat!I39+Aragacotn!I39+Tavush!I39) -> 51 | J39: =SUM(Shirak!J39+VDz!J39+Suniq!J39+Lori!J39+Gex!J39+Kotaiq!J39+Armavir!J39+Ararat!J39+Aragacotn!J39+Tavush!J39) -> 1242 | ... N39: =SUM(Shirak!N39+VDz!N39+Suniq!N39+Lori!N39+Gex!N39+Kotaiq!N39+Armavir!N39+Ararat!N39+Aragacotn!N39+Tavush!N39) -> 3967591
A40: Ð³ïáõÏ í³ñáõÛÃÇ ·áñÍ»ñ | B40: 31.Æñ³í³µ³Ý³Ï³Ý Ýß³Ý³ÏáõÃÛáõÝ áõÝ»óáÕ ÷³ëï»ñ Ñ³ëï³ï»Éáõ í»ñ³µ»ñÛ³É Ñ³Ûó»ñ | C40: =SUM(Shirak!C40+VDz!C40+Suniq!C40+Lori!C40+Gex!C40+Kotaiq!C40+Armavir!C40+Ararat!C40+Aragacotn!C40+Tavush!C40) -> 77 | D40: =SUM(Shirak!D40+VDz!D40+Suniq!D40+Lori!D40+Gex!D40+Kotaiq!D40+Armavir!D40+Ararat!D40+Aragacotn!D40+Tavush!D40) -> 2218 | E40: =SUM(Shirak!E40+VDz!E40+Suniq!E40+Lori!E40+Gex!E40+Kotaiq!E40+Armavir!E40+Ararat!E40+Aragacotn!E40+Tavush!E40) -> 2063 | F40: =SUM(Shirak!F40+VDz!F40+Suniq!F40+Lori!F40+Gex!F40+Kotaiq!F40+Armavir!F40+Ararat!F40+Aragacotn!F40+Tavush!F40) -> 1981 | G40: =SUM(Shirak!G40+VDz!G40+Suniq!G40+Lori!G40+Gex!G40+Kotaiq!G40+Armavir!G40+Ararat!G40+Aragacotn!G40+Tavush!G40) -> 28 | H40: =SUM(Shirak!H40+VDz!H40+Suniq!H40+Lori!H40+Gex!H40+Kotaiq!H40+Armavir!H40+Ararat!H40+Aragacotn!H40+Tavush!H40) -> 129 | I40: =SUM(Shirak!I40+VDz!I40+Suniq!I40+Lori!I40+Gex!I40+Kotaiq!I40+Armavir!I40+Ararat!I40+Aragacotn!I40+Tavush!I40) -> 9 | J40: =SUM(Shirak!J40+VDz!J40+Suniq!J40+Lori!J40+Gex!J40+Kotaiq!J40+Armavir!J40+Ararat!J40+Aragacotn!J40+Tavush!J40) -> 2229 | ... N40: =SUM(Shirak!N40+VDz!N40+Suniq!N40+Lori!N40+Gex!N40+Kotaiq!N40+Armavir!N40+Ararat!N40+Aragacotn!N40+Tavush!N40) -> 5282100
B41: 32.Üáï³ñ³Ï³Ý ·áñÍáÕáõÃÛáõÝÝ»ñÇ Ï³Ù ¹ñ³Ýó Ï³ï³ñÙ³Ý Ù»ñÅÙ³Ý Ñ³Ù³ñ µáÕáùÝ»ñáí | C41: =SUM(Shirak!C41+VDz!C41+Suniq!C41+Lori!C41+Gex!C41+Kotaiq!C41+Armavir!C41+Ararat!C41+Aragacotn!C41+Tavush!C41) -> 2 | D41: =SUM(Shirak!D41+VDz!D41+Suniq!D41+Lori!D41+Gex!D41+Kotaiq!D41+Armavir!D41+Ararat!D41+Aragacotn!D41+Tavush!D41) -> 20 | E41: =SUM(Shirak!E41+VDz!E41+Suniq!E41+Lori!E41+Gex!E41+Kotaiq!E41+Armavir!E41+Ararat!E41+Aragacotn!E41+Tavush!E41) -> 15 | F41: =SUM(Shirak!F41+VDz!F41+Suniq!F41+Lori!F41+Gex!F41+Kotaiq!F41+Armavir!F41+Ararat!F41+Aragacotn!F41+Tavush!F41) -> 13 | G41: =SUM(Shirak!G41+VDz!G41+Suniq!G41+Lori!G41+Gex!G41+Kotaiq!G41+Armavir!G41+Ararat!G41+Aragacotn!G41+Tavush!G41) -> 0 | H41: =SUM(Shirak!H41+VDz!H41+Suniq!H41+Lori!H41+Gex!H41+Kotaiq!H41+Armavir!H41+Ararat!H41+Aragacotn!H41+Tavush!H41) -> 5 | I41: =SUM(Shirak!I41+VDz!I41+Suniq!I41+Lori!I41+Gex!I41+Kotaiq!I41+Armavir!I41+Ararat!I41+Aragacotn!I41+Tavush!I41) -> 0 | J41: =SUM(Shirak!J41+VDz!J41+Suniq!J41+Lori!J41+Gex!J41+Kotaiq!J41+Armavir!J41+Ararat!J41+Aragacotn!J41+Tavush!J41) -> 20 | ... N41: =SUM(Shirak!N41+VDz!N41+Suniq!N41+Lori!N41+Gex!N41+Kotaiq!N41+Armavir!N41+Ararat!N41+Aragacotn!N41+Tavush!N41) -> 107500
B42: 33.¶áñÍ»ñ ¼²¶ê-Ç Ù³ïÛ³ÝÝ»ñáõÙ áã ×Çßï ·ñ³ÝóáõÙÝ»ñÇ í»ñ³µ»ñÛ³É ·³Ý·³ïÝ»ñÇ ³éÃÇí | C42: =SUM(Shirak!C42+VDz!C42+Suniq!C42+Lori!C42+Gex!C42+Kotaiq!C42+Armavir!C42+Ararat!C42+Aragacotn!C42+Tavush!C42) -> 2 | D42: =SUM(Shirak!D42+VDz!D42+Suniq!D42+Lori!D42+Gex!D42+Kotaiq!D42+Armavir!D42+Ararat!D42+Aragacotn!D42+Tavush!D42) -> 57 | E42: =SUM(Shirak!E42+VDz!E42+Suniq!E42+Lori!E42+Gex!E42+Kotaiq!E42+Armavir!E42+Ararat!E42+Aragacotn!E42+Tavush!E42) -> 53 | F42: =SUM(Shirak!F42+VDz!F42+Suniq!F42+Lori!F42+Gex!F42+Kotaiq!F42+Armavir!F42+Ararat!F42+Aragacotn!F42+Tavush!F42) -> 43 | G42: =SUM(Shirak!G42+VDz!G42+Suniq!G42+Lori!G42+Gex!G42+Kotaiq!G42+Armavir!G42+Ararat!G42+Aragacotn!G42+Tavush!G42) -> 0 | H42: =SUM(Shirak!H42+VDz!H42+Suniq!H42+Lori!H42+Gex!H42+Kotaiq!H42+Armavir!H42+Ararat!H42+Aragacotn!H42+Tavush!H42) -> 6 | I42: =SUM(Shirak!I42+VDz!I42+Suniq!I42+Lori!I42+Gex!I42+Kotaiq!I42+Armavir!I42+Ararat!I42+Aragacotn!I42+Tavush!I42) -> 0 | J42: =SUM(Shirak!J42+VDz!J42+Suniq!J42+Lori!J42+Gex!J42+Kotaiq!J42+Armavir!J42+Ararat!J42+Aragacotn!J42+Tavush!J42) -> 59 | ... N42: =SUM(Shirak!N42+VDz!N42+Suniq!N42+Lori!N42+Gex!N42+Kotaiq!N42+Armavir!N42+Ararat!N42+Aragacotn!N42+Tavush!N42) -> 173000
B43: 34. Ð³ïáõÏ í³ñáõÛÃÇ ³ÛÉ ·áñÍ»ñ | C43: =SUM(Shirak!C43+VDz!C43+Suniq!C43+Lori!C43+Gex!C43+Kotaiq!C43+Armavir!C43+Ararat!C43+Aragacotn!C43+Tavush!C43) -> 71 | D43: =SUM(Shirak!D43+VDz!D43+Suniq!D43+Lori!D43+Gex!D43+Kotaiq!D43+Armavir!D43+Ararat!D43+Aragacotn!D43+Tavush!D43) -> 971 | E43: =SUM(Shirak!E43+VDz!E43+Suniq!E43+Lori!E43+Gex!E43+Kotaiq!E43+Armavir!E43+Ararat!E43+Aragacotn!E43+Tavush!E43) -> 845 | F43: =SUM(Shirak!F43+VDz!F43+Suniq!F43+Lori!F43+Gex!F43+Kotaiq!F43+Armavir!F43+Ararat!F43+Aragacotn!F43+Tavush!F43) -> 823 | G43: =SUM(Shirak!G43+VDz!G43+Suniq!G43+Lori!G43+Gex!G43+Kotaiq!G43+Armavir!G43+Ararat!G43+Aragacotn!G43+Tavush!G43) -> 42 | H43: =SUM(Shirak!H43+VDz!H43+Suniq!H43+Lori!H43+Gex!H43+Kotaiq!H43+Armavir!H43+Ararat!H43+Aragacotn!H43+Tavush!H43) -> 78 | I43: =SUM(Shirak!I43+VDz!I43+Suniq!I43+Lori!I43+Gex!I43+Kotaiq!I43+Armavir!I43+Ararat!I43+Aragacotn!I43+Tavush!I43) -> 0 | J43: =SUM(Shirak!J43+VDz!J43+Suniq!J43+Lori!J43+Gex!J43+Kotaiq!J43+Armavir!J43+Ararat!J43+Aragacotn!J43+Tavush!J43) -> 965 | ... N43: =SUM(Shirak!N43+VDz!N43+Suniq!N43+Lori!N43+Gex!N43+Kotaiq!N43+Armavir!N43+Ararat!N43+Aragacotn!N43+Tavush!N43) -> 2905430
B44: 35. ÀÝ¹³Ù»ÝÁ Ñ³ïáõÏ í³ñáõÛÃÇ ·áñÍ»ñ (31-34 ïáÕ»ñ) | C44: =SUM(Shirak!C44+VDz!C44+Suniq!C44+Lori!C44+Gex!C44+Kotaiq!C44+Armavir!C44+Ararat!C44+Aragacotn!C44+Tavush!C44) -> 152 | D44: =SUM(Shirak!D44+VDz!D44+Suniq!D44+Lori!D44+Gex!D44+Kotaiq!D44+Armavir!D44+Ararat!D44+Aragacotn!D44+Tavush!D44) -> 3266 | E44: =SUM(Shirak!E44+VDz!E44+Suniq!E44+Lori!E44+Gex!E44+Kotaiq!E44+Armavir!E44+Ararat!E44+Aragacotn!E44+Tavush!E44) -> 2976 | F44: =SUM(Shirak!F44+VDz!F44+Suniq!F44+Lori!F44+Gex!F44+Kotaiq!F44+Armavir!F44+Ararat!F44+Aragacotn!F44+Tavush!F44) -> 2860 | G44: =SUM(Shirak!G44+VDz!G44+Suniq!G44+Lori!G44+Gex!G44+Kotaiq!G44+Armavir!G44+Ararat!G44+Aragacotn!G44+Tavush!G44) -> 70 | H44: =SUM(Shirak!H44+VDz!H44+Suniq!H44+Lori!H44+Gex!H44+Kotaiq!H44+Armavir!H44+Ararat!H44+Aragacotn!H44+Tavush!H44) -> 218 | I44: =SUM(Shirak!I44+VDz!I44+Suniq!I44+Lori!I44+Gex!I44+Kotaiq!I44+Armavir!I44+Ararat!I44+Aragacotn!I44+Tavush!I44) -> 9 | J44: =SUM(Shirak!J44+VDz!J44+Suniq!J44+Lori!J44+Gex!J44+Kotaiq!J44+Armavir!J44+Ararat!J44+Aragacotn!J44+Tavush!J44) -> 3273 | ... N44: =SUM(Shirak!N44+VDz!N44+Suniq!N44+Lori!N44+Gex!N44+Kotaiq!N44+Armavir!N44+Ararat!N44+Aragacotn!N44+Tavush!N44) -> 8468030
A45: 36. ÀÝ¹³Ù»ÝÁ ù³Õ³ù³óÇ³Ï³Ý ·áñÍ»ñ (26, 30, 35) | C45: =SUM(Shirak!C45+VDz!C45+Suniq!C45+Lori!C45+Gex!C45+Kotaiq!C45+Armavir!C45+Ararat!C45+Aragacotn!C45+Tavush!C45) -> 1339 | D45: =SUM(Shirak!D45+VDz!D45+Suniq!D45+Lori!D45+Gex!D45+Kotaiq!D45+Armavir!D45+Ararat!D45+Aragacotn!D45+Tavush!D45) -> 18380 | E45: =SUM(Shirak!E45+VDz!E45+Suniq!E45+Lori!E45+Gex!E45+Kotaiq!E45+Armavir!E45+Ararat!E45+Aragacotn!E45+Tavush!E45) -> 14112 | F45: =SUM(Shirak!F45+VDz!F45+Suniq!F45+Lori!F45+Gex!F45+Kotaiq!F45+Armavir!F45+Ararat!F45+Aragacotn!F45+Tavush!F45) -> 11486 | G45: =SUM(Shirak!G45+VDz!G45+Suniq!G45+Lori!G45+Gex!G45+Kotaiq!G45+Armavir!G45+Ararat!G45+Aragacotn!G45+Tavush!G45) -> 1563 | H45: =SUM(Shirak!H45+VDz!H45+Suniq!H45+Lori!H45+Gex!H45+Kotaiq!H45+Armavir!H45+Ararat!H45+Aragacotn!H45+Tavush!H45) -> 1908 | I45: =SUM(Shirak!I45+VDz!I45+Suniq!I45+Lori!I45+Gex!I45+Kotaiq!I45+Armavir!I45+Ararat!I45+Aragacotn!I45+Tavush!I45) -> 240 | J45: =SUM(Shirak!J45+VDz!J45+Suniq!J45+Lori!J45+Gex!J45+Kotaiq!J45+Armavir!J45+Ararat!J45+Aragacotn!J45+Tavush!J45) -> 17823 | ... N45: =SUM(Shirak!N45+VDz!N45+Suniq!N45+Lori!N45+Gex!N45+Kotaiq!N45+Armavir!N45+Ararat!N45+Aragacotn!N45+Tavush!N45) -> 64247437

Sheet Erevan
A1: Ð²ÞìºîìàôÂÚàôÜ
A2: ø²Ô²ø²ø²òÆ²Î²Ü ¶àðÌºðÆ øÜÜàôÂÚ²Ü ìºð²´ºðÚ²È
A3: ºñ¨³Ý ù³Õ³ùÇ ³é³çÇÝ ³ïÛ³ÝÇ ¹³ï³ñ³ÝÝ»ñÇ
A4: 2007Ã. Ñ³Ù³ñ
A6: ¦²§ µ³ÅÝÇ í»ñ³µ»ñÛ³É ëïáõ·Çã Ñ³í³ë³ñáõÙÝ»ñ 1 ¨ 2 ëÛáõÝ³ÏÝ»ñÇ Ãí»ñÇ ·áõÙ³ñÁ Ñ³í³ë³ñ ¿ 8 ¨ 10 ëÛáõÝ³ÏÝ»ñÇ Ãí»ñÇ ·áõÙ³ñÇÝ: 8 ëÛáõÝ³ÏÇ ÃÇíÁ Ñ³í³ë³ñ ¿ 3,5-7 ëÛáõÝ³ÏÝ»ñÇ Ãí»ñÇ ·áõÙ³ñÇÝ: | E6: ² ù³Õ³ù³óÇ³Ï³Ý ·áñÍ»ñÇ ß³ñÅÁ
E7: ²í³ñïí»É »Ý ·áñÍ»ñ Ñ³ßí»ïáõ Å³Ù³Ý³Ï³ßñç³ÝáõÙ
C8: ²Ý³í³ñï ·áñÍ»ñÇ ÙÝ³óáñ¹Á Ñ³ßí»ïáõ Å³Ù³Ý³Ï³ßñç³ÝÇ ëÏ½µáõÙ | D8: êï³óí»É »Ý ·áñÍ»ñ Ñ³ßí»ïáõ Å³Ù³Ý³Ï³ßñç³ÝáõÙ | E8: ÀÝ¹³Ù»ÝÁ ùÝÝí»É »Ý ·áñÍ»ñ í×éÇ Ï³Û³óáõÙáí | F8: ²Û¹ ÃíáõÙ Ñ³ÛóÇ µ³í³ñ³ñÙ³Ùµ | G8: Î³ñ×í»É »Ý ·áñÍ»ñ í×éÇ Ï³Û³óáõÙáí | H8: Ð³Ûó»ñÁ ÃáÕÝí»É »Ý ³é³Ýó ùÝÝáõÃÛ³Ý | I8: ¶áñÍ»ñÁ Ñ³ÝÓÝí»É »Ý ³ÛÉ ¹³ï³ñ³ÝÝ»ñÇ | J8: ÀÝ¹³Ù»ÝÁ ³í³ñïí»É »Ý ·áñÍ»ñ (3, 5-7 ëÛáõÝ³ÏÝ»ñ) | K8: ²Û¹ ÃíáõÙ ù³Õ, ¹³ï, ûñ-áí Ý³Ë³ï»ëí³ÍÇó ³í»ÉÇ Å³ÙÏ»ïáõÙ | L8: ²Ý³í³ñï ·áñÍ»ñÇ ÙÝ³óáñ¹Á Ñ³ßí»ïáõ Å³Ù³Ý³Ï³ßñç³ÝÇ í»ñçáõÙ | M8: ²Û¹ ÃíáõÙ ·ïÝíáõÙ »Ý 3 ³ÙëÇó ³í»ÉÇ (Ï³ë»óí³Í ·áñÍ»ñÇ Ñ»ï Ù»Ïï»Õ) | N8: ä»ïáõÃÛ³Ý û·ïÇÝ ÙáõÍí³Í å»ï³Ï³Ý ïáõñùÇ ã³÷Á (¹ñ³Ùáí)
C9: 1 | D9: 2 | E9: 3 | F9: 4 | G9: 5 | H9: 6 | I9: 7 | J9: 8 | K9: 9 | L9: 10 | M9: 11 | N9: 12
A10: 1. ²½³ïí³ÍÝ»ñÇÝ ³ßË³ï³ÝùáõÙ í»ñ³Ï³Ý·Ý»Éáõ í»ñ³µ»ñÛ³É Ñ³Ûó»ñ | C10: =SUM(Adjapniak!C10+Shengavit!C10+Kentron!C10+Arabkir!C10+Erebuni!C10+Avan!C10+Malatia!C10) -> 18 | D10: =SUM(Adjapniak!D10+Shengavit!D10+Kentron!D10+Arabkir!D10+Erebuni!D10+Avan!D10+Malatia!D10) -> 67 | E10: =SUM(Adjapniak!E10+Shengavit!E10+Kentron!E10+Arabkir!E10+Erebuni!E10+Avan!E10+Malatia!E10) -> 49 | F10: =SUM(Adjapniak!F10+Shengavit!F10+Kentron!F10+Arabkir!F10+Erebuni!F10+Avan!F10+Malatia!F10) -> 20 | G10: =SUM(Adjapniak!G10+Shengavit!G10+Kentron!G10+Arabkir!G10+Erebuni!G10+Avan!G10+Malatia!G10) -> 6 | H10: =SUM(Adjapniak!H10+Shengavit!H10+Kentron!H10+Arabkir!H10+Erebuni!H10+Avan!H10+Malatia!H10) -> 7 | I10: =SUM(Adjapniak!I10+Shengavit!I10+Kentron!I10+Arabkir!I10+Erebuni!I10+Avan!I10+Malatia!I10) -> 3 | J10: =SUM(Adjapniak!J10+Shengavit!J10+Kentron!J10+Arabkir!J10+Erebuni!J10+Avan!J10+Malatia!J10) -> 65 | ... N10: =SUM(Adjapniak!N10+Shengavit!N10+Kentron!N10+Arabkir!N10+Erebuni!N10+Avan!N10+Malatia!N10) -> 0
A11: 2. ´³ÝíáñÝ»ñÇ ¨ Í³é³ÛáÕÝ»ñÇ ³ÛÉ ³ßË³ï³Ýù³ÛÇÝ í»×»ñ | C11: =SUM(Adjapniak!C11+Shengavit!C11+Kentron!C11+Arabkir!C11+Erebuni!C11+Avan!C11+Malatia!C11) -> 51 | D11: =SUM(Adjapniak!D11+Shengavit!D11+Kentron!D11+Arabkir!D11+Erebuni!D11+Avan!D11+Malatia!D11) -> 521 | E11: =SUM(Adjapniak!E11+Shengavit!E11+Kentron!E11+Arabkir!E11+Erebuni!E11+Avan!E11+Malatia!E11) -> 449 | F11: =SUM(Adjapniak!F11+Shengavit!F11+Kentron!F11+Arabkir!F11+Erebuni!F11+Avan!F11+Malatia!F11) -> 424 | G11: =SUM(Adjapniak!G11+Shengavit!G11+Kentron!G11+Arabkir!G11+Erebuni!G11+Avan!G11+Malatia!G11) -> 20 | H11: =SUM(Adjapniak!H11+Shengavit!H11+Kentron!H11+Arabkir!H11+Erebuni!H11+Avan!H11+Malatia!H11) -> 47 | I11: =SUM(Adjapniak!I11+Shengavit!I11+Kentron!I11+Arabkir!I11+Erebuni!I11+Avan!I11+Malatia!I11) -> 2 | J11: =SUM(Adjapniak!J11+Shengavit!J11+Kentron!J11+Arabkir!J11+Erebuni!J11+Avan!J11+Malatia!J11) -> 518 | ... N11: =SUM(Adjapniak!N11+Shengavit!N11+Kentron!N11+Arabkir!N11+Erebuni!N11+Avan!N11+Malatia!N11) -> 261642
A12: 3. ²ßË.å³ñï³Ï³ÝáõÃ. Ï³ï³ñ»ÉÇë µ³Ýí.¨ Í³é³ÛáÕÝ»ñÇ ÏáÕÙÇó ÝÛáõÃ. íÝ³ëÇ Ñ³ïáõóÙ³Ý í»ñ³µ»ñÛ³É (³ßË, ûñ, 129-134 ÑÑ) Ñ³Ûó»ñ | C12: =SUM(Adjapniak!C12+Shengavit!C12+Kentron!C12+Arabkir!C12+Erebuni!C12+Avan!C12+Malatia!C12) -> 1 | D12: =SUM(Adjapniak!D12+Shengavit!D12+Kentron!D12+Arabkir!D12+Erebuni!D12+Avan!D12+Malatia!D12) -> 18 | E12: =SUM(Adjapniak!E12+Shengavit!E12+Kentron!E12+Arabkir!E12+Erebuni!E12+Avan!E12+Malatia!E12) -> 11 | F12: =SUM(Adjapniak!F12+Shengavit!F12+Kentron!F12+Arabkir!F12+Erebuni!F12+Avan!F12+Malatia!F12) -> 11 | G12: =SUM(Adjapniak!G12+Shengavit!G12+Kentron!G12+Arabkir!G12+Erebuni!G12+Avan!G12+Malatia!G12) -> 0 | H12: =SUM(Adjapniak!H12+Shengavit!H12+Kentron!H12+Arabkir!H12+Erebuni!H12+Avan!H12+Malatia!H12) -> 5 | I12: =SUM(Adjapniak!I12+Shengavit!I12+Kentron!I12+Arabkir!I12+Erebuni!I12+Avan!I12+Malatia!I12) -> 0 | J12: =SUM(Adjapniak!J12+Shengavit!J12+Kentron!J12+Arabkir!J12+Erebuni!J12+Avan!J12+Malatia!J12) -> 16 | ... N12: =SUM(Adjapniak!N12+Shengavit!N12+Kentron!N12+Arabkir!N12+Erebuni!N12+Avan!N12+Malatia!N12) -> 16000
A13: 4. ¶ÛáõÕ. ÏáÉ»ÏïÇí ïÝï»ëáõÃÛ³Ý ³Ý¹³ÙÝ»ñÇ ÏáÕÙÇó Ý»ñÏ³Û³óí³Í Ñ³Ûó»ñ | C13: =SUM(Adjapniak!C13+Shengavit!C13+Kentron!C13+Arabkir!C13+Erebuni!C13+Avan!C13+Malatia!C13) -> 0 | D13: =SUM(Adjapniak!D13+Shengavit!D13+Kentron!D13+Arabkir!D13+Erebuni!D13+Avan!D13+Malatia!D13) -> 0 | E13: =SUM(Adjapniak!E13+Shengavit!E13+Kentron!E13+Arabkir!E13+Erebuni!E13+Avan!E13+Malatia!E13) -> 0 | F13: =SUM(Adjapniak!F13+Shengavit!F13+Kentron!F13+Arabkir!F13+Erebuni!F13+Avan!F13+Malatia!F13) -> 0 | G13: =SUM(Adjapniak!G13+Shengavit!G13+Kentron!G13+Arabkir!G13+Erebuni!G13+Avan!G13+Malatia!G13) -> 0 | H13: =SUM(Adjapniak!H13+Shengavit!H13+Kentron!H13+Arabkir!H13+Erebuni!H13+Avan!H13+Malatia!H13) -> 0 | I13: =SUM(Adjapniak!I13+Shengavit!I13+Kentron!I13+Arabkir!I13+Erebuni!I13+Avan!I13+Malatia!I13) -> 0 | J13: =SUM(Adjapniak!J13+Shengavit!J13+Kentron!J13+Arabkir!J13+Erebuni!J13+Avan!J13+Malatia!J13) -> 0 | ... N13: =SUM(Adjapniak!N13+Shengavit!N13+Kentron!N13+Arabkir!N13+Erebuni!N13+Avan!N13+Malatia!N13) -> 0
A14: 5. ºñ»Ë³Ý»ñÇÝ å³Ñ»Éáõ Ñ³Ù³ñ ³ÉÇÙ»ÝïÇ µéÝ³·³ÝÓÙ³Ý í»ñ³µ»ñÛ³É Ñ³Ûó»ñ | C14: =SUM(Adjapniak!C14+Shengavit!C14+Kentron!C14+Arabkir!C14+Erebuni!C14+Avan!C14+Malatia!C14) -> 48 | D14: =SUM(Adjapniak!D14+Shengavit!D14+Kentron!D14+Arabkir!D14+Erebuni!D14+Avan!D14+Malatia!D14) -> 491 | E14: =SUM(Adjapniak!E14+Shengavit!E14+Kentron!E14+Arabkir!E14+Erebuni!E14+Avan!E14+Malatia!E14) -> 351 | F14: =SUM(Adjapniak!F14+Shengavit!F14+Kentron!F14+Arabkir!F14+Erebuni!F14+Avan!F14+Malatia!F14) -> 324 | G14: =SUM(Adjapniak!G14+Shengavit!G14+Kentron!G14+Arabkir!G14+Erebuni!G14+Avan!G14+Malatia!G14) -> 44 | H14: =SUM(Adjapniak!H14+Shengavit!H14+Kentron!H14+Arabkir!H14+Erebuni!H14+Avan!H14+Malatia!H14) -> 74 | I14: =SUM(Adjapniak!I14+Shengavit!I14+Kentron!I14+Arabkir!I14+Erebuni!I14+Avan!I14+Malatia!I14) -> 2 | J14: =SUM(Adjapniak!J14+Shengavit!J14+Kentron!J14+Arabkir!J14+Erebuni!J14+Avan!J14+Malatia!J14) -> 471 | ... N14: =SUM(Adjapniak!N14+Shengavit!N14+Kentron!N14+Arabkir!N14+Erebuni!N14+Avan!N14+Malatia!N14) -> 104320
A15: 6. Ð³ÛñáõÃÛ³Ý Ñ³ëï³ïÙ³Ý í»ñ³µ»ñÛ³É Ñ³Ûó»ñ | C15: =SUM(Adjapniak!C15+Shengavit!C15+Kentron!C15+Arabkir!C15+Erebuni!C15+Avan!C15+Malatia!C15) -> 5 | D15: =SUM(Adjapniak!D15+Shengavit!D15+Kentron!D15+Arabkir!D15+Erebuni!D15+Avan!D15+Malatia!D15) -> 42 | E15: =SUM(Adjapniak!E15+Shengavit!E15+Kentron!E15+Arabkir!E15+Erebuni!E15+Avan!E15+Malatia!E15) -> 32 | F15: =SUM(Adjapniak!F15+Shengavit!F15+Kentron!F15+Arabkir!F15+Erebuni!F15+Avan!F15+Malatia!F15) -> 28 | G15: =SUM(Adjapniak!G15+Shengavit!G15+Kentron!G15+Arabkir!G15+Erebuni!G15+Avan!G15+Malatia!G15) -> 2 | H15: =SUM(Adjapniak!H15+Shengavit!H15+Kentron!H15+Arabkir!H15+Erebuni!H15+Avan!H15+Malatia!H15) -> 10 | I15: =SUM(Adjapniak!I15+Shengavit!I15+Kentron!I15+Arabkir!I15+Erebuni!I15+Avan!I15+Malatia!I15) -> 1 | J15: =SUM(Adjapniak!J15+Shengavit!J15+Kentron!J15+Arabkir!J15+Erebuni!J15+Avan!J15+Malatia!J15) -> 45 | ... N15: =SUM(Adjapniak!N15+Shengavit!N15+Kentron!N15+Arabkir!N15+Erebuni!N15+Avan!N15+Malatia!N15) -> 124000
