Workbook

Sheet Ընդհանուր
A1: 2017թ. | D1: ՀԱՇՎԵՏՎՈՒԹՅՈՒՆ
A2: ՀՀ ԱՐՄԱՎԻՐԻ ՄԱՐԶԻ ԸՆԴՀԱՆՈՒՐ ԻՐԱՎԱՍՈՒԹՅԱՆ ԱՌԱՋԻՆ ԱՏՅԱՆԻ ԴԱՏԱՐԱՆԻ ԳՈՐԾՈՒՆԵՈՒԹՅԱՆ ՎԵՐԱԲԵՐՅԱԼ
A3: ՔՐԵԱԿԱՆ ԳՈՐԾԵՐ
A4: ՀՀ Արմավիրի մարզի ընդհանուր իրավասության առաջին ատյանի դատարանում քրեական մասնագիտացում ունեցող դատավորների հաստիքների քանակը` 3
C5: ՀՀ քրեական օրենսգրքի հոդվածներ | D5: Հաշվետու ժամանակահատվածի սկզբում նախորդ հաշվետու ժամանակահատվածից փոխանցված գործերի ընդհանուր թիվը | E5: Այդ թվում` կասեցված վիճակում փոխանցված | F5: Հաշվետու ժամանակահատվածում ստացված գործերի ընդհանուր թիվը | G5: Փոխանցվել է այլ դատավորի (կազմի փոփոխություն) | H5: Հաշվետու ժամանակահատվածում ավարտված գործերի ընդհանուր թիվը | L5: ՈՒղարկվել է ըստ ընդդատության | M5: Հաշվետու ժամանակահատվածում կասեցված վարույթներով գործերի ընդհանուր թիվը | N5: Հաշվետու ժամանակահատվածում անավարտ գործերի ընդհանուր թիվը | O5: Այդ թվում՝ կասեցված | P5: Բողոքարկված դատական ակտերը | U5: ավարտված դատական գործերի բողոքարկման տոկոսը (հաշվետու ժամանակաշրջանում) | V5: Անավարտ բողոքներ | W5: Բեկանված դատական ակտերը | AB5: բեկանումների տոկոսը ավարտված գործերից(հաշվետու ժամանակահատվածում) | AC5: Կայունության տոկոսը ավարտված գործերից(հաշվետու ժամանակահատվածում) | AD5: բեկանումների տոկոսը բողոքարկված գործերից(հաշվետու ժամանակահատվածում) | AE5: կայունության տոկոսը բողոքարկված գործերից (հաշվետու ժամանակահատվածում)
H6: Քննվել է ըստ էության և դատավճիռ կայացվել | I6: Որոշում է կայացվել քրեական գործի վարույթը կարճելու և քրեական հետապնդումը դադարեցնելու մասին | J6: Որոշում է կայացվել անմեղսունակների նկատմամբ բժշկական բնույթի հարկադրական միջոցներ կիրառելու մասին | K6: Ընդամենը ավարտվել են գործեր | P6: Այդ թվում` գործն ըստ էության լուծող դատական ակտերը | R6: Այդ թվում` միջանկյալ դատական ակտերը | T6: Ընդամեն բողոքարկվել են ակտեր | W6: Այդ թվում` գործն ըստ էության լուծող դատական ակտերը | Y6: Այդ թվում` միջանկյալ դատական ակտերը | AA6: Ընդամենը բեկանվել են ակտեր
P7: նախորդ տարիներին կայացված ակտերի բողոքարկումը | Q7: հաշվետու ժամանակահատվածում կայացված ակտերի բողոքարկումը | R7: նախորդ տարիներին կայացված ակտերի բողոքարկումը | S7: հաշվետու ժամանակահատվածում կայացված ակտերի բողոքարկումը | W7: նախորդ տարիներին կայացված ակտերի բեկանումները | X7: հաշվետու ժամանակահատվածում կայացված ակտերի բեկանումները | Y7: նախորդ տարիներին կայացված ակտերի բեկանումները | Z7: հաշվետու ժամանակահատվածում կայացված ակտերի բեկանումները
D8: 1 | E8: 2 | F8: 3 | G8: 4 | H8: 5 | I8: 6 | J8: 7 | K8: 8 | L8: 9 | M8: 10 | N8: 11 | O8: 12 | P8: 13 | Q8: 14 | R8: 15 | S8: 16 | T8: 17 | U8: 18 | V8: 19 | W8: 20 | X8: 21 | Y8: 22 | Z8: 23 | AA8: 24 | AB8: 25 | AC8: 26 | AD8: 27 | AE8: 28 | AF8: 1+3=4+8+9+11 | AH8: 8=5+6+7 | AJ8: 17=13+14+15+16 | AL8: 24=20+21+22+23
A9: 1. | B9: Ընդամենը կյանքի և առողջության դեմ ուղղված հանցագործությունները | D9: =SUM(D10:D36) -> 21 | E9: =SUM(E10:E36) -> 1 | F9: =SUM(F10:F36) -> 48 | G9: =SUM(G10:G36) -> 0 | H9: =SUM(H10:H36) -> 19 | I9: =SUM(I10:I36) -> 8 | J9: =SUM(J10:J36) -> 0 | K9: =SUM(K10:K36) -> 27 | ... AM9: =SUM(AM10:AM36) -> 0
A10: 1.1 | B10: Սպանությունը | C10: 104 | D10: =SUM('Վ. Խալաթյան:Հ. Սարգսյան'!D10) -> 4 | E10: =SUM('Վ. Խալաթյան:Հ. Սարգսյան'!E10) -> 0 | F10: =SUM('Վ. Խալաթյան:Հ. Սարգսյան'!F10) -> 7 | G10: =SUM('Վ. Խալաթյան:Հ. Սարգսյան'!G10) -> 0 | H10: =SUM('Վ. Խալաթյան:Հ. Սարգսյան'!H10) -> 4 | I10: =SUM('Վ. Խալաթյան:Հ. Սարգսյան'!I10) -> 0 | J10: =SUM('Վ. Խալաթյան:Հ. Սարգսյան'!J10) -> 0 | K10: =SUM('Վ. Խալաթյան:Հ. Սարգսյան'!K10) -> 4 | ... AE10: =SUM('Վ. Խալաթյան:Հ. Սարգսյան'!AE10) -> 0 | AF10: =D10+F10 -> 11 | AG10: =G10+K10+L10+N10 -> 11 | AH10: =K10 -> 4 | AI10: =H10+I10+J10 -> 4 | AJ10: =T10 -> 4 | AK10: =P10+Q10+R10+S10 -> 4 | AL10: =AA10 -> 0 | AM10: =W10+X10+Y10+Z10 -> 0
A11: 1.2 | B11: Հոգեկան խիստ հուզմունքի վիճակում կատարված սպանությունը | C11: 105 | D11: =SUM('Վ. Խալաթյան:Հ. Սարգսյան'!D11) -> 1 | E11: =SUM('Վ. Խալաթյան:Հ. Սարգսյան'!E11) -> 0 | F11: =SUM('Վ. Խալաթյան:Հ. Սարգսյան'!F11) -> 0 | G11: =SUM('Վ. Խալաթյան:Հ. Սարգսյան'!G11) -> 0 | H11: =SUM('Վ. Խալաթյան:Հ. Սարգսյան'!H11) -> 0 | I11: =SUM('Վ. Խալաթյան:Հ. Սարգսյան'!I11) -> 0 | J11: =SUM('Վ. Խալաթյան:Հ. Սարգսյան'!J11) -> 0 | K11: =SUM('Վ. Խալաթյան:Հ. Սարգսյան'!K11) -> 0 | ... AE11: =SUM('Վ. Խալաթյան:Հ. Սարգսյան'!AE11) -> 0 | AF11: =D11+F11 -> 1 | AG11: =G11+K11+L11+N11 -> 1 | AH11: =K11 -> 0 | AI11: =H11+I11+J11 -> 0 | AJ11: =T11 -> 0 | AK11: =P11+Q11+R11+S11 -> 0 | AL11: =AA11 -> 0 | AM11: =W11+X11+Y11+Z11 -> 0
A12: 1.3 | B12: Մոր կողմից նորածին երեխայի սպանությունը | C12: 106 | D12: =SUM('Վ. Խալաթյան:Հ. Սարգսյան'!D12) -> 0 | E12: =SUM('Վ. Խալաթյան:Հ. Սարգսյան'!E12) -> 0 | F12: =SUM('Վ. Խալաթյան:Հ. Սարգսյան'!F12) -> 0 | G12: =SUM('Վ. Խալաթյան:Հ. Սարգսյան'!G12) -> 0 | H12: =SUM('Վ. Խալաթյան:Հ. Սարգսյան'!H12) -> 0 | I12: =SUM('Վ. Խալաթյան:Հ. Սարգսյան'!I12) -> 0 | J12: =SUM('Վ. Խալաթյան:Հ. Սարգսյան'!J12) -> 0 | K12: =SUM('Վ. Խալաթյան:Հ. Սարգսյան'!K12) -> 0 | ... AE12: =SUM('Վ. Խալաթյան:Հ. Սարգսյան'!AE12) -> 0 | AF12: =D12+F12 -> 0 | AG12: =G12+K12+L12+N12 -> 0 | AH12: =K12 -> 0 | AI12: =H12+I12+J12 -> 0 | AJ12: =T12 -> 0 | AK12: =P12+Q12+R12+S12 -> 0 | AL12: =AA12 -> 0 | AM12: =W12+X12+Y12+Z12 -> 0
A13: 1.4 | B13: Հանցանք կատարած անձին բռնելու համար անհրաժեշտ միջոցների սահմանազանցմամբ սպանությունը | C13: 107 | D13: =SUM('Վ. Խալաթյան:Հ. Սարգսյան'!D13) -> 0 | E13: =SUM('Վ. Խալաթյան:Հ. Սարգսյան'!E13) -> 0 | F13: =SUM('Վ. Խալաթյան:Հ. Սարգսյան'!F13) -> 0 | G13: =SUM('Վ. Խալաթյան:Հ. Սարգսյան'!G13) -> 0 | H13: =SUM('Վ. Խալաթյան:Հ. Սարգսյան'!H13) -> 0 | I13: =SUM('Վ. Խալաթյան:Հ. Սարգսյան'!I13) -> 0 | J13: =SUM('Վ. Խալաթյան:Հ. Սարգսյան'!J13) -> 0 | K13: =SUM('Վ. Խալաթյան:Հ. Սարգսյան'!K13) -> 0 | ... AE13: =SUM('Վ. Խալաթյան:Հ. Սարգսյան'!AE13) -> 0 | AF13: =D13+F13 -> 0 | AG13: =G13+K13+L13+N13 -> 0 | AH13: =K13 -> 0 | AI13: =H13+I13+J13 -> 0 | AJ13: =T13 -> 0 | AK13: =P13+Q13+R13+S13 -> 0 | AL13: =AA13 -> 0 | AM13: =W13+X13+Y13+Z13 -> 0
A14: 1.5 | B14: Անհրաժեշտ պաշտպանության սահմանազանցմամբ սպանությունը | C14: 108 | D14: =SUM('Վ. Խալաթյան:Հ. Սարգսյան'!D14) -> 0 | E14: =SUM('Վ. Խալաթյան:Հ. Սարգսյան'!E14) -> 0 | F14: =SUM('Վ. Խալաթյան:Հ. Սարգսյան'!F14) -> 0 | G14: =SUM('Վ. Խալաթյան:Հ. Սարգսյան'!G14) -> 0 | H14: =SUM('Վ. Խալաթյան:Հ. Սարգսյան'!H14) -> 0 | I14: =SUM('Վ. Խալաթյան:Հ. Սարգսյան'!I14) -> 0 | J14: =SUM('Վ. Խալաթյան:Հ. Սարգսյան'!J14) -> 0 | K14: =SUM('Վ. Խալաթյան:Հ. Սարգսյան'!K14) -> 0 | ... AE14: =SUM('Վ. Խալաթյան:Հ. Սարգսյան'!AE14) -> 0 | AF14: =D14+F14 -> 0 | AG14: =G14+K14+L14+N14 -> 0 | AH14: =K14 -> 0 | AI14: =H14+I14+J14 -> 0 | AJ14: =T14 -> 0 | AK14: =P14+Q14+R14+S14 -> 0 | AL14: =AA14 -> 0 | AM14: =W14+X14+Y14+Z14 -> 0
A15: 1.6 | B15: Անզգուշությամբ մահ պատճառելը | C15: 109 | D15: =SUM('Վ. Խալաթյան:Հ. Սարգսյան'!D15) -> 0 | E15: =SUM('Վ. Խալաթյան:Հ. Սարգսյան'!E15) -> 0 | F15: =SUM('Վ. Խալաթյան:Հ. Սարգսյան'!F15) -> 0 | G15: =SUM('Վ. Խալաթյան:Հ. Սարգսյան'!G15) -> 0 | H15: =SUM('Վ. Խալաթյան:Հ. Սարգսյան'!H15) -> 0 | I15: =SUM('Վ. Խալաթյան:Հ. Սարգսյան'!I15) -> 0 | J15: =SUM('Վ. Խալաթյան:Հ. Սարգսյան'!J15) -> 0 | K15: =SUM('Վ. Խալաթյան:Հ. Սարգսյան'!K15) -> 0 | ... AE15: =SUM('Վ. Խալաթյան:Հ. Սարգսյան'!AE15) -> 0 | AF15: =D15+F15 -> 0 | AG15: =G15+K15+L15+N15 -> 0 | AH15: =K15 -> 0 | AI15: =H15+I15+J15 -> 0 | AJ15: =T15 -> 0 | AK15: =P15+Q15+R15+S15 -> 0 | AL15: =AA15 -> 0 | AM15: =W15+X15+Y15+Z15 -> 0
A16: 1.7 | B16: Ինքնասպանության հասցնելը | C16: 110 | D16: =SUM('Վ. Խալաթյան:Հ. Սարգսյան'!D16) -> 0 | E16: =SUM('Վ. Խալաթյան:Հ. Սարգսյան'!E16) -> 0 | F16: =SUM('Վ. Խալաթյան:Հ. Սարգսյան'!F16) -> 0 | G16: =SUM('Վ. Խալաթյան:Հ. Սարգսյան'!G16) -> 0 | H16: =SUM('Վ. Խալաթյան:Հ. Սարգսյան'!H16) -> 0 | I16: =SUM('Վ. Խալաթյան:Հ. Սարգսյան'!I16) -> 0 | J16: =SUM('Վ. Խալաթյան:Հ. Սարգսյան'!J16) -> 0 | K16: =SUM('Վ. Խալաթյան:Հ. Սարգսյան'!K16) -> 0 | ... AE16: =SUM('Վ. Խալաթյան:Հ. Սարգսյան'!AE16) -> 0 | AF16: =D16+F16 -> 0 | AG16: =G16+K16+L16+N16 -> 0 | AH16: =K16 -> 0 | AI16: =H16+I16+J16 -> 0 | AJ16: =T16 -> 0 | AK16: =P16+Q16+R16+S16 -> 0 | AL16: =AA16 -> 0 | AM16: =W16+X16+Y16+Z16 -> 0
A17: 1.8 | B17: Ինքնասպանության հակելը | C17: 111 | D17: =SUM('Վ. Խալաթյան:Հ. Սարգսյան'!D17) -> 0 | E17: =SUM('Վ. Խալաթյան:Հ. Սարգսյան'!E17) -> 0 | F17: =SUM('Վ. Խալաթյան:Հ. Սարգսյան'!F17) -> 0 | G17: =SUM('Վ. Խալաթյան:Հ. Սարգսյան'!G17) -> 0 | H17: =SUM('Վ. Խալաթյան:Հ. Սարգսյան'!H17) -> 0 | I17: =SUM('Վ. Խալաթյան:Հ. Սարգսյան'!I17) -> 0 | J17: =SUM('Վ. Խալաթյան:Հ. Սարգսյան'!J17) -> 0 | K17: =SUM('Վ. Խալաթյան:Հ. Սարգսյան'!K17) -> 0 | ... AE17: =SUM('Վ. Խալաթյան:Հ. Սարգսյան'!AE17) -> 0 | AF17: =D17+F17 -> 0 | AG17: =G17+K17+L17+N17 -> 0 | AH17: =K17 -> 0 | AI17: =H17+I17+J17 -> 0 | AJ17: =T17 -> 0 | AK17: =P17+Q17+R17+S17 -> 0 | AL17: =AA17 -> 0 | AM17: =W17+X17+Y17+Z17 -> 0
A18: 1.9 | B18: Դիտավորությամբ առողջությանը ծանր վնաս պատճառելը | C18: 112 | D18: =SUM('Վ. Խալաթյան:Հ. Սարգսյան'!D18) -> 8 | E18: =SUM('Վ. Խալաթյան:Հ. Սարգսյան'!E18) -> 0 | F18: =SUM('Վ. Խալաթյան:Հ. Սարգսյան'!F18) -> 14 | G18: =SUM('Վ. Խալաթյան:Հ. Սարգսյան'!G18) -> 0 | H18: =SUM('Վ. Խալաթյան:Հ. Սարգսյան'!H18) -> 8 | I18: =SUM('Վ. Խալաթյան:Հ. Սարգսյան'!I18) -> 0 | J18: =SUM('Վ. Խալաթյան:Հ. Սարգսյան'!J18) -> 0 | K18: =SUM('Վ. Խալաթյան:Հ. Սարգսյան'!K18) -> 8 | ... AE18: =SUM('Վ. Խալաթյան:Հ. Սարգսյան'!AE18) -> 0 | AF18: =D18+F18 -> 22 | AG18: =G18+K18+L18+N18 -> 22 | AH18: =K18 -> 8 | AI18: =H18+I18+J18 -> 8 | AJ18: =T18 -> 3 | AK18: =P18+Q18+R18+S18 -> 3 | AL18: =AA18 -> 0 | AM18: =W18+X18+Y18+Z18 -> 0
A19: 1.10 | B19: Դիտավորությամբ առողջությանը միջին ծանրության վնաս պատճառելը | C19: 113 | D19: =SUM('Վ. Խալաթյան:Հ. Սարգսյան'!D19) -> 2 | E19: =SUM('Վ. Խալաթյան:Հ. Սարգսյան'!E19) -> 0 | F19: =SUM('Վ. Խալաթյան:Հ. Սարգսյան'!F19) -> 2 | G19: =SUM('Վ. Խալաթյան:Հ. Սարգսյան'!G19) -> 0 | H19: =SUM('Վ. Խալաթյան:Հ. Սարգսյան'!H19) -> 0 | I19: =SUM('Վ. Խալաթյան:Հ. Սարգսյան'!I19) -> 0 | J19: =SUM('Վ. Խալաթյան:Հ. Սարգսյան'!J19) -> 0 | K19: =SUM('Վ. Խալաթյան:Հ. Սարգսյան'!K19) -> 0 | ... AE19: =SUM('Վ. Խալաթյան:Հ. Սարգսյան'!AE19) -> 0 | AF19: =D19+F19 -> 4 | AG19: =G19+K19+L19+N19 -> 4 | AH19: =K19 -> 0 | AI19: =H19+I19+J19 -> 0 | AJ19: =T19 -> 1 | AK19: =P19+Q19+R19+S19 -> 1 | AL19: =AA19 -> 0 | AM19: =W19+X19+Y19+Z19 -> 0
A20: 1.11 | B20: Հոգեկան խիստ հուզմունքի վիճակում առողջությանը ծանր կամ միջին ծանրության վնաս պատճառելը | C20: 114 | D20: =SUM('Վ. Խալաթյան:Հ. Սարգսյան'!D20) -> 1 | E20: =SUM('Վ. Խալաթյան:Հ. Սարգսյան'!E20) -> 1 | F20: =SUM('Վ. Խալաթյան:Հ. Սարգսյան'!F20) -> 0 | G20: =SUM('Վ. Խալաթյան:Հ. Սարգսյան'!G20) -> 0 | H20: =SUM('Վ. Խալաթյան:Հ. Սարգսյան'!H20) -> 0 | I20: =SUM('Վ. Խալաթյան:Հ. Սարգսյան'!I20) -> 1 | J20: =SUM('Վ. Խալաթյան:Հ. Սարգսյան'!J20) -> 0 | K20: =SUM('Վ. Խալաթյան:Հ. Սարգսյան'!K20) -> 1 | ... AE20: =SUM('Վ. Խալաթյան:Հ. Սարգսյան'!AE20) -> 0 | AF20: =D20+F20 -> 1 | AG20: =G20+K20+L20+N20 -> 1 | AH20: =K20 -> 1 | AI20: =H20+I20+J20 -> 1 | AJ20: =T20 -> 0 | AK20: =P20+Q20+R20+S20 -> 0 | AL20: =AA20 -> 0 | AM20: =W20+X20+Y20+Z20 -> 0
A21: 1.12 | B21: Հանցանք կատարած անձին բռնելու համար անհրաժեշտ միջոցների սահմանզանցմամբ առողջությանը ծանր կամ միջին ծանրության վնաս պատճառելը | C21: 115 | D21: =SUM('Վ. Խալաթյան:Հ. Սարգսյան'!D21) -> 0 | E21: =SUM('Վ. Խալաթյան:Հ. Սարգսյան'!E21) -> 0 | F21: =SUM('Վ. Խալաթյան:Հ. Սարգսյան'!F21) -> 0 | G21: =SUM('Վ. Խալաթյան:Հ. Սարգսյան'!G21) -> 0 | H21: =SUM('Վ. Խալաթյան:Հ. Սարգսյան'!H21) -> 0 | I21: =SUM('Վ. Խալաթյան:Հ. Սարգսյան'!I21) -> 0 | J21: =SUM('Վ. Խալաթյան:Հ. Սարգսյան'!J21) -> 0 | K21: =SUM('Վ. Խալաթյան:Հ. Սարգսյան'!K21) -> 0 | ... AE21: =SUM('Վ. Խալաթյան:Հ. Սարգսյան'!AE21) -> 0 | AF21: =D21+F21 -> 0 | AG21: =G21+K21+L21+N21 -> 0 | AH21: =K21 -> 0 | AI21: =H21+I21+J21 -> 0 | AJ21: =T21 -> 0 | AK21: =P21+Q21+R21+S21 -> 0 | AL21: =AA21 -> 0 | AM21: =W21+X21+Y21+Z21 -> 0
... A35: 1.27 | B35: Բժշկական օգնություն և սպասարկում իրականացնողների կողմից մասնագիտական պարտականությունները չկատարելը կամ ոչ պատշաճ կատարելը | C35: 130 | D35: =SUM('Վ. Խալաթյան:Հ. Սարգսյան'!D35) -> 0 | E35: =SUM('Վ. Խալաթյան:Հ. Սարգսյան'!E35) -> 0 | F35: =SUM('Վ. Խալաթյան:Հ. Սարգսյան'!F35) -> 1 | G35: =SUM('Վ. Խալաթյան:Հ. Սարգսյան'!G35) -> 0 | H35: =SUM('Վ. Խալաթյան:Հ. Սարգսյան'!H35) -> 0 | I35: =SUM('Վ. Խալաթյան:Հ. Սարգսյան'!I35) -> 0 | J35: =SUM('Վ. Խալաթյան:Հ. Սարգսյան'!J35) -> 0 | K35: =SUM('Վ. Խալաթյան:Հ. Սարգսյան'!K35) -> 0 | ... AE35: =SUM('Վ. Խալաթյան:Հ. Սարգսյան'!AE35) -> 0 | AF35: =D35+F35 -> 1 | AG35: =G35+K35+L35+N35 -> 1 | AH35: =K35 -> 0 | AI35: =H35+I35+J35 -> 0 | AJ35: =T35 -> 0 | AK35: =P35+Q35+R35+S35 -> 0 | AL35: =AA35 -> 0 | AM35: =W35+X35+Y35+Z35 -> 0
A36: 1.28 | B36: Այլ հանցագործություններ | D36: =SUM('Վ. Խալաթյան:Հ. Սարգսյան'!D36) -> 0 | E36: =SUM('Վ. Խալաթյան:Հ. Սարգսյան'!E36) -> 0 | F36: =SUM('Վ. Խալաթյան:Հ. Սարգսյան'!F36) -> 0 | G36: =SUM('Վ. Խալաթյան:Հ. Սարգսյան'!G36) -> 0 | H36: =SUM('Վ. Խալաթյան:Հ. Սարգսյան'!H36) -> 0 | I36: =SUM('Վ. Խալաթյան:Հ. Սարգսյան'!I36) -> 0 | J36: =SUM('Վ. Խալաթյան:Հ. Սարգսյան'!J36) -> 0 | K36: =SUM('Վ. Խալաթյան:Հ. Սարգսյան'!K36) -> 0 | ... AE36: =SUM('Վ. Խալաթյան:Հ. Սարգսյան'!AE36) -> 0 | AF36: =D36+F36 -> 0 | AG36: =G36+K36+L36+N36 -> 0 | AH36: =K36 -> 0 | AI36: =H36+I36+J36 -> 0 | AJ36: =T36 -> 0 | AK36: =P36+Q36+R36+S36 -> 0 | AL36: =AA36 -> 0 | AM36: =W36+X36+Y36+Z36 -> 0
A37: 2. | B37: Ընդամենը անձի ազատության, պատվի և արժանապատվության դեմ ուղղված հանցագործությունները | D37: =SUM(D38:D45) -> 1 | E37: =SUM(E38:E45) -> 0 | F37: =SUM(F38:F45) -> 5 | G37: =SUM(G38:G45) -> 0 | H37: =SUM(H38:H45) -> 4 | I37: =SUM(I38:I45) -> 1 | J37: =SUM(J38:J45) -> 0 | K37: =SUM(K38:K45) -> 5 | ... AM37: =SUM(AM38:AM45) -> 0
A38: 2.1 | B38: Մարդուն առևանգելը | C38: 131 | D38: =SUM('Վ. Խալաթյան:Հ. Սարգսյան'!D38) -> 1 | E38: =SUM('Վ. Խալաթյան:Հ. Սարգսյան'!E38) -> 0 | F38: =SUM('Վ. Խալաթյան:Հ. Սարգսյան'!F38) -> 1 | G38: =SUM('Վ. Խալաթյան:Հ. Սարգսյան'!G38) -> 0 | H38: =SUM('Վ. Խալաթյան:Հ. Սարգսյան'!H38) -> 2 | I38: =SUM('Վ. Խալաթյան:Հ. Սարգսյան'!I38) -> 0 | J38: =SUM('Վ. Խալաթյան:Հ. Սարգսյան'!J38) -> 0 | K38: =SUM('Վ. Խալաթյան:Հ. Սարգսյան'!K38) -> 2 | ... AE38: =SUM('Վ. Խալաթյան:Հ. Սարգսյան'!AE38) -> 0 | AF38: =D38+F38 -> 2 | AG38: =G38+K38+L38+N38 -> 2 | AH38: =K38 -> 2 | AI38: =H38+I38+J38 -> 2 | AJ38: =T38 -> 0 | AK38: =P38+Q38+R38+S38 -> 0 | AL38: =AA38 -> 0 | AM38: =W38+X38+Y38+Z38 -> 0
A39: 2.2 | B39: Մարդու թրաֆիքինգը կամ շահագործումը | C39: 132 | D39: =SUM('Վ. Խալաթյան:Հ. Սարգսյան'!D39) -> 0 | E39: =SUM('Վ. Խալաթյան:Հ. Սարգսյան'!E39) -> 0 | F39: =SUM('Վ. Խալաթյան:Հ. Սարգսյան'!F39) -> 0 | G39: =SUM('Վ. Խալաթյան:Հ. Սարգսյան'!G39) -> 0 | H39: =SUM('Վ. Խալաթյան:Հ. Սարգսյան'!H39) -> 0 | I39: =SUM('Վ. Խալաթյան:Հ. Սարգսյան'!I39) -> 0 | J39: =SUM('Վ. Խալաթյան:Հ. Սարգսյան'!J39) -> 0 | K39: =SUM('Վ. Խալաթյան:Հ. Սարգսյան'!K39) -> 0 | ... AE39: =SUM('Վ. Խալաթյան:Հ. Սարգսյան'!AE39) -> 0 | AF39: =D39+F39 -> 0 | AG39: =G39+K39+L39+N39 -> 0 | AH39: =K39 -> 0 | AI39: =H39+I39+J39 -> 0 | AJ39: =T39 -> 0 | AK39: =P39+Q39+R39+S39 -> 0 | AL39: =AA39 -> 0 | AM39: =W39+X39+Y39+Z39 -> 0
A40: 2.2.2 | B40: Երեխայի կամ հոգեկան խանգարման հետևանքով իր արարքի բնույթն ու նշանակությունը գիտակցելու կամ դա ղեկավարելու հնարավորությունից զրկված անձի թրաֆիքինգը կամ շահագործումը | C40: 132.2 | D40: =SUM('Վ. Խալաթյան:Հ. Սարգսյան'!D40) -> 0 | E40: =SUM('Վ. Խալաթյան:Հ. Սարգսյան'!E40) -> 0 | F40: =SUM('Վ. Խալաթյան:Հ. Սարգսյան'!F40) -> 1 | G40: =SUM('Վ. Խալաթյան:Հ. Սարգսյան'!G40) -> 0 | H40: =SUM('Վ. Խալաթյան:Հ. Սարգսյան'!H40) -> 0 | I40: =SUM('Վ. Խալաթյան:Հ. Սարգսյան'!I40) -> 0 | J40: =SUM('Վ. Խալաթյան:Հ. Սարգսյան'!J40) -> 0 | K40: =SUM('Վ. Խալաթյան:Հ. Սարգսյան'!K40) -> 0 | ... AE40: =SUM('Վ. Խալաթյան:Հ. Սարգսյան'!AE40) -> 0 | AF40: =D40+F40 -> 1 | AG40: =G40+K40+L40+N40 -> 1 | AH40: =K40 -> 0 | AI40: =H40+I40+J40 -> 0 | AJ40: =T40 -> 0 | AK40: =P40+Q40+R40+S40 -> 0 | AL40: =AA40 -> 0 | AM40: =W40+X40+Y40+Z40 -> 0
A41: 2.2.3 | B41: Շահագործման վիճակում գտնվող անձի ծառայությունից օգտվելը | C41: 132.3 | D41: =SUM('Վ. Խալաթյան:Հ. Սարգսյան'!D41) -> 0 | E41: =SUM('Վ. Խալաթյան:Հ. Սարգսյան'!E41) -> 0 | F41: =SUM('Վ. Խալաթյան:Հ. Սարգսյան'!F41) -> 0 | G41: =SUM('Վ. Խալաթյան:Հ. Սարգսյան'!G41) -> 0 | H41: =SUM('Վ. Խալաթյան:Հ. Սարգսյան'!H41) -> 0 | I41: =SUM('Վ. Խալաթյան:Հ. Սարգսյան'!I41) -> 0 | J41: =SUM('Վ. Խալաթյան:Հ. Սարգսյան'!J41) -> 0 | K41: =SUM('Վ. Խալաթյան:Հ. Սարգսյան'!K41) -> 0 | ... AE41: =SUM('Վ. Խալաթյան:Հ. Սարգսյան'!AE41) -> 0 | AF41: =D41+F41 -> 0 | AG41: =G41+K41+L41+N41 -> 0 | AH41: =K41 -> 0 | AI41: =H41+I41+J41 -> 0 | AJ41: =T41 -> 0 | AK41: =P41+Q41+R41+S41 -> 0 | AL41: =AA41 -> 0 | AM41: =W41+X41+Y41+Z41 -> 0
A42: 2.3 | B42: Ազատությունից ապօրինի զրկելը | C42: 133 | D42: =SUM('Վ. Խալաթյան:Հ. Սարգսյան'!D42) -> 0 | E42: =SUM('Վ. Խալաթյան:Հ. Սարգսյան'!E42) -> 0 | F42: =SUM('Վ. Խալաթյան:Հ. Սարգսյան'!F42) -> 1 | G42: =SUM('Վ. Խալաթյան:Հ. Սարգսյան'!G42) -> 0 | H42: =SUM('Վ. Խալաթյան:Հ. Սարգսյան'!H42) -> 1 | I42: =SUM('Վ. Խալաթյան:Հ. Սարգսյան'!I42) -> 0 | J42: =SUM('Վ. Խալաթյան:Հ. Սարգսյան'!J42) -> 0 | K42: =SUM('Վ. Խալաթյան:Հ. Սարգսյան'!K42) -> 1 | ... AE42: =SUM('Վ. Խալաթյան:Հ. Սարգսյան'!AE42) -> 0 | AF42: =D42+F42 -> 1 | AG42: =G42+K42+L42+N42 -> 1 | AH42: =K42 -> 1 | AI42: =H42+I42+J42 -> 1 | AJ42: =T42 -> 0 | AK42: =P42+Q42+R42+S42 -> 0 | AL42: =AA42 -> 0 | AM42: =W42+X42+Y42+Z42 -> 0
A43: 2.4 | B43: Հոգեբուժական հիվանդանոցում ապօրինի տեղավորելը կամ պահելը | C43: 134 | D43: =SUM('Վ. Խալաթյան:Հ. Սարգսյան'!D43) -> 0 | E43: =SUM('Վ. Խալաթյան:Հ. Սարգսյան'!E43) -> 0 | F43: =SUM('Վ. Խալաթյան:Հ. Սարգսյան'!F43) -> 0 | G43: =SUM('Վ. Խալաթյան:Հ. Սարգսյան'!G43) -> 0 | H43: =SUM('Վ. Խալաթյան:Հ. Սարգսյան'!H43) -> 0 | I43: =SUM('Վ. Խալաթյան:Հ. Սարգսյան'!I43) -> 0 | J43: =SUM('Վ. Խալաթյան:Հ. Սարգսյան'!J43) -> 0 | K43: =SUM('Վ. Խալաթյան:Հ. Սարգսյան'!K43) -> 0 | ... AE43: =SUM('Վ. Խալաթյան:Հ. Սարգսյան'!AE43) -> 0 | AF43: =D43+F43 -> 0 | AG43: =G43+K43+L43+N43 -> 0 | AH43: =K43 -> 0 | AI43: =H43+I43+J43 -> 0 | AJ43: =T43 -> 0 | AK43: =P43+Q43+R43+S43 -> 0 | AL43: =AA43 -> 0 | AM43: =W43+X43+Y43+Z43 -> 0
A44: 2.7 | B44: Սպանության, առողջությանը ծանր վնաս պատճառելու կամ գույք ոչնչացնելու սպառնալիքը | C44: 137 | D44: =SUM('Վ. Խալաթյան:Հ. Սարգսյան'!D44) -> 0 | E44: =SUM('Վ. Խալաթյան:Հ. Սարգսյան'!E44) -> 0 | F44: =SUM('Վ. Խալաթյան:Հ. Սարգսյան'!F44) -> 2 | G44: =SUM('Վ. Խալաթյան:Հ. Սարգսյան'!G44) -> 0 | H44: =SUM('Վ. Խալաթյան:Հ. Սարգսյան'!H44) -> 1 | I44: =SUM('Վ. Խալաթյան:Հ. Սարգսյան'!I44) -> 1 | J44: =SUM('Վ. Խալաթյան:Հ. Սարգսյան'!J44) -> 0 | K44: =SUM('Վ. Խալաթյան:Հ. Սարգսյան'!K44) -> 2 | ... AE44: =SUM('Վ. Խալաթյան:Հ. Սարգսյան'!AE44) -> 0 | AF44: =D44+F44 -> 2 | AG44: =G44+K44+L44+N44 -> 2 | AH44: =K44 -> 2 | AI44: =H44+I44+J44 -> 2 | AJ44: =T44 -> 0 | AK44: =P44+Q44+R44+S44 -> 0 | AL44: =AA44 -> 0 | AM44: =W44+X44+Y44+Z44 -> 0
A45: 2.8 | B45: Այլ հանցագործություններ | D45: =SUM('Վ. Խալաթյան:Հ. Սարգսյան'!D45) -> 0 | E45: =SUM('Վ. Խալաթյան:Հ. Սարգսյան'!E45) -> 0 | F45: =SUM('Վ. Խալաթյան:Հ. Սարգսյան'!F45) -> 0 | G45: =SUM('Վ. Խալաթյան:Հ. Սարգսյան'!G45) -> 0 | H45: =SUM('Վ. Խալաթյան:Հ. Սարգսյան'!H45) -> 0 | I45: =SUM('Վ. Խալաթյան:Հ. Սարգսյան'!I45) -> 0 | J45: =SUM('Վ. Խալաթյան:Հ. Սարգսյան'!J45) -> 0 | K45: =SUM('Վ. Խալաթյան:Հ. Սարգսյան'!K45) -> 0 | ... AE45: =SUM('Վ. Խալաթյան:Հ. Սարգսյան'!AE45) -> 0 | AF45: =D45+F45 -> 0 | AG45: =G45+K45+L45+N45 -> 0 | AH45: =K45 -> 0 | AI45: =H45+I45+J45 -> 0 | AJ45: =T45 -> 0 | AK45: =P45+Q45+R45+S45 -> 0 | AL45: =AA45 -> 0 | AM45: =W45+X45+Y45+Z45 -> 0
A46: 3. | B46: Ընդամենը սեռական անձեռնմխելիության և սեռական ազատության դեմ ուղղված հանցագործությունները | D46: =SUM(D47:D52) -> 4 | E46: =SUM(E47:E52) -> 0 | F46: =SUM(F47:F52) -> 9 | G46: =SUM(G47:G52) -> 0 | H46: =SUM(H47:H52) -> 6 | I46: =SUM(I47:I52) -> 0 | J46: =SUM(J47:J52) -> 1 | K46: =SUM(K47:K52) -> 7 | ... AM46: =SUM(AM47:AM52) -> 0
A47: 3.1 | B47: Բռնաբարությունը | C47: 138 | D47: =SUM('Վ. Խալաթյան:Հ. Սարգսյան'!D47) -> 0 | E47: =SUM('Վ. Խալաթյան:Հ. Սարգսյան'!E47) -> 0 | F47: =SUM('Վ. Խալաթյան:Հ. Սարգսյան'!F47) -> 0 | G47: =SUM('Վ. Խալաթյան:Հ. Սարգսյան'!G47) -> 0 | H47: =SUM('Վ. Խալաթյան:Հ. Սարգսյան'!H47) -> 0 | I47: =SUM('Վ. Խալաթյան:Հ. Սարգսյան'!I47) -> 0 | J47: =SUM('Վ. Խալաթյան:Հ. Սարգսյան'!J47) -> 0 | K47: =SUM('Վ. Խալաթյան:Հ. Սարգսյան'!K47) -> 0 | ... AE47: =SUM('Վ. Խալաթյան:Հ. Սարգսյան'!AE47) -> 0 | AF47: =D47+F47 -> 0 | AG47: =G47+K47+L47+N47 -> 0 | AH47: =K47 -> 0 | AI47: =H47+I47+J47 -> 0 | AJ47: =T47 -> 0 | AK47: =P47+Q47+R47+S47 -> 0 | AL47: =AA47 -> 0 | AM47: =W47+X47+Y47+Z47 -> 0
A48: 3.2 | B48: Սեքսուալ բնույթի բռնի գործողությունները | C48: 139 | D48: =SUM('Վ. Խալաթյան:Հ. Սարգսյան'!D48) -> 2 | E48: =SUM('Վ. Խալաթյան:Հ. Սարգսյան'!E48) -> 0 | F48: =SUM('Վ. Խալաթյան:Հ. Սարգսյան'!F48) -> 1 | G48: =SUM('Վ. Խալաթյան:Հ. Սարգսյան'!G48) -> 0 | H48: =SUM('Վ. Խալաթյան:Հ. Սարգսյան'!H48) -> 0 | I48: =SUM('Վ. Խալաթյան:Հ. Սարգսյան'!I48) -> 0 | J48: =SUM('Վ. Խալաթյան:Հ. Սարգսյան'!J48) -> 0 | K48: =SUM('Վ. Խալաթյան:Հ. Սարգսյան'!K48) -> 0 | ... AE48: =SUM('Վ. Խալաթյան:Հ. Սարգսյան'!AE48) -> 0 | AF48: =D48+F48 -> 3 | AG48: =G48+K48+L48+N48 -> 3 | AH48: =K48 -> 0 | AI48: =H48+I48+J48 -> 0 | AJ48: =T48 -> 0 | AK48: =P48+Q48+R48+S48 -> 0 | AL48: =AA48 -> 0 | AM48: =W48+X48+Y48+Z48 -> 0
A49: 3.3 | B49: Սեռական հարաբերության կամ սեքսուալ բնույթի գործողություններին հարկադրելը | C49: 140 | D49: =SUM('Վ. Խալաթյան:Հ. Սարգսյան'!D49) -> 1 | E49: =SUM('Վ. Խալաթյան:Հ. Սարգսյան'!E49) -> 0 | F49: =SUM('Վ. Խալաթյան:Հ. Սարգսյան'!F49) -> 0 | G49: =SUM('Վ. Խալաթյան:Հ. Սարգսյան'!G49) -> 0 | H49: =SUM('Վ. Խալաթյան:Հ. Սարգսյան'!H49) -> 1 | I49: =SUM('Վ. Խալաթյան:Հ. Սարգսյան'!I49) -> 0 | J49: =SUM('Վ. Խալաթյան:Հ. Սարգսյան'!J49) -> 0 | K49: =SUM('Վ. Խալաթյան:Հ. Սարգսյան'!K49) -> 1 | ... AE49: =SUM('Վ. Խալաթյան:Հ. Սարգսյան'!AE49) -> 0 | AF49: =D49+F49 -> 1 | AG49: =G49+K49+L49+N49 -> 1 | AH49: =K49 -> 1 | AI49: =H49+I49+J49 -> 1 | AJ49: =T49 -> 0 | AK49: =P49+Q49+R49+S49 -> 0 | AL49: =AA49 -> 0 | AM49: =W49+X49+Y49+Z49 -> 0
A50: 3.4 | B50: Սեռական հարաբերությունը տասնվեց տարին չլրացած անձի հետ կամ սեքսուալ բնույթի գործողություններ կատարելը տասնվեց տարին չլրացած անձի նկատմամբ | C50: 141 | D50: =SUM('Վ. Խալաթյան:Հ. Սարգսյան'!D50) -> 0 | E50: =SUM('Վ. Խալաթյան:Հ. Սարգսյան'!E50) -> 0 | F50: =SUM('Վ. Խալաթյան:Հ. Սարգսյան'!F50) -> 7 | G50: =SUM('Վ. Խալաթյան:Հ. Սարգսյան'!G50) -> 0 | H50: =SUM('Վ. Խալաթյան:Հ. Սարգսյան'!H50) -> 5 | I50: =SUM('Վ. Խալաթյան:Հ. Սարգսյան'!I50) -> 0 | J50: =SUM('Վ. Խալաթյան:Հ. Սարգսյան'!J50) -> 0 | K50: =SUM('Վ. Խալաթյան:Հ. Սարգսյան'!K50) -> 5 | ... AE50: =SUM('Վ. Խալաթյան:Հ. Սարգսյան'!AE50) -> 0 | AF50: =D50+F50 -> 7 | AG50: =G50+K50+L50+N50 -> 7 | AH50: =K50 -> 5 | AI50: =H50+I50+J50 -> 5 | AJ50: =T50 -> 0 | AK50: =P50+Q50+R50+S50 -> 0 | AL50: =AA50 -> 0 | AM50: =W50+X50+Y50+Z50 -> 0
A51: 3.5 | B51: Անառակաբարո գործողությունները | C51: 142 | D51: =SUM('Վ. Խալաթյան:Հ. Սարգսյան'!D51) -> 1 | E51: =SUM('Վ. Խալաթյան:Հ. Սարգսյան'!E51) -> 0 | F51: =SUM('Վ. Խալաթյան:Հ. Սարգսյան'!F51) -> 1 | G51: =SUM('Վ. Խալաթյան:Հ. Սարգսյան'!G51) -> 0 | H51: =SUM('Վ. Խալաթյան:Հ. Սարգսյան'!H51) -> 0 | I51: =SUM('Վ. Խալաթյան:Հ. Սարգսյան'!I51) -> 0 | J51: =SUM('Վ. Խալաթյան:Հ. Սարգսյան'!J51) -> 1 | K51: =SUM('Վ. Խալաթյան:Հ. Սարգսյան'!K51) -> 1 | ... AE51: =SUM('Վ. Խալաթյան:Հ. Սարգսյան'!AE51) -> 0 | AF51: =D51+F51 -> 2 | AG51: =G51+K51+L51+N51 -> 2 | AH51: =K51 -> 1 | AI51: =H51+I51+J51 -> 1 | AJ51: =T51 -> 1 | AK51: =P51+Q51+R51+S51 -> 1 | AL51: =AA51 -> 0 | AM51: =W51+X51+Y51+Z51 -> 0
A52: 3.6 | B52: Այլ հանցագործություններ | D52: =SUM('Վ. Խալաթյան:Հ. Սարգսյան'!D52) -> 0 | E52: =SUM('Վ. Խալաթյան:Հ. Սարգսյան'!E52) -> 0 | F52: =SUM('Վ. Խալաթյան:Հ. Սարգսյան'!F52) -> 0 | G52: =SUM('Վ. Խալաթյան:Հ. Սարգսյան'!G52) -> 0 | H52: =SUM('Վ. Խալաթյան:Հ. Սարգսյան'!H52) -> 0 | I52: =SUM('Վ. Խալաթյան:Հ. Սարգսյան'!I52) -> 0 | J52: =SUM('Վ. Խալաթյան:Հ. Սարգսյան'!J52) -> 0 | K52: =SUM('Վ. Խալաթյան:Հ. Սարգսյան'!K52) -> 0 | ... AE52: =SUM('Վ. Խալաթյան:Հ. Սարգսյան'!AE52) -> 0 | AF52: =D52+F52 -> 0 | AG52: =G52+K52+L52+N52 -> 0 | AH52: =K52 -> 0 | AI52: =H52+I52+J52 -> 0 | AJ52: =T52 -> 0 | AK52: =P52+Q52+R52+S52 -> 0 | AL52: =AA52 -> 0 | AM52: =W52+X52+Y52+Z52 -> 0
A53: 4. | B53: Ընդամենը մարդու և քաղաքացու սահմանադրական իրավունքների և ազատությունների դեմ ուղղված հանցագործությունները | D53: =SUM(D54:D82) -> 3 | E53: =SUM(E54:E82) -> 0 | F53: =SUM(F54:F82) -> 5 | G53: =SUM(G54:G82) -> 0 | H53: =SUM(H54:H82) -> 5 | I53: =SUM(I54:I82) -> 0 | J53: =SUM(J54:J82) -> 0 | K53: =SUM(K54:K82) -> 5 | ... AM53: =SUM(AM54:AM82) -> 0
A54: 4.1 | B54: Մարդու և քաղաքացու իրավահավասարությունը խախտելը | C54: 143 | D54: =SUM('Վ. Խալաթյան:Հ. Սարգսյան'!D54) -> 0 | E54: =SUM('Վ. Խալաթյան:Հ. Սարգսյան'!E54) -> 0 | F54: =SUM('Վ. Խալաթյան:Հ. Սարգսյան'!F54) -> 0 | G54: =SUM('Վ. Խալաթյան:Հ. Սարգսյան'!G54) -> 0 | H54: =SUM('Վ. Խալաթյան:Հ. Սարգսյան'!H54) -> 0 | I54: =SUM('Վ. Խալաթյան:Հ. Սարգսյան'!I54) -> 0 | J54: =SUM('Վ. Խալաթյան:Հ. Սարգսյան'!J54) -> 0 | K54: =SUM('Վ. Խալաթյան:Հ. Սարգսյան'!K54) -> 0 | ... AE54: =SUM('Վ. Խալաթյան:Հ. Սարգսյան'!AE54) -> 0 | AF54: =D54+F54 -> 0 | AG54: =G54+K54+L54+N54 -> 0 | AH54: =K54 -> 0 | AI54: =H54+I54+J54 -> 0 | AJ54: =T54 -> 1 | AK54: =P54+Q54+R54+S54 -> 1 | AL54: =AA54 -> 0 | AM54: =W54+X54+Y54+Z54 -> 0
A55: 4.2 | B55: Անձնական կամ ընտանեկան կյանքի մասին տեղեկություններ ապօրինի հավաքելը, պահելը, օգտագործելը կամ տարածելը | C55: 144 | D55: =SUM('Վ. Խալաթյան:Հ. Սարգսյան'!D55) -> 0 | E55: =SUM('Վ. Խալաթյան:Հ. Սարգսյան'!E55) -> 0 | F55: =SUM('Վ. Խալաթյան:Հ. Սարգսյան'!F55) -> 0 | G55: =SUM('Վ. Խալաթյան:Հ. Սարգսյան'!G55) -> 0 | H55: =SUM('Վ. Խալաթյան:Հ. Սարգսյան'!H55) -> 0 | I55: =SUM('Վ. Խալաթյան:Հ. Սարգսյան'!I55) -> 0 | J55: =SUM('Վ. Խալաթյան:Հ. Սարգսյան'!J55) -> 0 | K55: =SUM('Վ. Խալաթյան:Հ. Սարգսյան'!K55) -> 0 | ... AE55: =SUM('Վ. Խալաթյան:Հ. Սարգսյան'!AE55) -> 0 | AF55: =D55+F55 -> 0 | AG55: =G55+K55+L55+N55 -> 0 | AH55: =K55 -> 0 | AI55: =H55+I55+J55 -> 0 | AJ55: =T55 -> 0 | AK55: =P55+Q55+R55+S55 -> 0 | AL55: =AA55 -> 0 | AM55: =W55+X55+Y55+Z55 -> 0
A56: 4.3 | B56: Բժշկական գաղտնիքը հրապարակելը | C56: 145 | D56: =SUM('Վ. Խալաթյան:Հ. Սարգսյան'!D56) -> 0 | E56: =SUM('Վ. Խալաթյան:Հ. Սարգսյան'!E56) -> 0 | F56: =SUM('Վ. Խալաթյան:Հ. Սարգսյան'!F56) -> 0 | G56: =SUM('Վ. Խալաթյան:Հ. Սարգսյան'!G56) -> 0 | H56: =SUM('Վ. Խալաթյան:Հ. Սարգսյան'!H56) -> 0 | I56: =SUM('Վ. Խալաթյան:Հ. Սարգսյան'!I56) -> 0 | J56: =SUM('Վ. Խալաթյան:Հ. Սարգսյան'!J56) -> 0 | K56: =SUM('Վ. Խալաթյան:Հ. Սարգսյան'!K56) -> 0 | ... AE56: =SUM('Վ. Խալաթյան:Հ. Սարգսյան'!AE56) -> 0 | AF56: =D56+F56 -> 0 | AG56: =G56+K56+L56+N56 -> 0 | AH56: =K56 -> 0 | AI56: =H56+I56+J56 -> 0 | AJ56: =T56 -> 0 | AK56: =P56+Q56+R56+S56 -> 0 | AL56: =AA56 -> 0 | AM56: =W56+X56+Y56+Z56 -> 0
A57: 4.4 | B57: Նամակագրության, հեռախոսային խոսակցությունների, փոստային, հեռագրական կամ այլ հաղորդումների գաղտնիությունը խախտելը | C57: 146 | D57: =SUM('Վ. Խալաթյան:Հ. Սարգսյան'!D57) -> 0 | E57: =SUM('Վ. Խալաթյան:Հ. Սարգսյան'!E57) -> 0 | F57: =SUM('Վ. Խալաթյան:Հ. Սարգսյան'!F57) -> 0 | G57: =SUM('Վ. Խալաթյան:Հ. Սարգսյան'!G57) -> 0 | H57: =SUM('Վ. Խալաթյան:Հ. Սարգսյան'!H57) -> 0 | I57: =SUM('Վ. Խալաթյան:Հ. Սարգսյան'!I57) -> 0 | J57: =SUM('Վ. Խալաթյան:Հ. Սարգսյան'!J57) -> 0 | K57: =SUM('Վ. Խալաթյան:Հ. Սարգսյան'!K57) -> 0 | ... AE57: =SUM('Վ. Խալաթյան:Հ. Սարգսյան'!AE57) -> 0 | AF57: =D57+F57 -> 0 | AG57: =G57+K57+L57+N57 -> 0 | AH57: =K57 -> 0 | AI57: =H57+I57+J57 -> 0 | AJ57: =T57 -> 0 | AK57: =P57+Q57+R57+S57 -> 0 | AL57: =AA57 -> 0 | AM57: =W57+X57+Y57+Z57 -> 0
A58: 4.5 | B58: Բնակարանի անձեռնմխելիությունը խախտելը | C58: 147 | D58: =SUM('Վ. Խալաթյան:Հ. Սարգսյան'!D58) -> 2 | E58: =SUM('Վ. Խալաթյան:Հ. Սարգսյան'!E58) -> 0 | F58: =SUM('Վ. Խալաթյան:Հ. Սարգսյան'!F58) -> 2 | G58: =SUM('Վ. Խալաթյան:Հ. Սարգսյան'!G58) -> 0 | H58: =SUM('Վ. Խալաթյան:Հ. Սարգսյան'!H58) -> 3 | I58: =SUM('Վ. Խալաթյան:Հ. Սարգսյան'!I58) -> 0 | J58: =SUM('Վ. Խալաթյան:Հ. Սարգսյան'!J58) -> 0 | K58: =SUM('Վ. Խալաթյան:Հ. Սարգսյան'!K58) -> 3 | ... AE58: =SUM('Վ. Խալաթյան:Հ. Սարգսյան'!AE58) -> 0 | AF58: =D58+F58 -> 4 | AG58: =G58+K58+L58+N58 -> 4 | AH58: =K58 -> 3 | AI58: =H58+I58+J58 -> 3 | AJ58: =T58 -> 0 | AK58: =P58+Q58+R58+S58 -> 0 | AL58: =AA58 -> 0 | AM58: =W58+X58+Y58+Z58 -> 0
A59: 4.6 | B59: Անձին տեղեկություն ներկայացնելուց հրաժարվելը | C59: 148 | D59: =SUM('Վ. Խալաթյան:Հ. Սարգսյան'!D59) -> 0 | E59: =SUM('Վ. Խալաթյան:Հ. Սարգսյան'!E59) -> 0 | F59: =SUM('Վ. Խալաթյան:Հ. Սարգսյան'!F59) -> 0 | G59: =SUM('Վ. Խալաթյան:Հ. Սարգսյան'!G59) -> 0 | H59: =SUM('Վ. Խալաթյան:Հ. Սարգսյան'!H59) -> 0 | I59: =SUM('Վ. Խալաթյան:Հ. Սարգսյան'!I59) -> 0 | J59: =SUM('Վ. Խալաթյան:Հ. Սարգսյան'!J59) -> 0 | K59: =SUM('Վ. Խալաթյան:Հ. Սարգսյան'!K59) -> 0 | ... AE59: =SUM('Վ. Խալաթյան:Հ. Սարգսյան'!AE59) -> 0 | AF59: =D59+F59 -> 0 | AG59: =G59+K59+L59+N59 -> 0 | AH59: =K59 -> 0 | AI59: =H59+I59+J59 -> 0 | AJ59: =T59 -> 0 | AK59: =P59+Q59+R59+S59 -> 0 | AL59: =AA59 -> 0 | AM59: =W59+X59+Y59+Z59 -> 0
A60: 4.7 | B60: Ընտրական իրավունքի իրականացմանը, ընտրական հանձնաժողովների աշխատանքներին կամ ընտրությանը մասնակցող անձանց լիազորությունների իրականացմանը խոչընդոտելը | C60: 149 | D60: =SUM('Վ. Խալաթյան:Հ. Սարգսյան'!D60) -> 0 | E60: =SUM('Վ. Խալաթյան:Հ. Սարգսյան'!E60) -> 0 | F60: =SUM('Վ. Խալաթյան:Հ. Սարգսյան'!F60) -> 0 | G60: =SUM('Վ. Խալաթյան:Հ. Սարգսյան'!G60) -> 0 | H60: =SUM('Վ. Խալաթյան:Հ. Սարգսյան'!H60) -> 0 | I60: =SUM('Վ. Խալաթյան:Հ. Սարգսյան'!I60) -> 0 | J60: =SUM('Վ. Խալաթյան:Հ. Սարգսյան'!J60) -> 0 | K60: =SUM('Վ. Խալաթյան:Հ. Սարգսյան'!K60) -> 0 | ... AE60: =SUM('Վ. Խալաթյան:Հ. Սարգսյան'!AE60) -> 0 | AF60: =D60+F60 -> 0 | AG60: =G60+K60+L60+N60 -> 0 | AH60: =K60 -> 0 | AI60: =H60+I60+J60 -> 0 | AJ60: =T60 -> 0 | AK60: =P60+Q60+R60+S60 -> 0 | AL60: =AA60 -> 0 | AM60: =W60+X60+Y60+Z60 -> 0
A61: 4.8 | B61: Ընտրությունների կամ քվեարկության արդյունքները կեղծելը | C61: 150 | D61: =SUM('Վ. Խալաթյան:Հ. Սարգսյան'!D61) -> 0 | E61: =SUM('Վ. Խալաթյան:Հ. Սարգսյան'!E61) -> 0 | F61: =SUM('Վ. Խալաթյան:Հ. Սարգսյան'!F61) -> 0 | G61: =SUM('Վ. Խալաթյան:Հ. Սարգսյան'!G61) -> 0 | H61: =SUM('Վ. Խալաթյան:Հ. Սարգսյան'!H61) -> 0 | I61: =SUM('Վ. Խալաթյան:Հ. Սարգսյան'!I61) -> 0 | J61: =SUM('Վ. Խալաթյան:Հ. Սարգսյան'!J61) -> 0 | K61: =SUM('Վ. Խալաթյան:Հ. Սարգսյան'!K61) -> 0 | ... AE61: =SUM('Վ. Խալաթյան:Հ. Սարգսյան'!AE61) -> 0 | AF61: =D61+F61 -> 0 | AG61: =G61+K61+L61+N61 -> 0 | AH61: =K61 -> 0 | AI61: =H61+I61+J61 -> 0 | AJ61: =T61 -> 0 | AK61: =P61+Q61+R61+S61 -> 0 | AL61: =AA61 -> 0 | AM61: =W61+X61+Y61+Z61 -> 0
A62: 4.10 | B62: Ընտրողների ցուցակները կազմելու, դրանք քաղաքացիներին և կուսակցություններին տրամադրելու կամ հրապարակելու կարգը խախտելը | C62: 152 | D62: =SUM('Վ. Խալաթյան:Հ. Սարգսյան'!D62) -> 0 | E62: =SUM('Վ. Խալաթյան:Հ. Սարգսյան'!E62) -> 0 | F62: =SUM('Վ. Խալաթյան:Հ. Սարգսյան'!F62) -> 0 | G62: =SUM('Վ. Խալաթյան:Հ. Սարգսյան'!G62) -> 0 | H62: =SUM('Վ. Խալաթյան:Հ. Սարգսյան'!H62) -> 0 | I62: =SUM('Վ. Խալաթյան:Հ. Սարգսյան'!I62) -> 0 | J62: =SUM('Վ. Խալաթյան:Հ. Սարգսյան'!J62) -> 0 | K62: =SUM('Վ. Խալաթյան:Հ. Սարգսյան'!K62) -> 0 | ... AE62: =SUM('Վ. Խալաթյան:Հ. Սարգսյան'!AE62) -> 0 | AF62: =D62+F62 -> 0 | AG62: =G62+K62+L62+N62 -> 0 | AH62: =K62 -> 0 | AI62: =H62+I62+J62 -> 0 | AJ62: =T62 -> 0 | AK62: =P62+Q62+R62+S62 -> 0 | AL62: =AA62 -> 0 | AM62: =W62+X62+Y62+Z62 -> 0
A63: 4.11 | B63: Մեկից ավելի անգամ կամ այլ անձի փոխարեն քվեարկելը | C63: 153 | D63: =SUM('Վ. Խալաթյան:Հ. Սարգսյան'!D63) -> 0 | E63: =SUM('Վ. Խալաթյան:Հ. Սարգսյան'!E63) -> 0 | F63: =SUM('Վ. Խալաթյան:Հ. Սարգսյան'!F63) -> 1 | G63: =SUM('Վ. Խալաթյան:Հ. Սարգսյան'!G63) -> 0 | H63: =SUM('Վ. Խալաթյան:Հ. Սարգսյան'!H63) -> 1 | I63: =SUM('Վ. Խալաթյան:Հ. Սարգսյան'!I63) -> 0 | J63: =SUM('Վ. Խալաթյան:Հ. Սարգսյան'!J63) -> 0 | K63: =SUM('Վ. Խալաթյան:Հ. Սարգսյան'!K63) -> 1 | ... AE63: =SUM('Վ. Խալաթյան:Հ. Սարգսյան'!AE63) -> 0 | AF63: =D63+F63 -> 1 | AG63: =G63+K63+L63+N63 -> 1 | AH63: =K63 -> 1 | AI63: =H63+I63+J63 -> 1 | AJ63: =T63 -> 0 | AK63: =P63+Q63+R63+S63 -> 0 | AL63: =AA63 -> 0 | AM63: =W63+X63+Y63+Z63 -> 0
A64: 4.12 | B64: Քվեարկության գաղտնիությունը խախտելը | C64: 154 | D64: =SUM('Վ. Խալաթյան:Հ. Սարգսյան'!D64) -> 0 | E64: =SUM('Վ. Խալաթյան:Հ. Սարգսյան'!E64) -> 0 | F64: =SUM('Վ. Խալաթյան:Հ. Սարգսյան'!F64) -> 0 | G64: =SUM('Վ. Խալաթյան:Հ. Սարգսյան'!G64) -> 0 | H64: =SUM('Վ. Խալաթյան:Հ. Սարգսյան'!H64) -> 0 | I64: =SUM('Վ. Խալաթյան:Հ. Սարգսյան'!I64) -> 0 | J64: =SUM('Վ. Խալաթյան:Հ. Սարգսյան'!J64) -> 0 | K64: =SUM('Վ. Խալաթյան:Հ. Սարգսյան'!K64) -> 0 | ... AE64: =SUM('Վ. Խալաթյան:Հ. Սարգսյան'!AE64) -> 0 | AF64: =D64+F64 -> 0 | AG64: =G64+K64+L64+N64 -> 0 | AH64: =K64 -> 0 | AI64: =H64+I64+J64 -> 0 | AJ64: =T64 -> 0 | AK64: =P64+Q64+R64+S64 -> 0 | AL64: =AA64 -> 0 | AM64: =W64+X64+Y64+Z64 -> 0
A65: 4.13 | B65: Կեղծ ընտրական քվեաթերթիկներ կամ քվեարկության ծրարներ, դրոշմանիշեր, կտրոններ պատրաստելը կամ ակնհայտ կեղծ ընտրական քվեաթերթիկներ կամ քվեարկության ծրարներ, դրոշմանիշեր, կտրոններ հանձնելը կամ իրացնելը | C65: 154.1 | D65: =SUM('Վ. Խալաթյան:Հ. Սարգսյան'!D65) -> 0 | E65: =SUM('Վ. Խալաթյան:Հ. Սարգսյան'!E65) -> 0 | F65: =SUM('Վ. Խալաթյան:Հ. Սարգսյան'!F65) -> 0 | G65: =SUM('Վ. Խալաթյան:Հ. Սարգսյան'!G65) -> 0 | H65: =SUM('Վ. Խալաթյան:Հ. Սարգսյան'!H65) -> 0 | I65: =SUM('Վ. Խալաթյան:Հ. Սարգսյան'!I65) -> 0 | J65: =SUM('Վ. Խալաթյան:Հ. Սարգսյան'!J65) -> 0 | K65: =SUM('Վ. Խալաթյան:Հ. Սարգսյան'!K65) -> 0 | ... AE65: =SUM('Վ. Խալաթյան:Հ. Սարգսյան'!AE65) -> 0 | AF65: =D65+F65 -> 0 | AG65: =G65+K65+L65+N65 -> 0 | AH65: =K65 -> 0 | AI65: =H65+I65+J65 -> 0 | AJ65: =T65 -> 0 | AK65: =P65+Q65+R65+S65 -> 0 | AL65: =AA65 -> 0 | AM65: =W65+X65+Y65+Z65 -> 0
... A81: 4.27 | B81: Լրագրողի մասնագիտական օրինական գործողությանը խոչընդոտելը | C81: 164 | D81: =SUM('Վ. Խալաթյան:Հ. Սարգսյան'!D81) -> 0 | E81: =SUM('Վ. Խալաթյան:Հ. Սարգսյան'!E81) -> 0 | F81: =SUM('Վ. Խալաթյան:Հ. Սարգսյան'!F81) -> 0 | G81: =SUM('Վ. Խալաթյան:Հ. Սարգսյան'!G81) -> 0 | H81: =SUM('Վ. Խալաթյան:Հ. Սարգսյան'!H81) -> 0 | I81: =SUM('Վ. Խալաթյան:Հ. Սարգսյան'!I81) -> 0 | J81: =SUM('Վ. Խալաթյան:Հ. Սարգսյան'!J81) -> 0 | K81: =SUM('Վ. Խալաթյան:Հ. Սարգսյան'!K81) -> 0 | ... AE81: =SUM('Վ. Խալաթյան:Հ. Սարգսյան'!AE81) -> 0 | AF81: =D81+F81 -> 0 | AG81: =G81+K81+L81+N81 -> 0 | AH81: =K81 -> 0 | AI81: =H81+I81+J81 -> 0 | AJ81: =T81 -> 0 | AK81: =P81+Q81+R81+S81 -> 0 | AL81: =AA81 -> 0 | AM81: =W81+X81+Y81+Z81 -> 0
A82: 4.28 | B82: Այլ հանցագործություններ | D82: =SUM('Վ. Խալաթյան:Հ. Սարգսյան'!D82) -> 0 | E82: =SUM('Վ. Խալաթյան:Հ. Սարգսյան'!E82) -> 0 | F82: =SUM('Վ. Խալաթյան:Հ. Սարգսյան'!F82) -> 0 | G82: =SUM('Վ. Խալաթյան:Հ. Սարգսյան'!G82) -> 0 | H82: =SUM('Վ. Խալաթյան:Հ. Սարգսյան'!H82) -> 0 | I82: =SUM('Վ. Խալաթյան:Հ. Սարգսյան'!I82) -> 0 | J82: =SUM('Վ. Խալաթյան:Հ. Սարգսյան'!J82) -> 0 | K82: =SUM('Վ. Խալաթյան:Հ. Սարգսյան'!K82) -> 0 | ... AE82: =SUM('Վ. Խալաթյան:Հ. Սարգսյան'!AE82) -> 0 | AF82: =D82+F82 -> 0 | AG82: =G82+K82+L82+N82 -> 0 | AH82: =K82 -> 0 | AI82: =H82+I82+J82 -> 0 | AJ82: =T82 -> 0 | AK82: =P82+Q82+R82+S82 -> 0 | AL82: =AA82 -> 0 | AM82: =W82+X82+Y82+Z82 -> 0
A83: 5. | B83: Ընդամենը ընտանիքի և երեխայի շահերի դեմ ուղղված հանցագործությունները | D83: =SUM(D84:D97) -> 0 | E83: =SUM(E84:E97) -> 0 | F83: =SUM(F84:F97) -> 0 | G83: =SUM(G84:G97) -> 0 | H83: =SUM(H84:H97) -> 0 | I83: =SUM(I84:I97) -> 0 | J83: =SUM(J84:J97) -> 0 | K83: =SUM(K84:K97) -> 0 | ... AM83: =SUM(AM84:AM97) -> 0
A84: 5.1 | B84: Անչափահասին հանցանքի կատարմանը ներգրավելը | C84: 165 | D84: =SUM('Վ. Խալաթյան:Հ. Սարգսյան'!D84) -> 0 | E84: =SUM('Վ. Խալաթյան:Հ. Սարգսյան'!E84) -> 0 | F84: =SUM('Վ. Խալաթյան:Հ. Սարգսյան'!F84) -> 0 | G84: =SUM('Վ. Խալաթյան:Հ. Սարգսյան'!G84) -> 0 | H84: =SUM('Վ. Խալաթյան:Հ. Սարգսյան'!H84) -> 0 | I84: =SUM('Վ. Խալաթյան:Հ. Սարգսյան'!I84) -> 0 | J84: =SUM('Վ. Խալաթյան:Հ. Սարգսյան'!J84) -> 0 | K84: =SUM('Վ. Խալաթյան:Հ. Սարգսյան'!K84) -> 0 | ... AE84: =SUM('Վ. Խալաթյան:Հ. Սարգսյան'!AE84) -> 0 | AF84: =D84+F84 -> 0 | AG84: =G84+K84+L84+N84 -> 0 | AH84: =K84 -> 0 | AI84: =H84+I84+J84 -> 0 | AJ84: =T84 -> 0 | AK84: =P84+Q84+R84+S84 -> 0 | AL84: =AA84 -> 0 | AM84: =W84+X84+Y84+Z84 -> 0
A85: 5.2 | B85: Երեխային պոռնկության կամ պոռնկագրական բնույթի նյութեր կամ առարկաներ պատրաստելու հետ կապված գործողություններ կատարելուն ներգրավելը | C85: 166 | D85: =SUM('Վ. Խալաթյան:Հ. Սարգսյան'!D85) -> 0 | E85: =SUM('Վ. Խալաթյան:Հ. Սարգսյան'!E85) -> 0 | F85: =SUM('Վ. Խալաթյան:Հ. Սարգսյան'!F85) -> 0 | G85: =SUM('Վ. Խալաթյան:Հ. Սարգսյան'!G85) -> 0 | H85: =SUM('Վ. Խալաթյան:Հ. Սարգսյան'!H85) -> 0 | I85: =SUM('Վ. Խալաթյան:Հ. Սարգսյան'!I85) -> 0 | J85: =SUM('Վ. Խալաթյան:Հ. Սարգսյան'!J85) -> 0 | K85: =SUM('Վ. Խալաթյան:Հ. Սարգսյան'!K85) -> 0 | ... AE85: =SUM('Վ. Խալաթյան:Հ. Սարգսյան'!AE85) -> 0 | AF85: =D85+F85 -> 0 | AG85: =G85+K85+L85+N85 -> 0 | AH85: =K85 -> 0 | AI85: =H85+I85+J85 -> 0 | AJ85: =T85 -> 0 | AK85: =P85+Q85+R85+S85 -> 0 | AL85: =AA85 -> 0 | AM85: =W85+X85+Y85+Z85 -> 0
A86: 5.2.1 | B86: Երեխային ոգելից խմիչքների օգտագործմանը, ուժեղ ներգործող կամ այլ թմրեցնող նյութերի ոչ բժշկական օգտագործմանը, թափառաշրջիկությանը ներգրավելը կամ մուրացկանության հետ կապված գործողություններ կատարելուն ներգրավելը | C86: 166.1 | D86: =SUM('Վ. Խալաթյան:Հ. Սարգսյան'!D86) -> 0 | E86: =SUM('Վ. Խալաթյան:Հ. Սարգսյան'!E86) -> 0 | F86: =SUM('Վ. Խալաթյան:Հ. Սարգսյան'!F86) -> 0 | G86: =SUM('Վ. Խալաթյան:Հ. Սարգսյան'!G86) -> 0 | H86: =SUM('Վ. Խալաթյան:Հ. Սարգսյան'!H86) -> 0 | I86: =SUM('Վ. Խալաթյան:Հ. Սարգսյան'!I86) -> 0 | J86: =SUM('Վ. Խալաթյան:Հ. Սարգսյան'!J86) -> 0 | K86: =SUM('Վ. Խալաթյան:Հ. Սարգսյան'!K86) -> 0 | ... AE86: =SUM('Վ. Խալաթյան:Հ. Սարգսյան'!AE86) -> 0 | AF86: =D86+F86 -> 0 | AG86: =G86+K86+L86+N86 -> 0 | AH86: =K86 -> 0 | AI86: =H86+I86+J86 -> 0 | AJ86: =T86 -> 0 | AK86: =P86+Q86+R86+S86 -> 0 | AL86: =AA86 -> 0 | AM86: =W86+X86+Y86+Z86 -> 0
A87: 5.3 | B87: Ծնողներից երեխային ապօրինի բաժանելը կամ երեխային փոխելը | C87: 167 | D87: =SUM('Վ. Խալաթյան:Հ. Սարգսյան'!D87) -> 0 | E87: =SUM('Վ. Խալաթյան:Հ. Սարգսյան'!E87) -> 0 | F87: =SUM('Վ. Խալաթյան:Հ. Սարգսյան'!F87) -> 0 | G87: =SUM('Վ. Խալաթյան:Հ. Սարգսյան'!G87) -> 0 | H87: =SUM('Վ. Խալաթյան:Հ. Սարգսյան'!H87) -> 0 | I87: =SUM('Վ. Խալաթյան:Հ. Սարգսյան'!I87) -> 0 | J87: =SUM('Վ. Խալաթյան:Հ. Սարգսյան'!J87) -> 0 | K87: =SUM('Վ. Խալաթյան:Հ. Սարգսյան'!K87) -> 0 | ... AE87: =SUM('Վ. Խալաթյան:Հ. Սարգսյան'!AE87) -> 0 | AF87: =D87+F87 -> 0 | AG87: =G87+K87+L87+N87 -> 0 | AH87: =K87 -> 0 | AI87: =H87+I87+J87 -> 0 | AJ87: =T87 -> 0 | AK87: =P87+Q87+R87+S87 -> 0 | AL87: =AA87 -> 0 | AM87: =W87+X87+Y87+Z87 -> 0
A88: 5.4 | B88: Խնամքը ստանձնելու նպատակով երեխայի առքը կամ ստանձնողի խնամքին հանձնելու նպատակով երեխայի վաճառքը | C88: 168 | D88: =SUM('Վ. Խալաթյան:Հ. Սարգսյան'!D88) -> 0 | E88: =SUM('Վ. Խալաթյան:Հ. Սարգսյան'!E88) -> 0 | F88: =SUM('Վ. Խալաթյան:Հ. Սարգսյան'!F88) -> 0 | G88: =SUM('Վ. Խալաթյան:Հ. Սարգսյան'!G88) -> 0 | H88: =SUM('Վ. Խալաթյան:Հ. Սարգսյան'!H88) -> 0 | I88: =SUM('Վ. Խալաթյան:Հ. Սարգսյան'!I88) -> 0 | J88: =SUM('Վ. Խալաթյան:Հ. Սարգսյան'!J88) -> 0 | K88: =SUM('Վ. Խալաթյան:Հ. Սարգսյան'!K88) -> 0 | ... AE88: =SUM('Վ. Խալաթյան:Հ. Սարգսյան'!AE88) -> 0 | AF88: =D88+F88 -> 0 | AG88: =G88+K88+L88+N88 -> 0 | AH88: =K88 -> 0 | AI88: =H88+I88+J88 -> 0 | AJ88: =T88 -> 0 | AK88: =P88+Q88+R88+S88 -> 0 | AL88: =AA88 -> 0 | AM88: =W88+X88+Y88+Z88 -> 0
A89: 5.5 | B89: Որդեգրման գաղտնիքը հրապարակելը կամ որդեգրման համաձայնություն տալուն հակելը կամ հարկադրելը | C89: 169 | D89: =SUM('Վ. Խալաթյան:Հ. Սարգսյան'!D89) -> 0 | E89: =SUM('Վ. Խալաթյան:Հ. Սարգսյան'!E89) -> 0 | F89: =SUM('Վ. Խալաթյան:Հ. Սարգսյան'!F89) -> 0 | G89: =SUM('Վ. Խալաթյան:Հ. Սարգսյան'!G89) -> 0 | H89: =SUM('Վ. Խալաթյան:Հ. Սարգսյան'!H89) -> 0 | I89: =SUM('Վ. Խալաթյան:Հ. Սարգսյան'!I89) -> 0 | J89: =SUM('Վ. Խալաթյան:Հ. Սարգսյան'!J89) -> 0 | K89: =SUM('Վ. Խալաթյան:Հ. Սարգսյան'!K89) -> 0 | ... AE89: =SUM('Վ. Խալաթյան:Հ. Սարգսյան'!AE89) -> 0 | AF89: =D89+F89 -> 0 | AG89: =G89+K89+L89+N89 -> 0 | AH89: =K89 -> 0 | AI89: =H89+I89+J89 -> 0 | AJ89: =T89 -> 0 | AK89: =P89+Q89+R89+S89 -> 0 | AL89: =AA89 -> 0 | AM89: =W89+X89+Y89+Z89 -> 0
A90: 5.6 | B90: Քաղաքացիական կացության ակտերի գրանցման մարմիններին սուտ տեղեկություններ հաղորդելը | C90: 169.1 | D90: =SUM('Վ. Խալաթյան:Հ. Սարգսյան'!D90) -> 0 | E90: =SUM('Վ. Խալաթյան:Հ. Սարգսյան'!E90) -> 0 | F90: =SUM('Վ. Խալաթյան:Հ. Սարգսյան'!F90) -> 0 | G90: =SUM('Վ. Խալաթյան:Հ. Սարգսյան'!G90) -> 0 | H90: =SUM('Վ. Խալաթյան:Հ. Սարգսյան'!H90) -> 0 | I90: =SUM('Վ. Խալաթյան:Հ. Սարգսյան'!I90) -> 0 | J90: =SUM('Վ. Խալաթյան:Հ. Սարգսյան'!J90) -> 0 | K90: =SUM('Վ. Խալաթյան:Հ. Սարգսյան'!K90) -> 0 | ... AE90: =SUM('Վ. Խալաթյան:Հ. Սարգսյան'!AE90) -> 0 | AF90: =D90+F90 -> 0 | AG90: =G90+K90+L90+N90 -> 0 | AH90: =K90 -> 0 | AI90: =H90+I90+J90 -> 0 | AJ90: =T90 -> 0 | AK90: =P90+Q90+R90+S90 -> 0 | AL90: =AA90 -> 0 | AM90: =W90+X90+Y90+Z90 -> 0
A91: 5.7 | B91: Երեխային դաստիարակելու պարտականությունը չկատարելը | C91: 170 | D91: =SUM('Վ. Խալաթյան:Հ. Սարգսյան'!D91) -> 0 | E91: =SUM('Վ. Խալաթյան:Հ. Սարգսյան'!E91) -> 0 | F91: =SUM('Վ. Խալաթյան:Հ. Սարգսյան'!F91) -> 0 | G91: =SUM('Վ. Խալաթյան:Հ. Սարգսյան'!G91) -> 0 | H91: =SUM('Վ. Խալաթյան:Հ. Սարգսյան'!H91) -> 0 | I91: =SUM('Վ. Խալաթյան:Հ. Սարգսյան'!I91) -> 0 | J91: =SUM('Վ. Խալաթյան:Հ. Սարգսյան'!J91) -> 0 | K91: =SUM('Վ. Խալաթյան:Հ. Սարգսյան'!K91) -> 0 | ... AE91: =SUM('Վ. Խալաթյան:Հ. Սարգսյան'!AE91) -> 0 | AF91: =D91+F91 -> 0 | AG91: =G91+K91+L91+N91 -> 0 | AH91: =K91 -> 0 | AI91: =H91+I91+J91 -> 0 | AJ91: =T91 -> 0 | AK91: =P91+Q91+R91+S91 -> 0 | AL91: =AA91 -> 0 | AM91: =W91+X91+Y91+Z91 -> 0
A92: 5.8 | B92: Երեխայի կյանքի անվտանգության ապահովման կամ առողջության պահպանման պարտականությունը չկատարելը կամ ոչ պատշաճ կատարելը | C92: 171 | D92: =SUM('Վ. Խալաթյան:Հ. Սարգսյան'!D92) -> 0 | E92: =SUM('Վ. Խալաթյան:Հ. Սարգսյան'!E92) -> 0 | F92: =SUM('Վ. Խալաթյան:Հ. Սարգսյան'!F92) -> 0 | G92: =SUM('Վ. Խալաթյան:Հ. Սարգսյան'!G92) -> 0 | H92: =SUM('Վ. Խալաթյան:Հ. Սարգսյան'!H92) -> 0 | I92: =SUM('Վ. Խալաթյան:Հ. Սարգսյան'!I92) -> 0 | J92: =SUM('Վ. Խալաթյան:Հ. Սարգսյան'!J92) -> 0 | K92: =SUM('Վ. Խալաթյան:Հ. Սարգսյան'!K92) -> 0 | ... AE92: =SUM('Վ. Խալաթյան:Հ. Սարգսյան'!AE92) -> 0 | AF92: =D92+F92 -> 0 | AG92: =G92+K92+L92+N92 -> 0 | AH92: =K92 -> 0 | AI92: =H92+I92+J92 -> 0 | AJ92: =T92 -> 0 | AK92: =P92+Q92+R92+S92 -> 0 | AL92: =AA92 -> 0 | AM92: =W92+X92+Y92+Z92 -> 0
A93: 5.8.1 | B93: Վերարտադրողականության օժանդակ տեխնոլոգիաներից օգտվելու կանոնները խախտելը | C93: 171.1 | D93: =SUM('Վ. Խալաթյան:Հ. Սարգսյան'!D93) -> 0 | E93: =SUM('Վ. Խալաթյան:Հ. Սարգսյան'!E93) -> 0 | F93: =SUM('Վ. Խալաթյան:Հ. Սարգսյան'!F93) -> 0 | G93: =SUM('Վ. Խալաթյան:Հ. Սարգսյան'!G93) -> 0 | H93: =SUM('Վ. Խալաթյան:Հ. Սարգսյան'!H93) -> 0 | I93: =SUM('Վ. Խալաթյան:Հ. Սարգսյան'!I93) -> 0 | J93: =SUM('Վ. Խալաթյան:Հ. Սարգսյան'!J93) -> 0 | K93: =SUM('Վ. Խալաթյան:Հ. Սարգսյան'!K93) -> 0 | ... AE93: =SUM('Վ. Խալաթյան:Հ. Սարգսյան'!AE93) -> 0 | AF93: =D93+F93 -> 0 | AG93: =G93+K93+L93+N93 -> 0 | AH93: =K93 -> 0 | AI93: =H93+I93+J93 -> 0 | AJ93: =T93 -> 0 | AK93: =P93+Q93+R93+S93 -> 0 | AL93: =AA93 -> 0 | AM93: =W93+X93+Y93+Z93 -> 0
A94: 5.9 | B94: Խնամակալի կամ հոգաբարձուի իրավունքները չարաշահելը | C94: 172 | D94: =SUM('Վ. Խալաթյան:Հ. Սարգսյան'!D94) -> 0 | E94: =SUM('Վ. Խալաթյան:Հ. Սարգսյան'!E94) -> 0 | F94: =SUM('Վ. Խալաթյան:Հ. Սարգսյան'!F94) -> 0 | G94: =SUM('Վ. Խալաթյան:Հ. Սարգսյան'!G94) -> 0 | H94: =SUM('Վ. Խալաթյան:Հ. Սարգսյան'!H94) -> 0 | I94: =SUM('Վ. Խալաթյան:Հ. Սարգսյան'!I94) -> 0 | J94: =SUM('Վ. Խալաթյան:Հ. Սարգսյան'!J94) -> 0 | K94: =SUM('Վ. Խալաթյան:Հ. Սարգսյան'!K94) -> 0 | ... AE94: =SUM('Վ. Խալաթյան:Հ. Սարգսյան'!AE94) -> 0 | AF94: =D94+F94 -> 0 | AG94: =G94+K94+L94+N94 -> 0 | AH94: =K94 -> 0 | AI94: =H94+I94+J94 -> 0 | AJ94: =T94 -> 0 | AK94: =P94+Q94+R94+S94 -> 0 | AL94: =AA94 -> 0 | AM94: =W94+X94+Y94+Z94 -> 0
A95: 5.10 | B95: Ծնողի կողմից երեխային պահելուց չարամտորեն խուսափելը | C95: 173 | D95: =SUM('Վ. Խալաթյան:Հ. Սարգսյան'!D95) -> 0 | E95: =SUM('Վ. Խալաթյան:Հ. Սարգսյան'!E95) -> 0 | F95: =SUM('Վ. Խալաթյան:Հ. Սարգսյան'!F95) -> 0 | G95: =SUM('Վ. Խալաթյան:Հ. Սարգսյան'!G95) -> 0 | H95: =SUM('Վ. Խալաթյան:Հ. Սարգսյան'!H95) -> 0 | I95: =SUM('Վ. Խալաթյան:Հ. Սարգսյան'!I95) -> 0 | J95: =SUM('Վ. Խալաթյան:Հ. Սարգսյան'!J95) -> 0 | K95: =SUM('Վ. Խալաթյան:Հ. Սարգսյան'!K95) -> 0 | ... AE95: =SUM('Վ. Խալաթյան:Հ. Սարգսյան'!AE95) -> 0 | AF95: =D95+F95 -> 0 | AG95: =G95+K95+L95+N95 -> 0 | AH95: =K95 -> 0 | AI95: =H95+I95+J95 -> 0 | AJ95: =T95 -> 0 | AK95: =P95+Q95+R95+S95 -> 0 | AL95: =AA95 -> 0 | AM95: =W95+X95+Y95+Z95 -> 0
A96: 5.11 | B96: Զավակի կողմից անաշխատունակ ծնողին պահելուց չարամտորեն խուսափելը | C96: 174 | D96: =SUM('Վ. Խալաթյան:Հ. Սարգսյան'!D96) -> 0 | E96: =SUM('Վ. Խալաթյան:Հ. Սարգսյան'!E96) -> 0 | F96: =SUM('Վ. Խալաթյան:Հ. Սարգսյան'!F96) -> 0 | G96: =SUM('Վ. Խալաթյան:Հ. Սարգսյան'!G96) -> 0 | H96: =SUM('Վ. Խալաթյան:Հ. Սարգսյան'!H96) -> 0 | I96: =SUM('Վ. Խալաթյան:Հ. Սարգսյան'!I96) -> 0 | J96: =SUM('Վ. Խալաթյան:Հ. Սարգսյան'!J96) -> 0 | K96: =SUM('Վ. Խալաթյան:Հ. Սարգսյան'!K96) -> 0 | ... AE96: =SUM('Վ. Խալաթյան:Հ. Սարգսյան'!AE96) -> 0 | AF96: =D96+F96 -> 0 | AG96: =G96+K96+L96+N96 -> 0 | AH96: =K96 -> 0 | AI96: =H96+I96+J96 -> 0 | AJ96: =T96 -> 0 | AK96: =P96+Q96+R96+S96 -> 0 | AL96: =AA96 -> 0 | AM96: =W96+X96+Y96+Z96 -> 0
A97: 5.12 | B97: Այլ հանցագործություններ | D97: =SUM('Վ. Խալաթյան:Հ. Սարգսյան'!D97) -> 0 | E97: =SUM('Վ. Խալաթյան:Հ. Սարգսյան'!E97) -> 0 | F97: =SUM('Վ. Խալաթյան:Հ. Սարգսյան'!F97) -> 0 | G97: =SUM('Վ. Խալաթյան:Հ. Սարգսյան'!G97) -> 0 | H97: =SUM('Վ. Խալաթյան:Հ. Սարգսյան'!H97) -> 0 | I97: =SUM('Վ. Խալաթյան:Հ. Սարգսյան'!I97) -> 0 | J97: =SUM('Վ. Խալաթյան:Հ. Սարգսյան'!J97) -> 0 | K97: =SUM('Վ. Խալաթյան:Հ. Սարգսյան'!K97) -> 0 | ... AE97: =SUM('Վ. Խալաթյան:Հ. Սարգսյան'!AE97) -> 0 | AF97: =D97+F97 -> 0 | AG97: =G97+K97+L97+N97 -> 0 | AH97: =K97 -> 0 | AI97: =H97+I97+J97 -> 0 | AJ97: =T97 -> 0 | AK97: =P97+Q97+R97+S97 -> 0 | AL97: =AA97 -> 0 | AM97: =W97+X97+Y97+Z97 -> 0
A98: 6. | B98: Ընդամենը սեփականության դեմ ուղղված հանցագործությունները | D98: =SUM(D99:D113) -> 25 | E98: =SUM(E99:E113) -> 1 | F98: =SUM(F99:F113) -> 44 | G98: =SUM(G99:G113) -> 0 | H98: =SUM(H99:H113) -> 39 | I98: =SUM(I99:I113) -> 1 | J98: =SUM(J99:J113) -> 0 | K98: =SUM(K99:K113) -> 40 | ... AM98: =SUM(AM99:AM113) -> 2
A99: 6.1 | B99: Ավազակությունը | C99: 175 | D99: =SUM('Վ. Խալաթյան:Հ. Սարգսյան'!D99) -> 0 | E99: =SUM('Վ. Խալաթյան:Հ. Սարգսյան'!E99) -> 0 | F99: =SUM('Վ. Խալաթյան:Հ. Սարգսյան'!F99) -> 2 | G99: =SUM('Վ. Խալաթյան:Հ. Սարգսյան'!G99) -> 0 | H99: =SUM('Վ. Խալաթյան:Հ. Սարգսյան'!H99) -> 0 | I99: =SUM('Վ. Խալաթյան:Հ. Սարգսյան'!I99) -> 0 | J99: =SUM('Վ. Խալաթյան:Հ. Սարգսյան'!J99) -> 0 | K99: =SUM('Վ. Խալաթյան:Հ. Սարգսյան'!K99) -> 0 | ... AE99: =SUM('Վ. Խալաթյան:Հ. Սարգսյան'!AE99) -> 0 | AF99: =D99+F99 -> 2 | AG99: =G99+K99+L99+N99 -> 2 | AH99: =K99 -> 0 | AI99: =H99+I99+J99 -> 0 | AJ99: =T99 -> 0 | AK99: =P99+Q99+R99+S99 -> 0 | AL99: =AA99 -> 0 | AM99: =W99+X99+Y99+Z99 -> 0
A100: 6.2 | B100: Կողոպուտը | C100: 176 | D100: =SUM('Վ. Խալաթյան:Հ. Սարգսյան'!D100) -> 0 | E100: =SUM('Վ. Խալաթյան:Հ. Սարգսյան'!E100) -> 0 | F100: =SUM('Վ. Խալաթյան:Հ. Սարգսյան'!F100) -> 4 | G100: =SUM('Վ. Խալաթյան:Հ. Սարգսյան'!G100) -> 0 | H100: =SUM('Վ. Խալաթյան:Հ. Սարգսյան'!H100) -> 2 | I100: =SUM('Վ. Խալաթյան:Հ. Սարգսյան'!I100) -> 0 | J100: =SUM('Վ. Խալաթյան:Հ. Սարգսյան'!J100) -> 0 | K100: =SUM('Վ. Խալաթյան:Հ. Սարգսյան'!K100) -> 2 | ... AE100: =SUM('Վ. Խալաթյան:Հ. Սարգսյան'!AE100) -> 0 | AF100: =D100+F100 -> 4 | AG100: =G100+K100+L100+N100 -> 4 | AH100: =K100 -> 2 | AI100: =H100+I100+J100 -> 2 | AJ100: =T100 -> 1 | AK100: =P100+Q100+R100+S100 -> 1 | AL100: =AA100 -> 0 | AM100: =W100+X100+Y100+Z100 -> 0
A101: 6.3 | B101: Գողությունը | C101: 177 | D101: =SUM('Վ. Խալաթյան:Հ. Սարգսյան'!D101) -> 15 | E101: =SUM('Վ. Խալաթյան:Հ. Սարգսյան'!E101) -> 1 | F101: =SUM('Վ. Խալաթյան:Հ. Սարգսյան'!F101) -> 24 | G101: =SUM('Վ. Խալաթյան:Հ. Սարգսյան'!G101) -> 0 | H101: =SUM('Վ. Խալաթյան:Հ. Սարգսյան'!H101) -> 23 | I101: =SUM('Վ. Խալաթյան:Հ. Սարգսյան'!I101) -> 1 | J101: =SUM('Վ. Խալաթյան:Հ. Սարգսյան'!J101) -> 0 | K101: =SUM('Վ. Խալաթյան:Հ. Սարգսյան'!K101) -> 24 | ... AE101: =SUM('Վ. Խալաթյան:Հ. Սարգսյան'!AE101) -> 0 | AF101: =D101+F101 -> 39 | AG101: =G101+K101+L101+N101 -> 39 | AH101: =K101 -> 24 | AI101: =H101+I101+J101 -> 24 | AJ101: =T101 -> 16 | AK101: =P101+Q101+R101+S101 -> 16 | AL101: =AA101 -> 1 | AM101: =W101+X101+Y101+Z101 -> 1
A102: 6.4 | B102: Խարդախությունը | C102: 178 | D102: =SUM('Վ. Խալաթյան:Հ. Սարգսյան'!D102) -> 2 | E102: =SUM('Վ. Խալաթյան:Հ. Սարգսյան'!E102) -> 0 | F102: =SUM('Վ. Խալաթյան:Հ. Սարգսյան'!F102) -> 9 | G102: =SUM('Վ. Խալաթյան:Հ. Սարգսյան'!G102) -> 0 | H102: =SUM('Վ. Խալաթյան:Հ. Սարգսյան'!H102) -> 4 | I102: =SUM('Վ. Խալաթյան:Հ. Սարգսյան'!I102) -> 0 | J102: =SUM('Վ. Խալաթյան:Հ. Սարգսյան'!J102) -> 0 | K102: =SUM('Վ. Խալաթյան:Հ. Սարգսյան'!K102) -> 4 | ... AE102: =SUM('Վ. Խալաթյան:Հ. Սարգսյան'!AE102) -> 0 | AF102: =D102+F102 -> 11 | AG102: =G102+K102+L102+N102 -> 11 | AH102: =K102 -> 4 | AI102: =H102+I102+J102 -> 4 | AJ102: =T102 -> 2 | AK102: =P102+Q102+R102+S102 -> 2 | AL102: =AA102 -> 1 | AM102: =W102+X102+Y102+Z102 -> 1
A103: 6.5 | B103: Յուրացնելը կամ վատնելը | C103: 179 | D103: =SUM('Վ. Խալաթյան:Հ. Սարգսյան'!D103) -> 5 | E103: =SUM('Վ. Խալաթյան:Հ. Սարգսյան'!E103) -> 0 | F103: =SUM('Վ. Խալաթյան:Հ. Սարգսյան'!F103) -> 3 | G103: =SUM('Վ. Խալաթյան:Հ. Սարգսյան'!G103) -> 0 | H103: =SUM('Վ. Խալաթյան:Հ. Սարգսյան'!H103) -> 6 | I103: =SUM('Վ. Խալաթյան:Հ. Սարգսյան'!I103) -> 0 | J103: =SUM('Վ. Խալաթյան:Հ. Սարգսյան'!J103) -> 0 | K103: =SUM('Վ. Խալաթյան:Հ. Սարգսյան'!K103) -> 6 | ... AE103: =SUM('Վ. Խալաթյան:Հ. Սարգսյան'!AE103) -> 0 | AF103: =D103+F103 -> 8 | AG103: =G103+K103+L103+N103 -> 8 | AH103: =K103 -> 6 | AI103: =H103+I103+J103 -> 6 | AJ103: =T103 -> 4 | AK103: =P103+Q103+R103+S103 -> 4 | AL103: =AA103 -> 0 | AM103: =W103+X103+Y103+Z103 -> 0
A104: 6.6 | B104: Առանձնակի արժեք ունեցող առարկաներ հափշտակելը | C104: 180 | D104: =SUM('Վ. Խալաթյան:Հ. Սարգսյան'!D104) -> 0 | E104: =SUM('Վ. Խալաթյան:Հ. Սարգսյան'!E104) -> 0 | F104: =SUM('Վ. Խալաթյան:Հ. Սարգսյան'!F104) -> 0 | G104: =SUM('Վ. Խալաթյան:Հ. Սարգսյան'!G104) -> 0 | H104: =SUM('Վ. Խալաթյան:Հ. Սարգսյան'!H104) -> 0 | I104: =SUM('Վ. Խալաթյան:Հ. Սարգսյան'!I104) -> 0 | J104: =SUM('Վ. Խալաթյան:Հ. Սարգսյան'!J104) -> 0 | K104: =SUM('Վ. Խալաթյան:Հ. Սարգսյան'!K104) -> 0 | ... AE104: =SUM('Վ. Խալաթյան:Հ. Սարգսյան'!AE104) -> 0 | AF104: =D104+F104 -> 0 | AG104: =G104+K104+L104+N104 -> 0 | AH104: =K104 -> 0 | AI104: =H104+I104+J104 -> 0 | AJ104: =T104 -> 0 | AK104: =P104+Q104+R104+S104 -> 0 | AL104: =AA104 -> 0 | AM104: =W104+X104+Y104+Z104 -> 0
A105: 6.7 | B105: Հափշտակությունը, որը կատարվել է համակարգչային տեխնիկայի օգտագործմամբ | C105: 181 | D105: =SUM('Վ. Խալաթյան:Հ. Սարգսյան'!D105) -> 0 | E105: =SUM('Վ. Խալաթյան:Հ. Սարգսյան'!E105) -> 0 | F105: =SUM('Վ. Խալաթյան:Հ. Սարգսյան'!F105) -> 0 | G105: =SUM('Վ. Խալաթյան:Հ. Սարգսյան'!G105) -> 0 | H105: =SUM('Վ. Խալաթյան:Հ. Սարգսյան'!H105) -> 0 | I105: =SUM('Վ. Խալաթյան:Հ. Սարգսյան'!I105) -> 0 | J105: =SUM('Վ. Խալաթյան:Հ. Սարգսյան'!J105) -> 0 | K105: =SUM('Վ. Խալաթյան:Հ. Սարգսյան'!K105) -> 0 | ... AE105: =SUM('Վ. Խալաթյան:Հ. Սարգսյան'!AE105) -> 0 | AF105: =D105+F105 -> 0 | AG105: =G105+K105+L105+N105 -> 0 | AH105: =K105 -> 0 | AI105: =H105+I105+J105 -> 0 | AJ105: =T105 -> 0 | AK105: =P105+Q105+R105+S105 -> 0 | AL105: =AA105 -> 0 | AM105: =W105+X105+Y105+Z105 -> 0
A106: 6.8 | B106: Շորթումը | C106: 182 | D106: =SUM('Վ. Խալաթյան:Հ. Սարգսյան'!D106) -> 1 | E106: =SUM('Վ. Խալաթյան:Հ. Սարգսյան'!E106) -> 0 | F106: =SUM('Վ. Խալաթյան:Հ. Սարգսյան'!F106) -> 0 | G106: =SUM('Վ. Խալաթյան:Հ. Սարգսյան'!G106) -> 0 | H106: =SUM('Վ. Խալաթյան:Հ. Սարգսյան'!H106) -> 1 | I106: =SUM('Վ. Խալաթյան:Հ. Սարգսյան'!I106) -> 0 | J106: =SUM('Վ. Խալաթյան:Հ. Սարգսյան'!J106) -> 0 | K106: =SUM('Վ. Խալաթյան:Հ. Սարգսյան'!K106) -> 1 | ... AE106: =SUM('Վ. Խալաթյան:Հ. Սարգսյան'!AE106) -> 0 | AF106: =D106+F106 -> 1 | AG106: =G106+K106+L106+N106 -> 1 | AH106: =K106 -> 1 | AI106: =H106+I106+J106 -> 1 | AJ106: =T106 -> 1 | AK106: =P106+Q106+R106+S106 -> 1 | AL106: =AA106 -> 0 | AM106: =W106+X106+Y106+Z106 -> 0
A107: 6.9 | B107: Ավտոմեքենային կամ տրանսպորտային այլ միջոցին ապօրինաբար տիրանալն առանց հափշտակելու նպատակի | C107: 183 | D107: =SUM('Վ. Խալաթյան:Հ. Սարգսյան'!D107) -> 0 | E107: =SUM('Վ. Խալաթյան:Հ. Սարգսյան'!E107) -> 0 | F107: =SUM('Վ. Խալաթյան:Հ. Սարգսյան'!F107) -> 0 | G107: =SUM('Վ. Խալաթյան:Հ. Սարգսյան'!G107) -> 0 | H107: =SUM('Վ. Խալաթյան:Հ. Սարգսյան'!H107) -> 0 | I107: =SUM('Վ. Խալաթյան:Հ. Սարգսյան'!I107) -> 0 | J107: =SUM('Վ. Խալաթյան:Հ. Սարգսյան'!J107) -> 0 | K107: =SUM('Վ. Խալաթյան:Հ. Սարգսյան'!K107) -> 0 | ... AE107: =SUM('Վ. Խալաթյան:Հ. Սարգսյան'!AE107) -> 0 | AF107: =D107+F107 -> 0 | AG107: =G107+K107+L107+N107 -> 0 | AH107: =K107 -> 0 | AI107: =H107+I107+J107 -> 0 | AJ107: =T107 -> 0 | AK107: =P107+Q107+R107+S107 -> 0 | AL107: =AA107 -> 0 | AM107: =W107+X107+Y107+Z107 -> 0
A108: 6.10 | B108: Գույքային վնաս պատճառելը խաբեության կամ վստահությունը չարաշահելու եղանակով | C108: 184 | D108: =SUM('Վ. Խալաթյան:Հ. Սարգսյան'!D108) -> 1 | E108: =SUM('Վ. Խալաթյան:Հ. Սարգսյան'!E108) -> 0 | F108: =SUM('Վ. Խալաթյան:Հ. Սարգսյան'!F108) -> 0 | G108: =SUM('Վ. Խալաթյան:Հ. Սարգսյան'!G108) -> 0 | H108: =SUM('Վ. Խալաթյան:Հ. Սարգսյան'!H108) -> 1 | I108: =SUM('Վ. Խալաթյան:Հ. Սարգսյան'!I108) -> 0 | J108: =SUM('Վ. Խալաթյան:Հ. Սարգսյան'!J108) -> 0 | K108: =SUM('Վ. Խալաթյան:Հ. Սարգսյան'!K108) -> 1 | ... AE108: =SUM('Վ. Խալաթյան:Հ. Սարգսյան'!AE108) -> 0 | AF108: =D108+F108 -> 1 | AG108: =G108+K108+L108+N108 -> 1 | AH108: =K108 -> 1 | AI108: =H108+I108+J108 -> 1 | AJ108: =T108 -> 0 | AK108: =P108+Q108+R108+S108 -> 0 | AL108: =AA108 -> 0 | AM108: =W108+X108+Y108+Z108 -> 0
A109: 6.10.1 | B109: Գրավառուին վնաս պատճառելը | C109: 184.1 | D109: =SUM('Վ. Խալաթյան:Հ. Սարգսյան'!D109) -> 0 | E109: =SUM('Վ. Խալաթյան:Հ. Սարգսյան'!E109) -> 0 | F109: =SUM('Վ. Խալաթյան:Հ. Սարգսյան'!F109) -> 0 | G109: =SUM('Վ. Խալաթյան:Հ. Սարգսյան'!G109) -> 0 | H109: =SUM('Վ. Խալաթյան:Հ. Սարգսյան'!H109) -> 0 | I109: =SUM('Վ. Խալաթյան:Հ. Սարգսյան'!I109) -> 0 | J109: =SUM('Վ. Խալաթյան:Հ. Սարգսյան'!J109) -> 0 | K109: =SUM('Վ. Խալաթյան:Հ. Սարգսյան'!K109) -> 0 | ... AE109: =SUM('Վ. Խալաթյան:Հ. Սարգսյան'!AE109) -> 0 | AF109: =D109+F109 -> 0 | AG109: =G109+K109+L109+N109 -> 0 | AH109: =K109 -> 0 | AI109: =H109+I109+J109 -> 0 | AJ109: =T109 -> 0 | AK109: =P109+Q109+R109+S109 -> 0 | AL109: =AA109 -> 0 | AM109: =W109+X109+Y109+Z109 -> 0
A110: 6.11 | B110: Գույքը դիտավորությամբ ոչնչացնելը կամ վնասելը | C110: 185 | D110: =SUM('Վ. Խալաթյան:Հ. Սարգսյան'!D110) -> 1 | E110: =SUM('Վ. Խալաթյան:Հ. Սարգսյան'!E110) -> 0 | F110: =SUM('Վ. Խալաթյան:Հ. Սարգսյան'!F110) -> 2 | G110: =SUM('Վ. Խալաթյան:Հ. Սարգսյան'!G110) -> 0 | H110: =SUM('Վ. Խալաթյան:Հ. Սարգսյան'!H110) -> 2 | I110: =SUM('Վ. Խալաթյան:Հ. Սարգսյան'!I110) -> 0 | J110: =SUM('Վ. Խալաթյան:Հ. Սարգսյան'!J110) -> 0 | K110: =SUM('Վ. Խալաթյան:Հ. Սարգսյան'!K110) -> 2 | ... AE110: =SUM('Վ. Խալաթյան:Հ. Սարգսյան'!AE110) -> 0 | AF110: =D110+F110 -> 3 | AG110: =G110+K110+L110+N110 -> 3 | AH110: =K110 -> 2 | AI110: =H110+I110+J110 -> 2 | AJ110: =T110 -> 0 | AK110: =P110+Q110+R110+S110 -> 0 | AL110: =AA110 -> 0 | AM110: =W110+X110+Y110+Z110 -> 0
... A112: 6.13 | B112: Գուքի պահպանության պարտականություններն անփույթ կամ անբարեխիղճ կատարելը | C112: 186.1 | D112: =SUM('Վ. Խալաթյան:Հ. Սարգսյան'!D112) -> 0 | E112: =SUM('Վ. Խալաթյան:Հ. Սարգսյան'!E112) -> 0 | F112: =SUM('Վ. Խալաթյան:Հ. Սարգսյան'!F112) -> 0 | G112: =SUM('Վ. Խալաթյան:Հ. Սարգսյան'!G112) -> 0 | H112: =SUM('Վ. Խալաթյան:Հ. Սարգսյան'!H112) -> 0 | I112: =SUM('Վ. Խալաթյան:Հ. Սարգսյան'!I112) -> 0 | J112: =SUM('Վ. Խալաթյան:Հ. Սարգսյան'!J112) -> 0 | K112: =SUM('Վ. Խալաթյան:Հ. Սարգսյան'!K112) -> 0 | ... AE112: =SUM('Վ. Խալաթյան:Հ. Սարգսյան'!AE112) -> 0 | AF112: =D112+F112 -> 0 | AG112: =G112+K112+L112+N112 -> 0 | AH112: =K112 -> 0 | AI112: =H112+I112+J112 -> 0 | AJ112: =T112 -> 0 | AK112: =P112+Q112+R112+S112 -> 0 | AL112: =AA112 -> 0 | AM112: =W112+X112+Y112+Z112 -> 0
A113: 6.14 | B113: Այլ հանցագործություններ | D113: =SUM('Վ. Խալաթյան:Հ. Սարգսյան'!D113) -> 0 | E113: =SUM('Վ. Խալաթյան:Հ. Սարգսյան'!E113) -> 0 | F113: =SUM('Վ. Խալաթյան:Հ. Սարգսյան'!F113) -> 0 | G113: =SUM('Վ. Խալաթյան:Հ. Սարգսյան'!G113) -> 0 | H113: =SUM('Վ. Խալաթյան:Հ. Սարգսյան'!H113) -> 0 | I113: =SUM('Վ. Խալաթյան:Հ. Սարգսյան'!I113) -> 0 | J113: =SUM('Վ. Խալաթյան:Հ. Սարգսյան'!J113) -> 0 | K113: =SUM('Վ. Խալաթյան:Հ. Սարգսյան'!K113) -> 0 | ... AE113: =SUM('Վ. Խալաթյան:Հ. Սարգսյան'!AE113) -> 0 | AF113: =D113+F113 -> 0 | AG113: =G113+K113+L113+N113 -> 0 | AH113: =K113 -> 0 | AI113: =H113+I113+J113 -> 0 | AJ113: =T113 -> 0 | AK113: =P113+Q113+R113+S113 -> 0 | AL113: =AA113 -> 0 | AM113: =W113+X113+Y113+Z113 -> 0
A114: 7. | B114: Ընդամենը տնտեսական գործունեության դեմ ուղղված հանցագործությունները | D114: =SUM(D115:D150) -> 1 | E114: =SUM(E115:E150) -> 0 | F114: =SUM(F115:F150) -> 1 | G114: =SUM(G115:G150) -> 0 | H114: =SUM(H115:H150) -> 2 | I114: =SUM(I115:I150) -> 0 | J114: =SUM(J115:J150) -> 0 | K114: =SUM(K115:K150) -> 2 | ... AM114: =SUM(AM115:AM150) -> 0
A115: 7.1 | B115: Օրինական ձեռնարկատիրական և այլ տնտեսական գործունեությանը խոչընդոտելը | C115: 187 | D115: =SUM('Վ. Խալաթյան:Հ. Սարգսյան'!D115) -> 0 | E115: =SUM('Վ. Խալաթյան:Հ. Սարգսյան'!E115) -> 0 | F115: =SUM('Վ. Խալաթյան:Հ. Սարգսյան'!F115) -> 0 | G115: =SUM('Վ. Խալաթյան:Հ. Սարգսյան'!G115) -> 0 | H115: =SUM('Վ. Խալաթյան:Հ. Սարգսյան'!H115) -> 0 | I115: =SUM('Վ. Խալաթյան:Հ. Սարգսյան'!I115) -> 0 | J115: =SUM('Վ. Խալաթյան:Հ. Սարգսյան'!J115) -> 0 | K115: =SUM('Վ. Խալաթյան:Հ. Սարգսյան'!K115) -> 0 | ... AE115: =SUM('Վ. Խալաթյան:Հ. Սարգսյան'!AE115) -> 0 | AF115: =D115+F115 -> 0 | AG115: =G115+K115+L115+N115 -> 0 | AH115: =K115 -> 0 | AI115: =H115+I115+J115 -> 0 | AJ115: =T115 -> 0 | AK115: =P115+Q115+R115+S115 -> 0 | AL115: =AA115 -> 0 | AM115: =W115+X115+Y115+Z115 -> 0
A116: 7.2 | B116: Ապօրինի ձեռնարկատիրությունը | C116: 188 | D116: =SUM('Վ. Խալաթյան:Հ. Սարգսյան'!D116) -> 0 | E116: =SUM('Վ. Խալաթյան:Հ. Սարգսյան'!E116) -> 0 | F116: =SUM('Վ. Խալաթյան:Հ. Սարգսյան'!F116) -> 0 | G116: =SUM('Վ. Խալաթյան:Հ. Սարգսյան'!G116) -> 0 | H116: =SUM('Վ. Խալաթյան:Հ. Սարգսյան'!H116) -> 0 | I116: =SUM('Վ. Խալաթյան:Հ. Սարգսյան'!I116) -> 0 | J116: =SUM('Վ. Խալաթյան:Հ. Սարգսյան'!J116) -> 0 | K116: =SUM('Վ. Խալաթյան:Հ. Սարգսյան'!K116) -> 0 | ... AE116: =SUM('Վ. Խալաթյան:Հ. Սարգսյան'!AE116) -> 0 | AF116: =D116+F116 -> 0 | AG116: =G116+K116+L116+N116 -> 0 | AH116: =K116 -> 0 | AI116: =H116+I116+J116 -> 0 | AJ116: =T116 -> 0 | AK116: =P116+Q116+R116+S116 -> 0 | AL116: =AA116 -> 0 | AM116: =W116+X116+Y116+Z116 -> 0
A117: 7.3 | B117: Առանց լիցենազիայի արտարժույթի վաճառքի իրականացումը | C117: 188.1 | D117: =SUM('Վ. Խալաթյան:Հ. Սարգսյան'!D117) -> 0 | E117: =SUM('Վ. Խալաթյան:Հ. Սարգսյան'!E117) -> 0 | F117: =SUM('Վ. Խալաթյան:Հ. Սարգսյան'!F117) -> 0 | G117: =SUM('Վ. Խալաթյան:Հ. Սարգսյան'!G117) -> 0 | H117: =SUM('Վ. Խալաթյան:Հ. Սարգսյան'!H117) -> 0 | I117: =SUM('Վ. Խալաթյան:Հ. Սարգսյան'!I117) -> 0 | J117: =SUM('Վ. Խալաթյան:Հ. Սարգսյան'!J117) -> 0 | K117: =SUM('Վ. Խալաթյան:Հ. Սարգսյան'!K117) -> 0 | ... AE117: =SUM('Վ. Խալաթյան:Հ. Սարգսյան'!AE117) -> 0 | AF117: =D117+F117 -> 0 | AG117: =G117+K117+L117+N117 -> 0 | AH117: =K117 -> 0 | AI117: =H117+I117+J117 -> 0 | AJ117: =T117 -> 0 | AK117: =P117+Q117+R117+S117 -> 0 | AL117: =AA117 -> 0 | AM117: =W117+X117+Y117+Z117 -> 0
A118: 7.4 | B118: Կեղծ ձեռնարկատիրությունը | C118: 189 | D118: =SUM('Վ. Խալաթյան:Հ. Սարգսյան'!D118) -> 0 | E118: =SUM('Վ. Խալաթյան:Հ. Սարգսյան'!E118) -> 0 | F118: =SUM('Վ. Խալաթյան:Հ. Սարգսյան'!F118) -> 0 | G118: =SUM('Վ. Խալաթյան:Հ. Սարգսյան'!G118) -> 0 | H118: =SUM('Վ. Խալաթյան:Հ. Սարգսյան'!H118) -> 0 | I118: =SUM('Վ. Խալաթյան:Հ. Սարգսյան'!I118) -> 0 | J118: =SUM('Վ. Խալաթյան:Հ. Սարգսյան'!J118) -> 0 | K118: =SUM('Վ. Խալաթյան:Հ. Սարգսյան'!K118) -> 0 | ... AE118: =SUM('Վ. Խալաթյան:Հ. Սարգսյան'!AE118) -> 0 | AF118: =D118+F118 -> 0 | AG118: =G118+K118+L118+N118 -> 0 | AH118: =K118 -> 0 | AI118: =H118+I118+J118 -> 0 | AJ118: =T118 -> 0 | AK118: =P118+Q118+R118+S118 -> 0 | AL118: =AA118 -> 0 | AM118: =W118+X118+Y118+Z118 -> 0
A119: 7.4.1 | B119: Ֆինանսական բուրգ ստեղծելը, կազմակերպելը կամ ղեկավարելը | C119: 189.1 | D119: =SUM('Վ. Խալաթյան:Հ. Սարգսյան'!D119) -> 0 | E119: =SUM('Վ. Խալաթյան:Հ. Սարգսյան'!E119) -> 0 | F119: =SUM('Վ. Խալաթյան:Հ. Սարգսյան'!F119) -> 0 | G119: =SUM('Վ. Խալաթյան:Հ. Սարգսյան'!G119) -> 0 | H119: =SUM('Վ. Խալաթյան:Հ. Սարգսյան'!H119) -> 0 | I119: =SUM('Վ. Խալաթյան:Հ. Սարգսյան'!I119) -> 0 | J119: =SUM('Վ. Խալաթյան:Հ. Սարգսյան'!J119) -> 0 | K119: =SUM('Վ. Խալաթյան:Հ. Սարգսյան'!K119) -> 0 | ... AE119: =SUM('Վ. Խալաթյան:Հ. Սարգսյան'!AE119) -> 0 | AF119: =D119+F119 -> 0 | AG119: =G119+K119+L119+N119 -> 0 | AH119: =K119 -> 0 | AI119: =H119+I119+J119 -> 0 | AJ119: =T119 -> 0 | AK119: =P119+Q119+R119+S119 -> 0 | AL119: =AA119 -> 0 | AM119: =W119+X119+Y119+Z119 -> 0
A120: 7.5 | B120: Հանցավոր ճանապարհով ստացված գույքն օրինականացնելը (փողերի լվացումը) | C120: 190 | D120: =SUM('Վ. Խալաթյան:Հ. Սարգսյան'!D120) -> 0 | E120: =SUM('Վ. Խալաթյան:Հ. Սարգսյան'!E120) -> 0 | F120: =SUM('Վ. Խալաթյան:Հ. Սարգսյան'!F120) -> 0 | G120: =SUM('Վ. Խալաթյան:Հ. Սարգսյան'!G120) -> 0 | H120: =SUM('Վ. Խալաթյան:Հ. Սարգսյան'!H120) -> 0 | I120: =SUM('Վ. Խալաթյան:Հ. Սարգսյան'!I120) -> 0 | J120: =SUM('Վ. Խալաթյան:Հ. Սարգսյան'!J120) -> 0 | K120: =SUM('Վ. Խալաթյան:Հ. Սարգսյան'!K120) -> 0 | ... AE120: =SUM('Վ. Խալաթյան:Հ. Սարգսյան'!AE120) -> 0 | AF120: =D120+F120 -> 0 | AG120: =G120+K120+L120+N120 -> 0 | AH120: =K120 -> 0 | AI120: =H120+I120+J120 -> 0 | AJ120: =T120 -> 0 | AK120: =P120+Q120+R120+S120 -> 0 | AL120: =AA120 -> 0 | AM120: =W120+X120+Y120+Z120 -> 0
A121: 7.5.1 | B121: Ներքին տեղեկությունների անբարեխիղճ օգտագործումը | C121: 190.1 | D121: =SUM('Վ. Խալաթյան:Հ. Սարգսյան'!D121) -> 0 | E121: =SUM('Վ. Խալաթյան:Հ. Սարգսյան'!E121) -> 0 | F121: =SUM('Վ. Խալաթյան:Հ. Սարգսյան'!F121) -> 0 | G121: =SUM('Վ. Խալաթյան:Հ. Սարգսյան'!G121) -> 0 | H121: =SUM('Վ. Խալաթյան:Հ. Սարգսյան'!H121) -> 0 | I121: =SUM('Վ. Խալաթյան:Հ. Սարգսյան'!I121) -> 0 | J121: =SUM('Վ. Խալաթյան:Հ. Սարգսյան'!J121) -> 0 | K121: =SUM('Վ. Խալաթյան:Հ. Սարգսյան'!K121) -> 0 | ... AE121: =SUM('Վ. Խալաթյան:Հ. Սարգսյան'!AE121) -> 0 | AF121: =D121+F121 -> 0 | AG121: =G121+K121+L121+N121 -> 0 | AH121: =K121 -> 0 | AI121: =H121+I121+J121 -> 0 | AJ121: =T121 -> 0 | AK121: =P121+Q121+R121+S121 -> 0 | AL121: =AA121 -> 0 | AM121: =W121+X121+Y121+Z121 -> 0
A122: 7.5.2 | B122: Գնային չարաշահումը | C122: 190.2 | D122: =SUM('Վ. Խալաթյան:Հ. Սարգսյան'!D122) -> 0 | E122: =SUM('Վ. Խալաթյան:Հ. Սարգսյան'!E122) -> 0 | F122: =SUM('Վ. Խալաթյան:Հ. Սարգսյան'!F122) -> 0 | G122: =SUM('Վ. Խալաթյան:Հ. Սարգսյան'!G122) -> 0 | H122: =SUM('Վ. Խալաթյան:Հ. Սարգսյան'!H122) -> 0 | I122: =SUM('Վ. Խալաթյան:Հ. Սարգսյան'!I122) -> 0 | J122: =SUM('Վ. Խալաթյան:Հ. Սարգսյան'!J122) -> 0 | K122: =SUM('Վ. Խալաթյան:Հ. Սարգսյան'!K122) -> 0 | ... AE122: =SUM('Վ. Խալաթյան:Հ. Սարգսյան'!AE122) -> 0 | AF122: =D122+F122 -> 0 | AG122: =G122+K122+L122+N122 -> 0 | AH122: =K122 -> 0 | AI122: =H122+I122+J122 -> 0 | AJ122: =T122 -> 0 | AK122: =P122+Q122+R122+S122 -> 0 | AL122: =AA122 -> 0 | AM122: =W122+X122+Y122+Z122 -> 0
A123: 7.6 | B123: Վարկը ոչ նպատակային օգտագործելը | C123: 191 | D123: =SUM('Վ. Խալաթյան:Հ. Սարգսյան'!D123) -> 0 | E123: =SUM('Վ. Խալաթյան:Հ. Սարգսյան'!E123) -> 0 | F123: =SUM('Վ. Խալաթյան:Հ. Սարգսյան'!F123) -> 0 | G123: =SUM('Վ. Խալաթյան:Հ. Սարգսյան'!G123) -> 0 | H123: =SUM('Վ. Խալաթյան:Հ. Սարգսյան'!H123) -> 0 | I123: =SUM('Վ. Խալաթյան:Հ. Սարգսյան'!I123) -> 0 | J123: =SUM('Վ. Խալաթյան:Հ. Սարգսյան'!J123) -> 0 | K123: =SUM('Վ. Խալաթյան:Հ. Սարգսյան'!K123) -> 0 | ... AE123: =SUM('Վ. Խալաթյան:Հ. Սարգսյան'!AE123) -> 0 | AF123: =D123+F123 -> 0 | AG123: =G123+K123+L123+N123 -> 0 | AH123: =K123 -> 0 | AI123: =H123+I123+J123 -> 0 | AJ123: =T123 -> 0 | AK123: =P123+Q123+R123+S123 -> 0 | AL123: =AA123 -> 0 | AM123: =W123+X123+Y123+Z123 -> 0
A124: 7.7 | B124: Անօրինական գործողությունները սնանկության ընթացքում | C124: 192 | D124: =SUM('Վ. Խալաթյան:Հ. Սարգսյան'!D124) -> 0 | E124: =SUM('Վ. Խալաթյան:Հ. Սարգսյան'!E124) -> 0 | F124: =SUM('Վ. Խալաթյան:Հ. Սարգսյան'!F124) -> 0 | G124: =SUM('Վ. Խալաթյան:Հ. Սարգսյան'!G124) -> 0 | H124: =SUM('Վ. Խալաթյան:Հ. Սարգսյան'!H124) -> 0 | I124: =SUM('Վ. Խալաթյան:Հ. Սարգսյան'!I124) -> 0 | J124: =SUM('Վ. Խալաթյան:Հ. Սարգսյան'!J124) -> 0 | K124: =SUM('Վ. Խալաթյան:Հ. Սարգսյան'!K124) -> 0 | ... AE124: =SUM('Վ. Խալաթյան:Հ. Սարգսյան'!AE124) -> 0 | AF124: =D124+F124 -> 0 | AG124: =G124+K124+L124+N124 -> 0 | AH124: =K124 -> 0 | AI124: =H124+I124+J124 -> 0 | AJ124: =T124 -> 0 | AK124: =P124+Q124+R124+S124 -> 0 | AL124: =AA124 -> 0 | AM124: =W124+X124+Y124+Z124 -> 0
A125: 7.8 | B125: Կանխամտածված սնանկությունը | C125: 193 | D125: =SUM('Վ. Խալաթյան:Հ. Սարգսյան'!D125) -> 0 | E125: =SUM('Վ. Խալաթյան:Հ. Սարգսյան'!E125) -> 0 | F125: =SUM('Վ. Խալաթյան:Հ. Սարգսյան'!F125) -> 0 | G125: =SUM('Վ. Խալաթյան:Հ. Սարգսյան'!G125) -> 0 | H125: =SUM('Վ. Խալաթյան:Հ. Սարգսյան'!H125) -> 0 | I125: =SUM('Վ. Խալաթյան:Հ. Սարգսյան'!I125) -> 0 | J125: =SUM('Վ. Խալաթյան:Հ. Սարգսյան'!J125) -> 0 | K125: =SUM('Վ. Խալաթյան:Հ. Սարգսյան'!K125) -> 0 | ... AE125: =SUM('Վ. Խալաթյան:Հ. Սարգսյան'!AE125) -> 0 | AF125: =D125+F125 -> 0 | AG125: =G125+K125+L125+N125 -> 0 | AH125: =K125 -> 0 | AI125: =H125+I125+J125 -> 0 | AJ125: =T125 -> 0 | AK125: =P125+Q125+R125+S125 -> 0 | AL125: =AA125 -> 0 | AM125: =W125+X125+Y125+Z125 -> 0
A126: 7.9 | B126: Կեղծ սնանկությունը | C126: 194 | D126: =SUM('Վ. Խալաթյան:Հ. Սարգսյան'!D126) -> 0 | E126: =SUM('Վ. Խալաթյան:Հ. Սարգսյան'!E126) -> 0 | F126: =SUM('Վ. Խալաթյան:Հ. Սարգսյան'!F126) -> 0 | G126: =SUM('Վ. Խալաթյան:Հ. Սարգսյան'!G126) -> 0 | H126: =SUM('Վ. Խալաթյան:Հ. Սարգսյան'!H126) -> 0 | I126: =SUM('Վ. Խալաթյան:Հ. Սարգսյան'!I126) -> 0 | J126: =SUM('Վ. Խալաթյան:Հ. Սարգսյան'!J126) -> 0 | K126: =SUM('Վ. Խալաթյան:Հ. Սարգսյան'!K126) -> 0 | ... AE126: =SUM('Վ. Խալաթյան:Հ. Սարգսյան'!AE126) -> 0 | AF126: =D126+F126 -> 0 | AG126: =G126+K126+L126+N126 -> 0 | AH126: =K126 -> 0 | AI126: =H126+I126+J126 -> 0 | AJ126: =T126 -> 0 | AK126: =P126+Q126+R126+S126 -> 0 | AL126: =AA126 -> 0 | AM126: =W126+X126+Y126+Z126 -> 0
... A149: 7.31 | B149: Ակնհայտ հանցավոր ճանապարհով ձեռք բերված գույք ձեռք բերելը կամ իրացնելը | C149: 216 | D149: =SUM('Վ. Խալաթյան:Հ. Սարգսյան'!D149) -> 0 | E149: =SUM('Վ. Խալաթյան:Հ. Սարգսյան'!E149) -> 0 | F149: =SUM('Վ. Խալաթյան:Հ. Սարգսյան'!F149) -> 1 | G149: =SUM('Վ. Խալաթյան:Հ. Սարգսյան'!G149) -> 0 | H149: =SUM('Վ. Խալաթյան:Հ. Սարգսյան'!H149) -> 1 | I149: =SUM('Վ. Խալաթյան:Հ. Սարգսյան'!I149) -> 0 | J149: =SUM('Վ. Խալաթյան:Հ. Սարգսյան'!J149) -> 0 | K149: =SUM('Վ. Խալաթյան:Հ. Սարգսյան'!K149) -> 1 | ... AE149: =SUM('Վ. Խալաթյան:Հ. Սարգսյան'!AE149) -> 0 | AF149: =D149+F149 -> 1 | AG149: =G149+K149+L149+N149 -> 1 | AH149: =K149 -> 1 | AI149: =H149+I149+J149 -> 1 | AJ149: =T149 -> 0 | AK149: =P149+Q149+R149+S149 -> 0 | AL149: =AA149 -> 0 | AM149: =W149+X149+Y149+Z149 -> 0
A150: 7.32 | B150: Այլ հանցագործություններ | D150: =SUM('Վ. Խալաթյան:Հ. Սարգսյան'!D150) -> 0 | E150: =SUM('Վ. Խալաթյան:Հ. Սարգսյան'!E150) -> 0 | F150: =SUM('Վ. Խալաթյան:Հ. Սարգսյան'!F150) -> 0 | G150: =SUM('Վ. Խալաթյան:Հ. Սարգսյան'!G150) -> 0 | H150: =SUM('Վ. Խալաթյան:Հ. Սարգսյան'!H150) -> 0 | I150: =SUM('Վ. Խալաթյան:Հ. Սարգսյան'!I150) -> 0 | J150: =SUM('Վ. Խալաթյան:Հ. Սարգսյան'!J150) -> 0 | K150: =SUM('Վ. Խալաթյան:Հ. Սարգսյան'!K150) -> 0 | ... AE150: =SUM('Վ. Խալաթյան:Հ. Սարգսյան'!AE150) -> 0 | AF150: =D150+F150 -> 0 | AG150: =G150+K150+L150+N150 -> 0 | AH150: =K150 -> 0 | AI150: =H150+I150+J150 -> 0 | AJ150: =T150 -> 0 | AK150: =P150+Q150+R150+S150 -> 0 | AL150: =AA150 -> 0 | AM150: =W150+X150+Y150+Z150 -> 0
A151: 8. | B151: Ընդամենը հասարակական անվտանգության դեմ ուղղված հանցագործությունները | D151: =SUM(D152:D191) -> 6 | E151: =SUM(E152:E191) -> 0 | F151: =SUM(F152:F191) -> 26 | G151: =SUM(G152:G191) -> 0 | H151: =SUM(H152:H191) -> 24 | I151: =SUM(I152:I191) -> 0 | J151: =SUM(J152:J191) -> 0 | K151: =SUM(K152:K191) -> 24 | ... AM151: =SUM(AM152:AM191) -> 0
...

Sheet Վ. Խալաթյան
A1: 2017թ. | D1: ՀԱՇՎԵՏՎՈՒԹՅՈՒՆ | Z1: Հավելված Հայաստանի Հանրապետության Դատարանների նախագահների խորհրդի 29.01.2018թ. թիվ 10-Լ որոշման
A2: ՀՀ ԱՐՄԱՎԻՐԻ ՄԱՐԶԻ ԸՆԴՀԱՆՈՒՐ ԻՐԱՎԱՍՈՒԹՅԱՆ ԱՌԱՋԻՆ ԱՏՅԱՆԻ ԴԱՏԱՐԱՆԻ ԴԱՏԱՎՈՐ Վ. ԽԱԼԱԹՅԱՆԻ ԳՈՐԾՈՒՆԵՈՒԹՅԱՆ ՎԵՐԱԲԵՐՅԱԼ
A3: ՔՐԵԱԿԱՆ ԳՈՐԾԵՐ
A4: ՀՀ Արմավիրի մարզի ընդհանուր իրավասության առաջին ատյանի դատարանում քրեական մասնագիտացում ունեցող դատավորների հաստիքների քանակը` 3
C5: ՀՀ քրեական օրենսգրքի հոդվածներ | D5: Հաշվետու ժամանակահատվածի սկզբում նախորդ հաշվետու ժամանակահատվածից փոխանցված գործերի ընդհանուր թիվը | E5: Այդ թվում` կասեցված վիճակում փոխանցված | F5: Հաշվետու ժամանակահատվածում ստացված գործերի ընդհանուր թիվը | G5: Փոխանցվել է այլ դատավորի (կազմի փոփոխություն) | H5: Հաշվետու ժամանակահատվածում ավարտված գործերի ընդհանուր թիվը | L5: ՈՒղարկվել է ըստ ընդդատության | M5: Հաշվետու ժամանակահատվածում կասեցված վարույթներով գործերի ընդհանուր թիվը | N5: Հաշվետու ժամանակահատվածում անավարտ գործերի ընդհանուր թիվը | O5: Այդ թվում՝ կասեցված | P5: Բողոքարկված դատական ակտերը | U5: ավարտված դատական գործերի բողոքարկման տոկոսը (հաշվետու ժամանակաշրջանում) | V5: Անավարտ բողոքներ | W5: Բեկանված դատական ակտերը | AB5: բեկանումների տոկոսը ավարտված գործերից(հաշվետու ժամանակահատվածում) | AC5: Կայունության տոկոսը ավարտված գործերից(հաշվետու ժամանակահատվածում) | AD5: բեկանումների տոկոսը բողոքարկված գործերից(հաշվետու ժամանակահատվածում) | AE5: կայունության տոկոսը բողոքարկված գործերից (հաշվետու ժամանակահատվածում)
H6: Քննվել է ըստ էության և դատավճիռ կայացվել | I6: Որոշում է կայացվել քրեական գործի վարույթը կարճելու և քրեական հետապնդումը դադարեցնելու մասին | J6: Որոշում է կայացվել անմեղսունակների նկատմամբ բժշկական բնույթի հարկադրական միջոցներ կիրառելու մասին | K6: Ընդամենը ավարտվել են գործեր | P6: Այդ թվում` գործն ըստ էության լուծող դատական ակտերը | R6: Այդ թվում` միջանկյալ դատական ակտերը | T6: Ընդամեն բողոքարկվել են ակտեր | W6: Այդ թվում` գործն ըստ էության լուծող դատական ակտերը | Y6: Այդ թվում` միջանկյալ դատական ակտերը | AA6: Ընդամենը բեկանվել են ակտեր
P7: նախորդ տարիներին կայացված ակտերի բողոքարկումը | Q7: հաշվետու ժամանակահատվածում կայացված ակտերի բողոքարկումը | R7: նախորդ տարիներին կայացված ակտերի բողոքարկումը | S7: հաշվետու ժամանակահատվածում կայացված ակտերի բողոքարկումը | W7: նախորդ տարիներին կայացված ակտերի բեկանումները | X7: հաշվետու ժամանակահատվածում կայացված ակտերի բեկանումները | Y7: նախորդ տարիներին կայացված ակտերի բեկանումները | Z7: հաշվետու ժամանակահատվածում կայացված ակտերի բեկանումները
D8: 1 | E8: 2 | F8: 3 | G8: 4 | H8: 5 | I8: 6 | J8: 7 | K8: 8 | L8: 9 | M8: 10 | N8: 11 | O8: 12 | P8: 13 | Q8: 14 | R8: 15 | S8: 16 | T8: 17 | U8: 18 | V8: 19 | W8: 20 | X8: 21 | Y8: 22 | Z8: 23 | AA8: 24 | AB8: 25 | AC8: 26 | AD8: 27 | AE8: 28 | AF8: 1+3=4+8+9+11 | AH8: 8=5+6+7 | AJ8: 17=13+14+15+16 | AL8: 24=20+21+22+23
A9: 1. | B9: Ընդամենը կյանքի և առողջության դեմ ուղղված հանցագործությունները | D9: =SUM(D10:D36) -> 16 | E9: =SUM(E10:E36) -> 0 | F9: =SUM(F10:F36) -> 31 | G9: =SUM(G10:G36) -> 0 | H9: =SUM(H10:H36) -> 11 | I9: =SUM(I10:I36) -> 4 | J9: =SUM(J10:J36) -> 0 | K9: =SUM(K10:K36) -> 15 | ... AM9: =SUM(AM10:AM36) -> 0
A10: 1.1 | B10: Սպանությունը | C10: 104 | D10: 4 | F10: 4 | H10: 3 | K10: 3 | N10: 5 | Q10: 3 | T10: 3 | V10: 3 | AF10: =D10+F10 -> 8 | AG10: =G10+K10+L10+N10 -> 8 | AH10: =K10 -> 3 | AI10: =H10+I10+J10 -> 3 | AJ10: =T10 -> 3 | AK10: =P10+Q10+R10+S10 -> 3 | AL10: =AA10 -> 0 | AM10: =W10+X10+Y10+Z10 -> 0
A11: 1.2 | B11: Հոգեկան խիստ հուզմունքի վիճակում կատարված սպանությունը | C11: 105 | D11: 1 | N11: 1 | AF11: =D11+F11 -> 1 | AG11: =G11+K11+L11+N11 -> 1 | AH11: =K11 -> 0 | AI11: =H11+I11+J11 -> 0 | AJ11: =T11 -> 0 | AK11: =P11+Q11+R11+S11 -> 0 | AL11: =AA11 -> 0 | AM11: =W11+X11+Y11+Z11 -> 0
A12: 1.3 | B12: Մոր կողմից նորածին երեխայի սպանությունը | C12: 106 | AF12: =D12+F12 -> 0 | AG12: =G12+K12+L12+N12 -> 0 | AH12: =K12 -> 0 | AI12: =H12+I12+J12 -> 0 | AJ12: =T12 -> 0 | AK12: =P12+Q12+R12+S12 -> 0 | AL12: =AA12 -> 0 | AM12: =W12+X12+Y12+Z12 -> 0
A13: 1.4 | B13: Հանցանք կատարած անձին բռնելու համար անհրաժեշտ միջոցների սահմանազանցմամբ սպանությունը | C13: 107 | AF13: =D13+F13 -> 0 | AG13: =G13+K13+L13+N13 -> 0 | AH13: =K13 -> 0 | AI13: =H13+I13+J13 -> 0 | AJ13: =T13 -> 0 | AK13: =P13+Q13+R13+S13 -> 0 | AL13: =AA13 -> 0 | AM13: =W13+X13+Y13+Z13 -> 0
A14: 1.5 | B14: Անհրաժեշտ պաշտպանության սահմանազանցմամբ սպանությունը | C14: 108 | AF14: =D14+F14 -> 0 | AG14: =G14+K14+L14+N14 -> 0 | AH14: =K14 -> 0 | AI14: =H14+I14+J14 -> 0 | AJ14: =T14 -> 0 | AK14: =P14+Q14+R14+S14 -> 0 | AL14: =AA14 -> 0 | AM14: =W14+X14+Y14+Z14 -> 0
A15: 1.6 | B15: Անզգուշությամբ մահ պատճառելը | C15: 109 | AF15: =D15+F15 -> 0 | AG15: =G15+K15+L15+N15 -> 0 | AH15: =K15 -> 0 | AI15: =H15+I15+J15 -> 0 | AJ15: =T15 -> 0 | AK15: =P15+Q15+R15+S15 -> 0 | AL15: =AA15 -> 0 | AM15: =W15+X15+Y15+Z15 -> 0
A16: 1.7 | B16: Ինքնասպանության հասցնելը | C16: 110 | AF16: =D16+F16 -> 0 | AG16: =G16+K16+L16+N16 -> 0 | AH16: =K16 -> 0 | AI16: =H16+I16+J16 -> 0 | AJ16: =T16 -> 0 | AK16: =P16+Q16+R16+S16 -> 0 | AL16: =AA16 -> 0 | AM16: =W16+X16+Y16+Z16 -> 0
A17: 1.8 | B17: Ինքնասպանության հակելը | C17: 111 | AF17: =D17+F17 -> 0 | AG17: =G17+K17+L17+N17 -> 0 | AH17: =K17 -> 0 | AI17: =H17+I17+J17 -> 0 | AJ17: =T17 -> 0 | AK17: =P17+Q17+R17+S17 -> 0 | AL17: =AA17 -> 0 | AM17: =W17+X17+Y17+Z17 -> 0
A18: 1.9 | B18: Դիտավորությամբ առողջությանը ծանր վնաս պատճառելը | C18: 112 | D18: 6 | F18: 10 | H18: 5 | K18: 5 | N18: 11 | Q18: 2 | S18: 1 | T18: 3 | V18: 1 | AF18: =D18+F18 -> 16 | AG18: =G18+K18+L18+N18 -> 16 | AH18: =K18 -> 5 | AI18: =H18+I18+J18 -> 5 | AJ18: =T18 -> 3 | AK18: =P18+Q18+R18+S18 -> 3 | AL18: =AA18 -> 0 | AM18: =W18+X18+Y18+Z18 -> 0
A19: 1.10 | B19: Դիտավորությամբ առողջությանը միջին ծանրության վնաս պատճառելը | C19: 113 | D19: 2 | F19: 1 | N19: 3 | Q19: 1 | T19: 1 | V19: 1 | AF19: =D19+F19 -> 3 | AG19: =G19+K19+L19+N19 -> 3 | AH19: =K19 -> 0 | AI19: =H19+I19+J19 -> 0 | AJ19: =T19 -> 1 | AK19: =P19+Q19+R19+S19 -> 1 | AL19: =AA19 -> 0 | AM19: =W19+X19+Y19+Z19 -> 0
A20: 1.11 | B20: Հոգեկան խիստ հուզմունքի վիճակում առողջությանը ծանր կամ միջին ծանրության վնաս պատճառելը | C20: 114 | AF20: =D20+F20 -> 0 | AG20: =G20+K20+L20+N20 -> 0 | AH20: =K20 -> 0 | AI20: =H20+I20+J20 -> 0 | AJ20: =T20 -> 0 | AK20: =P20+Q20+R20+S20 -> 0 | AL20: =AA20 -> 0 | AM20: =W20+X20+Y20+Z20 -> 0
A21: 1.12 | B21: Հանցանք կատարած անձին բռնելու համար անհրաժեշտ միջոցների սահմանզանցմամբ առողջությանը ծանր կամ միջին ծանրության վնաս պատճառելը | C21: 115 | AF21: =D21+F21 -> 0 | AG21: =G21+K21+L21+N21 -> 0 | AH21: =K21 -> 0 | AI21: =H21+I21+J21 -> 0 | AJ21: =T21 -> 0 | AK21: =P21+Q21+R21+S21 -> 0 | AL21: =AA21 -> 0 | AM21: =W21+X21+Y21+Z21 -> 0
A22: 1.13 | B22: Առողջությանը ծանր կամ միջին ծանրության վնաս պատճառելը անհրաժեշտ պաշտպանության սահմանանազանցմամբ | C22: 116 | AF22: =D22+F22 -> 0 | AG22: =G22+K22+L22+N22 -> 0 | AH22: =K22 -> 0 | AI22: =H22+I22+J22 -> 0 | AJ22: =T22 -> 0 | AK22: =P22+Q22+R22+S22 -> 0 | AL22: =AA22 -> 0 | AM22: =W22+X22+Y22+Z22 -> 0
A23: 1.14 | B23: Դիտավորությամբ առողջությանը թեթև վնաս պատճառելը | C23: 117 | F23: 2 | N23: 2 | AF23: =D23+F23 -> 2 | AG23: =G23+K23+L23+N23 -> 2 | AH23: =K23 -> 0 | AI23: =H23+I23+J23 -> 0 | AJ23: =T23 -> 0 | AK23: =P23+Q23+R23+S23 -> 0 | AL23: =AA23 -> 0 | AM23: =W23+X23+Y23+Z23 -> 0
A24: 1.15 | B24: Ծեծը | C24: 118 | D24: 3 | F24: 13 | H24: 3 | I24: 4 | K24: 7 | N24: 8 | AF24: =D24+F24 -> 16 | AG24: =G24+K24+L24+N24 -> 15 | AH24: =K24 -> 7 | AI24: =H24+I24+J24 -> 7 | AJ24: =T24 -> 0 | AK24: =P24+Q24+R24+S24 -> 0 | AL24: =AA24 -> 0 | AM24: =W24+X24+Y24+Z24 -> 0
A25: 1.16 | B25: Ֆիզիկական ուժեղ ցավ կամ հոգեկան ուժեղ տառապանք պատճառելը | C25: 119 | AF25: =D25+F25 -> 0 | AG25: =G25+K25+L25+N25 -> 0 | AH25: =K25 -> 0 | AI25: =H25+I25+J25 -> 0 | AJ25: =T25 -> 0 | AK25: =P25+Q25+R25+S25 -> 0 | AL25: =AA25 -> 0 | AM25: =W25+X25+Y25+Z25 -> 0
A26: 1.17 | B26: Անզգուշությամբ առողջությանը ծանր վնաս պատճառելը | C26: 120 | AF26: =D26+F26 -> 0 | AG26: =G26+K26+L26+N26 -> 0 | AH26: =K26 -> 0 | AI26: =H26+I26+J26 -> 0 | AJ26: =T26 -> 0 | AK26: =P26+Q26+R26+S26 -> 0 | AL26: =AA26 -> 0 | AM26: =W26+X26+Y26+Z26 -> 0
A27: 1.18 | B27: Անզգուշությամբ առողջությանը միջին ծանրության վնաս պատճառելը | C27: 121 | AF27: =D27+F27 -> 0 | AG27: =G27+K27+L27+N27 -> 0 | AH27: =K27 -> 0 | AI27: =H27+I27+J27 -> 0 | AJ27: =T27 -> 0 | AK27: =P27+Q27+R27+S27 -> 0 | AL27: =AA27 -> 0 | AM27: =W27+X27+Y27+Z27 -> 0
A28: 1.19 | B28: Ապօրինի աբորտ կատարելը | C28: 122 | AF28: =D28+F28 -> 0 | AG28: =G28+K28+L28+N28 -> 0 | AH28: =K28 -> 0 | AI28: =H28+I28+J28 -> 0 | AJ28: =T28 -> 0 | AK28: =P28+Q28+R28+S28 -> 0 | AL28: =AA28 -> 0 | AM28: =W28+X28+Y28+Z28 -> 0
A29: 1.20 | B29: Մարդու իմունային անբավարարության վիրուսի հարուցիչով վարակելը | C29: 123 | AF29: =D29+F29 -> 0 | AG29: =G29+K29+L29+N29 -> 0 | AH29: =K29 -> 0 | AI29: =H29+I29+J29 -> 0 | AJ29: =T29 -> 0 | AK29: =P29+Q29+R29+S29 -> 0 | AL29: =AA29 -> 0 | AM29: =W29+X29+Y29+Z29 -> 0
A30: 1.21 | B30: Վեներական հիվանդությամբ կամ այլ սեռավարակներով վարակելը | C30: 124 | AF30: =D30+F30 -> 0 | AG30: =G30+K30+L30+N30 -> 0 | AH30: =K30 -> 0 | AI30: =H30+I30+J30 -> 0 | AJ30: =T30 -> 0 | AK30: =P30+Q30+R30+S30 -> 0 | AL30: =AA30 -> 0 | AM30: =W30+X30+Y30+Z30 -> 0
A31: 1.22 | B31: Փոխպատվաստման վիրահատություն կատարելու կանոնները խախտելը | C31: 125 | AF31: =D31+F31 -> 0 | AG31: =G31+K31+L31+N31 -> 0 | AH31: =K31 -> 0 | AI31: =H31+I31+J31 -> 0 | AJ31: =T31 -> 0 | AK31: =P31+Q31+R31+S31 -> 0 | AL31: =AA31 -> 0 | AM31: =W31+X31+Y31+Z31 -> 0
A32: 1.24 | B32: Անձին առանց իր հանձնարարության բժշկական կամ գիտական փորձերի ենթարկելը | C32: 127 | AF32: =D32+F32 -> 0 | AG32: =G32+K32+L32+N32 -> 0 | AH32: =K32 -> 0 | AI32: =H32+I32+J32 -> 0 | AJ32: =T32 -> 0 | AK32: =P32+Q32+R32+S32 -> 0 | AL32: =AA32 -> 0 | AM32: =W32+X32+Y32+Z32 -> 0
A33: 1.25 | B33: Վտանգի մեջ թողնելը | C33: 128 | AF33: =D33+F33 -> 0 | AG33: =G33+K33+L33+N33 -> 0 | AH33: =K33 -> 0 | AI33: =H33+I33+J33 -> 0 | AJ33: =T33 -> 0 | AK33: =P33+Q33+R33+S33 -> 0 | AL33: =AA33 -> 0 | AM33: =W33+X33+Y33+Z33 -> 0
A34: 1.26 | B34: Հիվանդին օգնություն ցույց չտալը | C34: 129 | AF34: =D34+F34 -> 0 | AG34: =G34+K34+L34+N34 -> 0 | AH34: =K34 -> 0 | AI34: =H34+I34+J34 -> 0 | AJ34: =T34 -> 0 | AK34: =P34+Q34+R34+S34 -> 0 | AL34: =AA34 -> 0 | AM34: =W34+X34+Y34+Z34 -> 0
A35: 1.27 | B35: Բժշկական օգնություն և սպասարկում իրականացնողների կողմից մասնագիտական պարտականությունները չկատարելը կամ ոչ պատշաճ կատարելը | C35: 130 | F35: 1 | N35: 1 | AF35: =D35+F35 -> 1 | AG35: =G35+K35+L35+N35 -> 1 | AH35: =K35 -> 0 | AI35: =H35+I35+J35 -> 0 | AJ35: =T35 -> 0 | AK35: =P35+Q35+R35+S35 -> 0 | AL35: =AA35 -> 0 | AM35: =W35+X35+Y35+Z35 -> 0
A36: 1.28 | B36: Այլ հանցագործություններ | AF36: =D36+F36 -> 0 | AG36: =G36+K36+L36+N36 -> 0 | AH36: =K36 -> 0 | AI36: =H36+I36+J36 -> 0 | AJ36: =T36 -> 0 | AK36: =P36+Q36+R36+S36 -> 0 | AL36: =AA36 -> 0 | AM36: =W36+X36+Y36+Z36 -> 0
A37: 2. | B37: Ընդամենը անձի ազատության, պատվի և արժանապատվության դեմ ուղղված հանցագործությունները | D37: =SUM(D38:D45) -> 1 | E37: =SUM(E38:E45) -> 0 | F37: =SUM(F38:F45) -> 2 | G37: =SUM(G38:G45) -> 0 | H37: =SUM(H38:H45) -> 1 | I37: =SUM(I38:I45) -> 1 | J37: =SUM(J38:J45) -> 0 | K37: =SUM(K38:K45) -> 2 | ... AM37: =SUM(AM38:AM45) -> 0
A38: 2.1 | B38: Մարդուն առևանգելը | C38: 131 | D38: 1 | H38: 1 | K38: 1 | AF38: =D38+F38 -> 1 | AG38: =G38+K38+L38+N38 -> 1 | AH38: =K38 -> 1 | AI38: =H38+I38+J38 -> 1 | AJ38: =T38 -> 0 | AK38: =P38+Q38+R38+S38 -> 0 | AL38: =AA38 -> 0 | AM38: =W38+X38+Y38+Z38 -> 0
A39: 2.2 | B39: Մարդու թրաֆիքինգը կամ շահագործումը | C39: 132 | AF39: =D39+F39 -> 0 | AG39: =G39+K39+L39+N39 -> 0 | AH39: =K39 -> 0 | AI39: =H39+I39+J39 -> 0 | AJ39: =T39 -> 0 | AK39: =P39+Q39+R39+S39 -> 0 | AL39: =AA39 -> 0 | AM39: =W39+X39+Y39+Z39 -> 0
A40: 2.2.2 | B40: Երեխայի կամ հոգեկան խանգարման հետևանքով իր արարքի բնույթն ու նշանակությունը գիտակցելու կամ դա ղեկավարելու հնարավորությունից զրկված անձի թրաֆիքինգը կամ շահագործումը | C40: 132.2 | F40: 1 | N40: 1 | AF40: =D40+F40 -> 1 | AG40: =G40+K40+L40+N40 -> 1 | AH40: =K40 -> 0 | AI40: =H40+I40+J40 -> 0 | AJ40: =T40 -> 0 | AK40: =P40+Q40+R40+S40 -> 0 | AL40: =AA40 -> 0 | AM40: =W40+X40+Y40+Z40 -> 0
A41: 2.2.3 | B41: Շահագործման վիճակում գտնվող անձի ծառայությունից օգտվելը | C41: 132.3 | AF41: =D41+F41 -> 0 | AG41: =G41+K41+L41+N41 -> 0 | AH41: =K41 -> 0 | AI41: =H41+I41+J41 -> 0 | AJ41: =T41 -> 0 | AK41: =P41+Q41+R41+S41 -> 0 | AL41: =AA41 -> 0 | AM41: =W41+X41+Y41+Z41 -> 0
A42: 2.3 | B42: Ազատությունից ապօրինի զրկելը | C42: 133 | AF42: =D42+F42 -> 0 | AG42: =G42+K42+L42+N42 -> 0 | AH42: =K42 -> 0 | AI42: =H42+I42+J42 -> 0 | AJ42: =T42 -> 0 | AK42: =P42+Q42+R42+S42 -> 0 | AL42: =AA42 -> 0 | AM42: =W42+X42+Y42+Z42 -> 0
A43: 2.4 | B43: Հոգեբուժական հիվանդանոցում ապօրինի տեղավորելը կամ պահելը | C43: 134 | AF43: =D43+F43 -> 0 | AG43: =G43+K43+L43+N43 -> 0 | AH43: =K43 -> 0 | AI43: =H43+I43+J43 -> 0 | AJ43: =T43 -> 0 | AK43: =P43+Q43+R43+S43 -> 0 | AL43: =AA43 -> 0 | AM43: =W43+X43+Y43+Z43 -> 0
A44: 2.7 | B44: Սպանության, առողջությանը ծանր վնաս պատճառելու կամ գույք ոչնչացնելու սպառնալիքը | C44: 137 | F44: 1 | I44: 1 | K44: 1 | AF44: =D44+F44 -> 1 | AG44: =G44+K44+L44+N44 -> 1 | AH44: =K44 -> 1 | AI44: =H44+I44+J44 -> 1 | AJ44: =T44 -> 0 | AK44: =P44+Q44+R44+S44 -> 0 | AL44: =AA44 -> 0 | AM44: =W44+X44+Y44+Z44 -> 0
A45: 2.8 | B45: Այլ հանցագործություններ | AF45: =D45+F45 -> 0 | AG45: =G45+K45+L45+N45 -> 0 | AH45: =K45 -> 0 | AI45: =H45+I45+J45 -> 0 | AJ45: =T45 -> 0 | AK45: =P45+Q45+R45+S45 -> 0 | AL45: =AA45 -> 0 | AM45: =W45+X45+Y45+Z45 -> 0
A46: 3. | B46: Ընդամենը սեռական անձեռնմխելիության և սեռական ազատության դեմ ուղղված հանցագործությունները | D46: =SUM(D47:D52) -> 4 | E46: =SUM(E47:E52) -> 0 | F46: =SUM(F47:F52) -> 3 | G46: =SUM(G47:G52) -> 0 | H46: =SUM(H47:H52) -> 2 | I46: =SUM(I47:I52) -> 0 | J46: =SUM(J47:J52) -> 1 | K46: =SUM(K47:K52) -> 3 | ... AM46: =SUM(AM47:AM52) -> 0
A47: 3.1 | B47: Բռնաբարությունը | C47: 138 | AF47: =D47+F47 -> 0 | AG47: =G47+K47+L47+N47 -> 0 | AH47: =K47 -> 0 | AI47: =H47+I47+J47 -> 0 | AJ47: =T47 -> 0 | AK47: =P47+Q47+R47+S47 -> 0 | AL47: =AA47 -> 0 | AM47: =W47+X47+Y47+Z47 -> 0
A48: 3.2 | B48: Սեքսուալ բնույթի բռնի գործողությունները | C48: 139 | D48: 2 | F48: 1 | N48: 3 | AF48: =D48+F48 -> 3 | AG48: =G48+K48+L48+N48 -> 3 | AH48: =K48 -> 0 | AI48: =H48+I48+J48 -> 0 | AJ48: =T48 -> 0 | AK48: =P48+Q48+R48+S48 -> 0 | AL48: =AA48 -> 0 | AM48: =W48+X48+Y48+Z48 -> 0
A49: 3.3 | B49: Սեռական հարաբերության կամ սեքսուալ բնույթի գործողություններին հարկադրելը | C49: 140 | D49: 1 | H49: 1 | K49: 1 | AF49: =D49+F49 -> 1 | AG49: =G49+K49+L49+N49 -> 1 | AH49: =K49 -> 1 | AI49: =H49+I49+J49 -> 1 | AJ49: =T49 -> 0 | AK49: =P49+Q49+R49+S49 -> 0 | AL49: =AA49 -> 0 | AM49: =W49+X49+Y49+Z49 -> 0
A50: 3.4 | B50: Սեռական հարաբերությունը տասնվեց տարին չլրացած անձի հետ կամ սեքսուալ բնույթի գործողություններ կատարելը տասնվեց տարին չլրացած անձի նկատմամբ | C50: 141 | F50: 2 | H50: 1 | K50: 1 | N50: 1 | AF50: =D50+F50 -> 2 | AG50: =G50+K50+L50+N50 -> 2 | AH50: =K50 -> 1 | AI50: =H50+I50+J50 -> 1 | AJ50: =T50 -> 0 | AK50: =P50+Q50+R50+S50 -> 0 | AL50: =AA50 -> 0 | AM50: =W50+X50+Y50+Z50 -> 0
A51: 3.5 | B51: Անառակաբարո գործողությունները | C51: 142 | D51: 1 | J51: 1 | K51: 1 | AF51: =D51+F51 -> 1 | AG51: =G51+K51+L51+N51 -> 1 | AH51: =K51 -> 1 | AI51: =H51+I51+J51 -> 1 | AJ51: =T51 -> 0 | AK51: =P51+Q51+R51+S51 -> 0 | AL51: =AA51 -> 0 | AM51: =W51+X51+Y51+Z51 -> 0
A52: 3.6 | B52: Այլ հանցագործություններ | AF52: =D52+F52 -> 0 | AG52: =G52+K52+L52+N52 -> 0 | AH52: =K52 -> 0 | AI52: =H52+I52+J52 -> 0 | AJ52: =T52 -> 0 | AK52: =P52+Q52+R52+S52 -> 0 | AL52: =AA52 -> 0 | AM52: =W52+X52+Y52+Z52 -> 0
A53: 4. | B53: Ընդամենը մարդու և քաղաքացու սահմանադրական իրավունքների և ազատությունների դեմ ուղղված հանցագործությունները | D53: =SUM(D54:D82) -> 1 | E53: =SUM(E54:E82) -> 0 | F53: =SUM(F54:F82) -> 3 | G53: =SUM(G54:G82) -> 0 | H53: =SUM(H54:H82) -> 2 | I53: =SUM(I54:I82) -> 0 | J53: =SUM(J54:J82) -> 0 | K53: =SUM(K54:K82) -> 2 | ... AM53: =SUM(AM54:AM82) -> 0
A54: 4.1 | B54: Մարդու և քաղաքացու իրավահավասարությունը խախտելը | C54: 143 | AF54: =D54+F54 -> 0 | AG54: =G54+K54+L54+N54 -> 0 | AH54: =K54 -> 0 | AI54: =H54+I54+J54 -> 0 | AJ54: =T54 -> 0 | AK54: =P54+Q54+R54+S54 -> 0 | AL54: =AA54 -> 0 | AM54: =W54+X54+Y54+Z54 -> 0
A55: 4.2 | B55: Անձնական կամ ընտանեկան կյանքի մասին տեղեկություններ ապօրինի հավաքելը, պահելը, օգտագործելը կամ տարածելը | C55: 144 | AF55: =D55+F55 -> 0 | AG55: =G55+K55+L55+N55 -> 0 | AH55: =K55 -> 0 | AI55: =H55+I55+J55 -> 0 | AJ55: =T55 -> 0 | AK55: =P55+Q55+R55+S55 -> 0 | AL55: =AA55 -> 0 | AM55: =W55+X55+Y55+Z55 -> 0
A56: 4.3 | B56: Բժշկական գաղտնիքը հրապարակելը | C56: 145 | AF56: =D56+F56 -> 0 | AG56: =G56+K56+L56+N56 -> 0 | AH56: =K56 -> 0 | AI56: =H56+I56+J56 -> 0 | AJ56: =T56 -> 0 | AK56: =P56+Q56+R56+S56 -> 0 | AL56: =AA56 -> 0 | AM56: =W56+X56+Y56+Z56 -> 0
A57: 4.4 | B57: Նամակագրության, հեռախոսային խոսակցությունների, փոստային, հեռագրական կամ այլ հաղորդումների գաղտնիությունը խախտելը | C57: 146 | AF57: =D57+F57 -> 0 | AG57: =G57+K57+L57+N57 -> 0 | AH57: =K57 -> 0 | AI57: =H57+I57+J57 -> 0 | AJ57: =T57 -> 0 | AK57: =P57+Q57+R57+S57 -> 0 | AL57: =AA57 -> 0 | AM57: =W57+X57+Y57+Z57 -> 0
A58: 4.5 | B58: Բնակարանի անձեռնմխելիությունը խախտելը | C58: 147 | D58: 1 | F58: 2 | H58: 2 | K58: 2 | N58: 1 | AF58: =D58+F58 -> 3 | AG58: =G58+K58+L58+N58 -> 3 | AH58: =K58 -> 2 | AI58: =H58+I58+J58 -> 2 | AJ58: =T58 -> 0 | AK58: =P58+Q58+R58+S58 -> 0 | AL58: =AA58 -> 0 | AM58: =W58+X58+Y58+Z58 -> 0
A59: 4.6 | B59: Անձին տեղեկություն ներկայացնելուց հրաժարվելը | C59: 148 | AF59: =D59+F59 -> 0 | AG59: =G59+K59+L59+N59 -> 0 | AH59: =K59 -> 0 | AI59: =H59+I59+J59 -> 0 | AJ59: =T59 -> 0 | AK59: =P59+Q59+R59+S59 -> 0 | AL59: =AA59 -> 0 | AM59: =W59+X59+Y59+Z59 -> 0
A60: 4.7 | B60: Ընտրական իրավունքի իրականացմանը, ընտրական հանձնաժողովների աշխատանքներին կամ ընտրությանը մասնակցող անձանց լիազորությունների իրականացմանը խոչընդոտելը | C60: 149 | AF60: =D60+F60 -> 0 | AG60: =G60+K60+L60+N60 -> 0 | AH60: =K60 -> 0 | AI60: =H60+I60+J60 -> 0 | AJ60: =T60 -> 0 | AK60: =P60+Q60+R60+S60 -> 0 | AL60: =AA60 -> 0 | AM60: =W60+X60+Y60+Z60 -> 0
A61: 4.8 | B61: Ընտրությունների կամ քվեարկության արդյունքները կեղծելը | C61: 150 | AF61: =D61+F61 -> 0 | AG61: =G61+K61+L61+N61 -> 0 | AH61: =K61 -> 0 | AI61: =H61+I61+J61 -> 0 | AJ61: =T61 -> 0 | AK61: =P61+Q61+R61+S61 -> 0 | AL61: =AA61 -> 0 | AM61: =W61+X61+Y61+Z61 -> 0
A62: 4.10 | B62: Ընտրողների ցուցակները կազմելու, դրանք քաղաքացիներին և կուսակցություններին տրամադրելու կամ հրապարակելու կարգը խախտելը | C62: 152 | AF62: =D62+F62 -> 0 | AG62: =G62+K62+L62+N62 -> 0 | AH62: =K62 -> 0 | AI62: =H62+I62+J62 -> 0 | AJ62: =T62 -> 0 | AK62: =P62+Q62+R62+S62 -> 0 | AL62: =AA62 -> 0 | AM62: =W62+X62+Y62+Z62 -> 0
A63: 4.11 | B63: Մեկից ավելի անգամ կամ այլ անձի փոխարեն քվեարկելը | C63: 153 | AF63: =D63+F63 -> 0 | AG63: =G63+K63+L63+N63 -> 0 | AH63: =K63 -> 0 | AI63: =H63+I63+J63 -> 0 | AJ63: =T63 -> 0 | AK63: =P63+Q63+R63+S63 -> 0 | AL63: =AA63 -> 0 | AM63: =W63+X63+Y63+Z63 -> 0
A64: 4.12 | B64: Քվեարկության գաղտնիությունը խախտելը | C64: 154 | AF64: =D64+F64 -> 0 | AG64: =G64+K64+L64+N64 -> 0 | AH64: =K64 -> 0 | AI64: =H64+I64+J64 -> 0 | AJ64: =T64 -> 0 | AK64: =P64+Q64+R64+S64 -> 0 | AL64: =AA64 -> 0 | AM64: =W64+X64+Y64+Z64 -> 0
A65: 4.13 | B65: Կեղծ ընտրական քվեաթերթիկներ կամ քվեարկության ծրարներ, դրոշմանիշեր, կտրոններ պատրաստելը կամ ակնհայտ կեղծ ընտրական քվեաթերթիկներ կամ քվեարկության ծրարներ, դրոշմանիշեր, կտրոններ հանձնելը կամ իրացնելը | C65: 154.1 | AF65: =D65+F65 -> 0 | AG65: =G65+K65+L65+N65 -> 0 | AH65: =K65 -> 0 | AI65: =H65+I65+J65 -> 0 | AJ65: =T65 -> 0 | AK65: =P65+Q65+R65+S65 -> 0 | AL65: =AA65 -> 0 | AM65: =W65+X65+Y65+Z65 -> 0
A66: 4.14 | B66: Ընտրողի կողմից թեկնածուներից, կուսակցություններից (կուսակցությունների դաշինքներից), հանրաքվեի քարոզչական նախաձեռնություններից կաշառք ստանալը կամ թեկնածուների, կուսակցությունների (կուսակցությունների դաշինքների), հանրաքվեի քարոզչական նախաձեռնությունների կողմից ընտրողներին կաշառք տալը կամ ընտրողի ազատ կամքի իրականացմանը խոչընդոտելը | C66: 154.2 | AF66: =D66+F66 -> 0 | AG66: =G66+K66+L66+N66 -> 0 | AH66: =K66 -> 0 | AI66: =H66+I66+J66 -> 0 | AJ66: =T66 -> 0 | AK66: =P66+Q66+R66+S66 -> 0 | AL66: =AA66 -> 0 | AM66: =W66+X66+Y66+Z66 -> 0
A67: 4.16 | B67: Զենքով՝ տեղամասային կենտրոն մուտք գործելը | C67: 154.4 | AF67: =D67+F67 -> 0 | AG67: =G67+K67+L67+N67 -> 0 | AH67: =K67 -> 0 | AI67: =H67+I67+J67 -> 0 | AJ67: =T67 -> 0 | AK67: =P67+Q67+R67+S67 -> 0 | AL67: =AA67 -> 0 | AM67: =W67+X67+Y67+Z67 -> 0
A68: 4.17 | B68: Վստահված անձին,ընտրական հանձնաժողովի անդամին,դիտորդին կամ զանգվածային լրատվության միջոցի ներկայացուցչին ընտրական փաստաթղթերին ծանոթանալուն խոչընդոտելը, ընտրական հանձնաժողովի արձանագրությունների պատճեններ չտալը | C68: 154.5 | AF68: =D68+F68 -> 0 | AG68: =G68+K68+L68+N68 -> 0 | AH68: =K68 -> 0 | AI68: =H68+I68+J68 -> 0 | AJ68: =T68 -> 0 | AK68: =P68+Q68+R68+S68 -> 0 | AL68: =AA68 -> 0 | AM68: =W68+X68+Y68+Z68 -> 0
A69: 4.17.1 | B69: Ընտրական հանձնաժողովի նախագահի լիազորությունները չկատարելը կամ ոչ պատշաճ կատարելը | C69: 154.6 | AF69: =D69+F69 -> 0 | AG69: =G69+K69+L69+N69 -> 0 | AH69: =K69 -> 0 | AI69: =H69+I69+J69 -> 0 | AJ69: =T69 -> 0 | AK69: =P69+Q69+R69+S69 -> 0 | AL69: =AA69 -> 0 | AM69: =W69+X69+Y69+Z69 -> 0
A70: 4.17.2 | B70: Քվեատուփը, ընտրողների ստորագրած ցուցակը, տեղամասային ընտրական հանձնաժողովի գրանցամատյանը, հանձնաժողովի կնիքը, տեղամասային ընտրական հանձնաժողովի անդամի անհատական կնիքը, ինքնասոսնձվող դրոշմանիշը, ընտրողի վերաբերյալ տվյալներ պարունակող քվեարկության կտրոնը կամ համարակալված կտրոնը, ընտրողների էլեկտրոնային գրանցման տեխնիկական սարքավորումը, կառավարության կողմից ընտրված մասնագիտացված կազմակերպության կողմից տեղադրված տեսախցիկը, ընտրական փաստաթղթերի մեկանգամյա օգտագործման պարկը կամ ընտրական փաստաթղթերի փաթեթը հափշտակելը | C70: 154.7 | AF70: =D70+F70 -> 0 | AG70: =G70+K70+L70+N70 -> 0 | AH70: =K70 -> 0 | AI70: =H70+I70+J70 -> 0 | AJ70: =T70 -> 0 | AK70: =P70+Q70+R70+S70 -> 0 | AL70: =AA70 -> 0 | AM70: =W70+X70+Y70+Z70 -> 0
... A74: 4.20 | B74: Աշխատանքի պաշտպանության կանոնները խախտելը | C74: 157 | AF74: =D74+F74 -> 0 | AG74: =G74+K74+L74+N74 -> 0 | AH74: =K74 -> 0 | AI74: =H74+I74+J74 -> 0 | AJ74: =T74 -> 0 | AK74: =P74+Q74+R74+S74 -> 0 | AL74: =AA74 -> 0 | AM74: =W74+X74+Y74+Z74 -> 0
A75: 4.21 | B75: Հեղինակային և հարակից իրավունքները խախտելը | C75: 158 | F75: 1 | N75: 1 | AF75: =D75+F75 -> 1 | AG75: =G75+K75+L75+N75 -> 1 | AH75: =K75 -> 0 | AI75: =H75+I75+J75 -> 0 | AJ75: =T75 -> 0 | AK75: =P75+Q75+R75+S75 -> 0 | AL75: =AA75 -> 0 | AM75: =W75+X75+Y75+Z75 -> 0
A76: 4.22 | B76: Արտոնագրային իրավունքը խախտելը | C76: 159 | AF76: =D76+F76 -> 0 | AG76: =G76+K76+L76+N76 -> 0 | AH76: =K76 -> 0 | AI76: =H76+I76+J76 -> 0 | AJ76: =T76 -> 0 | AK76: =P76+Q76+R76+S76 -> 0 | AL76: =AA76 -> 0 | AM76: =W76+X76+Y76+Z76 -> 0
A77: 4.23 | B77: Խղճի կամ դավանանքի ազատության իրավունքի իրականացմանը խոչընդոտելը | C77: 160 | AF77: =D77+F77 -> 0 | AG77: =G77+K77+L77+N77 -> 0 | AH77: =K77 -> 0 | AI77: =H77+I77+J77 -> 0 | AJ77: =T77 -> 0 | AK77: =P77+Q77+R77+S77 -> 0 | AL77: =AA77 -> 0 | AM77: =W77+X77+Y77+Z77 -> 0
A78: 4.24 | B78: Միավորումներ (հասարակական կամ արհեստակցական միություններ) կազմելու կամ կուսակցություններ ստեղծելու իրավունքի իրականացմանը կամ դրանց գործողությանը խոչընդոտելը | C78: 161 | AF78: =D78+F78 -> 0 | AG78: =G78+K78+L78+N78 -> 0 | AH78: =K78 -> 0 | AI78: =H78+I78+J78 -> 0 | AJ78: =T78 -> 0 | AK78: =P78+Q78+R78+S78 -> 0 | AL78: =AA78 -> 0 | AM78: =W78+X78+Y78+Z78 -> 0
A79: 4.25 | B79: Անձանց իրավունքների կամ անձի դեմ ոտնձգող միավորումներ կազմելը կամ ղեկավարելը | C79: 162 | AF79: =D79+F79 -> 0 | AG79: =G79+K79+L79+N79 -> 0 | AH79: =K79 -> 0 | AI79: =H79+I79+J79 -> 0 | AJ79: =T79 -> 0 | AK79: =P79+Q79+R79+S79 -> 0 | AL79: =AA79 -> 0 | AM79: =W79+X79+Y79+Z79 -> 0
A80: 4.26 | B80: Հավաքներ անցկացնելուն կամ դրանց մասնակցելուն խոչընդոտելը | C80: 163 | AF80: =D80+F80 -> 0 | AG80: =G80+K80+L80+N80 -> 0 | AH80: =K80 -> 0 | AI80: =H80+I80+J80 -> 0 | AJ80: =T80 -> 0 | AK80: =P80+Q80+R80+S80 -> 0 | AL80: =AA80 -> 0 | AM80: =W80+X80+Y80+Z80 -> 0
A81: 4.27 | B81: Լրագրողի մասնագիտական օրինական գործողությանը խոչընդոտելը | C81: 164 | AF81: =D81+F81 -> 0 | AG81: =G81+K81+L81+N81 -> 0 | AH81: =K81 -> 0 | AI81: =H81+I81+J81 -> 0 | AJ81: =T81 -> 0 | AK81: =P81+Q81+R81+S81 -> 0 | AL81: =AA81 -> 0 | AM81: =W81+X81+Y81+Z81 -> 0
A82: 4.28 | B82: Այլ հանցագործություններ | AF82: =D82+F82 -> 0 | AG82: =G82+K82+L82+N82 -> 0 | AH82: =K82 -> 0 | AI82: =H82+I82+J82 -> 0 | AJ82: =T82 -> 0 | AK82: =P82+Q82+R82+S82 -> 0 | AL82: =AA82 -> 0 | AM82: =W82+X82+Y82+Z82 -> 0
A83: 5. | B83: Ընդամենը ընտանիքի և երեխայի շահերի դեմ ուղղված հանցագործությունները | D83: =SUM(D84:D97) -> 0 | E83: =SUM(E84:E97) -> 0 | F83: =SUM(F84:F97) -> 0 | G83: =SUM(G84:G97) -> 0 | H83: =SUM(H84:H97) -> 0 | I83: =SUM(I84:I97) -> 0 | J83: =SUM(J84:J97) -> 0 | K83: =SUM(K84:K97) -> 0 | ... AM83: =SUM(AM84:AM97) -> 0
A84: 5.1 | B84: Անչափահասին հանցանքի կատարմանը ներգրավելը | C84: 165 | AF84: =D84+F84 -> 0 | AG84: =G84+K84+L84+N84 -> 0 | AH84: =K84 -> 0 | AI84: =H84+I84+J84 -> 0 | AJ84: =T84 -> 0 | AK84: =P84+Q84+R84+S84 -> 0 | AL84: =AA84 -> 0 | AM84: =W84+X84+Y84+Z84 -> 0
A85: 5.2 | B85: Երեխային պոռնկության կամ պոռնկագրական բնույթի նյութեր կամ առարկաներ պատրաստելու հետ կապված գործողություններ կատարելուն ներգրավելը | C85: 166 | AF85: =D85+F85 -> 0 | AG85: =G85+K85+L85+N85 -> 0 | AH85: =K85 -> 0 | AI85: =H85+I85+J85 -> 0 | AJ85: =T85 -> 0 | AK85: =P85+Q85+R85+S85 -> 0 | AL85: =AA85 -> 0 | AM85: =W85+X85+Y85+Z85 -> 0
A86: 5.2.1 | B86: Երեխային ոգելից խմիչքների օգտագործմանը, ուժեղ ներգործող կամ այլ թմրեցնող նյութերի ոչ բժշկական օգտագործմանը, թափառաշրջիկությանը ներգրավելը կամ մուրացկանության հետ կապված գործողություններ կատարելուն ներգրավելը | C86: 166.1 | AF86: =D86+F86 -> 0 | AG86: =G86+K86+L86+N86 -> 0 | AH86: =K86 -> 0 | AI86: =H86+I86+J86 -> 0 | AJ86: =T86 -> 0 | AK86: =P86+Q86+R86+S86 -> 0 | AL86: =AA86 -> 0 | AM86: =W86+X86+Y86+Z86 -> 0
A87: 5.3 | B87: Ծնողներից երեխային ապօրինի բաժանելը կամ երեխային փոխելը | C87: 167 | AF87: =D87+F87 -> 0 | AG87: =G87+K87+L87+N87 -> 0 | AH87: =K87 -> 0 | AI87: =H87+I87+J87 -> 0 | AJ87: =T87 -> 0 | AK87: =P87+Q87+R87+S87 -> 0 | AL87: =AA87 -> 0 | AM87: =W87+X87+Y87+Z87 -> 0
A88: 5.4 | B88: Խնամքը ստանձնելու նպատակով երեխայի առքը կամ ստանձնողի խնամքին հանձնելու նպատակով երեխայի վաճառքը | C88: 168 | AF88: =D88+F88 -> 0 | AG88: =G88+K88+L88+N88 -> 0 | AH88: =K88 -> 0 | AI88: =H88+I88+J88 -> 0 | AJ88: =T88 -> 0 | AK88: =P88+Q88+R88+S88 -> 0 | AL88: =AA88 -> 0 | AM88: =W88+X88+Y88+Z88 -> 0
A89: 5.5 | B89: Որդեգրման գաղտնիքը հրապարակելը կամ որդեգրման համաձայնություն տալուն հակելը կամ հարկադրելը | C89: 169 | AF89: =D89+F89 -> 0 | AG89: =G89+K89+L89+N89 -> 0 | AH89: =K89 -> 0 | AI89: =H89+I89+J89 -> 0 | AJ89: =T89 -> 0 | AK89: =P89+Q89+R89+S89 -> 0 | AL89: =AA89 -> 0 | AM89: =W89+X89+Y89+Z89 -> 0
A90: 5.6 | B90: Քաղաքացիական կացության ակտերի գրանցման մարմիններին սուտ տեղեկություններ հաղորդելը | C90: 169.1 | AF90: =D90+F90 -> 0 | AG90: =G90+K90+L90+N90 -> 0 | AH90: =K90 -> 0 | AI90: =H90+I90+J90 -> 0 | AJ90: =T90 -> 0 | AK90: =P90+Q90+R90+S90 -> 0 | AL90: =AA90 -> 0 | AM90: =W90+X90+Y90+Z90 -> 0
A91: 5.7 | B91: Երեխային դաստիարակելու պարտականությունը չկատարելը | C91: 170 | AF91: =D91+F91 -> 0 | AG91: =G91+K91+L91+N91 -> 0 | AH91: =K91 -> 0 | AI91: =H91+I91+J91 -> 0 | AJ91: =T91 -> 0 | AK91: =P91+Q91+R91+S91 -> 0 | AL91: =AA91 -> 0 | AM91: =W91+X91+Y91+Z91 -> 0
A92: 5.8 | B92: Երեխայի կյանքի անվտանգության ապահովման կամ առողջության պահպանման պարտականությունը չկատարելը կամ ոչ պատշաճ կատարելը | C92: 171 | AF92: =D92+F92 -> 0 | AG92: =G92+K92+L92+N92 -> 0 | AH92: =K92 -> 0 | AI92: =H92+I92+J92 -> 0 | AJ92: =T92 -> 0 | AK92: =P92+Q92+R92+S92 -> 0 | AL92: =AA92 -> 0 | AM92: =W92+X92+Y92+Z92 -> 0
A93: 5.8.1 | B93: Վերարտադրողականության օժանդակ տեխնոլոգիաներից օգտվելու կանոնները խախտելը | C93: 171.1 | AF93: =D93+F93 -> 0 | AG93: =G93+K93+L93+N93 -> 0 | AH93: =K93 -> 0 | AI93: =H93+I93+J93 -> 0 | AJ93: =T93 -> 0 | AK93: =P93+Q93+R93+S93 -> 0 | AL93: =AA93 -> 0 | AM93: =W93+X93+Y93+Z93 -> 0
A94: 5.9 | B94: Խնամակալի կամ հոգաբարձուի իրավունքները չարաշահելը | C94: 172 | AF94: =D94+F94 -> 0 | AG94: =G94+K94+L94+N94 -> 0 | AH94: =K94 -> 0 | AI94: =H94+I94+J94 -> 0 | AJ94: =T94 -> 0 | AK94: =P94+Q94+R94+S94 -> 0 | AL94: =AA94 -> 0 | AM94: =W94+X94+Y94+Z94 -> 0
A95: 5.10 | B95: Ծնողի կողմից երեխային պահելուց չարամտորեն խուսափելը | C95: 173 | AF95: =D95+F95 -> 0 | AG95: =G95+K95+L95+N95 -> 0 | AH95: =K95 -> 0 | AI95: =H95+I95+J95 -> 0 | AJ95: =T95 -> 0 | AK95: =P95+Q95+R95+S95 -> 0 | AL95: =AA95 -> 0 | AM95: =W95+X95+Y95+Z95 -> 0
A96: 5.11 | B96: Զավակի կողմից անաշխատունակ ծնողին պահելուց չարամտորեն խուսափելը | C96: 174 | AF96: =D96+F96 -> 0 | AG96: =G96+K96+L96+N96 -> 0 | AH96: =K96 -> 0 | AI96: =H96+I96+J96 -> 0 | AJ96: =T96 -> 0 | AK96: =P96+Q96+R96+S96 -> 0 | AL96: =AA96 -> 0 | AM96: =W96+X96+Y96+Z96 -> 0
A97: 5.12 | B97: Այլ հանցագործություններ | AF97: =D97+F97 -> 0 | AG97: =G97+K97+L97+N97 -> 0 | AH97: =K97 -> 0 | AI97: =H97+I97+J97 -> 0 | AJ97: =T97 -> 0 | AK97: =P97+Q97+R97+S97 -> 0 | AL97: =AA97 -> 0 | AM97: =W97+X97+Y97+Z97 -> 0
A98: 6. | B98: Ընդամենը սեփականության դեմ ուղղված հանցագործությունները | D98: =SUM(D99:D113) -> 15 | E98: =SUM(E99:E113) -> 1 | F98: =SUM(F99:F113) -> 26 | G98: =SUM(G99:G113) -> 0 | H98: =SUM(H99:H113) -> 19 | I98: =SUM(I99:I113) -> 1 | J98: =SUM(J99:J113) -> 0 | K98: =SUM(K99:K113) -> 20 | ... AM98: =SUM(AM99:AM113) -> 0
A99: 6.1 | B99: Ավազակությունը | C99: 175 | F99: 2 | N99: 2 | AF99: =D99+F99 -> 2 | AG99: =G99+K99+L99+N99 -> 2 | AH99: =K99 -> 0 | AI99: =H99+I99+J99 -> 0 | AJ99: =T99 -> 0 | AK99: =P99+Q99+R99+S99 -> 0 | AL99: =AA99 -> 0 | AM99: =W99+X99+Y99+Z99 -> 0
A100: 6.2 | B100: Կողոպուտը | C100: 176 | F100: 3 | H100: 1 | K100: 1 | N100: 2 | AF100: =D100+F100 -> 3 | AG100: =G100+K100+L100+N100 -> 3 | AH100: =K100 -> 1 | AI100: =H100+I100+J100 -> 1 | AJ100: =T100 -> 0 | AK100: =P100+Q100+R100+S100 -> 0 | AL100: =AA100 -> 0 | AM100: =W100+X100+Y100+Z100 -> 0
A101: 6.3 | B101: Գողությունը | C101: 177 | D101: 8 | E101: 1 | F101: 9 | H101: 8 | I101: 1 | K101: 9 | N101: 8 | O101: 1 | Q101: 7 | T101: 7 | V101: 2 | AF101: =D101+F101 -> 17 | AG101: =G101+K101+L101+N101 -> 17 | AH101: =K101 -> 9 | AI101: =H101+I101+J101 -> 9 | AJ101: =T101 -> 7 | AK101: =P101+Q101+R101+S101 -> 7 | AL101: =AA101 -> 0 | AM101: =W101+X101+Y101+Z101 -> 0
A102: 6.4 | B102: Խարդախությունը | C102: 178 | D102: 2 | F102: 7 | H102: 3 | K102: 3 | N102: 6 | Q102: 2 | T102: 2 | V102: 1 | AF102: =D102+F102 -> 9 | AG102: =G102+K102+L102+N102 -> 9 | AH102: =K102 -> 3 | AI102: =H102+I102+J102 -> 3 | AJ102: =T102 -> 2 | AK102: =P102+Q102+R102+S102 -> 2 | AL102: =AA102 -> 0 | AM102: =W102+X102+Y102+Z102 -> 0
A103: 6.5 | B103: Յուրացնելը կամ վատնելը | C103: 179 | D103: 3 | F103: 3 | H103: 4 | K103: 4 | N103: 2 | Q103: 3 | T103: 3 | V103: 1 | AF103: =D103+F103 -> 6 | AG103: =G103+K103+L103+N103 -> 6 | AH103: =K103 -> 4 | AI103: =H103+I103+J103 -> 4 | AJ103: =T103 -> 3 | AK103: =P103+Q103+R103+S103 -> 3 | AL103: =AA103 -> 0 | AM103: =W103+X103+Y103+Z103 -> 0
...

Sheet Ա. Ադամյան
A1: 2017թ. | D1: ՀԱՇՎԵՏՎՈՒԹՅՈՒՆ | Z1: Հավելված Հայաստանի Հանրապետության Դատարանների նախագահների խորհրդի 29.01.2018թ. թիվ 10-Լ որոշման
A2: ՀՀ ԱՐՄԱՎԻՐԻ ՄԱՐԶԻ ԸՆԴՀԱՆՈՒՐ ԻՐԱՎԱՍՈՒԹՅԱՆ ԱՌԱՋԻՆ ԱՏՅԱՆԻ ԴԱՏԱՐԱՆԻ ԴԱՏԱՎՈՐ Ա. ԱԴԱՄՅԱՆԻ ԳՈՐԾՈՒՆԵՈՒԹՅԱՆ ՎԵՐԱԲԵՐՅԱԼ
A3: ՔՐԵԱԿԱՆ ԳՈՐԾԵՐ
A4: ՀՀ Արմավիրի մարզի ընդհանուր իրավասության առաջին ատյանի դատարանում քրեական մասնագիտացում ունեցող դատավորների հաստիքների քանակը` 3
C5: ՀՀ քրեական օրենսգրքի հոդվածներ | D5: Հաշվետու ժամանակահատվածի սկզբում նախորդ հաշվետու ժամանակահատվածից փոխանցված գործերի ընդհանուր թիվը | E5: Այդ թվում` կասեցված վիճակում փոխանցված | F5: Հաշվետու ժամանակահատվածում ստացված գործերի ընդհանուր թիվը | G5: Փոխանցվել է այլ դատավորի (կազմի փոփոխություն) | H5: Հաշվետու ժամանակահատվածում ավարտված գործերի ընդհանուր թիվը | L5: ՈՒղարկվել է ըստ ընդդատության | M5: Հաշվետու ժամանակահատվածում կասեցված վարույթներով գործերի ընդհանուր թիվը | N5: Հաշվետու ժամանակահատվածում անավարտ գործերի ընդհանուր թիվը | O5: Այդ թվում՝ կասեցված | P5: Բողոքարկված դատական ակտերը | U5: ավարտված դատական գործերի բողոքարկման տոկոսը (հաշվետու ժամանակաշրջանում) | V5: Անավարտ բողոքներ | W5: Բեկանված դատական ակտերը | AB5: բեկանումների տոկոսը ավարտված գործերից(հաշվետու ժամանակահատվածում) | AC5: Կայունության տոկոսը ավարտված գործերից(հաշվետու ժամանակահատվածում) | AD5: բեկանումների տոկոսը բողոքարկված գործերից(հաշվետու ժամանակահատվածում) | AE5: կայունության տոկոսը բողոքարկված գործերից (հաշվետու ժամանակահատվածում)
H6: Քննվել է ըստ էության և դատավճիռ կայացվել | I6: Որոշում է կայացվել քրեական գործի վարույթը կարճելու և քրեական հետապնդումը դադարեցնելու մասին | J6: Որոշում է կայացվել անմեղսունակների նկատմամբ բժշկական բնույթի հարկադրական միջոցներ կիրառելու մասին | K6: Ընդամենը ավարտվել են գործեր | P6: Այդ թվում` գործն ըստ էության լուծող դատական ակտերը | R6: Այդ թվում` միջանկյալ դատական ակտերը | T6: Ընդամեն բողոքարկվել են ակտեր | W6: Այդ թվում` գործն ըստ էության լուծող դատական ակտերը | Y6: Այդ թվում` միջանկյալ դատական ակտերը | AA6: Ընդամենը բեկանվել են ակտեր
P7: նախորդ տարիներին կայացված ակտերի բողոքարկումը | Q7: հաշվետու ժամանակահատվածում կայացված ակտերի բողոքարկումը | R7: նախորդ տարիներին կայացված ակտերի բողոքարկումը | S7: հաշվետու ժամանակահատվածում կայացված ակտերի բողոքարկումը | W7: նախորդ տարիներին կայացված ակտերի բեկանումները | X7: հաշվետու ժամանակահատվածում կայացված ակտերի բեկանումները | Y7: նախորդ տարիներին կայացված ակտերի բեկանումները | Z7: հաշվետու ժամանակահատվածում կայացված ակտերի բեկանումները
D8: 1 | E8: 2 | F8: 3 | G8: 4 | H8: 5 | I8: 6 | J8: 7 | K8: 8 | L8: 9 | M8: 10 | N8: 11 | O8: 12 | P8: 13 | Q8: 14 | R8: 15 | S8: 16 | T8: 17 | U8: 18 | V8: 19 | W8: 20 | X8: 21 | Y8: 22 | Z8: 23 | AA8: 24 | AB8: 25 | AC8: 26 | AD8: 27 | AE8: 28 | AF8: 1+3=4+8+9+11 | AH8: 8=5+6+7 | AJ8: 17=13+14+15+16 | AL8: 24=20+21+22+23
A9: 1. | B9: Ընդամենը կյանքի և առողջության դեմ ուղղված հանցագործությունները | D9: =SUM(D10:D36) -> 3 | E9: =SUM(E10:E36) -> 1 | F9: =SUM(F10:F36) -> 15 | G9: =SUM(G10:G36) -> 0 | H9: =SUM(H10:H36) -> 5 | I9: =SUM(I10:I36) -> 4 | J9: =SUM(J10:J36) -> 0 | K9: =SUM(K10:K36) -> 9 | ... AM9: =SUM(AM10:AM36) -> 0
A10: 1.1 | B10: Սպանությունը | C10: 104 | F10: 3 | H10: 1 | K10: 1 | N10: 2 | Q10: 1 | T10: 1 | V10: 1 | AF10: =D10+F10 -> 3 | AG10: =G10+K10+L10+N10 -> 3 | AH10: =K10 -> 1 | AI10: =H10+I10+J10 -> 1 | AJ10: =T10 -> 1 | AK10: =P10+Q10+R10+S10 -> 1 | AL10: =AA10 -> 0 | AM10: =W10+X10+Y10+Z10 -> 0
A11: 1.2 | B11: Հոգեկան խիստ հուզմունքի վիճակում կատարված սպանությունը | C11: 105 | AF11: =D11+F11 -> 0 | AG11: =G11+K11+L11+N11 -> 0 | AH11: =K11 -> 0 | AI11: =H11+I11+J11 -> 0 | AJ11: =T11 -> 0 | AK11: =P11+Q11+R11+S11 -> 0 | AL11: =AA11 -> 0 | AM11: =W11+X11+Y11+Z11 -> 0
A12: 1.3 | B12: Մոր կողմից նորածին երեխայի սպանությունը | C12: 106 | AF12: =D12+F12 -> 0 | AG12: =G12+K12+L12+N12 -> 0 | AH12: =K12 -> 0 | AI12: =H12+I12+J12 -> 0 | AJ12: =T12 -> 0 | AK12: =P12+Q12+R12+S12 -> 0 | AL12: =AA12 -> 0 | AM12: =W12+X12+Y12+Z12 -> 0
A13: 1.4 | B13: Հանցանք կատարած անձին բռնելու համար անհրաժեշտ միջոցների սահմանազանցմամբ սպանությունը | C13: 107 | AF13: =D13+F13 -> 0 | AG13: =G13+K13+L13+N13 -> 0 | AH13: =K13 -> 0 | AI13: =H13+I13+J13 -> 0 | AJ13: =T13 -> 0 | AK13: =P13+Q13+R13+S13 -> 0 | AL13: =AA13 -> 0 | AM13: =W13+X13+Y13+Z13 -> 0
A14: 1.5 | B14: Անհրաժեշտ պաշտպանության սահմանազանցմամբ սպանությունը | C14: 108 | AF14: =D14+F14 -> 0 | AG14: =G14+K14+L14+N14 -> 0 | AH14: =K14 -> 0 | AI14: =H14+I14+J14 -> 0 | AJ14: =T14 -> 0 | AK14: =P14+Q14+R14+S14 -> 0 | AL14: =AA14 -> 0 | AM14: =W14+X14+Y14+Z14 -> 0
A15: 1.6 | B15: Անզգուշությամբ մահ պատճառելը | C15: 109 | AF15: =D15+F15 -> 0 | AG15: =G15+K15+L15+N15 -> 0 | AH15: =K15 -> 0 | AI15: =H15+I15+J15 -> 0 | AJ15: =T15 -> 0 | AK15: =P15+Q15+R15+S15 -> 0 | AL15: =AA15 -> 0 | AM15: =W15+X15+Y15+Z15 -> 0
A16: 1.7 | B16: Ինքնասպանության հասցնելը | C16: 110 | AF16: =D16+F16 -> 0 | AG16: =G16+K16+L16+N16 -> 0 | AH16: =K16 -> 0 | AI16: =H16+I16+J16 -> 0 | AJ16: =T16 -> 0 | AK16: =P16+Q16+R16+S16 -> 0 | AL16: =AA16 -> 0 | AM16: =W16+X16+Y16+Z16 -> 0
A17: 1.8 | B17: Ինքնասպանության հակելը | C17: 111 | AF17: =D17+F17 -> 0 | AG17: =G17+K17+L17+N17 -> 0 | AH17: =K17 -> 0 | AI17: =H17+I17+J17 -> 0 | AJ17: =T17 -> 0 | AK17: =P17+Q17+R17+S17 -> 0 | AL17: =AA17 -> 0 | AM17: =W17+X17+Y17+Z17 -> 0
A18: 1.9 | B18: Դիտավորությամբ առողջությանը ծանր վնաս պատճառելը | C18: 112 | F18: 4 | H18: 1 | K18: 1 | N18: 3 | AF18: =D18+F18 -> 4 | AG18: =G18+K18+L18+N18 -> 4 | AH18: =K18 -> 1 | AI18: =H18+I18+J18 -> 1 | AJ18: =T18 -> 0 | AK18: =P18+Q18+R18+S18 -> 0 | AL18: =AA18 -> 0 | AM18: =W18+X18+Y18+Z18 -> 0
A19: 1.10 | B19: Դիտավորությամբ առողջությանը միջին ծանրության վնաս պատճառելը | C19: 113 | F19: 1 | N19: 1 | AF19: =D19+F19 -> 1 | AG19: =G19+K19+L19+N19 -> 1 | AH19: =K19 -> 0 | AI19: =H19+I19+J19 -> 0 | AJ19: =T19 -> 0 | AK19: =P19+Q19+R19+S19 -> 0 | AL19: =AA19 -> 0 | AM19: =W19+X19+Y19+Z19 -> 0
A20: 1.11 | B20: Հոգեկան խիստ հուզմունքի վիճակում առողջությանը ծանր կամ միջին ծանրության վնաս պատճառելը | C20: 114 | D20: 1 | E20: 1 | I20: 1 | K20: 1 | AF20: =D20+F20 -> 1 | AG20: =G20+K20+L20+N20 -> 1 | AH20: =K20 -> 1 | AI20: =H20+I20+J20 -> 1 | AJ20: =T20 -> 0 | AK20: =P20+Q20+R20+S20 -> 0 | AL20: =AA20 -> 0 | AM20: =W20+X20+Y20+Z20 -> 0
A21: 1.12 | B21: Հանցանք կատարած անձին բռնելու համար անհրաժեշտ միջոցների սահմանզանցմամբ առողջությանը ծանր կամ միջին ծանրության վնաս պատճառելը | C21: 115 | AF21: =D21+F21 -> 0 | AG21: =G21+K21+L21+N21 -> 0 | AH21: =K21 -> 0 | AI21: =H21+I21+J21 -> 0 | AJ21: =T21 -> 0 | AK21: =P21+Q21+R21+S21 -> 0 | AL21: =AA21 -> 0 | AM21: =W21+X21+Y21+Z21 -> 0
A22: 1.13 | B22: Առողջությանը ծանր կամ միջին ծանրության վնաս պատճառելը անհրաժեշտ պաշտպանության սահմանանազանցմամբ | C22: 116 | AF22: =D22+F22 -> 0 | AG22: =G22+K22+L22+N22 -> 0 | AH22: =K22 -> 0 | AI22: =H22+I22+J22 -> 0 | AJ22: =T22 -> 0 | AK22: =P22+Q22+R22+S22 -> 0 | AL22: =AA22 -> 0 | AM22: =W22+X22+Y22+Z22 -> 0
A23: 1.14 | B23: Դիտավորությամբ առողջությանը թեթև վնաս պատճառելը | C23: 117 | D23: 1 | F23: 1 | I23: 1 | K23: 1 | N23: 1 | AF23: =D23+F23 -> 2 | AG23: =G23+K23+L23+N23 -> 2 | AH23: =K23 -> 1 | AI23: =H23+I23+J23 -> 1 | AJ23: =T23 -> 0 | AK23: =P23+Q23+R23+S23 -> 0 | AL23: =AA23 -> 0 | AM23: =W23+X23+Y23+Z23 -> 0
A24: 1.15 | B24: Ծեծը | C24: 118 | D24: 1 | F24: 6 | H24: 3 | I24: 2 | K24: 5 | N24: 2 | AF24: =D24+F24 -> 7 | AG24: =G24+K24+L24+N24 -> 7 | AH24: =K24 -> 5 | AI24: =H24+I24+J24 -> 5 | AJ24: =T24 -> 0 | AK24: =P24+Q24+R24+S24 -> 0 | AL24: =AA24 -> 0 | AM24: =W24+X24+Y24+Z24 -> 0
A25: 1.16 | B25: Ֆիզիկական ուժեղ ցավ կամ հոգեկան ուժեղ տառապանք պատճառելը | C25: 119 | AF25: =D25+F25 -> 0 | AG25: =G25+K25+L25+N25 -> 0 | AH25: =K25 -> 0 | AI25: =H25+I25+J25 -> 0 | AJ25: =T25 -> 0 | AK25: =P25+Q25+R25+S25 -> 0 | AL25: =AA25 -> 0 | AM25: =W25+X25+Y25+Z25 -> 0
A26: 1.17 | B26: Անզգուշությամբ առողջությանը ծանր վնաս պատճառելը | C26: 120 | AF26: =D26+F26 -> 0 | AG26: =G26+K26+L26+N26 -> 0 | AH26: =K26 -> 0 | AI26: =H26+I26+J26 -> 0 | AJ26: =T26 -> 0 | AK26: =P26+Q26+R26+S26 -> 0 | AL26: =AA26 -> 0 | AM26: =W26+X26+Y26+Z26 -> 0
A27: 1.18 | B27: Անզգուշությամբ առողջությանը միջին ծանրության վնաս պատճառելը | C27: 121 | AF27: =D27+F27 -> 0 | AG27: =G27+K27+L27+N27 -> 0 | AH27: =K27 -> 0 | AI27: =H27+I27+J27 -> 0 | AJ27: =T27 -> 0 | AK27: =P27+Q27+R27+S27 -> 0 | AL27: =AA27 -> 0 | AM27: =W27+X27+Y27+Z27 -> 0
A28: 1.19 | B28: Ապօրինի աբորտ կատարելը | C28: 122 | AF28: =D28+F28 -> 0 | AG28: =G28+K28+L28+N28 -> 0 | AH28: =K28 -> 0 | AI28: =H28+I28+J28 -> 0 | AJ28: =T28 -> 0 | AK28: =P28+Q28+R28+S28 -> 0 | AL28: =AA28 -> 0 | AM28: =W28+X28+Y28+Z28 -> 0
A29: 1.20 | B29: Մարդու իմունային անբավարարության վիրուսի հարուցիչով վարակելը | C29: 123 | AF29: =D29+F29 -> 0 | AG29: =G29+K29+L29+N29 -> 0 | AH29: =K29 -> 0 | AI29: =H29+I29+J29 -> 0 | AJ29: =T29 -> 0 | AK29: =P29+Q29+R29+S29 -> 0 | AL29: =AA29 -> 0 | AM29: =W29+X29+Y29+Z29 -> 0
A30: 1.21 | B30: Վեներական հիվանդությամբ կամ այլ սեռավարակներով վարակելը | C30: 124 | AF30: =D30+F30 -> 0 | AG30: =G30+K30+L30+N30 -> 0 | AH30: =K30 -> 0 | AI30: =H30+I30+J30 -> 0 | AJ30: =T30 -> 0 | AK30: =P30+Q30+R30+S30 -> 0 | AL30: =AA30 -> 0 | AM30: =W30+X30+Y30+Z30 -> 0
A31: 1.22 | B31: Փոխպատվաստման վիրահատություն կատարելու կանոնները խախտելը | C31: 125 | AF31: =D31+F31 -> 0 | AG31: =G31+K31+L31+N31 -> 0 | AH31: =K31 -> 0 | AI31: =H31+I31+J31 -> 0 | AJ31: =T31 -> 0 | AK31: =P31+Q31+R31+S31 -> 0 | AL31: =AA31 -> 0 | AM31: =W31+X31+Y31+Z31 -> 0
A32: 1.24 | B32: Անձին առանց իր հանձնարարության բժշկական կամ գիտական փորձերի ենթարկելը | C32: 127 | AF32: =D32+F32 -> 0 | AG32: =G32+K32+L32+N32 -> 0 | AH32: =K32 -> 0 | AI32: =H32+I32+J32 -> 0 | AJ32: =T32 -> 0 | AK32: =P32+Q32+R32+S32 -> 0 | AL32: =AA32 -> 0 | AM32: =W32+X32+Y32+Z32 -> 0
A33: 1.25 | B33: Վտանգի մեջ թողնելը | C33: 128 | AF33: =D33+F33 -> 0 | AG33: =G33+K33+L33+N33 -> 0 | AH33: =K33 -> 0 | AI33: =H33+I33+J33 -> 0 | AJ33: =T33 -> 0 | AK33: =P33+Q33+R33+S33 -> 0 | AL33: =AA33 -> 0 | AM33: =W33+X33+Y33+Z33 -> 0
A34: 1.26 | B34: Հիվանդին օգնություն ցույց չտալը | C34: 129 | AF34: =D34+F34 -> 0 | AG34: =G34+K34+L34+N34 -> 0 | AH34: =K34 -> 0 | AI34: =H34+I34+J34 -> 0 | AJ34: =T34 -> 0 | AK34: =P34+Q34+R34+S34 -> 0 | AL34: =AA34 -> 0 | AM34: =W34+X34+Y34+Z34 -> 0
A35: 1.27 | B35: Բժշկական օգնություն և սպասարկում իրականացնողների կողմից մասնագիտական պարտականությունները չկատարելը կամ ոչ պատշաճ կատարելը | C35: 130 | AF35: =D35+F35 -> 0 | AG35: =G35+K35+L35+N35 -> 0 | AH35: =K35 -> 0 | AI35: =H35+I35+J35 -> 0 | AJ35: =T35 -> 0 | AK35: =P35+Q35+R35+S35 -> 0 | AL35: =AA35 -> 0 | AM35: =W35+X35+Y35+Z35 -> 0
A36: 1.28 | B36: Այլ հանցագործություններ | AF36: =D36+F36 -> 0 | AG36: =G36+K36+L36+N36 -> 0 | AH36: =K36 -> 0 | AI36: =H36+I36+J36 -> 0 | AJ36: =T36 -> 0 | AK36: =P36+Q36+R36+S36 -> 0 | AL36: =AA36 -> 0 | AM36: =W36+X36+Y36+Z36 -> 0
A37: 2. | B37: Ընդամենը անձի ազատության, պատվի և արժանապատվության դեմ ուղղված հանցագործությունները | D37: =SUM(D38:D45) -> 0 | E37: =SUM(E38:E45) -> 0 | F37: =SUM(F38:F45) -> 2 | G37: =SUM(G38:G45) -> 0 | H37: =SUM(H38:H45) -> 2 | I37: =SUM(I38:I45) -> 0 | J37: =SUM(J38:J45) -> 0 | K37: =SUM(K38:K45) -> 2 | ... AM37: =SUM(AM38:AM45) -> 0
A38: 2.1 | B38: Մարդուն առևանգելը | C38: 131 | AF38: =D38+F38 -> 0 | AG38: =G38+K38+L38+N38 -> 0 | AH38: =K38 -> 0 | AI38: =H38+I38+J38 -> 0 | AJ38: =T38 -> 0 | AK38: =P38+Q38+R38+S38 -> 0 | AL38: =AA38 -> 0 | AM38: =W38+X38+Y38+Z38 -> 0
A39: 2.2 | B39: Մարդու թրաֆիքինգը կամ շահագործումը | C39: 132 | AF39: =D39+F39 -> 0 | AG39: =G39+K39+L39+N39 -> 0 | AH39: =K39 -> 0 | AI39: =H39+I39+J39 -> 0 | AJ39: =T39 -> 0 | AK39: =P39+Q39+R39+S39 -> 0 | AL39: =AA39 -> 0 | AM39: =W39+X39+Y39+Z39 -> 0
A40: 2.2.2 | B40: Երեխայի կամ հոգեկան խանգարման հետևանքով իր արարքի բնույթն ու նշանակությունը գիտակցելու կամ դա ղեկավարելու հնարավորությունից զրկված անձի թրաֆիքինգը կամ շահագործումը | C40: 132.2 | AF40: =D40+F40 -> 0 | AG40: =G40+K40+L40+N40 -> 0 | AH40: =K40 -> 0 | AI40: =H40+I40+J40 -> 0 | AJ40: =T40 -> 0 | AK40: =P40+Q40+R40+S40 -> 0 | AL40: =AA40 -> 0 | AM40: =W40+X40+Y40+Z40 -> 0
A41: 2.2.3 | B41: Շահագործման վիճակում գտնվող անձի ծառայությունից օգտվելը | C41: 132.3 | AF41: =D41+F41 -> 0 | AG41: =G41+K41+L41+N41 -> 0 | AH41: =K41 -> 0 | AI41: =H41+I41+J41 -> 0 | AJ41: =T41 -> 0 | AK41: =P41+Q41+R41+S41 -> 0 | AL41: =AA41 -> 0 | AM41: =W41+X41+Y41+Z41 -> 0
A42: 2.3 | B42: Ազատությունից ապօրինի զրկելը | C42: 133 | F42: 1 | H42: 1 | K42: 1 | AF42: =D42+F42 -> 1 | AG42: =G42+K42+L42+N42 -> 1 | AH42: =K42 -> 1 | AI42: =H42+I42+J42 -> 1 | AJ42: =T42 -> 0 | AK42: =P42+Q42+R42+S42 -> 0 | AL42: =AA42 -> 0 | AM42: =W42+X42+Y42+Z42 -> 0
A43: 2.4 | B43: Հոգեբուժական հիվանդանոցում ապօրինի տեղավորելը կամ պահելը | C43: 134 | AF43: =D43+F43 -> 0 | AG43: =G43+K43+L43+N43 -> 0 | AH43: =K43 -> 0 | AI43: =H43+I43+J43 -> 0 | AJ43: =T43 -> 0 | AK43: =P43+Q43+R43+S43 -> 0 | AL43: =AA43 -> 0 | AM43: =W43+X43+Y43+Z43 -> 0
A44: 2.7 | B44: Սպանության, առողջությանը ծանր վնաս պատճառելու կամ գույք ոչնչացնելու սպառնալիքը | C44: 137 | F44: 1 | H44: 1 | K44: 1 | AF44: =D44+F44 -> 1 | AG44: =G44+K44+L44+N44 -> 1 | AH44: =K44 -> 1 | AI44: =H44+I44+J44 -> 1 | AJ44: =T44 -> 0 | AK44: =P44+Q44+R44+S44 -> 0 | AL44: =AA44 -> 0 | AM44: =W44+X44+Y44+Z44 -> 0
A45: 2.8 | B45: Այլ հանցագործություններ | AF45: =D45+F45 -> 0 | AG45: =G45+K45+L45+N45 -> 0 | AH45: =K45 -> 0 | AI45: =H45+I45+J45 -> 0 | AJ45: =T45 -> 0 | AK45: =P45+Q45+R45+S45 -> 0 | AL45: =AA45 -> 0 | AM45: =W45+X45+Y45+Z45 -> 0
A46: 3. | B46: Ընդամենը սեռական անձեռնմխելիության և սեռական ազատության դեմ ուղղված հանցագործությունները | D46: =SUM(D47:D52) -> 0 | E46: =SUM(E47:E52) -> 0 | F46: =SUM(F47:F52) -> 4 | G46: =SUM(G47:G52) -> 0 | H46: =SUM(H47:H52) -> 3 | I46: =SUM(I47:I52) -> 0 | J46: =SUM(J47:J52) -> 0 | K46: =SUM(K47:K52) -> 3 | ... AM46: =SUM(AM47:AM52) -> 0
A47: 3.1 | B47: Բռնաբարությունը | C47: 138 | AF47: =D47+F47 -> 0 | AG47: =G47+K47+L47+N47 -> 0 | AH47: =K47 -> 0 | AI47: =H47+I47+J47 -> 0 | AJ47: =T47 -> 0 | AK47: =P47+Q47+R47+S47 -> 0 | AL47: =AA47 -> 0 | AM47: =W47+X47+Y47+Z47 -> 0
A48: 3.2 | B48: Սեքսուալ բնույթի բռնի գործողությունները | C48: 139 | AF48: =D48+F48 -> 0 | AG48: =G48+K48+L48+N48 -> 0 | AH48: =K48 -> 0 | AI48: =H48+I48+J48 -> 0 | AJ48: =T48 -> 0 | AK48: =P48+Q48+R48+S48 -> 0 | AL48: =AA48 -> 0 | AM48: =W48+X48+Y48+Z48 -> 0
A49: 3.3 | B49: Սեռական հարաբերության կամ սեքսուալ բնույթի գործողություններին հարկադրելը | C49: 140 | AF49: =D49+F49 -> 0 | AG49: =G49+K49+L49+N49 -> 0 | AH49: =K49 -> 0 | AI49: =H49+I49+J49 -> 0 | AJ49: =T49 -> 0 | AK49: =P49+Q49+R49+S49 -> 0 | AL49: =AA49 -> 0 | AM49: =W49+X49+Y49+Z49 -> 0
A50: 3.4 | B50: Սեռական հարաբերությունը տասնվեց տարին չլրացած անձի հետ կամ սեքսուալ բնույթի գործողություններ կատարելը տասնվեց տարին չլրացած անձի նկատմամբ | C50: 141 | F50: 3 | H50: 3 | K50: 3 | AF50: =D50+F50 -> 3 | AG50: =G50+K50+L50+N50 -> 3 | AH50: =K50 -> 3 | AI50: =H50+I50+J50 -> 3 | AJ50: =T50 -> 0 | AK50: =P50+Q50+R50+S50 -> 0 | AL50: =AA50 -> 0 | AM50: =W50+X50+Y50+Z50 -> 0
A51: 3.5 | B51: Անառակաբարո գործողությունները | C51: 142 | F51: 1 | N51: 1 | S51: 1 | T51: 1 | V51: 1 | AF51: =D51+F51 -> 1 | AG51: =G51+K51+L51+N51 -> 1 | AH51: =K51 -> 0 | AI51: =H51+I51+J51 -> 0 | AJ51: =T51 -> 1 | AK51: =P51+Q51+R51+S51 -> 1 | AL51: =AA51 -> 0 | AM51: =W51+X51+Y51+Z51 -> 0
A52: 3.6 | B52: Այլ հանցագործություններ | AF52: =D52+F52 -> 0 | AG52: =G52+K52+L52+N52 -> 0 | AH52: =K52 -> 0 | AI52: =H52+I52+J52 -> 0 | AJ52: =T52 -> 0 | AK52: =P52+Q52+R52+S52 -> 0 | AL52: =AA52 -> 0 | AM52: =W52+X52+Y52+Z52 -> 0
A53: 4. | B53: Ընդամենը մարդու և քաղաքացու սահմանադրական իրավունքների և ազատությունների դեմ ուղղված հանցագործությունները | D53: =SUM(D54:D82) -> 2 | E53: =SUM(E54:E82) -> 0 | F53: =SUM(F54:F82) -> 2 | G53: =SUM(G54:G82) -> 0 | H53: =SUM(H54:H82) -> 3 | I53: =SUM(I54:I82) -> 0 | J53: =SUM(J54:J82) -> 0 | K53: =SUM(K54:K82) -> 3 | ... AM53: =SUM(AM54:AM82) -> 0
A54: 4.1 | B54: Մարդու և քաղաքացու իրավահավասարությունը խախտելը | C54: 143 | Q54: 1 | T54: 1 | V54: 1 | AF54: =D54+F54 -> 0 | AG54: =G54+K54+L54+N54 -> 0 | AH54: =K54 -> 0 | AI54: =H54+I54+J54 -> 0 | AJ54: =T54 -> 1 | AK54: =P54+Q54+R54+S54 -> 1 | AL54: =AA54 -> 0 | AM54: =W54+X54+Y54+Z54 -> 0
A55: 4.2 | B55: Անձնական կամ ընտանեկան կյանքի մասին տեղեկություններ ապօրինի հավաքելը, պահելը, օգտագործելը կամ տարածելը | C55: 144 | AF55: =D55+F55 -> 0 | AG55: =G55+K55+L55+N55 -> 0 | AH55: =K55 -> 0 | AI55: =H55+I55+J55 -> 0 | AJ55: =T55 -> 0 | AK55: =P55+Q55+R55+S55 -> 0 | AL55: =AA55 -> 0 | AM55: =W55+X55+Y55+Z55 -> 0
A56: 4.3 | B56: Բժշկական գաղտնիքը հրապարակելը | C56: 145 | AF56: =D56+F56 -> 0 | AG56: =G56+K56+L56+N56 -> 0 | AH56: =K56 -> 0 | AI56: =H56+I56+J56 -> 0 | AJ56: =T56 -> 0 | AK56: =P56+Q56+R56+S56 -> 0 | AL56: =AA56 -> 0 | AM56: =W56+X56+Y56+Z56 -> 0
A57: 4.4 | B57: Նամակագրության, հեռախոսային խոսակցությունների, փոստային, հեռագրական կամ այլ հաղորդումների գաղտնիությունը խախտելը | C57: 146 | AF57: =D57+F57 -> 0 | AG57: =G57+K57+L57+N57 -> 0 | AH57: =K57 -> 0 | AI57: =H57+I57+J57 -> 0 | AJ57: =T57 -> 0 | AK57: =P57+Q57+R57+S57 -> 0 | AL57: =AA57 -> 0 | AM57: =W57+X57+Y57+Z57 -> 0
A58: 4.5 | B58: Բնակարանի անձեռնմխելիությունը խախտելը | C58: 147 | D58: 1 | H58: 1 | K58: 1 | AF58: =D58+F58 -> 1 | AG58: =G58+K58+L58+N58 -> 1 | AH58: =K58 -> 1 | AI58: =H58+I58+J58 -> 1 | AJ58: =T58 -> 0 | AK58: =P58+Q58+R58+S58 -> 0 | AL58: =AA58 -> 0 | AM58: =W58+X58+Y58+Z58 -> 0
A59: 4.6 | B59: Անձին տեղեկություն ներկայացնելուց հրաժարվելը | C59: 148 | AF59: =D59+F59 -> 0 | AG59: =G59+K59+L59+N59 -> 0 | AH59: =K59 -> 0 | AI59: =H59+I59+J59 -> 0 | AJ59: =T59 -> 0 | AK59: =P59+Q59+R59+S59 -> 0 | AL59: =AA59 -> 0 | AM59: =W59+X59+Y59+Z59 -> 0
A60: 4.7 | B60: Ընտրական իրավունքի իրականացմանը, ընտրական հանձնաժողովների աշխատանքներին կամ ընտրությանը մասնակցող անձանց լիազորությունների իրականացմանը խոչընդոտելը | C60: 149 | AF60: =D60+F60 -> 0 | AG60: =G60+K60+L60+N60 -> 0 | AH60: =K60 -> 0 | AI60: =H60+I60+J60 -> 0 | AJ60: =T60 -> 0 | AK60: =P60+Q60+R60+S60 -> 0 | AL60: =AA60 -> 0 | AM60: =W60+X60+Y60+Z60 -> 0
A61: 4.8 | B61: Ընտրությունների կամ քվեարկության արդյունքները կեղծելը | C61: 150 | AF61: =D61+F61 -> 0 | AG61: =G61+K61+L61+N61 -> 0 | AH61: =K61 -> 0 | AI61: =H61+I61+J61 -> 0 | AJ61: =T61 -> 0 | AK61: =P61+Q61+R61+S61 -> 0 | AL61: =AA61 -> 0 | AM61: =W61+X61+Y61+Z61 -> 0
A62: 4.10 | B62: Ընտրողների ցուցակները կազմելու, դրանք քաղաքացիներին և կուսակցություններին տրամադրելու կամ հրապարակելու կարգը խախտելը | C62: 152 | AF62: =D62+F62 -> 0 | AG62: =G62+K62+L62+N62 -> 0 | AH62: =K62 -> 0 | AI62: =H62+I62+J62 -> 0 | AJ62: =T62 -> 0 | AK62: =P62+Q62+R62+S62 -> 0 | AL62: =AA62 -> 0 | AM62: =W62+X62+Y62+Z62 -> 0
A63: 4.11 | B63: Մեկից ավելի անգամ կամ այլ անձի փոխարեն քվեարկելը | C63: 153 | F63: 1 | H63: 1 | K63: 1 | AF63: =D63+F63 -> 1 | AG63: =G63+K63+L63+N63 -> 1 | AH63: =K63 -> 1 | AI63: =H63+I63+J63 -> 1 | AJ63: =T63 -> 0 | AK63: =P63+Q63+R63+S63 -> 0 | AL63: =AA63 -> 0 | AM63: =W63+X63+Y63+Z63 -> 0
A64: 4.12 | B64: Քվեարկության գաղտնիությունը խախտելը | C64: 154 | AF64: =D64+F64 -> 0 | AG64: =G64+K64+L64+N64 -> 0 | AH64: =K64 -> 0 | AI64: =H64+I64+J64 -> 0 | AJ64: =T64 -> 0 | AK64: =P64+Q64+R64+S64 -> 0 | AL64: =AA64 -> 0 | AM64: =W64+X64+Y64+Z64 -> 0
A65: 4.13 | B65: Կեղծ ընտրական քվեաթերթիկներ կամ քվեարկության ծրարներ, դրոշմանիշեր, կտրոններ պատրաստելը կամ ակնհայտ կեղծ ընտրական քվեաթերթիկներ կամ քվեարկության ծրարներ, դրոշմանիշեր, կտրոններ հանձնելը կամ իրացնելը | C65: 154.1 | AF65: =D65+F65 -> 0 | AG65: =G65+K65+L65+N65 -> 0 | AH65: =K65 -> 0 | AI65: =H65+I65+J65 -> 0 | AJ65: =T65 -> 0 | AK65: =P65+Q65+R65+S65 -> 0 | AL65: =AA65 -> 0 | AM65: =W65+X65+Y65+Z65 -> 0
A66: 4.14 | B66: Ընտրողի կողմից թեկնածուներից, կուսակցություններից (կուսակցությունների դաշինքներից), հանրաքվեի քարոզչական նախաձեռնություններից կաշառք ստանալը կամ թեկնածուների, կուսակցությունների (կուսակցությունների դաշինքների), հանրաքվեի քարոզչական նախաձեռնությունների կողմից ընտրողներին կաշառք տալը կամ ընտրողի ազատ կամքի իրականացմանը խոչընդոտելը | C66: 154.2 | AF66: =D66+F66 -> 0 | AG66: =G66+K66+L66+N66 -> 0 | AH66: =K66 -> 0 | AI66: =H66+I66+J66 -> 0 | AJ66: =T66 -> 0 | AK66: =P66+Q66+R66+S66 -> 0 | AL66: =AA66 -> 0 | AM66: =W66+X66+Y66+Z66 -> 0
A67: 4.16 | B67: Զենքով՝ տեղամասային կենտրոն մուտք գործելը | C67: 154.4 | AF67: =D67+F67 -> 0 | AG67: =G67+K67+L67+N67 -> 0 | AH67: =K67 -> 0 | AI67: =H67+I67+J67 -> 0 | AJ67: =T67 -> 0 | AK67: =P67+Q67+R67+S67 -> 0 | AL67: =AA67 -> 0 | AM67: =W67+X67+Y67+Z67 -> 0
A68: 4.17 | B68: Վստահված անձին,ընտրական հանձնաժողովի անդամին,դիտորդին կամ զանգվածային լրատվության միջոցի ներկայացուցչին ընտրական փաստաթղթերին ծանոթանալուն խոչընդոտելը, ընտրական հանձնաժողովի արձանագրությունների պատճեններ չտալը | C68: 154.5 | AF68: =D68+F68 -> 0 | AG68: =G68+K68+L68+N68 -> 0 | AH68: =K68 -> 0 | AI68: =H68+I68+J68 -> 0 | AJ68: =T68 -> 0 | AK68: =P68+Q68+R68+S68 -> 0 | AL68: =AA68 -> 0 | AM68: =W68+X68+Y68+Z68 -> 0
A69: 4.17.1 | B69: Ընտրական հանձնաժողովի նախագահի լիազորությունները չկատարելը կամ ոչ պատշաճ կատարելը | C69: 154.6 | AF69: =D69+F69 -> 0 | AG69: =G69+K69+L69+N69 -> 0 | AH69: =K69 -> 0 | AI69: =H69+I69+J69 -> 0 | AJ69: =T69 -> 0 | AK69: =P69+Q69+R69+S69 -> 0 | AL69: =AA69 -> 0 | AM69: =W69+X69+Y69+Z69 -> 0
A70: 4.17.2 | B70: Քվեատուփը, ընտրողների ստորագրած ցուցակը, տեղամասային ընտրական հանձնաժողովի գրանցամատյանը, հանձնաժողովի կնիքը, տեղամասային ընտրական հանձնաժողովի անդամի անհատական կնիքը, ինքնասոսնձվող դրոշմանիշը, ընտրողի վերաբերյալ տվյալներ պարունակող քվեարկության կտրոնը կամ համարակալված կտրոնը, ընտրողների էլեկտրոնային գրանցման տեխնիկական սարքավորումը, կառավարության կողմից ընտրված մասնագիտացված կազմակերպության կողմից տեղադրված տեսախցիկը, ընտրական փաստաթղթերի մեկանգամյա օգտագործման պարկը կամ ընտրական փաստաթղթերի փաթեթը հափշտակելը | C70: 154.7 | AF70: =D70+F70 -> 0 | AG70: =G70+K70+L70+N70 -> 0 | AH70: =K70 -> 0 | AI70: =H70+I70+J70 -> 0 | AJ70: =T70 -> 0 | AK70: =P70+Q70+R70+S70 -> 0 | AL70: =AA70 -> 0 | AM70: =W70+X70+Y70+Z70 -> 0
A71: 4.17.3 | B71: Այլ անձի փոխարեն քվեարկելու վերաբերյալ սուտ հայտարարություն տալը կամ կեղծ ստորագրությամբ հայտարարություն դիմումին կից ներկայացնելը | C71: 154.8 | AF71: =D71+F71 -> 0 | AG71: =G71+K71+L71+N71 -> 0 | AH71: =K71 -> 0 | AI71: =H71+I71+J71 -> 0 | AJ71: =T71 -> 0 | AK71: =P71+Q71+R71+S71 -> 0 | AL71: =AA71 -> 0 | AM71: =W71+X71+Y71+Z71 -> 0
A72: 4.18 | B72: Գործադուլի մասնակցելուն կամ գործադուլի մասնակցելուց հրաժարվելուն հարկադրելը | C72: 155 | AF72: =D72+F72 -> 0 | AG72: =G72+K72+L72+N72 -> 0 | AH72: =K72 -> 0 | AI72: =H72+I72+J72 -> 0 | AJ72: =T72 -> 0 | AK72: =P72+Q72+R72+S72 -> 0 | AL72: =AA72 -> 0 | AM72: =W72+X72+Y72+Z72 -> 0
A73: 4.19 | B73: Հղի կնոջը կամ մինչև երեք տարեկան երեխա ունեցող անձին աշխատանքի ընդունելոււց հրաժարվելը կամ աշխատանքից անհիմն ազատելը | C73: 156 | AF73: =D73+F73 -> 0 | AG73: =G73+K73+L73+N73 -> 0 | AH73: =K73 -> 0 | AI73: =H73+I73+J73 -> 0 | AJ73: =T73 -> 0 | AK73: =P73+Q73+R73+S73 -> 0 | AL73: =AA73 -> 0 | AM73: =W73+X73+Y73+Z73 -> 0
A74: 4.20 | B74: Աշխատանքի պաշտպանության կանոնները խախտելը | C74: 157 | D74: 1 | F74: 1 | H74: 1 | K74: 1 | N74: 1 | AF74: =D74+F74 -> 2 | AG74: =G74+K74+L74+N74 -> 2 | AH74: =K74 -> 1 | AI74: =H74+I74+J74 -> 1 | AJ74: =T74 -> 0 | AK74: =P74+Q74+R74+S74 -> 0 | AL74: =AA74 -> 0 | AM74: =W74+X74+Y74+Z74 -> 0
A75: 4.21 | B75: Հեղինակային և հարակից իրավունքները խախտելը | C75: 158 | AF75: =D75+F75 -> 0 | AG75: =G75+K75+L75+N75 -> 0 | AH75: =K75 -> 0 | AI75: =H75+I75+J75 -> 0 | AJ75: =T75 -> 0 | AK75: =P75+Q75+R75+S75 -> 0 | AL75: =AA75 -> 0 | AM75: =W75+X75+Y75+Z75 -> 0
A76: 4.22 | B76: Արտոնագրային իրավունքը խախտելը | C76: 159 | AF76: =D76+F76 -> 0 | AG76: =G76+K76+L76+N76 -> 0 | AH76: =K76 -> 0 | AI76: =H76+I76+J76 -> 0 | AJ76: =T76 -> 0 | AK76: =P76+Q76+R76+S76 -> 0 | AL76: =AA76 -> 0 | AM76: =W76+X76+Y76+Z76 -> 0
A77: 4.23 | B77: Խղճի կամ դավանանքի ազատության իրավունքի իրականացմանը խոչընդոտելը | C77: 160 | AF77: =D77+F77 -> 0 | AG77: =G77+K77+L77+N77 -> 0 | AH77: =K77 -> 0 | AI77: =H77+I77+J77 -> 0 | AJ77: =T77 -> 0 | AK77: =P77+Q77+R77+S77 -> 0 | AL77: =AA77 -> 0 | AM77: =W77+X77+Y77+Z77 -> 0
A78: 4.24 | B78: Միավորումներ (հասարակական կամ արհեստակցական միություններ) կազմելու կամ կուսակցություններ ստեղծելու իրավունքի իրականացմանը կամ դրանց գործողությանը խոչընդոտելը | C78: 161 | AF78: =D78+F78 -> 0 | AG78: =G78+K78+L78+N78 -> 0 | AH78: =K78 -> 0 | AI78: =H78+I78+J78 -> 0 | AJ78: =T78 -> 0 | AK78: =P78+Q78+R78+S78 -> 0 | AL78: =AA78 -> 0 | AM78: =W78+X78+Y78+Z78 -> 0
A79: 4.25 | B79: Անձանց իրավունքների կամ անձի դեմ ոտնձգող միավորումներ կազմելը կամ ղեկավարելը | C79: 162 | AF79: =D79+F79 -> 0 | AG79: =G79+K79+L79+N79 -> 0 | AH79: =K79 -> 0 | AI79: =H79+I79+J79 -> 0 | AJ79: =T79 -> 0 | AK79: =P79+Q79+R79+S79 -> 0 | AL79: =AA79 -> 0 | AM79: =W79+X79+Y79+Z79 -> 0
A80: 4.26 | B80: Հավաքներ անցկացնելուն կամ դրանց մասնակցելուն խոչընդոտելը | C80: 163 | AF80: =D80+F80 -> 0 | AG80: =G80+K80+L80+N80 -> 0 | AH80: =K80 -> 0 | AI80: =H80+I80+J80 -> 0 | AJ80: =T80 -> 0 | AK80: =P80+Q80+R80+S80 -> 0 | AL80: =AA80 -> 0 | AM80: =W80+X80+Y80+Z80 -> 0
A81: 4.27 | B81: Լրագրողի մասնագիտական օրինական գործողությանը խոչընդոտելը | C81: 164 | AF81: =D81+F81 -> 0 | AG81: =G81+K81+L81+N81 -> 0 | AH81: =K81 -> 0 | AI81: =H81+I81+J81 -> 0 | AJ81: =T81 -> 0 | AK81: =P81+Q81+R81+S81 -> 0 | AL81: =AA81 -> 0 | AM81: =W81+X81+Y81+Z81 -> 0
A82: 4.28 | B82: Այլ հանցագործություններ | AF82: =D82+F82 -> 0 | AG82: =G82+K82+L82+N82 -> 0 | AH82: =K82 -> 0 | AI82: =H82+I82+J82 -> 0 | AJ82: =T82 -> 0 | AK82: =P82+Q82+R82+S82 -> 0 | AL82: =AA82 -> 0 | AM82: =W82+X82+Y82+Z82 -> 0
A83: 5. | B83: Ընդամենը ընտանիքի և երեխայի շահերի դեմ ուղղված հանցագործությունները | D83: =SUM(D84:D97) -> 0 | E83: =SUM(E84:E97) -> 0 | F83: =SUM(F84:F97) -> 0 | G83: =SUM(G84:G97) -> 0 | H83: =SUM(H84:H97) -> 0 | I83: =SUM(I84:I97) -> 0 | J83: =SUM(J84:J97) -> 0 | K83: =SUM(K84:K97) -> 0 | ... AM83: =SUM(AM84:AM97) -> 0
A84: 5.1 | B84: Անչափահասին հանցանքի կատարմանը ներգրավելը | C84: 165 | AF84: =D84+F84 -> 0 | AG84: =G84+K84+L84+N84 -> 0 | AH84: =K84 -> 0 | AI84: =H84+I84+J84 -> 0 | AJ84: =T84 -> 0 | AK84: =P84+Q84+R84+S84 -> 0 | AL84: =AA84 -> 0 | AM84: =W84+X84+Y84+Z84 -> 0
A85: 5.2 | B85: Երեխային պոռնկության կամ պոռնկագրական բնույթի նյութեր կամ առարկաներ պատրաստելու հետ կապված գործողություններ կատարելուն ներգրավելը | C85: 166 | AF85: =D85+F85 -> 0 | AG85: =G85+K85+L85+N85 -> 0 | AH85: =K85 -> 0 | AI85: =H85+I85+J85 -> 0 | AJ85: =T85 -> 0 | AK85: =P85+Q85+R85+S85 -> 0 | AL85: =AA85 -> 0 | AM85: =W85+X85+Y85+Z85 -> 0
A86: 5.2.1 | B86: Երեխային ոգելից խմիչքների օգտագործմանը, ուժեղ ներգործող կամ այլ թմրեցնող նյութերի ոչ բժշկական օգտագործմանը, թափառաշրջիկությանը ներգրավելը կամ մուրացկանության հետ կապված գործողություններ կատարելուն ներգրավելը | C86: 166.1 | AF86: =D86+F86 -> 0 | AG86: =G86+K86+L86+N86 -> 0 | AH86: =K86 -> 0 | AI86: =H86+I86+J86 -> 0 | AJ86: =T86 -> 0 | AK86: =P86+Q86+R86+S86 -> 0 | AL86: =AA86 -> 0 | AM86: =W86+X86+Y86+Z86 -> 0
A87: 5.3 | B87: Ծնողներից երեխային ապօրինի բաժանելը կամ երեխային փոխելը | C87: 167 | AF87: =D87+F87 -> 0 | AG87: =G87+K87+L87+N87 -> 0 | AH87: =K87 -> 0 | AI87: =H87+I87+J87 -> 0 | AJ87: =T87 -> 0 | AK87: =P87+Q87+R87+S87 -> 0 | AL87: =AA87 -> 0 | AM87: =W87+X87+Y87+Z87 -> 0
A88: 5.4 | B88: Խնամքը ստանձնելու նպատակով երեխայի առքը կամ ստանձնողի խնամքին հանձնելու նպատակով երեխայի վաճառքը | C88: 168 | AF88: =D88+F88 -> 0 | AG88: =G88+K88+L88+N88 -> 0 | AH88: =K88 -> 0 | AI88: =H88+I88+J88 -> 0 | AJ88: =T88 -> 0 | AK88: =P88+Q88+R88+S88 -> 0 | AL88: =AA88 -> 0 | AM88: =W88+X88+Y88+Z88 -> 0
A89: 5.5 | B89: Որդեգրման գաղտնիքը հրապարակելը կամ որդեգրման համաձայնություն տալուն հակելը կամ հարկադրելը | C89: 169 | AF89: =D89+F89 -> 0 | AG89: =G89+K89+L89+N89 -> 0 | AH89: =K89 -> 0 | AI89: =H89+I89+J89 -> 0 | AJ89: =T89 -> 0 | AK89: =P89+Q89+R89+S89 -> 0 | AL89: =AA89 -> 0 | AM89: =W89+X89+Y89+Z89 -> 0
A90: 5.6 | B90: Քաղաքացիական կացության ակտերի գրանցման մարմիններին սուտ տեղեկություններ հաղորդելը | C90: 169.1 | AF90: =D90+F90 -> 0 | AG90: =G90+K90+L90+N90 -> 0 | AH90: =K90 -> 0 | AI90: =H90+I90+J90 -> 0 | AJ90: =T90 -> 0 | AK90: =P90+Q90+R90+S90 -> 0 | AL90: =AA90 -> 0 | AM90: =W90+X90+Y90+Z90 -> 0
A91: 5.7 | B91: Երեխային դաստիարակելու պարտականությունը չկատարելը | C91: 170 | AF91: =D91+F91 -> 0 | AG91: =G91+K91+L91+N91 -> 0 | AH91: =K91 -> 0 | AI91: =H91+I91+J91 -> 0 | AJ91: =T91 -> 0 | AK91: =P91+Q91+R91+S91 -> 0 | AL91: =AA91 -> 0 | AM91: =W91+X91+Y91+Z91 -> 0
A92: 5.8 | B92: Երեխայի կյանքի անվտանգության ապահովման կամ առողջության պահպանման պարտականությունը չկատարելը կամ ոչ պատշաճ կատարելը | C92: 171 | AF92: =D92+F92 -> 0 | AG92: =G92+K92+L92+N92 -> 0 | AH92: =K92 -> 0 | AI92: =H92+I92+J92 -> 0 | AJ92: =T92 -> 0 | AK92: =P92+Q92+R92+S92 -> 0 | AL92: =AA92 -> 0 | AM92: =W92+X92+Y92+Z92 -> 0
A93: 5.8.1 | B93: Վերարտադրողականության օժանդակ տեխնոլոգիաներից օգտվելու կանոնները խախտելը | C93: 171.1 | AF93: =D93+F93 -> 0 | AG93: =G93+K93+L93+N93 -> 0 | AH93: =K93 -> 0 | AI93: =H93+I93+J93 -> 0 | AJ93: =T93 -> 0 | AK93: =P93+Q93+R93+S93 -> 0 | AL93: =AA93 -> 0 | AM93: =W93+X93+Y93+Z93 -> 0
A94: 5.9 | B94: Խնամակալի կամ հոգաբարձուի իրավունքները չարաշահելը | C94: 172 | AF94: =D94+F94 -> 0 | AG94: =G94+K94+L94+N94 -> 0 | AH94: =K94 -> 0 | AI94: =H94+I94+J94 -> 0 | AJ94: =T94 -> 0 | AK94: =P94+Q94+R94+S94 -> 0 | AL94: =AA94 -> 0 | AM94: =W94+X94+Y94+Z94 -> 0
A95: 5.10 | B95: Ծնողի կողմից երեխային պահելուց չարամտորեն խուսափելը | C95: 173 | AF95: =D95+F95 -> 0 | AG95: =G95+K95+L95+N95 -> 0 | AH95: =K95 -> 0 | AI95: =H95+I95+J95 -> 0 | AJ95: =T95 -> 0 | AK95: =P95+Q95+R95+S95 -> 0 | AL95: =AA95 -> 0 | AM95: =W95+X95+Y95+Z95 -> 0
A96: 5.11 | B96: Զավակի կողմից անաշխատունակ ծնողին պահելուց չարամտորեն խուսափելը | C96: 174 | AF96: =D96+F96 -> 0 | AG96: =G96+K96+L96+N96 -> 0 | AH96: =K96 -> 0 | AI96: =H96+I96+J96 -> 0 | AJ96: =T96 -> 0 | AK96: =P96+Q96+R96+S96 -> 0 | AL96: =AA96 -> 0 | AM96: =W96+X96+Y96+Z96 -> 0
A97: 5.12 | B97: Այլ հանցագործություններ | AF97: =D97+F97 -> 0 | AG97: =G97+K97+L97+N97 -> 0 | AH97: =K97 -> 0 | AI97: =H97+I97+J97 -> 0 | AJ97: =T97 -> 0 | AK97: =P97+Q97+R97+S97 -> 0 | AL97: =AA97 -> 0 | AM97: =W97+X97+Y97+Z97 -> 0
A98: 6. | B98: Ընդամենը սեփականության դեմ ուղղված հանցագործությունները | D98: =SUM(D99:D113) -> 7 | E98: =SUM(E99:E113) -> 0 | F98: =SUM(F99:F113) -> 15 | G98: =SUM(G99:G113) -> 0 | H98: =SUM(H99:H113) -> 14 | I98: =SUM(I99:I113) -> 0 | J98: =SUM(J99:J113) -> 0 | K98: =SUM(K99:K113) -> 14 | ... AM98: =SUM(AM99:AM113) -> 0
A99: 6.1 | B99: Ավազակությունը | C99: 175 | AF99: =D99+F99 -> 0 | AG99: =G99+K99+L99+N99 -> 0 | AH99: =K99 -> 0 | AI99: =H99+I99+J99 -> 0 | AJ99: =T99 -> 0 | AK99: =P99+Q99+R99+S99 -> 0 | AL99: =AA99 -> 0 | AM99: =W99+X99+Y99+Z99 -> 0
A100: 6.2 | B100: Կողոպուտը | C100: 176 | F100: 1 | H100: 1 | K100: 1 | Q100: 1 | T100: 1 | V100: 1 | AF100: =D100+F100 -> 1 | AG100: =G100+K100+L100+N100 -> 1 | AH100: =K100 -> 1 | AI100: =H100+I100+J100 -> 1 | AJ100: =T100 -> 1 | AK100: =P100+Q100+R100+S100 -> 1 | AL100: =AA100 -> 0 | AM100: =W100+X100+Y100+Z100 -> 0
...

Sheet Հ. Սարգսյան
A1: 2017թ. | D1: ՀԱՇՎԵՏՎՈՒԹՅՈՒՆ | Z1: Հավելված Հայաստանի Հանրապետության Դատարանների նախագահների խորհրդի 29.01.2018թ. թիվ 10-Լ որոշման
A2: ՀՀ ԱՐՄԱՎԻՐԻ ՄԱՐԶԻ ԸՆԴՀԱՆՈՒՐ ԻՐԱՎԱՍՈՒԹՅԱՆ ԱՌԱՋԻՆ ԱՏՅԱՆԻ ԴԱՏԱՐԱՆԻ ԴԱՏԱՎՈՐ Հ. ՍԱՐԳՍՅԱՆԻ ԳՈՐԾՈՒՆԵՈՒԹՅԱՆ ՎԵՐԱԲԵՐՅԱԼ
A3: ՔՐԵԱԿԱՆ ԳՈՐԾԵՐ
A4: ՀՀ Արմավիրի մարզի ընդհանուր իրավասության առաջին ատյանի դատարանում քրեական մասնագիտացում ունեցող դատավորների հաստիքների քանակը` 3
C5: ՀՀ քրեական օրենսգրքի հոդվածներ | D5: Հաշվետու ժամանակահատվածի սկզբում նախորդ հաշվետու ժամանակահատվածից փոխանցված գործերի ընդհանուր թիվը | E5: Այդ թվում` կասեցված վիճակում փոխանցված | F5: Հաշվետու ժամանակահատվածում ստացված գործերի ընդհանուր թիվը | G5: Փոխանցվել է այլ դատավորի (կազմի փոփոխություն) | H5: Հաշվետու ժամանակահատվածում ավարտված գործերի ընդհանուր թիվը | L5: ՈՒղարկվել է ըստ ընդդատության | M5: Հաշվետու ժամանակահատվածում կասեցված վարույթներով գործերի ընդհանուր թիվը | N5: Հաշվետու ժամանակահատվածում անավարտ գործերի ընդհանուր թիվը | O5: Այդ թվում՝ կասեցված | P5: Բողոքարկված դատական ակտերը | U5: ավարտված դատական գործերի բողոքարկման տոկոսը (հաշվետու ժամանակաշրջանում) | V5: Անավարտ բողոքներ | W5: Բեկանված դատական ակտերը | AB5: բեկանումների տոկոսը ավարտված գործերից(հաշվետու ժամանակահատվածում) | AC5: Կայունության տոկոսը ավարտված գործերից(հաշվետու ժամանակահատվածում) | AD5: բեկանումների տոկոսը բողոքարկված գործերից(հաշվետու ժամանակահատվածում) | AE5: կայունության տոկոսը բողոքարկված գործերից (հաշվետու ժամանակահատվածում)
H6: Քննվել է ըստ էության և դատավճիռ կայացվել | I6: Որոշում է կայացվել քրեական գործի վարույթը կարճելու և քրեական հետապնդումը դադարեցնելու մասին | J6: Որոշում է կայացվել անմեղսունակների նկատմամբ բժշկական բնույթի հարկադրական միջոցներ կիրառելու մասին | K6: Ընդամենը ավարտվել են գործեր | P6: Այդ թվում` գործն ըստ էության լուծող դատական ակտերը | R6: Այդ թվում` միջանկյալ դատական ակտերը | T6: Ընդամեն բողոքարկվել են ակտեր | W6: Այդ թվում` գործն ըստ էության լուծող դատական ակտերը | Y6: Այդ թվում` միջանկյալ դատական ակտերը | AA6: Ընդամենը բեկանվել են ակտեր
P7: նախորդ տարիներին կայացված ակտերի բողոքարկումը | Q7: հաշվետու ժամանակահատվածում կայացված ակտերի բողոքարկումը | R7: նախորդ տարիներին կայացված ակտերի բողոքարկումը | S7: հաշվետու ժամանակահատվածում կայացված ակտերի բողոքարկումը | W7: նախորդ տարիներին կայացված ակտերի բեկանումները | X7: հաշվետու ժամանակահատվածում կայացված ակտերի բեկանումները | Y7: նախորդ տարիներին կայացված ակտերի բեկանումները | Z7: հաշվետու ժամանակահատվածում կայացված ակտերի բեկանումները
D8: 1 | E8: 2 | F8: 3 | G8: 4 | H8: 5 | I8: 6 | J8: 7 | K8: 8 | L8: 9 | M8: 10 | N8: 11 | O8: 12 | P8: 13 | Q8: 14 | R8: 15 | S8: 16 | T8: 17 | U8: 18 | V8: 19 | W8: 20 | X8: 21 | Y8: 22 | Z8: 23 | AA8: 24 | AB8: 25 | AC8: 26 | AD8: 27 | AE8: 28 | AF8: 1+3=4+8+9+11 | AH8: 8=5+6+7 | AJ8: 17=13+14+15+16 | AL8: 24=20+21+22+23
A9: 1. | B9: Ընդամենը կյանքի և առողջության դեմ ուղղված հանցագործությունները | D9: =SUM(D10:D36) -> 2 | E9: =SUM(E10:E36) -> 0 | F9: =SUM(F10:F36) -> 2 | G9: =SUM(G10:G36) -> 0 | H9: =SUM(H10:H36) -> 3 | I9: =SUM(I10:I36) -> 0 | J9: =SUM(J10:J36) -> 0 | K9: =SUM(K10:K36) -> 3 | ... AM9: =SUM(AM10:AM36) -> 0
A10: 1.1 | B10: Սպանությունը | C10: 104 | AF10: =D10+F10 -> 0 | AG10: =G10+K10+L10+N10 -> 0 | AH10: =K10 -> 0 | AI10: =H10+I10+J10 -> 0 | AJ10: =T10 -> 0 | AK10: =P10+Q10+R10+S10 -> 0 | AL10: =AA10 -> 0 | AM10: =W10+X10+Y10+Z10 -> 0
A11: 1.2 | B11: Հոգեկան խիստ հուզմունքի վիճակում կատարված սպանությունը | C11: 105 | AF11: =D11+F11 -> 0 | AG11: =G11+K11+L11+N11 -> 0 | AH11: =K11 -> 0 | AI11: =H11+I11+J11 -> 0 | AJ11: =T11 -> 0 | AK11: =P11+Q11+R11+S11 -> 0 | AL11: =AA11 -> 0 | AM11: =W11+X11+Y11+Z11 -> 0
A12: 1.3 | B12: Մոր կողմից նորածին երեխայի սպանությունը | C12: 106 | AF12: =D12+F12 -> 0 | AG12: =G12+K12+L12+N12 -> 0 | AH12: =K12 -> 0 | AI12: =H12+I12+J12 -> 0 | AJ12: =T12 -> 0 | AK12: =P12+Q12+R12+S12 -> 0 | AL12: =AA12 -> 0 | AM12: =W12+X12+Y12+Z12 -> 0
A13: 1.4 | B13: Հանցանք կատարած անձին բռնելու համար անհրաժեշտ միջոցների սահմանազանցմամբ սպանությունը | C13: 107 | AF13: =D13+F13 -> 0 | AG13: =G13+K13+L13+N13 -> 0 | AH13: =K13 -> 0 | AI13: =H13+I13+J13 -> 0 | AJ13: =T13 -> 0 | AK13: =P13+Q13+R13+S13 -> 0 | AL13: =AA13 -> 0 | AM13: =W13+X13+Y13+Z13 -> 0
A14: 1.5 | B14: Անհրաժեշտ պաշտպանության սահմանազանցմամբ սպանությունը | C14: 108 | AF14: =D14+F14 -> 0 | AG14: =G14+K14+L14+N14 -> 0 | AH14: =K14 -> 0 | AI14: =H14+I14+J14 -> 0 | AJ14: =T14 -> 0 | AK14: =P14+Q14+R14+S14 -> 0 | AL14: =AA14 -> 0 | AM14: =W14+X14+Y14+Z14 -> 0
A15: 1.6 | B15: Անզգուշությամբ մահ պատճառելը | C15: 109 | AF15: =D15+F15 -> 0 | AG15: =G15+K15+L15+N15 -> 0 | AH15: =K15 -> 0 | AI15: =H15+I15+J15 -> 0 | AJ15: =T15 -> 0 | AK15: =P15+Q15+R15+S15 -> 0 | AL15: =AA15 -> 0 | AM15: =W15+X15+Y15+Z15 -> 0
A16: 1.7 | B16: Ինքնասպանության հասցնելը | C16: 110 | AF16: =D16+F16 -> 0 | AG16: =G16+K16+L16+N16 -> 0 | AH16: =K16 -> 0 | AI16: =H16+I16+J16 -> 0 | AJ16: =T16 -> 0 | AK16: =P16+Q16+R16+S16 -> 0 | AL16: =AA16 -> 0 | AM16: =W16+X16+Y16+Z16 -> 0
A17: 1.8 | B17: Ինքնասպանության հակելը | C17: 111 | AF17: =D17+F17 -> 0 | AG17: =G17+K17+L17+N17 -> 0 | AH17: =K17 -> 0 | AI17: =H17+I17+J17 -> 0 | AJ17: =T17 -> 0 | AK17: =P17+Q17+R17+S17 -> 0 | AL17: =AA17 -> 0 | AM17: =W17+X17+Y17+Z17 -> 0
A18: 1.9 | B18: Դիտավորությամբ առողջությանը ծանր վնաս պատճառելը | C18: 112 | D18: 2 | H18: 2 | K18: 2 | AF18: =D18+F18 -> 2 | AG18: =G18+K18+L18+N18 -> 2 | AH18: =K18 -> 2 | AI18: =H18+I18+J18 -> 2 | AJ18: =T18 -> 0 | AK18: =P18+Q18+R18+S18 -> 0 | AL18: =AA18 -> 0 | AM18: =W18+X18+Y18+Z18 -> 0
A19: 1.10 | B19: Դիտավորությամբ առողջությանը միջին ծանրության վնաս պատճառելը | C19: 113 | AF19: =D19+F19 -> 0 | AG19: =G19+K19+L19+N19 -> 0 | AH19: =K19 -> 0 | AI19: =H19+I19+J19 -> 0 | AJ19: =T19 -> 0 | AK19: =P19+Q19+R19+S19 -> 0 | AL19: =AA19 -> 0 | AM19: =W19+X19+Y19+Z19 -> 0
A20: 1.11 | B20: Հոգեկան խիստ հուզմունքի վիճակում առողջությանը ծանր կամ միջին ծանրության վնաս պատճառելը | C20: 114 | AF20: =D20+F20 -> 0 | AG20: =G20+K20+L20+N20 -> 0 | AH20: =K20 -> 0 | AI20: =H20+I20+J20 -> 0 | AJ20: =T20 -> 0 | AK20: =P20+Q20+R20+S20 -> 0 | AL20: =AA20 -> 0 | AM20: =W20+X20+Y20+Z20 -> 0
A21: 1.12 | B21: Հանցանք կատարած անձին բռնելու համար անհրաժեշտ միջոցների սահմանզանցմամբ առողջությանը ծանր կամ միջին ծանրության վնաս պատճառելը | C21: 115 | AF21: =D21+F21 -> 0 | AG21: =G21+K21+L21+N21 -> 0 | AH21: =K21 -> 0 | AI21: =H21+I21+J21 -> 0 | AJ21: =T21 -> 0 | AK21: =P21+Q21+R21+S21 -> 0 | AL21: =AA21 -> 0 | AM21: =W21+X21+Y21+Z21 -> 0
A22: 1.13 | B22: Առողջությանը ծանր կամ միջին ծանրության վնաս պատճառելը անհրաժեշտ պաշտպանության սահմանանազանցմամբ | C22: 116 | AF22: =D22+F22 -> 0 | AG22: =G22+K22+L22+N22 -> 0 | AH22: =K22 -> 0 | AI22: =H22+I22+J22 -> 0 | AJ22: =T22 -> 0 | AK22: =P22+Q22+R22+S22 -> 0 | AL22: =AA22 -> 0 | AM22: =W22+X22+Y22+Z22 -> 0
A23: 1.14 | B23: Դիտավորությամբ առողջությանը թեթև վնաս պատճառելը | C23: 117 | F23: 1 | H23: 1 | K23: 1 | AF23: =D23+F23 -> 1 | AG23: =G23+K23+L23+N23 -> 1 | AH23: =K23 -> 1 | AI23: =H23+I23+J23 -> 1 | AJ23: =T23 -> 0 | AK23: =P23+Q23+R23+S23 -> 0 | AL23: =AA23 -> 0 | AM23: =W23+X23+Y23+Z23 -> 0
A24: 1.15 | B24: Ծեծը | C24: 118 | F24: 1 | N24: 1 | AF24: =D24+F24 -> 1 | AG24: =G24+K24+L24+N24 -> 1 | AH24: =K24 -> 0 | AI24: =H24+I24+J24 -> 0 | AJ24: =T24 -> 0 | AK24: =P24+Q24+R24+S24 -> 0 | AL24: =AA24 -> 0 | AM24: =W24+X24+Y24+Z24 -> 0
A25: 1.16 | B25: Ֆիզիկական ուժեղ ցավ կամ հոգեկան ուժեղ տառապանք պատճառելը | C25: 119 | AF25: =D25+F25 -> 0 | AG25: =G25+K25+L25+N25 -> 0 | AH25: =K25 -> 0 | AI25: =H25+I25+J25 -> 0 | AJ25: =T25 -> 0 | AK25: =P25+Q25+R25+S25 -> 0 | AL25: =AA25 -> 0 | AM25: =W25+X25+Y25+Z25 -> 0
A26: 1.17 | B26: Անզգուշությամբ առողջությանը ծանր վնաս պատճառելը | C26: 120 | AF26: =D26+F26 -> 0 | AG26: =G26+K26+L26+N26 -> 0 | AH26: =K26 -> 0 | AI26: =H26+I26+J26 -> 0 | AJ26: =T26 -> 0 | AK26: =P26+Q26+R26+S26 -> 0 | AL26: =AA26 -> 0 | AM26: =W26+X26+Y26+Z26 -> 0
A27: 1.18 | B27: Անզգուշությամբ առողջությանը միջին ծանրության վնաս պատճառելը | C27: 121 | AF27: =D27+F27 -> 0 | AG27: =G27+K27+L27+N27 -> 0 | AH27: =K27 -> 0 | AI27: =H27+I27+J27 -> 0 | AJ27: =T27 -> 0 | AK27: =P27+Q27+R27+S27 -> 0 | AL27: =AA27 -> 0 | AM27: =W27+X27+Y27+Z27 -> 0
A28: 1.19 | B28: Ապօրինի աբորտ կատարելը | C28: 122 | AF28: =D28+F28 -> 0 | AG28: =G28+K28+L28+N28 -> 0 | AH28: =K28 -> 0 | AI28: =H28+I28+J28 -> 0 | AJ28: =T28 -> 0 | AK28: =P28+Q28+R28+S28 -> 0 | AL28: =AA28 -> 0 | AM28: =W28+X28+Y28+Z28 -> 0
A29: 1.20 | B29: Մարդու իմունային անբավարարության վիրուսի հարուցիչով վարակելը | C29: 123 | AF29: =D29+F29 -> 0 | AG29: =G29+K29+L29+N29 -> 0 | AH29: =K29 -> 0 | AI29: =H29+I29+J29 -> 0 | AJ29: =T29 -> 0 | AK29: =P29+Q29+R29+S29 -> 0 | AL29: =AA29 -> 0 | AM29: =W29+X29+Y29+Z29 -> 0
A30: 1.21 | B30: Վեներական հիվանդությամբ կամ այլ սեռավարակներով վարակելը | C30: 124 | AF30: =D30+F30 -> 0 | AG30: =G30+K30+L30+N30 -> 0 | AH30: =K30 -> 0 | AI30: =H30+I30+J30 -> 0 | AJ30: =T30 -> 0 | AK30: =P30+Q30+R30+S30 -> 0 | AL30: =AA30 -> 0 | AM30: =W30+X30+Y30+Z30 -> 0
A31: 1.22 | B31: Փոխպատվաստման վիրահատություն կատարելու կանոնները խախտելը | C31: 125 | AF31: =D31+F31 -> 0 | AG31: =G31+K31+L31+N31 -> 0 | AH31: =K31 -> 0 | AI31: =H31+I31+J31 -> 0 | AJ31: =T31 -> 0 | AK31: =P31+Q31+R31+S31 -> 0 | AL31: =AA31 -> 0 | AM31: =W31+X31+Y31+Z31 -> 0
A32: 1.24 | B32: Անձին առանց իր հանձնարարության բժշկական կամ գիտական փորձերի ենթարկելը | C32: 127 | AF32: =D32+F32 -> 0 | AG32: =G32+K32+L32+N32 -> 0 | AH32: =K32 -> 0 | AI32: =H32+I32+J32 -> 0 | AJ32: =T32 -> 0 | AK32: =P32+Q32+R32+S32 -> 0 | AL32: =AA32 -> 0 | AM32: =W32+X32+Y32+Z32 -> 0
A33: 1.25 | B33: Վտանգի մեջ թողնելը | C33: 128 | AF33: =D33+F33 -> 0 | AG33: =G33+K33+L33+N33 -> 0 | AH33: =K33 -> 0 | AI33: =H33+I33+J33 -> 0 | AJ33: =T33 -> 0 | AK33: =P33+Q33+R33+S33 -> 0 | AL33: =AA33 -> 0 | AM33: =W33+X33+Y33+Z33 -> 0
A34: 1.26 | B34: Հիվանդին օգնություն ցույց չտալը | C34: 129 | AF34: =D34+F34 -> 0 | AG34: =G34+K34+L34+N34 -> 0 | AH34: =K34 -> 0 | AI34: =H34+I34+J34 -> 0 | AJ34: =T34 -> 0 | AK34: =P34+Q34+R34+S34 -> 0 | AL34: =AA34 -> 0 | AM34: =W34+X34+Y34+Z34 -> 0
A35: 1.27 | B35: Բժշկական օգնություն և սպասարկում իրականացնողների կողմից մասնագիտական պարտականությունները չկատարելը կամ ոչ պատշաճ կատարելը | C35: 130 | AF35: =D35+F35 -> 0 | AG35: =G35+K35+L35+N35 -> 0 | AH35: =K35 -> 0 | AI35: =H35+I35+J35 -> 0 | AJ35: =T35 -> 0 | AK35: =P35+Q35+R35+S35 -> 0 | AL35: =AA35 -> 0 | AM35: =W35+X35+Y35+Z35 -> 0
A36: 1.28 | B36: Այլ հանցագործություններ | AF36: =D36+F36 -> 0 | AG36: =G36+K36+L36+N36 -> 0 | AH36: =K36 -> 0 | AI36: =H36+I36+J36 -> 0 | AJ36: =T36 -> 0 | AK36: =P36+Q36+R36+S36 -> 0 | AL36: =AA36 -> 0 | AM36: =W36+X36+Y36+Z36 -> 0
A37: 2. | B37: Ընդամենը անձի ազատության, պատվի և արժանապատվության դեմ ուղղված հանցագործությունները | D37: =SUM(D38:D45) -> 0 | E37: =SUM(E38:E45) -> 0 | F37: =SUM(F38:F45) -> 1 | G37: =SUM(G38:G45) -> 0 | H37: =SUM(H38:H45) -> 1 | I37: =SUM(I38:I45) -> 0 | J37: =SUM(J38:J45) -> 0 | K37: =SUM(K38:K45) -> 1 | ... AM37: =SUM(AM38:AM45) -> 0
A38: 2.1 | B38: Մարդուն առևանգելը | C38: 131 | F38: 1 | H38: 1 | K38: 1 | AF38: =D38+F38 -> 1 | AG38: =G38+K38+L38+N38 -> 1 | AH38: =K38 -> 1 | AI38: =H38+I38+J38 -> 1 | AJ38: =T38 -> 0 | AK38: =P38+Q38+R38+S38 -> 0 | AL38: =AA38 -> 0 | AM38: =W38+X38+Y38+Z38 -> 0
A39: 2.2 | B39: Մարդու թրաֆիքինգը կամ շահագործումը | C39: 132 | AF39: =D39+F39 -> 0 | AG39: =G39+K39+L39+N39 -> 0 | AH39: =K39 -> 0 | AI39: =H39+I39+J39 -> 0 | AJ39: =T39 -> 0 | AK39: =P39+Q39+R39+S39 -> 0 | AL39: =AA39 -> 0 | AM39: =W39+X39+Y39+Z39 -> 0
A40: 2.2.2 | B40: Երեխայի կամ հոգեկան խանգարման հետևանքով իր արարքի բնույթն ու նշանակությունը գիտակցելու կամ դա ղեկավարելու հնարավորությունից զրկված անձի թրաֆիքինգը կամ շահագործումը | C40: 132.2 | AF40: =D40+F40 -> 0 | AG40: =G40+K40+L40+N40 -> 0 | AH40: =K40 -> 0 | AI40: =H40+I40+J40 -> 0 | AJ40: =T40 -> 0 | AK40: =P40+Q40+R40+S40 -> 0 | AL40: =AA40 -> 0 | AM40: =W40+X40+Y40+Z40 -> 0
A41: 2.2.3 | B41: Շահագործման վիճակում գտնվող անձի ծառայությունից օգտվելը | C41: 132.3 | AF41: =D41+F41 -> 0 | AG41: =G41+K41+L41+N41 -> 0 | AH41: =K41 -> 0 | AI41: =H41+I41+J41 -> 0 | AJ41: =T41 -> 0 | AK41: =P41+Q41+R41+S41 -> 0 | AL41: =AA41 -> 0 | AM41: =W41+X41+Y41+Z41 -> 0
A42: 2.3 | B42: Ազատությունից ապօրինի զրկելը | C42: 133 | AF42: =D42+F42 -> 0 | AG42: =G42+K42+L42+N42 -> 0 | AH42: =K42 -> 0 | AI42: =H42+I42+J42 -> 0 | AJ42: =T42 -> 0 | AK42: =P42+Q42+R42+S42 -> 0 | AL42: =AA42 -> 0 | AM42: =W42+X42+Y42+Z42 -> 0
A43: 2.4 | B43: Հոգեբուժական հիվանդանոցում ապօրինի տեղավորելը կամ պահելը | C43: 134 | AF43: =D43+F43 -> 0 | AG43: =G43+K43+L43+N43 -> 0 | AH43: =K43 -> 0 | AI43: =H43+I43+J43 -> 0 | AJ43: =T43 -> 0 | AK43: =P43+Q43+R43+S43 -> 0 | AL43: =AA43 -> 0 | AM43: =W43+X43+Y43+Z43 -> 0
A44: 2.7 | B44: Սպանության, առողջությանը ծանր վնաս պատճառելու կամ գույք ոչնչացնելու սպառնալիքը | C44: 137 | AF44: =D44+F44 -> 0 | AG44: =G44+K44+L44+N44 -> 0 | AH44: =K44 -> 0 | AI44: =H44+I44+J44 -> 0 | AJ44: =T44 -> 0 | AK44: =P44+Q44+R44+S44 -> 0 | AL44: =AA44 -> 0 | AM44: =W44+X44+Y44+Z44 -> 0
A45: 2.8 | B45: Այլ հանցագործություններ | AF45: =D45+F45 -> 0 | AG45: =G45+K45+L45+N45 -> 0 | AH45: =K45 -> 0 | AI45: =H45+I45+J45 -> 0 | AJ45: =T45 -> 0 | AK45: =P45+Q45+R45+S45 -> 0 | AL45: =AA45 -> 0 | AM45: =W45+X45+Y45+Z45 -> 0
A46: 3. | B46: Ընդամենը սեռական անձեռնմխելիության և սեռական ազատության դեմ ուղղված հանցագործությունները | D46: =SUM(D47:D52) -> 0 | E46: =SUM(E47:E52) -> 0 | F46: =SUM(F47:F52) -> 2 | G46: =SUM(G47:G52) -> 0 | H46: =SUM(H47:H52) -> 1 | I46: =SUM(I47:I52) -> 0 | J46: =SUM(J47:J52) -> 0 | K46: =SUM(K47:K52) -> 1 | ... AM46: =SUM(AM47:AM52) -> 0
A47: 3.1 | B47: Բռնաբարությունը | C47: 138 | AF47: =D47+F47 -> 0 | AG47: =G47+K47+L47+N47 -> 0 | AH47: =K47 -> 0 | AI47: =H47+I47+J47 -> 0 | AJ47: =T47 -> 0 | AK47: =P47+Q47+R47+S47 -> 0 | AL47: =AA47 -> 0 | AM47: =W47+X47+Y47+Z47 -> 0
A48: 3.2 | B48: Սեքսուալ բնույթի բռնի գործողությունները | C48: 139 | AF48: =D48+F48 -> 0 | AG48: =G48+K48+L48+N48 -> 0 | AH48: =K48 -> 0 | AI48: =H48+I48+J48 -> 0 | AJ48: =T48 -> 0 | AK48: =P48+Q48+R48+S48 -> 0 | AL48: =AA48 -> 0 | AM48: =W48+X48+Y48+Z48 -> 0
A49: 3.3 | B49: Սեռական հարաբերության կամ սեքսուալ բնույթի գործողություններին հարկադրելը | C49: 140 | AF49: =D49+F49 -> 0 | AG49: =G49+K49+L49+N49 -> 0 | AH49: =K49 -> 0 | AI49: =H49+I49+J49 -> 0 | AJ49: =T49 -> 0 | AK49: =P49+Q49+R49+S49 -> 0 | AL49: =AA49 -> 0 | AM49: =W49+X49+Y49+Z49 -> 0
A50: 3.4 | B50: Սեռական հարաբերությունը տասնվեց տարին չլրացած անձի հետ կամ սեքսուալ բնույթի գործողություններ կատարելը տասնվեց տարին չլրացած անձի նկատմամբ | C50: 141 | F50: 2 | H50: 1 | K50: 1 | N50: 1 | AF50: =D50+F50 -> 2 | AG50: =G50+K50+L50+N50 -> 2 | AH50: =K50 -> 1 | AI50: =H50+I50+J50 -> 1 | AJ50: =T50 -> 0 | AK50: =P50+Q50+R50+S50 -> 0 | AL50: =AA50 -> 0 | AM50: =W50+X50+Y50+Z50 -> 0
A51: 3.5 | B51: Անառակաբարո գործողությունները | C51: 142 | AF51: =D51+F51 -> 0 | AG51: =G51+K51+L51+N51 -> 0 | AH51: =K51 -> 0 | AI51: =H51+I51+J51 -> 0 | AJ51: =T51 -> 0 | AK51: =P51+Q51+R51+S51 -> 0 | AL51: =AA51 -> 0 | AM51: =W51+X51+Y51+Z51 -> 0
A52: 3.6 | B52: Այլ հանցագործություններ | AF52: =D52+F52 -> 0 | AG52: =G52+K52+L52+N52 -> 0 | AH52: =K52 -> 0 | AI52: =H52+I52+J52 -> 0 | AJ52: =T52 -> 0 | AK52: =P52+Q52+R52+S52 -> 0 | AL52: =AA52 -> 0 | AM52: =W52+X52+Y52+Z52 -> 0
A53: 4. | B53: Ընդամենը մարդու և քաղաքացու սահմանադրական իրավունքների և ազատությունների դեմ ուղղված հանցագործությունները | D53: =SUM(D54:D82) -> 0 | E53: =SUM(E54:E82) -> 0 | F53: =SUM(F54:F82) -> 0 | G53: =SUM(G54:G82) -> 0 | H53: =SUM(H54:H82) -> 0 | I53: =SUM(I54:I82) -> 0 | J53: =SUM(J54:J82) -> 0 | K53: =SUM(K54:K82) -> 0 | ... AM53: =SUM(AM54:AM82) -> 0
A54: 4.1 | B54: Մարդու և քաղաքացու իրավահավասարությունը խախտելը | C54: 143 | AF54: =D54+F54 -> 0 | AG54: =G54+K54+L54+N54 -> 0 | AH54: =K54 -> 0 | AI54: =H54+I54+J54 -> 0 | AJ54: =T54 -> 0 | AK54: =P54+Q54+R54+S54 -> 0 | AL54: =AA54 -> 0 | AM54: =W54+X54+Y54+Z54 -> 0
A55: 4.2 | B55: Անձնական կամ ընտանեկան կյանքի մասին տեղեկություններ ապօրինի հավաքելը, պահելը, օգտագործելը կամ տարածելը | C55: 144 | AF55: =D55+F55 -> 0 | AG55: =G55+K55+L55+N55 -> 0 | AH55: =K55 -> 0 | AI55: =H55+I55+J55 -> 0 | AJ55: =T55 -> 0 | AK55: =P55+Q55+R55+S55 -> 0 | AL55: =AA55 -> 0 | AM55: =W55+X55+Y55+Z55 -> 0
A56: 4.3 | B56: Բժշկական գաղտնիքը հրապարակելը | C56: 145 | AF56: =D56+F56 -> 0 | AG56: =G56+K56+L56+N56 -> 0 | AH56: =K56 -> 0 | AI56: =H56+I56+J56 -> 0 | AJ56: =T56 -> 0 | AK56: =P56+Q56+R56+S56 -> 0 | AL56: =AA56 -> 0 | AM56: =W56+X56+Y56+Z56 -> 0
A57: 4.4 | B57: Նամակագրության, հեռախոսային խոսակցությունների, փոստային, հեռագրական կամ այլ հաղորդումների գաղտնիությունը խախտելը | C57: 146 | AF57: =D57+F57 -> 0 | AG57: =G57+K57+L57+N57 -> 0 | AH57: =K57 -> 0 | AI57: =H57+I57+J57 -> 0 | AJ57: =T57 -> 0 | AK57: =P57+Q57+R57+S57 -> 0 | AL57: =AA57 -> 0 | AM57: =W57+X57+Y57+Z57 -> 0
A58: 4.5 | B58: Բնակարանի անձեռնմխելիությունը խախտելը | C58: 147 | AF58: =D58+F58 -> 0 | AG58: =G58+K58+L58+N58 -> 0 | AH58: =K58 -> 0 | AI58: =H58+I58+J58 -> 0 | AJ58: =T58 -> 0 | AK58: =P58+Q58+R58+S58 -> 0 | AL58: =AA58 -> 0 | AM58: =W58+X58+Y58+Z58 -> 0
A59: 4.6 | B59: Անձին տեղեկություն ներկայացնելուց հրաժարվելը | C59: 148 | AF59: =D59+F59 -> 0 | AG59: =G59+K59+L59+N59 -> 0 | AH59: =K59 -> 0 | AI59: =H59+I59+J59 -> 0 | AJ59: =T59 -> 0 | AK59: =P59+Q59+R59+S59 -> 0 | AL59: =AA59 -> 0 | AM59: =W59+X59+Y59+Z59 -> 0
A60: 4.7 | B60: Ընտրական իրավունքի իրականացմանը, ընտրական հանձնաժողովների աշխատանքներին կամ ընտրությանը մասնակցող անձանց լիազորությունների իրականացմանը խոչընդոտելը | C60: 149 | AF60: =D60+F60 -> 0 | AG60: =G60+K60+L60+N60 -> 0 | AH60: =K60 -> 0 | AI60: =H60+I60+J60 -> 0 | AJ60: =T60 -> 0 | AK60: =P60+Q60+R60+S60 -> 0 | AL60: =AA60 -> 0 | AM60: =W60+X60+Y60+Z60 -> 0
A61: 4.8 | B61: Ընտրությունների կամ քվեարկության արդյունքները կեղծելը | C61: 150 | AF61: =D61+F61 -> 0 | AG61: =G61+K61+L61+N61 -> 0 | AH61: =K61 -> 0 | AI61: =H61+I61+J61 -> 0 | AJ61: =T61 -> 0 | AK61: =P61+Q61+R61+S61 -> 0 | AL61: =AA61 -> 0 | AM61: =W61+X61+Y61+Z61 -> 0
A62: 4.10 | B62: Ընտրողների ցուցակները կազմելու, դրանք քաղաքացիներին և կուսակցություններին տրամադրելու կամ հրապարակելու կարգը խախտելը | C62: 152 | AF62: =D62+F62 -> 0 | AG62: =G62+K62+L62+N62 -> 0 | AH62: =K62 -> 0 | AI62: =H62+I62+J62 -> 0 | AJ62: =T62 -> 0 | AK62: =P62+Q62+R62+S62 -> 0 | AL62: =AA62 -> 0 | AM62: =W62+X62+Y62+Z62 -> 0
A63: 4.11 | B63: Մեկից ավելի անգամ կամ այլ անձի փոխարեն քվեարկելը | C63: 153 | AF63: =D63+F63 -> 0 | AG63: =G63+K63+L63+N63 -> 0 | AH63: =K63 -> 0 | AI63: =H63+I63+J63 -> 0 | AJ63: =T63 -> 0 | AK63: =P63+Q63+R63+S63 -> 0 | AL63: =AA63 -> 0 | AM63: =W63+X63+Y63+Z63 -> 0
A64: 4.12 | B64: Քվեարկության գաղտնիությունը խախտելը | C64: 154 | AF64: =D64+F64 -> 0 | AG64: =G64+K64+L64+N64 -> 0 | AH64: =K64 -> 0 | AI64: =H64+I64+J64 -> 0 | AJ64: =T64 -> 0 | AK64: =P64+Q64+R64+S64 -> 0 | AL64: =AA64 -> 0 | AM64: =W64+X64+Y64+Z64 -> 0
A65: 4.13 | B65: Կեղծ ընտրական քվեաթերթիկներ կամ քվեարկության ծրարներ, դրոշմանիշեր, կտրոններ պատրաստելը կամ ակնհայտ կեղծ ընտրական քվեաթերթիկներ կամ քվեարկության ծրարներ, դրոշմանիշեր, կտրոններ հանձնելը կամ իրացնելը | C65: 154.1 | AF65: =D65+F65 -> 0 | AG65: =G65+K65+L65+N65 -> 0 | AH65: =K65 -> 0 | AI65: =H65+I65+J65 -> 0 | AJ65: =T65 -> 0 | AK65: =P65+Q65+R65+S65 -> 0 | AL65: =AA65 -> 0 | AM65: =W65+X65+Y65+Z65 -> 0
... A81: 4.27 | B81: Լրագրողի մասնագիտական օրինական գործողությանը խոչընդոտելը | C81: 164 | AF81: =D81+F81 -> 0 | AG81: =G81+K81+L81+N81 -> 0 | AH81: =K81 -> 0 | AI81: =H81+I81+J81 -> 0 | AJ81: =T81 -> 0 | AK81: =P81+Q81+R81+S81 -> 0 | AL81: =AA81 -> 0 | AM81: =W81+X81+Y81+Z81 -> 0
A82: 4.28 | B82: Այլ հանցագործություններ | AF82: =D82+F82 -> 0 | AG82: =G82+K82+L82+N82 -> 0 | AH82: =K82 -> 0 | AI82: =H82+I82+J82 -> 0 | AJ82: =T82 -> 0 | AK82: =P82+Q82+R82+S82 -> 0 | AL82: =AA82 -> 0 | AM82: =W82+X82+Y82+Z82 -> 0
A83: 5. | B83: Ընդամենը ընտանիքի և երեխայի շահերի դեմ ուղղված հանցագործությունները | D83: =SUM(D84:D97) -> 0 | E83: =SUM(E84:E97) -> 0 | F83: =SUM(F84:F97) -> 0 | G83: =SUM(G84:G97) -> 0 | H83: =SUM(H84:H97) -> 0 | I83: =SUM(I84:I97) -> 0 | J83: =SUM(J84:J97) -> 0 | K83: =SUM(K84:K97) -> 0 | ... AM83: =SUM(AM84:AM97) -> 0
A84: 5.1 | B84: Անչափահասին հանցանքի կատարմանը ներգրավելը | C84: 165 | AF84: =D84+F84 -> 0 | AG84: =G84+K84+L84+N84 -> 0 | AH84: =K84 -> 0 | AI84: =H84+I84+J84 -> 0 | AJ84: =T84 -> 0 | AK84: =P84+Q84+R84+S84 -> 0 | AL84: =AA84 -> 0 | AM84: =W84+X84+Y84+Z84 -> 0
A85: 5.2 | B85: Երեխային պոռնկության կամ պոռնկագրական բնույթի նյութեր կամ առարկաներ պատրաստելու հետ կապված գործողություններ կատարելուն ներգրավելը | C85: 166 | AF85: =D85+F85 -> 0 | AG85: =G85+K85+L85+N85 -> 0 | AH85: =K85 -> 0 | AI85: =H85+I85+J85 -> 0 | AJ85: =T85 -> 0 | AK85: =P85+Q85+R85+S85 -> 0 | AL85: =AA85 -> 0 | AM85: =W85+X85+Y85+Z85 -> 0
A86: 5.2.1 | B86: Երեխային ոգելից խմիչքների օգտագործմանը, ուժեղ ներգործող կամ այլ թմրեցնող նյութերի ոչ բժշկական օգտագործմանը, թափառաշրջիկությանը ներգրավելը կամ մուրացկանության հետ կապված գործողություններ կատարելուն ներգրավելը | C86: 166.1 | AF86: =D86+F86 -> 0 | AG86: =G86+K86+L86+N86 -> 0 | AH86: =K86 -> 0 | AI86: =H86+I86+J86 -> 0 | AJ86: =T86 -> 0 | AK86: =P86+Q86+R86+S86 -> 0 | AL86: =AA86 -> 0 | AM86: =W86+X86+Y86+Z86 -> 0
A87: 5.3 | B87: Ծնողներից երեխային ապօրինի բաժանելը կամ երեխային փոխելը | C87: 167 | AF87: =D87+F87 -> 0 | AG87: =G87+K87+L87+N87 -> 0 | AH87: =K87 -> 0 | AI87: =H87+I87+J87 -> 0 | AJ87: =T87 -> 0 | AK87: =P87+Q87+R87+S87 -> 0 | AL87: =AA87 -> 0 | AM87: =W87+X87+Y87+Z87 -> 0
A88: 5.4 | B88: Խնամքը ստանձնելու նպատակով երեխայի առքը կամ ստանձնողի խնամքին հանձնելու նպատակով երեխայի վաճառքը | C88: 168 | AF88: =D88+F88 -> 0 | AG88: =G88+K88+L88+N88 -> 0 | AH88: =K88 -> 0 | AI88: =H88+I88+J88 -> 0 | AJ88: =T88 -> 0 | AK88: =P88+Q88+R88+S88 -> 0 | AL88: =AA88 -> 0 | AM88: =W88+X88+Y88+Z88 -> 0
A89: 5.5 | B89: Որդեգրման գաղտնիքը հրապարակելը կամ որդեգրման համաձայնություն տալուն հակելը կամ հարկադրելը | C89: 169 | AF89: =D89+F89 -> 0 | AG89: =G89+K89+L89+N89 -> 0 | AH89: =K89 -> 0 | AI89: =H89+I89+J89 -> 0 | AJ89: =T89 -> 0 | AK89: =P89+Q89+R89+S89 -> 0 | AL89: =AA89 -> 0 | AM89: =W89+X89+Y89+Z89 -> 0
A90: 5.6 | B90: Քաղաքացիական կացության ակտերի գրանցման մարմիններին սուտ տեղեկություններ հաղորդելը | C90: 169.1 | AF90: =D90+F90 -> 0 | AG90: =G90+K90+L90+N90 -> 0 | AH90: =K90 -> 0 | AI90: =H90+I90+J90 -> 0 | AJ90: =T90 -> 0 | AK90: =P90+Q90+R90+S90 -> 0 | AL90: =AA90 -> 0 | AM90: =W90+X90+Y90+Z90 -> 0
A91: 5.7 | B91: Երեխային դաստիարակելու պարտականությունը չկատարելը | C91: 170 | AF91: =D91+F91 -> 0 | AG91: =G91+K91+L91+N91 -> 0 | AH91: =K91 -> 0 | AI91: =H91+I91+J91 -> 0 | AJ91: =T91 -> 0 | AK91: =P91+Q91+R91+S91 -> 0 | AL91: =AA91 -> 0 | AM91: =W91+X91+Y91+Z91 -> 0
A92: 5.8 | B92: Երեխայի կյանքի անվտանգության ապահովման կամ առողջության պահպանման պարտականությունը չկատարելը կամ ոչ պատշաճ կատարելը | C92: 171 | AF92: =D92+F92 -> 0 | AG92: =G92+K92+L92+N92 -> 0 | AH92: =K92 -> 0 | AI92: =H92+I92+J92 -> 0 | AJ92: =T92 -> 0 | AK92: =P92+Q92+R92+S92 -> 0 | AL92: =AA92 -> 0 | AM92: =W92+X92+Y92+Z92 -> 0
A93: 5.8.1 | B93: Վերարտադրողականության օժանդակ տեխնոլոգիաներից օգտվելու կանոնները խախտելը | C93: 171.1 | AF93: =D93+F93 -> 0 | AG93: =G93+K93+L93+N93 -> 0 | AH93: =K93 -> 0 | AI93: =H93+I93+J93 -> 0 | AJ93: =T93 -> 0 | AK93: =P93+Q93+R93+S93 -> 0 | AL93: =AA93 -> 0 | AM93: =W93+X93+Y93+Z93 -> 0
A94: 5.9 | B94: Խնամակալի կամ հոգաբարձուի իրավունքները չարաշահելը | C94: 172 | AF94: =D94+F94 -> 0 | AG94: =G94+K94+L94+N94 -> 0 | AH94: =K94 -> 0 | AI94: =H94+I94+J94 -> 0 | AJ94: =T94 -> 0 | AK94: =P94+Q94+R94+S94 -> 0 | AL94: =AA94 -> 0 | AM94: =W94+X94+Y94+Z94 -> 0
A95: 5.10 | B95: Ծնողի կողմից երեխային պահելուց չարամտորեն խուսափելը | C95: 173 | AF95: =D95+F95 -> 0 | AG95: =G95+K95+L95+N95 -> 0 | AH95: =K95 -> 0 | AI95: =H95+I95+J95 -> 0 | AJ95: =T95 -> 0 | AK95: =P95+Q95+R95+S95 -> 0 | AL95: =AA95 -> 0 | AM95: =W95+X95+Y95+Z95 -> 0
A96: 5.11 | B96: Զավակի կողմից անաշխատունակ ծնողին պահելուց չարամտորեն խուսափելը | C96: 174 | AF96: =D96+F96 -> 0 | AG96: =G96+K96+L96+N96 -> 0 | AH96: =K96 -> 0 | AI96: =H96+I96+J96 -> 0 | AJ96: =T96 -> 0 | AK96: =P96+Q96+R96+S96 -> 0 | AL96: =AA96 -> 0 | AM96: =W96+X96+Y96+Z96 -> 0
A97: 5.12 | B97: Այլ հանցագործություններ | AF97: =D97+F97 -> 0 | AG97: =G97+K97+L97+N97 -> 0 | AH97: =K97 -> 0 | AI97: =H97+I97+J97 -> 0 | AJ97: =T97 -> 0 | AK97: =P97+Q97+R97+S97 -> 0 | AL97: =AA97 -> 0 | AM97: =W97+X97+Y97+Z97 -> 0
A98: 6. | B98: Ընդամենը սեփականության դեմ ուղղված հանցագործությունները | D98: =SUM(D99:D113) -> 3 | E98: =SUM(E99:E113) -> 0 | F98: =SUM(F99:F113) -> 3 | G98: =SUM(G99:G113) -> 0 | H98: =SUM(H99:H113) -> 6 | I98: =SUM(I99:I113) -> 0 | J98: =SUM(J99:J113) -> 0 | K98: =SUM(K99:K113) -> 6 | ... AM98: =SUM(AM99:AM113) -> 2
A99: 6.1 | B99: Ավազակությունը | C99: 175 | AF99: =D99+F99 -> 0 | AG99: =G99+K99+L99+N99 -> 0 | AH99: =K99 -> 0 | AI99: =H99+I99+J99 -> 0 | AJ99: =T99 -> 0 | AK99: =P99+Q99+R99+S99 -> 0 | AL99: =AA99 -> 0 | AM99: =W99+X99+Y99+Z99 -> 0
A100: 6.2 | B100: Կողոպուտը | C100: 176 | AF100: =D100+F100 -> 0 | AG100: =G100+K100+L100+N100 -> 0 | AH100: =K100 -> 0 | AI100: =H100+I100+J100 -> 0 | AJ100: =T100 -> 0 | AK100: =P100+Q100+R100+S100 -> 0 | AL100: =AA100 -> 0 | AM100: =W100+X100+Y100+Z100 -> 0
A101: 6.3 | B101: Գողությունը | C101: 177 | D101: 3 | F101: 3 | H101: 6 | K101: 6 | Q101: 4 | T101: 4 | V101: 4 | W101: 1 | AA101: 1 | AF101: =D101+F101 -> 6 | AG101: =G101+K101+L101+N101 -> 6 | AH101: =K101 -> 6 | AI101: =H101+I101+J101 -> 6 | AJ101: =T101 -> 4 | AK101: =P101+Q101+R101+S101 -> 4 | AL101: =AA101 -> 1 | AM101: =W101+X101+Y101+Z101 -> 1
A102: 6.4 | B102: Խարդախությունը | C102: 178 | W102: 1 | AA102: 1 | AF102: =D102+F102 -> 0 | AG102: =G102+K102+L102+N102 -> 0 | AH102: =K102 -> 0 | AI102: =H102+I102+J102 -> 0 | AJ102: =T102 -> 0 | AK102: =P102+Q102+R102+S102 -> 0 | AL102: =AA102 -> 1 | AM102: =W102+X102+Y102+Z102 -> 1
A103: 6.5 | B103: Յուրացնելը կամ վատնելը | C103: 179 | AF103: =D103+F103 -> 0 | AG103: =G103+K103+L103+N103 -> 0 | AH103: =K103 -> 0 | AI103: =H103+I103+J103 -> 0 | AJ103: =T103 -> 0 | AK103: =P103+Q103+R103+S103 -> 0 | AL103: =AA103 -> 0 | AM103: =W103+X103+Y103+Z103 -> 0
A104: 6.6 | B104: Առանձնակի արժեք ունեցող առարկաներ հափշտակելը | C104: 180 | AF104: =D104+F104 -> 0 | AG104: =G104+K104+L104+N104 -> 0 | AH104: =K104 -> 0 | AI104: =H104+I104+J104 -> 0 | AJ104: =T104 -> 0 | AK104: =P104+Q104+R104+S104 -> 0 | AL104: =AA104 -> 0 | AM104: =W104+X104+Y104+Z104 -> 0
A105: 6.7 | B105: Հափշտակությունը, որը կատարվել է համակարգչային տեխնիկայի օգտագործմամբ | C105: 181 | AF105: =D105+F105 -> 0 | AG105: =G105+K105+L105+N105 -> 0 | AH105: =K105 -> 0 | AI105: =H105+I105+J105 -> 0 | AJ105: =T105 -> 0 | AK105: =P105+Q105+R105+S105 -> 0 | AL105: =AA105 -> 0 | AM105: =W105+X105+Y105+Z105 -> 0
A106: 6.8 | B106: Շորթումը | C106: 182 | AF106: =D106+F106 -> 0 | AG106: =G106+K106+L106+N106 -> 0 | AH106: =K106 -> 0 | AI106: =H106+I106+J106 -> 0 | AJ106: =T106 -> 0 | AK106: =P106+Q106+R106+S106 -> 0 | AL106: =AA106 -> 0 | AM106: =W106+X106+Y106+Z106 -> 0
A107: 6.9 | B107: Ավտոմեքենային կամ տրանսպորտային այլ միջոցին ապօրինաբար տիրանալն առանց հափշտակելու նպատակի | C107: 183 | AF107: =D107+F107 -> 0 | AG107: =G107+K107+L107+N107 -> 0 | AH107: =K107 -> 0 | AI107: =H107+I107+J107 -> 0 | AJ107: =T107 -> 0 | AK107: =P107+Q107+R107+S107 -> 0 | AL107: =AA107 -> 0 | AM107: =W107+X107+Y107+Z107 -> 0
A108: 6.10 | B108: Գույքային վնաս պատճառելը խաբեության կամ վստահությունը չարաշահելու եղանակով | C108: 184 | AF108: =D108+F108 -> 0 | AG108: =G108+K108+L108+N108 -> 0 | AH108: =K108 -> 0 | AI108: =H108+I108+J108 -> 0 | AJ108: =T108 -> 0 | AK108: =P108+Q108+R108+S108 -> 0 | AL108: =AA108 -> 0 | AM108: =W108+X108+Y108+Z108 -> 0
A109: 6.10.1 | B109: Գրավառուին վնաս պատճառելը | C109: 184.1 | AF109: =D109+F109 -> 0 | AG109: =G109+K109+L109+N109 -> 0 | AH109: =K109 -> 0 | AI109: =H109+I109+J109 -> 0 | AJ109: =T109 -> 0 | AK109: =P109+Q109+R109+S109 -> 0 | AL109: =AA109 -> 0 | AM109: =W109+X109+Y109+Z109 -> 0
A110: 6.11 | B110: Գույքը դիտավորությամբ ոչնչացնելը կամ վնասելը | C110: 185 | AF110: =D110+F110 -> 0 | AG110: =G110+K110+L110+N110 -> 0 | AH110: =K110 -> 0 | AI110: =H110+I110+J110 -> 0 | AJ110: =T110 -> 0 | AK110: =P110+Q110+R110+S110 -> 0 | AL110: =AA110 -> 0 | AM110: =W110+X110+Y110+Z110 -> 0
A111: 6.12 | B111: Գույքն անզգուշությամբ ոչնչացնելը կամ վնասելը | C111: 186 | AF111: =D111+F111 -> 0 | AG111: =G111+K111+L111+N111 -> 0 | AH111: =K111 -> 0 | AI111: =H111+I111+J111 -> 0 | AJ111: =T111 -> 0 | AK111: =P111+Q111+R111+S111 -> 0 | AL111: =AA111 -> 0 | AM111: =W111+X111+Y111+Z111 -> 0
A112: 6.13 | B112: Գուքի պահպանության պարտականություններն անփույթ կամ անբարեխիղճ կատարելը | C112: 186.1 | AF112: =D112+F112 -> 0 | AG112: =G112+K112+L112+N112 -> 0 | AH112: =K112 -> 0 | AI112: =H112+I112+J112 -> 0 | AJ112: =T112 -> 0 | AK112: =P112+Q112+R112+S112 -> 0 | AL112: =AA112 -> 0 | AM112: =W112+X112+Y112+Z112 -> 0
A113: 6.14 | B113: Այլ հանցագործություններ | AF113: =D113+F113 -> 0 | AG113: =G113+K113+L113+N113 -> 0 | AH113: =K113 -> 0 | AI113: =H113+I113+J113 -> 0 | AJ113: =T113 -> 0 | AK113: =P113+Q113+R113+S113 -> 0 | AL113: =AA113 -> 0 | AM113: =W113+X113+Y113+Z113 -> 0
A114: 7. | B114: Ընդամենը տնտեսական գործունեության դեմ ուղղված հանցագործությունները | D114: =SUM(D115:D150) -> 0 | E114: =SUM(E115:E150) -> 0 | F114: =SUM(F115:F150) -> 0 | G114: =SUM(G115:G150) -> 0 | H114: =SUM(H115:H150) -> 0 | I114: =SUM(I115:I150) -> 0 | J114: =SUM(J115:J150) -> 0 | K114: =SUM(K115:K150) -> 0 | ... AM114: =SUM(AM115:AM150) -> 0
A115: 7.1 | B115: Օրինական ձեռնարկատիրական և այլ տնտեսական գործունեությանը խոչընդոտելը | C115: 187 | AF115: =D115+F115 -> 0 | AG115: =G115+K115+L115+N115 -> 0 | AH115: =K115 -> 0 | AI115: =H115+I115+J115 -> 0 | AJ115: =T115 -> 0 | AK115: =P115+Q115+R115+S115 -> 0 | AL115: =AA115 -> 0 | AM115: =W115+X115+Y115+Z115 -> 0
...
