Workbook

Sheet Ընդհանուր
A1: 2017թ. | D1: ՀԱՇՎԵՏՎՈՒԹՅՈՒՆ
A2: ՀՀ ԱՐՄԱՎԻՐԻ ՄԱՐԶԻ ԸՆԴՀԱՆՈՒՐ ԻՐԱՎԱՍՈՒԹՅԱՆ ԱՌԱՋԻՆ ԱՏՅԱՆԻ ԴԱՏԱՐԱՆԻ ԳՈՐԾՈՒՆԵՈՒԹՅԱՆ ՎԵՐԱԲԵՐՅԱԼ
A3: ՔՐԵԱԿԱՆ ԳՈՐԾԵՐ
A4: ՀՀ Արմավիրի մարզի ընդհանուր իրավասության առաջին ատյանի դատարանում քրեական մասնագիտացում ունեցող դատավորների հաստիքների քանակը` 3
C5: ՀՀ քրեական օրենսգրքի հոդվածներ | D5: Հաշվետու ժամանակահատվածի սկզբում նախորդ հաշվետու ժամանակահատվածից փոխանցված գործերի ընդհանուր թիվը | E5: Այդ թվում` կասեցված վիճակում փոխանցված | F5: Հաշվետու ժամանակահատվածում ստացված գործերի ընդհանուր թիվը | G5: Փոխանցվել է այլ դատավորի (կազմի փոփոխություն) | H5: Հաշվետու ժամանակահատվածում ավարտված գործերի ընդհանուր թիվը | L5: ՈՒղարկվել է ըստ ընդդատության | M5: Հաշվետու ժամանակահատվածում կասեցված վարույթներով գործերի ընդհանուր թիվը | N5: Հաշվետու ժամանակահատվածում անավարտ գործերի ընդհանուր թիվը | O5: Այդ թվում՝ կասեցված | P5: Բողոքարկված դատական ակտերը | U5: ավարտված դատական գործերի բողոքարկման տոկոսը (հաշվետու ժամանակաշրջանում) | V5: Անավարտ բողոքներ | W5: Բեկանված դատական ակտերը | AB5: բեկանումների տոկոսը ավարտված գործերից(հաշվետու ժամանակահատվածում) | AC5: Կայունության տոկոսը ավարտված գործերից(հաշվետու ժամանակահատվածում) | AD5: բեկանումների տոկոսը բողոքարկված գործերից(հաշվետու ժամանակահատվածում) | AE5: կայունության տոկոսը բողոքարկված գործերից (հաշվետու ժամանակահատվածում)
H6: Քննվել է ըստ էության և դատավճիռ կայացվել | I6: Որոշում է կայացվել քրեական գործի վարույթը կարճելու և քրեական հետապնդումը դադարեցնելու մասին | J6: Որոշում է կայացվել անմեղսունակների նկատմամբ բժշկական բնույթի հարկադրական միջոցներ կիրառելու մասին | K6: Ընդամենը ավարտվել են գործեր | P6: Այդ թվում` գործն ըստ էության լուծող դատական ակտերը | R6: Այդ թվում` միջանկյալ դատական ակտերը | T6: Ընդամեն բողոքարկվել են ակտեր | W6: Այդ թվում` գործն ըստ էության լուծող դատական ակտերը | Y6: Այդ թվում` միջանկյալ դատական ակտերը | AA6: Ընդամենը բեկանվել են ակտեր
P7: նախորդ տարիներին կայացված ակտերի բողոքարկումը | Q7: հաշվետու ժամանակահատվածում կայացված ակտերի բողոքարկումը | R7: նախորդ տարիներին կայացված ակտերի բողոքարկումը | S7: հաշվետու ժամանակահատվածում կայացված ակտերի բողոքարկումը | W7: նախորդ տարիներին կայացված ակտերի բեկանումները | X7: հաշվետու ժամանակահատվածում կայացված ակտերի բեկանումները | Y7: նախորդ տարիներին կայացված ակտերի բեկանումները | Z7: հաշվետու ժամանակահատվածում կայացված ակտերի բեկանումները
D8: 1 | E8: 2 | F8: 3 | G8: 4 | H8: 5 | I8: 6 | J8: 7 | K8: 8 | L8: 9 | M8: 10 | N8: 11 | O8: 12 | P8: 13 | Q8: 14 | R8: 15 | S8: 16 | T8: 17 | U8: 18 | V8: 19 | W8: 20 | X8: 21 | Y8: 22 | Z8: 23 | AA8: 24 | AB8: 25 | AC8: 26 | AD8: 27 | AE8: 28 | AF8: 1+3=4+8+9+11 | AH8: 8=5+6+7 | AJ8: 17=13+14+15+16 | AL8: 24=20+21+22+23
A9: 1. | B9: Ընդամենը կյանքի և առողջության դեմ ուղղված հանցագործությունները | D9: =SUM(D10:D36) -> 21 | E9: =SUM(E10:E36) -> 1 | F9: =SUM(F10:F36) -> 48 | G9: =SUM(G10:G36) -> 0 | H9: =SUM(H10:H36) -> 19 | I9: =SUM(I10:I36) -> 8 | J9: =SUM(J10:J36) -> 0 | K9: =SUM(K10:K36) -> 27 | ... AM9: =SUM(AM10:AM36) -> 0
A10: 1.1 | B10: Սպանությունը | C10: 104 | D10: =SUM('Վ. Խալաթյան:Հ. Սարգսյան'!D10) -> 4 | E10: =SUM('Վ. Խալաթյան:Հ. Սարգսյան'!E10) -> 0 | F10: =SUM('Վ. Խալաթյան:Հ. Սարգսյան'!F10) -> 7 | G10: =SUM('Վ. Խալաթյան:Հ. Սարգսյան'!G10) -> 0 | H10: =SUM('Վ. Խալաթյան:Հ. Սարգսյան'!H10) -> 4 | I10: =SUM('Վ. Խալաթյան:Հ. Սարգսյան'!I10) -> 0 | J10: =SUM('Վ. Խալաթյան:Հ. Սարգսյան'!J10) -> 0 | K10: =SUM('Վ. Խալաթյան:Հ. Սարգսյան'!K10) -> 4 | ... AE10: =SUM('Վ. Խալաթյան:Հ. Սարգսյան'!AE10) -> 0 | AF10: =D10+F10 -> 11 | AG10: =G10+K10+L10+N10 -> 11 | AH10: =K10 -> 4 | AI10: =H10+I10+J10 -> 4 | AJ10: =T10 -> 4 | AK10: =P10+Q10+R10+S10 -> 4 | AL10: =AA10 -> 0 | AM10: =W10+X10+Y10+Z10 -> 0
A11: 1.2 | B11: Հոգեկան խիստ հուզմունքի վիճակում կատարված սպանությունը | C11: 105 | D11: =SUM('Վ. Խալաթյան:Հ. Սարգսյան'!D11) -> 1 | E11: =SUM('Վ. Խալաթյան:Հ. Սարգսյան'!E11) -> 0 | F11: =SUM('Վ. Խալաթյան:Հ. Սարգսյան'!F11) -> 0 | G11: =SUM('Վ. Խալաթյան:Հ. Սարգսյան'!G11) -> 0 | H11: =SUM('Վ. Խալաթյան:Հ. Սարգսյան'!H11) -> 0 | I11: =SUM('Վ. Խալաթյան:Հ. Սարգսյան'!I11) -> 0 | J11: =SUM('Վ. Խալաթյան:Հ. Սարգսյան'!J11) -> 0 | K11: =SUM('Վ. Խալաթյան:Հ. Սարգսյան'!K11) -> 0 | ... AE11: =SUM('Վ. Խալաթյան:Հ. Սարգսյան'!AE11) -> 0 | AF11: =D11+F11 -> 1 | AG11: =G11+K11+L11+N11 -> 1 | AH11: =K11 -> 0 | AI11: =H11+I11+J11 -> 0 | AJ11: =T11 -> 0 | AK11: =P11+Q11+R11+S11 -> 0 | AL11: =AA11 -> 0 | AM11: =W11+X11+Y11+Z11 -> 0
A12: 1.3 | B12: Մոր կողմից նորածին երեխայի սպանությունը | C12: 106 | D12: =SUM('Վ. Խալաթյան:Հ. Սարգսյան'!D12) -> 0 | E12: =SUM('Վ. Խալաթյան:Հ. Սարգսյան'!E12) -> 0 | F12: =SUM('Վ. Խալաթյան:Հ. Սարգսյան'!F12) -> 0 | G12: =SUM('Վ. Խալաթյան:Հ. Սարգսյան'!G12) -> 0 | H12: =SUM('Վ. Խալաթյան:Հ. Սարգսյան'!H12) -> 0 | I12: =SUM('Վ. Խալաթյան:Հ. Սարգսյան'!I12) -> 0 | J12: =SUM('Վ. Խալաթյան:Հ. Սարգսյան'!J12) -> 0 | K12: =SUM('Վ. Խալաթյան:Հ. Սարգսյան'!K12) -> 0 | ... AE12: =SUM('Վ. Խալաթյան:Հ. Սարգսյան'!AE12) -> 0 | AF12: =D12+F12 -> 0 | AG12: =G12+K12+L12+N12 -> 0 | AH12: =K12 -> 0 | AI12: =H12+I12+J12 -> 0 | AJ12: =T12 -> 0 | AK12: =P12+Q12+R12+S12 -> 0 | AL12: =AA12 -> 0 | AM12: =W12+X12+Y12+Z12 -> 0
A13: 1.4 | B13: Հանցանք կատարած անձին բռնելու համար անհրաժեշտ միջոցների սահմանազանցմամբ սպանությունը | C13: 107 | D13: =SUM('Վ. Խալաթյան:Հ. Սարգսյան'!D13) -> 0 | E13: =SUM('Վ. Խալաթյան:Հ. Սարգսյան'!E13) -> 0 | F13: =SUM('Վ. Խալաթյան:Հ. Սարգսյան'!F13) -> 0 | G13: =SUM('Վ. Խալաթյան:Հ. Սարգսյան'!G13) -> 0 | H13: =SUM('Վ. Խալաթյան:Հ. Սարգսյան'!H13) -> 0 | I13: =SUM('Վ. Խալաթյան:Հ. Սարգսյան'!I13) -> 0 | J13: =SUM('Վ. Խալաթյան:Հ. Սարգսյան'!J13) -> 0 | K13: =SUM('Վ. Խալաթյան:Հ. Սարգսյան'!K13) -> 0 | ... AE13: =SUM('Վ. Խալաթյան:Հ. Սարգսյան'!AE13) -> 0 | AF13: =D13+F13 -> 0 | AG13: =G13+K13+L13+N13 -> 0 | AH13: =K13 -> 0 | AI13: =H13+I13+J13 -> 0 | AJ13: =T13 -> 0 | AK13: =P13+Q13+R13+S13 -> 0 | AL13: =AA13 -> 0 | AM13: =W13+X13+Y13+Z13 -> 0
A14: 1.5 | B14: Անհրաժեշտ պաշտպանության սահմանազանցմամբ սպանությունը | C14: 108 | D14: =SUM('Վ. Խալաթյան:Հ. Սարգսյան'!D14) -> 0 | E14: =SUM('Վ. Խալաթյան:Հ. Սարգսյան'!E14) -> 0 | F14: =SUM('Վ. Խալաթյան:Հ. Սարգսյան'!F14) -> 0 | G14: =SUM('Վ. Խալաթյան:Հ. Սարգսյան'!G14) -> 0 | H14: =SUM('Վ. Խալաթյան:Հ. Սարգսյան'!H14) -> 0 | I14: =SUM('Վ. Խալաթյան:Հ. Սարգսյան'!I14) -> 0 | J14: =SUM('Վ. Խալաթյան:Հ. Սարգսյան'!J14) -> 0 | K14: =SUM('Վ. Խալաթյան:Հ. Սարգսյան'!K14) -> 0 | ... AE14: =SUM('Վ. Խալաթյան:Հ. Սարգսյան'!AE14) -> 0 | AF14: =D14+F14 -> 0 | AG14: =G14+K14+L14+N14 -> 0 | AH14: =K14 -> 0 | AI14: =H14+I14+J14 -> 0 | AJ14: =T14 -> 0 | AK14: =P14+Q14+R14+S14 -> 0 | AL14: =AA14 -> 0 | AM14: =W14+X14+Y14+Z14 -> 0
A15: 1.6 | B15: Անզգուշությամբ մահ պատճառելը | C15: 109 | D15: =SUM('Վ. Խալաթյան:Հ. Սարգսյան'!D15) -> 0 | E15: =SUM('Վ. Խալաթյան:Հ. Սարգսյան'!E15) -> 0 | F15: =SUM('Վ. Խալաթյան:Հ. Սարգսյան'!F15) -> 0 | G15: =SUM('Վ. Խալաթյան:Հ. Սարգսյան'!G15) -> 0 | H15: =SUM('Վ. Խալաթյան:Հ. Սարգսյան'!H15) -> 0 | I15: =SUM('Վ. Խալաթյան:Հ. Սարգսյան'!I15) -> 0 | J15: =SUM('Վ. Խալաթյան:Հ. Սարգսյան'!J15) -> 0 | K15: =SUM('Վ. Խալաթյան:Հ. Սարգսյան'!K15) -> 0 | ... AE15: =SUM('Վ. Խալաթյան:Հ. Սարգսյան'!AE15) -> 0 | AF15: =D15+F15 -> 0 | AG15: =G15+K15+L15+N15 -> 0 | AH15: =K15 -> 0 | AI15: =H15+I15+J15 -> 0 | AJ15: =T15 -> 0 | AK15: =P15+Q15+R15+S15 -> 0 | AL15: =AA15 -> 0 | AM15: =W15+X15+Y15+Z15 -> 0
A16: 1.7 | B16: Ինքնասպանության հասցնելը | C16: 110 | D16: =SUM('Վ. Խալաթյան:Հ. Սարգսյան'!D16) -> 0 | E16: =SUM('Վ. Խալաթյան:Հ. Սարգսյան'!E16) -> 0 | F16: =SUM('Վ. Խալաթյան:Հ. Սարգսյան'!F16) -> 0 | G16: =SUM('Վ. Խալաթյան:Հ. Սարգսյան'!G16) -> 0 | H16: =SUM('Վ. Խալաթյան:Հ. Սարգսյան'!H16) -> 0 | I16: =SUM('Վ. Խալաթյան:Հ. Սարգսյան'!I16) -> 0 | J16: =SUM('Վ. Խալաթյան:Հ. Սարգսյան'!J16) -> 0 | K16: =SUM('Վ. Խալաթյան:Հ. Սարգսյան'!K16) -> 0 | ... AE16: =SUM('Վ. Խալաթյան:Հ. Սարգսյան'!AE16) -> 0 | AF16: =D16+F16 -> 0 | AG16: =G16+K16+L16+N16 -> 0 | AH16: =K16 -> 0 | AI16: =H16+I16+J16 -> 0 | AJ16: =T16 -> 0 | AK16: =P16+Q16+R16+S16 -> 0 | AL16: =AA16 -> 0 | AM16: =W16+X16+Y16+Z16 -> 0
A17: 1.8 | B17: Ինքնասպանության հակելը | C17: 111 | D17: =SUM('Վ. Խալաթյան:Հ. Սարգսյան'!D17) -> 0 | E17: =SUM('Վ. Խալաթյան:Հ. Սարգսյան'!E17) -> 0 | F17: =SUM('Վ. Խալաթյան:Հ. Սարգսյան'!F17) -> 0 | G17: =SUM('Վ. Խալաթյան:Հ. Սարգսյան'!G17) -> 0 | H17: =SUM('Վ. Խալաթյան:Հ. Սարգսյան'!H17) -> 0 | I17: =SUM('Վ. Խալաթյան:Հ. Սարգսյան'!I17) -> 0 | J17: =SUM('Վ. Խալաթյան:Հ. Սարգսյան'!J17) -> 0 | K17: =SUM('Վ. Խալաթյան:Հ. Սարգսյան'!K17) -> 0 | ... AE17: =SUM('Վ. Խալաթյան:Հ. Սարգսյան'!AE17) -> 0 | AF17: =D17+F17 -> 0 | AG17: =G17+K17+L17+N17 -> 0 | AH17: =K17 -> 0 | AI17: =H17+I17+J17 -> 0 | AJ17: =T17 -> 0 | AK17: =P17+Q17+R17+S17 -> 0 | AL17: =AA17 -> 0 | AM17: =W17+X17+Y17+Z17 -> 0
A18: 1.9 | B18: Դիտավորությամբ առողջությանը ծանր վնաս պատճառելը | C18: 112 | D18: =SUM('Վ. Խալաթյան:Հ. Սարգսյան'!D18) -> 8 | E18: =SUM('Վ. Խալաթյան:Հ. Սարգսյան'!E18) -> 0 | F18: =SUM('Վ. Խալաթյան:Հ. Սարգսյան'!F18) -> 14 | G18: =SUM('Վ. Խալաթյան:Հ. Սարգսյան'!G18) -> 0 | H18: =SUM('Վ. Խալաթյան:Հ. Սարգսյան'!H18) -> 8 | I18: =SUM('Վ. Խալաթյան:Հ. Սարգսյան'!I18) -> 0 | J18: =SUM('Վ. Խալաթյան:Հ. Սարգսյան'!J18) -> 0 | K18: =SUM('Վ. Խալաթյան:Հ. Սարգսյան'!K18) -> 8 | ... AE18: =SUM('Վ. Խալաթյան:Հ. Սարգսյան'!AE18) -> 0 | AF18: =D18+F18 -> 22 | AG18: =G18+K18+L18+N18 -> 22 | AH18: =K18 -> 8 | AI18: =H18+I18+J18 -> 8 | AJ18: =T18 -> 3 | AK18: =P18+Q18+R18+S18 -> 3 | AL18: =AA18 -> 0 | AM18: =W18+X18+Y18+Z18 -> 0
A19: 1.10 | B19: Դիտավորությամբ առողջությանը միջին ծանրության վնաս պատճառելը | C19: 113 | D19: =SUM('Վ. Խալաթյան:Հ. Սարգսյան'!D19) -> 2 | E19: =SUM('Վ. Խալաթյան:Հ. Սարգսյան'!E19) -> 0 | F19: =SUM('Վ. Խալաթյան:Հ. Սարգսյան'!F19) -> 2 | G19: =SUM('Վ. Խալաթյան:Հ. Սարգսյան'!G19) -> 0 | H19: =SUM('Վ. Խալաթյան:Հ. Սարգսյան'!H19) -> 0 | I19: =SUM('Վ. Խալաթյան:Հ. Սարգսյան'!I19) -> 0 | J19: =SUM('Վ. Խալաթյան:Հ. Սարգսյան'!J19) -> 0 | K19: =SUM('Վ. Խալաթյան:Հ. Սարգսյան'!K19) -> 0 | ... AE19: =SUM('Վ. Խալաթյան:Հ. Սարգսյան'!AE19) -> 0 | AF19: =D19+F19 -> 4 | AG19: =G19+K19+L19+N19 -> 4 | AH19: =K19 -> 0 | AI19: =H19+I19+J19 -> 0 | AJ19: =T19 -> 1 | AK19: =P19+Q19+R19+S19 -> 1 | AL19: =AA19 -> 0 | AM19: =W19+X19+Y19+Z19 -> 0
A20: 1.11 | B20: Հոգեկան խիստ հուզմունքի վիճակում առողջությանը ծանր կամ միջին ծանրության վնաս պատճառելը | C20: 114 | D20: =SUM('Վ. Խալաթյան:Հ. Սարգսյան'!D20) -> 1 | E20: =SUM('Վ. Խալաթյան:Հ. Սարգսյան'!E20) -> 1 | F20: =SUM('Վ. Խալաթյան:Հ. Սարգսյան'!F20) -> 0 | G20: =SUM('Վ. Խալաթյան:Հ. Սարգսյան'!G20) -> 0 | H20: =SUM('Վ. Խալաթյան:Հ. Սարգսյան'!H20) -> 0 | I20: =SUM('Վ. Խալաթյան:Հ. Սարգսյան'!I20) -> 1 | J20: =SUM('Վ. Խալաթյան:Հ. Սարգսյան'!J20) -> 0 | K20: =SUM('Վ. Խալաթյան:Հ. Սարգսյան'!K20) -> 1 | ... AE20: =SUM('Վ. Խալաթյան:Հ. Սարգսյան'!AE20) -> 0 | AF20: =D20+F20 -> 1 | AG20: =G20+K20+L20+N20 -> 1 | AH20: =K20 -> 1 | AI20: =H20+I20+J20 -> 1 | AJ20: =T20 -> 0 | AK20: =P20+Q20+R20+S20 -> 0 | AL20: =AA20 -> 0 | AM20: =W20+X20+Y20+Z20 -> 0
A21: 1.12 | B21: Հանցանք կատարած անձին բռնելու համար անհրաժեշտ միջոցների սահմանզանցմամբ առողջությանը ծանր կամ միջին ծանրության վնաս պատճառելը | C21: 115 | D21: =SUM('Վ. Խալաթյան:Հ. Սարգսյան'!D21) -> 0 | E21: =SUM('Վ. Խալաթյան:Հ. Սարգսյան'!E21) -> 0 | F21: =SUM('Վ. Խալաթյան:Հ. Սարգսյան'!F21) -> 0 | G21: =SUM('Վ. Խալաթյան:Հ. Սարգսյան'!G21) -> 0 | H21: =SUM('Վ. Խալաթյան:Հ. Սարգսյան'!H21) -> 0 | I21: =SUM('Վ. Խալաթյան:Հ. Սարգսյան'!I21) -> 0 | J21: =SUM('Վ. Խալաթյան:Հ. Սարգսյան'!J21) -> 0 | K21: =SUM('Վ. Խալաթյան:Հ. Սարգսյան'!K21) -> 0 | ... AE21: =SUM('Վ. Խալաթյան:Հ. Սարգսյան'!AE21) -> 0 | AF21: =D21+F21 -> 0 | AG21: =G21+K21+L21+N21 -> 0 | AH21: =K21 -> 0 | AI21: =H21+I21+J21 -> 0 | AJ21: =T21 -> 0 | AK21: =P21+Q21+R21+S21 -> 0 | AL21: =AA21 -> 0 | AM21: =W21+X21+Y21+Z21 -> 0
... A35: 1.27 | B35: Բժշկական օգնություն և սպասարկում իրականացնողների կողմից մասնագիտական պարտականությունները չկատարելը կամ ոչ պատշաճ կատարելը | C35: 130 | D35: =SUM('Վ. Խալաթյան:Հ. Սարգսյան'!D35) -> 0 | E35: =SUM('Վ. Խալաթյան:Հ. Սարգսյան'!E35) -> 0 | F35: =SUM('Վ. Խալաթյան:Հ. Սարգսյան'!F35) -> 1 | G35: =SUM('Վ. Խալաթյան:Հ. Սարգսյան'!G35) -> 0 | H35: =SUM('Վ. Խալաթյան:Հ. Սարգսյան'!H35) -> 0 | I35: =SUM('Վ. Խալաթյան:Հ. Սարգսյան'!I35) -> 0 | J35: =SUM('Վ. Խալաթյան:Հ. Սարգսյան'!J35) -> 0 | K35: =SUM('Վ. Խալաթյան:Հ. Սարգսյան'!K35) -> 0 | ... AE35: =SUM('Վ. Խալաթյան:Հ. Սարգսյան'!AE35) -> 0 | AF35: =D35+F35 -> 1 | AG35: =G35+K35+L35+N35 -> 1 | AH35: =K35 -> 0 | AI35: =H35+I35+J35 -> 0 | AJ35: =T35 -> 0 | AK35: =P35+Q35+R35+S35 -> 0 | AL35: =AA35 -> 0 | AM35: =W35+X35+Y35+Z35 -> 0
A36: 1.28 | B36: Այլ հանցագործություններ | D36: =SUM('Վ. Խալաթյան:Հ. Սարգսյան'!D36) -> 0 | E36: =SUM('Վ. Խալաթյան:Հ. Սարգսյան'!E36) -> 0 | F36: =SUM('Վ. Խալաթյան:Հ. Սարգսյան'!F36) -> 0 | G36: =SUM('Վ. Խալաթյան:Հ. Սարգսյան'!G36) -> 0 | H36: =SUM('Վ. Խալաթյան:Հ. Սարգսյան'!H36) -> 0 | I36: =SUM('Վ. Խալաթյան:Հ. Սարգսյան'!I36) -> 0 | J36: =SUM('Վ. Խալաթյան:Հ. Սարգսյան'!J36) -> 0 | K36: =SUM('Վ. Խալաթյան:Հ. Սարգսյան'!K36) -> 0 | ... AE36: =SUM('Վ. Խալաթյան:Հ. Սարգսյան'!AE36) -> 0 | AF36: =D36+F36 -> 0 | AG36: =G36+K36+L36+N36 -> 0 | AH36: =K36 -> 0 | AI36: =H36+I36+J36 -> 0 | AJ36: =T36 -> 0 | AK36: =P36+Q36+R36+S36 -> 0 | AL36: =AA36 -> 0 | AM36: =W36+X36+Y36+Z36 -> 0
A37: 2. | B37: Ընդամենը անձի ազատության, պատվի և արժանապատվության դեմ ուղղված հանցագործությունները | D37: =SUM(D38:D45) -> 1 | E37: =SUM(E38:E45) -> 0 | F37: =SUM(F38:F45) -> 5 | G37: =SUM(G38:G45) -> 0 | H37: =SUM(H38:H45) -> 4 | I37: =SUM(I38:I45) -> 1 | J37: =SUM(J38:J45) -> 0 | K37: =SUM(K38:K45) -> 5 | ... AM37: =SUM(AM38:AM45) -> 0
A38: 2.1 | B38: Մարդուն առևանգելը | C38: 131 | D38: =SUM('Վ. Խալաթյան:Հ. Սարգսյան'!D38) -> 1 | E38: =SUM('Վ. Խալաթյան:Հ. Սարգսյան'!E38) -> 0 | F38: =SUM('Վ. Խալաթյան:Հ. Սարգսյան'!F38) -> 1 | G38: =SUM('Վ. Խալաթյան:Հ. Սարգսյան'!G38) -> 0 | H38: =SUM('Վ. Խալաթյան:Հ. Սարգսյան'!H38) -> 2 | I38: =SUM('Վ. Խալաթյան:Հ. Սարգսյան'!I38) -> 0 | J38: =SUM('Վ. Խալաթյան:Հ. Սարգսյան'!J38) -> 0 | K38: =SUM('Վ. Խալաթյան:Հ. Սարգսյան'!K38) -> 2 | ... AE38: =SUM('Վ. Խալաթյան:Հ. Սարգսյան'!AE38) -> 0 | AF38: =D38+F38 -> 2 | AG38: =G38+K38+L38+N38 -> 2 | AH38: =K38 -> 2 | AI38: =H38+I38+J38 -> 2 | AJ38: =T38 -> 0 | AK38: =P38+Q38+R38+S38 -> 0 | AL38: =AA38 -> 0 | AM38: =W38+X38+Y38+Z38 -> 0
A39: 2.2 | B39: Մարդու թրաֆիքինգը կամ շահագործումը | C39: 132 | D39: =SUM('Վ. Խալաթյան:Հ. Սարգսյան'!D39) -> 0 | E39: =SUM('Վ. Խալաթյան:Հ. Սարգսյան'!E39) -> 0 | F39: =SUM('Վ. Խալաթյան:Հ. Սարգսյան'!F39) -> 0 | G39: =SUM('Վ. Խալաթյան:Հ. Սարգսյան'!G39) -> 0 | H39: =SUM('Վ. Խալաթյան:Հ. Սարգսյան'!H39) -> 0 | I39: =SUM('Վ. Խալաթյան:Հ. Սարգսյան'!I39) -> 0 | J39: =SUM('Վ. Խալաթյան:Հ. Սարգսյան'!J39) -> 0 | K39: =SUM('Վ. Խալաթյան:Հ. Սարգսյան'!K39) -> 0 | ... AE39: =SUM('Վ. Խալաթյան:Հ. Սարգսյան'!AE39) -> 0 | AF39: =D39+F39 -> 0 | AG39: =G39+K39+L39+N39 -> 0 | AH39: =K39 -> 0 | AI39: =H39+I39+J39 -> 0 | AJ39: =T39 -> 0 | AK39: =P39+Q39+R39+S39 -> 0 | AL39: =AA39 -> 0 | AM39: =W39+X39+Y39+Z39 -> 0
A40: 2.2.2 | B40: Երեխայի կամ հոգեկան խանգարման հետևանքով իր արարքի բնույթն ու նշանակությունը գիտակցելու կամ դա ղեկավարելու հնարավորությունից զրկված անձի թրաֆիքինգը կամ շահագործումը | C40: 132.2 | D40: =SUM('Վ. Խալաթյան:Հ. Սարգսյան'!D40) -> 0 | E40: =SUM('Վ. Խալաթյան:Հ. Սարգսյան'!E40) -> 0 | F40: =SUM('Վ. Խալաթյան:Հ. Սարգսյան'!F40) -> 1 | G40: =SUM('Վ. Խալաթյան:Հ. Սարգսյան'!G40) -> 0 | H40: =SUM('Վ. Խալաթյան:Հ. Սարգսյան'!H40) -> 0 | I40: =SUM('Վ. Խալաթյան:Հ. Սարգսյան'!I40) -> 0 | J40: =SUM('Վ. Խալաթյան:Հ. Սարգսյան'!J40) -> 0 | K40: =SUM('Վ. Խալաթյան:Հ. Սարգսյան'!K40) -> 0 | ... AE40: =SUM('Վ. Խալաթյան:Հ. Սարգսյան'!AE40) -> 0 | AF40: =D40+F40 -> 1 | AG40: =G40+K40+L40+N40 -> 1 | AH40: =K40 -> 0 | AI40: =H40+I40+J40 -> 0 | AJ40: =T40 -> 0 | AK40: =P40+Q40+R40+S40 -> 0 | AL40: =AA40 -> 0 | AM40: =W40+X40+Y40+Z40 -> 0
A41: 2.2.3 | B41: Շահագործման վիճակում գտնվող անձի ծառայությունից օգտվելը | C41: 132.3 | D41: =SUM('Վ. Խալաթյան:Հ. Սարգսյան'!D41) -> 0 | E41: =SUM('Վ. Խալաթյան:Հ. Սարգսյան'!E41) -> 0 | F41: =SUM('Վ. Խալաթյան:Հ. Սարգսյան'!F41) -> 0 | G41: =SUM('Վ. Խալաթյան:Հ. Սարգսյան'!G41) -> 0 | H41: =SUM('Վ. Խալաթյան:Հ. Սարգսյան'!H41) -> 0 | I41: =SUM('Վ. Խալաթյան:Հ. Սարգսյան'!I41) -> 0 | J41: =SUM('Վ. Խալաթյան:Հ. Սարգսյան'!J41) -> 0 | K41: =SUM('Վ. Խալաթյան:Հ. Սարգսյան'!K41) -> 0 | ... AE41: =SUM('Վ. Խալաթյան:Հ. Սարգսյան'!AE41) -> 0 | AF41: =D41+F41 -> 0 | AG41: =G41+K41+L41+N41 -> 0 | AH41: =K41 -> 0 | AI41: =H41+I41+J41 -> 0 | AJ41: =T41 -> 0 | AK41: =P41+Q41+R41+S41 -> 0 | AL41: =AA41 -> 0 | AM41: =W41+X41+Y41+Z41 -> 0
A42: 2.3 | B42: Ազատությունից ապօրինի զրկելը | C42: 133 | D42: =SUM('Վ. Խալաթյան:Հ. Սարգսյան'!D42) -> 0 | E42: =SUM('Վ. Խալաթյան:Հ. Սարգսյան'!E42) -> 0 | F42: =SUM('Վ. Խալաթյան:Հ. Սարգսյան'!F42) -> 1 | G42: =SUM('Վ. Խալաթյան:Հ. Սարգսյան'!G42) -> 0 | H42: =SUM('Վ. Խալաթյան:Հ. Սարգսյան'!H42) -> 1 | I42: =SUM('Վ. Խալաթյան:Հ. Սարգսյան'!I42) -> 0 | J42: =SUM('Վ. Խալաթյան:Հ. Սարգսյան'!J42) -> 0 | K42: =SUM('Վ. Խալաթյան:Հ. Սարգսյան'!K42) -> 1 | ... AE42: =SUM('Վ. Խալաթյան:Հ. Սարգսյան'!AE42) -> 0 | AF42: =D42+F42 -> 1 | AG42: =G42+K42+L42+N42 -> 1 | AH42: =K42 -> 1 | AI42: =H42+I42+J42 -> 1 | AJ42: =T42 -> 0 | AK42: =P42+Q42+R42+S42 -> 0 | AL42: =AA42 -> 0 | AM42: =W42+X42+Y42+Z42 -> 0
A43: 2.4 | B43: Հոգեբուժական հիվանդանոցում ապօրինի տեղավորելը կամ պահելը | C43: 134 | D43: =SUM('Վ. Խալաթյան:Հ. Սարգսյան'!D43) -> 0 | E43: =SUM('Վ. Խալաթյան:Հ. Սարգսյան'!E43) -> 0 | F43: =SUM('Վ. Խալաթյան:Հ. Սարգսյան'!F43) -> 0 | G43: =SUM('Վ. Խալաթյան:Հ. Սարգսյան'!G43) -> 0 | H43: =SUM('Վ. Խալաթյան:Հ. Սարգսյան'!H43) -> 0 | I43: =SUM('Վ. Խալաթյան:Հ. Սարգսյան'!I43) -> 0 | J43: =SUM('Վ. Խալաթյան:Հ. Սարգսյան'!J43) -> 0 | K43: =SUM('Վ. Խալաթյան:Հ. Սարգսյան'!K43) -> 0 | ... AE43: =SUM('Վ. Խալաթյան:Հ. Սարգսյան'!AE43) -> 0 | AF43: =D43+F43 -> 0 | AG43: =G43+K43+L43+N43 -> 0 | AH43: =K43 -> 0 | AI43: =H43+I43+J43 -> 0 | AJ43: =T43 -> 0 | AK43: =P43+Q43+R43+S43 -> 0 | AL43: =AA43 -> 0 | AM43: =W43+X43+Y43+Z43 -> 0
A44: 2.7 | B44: Սպանության, առողջությանը ծանր վնաս պատճառելու կամ գույք ոչնչացնելու սպառնալիքը | C44: 137 | D44: =SUM('Վ. Խալաթյան:Հ. Սարգսյան'!D44) -> 0 | E44: =SUM('Վ. Խալաթյան:Հ. Սարգսյան'!E44) -> 0 | F44: =SUM('Վ. Խալաթյան:Հ. Սարգսյան'!F44) -> 2 | G44: =SUM('Վ. Խալաթյան:Հ. Սարգսյան'!G44) -> 0 | H44: =SUM('Վ. Խալաթյան:Հ. Սարգսյան'!H44) -> 1 | I44: =SUM('Վ. Խալաթյան:Հ. Սարգսյան'!I44) -> 1 | J44: =SUM('Վ. Խալաթյան:Հ. Սարգսյան'!J44) -> 0 | K44: =SUM('Վ. Խալաթյան:Հ. Սարգսյան'!K44) -> 2 | ... AE44: =SUM('Վ. Խալաթյան:Հ. Սարգսյան'!AE44) -> 0 | AF44: =D44+F44 -> 2 | AG44: =G44+K44+L44+N44 -> 2 | AH44: =K44 -> 2 | AI44: =H44+I44+J44 -> 2 | AJ44: =T44 -> 0 | AK44: =P44+Q44+R44+S44 -> 0 | AL44: =AA44 -> 0 | AM44: =W44+X44+Y44+Z44 -> 0
A45: 2.8 | B45: Այլ հանցագործություններ | D45: =SUM('Վ. Խալաթյան:Հ. Սարգսյան'!D45) -> 0 | E45: =SUM('Վ. Խալաթյան:Հ. Սարգսյան'!E45) -> 0 | F45: =SUM('Վ. Խալաթյան:Հ. Սարգսյան'!F45) -> 0 | G45: =SUM('Վ. Խալաթյան:Հ. Սարգսյան'!G45) -> 0 | H45: =SUM('Վ. Խալաթյան:Հ. Սարգսյան'!H45) -> 0 | I45: =SUM('Վ. Խալաթյան:Հ. Սարգսյան'!I45) -> 0 | J45: =SUM('Վ. Խալաթյան:Հ. Սարգսյան'!J45) -> 0 | K45: =SUM('Վ. Խալաթյան:Հ. Սարգսյան'!K45) -> 0 | ... AE45: =SUM('Վ. Խալաթյան:Հ. Սարգսյան'!AE45) -> 0 | AF45: =D45+F45 -> 0 | AG45: =G45+K45+L45+N45 -> 0 | AH45: =K45 -> 0 | AI45: =H45+I45+J45 -> 0 | AJ45: =T45 -> 0 | AK45: =P45+Q45+R45+S45 -> 0 | AL45: =AA45 -> 0 | AM45: =W45+X45+Y45+Z45 -> 0
A46: 3. | B46: Ընդամենը սեռական անձեռնմխելիության և սեռական ազատության դեմ ուղղված հանցագործությունները | D46: =SUM(D47:D52) -> 4 | E46: =SUM(E47:E52) -> 0 | F46: =SUM(F47:F52) -> 9 | G46: =SUM(G47:G52) -> 0 | H46: =SUM(H47:H52) -> 6 | I46: =SUM(I47:I52) -> 0 | J46: =SUM(J47:J52) -> 1 | K46: =SUM(K47:K52) -> 7 | ... AM46: =SUM(AM47:AM52) -> 0
A47: 3.1 | B47: Բռնաբարությունը | C47: 138 | D47: =SUM('Վ. Խալաթյան:Հ. Սարգսյան'!D47) -> 0 | E47: =SUM('Վ. Խալաթյան:Հ. Սարգսյան'!E47) -> 0 | F47: =SUM('Վ. Խալաթյան:Հ. Սարգսյան'!F47) -> 0 | G47: =SUM('Վ. Խալաթյան:Հ. Սարգսյան'!G47) -> 0 | H47: =SUM('Վ. Խալաթյան:Հ. Սարգսյան'!H47) -> 0 | I47: =SUM('Վ. Խալաթյան:Հ. Սարգսյան'!I47) -> 0 | J47: =SUM('Վ. Խալաթյան:Հ. Սարգսյան'!J47) -> 0 | K47: =SUM('Վ. Խալաթյան:Հ. Սարգսյան'!K47) -> 0 | ... AE47: =SUM('Վ. Խալաթյան:Հ. Սարգսյան'!AE47) -> 0 | AF47: =D47+F47 -> 0 | AG47: =G47+K47+L47+N47 -> 0 | AH47: =K47 -> 0 | AI47: =H47+I47+J47 -> 0 | AJ47: =T47 -> 0 | AK47: =P47+Q47+R47+S47 -> 0 | AL47: =AA47 -> 0 | AM47: =W47+X47+Y47+Z47 -> 0
A48: 3.2 | B48: Սեքսուալ բնույթի բռնի գործողությունները | C48: 139 | D48: =SUM('Վ. Խալաթյան:Հ. Սարգսյան'!D48) -> 2 | E48: =SUM('Վ. Խալաթյան:Հ. Սարգսյան'!E48) -> 0 | F48: =SUM('Վ. Խալաթյան:Հ. Սարգսյան'!F48) -> 1 | G48: =SUM('Վ. Խալաթյան:Հ. Սարգսյան'!G48) -> 0 | H48: =SUM('Վ. Խալաթյան:Հ. Սարգսյան'!H48) -> 0 | I48: =SUM('Վ. Խալաթյան:Հ. Սարգսյան'!I48) -> 0 | J48: =SUM('Վ. Խալաթյան:Հ. Սարգսյան'!J48) -> 0 | K48: =SUM('Վ. Խալաթյան:Հ. Սարգսյան'!K48) -> 0 | ... AE48: =SUM('Վ. Խալաթյան:Հ. Սարգսյան'!AE48) -> 0 | AF48: =D48+F48 -> 3 | AG48: =G48+K48+L48+N48 -> 3 | AH48: =K48 -> 0 | AI48: =H48+I48+J48 -> 0 | AJ48: =T48 -> 0 | AK48: =P48+Q48+R48+S48 -> 0 | AL48: =AA48 -> 0 | AM48: =W48+X48+Y48+Z48 -> 0
A49: 3.3 | B49: Սեռական հարաբերության կամ սեքսուալ բնույթի գործողություններին հարկադրելը | C49: 140 | D49: =SUM('Վ. Խալաթյան:Հ. Սարգսյան'!D49) -> 1 | E49: =SUM('Վ. Խալաթյան:Հ. Սարգսյան'!E49) -> 0 | F49: =SUM('Վ. Խալաթյան:Հ. Սարգսյան'!F49) -> 0 | G49: =SUM('Վ. Խալաթյան:Հ. Սարգսյան'!G49) -> 0 | H49: =SUM('Վ. Խալաթյան:Հ. Սարգսյան'!H49) -> 1 | I49: =SUM('Վ. Խալաթյան:Հ. Սարգսյան'!I49) -> 0 | J49: =SUM('Վ. Խալաթյան:Հ. Սարգսյան'!J49) -> 0 | K49: =SUM('Վ. Խալաթյան:Հ. Սարգսյան'!K49) -> 1 | ... AE49: =SUM('Վ. Խալաթյան:Հ. Սարգսյան'!AE49) -> 0 | AF49: =D49+F49 -> 1 | AG49: =G49+K49+L49+N49 -> 1 | AH49: =K49 -> 1 | AI49: =H49+I49+J49 -> 1 | AJ49: =T49 -> 0 | AK49: =P49+Q49+R49+S49 -> 0 | AL49: =AA49 -> 0 | AM49: =W49+X49+Y49+Z49 -> 0
A50: 3.4 | B50: Սեռական հարաբերությունը տասնվեց տարին չլրացած անձի հետ կամ սեքսուալ բնույթի գործողություններ կատարելը տասնվեց տարին չլրացած անձի նկատմամբ | C50: 141 | D50: =SUM('Վ. Խալաթյան:Հ. Սարգսյան'!D50) -> 0 | E50: =SUM('Վ. Խալաթյան:Հ. Սարգսյան'!E50) -> 0 | F50: =SUM('Վ. Խալաթյան:Հ. Սարգսյան'!F50) -> 7 | G50: =SUM('Վ. Խալաթյան:Հ. Սարգսյան'!G50) -> 0 | H50: =SUM('Վ. Խալաթյան:Հ. Սարգսյան'!H50) -> 5 | I50: =SUM('Վ. Խալաթյան:Հ. Սարգսյան'!I50) -> 0 | J50: =SUM('Վ. Խալաթյան:Հ. Սարգսյան'!J50) -> 0 | K50: =SUM('Վ. Խալաթյան:Հ. Սարգսյան'!K50) -> 5 | ... AE50: =SUM('Վ. Խալաթյան:Հ. Սարգսյան'!AE50) -> 0 | AF50: =D50+F50 -> 7 | AG50: =G50+K50+L50+N50 -> 7 | AH50: =K50 -> 5 | AI50: =H50+I50+J50 -> 5 | AJ50: =T50 -> 0 | AK50: =P50+Q50+R50+S50 -> 0 | AL50: =AA50 -> 0 | AM50: =W50+X50+Y50+Z50 -> 0
A51: 3.5 | B51: Անառակաբարո գործողությունները | C51: 142 | D51: =SUM('Վ. Խալաթյան:Հ. Սարգսյան'!D51) -> 1 | E51: =SUM('Վ. Խալաթյան:Հ. Սարգսյան'!E51) -> 0 | F51: =SUM('Վ. Խալաթյան:Հ. Սարգսյան'!F51) -> 1 | G51: =SUM('Վ. Խալաթյան:Հ. Սարգսյան'!G51) -> 0 | H51: =SUM('Վ. Խալաթյան:Հ. Սարգսյան'!H51) -> 0 | I51: =SUM('Վ. Խալաթյան:Հ. Սարգսյան'!I51) -> 0 | J51: =SUM('Վ. Խալաթյան:Հ. Սարգսյան'!J51) -> 1 | K51: =SUM('Վ. Խալաթյան:Հ. Սարգսյան'!K51) -> 1 | ... AE51: =SUM('Վ. Խալաթյան:Հ. Սարգսյան'!AE51) -> 0 | AF51: =D51+F51 -> 2 | AG51: =G51+K51+L51+N51 -> 2 | AH51: =K51 -> 1 | AI51: =H51+I51+J51 -> 1 | AJ51: =T51 -> 1 | AK51: =P51+Q51+R51+S51 -> 1 | AL51: =AA51 -> 0 | AM51: =W51+X51+Y51+Z51 -> 0
A52: 3.6 | B52: Այլ հանցագործություններ | D52: =SUM('Վ. Խալաթյան:Հ. Սարգսյան'!D52) -> 0 | E52: =SUM('Վ. Խալաթյան:Հ. Սարգսյան'!E52) -> 0 | F52: =SUM('Վ. Խալաթյան:Հ. Սարգսյան'!F52) -> 0 | G52: =SUM('Վ. Խալաթյան:Հ. Սարգսյան'!G52) -> 0 | H52: =SUM('Վ. Խալաթյան:Հ. Սարգսյան'!H52) -> 0 | I52: =SUM('Վ. Խալաթյան:Հ. Սարգսյան'!I52) -> 0 | J52: =SUM('Վ. Խալաթյան:Հ. Սարգսյան'!J52) -> 0 | K52: =SUM('Վ. Խալաթյան:Հ. Սարգսյան'!K52) -> 0 | ... AE52: =SUM('Վ. Խալաթյան:Հ. Սարգսյան'!AE52) -> 0 | AF52: =D52+F52 -> 0 | AG52: =G52+K52+L52+N52 -> 0 | AH52: =K52 -> 0 | AI52: =H52+I52+J52 -> 0 | AJ52: =T52 -> 0 | AK52: =P52+Q52+R52+S52 -> 0 | AL52: =AA52 -> 0 | AM52: =W52+X52+Y52+Z52 -> 0
A53: 4. | B53: Ընդամենը մարդու և քաղաքացու սահմանադրական իրավունքների և ազատությունների դեմ ուղղված հանցագործությունները | D53: =SUM(D54:D82) -> 3 | E53: =SUM(E54:E82) -> 0 | F53: =SUM(F54:F82) -> 5 | G53: =SUM(G54:G82) -> 0 | H53: =SUM(H54:H82) -> 5 | I53: =SUM(I54:I82) -> 0 | J53: =SUM(J54:J82) -> 0 | K53: =SUM(K54:K82) -> 5 | ... AM53: =SUM(AM54:AM82) -> 0
...

Sheet Վ. Խալաթյան
A1: 2017թ. | D1: ՀԱՇՎԵՏՎՈՒԹՅՈՒՆ | Z1: Հավելված Հայաստանի Հանրապետության Դատարանների նախագահների խորհրդի 29.01.2018թ. թիվ 10-Լ որոշման
A2: ՀՀ ԱՐՄԱՎԻՐԻ ՄԱՐԶԻ ԸՆԴՀԱՆՈՒՐ ԻՐԱՎԱՍՈՒԹՅԱՆ ԱՌԱՋԻՆ ԱՏՅԱՆԻ ԴԱՏԱՐԱՆԻ ԴԱՏԱՎՈՐ Վ. ԽԱԼԱԹՅԱՆԻ ԳՈՐԾՈՒՆԵՈՒԹՅԱՆ ՎԵՐԱԲԵՐՅԱԼ
A3: ՔՐԵԱԿԱՆ ԳՈՐԾԵՐ
A4: ՀՀ Արմավիրի մարզի ընդհանուր իրավասության առաջին ատյանի դատարանում քրեական մասնագիտացում ունեցող դատավորների հաստիքների քանակը` 3
C5: ՀՀ քրեական օրենսգրքի հոդվածներ | D5: Հաշվետու ժամանակահատվածի սկզբում նախորդ հաշվետու ժամանակահատվածից փոխանցված գործերի ընդհանուր թիվը | E5: Այդ թվում` կասեցված վիճակում փոխանցված | F5: Հաշվետու ժամանակահատվածում ստացված գործերի ընդհանուր թիվը | G5: Փոխանցվել է այլ դատավորի (կազմի փոփոխություն) | H5: Հաշվետու ժամանակահատվածում ավարտված գործերի ընդհանուր թիվը | L5: ՈՒղարկվել է ըստ ընդդատության | M5: Հաշվետու ժամանակահատվածում կասեցված վարույթներով գործերի ընդհանուր թիվը | N5: Հաշվետու ժամանակահատվածում անավարտ գործերի ընդհանուր թիվը | O5: Այդ թվում՝ կասեցված | P5: Բողոքարկված դատական ակտերը | U5: ավարտված դատական գործերի բողոքարկման տոկոսը (հաշվետու ժամանակաշրջանում) | V5: Անավարտ բողոքներ | W5: Բեկանված դատական ակտերը | AB5: բեկանումների տոկոսը ավարտված գործերից(հաշվետու ժամանակահատվածում) | AC5: Կայունության տոկոսը ավարտված գործերից(հաշվետու ժամանակահատվածում) | AD5: բեկանումների տոկոսը բողոքարկված գործերից(հաշվետու ժամանակահատվածում) | AE5: կայունության տոկոսը բողոքարկված գործերից (հաշվետու ժամանակահատվածում)
H6: Քննվել է ըստ էության և դատավճիռ կայացվել | I6: Որոշում է կայացվել քրեական գործի վարույթը կարճելու և քրեական հետապնդումը դադարեցնելու մասին | J6: Որոշում է կայացվել անմեղսունակների նկատմամբ բժշկական բնույթի հարկադրական միջոցներ կիրառելու մասին | K6: Ընդամենը ավարտվել են գործեր | P6: Այդ թվում` գործն ըստ էության լուծող դատական ակտերը | R6: Այդ թվում` միջանկյալ դատական ակտերը | T6: Ընդամեն բողոքարկվել են ակտեր | W6: Այդ թվում` գործն ըստ էության լուծող դատական ակտերը | Y6: Այդ թվում` միջանկյալ դատական ակտերը | AA6: Ընդամենը բեկանվել են ակտեր
P7: նախորդ տարիներին կայացված ակտերի բողոքարկումը | Q7: հաշվետու ժամանակահատվածում կայացված ակտերի բողոքարկումը | R7: նախորդ տարիներին կայացված ակտերի բողոքարկումը | S7: հաշվետու ժամանակահատվածում կայացված ակտերի բողոքարկումը | W7: նախորդ տարիներին կայացված ակտերի բեկանումները | X7: հաշվետու ժամանակահատվածում կայացված ակտերի բեկանումները | Y7: նախորդ տարիներին կայացված ակտերի բեկանումները | Z7: հաշվետու ժամանակահատվածում կայացված ակտերի բեկանումները
D8: 1 | E8: 2 | F8: 3 | G8: 4 | H8: 5 | I8: 6 | J8: 7 | K8: 8 | L8: 9 | M8: 10 | N8: 11 | O8: 12 | P8: 13 | Q8: 14 | R8: 15 | S8: 16 | T8: 17 | U8: 18 | V8: 19 | W8: 20 | X8: 21 | Y8: 22 | Z8: 23 | AA8: 24 | AB8: 25 | AC8: 26 | AD8: 27 | AE8: 28 | AF8: 1+3=4+8+9+11 | AH8: 8=5+6+7 | AJ8: 17=13+14+15+16 | AL8: 24=20+21+22+23
A9: 1. | B9: Ընդամենը կյանքի և առողջության դեմ ուղղված հանցագործությունները | D9: =SUM(D10:D36) -> 16 | E9: =SUM(E10:E36) -> 0 | F9: =SUM(F10:F36) -> 31 | G9: =SUM(G10:G36) -> 0 | H9: =SUM(H10:H36) -> 11 | I9: =SUM(I10:I36) -> 4 | J9: =SUM(J10:J36) -> 0 | K9: =SUM(K10:K36) -> 15 | ... AM9: =SUM(AM10:AM36) -> 0
A10: 1.1 | B10: Սպանությունը | C10: 104 | D10: 4 | F10: 4 | H10: 3 | K10: 3 | N10: 5 | Q10: 3 | T10: 3 | V10: 3 | AF10: =D10+F10 -> 8 | AG10: =G10+K10+L10+N10 -> 8 | AH10: =K10 -> 3 | AI10: =H10+I10+J10 -> 3 | AJ10: =T10 -> 3 | AK10: =P10+Q10+R10+S10 -> 3 | AL10: =AA10 -> 0 | AM10: =W10+X10+Y10+Z10 -> 0
A11: 1.2 | B11: Հոգեկան խիստ հուզմունքի վիճակում կատարված սպանությունը | C11: 105 | D11: 1 | N11: 1 | AF11: =D11+F11 -> 1 | AG11: =G11+K11+L11+N11 -> 1 | AH11: =K11 -> 0 | AI11: =H11+I11+J11 -> 0 | AJ11: =T11 -> 0 | AK11: =P11+Q11+R11+S11 -> 0 | AL11: =AA11 -> 0 | AM11: =W11+X11+Y11+Z11 -> 0
A12: 1.3 | B12: Մոր կողմից նորածին երեխայի սպանությունը | C12: 106 | AF12: =D12+F12 -> 0 | AG12: =G12+K12+L12+N12 -> 0 | AH12: =K12 -> 0 | AI12: =H12+I12+J12 -> 0 | AJ12: =T12 -> 0 | AK12: =P12+Q12+R12+S12 -> 0 | AL12: =AA12 -> 0 | AM12: =W12+X12+Y12+Z12 -> 0
A13: 1.4 | B13: Հանցանք կատարած անձին բռնելու համար անհրաժեշտ միջոցների սահմանազանցմամբ սպանությունը | C13: 107 | AF13: =D13+F13 -> 0 | AG13: =G13+K13+L13+N13 -> 0 | AH13: =K13 -> 0 | AI13: =H13+I13+J13 -> 0 | AJ13: =T13 -> 0 | AK13: =P13+Q13+R13+S13 -> 0 | AL13: =AA13 -> 0 | AM13: =W13+X13+Y13+Z13 -> 0
A14: 1.5 | B14: Անհրաժեշտ պաշտպանության սահմանազանցմամբ սպանությունը | C14: 108 | AF14: =D14+F14 -> 0 | AG14: =G14+K14+L14+N14 -> 0 | AH14: =K14 -> 0 | AI14: =H14+I14+J14 -> 0 | AJ14: =T14 -> 0 | AK14: =P14+Q14+R14+S14 -> 0 | AL14: =AA14 -> 0 | AM14: =W14+X14+Y14+Z14 -> 0
A15: 1.6 | B15: Անզգուշությամբ մահ պատճառելը | C15: 109 | AF15: =D15+F15 -> 0 | AG15: =G15+K15+L15+N15 -> 0 | AH15: =K15 -> 0 | AI15: =H15+I15+J15 -> 0 | AJ15: =T15 -> 0 | AK15: =P15+Q15+R15+S15 -> 0 | AL15: =AA15 -> 0 | AM15: =W15+X15+Y15+Z15 -> 0
A16: 1.7 | B16: Ինքնասպանության հասցնելը | C16: 110 | AF16: =D16+F16 -> 0 | AG16: =G16+K16+L16+N16 -> 0 | AH16: =K16 -> 0 | AI16: =H16+I16+J16 -> 0 | AJ16: =T16 -> 0 | AK16: =P16+Q16+R16+S16 -> 0 | AL16: =AA16 -> 0 | AM16: =W16+X16+Y16+Z16 -> 0
A17: 1.8 | B17: Ինքնասպանության հակելը | C17: 111 | AF17: =D17+F17 -> 0 | AG17: =G17+K17+L17+N17 -> 0 | AH17: =K17 -> 0 | AI17: =H17+I17+J17 -> 0 | AJ17: =T17 -> 0 | AK17: =P17+Q17+R17+S17 -> 0 | AL17: =AA17 -> 0 | AM17: =W17+X17+Y17+Z17 -> 0
A18: 1.9 | B18: Դիտավորությամբ առողջությանը ծանր վնաս պատճառելը | C18: 112 | D18: 6 | F18: 10 | H18: 5 | K18: 5 | N18: 11 | Q18: 2 | S18: 1 | T18: 3 | V18: 1 | AF18: =D18+F18 -> 16 | AG18: =G18+K18+L18+N18 -> 16 | AH18: =K18 -> 5 | AI18: =H18+I18+J18 -> 5 | AJ18: =T18 -> 3 | AK18: =P18+Q18+R18+S18 -> 3 | AL18: =AA18 -> 0 | AM18: =W18+X18+Y18+Z18 -> 0
A19: 1.10 | B19: Դիտավորությամբ առողջությանը միջին ծանրության վնաս պատճառելը | C19: 113 | D19: 2 | F19: 1 | N19: 3 | Q19: 1 | T19: 1 | V19: 1 | AF19: =D19+F19 -> 3 | AG19: =G19+K19+L19+N19 -> 3 | AH19: =K19 -> 0 | AI19: =H19+I19+J19 -> 0 | AJ19: =T19 -> 1 | AK19: =P19+Q19+R19+S19 -> 1 | AL19: =AA19 -> 0 | AM19: =W19+X19+Y19+Z19 -> 0
A20: 1.11 | B20: Հոգեկան խիստ հուզմունքի վիճակում առողջությանը ծանր կամ միջին ծանրության վնաս պատճառելը | C20: 114 | AF20: =D20+F20 -> 0 | AG20: =G20+K20+L20+N20 -> 0 | AH20: =K20 -> 0 | AI20: =H20+I20+J20 -> 0 | AJ20: =T20 -> 0 | AK20: =P20+Q20+R20+S20 -> 0 | AL20: =AA20 -> 0 | AM20: =W20+X20+Y20+Z20 -> 0
A21: 1.12 | B21: Հանցանք կատարած անձին բռնելու համար անհրաժեշտ միջոցների սահմանզանցմամբ առողջությանը ծանր կամ միջին ծանրության վնաս պատճառելը | C21: 115 | AF21: =D21+F21 -> 0 | AG21: =G21+K21+L21+N21 -> 0 | AH21: =K21 -> 0 | AI21: =H21+I21+J21 -> 0 | AJ21: =T21 -> 0 | AK21: =P21+Q21+R21+S21 -> 0 | AL21: =AA21 -> 0 | AM21: =W21+X21+Y21+Z21 -> 0
A22: 1.13 | B22: Առողջությանը ծանր կամ միջին ծանրության վնաս պատճառելը անհրաժեշտ պաշտպանության սահմանանազանցմամբ | C22: 116 | AF22: =D22+F22 -> 0 | AG22: =G22+K22+L22+N22 -> 0 | AH22: =K22 -> 0 | AI22: =H22+I22+J22 -> 0 | AJ22: =T22 -> 0 | AK22: =P22+Q22+R22+S22 -> 0 | AL22: =AA22 -> 0 | AM22: =W22+X22+Y22+Z22 -> 0
A23: 1.14 | B23: Դիտավորությամբ առողջությանը թեթև վնաս պատճառելը | C23: 117 | F23: 2 | N23: 2 | AF23: =D23+F23 -> 2 | AG23: =G23+K23+L23+N23 -> 2 | AH23: =K23 -> 0 | AI23: =H23+I23+J23 -> 0 | AJ23: =T23 -> 0 | AK23: =P23+Q23+R23+S23 -> 0 | AL23: =AA23 -> 0 | AM23: =W23+X23+Y23+Z23 -> 0
A24: 1.15 | B24: Ծեծը | C24: 118 | D24: 3 | F24: 13 | H24: 3 | I24: 4 | K24: 7 | N24: 8 | AF24: =D24+F24 -> 16 | AG24: =G24+K24+L24+N24 -> 15 | AH24: =K24 -> 7 | AI24: =H24+I24+J24 -> 7 | AJ24: =T24 -> 0 | AK24: =P24+Q24+R24+S24 -> 0 | AL24: =AA24 -> 0 | AM24: =W24+X24+Y24+Z24 -> 0
A25: 1.16 | B25: Ֆիզիկական ուժեղ ցավ կամ հոգեկան ուժեղ տառապանք պատճառելը | C25: 119 | AF25: =D25+F25 -> 0 | AG25: =G25+K25+L25+N25 -> 0 | AH25: =K25 -> 0 | AI25: =H25+I25+J25 -> 0 | AJ25: =T25 -> 0 | AK25: =P25+Q25+R25+S25 -> 0 | AL25: =AA25 -> 0 | AM25: =W25+X25+Y25+Z25 -> 0
A26: 1.17 | B26: Անզգուշությամբ առողջությանը ծանր վնաս պատճառելը | C26: 120 | AF26: =D26+F26 -> 0 | AG26: =G26+K26+L26+N26 -> 0 | AH26: =K26 -> 0 | AI26: =H26+I26+J26 -> 0 | AJ26: =T26 -> 0 | AK26: =P26+Q26+R26+S26 -> 0 | AL26: =AA26 -> 0 | AM26: =W26+X26+Y26+Z26 -> 0
A27: 1.18 | B27: Անզգուշությամբ առողջությանը միջին ծանրության վնաս պատճառելը | C27: 121 | AF27: =D27+F27 -> 0 | AG27: =G27+K27+L27+N27 -> 0 | AH27: =K27 -> 0 | AI27: =H27+I27+J27 -> 0 | AJ27: =T27 -> 0 | AK27: =P27+Q27+R27+S27 -> 0 | AL27: =AA27 -> 0 | AM27: =W27+X27+Y27+Z27 -> 0
A28: 1.19 | B28: Ապօրինի աբորտ կատարելը | C28: 122 | AF28: =D28+F28 -> 0 | AG28: =G28+K28+L28+N28 -> 0 | AH28: =K28 -> 0 | AI28: =H28+I28+J28 -> 0 | AJ28: =T28 -> 0 | AK28: =P28+Q28+R28+S28 -> 0 | AL28: =AA28 -> 0 | AM28: =W28+X28+Y28+Z28 -> 0
A29: 1.20 | B29: Մարդու իմունային անբավարարության վիրուսի հարուցիչով վարակելը | C29: 123 | AF29: =D29+F29 -> 0 | AG29: =G29+K29+L29+N29 -> 0 | AH29: =K29 -> 0 | AI29: =H29+I29+J29 -> 0 | AJ29: =T29 -> 0 | AK29: =P29+Q29+R29+S29 -> 0 | AL29: =AA29 -> 0 | AM29: =W29+X29+Y29+Z29 -> 0
A30: 1.21 | B30: Վեներական հիվանդությամբ կամ այլ սեռավարակներով վարակելը | C30: 124 | AF30: =D30+F30 -> 0 | AG30: =G30+K30+L30+N30 -> 0 | AH30: =K30 -> 0 | AI30: =H30+I30+J30 -> 0 | AJ30: =T30 -> 0 | AK30: =P30+Q30+R30+S30 -> 0 | AL30: =AA30 -> 0 | AM30: =W30+X30+Y30+Z30 -> 0
A31: 1.22 | B31: Փոխպատվաստման վիրահատություն կատարելու կանոնները խախտելը | C31: 125 | AF31: =D31+F31 -> 0 | AG31: =G31+K31+L31+N31 -> 0 | AH31: =K31 -> 0 | AI31: =H31+I31+J31 -> 0 | AJ31: =T31 -> 0 | AK31: =P31+Q31+R31+S31 -> 0 | AL31: =AA31 -> 0 | AM31: =W31+X31+Y31+Z31 -> 0
A32: 1.24 | B32: Անձին առանց իր հանձնարարության բժշկական կամ գիտական փորձերի ենթարկելը | C32: 127 | AF32: =D32+F32 -> 0 | AG32: =G32+K32+L32+N32 -> 0 | AH32: =K32 -> 0 | AI32: =H32+I32+J32 -> 0 | AJ32: =T32 -> 0 | AK32: =P32+Q32+R32+S32 -> 0 | AL32: =AA32 -> 0 | AM32: =W32+X32+Y32+Z32 -> 0
A33: 1.25 | B33: Վտանգի մեջ թողնելը | C33: 128 | AF33: =D33+F33 -> 0 | AG33: =G33+K33+L33+N33 -> 0 | AH33: =K33 -> 0 | AI33: =H33+I33+J33 -> 0 | AJ33: =T33 -> 0 | AK33: =P33+Q33+R33+S33 -> 0 | AL33: =AA33 -> 0 | AM33: =W33+X33+Y33+Z33 -> 0
A34: 1.26 | B34: Հիվանդին օգնություն ցույց չտալը | C34: 129 | AF34: =D34+F34 -> 0 | AG34: =G34+K34+L34+N34 -> 0 | AH34: =K34 -> 0 | AI34: =H34+I34+J34 -> 0 | AJ34: =T34 -> 0 | AK34: =P34+Q34+R34+S34 -> 0 | AL34: =AA34 -> 0 | AM34: =W34+X34+Y34+Z34 -> 0
A35: 1.27 | B35: Բժշկական օգնություն և սպասարկում իրականացնողների կողմից մասնագիտական պարտականությունները չկատարելը կամ ոչ պատշաճ կատարելը | C35: 130 | F35: 1 | N35: 1 | AF35: =D35+F35 -> 1 | AG35: =G35+K35+L35+N35 -> 1 | AH35: =K35 -> 0 | AI35: =H35+I35+J35 -> 0 | AJ35: =T35 -> 0 | AK35: =P35+Q35+R35+S35 -> 0 | AL35: =AA35 -> 0 | AM35: =W35+X35+Y35+Z35 -> 0
A36: 1.28 | B36: Այլ հանցագործություններ | AF36: =D36+F36 -> 0 | AG36: =G36+K36+L36+N36 -> 0 | AH36: =K36 -> 0 | AI36: =H36+I36+J36 -> 0 | AJ36: =T36 -> 0 | AK36: =P36+Q36+R36+S36 -> 0 | AL36: =AA36 -> 0 | AM36: =W36+X36+Y36+Z36 -> 0
A37: 2. | B37: Ընդամենը անձի ազատության, պատվի և արժանապատվության դեմ ուղղված հանցագործությունները | D37: =SUM(D38:D45) -> 1 | E37: =SUM(E38:E45) -> 0 | F37: =SUM(F38:F45) -> 2 | G37: =SUM(G38:G45) -> 0 | H37: =SUM(H38:H45) -> 1 | I37: =SUM(I38:I45) -> 1 | J37: =SUM(J38:J45) -> 0 | K37: =SUM(K38:K45) -> 2 | ... AM37: =SUM(AM38:AM45) -> 0
A38: 2.1 | B38: Մարդուն առևանգելը | C38: 131 | D38: 1 | H38: 1 | K38: 1 | AF38: =D38+F38 -> 1 | AG38: =G38+K38+L38+N38 -> 1 | AH38: =K38 -> 1 | AI38: =H38+I38+J38 -> 1 | AJ38: =T38 -> 0 | AK38: =P38+Q38+R38+S38 -> 0 | AL38: =AA38 -> 0 | AM38: =W38+X38+Y38+Z38 -> 0
A39: 2.2 | B39: Մարդու թրաֆիքինգը կամ շահագործումը | C39: 132 | AF39: =D39+F39 -> 0 | AG39: =G39+K39+L39+N39 -> 0 | AH39: =K39 -> 0 | AI39: =H39+I39+J39 -> 0 | AJ39: =T39 -> 0 | AK39: =P39+Q39+R39+S39 -> 0 | AL39: =AA39 -> 0 | AM39: =W39+X39+Y39+Z39 -> 0
A40: 2.2.2 | B40: Երեխայի կամ հոգեկան խանգարման հետևանքով իր արարքի բնույթն ու նշանակությունը գիտակցելու կամ դա ղեկավարելու հնարավորությունից զրկված անձի թրաֆիքինգը կամ շահագործումը | C40: 132.2 | F40: 1 | N40: 1 | AF40: =D40+F40 -> 1 | AG40: =G40+K40+L40+N40 -> 1 | AH40: =K40 -> 0 | AI40: =H40+I40+J40 -> 0 | AJ40: =T40 -> 0 | AK40: =P40+Q40+R40+S40 -> 0 | AL40: =AA40 -> 0 | AM40: =W40+X40+Y40+Z40 -> 0
...

Sheet Ա. Ադամյան
A1: 2017թ. | D1: ՀԱՇՎԵՏՎՈՒԹՅՈՒՆ | Z1: Հավելված Հայաստանի Հանրապետության Դատարանների նախագահների խորհրդի 29.01.2018թ. թիվ 10-Լ որոշման
A2: ՀՀ ԱՐՄԱՎԻՐԻ ՄԱՐԶԻ ԸՆԴՀԱՆՈՒՐ ԻՐԱՎԱՍՈՒԹՅԱՆ ԱՌԱՋԻՆ ԱՏՅԱՆԻ ԴԱՏԱՐԱՆԻ ԴԱՏԱՎՈՐ Ա. ԱԴԱՄՅԱՆԻ ԳՈՐԾՈՒՆԵՈՒԹՅԱՆ ՎԵՐԱԲԵՐՅԱԼ
A3: ՔՐԵԱԿԱՆ ԳՈՐԾԵՐ
A4: ՀՀ Արմավիրի մարզի ընդհանուր իրավասության առաջին ատյանի դատարանում քրեական մասնագիտացում ունեցող դատավորների հաստիքների քանակը` 3
C5: ՀՀ քրեական օրենսգրքի հոդվածներ | D5: Հաշվետու ժամանակահատվածի սկզբում նախորդ հաշվետու ժամանակահատվածից փոխանցված գործերի ընդհանուր թիվը | E5: Այդ թվում` կասեցված վիճակում փոխանցված | F5: Հաշվետու ժամանակահատվածում ստացված գործերի ընդհանուր թիվը | G5: Փոխանցվել է այլ դատավորի (կազմի փոփոխություն) | H5: Հաշվետու ժամանակահատվածում ավարտված գործերի ընդհանուր թիվը | L5: ՈՒղարկվել է ըստ ընդդատության | M5: Հաշվետու ժամանակահատվածում կասեցված վարույթներով գործերի ընդհանուր թիվը | N5: Հաշվետու ժամանակահատվածում անավարտ գործերի ընդհանուր թիվը | O5: Այդ թվում՝ կասեցված | P5: Բողոքարկված դատական ակտերը | U5: ավարտված դատական գործերի բողոքարկման տոկոսը (հաշվետու ժամանակաշրջանում) | V5: Անավարտ բողոքներ | W5: Բեկանված դատական ակտերը | AB5: բեկանումների տոկոսը ավարտված գործերից(հաշվետու ժամանակահատվածում) | AC5: Կայունության տոկոսը ավարտված գործերից(հաշվետու ժամանակահատվածում) | AD5: բեկանումների տոկոսը բողոքարկված գործերից(հաշվետու ժամանակահատվածում) | AE5: կայունության տոկոսը բողոքարկված գործերից (հաշվետու ժամանակահատվածում)
H6: Քննվել է ըստ էության և դատավճիռ կայացվել | I6: Որոշում է կայացվել քրեական գործի վարույթը կարճելու և քրեական հետապնդումը դադարեցնելու մասին | J6: Որոշում է կայացվել անմեղսունակների նկատմամբ բժշկական բնույթի հարկադրական միջոցներ կիրառելու մասին | K6: Ընդամենը ավարտվել են գործեր | P6: Այդ թվում` գործն ըստ էության լուծող դատական ակտերը | R6: Այդ թվում` միջանկյալ դատական ակտերը | T6: Ընդամեն բողոքարկվել են ակտեր | W6: Այդ թվում` գործն ըստ էության լուծող դատական ակտերը | Y6: Այդ թվում` միջանկյալ դատական ակտերը | AA6: Ընդամենը բեկանվել են ակտեր
P7: նախորդ տարիներին կայացված ակտերի բողոքարկումը | Q7: հաշվետու ժամանակահատվածում կայացված ակտերի բողոքարկումը | R7: նախորդ տարիներին կայացված ակտերի բողոքարկումը | S7: հաշվետու ժամանակահատվածում կայացված ակտերի բողոքարկումը | W7: նախորդ տարիներին կայացված ակտերի բեկանումները | X7: հաշվետու ժամանակահատվածում կայացված ակտերի բեկանումները | Y7: նախորդ տարիներին կայացված ակտերի բեկանումները | Z7: հաշվետու ժամանակահատվածում կայացված ակտերի բեկանումները
D8: 1 | E8: 2 | F8: 3 | G8: 4 | H8: 5 | I8: 6 | J8: 7 | K8: 8 | L8: 9 | M8: 10 | N8: 11 | O8: 12 | P8: 13 | Q8: 14 | R8: 15 | S8: 16 | T8: 17 | U8: 18 | V8: 19 | W8: 20 | X8: 21 | Y8: 22 | Z8: 23 | AA8: 24 | AB8: 25 | AC8: 26 | AD8: 27 | AE8: 28 | AF8: 1+3=4+8+9+11 | AH8: 8=5+6+7 | AJ8: 17=13+14+15+16 | AL8: 24=20+21+22+23
A9: 1. | B9: Ընդամենը կյանքի և առողջության դեմ ուղղված հանցագործությունները | D9: =SUM(D10:D36) -> 3 | E9: =SUM(E10:E36) -> 1 | F9: =SUM(F10:F36) -> 15 | G9: =SUM(G10:G36) -> 0 | H9: =SUM(H10:H36) -> 5 | I9: =SUM(I10:I36) -> 4 | J9: =SUM(J10:J36) -> 0 | K9: =SUM(K10:K36) -> 9 | ... AM9: =SUM(AM10:AM36) -> 0
A10: 1.1 | B10: Սպանությունը | C10: 104 | F10: 3 | H10: 1 | K10: 1 | N10: 2 | Q10: 1 | T10: 1 | V10: 1 | AF10: =D10+F10 -> 3 | AG10: =G10+K10+L10+N10 -> 3 | AH10: =K10 -> 1 | AI10: =H10+I10+J10 -> 1 | AJ10: =T10 -> 1 | AK10: =P10+Q10+R10+S10 -> 1 | AL10: =AA10 -> 0 | AM10: =W10+X10+Y10+Z10 -> 0
A11: 1.2 | B11: Հոգեկան խիստ հուզմունքի վիճակում կատարված սպանությունը | C11: 105 | AF11: =D11+F11 -> 0 | AG11: =G11+K11+L11+N11 -> 0 | AH11: =K11 -> 0 | AI11: =H11+I11+J11 -> 0 | AJ11: =T11 -> 0 | AK11: =P11+Q11+R11+S11 -> 0 | AL11: =AA11 -> 0 | AM11: =W11+X11+Y11+Z11 -> 0
A12: 1.3 | B12: Մոր կողմից նորածին երեխայի սպանությունը | C12: 106 | AF12: =D12+F12 -> 0 | AG12: =G12+K12+L12+N12 -> 0 | AH12: =K12 -> 0 | AI12: =H12+I12+J12 -> 0 | AJ12: =T12 -> 0 | AK12: =P12+Q12+R12+S12 -> 0 | AL12: =AA12 -> 0 | AM12: =W12+X12+Y12+Z12 -> 0
A13: 1.4 | B13: Հանցանք կատարած անձին բռնելու համար անհրաժեշտ միջոցների սահմանազանցմամբ սպանությունը | C13: 107 | AF13: =D13+F13 -> 0 | AG13: =G13+K13+L13+N13 -> 0 | AH13: =K13 -> 0 | AI13: =H13+I13+J13 -> 0 | AJ13: =T13 -> 0 | AK13: =P13+Q13+R13+S13 -> 0 | AL13: =AA13 -> 0 | AM13: =W13+X13+Y13+Z13 -> 0
A14: 1.5 | B14: Անհրաժեշտ պաշտպանության սահմանազանցմամբ սպանությունը | C14: 108 | AF14: =D14+F14 -> 0 | AG14: =G14+K14+L14+N14 -> 0 | AH14: =K14 -> 0 | AI14: =H14+I14+J14 -> 0 | AJ14: =T14 -> 0 | AK14: =P14+Q14+R14+S14 -> 0 | AL14: =AA14 -> 0 | AM14: =W14+X14+Y14+Z14 -> 0
A15: 1.6 | B15: Անզգուշությամբ մահ պատճառելը | C15: 109 | AF15: =D15+F15 -> 0 | AG15: =G15+K15+L15+N15 -> 0 | AH15: =K15 -> 0 | AI15: =H15+I15+J15 -> 0 | AJ15: =T15 -> 0 | AK15: =P15+Q15+R15+S15 -> 0 | AL15: =AA15 -> 0 | AM15: =W15+X15+Y15+Z15 -> 0
A16: 1.7 | B16: Ինքնասպանության հասցնելը | C16: 110 | AF16: =D16+F16 -> 0 | AG16: =G16+K16+L16+N16 -> 0 | AH16: =K16 -> 0 | AI16: =H16+I16+J16 -> 0 | AJ16: =T16 -> 0 | AK16: =P16+Q16+R16+S16 -> 0 | AL16: =AA16 -> 0 | AM16: =W16+X16+Y16+Z16 -> 0
A17: 1.8 | B17: Ինքնասպանության հակելը | C17: 111 | AF17: =D17+F17 -> 0 | AG17: =G17+K17+L17+N17 -> 0 | AH17: =K17 -> 0 | AI17: =H17+I17+J17 -> 0 | AJ17: =T17 -> 0 | AK17: =P17+Q17+R17+S17 -> 0 | AL17: =AA17 -> 0 | AM17: =W17+X17+Y17+Z17 -> 0
A18: 1.9 | B18: Դիտավորությամբ առողջությանը ծանր վնաս պատճառելը | C18: 112 | F18: 4 | H18: 1 | K18: 1 | N18: 3 | AF18: =D18+F18 -> 4 | AG18: =G18+K18+L18+N18 -> 4 | AH18: =K18 -> 1 | AI18: =H18+I18+J18 -> 1 | AJ18: =T18 -> 0 | AK18: =P18+Q18+R18+S18 -> 0 | AL18: =AA18 -> 0 | AM18: =W18+X18+Y18+Z18 -> 0
A19: 1.10 | B19: Դիտավորությամբ առողջությանը միջին ծանրության վնաս պատճառելը | C19: 113 | F19: 1 | N19: 1 | AF19: =D19+F19 -> 1 | AG19: =G19+K19+L19+N19 -> 1 | AH19: =K19 -> 0 | AI19: =H19+I19+J19 -> 0 | AJ19: =T19 -> 0 | AK19: =P19+Q19+R19+S19 -> 0 | AL19: =AA19 -> 0 | AM19: =W19+X19+Y19+Z19 -> 0
A20: 1.11 | B20: Հոգեկան խիստ հուզմունքի վիճակում առողջությանը ծանր կամ միջին ծանրության վնաս պատճառելը | C20: 114 | D20: 1 | E20: 1 | I20: 1 | K20: 1 | AF20: =D20+F20 -> 1 | AG20: =G20+K20+L20+N20 -> 1 | AH20: =K20 -> 1 | AI20: =H20+I20+J20 -> 1 | AJ20: =T20 -> 0 | AK20: =P20+Q20+R20+S20 -> 0 | AL20: =AA20 -> 0 | AM20: =W20+X20+Y20+Z20 -> 0
A21: 1.12 | B21: Հանցանք կատարած անձին բռնելու համար անհրաժեշտ միջոցների սահմանզանցմամբ առողջությանը ծանր կամ միջին ծանրության վնաս պատճառելը | C21: 115 | AF21: =D21+F21 -> 0 | AG21: =G21+K21+L21+N21 -> 0 | AH21: =K21 -> 0 | AI21: =H21+I21+J21 -> 0 | AJ21: =T21 -> 0 | AK21: =P21+Q21+R21+S21 -> 0 | AL21: =AA21 -> 0 | AM21: =W21+X21+Y21+Z21 -> 0
A22: 1.13 | B22: Առողջությանը ծանր կամ միջին ծանրության վնաս պատճառելը անհրաժեշտ պաշտպանության սահմանանազանցմամբ | C22: 116 | AF22: =D22+F22 -> 0 | AG22: =G22+K22+L22+N22 -> 0 | AH22: =K22 -> 0 | AI22: =H22+I22+J22 -> 0 | AJ22: =T22 -> 0 | AK22: =P22+Q22+R22+S22 -> 0 | AL22: =AA22 -> 0 | AM22: =W22+X22+Y22+Z22 -> 0
A23: 1.14 | B23: Դիտավորությամբ առողջությանը թեթև վնաս պատճառելը | C23: 117 | D23: 1 | F23: 1 | I23: 1 | K23: 1 | N23: 1 | AF23: =D23+F23 -> 2 | AG23: =G23+K23+L23+N23 -> 2 | AH23: =K23 -> 1 | AI23: =H23+I23+J23 -> 1 | AJ23: =T23 -> 0 | AK23: =P23+Q23+R23+S23 -> 0 | AL23: =AA23 -> 0 | AM23: =W23+X23+Y23+Z23 -> 0
A24: 1.15 | B24: Ծեծը | C24: 118 | D24: 1 | F24: 6 | H24: 3 | I24: 2 | K24: 5 | N24: 2 | AF24: =D24+F24 -> 7 | AG24: =G24+K24+L24+N24 -> 7 | AH24: =K24 -> 5 | AI24: =H24+I24+J24 -> 5 | AJ24: =T24 -> 0 | AK24: =P24+Q24+R24+S24 -> 0 | AL24: =AA24 -> 0 | AM24: =W24+X24+Y24+Z24 -> 0
A25: 1.16 | B25: Ֆիզիկական ուժեղ ցավ կամ հոգեկան ուժեղ տառապանք պատճառելը | C25: 119 | AF25: =D25+F25 -> 0 | AG25: =G25+K25+L25+N25 -> 0 | AH25: =K25 -> 0 | AI25: =H25+I25+J25 -> 0 | AJ25: =T25 -> 0 | AK25: =P25+Q25+R25+S25 -> 0 | AL25: =AA25 -> 0 | AM25: =W25+X25+Y25+Z25 -> 0
A26: 1.17 | B26: Անզգուշությամբ առողջությանը ծանր վնաս պատճառելը | C26: 120 | AF26: =D26+F26 -> 0 | AG26: =G26+K26+L26+N26 -> 0 | AH26: =K26 -> 0 | AI26: =H26+I26+J26 -> 0 | AJ26: =T26 -> 0 | AK26: =P26+Q26+R26+S26 -> 0 | AL26: =AA26 -> 0 | AM26: =W26+X26+Y26+Z26 -> 0
A27: 1.18 | B27: Անզգուշությամբ առողջությանը միջին ծանրության վնաս պատճառելը | C27: 121 | AF27: =D27+F27 -> 0 | AG27: =G27+K27+L27+N27 -> 0 | AH27: =K27 -> 0 | AI27: =H27+I27+J27 -> 0 | AJ27: =T27 -> 0 | AK27: =P27+Q27+R27+S27 -> 0 | AL27: =AA27 -> 0 | AM27: =W27+X27+Y27+Z27 -> 0
A28: 1.19 | B28: Ապօրինի աբորտ կատարելը | C28: 122 | AF28: =D28+F28 -> 0 | AG28: =G28+K28+L28+N28 -> 0 | AH28: =K28 -> 0 | AI28: =H28+I28+J28 -> 0 | AJ28: =T28 -> 0 | AK28: =P28+Q28+R28+S28 -> 0 | AL28: =AA28 -> 0 | AM28: =W28+X28+Y28+Z28 -> 0
A29: 1.20 | B29: Մարդու իմունային անբավարարության վիրուսի հարուցիչով վարակելը | C29: 123 | AF29: =D29+F29 -> 0 | AG29: =G29+K29+L29+N29 -> 0 | AH29: =K29 -> 0 | AI29: =H29+I29+J29 -> 0 | AJ29: =T29 -> 0 | AK29: =P29+Q29+R29+S29 -> 0 | AL29: =AA29 -> 0 | AM29: =W29+X29+Y29+Z29 -> 0
A30: 1.21 | B30: Վեներական հիվանդությամբ կամ այլ սեռավարակներով վարակելը | C30: 124 | AF30: =D30+F30 -> 0 | AG30: =G30+K30+L30+N30 -> 0 | AH30: =K30 -> 0 | AI30: =H30+I30+J30 -> 0 | AJ30: =T30 -> 0 | AK30: =P30+Q30+R30+S30 -> 0 | AL30: =AA30 -> 0 | AM30: =W30+X30+Y30+Z30 -> 0
A31: 1.22 | B31: Փոխպատվաստման վիրահատություն կատարելու կանոնները խախտելը | C31: 125 | AF31: =D31+F31 -> 0 | AG31: =G31+K31+L31+N31 -> 0 | AH31: =K31 -> 0 | AI31: =H31+I31+J31 -> 0 | AJ31: =T31 -> 0 | AK31: =P31+Q31+R31+S31 -> 0 | AL31: =AA31 -> 0 | AM31: =W31+X31+Y31+Z31 -> 0
A32: 1.24 | B32: Անձին առանց իր հանձնարարության բժշկական կամ գիտական փորձերի ենթարկելը | C32: 127 | AF32: =D32+F32 -> 0 | AG32: =G32+K32+L32+N32 -> 0 | AH32: =K32 -> 0 | AI32: =H32+I32+J32 -> 0 | AJ32: =T32 -> 0 | AK32: =P32+Q32+R32+S32 -> 0 | AL32: =AA32 -> 0 | AM32: =W32+X32+Y32+Z32 -> 0
A33: 1.25 | B33: Վտանգի մեջ թողնելը | C33: 128 | AF33: =D33+F33 -> 0 | AG33: =G33+K33+L33+N33 -> 0 | AH33: =K33 -> 0 | AI33: =H33+I33+J33 -> 0 | AJ33: =T33 -> 0 | AK33: =P33+Q33+R33+S33 -> 0 | AL33: =AA33 -> 0 | AM33: =W33+X33+Y33+Z33 -> 0
A34: 1.26 | B34: Հիվանդին օգնություն ցույց չտալը | C34: 129 | AF34: =D34+F34 -> 0 | AG34: =G34+K34+L34+N34 -> 0 | AH34: =K34 -> 0 | AI34: =H34+I34+J34 -> 0 | AJ34: =T34 -> 0 | AK34: =P34+Q34+R34+S34 -> 0 | AL34: =AA34 -> 0 | AM34: =W34+X34+Y34+Z34 -> 0
A35: 1.27 | B35: Բժշկական օգնություն և սպասարկում իրականացնողների կողմից մասնագիտական պարտականությունները չկատարելը կամ ոչ պատշաճ կատարելը | C35: 130 | AF35: =D35+F35 -> 0 | AG35: =G35+K35+L35+N35 -> 0 | AH35: =K35 -> 0 | AI35: =H35+I35+J35 -> 0 | AJ35: =T35 -> 0 | AK35: =P35+Q35+R35+S35 -> 0 | AL35: =AA35 -> 0 | AM35: =W35+X35+Y35+Z35 -> 0
A36: 1.28 | B36: Այլ հանցագործություններ | AF36: =D36+F36 -> 0 | AG36: =G36+K36+L36+N36 -> 0 | AH36: =K36 -> 0 | AI36: =H36+I36+J36 -> 0 | AJ36: =T36 -> 0 | AK36: =P36+Q36+R36+S36 -> 0 | AL36: =AA36 -> 0 | AM36: =W36+X36+Y36+Z36 -> 0
A37: 2. | B37: Ընդամենը անձի ազատության, պատվի և արժանապատվության դեմ ուղղված հանցագործությունները | D37: =SUM(D38:D45) -> 0 | E37: =SUM(E38:E45) -> 0 | F37: =SUM(F38:F45) -> 2 | G37: =SUM(G38:G45) -> 0 | H37: =SUM(H38:H45) -> 2 | I37: =SUM(I38:I45) -> 0 | J37: =SUM(J38:J45) -> 0 | K37: =SUM(K38:K45) -> 2 | ... AM37: =SUM(AM38:AM45) -> 0
A38: 2.1 | B38: Մարդուն առևանգելը | C38: 131 | AF38: =D38+F38 -> 0 | AG38: =G38+K38+L38+N38 -> 0 | AH38: =K38 -> 0 | AI38: =H38+I38+J38 -> 0 | AJ38: =T38 -> 0 | AK38: =P38+Q38+R38+S38 -> 0 | AL38: =AA38 -> 0 | AM38: =W38+X38+Y38+Z38 -> 0
A39: 2.2 | B39: Մարդու թրաֆիքինգը կամ շահագործումը | C39: 132 | AF39: =D39+F39 -> 0 | AG39: =G39+K39+L39+N39 -> 0 | AH39: =K39 -> 0 | AI39: =H39+I39+J39 -> 0 | AJ39: =T39 -> 0 | AK39: =P39+Q39+R39+S39 -> 0 | AL39: =AA39 -> 0 | AM39: =W39+X39+Y39+Z39 -> 0
A40: 2.2.2 | B40: Երեխայի կամ հոգեկան խանգարման հետևանքով իր արարքի բնույթն ու նշանակությունը գիտակցելու կամ դա ղեկավարելու հնարավորությունից զրկված անձի թրաֆիքինգը կամ շահագործումը | C40: 132.2 | AF40: =D40+F40 -> 0 | AG40: =G40+K40+L40+N40 -> 0 | AH40: =K40 -> 0 | AI40: =H40+I40+J40 -> 0 | AJ40: =T40 -> 0 | AK40: =P40+Q40+R40+S40 -> 0 | AL40: =AA40 -> 0 | AM40: =W40+X40+Y40+Z40 -> 0
...

Sheet Հ. Սարգսյան
A1: 2017թ. | D1: ՀԱՇՎԵՏՎՈՒԹՅՈՒՆ | Z1: Հավելված Հայաստանի Հանրապետության Դատարանների նախագահների խորհրդի 29.01.2018թ. թիվ 10-Լ որոշման
A2: ՀՀ ԱՐՄԱՎԻՐԻ ՄԱՐԶԻ ԸՆԴՀԱՆՈՒՐ ԻՐԱՎԱՍՈՒԹՅԱՆ ԱՌԱՋԻՆ ԱՏՅԱՆԻ ԴԱՏԱՐԱՆԻ ԴԱՏԱՎՈՐ Հ. ՍԱՐԳՍՅԱՆԻ ԳՈՐԾՈՒՆԵՈՒԹՅԱՆ ՎԵՐԱԲԵՐՅԱԼ
A3: ՔՐԵԱԿԱՆ ԳՈՐԾԵՐ
A4: ՀՀ Արմավիրի մարզի ընդհանուր իրավասության առաջին ատյանի դատարանում քրեական մասնագիտացում ունեցող դատավորների հաստիքների քանակը` 3
C5: ՀՀ քրեական օրենսգրքի հոդվածներ | D5: Հաշվետու ժամանակահատվածի սկզբում նախորդ հաշվետու ժամանակահատվածից փոխանցված գործերի ընդհանուր թիվը | E5: Այդ թվում` կասեցված վիճակում փոխանցված | F5: Հաշվետու ժամանակահատվածում ստացված գործերի ընդհանուր թիվը | G5: Փոխանցվել է այլ դատավորի (կազմի փոփոխություն) | H5: Հաշվետու ժամանակահատվածում ավարտված գործերի ընդհանուր թիվը | L5: ՈՒղարկվել է ըստ ընդդատության | M5: Հաշվետու ժամանակահատվածում կասեցված վարույթներով գործերի ընդհանուր թիվը | N5: Հաշվետու ժամանակահատվածում անավարտ գործերի ընդհանուր թիվը | O5: Այդ թվում՝ կասեցված | P5: Բողոքարկված դատական ակտերը | U5: ավարտված դատական գործերի բողոքարկման տոկոսը (հաշվետու ժամանակաշրջանում) | V5: Անավարտ բողոքներ | W5: Բեկանված դատական ակտերը | AB5: բեկանումների տոկոսը ավարտված գործերից(հաշվետու ժամանակահատվածում) | AC5: Կայունության տոկոսը ավարտված գործերից(հաշվետու ժամանակահատվածում) | AD5: բեկանումների տոկոսը բողոքարկված գործերից(հաշվետու ժամանակահատվածում) | AE5: կայունության տոկոսը բողոքարկված գործերից (հաշվետու ժամանակահատվածում)
H6: Քննվել է ըստ էության և դատավճիռ կայացվել | I6: Որոշում է կայացվել քրեական գործի վարույթը կարճելու և քրեական հետապնդումը դադարեցնելու մասին | J6: Որոշում է կայացվել անմեղսունակների նկատմամբ բժշկական բնույթի հարկադրական միջոցներ կիրառելու մասին | K6: Ընդամենը ավարտվել են գործեր | P6: Այդ թվում` գործն ըստ էության լուծող դատական ակտերը | R6: Այդ թվում` միջանկյալ դատական ակտերը | T6: Ընդամեն բողոքարկվել են ակտեր | W6: Այդ թվում` գործն ըստ էության լուծող դատական ակտերը | Y6: Այդ թվում` միջանկյալ դատական ակտերը | AA6: Ընդամենը բեկանվել են ակտեր
P7: նախորդ տարիներին կայացված ակտերի բողոքարկումը | Q7: հաշվետու ժամանակահատվածում կայացված ակտերի բողոքարկումը | R7: նախորդ տարիներին կայացված ակտերի բողոքարկումը | S7: հաշվետու ժամանակահատվածում կայացված ակտերի բողոքարկումը | W7: նախորդ տարիներին կայացված ակտերի բեկանումները | X7: հաշվետու ժամանակահատվածում կայացված ակտերի բեկանումները | Y7: նախորդ տարիներին կայացված ակտերի բեկանումները | Z7: հաշվետու ժամանակահատվածում կայացված ակտերի բեկանումները
D8: 1 | E8: 2 | F8: 3 | G8: 4 | H8: 5 | I8: 6 | J8: 7 | K8: 8 | L8: 9 | M8: 10 | N8: 11 | O8: 12 | P8: 13 | Q8: 14 | R8: 15 | S8: 16 | T8: 17 | U8: 18 | V8: 19 | W8: 20 | X8: 21 | Y8: 22 | Z8: 23 | AA8: 24 | AB8: 25 | AC8: 26 | AD8: 27 | AE8: 28 | AF8: 1+3=4+8+9+11 | AH8: 8=5+6+7 | AJ8: 17=13+14+15+16 | AL8: 24=20+21+22+23
A9: 1. | B9: Ընդամենը կյանքի և առողջության դեմ ուղղված հանցագործությունները | D9: =SUM(D10:D36) -> 2 | E9: =SUM(E10:E36) -> 0 | F9: =SUM(F10:F36) -> 2 | G9: =SUM(G10:G36) -> 0 | H9: =SUM(H10:H36) -> 3 | I9: =SUM(I10:I36) -> 0 | J9: =SUM(J10:J36) -> 0 | K9: =SUM(K10:K36) -> 3 | ... AM9: =SUM(AM10:AM36) -> 0
A10: 1.1 | B10: Սպանությունը | C10: 104 | AF10: =D10+F10 -> 0 | AG10: =G10+K10+L10+N10 -> 0 | AH10: =K10 -> 0 | AI10: =H10+I10+J10 -> 0 | AJ10: =T10 -> 0 | AK10: =P10+Q10+R10+S10 -> 0 | AL10: =AA10 -> 0 | AM10: =W10+X10+Y10+Z10 -> 0
A11: 1.2 | B11: Հոգեկան խիստ հուզմունքի վիճակում կատարված սպանությունը | C11: 105 | AF11: =D11+F11 -> 0 | AG11: =G11+K11+L11+N11 -> 0 | AH11: =K11 -> 0 | AI11: =H11+I11+J11 -> 0 | AJ11: =T11 -> 0 | AK11: =P11+Q11+R11+S11 -> 0 | AL11: =AA11 -> 0 | AM11: =W11+X11+Y11+Z11 -> 0
A12: 1.3 | B12: Մոր կողմից նորածին երեխայի սպանությունը | C12: 106 | AF12: =D12+F12 -> 0 | AG12: =G12+K12+L12+N12 -> 0 | AH12: =K12 -> 0 | AI12: =H12+I12+J12 -> 0 | AJ12: =T12 -> 0 | AK12: =P12+Q12+R12+S12 -> 0 | AL12: =AA12 -> 0 | AM12: =W12+X12+Y12+Z12 -> 0
A13: 1.4 | B13: Հանցանք կատարած անձին բռնելու համար անհրաժեշտ միջոցների սահմանազանցմամբ սպանությունը | C13: 107 | AF13: =D13+F13 -> 0 | AG13: =G13+K13+L13+N13 -> 0 | AH13: =K13 -> 0 | AI13: =H13+I13+J13 -> 0 | AJ13: =T13 -> 0 | AK13: =P13+Q13+R13+S13 -> 0 | AL13: =AA13 -> 0 | AM13: =W13+X13+Y13+Z13 -> 0
A14: 1.5 | B14: Անհրաժեշտ պաշտպանության սահմանազանցմամբ սպանությունը | C14: 108 | AF14: =D14+F14 -> 0 | AG14: =G14+K14+L14+N14 -> 0 | AH14: =K14 -> 0 | AI14: =H14+I14+J14 -> 0 | AJ14: =T14 -> 0 | AK14: =P14+Q14+R14+S14 -> 0 | AL14: =AA14 -> 0 | AM14: =W14+X14+Y14+Z14 -> 0
A15: 1.6 | B15: Անզգուշությամբ մահ պատճառելը | C15: 109 | AF15: =D15+F15 -> 0 | AG15: =G15+K15+L15+N15 -> 0 | AH15: =K15 -> 0 | AI15: =H15+I15+J15 -> 0 | AJ15: =T15 -> 0 | AK15: =P15+Q15+R15+S15 -> 0 | AL15: =AA15 -> 0 | AM15: =W15+X15+Y15+Z15 -> 0
A16: 1.7 | B16: Ինքնասպանության հասցնելը | C16: 110 | AF16: =D16+F16 -> 0 | AG16: =G16+K16+L16+N16 -> 0 | AH16: =K16 -> 0 | AI16: =H16+I16+J16 -> 0 | AJ16: =T16 -> 0 | AK16: =P16+Q16+R16+S16 -> 0 | AL16: =AA16 -> 0 | AM16: =W16+X16+Y16+Z16 -> 0
A17: 1.8 | B17: Ինքնասպանության հակելը | C17: 111 | AF17: =D17+F17 -> 0 | AG17: =G17+K17+L17+N17 -> 0 | AH17: =K17 -> 0 | AI17: =H17+I17+J17 -> 0 | AJ17: =T17 -> 0 | AK17: =P17+Q17+R17+S17 -> 0 | AL17: =AA17 -> 0 | AM17: =W17+X17+Y17+Z17 -> 0
A18: 1.9 | B18: Դիտավորությամբ առողջությանը ծանր վնաս պատճառելը | C18: 112 | D18: 2 | H18: 2 | K18: 2 | AF18: =D18+F18 -> 2 | AG18: =G18+K18+L18+N18 -> 2 | AH18: =K18 -> 2 | AI18: =H18+I18+J18 -> 2 | AJ18: =T18 -> 0 | AK18: =P18+Q18+R18+S18 -> 0 | AL18: =AA18 -> 0 | AM18: =W18+X18+Y18+Z18 -> 0
A19: 1.10 | B19: Դիտավորությամբ առողջությանը միջին ծանրության վնաս պատճառելը | C19: 113 | AF19: =D19+F19 -> 0 | AG19: =G19+K19+L19+N19 -> 0 | AH19: =K19 -> 0 | AI19: =H19+I19+J19 -> 0 | AJ19: =T19 -> 0 | AK19: =P19+Q19+R19+S19 -> 0 | AL19: =AA19 -> 0 | AM19: =W19+X19+Y19+Z19 -> 0
A20: 1.11 | B20: Հոգեկան խիստ հուզմունքի վիճակում առողջությանը ծանր կամ միջին ծանրության վնաս պատճառելը | C20: 114 | AF20: =D20+F20 -> 0 | AG20: =G20+K20+L20+N20 -> 0 | AH20: =K20 -> 0 | AI20: =H20+I20+J20 -> 0 | AJ20: =T20 -> 0 | AK20: =P20+Q20+R20+S20 -> 0 | AL20: =AA20 -> 0 | AM20: =W20+X20+Y20+Z20 -> 0
A21: 1.12 | B21: Հանցանք կատարած անձին բռնելու համար անհրաժեշտ միջոցների սահմանզանցմամբ առողջությանը ծանր կամ միջին ծանրության վնաս պատճառելը | C21: 115 | AF21: =D21+F21 -> 0 | AG21: =G21+K21+L21+N21 -> 0 | AH21: =K21 -> 0 | AI21: =H21+I21+J21 -> 0 | AJ21: =T21 -> 0 | AK21: =P21+Q21+R21+S21 -> 0 | AL21: =AA21 -> 0 | AM21: =W21+X21+Y21+Z21 -> 0
A22: 1.13 | B22: Առողջությանը ծանր կամ միջին ծանրության վնաս պատճառելը անհրաժեշտ պաշտպանության սահմանանազանցմամբ | C22: 116 | AF22: =D22+F22 -> 0 | AG22: =G22+K22+L22+N22 -> 0 | AH22: =K22 -> 0 | AI22: =H22+I22+J22 -> 0 | AJ22: =T22 -> 0 | AK22: =P22+Q22+R22+S22 -> 0 | AL22: =AA22 -> 0 | AM22: =W22+X22+Y22+Z22 -> 0
A23: 1.14 | B23: Դիտավորությամբ առողջությանը թեթև վնաս պատճառելը | C23: 117 | F23: 1 | H23: 1 | K23: 1 | AF23: =D23+F23 -> 1 | AG23: =G23+K23+L23+N23 -> 1 | AH23: =K23 -> 1 | AI23: =H23+I23+J23 -> 1 | AJ23: =T23 -> 0 | AK23: =P23+Q23+R23+S23 -> 0 | AL23: =AA23 -> 0 | AM23: =W23+X23+Y23+Z23 -> 0
A24: 1.15 | B24: Ծեծը | C24: 118 | F24: 1 | N24: 1 | AF24: =D24+F24 -> 1 | AG24: =G24+K24+L24+N24 -> 1 | AH24: =K24 -> 0 | AI24: =H24+I24+J24 -> 0 | AJ24: =T24 -> 0 | AK24: =P24+Q24+R24+S24 -> 0 | AL24: =AA24 -> 0 | AM24: =W24+X24+Y24+Z24 -> 0
A25: 1.16 | B25: Ֆիզիկական ուժեղ ցավ կամ հոգեկան ուժեղ տառապանք պատճառելը | C25: 119 | AF25: =D25+F25 -> 0 | AG25: =G25+K25+L25+N25 -> 0 | AH25: =K25 -> 0 | AI25: =H25+I25+J25 -> 0 | AJ25: =T25 -> 0 | AK25: =P25+Q25+R25+S25 -> 0 | AL25: =AA25 -> 0 | AM25: =W25+X25+Y25+Z25 -> 0
A26: 1.17 | B26: Անզգուշությամբ առողջությանը ծանր վնաս պատճառելը | C26: 120 | AF26: =D26+F26 -> 0 | AG26: =G26+K26+L26+N26 -> 0 | AH26: =K26 -> 0 | AI26: =H26+I26+J26 -> 0 | AJ26: =T26 -> 0 | AK26: =P26+Q26+R26+S26 -> 0 | AL26: =AA26 -> 0 | AM26: =W26+X26+Y26+Z26 -> 0
A27: 1.18 | B27: Անզգուշությամբ առողջությանը միջին ծանրության վնաս պատճառելը | C27: 121 | AF27: =D27+F27 -> 0 | AG27: =G27+K27+L27+N27 -> 0 | AH27: =K27 -> 0 | AI27: =H27+I27+J27 -> 0 | AJ27: =T27 -> 0 | AK27: =P27+Q27+R27+S27 -> 0 | AL27: =AA27 -> 0 | AM27: =W27+X27+Y27+Z27 -> 0
A28: 1.19 | B28: Ապօրինի աբորտ կատարելը | C28: 122 | AF28: =D28+F28 -> 0 | AG28: =G28+K28+L28+N28 -> 0 | AH28: =K28 -> 0 | AI28: =H28+I28+J28 -> 0 | AJ28: =T28 -> 0 | AK28: =P28+Q28+R28+S28 -> 0 | AL28: =AA28 -> 0 | AM28: =W28+X28+Y28+Z28 -> 0
A29: 1.20 | B29: Մարդու իմունային անբավարարության վիրուսի հարուցիչով վարակելը | C29: 123 | AF29: =D29+F29 -> 0 | AG29: =G29+K29+L29+N29 -> 0 | AH29: =K29 -> 0 | AI29: =H29+I29+J29 -> 0 | AJ29: =T29 -> 0 | AK29: =P29+Q29+R29+S29 -> 0 | AL29: =AA29 -> 0 | AM29: =W29+X29+Y29+Z29 -> 0
A30: 1.21 | B30: Վեներական հիվանդությամբ կամ այլ սեռավարակներով վարակելը | C30: 124 | AF30: =D30+F30 -> 0 | AG30: =G30+K30+L30+N30 -> 0 | AH30: =K30 -> 0 | AI30: =H30+I30+J30 -> 0 | AJ30: =T30 -> 0 | AK30: =P30+Q30+R30+S30 -> 0 | AL30: =AA30 -> 0 | AM30: =W30+X30+Y30+Z30 -> 0
A31: 1.22 | B31: Փոխպատվաստման վիրահատություն կատարելու կանոնները խախտելը | C31: 125 | AF31: =D31+F31 -> 0 | AG31: =G31+K31+L31+N31 -> 0 | AH31: =K31 -> 0 | AI31: =H31+I31+J31 -> 0 | AJ31: =T31 -> 0 | AK31: =P31+Q31+R31+S31 -> 0 | AL31: =AA31 -> 0 | AM31: =W31+X31+Y31+Z31 -> 0
A32: 1.24 | B32: Անձին առանց իր հանձնարարության բժշկական կամ գիտական փորձերի ենթարկելը | C32: 127 | AF32: =D32+F32 -> 0 | AG32: =G32+K32+L32+N32 -> 0 | AH32: =K32 -> 0 | AI32: =H32+I32+J32 -> 0 | AJ32: =T32 -> 0 | AK32: =P32+Q32+R32+S32 -> 0 | AL32: =AA32 -> 0 | AM32: =W32+X32+Y32+Z32 -> 0
A33: 1.25 | B33: Վտանգի մեջ թողնելը | C33: 128 | AF33: =D33+F33 -> 0 | AG33: =G33+K33+L33+N33 -> 0 | AH33: =K33 -> 0 | AI33: =H33+I33+J33 -> 0 | AJ33: =T33 -> 0 | AK33: =P33+Q33+R33+S33 -> 0 | AL33: =AA33 -> 0 | AM33: =W33+X33+Y33+Z33 -> 0
A34: 1.26 | B34: Հիվանդին օգնություն ցույց չտալը | C34: 129 | AF34: =D34+F34 -> 0 | AG34: =G34+K34+L34+N34 -> 0 | AH34: =K34 -> 0 | AI34: =H34+I34+J34 -> 0 | AJ34: =T34 -> 0 | AK34: =P34+Q34+R34+S34 -> 0 | AL34: =AA34 -> 0 | AM34: =W34+X34+Y34+Z34 -> 0
A35: 1.27 | B35: Բժշկական օգնություն և սպասարկում իրականացնողների կողմից մասնագիտական պարտականությունները չկատարելը կամ ոչ պատշաճ կատարելը | C35: 130 | AF35: =D35+F35 -> 0 | AG35: =G35+K35+L35+N35 -> 0 | AH35: =K35 -> 0 | AI35: =H35+I35+J35 -> 0 | AJ35: =T35 -> 0 | AK35: =P35+Q35+R35+S35 -> 0 | AL35: =AA35 -> 0 | AM35: =W35+X35+Y35+Z35 -> 0
A36: 1.28 | B36: Այլ հանցագործություններ | AF36: =D36+F36 -> 0 | AG36: =G36+K36+L36+N36 -> 0 | AH36: =K36 -> 0 | AI36: =H36+I36+J36 -> 0 | AJ36: =T36 -> 0 | AK36: =P36+Q36+R36+S36 -> 0 | AL36: =AA36 -> 0 | AM36: =W36+X36+Y36+Z36 -> 0
A37: 2. | B37: Ընդամենը անձի ազատության, պատվի և արժանապատվության դեմ ուղղված հանցագործությունները | D37: =SUM(D38:D45) -> 0 | E37: =SUM(E38:E45) -> 0 | F37: =SUM(F38:F45) -> 1 | G37: =SUM(G38:G45) -> 0 | H37: =SUM(H38:H45) -> 1 | I37: =SUM(I38:I45) -> 0 | J37: =SUM(J38:J45) -> 0 | K37: =SUM(K38:K45) -> 1 | ... AM37: =SUM(AM38:AM45) -> 0
A38: 2.1 | B38: Մարդուն առևանգելը | C38: 131 | F38: 1 | H38: 1 | K38: 1 | AF38: =D38+F38 -> 1 | AG38: =G38+K38+L38+N38 -> 1 | AH38: =K38 -> 1 | AI38: =H38+I38+J38 -> 1 | AJ38: =T38 -> 0 | AK38: =P38+Q38+R38+S38 -> 0 | AL38: =AA38 -> 0 | AM38: =W38+X38+Y38+Z38 -> 0
A39: 2.2 | B39: Մարդու թրաֆիքինգը կամ շահագործումը | C39: 132 | AF39: =D39+F39 -> 0 | AG39: =G39+K39+L39+N39 -> 0 | AH39: =K39 -> 0 | AI39: =H39+I39+J39 -> 0 | AJ39: =T39 -> 0 | AK39: =P39+Q39+R39+S39 -> 0 | AL39: =AA39 -> 0 | AM39: =W39+X39+Y39+Z39 -> 0
A40: 2.2.2 | B40: Երեխայի կամ հոգեկան խանգարման հետևանքով իր արարքի բնույթն ու նշանակությունը գիտակցելու կամ դա ղեկավարելու հնարավորությունից զրկված անձի թրաֆիքինգը կամ շահագործումը | C40: 132.2 | AF40: =D40+F40 -> 0 | AG40: =G40+K40+L40+N40 -> 0 | AH40: =K40 -> 0 | AI40: =H40+I40+J40 -> 0 | AJ40: =T40 -> 0 | AK40: =P40+Q40+R40+S40 -> 0 | AL40: =AA40 -> 0 | AM40: =W40+X40+Y40+Z40 -> 0
...
