Workbook

Sheet Ընդհամենը
A1: 2015Ã. | D1: Ð²ÞìºîìàôÂÚàôÜ | P1: Ï³½Ùí³Í` ÐÐ Ï³é³í³ñáõÃÛ³Ý 19.03.2015Ã. ÃÇí 306-Ü áñáßÙ³Ý ÑÇÙ³Ý íñ³
A2: ØÇÝã¹³ï³Ï³Ý í³ñáõÛÃÇ ÝÏ³ïÙ³Ùµ ¹³ï³Ï³Ý í»ñ³ÑëÏáÕáõÃÛ³ÝÁ, ¹³ï³Ï³Ý ³Ïï»ñÇ ¨ ¹³ï³Ï³Ý Ñ³ÝÓÝ³ñ³ñáõÃÛáõÝÝ»ñÇ Ï³ï³ñÙ³Ý Ñ»ï Ï³åí³Í ÙÇçÝáñ¹áõÃÛáõÝÝ»ñÇ í»ñ³µ»ñÛ³É ¹³ï³Ï³Ý ·áñÍ»ñáí ºñ¨³Ý ù³Õ³ùÇ Ø³É³ÃÇ³-ê»µ³ëïÇ³ í³ñã³Ï³Ý ßñç³ÝÇ ÁÝ¹Ñ³Ýáõñ Çñ³í³ëáõÃÛ³Ý ³é³çÇÝ ³ïÛ³ÝÇ ¹³ï³ñ³ÝÇ ·áñÍáõÝ»áõÃÛ³Ý í»ñ³µ»ñÛ³É
A3: êïáõ·Çã Ñ³í³ë³ñáõÙ` 1+2=3+8+9, 8=4+5+6+7, | D3: Ð³ßí»ïáõ Å³Ù³Ý³Ï³Ñ³ïí³ÍÇ ëÏ½µáõÙ Ý³Ëáñ¹ Ñ³ßí»ïáõ Å³Ù³Ý³Ï³Ñ³ïí³ÍÇó ÷áË³Ýóí³Í ·áñÍ»ñÇ ÁÝ¹Ñ³Ýáõñ ÃÇíÁ | E3: Ð³ßí»ïáõ Å³Ù³Ý³Ï³Ñ³ïí³ÍáõÙ ëï³óí³Í ·áñÍ»ñÇ ÁÝ¹Ñ³Ýáõñ ÃÇíÁ | F3: öáË³Ýóí»É ¿ ³ÛÉ ¹³ï³íáñÇ Ï³Ù ³ÛÉ ¹³ï³ñ³Ý (Ï³½ÙÇ ÷á÷áËáõÃÛáõÝ, ÁÝ¹¹³ïáõÃÛáõÝ) | G3: Ð³ßí»ïáõ Å³Ù³Ý³Ï³Ñ³ïí³ÍáõÙ ³í³ñïí³Í ·áñÍ»ñÇ ÁÝ¹Ñ³Ýáõñ ÃÇíÁ | L3: Ð³ßí»ïáõ Å³Ù³Ý³Ï³Ñ³ïí³ÍáõÙ ³Ý³í³ñï ·áñÍ»ñÇ ÁÝ¹Ñ³Ýáõñ ÃÇíÁ | M3: ØÇçÝáñ¹áõÃÛáõÝÝ»ñáí Ï³Û³óí³Í ¹³ï³Ï³Ý ³Ïï»ñÇó µáÕáù³ñÏí³ÍÝ»ñÇ ù³Ý³ÏÁ | O3: ²Ý³í³ñï µáÕáùÝ»ñ | P3: ØÇçÝáñ¹áõÃÛáõÝÝ»ñáí Ï³Û³óí³Í ¨ µáÕáù³ñÏí³Í ¹³ï³Ï³Ý ³Ïï»ñÇó µ»Ï³Ýí³ÍÝ»ñÇ ù³Ý³ÏÁ | R3: ÙÇçÝáñ¹áõÃÛáõÝÝ»ñáí Ï³Û³óí³Í ¨ µáÕáù³ñÏí³Í ¹³ï³Ï³Ý ³Ïï»ñÇó ³Ý÷á÷áË ÃáÕÝí³ÍÝ»ñÇ ù³Ý³ÏÁ
G4: Ù»ñÅí»É ¿ | H4: µ³í³ñ³ñí»É ¿ | I4: µ³í³ñ³ñí»É ¿ Ù³ëÝ³ÏÇ | J4: ÃáÕÝí»É ¿ ³é³Ýó ùÝÝáõÃÛ³Ý | K4: ÀÝ¹³Ù»ÝÁ
M5: Ý³Ëáñ¹ ï³ñÇÝ»ñÇÝ Ï³Û³óí³Í ³Ïï»ñÇ ¹»Ù | N5: Ñ³ßí»ïáõ Å³Ù³Ý³Ï³ßñç³ÝáõÙ Ï³Û³óí³Í ³Ïï»ñÇ ¹»Ù | P5: Ý³Ëáñ¹ ï³ñÇÝ»ñÇÝ Ï³Û³óí³Í ³Ïï»ñÇ µ»Ï³ÝáõÙÝ»ñÁ | Q5: Ñ³ßí»ïáõ Å³Ù³Ý³Ï³ßñç³ÝáõÙ Ï³Û³óí³Í ³Ïï»ñÇ µ»Ï³ÝáõÙÝ»ñÁ
A6: 1. ØÇÝã¹³ï³Ï³Ý í³ñáõÛÃÇ ÝÏ³ïÙ³Ùµ ¹³ï³Ï³Ý í»ñ³ÑëÏáÕáõÃÛ³Ý áÉáñï | D6: 1 | E6: 2 | F6: 3 | G6: 4 | H6: 5 | I6: 6 | J6: 7 | K6: 8 | L6: 9 | M6: 10 | N6: 11 | O6: 12 | P6: 13 | Q6: 14 | R6: 15 | T6: 1+2=7+8+9 | V6: 7=3+4+5+6
A7: 1 | B7: Ï³É³ÝùÁ áñå»ë Ë³÷³ÝÙ³Ý ÙÇçáó ÏÇñ³é»Éáõ Ù³ëÇÝ ÙÇçÝáñ¹áõÃÛáõÝÝ»ñ | D7: =#REF!+'Ռ. Պապոյան'!D7+'Կ. Ֆարխոյան'!D7+'Լ. Սարգսյան'!D7+'Լ. Կատվալյան'!D7+'Ա. Մկրտչյան'!D7+'Ն. Կարապետյան'!D7 -> #REF! | E7: =#REF!+'Ռ. Պապոյան'!E7+'Կ. Ֆարխոյան'!E7+'Լ. Սարգսյան'!E7+'Լ. Կատվալյան'!E7+'Ա. Մկրտչյան'!E7+'Ն. Կարապետյան'!E7 -> #REF! | F7: =#REF!+'Ռ. Պապոյան'!F7+'Կ. Ֆարխոյան'!F7+'Լ. Սարգսյան'!F7+'Լ. Կատվալյան'!F7+'Ա. Մկրտչյան'!F7+'Ն. Կարապետյան'!F7 -> #REF! | G7: =#REF!+'Ռ. Պապոյան'!G7+'Կ. Ֆարխոյան'!G7+'Լ. Սարգսյան'!G7+'Լ. Կատվալյան'!G7+'Ա. Մկրտչյան'!G7+'Ն. Կարապետյան'!G7 -> #REF! | H7: =#REF!+'Ռ. Պապոյան'!H7+'Կ. Ֆարխոյան'!H7+'Լ. Սարգսյան'!H7+'Լ. Կատվալյան'!H7+'Ա. Մկրտչյան'!H7+'Ն. Կարապետյան'!H7 -> #REF! | I7: =#REF!+'Ռ. Պապոյան'!I7+'Կ. Ֆարխոյան'!I7+'Լ. Սարգսյան'!I7+'Լ. Կատվալյան'!I7+'Ա. Մկրտչյան'!I7+'Ն. Կարապետյան'!I7 -> #REF! | J7: =#REF!+'Ռ. Պապոյան'!J7+'Կ. Ֆարխոյան'!J7+'Լ. Սարգսյան'!J7+'Լ. Կատվալյան'!J7+'Ա. Մկրտչյան'!J7+'Ն. Կարապետյան'!J7 -> #REF! | K7: =#REF!+'Ռ. Պապոյան'!K7+'Կ. Ֆարխոյան'!K7+'Լ. Սարգսյան'!K7+'Լ. Կատվալյան'!K7+'Ա. Մկրտչյան'!K7+'Ն. Կարապետյան'!K7 -> #REF! | ... R7: =#REF!+'Ռ. Պապոյան'!R7+'Կ. Ֆարխոյան'!R7+'Լ. Սարգսյան'!R7+'Լ. Կատվալյան'!R7+'Ա. Մկրտչյան'!R7+'Ն. Կարապետյան'!R7 -> #REF! | T7: =J7+K7 -> #REF! | U7: =P7+Q7+R7 -> #REF! | V7: =P7 -> #REF! | W7: =L7+M7+N7+O7 -> #REF!
A8: 2 | B8: Ï³É³ÝùÇ Å³ÙÏ»ïÁ »ñÏ³ñ³óÝ»Éáõ Ù³ëÇÝ ÙÇçÝáñ¹áõÃÛáõÝÝ»ñ | D8: =#REF!+'Ռ. Պապոյան'!D8+'Կ. Ֆարխոյան'!D8+'Լ. Սարգսյան'!D8+'Լ. Կատվալյան'!D8+'Ա. Մկրտչյան'!D8+'Ն. Կարապետյան'!D8 -> #REF! | E8: =#REF!+'Ռ. Պապոյան'!E8+'Կ. Ֆարխոյան'!E8+'Լ. Սարգսյան'!E8+'Լ. Կատվալյան'!E8+'Ա. Մկրտչյան'!E8+'Ն. Կարապետյան'!E8 -> #REF! | F8: =#REF!+'Ռ. Պապոյան'!F8+'Կ. Ֆարխոյան'!F8+'Լ. Սարգսյան'!F8+'Լ. Կատվալյան'!F8+'Ա. Մկրտչյան'!F8+'Ն. Կարապետյան'!F8 -> #REF! | G8: =#REF!+'Ռ. Պապոյան'!G8+'Կ. Ֆարխոյան'!G8+'Լ. Սարգսյան'!G8+'Լ. Կատվալյան'!G8+'Ա. Մկրտչյան'!G8+'Ն. Կարապետյան'!G8 -> #REF! | H8: =#REF!+'Ռ. Պապոյան'!H8+'Կ. Ֆարխոյան'!H8+'Լ. Սարգսյան'!H8+'Լ. Կատվալյան'!H8+'Ա. Մկրտչյան'!H8+'Ն. Կարապետյան'!H8 -> #REF! | I8: =#REF!+'Ռ. Պապոյան'!I8+'Կ. Ֆարխոյան'!I8+'Լ. Սարգսյան'!I8+'Լ. Կատվալյան'!I8+'Ա. Մկրտչյան'!I8+'Ն. Կարապետյան'!I8 -> #REF! | J8: =#REF!+'Ռ. Պապոյան'!J8+'Կ. Ֆարխոյան'!J8+'Լ. Սարգսյան'!J8+'Լ. Կատվալյան'!J8+'Ա. Մկրտչյան'!J8+'Ն. Կարապետյան'!J8 -> #REF! | K8: =#REF!+'Ռ. Պապոյան'!K8+'Կ. Ֆարխոյան'!K8+'Լ. Սարգսյան'!K8+'Լ. Կատվալյան'!K8+'Ա. Մկրտչյան'!K8+'Ն. Կարապետյան'!K8 -> #REF! | ... R8: =#REF!+'Ռ. Պապոյան'!R8+'Կ. Ֆարխոյան'!R8+'Լ. Սարգսյան'!R8+'Լ. Կատվալյան'!R8+'Ա. Մկրտչյան'!R8+'Ն. Կարապետյան'!R8 -> #REF! | T8: =J8+K8 -> #REF! | U8: =P8+Q8+R8 -> #REF! | V8: =P8 -> #REF! | W8: =L8+M8+N8+O8 -> #REF!
A9: 3 | B9: Ï³É³ÝùÇ í»ñ³Ñ³ëï³ïÙ³Ý Ù³ëÇÝ ÙÇçÝáñ¹áõÃÛáõÝÝ»ñ | D9: =#REF!+'Ռ. Պապոյան'!D9+'Կ. Ֆարխոյան'!D9+'Լ. Սարգսյան'!D9+'Լ. Կատվալյան'!D9+'Ա. Մկրտչյան'!D9+'Ն. Կարապետյան'!D9 -> #REF! | E9: =#REF!+'Ռ. Պապոյան'!E9+'Կ. Ֆարխոյան'!E9+'Լ. Սարգսյան'!E9+'Լ. Կատվալյան'!E9+'Ա. Մկրտչյան'!E9+'Ն. Կարապետյան'!E9 -> #REF! | F9: =#REF!+'Ռ. Պապոյան'!F9+'Կ. Ֆարխոյան'!F9+'Լ. Սարգսյան'!F9+'Լ. Կատվալյան'!F9+'Ա. Մկրտչյան'!F9+'Ն. Կարապետյան'!F9 -> #REF! | G9: =#REF!+'Ռ. Պապոյան'!G9+'Կ. Ֆարխոյան'!G9+'Լ. Սարգսյան'!G9+'Լ. Կատվալյան'!G9+'Ա. Մկրտչյան'!G9+'Ն. Կարապետյան'!G9 -> #REF! | H9: =#REF!+'Ռ. Պապոյան'!H9+'Կ. Ֆարխոյան'!H9+'Լ. Սարգսյան'!H9+'Լ. Կատվալյան'!H9+'Ա. Մկրտչյան'!H9+'Ն. Կարապետյան'!H9 -> #REF! | I9: =#REF!+'Ռ. Պապոյան'!I9+'Կ. Ֆարխոյան'!I9+'Լ. Սարգսյան'!I9+'Լ. Կատվալյան'!I9+'Ա. Մկրտչյան'!I9+'Ն. Կարապետյան'!I9 -> #REF! | J9: =#REF!+'Ռ. Պապոյան'!J9+'Կ. Ֆարխոյան'!J9+'Լ. Սարգսյան'!J9+'Լ. Կատվալյան'!J9+'Ա. Մկրտչյան'!J9+'Ն. Կարապետյան'!J9 -> #REF! | K9: =#REF!+'Ռ. Պապոյան'!K9+'Կ. Ֆարխոյան'!K9+'Լ. Սարգսյան'!K9+'Լ. Կատվալյան'!K9+'Ա. Մկրտչյան'!K9+'Ն. Կարապետյան'!K9 -> #REF! | ... R9: =#REF!+'Ռ. Պապոյան'!R9+'Կ. Ֆարխոյան'!R9+'Լ. Սարգսյան'!R9+'Լ. Կատվալյան'!R9+'Ա. Մկրտչյան'!R9+'Ն. Կարապետյան'!R9 -> #REF! | T9: =J9+K9 -> #REF! | U9: =P9+Q9+R9 -> #REF! | V9: =P9 -> #REF! | W9: =L9+M9+N9+O9 -> #REF!
A10: 4 | B10: ·ñ³íÁ áñå»ë Ï³É³Ý³íáñÙ³Ý ³ÛÉÁÝïñ³Ýù³ÛÇÝ Ë³÷³ÝÙ³Ý ÙÇçáó ÏÇñ³é»Éáõ Ù³ëÇÝ ÙÇçÝáñ¹áõÃÛáõÝÝ»ñ | D10: =#REF!+'Ռ. Պապոյան'!D10+'Կ. Ֆարխոյան'!D10+'Լ. Սարգսյան'!D10+'Լ. Կատվալյան'!D10+'Ա. Մկրտչյան'!D10+'Ն. Կարապետյան'!D10 -> #REF! | E10: =#REF!+'Ռ. Պապոյան'!E10+'Կ. Ֆարխոյան'!E10+'Լ. Սարգսյան'!E10+'Լ. Կատվալյան'!E10+'Ա. Մկրտչյան'!E10+'Ն. Կարապետյան'!E10 -> #REF! | F10: =#REF!+'Ռ. Պապոյան'!F10+'Կ. Ֆարխոյան'!F10+'Լ. Սարգսյան'!F10+'Լ. Կատվալյան'!F10+'Ա. Մկրտչյան'!F10+'Ն. Կարապետյան'!F10 -> #REF! | G10: =#REF!+'Ռ. Պապոյան'!G10+'Կ. Ֆարխոյան'!G10+'Լ. Սարգսյան'!G10+'Լ. Կատվալյան'!G10+'Ա. Մկրտչյան'!G10+'Ն. Կարապետյան'!G10 -> #REF! | H10: =#REF!+'Ռ. Պապոյան'!H10+'Կ. Ֆարխոյան'!H10+'Լ. Սարգսյան'!H10+'Լ. Կատվալյան'!H10+'Ա. Մկրտչյան'!H10+'Ն. Կարապետյան'!H10 -> #REF! | I10: =#REF!+'Ռ. Պապոյան'!I10+'Կ. Ֆարխոյան'!I10+'Լ. Սարգսյան'!I10+'Լ. Կատվալյան'!I10+'Ա. Մկրտչյան'!I10+'Ն. Կարապետյան'!I10 -> #REF! | J10: =#REF!+'Ռ. Պապոյան'!J10+'Կ. Ֆարխոյան'!J10+'Լ. Սարգսյան'!J10+'Լ. Կատվալյան'!J10+'Ա. Մկրտչյան'!J10+'Ն. Կարապետյան'!J10 -> #REF! | K10: =#REF!+'Ռ. Պապոյան'!K10+'Կ. Ֆարխոյան'!K10+'Լ. Սարգսյան'!K10+'Լ. Կատվալյան'!K10+'Ա. Մկրտչյան'!K10+'Ն. Կարապետյան'!K10 -> #REF! | ... R10: =#REF!+'Ռ. Պապոյան'!R10+'Կ. Ֆարխոյան'!R10+'Լ. Սարգսյան'!R10+'Լ. Կատվալյան'!R10+'Ա. Մկրտչյան'!R10+'Ն. Կարապետյան'!R10 -> #REF! | T10: =J10+K10 -> #REF! | U10: =P10+Q10+R10 -> #REF! | V10: =P10 -> #REF! | W10: =L10+M10+N10+O10 -> #REF!
A11: 5 | B11: Ëáõ½³ñÏáõÃÛ³Ý Ï³ï³ñÙ³Ý Ù³ëÇÝ ÙÇçÝáñ¹áõÃÛáõÝÝ»ñ | D11: =#REF!+'Ռ. Պապոյան'!D11+'Կ. Ֆարխոյան'!D11+'Լ. Սարգսյան'!D11+'Լ. Կատվալյան'!D11+'Ա. Մկրտչյան'!D11+'Ն. Կարապետյան'!D11 -> #REF! | E11: =#REF!+'Ռ. Պապոյան'!E11+'Կ. Ֆարխոյան'!E11+'Լ. Սարգսյան'!E11+'Լ. Կատվալյան'!E11+'Ա. Մկրտչյան'!E11+'Ն. Կարապետյան'!E11 -> #REF! | F11: =#REF!+'Ռ. Պապոյան'!F11+'Կ. Ֆարխոյան'!F11+'Լ. Սարգսյան'!F11+'Լ. Կատվալյան'!F11+'Ա. Մկրտչյան'!F11+'Ն. Կարապետյան'!F11 -> #REF! | G11: =#REF!+'Ռ. Պապոյան'!G11+'Կ. Ֆարխոյան'!G11+'Լ. Սարգսյան'!G11+'Լ. Կատվալյան'!G11+'Ա. Մկրտչյան'!G11+'Ն. Կարապետյան'!G11 -> #REF! | H11: =#REF!+'Ռ. Պապոյան'!H11+'Կ. Ֆարխոյան'!H11+'Լ. Սարգսյան'!H11+'Լ. Կատվալյան'!H11+'Ա. Մկրտչյան'!H11+'Ն. Կարապետյան'!H11 -> #REF! | I11: =#REF!+'Ռ. Պապոյան'!I11+'Կ. Ֆարխոյան'!I11+'Լ. Սարգսյան'!I11+'Լ. Կատվալյան'!I11+'Ա. Մկրտչյան'!I11+'Ն. Կարապետյան'!I11 -> #REF! | J11: =#REF!+'Ռ. Պապոյան'!J11+'Կ. Ֆարխոյան'!J11+'Լ. Սարգսյան'!J11+'Լ. Կատվալյան'!J11+'Ա. Մկրտչյան'!J11+'Ն. Կարապետյան'!J11 -> #REF! | K11: =#REF!+'Ռ. Պապոյան'!K11+'Կ. Ֆարխոյան'!K11+'Լ. Սարգսյան'!K11+'Լ. Կատվալյան'!K11+'Ա. Մկրտչյան'!K11+'Ն. Կարապետյան'!K11 -> #REF! | ... R11: =#REF!+'Ռ. Պապոյան'!R11+'Կ. Ֆարխոյան'!R11+'Լ. Սարգսյան'!R11+'Լ. Կատվալյան'!R11+'Ա. Մկրտչյան'!R11+'Ն. Կարապետյան'!R11 -> #REF! | T11: =J11+K11 -> #REF! | U11: =P11+Q11+R11 -> #REF! | V11: =P11 -> #REF! | W11: =L11+M11+N11+O11 -> #REF!
A12: 6 | B12: µ³ÝÏ³ÛÇÝ, ³å³Ñáí³·ñ³Ï³Ý, Ýáï³ñ³Ï³Ý ·³ÕïÝÇù Ï³½ÙáÕ ï»Õ»ÏáõÃÛáõÝÝ»ñÇ ëï³óÙ³Ý Ñ³Ù³ñ Ëáõ½³ñÏáõÃÛ³Ý Ï³Ù ³é·ñ³íÙ³Ý Ï³ï³ñÙ³Ý Ù³ëÇÝ ÙÇçÝáñ¹áõÃÛáõÝÝ»ñ | D12: =#REF!+'Ռ. Պապոյան'!D12+'Կ. Ֆարխոյան'!D12+'Լ. Սարգսյան'!D12+'Լ. Կատվալյան'!D12+'Ա. Մկրտչյան'!D12+'Ն. Կարապետյան'!D12 -> #REF! | E12: =#REF!+'Ռ. Պապոյան'!E12+'Կ. Ֆարխոյան'!E12+'Լ. Սարգսյան'!E12+'Լ. Կատվալյան'!E12+'Ա. Մկրտչյան'!E12+'Ն. Կարապետյան'!E12 -> #REF! | F12: =#REF!+'Ռ. Պապոյան'!F12+'Կ. Ֆարխոյան'!F12+'Լ. Սարգսյան'!F12+'Լ. Կատվալյան'!F12+'Ա. Մկրտչյան'!F12+'Ն. Կարապետյան'!F12 -> #REF! | G12: =#REF!+'Ռ. Պապոյան'!G12+'Կ. Ֆարխոյան'!G12+'Լ. Սարգսյան'!G12+'Լ. Կատվալյան'!G12+'Ա. Մկրտչյան'!G12+'Ն. Կարապետյան'!G12 -> #REF! | H12: =#REF!+'Ռ. Պապոյան'!H12+'Կ. Ֆարխոյան'!H12+'Լ. Սարգսյան'!H12+'Լ. Կատվալյան'!H12+'Ա. Մկրտչյան'!H12+'Ն. Կարապետյան'!H12 -> #REF! | I12: =#REF!+'Ռ. Պապոյան'!I12+'Կ. Ֆարխոյան'!I12+'Լ. Սարգսյան'!I12+'Լ. Կատվալյան'!I12+'Ա. Մկրտչյան'!I12+'Ն. Կարապետյան'!I12 -> #REF! | J12: =#REF!+'Ռ. Պապոյան'!J12+'Կ. Ֆարխոյան'!J12+'Լ. Սարգսյան'!J12+'Լ. Կատվալյան'!J12+'Ա. Մկրտչյան'!J12+'Ն. Կարապետյան'!J12 -> #REF! | K12: =#REF!+'Ռ. Պապոյան'!K12+'Կ. Ֆարխոյան'!K12+'Լ. Սարգսյան'!K12+'Լ. Կատվալյան'!K12+'Ա. Մկրտչյան'!K12+'Ն. Կարապետյան'!K12 -> #REF! | ... R12: =#REF!+'Ռ. Պապոյան'!R12+'Կ. Ֆարխոյան'!R12+'Լ. Սարգսյան'!R12+'Լ. Կատվալյան'!R12+'Ա. Մկրտչյան'!R12+'Ն. Կարապետյան'!R12 -> #REF! | T12: =J12+K12 -> #REF! | U12: =P12+Q12+R12 -> #REF! | V12: =P12 -> #REF! | W12: =L12+M12+N12+O12 -> #REF!
A13: 7 | B13: Ý³Ù³Ï³·ñáõÃÛ³Ý, Ñ»é³·ñ³Ï³Ý, ÷áuï³ÛÇÝ Ñ³Õáñ¹áõÙÝ»ñÇ ÑëÏáÕáõÃÛ³Ý Ù³ëÇÝ ÙÇçÝáñ¹áõÃÛáõÝÝ»ñ | D13: =#REF!+'Ռ. Պապոյան'!D13+'Կ. Ֆարխոյան'!D13+'Լ. Սարգսյան'!D13+'Լ. Կատվալյան'!D13+'Ա. Մկրտչյան'!D13+'Ն. Կարապետյան'!D13 -> #REF! | E13: =#REF!+'Ռ. Պապոյան'!E13+'Կ. Ֆարխոյան'!E13+'Լ. Սարգսյան'!E13+'Լ. Կատվալյան'!E13+'Ա. Մկրտչյան'!E13+'Ն. Կարապետյան'!E13 -> #REF! | F13: =#REF!+'Ռ. Պապոյան'!F13+'Կ. Ֆարխոյան'!F13+'Լ. Սարգսյան'!F13+'Լ. Կատվալյան'!F13+'Ա. Մկրտչյան'!F13+'Ն. Կարապետյան'!F13 -> #REF! | G13: =#REF!+'Ռ. Պապոյան'!G13+'Կ. Ֆարխոյան'!G13+'Լ. Սարգսյան'!G13+'Լ. Կատվալյան'!G13+'Ա. Մկրտչյան'!G13+'Ն. Կարապետյան'!G13 -> #REF! | H13: =#REF!+'Ռ. Պապոյան'!H13+'Կ. Ֆարխոյան'!H13+'Լ. Սարգսյան'!H13+'Լ. Կատվալյան'!H13+'Ա. Մկրտչյան'!H13+'Ն. Կարապետյան'!H13 -> #REF! | I13: =#REF!+'Ռ. Պապոյան'!I13+'Կ. Ֆարխոյան'!I13+'Լ. Սարգսյան'!I13+'Լ. Կատվալյան'!I13+'Ա. Մկրտչյան'!I13+'Ն. Կարապետյան'!I13 -> #REF! | J13: =#REF!+'Ռ. Պապոյան'!J13+'Կ. Ֆարխոյան'!J13+'Լ. Սարգսյան'!J13+'Լ. Կատվալյան'!J13+'Ա. Մկրտչյան'!J13+'Ն. Կարապետյան'!J13 -> #REF! | K13: =#REF!+'Ռ. Պապոյան'!K13+'Կ. Ֆարխոյան'!K13+'Լ. Սարգսյան'!K13+'Լ. Կատվալյան'!K13+'Ա. Մկրտչյան'!K13+'Ն. Կարապետյան'!K13 -> #REF! | ... R13: =#REF!+'Ռ. Պապոյան'!R13+'Կ. Ֆարխոյան'!R13+'Լ. Սարգսյան'!R13+'Լ. Կատվալյան'!R13+'Ա. Մկրտչյան'!R13+'Ն. Կարապետյան'!R13 -> #REF! | T13: =J13+K13 -> #REF! | U13: =P13+Q13+R13 -> #REF! | V13: =P13 -> #REF! | W13: =L13+M13+N13+O13 -> #REF!
A14: 8 | B14: Ñ»é³Ëáu³ÛÇÝ Ï³Ù Ï³åÇ ³ÛÉ ÙÇçáóÝ»ñáí ï³ñíáÕ Ëáu³ÏóáõÃÛáõÝÝ»ñÇ ÉuÙ³Ý ¨ Ó³ÛÝ³·ñ³éÙ³Ý Ù³ëÇÝ ÙÇçÝáñ¹áõÃÛáõÝÝ»ñ | D14: =#REF!+'Ռ. Պապոյան'!D14+'Կ. Ֆարխոյան'!D14+'Լ. Սարգսյան'!D14+'Լ. Կատվալյան'!D14+'Ա. Մկրտչյան'!D14+'Ն. Կարապետյան'!D14 -> #REF! | E14: =#REF!+'Ռ. Պապոյան'!E14+'Կ. Ֆարխոյան'!E14+'Լ. Սարգսյան'!E14+'Լ. Կատվալյան'!E14+'Ա. Մկրտչյան'!E14+'Ն. Կարապետյան'!E14 -> #REF! | F14: =#REF!+'Ռ. Պապոյան'!F14+'Կ. Ֆարխոյան'!F14+'Լ. Սարգսյան'!F14+'Լ. Կատվալյան'!F14+'Ա. Մկրտչյան'!F14+'Ն. Կարապետյան'!F14 -> #REF! | G14: =#REF!+'Ռ. Պապոյան'!G14+'Կ. Ֆարխոյան'!G14+'Լ. Սարգսյան'!G14+'Լ. Կատվալյան'!G14+'Ա. Մկրտչյան'!G14+'Ն. Կարապետյան'!G14 -> #REF! | H14: =#REF!+'Ռ. Պապոյան'!H14+'Կ. Ֆարխոյան'!H14+'Լ. Սարգսյան'!H14+'Լ. Կատվալյան'!H14+'Ա. Մկրտչյան'!H14+'Ն. Կարապետյան'!H14 -> #REF! | I14: =#REF!+'Ռ. Պապոյան'!I14+'Կ. Ֆարխոյան'!I14+'Լ. Սարգսյան'!I14+'Լ. Կատվալյան'!I14+'Ա. Մկրտչյան'!I14+'Ն. Կարապետյան'!I14 -> #REF! | J14: =#REF!+'Ռ. Պապոյան'!J14+'Կ. Ֆարխոյան'!J14+'Լ. Սարգսյան'!J14+'Լ. Կատվալյան'!J14+'Ա. Մկրտչյան'!J14+'Ն. Կարապետյան'!J14 -> #REF! | K14: =#REF!+'Ռ. Պապոյան'!K14+'Կ. Ֆարխոյան'!K14+'Լ. Սարգսյան'!K14+'Լ. Կատվալյան'!K14+'Ա. Մկրտչյան'!K14+'Ն. Կարապետյան'!K14 -> #REF! | ... R14: =#REF!+'Ռ. Պապոյան'!R14+'Կ. Ֆարխոյան'!R14+'Լ. Սարգսյան'!R14+'Լ. Կատվալյան'!R14+'Ա. Մկրտչյան'!R14+'Ն. Կարապետյան'!R14 -> #REF! | T14: =J14+K14 -> #REF! | U14: =P14+Q14+R14 -> #REF! | V14: =P14 -> #REF! | W14: =L14+M14+N14+O14 -> #REF!
A15: 9 | B15: Ñ»é³ËáëÝ»ñÇ Ùáõïù³ÛÇÝ ¨ »Éù³ÛÇÝ í»ñÍ³ÝÙ³Ý ÃáõÛÉïíáõÃÛáõÝ ëï³Ý³Éáõ Ù³ëÇÝ ÙÇçÝáñ¹áõÃÛáõÝÝ»ñ | D15: =#REF!+'Ռ. Պապոյան'!D15+'Կ. Ֆարխոյան'!D15+'Լ. Սարգսյան'!D15+'Լ. Կատվալյան'!D15+'Ա. Մկրտչյան'!D15+'Ն. Կարապետյան'!D15 -> #REF! | E15: =#REF!+'Ռ. Պապոյան'!E15+'Կ. Ֆարխոյան'!E15+'Լ. Սարգսյան'!E15+'Լ. Կատվալյան'!E15+'Ա. Մկրտչյան'!E15+'Ն. Կարապետյան'!E15 -> #REF! | F15: =#REF!+'Ռ. Պապոյան'!F15+'Կ. Ֆարխոյան'!F15+'Լ. Սարգսյան'!F15+'Լ. Կատվալյան'!F15+'Ա. Մկրտչյան'!F15+'Ն. Կարապետյան'!F15 -> #REF! | G15: =#REF!+'Ռ. Պապոյան'!G15+'Կ. Ֆարխոյան'!G15+'Լ. Սարգսյան'!G15+'Լ. Կատվալյան'!G15+'Ա. Մկրտչյան'!G15+'Ն. Կարապետյան'!G15 -> #REF! | H15: =#REF!+'Ռ. Պապոյան'!H15+'Կ. Ֆարխոյան'!H15+'Լ. Սարգսյան'!H15+'Լ. Կատվալյան'!H15+'Ա. Մկրտչյան'!H15+'Ն. Կարապետյան'!H15 -> #REF! | I15: =#REF!+'Ռ. Պապոյան'!I15+'Կ. Ֆարխոյան'!I15+'Լ. Սարգսյան'!I15+'Լ. Կատվալյան'!I15+'Ա. Մկրտչյան'!I15+'Ն. Կարապետյան'!I15 -> #REF! | J15: =#REF!+'Ռ. Պապոյան'!J15+'Կ. Ֆարխոյան'!J15+'Լ. Սարգսյան'!J15+'Լ. Կատվալյան'!J15+'Ա. Մկրտչյան'!J15+'Ն. Կարապետյան'!J15 -> #REF! | K15: =#REF!+'Ռ. Պապոյան'!K15+'Կ. Ֆարխոյան'!K15+'Լ. Սարգսյան'!K15+'Լ. Կատվալյան'!K15+'Ա. Մկրտչյան'!K15+'Ն. Կարապետյան'!K15 -> #REF! | ... R15: =#REF!+'Ռ. Պապոյան'!R15+'Կ. Ֆարխոյան'!R15+'Լ. Սարգսյան'!R15+'Լ. Կատվալյան'!R15+'Ա. Մկրտչյան'!R15+'Ն. Կարապետյան'!R15 -> #REF! | T15: =J15+K15 -> #REF! | U15: =P15+Q15+R15 -> #REF! | V15: =P15 -> #REF! | W15: =L15+M15+N15+O15 -> #REF!
A16: 10 | B16: Ñ»ï³ùÝÝáõÃÛ³Ý Ù³ñÙÝÇ ³ßË³ïáÕÇ, ùÝÝÇãÇ, ¹³ï³Ë³½Ç oå»ñ³ïÇí-Ñ»ï³Ëáõ½³Ï³Ý ·áñÍáÕáõÃÛáõÝÝ»ñ Çñ³Ï³Ý³óÝáÕ Ù³ñÙÇÝÝ»ñÇ ³ÝoñÇÝ³Ï³Ý ¨ ³ÝÑÇÙÝ áñáßáõÙÝ»ñÇ ¨ ·áñÍáÕáõÃÛáõÝÝ»ñÇ ¹»Ù µáÕáùÝ»ñ | D16: =#REF!+'Ռ. Պապոյան'!D16+'Կ. Ֆարխոյան'!D16+'Լ. Սարգսյան'!D16+'Լ. Կատվալյան'!D16+'Ա. Մկրտչյան'!D16+'Ն. Կարապետյան'!D16 -> #REF! | E16: =#REF!+'Ռ. Պապոյան'!E16+'Կ. Ֆարխոյան'!E16+'Լ. Սարգսյան'!E16+'Լ. Կատվալյան'!E16+'Ա. Մկրտչյան'!E16+'Ն. Կարապետյան'!E16 -> #REF! | F16: =#REF!+'Ռ. Պապոյան'!F16+'Կ. Ֆարխոյան'!F16+'Լ. Սարգսյան'!F16+'Լ. Կատվալյան'!F16+'Ա. Մկրտչյան'!F16+'Ն. Կարապետյան'!F16 -> #REF! | G16: =#REF!+'Ռ. Պապոյան'!G16+'Կ. Ֆարխոյան'!G16+'Լ. Սարգսյան'!G16+'Լ. Կատվալյան'!G16+'Ա. Մկրտչյան'!G16+'Ն. Կարապետյան'!G16 -> #REF! | H16: =#REF!+'Ռ. Պապոյան'!H16+'Կ. Ֆարխոյան'!H16+'Լ. Սարգսյան'!H16+'Լ. Կատվալյան'!H16+'Ա. Մկրտչյան'!H16+'Ն. Կարապետյան'!H16 -> #REF! | I16: =#REF!+'Ռ. Պապոյան'!I16+'Կ. Ֆարխոյան'!I16+'Լ. Սարգսյան'!I16+'Լ. Կատվալյան'!I16+'Ա. Մկրտչյան'!I16+'Ն. Կարապետյան'!I16 -> #REF! | J16: =#REF!+'Ռ. Պապոյան'!J16+'Կ. Ֆարխոյան'!J16+'Լ. Սարգսյան'!J16+'Լ. Կատվալյան'!J16+'Ա. Մկրտչյան'!J16+'Ն. Կարապետյան'!J16 -> #REF! | K16: =#REF!+'Ռ. Պապոյան'!K16+'Կ. Ֆարխոյան'!K16+'Լ. Սարգսյան'!K16+'Լ. Կատվալյան'!K16+'Ա. Մկրտչյան'!K16+'Ն. Կարապետյան'!K16 -> #REF! | ... R16: =#REF!+'Ռ. Պապոյան'!R16+'Կ. Ֆարխոյան'!R16+'Լ. Սարգսյան'!R16+'Լ. Կատվալյան'!R16+'Ա. Մկրտչյան'!R16+'Ն. Կարապետյան'!R16 -> #REF! | T16: =J16+K16 -> #REF! | U16: =P16+Q16+R16 -> #REF! | V16: =P16 -> #REF! | W16: =L16+M16+N16+O16 -> #REF!
A17: 2. ¸³ï³Ï³Ý ³Ïï»ñÇ ¨ ¹³ï³Ï³Ý Ñ³ÝÓÝ³ñ³ñáõÃÛáõÝÝ»ñÇ Ï³ï³ñÙ³Ý Ñ»ï Ï³åí³Í Ñ³ñó»ñÇ ÉáõÍÙ³Ý áÉáñï
A18: 1 | B18: å³ïÅÇó å³ÛÙ³Ý³Ï³Ý í³Õ³Å³ÙÏ»ï ³½³ï»Éáõ Ù³ëÇÝ ÙÇçÝáñ¹áõÃÛáõÝÝ»ñ | D18: =#REF!+'Ռ. Պապոյան'!D18+'Կ. Ֆարխոյան'!D18+'Լ. Սարգսյան'!D18+'Լ. Կատվալյան'!D18+'Ա. Մկրտչյան'!D18+'Ն. Կարապետյան'!D18 -> #REF! | E18: =#REF!+'Ռ. Պապոյան'!E18+'Կ. Ֆարխոյան'!E18+'Լ. Սարգսյան'!E18+'Լ. Կատվալյան'!E18+'Ա. Մկրտչյան'!E18+'Ն. Կարապետյան'!E18 -> #REF! | F18: =#REF!+'Ռ. Պապոյան'!F18+'Կ. Ֆարխոյան'!F18+'Լ. Սարգսյան'!F18+'Լ. Կատվալյան'!F18+'Ա. Մկրտչյան'!F18+'Ն. Կարապետյան'!F18 -> #REF! | G18: =#REF!+'Ռ. Պապոյան'!G18+'Կ. Ֆարխոյան'!G18+'Լ. Սարգսյան'!G18+'Լ. Կատվալյան'!G18+'Ա. Մկրտչյան'!G18+'Ն. Կարապետյան'!G18 -> #REF! | H18: =#REF!+'Ռ. Պապոյան'!H18+'Կ. Ֆարխոյան'!H18+'Լ. Սարգսյան'!H18+'Լ. Կատվալյան'!H18+'Ա. Մկրտչյան'!H18+'Ն. Կարապետյան'!H18 -> #REF! | I18: =#REF!+'Ռ. Պապոյան'!I18+'Կ. Ֆարխոյան'!I18+'Լ. Սարգսյան'!I18+'Լ. Կատվալյան'!I18+'Ա. Մկրտչյան'!I18+'Ն. Կարապետյան'!I18 -> #REF! | J18: =#REF!+'Ռ. Պապոյան'!J18+'Կ. Ֆարխոյան'!J18+'Լ. Սարգսյան'!J18+'Լ. Կատվալյան'!J18+'Ա. Մկրտչյան'!J18+'Ն. Կարապետյան'!J18 -> #REF! | K18: =#REF!+'Ռ. Պապոյան'!K18+'Կ. Ֆարխոյան'!K18+'Լ. Սարգսյան'!K18+'Լ. Կատվալյան'!K18+'Ա. Մկրտչյան'!K18+'Ն. Կարապետյան'!K18 -> #REF! | ... R18: =#REF!+'Ռ. Պապոյան'!R18+'Կ. Ֆարխոյան'!R18+'Լ. Սարգսյան'!R18+'Լ. Կատվալյան'!R18+'Ա. Մկրտչյան'!R18+'Ն. Կարապետյան'!R18 -> #REF! | T18: =J18+K18 -> #REF! | U18: =P18+Q18+R18 -> #REF! | V18: =P18 -> #REF! | W18: =L18+M18+N18+O18 -> #REF!
A19: 2 | B19: å³ïÇÅÁ ÷á÷áË»Éáõ, Ñ»ï³Ó·»Éáõ ¨ å³ïÅÇó ³½³ï»Éáõ Ù³uÇÝ ÙÇçÝáñ¹áõÃÛáõÝÝ»ñ | D19: =#REF!+'Ռ. Պապոյան'!D19+'Կ. Ֆարխոյան'!D19+'Լ. Սարգսյան'!D19+'Լ. Կատվալյան'!D19+'Ա. Մկրտչյան'!D19+'Ն. Կարապետյան'!D19 -> #REF! | E19: =#REF!+'Ռ. Պապոյան'!E19+'Կ. Ֆարխոյան'!E19+'Լ. Սարգսյան'!E19+'Լ. Կատվալյան'!E19+'Ա. Մկրտչյան'!E19+'Ն. Կարապետյան'!E19 -> #REF! | F19: =#REF!+'Ռ. Պապոյան'!F19+'Կ. Ֆարխոյան'!F19+'Լ. Սարգսյան'!F19+'Լ. Կատվալյան'!F19+'Ա. Մկրտչյան'!F19+'Ն. Կարապետյան'!F19 -> #REF! | G19: =#REF!+'Ռ. Պապոյան'!G19+'Կ. Ֆարխոյան'!G19+'Լ. Սարգսյան'!G19+'Լ. Կատվալյան'!G19+'Ա. Մկրտչյան'!G19+'Ն. Կարապետյան'!G19 -> #REF! | H19: =#REF!+'Ռ. Պապոյան'!H19+'Կ. Ֆարխոյան'!H19+'Լ. Սարգսյան'!H19+'Լ. Կատվալյան'!H19+'Ա. Մկրտչյան'!H19+'Ն. Կարապետյան'!H19 -> #REF! | I19: =#REF!+'Ռ. Պապոյան'!I19+'Կ. Ֆարխոյան'!I19+'Լ. Սարգսյան'!I19+'Լ. Կատվալյան'!I19+'Ա. Մկրտչյան'!I19+'Ն. Կարապետյան'!I19 -> #REF! | J19: =#REF!+'Ռ. Պապոյան'!J19+'Կ. Ֆարխոյան'!J19+'Լ. Սարգսյան'!J19+'Լ. Կատվալյան'!J19+'Ա. Մկրտչյան'!J19+'Ն. Կարապետյան'!J19 -> #REF! | K19: =#REF!+'Ռ. Պապոյան'!K19+'Կ. Ֆարխոյան'!K19+'Լ. Սարգսյան'!K19+'Լ. Կատվալյան'!K19+'Ա. Մկրտչյան'!K19+'Ն. Կարապետյան'!K19 -> #REF! | ... R19: =#REF!+'Ռ. Պապոյան'!R19+'Կ. Ֆարխոյան'!R19+'Լ. Սարգսյան'!R19+'Լ. Կատվալյան'!R19+'Ա. Մկրտչյան'!R19+'Ն. Կարապետյան'!R19 -> #REF! | T19: =J19+K19 -> #REF! | U19: =P19+Q19+R19 -> #REF! | V19: =P19 -> #REF! | W19: =L19+M19+N19+O19 -> #REF!
A20: 3 | B20: Ñ³ñÏ³¹Çñ µáõÅÙ³Ý ï»ë³ÏÇ ÷á÷áËáõÃÛ³Ý Ù³ëÇÝ ÙÇçÝáñ¹áõÃÛáõÝÝ»ñ | D20: =#REF!+'Ռ. Պապոյան'!D20+'Կ. Ֆարխոյան'!D20+'Լ. Սարգսյան'!D20+'Լ. Կատվալյան'!D20+'Ա. Մկրտչյան'!D20+'Ն. Կարապետյան'!D20 -> #REF! | E20: =#REF!+'Ռ. Պապոյան'!E20+'Կ. Ֆարխոյան'!E20+'Լ. Սարգսյան'!E20+'Լ. Կատվալյան'!E20+'Ա. Մկրտչյան'!E20+'Ն. Կարապետյան'!E20 -> #REF! | F20: =#REF!+'Ռ. Պապոյան'!F20+'Կ. Ֆարխոյան'!F20+'Լ. Սարգսյան'!F20+'Լ. Կատվալյան'!F20+'Ա. Մկրտչյան'!F20+'Ն. Կարապետյան'!F20 -> #REF! | G20: =#REF!+'Ռ. Պապոյան'!G20+'Կ. Ֆարխոյան'!G20+'Լ. Սարգսյան'!G20+'Լ. Կատվալյան'!G20+'Ա. Մկրտչյան'!G20+'Ն. Կարապետյան'!G20 -> #REF! | H20: =#REF!+'Ռ. Պապոյան'!H20+'Կ. Ֆարխոյան'!H20+'Լ. Սարգսյան'!H20+'Լ. Կատվալյան'!H20+'Ա. Մկրտչյան'!H20+'Ն. Կարապետյան'!H20 -> #REF! | I20: =#REF!+'Ռ. Պապոյան'!I20+'Կ. Ֆարխոյան'!I20+'Լ. Սարգսյան'!I20+'Լ. Կատվալյան'!I20+'Ա. Մկրտչյան'!I20+'Ն. Կարապետյան'!I20 -> #REF! | J20: =#REF!+'Ռ. Պապոյան'!J20+'Կ. Ֆարխոյան'!J20+'Լ. Սարգսյան'!J20+'Լ. Կատվալյան'!J20+'Ա. Մկրտչյան'!J20+'Ն. Կարապետյան'!J20 -> #REF! | K20: =#REF!+'Ռ. Պապոյան'!K20+'Կ. Ֆարխոյան'!K20+'Լ. Սարգսյան'!K20+'Լ. Կատվալյան'!K20+'Ա. Մկրտչյան'!K20+'Ն. Կարապետյան'!K20 -> #REF! | ... R20: =#REF!+'Ռ. Պապոյան'!R20+'Կ. Ֆարխոյան'!R20+'Լ. Սարգսյան'!R20+'Լ. Կատվալյան'!R20+'Ա. Մկրտչյան'!R20+'Ն. Կարապետյան'!R20 -> #REF! | T20: =J20+K20 -> #REF! | U20: =P20+Q20+R20 -> #REF! | V20: =P20 -> #REF! | W20: =L20+M20+N20+O20 -> #REF!
A21: 4 | B21: ³ÛÉ ÙÇçÝáñ¹áõÃÛáõÝÝ»ñ | D21: =#REF!+'Ռ. Պապոյան'!D21+'Կ. Ֆարխոյան'!D21+'Լ. Սարգսյան'!D21+'Լ. Կատվալյան'!D21+'Ա. Մկրտչյան'!D21+'Ն. Կարապետյան'!D21 -> #REF! | E21: =#REF!+'Ռ. Պապոյան'!E21+'Կ. Ֆարխոյան'!E21+'Լ. Սարգսյան'!E21+'Լ. Կատվալյան'!E21+'Ա. Մկրտչյան'!E21+'Ն. Կարապետյան'!E21 -> #REF! | F21: =#REF!+'Ռ. Պապոյան'!F21+'Կ. Ֆարխոյան'!F21+'Լ. Սարգսյան'!F21+'Լ. Կատվալյան'!F21+'Ա. Մկրտչյան'!F21+'Ն. Կարապետյան'!F21 -> #REF! | G21: =#REF!+'Ռ. Պապոյան'!G21+'Կ. Ֆարխոյան'!G21+'Լ. Սարգսյան'!G21+'Լ. Կատվալյան'!G21+'Ա. Մկրտչյան'!G21+'Ն. Կարապետյան'!G21 -> #REF! | H21: =#REF!+'Ռ. Պապոյան'!H21+'Կ. Ֆարխոյան'!H21+'Լ. Սարգսյան'!H21+'Լ. Կատվալյան'!H21+'Ա. Մկրտչյան'!H21+'Ն. Կարապետյան'!H21 -> #REF! | I21: =#REF!+'Ռ. Պապոյան'!I21+'Կ. Ֆարխոյան'!I21+'Լ. Սարգսյան'!I21+'Լ. Կատվալյան'!I21+'Ա. Մկրտչյան'!I21+'Ն. Կարապետյան'!I21 -> #REF! | J21: =#REF!+'Ռ. Պապոյան'!J21+'Կ. Ֆարխոյան'!J21+'Լ. Սարգսյան'!J21+'Լ. Կատվալյան'!J21+'Ա. Մկրտչյան'!J21+'Ն. Կարապետյան'!J21 -> #REF! | K21: =#REF!+'Ռ. Պապոյան'!K21+'Կ. Ֆարխոյան'!K21+'Լ. Սարգսյան'!K21+'Լ. Կատվալյան'!K21+'Ա. Մկրտչյան'!K21+'Ն. Կարապետյան'!K21 -> #REF! | ... R21: =#REF!+'Ռ. Պապոյան'!R21+'Կ. Ֆարխոյան'!R21+'Լ. Սարգսյան'!R21+'Լ. Կատվալյան'!R21+'Ա. Մկրտչյան'!R21+'Ն. Կարապետյան'!R21 -> #REF! | T21: =J21+K21 -> #REF! | U21: =P21+Q21+R21 -> #REF! | V21: =P21 -> #REF! | W21: =L21+M21+N21+O21 -> #REF!
A22: 5 | B22: ¹³ï³Ï³Ý Ñ³ÝÓÝ³ñ³ñáõÃÛáõÝÝ»ñ | D22: =#REF!+'Ռ. Պապոյան'!D22+'Կ. Ֆարխոյան'!D22+'Լ. Սարգսյան'!D22+'Լ. Կատվալյան'!D22+'Ա. Մկրտչյան'!D22+'Ն. Կարապետյան'!D22 -> #REF! | E22: =#REF!+'Ռ. Պապոյան'!E22+'Կ. Ֆարխոյան'!E22+'Լ. Սարգսյան'!E22+'Լ. Կատվալյան'!E22+'Ա. Մկրտչյան'!E22+'Ն. Կարապետյան'!E22 -> #REF! | F22: =#REF!+'Ռ. Պապոյան'!F22+'Կ. Ֆարխոյան'!F22+'Լ. Սարգսյան'!F22+'Լ. Կատվալյան'!F22+'Ա. Մկրտչյան'!F22+'Ն. Կարապետյան'!F22 -> #REF! | G22: =#REF!+'Ռ. Պապոյան'!G22+'Կ. Ֆարխոյան'!G22+'Լ. Սարգսյան'!G22+'Լ. Կատվալյան'!G22+'Ա. Մկրտչյան'!G22+'Ն. Կարապետյան'!G22 -> #REF! | H22: =#REF!+'Ռ. Պապոյան'!H22+'Կ. Ֆարխոյան'!H22+'Լ. Սարգսյան'!H22+'Լ. Կատվալյան'!H22+'Ա. Մկրտչյան'!H22+'Ն. Կարապետյան'!H22 -> #REF! | I22: =#REF!+'Ռ. Պապոյան'!I22+'Կ. Ֆարխոյան'!I22+'Լ. Սարգսյան'!I22+'Լ. Կատվալյան'!I22+'Ա. Մկրտչյան'!I22+'Ն. Կարապետյան'!I22 -> #REF! | J22: =#REF!+'Ռ. Պապոյան'!J22+'Կ. Ֆարխոյան'!J22+'Լ. Սարգսյան'!J22+'Լ. Կատվալյան'!J22+'Ա. Մկրտչյան'!J22+'Ն. Կարապետյան'!J22 -> #REF! | K22: =#REF!+'Ռ. Պապոյան'!K22+'Կ. Ֆարխոյան'!K22+'Լ. Սարգսյան'!K22+'Լ. Կատվալյան'!K22+'Ա. Մկրտչյան'!K22+'Ն. Կարապետյան'!K22 -> #REF! | ... R22: =#REF!+'Ռ. Պապոյան'!R22+'Կ. Ֆարխոյան'!R22+'Լ. Սարգսյան'!R22+'Լ. Կատվալյան'!R22+'Ա. Մկրտչյան'!R22+'Ն. Կարապետյան'!R22 -> #REF! | T22: =J22+K22 -> #REF! | U22: =P22+Q22+R22 -> #REF! | V22: =P22 -> #REF! | W22: =L22+M22+N22+O22 -> #REF!
A23: ÀÜ¸²ØºÜÀ | D23: =#REF!+'Ռ. Պապոյան'!D23+'Կ. Ֆարխոյան'!D23+'Լ. Սարգսյան'!D23+'Լ. Կատվալյան'!D23+'Ա. Մկրտչյան'!D23+'Ն. Կարապետյան'!D23 -> #REF! | E23: =#REF!+'Ռ. Պապոյան'!E23+'Կ. Ֆարխոյան'!E23+'Լ. Սարգսյան'!E23+'Լ. Կատվալյան'!E23+'Ա. Մկրտչյան'!E23+'Ն. Կարապետյան'!E23 -> #REF! | F23: =#REF!+'Ռ. Պապոյան'!F23+'Կ. Ֆարխոյան'!F23+'Լ. Սարգսյան'!F23+'Լ. Կատվալյան'!F23+'Ա. Մկրտչյան'!F23+'Ն. Կարապետյան'!F23 -> #REF! | G23: =#REF!+'Ռ. Պապոյան'!G23+'Կ. Ֆարխոյան'!G23+'Լ. Սարգսյան'!G23+'Լ. Կատվալյան'!G23+'Ա. Մկրտչյան'!G23+'Ն. Կարապետյան'!G23 -> #REF! | H23: =#REF!+'Ռ. Պապոյան'!H23+'Կ. Ֆարխոյան'!H23+'Լ. Սարգսյան'!H23+'Լ. Կատվալյան'!H23+'Ա. Մկրտչյան'!H23+'Ն. Կարապետյան'!H23 -> #REF! | I23: =#REF!+'Ռ. Պապոյան'!I23+'Կ. Ֆարխոյան'!I23+'Լ. Սարգսյան'!I23+'Լ. Կատվալյան'!I23+'Ա. Մկրտչյան'!I23+'Ն. Կարապետյան'!I23 -> #REF! | J23: =#REF!+'Ռ. Պապոյան'!J23+'Կ. Ֆարխոյան'!J23+'Լ. Սարգսյան'!J23+'Լ. Կատվալյան'!J23+'Ա. Մկրտչյան'!J23+'Ն. Կարապետյան'!J23 -> #REF! | K23: =#REF!+'Ռ. Պապոյան'!K23+'Կ. Ֆարխոյան'!K23+'Լ. Սարգսյան'!K23+'Լ. Կատվալյան'!K23+'Ա. Մկրտչյան'!K23+'Ն. Կարապետյան'!K23 -> #REF! | ... R23: =#REF!+'Ռ. Պապոյան'!R23+'Կ. Ֆարխոյան'!R23+'Լ. Սարգսյան'!R23+'Լ. Կատվալյան'!R23+'Ա. Մկրտչյան'!R23+'Ն. Կարապետյան'!R23 -> #REF! | T23: =SUM(T7:T16,T18:T22) -> #REF! | U23: =SUM(U7:U16,U18:U22) -> #REF! | V23: =SUM(V7:V16,V18:V22) -> #REF! | W23: =SUM(W7:W16,W18:W22) -> #REF!

Sheet Ռ. Պապոյան
A1: 2016Ã. 1-ԻՆ ԿԻՍԱՄՅԱԿ | D1: Ð²ÞìºîìàôÂÚàôÜ | P1: Ð³í»Éí³Í Ð³Û³ëï³ÝÇ Ð³Ýñ³å»ïáõÃÛ³Ý ¸³ï³ñ³ÝÝ»ñÇ Ý³Ë³·³ÑÝ»ñÇ ËáñÑñ¹Ç 25.08.2016Ã. ÃÇí 44-È áñáßÙ³Ý
A2: ØÇÝã¹³ï³Ï³Ý í³ñáõÛÃÇ ÝÏ³ïÙ³Ùµ ¹³ï³Ï³Ý í»ñ³ÑëÏáÕáõÃÛ³ÝÁ, ¹³ï³Ï³Ý ³Ïï»ñÇ ¨ ¹³ï³Ï³Ý Ñ³ÝÓÝ³ñ³ñáõÃÛáõÝÝ»ñÇ Ï³ï³ñÙ³Ý Ñ»ï Ï³åí³Í ÙÇçÝáñ¹áõÃÛáõÝÝ»ñÇ í»ñ³µ»ñÛ³É ¹³ï³Ï³Ý ·áñÍ»ñáí ºñ¨³Ý ù³Õ³ùÇ Ø³É³ÃÇ³-ê»µ³ëïÇ³ í³ñã³Ï³Ý ßñç³ÝÇ ÁÝ¹Ñ³Ýáõñ Çñ³í³ëáõÃÛ³Ý ³é³çÇÝ ³ïÛ³ÝÇ ¹³ï³ñ³ÝÇ ¹³ï³íáñ Ռ. Պապոյանի ·áñÍáõÝ»áõÃÛ³Ý í»ñ³µ»ñÛ³É
A3: êïáõ·Çã Ñ³í³ë³ñáõÙ` 1+2=3+8+9, 8=4+5+6+7, | D3: Ð³ßí»ïáõ Å³Ù³Ý³Ï³Ñ³ïí³ÍÇ ëÏ½µáõÙ Ý³Ëáñ¹ Ñ³ßí»ïáõ Å³Ù³Ý³Ï³Ñ³ïí³ÍÇó ÷áË³Ýóí³Í ·áñÍ»ñÇ ÁÝ¹Ñ³Ýáõñ ÃÇíÁ | E3: Ð³ßí»ïáõ Å³Ù³Ý³Ï³Ñ³ïí³ÍáõÙ ëï³óí³Í ·áñÍ»ñÇ ÁÝ¹Ñ³Ýáõñ ÃÇíÁ | F3: öáË³Ýóí»É ¿ ³ÛÉ ¹³ï³íáñÇ Ï³Ù ³ÛÉ ¹³ï³ñ³Ý (Ï³½ÙÇ ÷á÷áËáõÃÛáõÝ, ÁÝ¹¹³ïáõÃÛáõÝ) | G3: Ð³ßí»ïáõ Å³Ù³Ý³Ï³Ñ³ïí³ÍáõÙ ³í³ñïí³Í ·áñÍ»ñÇ ÁÝ¹Ñ³Ýáõñ ÃÇíÁ | L3: Ð³ßí»ïáõ Å³Ù³Ý³Ï³Ñ³ïí³ÍáõÙ ³Ý³í³ñï ·áñÍ»ñÇ ÁÝ¹Ñ³Ýáõñ ÃÇíÁ | M3: ØÇçÝáñ¹áõÃÛáõÝÝ»ñáí Ï³Û³óí³Í ¹³ï³Ï³Ý ³Ïï»ñÇó µáÕáù³ñÏí³ÍÝ»ñÇ ù³Ý³ÏÁ | O3: ²Ý³í³ñï µáÕáùÝ»ñ | P3: ØÇçÝáñ¹áõÃÛáõÝÝ»ñáí Ï³Û³óí³Í ¨ µáÕáù³ñÏí³Í ¹³ï³Ï³Ý ³Ïï»ñÇó µ»Ï³Ýí³ÍÝ»ñÇ ù³Ý³ÏÁ | R3: ÙÇçÝáñ¹áõÃÛáõÝÝ»ñáí Ï³Û³óí³Í ¨ µáÕáù³ñÏí³Í ¹³ï³Ï³Ý ³Ïï»ñÇó ³Ý÷á÷áË ÃáÕÝí³ÍÝ»ñÇ ù³Ý³ÏÁ
G4: Ù»ñÅí»É ¿ | H4: µ³í³ñ³ñí»É ¿ | I4: µ³í³ñ³ñí»É ¿ Ù³ëÝ³ÏÇ | J4: ÃáÕÝí»É ¿ ³é³Ýó ùÝÝáõÃÛ³Ý | K4: ÀÝ¹³Ù»ÝÁ
M5: Ý³Ëáñ¹ ï³ñÇÝ»ñÇÝ Ï³Û³óí³Í ³Ïï»ñÇ ¹»Ù | N5: Ñ³ßí»ïáõ Å³Ù³Ý³Ï³ßñç³ÝáõÙ Ï³Û³óí³Í ³Ïï»ñÇ ¹»Ù | P5: Ý³Ëáñ¹ ï³ñÇÝ»ñÇÝ Ï³Û³óí³Í ³Ïï»ñÇ µ»Ï³ÝáõÙÝ»ñÁ | Q5: Ñ³ßí»ïáõ Å³Ù³Ý³Ï³ßñç³ÝáõÙ Ï³Û³óí³Í ³Ïï»ñÇ µ»Ï³ÝáõÙÝ»ñÁ
A6: 1. ØÇÝã¹³ï³Ï³Ý í³ñáõÛÃÇ ÝÏ³ïÙ³Ùµ ¹³ï³Ï³Ý í»ñ³ÑëÏáÕáõÃÛ³Ý áÉáñï | D6: 1 | E6: 2 | F6: 3 | G6: 4 | H6: 5 | I6: 6 | J6: 7 | K6: 8 | L6: 9 | M6: 10 | N6: 11 | O6: 12 | P6: 13 | Q6: 14 | R6: 15 | T6: 1+2=7+8+9 | V6: 7=3+4+5+6
A7: 1 | B7: Ï³É³ÝùÁ áñå»ë Ë³÷³ÝÙ³Ý ÙÇçáó ÏÇñ³é»Éáõ Ù³ëÇÝ ÙÇçÝáñ¹áõÃÛáõÝÝ»ñ | E7: 17 | G7: 2 | H7: 15 | K7: 17 | N7: 1 | Q7: 1 | T7: =J7+K7 -> 17 | U7: =P7+Q7+R7 -> 1 | V7: =P7 -> 0 | W7: =L7+M7+N7+O7 -> 1
A8: 2 | B8: Ï³É³ÝùÇ Å³ÙÏ»ïÁ »ñÏ³ñ³óÝ»Éáõ Ù³ëÇÝ ÙÇçÝáñ¹áõÃÛáõÝÝ»ñ | D8: 1 | E8: 16 | F8: 1 | H8: 15 | I8: 1 | K8: 16 | N8: 4 | O8: 1 | R8: 3 | T8: =J8+K8 -> 16 | U8: =P8+Q8+R8 -> 3 | V8: =P8 -> 0 | W8: =L8+M8+N8+O8 -> 5
A9: 3 | B9: Ï³É³ÝùÇ í»ñ³Ñ³ëï³ïÙ³Ý Ù³ëÇÝ ÙÇçÝáñ¹áõÃÛáõÝÝ»ñ | E9: 4 | H9: 4 | K9: 4 | T9: =J9+K9 -> 4 | U9: =P9+Q9+R9 -> 0 | V9: =P9 -> 0 | W9: =L9+M9+N9+O9 -> 0
A10: 4 | B10: ·ñ³íÁ áñå»ë Ï³É³Ý³íáñÙ³Ý ³ÛÉÁÝïñ³Ýù³ÛÇÝ Ë³÷³ÝÙ³Ý ÙÇçáó ÏÇñ³é»Éáõ Ù³ëÇÝ ÙÇçÝáñ¹áõÃÛáõÝÝ»ñ | E10: 18 | G10: 16 | H10: 2 | K10: 18 | N10: 2 | O10: 2 | T10: =J10+K10 -> 18 | U10: =P10+Q10+R10 -> 0 | V10: =P10 -> 0 | W10: =L10+M10+N10+O10 -> 4
A11: 5 | B11: Ëáõ½³ñÏáõÃÛ³Ý Ï³ï³ñÙ³Ý Ù³ëÇÝ ÙÇçÝáñ¹áõÃÛáõÝÝ»ñ | E11: 46 | H11: 46 | K11: 46 | T11: =J11+K11 -> 46 | U11: =P11+Q11+R11 -> 0 | V11: =P11 -> 0 | W11: =L11+M11+N11+O11 -> 0
A12: 6 | B12: µ³ÝÏ³ÛÇÝ, ³å³Ñáí³·ñ³Ï³Ý, Ýáï³ñ³Ï³Ý ·³ÕïÝÇù Ï³½ÙáÕ ï»Õ»ÏáõÃÛáõÝÝ»ñÇ ëï³óÙ³Ý Ñ³Ù³ñ Ëáõ½³ñÏáõÃÛ³Ý Ï³Ù ³é·ñ³íÙ³Ý Ï³ï³ñÙ³Ý Ù³ëÇÝ ÙÇçÝáñ¹áõÃÛáõÝÝ»ñ | E12: 4 | H12: 4 | K12: 4 | T12: =J12+K12 -> 4 | U12: =P12+Q12+R12 -> 0 | V12: =P12 -> 0 | W12: =L12+M12+N12+O12 -> 0
A13: 7 | B13: Ý³Ù³Ï³·ñáõÃÛ³Ý, Ñ»é³·ñ³Ï³Ý, ÷áuï³ÛÇÝ Ñ³Õáñ¹áõÙÝ»ñÇ ÑëÏáÕáõÃÛ³Ý Ù³ëÇÝ ÙÇçÝáñ¹áõÃÛáõÝÝ»ñ | E13: 1 | H13: 1 | K13: 1 | T13: =J13+K13 -> 1 | U13: =P13+Q13+R13 -> 0 | V13: =P13 -> 0 | W13: =L13+M13+N13+O13 -> 0
A14: 8 | B14: Ñ»é³Ëáu³ÛÇÝ Ï³Ù Ï³åÇ ³ÛÉ ÙÇçáóÝ»ñáí ï³ñíáÕ Ëáu³ÏóáõÃÛáõÝÝ»ñÇ ÉuÙ³Ý ¨ Ó³ÛÝ³·ñ³éÙ³Ý Ù³ëÇÝ ÙÇçÝáñ¹áõÃÛáõÝÝ»ñ | E14: 10 | H14: 10 | K14: 10 | T14: =J14+K14 -> 10 | U14: =P14+Q14+R14 -> 0 | V14: =P14 -> 0 | W14: =L14+M14+N14+O14 -> 0
A15: 9 | B15: Ñ»é³ËáëÝ»ñÇ Ùáõïù³ÛÇÝ ¨ »Éù³ÛÇÝ í»ñÍ³ÝÙ³Ý ÃáõÛÉïíáõÃÛáõÝ ëï³Ý³Éáõ Ù³ëÇÝ ÙÇçÝáñ¹áõÃÛáõÝÝ»ñ | E15: 39 | H15: 39 | K15: 39 | T15: =J15+K15 -> 39 | U15: =P15+Q15+R15 -> 0 | V15: =P15 -> 0 | W15: =L15+M15+N15+O15 -> 0
A16: 10 | B16: Ñ»ï³ùÝÝáõÃÛ³Ý Ù³ñÙÝÇ ³ßË³ïáÕÇ, ùÝÝÇãÇ, ¹³ï³Ë³½Ç oå»ñ³ïÇí-Ñ»ï³Ëáõ½³Ï³Ý ·áñÍáÕáõÃÛáõÝÝ»ñ Çñ³Ï³Ý³óÝáÕ Ù³ñÙÇÝÝ»ñÇ ³ÝoñÇÝ³Ï³Ý ¨ ³ÝÑÇÙÝ áñáßáõÙÝ»ñÇ ¨ ·áñÍáÕáõÃÛáõÝÝ»ñÇ ¹»Ù µáÕáùÝ»ñ | D16: 3 | E16: 9 | G16: 6 | H16: 2 | I16: 1 | K16: 9 | L16: 1 | N16: 5 | O16: 4 | R16: 1 | T16: =J16+K16 -> 9 | U16: =P16+Q16+R16 -> 1 | V16: =P16 -> 0 | W16: =L16+M16+N16+O16 -> 10
A17: 2. ¸³ï³Ï³Ý ³Ïï»ñÇ ¨ ¹³ï³Ï³Ý Ñ³ÝÓÝ³ñ³ñáõÃÛáõÝÝ»ñÇ Ï³ï³ñÙ³Ý Ñ»ï Ï³åí³Í Ñ³ñó»ñÇ ÉáõÍÙ³Ý áÉáñï
A18: 1 | B18: å³ïÅÇó å³ÛÙ³Ý³Ï³Ý í³Õ³Å³ÙÏ»ï ³½³ï»Éáõ Ù³ëÇÝ ÙÇçÝáñ¹áõÃÛáõÝÝ»ñ | T18: =J18+K18 -> 0 | U18: =P18+Q18+R18 -> 0 | V18: =P18 -> 0 | W18: =L18+M18+N18+O18 -> 0
A19: 2 | B19: å³ïÇÅÁ ÷á÷áË»Éáõ, Ñ»ï³Ó·»Éáõ ¨ å³ïÅÇó ³½³ï»Éáõ Ù³uÇÝ ÙÇçÝáñ¹áõÃÛáõÝÝ»ñ | E19: 7 | G19: 1 | H19: 5 | K19: 6 | L19: 1 | T19: =J19+K19 -> 6 | U19: =P19+Q19+R19 -> 0 | V19: =P19 -> 0 | W19: =L19+M19+N19+O19 -> 1
A20: 3 | B20: Ñ³ñÏ³¹Çñ µáõÅÙ³Ý ï»ë³ÏÇ ÷á÷áËáõÃÛ³Ý Ù³ëÇÝ ÙÇçÝáñ¹áõÃÛáõÝÝ»ñ | E20: 3 | H20: 3 | K20: 3 | T20: =J20+K20 -> 3 | U20: =P20+Q20+R20 -> 0 | V20: =P20 -> 0 | W20: =L20+M20+N20+O20 -> 0
A21: 4 | B21: ³ÛÉ ÙÇçÝáñ¹áõÃÛáõÝÝ»ñ | E21: 1 | H21: 1 | K21: 1 | T21: =J21+K21 -> 1 | U21: =P21+Q21+R21 -> 0 | V21: =P21 -> 0 | W21: =L21+M21+N21+O21 -> 0
A22: 5 | B22: ¹³ï³Ï³Ý Ñ³ÝÓÝ³ñ³ñáõÃÛáõÝÝ»ñ | D22: 2 | E22: 2 | H22: 1 | J22: 1 | K22: 2 | L22: 1 | T22: =J22+K22 -> 3 | U22: =P22+Q22+R22 -> 0 | V22: =P22 -> 0 | W22: =L22+M22+N22+O22 -> 1
A23: ÀÜ¸²ØºÜÀ | D23: =D7+D8+D9+D10+D11+D12+D13+D14+D15+D16+D18+D19+D20+D21+D22 -> 6 | E23: =E7+E8+E9+E10+E11+E12+E13+E14+E15+E16+E18+E19+E20+E21+E22 -> 177 | F23: =F7+F8+F9+F10+F11+F12+F13+F14+F15+F16+F18+F19+F20+F21+F22 -> 1 | G23: =G7+G8+G9+G10+G11+G12+G13+G14+G15+G16+G18+G19+G20+G21+G22 -> 25 | H23: =H7+H8+H9+H10+H11+H12+H13+H14+H15+H16+H18+H19+H20+H21+H22 -> 148 | I23: =I7+I8+I9+I10+I11+I12+I13+I14+I15+I16+I18+I19+I20+I21+I22 -> 2 | J23: =J7+J8+J9+J10+J11+J12+J13+J14+J15+J16+J18+J19+J20+J21+J22 -> 1 | K23: =K7+K8+K9+K10+K11+K12+K13+K14+K15+K16+K18+K19+K20+K21+K22 -> 176 | ... R23: =R7+R8+R9+R10+R11+R12+R13+R14+R15+R16+R18+R19+R20+R21+R22 -> 4 | T23: =SUM(T7:T16,T18:T22) -> 177 | U23: =SUM(U7:U16,U18:U22) -> 5 | V23: =SUM(V7:V16,V18:V22) -> 0 | W23: =SUM(W7:W16,W18:W22) -> 22

Sheet Կ. Ֆարխոյան
A1: 2016Ã. 1-ԻՆ ԿԻՍԱՄՅԱԿ | D1: Ð²ÞìºîìàôÂÚàôÜ | P1: Ð³í»Éí³Í Ð³Û³ëï³ÝÇ Ð³Ýñ³å»ïáõÃÛ³Ý ¸³ï³ñ³ÝÝ»ñÇ Ý³Ë³·³ÑÝ»ñÇ ËáñÑñ¹Ç 25.08.2016Ã. ÃÇí 44-È áñáßÙ³Ý
A2: ØÇÝã¹³ï³Ï³Ý í³ñáõÛÃÇ ÝÏ³ïÙ³Ùµ ¹³ï³Ï³Ý í»ñ³ÑëÏáÕáõÃÛ³ÝÁ, ¹³ï³Ï³Ý ³Ïï»ñÇ ¨ ¹³ï³Ï³Ý Ñ³ÝÓÝ³ñ³ñáõÃÛáõÝÝ»ñÇ Ï³ï³ñÙ³Ý Ñ»ï Ï³åí³Í ÙÇçÝáñ¹áõÃÛáõÝÝ»ñÇ í»ñ³µ»ñÛ³É ¹³ï³Ï³Ý ·áñÍ»ñáí ºñ¨³Ý ù³Õ³ùÇ Ø³É³ÃÇ³-ê»µ³ëïÇ³ í³ñã³Ï³Ý ßñç³ÝÇ ÁÝ¹Ñ³Ýáõñ Çñ³í³ëáõÃÛ³Ý ³é³çÇÝ ³ïÛ³ÝÇ ¹³ï³ñ³ÝÇ ¹³ï³íáñ Î. ü³ñËáÛ³ÝÇ ·áñÍáõÝ»áõÃÛ³Ý í»ñ³µ»ñÛ³É
A3: êïáõ·Çã Ñ³í³ë³ñáõÙ` 1+2=3+8+9, 8=4+5+6+7, | D3: Ð³ßí»ïáõ Å³Ù³Ý³Ï³Ñ³ïí³ÍÇ ëÏ½µáõÙ Ý³Ëáñ¹ Ñ³ßí»ïáõ Å³Ù³Ý³Ï³Ñ³ïí³ÍÇó ÷áË³Ýóí³Í ·áñÍ»ñÇ ÁÝ¹Ñ³Ýáõñ ÃÇíÁ | E3: Ð³ßí»ïáõ Å³Ù³Ý³Ï³Ñ³ïí³ÍáõÙ ëï³óí³Í ·áñÍ»ñÇ ÁÝ¹Ñ³Ýáõñ ÃÇíÁ | F3: öáË³Ýóí»É ¿ ³ÛÉ ¹³ï³íáñÇ Ï³Ù ³ÛÉ ¹³ï³ñ³Ý (Ï³½ÙÇ ÷á÷áËáõÃÛáõÝ, ÁÝ¹¹³ïáõÃÛáõÝ) | G3: Ð³ßí»ïáõ Å³Ù³Ý³Ï³Ñ³ïí³ÍáõÙ ³í³ñïí³Í ·áñÍ»ñÇ ÁÝ¹Ñ³Ýáõñ ÃÇíÁ | L3: Ð³ßí»ïáõ Å³Ù³Ý³Ï³Ñ³ïí³ÍáõÙ ³Ý³í³ñï ·áñÍ»ñÇ ÁÝ¹Ñ³Ýáõñ ÃÇíÁ | M3: ØÇçÝáñ¹áõÃÛáõÝÝ»ñáí Ï³Û³óí³Í ¹³ï³Ï³Ý ³Ïï»ñÇó µáÕáù³ñÏí³ÍÝ»ñÇ ù³Ý³ÏÁ | O3: ²Ý³í³ñï µáÕáùÝ»ñ | P3: ØÇçÝáñ¹áõÃÛáõÝÝ»ñáí Ï³Û³óí³Í ¨ µáÕáù³ñÏí³Í ¹³ï³Ï³Ý ³Ïï»ñÇó µ»Ï³Ýí³ÍÝ»ñÇ ù³Ý³ÏÁ | R3: ÙÇçÝáñ¹áõÃÛáõÝÝ»ñáí Ï³Û³óí³Í ¨ µáÕáù³ñÏí³Í ¹³ï³Ï³Ý ³Ïï»ñÇó ³Ý÷á÷áË ÃáÕÝí³ÍÝ»ñÇ ù³Ý³ÏÁ
G4: Ù»ñÅí»É ¿ | H4: µ³í³ñ³ñí»É ¿ | I4: µ³í³ñ³ñí»É ¿ Ù³ëÝ³ÏÇ | J4: ÃáÕÝí»É ¿ ³é³Ýó ùÝÝáõÃÛ³Ý | K4: ÀÝ¹³Ù»ÝÁ
M5: Ý³Ëáñ¹ ï³ñÇÝ»ñÇÝ Ï³Û³óí³Í ³Ïï»ñÇ ¹»Ù | N5: Ñ³ßí»ïáõ Å³Ù³Ý³Ï³ßñç³ÝáõÙ Ï³Û³óí³Í ³Ïï»ñÇ ¹»Ù | P5: Ý³Ëáñ¹ ï³ñÇÝ»ñÇÝ Ï³Û³óí³Í ³Ïï»ñÇ µ»Ï³ÝáõÙÝ»ñÁ | Q5: Ñ³ßí»ïáõ Å³Ù³Ý³Ï³ßñç³ÝáõÙ Ï³Û³óí³Í ³Ïï»ñÇ µ»Ï³ÝáõÙÝ»ñÁ
A6: 1. ØÇÝã¹³ï³Ï³Ý í³ñáõÛÃÇ ÝÏ³ïÙ³Ùµ ¹³ï³Ï³Ý í»ñ³ÑëÏáÕáõÃÛ³Ý áÉáñï | D6: 1 | E6: 2 | F6: 3 | G6: 4 | H6: 5 | I6: 6 | J6: 7 | K6: 8 | L6: 9 | M6: 10 | N6: 11 | O6: 12 | P6: 13 | Q6: 14 | R6: 15 | T6: 1+2=7+8+9 | V6: 7=3+4+5+6
A7: 1 | B7: Ï³É³ÝùÁ áñå»ë Ë³÷³ÝÙ³Ý ÙÇçáó ÏÇñ³é»Éáõ Ù³ëÇÝ ÙÇçÝáñ¹áõÃÛáõÝÝ»ñ | E7: 15 | H7: 15 | K7: 15 | N7: 3 | O7: 1 | R7: 2 | T7: =J7+K7 -> 15 | U7: =P7+Q7+R7 -> 2 | V7: =P7 -> 0 | W7: =L7+M7+N7+O7 -> 4
A8: 2 | B8: Ï³É³ÝùÇ Å³ÙÏ»ïÁ »ñÏ³ñ³óÝ»Éáõ Ù³ëÇÝ ÙÇçÝáñ¹áõÃÛáõÝÝ»ñ | D8: 1 | E8: 12 | F8: 2 | H8: 11 | K8: 11 | N8: 1 | R8: 1 | T8: =J8+K8 -> 11 | U8: =P8+Q8+R8 -> 1 | V8: =P8 -> 0 | W8: =L8+M8+N8+O8 -> 1
A9: 3 | B9: Ï³É³ÝùÇ í»ñ³Ñ³ëï³ïÙ³Ý Ù³ëÇÝ ÙÇçÝáñ¹áõÃÛáõÝÝ»ñ | E9: 4 | H9: 4 | K9: 4 | N9: 1 | O9: 1 | T9: =J9+K9 -> 4 | U9: =P9+Q9+R9 -> 0 | V9: =P9 -> 0 | W9: =L9+M9+N9+O9 -> 2
A10: 4 | B10: ·ñ³íÁ áñå»ë Ï³É³Ý³íáñÙ³Ý ³ÛÉÁÝïñ³Ýù³ÛÇÝ Ë³÷³ÝÙ³Ý ÙÇçáó ÏÇñ³é»Éáõ Ù³ëÇÝ ÙÇçÝáñ¹áõÃÛáõÝÝ»ñ | E10: 13 | G10: 9 | H10: 3 | K10: 12 | L10: 1 | N10: 6 | O10: 3 | Q10: 1 | R10: 2 | T10: =J10+K10 -> 12 | U10: =P10+Q10+R10 -> 3 | V10: =P10 -> 0 | W10: =L10+M10+N10+O10 -> 10
A11: 5 | B11: Ëáõ½³ñÏáõÃÛ³Ý Ï³ï³ñÙ³Ý Ù³ëÇÝ ÙÇçÝáñ¹áõÃÛáõÝÝ»ñ | E11: 65 | H11: 65 | K11: 65 | T11: =J11+K11 -> 65 | U11: =P11+Q11+R11 -> 0 | V11: =P11 -> 0 | W11: =L11+M11+N11+O11 -> 0
A12: 6 | B12: µ³ÝÏ³ÛÇÝ, ³å³Ñáí³·ñ³Ï³Ý, Ýáï³ñ³Ï³Ý ·³ÕïÝÇù Ï³½ÙáÕ ï»Õ»ÏáõÃÛáõÝÝ»ñÇ ëï³óÙ³Ý Ñ³Ù³ñ Ëáõ½³ñÏáõÃÛ³Ý Ï³Ù ³é·ñ³íÙ³Ý Ï³ï³ñÙ³Ý Ù³ëÇÝ ÙÇçÝáñ¹áõÃÛáõÝÝ»ñ | T12: =J12+K12 -> 0 | U12: =P12+Q12+R12 -> 0 | V12: =P12 -> 0 | W12: =L12+M12+N12+O12 -> 0
A13: 7 | B13: Ý³Ù³Ï³·ñáõÃÛ³Ý, Ñ»é³·ñ³Ï³Ý, ÷áuï³ÛÇÝ Ñ³Õáñ¹áõÙÝ»ñÇ ÑëÏáÕáõÃÛ³Ý Ù³ëÇÝ ÙÇçÝáñ¹áõÃÛáõÝÝ»ñ | E13: 3 | G13: 1 | H13: 2 | K13: 3 | T13: =J13+K13 -> 3 | U13: =P13+Q13+R13 -> 0 | V13: =P13 -> 0 | W13: =L13+M13+N13+O13 -> 0
A14: 8 | B14: Ñ»é³Ëáu³ÛÇÝ Ï³Ù Ï³åÇ ³ÛÉ ÙÇçáóÝ»ñáí ï³ñíáÕ Ëáu³ÏóáõÃÛáõÝÝ»ñÇ ÉuÙ³Ý ¨ Ó³ÛÝ³·ñ³éÙ³Ý Ù³ëÇÝ ÙÇçÝáñ¹áõÃÛáõÝÝ»ñ | E14: 2 | H14: 2 | K14: 2 | T14: =J14+K14 -> 2 | U14: =P14+Q14+R14 -> 0 | V14: =P14 -> 0 | W14: =L14+M14+N14+O14 -> 0
A15: 9 | B15: Ñ»é³ËáëÝ»ñÇ Ùáõïù³ÛÇÝ ¨ »Éù³ÛÇÝ í»ñÍ³ÝÙ³Ý ÃáõÛÉïíáõÃÛáõÝ ëï³Ý³Éáõ Ù³ëÇÝ ÙÇçÝáñ¹áõÃÛáõÝÝ»ñ | E15: 50 | G15: 1 | H15: 49 | K15: 50 | T15: =J15+K15 -> 50 | U15: =P15+Q15+R15 -> 0 | V15: =P15 -> 0 | W15: =L15+M15+N15+O15 -> 0
A16: 10 | B16: Ñ»ï³ùÝÝáõÃÛ³Ý Ù³ñÙÝÇ ³ßË³ïáÕÇ, ùÝÝÇãÇ, ¹³ï³Ë³½Ç oå»ñ³ïÇí-Ñ»ï³Ëáõ½³Ï³Ý ·áñÍáÕáõÃÛáõÝÝ»ñ Çñ³Ï³Ý³óÝáÕ Ù³ñÙÇÝÝ»ñÇ ³ÝoñÇÝ³Ï³Ý ¨ ³ÝÑÇÙÝ áñáßáõÙÝ»ñÇ ¨ ·áñÍáÕáõÃÛáõÝÝ»ñÇ ¹»Ù µáÕáùÝ»ñ | D16: 1 | E16: 6 | G16: 4 | I16: 1 | K16: 5 | L16: 2 | N16: 4 | O16: 3 | R16: 1 | T16: =J16+K16 -> 5 | U16: =P16+Q16+R16 -> 1 | V16: =P16 -> 0 | W16: =L16+M16+N16+O16 -> 9
A17: 2. ¸³ï³Ï³Ý ³Ïï»ñÇ ¨ ¹³ï³Ï³Ý Ñ³ÝÓÝ³ñ³ñáõÃÛáõÝÝ»ñÇ Ï³ï³ñÙ³Ý Ñ»ï Ï³åí³Í Ñ³ñó»ñÇ ÉáõÍÙ³Ý áÉáñï
A18: 1 | B18: å³ïÅÇó å³ÛÙ³Ý³Ï³Ý í³Õ³Å³ÙÏ»ï ³½³ï»Éáõ Ù³ëÇÝ ÙÇçÝáñ¹áõÃÛáõÝÝ»ñ | T18: =J18+K18 -> 0 | U18: =P18+Q18+R18 -> 0 | V18: =P18 -> 0 | W18: =L18+M18+N18+O18 -> 0
A19: 2 | B19: å³ïÇÅÁ ÷á÷áË»Éáõ, Ñ»ï³Ó·»Éáõ ¨ å³ïÅÇó ³½³ï»Éáõ Ù³uÇÝ ÙÇçÝáñ¹áõÃÛáõÝÝ»ñ | D19: 1 | E19: 6 | G19: 2 | H19: 4 | K19: 6 | L19: 1 | T19: =J19+K19 -> 6 | U19: =P19+Q19+R19 -> 0 | V19: =P19 -> 0 | W19: =L19+M19+N19+O19 -> 1
A20: 3 | B20: Ñ³ñÏ³¹Çñ µáõÅÙ³Ý ï»ë³ÏÇ ÷á÷áËáõÃÛ³Ý Ù³ëÇÝ ÙÇçÝáñ¹áõÃÛáõÝÝ»ñ | E20: 4 | H20: 4 | K20: 4 | T20: =J20+K20 -> 4 | U20: =P20+Q20+R20 -> 0 | V20: =P20 -> 0 | W20: =L20+M20+N20+O20 -> 0
A21: 4 | B21: ³ÛÉ ÙÇçÝáñ¹áõÃÛáõÝÝ»ñ | T21: =J21+K21 -> 0 | U21: =P21+Q21+R21 -> 0 | V21: =P21 -> 0 | W21: =L21+M21+N21+O21 -> 0
A22: 5 | B22: ¹³ï³Ï³Ý Ñ³ÝÓÝ³ñ³ñáõÃÛáõÝÝ»ñ | E22: 3 | H22: 2 | J22: 1 | K22: 3 | T22: =J22+K22 -> 4 | U22: =P22+Q22+R22 -> 0 | V22: =P22 -> 0 | W22: =L22+M22+N22+O22 -> 0
A23: ÀÜ¸²ØºÜÀ | D23: =D7+D8+D9+D10+D11+D12+D13+D14+D15+D16+D18+D19+D20+D21+D22 -> 3 | E23: =E7+E8+E9+E10+E11+E12+E13+E14+E15+E16+E18+E19+E20+E21+E22 -> 183 | F23: =F7+F8+F9+F10+F11+F12+F13+F14+F15+F16+F18+F19+F20+F21+F22 -> 2 | G23: =G7+G8+G9+G10+G11+G12+G13+G14+G15+G16+G18+G19+G20+G21+G22 -> 17 | H23: =H7+H8+H9+H10+H11+H12+H13+H14+H15+H16+H18+H19+H20+H21+H22 -> 161 | I23: =I7+I8+I9+I10+I11+I12+I13+I14+I15+I16+I18+I19+I20+I21+I22 -> 1 | J23: =J7+J8+J9+J10+J11+J12+J13+J14+J15+J16+J18+J19+J20+J21+J22 -> 1 | K23: =K7+K8+K9+K10+K11+K12+K13+K14+K15+K16+K18+K19+K20+K21+K22 -> 180 | ... R23: =R7+R8+R9+R10+R11+R12+R13+R14+R15+R16+R18+R19+R20+R21+R22 -> 6 | T23: =SUM(T7:T16,T18:T22) -> 181 | U23: =SUM(U7:U16,U18:U22) -> 7 | V23: =SUM(V7:V16,V18:V22) -> 0 | W23: =SUM(W7:W16,W18:W22) -> 27

Sheet Լ. Սարգսյան
A1: 2016Ã. 1-ԻՆ ԿԻՍԱՄՅԱԿ | D1: Ð²ÞìºîìàôÂÚàôÜ | P1: Ð³í»Éí³Í Ð³Û³ëï³ÝÇ Ð³Ýñ³å»ïáõÃÛ³Ý ¸³ï³ñ³ÝÝ»ñÇ Ý³Ë³·³ÑÝ»ñÇ ËáñÑñ¹Ç 25.08.2016Ã. ÃÇí 44-È áñáßÙ³Ý
A2: ØÇÝã¹³ï³Ï³Ý í³ñáõÛÃÇ ÝÏ³ïÙ³Ùµ ¹³ï³Ï³Ý í»ñ³ÑëÏáÕáõÃÛ³ÝÁ, ¹³ï³Ï³Ý ³Ïï»ñÇ ¨ ¹³ï³Ï³Ý Ñ³ÝÓÝ³ñ³ñáõÃÛáõÝÝ»ñÇ Ï³ï³ñÙ³Ý Ñ»ï Ï³åí³Í ÙÇçÝáñ¹áõÃÛáõÝÝ»ñÇ í»ñ³µ»ñÛ³É ¹³ï³Ï³Ý ·áñÍ»ñáí ºñ¨³Ý ù³Õ³ùÇ Ø³É³ÃÇ³-ê»µ³ëïÇ³ í³ñã³Ï³Ý ßñç³ÝÇ ÁÝ¹Ñ³Ýáõñ Çñ³í³ëáõÃÛ³Ý ³é³çÇÝ ³ïÛ³ÝÇ ¹³ï³ñ³ÝÇ ¹³ï³íáñ Լ.Սարգսյանի ·áñÍáõÝ»áõÃÛ³Ý í»ñ³µ»ñÛ³É
A3: êïáõ·Çã Ñ³í³ë³ñáõÙ` 1+2=3+8+9, 8=4+5+6+7, | D3: Ð³ßí»ïáõ Å³Ù³Ý³Ï³Ñ³ïí³ÍÇ ëÏ½µáõÙ Ý³Ëáñ¹ Ñ³ßí»ïáõ Å³Ù³Ý³Ï³Ñ³ïí³ÍÇó ÷áË³Ýóí³Í ·áñÍ»ñÇ ÁÝ¹Ñ³Ýáõñ ÃÇíÁ | E3: Ð³ßí»ïáõ Å³Ù³Ý³Ï³Ñ³ïí³ÍáõÙ ëï³óí³Í ·áñÍ»ñÇ ÁÝ¹Ñ³Ýáõñ ÃÇíÁ | F3: öáË³Ýóí»É ¿ ³ÛÉ ¹³ï³íáñÇ Ï³Ù ³ÛÉ ¹³ï³ñ³Ý (Ï³½ÙÇ ÷á÷áËáõÃÛáõÝ, ÁÝ¹¹³ïáõÃÛáõÝ) | G3: Ð³ßí»ïáõ Å³Ù³Ý³Ï³Ñ³ïí³ÍáõÙ ³í³ñïí³Í ·áñÍ»ñÇ ÁÝ¹Ñ³Ýáõñ ÃÇíÁ | L3: Ð³ßí»ïáõ Å³Ù³Ý³Ï³Ñ³ïí³ÍáõÙ ³Ý³í³ñï ·áñÍ»ñÇ ÁÝ¹Ñ³Ýáõñ ÃÇíÁ | M3: ØÇçÝáñ¹áõÃÛáõÝÝ»ñáí Ï³Û³óí³Í ¹³ï³Ï³Ý ³Ïï»ñÇó µáÕáù³ñÏí³ÍÝ»ñÇ ù³Ý³ÏÁ | O3: ²Ý³í³ñï µáÕáùÝ»ñ | P3: ØÇçÝáñ¹áõÃÛáõÝÝ»ñáí Ï³Û³óí³Í ¨ µáÕáù³ñÏí³Í ¹³ï³Ï³Ý ³Ïï»ñÇó µ»Ï³Ýí³ÍÝ»ñÇ ù³Ý³ÏÁ | R3: ÙÇçÝáñ¹áõÃÛáõÝÝ»ñáí Ï³Û³óí³Í ¨ µáÕáù³ñÏí³Í ¹³ï³Ï³Ý ³Ïï»ñÇó ³Ý÷á÷áË ÃáÕÝí³ÍÝ»ñÇ ù³Ý³ÏÁ
G4: Ù»ñÅí»É ¿ | H4: µ³í³ñ³ñí»É ¿ | I4: µ³í³ñ³ñí»É ¿ Ù³ëÝ³ÏÇ | J4: ÃáÕÝí»É ¿ ³é³Ýó ùÝÝáõÃÛ³Ý | K4: ÀÝ¹³Ù»ÝÁ
M5: Ý³Ëáñ¹ ï³ñÇÝ»ñÇÝ Ï³Û³óí³Í ³Ïï»ñÇ ¹»Ù | N5: Ñ³ßí»ïáõ Å³Ù³Ý³Ï³ßñç³ÝáõÙ Ï³Û³óí³Í ³Ïï»ñÇ ¹»Ù | P5: Ý³Ëáñ¹ ï³ñÇÝ»ñÇÝ Ï³Û³óí³Í ³Ïï»ñÇ µ»Ï³ÝáõÙÝ»ñÁ | Q5: Ñ³ßí»ïáõ Å³Ù³Ý³Ï³ßñç³ÝáõÙ Ï³Û³óí³Í ³Ïï»ñÇ µ»Ï³ÝáõÙÝ»ñÁ
A6: 1. ØÇÝã¹³ï³Ï³Ý í³ñáõÛÃÇ ÝÏ³ïÙ³Ùµ ¹³ï³Ï³Ý í»ñ³ÑëÏáÕáõÃÛ³Ý áÉáñï | D6: 1 | E6: 2 | F6: 3 | G6: 4 | H6: 5 | I6: 6 | J6: 7 | K6: 8 | L6: 9 | M6: 10 | N6: 11 | O6: 12 | P6: 13 | Q6: 14 | R6: 15 | T6: 1+2=7+8+9 | V6: 7=3+4+5+6
A7: 1 | B7: Ï³É³ÝùÁ áñå»ë Ë³÷³ÝÙ³Ý ÙÇçáó ÏÇñ³é»Éáõ Ù³ëÇÝ ÙÇçÝáñ¹áõÃÛáõÝÝ»ñ | T7: =J7+K7 -> 0 | U7: =P7+Q7+R7 -> 0 | V7: =P7 -> 0 | W7: =L7+M7+N7+O7 -> 0
A8: 2 | B8: Ï³É³ÝùÇ Å³ÙÏ»ïÁ »ñÏ³ñ³óÝ»Éáõ Ù³ëÇÝ ÙÇçÝáñ¹áõÃÛáõÝÝ»ñ | T8: =J8+K8 -> 0 | U8: =P8+Q8+R8 -> 0 | V8: =P8 -> 0 | W8: =L8+M8+N8+O8 -> 0
A9: 3 | B9: Ï³É³ÝùÇ í»ñ³Ñ³ëï³ïÙ³Ý Ù³ëÇÝ ÙÇçÝáñ¹áõÃÛáõÝÝ»ñ | T9: =J9+K9 -> 0 | U9: =P9+Q9+R9 -> 0 | V9: =P9 -> 0 | W9: =L9+M9+N9+O9 -> 0
A10: 4 | B10: ·ñ³íÁ áñå»ë Ï³É³Ý³íáñÙ³Ý ³ÛÉÁÝïñ³Ýù³ÛÇÝ Ë³÷³ÝÙ³Ý ÙÇçáó ÏÇñ³é»Éáõ Ù³ëÇÝ ÙÇçÝáñ¹áõÃÛáõÝÝ»ñ | T10: =J10+K10 -> 0 | U10: =P10+Q10+R10 -> 0 | V10: =P10 -> 0 | W10: =L10+M10+N10+O10 -> 0
A11: 5 | B11: Ëáõ½³ñÏáõÃÛ³Ý Ï³ï³ñÙ³Ý Ù³ëÇÝ ÙÇçÝáñ¹áõÃÛáõÝÝ»ñ | T11: =J11+K11 -> 0 | U11: =P11+Q11+R11 -> 0 | V11: =P11 -> 0 | W11: =L11+M11+N11+O11 -> 0
A12: 6 | B12: µ³ÝÏ³ÛÇÝ, ³å³Ñáí³·ñ³Ï³Ý, Ýáï³ñ³Ï³Ý ·³ÕïÝÇù Ï³½ÙáÕ ï»Õ»ÏáõÃÛáõÝÝ»ñÇ ëï³óÙ³Ý Ñ³Ù³ñ Ëáõ½³ñÏáõÃÛ³Ý Ï³Ù ³é·ñ³íÙ³Ý Ï³ï³ñÙ³Ý Ù³ëÇÝ ÙÇçÝáñ¹áõÃÛáõÝÝ»ñ | T12: =J12+K12 -> 0 | U12: =P12+Q12+R12 -> 0 | V12: =P12 -> 0 | W12: =L12+M12+N12+O12 -> 0
A13: 7 | B13: Ý³Ù³Ï³·ñáõÃÛ³Ý, Ñ»é³·ñ³Ï³Ý, ÷áuï³ÛÇÝ Ñ³Õáñ¹áõÙÝ»ñÇ ÑëÏáÕáõÃÛ³Ý Ù³ëÇÝ ÙÇçÝáñ¹áõÃÛáõÝÝ»ñ | T13: =J13+K13 -> 0 | U13: =P13+Q13+R13 -> 0 | V13: =P13 -> 0 | W13: =L13+M13+N13+O13 -> 0
A14: 8 | B14: Ñ»é³Ëáu³ÛÇÝ Ï³Ù Ï³åÇ ³ÛÉ ÙÇçáóÝ»ñáí ï³ñíáÕ Ëáu³ÏóáõÃÛáõÝÝ»ñÇ ÉuÙ³Ý ¨ Ó³ÛÝ³·ñ³éÙ³Ý Ù³ëÇÝ ÙÇçÝáñ¹áõÃÛáõÝÝ»ñ | T14: =J14+K14 -> 0 | U14: =P14+Q14+R14 -> 0 | V14: =P14 -> 0 | W14: =L14+M14+N14+O14 -> 0
A15: 9 | B15: Ñ»é³ËáëÝ»ñÇ Ùáõïù³ÛÇÝ ¨ »Éù³ÛÇÝ í»ñÍ³ÝÙ³Ý ÃáõÛÉïíáõÃÛáõÝ ëï³Ý³Éáõ Ù³ëÇÝ ÙÇçÝáñ¹áõÃÛáõÝÝ»ñ | T15: =J15+K15 -> 0 | U15: =P15+Q15+R15 -> 0 | V15: =P15 -> 0 | W15: =L15+M15+N15+O15 -> 0
A16: 10 | B16: Ñ»ï³ùÝÝáõÃÛ³Ý Ù³ñÙÝÇ ³ßË³ïáÕÇ, ùÝÝÇãÇ, ¹³ï³Ë³½Ç oå»ñ³ïÇí-Ñ»ï³Ëáõ½³Ï³Ý ·áñÍáÕáõÃÛáõÝÝ»ñ Çñ³Ï³Ý³óÝáÕ Ù³ñÙÇÝÝ»ñÇ ³ÝoñÇÝ³Ï³Ý ¨ ³ÝÑÇÙÝ áñáßáõÙÝ»ñÇ ¨ ·áñÍáÕáõÃÛáõÝÝ»ñÇ ¹»Ù µáÕáùÝ»ñ | T16: =J16+K16 -> 0 | U16: =P16+Q16+R16 -> 0 | V16: =P16 -> 0 | W16: =L16+M16+N16+O16 -> 0
A17: 2. ¸³ï³Ï³Ý ³Ïï»ñÇ ¨ ¹³ï³Ï³Ý Ñ³ÝÓÝ³ñ³ñáõÃÛáõÝÝ»ñÇ Ï³ï³ñÙ³Ý Ñ»ï Ï³åí³Í Ñ³ñó»ñÇ ÉáõÍÙ³Ý áÉáñï
A18: 1 | B18: å³ïÅÇó å³ÛÙ³Ý³Ï³Ý í³Õ³Å³ÙÏ»ï ³½³ï»Éáõ Ù³ëÇÝ ÙÇçÝáñ¹áõÃÛáõÝÝ»ñ | T18: =J18+K18 -> 0 | U18: =P18+Q18+R18 -> 0 | V18: =P18 -> 0 | W18: =L18+M18+N18+O18 -> 0
A19: 2 | B19: å³ïÇÅÁ ÷á÷áË»Éáõ, Ñ»ï³Ó·»Éáõ ¨ å³ïÅÇó ³½³ï»Éáõ Ù³uÇÝ ÙÇçÝáñ¹áõÃÛáõÝÝ»ñ | T19: =J19+K19 -> 0 | U19: =P19+Q19+R19 -> 0 | V19: =P19 -> 0 | W19: =L19+M19+N19+O19 -> 0
A20: 3 | B20: Ñ³ñÏ³¹Çñ µáõÅÙ³Ý ï»ë³ÏÇ ÷á÷áËáõÃÛ³Ý Ù³ëÇÝ ÙÇçÝáñ¹áõÃÛáõÝÝ»ñ | T20: =J20+K20 -> 0 | U20: =P20+Q20+R20 -> 0 | V20: =P20 -> 0 | W20: =L20+M20+N20+O20 -> 0
A21: 4 | B21: ³ÛÉ ÙÇçÝáñ¹áõÃÛáõÝÝ»ñ | T21: =J21+K21 -> 0 | U21: =P21+Q21+R21 -> 0 | V21: =P21 -> 0 | W21: =L21+M21+N21+O21 -> 0
A22: 5 | B22: ¹³ï³Ï³Ý Ñ³ÝÓÝ³ñ³ñáõÃÛáõÝÝ»ñ | E22: 1 | L22: 1 | T22: =J22+K22 -> 0 | U22: =P22+Q22+R22 -> 0 | V22: =P22 -> 0 | W22: =L22+M22+N22+O22 -> 1
A23: ÀÜ¸²ØºÜÀ | D23: =D7+D8+D9+D10+D11+D12+D13+D14+D15+D16+D18+D19+D20+D21+D22 -> 0 | E23: =E7+E8+E9+E10+E11+E12+E13+E14+E15+E16+E18+E19+E20+E21+E22 -> 1 | F23: =F7+F8+F9+F10+F11+F12+F13+F14+F15+F16+F18+F19+F20+F21+F22 -> 0 | G23: =G7+G8+G9+G10+G11+G12+G13+G14+G15+G16+G18+G19+G20+G21+G22 -> 0 | H23: =H7+H8+H9+H10+H11+H12+H13+H14+H15+H16+H18+H19+H20+H21+H22 -> 0 | I23: =I7+I8+I9+I10+I11+I12+I13+I14+I15+I16+I18+I19+I20+I21+I22 -> 0 | J23: =J7+J8+J9+J10+J11+J12+J13+J14+J15+J16+J18+J19+J20+J21+J22 -> 0 | K23: =K7+K8+K9+K10+K11+K12+K13+K14+K15+K16+K18+K19+K20+K21+K22 -> 0 | ... R23: =R7+R8+R9+R10+R11+R12+R13+R14+R15+R16+R18+R19+R20+R21+R22 -> 0 | T23: =SUM(T7:T16,T18:T22) -> 0 | U23: =SUM(U7:U16,U18:U22) -> 0 | V23: =SUM(V7:V16,V18:V22) -> 0 | W23: =SUM(W7:W16,W18:W22) -> 1

Sheet Լ. Կատվալյան
A1: 2016Ã. 1-ԻՆ ԿԻՍԱՄՅԱԿ | D1: Ð²ÞìºîìàôÂÚàôÜ | P1: Ð³í»Éí³Í Ð³Û³ëï³ÝÇ Ð³Ýñ³å»ïáõÃÛ³Ý ¸³ï³ñ³ÝÝ»ñÇ Ý³Ë³·³ÑÝ»ñÇ ËáñÑñ¹Ç 25.08.2016Ã. ÃÇí 44-È áñáßÙ³Ý
A2: ØÇÝã¹³ï³Ï³Ý í³ñáõÛÃÇ ÝÏ³ïÙ³Ùµ ¹³ï³Ï³Ý í»ñ³ÑëÏáÕáõÃÛ³ÝÁ, ¹³ï³Ï³Ý ³Ïï»ñÇ ¨ ¹³ï³Ï³Ý Ñ³ÝÓÝ³ñ³ñáõÃÛáõÝÝ»ñÇ Ï³ï³ñÙ³Ý Ñ»ï Ï³åí³Í ÙÇçÝáñ¹áõÃÛáõÝÝ»ñÇ í»ñ³µ»ñÛ³É ¹³ï³Ï³Ý ·áñÍ»ñáí ºñ¨³Ý ù³Õ³ùÇ Ø³É³ÃÇ³-ê»µ³ëïÇ³ í³ñã³Ï³Ý ßñç³ÝÇ ÁÝ¹Ñ³Ýáõñ Çñ³í³ëáõÃÛ³Ý ³é³çÇÝ ³ïÛ³ÝÇ ¹³ï³ñ³ÝÇ ¹³ï³íáñ Լ. Կատվալյանի ·áñÍáõÝ»áõÃÛ³Ý í»ñ³µ»ñÛ³É
A3: êïáõ·Çã Ñ³í³ë³ñáõÙ` 1+2=3+8+9, 8=4+5+6+7, | D3: Ð³ßí»ïáõ Å³Ù³Ý³Ï³Ñ³ïí³ÍÇ ëÏ½µáõÙ Ý³Ëáñ¹ Ñ³ßí»ïáõ Å³Ù³Ý³Ï³Ñ³ïí³ÍÇó ÷áË³Ýóí³Í ·áñÍ»ñÇ ÁÝ¹Ñ³Ýáõñ ÃÇíÁ | E3: Ð³ßí»ïáõ Å³Ù³Ý³Ï³Ñ³ïí³ÍáõÙ ëï³óí³Í ·áñÍ»ñÇ ÁÝ¹Ñ³Ýáõñ ÃÇíÁ | F3: öáË³Ýóí»É ¿ ³ÛÉ ¹³ï³íáñÇ Ï³Ù ³ÛÉ ¹³ï³ñ³Ý (Ï³½ÙÇ ÷á÷áËáõÃÛáõÝ, ÁÝ¹¹³ïáõÃÛáõÝ) | G3: Ð³ßí»ïáõ Å³Ù³Ý³Ï³Ñ³ïí³ÍáõÙ ³í³ñïí³Í ·áñÍ»ñÇ ÁÝ¹Ñ³Ýáõñ ÃÇíÁ | L3: Ð³ßí»ïáõ Å³Ù³Ý³Ï³Ñ³ïí³ÍáõÙ ³Ý³í³ñï ·áñÍ»ñÇ ÁÝ¹Ñ³Ýáõñ ÃÇíÁ | M3: ØÇçÝáñ¹áõÃÛáõÝÝ»ñáí Ï³Û³óí³Í ¹³ï³Ï³Ý ³Ïï»ñÇó µáÕáù³ñÏí³ÍÝ»ñÇ ù³Ý³ÏÁ | O3: ²Ý³í³ñï µáÕáùÝ»ñ | P3: ØÇçÝáñ¹áõÃÛáõÝÝ»ñáí Ï³Û³óí³Í ¨ µáÕáù³ñÏí³Í ¹³ï³Ï³Ý ³Ïï»ñÇó µ»Ï³Ýí³ÍÝ»ñÇ ù³Ý³ÏÁ | R3: ÙÇçÝáñ¹áõÃÛáõÝÝ»ñáí Ï³Û³óí³Í ¨ µáÕáù³ñÏí³Í ¹³ï³Ï³Ý ³Ïï»ñÇó ³Ý÷á÷áË ÃáÕÝí³ÍÝ»ñÇ ù³Ý³ÏÁ
G4: Ù»ñÅí»É ¿ | H4: µ³í³ñ³ñí»É ¿ | I4: µ³í³ñ³ñí»É ¿ Ù³ëÝ³ÏÇ | J4: ÃáÕÝí»É ¿ ³é³Ýó ùÝÝáõÃÛ³Ý | K4: ÀÝ¹³Ù»ÝÁ
M5: Ý³Ëáñ¹ ï³ñÇÝ»ñÇÝ Ï³Û³óí³Í ³Ïï»ñÇ ¹»Ù | N5: Ñ³ßí»ïáõ Å³Ù³Ý³Ï³ßñç³ÝáõÙ Ï³Û³óí³Í ³Ïï»ñÇ ¹»Ù | P5: Ý³Ëáñ¹ ï³ñÇÝ»ñÇÝ Ï³Û³óí³Í ³Ïï»ñÇ µ»Ï³ÝáõÙÝ»ñÁ | Q5: Ñ³ßí»ïáõ Å³Ù³Ý³Ï³ßñç³ÝáõÙ Ï³Û³óí³Í ³Ïï»ñÇ µ»Ï³ÝáõÙÝ»ñÁ
A6: 1. ØÇÝã¹³ï³Ï³Ý í³ñáõÛÃÇ ÝÏ³ïÙ³Ùµ ¹³ï³Ï³Ý í»ñ³ÑëÏáÕáõÃÛ³Ý áÉáñï | D6: 1 | E6: 2 | F6: 3 | G6: 4 | H6: 5 | I6: 6 | J6: 7 | K6: 8 | L6: 9 | M6: 10 | N6: 11 | O6: 12 | P6: 13 | Q6: 14 | R6: 15 | T6: 1+2=7+8+9 | V6: 7=3+4+5+6
A7: 1 | B7: Ï³É³ÝùÁ áñå»ë Ë³÷³ÝÙ³Ý ÙÇçáó ÏÇñ³é»Éáõ Ù³ëÇÝ ÙÇçÝáñ¹áõÃÛáõÝÝ»ñ | T7: =J7+K7 -> 0 | U7: =P7+Q7+R7 -> 0 | V7: =P7 -> 0 | W7: =L7+M7+N7+O7 -> 0
A8: 2 | B8: Ï³É³ÝùÇ Å³ÙÏ»ïÁ »ñÏ³ñ³óÝ»Éáõ Ù³ëÇÝ ÙÇçÝáñ¹áõÃÛáõÝÝ»ñ | T8: =J8+K8 -> 0 | U8: =P8+Q8+R8 -> 0 | V8: =P8 -> 0 | W8: =L8+M8+N8+O8 -> 0
A9: 3 | B9: Ï³É³ÝùÇ í»ñ³Ñ³ëï³ïÙ³Ý Ù³ëÇÝ ÙÇçÝáñ¹áõÃÛáõÝÝ»ñ | T9: =J9+K9 -> 0 | U9: =P9+Q9+R9 -> 0 | V9: =P9 -> 0 | W9: =L9+M9+N9+O9 -> 0
A10: 4 | B10: ·ñ³íÁ áñå»ë Ï³É³Ý³íáñÙ³Ý ³ÛÉÁÝïñ³Ýù³ÛÇÝ Ë³÷³ÝÙ³Ý ÙÇçáó ÏÇñ³é»Éáõ Ù³ëÇÝ ÙÇçÝáñ¹áõÃÛáõÝÝ»ñ | T10: =J10+K10 -> 0 | U10: =P10+Q10+R10 -> 0 | V10: =P10 -> 0 | W10: =L10+M10+N10+O10 -> 0
A11: 5 | B11: Ëáõ½³ñÏáõÃÛ³Ý Ï³ï³ñÙ³Ý Ù³ëÇÝ ÙÇçÝáñ¹áõÃÛáõÝÝ»ñ | T11: =J11+K11 -> 0 | U11: =P11+Q11+R11 -> 0 | V11: =P11 -> 0 | W11: =L11+M11+N11+O11 -> 0
A12: 6 | B12: µ³ÝÏ³ÛÇÝ, ³å³Ñáí³·ñ³Ï³Ý, Ýáï³ñ³Ï³Ý ·³ÕïÝÇù Ï³½ÙáÕ ï»Õ»ÏáõÃÛáõÝÝ»ñÇ ëï³óÙ³Ý Ñ³Ù³ñ Ëáõ½³ñÏáõÃÛ³Ý Ï³Ù ³é·ñ³íÙ³Ý Ï³ï³ñÙ³Ý Ù³ëÇÝ ÙÇçÝáñ¹áõÃÛáõÝÝ»ñ | T12: =J12+K12 -> 0 | U12: =P12+Q12+R12 -> 0 | V12: =P12 -> 0 | W12: =L12+M12+N12+O12 -> 0
A13: 7 | B13: Ý³Ù³Ï³·ñáõÃÛ³Ý, Ñ»é³·ñ³Ï³Ý, ÷áuï³ÛÇÝ Ñ³Õáñ¹áõÙÝ»ñÇ ÑëÏáÕáõÃÛ³Ý Ù³ëÇÝ ÙÇçÝáñ¹áõÃÛáõÝÝ»ñ | T13: =J13+K13 -> 0 | U13: =P13+Q13+R13 -> 0 | V13: =P13 -> 0 | W13: =L13+M13+N13+O13 -> 0
A14: 8 | B14: Ñ»é³Ëáu³ÛÇÝ Ï³Ù Ï³åÇ ³ÛÉ ÙÇçáóÝ»ñáí ï³ñíáÕ Ëáu³ÏóáõÃÛáõÝÝ»ñÇ ÉuÙ³Ý ¨ Ó³ÛÝ³·ñ³éÙ³Ý Ù³ëÇÝ ÙÇçÝáñ¹áõÃÛáõÝÝ»ñ | T14: =J14+K14 -> 0 | U14: =P14+Q14+R14 -> 0 | V14: =P14 -> 0 | W14: =L14+M14+N14+O14 -> 0
A15: 9 | B15: Ñ»é³ËáëÝ»ñÇ Ùáõïù³ÛÇÝ ¨ »Éù³ÛÇÝ í»ñÍ³ÝÙ³Ý ÃáõÛÉïíáõÃÛáõÝ ëï³Ý³Éáõ Ù³ëÇÝ ÙÇçÝáñ¹áõÃÛáõÝÝ»ñ | T15: =J15+K15 -> 0 | U15: =P15+Q15+R15 -> 0 | V15: =P15 -> 0 | W15: =L15+M15+N15+O15 -> 0
A16: 10 | B16: Ñ»ï³ùÝÝáõÃÛ³Ý Ù³ñÙÝÇ ³ßË³ïáÕÇ, ùÝÝÇãÇ, ¹³ï³Ë³½Ç oå»ñ³ïÇí-Ñ»ï³Ëáõ½³Ï³Ý ·áñÍáÕáõÃÛáõÝÝ»ñ Çñ³Ï³Ý³óÝáÕ Ù³ñÙÇÝÝ»ñÇ ³ÝoñÇÝ³Ï³Ý ¨ ³ÝÑÇÙÝ áñáßáõÙÝ»ñÇ ¨ ·áñÍáÕáõÃÛáõÝÝ»ñÇ ¹»Ù µáÕáùÝ»ñ | T16: =J16+K16 -> 0 | U16: =P16+Q16+R16 -> 0 | V16: =P16 -> 0 | W16: =L16+M16+N16+O16 -> 0
A17: 2. ¸³ï³Ï³Ý ³Ïï»ñÇ ¨ ¹³ï³Ï³Ý Ñ³ÝÓÝ³ñ³ñáõÃÛáõÝÝ»ñÇ Ï³ï³ñÙ³Ý Ñ»ï Ï³åí³Í Ñ³ñó»ñÇ ÉáõÍÙ³Ý áÉáñï
A18: 1 | B18: å³ïÅÇó å³ÛÙ³Ý³Ï³Ý í³Õ³Å³ÙÏ»ï ³½³ï»Éáõ Ù³ëÇÝ ÙÇçÝáñ¹áõÃÛáõÝÝ»ñ | T18: =J18+K18 -> 0 | U18: =P18+Q18+R18 -> 0 | V18: =P18 -> 0 | W18: =L18+M18+N18+O18 -> 0
A19: 2 | B19: å³ïÇÅÁ ÷á÷áË»Éáõ, Ñ»ï³Ó·»Éáõ ¨ å³ïÅÇó ³½³ï»Éáõ Ù³uÇÝ ÙÇçÝáñ¹áõÃÛáõÝÝ»ñ | T19: =J19+K19 -> 0 | U19: =P19+Q19+R19 -> 0 | V19: =P19 -> 0 | W19: =L19+M19+N19+O19 -> 0
A20: 3 | B20: Ñ³ñÏ³¹Çñ µáõÅÙ³Ý ï»ë³ÏÇ ÷á÷áËáõÃÛ³Ý Ù³ëÇÝ ÙÇçÝáñ¹áõÃÛáõÝÝ»ñ | T20: =J20+K20 -> 0 | U20: =P20+Q20+R20 -> 0 | V20: =P20 -> 0 | W20: =L20+M20+N20+O20 -> 0
A21: 4 | B21: ³ÛÉ ÙÇçÝáñ¹áõÃÛáõÝÝ»ñ | T21: =J21+K21 -> 0 | U21: =P21+Q21+R21 -> 0 | V21: =P21 -> 0 | W21: =L21+M21+N21+O21 -> 0
A22: 5 | B22: ¹³ï³Ï³Ý Ñ³ÝÓÝ³ñ³ñáõÃÛáõÝÝ»ñ | D22: 1 | E22: 1 | L22: 2 | T22: =J22+K22 -> 0 | U22: =P22+Q22+R22 -> 0 | V22: =P22 -> 0 | W22: =L22+M22+N22+O22 -> 2
A23: ÀÜ¸²ØºÜÀ | D23: =D7+D8+D9+D10+D11+D12+D13+D14+D15+D16+D18+D19+D20+D21+D22 -> 1 | E23: =E7+E8+E9+E10+E11+E12+E13+E14+E15+E16+E18+E19+E20+E21+E22 -> 1 | F23: =F7+F8+F9+F10+F11+F12+F13+F14+F15+F16+F18+F19+F20+F21+F22 -> 0 | G23: =G7+G8+G9+G10+G11+G12+G13+G14+G15+G16+G18+G19+G20+G21+G22 -> 0 | H23: =H7+H8+H9+H10+H11+H12+H13+H14+H15+H16+H18+H19+H20+H21+H22 -> 0 | I23: =I7+I8+I9+I10+I11+I12+I13+I14+I15+I16+I18+I19+I20+I21+I22 -> 0 | J23: =J7+J8+J9+J10+J11+J12+J13+J14+J15+J16+J18+J19+J20+J21+J22 -> 0 | K23: =K7+K8+K9+K10+K11+K12+K13+K14+K15+K16+K18+K19+K20+K21+K22 -> 0 | ... R23: =R7+R8+R9+R10+R11+R12+R13+R14+R15+R16+R18+R19+R20+R21+R22 -> 0 | T23: =SUM(T7:T16,T18:T22) -> 0 | U23: =SUM(U7:U16,U18:U22) -> 0 | V23: =SUM(V7:V16,V18:V22) -> 0 | W23: =SUM(W7:W16,W18:W22) -> 2

Sheet Ա. Մկրտչյան
A1: 2016Ã. 1-ԻՆ ԿԻՍԱՄՅԱԿ | D1: Ð²ÞìºîìàôÂÚàôÜ | P1: Ð³í»Éí³Í Ð³Û³ëï³ÝÇ Ð³Ýñ³å»ïáõÃÛ³Ý ¸³ï³ñ³ÝÝ»ñÇ Ý³Ë³·³ÑÝ»ñÇ ËáñÑñ¹Ç 25.08.2016Ã. ÃÇí 44-È áñáßÙ³Ý
A2: ØÇÝã¹³ï³Ï³Ý í³ñáõÛÃÇ ÝÏ³ïÙ³Ùµ ¹³ï³Ï³Ý í»ñ³ÑëÏáÕáõÃÛ³ÝÁ, ¹³ï³Ï³Ý ³Ïï»ñÇ ¨ ¹³ï³Ï³Ý Ñ³ÝÓÝ³ñ³ñáõÃÛáõÝÝ»ñÇ Ï³ï³ñÙ³Ý Ñ»ï Ï³åí³Í ÙÇçÝáñ¹áõÃÛáõÝÝ»ñÇ í»ñ³µ»ñÛ³É ¹³ï³Ï³Ý ·áñÍ»ñáí ºñ¨³Ý ù³Õ³ùÇ Ø³É³ÃÇ³-ê»µ³ëïÇ³ í³ñã³Ï³Ý ßñç³ÝÇ ÁÝ¹Ñ³Ýáõñ Çñ³í³ëáõÃÛ³Ý ³é³çÇÝ ³ïÛ³ÝÇ ¹³ï³ñ³ÝÇ ¹³ï³íáñ Ա. Մկրտչյանի ·áñÍáõÝ»áõÃÛ³Ý í»ñ³µ»ñÛ³É
A3: êïáõ·Çã Ñ³í³ë³ñáõÙ` 1+2=3+8+9, 8=4+5+6+7, | D3: Ð³ßí»ïáõ Å³Ù³Ý³Ï³Ñ³ïí³ÍÇ ëÏ½µáõÙ Ý³Ëáñ¹ Ñ³ßí»ïáõ Å³Ù³Ý³Ï³Ñ³ïí³ÍÇó ÷áË³Ýóí³Í ·áñÍ»ñÇ ÁÝ¹Ñ³Ýáõñ ÃÇíÁ | E3: Ð³ßí»ïáõ Å³Ù³Ý³Ï³Ñ³ïí³ÍáõÙ ëï³óí³Í ·áñÍ»ñÇ ÁÝ¹Ñ³Ýáõñ ÃÇíÁ | F3: öáË³Ýóí»É ¿ ³ÛÉ ¹³ï³íáñÇ Ï³Ù ³ÛÉ ¹³ï³ñ³Ý (Ï³½ÙÇ ÷á÷áËáõÃÛáõÝ, ÁÝ¹¹³ïáõÃÛáõÝ) | G3: Ð³ßí»ïáõ Å³Ù³Ý³Ï³Ñ³ïí³ÍáõÙ ³í³ñïí³Í ·áñÍ»ñÇ ÁÝ¹Ñ³Ýáõñ ÃÇíÁ | L3: Ð³ßí»ïáõ Å³Ù³Ý³Ï³Ñ³ïí³ÍáõÙ ³Ý³í³ñï ·áñÍ»ñÇ ÁÝ¹Ñ³Ýáõñ ÃÇíÁ | M3: ØÇçÝáñ¹áõÃÛáõÝÝ»ñáí Ï³Û³óí³Í ¹³ï³Ï³Ý ³Ïï»ñÇó µáÕáù³ñÏí³ÍÝ»ñÇ ù³Ý³ÏÁ | O3: ²Ý³í³ñï µáÕáùÝ»ñ | P3: ØÇçÝáñ¹áõÃÛáõÝÝ»ñáí Ï³Û³óí³Í ¨ µáÕáù³ñÏí³Í ¹³ï³Ï³Ý ³Ïï»ñÇó µ»Ï³Ýí³ÍÝ»ñÇ ù³Ý³ÏÁ | R3: ÙÇçÝáñ¹áõÃÛáõÝÝ»ñáí Ï³Û³óí³Í ¨ µáÕáù³ñÏí³Í ¹³ï³Ï³Ý ³Ïï»ñÇó ³Ý÷á÷áË ÃáÕÝí³ÍÝ»ñÇ ù³Ý³ÏÁ
G4: Ù»ñÅí»É ¿ | H4: µ³í³ñ³ñí»É ¿ | I4: µ³í³ñ³ñí»É ¿ Ù³ëÝ³ÏÇ | J4: ÃáÕÝí»É ¿ ³é³Ýó ùÝÝáõÃÛ³Ý | K4: ÀÝ¹³Ù»ÝÁ
M5: Ý³Ëáñ¹ ï³ñÇÝ»ñÇÝ Ï³Û³óí³Í ³Ïï»ñÇ ¹»Ù | N5: Ñ³ßí»ïáõ Å³Ù³Ý³Ï³ßñç³ÝáõÙ Ï³Û³óí³Í ³Ïï»ñÇ ¹»Ù | P5: Ý³Ëáñ¹ ï³ñÇÝ»ñÇÝ Ï³Û³óí³Í ³Ïï»ñÇ µ»Ï³ÝáõÙÝ»ñÁ | Q5: Ñ³ßí»ïáõ Å³Ù³Ý³Ï³ßñç³ÝáõÙ Ï³Û³óí³Í ³Ïï»ñÇ µ»Ï³ÝáõÙÝ»ñÁ
A6: 1. ØÇÝã¹³ï³Ï³Ý í³ñáõÛÃÇ ÝÏ³ïÙ³Ùµ ¹³ï³Ï³Ý í»ñ³ÑëÏáÕáõÃÛ³Ý áÉáñï | D6: 1 | E6: 2 | F6: 3 | G6: 4 | H6: 5 | I6: 6 | J6: 7 | K6: 8 | L6: 9 | M6: 10 | N6: 11 | O6: 12 | P6: 13 | Q6: 14 | R6: 15 | T6: 1+2=7+8+9 | V6: 7=3+4+5+6
A7: 1 | B7: Ï³É³ÝùÁ áñå»ë Ë³÷³ÝÙ³Ý ÙÇçáó ÏÇñ³é»Éáõ Ù³ëÇÝ ÙÇçÝáñ¹áõÃÛáõÝÝ»ñ | E7: 5 | H7: 5 | K7: 5 | T7: =J7+K7 -> 5 | U7: =P7+Q7+R7 -> 0 | V7: =P7 -> 0 | W7: =L7+M7+N7+O7 -> 0
A8: 2 | B8: Ï³É³ÝùÇ Å³ÙÏ»ïÁ »ñÏ³ñ³óÝ»Éáõ Ù³ëÇÝ ÙÇçÝáñ¹áõÃÛáõÝÝ»ñ | E8: 2 | H8: 2 | K8: 2 | T8: =J8+K8 -> 2 | U8: =P8+Q8+R8 -> 0 | V8: =P8 -> 0 | W8: =L8+M8+N8+O8 -> 0
A9: 3 | B9: Ï³É³ÝùÇ í»ñ³Ñ³ëï³ïÙ³Ý Ù³ëÇÝ ÙÇçÝáñ¹áõÃÛáõÝÝ»ñ | T9: =J9+K9 -> 0 | U9: =P9+Q9+R9 -> 0 | V9: =P9 -> 0 | W9: =L9+M9+N9+O9 -> 0
A10: 4 | B10: ·ñ³íÁ áñå»ë Ï³É³Ý³íáñÙ³Ý ³ÛÉÁÝïñ³Ýù³ÛÇÝ Ë³÷³ÝÙ³Ý ÙÇçáó ÏÇñ³é»Éáõ Ù³ëÇÝ ÙÇçÝáñ¹áõÃÛáõÝÝ»ñ | T10: =J10+K10 -> 0 | U10: =P10+Q10+R10 -> 0 | V10: =P10 -> 0 | W10: =L10+M10+N10+O10 -> 0
A11: 5 | B11: Ëáõ½³ñÏáõÃÛ³Ý Ï³ï³ñÙ³Ý Ù³ëÇÝ ÙÇçÝáñ¹áõÃÛáõÝÝ»ñ | E11: 5 | H11: 5 | K11: 5 | T11: =J11+K11 -> 5 | U11: =P11+Q11+R11 -> 0 | V11: =P11 -> 0 | W11: =L11+M11+N11+O11 -> 0
A12: 6 | B12: µ³ÝÏ³ÛÇÝ, ³å³Ñáí³·ñ³Ï³Ý, Ýáï³ñ³Ï³Ý ·³ÕïÝÇù Ï³½ÙáÕ ï»Õ»ÏáõÃÛáõÝÝ»ñÇ ëï³óÙ³Ý Ñ³Ù³ñ Ëáõ½³ñÏáõÃÛ³Ý Ï³Ù ³é·ñ³íÙ³Ý Ï³ï³ñÙ³Ý Ù³ëÇÝ ÙÇçÝáñ¹áõÃÛáõÝÝ»ñ | T12: =J12+K12 -> 0 | U12: =P12+Q12+R12 -> 0 | V12: =P12 -> 0 | W12: =L12+M12+N12+O12 -> 0
A13: 7 | B13: Ý³Ù³Ï³·ñáõÃÛ³Ý, Ñ»é³·ñ³Ï³Ý, ÷áuï³ÛÇÝ Ñ³Õáñ¹áõÙÝ»ñÇ ÑëÏáÕáõÃÛ³Ý Ù³ëÇÝ ÙÇçÝáñ¹áõÃÛáõÝÝ»ñ | T13: =J13+K13 -> 0 | U13: =P13+Q13+R13 -> 0 | V13: =P13 -> 0 | W13: =L13+M13+N13+O13 -> 0
A14: 8 | B14: Ñ»é³Ëáu³ÛÇÝ Ï³Ù Ï³åÇ ³ÛÉ ÙÇçáóÝ»ñáí ï³ñíáÕ Ëáu³ÏóáõÃÛáõÝÝ»ñÇ ÉuÙ³Ý ¨ Ó³ÛÝ³·ñ³éÙ³Ý Ù³ëÇÝ ÙÇçÝáñ¹áõÃÛáõÝÝ»ñ | T14: =J14+K14 -> 0 | U14: =P14+Q14+R14 -> 0 | V14: =P14 -> 0 | W14: =L14+M14+N14+O14 -> 0
A15: 9 | B15: Ñ»é³ËáëÝ»ñÇ Ùáõïù³ÛÇÝ ¨ »Éù³ÛÇÝ í»ñÍ³ÝÙ³Ý ÃáõÛÉïíáõÃÛáõÝ ëï³Ý³Éáõ Ù³ëÇÝ ÙÇçÝáñ¹áõÃÛáõÝÝ»ñ | E15: 7 | H15: 7 | K15: 7 | T15: =J15+K15 -> 7 | U15: =P15+Q15+R15 -> 0 | V15: =P15 -> 0 | W15: =L15+M15+N15+O15 -> 0
A16: 10 | B16: Ñ»ï³ùÝÝáõÃÛ³Ý Ù³ñÙÝÇ ³ßË³ïáÕÇ, ùÝÝÇãÇ, ¹³ï³Ë³½Ç oå»ñ³ïÇí-Ñ»ï³Ëáõ½³Ï³Ý ·áñÍáÕáõÃÛáõÝÝ»ñ Çñ³Ï³Ý³óÝáÕ Ù³ñÙÇÝÝ»ñÇ ³ÝoñÇÝ³Ï³Ý ¨ ³ÝÑÇÙÝ áñáßáõÙÝ»ñÇ ¨ ·áñÍáÕáõÃÛáõÝÝ»ñÇ ¹»Ù µáÕáùÝ»ñ | T16: =J16+K16 -> 0 | U16: =P16+Q16+R16 -> 0 | V16: =P16 -> 0 | W16: =L16+M16+N16+O16 -> 0
A17: 2. ¸³ï³Ï³Ý ³Ïï»ñÇ ¨ ¹³ï³Ï³Ý Ñ³ÝÓÝ³ñ³ñáõÃÛáõÝÝ»ñÇ Ï³ï³ñÙ³Ý Ñ»ï Ï³åí³Í Ñ³ñó»ñÇ ÉáõÍÙ³Ý áÉáñï
A18: 1 | B18: å³ïÅÇó å³ÛÙ³Ý³Ï³Ý í³Õ³Å³ÙÏ»ï ³½³ï»Éáõ Ù³ëÇÝ ÙÇçÝáñ¹áõÃÛáõÝÝ»ñ | T18: =J18+K18 -> 0 | U18: =P18+Q18+R18 -> 0 | V18: =P18 -> 0 | W18: =L18+M18+N18+O18 -> 0
A19: 2 | B19: å³ïÇÅÁ ÷á÷áË»Éáõ, Ñ»ï³Ó·»Éáõ ¨ å³ïÅÇó ³½³ï»Éáõ Ù³uÇÝ ÙÇçÝáñ¹áõÃÛáõÝÝ»ñ | T19: =J19+K19 -> 0 | U19: =P19+Q19+R19 -> 0 | V19: =P19 -> 0 | W19: =L19+M19+N19+O19 -> 0
A20: 3 | B20: Ñ³ñÏ³¹Çñ µáõÅÙ³Ý ï»ë³ÏÇ ÷á÷áËáõÃÛ³Ý Ù³ëÇÝ ÙÇçÝáñ¹áõÃÛáõÝÝ»ñ | T20: =J20+K20 -> 0 | U20: =P20+Q20+R20 -> 0 | V20: =P20 -> 0 | W20: =L20+M20+N20+O20 -> 0
A21: 4 | B21: ³ÛÉ ÙÇçÝáñ¹áõÃÛáõÝÝ»ñ | T21: =J21+K21 -> 0 | U21: =P21+Q21+R21 -> 0 | V21: =P21 -> 0 | W21: =L21+M21+N21+O21 -> 0
A22: 5 | B22: ¹³ï³Ï³Ý Ñ³ÝÓÝ³ñ³ñáõÃÛáõÝÝ»ñ | D22: 2 | E22: 1 | H22: 2 | K22: 2 | L22: 1 | T22: =J22+K22 -> 2 | U22: =P22+Q22+R22 -> 0 | V22: =P22 -> 0 | W22: =L22+M22+N22+O22 -> 1
A23: ÀÜ¸²ØºÜÀ | D23: =D7+D8+D9+D10+D11+D12+D13+D14+D15+D16+D18+D19+D20+D21+D22 -> 2 | E23: =E7+E8+E9+E10+E11+E12+E13+E14+E15+E16+E18+E19+E20+E21+E22 -> 20 | F23: =F7+F8+F9+F10+F11+F12+F13+F14+F15+F16+F18+F19+F20+F21+F22 -> 0 | G23: =G7+G8+G9+G10+G11+G12+G13+G14+G15+G16+G18+G19+G20+G21+G22 -> 0 | H23: =H7+H8+H9+H10+H11+H12+H13+H14+H15+H16+H18+H19+H20+H21+H22 -> 21 | I23: =I7+I8+I9+I10+I11+I12+I13+I14+I15+I16+I18+I19+I20+I21+I22 -> 0 | J23: =J7+J8+J9+J10+J11+J12+J13+J14+J15+J16+J18+J19+J20+J21+J22 -> 0 | K23: =K7+K8+K9+K10+K11+K12+K13+K14+K15+K16+K18+K19+K20+K21+K22 -> 21 | ... R23: =R7+R8+R9+R10+R11+R12+R13+R14+R15+R16+R18+R19+R20+R21+R22 -> 0 | T23: =SUM(T7:T16,T18:T22) -> 21 | U23: =SUM(U7:U16,U18:U22) -> 0 | V23: =SUM(V7:V16,V18:V22) -> 0 | W23: =SUM(W7:W16,W18:W22) -> 1

Sheet Ն. Կարապետյան
A1: 2016Ã. 1-ԻՆ ԿԻՍԱՄՅԱԿ | D1: Ð²ÞìºîìàôÂÚàôÜ | P1: Ð³í»Éí³Í Ð³Û³ëï³ÝÇ Ð³Ýñ³å»ïáõÃÛ³Ý ¸³ï³ñ³ÝÝ»ñÇ Ý³Ë³·³ÑÝ»ñÇ ËáñÑñ¹Ç 25.08.2016Ã. ÃÇí 44-È áñáßÙ³Ý
A2: ØÇÝã¹³ï³Ï³Ý í³ñáõÛÃÇ ÝÏ³ïÙ³Ùµ ¹³ï³Ï³Ý í»ñ³ÑëÏáÕáõÃÛ³ÝÁ, ¹³ï³Ï³Ý ³Ïï»ñÇ ¨ ¹³ï³Ï³Ý Ñ³ÝÓÝ³ñ³ñáõÃÛáõÝÝ»ñÇ Ï³ï³ñÙ³Ý Ñ»ï Ï³åí³Í ÙÇçÝáñ¹áõÃÛáõÝÝ»ñÇ í»ñ³µ»ñÛ³É ¹³ï³Ï³Ý ·áñÍ»ñáí ºñ¨³Ý ù³Õ³ùÇ Ø³É³ÃÇ³-ê»µ³ëïÇ³ í³ñã³Ï³Ý ßñç³ÝÇ ÁÝ¹Ñ³Ýáõñ Çñ³í³ëáõÃÛ³Ý ³é³çÇÝ ³ïÛ³ÝÇ ¹³ï³ñ³ÝÇ ¹³ï³íáñ Ն. Կարապետյանի ·áñÍáõÝ»áõÃÛ³Ý í»ñ³µ»ñÛ³É
A3: êïáõ·Çã Ñ³í³ë³ñáõÙ` 1+2=3+8+9, 8=4+5+6+7, | D3: Ð³ßí»ïáõ Å³Ù³Ý³Ï³Ñ³ïí³ÍÇ ëÏ½µáõÙ Ý³Ëáñ¹ Ñ³ßí»ïáõ Å³Ù³Ý³Ï³Ñ³ïí³ÍÇó ÷áË³Ýóí³Í ·áñÍ»ñÇ ÁÝ¹Ñ³Ýáõñ ÃÇíÁ | E3: Ð³ßí»ïáõ Å³Ù³Ý³Ï³Ñ³ïí³ÍáõÙ ëï³óí³Í ·áñÍ»ñÇ ÁÝ¹Ñ³Ýáõñ ÃÇíÁ | F3: öáË³Ýóí»É ¿ ³ÛÉ ¹³ï³íáñÇ Ï³Ù ³ÛÉ ¹³ï³ñ³Ý (Ï³½ÙÇ ÷á÷áËáõÃÛáõÝ, ÁÝ¹¹³ïáõÃÛáõÝ) | G3: Ð³ßí»ïáõ Å³Ù³Ý³Ï³Ñ³ïí³ÍáõÙ ³í³ñïí³Í ·áñÍ»ñÇ ÁÝ¹Ñ³Ýáõñ ÃÇíÁ | L3: Ð³ßí»ïáõ Å³Ù³Ý³Ï³Ñ³ïí³ÍáõÙ ³Ý³í³ñï ·áñÍ»ñÇ ÁÝ¹Ñ³Ýáõñ ÃÇíÁ | M3: ØÇçÝáñ¹áõÃÛáõÝÝ»ñáí Ï³Û³óí³Í ¹³ï³Ï³Ý ³Ïï»ñÇó µáÕáù³ñÏí³ÍÝ»ñÇ ù³Ý³ÏÁ | O3: ²Ý³í³ñï µáÕáùÝ»ñ | P3: ØÇçÝáñ¹áõÃÛáõÝÝ»ñáí Ï³Û³óí³Í ¨ µáÕáù³ñÏí³Í ¹³ï³Ï³Ý ³Ïï»ñÇó µ»Ï³Ýí³ÍÝ»ñÇ ù³Ý³ÏÁ | R3: ÙÇçÝáñ¹áõÃÛáõÝÝ»ñáí Ï³Û³óí³Í ¨ µáÕáù³ñÏí³Í ¹³ï³Ï³Ý ³Ïï»ñÇó ³Ý÷á÷áË ÃáÕÝí³ÍÝ»ñÇ ù³Ý³ÏÁ
G4: Ù»ñÅí»É ¿ | H4: µ³í³ñ³ñí»É ¿ | I4: µ³í³ñ³ñí»É ¿ Ù³ëÝ³ÏÇ | J4: ÃáÕÝí»É ¿ ³é³Ýó ùÝÝáõÃÛ³Ý | K4: ÀÝ¹³Ù»ÝÁ
M5: Ý³Ëáñ¹ ï³ñÇÝ»ñÇÝ Ï³Û³óí³Í ³Ïï»ñÇ ¹»Ù | N5: Ñ³ßí»ïáõ Å³Ù³Ý³Ï³ßñç³ÝáõÙ Ï³Û³óí³Í ³Ïï»ñÇ ¹»Ù | P5: Ý³Ëáñ¹ ï³ñÇÝ»ñÇÝ Ï³Û³óí³Í ³Ïï»ñÇ µ»Ï³ÝáõÙÝ»ñÁ | Q5: Ñ³ßí»ïáõ Å³Ù³Ý³Ï³ßñç³ÝáõÙ Ï³Û³óí³Í ³Ïï»ñÇ µ»Ï³ÝáõÙÝ»ñÁ
A6: 1. ØÇÝã¹³ï³Ï³Ý í³ñáõÛÃÇ ÝÏ³ïÙ³Ùµ ¹³ï³Ï³Ý í»ñ³ÑëÏáÕáõÃÛ³Ý áÉáñï | D6: 1 | E6: 2 | F6: 3 | G6: 4 | H6: 5 | I6: 6 | J6: 7 | K6: 8 | L6: 9 | M6: 10 | N6: 11 | O6: 12 | P6: 13 | Q6: 14 | R6: 15 | T6: 1+2=7+8+9 | V6: 7=3+4+5+6
A7: 1 | B7: Ï³É³ÝùÁ áñå»ë Ë³÷³ÝÙ³Ý ÙÇçáó ÏÇñ³é»Éáõ Ù³ëÇÝ ÙÇçÝáñ¹áõÃÛáõÝÝ»ñ | T7: =J7+K7 -> 0 | U7: =P7+Q7+R7 -> 0 | V7: =P7 -> 0 | W7: =L7+M7+N7+O7 -> 0
A8: 2 | B8: Ï³É³ÝùÇ Å³ÙÏ»ïÁ »ñÏ³ñ³óÝ»Éáõ Ù³ëÇÝ ÙÇçÝáñ¹áõÃÛáõÝÝ»ñ | T8: =J8+K8 -> 0 | U8: =P8+Q8+R8 -> 0 | V8: =P8 -> 0 | W8: =L8+M8+N8+O8 -> 0
A9: 3 | B9: Ï³É³ÝùÇ í»ñ³Ñ³ëï³ïÙ³Ý Ù³ëÇÝ ÙÇçÝáñ¹áõÃÛáõÝÝ»ñ | T9: =J9+K9 -> 0 | U9: =P9+Q9+R9 -> 0 | V9: =P9 -> 0 | W9: =L9+M9+N9+O9 -> 0
A10: 4 | B10: ·ñ³íÁ áñå»ë Ï³É³Ý³íáñÙ³Ý ³ÛÉÁÝïñ³Ýù³ÛÇÝ Ë³÷³ÝÙ³Ý ÙÇçáó ÏÇñ³é»Éáõ Ù³ëÇÝ ÙÇçÝáñ¹áõÃÛáõÝÝ»ñ | T10: =J10+K10 -> 0 | U10: =P10+Q10+R10 -> 0 | V10: =P10 -> 0 | W10: =L10+M10+N10+O10 -> 0
A11: 5 | B11: Ëáõ½³ñÏáõÃÛ³Ý Ï³ï³ñÙ³Ý Ù³ëÇÝ ÙÇçÝáñ¹áõÃÛáõÝÝ»ñ | T11: =J11+K11 -> 0 | U11: =P11+Q11+R11 -> 0 | V11: =P11 -> 0 | W11: =L11+M11+N11+O11 -> 0
A12: 6 | B12: µ³ÝÏ³ÛÇÝ, ³å³Ñáí³·ñ³Ï³Ý, Ýáï³ñ³Ï³Ý ·³ÕïÝÇù Ï³½ÙáÕ ï»Õ»ÏáõÃÛáõÝÝ»ñÇ ëï³óÙ³Ý Ñ³Ù³ñ Ëáõ½³ñÏáõÃÛ³Ý Ï³Ù ³é·ñ³íÙ³Ý Ï³ï³ñÙ³Ý Ù³ëÇÝ ÙÇçÝáñ¹áõÃÛáõÝÝ»ñ | T12: =J12+K12 -> 0 | U12: =P12+Q12+R12 -> 0 | V12: =P12 -> 0 | W12: =L12+M12+N12+O12 -> 0
A13: 7 | B13: Ý³Ù³Ï³·ñáõÃÛ³Ý, Ñ»é³·ñ³Ï³Ý, ÷áuï³ÛÇÝ Ñ³Õáñ¹áõÙÝ»ñÇ ÑëÏáÕáõÃÛ³Ý Ù³ëÇÝ ÙÇçÝáñ¹áõÃÛáõÝÝ»ñ | T13: =J13+K13 -> 0 | U13: =P13+Q13+R13 -> 0 | V13: =P13 -> 0 | W13: =L13+M13+N13+O13 -> 0
A14: 8 | B14: Ñ»é³Ëáu³ÛÇÝ Ï³Ù Ï³åÇ ³ÛÉ ÙÇçáóÝ»ñáí ï³ñíáÕ Ëáu³ÏóáõÃÛáõÝÝ»ñÇ ÉuÙ³Ý ¨ Ó³ÛÝ³·ñ³éÙ³Ý Ù³ëÇÝ ÙÇçÝáñ¹áõÃÛáõÝÝ»ñ | T14: =J14+K14 -> 0 | U14: =P14+Q14+R14 -> 0 | V14: =P14 -> 0 | W14: =L14+M14+N14+O14 -> 0
A15: 9 | B15: Ñ»é³ËáëÝ»ñÇ Ùáõïù³ÛÇÝ ¨ »Éù³ÛÇÝ í»ñÍ³ÝÙ³Ý ÃáõÛÉïíáõÃÛáõÝ ëï³Ý³Éáõ Ù³ëÇÝ ÙÇçÝáñ¹áõÃÛáõÝÝ»ñ | T15: =J15+K15 -> 0 | U15: =P15+Q15+R15 -> 0 | V15: =P15 -> 0 | W15: =L15+M15+N15+O15 -> 0
A16: 10 | B16: Ñ»ï³ùÝÝáõÃÛ³Ý Ù³ñÙÝÇ ³ßË³ïáÕÇ, ùÝÝÇãÇ, ¹³ï³Ë³½Ç oå»ñ³ïÇí-Ñ»ï³Ëáõ½³Ï³Ý ·áñÍáÕáõÃÛáõÝÝ»ñ Çñ³Ï³Ý³óÝáÕ Ù³ñÙÇÝÝ»ñÇ ³ÝoñÇÝ³Ï³Ý ¨ ³ÝÑÇÙÝ áñáßáõÙÝ»ñÇ ¨ ·áñÍáÕáõÃÛáõÝÝ»ñÇ ¹»Ù µáÕáùÝ»ñ | T16: =J16+K16 -> 0 | U16: =P16+Q16+R16 -> 0 | V16: =P16 -> 0 | W16: =L16+M16+N16+O16 -> 0
A17: 2. ¸³ï³Ï³Ý ³Ïï»ñÇ ¨ ¹³ï³Ï³Ý Ñ³ÝÓÝ³ñ³ñáõÃÛáõÝÝ»ñÇ Ï³ï³ñÙ³Ý Ñ»ï Ï³åí³Í Ñ³ñó»ñÇ ÉáõÍÙ³Ý áÉáñï
A18: 1 | B18: å³ïÅÇó å³ÛÙ³Ý³Ï³Ý í³Õ³Å³ÙÏ»ï ³½³ï»Éáõ Ù³ëÇÝ ÙÇçÝáñ¹áõÃÛáõÝÝ»ñ | T18: =J18+K18 -> 0 | U18: =P18+Q18+R18 -> 0 | V18: =P18 -> 0 | W18: =L18+M18+N18+O18 -> 0
A19: 2 | B19: å³ïÇÅÁ ÷á÷áË»Éáõ, Ñ»ï³Ó·»Éáõ ¨ å³ïÅÇó ³½³ï»Éáõ Ù³uÇÝ ÙÇçÝáñ¹áõÃÛáõÝÝ»ñ | T19: =J19+K19 -> 0 | U19: =P19+Q19+R19 -> 0 | V19: =P19 -> 0 | W19: =L19+M19+N19+O19 -> 0
A20: 3 | B20: Ñ³ñÏ³¹Çñ µáõÅÙ³Ý ï»ë³ÏÇ ÷á÷áËáõÃÛ³Ý Ù³ëÇÝ ÙÇçÝáñ¹áõÃÛáõÝÝ»ñ | T20: =J20+K20 -> 0 | U20: =P20+Q20+R20 -> 0 | V20: =P20 -> 0 | W20: =L20+M20+N20+O20 -> 0
A21: 4 | B21: ³ÛÉ ÙÇçÝáñ¹áõÃÛáõÝÝ»ñ | T21: =J21+K21 -> 0 | U21: =P21+Q21+R21 -> 0 | V21: =P21 -> 0 | W21: =L21+M21+N21+O21 -> 0
A22: 5 | B22: ¹³ï³Ï³Ý Ñ³ÝÓÝ³ñ³ñáõÃÛáõÝÝ»ñ | D22: 2 | E22: 4 | H22: 1 | K22: 1 | L22: 5 | T22: =J22+K22 -> 1 | U22: =P22+Q22+R22 -> 0 | V22: =P22 -> 0 | W22: =L22+M22+N22+O22 -> 5
A23: ÀÜ¸²ØºÜÀ | D23: =D7+D8+D9+D10+D11+D12+D13+D14+D15+D16+D18+D19+D20+D21+D22 -> 2 | E23: =E7+E8+E9+E10+E11+E12+E13+E14+E15+E16+E18+E19+E20+E21+E22 -> 4 | F23: =F7+F8+F9+F10+F11+F12+F13+F14+F15+F16+F18+F19+F20+F21+F22 -> 0 | G23: =G7+G8+G9+G10+G11+G12+G13+G14+G15+G16+G18+G19+G20+G21+G22 -> 0 | H23: =H7+H8+H9+H10+H11+H12+H13+H14+H15+H16+H18+H19+H20+H21+H22 -> 1 | I23: =I7+I8+I9+I10+I11+I12+I13+I14+I15+I16+I18+I19+I20+I21+I22 -> 0 | J23: =J7+J8+J9+J10+J11+J12+J13+J14+J15+J16+J18+J19+J20+J21+J22 -> 0 | K23: =K7+K8+K9+K10+K11+K12+K13+K14+K15+K16+K18+K19+K20+K21+K22 -> 1 | ... R23: =R7+R8+R9+R10+R11+R12+R13+R14+R15+R16+R18+R19+R20+R21+R22 -> 0 | T23: =SUM(T7:T16,T18:T22) -> 1 | U23: =SUM(U7:U16,U18:U22) -> 0 | V23: =SUM(V7:V16,V18:V22) -> 0 | W23: =SUM(W7:W16,W18:W22) -> 5
