Workbook

Sheet ԸՆԴ
AI1: Հավելված 2 Բարձրագույն դատական խորհրդի 2022թվականի դեկտեմբերի 26-ի թիվ ԲԴԽ-122-Ո-408 որոշման
A2: 2025 թվականի տարեկան
A3: ÐÐ ì²ðâ²Î²Ü ¸²î²ð²ÜÆ ¸²î²ìàð ԸՆԴ ¶àðÌàôÜºàôÂÚ²Ü ìºð²´ºðÚ²È
A4: ÐÐ í³ñã³Ï³Ý ¹³ï³ñ³ÝÇ ¹³ï³íáñÝ»ñÇ Ñ³ëïÇùÝ»ñÇ ÃÇíÁ` 24
A5: êïáõ·Çã Ñ³í³ë³ñáõÙÝ»ñª 1=2+3+4+5, 6=7+8+9+10, 2+3+7=11+21+22+24, 12=13+14+15+16, 17=18+19+20, 21=12+17, 28=26+27, 28=29+30, 35=33+34, 35=36+37 | C5: Ð³ßí»ïáõ Å³Ù³Ý³Ï³Ñ³ïí³ÍáõÙ Ý³Ëáñ¹ Ñ³ßí»ïáõ Å³Ù³Ý³Ï³Ñ³ïí³ÍÇó ÷áË³Ýóí³Í ·áñÍ»ñÇ ÁÝ¹Ñ³Ýáõñ ÃÇíÁ | H5: Ð³ßí»ïáõ Å³Ù³Ý³Ï³Ñ³ïí³ÍáõÙ ëï³óí³Í ·áñÍ»ñÇ (³Û¹ ÃíáõÙ` Ñ³Ûó³¹ÇÙáõÙÝ»ñÇ, ¹ÇÙáõÙÝ»ñÇ) ÁÝ¹Ñ³Ýáõñ ÃÇíÁ | M5: öáË³Ýóí»É ¿ ³ÛÉ ¹³ï³íáñÇ (Ï³½ÙÇ ÷á÷áËáõÃÛáõÝ) | N5: Ð³ßí»ïáõ Å³Ù³Ý³Ï³Ñ³ïí³ÍáõÙ ³í³ñïí³Í ·áñÍ»ñÇ ÁÝ¹Ñ³Ýáõñ ÃÇíÁ | X5: ¶áñÍÝ áõÕ³ñÏí»É ¿ Áëï ÁÝ¹¹³ïáõÃÛ³Ý | Y5: Ð³ßí»ïáõ Å³Ù³Ý³Ï³Ñ³ïí³ÍáõÙ Ï³ë»óí³Í í³ñáõÛÃÝ»ñáí ·áñÍ»ñÇ ÁÝ¹Ñ³Ýáõñ ÃÇíÁ | Z5: Ð³ßí»ïáõ Å³Ù³Ý³Ï³Ñ³ïí³ÍáõÙ ³Ý³í³ñï ·áñÍ»ñÇ ÁÝ¹Ñ³Ýáõñ ÃÇíÁ | AA5: ²Û¹ ÃíáõÙ` Ï³ë»óí³Í | AB5: ´áÕáù³ñÏí³Í ¹³ï³Ï³Ý ³Ïï»ñÁ | AG5: ²í³ñïí³Í ¹³ï³Ï³Ý ·áñÍ»ñÇ µáÕáù³ñÏÙ³Ý ïáÏáëÁ (Ñ³ßí»ïáõ Å³Ù³Ý³Ï³Ñ³ïí³ÍáõÙ) | AH5: ²Ý³í³ñï µáÕáùÝ»ñ | AI5: ´»Ï³Ýí³Í ¹³ï³Ï³Ý ³Ïï»ñÁ
C6: ÀÝ¹³Ù»ÝÁ | D6: ²Û¹ ÃíáõÙ`Ï³ë»óí³Í íÇ×³ÏáõÙ ÷áË³Ýóí³Í | E6: ²Û¹ ÃíáõÙª ÁÝ¹áõÝí»É ¿ í³ñáõÛÃ | F6: ²Û¹ ÃíáõÙª í»ñ³¹³ñÓí»É ¿ | G6: ²Û¹ ÃíáõÙª ÁÝ¹áõÝáõÙÁ Ù»ñÅí»É ¿ | H6: ÀÝ¹³Ù»ÝÁ | I6: ²Û¹ ÃíáõÙª ÁÝ¹áõÝí»É ¿ í³ñáõÛÃ | J6: ²Û¹ ÃíáõÙª í»ñ³¹³ñÓí»É ¿ | K6: ²Û¹ ÃíáõÙª ÁÝ¹áõÝáõÙÁ Ù»ñÅí»É ¿ | L6: Այդ թվում անորոշ | N6: ÀÝ¹³Ù»ÝÁ ³í³ñïí»É »Ý ·áñÍ»ñ ·áñÍÝ Áëï ¿áõÃÛ³Ý ÉáõÍáÕ ¹³ï³Ï³Ý ³Ïï»ñÇ (í×ÇéÝ»ñÇ) Ï³Û³óÙ³Ùµ | O6: ²Û¹ ÃíáõÙª Ñ³ÛóÇ µ³í³ñ³ñÙ³Ùµ | P6: ²Û¹ ÃíáõÙª Ñ³ÛóÇ Ù³ëÝ³ÏÇ µ³í³ñ³ñÙ³Ùµ | Q6: ²Û¹ ÃíáõÙª Ñ³ÛóÇ Ù»ñÅÙ³Ùµ | R6: ²Û¹ ÃíáõÙ` Ù³ëÝ³ÏÇ Ù»ñÅí»É ¿, Ù³ëÝ³ÏÇ Ï³ñ×í»É | S6: ²Û¹ ÃíáõÙª Ï³ñ×í»É »Ý | W6: ÀÝ¹³Ù»ÝÝ ³í³ñïí»É »Ý ·áñÍ»ñ | AB6: ²Û¹ ÃíáõÙ` ·áñÍÝ Áëï ¿áõÃÛ³Ý ÉáõÍáÕ ¹³ï³Ï³Ý ³Ïï»ñÁ | AC6: ²Û¹ ÃíáõÙ` ÙÇç³ÝÏÛ³É ¹³ï³Ï³Ý ³Ïï»ñÁ | AD6: ÀÝ¹³Ù»ÝÁ | AE6: Ü³Ëáñ¹ ï³ñÇÝ»ñÇÝ Ï³Û³óí³Í ³Ïï»ñÇ µáÕáù³ñÏáõÙÁ Ñ³ßí»ïáõ Å³Ù³Ý³Ï³ßñç³ÝáõÙ | AF6: Ð³ßí»ïáõ Å³Ù³Ý³Ï³ßñç³ÝáõÙ Ï³Û³óí³Í ³Ïï»ñÇ µáÕáù³ñÏáõÙÁ | AI6: ²Û¹ ÃíáõÙ` ·áñÍÝ Áëï ¿áõÃÛ³Ý ÉáõÍáÕ ¹³ï³Ï³Ý ³Ïï»ñÁ | AJ6: ²Û¹ ÃíáõÙ` ÙÇç³ÝÏÛ³É ¹³ï³Ï³Ý ³Ïï»ñÁ | AK6: ÀÝ¹³Ù»ÝÁ | AL6: Ü³Ëáñ¹ ï³ñÇÝ»ñÇÝ Ï³Û³óí³Í ³Ïï»ñÇ µ»Ï³ÝáõÙÝ»ñÁ Ñ³ßí»ïáõ Å³Ù³Ý³Ï³ßñç³ÝáõÙ | AM6: Ð³ßí»ïáõ Å³Ù³Ý³Ï³ßñç³ÝáõÙ Ï³Û³óí³Í ³Ïï»ñÇ µ»Ï³ÝáõÙÁ
S7: ÀÝ¹³Ù»ÝÁ Ï³ñ×í»É »Ý | T7: ²Û¹ ÃíáõÙª Ñ³ëï³ïí»É ¿ ÏÝùí³Í Ñ³ßïáõÃÛ³Ý Ñ³Ù³Ó³ÛÝáõÃÛáõÝÁ | U7: ²Û¹ ÃíáõÙª Ñ³ÛóÇó, ¹ÇÙáõÙÇó Ññ³Å³ñí»Éáõ ÑÇÙùáí | V7: ²Û¹ ÃíáõÙª ³ÛÉ ÑÇÙùáí
B8: ì³ñã³Ï³Ý ·áñÍ»ñÇ ¹³ë³Ï³ñ·áõÙÁ | C8: 1 | D8: 2 | E8: 3 | F8: 4 | G8: 5 | H8: 6 | I8: 7 | J8: 8 | K8: 9 | L8: 10 | M8: 11 | N8: 12 | O8: 13 | P8: 14 | Q8: 15 | R8: 16 | S8: 17 | T8: 18 | U8: 19 | V8: 20 | W8: 21 | X8: 22 | Y8: 23 | Z8: 24 | AA8: 25 | AB8: 26 | AC8: 27 | AD8: 28 | AE8: 29 | AF8: 30 | AG8: 31 | AH8: 32 | AI8: 33 | AJ8: 34 | AK8: 35 | AL8: 36 | AM8: 37
A9: 1 | B9: ä»ï³Ï³Ý Ù³ñÙÇÝÝ»ñÇ, ï»Õ³Ï³Ý ÇÝùÝ³Ï³é³í³ñÙ³Ý Ù³ñÙÇÝÝ»ñÇ áõ ¹ñ³Ýó å³ßïáÝ³ï³ñ ³ÝÓ³Ýó ³Ïï»ñÝ ³Ýí³í»ñ ×³Ý³ã»Éáõ Ñ»ï Ï³åí³Í Çñ³í³ñ³Ñ³µ»ñáõÃÛáõÝÝ»ñÇ í»ñ³µ»ñÛ³É ¹³ï³Ï³Ý ·áñÍ»ñ | C9: =SUM('Ա․Ղազարյան:Ա. Քամալյան'!C9) -> 10510 | D9: =SUM('Ա․Ղազարյան:Ա. Քամալյան'!D9) -> 573 | E9: =SUM('Ա․Ղազարյան:Ա. Քամալյան'!E9) -> 9835 | F9: =SUM('Ա․Ղազարյան:Ա. Քամալյան'!F9) -> 42 | G9: =SUM('Ա․Ղազարյան:Ա. Քամալյան'!G9) -> 60 | H9: =SUM('Ա․Ղազարյան:Ա. Քամալյան'!H9) -> 24158 | I9: =SUM('Ա․Ղազարյան:Ա. Քամալյան'!I9) -> 20713 | J9: =SUM('Ա․Ղազարյան:Ա. Քամալյան'!J9) -> 2235 | ... AM9: =SUM('Ա․Ղազարյան:Ա. Քամալյան'!AM9) -> 99
A10: 1.1 | B10: ä»ï³Ï³Ý Ù³ñÙÇÝÝ»ñÇ áõ ¹ñ³Ýó å³ßïáÝ³ï³ñ ³ÝÓ³Ýó ³Ïï»ñÝ ³Ýí³í»ñ ×³Ý³ã»Éáõ Ñ»ï Ï³åí³Í Çñ³í³Ñ³ñ³µ»ñáõÃÛáõÝÝ»ñÇ í»ñ³µ»ñÛ³É ¹³ï³Ï³Ý ·áñÍ»ñ | C10: =SUM('Ա․Ղազարյան:Ա. Քամալյան'!C10) -> 8991 | D10: =SUM('Ա․Ղազարյան:Ա. Քամալյան'!D10) -> 493 | E10: =SUM('Ա․Ղազարյան:Ա. Քամալյան'!E10) -> 8427 | F10: =SUM('Ա․Ղազարյան:Ա. Քամալյան'!F10) -> 30 | G10: =SUM('Ա․Ղազարյան:Ա. Քամալյան'!G10) -> 41 | H10: =SUM('Ա․Ղազարյան:Ա. Քամալյան'!H10) -> 20979 | I10: =SUM('Ա․Ղազարյան:Ա. Քամալյան'!I10) -> 18167 | J10: =SUM('Ա․Ղազարյան:Ա. Քամալյան'!J10) -> 1762 | ... AM10: =SUM('Ա․Ղազարյան:Ա. Քամալյան'!AM10) -> 78
A11: 1.2 | B11: î»Õ³Ï³Ý ÇÝùÝ³Ï³é³í³ñÙ³Ý Ù³ñÙÇÝÝ»ñÇ áõ ¹ñ³Ýó å³ßïáÝ³ï³ñ ³ÝÓ³Ýó ³Ïï»ñÝ ³Ýí³í»ñ ×³Ý³ã»Éáõ Ñ»ï Ï³åí³Í Çñ³í³Ñ³ñ³µ»ñáõÃÛáõÝÝ»ñÇ í»ñ³µ»ñÛ³É ¹³ï³Ï³Ý ·áñÍ»ñ | C11: =SUM('Ա․Ղազարյան:Ա. Քամալյան'!C11) -> 1519 | D11: =SUM('Ա․Ղազարյան:Ա. Քամալյան'!D11) -> 80 | E11: =SUM('Ա․Ղազարյան:Ա. Քամալյան'!E11) -> 1408 | F11: =SUM('Ա․Ղազարյան:Ա. Քամալյան'!F11) -> 12 | G11: =SUM('Ա․Ղազարյան:Ա. Քամալյան'!G11) -> 19 | H11: =SUM('Ա․Ղազարյան:Ա. Քամալյան'!H11) -> 3179 | I11: =SUM('Ա․Ղազարյան:Ա. Քամալյան'!I11) -> 2546 | J11: =SUM('Ա․Ղազարյան:Ա. Քամալյան'!J11) -> 473 | ... AM11: =SUM('Ա․Ղազարյան:Ա. Քամալյան'!AM11) -> 21
A12: 2 | B12: ä»ï³Ï³Ý Ù³ñÙÇÝÝ»ñÇ, ï»Õ³Ï³Ý ÇÝùÝ³Ï³é³í³ñÙ³Ý Ù³ñÙÇÝÝ»ñÇ ¨ ¹ñ³Ýó å³ßïáÝ³ï³ñ ³ÝÓ³Ýó ·áñÍáÕáõÃÛáõÝÝ»ñÁ /³Ý·áñÍáõÃÛáõÝÁ/ íÇ×³ñÏ»Éáõ Ñ»ï Ï³åí³Í Çñ³í³Ñ³ñ³µ»ñáõÃÛáõÝÝ»ñÇ í»ñ³µ»ñÛ³É ¹³ï³Ï³Ý ·áñÍ»ñ | C12: =SUM('Ա․Ղազարյան:Ա. Քամալյան'!C12) -> 2516 | D12: =SUM('Ա․Ղազարյան:Ա. Քամալյան'!D12) -> 124 | E12: =SUM('Ա․Ղազարյան:Ա. Քամալյան'!E12) -> 2353 | F12: =SUM('Ա․Ղազարյան:Ա. Քամալյան'!F12) -> 21 | G12: =SUM('Ա․Ղազարյան:Ա. Քամալյան'!G12) -> 18 | H12: =SUM('Ա․Ղազարյան:Ա. Քամալյան'!H12) -> 3422 | I12: =SUM('Ա․Ղազարյան:Ա. Քամալյան'!I12) -> 2457 | J12: =SUM('Ա․Ղազարյան:Ա. Քամալյան'!J12) -> 702 | ... AM12: =SUM('Ա․Ղազարյան:Ա. Քամալյան'!AM12) -> 48
A13: 2.1 | B13: ä»ï³Ï³Ý Ù³ñÙÇÝÝ»ñÇ ¨ ¹ñ³Ýó å³ßïáÝ³ï³ñ ³ÝÓ³Ýó ·áñÍáÕáõÃÛáõÝÝ»ñÁ /³Ý·áñÍáõÃÛáõÝÁ/ íÇ×³ñÏ»Éáõ Ñ»ï Ï³åí³Í Çñ³í³Ñ³ñ³µ»ñáõÃÛáõÝÝ»ñÇ í»ñ³µ»ñÛ³É ¹³ï³Ï³Ý ·áñÍ»ñ | C13: =SUM('Ա․Ղազարյան:Ա. Քամալյան'!C13) -> 1509 | D13: =SUM('Ա․Ղազարյան:Ա. Քամալյան'!D13) -> 77 | E13: =SUM('Ա․Ղազարյան:Ա. Քամալյան'!E13) -> 1404 | F13: =SUM('Ա․Ղազարյան:Ա. Քամալյան'!F13) -> 14 | G13: =SUM('Ա․Ղազարյան:Ա. Քամալյան'!G13) -> 14 | H13: =SUM('Ա․Ղազարյան:Ա. Քամալյան'!H13) -> 2279 | I13: =SUM('Ա․Ղազարյան:Ա. Քամալյան'!I13) -> 1654 | J13: =SUM('Ա․Ղազարյան:Ա. Քամալյան'!J13) -> 443 | ... AM13: =SUM('Ա․Ղազարյան:Ա. Քամալյան'!AM13) -> 34
A14: 2.2 | B14: î»Õ³Ï³Ý ÇÝùÝ³Ï³é³í³ñÙ³Ý Ù³ñÙÇÝÝ»ñÇ áõ ¹ñ³Ýó å³ßïáÝ³ï³ñ ³ÝÓ³Ýó ·áñÍáÕáõÃÛáõÝÝ»ñÁ /³Ý·áñÍáõÃÛáõÝÁ/ íÇ×³ñÏ»Éáõ Ñ»ï Ï³åí³Í Çñ³í³Ñ³ñ³µ»ñáõÃÛáõÝÝ»ñÇ í»ñ³µ»ñÛ³É ¹³ï³Ï³Ý ·áñÍ»ñ | C14: =SUM('Ա․Ղազարյան:Ա. Քամալյան'!C14) -> 1007 | D14: =SUM('Ա․Ղազարյան:Ա. Քամալյան'!D14) -> 47 | E14: =SUM('Ա․Ղազարյան:Ա. Քամալյան'!E14) -> 949 | F14: =SUM('Ա․Ղազարյան:Ա. Քամալյան'!F14) -> 7 | G14: =SUM('Ա․Ղազարյան:Ա. Քամալյան'!G14) -> 4 | H14: =SUM('Ա․Ղազարյան:Ա. Քամալյան'!H14) -> 1143 | I14: =SUM('Ա․Ղազարյան:Ա. Քամալյան'!I14) -> 803 | J14: =SUM('Ա․Ղազարյան:Ա. Քամալյան'!J14) -> 259 | ... AM14: =SUM('Ա․Ղազարյան:Ա. Քամալյան'!AM14) -> 14
A15: 5 | B15: Üáï³ñ³Ï³Ý ·áñÍáÕáõÃÛáõÝÝ»ñÁ Ï³Ù Ýáï³ñÇ ³Ý·áñÍáõÃÛáõÝÁ íÇ×³ñÏ»Éáõ Ñ»ï Ï³åí³Í Çñ³í³Ñ³ñ³µ»ñáõÃÛáõÝÝ»ñÇ í»ñ³µ»ñÛ³É ¹³ï³Ï³Ý ·áñÍ»ñ | C15: =SUM('Ա․Ղազարյան:Ա. Քամալյան'!C15) -> 91 | D15: =SUM('Ա․Ղազարյան:Ա. Քամալյան'!D15) -> 7 | E15: =SUM('Ա․Ղազարյան:Ա. Քամալյան'!E15) -> 83 | F15: =SUM('Ա․Ղազարյան:Ա. Քամալյան'!F15) -> 0 | G15: =SUM('Ա․Ղազարյան:Ա. Քամալյան'!G15) -> 1 | H15: =SUM('Ա․Ղազարյան:Ա. Քամալյան'!H15) -> 23 | I15: =SUM('Ա․Ղազարյան:Ա. Քամալյան'!I15) -> 22 | J15: =SUM('Ա․Ղազարյան:Ա. Քամալյան'!J15) -> 1 | ... AM15: =SUM('Ա․Ղազարյան:Ա. Քամալյան'!AM15) -> 0
A16: 6 | B16: ÜáñÙ³ïÇí Çñ³í³Ï³Ý ³Ïï»ñÇ Çñ³í³ã³÷áõÃÛáõÝÁ íÇ×³ñÏ»Éáõ Ñ»ï Ï³åí³Í Çñ³í³Ñ³ñ³µ»ñáõÃÛáõÝÝ»ñÇ í»ñ³µ»ñÛ³É ¹³ï³Ï³Ý ·áñÍ»ñ | C16: =SUM('Ա․Ղազարյան:Ա. Քամալյան'!C16) -> 58 | D16: =SUM('Ա․Ղազարյան:Ա. Քամալյան'!D16) -> 1 | E16: =SUM('Ա․Ղազարյան:Ա. Քամալյան'!E16) -> 57 | F16: =SUM('Ա․Ղազարյան:Ա. Քամալյան'!F16) -> 0 | G16: =SUM('Ա․Ղազարյան:Ա. Քամալյան'!G16) -> 0 | H16: =SUM('Ա․Ղազարյան:Ա. Քամալյան'!H16) -> 66 | I16: =SUM('Ա․Ղազարյան:Ա. Քամալյան'!I16) -> 36 | J16: =SUM('Ա․Ղազարյան:Ա. Քամալյան'!J16) -> 17 | ... AM16: =SUM('Ա․Ղազարյան:Ա. Քամալյան'!AM16) -> 2
A17: 6.1 | B17: ¶»ñ³ï»ëã³Ï³Ý ÝáñÙ³ïÇí Çñ³í³Ï³Ý ³Ïï»ñÇª ÐÐ ê³ÑÙ³Ý³¹ñáõÃÛ³ÝÁ Ñ³Ù³å³ï³ëË³ÝáõÃÛáõÝÁ íÇ×³ñÏ»Éáõ í»ñ³µ»ñÛ³É | C17: =SUM('Ա․Ղազարյան:Ա. Քամալյան'!C17) -> 0 | D17: =SUM('Ա․Ղազարյան:Ա. Քամալյան'!D17) -> 0 | E17: =SUM('Ա․Ղազարյան:Ա. Քամալյան'!E17) -> 0 | F17: =SUM('Ա․Ղազարյան:Ա. Քամալյան'!F17) -> 0 | G17: =SUM('Ա․Ղազարյան:Ա. Քամալյան'!G17) -> 0 | H17: =SUM('Ա․Ղազարյան:Ա. Քամալյան'!H17) -> 0 | I17: =SUM('Ա․Ղազարյան:Ա. Քամալյան'!I17) -> 0 | J17: =SUM('Ա․Ղազարյան:Ա. Քամալյան'!J17) -> 0 | ... AM17: =SUM('Ա․Ղազարյան:Ա. Քամալյան'!AM17) -> 0
A18: 6.2 | B18: Ü³Ë³·³ÑÇ ÝáñÙ³ïÇí µÝáõÛÃ áõÝ»óáÕ ³Ïï»ñÇ` ³í»ÉÇ µ³ñÓñ Çñ³í³µ³Ý³Ï³Ý áõÅ áõÝ»óáÕ ÝáñÙ³ïÇí ³Ïï»ñÇÝ Ñ³Ù³å³ï³ëË³ÝáõÃÛáõÝÁ íÇ×³ñÏ»Éáõ í»ñ³µ»ñÛ³É | C18: =SUM('Ա․Ղազարյան:Ա. Քամալյան'!C18) -> 0 | D18: =SUM('Ա․Ղազարյան:Ա. Քամալյան'!D18) -> 0 | E18: =SUM('Ա․Ղազարյան:Ա. Քամալյան'!E18) -> 0 | F18: =SUM('Ա․Ղազարյան:Ա. Քամալյան'!F18) -> 0 | G18: =SUM('Ա․Ղազարյան:Ա. Քամալյան'!G18) -> 0 | H18: =SUM('Ա․Ղազարյան:Ա. Քամալյան'!H18) -> 0 | I18: =SUM('Ա․Ղազարյան:Ա. Քամալյան'!I18) -> 0 | J18: =SUM('Ա․Ղազարյան:Ա. Քամալյան'!J18) -> 0 | ... AM18: =SUM('Ա․Ղազարյան:Ա. Քամալյան'!AM18) -> 0
A19: 6.3 | B19: Î³é³í³ñáõÃÛ³Ý ÝáñÙ³ïÇí áñáßáõÙÝ»ñÇ`³í»ÉÇ µ³ñÓñ Çñ³í³µ³Ý³Ï³Ý áõÅ áõÝ»óáÕ ÝáñÙ³ïÇí ³Ïï»ñÇÝ Ñ³Ù³å³ï³ëË³ÝáõÃÛáõÝÁ íÇ×³ñÏ»Éáõ í»ñ³µ»ñÛ³É | C19: =SUM('Ա․Ղազարյան:Ա. Քամալյան'!C19) -> 41 | D19: =SUM('Ա․Ղազարյան:Ա. Քամալյան'!D19) -> 1 | E19: =SUM('Ա․Ղազարյան:Ա. Քամալյան'!E19) -> 40 | F19: =SUM('Ա․Ղազարյան:Ա. Քամալյան'!F19) -> 0 | G19: =SUM('Ա․Ղազարյան:Ա. Քամալյան'!G19) -> 0 | H19: =SUM('Ա․Ղազարյան:Ա. Քամալյան'!H19) -> 26 | I19: =SUM('Ա․Ղազարյան:Ա. Քամալյան'!I19) -> 13 | J19: =SUM('Ա․Ղազարյան:Ա. Քամալյան'!J19) -> 6 | ... AM19: =SUM('Ա․Ղազարյան:Ա. Քամալյան'!AM19) -> 1
A20: 6.4 | B20: ì³ñã³å»ïÇ ÝáñÙ³ïÇí áñáßáõÙÝ»ñÇ` ³í»ÉÇ µ³ñÓñ Çñ³í³µ³Ý³Ï³Ý áõÅ áõÝ»óáÕ ÝáñÙ³ïÇí ³Ïï»ñÇÝ Ñ³Ù³å³ï³ëË³ÝáõÃÛáõÝÁ íÇ×³ñÏ»Éáõ í»ñ³µ»ñÛ³É | C20: =SUM('Ա․Ղազարյան:Ա. Քամալյան'!C20) -> 0 | D20: =SUM('Ա․Ղազարյան:Ա. Քամալյան'!D20) -> 0 | E20: =SUM('Ա․Ղազարյան:Ա. Քամալյան'!E20) -> 0 | F20: =SUM('Ա․Ղազարյան:Ա. Քամալյան'!F20) -> 0 | G20: =SUM('Ա․Ղազարյան:Ա. Քամալյան'!G20) -> 0 | H20: =SUM('Ա․Ղազարյան:Ա. Քամալյան'!H20) -> 0 | I20: =SUM('Ա․Ղազարյան:Ա. Քամալյան'!I20) -> 0 | J20: =SUM('Ա․Ղազարյան:Ա. Քամալյան'!J20) -> 0 | ... AM20: =SUM('Ա․Ղազարյան:Ա. Քամալյան'!AM20) -> 0
A21: 6.5 | B21: ¶»ñ³ï»ëã³Ï³Ý ÝáñÙ³ïÇí Çñ³í³Ï³Ý ³Ïï»ñÇ` ³í»ÉÇ µ³ñÓñ Çñ³í³µ³Ý³Ï³Ý áõÅ áõÝ»óáÕ ÝáñÙ³ïÇí ³Ïï»ñÇÝ Ñ³Ù³å³ï³ëË³ÝáõÃÛáõÝÁ íÇ×³ñÏ»Éáõ í»ñ³µ»ñÛ³É | C21: =SUM('Ա․Ղազարյան:Ա. Քամալյան'!C21) -> 13 | D21: =SUM('Ա․Ղազարյան:Ա. Քամալյան'!D21) -> 0 | E21: =SUM('Ա․Ղազարյան:Ա. Քամալյան'!E21) -> 13 | F21: =SUM('Ա․Ղազարյան:Ա. Քամալյան'!F21) -> 0 | G21: =SUM('Ա․Ղազարյան:Ա. Քամալյան'!G21) -> 0 | H21: =SUM('Ա․Ղազարյան:Ա. Քամալյան'!H21) -> 11 | I21: =SUM('Ա․Ղազարյան:Ա. Քամալյան'!I21) -> 8 | J21: =SUM('Ա․Ղազարյան:Ա. Քամալյան'!J21) -> 1 | ... AM21: =SUM('Ա․Ղազարյան:Ա. Քամալյան'!AM21) -> 0
A22: 6.6 | B22: Ð³Ù³ÛÝùÇ ³í³·³Ýáõ áñáßáõÙÝ»ñÇ` ³í»ÉÇ µ³ñÓñ Çñ³í³µ³Ý³Ï³Ý áõÅ áõÝ»óáÕ ÝáñÙ³ïÇí ³Ïï»ñÇÝ Ñ³Ù³å³ï³ëË³ÝáõÃÛáõÝÁ íÇ×³ñÏ»Éáõ í»ñ³µ»ñÛ³É | C22: =SUM('Ա․Ղազարյան:Ա. Քամալյան'!C22) -> 4 | D22: =SUM('Ա․Ղազարյան:Ա. Քամալյան'!D22) -> 0 | E22: =SUM('Ա․Ղազարյան:Ա. Քամալյան'!E22) -> 4 | F22: =SUM('Ա․Ղազարյան:Ա. Քամալյան'!F22) -> 0 | G22: =SUM('Ա․Ղազարյան:Ա. Քամալյան'!G22) -> 0 | H22: =SUM('Ա․Ղազարյան:Ա. Քամալյան'!H22) -> 26 | I22: =SUM('Ա․Ղազարյան:Ա. Քամալյան'!I22) -> 13 | J22: =SUM('Ա․Ղազարյան:Ա. Քամալյան'!J22) -> 9 | ... AM22: =SUM('Ա․Ղազարյան:Ա. Քամալյան'!AM22) -> 1
A23: 6.7 | B23: Ð³Ù³ÛÝùÇ Õ»Ï³í³ñÇ áñáßáõÙÝ»ñÇ` ³í»ÉÇ µ³ñÓñ Çñ³í³µ³Ý³Ï³Ý áõÅ áõÝ»óáÕ ÝáñÙ³ïÇí ³Ïï»ñÇÝ Ñ³Ù³å³ï³ëË³ÝáõÃÛáõÝÁ íÇ×³ñÏ»Éáõ í»ñ³µ»ñÛ³É | C23: =SUM('Ա․Ղազարյան:Ա. Քամալյան'!C23) -> 0 | D23: =SUM('Ա․Ղազարյան:Ա. Քամալյան'!D23) -> 0 | E23: =SUM('Ա․Ղազարյան:Ա. Քամալյան'!E23) -> 0 | F23: =SUM('Ա․Ղազարյան:Ա. Քամալյան'!F23) -> 0 | G23: =SUM('Ա․Ղազարյան:Ա. Քամալյան'!G23) -> 0 | H23: =SUM('Ա․Ղազարյան:Ա. Քամալյան'!H23) -> 3 | I23: =SUM('Ա․Ղազարյան:Ա. Քամալյան'!I23) -> 2 | J23: =SUM('Ա․Ղազարյան:Ա. Քամալյան'!J23) -> 1 | ... AM23: =SUM('Ա․Ղազարյան:Ա. Քամալյան'!AM23) -> 0
A24: 7 | B24: ÀÝïñ³Ï³Ý Çñ³íáõÝùÇ å³ßïå³ÝáõÃÛ³Ý Ñ»ï Ï³åí³Í Çñ³í³Ñ³ñ³µ»ñáõÃÛáõÝÝ»ñÇ í»ñ³µ»ñÛ³É ¹³ï³Ï³Ý ·áñÍ»ñ | C24: =SUM('Ա․Ղազարյան:Ա. Քամալյան'!C24) -> 0 | D24: =SUM('Ա․Ղազարյան:Ա. Քամալյան'!D24) -> 0 | E24: =SUM('Ա․Ղազարյան:Ա. Քամալյան'!E24) -> 0 | F24: =SUM('Ա․Ղազարյան:Ա. Քամալյան'!F24) -> 0 | G24: =SUM('Ա․Ղազարյան:Ա. Քամալյան'!G24) -> 0 | H24: =SUM('Ա․Ղազարյան:Ա. Քամալյան'!H24) -> 1 | I24: =SUM('Ա․Ղազարյան:Ա. Քամալյան'!I24) -> 0 | J24: =SUM('Ա․Ղազարյան:Ա. Քամալյան'!J24) -> 0 | ... AM24: =SUM('Ա․Ղազարյան:Ա. Քամալյան'!AM24) -> 0
A25: 7.1 | B25: Ü³Ë³·³ÑÇ ÁÝïñáõÃÛáõÝÝ»ñÇ Ñ»ï Ï³åí³Í | C25: =SUM('Ա․Ղազարյան:Ա. Քամալյան'!C25) -> 0 | D25: =SUM('Ա․Ղազարյան:Ա. Քամալյան'!D25) -> 0 | E25: =SUM('Ա․Ղազարյան:Ա. Քամալյան'!E25) -> 0 | F25: =SUM('Ա․Ղազարյան:Ա. Քամալյան'!F25) -> 0 | G25: =SUM('Ա․Ղազարյան:Ա. Քամալյան'!G25) -> 0 | H25: =SUM('Ա․Ղազարյան:Ա. Քամալյան'!H25) -> 0 | I25: =SUM('Ա․Ղազարյան:Ա. Քամալյան'!I25) -> 0 | J25: =SUM('Ա․Ղազարյան:Ա. Քամալյան'!J25) -> 0 | ... AM25: =SUM('Ա․Ղազարյան:Ա. Քամալյան'!AM25) -> 0
A26: 7.2 | B26: ²½·³ÛÇÝ ÅáÕáíÇ ÁÝïñáõÃÛáõÝÝ»ñÇ Ñ»ï Ï³åí³Í | C26: =SUM('Ա․Ղազարյան:Ա. Քամալյան'!C26) -> 0 | D26: =SUM('Ա․Ղազարյան:Ա. Քամալյան'!D26) -> 0 | E26: =SUM('Ա․Ղազարյան:Ա. Քամալյան'!E26) -> 0 | F26: =SUM('Ա․Ղազարյան:Ա. Քամալյան'!F26) -> 0 | G26: =SUM('Ա․Ղազարյան:Ա. Քամալյան'!G26) -> 0 | H26: =SUM('Ա․Ղազարյան:Ա. Քամալյան'!H26) -> 0 | I26: =SUM('Ա․Ղազարյան:Ա. Քամալյան'!I26) -> 0 | J26: =SUM('Ա․Ղազարյան:Ա. Քամալյան'!J26) -> 0 | ... AM26: =SUM('Ա․Ղազարյան:Ա. Քամալյան'!AM26) -> 0
A27: 7.3 | B27: î»Õ³Ï³Ý ÇÝùÝ³Ï³é³í³ñÙ³Ý Ù³ñÙÇÝÝ»ñÇ ÁÝïñáõÃÛáõÝÝ»ñÇ Ñ»ï Ï³åí³Í | C27: =SUM('Ա․Ղազարյան:Ա. Քամալյան'!C27) -> 0 | D27: =SUM('Ա․Ղազարյան:Ա. Քամալյան'!D27) -> 0 | E27: =SUM('Ա․Ղազարյան:Ա. Քամալյան'!E27) -> 0 | F27: =SUM('Ա․Ղազարյան:Ա. Քամալյան'!F27) -> 0 | G27: =SUM('Ա․Ղազարյան:Ա. Քամալյան'!G27) -> 0 | H27: =SUM('Ա․Ղազարյան:Ա. Քամալյան'!H27) -> 1 | I27: =SUM('Ա․Ղազարյան:Ա. Քամալյան'!I27) -> 0 | J27: =SUM('Ա․Ղազարյան:Ա. Քամալյան'!J27) -> 0 | ... AM27: =SUM('Ա․Ղազարյան:Ա. Քամալյան'!AM27) -> 0
A28: 7.4 | B28: Ð³Ýñ³ùí»Ç Ï³½Ù³Ï»ñåÙ³Ý ¨ ³ÝóÏ³óÙ³Ý Ñ»ï Ï³åí³Í | C28: =SUM('Ա․Ղազարյան:Ա. Քամալյան'!C28) -> 0 | D28: =SUM('Ա․Ղազարյան:Ա. Քամալյան'!D28) -> 0 | E28: =SUM('Ա․Ղազարյան:Ա. Քամալյան'!E28) -> 0 | F28: =SUM('Ա․Ղազարյան:Ա. Քամալյան'!F28) -> 0 | G28: =SUM('Ա․Ղազարյան:Ա. Քամալյան'!G28) -> 0 | H28: =SUM('Ա․Ղազարյան:Ա. Քամալյան'!H28) -> 0 | I28: =SUM('Ա․Ղազարյան:Ա. Քամալյան'!I28) -> 0 | J28: =SUM('Ա․Ղազարյան:Ա. Քամալյան'!J28) -> 0 | ... AM28: =SUM('Ա․Ղազարյան:Ա. Քամալյան'!AM28) -> 0
A29: 7.5 | B29: ²ÛÉ í»×»ñ | C29: =SUM('Ա․Ղազարյան:Ա. Քամալյան'!C29) -> 0 | D29: =SUM('Ա․Ղազարյան:Ա. Քամալյան'!D29) -> 0 | E29: =SUM('Ա․Ղազարյան:Ա. Քամալյան'!E29) -> 0 | F29: =SUM('Ա․Ղազարյան:Ա. Քամալյան'!F29) -> 0 | G29: =SUM('Ա․Ղազարյան:Ա. Քամալյան'!G29) -> 0 | H29: =SUM('Ա․Ղազարյան:Ա. Քամալյան'!H29) -> 0 | I29: =SUM('Ա․Ղազարյան:Ա. Քամալյան'!I29) -> 0 | J29: =SUM('Ա․Ղազարյան:Ա. Քամալյան'!J29) -> 0 | ... AM29: =SUM('Ա․Ղազարյան:Ա. Քամալյան'!AM29) -> 0
A30: 9 | B30: Ð³í³ùÇ ³ÝóÏ³óÙ³Ý Ù³ëÇÝ Ñ³Ù³ÛÝùÇ Õ»Ï³í³ñÇ áñáßáõÙÝ»ñÇ ¨ ·áñÍáÕáõÃÛáõÝÝ»ñÇ Çñ³í³ã³÷áõÃÛáõÝÁ íÇ×³ñÏ»Éáõ Ñ»ï Ï³åí³Í Çñ³í³Ñ³ñ³µ»ñáõÃÛáõÝÝ»ñÇ í»ñ³µ»ñÛ³É ¹³ï³Ï³Ý ·áñÍ»ñ | C30: =SUM('Ա․Ղազարյան:Ա. Քամալյան'!C30) -> 0 | D30: =SUM('Ա․Ղազարյան:Ա. Քամալյան'!D30) -> 0 | E30: =SUM('Ա․Ղազարյան:Ա. Քամալյան'!E30) -> 0 | F30: =SUM('Ա․Ղազարյան:Ա. Քամալյան'!F30) -> 0 | G30: =SUM('Ա․Ղազարյան:Ա. Քամալյան'!G30) -> 0 | H30: =SUM('Ա․Ղազարյան:Ա. Քամալյան'!H30) -> 7 | I30: =SUM('Ա․Ղազարյան:Ա. Քամալյան'!I30) -> 0 | J30: =SUM('Ա․Ղազարյան:Ա. Քամալյան'!J30) -> 3 | ... AM30: =SUM('Ա․Ղազարյան:Ա. Քամալյան'!AM30) -> 0
A31: 10 | B31: ä»ï³Ï³Ý, Ñ³Ù³ÛÝù³ÛÇÝ Ï³Ù ³ÛÉÁÝïñ³Ýù³ÛÇÝ Í³é³ÛáõÃÛ³Ý ³ÝóÝ»Éáõ Ï³Ù Çñ³Ï³Ý³óÝ»Éáõ Ñ»ï Ï³åí³Í Çñ³í³Ñ³ñ³µ»ñáõÃÛáõÝÝ»ñÇ í»ñ³µ»ñÛ³É ¹³ï³Ï³Ý ·áñÍ»ñ | C31: =SUM('Ա․Ղազարյան:Ա. Քամալյան'!C31) -> 99 | D31: =SUM('Ա․Ղազարյան:Ա. Քամալյան'!D31) -> 1 | E31: =SUM('Ա․Ղազարյան:Ա. Քամալյան'!E31) -> 98 | F31: =SUM('Ա․Ղազարյան:Ա. Քամալյան'!F31) -> 0 | G31: =SUM('Ա․Ղազարյան:Ա. Քամալյան'!G31) -> 0 | H31: =SUM('Ա․Ղազարյան:Ա. Քամալյան'!H31) -> 17 | I31: =SUM('Ա․Ղազարյան:Ա. Քամալյան'!I31) -> 16 | J31: =SUM('Ա․Ղազարյան:Ա. Քամալյան'!J31) -> 0 | ... AM31: =SUM('Ա․Ղազարյան:Ա. Քամալյան'!AM31) -> 0
A32: 11 | B32: ì³ñã³Ï³Ý Ù³ñÙÇÝÝ»ñÇ ÙÇç¨ Çñ³í³ëáõÃÛ³Ý Ñ³ñó»ñÇ í»ñ³µ»ñÛ³É í»×»ñÇ Ñ»ï Ï³åí³Í Çñ³í³Ñ³ñ³µ»ñáõÃÛáõÝÝ»ñÇ í»ñ³µ»ñÛ³É ¹³ï³Ï³Ý ·áñÍ»ñ | C32: =SUM('Ա․Ղազարյան:Ա. Քամալյան'!C32) -> 0 | D32: =SUM('Ա․Ղազարյան:Ա. Քամալյան'!D32) -> 0 | E32: =SUM('Ա․Ղազարյան:Ա. Քամալյան'!E32) -> 0 | F32: =SUM('Ա․Ղազարյան:Ա. Քամալյան'!F32) -> 0 | G32: =SUM('Ա․Ղազարյան:Ա. Քամալյան'!G32) -> 0 | H32: =SUM('Ա․Ղազարյան:Ա. Քամալյան'!H32) -> 0 | I32: =SUM('Ա․Ղազարյան:Ա. Քամալյան'!I32) -> 0 | J32: =SUM('Ա․Ղազարյան:Ա. Քամալյան'!J32) -> 0 | ... AM32: =SUM('Ա․Ղազարյան:Ա. Քամալյան'!AM32) -> 0
A33: 12 | B33: Ð³ë³ñ³Ï³Ï³Ý Ï³½Ù³Ï»ñåáõÃÛáõÝÝ»ñÇ ¨ ³ÛÉ ÙÇ³íáñáõÙÝ»ñÇ ·áñÍáõÝ»áõÃÛ³Ý Ï³ë»óÙ³Ý Ï³Ù ¹³¹³ñ»óÙ³Ý Ñ»ï Ï³åí³Í Çñ³í³Ñ³ñ³µ»ñáõÃÛáõÝÝ»ñÇ í»ñ³µ»ñÛ³É ¹³ï³Ï³Ý ·áñÍ»ñ | C33: =SUM('Ա․Ղազարյան:Ա. Քամալյան'!C33) -> 0 | D33: =SUM('Ա․Ղազարյան:Ա. Քամալյան'!D33) -> 0 | E33: =SUM('Ա․Ղազարյան:Ա. Քամալյան'!E33) -> 0 | F33: =SUM('Ա․Ղազարյան:Ա. Քամալյան'!F33) -> 0 | G33: =SUM('Ա․Ղազարյան:Ա. Քամալյան'!G33) -> 0 | H33: =SUM('Ա․Ղազարյան:Ա. Քամալյան'!H33) -> 13 | I33: =SUM('Ա․Ղազարյան:Ա. Քամալյան'!I33) -> 11 | J33: =SUM('Ա․Ղազարյան:Ա. Քամալյան'!J33) -> 2 | ... AM33: =SUM('Ա․Ղազարյան:Ա. Քամալյան'!AM33) -> 0
A34: 13 | B34: ì³ñã³ñ³ñáõÃÛ³Ùµ å³ï×³éí³Í íÝ³ëÇ å³ï³ëË³Ý³ïíáõÃÛ³Ý Ñ»ï Ï³åí³Í Çñ³í³Ñ³ñ³µ»ñáõÃÛáõÝÝ»ñÇ í»ñ³µ»ñÛ³É ¹³ï³Ï³Ý ·áñÍ»ñ | C34: =SUM('Ա․Ղազարյան:Ա. Քամալյան'!C34) -> 7 | D34: =SUM('Ա․Ղազարյան:Ա. Քամալյան'!D34) -> 0 | E34: =SUM('Ա․Ղազարյան:Ա. Քամալյան'!E34) -> 7 | F34: =SUM('Ա․Ղազարյան:Ա. Քամալյան'!F34) -> 0 | G34: =SUM('Ա․Ղազարյան:Ա. Քամալյան'!G34) -> 0 | H34: =SUM('Ա․Ղազարյան:Ա. Քամալյան'!H34) -> 5 | I34: =SUM('Ա․Ղազարյան:Ա. Քամալյան'!I34) -> 4 | J34: =SUM('Ա․Ղազարյան:Ա. Քամալյան'!J34) -> 0 | ... AM34: =SUM('Ա․Ղազարյան:Ա. Քամալյան'!AM34) -> 0
A35: 14 | B35: ²ÝÑ»ï³Ó·»ÉÇ ÙÇջամտության áñáßÙ³Ý, µáÕáù³ñÏ³ÙաÝ í»ñ³µ»ñÛ³É ¹³ï³Ï³Ý ·áñÍ»ñ | C35: =SUM('Ա․Ղազարյան:Ա. Քամալյան'!C35) -> 0 | D35: =SUM('Ա․Ղազարյան:Ա. Քամալյան'!D35) -> 0 | E35: =SUM('Ա․Ղազարյան:Ա. Քամալյան'!E35) -> 0 | F35: =SUM('Ա․Ղազարյան:Ա. Քամալյան'!F35) -> 0 | G35: =SUM('Ա․Ղազարյան:Ա. Քամալյան'!G35) -> 0 | H35: =SUM('Ա․Ղազարյան:Ա. Քամալյան'!H35) -> 53 | I35: =SUM('Ա․Ղազարյան:Ա. Քամալյան'!I35) -> 50 | J35: =SUM('Ա․Ղազարյան:Ա. Քամալյան'!J35) -> 2 | ... AM35: =SUM('Ա․Ղազարյան:Ա. Քամալյան'!AM35) -> 2
A36: 16 | B36: Դատավորի հավակնորդի հայտի ընդունումը մերժելու áñáßÙ³Ý µáÕáù³ñÏ³ÙաÝ í»ñ³µ»ñÛ³É ¹³ï³Ï³Ý ·áñÍ»ñ | C36: =SUM('Ա․Ղազարյան:Ա. Քամալյան'!C36) -> 0 | D36: =SUM('Ա․Ղազարյան:Ա. Քամալյան'!D36) -> 0 | E36: =SUM('Ա․Ղազարյան:Ա. Քամալյան'!E36) -> 0 | F36: =SUM('Ա․Ղազարյան:Ա. Քամալյան'!F36) -> 0 | G36: =SUM('Ա․Ղազարյան:Ա. Քամալյան'!G36) -> 0 | H36: =SUM('Ա․Ղազարյան:Ա. Քամալյան'!H36) -> 0 | I36: =SUM('Ա․Ղազարյան:Ա. Քամալյան'!I36) -> 0 | J36: =SUM('Ա․Ղազարյան:Ա. Քամալյան'!J36) -> 0 | ... AM36: =SUM('Ա․Ղազարյան:Ա. Քամալյան'!AM36) -> 0
... A47: 8 | B47: ²ÛÉ í»×»ñ | C47: =SUM('Ա․Ղազարյան:Ա. Քամալյան'!C47) -> 88 | D47: =SUM('Ա․Ղազարյան:Ա. Քամալյան'!D47) -> 16 | E47: =SUM('Ա․Ղազարյան:Ա. Քամալյան'!E47) -> 72 | F47: =SUM('Ա․Ղազարյան:Ա. Քամալյան'!F47) -> 0 | G47: =SUM('Ա․Ղազարյան:Ա. Քամալյան'!G47) -> 0 | H47: =SUM('Ա․Ղազարյան:Ա. Քամալյան'!H47) -> 308 | I47: =SUM('Ա․Ղազարյան:Ա. Քամալյան'!I47) -> 252 | J47: =SUM('Ա․Ղազարյան:Ա. Քամալյան'!J47) -> 42 | ... AM47: =SUM('Ա․Ղազարյան:Ա. Քամալյան'!AM47) -> 1
B48: ÀÝ¹³Ù»ÝÁ | C48: =+'Ա․Ղազարյան'!C48+'Ռ․Ազրոյան'!C48+'Գ․Առաքելյան'!C48+'Ե․Առաքելյան'!C48+'Ա․Ավագյան'!C48+'Դ․Դանիելյան'!C48+'Ա․Դարբինյան'!C48+'Ա․Դիլբարյան'!C48+'Կ․Զարիկյան'!C48+'Մ․Համբարձումյան'!C48+'Ա․Ծատուրյան'!C48+'Ա․Հարությունյան'!C48+'Ռ․Մաքեյան'!C48+'Վ․Միքաելյան'!C48+'Ա․Ներսիսյան'!C48+'Ա․Չիլինգարյան'!C48+'Մ․Պետրոսյան'!C48+'Լ․Սադոյան'!C48+'Տ․Սանթրոսյան'!C48+'Ա․Մկրտչյան'!C48+'Լ․Բոյաջյան'!C48+'Հ․Մուրադյան'!C48+'Ն. Գասպարյան'!C48+'Օ. Դիլբանդյան'!C48+'Ա. Քամալյան'!C48 -> 13808 | D48: =+'Ա․Ղազարյան'!D48+'Ռ․Ազրոյան'!D48+'Գ․Առաքելյան'!D48+'Ե․Առաքելյան'!D48+'Ա․Ավագյան'!D48+'Դ․Դանիելյան'!D48+'Ա․Դարբինյան'!D48+'Ա․Դիլբարյան'!D48+'Կ․Զարիկյան'!D48+'Մ․Համբարձումյան'!D48+'Ա․Ծատուրյան'!D48+'Ա․Հարությունյան'!D48+'Ռ․Մաքեյան'!D48+'Վ․Միքաելյան'!D48+'Ա․Ներսիսյան'!D48+'Ա․Չիլինգարյան'!D48+'Մ․Պետրոսյան'!D48+'Լ․Սադոյան'!D48+'Տ․Սանթրոսյան'!D48+'Ա․Մկրտչյան'!D48+'Լ․Բոյաջյան'!D48+'Հ․Մուրադյան'!D48+'Ն. Գասպարյան'!D48+'Օ. Դիլբանդյան'!D48+'Ա. Քամալյան'!D48 -> 780 | E48: =+'Ա․Ղազարյան'!E48+'Ռ․Ազրոյան'!E48+'Գ․Առաքելյան'!E48+'Ե․Առաքելյան'!E48+'Ա․Ավագյան'!E48+'Դ․Դանիելյան'!E48+'Ա․Դարբինյան'!E48+'Ա․Դիլբարյան'!E48+'Կ․Զարիկյան'!E48+'Մ․Համբարձումյան'!E48+'Ա․Ծատուրյան'!E48+'Ա․Հարությունյան'!E48+'Ռ․Մաքեյան'!E48+'Վ․Միքաելյան'!E48+'Ա․Ներսիսյան'!E48+'Ա․Չիլինգարյան'!E48+'Մ․Պետրոսյան'!E48+'Լ․Սադոյան'!E48+'Տ․Սանթրոսյան'!E48+'Ա․Մկրտչյան'!E48+'Լ․Բոյաջյան'!E48+'Հ․Մուրադյան'!E48+'Ն. Գասպարյան'!E48+'Օ. Դիլբանդյան'!E48+'Ա. Քամալյան'!E48 -> 12886 | F48: =+'Ա․Ղազարյան'!F48+'Ռ․Ազրոյան'!F48+'Գ․Առաքելյան'!F48+'Ե․Առաքելյան'!F48+'Ա․Ավագյան'!F48+'Դ․Դանիելյան'!F48+'Ա․Դարբինյան'!F48+'Ա․Դիլբարյան'!F48+'Կ․Զարիկյան'!F48+'Մ․Համբարձումյան'!F48+'Ա․Ծատուրյան'!F48+'Ա․Հարությունյան'!F48+'Ռ․Մաքեյան'!F48+'Վ․Միքաելյան'!F48+'Ա․Ներսիսյան'!F48+'Ա․Չիլինգարյան'!F48+'Մ․Պետրոսյան'!F48+'Լ․Սադոյան'!F48+'Տ․Սանթրոսյան'!F48+'Ա․Մկրտչյան'!F48+'Լ․Բոյաջյան'!F48+'Հ․Մուրադյան'!F48+'Ն. Գասպարյան'!F48+'Օ. Դիլբանդյան'!F48+'Ա. Քամալյան'!F48 -> 63 | G48: =+'Ա․Ղազարյան'!G48+'Ռ․Ազրոյան'!G48+'Գ․Առաքելյան'!G48+'Ե․Առաքելյան'!G48+'Ա․Ավագյան'!G48+'Դ․Դանիելյան'!G48+'Ա․Դարբինյան'!G48+'Ա․Դիլբարյան'!G48+'Կ․Զարիկյան'!G48+'Մ․Համբարձումյան'!G48+'Ա․Ծատուրյան'!G48+'Ա․Հարությունյան'!G48+'Ռ․Մաքեյան'!G48+'Վ․Միքաելյան'!G48+'Ա․Ներսիսյան'!G48+'Ա․Չիլինգարյան'!G48+'Մ․Պետրոսյան'!G48+'Լ․Սադոյան'!G48+'Տ․Սանթրոսյան'!G48+'Ա․Մկրտչյան'!G48+'Լ․Բոյաջյան'!G48+'Հ․Մուրադյան'!G48+'Ն. Գասպարյան'!G48+'Օ. Դիլբանդյան'!G48+'Ա. Քամալյան'!G48 -> 79 | H48: =+'Ա․Ղազարյան'!H48+'Ռ․Ազրոյան'!H48+'Գ․Առաքելյան'!H48+'Ե․Առաքելյան'!H48+'Ա․Ավագյան'!H48+'Դ․Դանիելյան'!H48+'Ա․Դարբինյան'!H48+'Ա․Դիլբարյան'!H48+'Կ․Զարիկյան'!H48+'Մ․Համբարձումյան'!H48+'Ա․Ծատուրյան'!H48+'Ա․Հարությունյան'!H48+'Ռ․Մաքեյան'!H48+'Վ․Միքաելյան'!H48+'Ա․Ներսիսյան'!H48+'Ա․Չիլինգարյան'!H48+'Մ․Պետրոսյան'!H48+'Լ․Սադոյան'!H48+'Տ․Սանթրոսյան'!H48+'Ա․Մկրտչյան'!H48+'Լ․Բոյաջյան'!H48+'Հ․Մուրադյան'!H48+'Ն. Գասպարյան'!H48+'Օ. Դիլբանդյան'!H48+'Ա. Քամալյան'!H48 -> 28570 | I48: =+'Ա․Ղազարյան'!I48+'Ռ․Ազրոյան'!I48+'Գ․Առաքելյան'!I48+'Ե․Առաքելյան'!I48+'Ա․Ավագյան'!I48+'Դ․Դանիելյան'!I48+'Ա․Դարբինյան'!I48+'Ա․Դիլբարյան'!I48+'Կ․Զարիկյան'!I48+'Մ․Համբարձումյան'!I48+'Ա․Ծատուրյան'!I48+'Ա․Հարությունյան'!I48+'Ռ․Մաքեյան'!I48+'Վ․Միքաելյան'!I48+'Ա․Ներսիսյան'!I48+'Ա․Չիլինգարյան'!I48+'Մ․Պետրոսյան'!I48+'Լ․Սադոյան'!I48+'Տ․Սանթրոսյան'!I48+'Ա․Մկրտչյան'!I48+'Լ․Բոյաջյան'!I48+'Հ․Մուրադյան'!I48+'Ն. Գասպարյան'!I48+'Օ. Դիլբանդյան'!I48+'Ա. Քամալյան'!I48 -> 24023 | J48: =+'Ա․Ղազարյան'!J48+'Ռ․Ազրոյան'!J48+'Գ․Առաքելյան'!J48+'Ե․Առաքելյան'!J48+'Ա․Ավագյան'!J48+'Դ․Դանիելյան'!J48+'Ա․Դարբինյան'!J48+'Ա․Դիլբարյան'!J48+'Կ․Զարիկյան'!J48+'Մ․Համբարձումյան'!J48+'Ա․Ծատուրյան'!J48+'Ա․Հարությունյան'!J48+'Ռ․Մաքեյան'!J48+'Վ․Միքաելյան'!J48+'Ա․Ներսիսյան'!J48+'Ա․Չիլինգարյան'!J48+'Մ․Պետրոսյան'!J48+'Լ․Սադոյան'!J48+'Տ․Սանթրոսյան'!J48+'Ա․Մկրտչյան'!J48+'Լ․Բոյաջյան'!J48+'Հ․Մուրադյան'!J48+'Ն. Գասպարյան'!J48+'Օ. Դիլբանդյան'!J48+'Ա. Քամալյան'!J48 -> 3028 | ... AM48: =+'Ա․Ղազարյան'!AM48+'Ռ․Ազրոյան'!AM48+'Գ․Առաքելյան'!AM48+'Ե․Առաքելյան'!AM48+'Ա․Ավագյան'!AM48+'Դ․Դանիելյան'!AM48+'Ա․Դարբինյան'!AM48+'Ա․Դիլբարյան'!AM48+'Կ․Զարիկյան'!AM48+'Մ․Համբարձումյան'!AM48+'Ա․Ծատուրյան'!AM48+'Ա․Հարությունյան'!AM48+'Ռ․Մաքեյան'!AM48+'Վ․Միքաելյան'!AM48+'Ա․Ներսիսյան'!AM48+'Ա․Չիլինգարյան'!AM48+'Մ․Պետրոսյան'!AM48+'Լ․Սադոյան'!AM48+'Տ․Սանթրոսյան'!AM48+'Ա․Մկրտչյան'!AM48+'Լ․Բոյաջյան'!AM48+'Հ․Մուրադյան'!AM48+'Ն. Գասպարյան'!AM48+'Օ. Դիլբանդյան'!AM48+'Ա. Քամալյան'!AM48 -> 152
C49: 1 | D49: 2 | E49: 3 | F49: 4 | G49: 5 | H49: 6 | I49: 7 | J49: 8 | K49: 9 | L49: 10 | M49: 11 | N49: 12 | O49: 13 | P49: 14 | Q49: 15 | R49: 16 | S49: 17 | T49: 18 | U49: 19 | V49: 20 | W49: 21 | X49: 22 | Y49: 23 | Z49: 24 | AA49: 25 | AB49: 26 | AC49: 27 | AD49: 28 | AE49: 29 | AF49: 30 | AG49: 31 | AH49: 32 | AI49: 33 | AJ49: 34 | AK49: 35 | AL49: 36 | AM49: 37

Sheet Ա․Ղազարյան
AI1: Հավելված 2 Բարձրագույն դատական խորհրդի 2022թվականի դեկտեմբերի 26-ի թիվ ԲԴԽ-122-Ո-408 որոշման
A2: 2025 թվականի տարեկան | C2: Ð²ÞìºîìàôÂÚàôÜ
A3: ÐÐ ì²ðâ²Î²Ü ¸²î²ð²ÜÆ ¸²î²ìàð ԱՐԳԻՇՏԻ ՂԱԶԱՐՅԱՆԻ ¶àðÌàôÜºàôÂÚ²Ü ìºð²´ºðÚ²È
A4: ÐÐ í³ñã³Ï³Ý ¹³ï³ñ³ÝÇ ¹³ï³íáñÝ»ñÇ Ñ³ëïÇùÝ»ñÇ ÃÇíÁ` 24
A5: êïáõ·Çã Ñ³í³ë³ñáõÙÝ»ñª 1=2+3+4+5, 6=7+8+9+10, 2+3+7=11+21+22+24, 12=13+14+15+16, 17=18+19+20, 21=12+17, 28=26+27, 28=29+30, 35=33+34, 35=36+37 | C5: Ð³ßí»ïáõ Å³Ù³Ý³Ï³Ñ³ïí³ÍáõÙ Ý³Ëáñ¹ Ñ³ßí»ïáõ Å³Ù³Ý³Ï³Ñ³ïí³ÍÇó ÷áË³Ýóí³Í ·áñÍ»ñÇ ÁÝ¹Ñ³Ýáõñ ÃÇíÁ | H5: Ð³ßí»ïáõ Å³Ù³Ý³Ï³Ñ³ïí³ÍáõÙ ëï³óí³Í ·áñÍ»ñÇ (³Û¹ ÃíáõÙ` Ñ³Ûó³¹ÇÙáõÙÝ»ñÇ, ¹ÇÙáõÙÝ»ñÇ) ÁÝ¹Ñ³Ýáõñ ÃÇíÁ | M5: öáË³Ýóí»É ¿ ³ÛÉ ¹³ï³íáñÇ (Ï³½ÙÇ ÷á÷áËáõÃÛáõÝ) | N5: Ð³ßí»ïáõ Å³Ù³Ý³Ï³Ñ³ïí³ÍáõÙ ³í³ñïí³Í ·áñÍ»ñÇ ÁÝ¹Ñ³Ýáõñ ÃÇíÁ | X5: ¶áñÍÝ áõÕ³ñÏí»É ¿ Áëï ÁÝ¹¹³ïáõÃÛ³Ý | Y5: Ð³ßí»ïáõ Å³Ù³Ý³Ï³Ñ³ïí³ÍáõÙ Ï³ë»óí³Í í³ñáõÛÃÝ»ñáí ·áñÍ»ñÇ ÁÝ¹Ñ³Ýáõñ ÃÇíÁ | Z5: Ð³ßí»ïáõ Å³Ù³Ý³Ï³Ñ³ïí³ÍáõÙ ³Ý³í³ñï ·áñÍ»ñÇ ÁÝ¹Ñ³Ýáõñ ÃÇíÁ | AA5: ²Û¹ ÃíáõÙ` Ï³ë»óí³Í | AB5: ´áÕáù³ñÏí³Í ¹³ï³Ï³Ý ³Ïï»ñÁ | AG5: ²í³ñïí³Í ¹³ï³Ï³Ý ·áñÍ»ñÇ µáÕáù³ñÏÙ³Ý ïáÏáëÁ (Ñ³ßí»ïáõ Å³Ù³Ý³Ï³Ñ³ïí³ÍáõÙ) | AH5: ²Ý³í³ñï µáÕáùÝ»ñ | AI5: ´»Ï³Ýí³Í ¹³ï³Ï³Ý ³Ïï»ñÁ
C6: ÀÝ¹³Ù»ÝÁ | D6: ²Û¹ ÃíáõÙ`Ï³ë»óí³Í íÇ×³ÏáõÙ ÷áË³Ýóí³Í | E6: ²Û¹ ÃíáõÙª ÁÝ¹áõÝí»É ¿ í³ñáõÛÃ | F6: ²Û¹ ÃíáõÙª í»ñ³¹³ñÓí»É ¿ | G6: ²Û¹ ÃíáõÙª ÁÝ¹áõÝáõÙÁ Ù»ñÅí»É ¿ | H6: ÀÝ¹³Ù»ÝÁ | I6: ²Û¹ ÃíáõÙª ÁÝ¹áõÝí»É ¿ í³ñáõÛÃ | J6: ²Û¹ ÃíáõÙª í»ñ³¹³ñÓí»É ¿ | K6: ²Û¹ ÃíáõÙª ÁÝ¹áõÝáõÙÁ Ù»ñÅí»É ¿ | L6: Այդ թվում անորոշ | N6: ÀÝ¹³Ù»ÝÁ ³í³ñïí»É »Ý ·áñÍ»ñ ·áñÍÝ Áëï ¿áõÃÛ³Ý ÉáõÍáÕ ¹³ï³Ï³Ý ³Ïï»ñÇ (í×ÇéÝ»ñÇ) Ï³Û³óÙ³Ùµ | O6: ²Û¹ ÃíáõÙª Ñ³ÛóÇ µ³í³ñ³ñÙ³Ùµ | P6: ²Û¹ ÃíáõÙª Ñ³ÛóÇ Ù³ëÝ³ÏÇ µ³í³ñ³ñÙ³Ùµ | Q6: ²Û¹ ÃíáõÙª Ñ³ÛóÇ Ù»ñÅÙ³Ùµ | R6: ²Û¹ ÃíáõÙ` Ù³ëÝ³ÏÇ Ù»ñÅí»É ¿, Ù³ëÝ³ÏÇ Ï³ñ×í»É | S6: ²Û¹ ÃíáõÙª Ï³ñ×í»É »Ý | W6: ÀÝ¹³Ù»ÝÝ ³í³ñïí»É »Ý ·áñÍ»ñ | AB6: ²Û¹ ÃíáõÙ` ·áñÍÝ Áëï ¿áõÃÛ³Ý ÉáõÍáÕ ¹³ï³Ï³Ý ³Ïï»ñÁ | AC6: ²Û¹ ÃíáõÙ` ÙÇç³ÝÏÛ³É ¹³ï³Ï³Ý ³Ïï»ñÁ | AD6: ÀÝ¹³Ù»ÝÁ | AE6: Ü³Ëáñ¹ ï³ñÇÝ»ñÇÝ Ï³Û³óí³Í ³Ïï»ñÇ µáÕáù³ñÏáõÙÁ Ñ³ßí»ïáõ Å³Ù³Ý³Ï³ßñç³ÝáõÙ | AF6: Ð³ßí»ïáõ Å³Ù³Ý³Ï³ßñç³ÝáõÙ Ï³Û³óí³Í ³Ïï»ñÇ µáÕáù³ñÏáõÙÁ | AI6: ²Û¹ ÃíáõÙ` ·áñÍÝ Áëï ¿áõÃÛ³Ý ÉáõÍáÕ ¹³ï³Ï³Ý ³Ïï»ñÁ | AJ6: ²Û¹ ÃíáõÙ` ÙÇç³ÝÏÛ³É ¹³ï³Ï³Ý ³Ïï»ñÁ | AK6: ÀÝ¹³Ù»ÝÁ | AL6: Ü³Ëáñ¹ ï³ñÇÝ»ñÇÝ Ï³Û³óí³Í ³Ïï»ñÇ µ»Ï³ÝáõÙÝ»ñÁ Ñ³ßí»ïáõ Å³Ù³Ý³Ï³ßñç³ÝáõÙ | AM6: Ð³ßí»ïáõ Å³Ù³Ý³Ï³ßñç³ÝáõÙ Ï³Û³óí³Í ³Ïï»ñÇ µ»Ï³ÝáõÙÁ
S7: ÀÝ¹³Ù»ÝÁ Ï³ñ×í»É »Ý | T7: ²Û¹ ÃíáõÙª Ñ³ëï³ïí»É ¿ ÏÝùí³Í Ñ³ßïáõÃÛ³Ý Ñ³Ù³Ó³ÛÝáõÃÛáõÝÁ | U7: ²Û¹ ÃíáõÙª Ñ³ÛóÇó, ¹ÇÙáõÙÇó Ññ³Å³ñí»Éáõ ÑÇÙùáí | V7: ²Û¹ ÃíáõÙª ³ÛÉ ÑÇÙùáí
B8: ì³ñã³Ï³Ý ·áñÍ»ñÇ ¹³ë³Ï³ñ·áõÙÁ | C8: 1 | D8: 2 | E8: 3 | F8: 4 | G8: 5 | H8: 6 | I8: 7 | J8: 8 | K8: 9 | L8: 10 | M8: 11 | N8: 12 | O8: 13 | P8: 14 | Q8: 15 | R8: 16 | S8: 17 | T8: 18 | U8: 19 | V8: 20 | W8: 21 | X8: 22 | Y8: 23 | Z8: 24 | AA8: 25 | AB8: 26 | AC8: 27 | AD8: 28 | AE8: 29 | AF8: 30 | AG8: 31 | AH8: 32 | AI8: 33 | AJ8: 34 | AK8: 35 | AL8: 36 | AM8: 37
A9: 1 | B9: ä»ï³Ï³Ý Ù³ñÙÇÝÝ»ñÇ, ï»Õ³Ï³Ý ÇÝùÝ³Ï³é³í³ñÙ³Ý Ù³ñÙÇÝÝ»ñÇ áõ ¹ñ³Ýó å³ßïáÝ³ï³ñ ³ÝÓ³Ýó ³Ïï»ñÝ ³Ýí³í»ñ ×³Ý³ã»Éáõ Ñ»ï Ï³åí³Í Çñ³í³ñ³Ñ³µ»ñáõÃÛáõÝÝ»ñÇ í»ñ³µ»ñÛ³É ¹³ï³Ï³Ý ·áñÍ»ñ | C9: =+C10+C11 -> 531 | D9: =+D10+D11 -> 39 | E9: =+E10+E11 -> 489 | F9: =+F10+F11 -> 3 | G9: =+G10+G11 -> 0 | H9: =+H10+H11 -> 989 | I9: =+I10+I11 -> 742 | J9: =+J10+J11 -> 101 | ... AM9: =+AM10+AM11 -> 4
A10: 1.1 | B10: ä»ï³Ï³Ý Ù³ñÙÇÝÝ»ñÇ áõ ¹ñ³Ýó å³ßïáÝ³ï³ñ ³ÝÓ³Ýó ³Ïï»ñÝ ³Ýí³í»ñ ×³Ý³ã»Éáõ Ñ»ï Ï³åí³Í Çñ³í³Ñ³ñ³µ»ñáõÃÛáõÝÝ»ñÇ í»ñ³µ»ñÛ³É ¹³ï³Ï³Ý ·áñÍ»ñ | C10: 480 | D10: 34 | E10: 444 | F10: 2 | H10: 822 | I10: 642 | J10: 71 | K10: 17 | L10: 92 | M10: 2 | N10: 622 | O10: 492 | P10: 2 | Q10: 128 | S10: 7 | U10: 5 | V10: 2 | W10: 629 | Y10: 3 | Z10: 489 | AA10: 37 | AB10: 105 | AC10: 14 | AD10: 119 | AE10: 21 | AF10: 98 | AI10: 30 | AJ10: 1 | AK10: 31 | AL10: 28 | AM10: 3
A11: 1.2 | B11: î»Õ³Ï³Ý ÇÝùÝ³Ï³é³í³ñÙ³Ý Ù³ñÙÇÝÝ»ñÇ áõ ¹ñ³Ýó å³ßïáÝ³ï³ñ ³ÝÓ³Ýó ³Ïï»ñÝ ³Ýí³í»ñ ×³Ý³ã»Éáõ Ñ»ï Ï³åí³Í Çñ³í³Ñ³ñ³µ»ñáõÃÛáõÝÝ»ñÇ í»ñ³µ»ñÛ³É ¹³ï³Ï³Ý ·áñÍ»ñ | C11: 51 | D11: 5 | E11: 45 | F11: 1 | H11: 167 | I11: 100 | J11: 30 | K11: 8 | L11: 29 | M11: 2 | N11: 41 | O11: 24 | Q11: 17 | S11: 2 | U11: 1 | V11: 1 | W11: 43 | X11: 2 | Y11: 1 | Z11: 103 | AA11: 5 | AB11: 30 | AC11: 6 | AD11: 36 | AE11: 6 | AF11: 30 | AI11: 14 | AJ11: 1 | AK11: 15 | AL11: 14 | AM11: 1
A12: 2 | B12: ä»ï³Ï³Ý Ù³ñÙÇÝÝ»ñÇ, ï»Õ³Ï³Ý ÇÝùÝ³Ï³é³í³ñÙ³Ý Ù³ñÙÇÝÝ»ñÇ ¨ ¹ñ³Ýó å³ßïáÝ³ï³ñ ³ÝÓ³Ýó ·áñÍáÕáõÃÛáõÝÝ»ñÁ /³Ý·áñÍáõÃÛáõÝÁ/ íÇ×³ñÏ»Éáõ Ñ»ï Ï³åí³Í Çñ³í³Ñ³ñ³µ»ñáõÃÛáõÝÝ»ñÇ í»ñ³µ»ñÛ³É ¹³ï³Ï³Ý ·áñÍ»ñ | C12: =C13+C14 -> 122 | D12: =D13+D14 -> 6 | E12: =E13+E14 -> 115 | F12: =F13+F14 -> 1 | G12: =G13+G14 -> 0 | H12: =H13+H14 -> 146 | I12: =I13+I14 -> 97 | J12: =J13+J14 -> 27 | ... AM12: =AM13+AM14 -> 1
A13: 2.1 | B13: ä»ï³Ï³Ý Ù³ñÙÇÝÝ»ñÇ ¨ ¹ñ³Ýó å³ßïáÝ³ï³ñ ³ÝÓ³Ýó ·áñÍáÕáõÃÛáõÝÝ»ñÁ /³Ý·áñÍáõÃÛáõÝÁ/ íÇ×³ñÏ»Éáõ Ñ»ï Ï³åí³Í Çñ³í³Ñ³ñ³µ»ñáõÃÛáõÝÝ»ñÇ í»ñ³µ»ñÛ³É ¹³ï³Ï³Ý ·áñÍ»ñ | C13: 67 | D13: 3 | E13: 63 | F13: 1 | H13: 106 | I13: 72 | J13: 16 | K13: 1 | L13: 17 | N13: 25 | O13: 10 | P13: 1 | Q13: 14 | S13: 3 | U13: 3 | W13: 28 | X13: 4 | Z13: 106 | AA13: 2 | AB13: 13 | AC13: 2 | AD13: 15 | AE13: 5 | AF13: 10 | AI13: 5 | AJ13: 2 | AK13: 7 | AL13: 6 | AM13: 1
A14: 2.2 | B14: î»Õ³Ï³Ý ÇÝùÝ³Ï³é³í³ñÙ³Ý Ù³ñÙÇÝÝ»ñÇ áõ ¹ñ³Ýó å³ßïáÝ³ï³ñ ³ÝÓ³Ýó ·áñÍáÕáõÃÛáõÝÝ»ñÁ /³Ý·áñÍáõÃÛáõÝÁ/ íÇ×³ñÏ»Éáõ Ñ»ï Ï³åí³Í Çñ³í³Ñ³ñ³µ»ñáõÃÛáõÝÝ»ñÇ í»ñ³µ»ñÛ³É ¹³ï³Ï³Ý ·áñÍ»ñ | C14: 55 | D14: 3 | E14: 52 | H14: 40 | I14: 25 | J14: 11 | K14: 2 | L14: 2 | M14: 1 | N14: 15 | O14: 13 | Q14: 2 | S14: 8 | U14: 5 | V14: 3 | W14: 23 | Y14: 1 | Z14: 56 | AA14: 3 | AB14: 14 | AC14: 1 | AD14: 15 | AE14: 1 | AF14: 14 | AI14: 6 | AK14: 6 | AL14: 6
A15: 5 | B15: Üáï³ñ³Ï³Ý ·áñÍáÕáõÃÛáõÝÝ»ñÁ Ï³Ù Ýáï³ñÇ ³Ý·áñÍáõÃÛáõÝÁ íÇ×³ñÏ»Éáõ Ñ»ï Ï³åí³Í Çñ³í³Ñ³ñ³µ»ñáõÃÛáõÝÝ»ñÇ í»ñ³µ»ñÛ³É ¹³ï³Ï³Ý ·áñÍ»ñ | C15: 3 | E15: 3 | I15: 0 | S15: 1 | U15: 1 | W15: 1 | Z15: 2
A16: 6 | B16: ÜáñÙ³ïÇí Çñ³í³Ï³Ý ³Ïï»ñÇ Çñ³í³ã³÷áõÃÛáõÝÁ íÇ×³ñÏ»Éáõ Ñ»ï Ï³åí³Í Çñ³í³Ñ³ñ³µ»ñáõÃÛáõÝÝ»ñÇ í»ñ³µ»ñÛ³É ¹³ï³Ï³Ý ·áñÍ»ñ | C16: =C17+C18+C19+C20+C21+C22+C23 -> 2 | D16: =D17+D18+D19+D20+D21+D22+D23 -> 0 | E16: =E17+E18+E19+E20+E21+E22+E23 -> 2 | F16: =F17+F18+F19+F20+F21+F22+F23 -> 0 | G16: =G17+G18+G19+G20+G21+G22+G23 -> 0 | H16: =H17+H18+H19+H20+H21+H22+H23 -> 3 | I16: =I17+I18+I19+I20+I21+I22+I23 -> 1 | J16: =J17+J18+J19+J20+J21+J22+J23 -> 2 | ... AM16: =AM17+AM18+AM19+AM20+AM21+AM22+AM23 -> 0
A17: 6.1 | B17: ¶»ñ³ï»ëã³Ï³Ý ÝáñÙ³ïÇí Çñ³í³Ï³Ý ³Ïï»ñÇª ÐÐ ê³ÑÙ³Ý³¹ñáõÃÛ³ÝÁ Ñ³Ù³å³ï³ëË³ÝáõÃÛáõÝÁ íÇ×³ñÏ»Éáõ í»ñ³µ»ñÛ³É | E17: 0 | I17: 0 | W17: 0 | Z17: 0
A18: 6.2 | B18: Ü³Ë³·³ÑÇ ÝáñÙ³ïÇí µÝáõÛÃ áõÝ»óáÕ ³Ïï»ñÇ` ³í»ÉÇ µ³ñÓñ Çñ³í³µ³Ý³Ï³Ý áõÅ áõÝ»óáÕ ÝáñÙ³ïÇí ³Ïï»ñÇÝ Ñ³Ù³å³ï³ëË³ÝáõÃÛáõÝÁ íÇ×³ñÏ»Éáõ í»ñ³µ»ñÛ³É | E18: 0 | I18: 0 | W18: 0 | Z18: 0
A19: 6.3 | B19: Î³é³í³ñáõÃÛ³Ý ÝáñÙ³ïÇí áñáßáõÙÝ»ñÇ`³í»ÉÇ µ³ñÓñ Çñ³í³µ³Ý³Ï³Ý áõÅ áõÝ»óáÕ ÝáñÙ³ïÇí ³Ïï»ñÇÝ Ñ³Ù³å³ï³ëË³ÝáõÃÛáõÝÁ íÇ×³ñÏ»Éáõ í»ñ³µ»ñÛ³É | C19: 2 | E19: 2 | H19: 1 | I19: 0 | J19: 1 | N19: 1 | Q19: 1 | W19: 1 | Z19: 1
A20: 6.4 | B20: ì³ñã³å»ïÇ ÝáñÙ³ïÇí áñáßáõÙÝ»ñÇ` ³í»ÉÇ µ³ñÓñ Çñ³í³µ³Ý³Ï³Ý áõÅ áõÝ»óáÕ ÝáñÙ³ïÇí ³Ïï»ñÇÝ Ñ³Ù³å³ï³ëË³ÝáõÃÛáõÝÁ íÇ×³ñÏ»Éáõ í»ñ³µ»ñÛ³É | E20: 0 | I20: 0 | W20: 0 | Z20: 0
A21: 6.5 | B21: ¶»ñ³ï»ëã³Ï³Ý ÝáñÙ³ïÇí Çñ³í³Ï³Ý ³Ïï»ñÇ` ³í»ÉÇ µ³ñÓñ Çñ³í³µ³Ý³Ï³Ý áõÅ áõÝ»óáÕ ÝáñÙ³ïÇí ³Ïï»ñÇÝ Ñ³Ù³å³ï³ëË³ÝáõÃÛáõÝÁ íÇ×³ñÏ»Éáõ í»ñ³µ»ñÛ³É | E21: 0 | I21: 0 | W21: 0 | Z21: 0
A22: 6.6 | B22: Ð³Ù³ÛÝùÇ ³í³·³Ýáõ áñáßáõÙÝ»ñÇ` ³í»ÉÇ µ³ñÓñ Çñ³í³µ³Ý³Ï³Ý áõÅ áõÝ»óáÕ ÝáñÙ³ïÇí ³Ïï»ñÇÝ Ñ³Ù³å³ï³ëË³ÝáõÃÛáõÝÁ íÇ×³ñÏ»Éáõ í»ñ³µ»ñÛ³É | E22: 0 | H22: 2 | I22: 1 | J22: 1 | W22: 0 | Z22: 1
A23: 6.7 | B23: Ð³Ù³ÛÝùÇ Õ»Ï³í³ñÇ áñáßáõÙÝ»ñÇ` ³í»ÉÇ µ³ñÓñ Çñ³í³µ³Ý³Ï³Ý áõÅ áõÝ»óáÕ ÝáñÙ³ïÇí ³Ïï»ñÇÝ Ñ³Ù³å³ï³ëË³ÝáõÃÛáõÝÁ íÇ×³ñÏ»Éáõ í»ñ³µ»ñÛ³É | E23: 0 | I23: 0 | W23: 0 | Z23: 0
A24: 7 | B24: ÀÝïñ³Ï³Ý Çñ³íáõÝùÇ å³ßïå³ÝáõÃÛ³Ý Ñ»ï Ï³åí³Í Çñ³í³Ñ³ñ³µ»ñáõÃÛáõÝÝ»ñÇ í»ñ³µ»ñÛ³É ¹³ï³Ï³Ý ·áñÍ»ñ | C24: =+C25+C26+C27+C28+C29 -> 0 | D24: =+D25+D26+D27+D28+D29 -> 0 | E24: =+E25+E26+E27+E28+E29 -> 0 | F24: =+F25+F26+F27+F28+F29 -> 0 | G24: =+G25+G26+G27+G28+G29 -> 0 | H24: =+H25+H26+H27+H28+H29 -> 1 | I24: =+I25+I26+I27+I28+I29 -> 0 | J24: =+J25+J26+J27+J28+J29 -> 0 | ... AM24: =+AM25+AM26+AM27+AM28+AM29 -> 0
A25: 7.1 | B25: Ü³Ë³·³ÑÇ ÁÝïñáõÃÛáõÝÝ»ñÇ Ñ»ï Ï³åí³Í | E25: 0 | I25: 0 | W25: 0 | Z25: 0
A26: 7.2 | B26: ²½·³ÛÇÝ ÅáÕáíÇ ÁÝïñáõÃÛáõÝÝ»ñÇ Ñ»ï Ï³åí³Í | E26: 0 | I26: 0 | W26: 0 | Z26: 0
A27: 7.3 | B27: î»Õ³Ï³Ý ÇÝùÝ³Ï³é³í³ñÙ³Ý Ù³ñÙÇÝÝ»ñÇ ÁÝïñáõÃÛáõÝÝ»ñÇ Ñ»ï Ï³åí³Í | E27: 0 | H27: 1 | I27: 0 | K27: 1 | W27: 0 | Z27: 0 | AI27: 1 | AK27: 1 | AL27: 1
A28: 7.4 | B28: Ð³Ýñ³ùí»Ç Ï³½Ù³Ï»ñåÙ³Ý ¨ ³ÝóÏ³óÙ³Ý Ñ»ï Ï³åí³Í | E28: 0 | I28: 0 | W28: 0 | Z28: 0
A29: 7.5 | B29: ²ÛÉ í»×»ñ | E29: 0 | I29: 0 | W29: 0 | Z29: 0
A30: 9 | B30: Ð³í³ùÇ ³ÝóÏ³óÙ³Ý Ù³ëÇÝ Ñ³Ù³ÛÝùÇ Õ»Ï³í³ñÇ áñáßáõÙÝ»ñÇ ¨ ·áñÍáÕáõÃÛáõÝÝ»ñÇ Çñ³í³ã³÷áõÃÛáõÝÁ íÇ×³ñÏ»Éáõ Ñ»ï Ï³åí³Í Çñ³í³Ñ³ñ³µ»ñáõÃÛáõÝÝ»ñÇ í»ñ³µ»ñÛ³É ¹³ï³Ï³Ý ·áñÍ»ñ | E30: 0 | H30: 2 | I30: 0 | J30: 1 | K30: 1 | W30: 0 | Z30: 0 | AC30: 1 | AD30: 1 | AF30: 1
A31: 10 | B31: ä»ï³Ï³Ý, Ñ³Ù³ÛÝù³ÛÇÝ Ï³Ù ³ÛÉÁÝïñ³Ýù³ÛÇÝ Í³é³ÛáõÃÛ³Ý ³ÝóÝ»Éáõ Ï³Ù Çñ³Ï³Ý³óÝ»Éáõ Ñ»ï Ï³åí³Í Çñ³í³Ñ³ñ³µ»ñáõÃÛáõÝÝ»ñÇ í»ñ³µ»ñÛ³É ¹³ï³Ï³Ý ·áñÍ»ñ | C31: 5 | E31: 5 | I31: 0 | N31: 1 | Q31: 1 | W31: 1 | Z31: 4 | AB31: 1 | AD31: 1 | AF31: 1
A32: 11 | B32: ì³ñã³Ï³Ý Ù³ñÙÇÝÝ»ñÇ ÙÇç¨ Çñ³í³ëáõÃÛ³Ý Ñ³ñó»ñÇ í»ñ³µ»ñÛ³É í»×»ñÇ Ñ»ï Ï³åí³Í Çñ³í³Ñ³ñ³µ»ñáõÃÛáõÝÝ»ñÇ í»ñ³µ»ñÛ³É ¹³ï³Ï³Ý ·áñÍ»ñ | E32: 0 | I32: 0 | W32: 0 | Z32: 0
A33: 12 | B33: Ð³ë³ñ³Ï³Ï³Ý Ï³½Ù³Ï»ñåáõÃÛáõÝÝ»ñÇ ¨ ³ÛÉ ÙÇ³íáñáõÙÝ»ñÇ ·áñÍáõÝ»áõÃÛ³Ý Ï³ë»óÙ³Ý Ï³Ù ¹³¹³ñ»óÙ³Ý Ñ»ï Ï³åí³Í Çñ³í³Ñ³ñ³µ»ñáõÃÛáõÝÝ»ñÇ í»ñ³µ»ñÛ³É ¹³ï³Ï³Ý ·áñÍ»ñ | E33: 0 | I33: 0 | W33: 0 | Z33: 0
A34: 13 | B34: ì³ñã³ñ³ñáõÃÛ³Ùµ å³ï×³éí³Í íÝ³ëÇ å³ï³ëË³Ý³ïíáõÃÛ³Ý Ñ»ï Ï³åí³Í Çñ³í³Ñ³ñ³µ»ñáõÃÛáõÝÝ»ñÇ í»ñ³µ»ñÛ³É ¹³ï³Ï³Ý ·áñÍ»ñ | E34: 0 | I34: 0 | W34: 0 | Z34: 0
A35: 14 | B35: ²ÝÑ»ï³Ó·»ÉÇ ÙÇջամտության áñáßÙ³Ý, µáÕáù³ñÏ³ÙաÝ í»ñ³µ»ñÛ³É ¹³ï³Ï³Ý ·áñÍ»ñ | E35: 0 | H35: 6 | I35: 6 | N35: 6 | O35: 4 | Q35: 2 | W35: 6 | Z35: 0 | AB35: 6 | AD35: 6 | AF35: 6
A36: 16 | B36: Դատավորի հավակնորդի հայտի ընդունումը մերժելու áñáßÙ³Ý µáÕáù³ñÏ³ÙաÝ í»ñ³µ»ñÛ³É ¹³ï³Ï³Ý ·áñÍ»ñ | E36: 0 | I36: 0 | W36: 0 | Z36: 0
A37: 9.5 | B37: Ընտրական հանձնաժողովի գործավար մատյանը չլրացնելը կամ ոչ պատշաճ լրացնելը | E37: 0 | I37: 0 | W37: 0 | Z37: 0
A38: 9.14 | B38: Ժողովներ, հանրահավաքներ, երթեր և ցույցեր անցկացնելու կարգը խախտելը | E38: 0 | I38: 0 | W38: 0 | Z38: 0
A39: 9.15 | B39: Զինծառայողների կամ ոստիկ. ծառայողի օրին. պահանջը չկատարելը | C39: 30 | D39: 1 | E39: 29 | H39: 11 | I39: 11 | N39: 21 | O39: 2 | Q39: 19 | W39: 21 | Z39: 20 | AA39: 1 | AB39: 3 | AD39: 3 | AE39: 1 | AF39: 2
A40: 9.18 | B40: Հայաստանի Հանրապետության ուսումնական հաստատություններում առարկաների հայերեն դասավանդումը կամ միջնակարգ-մասնագիտական, մասնագիտական տեխնիկական և բարձրագույն ուսումնական հաստատություններում հայոց լեզվի ուսուցումը կամ հայոց լեզվի ընդունելության քննությունը չապահովելը | E40: 0 | I40: 0 | W40: 0 | Z40: 0
...

Sheet Ռ․Ազրոյան
AI1: Հավելված 2 Բարձրագույն դատական խորհրդի 2022թվականի դեկտեմբերի 26-ի թիվ ԲԴԽ-122-Ո-408 որոշման
A2: 2025թ. | C2: Ð²ÞìºîìàôÂÚàôÜ
A3: ÐÐ ì²ðâ²Î²Ü ¸²î²ð²ÜÆ ¸²î²ìàð ՌՈՒԶԱՆՆԱ ԱԶՐՈՅԱՆԻ ¶àðÌàôÜºàôÂÚ²Ü ìºð²´ºðÚ²È
A4: ÐÐ í³ñã³Ï³Ý ¹³ï³ñ³ÝÇ ¹³ï³íáñÝ»ñÇ Ñ³ëïÇùÝ»ñÇ ÃÇíÁ` 24
A5: êïáõ·Çã Ñ³í³ë³ñáõÙÝ»ñª 1=2+3+4+5, 6=7+8+9+10, 2+3+7=11+21+22+24, 12=13+14+15+16, 17=18+19+20, 21=12+17, 28=26+27, 28=29+30, 35=33+34, 35=36+37 | C5: Ð³ßí»ïáõ Å³Ù³Ý³Ï³Ñ³ïí³ÍáõÙ Ý³Ëáñ¹ Ñ³ßí»ïáõ Å³Ù³Ý³Ï³Ñ³ïí³ÍÇó ÷áË³Ýóí³Í ·áñÍ»ñÇ ÁÝ¹Ñ³Ýáõñ ÃÇíÁ | H5: Ð³ßí»ïáõ Å³Ù³Ý³Ï³Ñ³ïí³ÍáõÙ ëï³óí³Í ·áñÍ»ñÇ (³Û¹ ÃíáõÙ` Ñ³Ûó³¹ÇÙáõÙÝ»ñÇ, ¹ÇÙáõÙÝ»ñÇ) ÁÝ¹Ñ³Ýáõñ ÃÇíÁ | M5: öáË³Ýóí»É ¿ ³ÛÉ ¹³ï³íáñÇ (Ï³½ÙÇ ÷á÷áËáõÃÛáõÝ) | N5: Ð³ßí»ïáõ Å³Ù³Ý³Ï³Ñ³ïí³ÍáõÙ ³í³ñïí³Í ·áñÍ»ñÇ ÁÝ¹Ñ³Ýáõñ ÃÇíÁ | X5: ¶áñÍÝ áõÕ³ñÏí»É ¿ Áëï ÁÝ¹¹³ïáõÃÛ³Ý | Y5: Ð³ßí»ïáõ Å³Ù³Ý³Ï³Ñ³ïí³ÍáõÙ Ï³ë»óí³Í í³ñáõÛÃÝ»ñáí ·áñÍ»ñÇ ÁÝ¹Ñ³Ýáõñ ÃÇíÁ | Z5: Ð³ßí»ïáõ Å³Ù³Ý³Ï³Ñ³ïí³ÍáõÙ ³Ý³í³ñï ·áñÍ»ñÇ ÁÝ¹Ñ³Ýáõñ ÃÇíÁ | AA5: ²Û¹ ÃíáõÙ` Ï³ë»óí³Í | AB5: ´áÕáù³ñÏí³Í ¹³ï³Ï³Ý ³Ïï»ñÁ | AG5: ²í³ñïí³Í ¹³ï³Ï³Ý ·áñÍ»ñÇ µáÕáù³ñÏÙ³Ý ïáÏáëÁ (Ñ³ßí»ïáõ Å³Ù³Ý³Ï³Ñ³ïí³ÍáõÙ) | AH5: ²Ý³í³ñï µáÕáùÝ»ñ | AI5: ´»Ï³Ýí³Í ¹³ï³Ï³Ý ³Ïï»ñÁ
C6: ÀÝ¹³Ù»ÝÁ | D6: ²Û¹ ÃíáõÙ`Ï³ë»óí³Í íÇ×³ÏáõÙ ÷áË³Ýóí³Í | E6: ²Û¹ ÃíáõÙª ÁÝ¹áõÝí»É ¿ í³ñáõÛÃ | F6: ²Û¹ ÃíáõÙª í»ñ³¹³ñÓí»É ¿ | G6: ²Û¹ ÃíáõÙª ÁÝ¹áõÝáõÙÁ Ù»ñÅí»É ¿ | H6: ÀÝ¹³Ù»ÝÁ | I6: ²Û¹ ÃíáõÙª ÁÝ¹áõÝí»É ¿ í³ñáõÛÃ | J6: ²Û¹ ÃíáõÙª í»ñ³¹³ñÓí»É ¿ | K6: ²Û¹ ÃíáõÙª ÁÝ¹áõÝáõÙÁ Ù»ñÅí»É ¿ | L6: Այդ թվում անորոշ | N6: ÀÝ¹³Ù»ÝÁ ³í³ñïí»É »Ý ·áñÍ»ñ ·áñÍÝ Áëï ¿áõÃÛ³Ý ÉáõÍáÕ ¹³ï³Ï³Ý ³Ïï»ñÇ (í×ÇéÝ»ñÇ) Ï³Û³óÙ³Ùµ | O6: ²Û¹ ÃíáõÙª Ñ³ÛóÇ µ³í³ñ³ñÙ³Ùµ | P6: ²Û¹ ÃíáõÙª Ñ³ÛóÇ Ù³ëÝ³ÏÇ µ³í³ñ³ñÙ³Ùµ | Q6: ²Û¹ ÃíáõÙª Ñ³ÛóÇ Ù»ñÅÙ³Ùµ | R6: ²Û¹ ÃíáõÙ` Ù³ëÝ³ÏÇ Ù»ñÅí»É ¿, Ù³ëÝ³ÏÇ Ï³ñ×í»É | S6: ²Û¹ ÃíáõÙª Ï³ñ×í»É »Ý | W6: ÀÝ¹³Ù»ÝÝ ³í³ñïí»É »Ý ·áñÍ»ñ | AB6: ²Û¹ ÃíáõÙ` ·áñÍÝ Áëï ¿áõÃÛ³Ý ÉáõÍáÕ ¹³ï³Ï³Ý ³Ïï»ñÁ | AC6: ²Û¹ ÃíáõÙ` ÙÇç³ÝÏÛ³É ¹³ï³Ï³Ý ³Ïï»ñÁ | AD6: ÀÝ¹³Ù»ÝÁ | AE6: Ü³Ëáñ¹ ï³ñÇÝ»ñÇÝ Ï³Û³óí³Í ³Ïï»ñÇ µáÕáù³ñÏáõÙÁ Ñ³ßí»ïáõ Å³Ù³Ý³Ï³ßñç³ÝáõÙ | AF6: Ð³ßí»ïáõ Å³Ù³Ý³Ï³ßñç³ÝáõÙ Ï³Û³óí³Í ³Ïï»ñÇ µáÕáù³ñÏáõÙÁ | AI6: ²Û¹ ÃíáõÙ` ·áñÍÝ Áëï ¿áõÃÛ³Ý ÉáõÍáÕ ¹³ï³Ï³Ý ³Ïï»ñÁ | AJ6: ²Û¹ ÃíáõÙ` ÙÇç³ÝÏÛ³É ¹³ï³Ï³Ý ³Ïï»ñÁ | AK6: ÀÝ¹³Ù»ÝÁ | AL6: Ü³Ëáñ¹ ï³ñÇÝ»ñÇÝ Ï³Û³óí³Í ³Ïï»ñÇ µ»Ï³ÝáõÙÝ»ñÁ Ñ³ßí»ïáõ Å³Ù³Ý³Ï³ßñç³ÝáõÙ | AM6: Ð³ßí»ïáõ Å³Ù³Ý³Ï³ßñç³ÝáõÙ Ï³Û³óí³Í ³Ïï»ñÇ µ»Ï³ÝáõÙÁ
S7: ÀÝ¹³Ù»ÝÁ Ï³ñ×í»É »Ý | T7: ²Û¹ ÃíáõÙª Ñ³ëï³ïí»É ¿ ÏÝùí³Í Ñ³ßïáõÃÛ³Ý Ñ³Ù³Ó³ÛÝáõÃÛáõÝÁ | U7: ²Û¹ ÃíáõÙª Ñ³ÛóÇó, ¹ÇÙáõÙÇó Ññ³Å³ñí»Éáõ ÑÇÙùáí | V7: ²Û¹ ÃíáõÙª ³ÛÉ ÑÇÙùáí
B8: ì³ñã³Ï³Ý ·áñÍ»ñÇ ¹³ë³Ï³ñ·áõÙÁ | C8: 1 | D8: 2 | E8: 3 | F8: 4 | G8: 5 | H8: 6 | I8: 7 | J8: 8 | K8: 9 | L8: 10 | M8: 11 | N8: 12 | O8: 13 | P8: 14 | Q8: 15 | R8: 16 | S8: 17 | T8: 18 | U8: 19 | V8: 20 | W8: 21 | X8: 22 | Y8: 23 | Z8: 24 | AA8: 25 | AB8: 26 | AC8: 27 | AD8: 28 | AE8: 29 | AF8: 30 | AG8: 31 | AH8: 32 | AI8: 33 | AJ8: 34 | AK8: 35 | AL8: 36 | AM8: 37
A9: 1 | B9: ä»ï³Ï³Ý Ù³ñÙÇÝÝ»ñÇ, ï»Õ³Ï³Ý ÇÝùÝ³Ï³é³í³ñÙ³Ý Ù³ñÙÇÝÝ»ñÇ áõ ¹ñ³Ýó å³ßïáÝ³ï³ñ ³ÝÓ³Ýó ³Ïï»ñÝ ³Ýí³í»ñ ×³Ý³ã»Éáõ Ñ»ï Ï³åí³Í Çñ³í³ñ³Ñ³µ»ñáõÃÛáõÝÝ»ñÇ í»ñ³µ»ñÛ³É ¹³ï³Ï³Ý ·áñÍ»ñ | C9: =+C10+C11 -> 60 | D9: =+D10+D11 -> 22 | E9: =+E10+E11 -> 38 | F9: =+F10+F11 -> 0 | G9: =+G10+G11 -> 0 | H9: =+H10+H11 -> 1192 | I9: =+I10+I11 -> 1042 | J9: =+J10+J11 -> 99 | ... AM9: =+AM10+AM11 -> 2
A10: 1.1 | B10: ä»ï³Ï³Ý Ù³ñÙÇÝÝ»ñÇ áõ ¹ñ³Ýó å³ßïáÝ³ï³ñ ³ÝÓ³Ýó ³Ïï»ñÝ ³Ýí³í»ñ ×³Ý³ã»Éáõ Ñ»ï Ï³åí³Í Çñ³í³Ñ³ñ³µ»ñáõÃÛáõÝÝ»ñÇ í»ñ³µ»ñÛ³É ¹³ï³Ï³Ý ·áñÍ»ñ | C10: 20 | D10: 20 | E10: 0 | H10: 1022 | I10: 900 | J10: 75 | K10: 47 | M10: 3 | N10: 576 | O10: 460 | P10: 5 | Q10: 111 | S10: 10 | V10: 10 | W10: 586 | X10: 3 | Y10: 18 | Z10: 328 | AA10: 36 | AB10: 105 | AC10: 30 | AD10: 135 | AE10: 6 | AF10: 129 | AI10: 19 | AJ10: 2 | AK10: 21 | AL10: 20 | AM10: 1
A11: 1.2 | B11: î»Õ³Ï³Ý ÇÝùÝ³Ï³é³í³ñÙ³Ý Ù³ñÙÇÝÝ»ñÇ áõ ¹ñ³Ýó å³ßïáÝ³ï³ñ ³ÝÓ³Ýó ³Ïï»ñÝ ³Ýí³í»ñ ×³Ý³ã»Éáõ Ñ»ï Ï³åí³Í Çñ³í³Ñ³ñ³µ»ñáõÃÛáõÝÝ»ñÇ í»ñ³µ»ñÛ³É ¹³ï³Ï³Ý ·áñÍ»ñ | C11: 40 | D11: 2 | E11: 38 | H11: 170 | I11: 142 | J11: 24 | K11: 4 | N11: 69 | O11: 57 | P11: 1 | Q11: 11 | S11: 6 | U11: 3 | V11: 3 | W11: 75 | X11: 1 | Y11: 2 | Z11: 106 | AA11: 4 | AB11: 32 | AC11: 4 | AD11: 36 | AE11: 2 | AF11: 34 | AI11: 4 | AJ11: 1 | AK11: 5 | AL11: 4 | AM11: 1
A12: 2 | B12: ä»ï³Ï³Ý Ù³ñÙÇÝÝ»ñÇ, ï»Õ³Ï³Ý ÇÝùÝ³Ï³é³í³ñÙ³Ý Ù³ñÙÇÝÝ»ñÇ ¨ ¹ñ³Ýó å³ßïáÝ³ï³ñ ³ÝÓ³Ýó ·áñÍáÕáõÃÛáõÝÝ»ñÁ /³Ý·áñÍáõÃÛáõÝÁ/ íÇ×³ñÏ»Éáõ Ñ»ï Ï³åí³Í Çñ³í³Ñ³ñ³µ»ñáõÃÛáõÝÝ»ñÇ í»ñ³µ»ñÛ³É ¹³ï³Ï³Ý ·áñÍ»ñ | C12: =C13+C14 -> 73 | D12: =D13+D14 -> 6 | E12: =E13+E14 -> 67 | F12: =F13+F14 -> 0 | G12: =G13+G14 -> 0 | H12: =H13+H14 -> 159 | I12: =I13+I14 -> 110 | J12: =J13+J14 -> 36 | ... AM12: =AM13+AM14 -> 5
A13: 2.1 | B13: ä»ï³Ï³Ý Ù³ñÙÇÝÝ»ñÇ ¨ ¹ñ³Ýó å³ßïáÝ³ï³ñ ³ÝÓ³Ýó ·áñÍáÕáõÃÛáõÝÝ»ñÁ /³Ý·áñÍáõÃÛáõÝÁ/ íÇ×³ñÏ»Éáõ Ñ»ï Ï³åí³Í Çñ³í³Ñ³ñ³µ»ñáõÃÛáõÝÝ»ñÇ í»ñ³µ»ñÛ³É ¹³ï³Ï³Ý ·áñÍ»ñ | C13: 37 | D13: 4 | E13: 33 | H13: 108 | I13: 78 | J13: 21 | K13: 9 | N13: 46 | O13: 26 | P13: 1 | Q13: 19 | S13: 5 | U13: 2 | V13: 3 | W13: 51 | X13: 6 | Z13: 58 | AA13: 4 | AB13: 15 | AC13: 9 | AD13: 24 | AE13: 2 | AF13: 22 | AI13: 2 | AJ13: 4 | AK13: 6 | AL13: 2 | AM13: 4
A14: 2.2 | B14: î»Õ³Ï³Ý ÇÝùÝ³Ï³é³í³ñÙ³Ý Ù³ñÙÇÝÝ»ñÇ áõ ¹ñ³Ýó å³ßïáÝ³ï³ñ ³ÝÓ³Ýó ·áñÍáÕáõÃÛáõÝÝ»ñÁ /³Ý·áñÍáõÃÛáõÝÁ/ íÇ×³ñÏ»Éáõ Ñ»ï Ï³åí³Í Çñ³í³Ñ³ñ³µ»ñáõÃÛáõÝÝ»ñÇ í»ñ³µ»ñÛ³É ¹³ï³Ï³Ý ·áñÍ»ñ | C14: 36 | D14: 2 | E14: 34 | H14: 51 | I14: 32 | J14: 15 | K14: 4 | N14: 19 | O14: 7 | Q14: 12 | S14: 2 | U14: 1 | V14: 1 | W14: 21 | X14: 1 | Y14: 1 | Z14: 46 | AA14: 1 | AB14: 7 | AC14: 3 | AD14: 10 | AE14: 3 | AF14: 7 | AI14: 2 | AJ14: 1 | AK14: 3 | AL14: 2 | AM14: 1
A15: 5 | B15: Üáï³ñ³Ï³Ý ·áñÍáÕáõÃÛáõÝÝ»ñÁ Ï³Ù Ýáï³ñÇ ³Ý·áñÍáõÃÛáõÝÁ íÇ×³ñÏ»Éáõ Ñ»ï Ï³åí³Í Çñ³í³Ñ³ñ³µ»ñáõÃÛáõÝÝ»ñÇ í»ñ³µ»ñÛ³É ¹³ï³Ï³Ý ·áñÍ»ñ | C15: 1 | E15: 1 | H15: 4 | I15: 3 | J15: 1 | S15: 1 | V15: 1 | W15: 1 | X15: 2 | Y15: 1 | Z15: 1 | AA15: 1 | AI15: 1 | AK15: 1 | AL15: 1
A16: 6 | B16: ÜáñÙ³ïÇí Çñ³í³Ï³Ý ³Ïï»ñÇ Çñ³í³ã³÷áõÃÛáõÝÁ íÇ×³ñÏ»Éáõ Ñ»ï Ï³åí³Í Çñ³í³Ñ³ñ³µ»ñáõÃÛáõÝÝ»ñÇ í»ñ³µ»ñÛ³É ¹³ï³Ï³Ý ·áñÍ»ñ | C16: =C17+C18+C19+C20+C21+C22+C23 -> 0 | D16: =D17+D18+D19+D20+D21+D22+D23 -> 0 | E16: =E17+E18+E19+E20+E21+E22+E23 -> 0 | F16: =F17+F18+F19+F20+F21+F22+F23 -> 0 | G16: =G17+G18+G19+G20+G21+G22+G23 -> 0 | H16: =H17+H18+H19+H20+H21+H22+H23 -> 2 | I16: =I17+I18+I19+I20+I21+I22+I23 -> 1 | J16: =J17+J18+J19+J20+J21+J22+J23 -> 1 | ... AM16: =AM17+AM18+AM19+AM20+AM21+AM22+AM23 -> 0
A17: 6.1 | B17: ¶»ñ³ï»ëã³Ï³Ý ÝáñÙ³ïÇí Çñ³í³Ï³Ý ³Ïï»ñÇª ÐÐ ê³ÑÙ³Ý³¹ñáõÃÛ³ÝÁ Ñ³Ù³å³ï³ëË³ÝáõÃÛáõÝÁ íÇ×³ñÏ»Éáõ í»ñ³µ»ñÛ³É | E17: 0 | I17: 0 | W17: 0 | Z17: 0
A18: 6.2 | B18: Ü³Ë³·³ÑÇ ÝáñÙ³ïÇí µÝáõÛÃ áõÝ»óáÕ ³Ïï»ñÇ` ³í»ÉÇ µ³ñÓñ Çñ³í³µ³Ý³Ï³Ý áõÅ áõÝ»óáÕ ÝáñÙ³ïÇí ³Ïï»ñÇÝ Ñ³Ù³å³ï³ëË³ÝáõÃÛáõÝÁ íÇ×³ñÏ»Éáõ í»ñ³µ»ñÛ³É | E18: 0 | I18: 0 | W18: 0 | Z18: 0
A19: 6.3 | B19: Î³é³í³ñáõÃÛ³Ý ÝáñÙ³ïÇí áñáßáõÙÝ»ñÇ`³í»ÉÇ µ³ñÓñ Çñ³í³µ³Ý³Ï³Ý áõÅ áõÝ»óáÕ ÝáñÙ³ïÇí ³Ïï»ñÇÝ Ñ³Ù³å³ï³ëË³ÝáõÃÛáõÝÁ íÇ×³ñÏ»Éáõ í»ñ³µ»ñÛ³É | E19: 0 | H19: 1 | I19: 1 | W19: 0 | Z19: 1
A20: 6.4 | B20: ì³ñã³å»ïÇ ÝáñÙ³ïÇí áñáßáõÙÝ»ñÇ` ³í»ÉÇ µ³ñÓñ Çñ³í³µ³Ý³Ï³Ý áõÅ áõÝ»óáÕ ÝáñÙ³ïÇí ³Ïï»ñÇÝ Ñ³Ù³å³ï³ëË³ÝáõÃÛáõÝÁ íÇ×³ñÏ»Éáõ í»ñ³µ»ñÛ³É | E20: 0 | I20: 0 | W20: 0 | Z20: 0
A21: 6.5 | B21: ¶»ñ³ï»ëã³Ï³Ý ÝáñÙ³ïÇí Çñ³í³Ï³Ý ³Ïï»ñÇ` ³í»ÉÇ µ³ñÓñ Çñ³í³µ³Ý³Ï³Ý áõÅ áõÝ»óáÕ ÝáñÙ³ïÇí ³Ïï»ñÇÝ Ñ³Ù³å³ï³ëË³ÝáõÃÛáõÝÁ íÇ×³ñÏ»Éáõ í»ñ³µ»ñÛ³É | E21: 0 | I21: 0 | W21: 0 | Z21: 0
A22: 6.6 | B22: Ð³Ù³ÛÝùÇ ³í³·³Ýáõ áñáßáõÙÝ»ñÇ` ³í»ÉÇ µ³ñÓñ Çñ³í³µ³Ý³Ï³Ý áõÅ áõÝ»óáÕ ÝáñÙ³ïÇí ³Ïï»ñÇÝ Ñ³Ù³å³ï³ëË³ÝáõÃÛáõÝÁ íÇ×³ñÏ»Éáõ í»ñ³µ»ñÛ³É | E22: 0 | H22: 1 | I22: 0 | J22: 1 | W22: 0 | Z22: 0
A23: 6.7 | B23: Ð³Ù³ÛÝùÇ Õ»Ï³í³ñÇ áñáßáõÙÝ»ñÇ` ³í»ÉÇ µ³ñÓñ Çñ³í³µ³Ý³Ï³Ý áõÅ áõÝ»óáÕ ÝáñÙ³ïÇí ³Ïï»ñÇÝ Ñ³Ù³å³ï³ëË³ÝáõÃÛáõÝÁ íÇ×³ñÏ»Éáõ í»ñ³µ»ñÛ³É | E23: 0 | I23: 0 | W23: 0 | Z23: 0
A24: 7 | B24: ÀÝïñ³Ï³Ý Çñ³íáõÝùÇ å³ßïå³ÝáõÃÛ³Ý Ñ»ï Ï³åí³Í Çñ³í³Ñ³ñ³µ»ñáõÃÛáõÝÝ»ñÇ í»ñ³µ»ñÛ³É ¹³ï³Ï³Ý ·áñÍ»ñ | C24: =+C25+C26+C27+C28+C29 -> 0 | D24: =+D25+D26+D27+D28+D29 -> 0 | E24: =+E25+E26+E27+E28+E29 -> 0 | F24: =+F25+F26+F27+F28+F29 -> 0 | G24: =+G25+G26+G27+G28+G29 -> 0 | H24: =+H25+H26+H27+H28+H29 -> 0 | I24: =+I25+I26+I27+I28+I29 -> 0 | J24: =+J25+J26+J27+J28+J29 -> 0 | ... AM24: =+AM25+AM26+AM27+AM28+AM29 -> 0
A25: 7.1 | B25: Ü³Ë³·³ÑÇ ÁÝïñáõÃÛáõÝÝ»ñÇ Ñ»ï Ï³åí³Í | E25: 0 | I25: 0 | W25: 0 | Z25: 0
A26: 7.2 | B26: ²½·³ÛÇÝ ÅáÕáíÇ ÁÝïñáõÃÛáõÝÝ»ñÇ Ñ»ï Ï³åí³Í | E26: 0 | I26: 0 | W26: 0 | Z26: 0
A27: 7.3 | B27: î»Õ³Ï³Ý ÇÝùÝ³Ï³é³í³ñÙ³Ý Ù³ñÙÇÝÝ»ñÇ ÁÝïñáõÃÛáõÝÝ»ñÇ Ñ»ï Ï³åí³Í | E27: 0 | I27: 0 | W27: 0 | Z27: 0
A28: 7.4 | B28: Ð³Ýñ³ùí»Ç Ï³½Ù³Ï»ñåÙ³Ý ¨ ³ÝóÏ³óÙ³Ý Ñ»ï Ï³åí³Í | E28: 0 | I28: 0 | W28: 0 | Z28: 0
A29: 7.5 | B29: ²ÛÉ í»×»ñ | E29: 0 | I29: 0 | W29: 0 | Z29: 0
A30: 9 | B30: Ð³í³ùÇ ³ÝóÏ³óÙ³Ý Ù³ëÇÝ Ñ³Ù³ÛÝùÇ Õ»Ï³í³ñÇ áñáßáõÙÝ»ñÇ ¨ ·áñÍáÕáõÃÛáõÝÝ»ñÇ Çñ³í³ã³÷áõÃÛáõÝÁ íÇ×³ñÏ»Éáõ Ñ»ï Ï³åí³Í Çñ³í³Ñ³ñ³µ»ñáõÃÛáõÝÝ»ñÇ í»ñ³µ»ñÛ³É ¹³ï³Ï³Ý ·áñÍ»ñ | E30: 0 | H30: 1 | I30: 0 | J30: 1 | W30: 0 | Z30: 0
A31: 10 | B31: ä»ï³Ï³Ý, Ñ³Ù³ÛÝù³ÛÇÝ Ï³Ù ³ÛÉÁÝïñ³Ýù³ÛÇÝ Í³é³ÛáõÃÛ³Ý ³ÝóÝ»Éáõ Ï³Ù Çñ³Ï³Ý³óÝ»Éáõ Ñ»ï Ï³åí³Í Çñ³í³Ñ³ñ³µ»ñáõÃÛáõÝÝ»ñÇ í»ñ³µ»ñÛ³É ¹³ï³Ï³Ý ·áñÍ»ñ | C31: 1 | E31: 1 | I31: 0 | N31: 1 | P31: 1 | W31: 1 | Z31: 0 | AB31: 1 | AD31: 1 | AF31: 1
A32: 11 | B32: ì³ñã³Ï³Ý Ù³ñÙÇÝÝ»ñÇ ÙÇç¨ Çñ³í³ëáõÃÛ³Ý Ñ³ñó»ñÇ í»ñ³µ»ñÛ³É í»×»ñÇ Ñ»ï Ï³åí³Í Çñ³í³Ñ³ñ³µ»ñáõÃÛáõÝÝ»ñÇ í»ñ³µ»ñÛ³É ¹³ï³Ï³Ý ·áñÍ»ñ | E32: 0 | I32: 0 | W32: 0 | Z32: 0
A33: 12 | B33: Ð³ë³ñ³Ï³Ï³Ý Ï³½Ù³Ï»ñåáõÃÛáõÝÝ»ñÇ ¨ ³ÛÉ ÙÇ³íáñáõÙÝ»ñÇ ·áñÍáõÝ»áõÃÛ³Ý Ï³ë»óÙ³Ý Ï³Ù ¹³¹³ñ»óÙ³Ý Ñ»ï Ï³åí³Í Çñ³í³Ñ³ñ³µ»ñáõÃÛáõÝÝ»ñÇ í»ñ³µ»ñÛ³É ¹³ï³Ï³Ý ·áñÍ»ñ | E33: 0 | H33: 1 | I33: 1 | W33: 0 | Z33: 1
A34: 13 | B34: ì³ñã³ñ³ñáõÃÛ³Ùµ å³ï×³éí³Í íÝ³ëÇ å³ï³ëË³Ý³ïíáõÃÛ³Ý Ñ»ï Ï³åí³Í Çñ³í³Ñ³ñ³µ»ñáõÃÛáõÝÝ»ñÇ í»ñ³µ»ñÛ³É ¹³ï³Ï³Ý ·áñÍ»ñ | E34: 0 | I34: 0 | W34: 0 | Z34: 0
A35: 14 | B35: ²ÝÑ»ï³Ó·»ÉÇ ÙÇջամտության áñáßÙ³Ý, µáÕáù³ñÏ³ÙաÝ í»ñ³µ»ñÛ³É ¹³ï³Ï³Ý ·áñÍ»ñ | E35: 0 | H35: 4 | I35: 4 | N35: 3 | O35: 3 | W35: 3 | Z35: 0 | AB35: 1 | AD35: 1 | AF35: 1
A36: 16 | B36: Դատավորի հավակնորդի հայտի ընդունումը մերժելու áñáßÙ³Ý µáÕáù³ñÏ³ÙաÝ í»ñ³µ»ñÛ³É ¹³ï³Ï³Ý ·áñÍ»ñ | E36: 0 | I36: 0 | W36: 0 | Z36: 0
A37: 9.5 | B37: Ընտրական հանձնաժողովի գործավար մատյանը չլրացնելը կամ ոչ պատշաճ լրացնելը | E37: 0 | I37: 0 | W37: 0 | Z37: 0
A38: 9.14 | B38: Ժողովներ, հանրահավաքներ, երթեր և ցույցեր անցկացնելու կարգը խախտելը | E38: 0 | H38: 2 | I38: 2 | N38: 2 | Q38: 2 | W38: 2 | Z38: 0 | AB38: 2 | AD38: 2 | AF38: 2
A39: 9.15 | B39: Զինծառայողների կամ ոստիկ. ծառայողի օրին. պահանջը չկատարելը | C39: 9 | D39: 8 | E39: 1 | H39: 14 | I39: 14 | N39: 13 | O39: 1 | Q39: 12 | W39: 13 | Z39: 10 | AA39: 8 | AB39: 10 | AD39: 10 | AE39: 4 | AF39: 6
A40: 9.18 | B40: Հայաստանի Հանրապետության ուսումնական հաստատություններում առարկաների հայերեն դասավանդումը կամ միջնակարգ-մասնագիտական, մասնագիտական տեխնիկական և բարձրագույն ուսումնական հաստատություններում հայոց լեզվի ուսուցումը կամ հայոց լեզվի ընդունելության քննությունը չապահովելը | E40: 0 | I40: 0 | W40: 0 | Z40: 0
...

Sheet Գ․Առաքելյան
AI1: Հավելված 2 Բարձրագույն դատական խորհրդի 2022թվականի դեկտեմբերի 26-ի թիվ ԲԴԽ-122-Ո-408 որոշման
A2: 2025թ. | C2: Ð²ÞìºîìàôÂÚàôÜ
A3: ÐÐ ì²ðâ²Î²Ü ¸²î²ð²ÜÆ ¸²î²ìàð ԳՐԻԳՈՐ ԱՌԱՔԵԼՅԱՆ ¶àðÌàôÜºàôÂÚ²Ü ìºð²´ºðÚ²È
A4: ÐÐ í³ñã³Ï³Ý ¹³ï³ñ³ÝÇ ¹³ï³íáñÝ»ñÇ Ñ³ëïÇùÝ»ñÇ ÃÇíÁ` 24
A5: êïáõ·Çã Ñ³í³ë³ñáõÙÝ»ñª 1=2+3+4+5, 6=7+8+9+10, 2+3+7=11+21+22+24, 12=13+14+15+16, 17=18+19+20, 21=12+17, 28=26+27, 28=29+30, 35=33+34, 35=36+37 | C5: Ð³ßí»ïáõ Å³Ù³Ý³Ï³Ñ³ïí³ÍáõÙ Ý³Ëáñ¹ Ñ³ßí»ïáõ Å³Ù³Ý³Ï³Ñ³ïí³ÍÇó ÷áË³Ýóí³Í ·áñÍ»ñÇ ÁÝ¹Ñ³Ýáõñ ÃÇíÁ | H5: Ð³ßí»ïáõ Å³Ù³Ý³Ï³Ñ³ïí³ÍáõÙ ëï³óí³Í ·áñÍ»ñÇ (³Û¹ ÃíáõÙ` Ñ³Ûó³¹ÇÙáõÙÝ»ñÇ, ¹ÇÙáõÙÝ»ñÇ) ÁÝ¹Ñ³Ýáõñ ÃÇíÁ | M5: öáË³Ýóí»É ¿ ³ÛÉ ¹³ï³íáñÇ (Ï³½ÙÇ ÷á÷áËáõÃÛáõÝ) | N5: Ð³ßí»ïáõ Å³Ù³Ý³Ï³Ñ³ïí³ÍáõÙ ³í³ñïí³Í ·áñÍ»ñÇ ÁÝ¹Ñ³Ýáõñ ÃÇíÁ | X5: ¶áñÍÝ áõÕ³ñÏí»É ¿ Áëï ÁÝ¹¹³ïáõÃÛ³Ý | Y5: Ð³ßí»ïáõ Å³Ù³Ý³Ï³Ñ³ïí³ÍáõÙ Ï³ë»óí³Í í³ñáõÛÃÝ»ñáí ·áñÍ»ñÇ ÁÝ¹Ñ³Ýáõñ ÃÇíÁ | Z5: Ð³ßí»ïáõ Å³Ù³Ý³Ï³Ñ³ïí³ÍáõÙ ³Ý³í³ñï ·áñÍ»ñÇ ÁÝ¹Ñ³Ýáõñ ÃÇíÁ | AA5: ²Û¹ ÃíáõÙ` Ï³ë»óí³Í | AB5: ´áÕáù³ñÏí³Í ¹³ï³Ï³Ý ³Ïï»ñÁ | AG5: ²í³ñïí³Í ¹³ï³Ï³Ý ·áñÍ»ñÇ µáÕáù³ñÏÙ³Ý ïáÏáëÁ (Ñ³ßí»ïáõ Å³Ù³Ý³Ï³Ñ³ïí³ÍáõÙ) | AH5: ²Ý³í³ñï µáÕáùÝ»ñ | AI5: ´»Ï³Ýí³Í ¹³ï³Ï³Ý ³Ïï»ñÁ
C6: ÀÝ¹³Ù»ÝÁ | D6: ²Û¹ ÃíáõÙ`Ï³ë»óí³Í íÇ×³ÏáõÙ ÷áË³Ýóí³Í | E6: ²Û¹ ÃíáõÙª ÁÝ¹áõÝí»É ¿ í³ñáõÛÃ | F6: ²Û¹ ÃíáõÙª í»ñ³¹³ñÓí»É ¿ | G6: ²Û¹ ÃíáõÙª ÁÝ¹áõÝáõÙÁ Ù»ñÅí»É ¿ | H6: ÀÝ¹³Ù»ÝÁ | I6: ²Û¹ ÃíáõÙª ÁÝ¹áõÝí»É ¿ í³ñáõÛÃ | J6: ²Û¹ ÃíáõÙª í»ñ³¹³ñÓí»É ¿ | K6: ²Û¹ ÃíáõÙª ÁÝ¹áõÝáõÙÁ Ù»ñÅí»É ¿ | L6: Այդ թվում անորոշ | N6: ÀÝ¹³Ù»ÝÁ ³í³ñïí»É »Ý ·áñÍ»ñ ·áñÍÝ Áëï ¿áõÃÛ³Ý ÉáõÍáÕ ¹³ï³Ï³Ý ³Ïï»ñÇ (í×ÇéÝ»ñÇ) Ï³Û³óÙ³Ùµ | O6: ²Û¹ ÃíáõÙª Ñ³ÛóÇ µ³í³ñ³ñÙ³Ùµ | P6: ²Û¹ ÃíáõÙª Ñ³ÛóÇ Ù³ëÝ³ÏÇ µ³í³ñ³ñÙ³Ùµ | Q6: ²Û¹ ÃíáõÙª Ñ³ÛóÇ Ù»ñÅÙ³Ùµ | R6: ²Û¹ ÃíáõÙ` Ù³ëÝ³ÏÇ Ù»ñÅí»É ¿, Ù³ëÝ³ÏÇ Ï³ñ×í»É | S6: ²Û¹ ÃíáõÙª Ï³ñ×í»É »Ý | W6: ÀÝ¹³Ù»ÝÝ ³í³ñïí»É »Ý ·áñÍ»ñ | AB6: ²Û¹ ÃíáõÙ` ·áñÍÝ Áëï ¿áõÃÛ³Ý ÉáõÍáÕ ¹³ï³Ï³Ý ³Ïï»ñÁ | AC6: ²Û¹ ÃíáõÙ` ÙÇç³ÝÏÛ³É ¹³ï³Ï³Ý ³Ïï»ñÁ | AD6: ÀÝ¹³Ù»ÝÁ | AE6: Ü³Ëáñ¹ ï³ñÇÝ»ñÇÝ Ï³Û³óí³Í ³Ïï»ñÇ µáÕáù³ñÏáõÙÁ Ñ³ßí»ïáõ Å³Ù³Ý³Ï³ßñç³ÝáõÙ | AF6: Ð³ßí»ïáõ Å³Ù³Ý³Ï³ßñç³ÝáõÙ Ï³Û³óí³Í ³Ïï»ñÇ µáÕáù³ñÏáõÙÁ | AI6: ²Û¹ ÃíáõÙ` ·áñÍÝ Áëï ¿áõÃÛ³Ý ÉáõÍáÕ ¹³ï³Ï³Ý ³Ïï»ñÁ | AJ6: ²Û¹ ÃíáõÙ` ÙÇç³ÝÏÛ³É ¹³ï³Ï³Ý ³Ïï»ñÁ | AK6: ÀÝ¹³Ù»ÝÁ | AL6: Ü³Ëáñ¹ ï³ñÇÝ»ñÇÝ Ï³Û³óí³Í ³Ïï»ñÇ µ»Ï³ÝáõÙÝ»ñÁ Ñ³ßí»ïáõ Å³Ù³Ý³Ï³ßñç³ÝáõÙ | AM6: Ð³ßí»ïáõ Å³Ù³Ý³Ï³ßñç³ÝáõÙ Ï³Û³óí³Í ³Ïï»ñÇ µ»Ï³ÝáõÙÁ
S7: ÀÝ¹³Ù»ÝÁ Ï³ñ×í»É »Ý | T7: ²Û¹ ÃíáõÙª Ñ³ëï³ïí»É ¿ ÏÝùí³Í Ñ³ßïáõÃÛ³Ý Ñ³Ù³Ó³ÛÝáõÃÛáõÝÁ | U7: ²Û¹ ÃíáõÙª Ñ³ÛóÇó, ¹ÇÙáõÙÇó Ññ³Å³ñí»Éáõ ÑÇÙùáí | V7: ²Û¹ ÃíáõÙª ³ÛÉ ÑÇÙùáí
B8: ì³ñã³Ï³Ý ·áñÍ»ñÇ ¹³ë³Ï³ñ·áõÙÁ | C8: 1 | D8: 2 | E8: 3 | F8: 4 | G8: 5 | H8: 6 | I8: 7 | J8: 8 | K8: 9 | L8: 10 | M8: 11 | N8: 12 | O8: 13 | P8: 14 | Q8: 15 | R8: 16 | S8: 17 | T8: 18 | U8: 19 | V8: 20 | W8: 21 | X8: 22 | Y8: 23 | Z8: 24 | AA8: 25 | AB8: 26 | AC8: 27 | AD8: 28 | AE8: 29 | AF8: 30 | AG8: 31 | AH8: 32 | AI8: 33 | AJ8: 34 | AK8: 35 | AL8: 36 | AM8: 37
A9: 1 | B9: ä»ï³Ï³Ý Ù³ñÙÇÝÝ»ñÇ, ï»Õ³Ï³Ý ÇÝùÝ³Ï³é³í³ñÙ³Ý Ù³ñÙÇÝÝ»ñÇ áõ ¹ñ³Ýó å³ßïáÝ³ï³ñ ³ÝÓ³Ýó ³Ïï»ñÝ ³Ýí³í»ñ ×³Ý³ã»Éáõ Ñ»ï Ï³åí³Í Çñ³í³ñ³Ñ³µ»ñáõÃÛáõÝÝ»ñÇ í»ñ³µ»ñÛ³É ¹³ï³Ï³Ý ·áñÍ»ñ | C9: =+C10+C11 -> 456 | D9: =+D10+D11 -> 25 | E9: =+E10+E11 -> 422 | F9: =+F10+F11 -> 3 | G9: =+G10+G11 -> 6 | H9: =+H10+H11 -> 1098 | I9: =+I10+I11 -> 969 | J9: =+J10+J11 -> 97 | ... AM9: =+AM10+AM11 -> 1
A10: 1.1 | B10: ä»ï³Ï³Ý Ù³ñÙÇÝÝ»ñÇ áõ ¹ñ³Ýó å³ßïáÝ³ï³ñ ³ÝÓ³Ýó ³Ïï»ñÝ ³Ýí³í»ñ ×³Ý³ã»Éáõ Ñ»ï Ï³åí³Í Çñ³í³Ñ³ñ³µ»ñáõÃÛáõÝÝ»ñÇ í»ñ³µ»ñÛ³É ¹³ï³Ï³Ý ·áñÍ»ñ | C10: 379 | D10: 22 | E10: 351 | F10: 1 | G10: 5 | H10: 933 | I10: 815 | J10: 92 | K10: 26 | N10: 723 | O10: 627 | P10: 13 | Q10: 83 | S10: 10 | U10: 2 | V10: 8 | W10: 733 | X10: 3 | Y10: 2 | Z10: 452 | AA10: 20 | AB10: 162 | AC10: 22 | AD10: 184 | AE10: 48 | AF10: 136 | AI10: 22 | AK10: 22 | AL10: 21 | AM10: 1
A11: 1.2 | B11: î»Õ³Ï³Ý ÇÝùÝ³Ï³é³í³ñÙ³Ý Ù³ñÙÇÝÝ»ñÇ áõ ¹ñ³Ýó å³ßïáÝ³ï³ñ ³ÝÓ³Ýó ³Ïï»ñÝ ³Ýí³í»ñ ×³Ý³ã»Éáõ Ñ»ï Ï³åí³Í Çñ³í³Ñ³ñ³µ»ñáõÃÛáõÝÝ»ñÇ í»ñ³µ»ñÛ³É ¹³ï³Ï³Ý ·áñÍ»ñ | C11: 77 | D11: 3 | E11: 71 | F11: 2 | G11: 1 | H11: 165 | I11: 154 | J11: 5 | K11: 6 | N11: 70 | O11: 57 | P11: 1 | Q11: 12 | S11: 7 | U11: 4 | V11: 3 | W11: 77 | X11: 1 | Y11: 1 | Z11: 150 | AA11: 3 | AB11: 57 | AC11: 8 | AD11: 65 | AE11: 16 | AF11: 49 | AI11: 4 | AK11: 4 | AL11: 4
A12: 2 | B12: ä»ï³Ï³Ý Ù³ñÙÇÝÝ»ñÇ, ï»Õ³Ï³Ý ÇÝùÝ³Ï³é³í³ñÙ³Ý Ù³ñÙÇÝÝ»ñÇ ¨ ¹ñ³Ýó å³ßïáÝ³ï³ñ ³ÝÓ³Ýó ·áñÍáÕáõÃÛáõÝÝ»ñÁ /³Ý·áñÍáõÃÛáõÝÁ/ íÇ×³ñÏ»Éáõ Ñ»ï Ï³åí³Í Çñ³í³Ñ³ñ³µ»ñáõÃÛáõÝÝ»ñÇ í»ñ³µ»ñÛ³É ¹³ï³Ï³Ý ·áñÍ»ñ | C12: =C13+C14 -> 151 | D12: =D13+D14 -> 7 | E12: =E13+E14 -> 142 | F12: =F13+F14 -> 1 | G12: =G13+G14 -> 1 | H12: =H13+H14 -> 163 | I12: =I13+I14 -> 146 | J12: =J13+J14 -> 15 | ... AM12: =AM13+AM14 -> 1
A13: 2.1 | B13: ä»ï³Ï³Ý Ù³ñÙÇÝÝ»ñÇ ¨ ¹ñ³Ýó å³ßïáÝ³ï³ñ ³ÝÓ³Ýó ·áñÍáÕáõÃÛáõÝÝ»ñÁ /³Ý·áñÍáõÃÛáõÝÁ/ íÇ×³ñÏ»Éáõ Ñ»ï Ï³åí³Í Çñ³í³Ñ³ñ³µ»ñáõÃÛáõÝÝ»ñÇ í»ñ³µ»ñÛ³É ¹³ï³Ï³Ý ·áñÍ»ñ | C13: 83 | D13: 5 | E13: 76 | F13: 1 | G13: 1 | H13: 123 | I13: 111 | J13: 10 | K13: 2 | N13: 55 | O13: 17 | P13: 6 | Q13: 32 | S13: 10 | U13: 7 | V13: 3 | W13: 65 | X13: 3 | Y13: 2 | Z13: 124 | AA13: 6 | AB13: 25 | AC13: 1 | AD13: 26 | AE13: 1 | AF13: 25 | AI13: 2 | AJ13: 1 | AK13: 3 | AL13: 2 | AM13: 1
A14: 2.2 | B14: î»Õ³Ï³Ý ÇÝùÝ³Ï³é³í³ñÙ³Ý Ù³ñÙÇÝÝ»ñÇ áõ ¹ñ³Ýó å³ßïáÝ³ï³ñ ³ÝÓ³Ýó ·áñÍáÕáõÃÛáõÝÝ»ñÁ /³Ý·áñÍáõÃÛáõÝÁ/ íÇ×³ñÏ»Éáõ Ñ»ï Ï³åí³Í Çñ³í³Ñ³ñ³µ»ñáõÃÛáõÝÝ»ñÇ í»ñ³µ»ñÛ³É ¹³ï³Ï³Ý ·áñÍ»ñ | C14: 68 | D14: 2 | E14: 66 | H14: 40 | I14: 35 | J14: 5 | N14: 30 | O14: 9 | P14: 1 | Q14: 20 | S14: 4 | U14: 3 | V14: 1 | W14: 34 | Y14: 1 | Z14: 69 | AA14: 3 | AB14: 22 | AC14: 2 | AD14: 24 | AE14: 1 | AF14: 23 | AI14: 5 | AJ14: 1 | AK14: 6 | AL14: 6
A15: 5 | B15: Üáï³ñ³Ï³Ý ·áñÍáÕáõÃÛáõÝÝ»ñÁ Ï³Ù Ýáï³ñÇ ³Ý·áñÍáõÃÛáõÝÁ íÇ×³ñÏ»Éáõ Ñ»ï Ï³åí³Í Çñ³í³Ñ³ñ³µ»ñáõÃÛáõÝÝ»ñÇ í»ñ³µ»ñÛ³É ¹³ï³Ï³Ý ·áñÍ»ñ | C15: 5 | E15: 5 | H15: 1 | I15: 1 | N15: 2 | Q15: 2 | W15: 2 | Z15: 4 | AB15: 1 | AD15: 1 | AE15: 1
A16: 6 | B16: ÜáñÙ³ïÇí Çñ³í³Ï³Ý ³Ïï»ñÇ Çñ³í³ã³÷áõÃÛáõÝÁ íÇ×³ñÏ»Éáõ Ñ»ï Ï³åí³Í Çñ³í³Ñ³ñ³µ»ñáõÃÛáõÝÝ»ñÇ í»ñ³µ»ñÛ³É ¹³ï³Ï³Ý ·áñÍ»ñ | C16: =C17+C18+C19+C20+C21+C22+C23 -> 0 | D16: =D17+D18+D19+D20+D21+D22+D23 -> 0 | E16: =E17+E18+E19+E20+E21+E22+E23 -> 0 | F16: =F17+F18+F19+F20+F21+F22+F23 -> 0 | G16: =G17+G18+G19+G20+G21+G22+G23 -> 0 | H16: =H17+H18+H19+H20+H21+H22+H23 -> 8 | I16: =I17+I18+I19+I20+I21+I22+I23 -> 5 | J16: =J17+J18+J19+J20+J21+J22+J23 -> 1 | ... AM16: =AM17+AM18+AM19+AM20+AM21+AM22+AM23 -> 0
A17: 6.1 | B17: ¶»ñ³ï»ëã³Ï³Ý ÝáñÙ³ïÇí Çñ³í³Ï³Ý ³Ïï»ñÇª ÐÐ ê³ÑÙ³Ý³¹ñáõÃÛ³ÝÁ Ñ³Ù³å³ï³ëË³ÝáõÃÛáõÝÁ íÇ×³ñÏ»Éáõ í»ñ³µ»ñÛ³É | E17: 0 | I17: 0 | W17: 0 | Z17: 0
A18: 6.2 | B18: Ü³Ë³·³ÑÇ ÝáñÙ³ïÇí µÝáõÛÃ áõÝ»óáÕ ³Ïï»ñÇ` ³í»ÉÇ µ³ñÓñ Çñ³í³µ³Ý³Ï³Ý áõÅ áõÝ»óáÕ ÝáñÙ³ïÇí ³Ïï»ñÇÝ Ñ³Ù³å³ï³ëË³ÝáõÃÛáõÝÁ íÇ×³ñÏ»Éáõ í»ñ³µ»ñÛ³É | E18: 0 | I18: 0 | W18: 0 | Z18: 0
A19: 6.3 | B19: Î³é³í³ñáõÃÛ³Ý ÝáñÙ³ïÇí áñáßáõÙÝ»ñÇ`³í»ÉÇ µ³ñÓñ Çñ³í³µ³Ý³Ï³Ý áõÅ áõÝ»óáÕ ÝáñÙ³ïÇí ³Ïï»ñÇÝ Ñ³Ù³å³ï³ëË³ÝáõÃÛáõÝÁ íÇ×³ñÏ»Éáõ í»ñ³µ»ñÛ³É | E19: 0 | H19: 4 | I19: 1 | J19: 1 | K19: 2 | W19: 0 | Z19: 1 | AC19: 1 | AD19: 1 | AF19: 1
A20: 6.4 | B20: ì³ñã³å»ïÇ ÝáñÙ³ïÇí áñáßáõÙÝ»ñÇ` ³í»ÉÇ µ³ñÓñ Çñ³í³µ³Ý³Ï³Ý áõÅ áõÝ»óáÕ ÝáñÙ³ïÇí ³Ïï»ñÇÝ Ñ³Ù³å³ï³ëË³ÝáõÃÛáõÝÁ íÇ×³ñÏ»Éáõ í»ñ³µ»ñÛ³É | E20: 0 | I20: 0 | W20: 0 | Z20: 0
A21: 6.5 | B21: ¶»ñ³ï»ëã³Ï³Ý ÝáñÙ³ïÇí Çñ³í³Ï³Ý ³Ïï»ñÇ` ³í»ÉÇ µ³ñÓñ Çñ³í³µ³Ý³Ï³Ý áõÅ áõÝ»óáÕ ÝáñÙ³ïÇí ³Ïï»ñÇÝ Ñ³Ù³å³ï³ëË³ÝáõÃÛáõÝÁ íÇ×³ñÏ»Éáõ í»ñ³µ»ñÛ³É | E21: 0 | H21: 1 | I21: 1 | S21: 1 | U21: 1 | W21: 1 | Z21: 0
A22: 6.6 | B22: Ð³Ù³ÛÝùÇ ³í³·³Ýáõ áñáßáõÙÝ»ñÇ` ³í»ÉÇ µ³ñÓñ Çñ³í³µ³Ý³Ï³Ý áõÅ áõÝ»óáÕ ÝáñÙ³ïÇí ³Ïï»ñÇÝ Ñ³Ù³å³ï³ëË³ÝáõÃÛáõÝÁ íÇ×³ñÏ»Éáõ í»ñ³µ»ñÛ³É | E22: 0 | H22: 3 | I22: 3 | W22: 0 | Z22: 3
A23: 6.7 | B23: Ð³Ù³ÛÝùÇ Õ»Ï³í³ñÇ áñáßáõÙÝ»ñÇ` ³í»ÉÇ µ³ñÓñ Çñ³í³µ³Ý³Ï³Ý áõÅ áõÝ»óáÕ ÝáñÙ³ïÇí ³Ïï»ñÇÝ Ñ³Ù³å³ï³ëË³ÝáõÃÛáõÝÁ íÇ×³ñÏ»Éáõ í»ñ³µ»ñÛ³É | E23: 0 | I23: 0 | W23: 0 | Z23: 0
A24: 7 | B24: ÀÝïñ³Ï³Ý Çñ³íáõÝùÇ å³ßïå³ÝáõÃÛ³Ý Ñ»ï Ï³åí³Í Çñ³í³Ñ³ñ³µ»ñáõÃÛáõÝÝ»ñÇ í»ñ³µ»ñÛ³É ¹³ï³Ï³Ý ·áñÍ»ñ | C24: =+C25+C26+C27+C28+C29 -> 0 | D24: =+D25+D26+D27+D28+D29 -> 0 | E24: =+E25+E26+E27+E28+E29 -> 0 | F24: =+F25+F26+F27+F28+F29 -> 0 | G24: =+G25+G26+G27+G28+G29 -> 0 | H24: =+H25+H26+H27+H28+H29 -> 0 | I24: =+I25+I26+I27+I28+I29 -> 0 | J24: =+J25+J26+J27+J28+J29 -> 0 | ... AM24: =+AM25+AM26+AM27+AM28+AM29 -> 0
A25: 7.1 | B25: Ü³Ë³·³ÑÇ ÁÝïñáõÃÛáõÝÝ»ñÇ Ñ»ï Ï³åí³Í | E25: 0 | I25: 0 | W25: 0 | Z25: 0
A26: 7.2 | B26: ²½·³ÛÇÝ ÅáÕáíÇ ÁÝïñáõÃÛáõÝÝ»ñÇ Ñ»ï Ï³åí³Í | E26: 0 | I26: 0 | W26: 0 | Z26: 0
A27: 7.3 | B27: î»Õ³Ï³Ý ÇÝùÝ³Ï³é³í³ñÙ³Ý Ù³ñÙÇÝÝ»ñÇ ÁÝïñáõÃÛáõÝÝ»ñÇ Ñ»ï Ï³åí³Í | E27: 0 | I27: 0 | W27: 0 | Z27: 0
A28: 7.4 | B28: Ð³Ýñ³ùí»Ç Ï³½Ù³Ï»ñåÙ³Ý ¨ ³ÝóÏ³óÙ³Ý Ñ»ï Ï³åí³Í | E28: 0 | I28: 0 | W28: 0 | Z28: 0
A29: 7.5 | B29: ²ÛÉ í»×»ñ | E29: 0 | I29: 0 | W29: 0 | Z29: 0
A30: 9 | B30: Ð³í³ùÇ ³ÝóÏ³óÙ³Ý Ù³ëÇÝ Ñ³Ù³ÛÝùÇ Õ»Ï³í³ñÇ áñáßáõÙÝ»ñÇ ¨ ·áñÍáÕáõÃÛáõÝÝ»ñÇ Çñ³í³ã³÷áõÃÛáõÝÁ íÇ×³ñÏ»Éáõ Ñ»ï Ï³åí³Í Çñ³í³Ñ³ñ³µ»ñáõÃÛáõÝÝ»ñÇ í»ñ³µ»ñÛ³É ¹³ï³Ï³Ý ·áñÍ»ñ | E30: 0 | I30: 0 | W30: 0 | Z30: 0
A31: 10 | B31: ä»ï³Ï³Ý, Ñ³Ù³ÛÝù³ÛÇÝ Ï³Ù ³ÛÉÁÝïñ³Ýù³ÛÇÝ Í³é³ÛáõÃÛ³Ý ³ÝóÝ»Éáõ Ï³Ù Çñ³Ï³Ý³óÝ»Éáõ Ñ»ï Ï³åí³Í Çñ³í³Ñ³ñ³µ»ñáõÃÛáõÝÝ»ñÇ í»ñ³µ»ñÛ³É ¹³ï³Ï³Ý ·áñÍ»ñ | C31: 3 | E31: 3 | I31: 0 | N31: 2 | P31: 1 | Q31: 1 | W31: 2 | Z31: 1 | AB31: 2 | AD31: 2 | AF31: 2
A32: 11 | B32: ì³ñã³Ï³Ý Ù³ñÙÇÝÝ»ñÇ ÙÇç¨ Çñ³í³ëáõÃÛ³Ý Ñ³ñó»ñÇ í»ñ³µ»ñÛ³É í»×»ñÇ Ñ»ï Ï³åí³Í Çñ³í³Ñ³ñ³µ»ñáõÃÛáõÝÝ»ñÇ í»ñ³µ»ñÛ³É ¹³ï³Ï³Ý ·áñÍ»ñ | E32: 0 | I32: 0 | W32: 0 | Z32: 0
A33: 12 | B33: Ð³ë³ñ³Ï³Ï³Ý Ï³½Ù³Ï»ñåáõÃÛáõÝÝ»ñÇ ¨ ³ÛÉ ÙÇ³íáñáõÙÝ»ñÇ ·áñÍáõÝ»áõÃÛ³Ý Ï³ë»óÙ³Ý Ï³Ù ¹³¹³ñ»óÙ³Ý Ñ»ï Ï³åí³Í Çñ³í³Ñ³ñ³µ»ñáõÃÛáõÝÝ»ñÇ í»ñ³µ»ñÛ³É ¹³ï³Ï³Ý ·áñÍ»ñ | E33: 0 | I33: 0 | W33: 0 | Z33: 0
A34: 13 | B34: ì³ñã³ñ³ñáõÃÛ³Ùµ å³ï×³éí³Í íÝ³ëÇ å³ï³ëË³Ý³ïíáõÃÛ³Ý Ñ»ï Ï³åí³Í Çñ³í³Ñ³ñ³µ»ñáõÃÛáõÝÝ»ñÇ í»ñ³µ»ñÛ³É ¹³ï³Ï³Ý ·áñÍ»ñ | E34: 0 | I34: 0 | W34: 0 | Z34: 0
A35: 14 | B35: ²ÝÑ»ï³Ó·»ÉÇ ÙÇջամտության áñáßÙ³Ý, µáÕáù³ñÏ³ÙաÝ í»ñ³µ»ñÛ³É ¹³ï³Ï³Ý ·áñÍ»ñ | E35: 0 | I35: 0 | W35: 0 | Z35: 0
A36: 16 | B36: Դատավորի հավակնորդի հայտի ընդունումը մերժելու áñáßÙ³Ý µáÕáù³ñÏ³ÙաÝ í»ñ³µ»ñÛ³É ¹³ï³Ï³Ý ·áñÍ»ñ | E36: 0 | I36: 0 | W36: 0 | Z36: 0
A37: 9.5 | B37: Ընտրական հանձնաժողովի գործավար մատյանը չլրացնելը կամ ոչ պատշաճ լրացնելը | E37: 0 | I37: 0 | W37: 0 | Z37: 0
A38: 9.14 | B38: Ժողովներ, հանրահավաքներ, երթեր և ցույցեր անցկացնելու կարգը խախտելը | E38: 0 | I38: 0 | W38: 0 | Z38: 0
A39: 9.15 | B39: Զինծառայողների կամ ոստիկ. ծառայողի օրին. պահանջը չկատարելը | C39: 20 | D39: 5 | E39: 15 | H39: 14 | I39: 12 | K39: 2 | N39: 21 | O39: 3 | Q39: 18 | W39: 21 | Z39: 11 | AA39: 5 | AB39: 6 | AC39: 2 | AD39: 8 | AF39: 8
A40: 9.18 | B40: Հայաստանի Հանրապետության ուսումնական հաստատություններում առարկաների հայերեն դասավանդումը կամ միջնակարգ-մասնագիտական, մասնագիտական տեխնիկական և բարձրագույն ուսումնական հաստատություններում հայոց լեզվի ուսուցումը կամ հայոց լեզվի ընդունելության քննությունը չապահովելը | E40: 0 | I40: 0 | W40: 0 | Z40: 0
...

Sheet Ե․Առաքելյան
AI1: Հավելված 2 Բարձրագույն դատական խորհրդի 2022թվականի դեկտեմբերի 26-ի թիվ ԲԴԽ-122-Ո-408 որոշման
A2: 2025թ. | C2: Ð²ÞìºîìàôÂÚàôÜ
A3: ÐÐ ì²ðâ²Î²Ü ¸²î²ð²ÜÆ ¸²î²ìàð ԵԼԵՆԱ ԱՌԱՔԵԼՅԱՆԻ ¶àðÌàôÜºàôÂÚ²Ü ìºð²´ºðÚ²È
A4: ÐÐ í³ñã³Ï³Ý ¹³ï³ñ³ÝÇ ¹³ï³íáñÝ»ñÇ Ñ³ëïÇùÝ»ñÇ ÃÇíÁ` 24
A5: êïáõ·Çã Ñ³í³ë³ñáõÙÝ»ñª 1=2+3+4+5, 6=7+8+9+10, 2+3+7=11+21+22+24, 12=13+14+15+16, 17=18+19+20, 21=12+17, 28=26+27, 28=29+30, 35=33+34, 35=36+37 | C5: Ð³ßí»ïáõ Å³Ù³Ý³Ï³Ñ³ïí³ÍáõÙ Ý³Ëáñ¹ Ñ³ßí»ïáõ Å³Ù³Ý³Ï³Ñ³ïí³ÍÇó ÷áË³Ýóí³Í ·áñÍ»ñÇ ÁÝ¹Ñ³Ýáõñ ÃÇíÁ | H5: Ð³ßí»ïáõ Å³Ù³Ý³Ï³Ñ³ïí³ÍáõÙ ëï³óí³Í ·áñÍ»ñÇ (³Û¹ ÃíáõÙ` Ñ³Ûó³¹ÇÙáõÙÝ»ñÇ, ¹ÇÙáõÙÝ»ñÇ) ÁÝ¹Ñ³Ýáõñ ÃÇíÁ | M5: öáË³Ýóí»É ¿ ³ÛÉ ¹³ï³íáñÇ (Ï³½ÙÇ ÷á÷áËáõÃÛáõÝ) | N5: Ð³ßí»ïáõ Å³Ù³Ý³Ï³Ñ³ïí³ÍáõÙ ³í³ñïí³Í ·áñÍ»ñÇ ÁÝ¹Ñ³Ýáõñ ÃÇíÁ | X5: ¶áñÍÝ áõÕ³ñÏí»É ¿ Áëï ÁÝ¹¹³ïáõÃÛ³Ý | Y5: Ð³ßí»ïáõ Å³Ù³Ý³Ï³Ñ³ïí³ÍáõÙ Ï³ë»óí³Í í³ñáõÛÃÝ»ñáí ·áñÍ»ñÇ ÁÝ¹Ñ³Ýáõñ ÃÇíÁ | Z5: Ð³ßí»ïáõ Å³Ù³Ý³Ï³Ñ³ïí³ÍáõÙ ³Ý³í³ñï ·áñÍ»ñÇ ÁÝ¹Ñ³Ýáõñ ÃÇíÁ | AA5: ²Û¹ ÃíáõÙ` Ï³ë»óí³Í | AB5: ´áÕáù³ñÏí³Í ¹³ï³Ï³Ý ³Ïï»ñÁ | AG5: ²í³ñïí³Í ¹³ï³Ï³Ý ·áñÍ»ñÇ µáÕáù³ñÏÙ³Ý ïáÏáëÁ (Ñ³ßí»ïáõ Å³Ù³Ý³Ï³Ñ³ïí³ÍáõÙ) | AH5: ²Ý³í³ñï µáÕáùÝ»ñ | AI5: ´»Ï³Ýí³Í ¹³ï³Ï³Ý ³Ïï»ñÁ
C6: ÀÝ¹³Ù»ÝÁ | D6: ²Û¹ ÃíáõÙ`Ï³ë»óí³Í íÇ×³ÏáõÙ ÷áË³Ýóí³Í | E6: ²Û¹ ÃíáõÙª ÁÝ¹áõÝí»É ¿ í³ñáõÛÃ | F6: ²Û¹ ÃíáõÙª í»ñ³¹³ñÓí»É ¿ | G6: ²Û¹ ÃíáõÙª ÁÝ¹áõÝáõÙÁ Ù»ñÅí»É ¿ | H6: ÀÝ¹³Ù»ÝÁ | I6: ²Û¹ ÃíáõÙª ÁÝ¹áõÝí»É ¿ í³ñáõÛÃ | J6: ²Û¹ ÃíáõÙª í»ñ³¹³ñÓí»É ¿ | K6: ²Û¹ ÃíáõÙª ÁÝ¹áõÝáõÙÁ Ù»ñÅí»É ¿ | L6: Այդ թվում անորոշ | N6: ÀÝ¹³Ù»ÝÁ ³í³ñïí»É »Ý ·áñÍ»ñ ·áñÍÝ Áëï ¿áõÃÛ³Ý ÉáõÍáÕ ¹³ï³Ï³Ý ³Ïï»ñÇ (í×ÇéÝ»ñÇ) Ï³Û³óÙ³Ùµ | O6: ²Û¹ ÃíáõÙª Ñ³ÛóÇ µ³í³ñ³ñÙ³Ùµ | P6: ²Û¹ ÃíáõÙª Ñ³ÛóÇ Ù³ëÝ³ÏÇ µ³í³ñ³ñÙ³Ùµ | Q6: ²Û¹ ÃíáõÙª Ñ³ÛóÇ Ù»ñÅÙ³Ùµ | R6: ²Û¹ ÃíáõÙ` Ù³ëÝ³ÏÇ Ù»ñÅí»É ¿, Ù³ëÝ³ÏÇ Ï³ñ×í»É | S6: ²Û¹ ÃíáõÙª Ï³ñ×í»É »Ý | W6: ÀÝ¹³Ù»ÝÝ ³í³ñïí»É »Ý ·áñÍ»ñ | AB6: ²Û¹ ÃíáõÙ` ·áñÍÝ Áëï ¿áõÃÛ³Ý ÉáõÍáÕ ¹³ï³Ï³Ý ³Ïï»ñÁ | AC6: ²Û¹ ÃíáõÙ` ÙÇç³ÝÏÛ³É ¹³ï³Ï³Ý ³Ïï»ñÁ | AD6: ÀÝ¹³Ù»ÝÁ | AE6: Ü³Ëáñ¹ ï³ñÇÝ»ñÇÝ Ï³Û³óí³Í ³Ïï»ñÇ µáÕáù³ñÏáõÙÁ Ñ³ßí»ïáõ Å³Ù³Ý³Ï³ßñç³ÝáõÙ | AF6: Ð³ßí»ïáõ Å³Ù³Ý³Ï³ßñç³ÝáõÙ Ï³Û³óí³Í ³Ïï»ñÇ µáÕáù³ñÏáõÙÁ | AI6: ²Û¹ ÃíáõÙ` ·áñÍÝ Áëï ¿áõÃÛ³Ý ÉáõÍáÕ ¹³ï³Ï³Ý ³Ïï»ñÁ | AJ6: ²Û¹ ÃíáõÙ` ÙÇç³ÝÏÛ³É ¹³ï³Ï³Ý ³Ïï»ñÁ | AK6: ÀÝ¹³Ù»ÝÁ | AL6: Ü³Ëáñ¹ ï³ñÇÝ»ñÇÝ Ï³Û³óí³Í ³Ïï»ñÇ µ»Ï³ÝáõÙÝ»ñÁ Ñ³ßí»ïáõ Å³Ù³Ý³Ï³ßñç³ÝáõÙ | AM6: Ð³ßí»ïáõ Å³Ù³Ý³Ï³ßñç³ÝáõÙ Ï³Û³óí³Í ³Ïï»ñÇ µ»Ï³ÝáõÙÁ
S7: ÀÝ¹³Ù»ÝÁ Ï³ñ×í»É »Ý | T7: ²Û¹ ÃíáõÙª Ñ³ëï³ïí»É ¿ ÏÝùí³Í Ñ³ßïáõÃÛ³Ý Ñ³Ù³Ó³ÛÝáõÃÛáõÝÁ | U7: ²Û¹ ÃíáõÙª Ñ³ÛóÇó, ¹ÇÙáõÙÇó Ññ³Å³ñí»Éáõ ÑÇÙùáí | V7: ²Û¹ ÃíáõÙª ³ÛÉ ÑÇÙùáí
B8: ì³ñã³Ï³Ý ·áñÍ»ñÇ ¹³ë³Ï³ñ·áõÙÁ | C8: 1 | D8: 2 | E8: 3 | F8: 4 | G8: 5 | H8: 6 | I8: 7 | J8: 8 | K8: 9 | L8: 10 | M8: 11 | N8: 12 | O8: 13 | P8: 14 | Q8: 15 | R8: 16 | S8: 17 | T8: 18 | U8: 19 | V8: 20 | W8: 21 | X8: 22 | Y8: 23 | Z8: 24 | AA8: 25 | AB8: 26 | AC8: 27 | AD8: 28 | AE8: 29 | AF8: 30 | AG8: 31 | AH8: 32 | AI8: 33 | AJ8: 34 | AK8: 35 | AL8: 36 | AM8: 37
A9: 1 | B9: ä»ï³Ï³Ý Ù³ñÙÇÝÝ»ñÇ, ï»Õ³Ï³Ý ÇÝùÝ³Ï³é³í³ñÙ³Ý Ù³ñÙÇÝÝ»ñÇ áõ ¹ñ³Ýó å³ßïáÝ³ï³ñ ³ÝÓ³Ýó ³Ïï»ñÝ ³Ýí³í»ñ ×³Ý³ã»Éáõ Ñ»ï Ï³åí³Í Çñ³í³ñ³Ñ³µ»ñáõÃÛáõÝÝ»ñÇ í»ñ³µ»ñÛ³É ¹³ï³Ï³Ý ·áñÍ»ñ | C9: =+C10+C11 -> 479 | D9: =+D10+D11 -> 11 | E9: =+E10+E11 -> 459 | F9: =+F10+F11 -> 2 | G9: =+G10+G11 -> 7 | H9: =+H10+H11 -> 1227 | I9: =+I10+I11 -> 1066 | J9: =+J10+J11 -> 118 | ... AM9: =+AM10+AM11 -> 8
A10: 1.1 | B10: ä»ï³Ï³Ý Ù³ñÙÇÝÝ»ñÇ áõ ¹ñ³Ýó å³ßïáÝ³ï³ñ ³ÝÓ³Ýó ³Ïï»ñÝ ³Ýí³í»ñ ×³Ý³ã»Éáõ Ñ»ï Ï³åí³Í Çñ³í³Ñ³ñ³µ»ñáõÃÛáõÝÝ»ñÇ í»ñ³µ»ñÛ³É ¹³ï³Ï³Ý ·áñÍ»ñ | C10: 409 | D10: 9 | E10: 397 | F10: 1 | G10: 2 | H10: 1069 | I10: 937 | J10: 92 | K10: 40 | N10: 672 | O10: 536 | P10: 2 | Q10: 134 | S10: 11 | U10: 2 | V10: 9 | W10: 683 | X10: 4 | Y10: 4 | Z10: 656 | AA10: 12 | AB10: 148 | AC10: 51 | AD10: 199 | AE10: 19 | AF10: 180 | AI10: 22 | AJ10: 5 | AK10: 27 | AL10: 21 | AM10: 6
A11: 1.2 | B11: î»Õ³Ï³Ý ÇÝùÝ³Ï³é³í³ñÙ³Ý Ù³ñÙÇÝÝ»ñÇ áõ ¹ñ³Ýó å³ßïáÝ³ï³ñ ³ÝÓ³Ýó ³Ïï»ñÝ ³Ýí³í»ñ ×³Ý³ã»Éáõ Ñ»ï Ï³åí³Í Çñ³í³Ñ³ñ³µ»ñáõÃÛáõÝÝ»ñÇ í»ñ³µ»ñÛ³É ¹³ï³Ï³Ý ·áñÍ»ñ | C11: 70 | D11: 2 | E11: 62 | F11: 1 | G11: 5 | H11: 158 | I11: 129 | J11: 26 | K11: 3 | N11: 78 | O11: 57 | P11: 2 | Q11: 19 | S11: 4 | U11: 2 | V11: 2 | W11: 82 | X11: 2 | Y11: 1 | Z11: 109 | AA11: 2 | AB11: 47 | AC11: 5 | AD11: 52 | AF11: 52 | AI11: 1 | AJ11: 4 | AK11: 5 | AL11: 3 | AM11: 2
A12: 2 | B12: ä»ï³Ï³Ý Ù³ñÙÇÝÝ»ñÇ, ï»Õ³Ï³Ý ÇÝùÝ³Ï³é³í³ñÙ³Ý Ù³ñÙÇÝÝ»ñÇ ¨ ¹ñ³Ýó å³ßïáÝ³ï³ñ ³ÝÓ³Ýó ·áñÍáÕáõÃÛáõÝÝ»ñÁ /³Ý·áñÍáõÃÛáõÝÁ/ íÇ×³ñÏ»Éáõ Ñ»ï Ï³åí³Í Çñ³í³Ñ³ñ³µ»ñáõÃÛáõÝÝ»ñÇ í»ñ³µ»ñÛ³É ¹³ï³Ï³Ý ·áñÍ»ñ | C12: =C13+C14 -> 134 | D12: =D13+D14 -> 7 | E12: =E13+E14 -> 125 | F12: =F13+F14 -> 0 | G12: =G13+G14 -> 2 | H12: =H13+H14 -> 152 | I12: =I13+I14 -> 92 | J12: =J13+J14 -> 47 | ... AM12: =AM13+AM14 -> 2
