Workbook

Sheet ԸՆԴ
AI1: Հավելված 2 Բարձրագույն դատական խորհրդի 2022թվականի դեկտեմբերի 26-ի թիվ ԲԴԽ-122-Ո-408 որոշման
A2: 2025 թվականի տարեկան
A3: ÐÐ ì²ðâ²Î²Ü ¸²î²ð²ÜÆ ¸²î²ìàð ԸՆԴ ¶àðÌàôÜºàôÂÚ²Ü ìºð²´ºðÚ²È
A4: ÐÐ í³ñã³Ï³Ý ¹³ï³ñ³ÝÇ ¹³ï³íáñÝ»ñÇ Ñ³ëïÇùÝ»ñÇ ÃÇíÁ` 24
A5: êïáõ·Çã Ñ³í³ë³ñáõÙÝ»ñª 1=2+3+4+5, 6=7+8+9+10, 2+3+7=11+21+22+24, 12=13+14+15+16, 17=18+19+20, 21=12+17, 28=26+27, 28=29+30, 35=33+34, 35=36+37 | C5: Ð³ßí»ïáõ Å³Ù³Ý³Ï³Ñ³ïí³ÍáõÙ Ý³Ëáñ¹ Ñ³ßí»ïáõ Å³Ù³Ý³Ï³Ñ³ïí³ÍÇó ÷áË³Ýóí³Í ·áñÍ»ñÇ ÁÝ¹Ñ³Ýáõñ ÃÇíÁ | H5: Ð³ßí»ïáõ Å³Ù³Ý³Ï³Ñ³ïí³ÍáõÙ ëï³óí³Í ·áñÍ»ñÇ (³Û¹ ÃíáõÙ` Ñ³Ûó³¹ÇÙáõÙÝ»ñÇ, ¹ÇÙáõÙÝ»ñÇ) ÁÝ¹Ñ³Ýáõñ ÃÇíÁ | M5: öáË³Ýóí»É ¿ ³ÛÉ ¹³ï³íáñÇ (Ï³½ÙÇ ÷á÷áËáõÃÛáõÝ) | N5: Ð³ßí»ïáõ Å³Ù³Ý³Ï³Ñ³ïí³ÍáõÙ ³í³ñïí³Í ·áñÍ»ñÇ ÁÝ¹Ñ³Ýáõñ ÃÇíÁ | X5: ¶áñÍÝ áõÕ³ñÏí»É ¿ Áëï ÁÝ¹¹³ïáõÃÛ³Ý | Y5: Ð³ßí»ïáõ Å³Ù³Ý³Ï³Ñ³ïí³ÍáõÙ Ï³ë»óí³Í í³ñáõÛÃÝ»ñáí ·áñÍ»ñÇ ÁÝ¹Ñ³Ýáõñ ÃÇíÁ | Z5: Ð³ßí»ïáõ Å³Ù³Ý³Ï³Ñ³ïí³ÍáõÙ ³Ý³í³ñï ·áñÍ»ñÇ ÁÝ¹Ñ³Ýáõñ ÃÇíÁ | AA5: ²Û¹ ÃíáõÙ` Ï³ë»óí³Í | AB5: ´áÕáù³ñÏí³Í ¹³ï³Ï³Ý ³Ïï»ñÁ | AG5: ²í³ñïí³Í ¹³ï³Ï³Ý ·áñÍ»ñÇ µáÕáù³ñÏÙ³Ý ïáÏáëÁ (Ñ³ßí»ïáõ Å³Ù³Ý³Ï³Ñ³ïí³ÍáõÙ) | AH5: ²Ý³í³ñï µáÕáùÝ»ñ | AI5: ´»Ï³Ýí³Í ¹³ï³Ï³Ý ³Ïï»ñÁ
C6: ÀÝ¹³Ù»ÝÁ | D6: ²Û¹ ÃíáõÙ`Ï³ë»óí³Í íÇ×³ÏáõÙ ÷áË³Ýóí³Í | E6: ²Û¹ ÃíáõÙª ÁÝ¹áõÝí»É ¿ í³ñáõÛÃ | F6: ²Û¹ ÃíáõÙª í»ñ³¹³ñÓí»É ¿ | G6: ²Û¹ ÃíáõÙª ÁÝ¹áõÝáõÙÁ Ù»ñÅí»É ¿ | H6: ÀÝ¹³Ù»ÝÁ | I6: ²Û¹ ÃíáõÙª ÁÝ¹áõÝí»É ¿ í³ñáõÛÃ | J6: ²Û¹ ÃíáõÙª í»ñ³¹³ñÓí»É ¿ | K6: ²Û¹ ÃíáõÙª ÁÝ¹áõÝáõÙÁ Ù»ñÅí»É ¿ | L6: Այդ թվում անորոշ | N6: ÀÝ¹³Ù»ÝÁ ³í³ñïí»É »Ý ·áñÍ»ñ ·áñÍÝ Áëï ¿áõÃÛ³Ý ÉáõÍáÕ ¹³ï³Ï³Ý ³Ïï»ñÇ (í×ÇéÝ»ñÇ) Ï³Û³óÙ³Ùµ | O6: ²Û¹ ÃíáõÙª Ñ³ÛóÇ µ³í³ñ³ñÙ³Ùµ | P6: ²Û¹ ÃíáõÙª Ñ³ÛóÇ Ù³ëÝ³ÏÇ µ³í³ñ³ñÙ³Ùµ | Q6: ²Û¹ ÃíáõÙª Ñ³ÛóÇ Ù»ñÅÙ³Ùµ | R6: ²Û¹ ÃíáõÙ` Ù³ëÝ³ÏÇ Ù»ñÅí»É ¿, Ù³ëÝ³ÏÇ Ï³ñ×í»É | S6: ²Û¹ ÃíáõÙª Ï³ñ×í»É »Ý | W6: ÀÝ¹³Ù»ÝÝ ³í³ñïí»É »Ý ·áñÍ»ñ | AB6: ²Û¹ ÃíáõÙ` ·áñÍÝ Áëï ¿áõÃÛ³Ý ÉáõÍáÕ ¹³ï³Ï³Ý ³Ïï»ñÁ | AC6: ²Û¹ ÃíáõÙ` ÙÇç³ÝÏÛ³É ¹³ï³Ï³Ý ³Ïï»ñÁ | AD6: ÀÝ¹³Ù»ÝÁ | AE6: Ü³Ëáñ¹ ï³ñÇÝ»ñÇÝ Ï³Û³óí³Í ³Ïï»ñÇ µáÕáù³ñÏáõÙÁ Ñ³ßí»ïáõ Å³Ù³Ý³Ï³ßñç³ÝáõÙ | AF6: Ð³ßí»ïáõ Å³Ù³Ý³Ï³ßñç³ÝáõÙ Ï³Û³óí³Í ³Ïï»ñÇ µáÕáù³ñÏáõÙÁ | AI6: ²Û¹ ÃíáõÙ` ·áñÍÝ Áëï ¿áõÃÛ³Ý ÉáõÍáÕ ¹³ï³Ï³Ý ³Ïï»ñÁ | AJ6: ²Û¹ ÃíáõÙ` ÙÇç³ÝÏÛ³É ¹³ï³Ï³Ý ³Ïï»ñÁ | AK6: ÀÝ¹³Ù»ÝÁ | AL6: Ü³Ëáñ¹ ï³ñÇÝ»ñÇÝ Ï³Û³óí³Í ³Ïï»ñÇ µ»Ï³ÝáõÙÝ»ñÁ Ñ³ßí»ïáõ Å³Ù³Ý³Ï³ßñç³ÝáõÙ | AM6: Ð³ßí»ïáõ Å³Ù³Ý³Ï³ßñç³ÝáõÙ Ï³Û³óí³Í ³Ïï»ñÇ µ»Ï³ÝáõÙÁ
S7: ÀÝ¹³Ù»ÝÁ Ï³ñ×í»É »Ý | T7: ²Û¹ ÃíáõÙª Ñ³ëï³ïí»É ¿ ÏÝùí³Í Ñ³ßïáõÃÛ³Ý Ñ³Ù³Ó³ÛÝáõÃÛáõÝÁ | U7: ²Û¹ ÃíáõÙª Ñ³ÛóÇó, ¹ÇÙáõÙÇó Ññ³Å³ñí»Éáõ ÑÇÙùáí | V7: ²Û¹ ÃíáõÙª ³ÛÉ ÑÇÙùáí
B8: ì³ñã³Ï³Ý ·áñÍ»ñÇ ¹³ë³Ï³ñ·áõÙÁ | C8: 1 | D8: 2 | E8: 3 | F8: 4 | G8: 5 | H8: 6 | I8: 7 | J8: 8 | K8: 9 | L8: 10 | M8: 11 | N8: 12 | O8: 13 | P8: 14 | Q8: 15 | R8: 16 | S8: 17 | T8: 18 | U8: 19 | V8: 20 | W8: 21 | X8: 22 | Y8: 23 | Z8: 24 | AA8: 25 | AB8: 26 | AC8: 27 | AD8: 28 | AE8: 29 | AF8: 30 | AG8: 31 | AH8: 32 | AI8: 33 | AJ8: 34 | AK8: 35 | AL8: 36 | AM8: 37
A9: 1 | B9: ä»ï³Ï³Ý Ù³ñÙÇÝÝ»ñÇ, ï»Õ³Ï³Ý ÇÝùÝ³Ï³é³í³ñÙ³Ý Ù³ñÙÇÝÝ»ñÇ áõ ¹ñ³Ýó å³ßïáÝ³ï³ñ ³ÝÓ³Ýó ³Ïï»ñÝ ³Ýí³í»ñ ×³Ý³ã»Éáõ Ñ»ï Ï³åí³Í Çñ³í³ñ³Ñ³µ»ñáõÃÛáõÝÝ»ñÇ í»ñ³µ»ñÛ³É ¹³ï³Ï³Ý ·áñÍ»ñ | C9: =SUM('Ա․Ղազարյան:Ա. Քամալյան'!C9) -> 10510 | D9: =SUM('Ա․Ղազարյան:Ա. Քամալյան'!D9) -> 573 | E9: =SUM('Ա․Ղազարյան:Ա. Քամալյան'!E9) -> 9835 | F9: =SUM('Ա․Ղազարյան:Ա. Քամալյան'!F9) -> 42 | G9: =SUM('Ա․Ղազարյան:Ա. Քամալյան'!G9) -> 60 | H9: =SUM('Ա․Ղազարյան:Ա. Քամալյան'!H9) -> 24158 | I9: =SUM('Ա․Ղազարյան:Ա. Քամալյան'!I9) -> 20713 | J9: =SUM('Ա․Ղազարյան:Ա. Քամալյան'!J9) -> 2235 | ... AM9: =SUM('Ա․Ղազարյան:Ա. Քամալյան'!AM9) -> 99
A10: 1.1 | B10: ä»ï³Ï³Ý Ù³ñÙÇÝÝ»ñÇ áõ ¹ñ³Ýó å³ßïáÝ³ï³ñ ³ÝÓ³Ýó ³Ïï»ñÝ ³Ýí³í»ñ ×³Ý³ã»Éáõ Ñ»ï Ï³åí³Í Çñ³í³Ñ³ñ³µ»ñáõÃÛáõÝÝ»ñÇ í»ñ³µ»ñÛ³É ¹³ï³Ï³Ý ·áñÍ»ñ | C10: =SUM('Ա․Ղազարյան:Ա. Քամալյան'!C10) -> 8991 | D10: =SUM('Ա․Ղազարյան:Ա. Քամալյան'!D10) -> 493 | E10: =SUM('Ա․Ղազարյան:Ա. Քամալյան'!E10) -> 8427 | F10: =SUM('Ա․Ղազարյան:Ա. Քամալյան'!F10) -> 30 | G10: =SUM('Ա․Ղազարյան:Ա. Քամալյան'!G10) -> 41 | H10: =SUM('Ա․Ղազարյան:Ա. Քամալյան'!H10) -> 20979 | I10: =SUM('Ա․Ղազարյան:Ա. Քամալյան'!I10) -> 18167 | J10: =SUM('Ա․Ղազարյան:Ա. Քամալյան'!J10) -> 1762 | ... AM10: =SUM('Ա․Ղազարյան:Ա. Քամալյան'!AM10) -> 78
A11: 1.2 | B11: î»Õ³Ï³Ý ÇÝùÝ³Ï³é³í³ñÙ³Ý Ù³ñÙÇÝÝ»ñÇ áõ ¹ñ³Ýó å³ßïáÝ³ï³ñ ³ÝÓ³Ýó ³Ïï»ñÝ ³Ýí³í»ñ ×³Ý³ã»Éáõ Ñ»ï Ï³åí³Í Çñ³í³Ñ³ñ³µ»ñáõÃÛáõÝÝ»ñÇ í»ñ³µ»ñÛ³É ¹³ï³Ï³Ý ·áñÍ»ñ | C11: =SUM('Ա․Ղազարյան:Ա. Քամալյան'!C11) -> 1519 | D11: =SUM('Ա․Ղազարյան:Ա. Քամալյան'!D11) -> 80 | E11: =SUM('Ա․Ղազարյան:Ա. Քամալյան'!E11) -> 1408 | F11: =SUM('Ա․Ղազարյան:Ա. Քամալյան'!F11) -> 12 | G11: =SUM('Ա․Ղազարյան:Ա. Քամալյան'!G11) -> 19 | H11: =SUM('Ա․Ղազարյան:Ա. Քամալյան'!H11) -> 3179 | I11: =SUM('Ա․Ղազարյան:Ա. Քամալյան'!I11) -> 2546 | J11: =SUM('Ա․Ղազարյան:Ա. Քամալյան'!J11) -> 473 | ... AM11: =SUM('Ա․Ղազարյան:Ա. Քամալյան'!AM11) -> 21
A12: 2 | B12: ä»ï³Ï³Ý Ù³ñÙÇÝÝ»ñÇ, ï»Õ³Ï³Ý ÇÝùÝ³Ï³é³í³ñÙ³Ý Ù³ñÙÇÝÝ»ñÇ ¨ ¹ñ³Ýó å³ßïáÝ³ï³ñ ³ÝÓ³Ýó ·áñÍáÕáõÃÛáõÝÝ»ñÁ /³Ý·áñÍáõÃÛáõÝÁ/ íÇ×³ñÏ»Éáõ Ñ»ï Ï³åí³Í Çñ³í³Ñ³ñ³µ»ñáõÃÛáõÝÝ»ñÇ í»ñ³µ»ñÛ³É ¹³ï³Ï³Ý ·áñÍ»ñ | C12: =SUM('Ա․Ղազարյան:Ա. Քամալյան'!C12) -> 2516 | D12: =SUM('Ա․Ղազարյան:Ա. Քամալյան'!D12) -> 124 | E12: =SUM('Ա․Ղազարյան:Ա. Քամալյան'!E12) -> 2353 | F12: =SUM('Ա․Ղազարյան:Ա. Քամալյան'!F12) -> 21 | G12: =SUM('Ա․Ղազարյան:Ա. Քամալյան'!G12) -> 18 | H12: =SUM('Ա․Ղազարյան:Ա. Քամալյան'!H12) -> 3422 | I12: =SUM('Ա․Ղազարյան:Ա. Քամալյան'!I12) -> 2457 | J12: =SUM('Ա․Ղազարյան:Ա. Քամալյան'!J12) -> 702 | ... AM12: =SUM('Ա․Ղազարյան:Ա. Քամալյան'!AM12) -> 48
A13: 2.1 | B13: ä»ï³Ï³Ý Ù³ñÙÇÝÝ»ñÇ ¨ ¹ñ³Ýó å³ßïáÝ³ï³ñ ³ÝÓ³Ýó ·áñÍáÕáõÃÛáõÝÝ»ñÁ /³Ý·áñÍáõÃÛáõÝÁ/ íÇ×³ñÏ»Éáõ Ñ»ï Ï³åí³Í Çñ³í³Ñ³ñ³µ»ñáõÃÛáõÝÝ»ñÇ í»ñ³µ»ñÛ³É ¹³ï³Ï³Ý ·áñÍ»ñ | C13: =SUM('Ա․Ղազարյան:Ա. Քամալյան'!C13) -> 1509 | D13: =SUM('Ա․Ղազարյան:Ա. Քամալյան'!D13) -> 77 | E13: =SUM('Ա․Ղազարյան:Ա. Քամալյան'!E13) -> 1404 | F13: =SUM('Ա․Ղազարյան:Ա. Քամալյան'!F13) -> 14 | G13: =SUM('Ա․Ղազարյան:Ա. Քամալյան'!G13) -> 14 | H13: =SUM('Ա․Ղազարյան:Ա. Քամալյան'!H13) -> 2279 | I13: =SUM('Ա․Ղազարյան:Ա. Քամալյան'!I13) -> 1654 | J13: =SUM('Ա․Ղազարյան:Ա. Քամալյան'!J13) -> 443 | ... AM13: =SUM('Ա․Ղազարյան:Ա. Քամալյան'!AM13) -> 34
A14: 2.2 | B14: î»Õ³Ï³Ý ÇÝùÝ³Ï³é³í³ñÙ³Ý Ù³ñÙÇÝÝ»ñÇ áõ ¹ñ³Ýó å³ßïáÝ³ï³ñ ³ÝÓ³Ýó ·áñÍáÕáõÃÛáõÝÝ»ñÁ /³Ý·áñÍáõÃÛáõÝÁ/ íÇ×³ñÏ»Éáõ Ñ»ï Ï³åí³Í Çñ³í³Ñ³ñ³µ»ñáõÃÛáõÝÝ»ñÇ í»ñ³µ»ñÛ³É ¹³ï³Ï³Ý ·áñÍ»ñ | C14: =SUM('Ա․Ղազարյան:Ա. Քամալյան'!C14) -> 1007 | D14: =SUM('Ա․Ղազարյան:Ա. Քամալյան'!D14) -> 47 | E14: =SUM('Ա․Ղազարյան:Ա. Քամալյան'!E14) -> 949 | F14: =SUM('Ա․Ղազարյան:Ա. Քամալյան'!F14) -> 7 | G14: =SUM('Ա․Ղազարյան:Ա. Քամալյան'!G14) -> 4 | H14: =SUM('Ա․Ղազարյան:Ա. Քամալյան'!H14) -> 1143 | I14: =SUM('Ա․Ղազարյան:Ա. Քամալյան'!I14) -> 803 | J14: =SUM('Ա․Ղազարյան:Ա. Քամալյան'!J14) -> 259 | ... AM14: =SUM('Ա․Ղազարյան:Ա. Քամալյան'!AM14) -> 14
A15: 5 | B15: Üáï³ñ³Ï³Ý ·áñÍáÕáõÃÛáõÝÝ»ñÁ Ï³Ù Ýáï³ñÇ ³Ý·áñÍáõÃÛáõÝÁ íÇ×³ñÏ»Éáõ Ñ»ï Ï³åí³Í Çñ³í³Ñ³ñ³µ»ñáõÃÛáõÝÝ»ñÇ í»ñ³µ»ñÛ³É ¹³ï³Ï³Ý ·áñÍ»ñ | C15: =SUM('Ա․Ղազարյան:Ա. Քամալյան'!C15) -> 91 | D15: =SUM('Ա․Ղազարյան:Ա. Քամալյան'!D15) -> 7 | E15: =SUM('Ա․Ղազարյան:Ա. Քամալյան'!E15) -> 83 | F15: =SUM('Ա․Ղազարյան:Ա. Քամալյան'!F15) -> 0 | G15: =SUM('Ա․Ղազարյան:Ա. Քամալյան'!G15) -> 1 | H15: =SUM('Ա․Ղազարյան:Ա. Քամալյան'!H15) -> 23 | I15: =SUM('Ա․Ղազարյան:Ա. Քամալյան'!I15) -> 22 | J15: =SUM('Ա․Ղազարյան:Ա. Քամալյան'!J15) -> 1 | ... AM15: =SUM('Ա․Ղազարյան:Ա. Քամալյան'!AM15) -> 0
A16: 6 | B16: ÜáñÙ³ïÇí Çñ³í³Ï³Ý ³Ïï»ñÇ Çñ³í³ã³÷áõÃÛáõÝÁ íÇ×³ñÏ»Éáõ Ñ»ï Ï³åí³Í Çñ³í³Ñ³ñ³µ»ñáõÃÛáõÝÝ»ñÇ í»ñ³µ»ñÛ³É ¹³ï³Ï³Ý ·áñÍ»ñ | C16: =SUM('Ա․Ղազարյան:Ա. Քամալյան'!C16) -> 58 | D16: =SUM('Ա․Ղազարյան:Ա. Քամալյան'!D16) -> 1 | E16: =SUM('Ա․Ղազարյան:Ա. Քամալյան'!E16) -> 57 | F16: =SUM('Ա․Ղազարյան:Ա. Քամալյան'!F16) -> 0 | G16: =SUM('Ա․Ղազարյան:Ա. Քամալյան'!G16) -> 0 | H16: =SUM('Ա․Ղազարյան:Ա. Քամալյան'!H16) -> 66 | I16: =SUM('Ա․Ղազարյան:Ա. Քամալյան'!I16) -> 36 | J16: =SUM('Ա․Ղազարյան:Ա. Քամալյան'!J16) -> 17 | ... AM16: =SUM('Ա․Ղազարյան:Ա. Քամալյան'!AM16) -> 2
A17: 6.1 | B17: ¶»ñ³ï»ëã³Ï³Ý ÝáñÙ³ïÇí Çñ³í³Ï³Ý ³Ïï»ñÇª ÐÐ ê³ÑÙ³Ý³¹ñáõÃÛ³ÝÁ Ñ³Ù³å³ï³ëË³ÝáõÃÛáõÝÁ íÇ×³ñÏ»Éáõ í»ñ³µ»ñÛ³É | C17: =SUM('Ա․Ղազարյան:Ա. Քամալյան'!C17) -> 0 | D17: =SUM('Ա․Ղազարյան:Ա. Քամալյան'!D17) -> 0 | E17: =SUM('Ա․Ղազարյան:Ա. Քամալյան'!E17) -> 0 | F17: =SUM('Ա․Ղազարյան:Ա. Քամալյան'!F17) -> 0 | G17: =SUM('Ա․Ղազարյան:Ա. Քամալյան'!G17) -> 0 | H17: =SUM('Ա․Ղազարյան:Ա. Քամալյան'!H17) -> 0 | I17: =SUM('Ա․Ղազարյան:Ա. Քամալյան'!I17) -> 0 | J17: =SUM('Ա․Ղազարյան:Ա. Քամալյան'!J17) -> 0 | ... AM17: =SUM('Ա․Ղազարյան:Ա. Քամալյան'!AM17) -> 0
A18: 6.2 | B18: Ü³Ë³·³ÑÇ ÝáñÙ³ïÇí µÝáõÛÃ áõÝ»óáÕ ³Ïï»ñÇ` ³í»ÉÇ µ³ñÓñ Çñ³í³µ³Ý³Ï³Ý áõÅ áõÝ»óáÕ ÝáñÙ³ïÇí ³Ïï»ñÇÝ Ñ³Ù³å³ï³ëË³ÝáõÃÛáõÝÁ íÇ×³ñÏ»Éáõ í»ñ³µ»ñÛ³É | C18: =SUM('Ա․Ղազարյան:Ա. Քամալյան'!C18) -> 0 | D18: =SUM('Ա․Ղազարյան:Ա. Քամալյան'!D18) -> 0 | E18: =SUM('Ա․Ղազարյան:Ա. Քամալյան'!E18) -> 0 | F18: =SUM('Ա․Ղազարյան:Ա. Քամալյան'!F18) -> 0 | G18: =SUM('Ա․Ղազարյան:Ա. Քամալյան'!G18) -> 0 | H18: =SUM('Ա․Ղազարյան:Ա. Քամալյան'!H18) -> 0 | I18: =SUM('Ա․Ղազարյան:Ա. Քամալյան'!I18) -> 0 | J18: =SUM('Ա․Ղազարյան:Ա. Քամալյան'!J18) -> 0 | ... AM18: =SUM('Ա․Ղազարյան:Ա. Քամալյան'!AM18) -> 0
A19: 6.3 | B19: Î³é³í³ñáõÃÛ³Ý ÝáñÙ³ïÇí áñáßáõÙÝ»ñÇ`³í»ÉÇ µ³ñÓñ Çñ³í³µ³Ý³Ï³Ý áõÅ áõÝ»óáÕ ÝáñÙ³ïÇí ³Ïï»ñÇÝ Ñ³Ù³å³ï³ëË³ÝáõÃÛáõÝÁ íÇ×³ñÏ»Éáõ í»ñ³µ»ñÛ³É | C19: =SUM('Ա․Ղազարյան:Ա. Քամալյան'!C19) -> 41 | D19: =SUM('Ա․Ղազարյան:Ա. Քամալյան'!D19) -> 1 | E19: =SUM('Ա․Ղազարյան:Ա. Քամալյան'!E19) -> 40 | F19: =SUM('Ա․Ղազարյան:Ա. Քամալյան'!F19) -> 0 | G19: =SUM('Ա․Ղազարյան:Ա. Քամալյան'!G19) -> 0 | H19: =SUM('Ա․Ղազարյան:Ա. Քամալյան'!H19) -> 26 | I19: =SUM('Ա․Ղազարյան:Ա. Քամալյան'!I19) -> 13 | J19: =SUM('Ա․Ղազարյան:Ա. Քամալյան'!J19) -> 6 | ... AM19: =SUM('Ա․Ղազարյան:Ա. Քամալյան'!AM19) -> 1
A20: 6.4 | B20: ì³ñã³å»ïÇ ÝáñÙ³ïÇí áñáßáõÙÝ»ñÇ` ³í»ÉÇ µ³ñÓñ Çñ³í³µ³Ý³Ï³Ý áõÅ áõÝ»óáÕ ÝáñÙ³ïÇí ³Ïï»ñÇÝ Ñ³Ù³å³ï³ëË³ÝáõÃÛáõÝÁ íÇ×³ñÏ»Éáõ í»ñ³µ»ñÛ³É | C20: =SUM('Ա․Ղազարյան:Ա. Քամալյան'!C20) -> 0 | D20: =SUM('Ա․Ղազարյան:Ա. Քամալյան'!D20) -> 0 | E20: =SUM('Ա․Ղազարյան:Ա. Քամալյան'!E20) -> 0 | F20: =SUM('Ա․Ղազարյան:Ա. Քամալյան'!F20) -> 0 | G20: =SUM('Ա․Ղազարյան:Ա. Քամալյան'!G20) -> 0 | H20: =SUM('Ա․Ղազարյան:Ա. Քամալյան'!H20) -> 0 | I20: =SUM('Ա․Ղազարյան:Ա. Քամալյան'!I20) -> 0 | J20: =SUM('Ա․Ղազարյան:Ա. Քամալյան'!J20) -> 0 | ... AM20: =SUM('Ա․Ղազարյան:Ա. Քամալյան'!AM20) -> 0
A21: 6.5 | B21: ¶»ñ³ï»ëã³Ï³Ý ÝáñÙ³ïÇí Çñ³í³Ï³Ý ³Ïï»ñÇ` ³í»ÉÇ µ³ñÓñ Çñ³í³µ³Ý³Ï³Ý áõÅ áõÝ»óáÕ ÝáñÙ³ïÇí ³Ïï»ñÇÝ Ñ³Ù³å³ï³ëË³ÝáõÃÛáõÝÁ íÇ×³ñÏ»Éáõ í»ñ³µ»ñÛ³É | C21: =SUM('Ա․Ղազարյան:Ա. Քամալյան'!C21) -> 13 | D21: =SUM('Ա․Ղազարյան:Ա. Քամալյան'!D21) -> 0 | E21: =SUM('Ա․Ղազարյան:Ա. Քամալյան'!E21) -> 13 | F21: =SUM('Ա․Ղազարյան:Ա. Քամալյան'!F21) -> 0 | G21: =SUM('Ա․Ղազարյան:Ա. Քամալյան'!G21) -> 0 | H21: =SUM('Ա․Ղազարյան:Ա. Քամալյան'!H21) -> 11 | I21: =SUM('Ա․Ղազարյան:Ա. Քամալյան'!I21) -> 8 | J21: =SUM('Ա․Ղազարյան:Ա. Քամալյան'!J21) -> 1 | ... AM21: =SUM('Ա․Ղազարյան:Ա. Քամալյան'!AM21) -> 0
A22: 6.6 | B22: Ð³Ù³ÛÝùÇ ³í³·³Ýáõ áñáßáõÙÝ»ñÇ` ³í»ÉÇ µ³ñÓñ Çñ³í³µ³Ý³Ï³Ý áõÅ áõÝ»óáÕ ÝáñÙ³ïÇí ³Ïï»ñÇÝ Ñ³Ù³å³ï³ëË³ÝáõÃÛáõÝÁ íÇ×³ñÏ»Éáõ í»ñ³µ»ñÛ³É | C22: =SUM('Ա․Ղազարյան:Ա. Քամալյան'!C22) -> 4 | D22: =SUM('Ա․Ղազարյան:Ա. Քամալյան'!D22) -> 0 | E22: =SUM('Ա․Ղազարյան:Ա. Քամալյան'!E22) -> 4 | F22: =SUM('Ա․Ղազարյան:Ա. Քամալյան'!F22) -> 0 | G22: =SUM('Ա․Ղազարյան:Ա. Քամալյան'!G22) -> 0 | H22: =SUM('Ա․Ղազարյան:Ա. Քամալյան'!H22) -> 26 | I22: =SUM('Ա․Ղազարյան:Ա. Քամալյան'!I22) -> 13 | J22: =SUM('Ա․Ղազարյան:Ա. Քամալյան'!J22) -> 9 | ... AM22: =SUM('Ա․Ղազարյան:Ա. Քամալյան'!AM22) -> 1
A23: 6.7 | B23: Ð³Ù³ÛÝùÇ Õ»Ï³í³ñÇ áñáßáõÙÝ»ñÇ` ³í»ÉÇ µ³ñÓñ Çñ³í³µ³Ý³Ï³Ý áõÅ áõÝ»óáÕ ÝáñÙ³ïÇí ³Ïï»ñÇÝ Ñ³Ù³å³ï³ëË³ÝáõÃÛáõÝÁ íÇ×³ñÏ»Éáõ í»ñ³µ»ñÛ³É | C23: =SUM('Ա․Ղազարյան:Ա. Քամալյան'!C23) -> 0 | D23: =SUM('Ա․Ղազարյան:Ա. Քամալյան'!D23) -> 0 | E23: =SUM('Ա․Ղազարյան:Ա. Քամալյան'!E23) -> 0 | F23: =SUM('Ա․Ղազարյան:Ա. Քամալյան'!F23) -> 0 | G23: =SUM('Ա․Ղազարյան:Ա. Քամալյան'!G23) -> 0 | H23: =SUM('Ա․Ղազարյան:Ա. Քամալյան'!H23) -> 3 | I23: =SUM('Ա․Ղազարյան:Ա. Քամալյան'!I23) -> 2 | J23: =SUM('Ա․Ղազարյան:Ա. Քամալյան'!J23) -> 1 | ... AM23: =SUM('Ա․Ղազարյան:Ա. Քամալյան'!AM23) -> 0
A24: 7 | B24: ÀÝïñ³Ï³Ý Çñ³íáõÝùÇ å³ßïå³ÝáõÃÛ³Ý Ñ»ï Ï³åí³Í Çñ³í³Ñ³ñ³µ»ñáõÃÛáõÝÝ»ñÇ í»ñ³µ»ñÛ³É ¹³ï³Ï³Ý ·áñÍ»ñ | C24: =SUM('Ա․Ղազարյան:Ա. Քամալյան'!C24) -> 0 | D24: =SUM('Ա․Ղազարյան:Ա. Քամալյան'!D24) -> 0 | E24: =SUM('Ա․Ղազարյան:Ա. Քամալյան'!E24) -> 0 | F24: =SUM('Ա․Ղազարյան:Ա. Քամալյան'!F24) -> 0 | G24: =SUM('Ա․Ղազարյան:Ա. Քամալյան'!G24) -> 0 | H24: =SUM('Ա․Ղազարյան:Ա. Քամալյան'!H24) -> 1 | I24: =SUM('Ա․Ղազարյան:Ա. Քամալյան'!I24) -> 0 | J24: =SUM('Ա․Ղազարյան:Ա. Քամալյան'!J24) -> 0 | ... AM24: =SUM('Ա․Ղազարյան:Ա. Քամալյան'!AM24) -> 0
A25: 7.1 | B25: Ü³Ë³·³ÑÇ ÁÝïñáõÃÛáõÝÝ»ñÇ Ñ»ï Ï³åí³Í | C25: =SUM('Ա․Ղազարյան:Ա. Քամալյան'!C25) -> 0 | D25: =SUM('Ա․Ղազարյան:Ա. Քամալյան'!D25) -> 0 | E25: =SUM('Ա․Ղազարյան:Ա. Քամալյան'!E25) -> 0 | F25: =SUM('Ա․Ղազարյան:Ա. Քամալյան'!F25) -> 0 | G25: =SUM('Ա․Ղազարյան:Ա. Քամալյան'!G25) -> 0 | H25: =SUM('Ա․Ղազարյան:Ա. Քամալյան'!H25) -> 0 | I25: =SUM('Ա․Ղազարյան:Ա. Քամալյան'!I25) -> 0 | J25: =SUM('Ա․Ղազարյան:Ա. Քամալյան'!J25) -> 0 | ... AM25: =SUM('Ա․Ղազարյան:Ա. Քամալյան'!AM25) -> 0
A26: 7.2 | B26: ²½·³ÛÇÝ ÅáÕáíÇ ÁÝïñáõÃÛáõÝÝ»ñÇ Ñ»ï Ï³åí³Í | C26: =SUM('Ա․Ղազարյան:Ա. Քամալյան'!C26) -> 0 | D26: =SUM('Ա․Ղազարյան:Ա. Քամալյան'!D26) -> 0 | E26: =SUM('Ա․Ղազարյան:Ա. Քամալյան'!E26) -> 0 | F26: =SUM('Ա․Ղազարյան:Ա. Քամալյան'!F26) -> 0 | G26: =SUM('Ա․Ղազարյան:Ա. Քամալյան'!G26) -> 0 | H26: =SUM('Ա․Ղազարյան:Ա. Քամալյան'!H26) -> 0 | I26: =SUM('Ա․Ղազարյան:Ա. Քամալյան'!I26) -> 0 | J26: =SUM('Ա․Ղազարյան:Ա. Քամալյան'!J26) -> 0 | ... AM26: =SUM('Ա․Ղազարյան:Ա. Քամալյան'!AM26) -> 0
A27: 7.3 | B27: î»Õ³Ï³Ý ÇÝùÝ³Ï³é³í³ñÙ³Ý Ù³ñÙÇÝÝ»ñÇ ÁÝïñáõÃÛáõÝÝ»ñÇ Ñ»ï Ï³åí³Í | C27: =SUM('Ա․Ղազարյան:Ա. Քամալյան'!C27) -> 0 | D27: =SUM('Ա․Ղազարյան:Ա. Քամալյան'!D27) -> 0 | E27: =SUM('Ա․Ղազարյան:Ա. Քամալյան'!E27) -> 0 | F27: =SUM('Ա․Ղազարյան:Ա. Քամալյան'!F27) -> 0 | G27: =SUM('Ա․Ղազարյան:Ա. Քամալյան'!G27) -> 0 | H27: =SUM('Ա․Ղազարյան:Ա. Քամալյան'!H27) -> 1 | I27: =SUM('Ա․Ղազարյան:Ա. Քամալյան'!I27) -> 0 | J27: =SUM('Ա․Ղազարյան:Ա. Քամալյան'!J27) -> 0 | ... AM27: =SUM('Ա․Ղազարյան:Ա. Քամալյան'!AM27) -> 0
A28: 7.4 | B28: Ð³Ýñ³ùí»Ç Ï³½Ù³Ï»ñåÙ³Ý ¨ ³ÝóÏ³óÙ³Ý Ñ»ï Ï³åí³Í | C28: =SUM('Ա․Ղազարյան:Ա. Քամալյան'!C28) -> 0 | D28: =SUM('Ա․Ղազարյան:Ա. Քամալյան'!D28) -> 0 | E28: =SUM('Ա․Ղազարյան:Ա. Քամալյան'!E28) -> 0 | F28: =SUM('Ա․Ղազարյան:Ա. Քամալյան'!F28) -> 0 | G28: =SUM('Ա․Ղազարյան:Ա. Քամալյան'!G28) -> 0 | H28: =SUM('Ա․Ղազարյան:Ա. Քամալյան'!H28) -> 0 | I28: =SUM('Ա․Ղազարյան:Ա. Քամալյան'!I28) -> 0 | J28: =SUM('Ա․Ղազարյան:Ա. Քամալյան'!J28) -> 0 | ... AM28: =SUM('Ա․Ղազարյան:Ա. Քամալյան'!AM28) -> 0
A29: 7.5 | B29: ²ÛÉ í»×»ñ | C29: =SUM('Ա․Ղազարյան:Ա. Քամալյան'!C29) -> 0 | D29: =SUM('Ա․Ղազարյան:Ա. Քամալյան'!D29) -> 0 | E29: =SUM('Ա․Ղազարյան:Ա. Քամալյան'!E29) -> 0 | F29: =SUM('Ա․Ղազարյան:Ա. Քամալյան'!F29) -> 0 | G29: =SUM('Ա․Ղազարյան:Ա. Քամալյան'!G29) -> 0 | H29: =SUM('Ա․Ղազարյան:Ա. Քամալյան'!H29) -> 0 | I29: =SUM('Ա․Ղազարյան:Ա. Քամալյան'!I29) -> 0 | J29: =SUM('Ա․Ղազարյան:Ա. Քամալյան'!J29) -> 0 | ... AM29: =SUM('Ա․Ղազարյան:Ա. Քամալյան'!AM29) -> 0
A30: 9 | B30: Ð³í³ùÇ ³ÝóÏ³óÙ³Ý Ù³ëÇÝ Ñ³Ù³ÛÝùÇ Õ»Ï³í³ñÇ áñáßáõÙÝ»ñÇ ¨ ·áñÍáÕáõÃÛáõÝÝ»ñÇ Çñ³í³ã³÷áõÃÛáõÝÁ íÇ×³ñÏ»Éáõ Ñ»ï Ï³åí³Í Çñ³í³Ñ³ñ³µ»ñáõÃÛáõÝÝ»ñÇ í»ñ³µ»ñÛ³É ¹³ï³Ï³Ý ·áñÍ»ñ | C30: =SUM('Ա․Ղազարյան:Ա. Քամալյան'!C30) -> 0 | D30: =SUM('Ա․Ղազարյան:Ա. Քամալյան'!D30) -> 0 | E30: =SUM('Ա․Ղազարյան:Ա. Քամալյան'!E30) -> 0 | F30: =SUM('Ա․Ղազարյան:Ա. Քամալյան'!F30) -> 0 | G30: =SUM('Ա․Ղազարյան:Ա. Քամալյան'!G30) -> 0 | H30: =SUM('Ա․Ղազարյան:Ա. Քամալյան'!H30) -> 7 | I30: =SUM('Ա․Ղազարյան:Ա. Քամալյան'!I30) -> 0 | J30: =SUM('Ա․Ղազարյան:Ա. Քամալյան'!J30) -> 3 | ... AM30: =SUM('Ա․Ղազարյան:Ա. Քամալյան'!AM30) -> 0
A31: 10 | B31: ä»ï³Ï³Ý, Ñ³Ù³ÛÝù³ÛÇÝ Ï³Ù ³ÛÉÁÝïñ³Ýù³ÛÇÝ Í³é³ÛáõÃÛ³Ý ³ÝóÝ»Éáõ Ï³Ù Çñ³Ï³Ý³óÝ»Éáõ Ñ»ï Ï³åí³Í Çñ³í³Ñ³ñ³µ»ñáõÃÛáõÝÝ»ñÇ í»ñ³µ»ñÛ³É ¹³ï³Ï³Ý ·áñÍ»ñ | C31: =SUM('Ա․Ղազարյան:Ա. Քամալյան'!C31) -> 99 | D31: =SUM('Ա․Ղազարյան:Ա. Քամալյան'!D31) -> 1 | E31: =SUM('Ա․Ղազարյան:Ա. Քամալյան'!E31) -> 98 | F31: =SUM('Ա․Ղազարյան:Ա. Քամալյան'!F31) -> 0 | G31: =SUM('Ա․Ղազարյան:Ա. Քամալյան'!G31) -> 0 | H31: =SUM('Ա․Ղազարյան:Ա. Քամալյան'!H31) -> 17 | I31: =SUM('Ա․Ղազարյան:Ա. Քամալյան'!I31) -> 16 | J31: =SUM('Ա․Ղազարյան:Ա. Քամալյան'!J31) -> 0 | ... AM31: =SUM('Ա․Ղազարյան:Ա. Քամալյան'!AM31) -> 0
A32: 11 | B32: ì³ñã³Ï³Ý Ù³ñÙÇÝÝ»ñÇ ÙÇç¨ Çñ³í³ëáõÃÛ³Ý Ñ³ñó»ñÇ í»ñ³µ»ñÛ³É í»×»ñÇ Ñ»ï Ï³åí³Í Çñ³í³Ñ³ñ³µ»ñáõÃÛáõÝÝ»ñÇ í»ñ³µ»ñÛ³É ¹³ï³Ï³Ý ·áñÍ»ñ | C32: =SUM('Ա․Ղազարյան:Ա. Քամալյան'!C32) -> 0 | D32: =SUM('Ա․Ղազարյան:Ա. Քամալյան'!D32) -> 0 | E32: =SUM('Ա․Ղազարյան:Ա. Քամալյան'!E32) -> 0 | F32: =SUM('Ա․Ղազարյան:Ա. Քամալյան'!F32) -> 0 | G32: =SUM('Ա․Ղազարյան:Ա. Քամալյան'!G32) -> 0 | H32: =SUM('Ա․Ղազարյան:Ա. Քամալյան'!H32) -> 0 | I32: =SUM('Ա․Ղազարյան:Ա. Քամալյան'!I32) -> 0 | J32: =SUM('Ա․Ղազարյան:Ա. Քամալյան'!J32) -> 0 | ... AM32: =SUM('Ա․Ղազարյան:Ա. Քամալյան'!AM32) -> 0
A33: 12 | B33: Ð³ë³ñ³Ï³Ï³Ý Ï³½Ù³Ï»ñåáõÃÛáõÝÝ»ñÇ ¨ ³ÛÉ ÙÇ³íáñáõÙÝ»ñÇ ·áñÍáõÝ»áõÃÛ³Ý Ï³ë»óÙ³Ý Ï³Ù ¹³¹³ñ»óÙ³Ý Ñ»ï Ï³åí³Í Çñ³í³Ñ³ñ³µ»ñáõÃÛáõÝÝ»ñÇ í»ñ³µ»ñÛ³É ¹³ï³Ï³Ý ·áñÍ»ñ | C33: =SUM('Ա․Ղազարյան:Ա. Քամալյան'!C33) -> 0 | D33: =SUM('Ա․Ղազարյան:Ա. Քամալյան'!D33) -> 0 | E33: =SUM('Ա․Ղազարյան:Ա. Քամալյան'!E33) -> 0 | F33: =SUM('Ա․Ղազարյան:Ա. Քամալյան'!F33) -> 0 | G33: =SUM('Ա․Ղազարյան:Ա. Քամալյան'!G33) -> 0 | H33: =SUM('Ա․Ղազարյան:Ա. Քամալյան'!H33) -> 13 | I33: =SUM('Ա․Ղազարյան:Ա. Քամալյան'!I33) -> 11 | J33: =SUM('Ա․Ղազարյան:Ա. Քամալյան'!J33) -> 2 | ... AM33: =SUM('Ա․Ղազարյան:Ա. Քամալյան'!AM33) -> 0
A34: 13 | B34: ì³ñã³ñ³ñáõÃÛ³Ùµ å³ï×³éí³Í íÝ³ëÇ å³ï³ëË³Ý³ïíáõÃÛ³Ý Ñ»ï Ï³åí³Í Çñ³í³Ñ³ñ³µ»ñáõÃÛáõÝÝ»ñÇ í»ñ³µ»ñÛ³É ¹³ï³Ï³Ý ·áñÍ»ñ | C34: =SUM('Ա․Ղազարյան:Ա. Քամալյան'!C34) -> 7 | D34: =SUM('Ա․Ղազարյան:Ա. Քամալյան'!D34) -> 0 | E34: =SUM('Ա․Ղազարյան:Ա. Քամալյան'!E34) -> 7 | F34: =SUM('Ա․Ղազարյան:Ա. Քամալյան'!F34) -> 0 | G34: =SUM('Ա․Ղազարյան:Ա. Քամալյան'!G34) -> 0 | H34: =SUM('Ա․Ղազարյան:Ա. Քամալյան'!H34) -> 5 | I34: =SUM('Ա․Ղազարյան:Ա. Քամալյան'!I34) -> 4 | J34: =SUM('Ա․Ղազարյան:Ա. Քամալյան'!J34) -> 0 | ... AM34: =SUM('Ա․Ղազարյան:Ա. Քամալյան'!AM34) -> 0
A35: 14 | B35: ²ÝÑ»ï³Ó·»ÉÇ ÙÇջամտության áñáßÙ³Ý, µáÕáù³ñÏ³ÙաÝ í»ñ³µ»ñÛ³É ¹³ï³Ï³Ý ·áñÍ»ñ | C35: =SUM('Ա․Ղազարյան:Ա. Քամալյան'!C35) -> 0 | D35: =SUM('Ա․Ղազարյան:Ա. Քամալյան'!D35) -> 0 | E35: =SUM('Ա․Ղազարյան:Ա. Քամալյան'!E35) -> 0 | F35: =SUM('Ա․Ղազարյան:Ա. Քամալյան'!F35) -> 0 | G35: =SUM('Ա․Ղազարյան:Ա. Քամալյան'!G35) -> 0 | H35: =SUM('Ա․Ղազարյան:Ա. Քամալյան'!H35) -> 53 | I35: =SUM('Ա․Ղազարյան:Ա. Քամալյան'!I35) -> 50 | J35: =SUM('Ա․Ղազարյան:Ա. Քամալյան'!J35) -> 2 | ... AM35: =SUM('Ա․Ղազարյան:Ա. Քամալյան'!AM35) -> 2
A36: 16 | B36: Դատավորի հավակնորդի հայտի ընդունումը մերժելու áñáßÙ³Ý µáÕáù³ñÏ³ÙաÝ í»ñ³µ»ñÛ³É ¹³ï³Ï³Ý ·áñÍ»ñ | C36: =SUM('Ա․Ղազարյան:Ա. Քամալյան'!C36) -> 0 | D36: =SUM('Ա․Ղազարյան:Ա. Քամալյան'!D36) -> 0 | E36: =SUM('Ա․Ղազարյան:Ա. Քամալյան'!E36) -> 0 | F36: =SUM('Ա․Ղազարյան:Ա. Քամալյան'!F36) -> 0 | G36: =SUM('Ա․Ղազարյան:Ա. Քամալյան'!G36) -> 0 | H36: =SUM('Ա․Ղազարյան:Ա. Քամալյան'!H36) -> 0 | I36: =SUM('Ա․Ղազարյան:Ա. Քամալյան'!I36) -> 0 | J36: =SUM('Ա․Ղազարյան:Ա. Քամալյան'!J36) -> 0 | ... AM36: =SUM('Ա․Ղազարյան:Ա. Քամալյան'!AM36) -> 0
... A47: 8 | B47: ²ÛÉ í»×»ñ | C47: =SUM('Ա․Ղազարյան:Ա. Քամալյան'!C47) -> 88 | D47: =SUM('Ա․Ղազարյան:Ա. Քամալյան'!D47) -> 16 | E47: =SUM('Ա․Ղազարյան:Ա. Քամալյան'!E47) -> 72 | F47: =SUM('Ա․Ղազարյան:Ա. Քամալյան'!F47) -> 0 | G47: =SUM('Ա․Ղազարյան:Ա. Քամալյան'!G47) -> 0 | H47: =SUM('Ա․Ղազարյան:Ա. Քամալյան'!H47) -> 308 | I47: =SUM('Ա․Ղազարյան:Ա. Քամալյան'!I47) -> 252 | J47: =SUM('Ա․Ղազարյան:Ա. Քամալյան'!J47) -> 42 | ... AM47: =SUM('Ա․Ղազարյան:Ա. Քամալյան'!AM47) -> 1
B48: ÀÝ¹³Ù»ÝÁ | C48: =+'Ա․Ղազարյան'!C48+'Ռ․Ազրոյան'!C48+'Գ․Առաքելյան'!C48+'Ե․Առաքելյան'!C48+'Ա․Ավագյան'!C48+'Դ․Դանիելյան'!C48+'Ա․Դարբինյան'!C48+'Ա․Դիլբարյան'!C48+'Կ․Զարիկյան'!C48+'Մ․Համբարձումյան'!C48+'Ա․Ծատուրյան'!C48+'Ա․Հարությունյան'!C48+'Ռ․Մաքեյան'!C48+'Վ․Միքաելյան'!C48+'Ա․Ներսիսյան'!C48+'Ա․Չիլինգարյան'!C48+'Մ․Պետրոսյան'!C48+'Լ․Սադոյան'!C48+'Տ․Սանթրոսյան'!C48+'Ա․Մկրտչյան'!C48+'Լ․Բոյաջյան'!C48+'Հ․Մուրադյան'!C48+'Ն. Գասպարյան'!C48+'Օ. Դիլբանդյան'!C48+'Ա. Քամալյան'!C48 -> 13808 | D48: =+'Ա․Ղազարյան'!D48+'Ռ․Ազրոյան'!D48+'Գ․Առաքելյան'!D48+'Ե․Առաքելյան'!D48+'Ա․Ավագյան'!D48+'Դ․Դանիելյան'!D48+'Ա․Դարբինյան'!D48+'Ա․Դիլբարյան'!D48+'Կ․Զարիկյան'!D48+'Մ․Համբարձումյան'!D48+'Ա․Ծատուրյան'!D48+'Ա․Հարությունյան'!D48+'Ռ․Մաքեյան'!D48+'Վ․Միքաելյան'!D48+'Ա․Ներսիսյան'!D48+'Ա․Չիլինգարյան'!D48+'Մ․Պետրոսյան'!D48+'Լ․Սադոյան'!D48+'Տ․Սանթրոսյան'!D48+'Ա․Մկրտչյան'!D48+'Լ․Բոյաջյան'!D48+'Հ․Մուրադյան'!D48+'Ն. Գասպարյան'!D48+'Օ. Դիլբանդյան'!D48+'Ա. Քամալյան'!D48 -> 780 | E48: =+'Ա․Ղազարյան'!E48+'Ռ․Ազրոյան'!E48+'Գ․Առաքելյան'!E48+'Ե․Առաքելյան'!E48+'Ա․Ավագյան'!E48+'Դ․Դանիելյան'!E48+'Ա․Դարբինյան'!E48+'Ա․Դիլբարյան'!E48+'Կ․Զարիկյան'!E48+'Մ․Համբարձումյան'!E48+'Ա․Ծատուրյան'!E48+'Ա․Հարությունյան'!E48+'Ռ․Մաքեյան'!E48+'Վ․Միքաելյան'!E48+'Ա․Ներսիսյան'!E48+'Ա․Չիլինգարյան'!E48+'Մ․Պետրոսյան'!E48+'Լ․Սադոյան'!E48+'Տ․Սանթրոսյան'!E48+'Ա․Մկրտչյան'!E48+'Լ․Բոյաջյան'!E48+'Հ․Մուրադյան'!E48+'Ն. Գասպարյան'!E48+'Օ. Դիլբանդյան'!E48+'Ա. Քամալյան'!E48 -> 12886 | F48: =+'Ա․Ղազարյան'!F48+'Ռ․Ազրոյան'!F48+'Գ․Առաքելյան'!F48+'Ե․Առաքելյան'!F48+'Ա․Ավագյան'!F48+'Դ․Դանիելյան'!F48+'Ա․Դարբինյան'!F48+'Ա․Դիլբարյան'!F48+'Կ․Զարիկյան'!F48+'Մ․Համբարձումյան'!F48+'Ա․Ծատուրյան'!F48+'Ա․Հարությունյան'!F48+'Ռ․Մաքեյան'!F48+'Վ․Միքաելյան'!F48+'Ա․Ներսիսյան'!F48+'Ա․Չիլինգարյան'!F48+'Մ․Պետրոսյան'!F48+'Լ․Սադոյան'!F48+'Տ․Սանթրոսյան'!F48+'Ա․Մկրտչյան'!F48+'Լ․Բոյաջյան'!F48+'Հ․Մուրադյան'!F48+'Ն. Գասպարյան'!F48+'Օ. Դիլբանդյան'!F48+'Ա. Քամալյան'!F48 -> 63 | G48: =+'Ա․Ղազարյան'!G48+'Ռ․Ազրոյան'!G48+'Գ․Առաքելյան'!G48+'Ե․Առաքելյան'!G48+'Ա․Ավագյան'!G48+'Դ․Դանիելյան'!G48+'Ա․Դարբինյան'!G48+'Ա․Դիլբարյան'!G48+'Կ․Զարիկյան'!G48+'Մ․Համբարձումյան'!G48+'Ա․Ծատուրյան'!G48+'Ա․Հարությունյան'!G48+'Ռ․Մաքեյան'!G48+'Վ․Միքաելյան'!G48+'Ա․Ներսիսյան'!G48+'Ա․Չիլինգարյան'!G48+'Մ․Պետրոսյան'!G48+'Լ․Սադոյան'!G48+'Տ․Սանթրոսյան'!G48+'Ա․Մկրտչյան'!G48+'Լ․Բոյաջյան'!G48+'Հ․Մուրադյան'!G48+'Ն. Գասպարյան'!G48+'Օ. Դիլբանդյան'!G48+'Ա. Քամալյան'!G48 -> 79 | H48: =+'Ա․Ղազարյան'!H48+'Ռ․Ազրոյան'!H48+'Գ․Առաքելյան'!H48+'Ե․Առաքելյան'!H48+'Ա․Ավագյան'!H48+'Դ․Դանիելյան'!H48+'Ա․Դարբինյան'!H48+'Ա․Դիլբարյան'!H48+'Կ․Զարիկյան'!H48+'Մ․Համբարձումյան'!H48+'Ա․Ծատուրյան'!H48+'Ա․Հարությունյան'!H48+'Ռ․Մաքեյան'!H48+'Վ․Միքաելյան'!H48+'Ա․Ներսիսյան'!H48+'Ա․Չիլինգարյան'!H48+'Մ․Պետրոսյան'!H48+'Լ․Սադոյան'!H48+'Տ․Սանթրոսյան'!H48+'Ա․Մկրտչյան'!H48+'Լ․Բոյաջյան'!H48+'Հ․Մուրադյան'!H48+'Ն. Գասպարյան'!H48+'Օ. Դիլբանդյան'!H48+'Ա. Քամալյան'!H48 -> 28570 | I48: =+'Ա․Ղազարյան'!I48+'Ռ․Ազրոյան'!I48+'Գ․Առաքելյան'!I48+'Ե․Առաքելյան'!I48+'Ա․Ավագյան'!I48+'Դ․Դանիելյան'!I48+'Ա․Դարբինյան'!I48+'Ա․Դիլբարյան'!I48+'Կ․Զարիկյան'!I48+'Մ․Համբարձումյան'!I48+'Ա․Ծատուրյան'!I48+'Ա․Հարությունյան'!I48+'Ռ․Մաքեյան'!I48+'Վ․Միքաելյան'!I48+'Ա․Ներսիսյան'!I48+'Ա․Չիլինգարյան'!I48+'Մ․Պետրոսյան'!I48+'Լ․Սադոյան'!I48+'Տ․Սանթրոսյան'!I48+'Ա․Մկրտչյան'!I48+'Լ․Բոյաջյան'!I48+'Հ․Մուրադյան'!I48+'Ն. Գասպարյան'!I48+'Օ. Դիլբանդյան'!I48+'Ա. Քամալյան'!I48 -> 24023 | J48: =+'Ա․Ղազարյան'!J48+'Ռ․Ազրոյան'!J48+'Գ․Առաքելյան'!J48+'Ե․Առաքելյան'!J48+'Ա․Ավագյան'!J48+'Դ․Դանիելյան'!J48+'Ա․Դարբինյան'!J48+'Ա․Դիլբարյան'!J48+'Կ․Զարիկյան'!J48+'Մ․Համբարձումյան'!J48+'Ա․Ծատուրյան'!J48+'Ա․Հարությունյան'!J48+'Ռ․Մաքեյան'!J48+'Վ․Միքաելյան'!J48+'Ա․Ներսիսյան'!J48+'Ա․Չիլինգարյան'!J48+'Մ․Պետրոսյան'!J48+'Լ․Սադոյան'!J48+'Տ․Սանթրոսյան'!J48+'Ա․Մկրտչյան'!J48+'Լ․Բոյաջյան'!J48+'Հ․Մուրադյան'!J48+'Ն. Գասպարյան'!J48+'Օ. Դիլբանդյան'!J48+'Ա. Քամալյան'!J48 -> 3028 | ... AM48: =+'Ա․Ղազարյան'!AM48+'Ռ․Ազրոյան'!AM48+'Գ․Առաքելյան'!AM48+'Ե․Առաքելյան'!AM48+'Ա․Ավագյան'!AM48+'Դ․Դանիելյան'!AM48+'Ա․Դարբինյան'!AM48+'Ա․Դիլբարյան'!AM48+'Կ․Զարիկյան'!AM48+'Մ․Համբարձումյան'!AM48+'Ա․Ծատուրյան'!AM48+'Ա․Հարությունյան'!AM48+'Ռ․Մաքեյան'!AM48+'Վ․Միքաելյան'!AM48+'Ա․Ներսիսյան'!AM48+'Ա․Չիլինգարյան'!AM48+'Մ․Պետրոսյան'!AM48+'Լ․Սադոյան'!AM48+'Տ․Սանթրոսյան'!AM48+'Ա․Մկրտչյան'!AM48+'Լ․Բոյաջյան'!AM48+'Հ․Մուրադյան'!AM48+'Ն. Գասպարյան'!AM48+'Օ. Դիլբանդյան'!AM48+'Ա. Քամալյան'!AM48 -> 152
C49: 1 | D49: 2 | E49: 3 | F49: 4 | G49: 5 | H49: 6 | I49: 7 | J49: 8 | K49: 9 | L49: 10 | M49: 11 | N49: 12 | O49: 13 | P49: 14 | Q49: 15 | R49: 16 | S49: 17 | T49: 18 | U49: 19 | V49: 20 | W49: 21 | X49: 22 | Y49: 23 | Z49: 24 | AA49: 25 | AB49: 26 | AC49: 27 | AD49: 28 | AE49: 29 | AF49: 30 | AG49: 31 | AH49: 32 | AI49: 33 | AJ49: 34 | AK49: 35 | AL49: 36 | AM49: 37

Sheet Ա․Ղազարյան
AI1: Հավելված 2 Բարձրագույն դատական խորհրդի 2022թվականի դեկտեմբերի 26-ի թիվ ԲԴԽ-122-Ո-408 որոշման
A2: 2025 թվականի տարեկան | C2: Ð²ÞìºîìàôÂÚàôÜ
A3: ÐÐ ì²ðâ²Î²Ü ¸²î²ð²ÜÆ ¸²î²ìàð ԱՐԳԻՇՏԻ ՂԱԶԱՐՅԱՆԻ ¶àðÌàôÜºàôÂÚ²Ü ìºð²´ºðÚ²È
A4: ÐÐ í³ñã³Ï³Ý ¹³ï³ñ³ÝÇ ¹³ï³íáñÝ»ñÇ Ñ³ëïÇùÝ»ñÇ ÃÇíÁ` 24
A5: êïáõ·Çã Ñ³í³ë³ñáõÙÝ»ñª 1=2+3+4+5, 6=7+8+9+10, 2+3+7=11+21+22+24, 12=13+14+15+16, 17=18+19+20, 21=12+17, 28=26+27, 28=29+30, 35=33+34, 35=36+37 | C5: Ð³ßí»ïáõ Å³Ù³Ý³Ï³Ñ³ïí³ÍáõÙ Ý³Ëáñ¹ Ñ³ßí»ïáõ Å³Ù³Ý³Ï³Ñ³ïí³ÍÇó ÷áË³Ýóí³Í ·áñÍ»ñÇ ÁÝ¹Ñ³Ýáõñ ÃÇíÁ | H5: Ð³ßí»ïáõ Å³Ù³Ý³Ï³Ñ³ïí³ÍáõÙ ëï³óí³Í ·áñÍ»ñÇ (³Û¹ ÃíáõÙ` Ñ³Ûó³¹ÇÙáõÙÝ»ñÇ, ¹ÇÙáõÙÝ»ñÇ) ÁÝ¹Ñ³Ýáõñ ÃÇíÁ | M5: öáË³Ýóí»É ¿ ³ÛÉ ¹³ï³íáñÇ (Ï³½ÙÇ ÷á÷áËáõÃÛáõÝ) | N5: Ð³ßí»ïáõ Å³Ù³Ý³Ï³Ñ³ïí³ÍáõÙ ³í³ñïí³Í ·áñÍ»ñÇ ÁÝ¹Ñ³Ýáõñ ÃÇíÁ | X5: ¶áñÍÝ áõÕ³ñÏí»É ¿ Áëï ÁÝ¹¹³ïáõÃÛ³Ý | Y5: Ð³ßí»ïáõ Å³Ù³Ý³Ï³Ñ³ïí³ÍáõÙ Ï³ë»óí³Í í³ñáõÛÃÝ»ñáí ·áñÍ»ñÇ ÁÝ¹Ñ³Ýáõñ ÃÇíÁ | Z5: Ð³ßí»ïáõ Å³Ù³Ý³Ï³Ñ³ïí³ÍáõÙ ³Ý³í³ñï ·áñÍ»ñÇ ÁÝ¹Ñ³Ýáõñ ÃÇíÁ | AA5: ²Û¹ ÃíáõÙ` Ï³ë»óí³Í | AB5: ´áÕáù³ñÏí³Í ¹³ï³Ï³Ý ³Ïï»ñÁ | AG5: ²í³ñïí³Í ¹³ï³Ï³Ý ·áñÍ»ñÇ µáÕáù³ñÏÙ³Ý ïáÏáëÁ (Ñ³ßí»ïáõ Å³Ù³Ý³Ï³Ñ³ïí³ÍáõÙ) | AH5: ²Ý³í³ñï µáÕáùÝ»ñ | AI5: ´»Ï³Ýí³Í ¹³ï³Ï³Ý ³Ïï»ñÁ
C6: ÀÝ¹³Ù»ÝÁ | D6: ²Û¹ ÃíáõÙ`Ï³ë»óí³Í íÇ×³ÏáõÙ ÷áË³Ýóí³Í | E6: ²Û¹ ÃíáõÙª ÁÝ¹áõÝí»É ¿ í³ñáõÛÃ | F6: ²Û¹ ÃíáõÙª í»ñ³¹³ñÓí»É ¿ | G6: ²Û¹ ÃíáõÙª ÁÝ¹áõÝáõÙÁ Ù»ñÅí»É ¿ | H6: ÀÝ¹³Ù»ÝÁ | I6: ²Û¹ ÃíáõÙª ÁÝ¹áõÝí»É ¿ í³ñáõÛÃ | J6: ²Û¹ ÃíáõÙª í»ñ³¹³ñÓí»É ¿ | K6: ²Û¹ ÃíáõÙª ÁÝ¹áõÝáõÙÁ Ù»ñÅí»É ¿ | L6: Այդ թվում անորոշ | N6: ÀÝ¹³Ù»ÝÁ ³í³ñïí»É »Ý ·áñÍ»ñ ·áñÍÝ Áëï ¿áõÃÛ³Ý ÉáõÍáÕ ¹³ï³Ï³Ý ³Ïï»ñÇ (í×ÇéÝ»ñÇ) Ï³Û³óÙ³Ùµ | O6: ²Û¹ ÃíáõÙª Ñ³ÛóÇ µ³í³ñ³ñÙ³Ùµ | P6: ²Û¹ ÃíáõÙª Ñ³ÛóÇ Ù³ëÝ³ÏÇ µ³í³ñ³ñÙ³Ùµ | Q6: ²Û¹ ÃíáõÙª Ñ³ÛóÇ Ù»ñÅÙ³Ùµ | R6: ²Û¹ ÃíáõÙ` Ù³ëÝ³ÏÇ Ù»ñÅí»É ¿, Ù³ëÝ³ÏÇ Ï³ñ×í»É | S6: ²Û¹ ÃíáõÙª Ï³ñ×í»É »Ý | W6: ÀÝ¹³Ù»ÝÝ ³í³ñïí»É »Ý ·áñÍ»ñ | AB6: ²Û¹ ÃíáõÙ` ·áñÍÝ Áëï ¿áõÃÛ³Ý ÉáõÍáÕ ¹³ï³Ï³Ý ³Ïï»ñÁ | AC6: ²Û¹ ÃíáõÙ` ÙÇç³ÝÏÛ³É ¹³ï³Ï³Ý ³Ïï»ñÁ | AD6: ÀÝ¹³Ù»ÝÁ | AE6: Ü³Ëáñ¹ ï³ñÇÝ»ñÇÝ Ï³Û³óí³Í ³Ïï»ñÇ µáÕáù³ñÏáõÙÁ Ñ³ßí»ïáõ Å³Ù³Ý³Ï³ßñç³ÝáõÙ | AF6: Ð³ßí»ïáõ Å³Ù³Ý³Ï³ßñç³ÝáõÙ Ï³Û³óí³Í ³Ïï»ñÇ µáÕáù³ñÏáõÙÁ | AI6: ²Û¹ ÃíáõÙ` ·áñÍÝ Áëï ¿áõÃÛ³Ý ÉáõÍáÕ ¹³ï³Ï³Ý ³Ïï»ñÁ | AJ6: ²Û¹ ÃíáõÙ` ÙÇç³ÝÏÛ³É ¹³ï³Ï³Ý ³Ïï»ñÁ | AK6: ÀÝ¹³Ù»ÝÁ | AL6: Ü³Ëáñ¹ ï³ñÇÝ»ñÇÝ Ï³Û³óí³Í ³Ïï»ñÇ µ»Ï³ÝáõÙÝ»ñÁ Ñ³ßí»ïáõ Å³Ù³Ý³Ï³ßñç³ÝáõÙ | AM6: Ð³ßí»ïáõ Å³Ù³Ý³Ï³ßñç³ÝáõÙ Ï³Û³óí³Í ³Ïï»ñÇ µ»Ï³ÝáõÙÁ
S7: ÀÝ¹³Ù»ÝÁ Ï³ñ×í»É »Ý | T7: ²Û¹ ÃíáõÙª Ñ³ëï³ïí»É ¿ ÏÝùí³Í Ñ³ßïáõÃÛ³Ý Ñ³Ù³Ó³ÛÝáõÃÛáõÝÁ | U7: ²Û¹ ÃíáõÙª Ñ³ÛóÇó, ¹ÇÙáõÙÇó Ññ³Å³ñí»Éáõ ÑÇÙùáí | V7: ²Û¹ ÃíáõÙª ³ÛÉ ÑÇÙùáí
B8: ì³ñã³Ï³Ý ·áñÍ»ñÇ ¹³ë³Ï³ñ·áõÙÁ | C8: 1 | D8: 2 | E8: 3 | F8: 4 | G8: 5 | H8: 6 | I8: 7 | J8: 8 | K8: 9 | L8: 10 | M8: 11 | N8: 12 | O8: 13 | P8: 14 | Q8: 15 | R8: 16 | S8: 17 | T8: 18 | U8: 19 | V8: 20 | W8: 21 | X8: 22 | Y8: 23 | Z8: 24 | AA8: 25 | AB8: 26 | AC8: 27 | AD8: 28 | AE8: 29 | AF8: 30 | AG8: 31 | AH8: 32 | AI8: 33 | AJ8: 34 | AK8: 35 | AL8: 36 | AM8: 37
A9: 1 | B9: ä»ï³Ï³Ý Ù³ñÙÇÝÝ»ñÇ, ï»Õ³Ï³Ý ÇÝùÝ³Ï³é³í³ñÙ³Ý Ù³ñÙÇÝÝ»ñÇ áõ ¹ñ³Ýó å³ßïáÝ³ï³ñ ³ÝÓ³Ýó ³Ïï»ñÝ ³Ýí³í»ñ ×³Ý³ã»Éáõ Ñ»ï Ï³åí³Í Çñ³í³ñ³Ñ³µ»ñáõÃÛáõÝÝ»ñÇ í»ñ³µ»ñÛ³É ¹³ï³Ï³Ý ·áñÍ»ñ | C9: =+C10+C11 -> 531 | D9: =+D10+D11 -> 39 | E9: =+E10+E11 -> 489 | F9: =+F10+F11 -> 3 | G9: =+G10+G11 -> 0 | H9: =+H10+H11 -> 989 | I9: =+I10+I11 -> 742 | J9: =+J10+J11 -> 101 | ... AM9: =+AM10+AM11 -> 4
A10: 1.1 | B10: ä»ï³Ï³Ý Ù³ñÙÇÝÝ»ñÇ áõ ¹ñ³Ýó å³ßïáÝ³ï³ñ ³ÝÓ³Ýó ³Ïï»ñÝ ³Ýí³í»ñ ×³Ý³ã»Éáõ Ñ»ï Ï³åí³Í Çñ³í³Ñ³ñ³µ»ñáõÃÛáõÝÝ»ñÇ í»ñ³µ»ñÛ³É ¹³ï³Ï³Ý ·áñÍ»ñ | C10: 480 | D10: 34 | E10: 444 | F10: 2 | H10: 822 | I10: 642 | J10: 71 | K10: 17 | L10: 92 | M10: 2 | N10: 622 | O10: 492 | P10: 2 | Q10: 128 | S10: 7 | U10: 5 | V10: 2 | W10: 629 | Y10: 3 | Z10: 489 | AA10: 37 | AB10: 105 | AC10: 14 | AD10: 119 | AE10: 21 | AF10: 98 | AI10: 30 | AJ10: 1 | AK10: 31 | AL10: 28 | AM10: 3
A11: 1.2 | B11: î»Õ³Ï³Ý ÇÝùÝ³Ï³é³í³ñÙ³Ý Ù³ñÙÇÝÝ»ñÇ áõ ¹ñ³Ýó å³ßïáÝ³ï³ñ ³ÝÓ³Ýó ³Ïï»ñÝ ³Ýí³í»ñ ×³Ý³ã»Éáõ Ñ»ï Ï³åí³Í Çñ³í³Ñ³ñ³µ»ñáõÃÛáõÝÝ»ñÇ í»ñ³µ»ñÛ³É ¹³ï³Ï³Ý ·áñÍ»ñ | C11: 51 | D11: 5 | E11: 45 | F11: 1 | H11: 167 | I11: 100 | J11: 30 | K11: 8 | L11: 29 | M11: 2 | N11: 41 | O11: 24 | Q11: 17 | S11: 2 | U11: 1 | V11: 1 | W11: 43 | X11: 2 | Y11: 1 | Z11: 103 | AA11: 5 | AB11: 30 | AC11: 6 | AD11: 36 | AE11: 6 | AF11: 30 | AI11: 14 | AJ11: 1 | AK11: 15 | AL11: 14 | AM11: 1
A12: 2 | B12: ä»ï³Ï³Ý Ù³ñÙÇÝÝ»ñÇ, ï»Õ³Ï³Ý ÇÝùÝ³Ï³é³í³ñÙ³Ý Ù³ñÙÇÝÝ»ñÇ ¨ ¹ñ³Ýó å³ßïáÝ³ï³ñ ³ÝÓ³Ýó ·áñÍáÕáõÃÛáõÝÝ»ñÁ /³Ý·áñÍáõÃÛáõÝÁ/ íÇ×³ñÏ»Éáõ Ñ»ï Ï³åí³Í Çñ³í³Ñ³ñ³µ»ñáõÃÛáõÝÝ»ñÇ í»ñ³µ»ñÛ³É ¹³ï³Ï³Ý ·áñÍ»ñ | C12: =C13+C14 -> 122 | D12: =D13+D14 -> 6 | E12: =E13+E14 -> 115 | F12: =F13+F14 -> 1 | G12: =G13+G14 -> 0 | H12: =H13+H14 -> 146 | I12: =I13+I14 -> 97 | J12: =J13+J14 -> 27 | ... AM12: =AM13+AM14 -> 1
A13: 2.1 | B13: ä»ï³Ï³Ý Ù³ñÙÇÝÝ»ñÇ ¨ ¹ñ³Ýó å³ßïáÝ³ï³ñ ³ÝÓ³Ýó ·áñÍáÕáõÃÛáõÝÝ»ñÁ /³Ý·áñÍáõÃÛáõÝÁ/ íÇ×³ñÏ»Éáõ Ñ»ï Ï³åí³Í Çñ³í³Ñ³ñ³µ»ñáõÃÛáõÝÝ»ñÇ í»ñ³µ»ñÛ³É ¹³ï³Ï³Ý ·áñÍ»ñ | C13: 67 | D13: 3 | E13: 63 | F13: 1 | H13: 106 | I13: 72 | J13: 16 | K13: 1 | L13: 17 | N13: 25 | O13: 10 | P13: 1 | Q13: 14 | S13: 3 | U13: 3 | W13: 28 | X13: 4 | Z13: 106 | AA13: 2 | AB13: 13 | AC13: 2 | AD13: 15 | AE13: 5 | AF13: 10 | AI13: 5 | AJ13: 2 | AK13: 7 | AL13: 6 | AM13: 1
A14: 2.2 | B14: î»Õ³Ï³Ý ÇÝùÝ³Ï³é³í³ñÙ³Ý Ù³ñÙÇÝÝ»ñÇ áõ ¹ñ³Ýó å³ßïáÝ³ï³ñ ³ÝÓ³Ýó ·áñÍáÕáõÃÛáõÝÝ»ñÁ /³Ý·áñÍáõÃÛáõÝÁ/ íÇ×³ñÏ»Éáõ Ñ»ï Ï³åí³Í Çñ³í³Ñ³ñ³µ»ñáõÃÛáõÝÝ»ñÇ í»ñ³µ»ñÛ³É ¹³ï³Ï³Ý ·áñÍ»ñ | C14: 55 | D14: 3 | E14: 52 | H14: 40 | I14: 25 | J14: 11 | K14: 2 | L14: 2 | M14: 1 | N14: 15 | O14: 13 | Q14: 2 | S14: 8 | U14: 5 | V14: 3 | W14: 23 | Y14: 1 | Z14: 56 | AA14: 3 | AB14: 14 | AC14: 1 | AD14: 15 | AE14: 1 | AF14: 14 | AI14: 6 | AK14: 6 | AL14: 6
A15: 5 | B15: Üáï³ñ³Ï³Ý ·áñÍáÕáõÃÛáõÝÝ»ñÁ Ï³Ù Ýáï³ñÇ ³Ý·áñÍáõÃÛáõÝÁ íÇ×³ñÏ»Éáõ Ñ»ï Ï³åí³Í Çñ³í³Ñ³ñ³µ»ñáõÃÛáõÝÝ»ñÇ í»ñ³µ»ñÛ³É ¹³ï³Ï³Ý ·áñÍ»ñ | C15: 3 | E15: 3 | I15: 0 | S15: 1 | U15: 1 | W15: 1 | Z15: 2
A16: 6 | B16: ÜáñÙ³ïÇí Çñ³í³Ï³Ý ³Ïï»ñÇ Çñ³í³ã³÷áõÃÛáõÝÁ íÇ×³ñÏ»Éáõ Ñ»ï Ï³åí³Í Çñ³í³Ñ³ñ³µ»ñáõÃÛáõÝÝ»ñÇ í»ñ³µ»ñÛ³É ¹³ï³Ï³Ý ·áñÍ»ñ | C16: =C17+C18+C19+C20+C21+C22+C23 -> 2 | D16: =D17+D18+D19+D20+D21+D22+D23 -> 0 | E16: =E17+E18+E19+E20+E21+E22+E23 -> 2 | F16: =F17+F18+F19+F20+F21+F22+F23 -> 0 | G16: =G17+G18+G19+G20+G21+G22+G23 -> 0 | H16: =H17+H18+H19+H20+H21+H22+H23 -> 3 | I16: =I17+I18+I19+I20+I21+I22+I23 -> 1 | J16: =J17+J18+J19+J20+J21+J22+J23 -> 2 | ... AM16: =AM17+AM18+AM19+AM20+AM21+AM22+AM23 -> 0
A17: 6.1 | B17: ¶»ñ³ï»ëã³Ï³Ý ÝáñÙ³ïÇí Çñ³í³Ï³Ý ³Ïï»ñÇª ÐÐ ê³ÑÙ³Ý³¹ñáõÃÛ³ÝÁ Ñ³Ù³å³ï³ëË³ÝáõÃÛáõÝÁ íÇ×³ñÏ»Éáõ í»ñ³µ»ñÛ³É | E17: 0 | I17: 0 | W17: 0 | Z17: 0
A18: 6.2 | B18: Ü³Ë³·³ÑÇ ÝáñÙ³ïÇí µÝáõÛÃ áõÝ»óáÕ ³Ïï»ñÇ` ³í»ÉÇ µ³ñÓñ Çñ³í³µ³Ý³Ï³Ý áõÅ áõÝ»óáÕ ÝáñÙ³ïÇí ³Ïï»ñÇÝ Ñ³Ù³å³ï³ëË³ÝáõÃÛáõÝÁ íÇ×³ñÏ»Éáõ í»ñ³µ»ñÛ³É | E18: 0 | I18: 0 | W18: 0 | Z18: 0
A19: 6.3 | B19: Î³é³í³ñáõÃÛ³Ý ÝáñÙ³ïÇí áñáßáõÙÝ»ñÇ`³í»ÉÇ µ³ñÓñ Çñ³í³µ³Ý³Ï³Ý áõÅ áõÝ»óáÕ ÝáñÙ³ïÇí ³Ïï»ñÇÝ Ñ³Ù³å³ï³ëË³ÝáõÃÛáõÝÁ íÇ×³ñÏ»Éáõ í»ñ³µ»ñÛ³É | C19: 2 | E19: 2 | H19: 1 | I19: 0 | J19: 1 | N19: 1 | Q19: 1 | W19: 1 | Z19: 1
A20: 6.4 | B20: ì³ñã³å»ïÇ ÝáñÙ³ïÇí áñáßáõÙÝ»ñÇ` ³í»ÉÇ µ³ñÓñ Çñ³í³µ³Ý³Ï³Ý áõÅ áõÝ»óáÕ ÝáñÙ³ïÇí ³Ïï»ñÇÝ Ñ³Ù³å³ï³ëË³ÝáõÃÛáõÝÁ íÇ×³ñÏ»Éáõ í»ñ³µ»ñÛ³É | E20: 0 | I20: 0 | W20: 0 | Z20: 0
A21: 6.5 | B21: ¶»ñ³ï»ëã³Ï³Ý ÝáñÙ³ïÇí Çñ³í³Ï³Ý ³Ïï»ñÇ` ³í»ÉÇ µ³ñÓñ Çñ³í³µ³Ý³Ï³Ý áõÅ áõÝ»óáÕ ÝáñÙ³ïÇí ³Ïï»ñÇÝ Ñ³Ù³å³ï³ëË³ÝáõÃÛáõÝÁ íÇ×³ñÏ»Éáõ í»ñ³µ»ñÛ³É | E21: 0 | I21: 0 | W21: 0 | Z21: 0
A22: 6.6 | B22: Ð³Ù³ÛÝùÇ ³í³·³Ýáõ áñáßáõÙÝ»ñÇ` ³í»ÉÇ µ³ñÓñ Çñ³í³µ³Ý³Ï³Ý áõÅ áõÝ»óáÕ ÝáñÙ³ïÇí ³Ïï»ñÇÝ Ñ³Ù³å³ï³ëË³ÝáõÃÛáõÝÁ íÇ×³ñÏ»Éáõ í»ñ³µ»ñÛ³É | E22: 0 | H22: 2 | I22: 1 | J22: 1 | W22: 0 | Z22: 1
A23: 6.7 | B23: Ð³Ù³ÛÝùÇ Õ»Ï³í³ñÇ áñáßáõÙÝ»ñÇ` ³í»ÉÇ µ³ñÓñ Çñ³í³µ³Ý³Ï³Ý áõÅ áõÝ»óáÕ ÝáñÙ³ïÇí ³Ïï»ñÇÝ Ñ³Ù³å³ï³ëË³ÝáõÃÛáõÝÁ íÇ×³ñÏ»Éáõ í»ñ³µ»ñÛ³É | E23: 0 | I23: 0 | W23: 0 | Z23: 0
A24: 7 | B24: ÀÝïñ³Ï³Ý Çñ³íáõÝùÇ å³ßïå³ÝáõÃÛ³Ý Ñ»ï Ï³åí³Í Çñ³í³Ñ³ñ³µ»ñáõÃÛáõÝÝ»ñÇ í»ñ³µ»ñÛ³É ¹³ï³Ï³Ý ·áñÍ»ñ | C24: =+C25+C26+C27+C28+C29 -> 0 | D24: =+D25+D26+D27+D28+D29 -> 0 | E24: =+E25+E26+E27+E28+E29 -> 0 | F24: =+F25+F26+F27+F28+F29 -> 0 | G24: =+G25+G26+G27+G28+G29 -> 0 | H24: =+H25+H26+H27+H28+H29 -> 1 | I24: =+I25+I26+I27+I28+I29 -> 0 | J24: =+J25+J26+J27+J28+J29 -> 0 | ... AM24: =+AM25+AM26+AM27+AM28+AM29 -> 0
A25: 7.1 | B25: Ü³Ë³·³ÑÇ ÁÝïñáõÃÛáõÝÝ»ñÇ Ñ»ï Ï³åí³Í | E25: 0 | I25: 0 | W25: 0 | Z25: 0
A26: 7.2 | B26: ²½·³ÛÇÝ ÅáÕáíÇ ÁÝïñáõÃÛáõÝÝ»ñÇ Ñ»ï Ï³åí³Í | E26: 0 | I26: 0 | W26: 0 | Z26: 0
A27: 7.3 | B27: î»Õ³Ï³Ý ÇÝùÝ³Ï³é³í³ñÙ³Ý Ù³ñÙÇÝÝ»ñÇ ÁÝïñáõÃÛáõÝÝ»ñÇ Ñ»ï Ï³åí³Í | E27: 0 | H27: 1 | I27: 0 | K27: 1 | W27: 0 | Z27: 0 | AI27: 1 | AK27: 1 | AL27: 1
A28: 7.4 | B28: Ð³Ýñ³ùí»Ç Ï³½Ù³Ï»ñåÙ³Ý ¨ ³ÝóÏ³óÙ³Ý Ñ»ï Ï³åí³Í | E28: 0 | I28: 0 | W28: 0 | Z28: 0
A29: 7.5 | B29: ²ÛÉ í»×»ñ | E29: 0 | I29: 0 | W29: 0 | Z29: 0
A30: 9 | B30: Ð³í³ùÇ ³ÝóÏ³óÙ³Ý Ù³ëÇÝ Ñ³Ù³ÛÝùÇ Õ»Ï³í³ñÇ áñáßáõÙÝ»ñÇ ¨ ·áñÍáÕáõÃÛáõÝÝ»ñÇ Çñ³í³ã³÷áõÃÛáõÝÁ íÇ×³ñÏ»Éáõ Ñ»ï Ï³åí³Í Çñ³í³Ñ³ñ³µ»ñáõÃÛáõÝÝ»ñÇ í»ñ³µ»ñÛ³É ¹³ï³Ï³Ý ·áñÍ»ñ | E30: 0 | H30: 2 | I30: 0 | J30: 1 | K30: 1 | W30: 0 | Z30: 0 | AC30: 1 | AD30: 1 | AF30: 1
A31: 10 | B31: ä»ï³Ï³Ý, Ñ³Ù³ÛÝù³ÛÇÝ Ï³Ù ³ÛÉÁÝïñ³Ýù³ÛÇÝ Í³é³ÛáõÃÛ³Ý ³ÝóÝ»Éáõ Ï³Ù Çñ³Ï³Ý³óÝ»Éáõ Ñ»ï Ï³åí³Í Çñ³í³Ñ³ñ³µ»ñáõÃÛáõÝÝ»ñÇ í»ñ³µ»ñÛ³É ¹³ï³Ï³Ý ·áñÍ»ñ | C31: 5 | E31: 5 | I31: 0 | N31: 1 | Q31: 1 | W31: 1 | Z31: 4 | AB31: 1 | AD31: 1 | AF31: 1
A32: 11 | B32: ì³ñã³Ï³Ý Ù³ñÙÇÝÝ»ñÇ ÙÇç¨ Çñ³í³ëáõÃÛ³Ý Ñ³ñó»ñÇ í»ñ³µ»ñÛ³É í»×»ñÇ Ñ»ï Ï³åí³Í Çñ³í³Ñ³ñ³µ»ñáõÃÛáõÝÝ»ñÇ í»ñ³µ»ñÛ³É ¹³ï³Ï³Ý ·áñÍ»ñ | E32: 0 | I32: 0 | W32: 0 | Z32: 0
A33: 12 | B33: Ð³ë³ñ³Ï³Ï³Ý Ï³½Ù³Ï»ñåáõÃÛáõÝÝ»ñÇ ¨ ³ÛÉ ÙÇ³íáñáõÙÝ»ñÇ ·áñÍáõÝ»áõÃÛ³Ý Ï³ë»óÙ³Ý Ï³Ù ¹³¹³ñ»óÙ³Ý Ñ»ï Ï³åí³Í Çñ³í³Ñ³ñ³µ»ñáõÃÛáõÝÝ»ñÇ í»ñ³µ»ñÛ³É ¹³ï³Ï³Ý ·áñÍ»ñ | E33: 0 | I33: 0 | W33: 0 | Z33: 0
A34: 13 | B34: ì³ñã³ñ³ñáõÃÛ³Ùµ å³ï×³éí³Í íÝ³ëÇ å³ï³ëË³Ý³ïíáõÃÛ³Ý Ñ»ï Ï³åí³Í Çñ³í³Ñ³ñ³µ»ñáõÃÛáõÝÝ»ñÇ í»ñ³µ»ñÛ³É ¹³ï³Ï³Ý ·áñÍ»ñ | E34: 0 | I34: 0 | W34: 0 | Z34: 0
A35: 14 | B35: ²ÝÑ»ï³Ó·»ÉÇ ÙÇջամտության áñáßÙ³Ý, µáÕáù³ñÏ³ÙաÝ í»ñ³µ»ñÛ³É ¹³ï³Ï³Ý ·áñÍ»ñ | E35: 0 | H35: 6 | I35: 6 | N35: 6 | O35: 4 | Q35: 2 | W35: 6 | Z35: 0 | AB35: 6 | AD35: 6 | AF35: 6
A36: 16 | B36: Դատավորի հավակնորդի հայտի ընդունումը մերժելու áñáßÙ³Ý µáÕáù³ñÏ³ÙաÝ í»ñ³µ»ñÛ³É ¹³ï³Ï³Ý ·áñÍ»ñ | E36: 0 | I36: 0 | W36: 0 | Z36: 0
A37: 9.5 | B37: Ընտրական հանձնաժողովի գործավար մատյանը չլրացնելը կամ ոչ պատշաճ լրացնելը | E37: 0 | I37: 0 | W37: 0 | Z37: 0
A38: 9.14 | B38: Ժողովներ, հանրահավաքներ, երթեր և ցույցեր անցկացնելու կարգը խախտելը | E38: 0 | I38: 0 | W38: 0 | Z38: 0
A39: 9.15 | B39: Զինծառայողների կամ ոստիկ. ծառայողի օրին. պահանջը չկատարելը | C39: 30 | D39: 1 | E39: 29 | H39: 11 | I39: 11 | N39: 21 | O39: 2 | Q39: 19 | W39: 21 | Z39: 20 | AA39: 1 | AB39: 3 | AD39: 3 | AE39: 1 | AF39: 2
A40: 9.18 | B40: Հայաստանի Հանրապետության ուսումնական հաստատություններում առարկաների հայերեն դասավանդումը կամ միջնակարգ-մասնագիտական, մասնագիտական տեխնիկական և բարձրագույն ուսումնական հաստատություններում հայոց լեզվի ուսուցումը կամ հայոց լեզվի ընդունելության քննությունը չապահովելը | E40: 0 | I40: 0 | W40: 0 | Z40: 0
A41: 9.19 | B41: ՀՀ պետ. մարմ., ձեռնարկ-ի, հիմն-ի և կազմ-ի (անկախ սեփ. ձևից) գործավ-ը ոչ հայերեն վարելը, ցուցանակները, ձևաթղթերը, դրոշմանիշները, նամականիշները, կնիքները, միջ. փոստ. ծրարները և գովազդները ոչ հայերեն ձևավորելը | C41: 5 | E41: 5 | H41: 1 | I41: 1 | N41: 2 | O41: 1 | Q41: 1 | W41: 2 | Z41: 4 | AI41: 1 | AK41: 1 | AL41: 1
A42: 9.23 | B42: Տեղեկություն տալու պարտականությունը չկատարելը | E42: 0 | I42: 0 | W42: 0 | Z42: 0
A43: 9.26 | B43: Տեղեկություն (տվյալ) չտրամադրելը կամ կեղծ տեղեկություն (տվյալ) ներկայացնելը | E43: 0 | I43: 0 | W43: 0 | Z43: 0
A44: 9.31 | B44: Հարկադիր կատարողի որոշումը դիտավորյալ չկատարելը կամ կատարմանը խոչընդոտելը | E44: 0 | I44: 0 | W44: 0 | Z44: 0
A45: 9.33 | B45: Այլ իրավախախտումներ | E45: 0 | H45: 9 | I45: 9 | W45: 0 | Z45: 9
A46: 9.7 | B46: Գույքի մանր հափշտակում | E46: 0 | I46: 0 | W46: 0 | Z46: 0
A47: 8 | B47: ²ÛÉ í»×»ñ | C47: 7 | D47: 3 | E47: 4 | H47: 7 | I47: 5 | J47: 0 | L47: 2 | N47: 1 | O47: 1 | W47: 1 | Z47: 11 | AA47: 4 | AB47: 1 | AD47: 1 | AF47: 1
B48: ÀÝ¹³Ù»ÝÁ | C48: =+C9+C12+C15+C16+C24+C30+C31+C32+C33+C34+C35+C36+C37+C38+C39+C40+C41+C42+C43+C44+C45+C46+C47 -> 705 | D48: =+D9+D12+D15+D16+D24+D30+D31+D32+D33+D34+D35+D36+D37+D38+D39+D40+D41+D42+D43+D44+D45+D46+D47 -> 49 | E48: =+E9+E12+E15+E16+E24+E30+E31+E32+E33+E34+E35+E36+E37+E38+E39+E40+E41+E42+E43+E44+E45+E46+E47 -> 652 | F48: =+F9+F12+F15+F16+F24+F30+F31+F32+F33+F34+F35+F36+F37+F38+F39+F40+F41+F42+F43+F44+F45+F46+F47 -> 4 | G48: =+G9+G12+G15+G16+G24+G30+G31+G32+G33+G34+G35+G36+G37+G38+G39+G40+G41+G42+G43+G44+G45+G46+G47 -> 0 | H48: =+H9+H12+H15+H16+H24+H30+H31+H32+H33+H34+H35+H36+H37+H38+H39+H40+H41+H42+H43+H44+H45+H46+H47 -> 1175 | I48: =+I9+I12+I15+I16+I24+I30+I31+I32+I33+I34+I35+I36+I37+I38+I39+I40+I41+I42+I43+I44+I45+I46+I47 -> 872 | J48: =+J9+J12+J15+J16+J24+J30+J31+J32+J33+J34+J35+J36+J37+J38+J39+J40+J41+J42+J43+J44+J45+J46+J47 -> 131 | ... AM48: =+AM9+AM12+AM15+AM16+AM24+AM30+AM31+AM32+AM33+AM34+AM35+AM36+AM37+AM38+AM39+AM40+AM41+AM42+AM43+AM44+AM45+AM46+AM47 -> 5
C49: 1 | D49: 2 | E49: 3 | F49: 4 | G49: 5 | H49: 6 | I49: 7 | J49: 8 | K49: 9 | L49: 10 | M49: 11 | N49: 12 | O49: 13 | P49: 14 | Q49: 15 | R49: 16 | S49: 17 | T49: 18 | U49: 19 | V49: 20 | W49: 21 | X49: 22 | Y49: 23 | Z49: 24 | AA49: 25 | AB49: 26 | AC49: 27 | AD49: 28 | AE49: 29 | AF49: 30 | AG49: 31 | AH49: 32 | AI49: 33 | AJ49: 34 | AK49: 35 | AL49: 36 | AM49: 37

Sheet Ռ․Ազրոյան
AI1: Հավելված 2 Բարձրագույն դատական խորհրդի 2022թվականի դեկտեմբերի 26-ի թիվ ԲԴԽ-122-Ո-408 որոշման
A2: 2025թ. | C2: Ð²ÞìºîìàôÂÚàôÜ
A3: ÐÐ ì²ðâ²Î²Ü ¸²î²ð²ÜÆ ¸²î²ìàð ՌՈՒԶԱՆՆԱ ԱԶՐՈՅԱՆԻ ¶àðÌàôÜºàôÂÚ²Ü ìºð²´ºðÚ²È
A4: ÐÐ í³ñã³Ï³Ý ¹³ï³ñ³ÝÇ ¹³ï³íáñÝ»ñÇ Ñ³ëïÇùÝ»ñÇ ÃÇíÁ` 24
A5: êïáõ·Çã Ñ³í³ë³ñáõÙÝ»ñª 1=2+3+4+5, 6=7+8+9+10, 2+3+7=11+21+22+24, 12=13+14+15+16, 17=18+19+20, 21=12+17, 28=26+27, 28=29+30, 35=33+34, 35=36+37 | C5: Ð³ßí»ïáõ Å³Ù³Ý³Ï³Ñ³ïí³ÍáõÙ Ý³Ëáñ¹ Ñ³ßí»ïáõ Å³Ù³Ý³Ï³Ñ³ïí³ÍÇó ÷áË³Ýóí³Í ·áñÍ»ñÇ ÁÝ¹Ñ³Ýáõñ ÃÇíÁ | H5: Ð³ßí»ïáõ Å³Ù³Ý³Ï³Ñ³ïí³ÍáõÙ ëï³óí³Í ·áñÍ»ñÇ (³Û¹ ÃíáõÙ` Ñ³Ûó³¹ÇÙáõÙÝ»ñÇ, ¹ÇÙáõÙÝ»ñÇ) ÁÝ¹Ñ³Ýáõñ ÃÇíÁ | M5: öáË³Ýóí»É ¿ ³ÛÉ ¹³ï³íáñÇ (Ï³½ÙÇ ÷á÷áËáõÃÛáõÝ) | N5: Ð³ßí»ïáõ Å³Ù³Ý³Ï³Ñ³ïí³ÍáõÙ ³í³ñïí³Í ·áñÍ»ñÇ ÁÝ¹Ñ³Ýáõñ ÃÇíÁ | X5: ¶áñÍÝ áõÕ³ñÏí»É ¿ Áëï ÁÝ¹¹³ïáõÃÛ³Ý | Y5: Ð³ßí»ïáõ Å³Ù³Ý³Ï³Ñ³ïí³ÍáõÙ Ï³ë»óí³Í í³ñáõÛÃÝ»ñáí ·áñÍ»ñÇ ÁÝ¹Ñ³Ýáõñ ÃÇíÁ | Z5: Ð³ßí»ïáõ Å³Ù³Ý³Ï³Ñ³ïí³ÍáõÙ ³Ý³í³ñï ·áñÍ»ñÇ ÁÝ¹Ñ³Ýáõñ ÃÇíÁ | AA5: ²Û¹ ÃíáõÙ` Ï³ë»óí³Í | AB5: ´áÕáù³ñÏí³Í ¹³ï³Ï³Ý ³Ïï»ñÁ | AG5: ²í³ñïí³Í ¹³ï³Ï³Ý ·áñÍ»ñÇ µáÕáù³ñÏÙ³Ý ïáÏáëÁ (Ñ³ßí»ïáõ Å³Ù³Ý³Ï³Ñ³ïí³ÍáõÙ) | AH5: ²Ý³í³ñï µáÕáùÝ»ñ | AI5: ´»Ï³Ýí³Í ¹³ï³Ï³Ý ³Ïï»ñÁ
C6: ÀÝ¹³Ù»ÝÁ | D6: ²Û¹ ÃíáõÙ`Ï³ë»óí³Í íÇ×³ÏáõÙ ÷áË³Ýóí³Í | E6: ²Û¹ ÃíáõÙª ÁÝ¹áõÝí»É ¿ í³ñáõÛÃ | F6: ²Û¹ ÃíáõÙª í»ñ³¹³ñÓí»É ¿ | G6: ²Û¹ ÃíáõÙª ÁÝ¹áõÝáõÙÁ Ù»ñÅí»É ¿ | H6: ÀÝ¹³Ù»ÝÁ | I6: ²Û¹ ÃíáõÙª ÁÝ¹áõÝí»É ¿ í³ñáõÛÃ | J6: ²Û¹ ÃíáõÙª í»ñ³¹³ñÓí»É ¿ | K6: ²Û¹ ÃíáõÙª ÁÝ¹áõÝáõÙÁ Ù»ñÅí»É ¿ | L6: Այդ թվում անորոշ | N6: ÀÝ¹³Ù»ÝÁ ³í³ñïí»É »Ý ·áñÍ»ñ ·áñÍÝ Áëï ¿áõÃÛ³Ý ÉáõÍáÕ ¹³ï³Ï³Ý ³Ïï»ñÇ (í×ÇéÝ»ñÇ) Ï³Û³óÙ³Ùµ | O6: ²Û¹ ÃíáõÙª Ñ³ÛóÇ µ³í³ñ³ñÙ³Ùµ | P6: ²Û¹ ÃíáõÙª Ñ³ÛóÇ Ù³ëÝ³ÏÇ µ³í³ñ³ñÙ³Ùµ | Q6: ²Û¹ ÃíáõÙª Ñ³ÛóÇ Ù»ñÅÙ³Ùµ | R6: ²Û¹ ÃíáõÙ` Ù³ëÝ³ÏÇ Ù»ñÅí»É ¿, Ù³ëÝ³ÏÇ Ï³ñ×í»É | S6: ²Û¹ ÃíáõÙª Ï³ñ×í»É »Ý | W6: ÀÝ¹³Ù»ÝÝ ³í³ñïí»É »Ý ·áñÍ»ñ | AB6: ²Û¹ ÃíáõÙ` ·áñÍÝ Áëï ¿áõÃÛ³Ý ÉáõÍáÕ ¹³ï³Ï³Ý ³Ïï»ñÁ | AC6: ²Û¹ ÃíáõÙ` ÙÇç³ÝÏÛ³É ¹³ï³Ï³Ý ³Ïï»ñÁ | AD6: ÀÝ¹³Ù»ÝÁ | AE6: Ü³Ëáñ¹ ï³ñÇÝ»ñÇÝ Ï³Û³óí³Í ³Ïï»ñÇ µáÕáù³ñÏáõÙÁ Ñ³ßí»ïáõ Å³Ù³Ý³Ï³ßñç³ÝáõÙ | AF6: Ð³ßí»ïáõ Å³Ù³Ý³Ï³ßñç³ÝáõÙ Ï³Û³óí³Í ³Ïï»ñÇ µáÕáù³ñÏáõÙÁ | AI6: ²Û¹ ÃíáõÙ` ·áñÍÝ Áëï ¿áõÃÛ³Ý ÉáõÍáÕ ¹³ï³Ï³Ý ³Ïï»ñÁ | AJ6: ²Û¹ ÃíáõÙ` ÙÇç³ÝÏÛ³É ¹³ï³Ï³Ý ³Ïï»ñÁ | AK6: ÀÝ¹³Ù»ÝÁ | AL6: Ü³Ëáñ¹ ï³ñÇÝ»ñÇÝ Ï³Û³óí³Í ³Ïï»ñÇ µ»Ï³ÝáõÙÝ»ñÁ Ñ³ßí»ïáõ Å³Ù³Ý³Ï³ßñç³ÝáõÙ | AM6: Ð³ßí»ïáõ Å³Ù³Ý³Ï³ßñç³ÝáõÙ Ï³Û³óí³Í ³Ïï»ñÇ µ»Ï³ÝáõÙÁ
S7: ÀÝ¹³Ù»ÝÁ Ï³ñ×í»É »Ý | T7: ²Û¹ ÃíáõÙª Ñ³ëï³ïí»É ¿ ÏÝùí³Í Ñ³ßïáõÃÛ³Ý Ñ³Ù³Ó³ÛÝáõÃÛáõÝÁ | U7: ²Û¹ ÃíáõÙª Ñ³ÛóÇó, ¹ÇÙáõÙÇó Ññ³Å³ñí»Éáõ ÑÇÙùáí | V7: ²Û¹ ÃíáõÙª ³ÛÉ ÑÇÙùáí
B8: ì³ñã³Ï³Ý ·áñÍ»ñÇ ¹³ë³Ï³ñ·áõÙÁ | C8: 1 | D8: 2 | E8: 3 | F8: 4 | G8: 5 | H8: 6 | I8: 7 | J8: 8 | K8: 9 | L8: 10 | M8: 11 | N8: 12 | O8: 13 | P8: 14 | Q8: 15 | R8: 16 | S8: 17 | T8: 18 | U8: 19 | V8: 20 | W8: 21 | X8: 22 | Y8: 23 | Z8: 24 | AA8: 25 | AB8: 26 | AC8: 27 | AD8: 28 | AE8: 29 | AF8: 30 | AG8: 31 | AH8: 32 | AI8: 33 | AJ8: 34 | AK8: 35 | AL8: 36 | AM8: 37
A9: 1 | B9: ä»ï³Ï³Ý Ù³ñÙÇÝÝ»ñÇ, ï»Õ³Ï³Ý ÇÝùÝ³Ï³é³í³ñÙ³Ý Ù³ñÙÇÝÝ»ñÇ áõ ¹ñ³Ýó å³ßïáÝ³ï³ñ ³ÝÓ³Ýó ³Ïï»ñÝ ³Ýí³í»ñ ×³Ý³ã»Éáõ Ñ»ï Ï³åí³Í Çñ³í³ñ³Ñ³µ»ñáõÃÛáõÝÝ»ñÇ í»ñ³µ»ñÛ³É ¹³ï³Ï³Ý ·áñÍ»ñ | C9: =+C10+C11 -> 60 | D9: =+D10+D11 -> 22 | E9: =+E10+E11 -> 38 | F9: =+F10+F11 -> 0 | G9: =+G10+G11 -> 0 | H9: =+H10+H11 -> 1192 | I9: =+I10+I11 -> 1042 | J9: =+J10+J11 -> 99 | ... AM9: =+AM10+AM11 -> 2
A10: 1.1 | B10: ä»ï³Ï³Ý Ù³ñÙÇÝÝ»ñÇ áõ ¹ñ³Ýó å³ßïáÝ³ï³ñ ³ÝÓ³Ýó ³Ïï»ñÝ ³Ýí³í»ñ ×³Ý³ã»Éáõ Ñ»ï Ï³åí³Í Çñ³í³Ñ³ñ³µ»ñáõÃÛáõÝÝ»ñÇ í»ñ³µ»ñÛ³É ¹³ï³Ï³Ý ·áñÍ»ñ | C10: 20 | D10: 20 | E10: 0 | H10: 1022 | I10: 900 | J10: 75 | K10: 47 | M10: 3 | N10: 576 | O10: 460 | P10: 5 | Q10: 111 | S10: 10 | V10: 10 | W10: 586 | X10: 3 | Y10: 18 | Z10: 328 | AA10: 36 | AB10: 105 | AC10: 30 | AD10: 135 | AE10: 6 | AF10: 129 | AI10: 19 | AJ10: 2 | AK10: 21 | AL10: 20 | AM10: 1
A11: 1.2 | B11: î»Õ³Ï³Ý ÇÝùÝ³Ï³é³í³ñÙ³Ý Ù³ñÙÇÝÝ»ñÇ áõ ¹ñ³Ýó å³ßïáÝ³ï³ñ ³ÝÓ³Ýó ³Ïï»ñÝ ³Ýí³í»ñ ×³Ý³ã»Éáõ Ñ»ï Ï³åí³Í Çñ³í³Ñ³ñ³µ»ñáõÃÛáõÝÝ»ñÇ í»ñ³µ»ñÛ³É ¹³ï³Ï³Ý ·áñÍ»ñ | C11: 40 | D11: 2 | E11: 38 | H11: 170 | I11: 142 | J11: 24 | K11: 4 | N11: 69 | O11: 57 | P11: 1 | Q11: 11 | S11: 6 | U11: 3 | V11: 3 | W11: 75 | X11: 1 | Y11: 2 | Z11: 106 | AA11: 4 | AB11: 32 | AC11: 4 | AD11: 36 | AE11: 2 | AF11: 34 | AI11: 4 | AJ11: 1 | AK11: 5 | AL11: 4 | AM11: 1
A12: 2 | B12: ä»ï³Ï³Ý Ù³ñÙÇÝÝ»ñÇ, ï»Õ³Ï³Ý ÇÝùÝ³Ï³é³í³ñÙ³Ý Ù³ñÙÇÝÝ»ñÇ ¨ ¹ñ³Ýó å³ßïáÝ³ï³ñ ³ÝÓ³Ýó ·áñÍáÕáõÃÛáõÝÝ»ñÁ /³Ý·áñÍáõÃÛáõÝÁ/ íÇ×³ñÏ»Éáõ Ñ»ï Ï³åí³Í Çñ³í³Ñ³ñ³µ»ñáõÃÛáõÝÝ»ñÇ í»ñ³µ»ñÛ³É ¹³ï³Ï³Ý ·áñÍ»ñ | C12: =C13+C14 -> 73 | D12: =D13+D14 -> 6 | E12: =E13+E14 -> 67 | F12: =F13+F14 -> 0 | G12: =G13+G14 -> 0 | H12: =H13+H14 -> 159 | I12: =I13+I14 -> 110 | J12: =J13+J14 -> 36 | ... AM12: =AM13+AM14 -> 5
A13: 2.1 | B13: ä»ï³Ï³Ý Ù³ñÙÇÝÝ»ñÇ ¨ ¹ñ³Ýó å³ßïáÝ³ï³ñ ³ÝÓ³Ýó ·áñÍáÕáõÃÛáõÝÝ»ñÁ /³Ý·áñÍáõÃÛáõÝÁ/ íÇ×³ñÏ»Éáõ Ñ»ï Ï³åí³Í Çñ³í³Ñ³ñ³µ»ñáõÃÛáõÝÝ»ñÇ í»ñ³µ»ñÛ³É ¹³ï³Ï³Ý ·áñÍ»ñ | C13: 37 | D13: 4 | E13: 33 | H13: 108 | I13: 78 | J13: 21 | K13: 9 | N13: 46 | O13: 26 | P13: 1 | Q13: 19 | S13: 5 | U13: 2 | V13: 3 | W13: 51 | X13: 6 | Z13: 58 | AA13: 4 | AB13: 15 | AC13: 9 | AD13: 24 | AE13: 2 | AF13: 22 | AI13: 2 | AJ13: 4 | AK13: 6 | AL13: 2 | AM13: 4
A14: 2.2 | B14: î»Õ³Ï³Ý ÇÝùÝ³Ï³é³í³ñÙ³Ý Ù³ñÙÇÝÝ»ñÇ áõ ¹ñ³Ýó å³ßïáÝ³ï³ñ ³ÝÓ³Ýó ·áñÍáÕáõÃÛáõÝÝ»ñÁ /³Ý·áñÍáõÃÛáõÝÁ/ íÇ×³ñÏ»Éáõ Ñ»ï Ï³åí³Í Çñ³í³Ñ³ñ³µ»ñáõÃÛáõÝÝ»ñÇ í»ñ³µ»ñÛ³É ¹³ï³Ï³Ý ·áñÍ»ñ | C14: 36 | D14: 2 | E14: 34 | H14: 51 | I14: 32 | J14: 15 | K14: 4 | N14: 19 | O14: 7 | Q14: 12 | S14: 2 | U14: 1 | V14: 1 | W14: 21 | X14: 1 | Y14: 1 | Z14: 46 | AA14: 1 | AB14: 7 | AC14: 3 | AD14: 10 | AE14: 3 | AF14: 7 | AI14: 2 | AJ14: 1 | AK14: 3 | AL14: 2 | AM14: 1
A15: 5 | B15: Üáï³ñ³Ï³Ý ·áñÍáÕáõÃÛáõÝÝ»ñÁ Ï³Ù Ýáï³ñÇ ³Ý·áñÍáõÃÛáõÝÁ íÇ×³ñÏ»Éáõ Ñ»ï Ï³åí³Í Çñ³í³Ñ³ñ³µ»ñáõÃÛáõÝÝ»ñÇ í»ñ³µ»ñÛ³É ¹³ï³Ï³Ý ·áñÍ»ñ | C15: 1 | E15: 1 | H15: 4 | I15: 3 | J15: 1 | S15: 1 | V15: 1 | W15: 1 | X15: 2 | Y15: 1 | Z15: 1 | AA15: 1 | AI15: 1 | AK15: 1 | AL15: 1
A16: 6 | B16: ÜáñÙ³ïÇí Çñ³í³Ï³Ý ³Ïï»ñÇ Çñ³í³ã³÷áõÃÛáõÝÁ íÇ×³ñÏ»Éáõ Ñ»ï Ï³åí³Í Çñ³í³Ñ³ñ³µ»ñáõÃÛáõÝÝ»ñÇ í»ñ³µ»ñÛ³É ¹³ï³Ï³Ý ·áñÍ»ñ | C16: =C17+C18+C19+C20+C21+C22+C23 -> 0 | D16: =D17+D18+D19+D20+D21+D22+D23 -> 0 | E16: =E17+E18+E19+E20+E21+E22+E23 -> 0 | F16: =F17+F18+F19+F20+F21+F22+F23 -> 0 | G16: =G17+G18+G19+G20+G21+G22+G23 -> 0 | H16: =H17+H18+H19+H20+H21+H22+H23 -> 2 | I16: =I17+I18+I19+I20+I21+I22+I23 -> 1 | J16: =J17+J18+J19+J20+J21+J22+J23 -> 1 | ... AM16: =AM17+AM18+AM19+AM20+AM21+AM22+AM23 -> 0
A17: 6.1 | B17: ¶»ñ³ï»ëã³Ï³Ý ÝáñÙ³ïÇí Çñ³í³Ï³Ý ³Ïï»ñÇª ÐÐ ê³ÑÙ³Ý³¹ñáõÃÛ³ÝÁ Ñ³Ù³å³ï³ëË³ÝáõÃÛáõÝÁ íÇ×³ñÏ»Éáõ í»ñ³µ»ñÛ³É | E17: 0 | I17: 0 | W17: 0 | Z17: 0
A18: 6.2 | B18: Ü³Ë³·³ÑÇ ÝáñÙ³ïÇí µÝáõÛÃ áõÝ»óáÕ ³Ïï»ñÇ` ³í»ÉÇ µ³ñÓñ Çñ³í³µ³Ý³Ï³Ý áõÅ áõÝ»óáÕ ÝáñÙ³ïÇí ³Ïï»ñÇÝ Ñ³Ù³å³ï³ëË³ÝáõÃÛáõÝÁ íÇ×³ñÏ»Éáõ í»ñ³µ»ñÛ³É | E18: 0 | I18: 0 | W18: 0 | Z18: 0
A19: 6.3 | B19: Î³é³í³ñáõÃÛ³Ý ÝáñÙ³ïÇí áñáßáõÙÝ»ñÇ`³í»ÉÇ µ³ñÓñ Çñ³í³µ³Ý³Ï³Ý áõÅ áõÝ»óáÕ ÝáñÙ³ïÇí ³Ïï»ñÇÝ Ñ³Ù³å³ï³ëË³ÝáõÃÛáõÝÁ íÇ×³ñÏ»Éáõ í»ñ³µ»ñÛ³É | E19: 0 | H19: 1 | I19: 1 | W19: 0 | Z19: 1
A20: 6.4 | B20: ì³ñã³å»ïÇ ÝáñÙ³ïÇí áñáßáõÙÝ»ñÇ` ³í»ÉÇ µ³ñÓñ Çñ³í³µ³Ý³Ï³Ý áõÅ áõÝ»óáÕ ÝáñÙ³ïÇí ³Ïï»ñÇÝ Ñ³Ù³å³ï³ëË³ÝáõÃÛáõÝÁ íÇ×³ñÏ»Éáõ í»ñ³µ»ñÛ³É | E20: 0 | I20: 0 | W20: 0 | Z20: 0
A21: 6.5 | B21: ¶»ñ³ï»ëã³Ï³Ý ÝáñÙ³ïÇí Çñ³í³Ï³Ý ³Ïï»ñÇ` ³í»ÉÇ µ³ñÓñ Çñ³í³µ³Ý³Ï³Ý áõÅ áõÝ»óáÕ ÝáñÙ³ïÇí ³Ïï»ñÇÝ Ñ³Ù³å³ï³ëË³ÝáõÃÛáõÝÁ íÇ×³ñÏ»Éáõ í»ñ³µ»ñÛ³É | E21: 0 | I21: 0 | W21: 0 | Z21: 0
A22: 6.6 | B22: Ð³Ù³ÛÝùÇ ³í³·³Ýáõ áñáßáõÙÝ»ñÇ` ³í»ÉÇ µ³ñÓñ Çñ³í³µ³Ý³Ï³Ý áõÅ áõÝ»óáÕ ÝáñÙ³ïÇí ³Ïï»ñÇÝ Ñ³Ù³å³ï³ëË³ÝáõÃÛáõÝÁ íÇ×³ñÏ»Éáõ í»ñ³µ»ñÛ³É | E22: 0 | H22: 1 | I22: 0 | J22: 1 | W22: 0 | Z22: 0
A23: 6.7 | B23: Ð³Ù³ÛÝùÇ Õ»Ï³í³ñÇ áñáßáõÙÝ»ñÇ` ³í»ÉÇ µ³ñÓñ Çñ³í³µ³Ý³Ï³Ý áõÅ áõÝ»óáÕ ÝáñÙ³ïÇí ³Ïï»ñÇÝ Ñ³Ù³å³ï³ëË³ÝáõÃÛáõÝÁ íÇ×³ñÏ»Éáõ í»ñ³µ»ñÛ³É | E23: 0 | I23: 0 | W23: 0 | Z23: 0
A24: 7 | B24: ÀÝïñ³Ï³Ý Çñ³íáõÝùÇ å³ßïå³ÝáõÃÛ³Ý Ñ»ï Ï³åí³Í Çñ³í³Ñ³ñ³µ»ñáõÃÛáõÝÝ»ñÇ í»ñ³µ»ñÛ³É ¹³ï³Ï³Ý ·áñÍ»ñ | C24: =+C25+C26+C27+C28+C29 -> 0 | D24: =+D25+D26+D27+D28+D29 -> 0 | E24: =+E25+E26+E27+E28+E29 -> 0 | F24: =+F25+F26+F27+F28+F29 -> 0 | G24: =+G25+G26+G27+G28+G29 -> 0 | H24: =+H25+H26+H27+H28+H29 -> 0 | I24: =+I25+I26+I27+I28+I29 -> 0 | J24: =+J25+J26+J27+J28+J29 -> 0 | ... AM24: =+AM25+AM26+AM27+AM28+AM29 -> 0
A25: 7.1 | B25: Ü³Ë³·³ÑÇ ÁÝïñáõÃÛáõÝÝ»ñÇ Ñ»ï Ï³åí³Í | E25: 0 | I25: 0 | W25: 0 | Z25: 0
A26: 7.2 | B26: ²½·³ÛÇÝ ÅáÕáíÇ ÁÝïñáõÃÛáõÝÝ»ñÇ Ñ»ï Ï³åí³Í | E26: 0 | I26: 0 | W26: 0 | Z26: 0
A27: 7.3 | B27: î»Õ³Ï³Ý ÇÝùÝ³Ï³é³í³ñÙ³Ý Ù³ñÙÇÝÝ»ñÇ ÁÝïñáõÃÛáõÝÝ»ñÇ Ñ»ï Ï³åí³Í | E27: 0 | I27: 0 | W27: 0 | Z27: 0
A28: 7.4 | B28: Ð³Ýñ³ùí»Ç Ï³½Ù³Ï»ñåÙ³Ý ¨ ³ÝóÏ³óÙ³Ý Ñ»ï Ï³åí³Í | E28: 0 | I28: 0 | W28: 0 | Z28: 0
A29: 7.5 | B29: ²ÛÉ í»×»ñ | E29: 0 | I29: 0 | W29: 0 | Z29: 0
A30: 9 | B30: Ð³í³ùÇ ³ÝóÏ³óÙ³Ý Ù³ëÇÝ Ñ³Ù³ÛÝùÇ Õ»Ï³í³ñÇ áñáßáõÙÝ»ñÇ ¨ ·áñÍáÕáõÃÛáõÝÝ»ñÇ Çñ³í³ã³÷áõÃÛáõÝÁ íÇ×³ñÏ»Éáõ Ñ»ï Ï³åí³Í Çñ³í³Ñ³ñ³µ»ñáõÃÛáõÝÝ»ñÇ í»ñ³µ»ñÛ³É ¹³ï³Ï³Ý ·áñÍ»ñ | E30: 0 | H30: 1 | I30: 0 | J30: 1 | W30: 0 | Z30: 0
A31: 10 | B31: ä»ï³Ï³Ý, Ñ³Ù³ÛÝù³ÛÇÝ Ï³Ù ³ÛÉÁÝïñ³Ýù³ÛÇÝ Í³é³ÛáõÃÛ³Ý ³ÝóÝ»Éáõ Ï³Ù Çñ³Ï³Ý³óÝ»Éáõ Ñ»ï Ï³åí³Í Çñ³í³Ñ³ñ³µ»ñáõÃÛáõÝÝ»ñÇ í»ñ³µ»ñÛ³É ¹³ï³Ï³Ý ·áñÍ»ñ | C31: 1 | E31: 1 | I31: 0 | N31: 1 | P31: 1 | W31: 1 | Z31: 0 | AB31: 1 | AD31: 1 | AF31: 1
A32: 11 | B32: ì³ñã³Ï³Ý Ù³ñÙÇÝÝ»ñÇ ÙÇç¨ Çñ³í³ëáõÃÛ³Ý Ñ³ñó»ñÇ í»ñ³µ»ñÛ³É í»×»ñÇ Ñ»ï Ï³åí³Í Çñ³í³Ñ³ñ³µ»ñáõÃÛáõÝÝ»ñÇ í»ñ³µ»ñÛ³É ¹³ï³Ï³Ý ·áñÍ»ñ | E32: 0 | I32: 0 | W32: 0 | Z32: 0
A33: 12 | B33: Ð³ë³ñ³Ï³Ï³Ý Ï³½Ù³Ï»ñåáõÃÛáõÝÝ»ñÇ ¨ ³ÛÉ ÙÇ³íáñáõÙÝ»ñÇ ·áñÍáõÝ»áõÃÛ³Ý Ï³ë»óÙ³Ý Ï³Ù ¹³¹³ñ»óÙ³Ý Ñ»ï Ï³åí³Í Çñ³í³Ñ³ñ³µ»ñáõÃÛáõÝÝ»ñÇ í»ñ³µ»ñÛ³É ¹³ï³Ï³Ý ·áñÍ»ñ | E33: 0 | H33: 1 | I33: 1 | W33: 0 | Z33: 1
A34: 13 | B34: ì³ñã³ñ³ñáõÃÛ³Ùµ å³ï×³éí³Í íÝ³ëÇ å³ï³ëË³Ý³ïíáõÃÛ³Ý Ñ»ï Ï³åí³Í Çñ³í³Ñ³ñ³µ»ñáõÃÛáõÝÝ»ñÇ í»ñ³µ»ñÛ³É ¹³ï³Ï³Ý ·áñÍ»ñ | E34: 0 | I34: 0 | W34: 0 | Z34: 0
A35: 14 | B35: ²ÝÑ»ï³Ó·»ÉÇ ÙÇջամտության áñáßÙ³Ý, µáÕáù³ñÏ³ÙաÝ í»ñ³µ»ñÛ³É ¹³ï³Ï³Ý ·áñÍ»ñ | E35: 0 | H35: 4 | I35: 4 | N35: 3 | O35: 3 | W35: 3 | Z35: 0 | AB35: 1 | AD35: 1 | AF35: 1
A36: 16 | B36: Դատավորի հավակնորդի հայտի ընդունումը մերժելու áñáßÙ³Ý µáÕáù³ñÏ³ÙաÝ í»ñ³µ»ñÛ³É ¹³ï³Ï³Ý ·áñÍ»ñ | E36: 0 | I36: 0 | W36: 0 | Z36: 0
A37: 9.5 | B37: Ընտրական հանձնաժողովի գործավար մատյանը չլրացնելը կամ ոչ պատշաճ լրացնելը | E37: 0 | I37: 0 | W37: 0 | Z37: 0
A38: 9.14 | B38: Ժողովներ, հանրահավաքներ, երթեր և ցույցեր անցկացնելու կարգը խախտելը | E38: 0 | H38: 2 | I38: 2 | N38: 2 | Q38: 2 | W38: 2 | Z38: 0 | AB38: 2 | AD38: 2 | AF38: 2
A39: 9.15 | B39: Զինծառայողների կամ ոստիկ. ծառայողի օրին. պահանջը չկատարելը | C39: 9 | D39: 8 | E39: 1 | H39: 14 | I39: 14 | N39: 13 | O39: 1 | Q39: 12 | W39: 13 | Z39: 10 | AA39: 8 | AB39: 10 | AD39: 10 | AE39: 4 | AF39: 6
A40: 9.18 | B40: Հայաստանի Հանրապետության ուսումնական հաստատություններում առարկաների հայերեն դասավանդումը կամ միջնակարգ-մասնագիտական, մասնագիտական տեխնիկական և բարձրագույն ուսումնական հաստատություններում հայոց լեզվի ուսուցումը կամ հայոց լեզվի ընդունելության քննությունը չապահովելը | E40: 0 | I40: 0 | W40: 0 | Z40: 0
A41: 9.19 | B41: ՀՀ պետ. մարմ., ձեռնարկ-ի, հիմն-ի և կազմ-ի (անկախ սեփ. ձևից) գործավ-ը ոչ հայերեն վարելը, ցուցանակները, ձևաթղթերը, դրոշմանիշները, նամականիշները, կնիքները, միջ. փոստ. ծրարները և գովազդները ոչ հայերեն ձևավորելը | E41: 0 | H41: 1 | I41: 1 | W41: 0 | Z41: 1
A42: 9.23 | B42: Տեղեկություն տալու պարտականությունը չկատարելը | E42: 0 | I42: 0 | W42: 0 | Z42: 0
A43: 9.26 | B43: Տեղեկություն (տվյալ) չտրամադրելը կամ կեղծ տեղեկություն (տվյալ) ներկայացնելը | E43: 0 | I43: 0 | W43: 0 | Z43: 0
A44: 9.31 | B44: Հարկադիր կատարողի որոշումը դիտավորյալ չկատարելը կամ կատարմանը խոչընդոտելը | E44: 0 | I44: 0 | W44: 0 | Z44: 0
A45: 9.33 | B45: Այլ իրավախախտումներ | E45: 0 | H45: 7 | I45: 7 | N45: 6 | O45: 1 | Q45: 5 | W45: 6 | Z45: 1 | AB45: 3 | AD45: 3 | AF45: 3
A46: 9.7 | B46: Գույքի մանր հափշտակում | E46: 0 | I46: 0 | W46: 0 | Z46: 0
A47: 8 | B47: ²ÛÉ í»×»ñ | C47: 2 | E47: 2 | H47: 16 | I47: 13 | J47: 1 | K47: 2 | N47: 5 | O47: 5 | S47: 2 | U47: 1 | V47: 1 | W47: 7 | X47: 1 | Y47: 3 | Z47: 7 | AA47: 3 | AB47: 1 | AC47: 1 | AD47: 2 | AF47: 2
B48: ÀÝ¹³Ù»ÝÁ | C48: =+C9+C12+C15+C16+C24+C30+C31+C32+C33+C34+C35+C36+C37+C38+C39+C40+C41+C42+C43+C44+C45+C46+C47 -> 146 | D48: =+D9+D12+D15+D16+D24+D30+D31+D32+D33+D34+D35+D36+D37+D38+D39+D40+D41+D42+D43+D44+D45+D46+D47 -> 36 | E48: =+E9+E12+E15+E16+E24+E30+E31+E32+E33+E34+E35+E36+E37+E38+E39+E40+E41+E42+E43+E44+E45+E46+E47 -> 110 | F48: =+F9+F12+F15+F16+F24+F30+F31+F32+F33+F34+F35+F36+F37+F38+F39+F40+F41+F42+F43+F44+F45+F46+F47 -> 0 | G48: =+G9+G12+G15+G16+G24+G30+G31+G32+G33+G34+G35+G36+G37+G38+G39+G40+G41+G42+G43+G44+G45+G46+G47 -> 0 | H48: =+H9+H12+H15+H16+H24+H30+H31+H32+H33+H34+H35+H36+H37+H38+H39+H40+H41+H42+H43+H44+H45+H46+H47 -> 1403 | I48: =+I9+I12+I15+I16+I24+I30+I31+I32+I33+I34+I35+I36+I37+I38+I39+I40+I41+I42+I43+I44+I45+I46+I47 -> 1198 | J48: =+J9+J12+J15+J16+J24+J30+J31+J32+J33+J34+J35+J36+J37+J38+J39+J40+J41+J42+J43+J44+J45+J46+J47 -> 139 | ... AM48: =+AM9+AM12+AM15+AM16+AM24+AM30+AM31+AM32+AM33+AM34+AM35+AM36+AM37+AM38+AM39+AM40+AM41+AM42+AM43+AM44+AM45+AM46+AM47 -> 7
C49: 1 | D49: 2 | E49: 3 | F49: 4 | G49: 5 | H49: 6 | I49: 7 | J49: 8 | K49: 9 | L49: 10 | M49: 11 | N49: 12 | O49: 13 | P49: 14 | Q49: 15 | R49: 16 | S49: 17 | T49: 18 | U49: 19 | V49: 20 | W49: 21 | X49: 22 | Y49: 23 | Z49: 24 | AA49: 25 | AB49: 26 | AC49: 27 | AD49: 28 | AE49: 29 | AF49: 30 | AG49: 31 | AH49: 32 | AI49: 33 | AJ49: 34 | AK49: 35 | AL49: 36 | AM49: 37
B50: Ծանոթություն. 1 գործ միացվել է:

Sheet Գ․Առաքելյան
AI1: Հավելված 2 Բարձրագույն դատական խորհրդի 2022թվականի դեկտեմբերի 26-ի թիվ ԲԴԽ-122-Ո-408 որոշման
A2: 2025թ. | C2: Ð²ÞìºîìàôÂÚàôÜ
A3: ÐÐ ì²ðâ²Î²Ü ¸²î²ð²ÜÆ ¸²î²ìàð ԳՐԻԳՈՐ ԱՌԱՔԵԼՅԱՆ ¶àðÌàôÜºàôÂÚ²Ü ìºð²´ºðÚ²È
A4: ÐÐ í³ñã³Ï³Ý ¹³ï³ñ³ÝÇ ¹³ï³íáñÝ»ñÇ Ñ³ëïÇùÝ»ñÇ ÃÇíÁ` 24
A5: êïáõ·Çã Ñ³í³ë³ñáõÙÝ»ñª 1=2+3+4+5, 6=7+8+9+10, 2+3+7=11+21+22+24, 12=13+14+15+16, 17=18+19+20, 21=12+17, 28=26+27, 28=29+30, 35=33+34, 35=36+37 | C5: Ð³ßí»ïáõ Å³Ù³Ý³Ï³Ñ³ïí³ÍáõÙ Ý³Ëáñ¹ Ñ³ßí»ïáõ Å³Ù³Ý³Ï³Ñ³ïí³ÍÇó ÷áË³Ýóí³Í ·áñÍ»ñÇ ÁÝ¹Ñ³Ýáõñ ÃÇíÁ | H5: Ð³ßí»ïáõ Å³Ù³Ý³Ï³Ñ³ïí³ÍáõÙ ëï³óí³Í ·áñÍ»ñÇ (³Û¹ ÃíáõÙ` Ñ³Ûó³¹ÇÙáõÙÝ»ñÇ, ¹ÇÙáõÙÝ»ñÇ) ÁÝ¹Ñ³Ýáõñ ÃÇíÁ | M5: öáË³Ýóí»É ¿ ³ÛÉ ¹³ï³íáñÇ (Ï³½ÙÇ ÷á÷áËáõÃÛáõÝ) | N5: Ð³ßí»ïáõ Å³Ù³Ý³Ï³Ñ³ïí³ÍáõÙ ³í³ñïí³Í ·áñÍ»ñÇ ÁÝ¹Ñ³Ýáõñ ÃÇíÁ | X5: ¶áñÍÝ áõÕ³ñÏí»É ¿ Áëï ÁÝ¹¹³ïáõÃÛ³Ý | Y5: Ð³ßí»ïáõ Å³Ù³Ý³Ï³Ñ³ïí³ÍáõÙ Ï³ë»óí³Í í³ñáõÛÃÝ»ñáí ·áñÍ»ñÇ ÁÝ¹Ñ³Ýáõñ ÃÇíÁ | Z5: Ð³ßí»ïáõ Å³Ù³Ý³Ï³Ñ³ïí³ÍáõÙ ³Ý³í³ñï ·áñÍ»ñÇ ÁÝ¹Ñ³Ýáõñ ÃÇíÁ | AA5: ²Û¹ ÃíáõÙ` Ï³ë»óí³Í | AB5: ´áÕáù³ñÏí³Í ¹³ï³Ï³Ý ³Ïï»ñÁ | AG5: ²í³ñïí³Í ¹³ï³Ï³Ý ·áñÍ»ñÇ µáÕáù³ñÏÙ³Ý ïáÏáëÁ (Ñ³ßí»ïáõ Å³Ù³Ý³Ï³Ñ³ïí³ÍáõÙ) | AH5: ²Ý³í³ñï µáÕáùÝ»ñ | AI5: ´»Ï³Ýí³Í ¹³ï³Ï³Ý ³Ïï»ñÁ
C6: ÀÝ¹³Ù»ÝÁ | D6: ²Û¹ ÃíáõÙ`Ï³ë»óí³Í íÇ×³ÏáõÙ ÷áË³Ýóí³Í | E6: ²Û¹ ÃíáõÙª ÁÝ¹áõÝí»É ¿ í³ñáõÛÃ | F6: ²Û¹ ÃíáõÙª í»ñ³¹³ñÓí»É ¿ | G6: ²Û¹ ÃíáõÙª ÁÝ¹áõÝáõÙÁ Ù»ñÅí»É ¿ | H6: ÀÝ¹³Ù»ÝÁ | I6: ²Û¹ ÃíáõÙª ÁÝ¹áõÝí»É ¿ í³ñáõÛÃ | J6: ²Û¹ ÃíáõÙª í»ñ³¹³ñÓí»É ¿ | K6: ²Û¹ ÃíáõÙª ÁÝ¹áõÝáõÙÁ Ù»ñÅí»É ¿ | L6: Այդ թվում անորոշ | N6: ÀÝ¹³Ù»ÝÁ ³í³ñïí»É »Ý ·áñÍ»ñ ·áñÍÝ Áëï ¿áõÃÛ³Ý ÉáõÍáÕ ¹³ï³Ï³Ý ³Ïï»ñÇ (í×ÇéÝ»ñÇ) Ï³Û³óÙ³Ùµ | O6: ²Û¹ ÃíáõÙª Ñ³ÛóÇ µ³í³ñ³ñÙ³Ùµ | P6: ²Û¹ ÃíáõÙª Ñ³ÛóÇ Ù³ëÝ³ÏÇ µ³í³ñ³ñÙ³Ùµ | Q6: ²Û¹ ÃíáõÙª Ñ³ÛóÇ Ù»ñÅÙ³Ùµ | R6: ²Û¹ ÃíáõÙ` Ù³ëÝ³ÏÇ Ù»ñÅí»É ¿, Ù³ëÝ³ÏÇ Ï³ñ×í»É | S6: ²Û¹ ÃíáõÙª Ï³ñ×í»É »Ý | W6: ÀÝ¹³Ù»ÝÝ ³í³ñïí»É »Ý ·áñÍ»ñ | AB6: ²Û¹ ÃíáõÙ` ·áñÍÝ Áëï ¿áõÃÛ³Ý ÉáõÍáÕ ¹³ï³Ï³Ý ³Ïï»ñÁ | AC6: ²Û¹ ÃíáõÙ` ÙÇç³ÝÏÛ³É ¹³ï³Ï³Ý ³Ïï»ñÁ | AD6: ÀÝ¹³Ù»ÝÁ | AE6: Ü³Ëáñ¹ ï³ñÇÝ»ñÇÝ Ï³Û³óí³Í ³Ïï»ñÇ µáÕáù³ñÏáõÙÁ Ñ³ßí»ïáõ Å³Ù³Ý³Ï³ßñç³ÝáõÙ | AF6: Ð³ßí»ïáõ Å³Ù³Ý³Ï³ßñç³ÝáõÙ Ï³Û³óí³Í ³Ïï»ñÇ µáÕáù³ñÏáõÙÁ | AI6: ²Û¹ ÃíáõÙ` ·áñÍÝ Áëï ¿áõÃÛ³Ý ÉáõÍáÕ ¹³ï³Ï³Ý ³Ïï»ñÁ | AJ6: ²Û¹ ÃíáõÙ` ÙÇç³ÝÏÛ³É ¹³ï³Ï³Ý ³Ïï»ñÁ | AK6: ÀÝ¹³Ù»ÝÁ | AL6: Ü³Ëáñ¹ ï³ñÇÝ»ñÇÝ Ï³Û³óí³Í ³Ïï»ñÇ µ»Ï³ÝáõÙÝ»ñÁ Ñ³ßí»ïáõ Å³Ù³Ý³Ï³ßñç³ÝáõÙ | AM6: Ð³ßí»ïáõ Å³Ù³Ý³Ï³ßñç³ÝáõÙ Ï³Û³óí³Í ³Ïï»ñÇ µ»Ï³ÝáõÙÁ
S7: ÀÝ¹³Ù»ÝÁ Ï³ñ×í»É »Ý | T7: ²Û¹ ÃíáõÙª Ñ³ëï³ïí»É ¿ ÏÝùí³Í Ñ³ßïáõÃÛ³Ý Ñ³Ù³Ó³ÛÝáõÃÛáõÝÁ | U7: ²Û¹ ÃíáõÙª Ñ³ÛóÇó, ¹ÇÙáõÙÇó Ññ³Å³ñí»Éáõ ÑÇÙùáí | V7: ²Û¹ ÃíáõÙª ³ÛÉ ÑÇÙùáí
B8: ì³ñã³Ï³Ý ·áñÍ»ñÇ ¹³ë³Ï³ñ·áõÙÁ | C8: 1 | D8: 2 | E8: 3 | F8: 4 | G8: 5 | H8: 6 | I8: 7 | J8: 8 | K8: 9 | L8: 10 | M8: 11 | N8: 12 | O8: 13 | P8: 14 | Q8: 15 | R8: 16 | S8: 17 | T8: 18 | U8: 19 | V8: 20 | W8: 21 | X8: 22 | Y8: 23 | Z8: 24 | AA8: 25 | AB8: 26 | AC8: 27 | AD8: 28 | AE8: 29 | AF8: 30 | AG8: 31 | AH8: 32 | AI8: 33 | AJ8: 34 | AK8: 35 | AL8: 36 | AM8: 37
A9: 1 | B9: ä»ï³Ï³Ý Ù³ñÙÇÝÝ»ñÇ, ï»Õ³Ï³Ý ÇÝùÝ³Ï³é³í³ñÙ³Ý Ù³ñÙÇÝÝ»ñÇ áõ ¹ñ³Ýó å³ßïáÝ³ï³ñ ³ÝÓ³Ýó ³Ïï»ñÝ ³Ýí³í»ñ ×³Ý³ã»Éáõ Ñ»ï Ï³åí³Í Çñ³í³ñ³Ñ³µ»ñáõÃÛáõÝÝ»ñÇ í»ñ³µ»ñÛ³É ¹³ï³Ï³Ý ·áñÍ»ñ | C9: =+C10+C11 -> 456 | D9: =+D10+D11 -> 25 | E9: =+E10+E11 -> 422 | F9: =+F10+F11 -> 3 | G9: =+G10+G11 -> 6 | H9: =+H10+H11 -> 1098 | I9: =+I10+I11 -> 969 | J9: =+J10+J11 -> 97 | ... AM9: =+AM10+AM11 -> 1
A10: 1.1 | B10: ä»ï³Ï³Ý Ù³ñÙÇÝÝ»ñÇ áõ ¹ñ³Ýó å³ßïáÝ³ï³ñ ³ÝÓ³Ýó ³Ïï»ñÝ ³Ýí³í»ñ ×³Ý³ã»Éáõ Ñ»ï Ï³åí³Í Çñ³í³Ñ³ñ³µ»ñáõÃÛáõÝÝ»ñÇ í»ñ³µ»ñÛ³É ¹³ï³Ï³Ý ·áñÍ»ñ | C10: 379 | D10: 22 | E10: 351 | F10: 1 | G10: 5 | H10: 933 | I10: 815 | J10: 92 | K10: 26 | N10: 723 | O10: 627 | P10: 13 | Q10: 83 | S10: 10 | U10: 2 | V10: 8 | W10: 733 | X10: 3 | Y10: 2 | Z10: 452 | AA10: 20 | AB10: 162 | AC10: 22 | AD10: 184 | AE10: 48 | AF10: 136 | AI10: 22 | AK10: 22 | AL10: 21 | AM10: 1
A11: 1.2 | B11: î»Õ³Ï³Ý ÇÝùÝ³Ï³é³í³ñÙ³Ý Ù³ñÙÇÝÝ»ñÇ áõ ¹ñ³Ýó å³ßïáÝ³ï³ñ ³ÝÓ³Ýó ³Ïï»ñÝ ³Ýí³í»ñ ×³Ý³ã»Éáõ Ñ»ï Ï³åí³Í Çñ³í³Ñ³ñ³µ»ñáõÃÛáõÝÝ»ñÇ í»ñ³µ»ñÛ³É ¹³ï³Ï³Ý ·áñÍ»ñ | C11: 77 | D11: 3 | E11: 71 | F11: 2 | G11: 1 | H11: 165 | I11: 154 | J11: 5 | K11: 6 | N11: 70 | O11: 57 | P11: 1 | Q11: 12 | S11: 7 | U11: 4 | V11: 3 | W11: 77 | X11: 1 | Y11: 1 | Z11: 150 | AA11: 3 | AB11: 57 | AC11: 8 | AD11: 65 | AE11: 16 | AF11: 49 | AI11: 4 | AK11: 4 | AL11: 4
A12: 2 | B12: ä»ï³Ï³Ý Ù³ñÙÇÝÝ»ñÇ, ï»Õ³Ï³Ý ÇÝùÝ³Ï³é³í³ñÙ³Ý Ù³ñÙÇÝÝ»ñÇ ¨ ¹ñ³Ýó å³ßïáÝ³ï³ñ ³ÝÓ³Ýó ·áñÍáÕáõÃÛáõÝÝ»ñÁ /³Ý·áñÍáõÃÛáõÝÁ/ íÇ×³ñÏ»Éáõ Ñ»ï Ï³åí³Í Çñ³í³Ñ³ñ³µ»ñáõÃÛáõÝÝ»ñÇ í»ñ³µ»ñÛ³É ¹³ï³Ï³Ý ·áñÍ»ñ | C12: =C13+C14 -> 151 | D12: =D13+D14 -> 7 | E12: =E13+E14 -> 142 | F12: =F13+F14 -> 1 | G12: =G13+G14 -> 1 | H12: =H13+H14 -> 163 | I12: =I13+I14 -> 146 | J12: =J13+J14 -> 15 | ... AM12: =AM13+AM14 -> 1
A13: 2.1 | B13: ä»ï³Ï³Ý Ù³ñÙÇÝÝ»ñÇ ¨ ¹ñ³Ýó å³ßïáÝ³ï³ñ ³ÝÓ³Ýó ·áñÍáÕáõÃÛáõÝÝ»ñÁ /³Ý·áñÍáõÃÛáõÝÁ/ íÇ×³ñÏ»Éáõ Ñ»ï Ï³åí³Í Çñ³í³Ñ³ñ³µ»ñáõÃÛáõÝÝ»ñÇ í»ñ³µ»ñÛ³É ¹³ï³Ï³Ý ·áñÍ»ñ | C13: 83 | D13: 5 | E13: 76 | F13: 1 | G13: 1 | H13: 123 | I13: 111 | J13: 10 | K13: 2 | N13: 55 | O13: 17 | P13: 6 | Q13: 32 | S13: 10 | U13: 7 | V13: 3 | W13: 65 | X13: 3 | Y13: 2 | Z13: 124 | AA13: 6 | AB13: 25 | AC13: 1 | AD13: 26 | AE13: 1 | AF13: 25 | AI13: 2 | AJ13: 1 | AK13: 3 | AL13: 2 | AM13: 1
A14: 2.2 | B14: î»Õ³Ï³Ý ÇÝùÝ³Ï³é³í³ñÙ³Ý Ù³ñÙÇÝÝ»ñÇ áõ ¹ñ³Ýó å³ßïáÝ³ï³ñ ³ÝÓ³Ýó ·áñÍáÕáõÃÛáõÝÝ»ñÁ /³Ý·áñÍáõÃÛáõÝÁ/ íÇ×³ñÏ»Éáõ Ñ»ï Ï³åí³Í Çñ³í³Ñ³ñ³µ»ñáõÃÛáõÝÝ»ñÇ í»ñ³µ»ñÛ³É ¹³ï³Ï³Ý ·áñÍ»ñ | C14: 68 | D14: 2 | E14: 66 | H14: 40 | I14: 35 | J14: 5 | N14: 30 | O14: 9 | P14: 1 | Q14: 20 | S14: 4 | U14: 3 | V14: 1 | W14: 34 | Y14: 1 | Z14: 69 | AA14: 3 | AB14: 22 | AC14: 2 | AD14: 24 | AE14: 1 | AF14: 23 | AI14: 5 | AJ14: 1 | AK14: 6 | AL14: 6
A15: 5 | B15: Üáï³ñ³Ï³Ý ·áñÍáÕáõÃÛáõÝÝ»ñÁ Ï³Ù Ýáï³ñÇ ³Ý·áñÍáõÃÛáõÝÁ íÇ×³ñÏ»Éáõ Ñ»ï Ï³åí³Í Çñ³í³Ñ³ñ³µ»ñáõÃÛáõÝÝ»ñÇ í»ñ³µ»ñÛ³É ¹³ï³Ï³Ý ·áñÍ»ñ | C15: 5 | E15: 5 | H15: 1 | I15: 1 | N15: 2 | Q15: 2 | W15: 2 | Z15: 4 | AB15: 1 | AD15: 1 | AE15: 1
A16: 6 | B16: ÜáñÙ³ïÇí Çñ³í³Ï³Ý ³Ïï»ñÇ Çñ³í³ã³÷áõÃÛáõÝÁ íÇ×³ñÏ»Éáõ Ñ»ï Ï³åí³Í Çñ³í³Ñ³ñ³µ»ñáõÃÛáõÝÝ»ñÇ í»ñ³µ»ñÛ³É ¹³ï³Ï³Ý ·áñÍ»ñ | C16: =C17+C18+C19+C20+C21+C22+C23 -> 0 | D16: =D17+D18+D19+D20+D21+D22+D23 -> 0 | E16: =E17+E18+E19+E20+E21+E22+E23 -> 0 | F16: =F17+F18+F19+F20+F21+F22+F23 -> 0 | G16: =G17+G18+G19+G20+G21+G22+G23 -> 0 | H16: =H17+H18+H19+H20+H21+H22+H23 -> 8 | I16: =I17+I18+I19+I20+I21+I22+I23 -> 5 | J16: =J17+J18+J19+J20+J21+J22+J23 -> 1 | ... AM16: =AM17+AM18+AM19+AM20+AM21+AM22+AM23 -> 0
A17: 6.1 | B17: ¶»ñ³ï»ëã³Ï³Ý ÝáñÙ³ïÇí Çñ³í³Ï³Ý ³Ïï»ñÇª ÐÐ ê³ÑÙ³Ý³¹ñáõÃÛ³ÝÁ Ñ³Ù³å³ï³ëË³ÝáõÃÛáõÝÁ íÇ×³ñÏ»Éáõ í»ñ³µ»ñÛ³É | E17: 0 | I17: 0 | W17: 0 | Z17: 0
A18: 6.2 | B18: Ü³Ë³·³ÑÇ ÝáñÙ³ïÇí µÝáõÛÃ áõÝ»óáÕ ³Ïï»ñÇ` ³í»ÉÇ µ³ñÓñ Çñ³í³µ³Ý³Ï³Ý áõÅ áõÝ»óáÕ ÝáñÙ³ïÇí ³Ïï»ñÇÝ Ñ³Ù³å³ï³ëË³ÝáõÃÛáõÝÁ íÇ×³ñÏ»Éáõ í»ñ³µ»ñÛ³É | E18: 0 | I18: 0 | W18: 0 | Z18: 0
A19: 6.3 | B19: Î³é³í³ñáõÃÛ³Ý ÝáñÙ³ïÇí áñáßáõÙÝ»ñÇ`³í»ÉÇ µ³ñÓñ Çñ³í³µ³Ý³Ï³Ý áõÅ áõÝ»óáÕ ÝáñÙ³ïÇí ³Ïï»ñÇÝ Ñ³Ù³å³ï³ëË³ÝáõÃÛáõÝÁ íÇ×³ñÏ»Éáõ í»ñ³µ»ñÛ³É | E19: 0 | H19: 4 | I19: 1 | J19: 1 | K19: 2 | W19: 0 | Z19: 1 | AC19: 1 | AD19: 1 | AF19: 1
A20: 6.4 | B20: ì³ñã³å»ïÇ ÝáñÙ³ïÇí áñáßáõÙÝ»ñÇ` ³í»ÉÇ µ³ñÓñ Çñ³í³µ³Ý³Ï³Ý áõÅ áõÝ»óáÕ ÝáñÙ³ïÇí ³Ïï»ñÇÝ Ñ³Ù³å³ï³ëË³ÝáõÃÛáõÝÁ íÇ×³ñÏ»Éáõ í»ñ³µ»ñÛ³É | E20: 0 | I20: 0 | W20: 0 | Z20: 0
A21: 6.5 | B21: ¶»ñ³ï»ëã³Ï³Ý ÝáñÙ³ïÇí Çñ³í³Ï³Ý ³Ïï»ñÇ` ³í»ÉÇ µ³ñÓñ Çñ³í³µ³Ý³Ï³Ý áõÅ áõÝ»óáÕ ÝáñÙ³ïÇí ³Ïï»ñÇÝ Ñ³Ù³å³ï³ëË³ÝáõÃÛáõÝÁ íÇ×³ñÏ»Éáõ í»ñ³µ»ñÛ³É | E21: 0 | H21: 1 | I21: 1 | S21: 1 | U21: 1 | W21: 1 | Z21: 0
A22: 6.6 | B22: Ð³Ù³ÛÝùÇ ³í³·³Ýáõ áñáßáõÙÝ»ñÇ` ³í»ÉÇ µ³ñÓñ Çñ³í³µ³Ý³Ï³Ý áõÅ áõÝ»óáÕ ÝáñÙ³ïÇí ³Ïï»ñÇÝ Ñ³Ù³å³ï³ëË³ÝáõÃÛáõÝÁ íÇ×³ñÏ»Éáõ í»ñ³µ»ñÛ³É | E22: 0 | H22: 3 | I22: 3 | W22: 0 | Z22: 3
A23: 6.7 | B23: Ð³Ù³ÛÝùÇ Õ»Ï³í³ñÇ áñáßáõÙÝ»ñÇ` ³í»ÉÇ µ³ñÓñ Çñ³í³µ³Ý³Ï³Ý áõÅ áõÝ»óáÕ ÝáñÙ³ïÇí ³Ïï»ñÇÝ Ñ³Ù³å³ï³ëË³ÝáõÃÛáõÝÁ íÇ×³ñÏ»Éáõ í»ñ³µ»ñÛ³É | E23: 0 | I23: 0 | W23: 0 | Z23: 0
A24: 7 | B24: ÀÝïñ³Ï³Ý Çñ³íáõÝùÇ å³ßïå³ÝáõÃÛ³Ý Ñ»ï Ï³åí³Í Çñ³í³Ñ³ñ³µ»ñáõÃÛáõÝÝ»ñÇ í»ñ³µ»ñÛ³É ¹³ï³Ï³Ý ·áñÍ»ñ | C24: =+C25+C26+C27+C28+C29 -> 0 | D24: =+D25+D26+D27+D28+D29 -> 0 | E24: =+E25+E26+E27+E28+E29 -> 0 | F24: =+F25+F26+F27+F28+F29 -> 0 | G24: =+G25+G26+G27+G28+G29 -> 0 | H24: =+H25+H26+H27+H28+H29 -> 0 | I24: =+I25+I26+I27+I28+I29 -> 0 | J24: =+J25+J26+J27+J28+J29 -> 0 | ... AM24: =+AM25+AM26+AM27+AM28+AM29 -> 0
A25: 7.1 | B25: Ü³Ë³·³ÑÇ ÁÝïñáõÃÛáõÝÝ»ñÇ Ñ»ï Ï³åí³Í | E25: 0 | I25: 0 | W25: 0 | Z25: 0
A26: 7.2 | B26: ²½·³ÛÇÝ ÅáÕáíÇ ÁÝïñáõÃÛáõÝÝ»ñÇ Ñ»ï Ï³åí³Í | E26: 0 | I26: 0 | W26: 0 | Z26: 0
A27: 7.3 | B27: î»Õ³Ï³Ý ÇÝùÝ³Ï³é³í³ñÙ³Ý Ù³ñÙÇÝÝ»ñÇ ÁÝïñáõÃÛáõÝÝ»ñÇ Ñ»ï Ï³åí³Í | E27: 0 | I27: 0 | W27: 0 | Z27: 0
A28: 7.4 | B28: Ð³Ýñ³ùí»Ç Ï³½Ù³Ï»ñåÙ³Ý ¨ ³ÝóÏ³óÙ³Ý Ñ»ï Ï³åí³Í | E28: 0 | I28: 0 | W28: 0 | Z28: 0
A29: 7.5 | B29: ²ÛÉ í»×»ñ | E29: 0 | I29: 0 | W29: 0 | Z29: 0
A30: 9 | B30: Ð³í³ùÇ ³ÝóÏ³óÙ³Ý Ù³ëÇÝ Ñ³Ù³ÛÝùÇ Õ»Ï³í³ñÇ áñáßáõÙÝ»ñÇ ¨ ·áñÍáÕáõÃÛáõÝÝ»ñÇ Çñ³í³ã³÷áõÃÛáõÝÁ íÇ×³ñÏ»Éáõ Ñ»ï Ï³åí³Í Çñ³í³Ñ³ñ³µ»ñáõÃÛáõÝÝ»ñÇ í»ñ³µ»ñÛ³É ¹³ï³Ï³Ý ·áñÍ»ñ | E30: 0 | I30: 0 | W30: 0 | Z30: 0
A31: 10 | B31: ä»ï³Ï³Ý, Ñ³Ù³ÛÝù³ÛÇÝ Ï³Ù ³ÛÉÁÝïñ³Ýù³ÛÇÝ Í³é³ÛáõÃÛ³Ý ³ÝóÝ»Éáõ Ï³Ù Çñ³Ï³Ý³óÝ»Éáõ Ñ»ï Ï³åí³Í Çñ³í³Ñ³ñ³µ»ñáõÃÛáõÝÝ»ñÇ í»ñ³µ»ñÛ³É ¹³ï³Ï³Ý ·áñÍ»ñ | C31: 3 | E31: 3 | I31: 0 | N31: 2 | P31: 1 | Q31: 1 | W31: 2 | Z31: 1 | AB31: 2 | AD31: 2 | AF31: 2
A32: 11 | B32: ì³ñã³Ï³Ý Ù³ñÙÇÝÝ»ñÇ ÙÇç¨ Çñ³í³ëáõÃÛ³Ý Ñ³ñó»ñÇ í»ñ³µ»ñÛ³É í»×»ñÇ Ñ»ï Ï³åí³Í Çñ³í³Ñ³ñ³µ»ñáõÃÛáõÝÝ»ñÇ í»ñ³µ»ñÛ³É ¹³ï³Ï³Ý ·áñÍ»ñ | E32: 0 | I32: 0 | W32: 0 | Z32: 0
A33: 12 | B33: Ð³ë³ñ³Ï³Ï³Ý Ï³½Ù³Ï»ñåáõÃÛáõÝÝ»ñÇ ¨ ³ÛÉ ÙÇ³íáñáõÙÝ»ñÇ ·áñÍáõÝ»áõÃÛ³Ý Ï³ë»óÙ³Ý Ï³Ù ¹³¹³ñ»óÙ³Ý Ñ»ï Ï³åí³Í Çñ³í³Ñ³ñ³µ»ñáõÃÛáõÝÝ»ñÇ í»ñ³µ»ñÛ³É ¹³ï³Ï³Ý ·áñÍ»ñ | E33: 0 | I33: 0 | W33: 0 | Z33: 0
A34: 13 | B34: ì³ñã³ñ³ñáõÃÛ³Ùµ å³ï×³éí³Í íÝ³ëÇ å³ï³ëË³Ý³ïíáõÃÛ³Ý Ñ»ï Ï³åí³Í Çñ³í³Ñ³ñ³µ»ñáõÃÛáõÝÝ»ñÇ í»ñ³µ»ñÛ³É ¹³ï³Ï³Ý ·áñÍ»ñ | E34: 0 | I34: 0 | W34: 0 | Z34: 0
A35: 14 | B35: ²ÝÑ»ï³Ó·»ÉÇ ÙÇջամտության áñáßÙ³Ý, µáÕáù³ñÏ³ÙաÝ í»ñ³µ»ñÛ³É ¹³ï³Ï³Ý ·áñÍ»ñ | E35: 0 | I35: 0 | W35: 0 | Z35: 0
A36: 16 | B36: Դատավորի հավակնորդի հայտի ընդունումը մերժելու áñáßÙ³Ý µáÕáù³ñÏ³ÙաÝ í»ñ³µ»ñÛ³É ¹³ï³Ï³Ý ·áñÍ»ñ | E36: 0 | I36: 0 | W36: 0 | Z36: 0
A37: 9.5 | B37: Ընտրական հանձնաժողովի գործավար մատյանը չլրացնելը կամ ոչ պատշաճ լրացնելը | E37: 0 | I37: 0 | W37: 0 | Z37: 0
A38: 9.14 | B38: Ժողովներ, հանրահավաքներ, երթեր և ցույցեր անցկացնելու կարգը խախտելը | E38: 0 | I38: 0 | W38: 0 | Z38: 0
A39: 9.15 | B39: Զինծառայողների կամ ոստիկ. ծառայողի օրին. պահանջը չկատարելը | C39: 20 | D39: 5 | E39: 15 | H39: 14 | I39: 12 | K39: 2 | N39: 21 | O39: 3 | Q39: 18 | W39: 21 | Z39: 11 | AA39: 5 | AB39: 6 | AC39: 2 | AD39: 8 | AF39: 8
A40: 9.18 | B40: Հայաստանի Հանրապետության ուսումնական հաստատություններում առարկաների հայերեն դասավանդումը կամ միջնակարգ-մասնագիտական, մասնագիտական տեխնիկական և բարձրագույն ուսումնական հաստատություններում հայոց լեզվի ուսուցումը կամ հայոց լեզվի ընդունելության քննությունը չապահովելը | E40: 0 | I40: 0 | W40: 0 | Z40: 0
A41: 9.19 | B41: ՀՀ պետ. մարմ., ձեռնարկ-ի, հիմն-ի և կազմ-ի (անկախ սեփ. ձևից) գործավ-ը ոչ հայերեն վարելը, ցուցանակները, ձևաթղթերը, դրոշմանիշները, նամականիշները, կնիքները, միջ. փոստ. ծրարները և գովազդները ոչ հայերեն ձևավորելը | E41: 0 | H41: 2 | I41: 0 | J41: 2 | W41: 0 | Z41: 0
A42: 9.23 | B42: Տեղեկություն տալու պարտականությունը չկատարելը | C42: 1 | E42: 1 | H42: 1 | I42: 1 | N42: 1 | O42: 1 | W42: 1 | Z42: 1
A43: 9.26 | B43: Տեղեկություն (տվյալ) չտրամադրելը կամ կեղծ տեղեկություն (տվյալ) ներկայացնելը | E43: 0 | I43: 0 | W43: 0 | Z43: 0
A44: 9.31 | B44: Հարկադիր կատարողի որոշումը դիտավորյալ չկատարելը կամ կատարմանը խոչընդոտելը | E44: 0 | I44: 0 | W44: 0 | Z44: 0
A45: 9.33 | B45: Այլ իրավախախտումներ | C45: 1 | E45: 1 | H45: 6 | I45: 5 | J45: 1 | N45: 2 | Q45: 2 | W45: 2 | Z45: 4
A46: 9.7 | B46: Գույքի մանր հափշտակում | E46: 0 | I46: 0 | W46: 0 | Z46: 0
A47: 8 | B47: ²ÛÉ í»×»ñ | C47: 5 | E47: 5 | H47: 13 | I47: 10 | J47: 2 | K47: 1 | N47: 4 | O47: 3 | Q47: 1 | S47: 2 | U47: 1 | V47: 1 | W47: 6 | Y47: 1 | Z47: 9 | AA47: 1 | AB47: 1 | AD47: 1 | AE47: 1 | AJ47: 1 | AK47: 1 | AM47: 1
B48: ÀÝ¹³Ù»ÝÁ | C48: =+C9+C12+C15+C16+C24+C30+C31+C32+C33+C34+C35+C36+C37+C38+C39+C40+C41+C42+C43+C44+C45+C46+C47 -> 642 | D48: =+D9+D12+D15+D16+D24+D30+D31+D32+D33+D34+D35+D36+D37+D38+D39+D40+D41+D42+D43+D44+D45+D46+D47 -> 37 | E48: =+E9+E12+E15+E16+E24+E30+E31+E32+E33+E34+E35+E36+E37+E38+E39+E40+E41+E42+E43+E44+E45+E46+E47 -> 594 | F48: =+F9+F12+F15+F16+F24+F30+F31+F32+F33+F34+F35+F36+F37+F38+F39+F40+F41+F42+F43+F44+F45+F46+F47 -> 4 | G48: =+G9+G12+G15+G16+G24+G30+G31+G32+G33+G34+G35+G36+G37+G38+G39+G40+G41+G42+G43+G44+G45+G46+G47 -> 7 | H48: =+H9+H12+H15+H16+H24+H30+H31+H32+H33+H34+H35+H36+H37+H38+H39+H40+H41+H42+H43+H44+H45+H46+H47 -> 1306 | I48: =+I9+I12+I15+I16+I24+I30+I31+I32+I33+I34+I35+I36+I37+I38+I39+I40+I41+I42+I43+I44+I45+I46+I47 -> 1149 | J48: =+J9+J12+J15+J16+J24+J30+J31+J32+J33+J34+J35+J36+J37+J38+J39+J40+J41+J42+J43+J44+J45+J46+J47 -> 118 | ... AM48: =+AM9+AM12+AM15+AM16+AM24+AM30+AM31+AM32+AM33+AM34+AM35+AM36+AM37+AM38+AM39+AM40+AM41+AM42+AM43+AM44+AM45+AM46+AM47 -> 3
C49: 1 | D49: 2 | E49: 3 | F49: 4 | G49: 5 | H49: 6 | I49: 7 | J49: 8 | K49: 9 | L49: 10 | M49: 11 | N49: 12 | O49: 13 | P49: 14 | Q49: 15 | R49: 16 | S49: 17 | T49: 18 | U49: 19 | V49: 20 | W49: 21 | X49: 22 | Y49: 23 | Z49: 24 | AA49: 25 | AB49: 26 | AC49: 27 | AD49: 28 | AE49: 29 | AF49: 30 | AG49: 31 | AH49: 32 | AI49: 33 | AJ49: 34 | AK49: 35 | AL49: 36 | AM49: 37

Sheet Ե․Առաքելյան
AI1: Հավելված 2 Բարձրագույն դատական խորհրդի 2022թվականի դեկտեմբերի 26-ի թիվ ԲԴԽ-122-Ո-408 որոշման
A2: 2025թ. | C2: Ð²ÞìºîìàôÂÚàôÜ
A3: ÐÐ ì²ðâ²Î²Ü ¸²î²ð²ÜÆ ¸²î²ìàð ԵԼԵՆԱ ԱՌԱՔԵԼՅԱՆԻ ¶àðÌàôÜºàôÂÚ²Ü ìºð²´ºðÚ²È
A4: ÐÐ í³ñã³Ï³Ý ¹³ï³ñ³ÝÇ ¹³ï³íáñÝ»ñÇ Ñ³ëïÇùÝ»ñÇ ÃÇíÁ` 24
A5: êïáõ·Çã Ñ³í³ë³ñáõÙÝ»ñª 1=2+3+4+5, 6=7+8+9+10, 2+3+7=11+21+22+24, 12=13+14+15+16, 17=18+19+20, 21=12+17, 28=26+27, 28=29+30, 35=33+34, 35=36+37 | C5: Ð³ßí»ïáõ Å³Ù³Ý³Ï³Ñ³ïí³ÍáõÙ Ý³Ëáñ¹ Ñ³ßí»ïáõ Å³Ù³Ý³Ï³Ñ³ïí³ÍÇó ÷áË³Ýóí³Í ·áñÍ»ñÇ ÁÝ¹Ñ³Ýáõñ ÃÇíÁ | H5: Ð³ßí»ïáõ Å³Ù³Ý³Ï³Ñ³ïí³ÍáõÙ ëï³óí³Í ·áñÍ»ñÇ (³Û¹ ÃíáõÙ` Ñ³Ûó³¹ÇÙáõÙÝ»ñÇ, ¹ÇÙáõÙÝ»ñÇ) ÁÝ¹Ñ³Ýáõñ ÃÇíÁ | M5: öáË³Ýóí»É ¿ ³ÛÉ ¹³ï³íáñÇ (Ï³½ÙÇ ÷á÷áËáõÃÛáõÝ) | N5: Ð³ßí»ïáõ Å³Ù³Ý³Ï³Ñ³ïí³ÍáõÙ ³í³ñïí³Í ·áñÍ»ñÇ ÁÝ¹Ñ³Ýáõñ ÃÇíÁ | X5: ¶áñÍÝ áõÕ³ñÏí»É ¿ Áëï ÁÝ¹¹³ïáõÃÛ³Ý | Y5: Ð³ßí»ïáõ Å³Ù³Ý³Ï³Ñ³ïí³ÍáõÙ Ï³ë»óí³Í í³ñáõÛÃÝ»ñáí ·áñÍ»ñÇ ÁÝ¹Ñ³Ýáõñ ÃÇíÁ | Z5: Ð³ßí»ïáõ Å³Ù³Ý³Ï³Ñ³ïí³ÍáõÙ ³Ý³í³ñï ·áñÍ»ñÇ ÁÝ¹Ñ³Ýáõñ ÃÇíÁ | AA5: ²Û¹ ÃíáõÙ` Ï³ë»óí³Í | AB5: ´áÕáù³ñÏí³Í ¹³ï³Ï³Ý ³Ïï»ñÁ | AG5: ²í³ñïí³Í ¹³ï³Ï³Ý ·áñÍ»ñÇ µáÕáù³ñÏÙ³Ý ïáÏáëÁ (Ñ³ßí»ïáõ Å³Ù³Ý³Ï³Ñ³ïí³ÍáõÙ) | AH5: ²Ý³í³ñï µáÕáùÝ»ñ | AI5: ´»Ï³Ýí³Í ¹³ï³Ï³Ý ³Ïï»ñÁ
C6: ÀÝ¹³Ù»ÝÁ | D6: ²Û¹ ÃíáõÙ`Ï³ë»óí³Í íÇ×³ÏáõÙ ÷áË³Ýóí³Í | E6: ²Û¹ ÃíáõÙª ÁÝ¹áõÝí»É ¿ í³ñáõÛÃ | F6: ²Û¹ ÃíáõÙª í»ñ³¹³ñÓí»É ¿ | G6: ²Û¹ ÃíáõÙª ÁÝ¹áõÝáõÙÁ Ù»ñÅí»É ¿ | H6: ÀÝ¹³Ù»ÝÁ | I6: ²Û¹ ÃíáõÙª ÁÝ¹áõÝí»É ¿ í³ñáõÛÃ | J6: ²Û¹ ÃíáõÙª í»ñ³¹³ñÓí»É ¿ | K6: ²Û¹ ÃíáõÙª ÁÝ¹áõÝáõÙÁ Ù»ñÅí»É ¿ | L6: Այդ թվում անորոշ | N6: ÀÝ¹³Ù»ÝÁ ³í³ñïí»É »Ý ·áñÍ»ñ ·áñÍÝ Áëï ¿áõÃÛ³Ý ÉáõÍáÕ ¹³ï³Ï³Ý ³Ïï»ñÇ (í×ÇéÝ»ñÇ) Ï³Û³óÙ³Ùµ | O6: ²Û¹ ÃíáõÙª Ñ³ÛóÇ µ³í³ñ³ñÙ³Ùµ | P6: ²Û¹ ÃíáõÙª Ñ³ÛóÇ Ù³ëÝ³ÏÇ µ³í³ñ³ñÙ³Ùµ | Q6: ²Û¹ ÃíáõÙª Ñ³ÛóÇ Ù»ñÅÙ³Ùµ | R6: ²Û¹ ÃíáõÙ` Ù³ëÝ³ÏÇ Ù»ñÅí»É ¿, Ù³ëÝ³ÏÇ Ï³ñ×í»É | S6: ²Û¹ ÃíáõÙª Ï³ñ×í»É »Ý | W6: ÀÝ¹³Ù»ÝÝ ³í³ñïí»É »Ý ·áñÍ»ñ | AB6: ²Û¹ ÃíáõÙ` ·áñÍÝ Áëï ¿áõÃÛ³Ý ÉáõÍáÕ ¹³ï³Ï³Ý ³Ïï»ñÁ | AC6: ²Û¹ ÃíáõÙ` ÙÇç³ÝÏÛ³É ¹³ï³Ï³Ý ³Ïï»ñÁ | AD6: ÀÝ¹³Ù»ÝÁ | AE6: Ü³Ëáñ¹ ï³ñÇÝ»ñÇÝ Ï³Û³óí³Í ³Ïï»ñÇ µáÕáù³ñÏáõÙÁ Ñ³ßí»ïáõ Å³Ù³Ý³Ï³ßñç³ÝáõÙ | AF6: Ð³ßí»ïáõ Å³Ù³Ý³Ï³ßñç³ÝáõÙ Ï³Û³óí³Í ³Ïï»ñÇ µáÕáù³ñÏáõÙÁ | AI6: ²Û¹ ÃíáõÙ` ·áñÍÝ Áëï ¿áõÃÛ³Ý ÉáõÍáÕ ¹³ï³Ï³Ý ³Ïï»ñÁ | AJ6: ²Û¹ ÃíáõÙ` ÙÇç³ÝÏÛ³É ¹³ï³Ï³Ý ³Ïï»ñÁ | AK6: ÀÝ¹³Ù»ÝÁ | AL6: Ü³Ëáñ¹ ï³ñÇÝ»ñÇÝ Ï³Û³óí³Í ³Ïï»ñÇ µ»Ï³ÝáõÙÝ»ñÁ Ñ³ßí»ïáõ Å³Ù³Ý³Ï³ßñç³ÝáõÙ | AM6: Ð³ßí»ïáõ Å³Ù³Ý³Ï³ßñç³ÝáõÙ Ï³Û³óí³Í ³Ïï»ñÇ µ»Ï³ÝáõÙÁ
S7: ÀÝ¹³Ù»ÝÁ Ï³ñ×í»É »Ý | T7: ²Û¹ ÃíáõÙª Ñ³ëï³ïí»É ¿ ÏÝùí³Í Ñ³ßïáõÃÛ³Ý Ñ³Ù³Ó³ÛÝáõÃÛáõÝÁ | U7: ²Û¹ ÃíáõÙª Ñ³ÛóÇó, ¹ÇÙáõÙÇó Ññ³Å³ñí»Éáõ ÑÇÙùáí | V7: ²Û¹ ÃíáõÙª ³ÛÉ ÑÇÙùáí
B8: ì³ñã³Ï³Ý ·áñÍ»ñÇ ¹³ë³Ï³ñ·áõÙÁ | C8: 1 | D8: 2 | E8: 3 | F8: 4 | G8: 5 | H8: 6 | I8: 7 | J8: 8 | K8: 9 | L8: 10 | M8: 11 | N8: 12 | O8: 13 | P8: 14 | Q8: 15 | R8: 16 | S8: 17 | T8: 18 | U8: 19 | V8: 20 | W8: 21 | X8: 22 | Y8: 23 | Z8: 24 | AA8: 25 | AB8: 26 | AC8: 27 | AD8: 28 | AE8: 29 | AF8: 30 | AG8: 31 | AH8: 32 | AI8: 33 | AJ8: 34 | AK8: 35 | AL8: 36 | AM8: 37
A9: 1 | B9: ä»ï³Ï³Ý Ù³ñÙÇÝÝ»ñÇ, ï»Õ³Ï³Ý ÇÝùÝ³Ï³é³í³ñÙ³Ý Ù³ñÙÇÝÝ»ñÇ áõ ¹ñ³Ýó å³ßïáÝ³ï³ñ ³ÝÓ³Ýó ³Ïï»ñÝ ³Ýí³í»ñ ×³Ý³ã»Éáõ Ñ»ï Ï³åí³Í Çñ³í³ñ³Ñ³µ»ñáõÃÛáõÝÝ»ñÇ í»ñ³µ»ñÛ³É ¹³ï³Ï³Ý ·áñÍ»ñ | C9: =+C10+C11 -> 479 | D9: =+D10+D11 -> 11 | E9: =+E10+E11 -> 459 | F9: =+F10+F11 -> 2 | G9: =+G10+G11 -> 7 | H9: =+H10+H11 -> 1227 | I9: =+I10+I11 -> 1066 | J9: =+J10+J11 -> 118 | ... AM9: =+AM10+AM11 -> 8
A10: 1.1 | B10: ä»ï³Ï³Ý Ù³ñÙÇÝÝ»ñÇ áõ ¹ñ³Ýó å³ßïáÝ³ï³ñ ³ÝÓ³Ýó ³Ïï»ñÝ ³Ýí³í»ñ ×³Ý³ã»Éáõ Ñ»ï Ï³åí³Í Çñ³í³Ñ³ñ³µ»ñáõÃÛáõÝÝ»ñÇ í»ñ³µ»ñÛ³É ¹³ï³Ï³Ý ·áñÍ»ñ | C10: 409 | D10: 9 | E10: 397 | F10: 1 | G10: 2 | H10: 1069 | I10: 937 | J10: 92 | K10: 40 | N10: 672 | O10: 536 | P10: 2 | Q10: 134 | S10: 11 | U10: 2 | V10: 9 | W10: 683 | X10: 4 | Y10: 4 | Z10: 656 | AA10: 12 | AB10: 148 | AC10: 51 | AD10: 199 | AE10: 19 | AF10: 180 | AI10: 22 | AJ10: 5 | AK10: 27 | AL10: 21 | AM10: 6
A11: 1.2 | B11: î»Õ³Ï³Ý ÇÝùÝ³Ï³é³í³ñÙ³Ý Ù³ñÙÇÝÝ»ñÇ áõ ¹ñ³Ýó å³ßïáÝ³ï³ñ ³ÝÓ³Ýó ³Ïï»ñÝ ³Ýí³í»ñ ×³Ý³ã»Éáõ Ñ»ï Ï³åí³Í Çñ³í³Ñ³ñ³µ»ñáõÃÛáõÝÝ»ñÇ í»ñ³µ»ñÛ³É ¹³ï³Ï³Ý ·áñÍ»ñ | C11: 70 | D11: 2 | E11: 62 | F11: 1 | G11: 5 | H11: 158 | I11: 129 | J11: 26 | K11: 3 | N11: 78 | O11: 57 | P11: 2 | Q11: 19 | S11: 4 | U11: 2 | V11: 2 | W11: 82 | X11: 2 | Y11: 1 | Z11: 109 | AA11: 2 | AB11: 47 | AC11: 5 | AD11: 52 | AF11: 52 | AI11: 1 | AJ11: 4 | AK11: 5 | AL11: 3 | AM11: 2
A12: 2 | B12: ä»ï³Ï³Ý Ù³ñÙÇÝÝ»ñÇ, ï»Õ³Ï³Ý ÇÝùÝ³Ï³é³í³ñÙ³Ý Ù³ñÙÇÝÝ»ñÇ ¨ ¹ñ³Ýó å³ßïáÝ³ï³ñ ³ÝÓ³Ýó ·áñÍáÕáõÃÛáõÝÝ»ñÁ /³Ý·áñÍáõÃÛáõÝÁ/ íÇ×³ñÏ»Éáõ Ñ»ï Ï³åí³Í Çñ³í³Ñ³ñ³µ»ñáõÃÛáõÝÝ»ñÇ í»ñ³µ»ñÛ³É ¹³ï³Ï³Ý ·áñÍ»ñ | C12: =C13+C14 -> 134 | D12: =D13+D14 -> 7 | E12: =E13+E14 -> 125 | F12: =F13+F14 -> 0 | G12: =G13+G14 -> 2 | H12: =H13+H14 -> 152 | I12: =I13+I14 -> 92 | J12: =J13+J14 -> 47 | ... AM12: =AM13+AM14 -> 2
A13: 2.1 | B13: ä»ï³Ï³Ý Ù³ñÙÇÝÝ»ñÇ ¨ ¹ñ³Ýó å³ßïáÝ³ï³ñ ³ÝÓ³Ýó ·áñÍáÕáõÃÛáõÝÝ»ñÁ /³Ý·áñÍáõÃÛáõÝÁ/ íÇ×³ñÏ»Éáõ Ñ»ï Ï³åí³Í Çñ³í³Ñ³ñ³µ»ñáõÃÛáõÝÝ»ñÇ í»ñ³µ»ñÛ³É ¹³ï³Ï³Ý ·áñÍ»ñ | C13: 85 | D13: 7 | E13: 76 | G13: 2 | H13: 105 | I13: 65 | J13: 29 | K13: 11 | N13: 37 | O13: 11 | P13: 3 | Q13: 23 | S13: 6 | U13: 3 | V13: 3 | W13: 43 | X13: 8 | Z13: 97 | AA13: 4 | AB13: 25 | AC13: 11 | AD13: 36 | AE13: 5 | AF13: 31 | AI13: 3 | AJ13: 1 | AK13: 4 | AL13: 3 | AM13: 1
A14: 2.2 | B14: î»Õ³Ï³Ý ÇÝùÝ³Ï³é³í³ñÙ³Ý Ù³ñÙÇÝÝ»ñÇ áõ ¹ñ³Ýó å³ßïáÝ³ï³ñ ³ÝÓ³Ýó ·áñÍáÕáõÃÛáõÝÝ»ñÁ /³Ý·áñÍáõÃÛáõÝÁ/ íÇ×³ñÏ»Éáõ Ñ»ï Ï³åí³Í Çñ³í³Ñ³ñ³µ»ñáõÃÛáõÝÝ»ñÇ í»ñ³µ»ñÛ³É ¹³ï³Ï³Ý ·áñÍ»ñ | C14: 49 | E14: 49 | H14: 47 | I14: 27 | J14: 18 | K14: 2 | N14: 25 | O14: 8 | P14: 2 | Q14: 15 | S14: 3 | U14: 2 | V14: 1 | W14: 28 | X14: 1 | Z14: 47 | AB14: 21 | AC14: 5 | AD14: 26 | AE14: 1 | AF14: 25 | AI14: 5 | AJ14: 2 | AK14: 7 | AL14: 6 | AM14: 1
A15: 5 | B15: Üáï³ñ³Ï³Ý ·áñÍáÕáõÃÛáõÝÝ»ñÁ Ï³Ù Ýáï³ñÇ ³Ý·áñÍáõÃÛáõÝÁ íÇ×³ñÏ»Éáõ Ñ»ï Ï³åí³Í Çñ³í³Ñ³ñ³µ»ñáõÃÛáõÝÝ»ñÇ í»ñ³µ»ñÛ³É ¹³ï³Ï³Ý ·áñÍ»ñ | C15: 3 | E15: 3 | H15: 1 | I15: 1 | N15: 1 | O15: 1 | W15: 1 | X15: 1 | Z15: 2
A16: 6 | B16: ÜáñÙ³ïÇí Çñ³í³Ï³Ý ³Ïï»ñÇ Çñ³í³ã³÷áõÃÛáõÝÁ íÇ×³ñÏ»Éáõ Ñ»ï Ï³åí³Í Çñ³í³Ñ³ñ³µ»ñáõÃÛáõÝÝ»ñÇ í»ñ³µ»ñÛ³É ¹³ï³Ï³Ý ·áñÍ»ñ | C16: =C17+C18+C19+C20+C21+C22+C23 -> 5 | D16: =D17+D18+D19+D20+D21+D22+D23 -> 0 | E16: =E17+E18+E19+E20+E21+E22+E23 -> 5 | F16: =F17+F18+F19+F20+F21+F22+F23 -> 0 | G16: =G17+G18+G19+G20+G21+G22+G23 -> 0 | H16: =H17+H18+H19+H20+H21+H22+H23 -> 8 | I16: =I17+I18+I19+I20+I21+I22+I23 -> 5 | J16: =J17+J18+J19+J20+J21+J22+J23 -> 1 | ... AM16: =AM17+AM18+AM19+AM20+AM21+AM22+AM23 -> 1
A17: 6.1 | B17: ¶»ñ³ï»ëã³Ï³Ý ÝáñÙ³ïÇí Çñ³í³Ï³Ý ³Ïï»ñÇª ÐÐ ê³ÑÙ³Ý³¹ñáõÃÛ³ÝÁ Ñ³Ù³å³ï³ëË³ÝáõÃÛáõÝÁ íÇ×³ñÏ»Éáõ í»ñ³µ»ñÛ³É | E17: 0 | I17: 0 | W17: 0 | Z17: 0
A18: 6.2 | B18: Ü³Ë³·³ÑÇ ÝáñÙ³ïÇí µÝáõÛÃ áõÝ»óáÕ ³Ïï»ñÇ` ³í»ÉÇ µ³ñÓñ Çñ³í³µ³Ý³Ï³Ý áõÅ áõÝ»óáÕ ÝáñÙ³ïÇí ³Ïï»ñÇÝ Ñ³Ù³å³ï³ëË³ÝáõÃÛáõÝÁ íÇ×³ñÏ»Éáõ í»ñ³µ»ñÛ³É | E18: 0 | I18: 0 | W18: 0 | Z18: 0
A19: 6.3 | B19: Î³é³í³ñáõÃÛ³Ý ÝáñÙ³ïÇí áñáßáõÙÝ»ñÇ`³í»ÉÇ µ³ñÓñ Çñ³í³µ³Ý³Ï³Ý áõÅ áõÝ»óáÕ ÝáñÙ³ïÇí ³Ïï»ñÇÝ Ñ³Ù³å³ï³ëË³ÝáõÃÛáõÝÁ íÇ×³ñÏ»Éáõ í»ñ³µ»ñÛ³É | C19: 5 | E19: 5 | H19: 1 | I19: 0 | K19: 1 | M19: 1 | N19: 3 | Q19: 3 | W19: 3 | Z19: 1 | AI19: 1 | AK19: 1 | AM19: 1
A20: 6.4 | B20: ì³ñã³å»ïÇ ÝáñÙ³ïÇí áñáßáõÙÝ»ñÇ` ³í»ÉÇ µ³ñÓñ Çñ³í³µ³Ý³Ï³Ý áõÅ áõÝ»óáÕ ÝáñÙ³ïÇí ³Ïï»ñÇÝ Ñ³Ù³å³ï³ëË³ÝáõÃÛáõÝÁ íÇ×³ñÏ»Éáõ í»ñ³µ»ñÛ³É | E20: 0 | I20: 0 | W20: 0 | Z20: 0
A21: 6.5 | B21: ¶»ñ³ï»ëã³Ï³Ý ÝáñÙ³ïÇí Çñ³í³Ï³Ý ³Ïï»ñÇ` ³í»ÉÇ µ³ñÓñ Çñ³í³µ³Ý³Ï³Ý áõÅ áõÝ»óáÕ ÝáñÙ³ïÇí ³Ïï»ñÇÝ Ñ³Ù³å³ï³ëË³ÝáõÃÛáõÝÁ íÇ×³ñÏ»Éáõ í»ñ³µ»ñÛ³É | E21: 0 | H21: 3 | I21: 3 | W21: 0 | Z21: 3
A22: 6.6 | B22: Ð³Ù³ÛÝùÇ ³í³·³Ýáõ áñáßáõÙÝ»ñÇ` ³í»ÉÇ µ³ñÓñ Çñ³í³µ³Ý³Ï³Ý áõÅ áõÝ»óáÕ ÝáñÙ³ïÇí ³Ïï»ñÇÝ Ñ³Ù³å³ï³ëË³ÝáõÃÛáõÝÁ íÇ×³ñÏ»Éáõ í»ñ³µ»ñÛ³É | E22: 0 | H22: 4 | I22: 2 | J22: 1 | K22: 1 | M22: 1 | N22: 1 | P22: 1 | W22: 1 | Z22: 0 | AB22: 1 | AC22: 1 | AD22: 2 | AF22: 2
A23: 6.7 | B23: Ð³Ù³ÛÝùÇ Õ»Ï³í³ñÇ áñáßáõÙÝ»ñÇ` ³í»ÉÇ µ³ñÓñ Çñ³í³µ³Ý³Ï³Ý áõÅ áõÝ»óáÕ ÝáñÙ³ïÇí ³Ïï»ñÇÝ Ñ³Ù³å³ï³ëË³ÝáõÃÛáõÝÁ íÇ×³ñÏ»Éáõ í»ñ³µ»ñÛ³É | E23: 0 | I23: 0 | W23: 0 | Z23: 0
A24: 7 | B24: ÀÝïñ³Ï³Ý Çñ³íáõÝùÇ å³ßïå³ÝáõÃÛ³Ý Ñ»ï Ï³åí³Í Çñ³í³Ñ³ñ³µ»ñáõÃÛáõÝÝ»ñÇ í»ñ³µ»ñÛ³É ¹³ï³Ï³Ý ·áñÍ»ñ | C24: =+C25+C26+C27+C28+C29 -> 0 | D24: =+D25+D26+D27+D28+D29 -> 0 | E24: =+E25+E26+E27+E28+E29 -> 0 | F24: =+F25+F26+F27+F28+F29 -> 0 | G24: =+G25+G26+G27+G28+G29 -> 0 | H24: =+H25+H26+H27+H28+H29 -> 0 | I24: =+I25+I26+I27+I28+I29 -> 0 | J24: =+J25+J26+J27+J28+J29 -> 0 | ... AM24: =+AM25+AM26+AM27+AM28+AM29 -> 0
A25: 7.1 | B25: Ü³Ë³·³ÑÇ ÁÝïñáõÃÛáõÝÝ»ñÇ Ñ»ï Ï³åí³Í | E25: 0 | I25: 0 | W25: 0 | Z25: 0
A26: 7.2 | B26: ²½·³ÛÇÝ ÅáÕáíÇ ÁÝïñáõÃÛáõÝÝ»ñÇ Ñ»ï Ï³åí³Í | E26: 0 | I26: 0 | W26: 0 | Z26: 0
A27: 7.3 | B27: î»Õ³Ï³Ý ÇÝùÝ³Ï³é³í³ñÙ³Ý Ù³ñÙÇÝÝ»ñÇ ÁÝïñáõÃÛáõÝÝ»ñÇ Ñ»ï Ï³åí³Í | E27: 0 | I27: 0 | W27: 0 | Z27: 0
A28: 7.4 | B28: Ð³Ýñ³ùí»Ç Ï³½Ù³Ï»ñåÙ³Ý ¨ ³ÝóÏ³óÙ³Ý Ñ»ï Ï³åí³Í | E28: 0 | I28: 0 | W28: 0 | Z28: 0
A29: 7.5 | B29: ²ÛÉ í»×»ñ | E29: 0 | I29: 0 | W29: 0 | Z29: 0
A30: 9 | B30: Ð³í³ùÇ ³ÝóÏ³óÙ³Ý Ù³ëÇÝ Ñ³Ù³ÛÝùÇ Õ»Ï³í³ñÇ áñáßáõÙÝ»ñÇ ¨ ·áñÍáÕáõÃÛáõÝÝ»ñÇ Çñ³í³ã³÷áõÃÛáõÝÁ íÇ×³ñÏ»Éáõ Ñ»ï Ï³åí³Í Çñ³í³Ñ³ñ³µ»ñáõÃÛáõÝÝ»ñÇ í»ñ³µ»ñÛ³É ¹³ï³Ï³Ý ·áñÍ»ñ | E30: 0 | I30: 0 | W30: 0 | Z30: 0
A31: 10 | B31: ä»ï³Ï³Ý, Ñ³Ù³ÛÝù³ÛÇÝ Ï³Ù ³ÛÉÁÝïñ³Ýù³ÛÇÝ Í³é³ÛáõÃÛ³Ý ³ÝóÝ»Éáõ Ï³Ù Çñ³Ï³Ý³óÝ»Éáõ Ñ»ï Ï³åí³Í Çñ³í³Ñ³ñ³µ»ñáõÃÛáõÝÝ»ñÇ í»ñ³µ»ñÛ³É ¹³ï³Ï³Ý ·áñÍ»ñ | C31: 10 | E31: 10 | H31: 0 | I31: 0 | N31: 8 | P31: 4 | Q31: 4 | W31: 8 | X31: 2 | Z31: 0 | AB31: 6 | AD31: 6 | AE31: 2 | AF31: 4
A32: 11 | B32: ì³ñã³Ï³Ý Ù³ñÙÇÝÝ»ñÇ ÙÇç¨ Çñ³í³ëáõÃÛ³Ý Ñ³ñó»ñÇ í»ñ³µ»ñÛ³É í»×»ñÇ Ñ»ï Ï³åí³Í Çñ³í³Ñ³ñ³µ»ñáõÃÛáõÝÝ»ñÇ í»ñ³µ»ñÛ³É ¹³ï³Ï³Ý ·áñÍ»ñ | E32: 0 | I32: 0 | W32: 0 | Z32: 0
A33: 12 | B33: Ð³ë³ñ³Ï³Ï³Ý Ï³½Ù³Ï»ñåáõÃÛáõÝÝ»ñÇ ¨ ³ÛÉ ÙÇ³íáñáõÙÝ»ñÇ ·áñÍáõÝ»áõÃÛ³Ý Ï³ë»óÙ³Ý Ï³Ù ¹³¹³ñ»óÙ³Ý Ñ»ï Ï³åí³Í Çñ³í³Ñ³ñ³µ»ñáõÃÛáõÝÝ»ñÇ í»ñ³µ»ñÛ³É ¹³ï³Ï³Ý ·áñÍ»ñ | E33: 0 | I33: 0 | W33: 0 | Z33: 0
A34: 13 | B34: ì³ñã³ñ³ñáõÃÛ³Ùµ å³ï×³éí³Í íÝ³ëÇ å³ï³ëË³Ý³ïíáõÃÛ³Ý Ñ»ï Ï³åí³Í Çñ³í³Ñ³ñ³µ»ñáõÃÛáõÝÝ»ñÇ í»ñ³µ»ñÛ³É ¹³ï³Ï³Ý ·áñÍ»ñ | E34: 0 | I34: 0 | W34: 0 | Z34: 0
A35: 14 | B35: ²ÝÑ»ï³Ó·»ÉÇ ÙÇջամտության áñáßÙ³Ý, µáÕáù³ñÏ³ÙաÝ í»ñ³µ»ñÛ³É ¹³ï³Ï³Ý ·áñÍ»ñ | E35: 0 | H35: 1 | I35: 1 | N35: 1 | Q35: 1 | W35: 1 | Z35: 0 | AB35: 1 | AD35: 1 | AF35: 1
A36: 16 | B36: Դատավորի հավակնորդի հայտի ընդունումը մերժելու áñáßÙ³Ý µáÕáù³ñÏ³ÙաÝ í»ñ³µ»ñÛ³É ¹³ï³Ï³Ý ·áñÍ»ñ | E36: 0 | I36: 0 | W36: 0 | Z36: 0
A37: 9.5 | B37: Ընտրական հանձնաժողովի գործավար մատյանը չլրացնելը կամ ոչ պատշաճ լրացնելը | E37: 0 | I37: 0 | W37: 0 | Z37: 0
A38: 9.14 | B38: Ժողովներ, հանրահավաքներ, երթեր և ցույցեր անցկացնելու կարգը խախտելը | E38: 0 | I38: 0 | W38: 0 | Z38: 0
A39: 9.15 | B39: Զինծառայողների կամ ոստիկ. ծառայողի օրին. պահանջը չկատարելը | C39: 15 | D39: 2 | E39: 13 | H39: 15 | I39: 15 | N39: 21 | O39: 5 | Q39: 16 | W39: 21 | Z39: 9 | AA39: 2 | AB39: 4 | AD39: 4 | AF39: 4
A40: 9.18 | B40: Հայաստանի Հանրապետության ուսումնական հաստատություններում առարկաների հայերեն դասավանդումը կամ միջնակարգ-մասնագիտական, մասնագիտական տեխնիկական և բարձրագույն ուսումնական հաստատություններում հայոց լեզվի ուսուցումը կամ հայոց լեզվի ընդունելության քննությունը չապահովելը | E40: 0 | I40: 0 | W40: 0 | Z40: 0
A41: 9.19 | B41: ՀՀ պետ. մարմ., ձեռնարկ-ի, հիմն-ի և կազմ-ի (անկախ սեփ. ձևից) գործավ-ը ոչ հայերեն վարելը, ցուցանակները, ձևաթղթերը, դրոշմանիշները, նամականիշները, կնիքները, միջ. փոստ. ծրարները և գովազդները ոչ հայերեն ձևավորելը | C41: 1 | E41: 1 | H41: 1 | I41: 0 | J41: 1 | W41: 0 | Z41: 1
A42: 9.23 | B42: Տեղեկություն տալու պարտականությունը չկատարելը | E42: 0 | I42: 0 | W42: 0 | Z42: 0
A43: 9.26 | B43: Տեղեկություն (տվյալ) չտրամադրելը կամ կեղծ տեղեկություն (տվյալ) ներկայացնելը | E43: 0 | I43: 0 | W43: 0 | Z43: 0
A44: 9.31 | B44: Հարկադիր կատարողի որոշումը դիտավորյալ չկատարելը կամ կատարմանը խոչընդոտելը | E44: 0 | I44: 0 | W44: 0 | Z44: 0
A45: 9.33 | B45: Այլ իրավախախտումներ | C45: 5 | E45: 5 | H45: 2 | I45: 2 | N45: 5 | O45: 2 | Q45: 3 | W45: 5 | Z45: 2 | AB45: 1 | AD45: 1 | AF45: 1
A46: 9.7 | B46: Գույքի մանր հափշտակում | E46: 0 | I46: 0 | W46: 0 | Z46: 0
A47: 8 | B47: ²ÛÉ í»×»ñ | C47: 4 | D47: 1 | E47: 3 | H47: 4 | I47: 3 | J47: 1 | N47: 3 | O47: 3 | W47: 3 | Z47: 4 | AA47: 1
B48: ÀÝ¹³Ù»ÝÁ | C48: =+C9+C12+C15+C16+C24+C30+C31+C32+C33+C34+C35+C36+C37+C38+C39+C40+C41+C42+C43+C44+C45+C46+C47 -> 656 | D48: =+D9+D12+D15+D16+D24+D30+D31+D32+D33+D34+D35+D36+D37+D38+D39+D40+D41+D42+D43+D44+D45+D46+D47 -> 21 | E48: =+E9+E12+E15+E16+E24+E30+E31+E32+E33+E34+E35+E36+E37+E38+E39+E40+E41+E42+E43+E44+E45+E46+E47 -> 624 | F48: =+F9+F12+F15+F16+F24+F30+F31+F32+F33+F34+F35+F36+F37+F38+F39+F40+F41+F42+F43+F44+F45+F46+F47 -> 2 | G48: =+G9+G12+G15+G16+G24+G30+G31+G32+G33+G34+G35+G36+G37+G38+G39+G40+G41+G42+G43+G44+G45+G46+G47 -> 9 | H48: =+H9+H12+H15+H16+H24+H30+H31+H32+H33+H34+H35+H36+H37+H38+H39+H40+H41+H42+H43+H44+H45+H46+H47 -> 1411 | I48: =+I9+I12+I15+I16+I24+I30+I31+I32+I33+I34+I35+I36+I37+I38+I39+I40+I41+I42+I43+I44+I45+I46+I47 -> 1185 | J48: =+J9+J12+J15+J16+J24+J30+J31+J32+J33+J34+J35+J36+J37+J38+J39+J40+J41+J42+J43+J44+J45+J46+J47 -> 168 | ... AM48: =+AM9+AM12+AM15+AM16+AM24+AM30+AM31+AM32+AM33+AM34+AM35+AM36+AM37+AM38+AM39+AM40+AM41+AM42+AM43+AM44+AM45+AM46+AM47 -> 11
C49: 1 | D49: 2 | E49: 3 | F49: 4 | G49: 5 | H49: 6 | I49: 7 | J49: 8 | K49: 9 | L49: 10 | M49: 11 | N49: 12 | O49: 13 | P49: 14 | Q49: 15 | R49: 16 | S49: 17 | T49: 18 | U49: 19 | V49: 20 | W49: 21 | X49: 22 | Y49: 23 | Z49: 24 | AA49: 25 | AB49: 26 | AC49: 27 | AD49: 28 | AE49: 29 | AF49: 30 | AG49: 31 | AH49: 32 | AI49: 33 | AJ49: 34 | AK49: 35 | AL49: 36 | AM49: 37

Sheet Ա․Ավագյան
AI1: Հավելված 2 Բարձրագույն դատական խորհրդի 2022թվականի դեկտեմբերի 26-ի թիվ ԲԴԽ-122-Ո-408 որոշման
A2: 2025թ. | C2: Ð²ÞìºîìàôÂÚàôÜ
A3: ÐÐ ì²ðâ²Î²Ü ¸²î²ð²ÜÆ ¸²î²ìàð ԱՐԹՈՒՐ ԱՎԱԳՅԱՆԻ ¶àðÌàôÜºàôÂÚ²Ü ìºð²´ºðÚ²È
A4: ÐÐ í³ñã³Ï³Ý ¹³ï³ñ³ÝÇ ¹³ï³íáñÝ»ñÇ Ñ³ëïÇùÝ»ñÇ ÃÇíÁ` 24
A5: êïáõ·Çã Ñ³í³ë³ñáõÙÝ»ñª 1=2+3+4+5, 6=7+8+9+10, 2+3+7=11+21+22+24, 12=13+14+15+16, 17=18+19+20, 21=12+17, 28=26+27, 28=29+30, 35=33+34, 35=36+37 | C5: Ð³ßí»ïáõ Å³Ù³Ý³Ï³Ñ³ïí³ÍáõÙ Ý³Ëáñ¹ Ñ³ßí»ïáõ Å³Ù³Ý³Ï³Ñ³ïí³ÍÇó ÷áË³Ýóí³Í ·áñÍ»ñÇ ÁÝ¹Ñ³Ýáõñ ÃÇíÁ | H5: Ð³ßí»ïáõ Å³Ù³Ý³Ï³Ñ³ïí³ÍáõÙ ëï³óí³Í ·áñÍ»ñÇ (³Û¹ ÃíáõÙ` Ñ³Ûó³¹ÇÙáõÙÝ»ñÇ, ¹ÇÙáõÙÝ»ñÇ) ÁÝ¹Ñ³Ýáõñ ÃÇíÁ | M5: öáË³Ýóí»É ¿ ³ÛÉ ¹³ï³íáñÇ (Ï³½ÙÇ ÷á÷áËáõÃÛáõÝ) | N5: Ð³ßí»ïáõ Å³Ù³Ý³Ï³Ñ³ïí³ÍáõÙ ³í³ñïí³Í ·áñÍ»ñÇ ÁÝ¹Ñ³Ýáõñ ÃÇíÁ | X5: ¶áñÍÝ áõÕ³ñÏí»É ¿ Áëï ÁÝ¹¹³ïáõÃÛ³Ý | Y5: Ð³ßí»ïáõ Å³Ù³Ý³Ï³Ñ³ïí³ÍáõÙ Ï³ë»óí³Í í³ñáõÛÃÝ»ñáí ·áñÍ»ñÇ ÁÝ¹Ñ³Ýáõñ ÃÇíÁ | Z5: Ð³ßí»ïáõ Å³Ù³Ý³Ï³Ñ³ïí³ÍáõÙ ³Ý³í³ñï ·áñÍ»ñÇ ÁÝ¹Ñ³Ýáõñ ÃÇíÁ | AA5: ²Û¹ ÃíáõÙ` Ï³ë»óí³Í | AB5: ´áÕáù³ñÏí³Í ¹³ï³Ï³Ý ³Ïï»ñÁ | AG5: ²í³ñïí³Í ¹³ï³Ï³Ý ·áñÍ»ñÇ µáÕáù³ñÏÙ³Ý ïáÏáëÁ (Ñ³ßí»ïáõ Å³Ù³Ý³Ï³Ñ³ïí³ÍáõÙ) | AH5: ²Ý³í³ñï µáÕáùÝ»ñ | AI5: ´»Ï³Ýí³Í ¹³ï³Ï³Ý ³Ïï»ñÁ
C6: ÀÝ¹³Ù»ÝÁ | D6: ²Û¹ ÃíáõÙ`Ï³ë»óí³Í íÇ×³ÏáõÙ ÷áË³Ýóí³Í | E6: ²Û¹ ÃíáõÙª ÁÝ¹áõÝí»É ¿ í³ñáõÛÃ | F6: ²Û¹ ÃíáõÙª í»ñ³¹³ñÓí»É ¿ | G6: ²Û¹ ÃíáõÙª ÁÝ¹áõÝáõÙÁ Ù»ñÅí»É ¿ | H6: ÀÝ¹³Ù»ÝÁ | I6: ²Û¹ ÃíáõÙª ÁÝ¹áõÝí»É ¿ í³ñáõÛÃ | J6: ²Û¹ ÃíáõÙª í»ñ³¹³ñÓí»É ¿ | K6: ²Û¹ ÃíáõÙª ÁÝ¹áõÝáõÙÁ Ù»ñÅí»É ¿ | L6: Այդ թվում անորոշ | N6: ÀÝ¹³Ù»ÝÁ ³í³ñïí»É »Ý ·áñÍ»ñ ·áñÍÝ Áëï ¿áõÃÛ³Ý ÉáõÍáÕ ¹³ï³Ï³Ý ³Ïï»ñÇ (í×ÇéÝ»ñÇ) Ï³Û³óÙ³Ùµ | O6: ²Û¹ ÃíáõÙª Ñ³ÛóÇ µ³í³ñ³ñÙ³Ùµ | P6: ²Û¹ ÃíáõÙª Ñ³ÛóÇ Ù³ëÝ³ÏÇ µ³í³ñ³ñÙ³Ùµ | Q6: ²Û¹ ÃíáõÙª Ñ³ÛóÇ Ù»ñÅÙ³Ùµ | R6: ²Û¹ ÃíáõÙ` Ù³ëÝ³ÏÇ Ù»ñÅí»É ¿, Ù³ëÝ³ÏÇ Ï³ñ×í»É | S6: ²Û¹ ÃíáõÙª Ï³ñ×í»É »Ý | W6: ÀÝ¹³Ù»ÝÝ ³í³ñïí»É »Ý ·áñÍ»ñ | AB6: ²Û¹ ÃíáõÙ` ·áñÍÝ Áëï ¿áõÃÛ³Ý ÉáõÍáÕ ¹³ï³Ï³Ý ³Ïï»ñÁ | AC6: ²Û¹ ÃíáõÙ` ÙÇç³ÝÏÛ³É ¹³ï³Ï³Ý ³Ïï»ñÁ | AD6: ÀÝ¹³Ù»ÝÁ | AE6: Ü³Ëáñ¹ ï³ñÇÝ»ñÇÝ Ï³Û³óí³Í ³Ïï»ñÇ µáÕáù³ñÏáõÙÁ Ñ³ßí»ïáõ Å³Ù³Ý³Ï³ßñç³ÝáõÙ | AF6: Ð³ßí»ïáõ Å³Ù³Ý³Ï³ßñç³ÝáõÙ Ï³Û³óí³Í ³Ïï»ñÇ µáÕáù³ñÏáõÙÁ | AI6: ²Û¹ ÃíáõÙ` ·áñÍÝ Áëï ¿áõÃÛ³Ý ÉáõÍáÕ ¹³ï³Ï³Ý ³Ïï»ñÁ | AJ6: ²Û¹ ÃíáõÙ` ÙÇç³ÝÏÛ³É ¹³ï³Ï³Ý ³Ïï»ñÁ | AK6: ÀÝ¹³Ù»ÝÁ | AL6: Ü³Ëáñ¹ ï³ñÇÝ»ñÇÝ Ï³Û³óí³Í ³Ïï»ñÇ µ»Ï³ÝáõÙÝ»ñÁ Ñ³ßí»ïáõ Å³Ù³Ý³Ï³ßñç³ÝáõÙ | AM6: Ð³ßí»ïáõ Å³Ù³Ý³Ï³ßñç³ÝáõÙ Ï³Û³óí³Í ³Ïï»ñÇ µ»Ï³ÝáõÙÁ
S7: ÀÝ¹³Ù»ÝÁ Ï³ñ×í»É »Ý | T7: ²Û¹ ÃíáõÙª Ñ³ëï³ïí»É ¿ ÏÝùí³Í Ñ³ßïáõÃÛ³Ý Ñ³Ù³Ó³ÛÝáõÃÛáõÝÁ | U7: ²Û¹ ÃíáõÙª Ñ³ÛóÇó, ¹ÇÙáõÙÇó Ññ³Å³ñí»Éáõ ÑÇÙùáí | V7: ²Û¹ ÃíáõÙª ³ÛÉ ÑÇÙùáí
B8: ì³ñã³Ï³Ý ·áñÍ»ñÇ ¹³ë³Ï³ñ·áõÙÁ | C8: 1 | D8: 2 | E8: 3 | F8: 4 | G8: 5 | H8: 6 | I8: 7 | J8: 8 | K8: 9 | L8: 10 | M8: 11 | N8: 12 | O8: 13 | P8: 14 | Q8: 15 | R8: 16 | S8: 17 | T8: 18 | U8: 19 | V8: 20 | W8: 21 | X8: 22 | Y8: 23 | Z8: 24 | AA8: 25 | AB8: 26 | AC8: 27 | AD8: 28 | AE8: 29 | AF8: 30 | AG8: 31 | AH8: 32 | AI8: 33 | AJ8: 34 | AK8: 35 | AL8: 36 | AM8: 37
A9: 1 | B9: ä»ï³Ï³Ý Ù³ñÙÇÝÝ»ñÇ, ï»Õ³Ï³Ý ÇÝùÝ³Ï³é³í³ñÙ³Ý Ù³ñÙÇÝÝ»ñÇ áõ ¹ñ³Ýó å³ßïáÝ³ï³ñ ³ÝÓ³Ýó ³Ïï»ñÝ ³Ýí³í»ñ ×³Ý³ã»Éáõ Ñ»ï Ï³åí³Í Çñ³í³ñ³Ñ³µ»ñáõÃÛáõÝÝ»ñÇ í»ñ³µ»ñÛ³É ¹³ï³Ï³Ý ·áñÍ»ñ | C9: =+C10+C11 -> 523 | D9: =+D10+D11 -> 38 | E9: =+E10+E11 -> 480 | F9: =+F10+F11 -> 2 | G9: =+G10+G11 -> 3 | H9: =+H10+H11 -> 1204 | I9: =+I10+I11 -> 1040 | J9: =+J10+J11 -> 83 | ... AM9: =+AM10+AM11 -> 1
A10: 1.1 | B10: ä»ï³Ï³Ý Ù³ñÙÇÝÝ»ñÇ áõ ¹ñ³Ýó å³ßïáÝ³ï³ñ ³ÝÓ³Ýó ³Ïï»ñÝ ³Ýí³í»ñ ×³Ý³ã»Éáõ Ñ»ï Ï³åí³Í Çñ³í³Ñ³ñ³µ»ñáõÃÛáõÝÝ»ñÇ í»ñ³µ»ñÛ³É ¹³ï³Ï³Ý ·áñÍ»ñ | C10: 439 | D10: 34 | E10: =+C10-D10-F10-G10 -> 402 | F10: 1 | G10: 2 | H10: 1077 | I10: =+H10-J10-K10-L10 -> 928 | J10: 74 | K10: 35 | L10: 40 | M10: 3 | N10: 707 | O10: 549 | P10: 8 | Q10: 150 | S10: 25 | U10: 2 | V10: 23 | W10: =+N10+S10 -> 732 | X10: 5 | Y10: 6 | Z10: =+D10+E10+I10-M10-W10-X10 -> 624 | AA10: 37 | AB10: 148 | AC10: 26 | AD10: 174 | AE10: 24 | AF10: 150 | AI10: 21 | AJ10: 2 | AK10: 23 | AL10: 22 | AM10: 1
A11: 1.2 | B11: î»Õ³Ï³Ý ÇÝùÝ³Ï³é³í³ñÙ³Ý Ù³ñÙÇÝÝ»ñÇ áõ ¹ñ³Ýó å³ßïáÝ³ï³ñ ³ÝÓ³Ýó ³Ïï»ñÝ ³Ýí³í»ñ ×³Ý³ã»Éáõ Ñ»ï Ï³åí³Í Çñ³í³Ñ³ñ³µ»ñáõÃÛáõÝÝ»ñÇ í»ñ³µ»ñÛ³É ¹³ï³Ï³Ý ·áñÍ»ñ | C11: 84 | D11: 4 | E11: =+C11-D11-F11-G11 -> 78 | F11: 1 | G11: 1 | H11: 127 | I11: =+H11-J11-K11-L11 -> 112 | J11: 9 | K11: 2 | L11: 4 | N11: 55 | O11: 35 | Q11: 20 | S11: 5 | V11: 5 | W11: =+N11+S11 -> 60 | X11: 2 | Y11: 1 | Z11: =+D11+E11+I11-M11-W11-X11 -> 132 | AA11: 2 | AB11: 22 | AC11: 9 | AD11: 31 | AE11: 10 | AF11: 21 | AI11: 9 | AK11: 9 | AL11: 9
A12: 2 | B12: ä»ï³Ï³Ý Ù³ñÙÇÝÝ»ñÇ, ï»Õ³Ï³Ý ÇÝùÝ³Ï³é³í³ñÙ³Ý Ù³ñÙÇÝÝ»ñÇ ¨ ¹ñ³Ýó å³ßïáÝ³ï³ñ ³ÝÓ³Ýó ·áñÍáÕáõÃÛáõÝÝ»ñÁ /³Ý·áñÍáõÃÛáõÝÁ/ íÇ×³ñÏ»Éáõ Ñ»ï Ï³åí³Í Çñ³í³Ñ³ñ³µ»ñáõÃÛáõÝÝ»ñÇ í»ñ³µ»ñÛ³É ¹³ï³Ï³Ý ·áñÍ»ñ | C12: =C13+C14 -> 118 | D12: =D13+D14 -> 7 | E12: =E13+E14 -> 108 | F12: =F13+F14 -> 2 | G12: =G13+G14 -> 1 | H12: =H13+H14 -> 195 | I12: =I13+I14 -> 145 | J12: =J13+J14 -> 33 | ... AM12: =AM13+AM14 -> 3
A13: 2.1 | B13: ä»ï³Ï³Ý Ù³ñÙÇÝÝ»ñÇ ¨ ¹ñ³Ýó å³ßïáÝ³ï³ñ ³ÝÓ³Ýó ·áñÍáÕáõÃÛáõÝÝ»ñÁ /³Ý·áñÍáõÃÛáõÝÁ/ íÇ×³ñÏ»Éáõ Ñ»ï Ï³åí³Í Çñ³í³Ñ³ñ³µ»ñáõÃÛáõÝÝ»ñÇ í»ñ³µ»ñÛ³É ¹³ï³Ï³Ý ·áñÍ»ñ | C13: 62 | D13: 4 | E13: 56 | F13: 1 | G13: 1 | H13: 136 | I13: 103 | J13: 20 | K13: 7 | L13: 6 | M13: 1 | N13: 43 | O13: 20 | P13: 2 | Q13: 21 | S13: 4 | U13: 2 | V13: 2 | W13: 47 | X13: 6 | Z13: 109 | AA13: 3 | AB13: 28 | AC13: 9 | AD13: 37 | AE13: 6 | AF13: 31 | AI13: 6 | AJ13: 2 | AK13: 8 | AL13: 6 | AM13: 2
A14: 2.2 | B14: î»Õ³Ï³Ý ÇÝùÝ³Ï³é³í³ñÙ³Ý Ù³ñÙÇÝÝ»ñÇ áõ ¹ñ³Ýó å³ßïáÝ³ï³ñ ³ÝÓ³Ýó ·áñÍáÕáõÃÛáõÝÝ»ñÁ /³Ý·áñÍáõÃÛáõÝÁ/ íÇ×³ñÏ»Éáõ Ñ»ï Ï³åí³Í Çñ³í³Ñ³ñ³µ»ñáõÃÛáõÝÝ»ñÇ í»ñ³µ»ñÛ³É ¹³ï³Ï³Ý ·áñÍ»ñ | C14: 56 | D14: 3 | E14: 52 | F14: 1 | H14: 59 | I14: 42 | J14: 13 | K14: 2 | L14: 2 | N14: 27 | O14: 15 | P14: 3 | Q14: 9 | S14: 7 | U14: 1 | V14: 6 | W14: 34 | X14: 2 | Y14: 2 | Z14: 61 | AA14: 2 | AB14: 26 | AC14: 3 | AD14: 29 | AF14: 29 | AI14: 4 | AJ14: 2 | AK14: 6 | AL14: 5 | AM14: 1
A15: 5 | B15: Üáï³ñ³Ï³Ý ·áñÍáÕáõÃÛáõÝÝ»ñÁ Ï³Ù Ýáï³ñÇ ³Ý·áñÍáõÃÛáõÝÁ íÇ×³ñÏ»Éáõ Ñ»ï Ï³åí³Í Çñ³í³Ñ³ñ³µ»ñáõÃÛáõÝÝ»ñÇ í»ñ³µ»ñÛ³É ¹³ï³Ï³Ý ·áñÍ»ñ | C15: 6 | E15: 6 | H15: 1 | I15: 1 | N15: 3 | O15: 1 | Q15: 2 | S15: 1 | V15: 1 | W15: 4 | X15: 1 | Y15: 2 | Z15: 2 | AA15: 2 | AC15: 1 | AD15: 1 | AF15: 1
A16: 6 | B16: ÜáñÙ³ïÇí Çñ³í³Ï³Ý ³Ïï»ñÇ Çñ³í³ã³÷áõÃÛáõÝÁ íÇ×³ñÏ»Éáõ Ñ»ï Ï³åí³Í Çñ³í³Ñ³ñ³µ»ñáõÃÛáõÝÝ»ñÇ í»ñ³µ»ñÛ³É ¹³ï³Ï³Ý ·áñÍ»ñ | C16: 6 | D16: 0 | E16: 6 | F16: 0 | G16: 0 | H16: 2 | I16: 1 | J16: 0 | K16: 1 | L16: 0 | M16: 1 | N16: 0 | O16: 0 | P16: 0 | Q16: 0 | R16: 0 | S16: 0 | T16: 0 | U16: 0 | V16: 0 | W16: 0 | X16: 0 | Y16: 0 | Z16: 6 | AA16: 0 | AB16: 0 | AC16: 0 | AD16: 0 | AE16: 0 | AF16: 0 | AG16: 0 | AH16: 0 | AI16: 0 | AJ16: 0 | AK16: 0 | AL16: 0 | AM16: 0
A17: 6.1 | B17: ¶»ñ³ï»ëã³Ï³Ý ÝáñÙ³ïÇí Çñ³í³Ï³Ý ³Ïï»ñÇª ÐÐ ê³ÑÙ³Ý³¹ñáõÃÛ³ÝÁ Ñ³Ù³å³ï³ëË³ÝáõÃÛáõÝÁ íÇ×³ñÏ»Éáõ í»ñ³µ»ñÛ³É | E17: 0 | I17: 0 | W17: 0 | Z17: 0
A18: 6.2 | B18: Ü³Ë³·³ÑÇ ÝáñÙ³ïÇí µÝáõÛÃ áõÝ»óáÕ ³Ïï»ñÇ` ³í»ÉÇ µ³ñÓñ Çñ³í³µ³Ý³Ï³Ý áõÅ áõÝ»óáÕ ÝáñÙ³ïÇí ³Ïï»ñÇÝ Ñ³Ù³å³ï³ëË³ÝáõÃÛáõÝÁ íÇ×³ñÏ»Éáõ í»ñ³µ»ñÛ³É | E18: 0 | I18: 0 | W18: 0 | Z18: 0
A19: 6.3 | B19: Î³é³í³ñáõÃÛ³Ý ÝáñÙ³ïÇí áñáßáõÙÝ»ñÇ`³í»ÉÇ µ³ñÓñ Çñ³í³µ³Ý³Ï³Ý áõÅ áõÝ»óáÕ ÝáñÙ³ïÇí ³Ïï»ñÇÝ Ñ³Ù³å³ï³ëË³ÝáõÃÛáõÝÁ íÇ×³ñÏ»Éáõ í»ñ³µ»ñÛ³É | C19: 2 | E19: 2 | H19: 1 | I19: 0 | K19: 1 | W19: 0 | Z19: 2
A20: 6.4 | B20: ì³ñã³å»ïÇ ÝáñÙ³ïÇí áñáßáõÙÝ»ñÇ` ³í»ÉÇ µ³ñÓñ Çñ³í³µ³Ý³Ï³Ý áõÅ áõÝ»óáÕ ÝáñÙ³ïÇí ³Ïï»ñÇÝ Ñ³Ù³å³ï³ëË³ÝáõÃÛáõÝÁ íÇ×³ñÏ»Éáõ í»ñ³µ»ñÛ³É | E20: 0 | I20: 0 | W20: 0 | Z20: 0
A21: 6.5 | B21: ¶»ñ³ï»ëã³Ï³Ý ÝáñÙ³ïÇí Çñ³í³Ï³Ý ³Ïï»ñÇ` ³í»ÉÇ µ³ñÓñ Çñ³í³µ³Ý³Ï³Ý áõÅ áõÝ»óáÕ ÝáñÙ³ïÇí ³Ïï»ñÇÝ Ñ³Ù³å³ï³ëË³ÝáõÃÛáõÝÁ íÇ×³ñÏ»Éáõ í»ñ³µ»ñÛ³É | C21: 4 | E21: 4 | H21: 0 | I21: 0 | L21: 0 | M21: 1 | W21: 0 | Z21: 3
A22: 6.6 | B22: Ð³Ù³ÛÝùÇ ³í³·³Ýáõ áñáßáõÙÝ»ñÇ` ³í»ÉÇ µ³ñÓñ Çñ³í³µ³Ý³Ï³Ý áõÅ áõÝ»óáÕ ÝáñÙ³ïÇí ³Ïï»ñÇÝ Ñ³Ù³å³ï³ëË³ÝáõÃÛáõÝÁ íÇ×³ñÏ»Éáõ í»ñ³µ»ñÛ³É | E22: 0 | H22: 1 | I22: 1 | W22: 0 | Z22: 1
A23: 6.7 | B23: Ð³Ù³ÛÝùÇ Õ»Ï³í³ñÇ áñáßáõÙÝ»ñÇ` ³í»ÉÇ µ³ñÓñ Çñ³í³µ³Ý³Ï³Ý áõÅ áõÝ»óáÕ ÝáñÙ³ïÇí ³Ïï»ñÇÝ Ñ³Ù³å³ï³ëË³ÝáõÃÛáõÝÁ íÇ×³ñÏ»Éáõ í»ñ³µ»ñÛ³É | E23: 0 | I23: 0 | W23: 0 | Z23: 0
A24: 7 | B24: ÀÝïñ³Ï³Ý Çñ³íáõÝùÇ å³ßïå³ÝáõÃÛ³Ý Ñ»ï Ï³åí³Í Çñ³í³Ñ³ñ³µ»ñáõÃÛáõÝÝ»ñÇ í»ñ³µ»ñÛ³É ¹³ï³Ï³Ý ·áñÍ»ñ | C24: =+C25+C26+C27+C28+C29 -> 0 | D24: =+D25+D26+D27+D28+D29 -> 0 | E24: =+E25+E26+E27+E28+E29 -> 0 | F24: =+F25+F26+F27+F28+F29 -> 0 | G24: =+G25+G26+G27+G28+G29 -> 0 | H24: =+H25+H26+H27+H28+H29 -> 0 | I24: =+I25+I26+I27+I28+I29 -> 0 | J24: =+J25+J26+J27+J28+J29 -> 0 | ... AM24: =+AM25+AM26+AM27+AM28+AM29 -> 0
A25: 7.1 | B25: Ü³Ë³·³ÑÇ ÁÝïñáõÃÛáõÝÝ»ñÇ Ñ»ï Ï³åí³Í | E25: 0 | I25: 0 | W25: 0 | Z25: 0
A26: 7.2 | B26: ²½·³ÛÇÝ ÅáÕáíÇ ÁÝïñáõÃÛáõÝÝ»ñÇ Ñ»ï Ï³åí³Í | E26: 0 | I26: 0 | W26: 0 | Z26: 0
A27: 7.3 | B27: î»Õ³Ï³Ý ÇÝùÝ³Ï³é³í³ñÙ³Ý Ù³ñÙÇÝÝ»ñÇ ÁÝïñáõÃÛáõÝÝ»ñÇ Ñ»ï Ï³åí³Í | E27: 0 | I27: 0 | W27: 0 | Z27: 0
A28: 7.4 | B28: Ð³Ýñ³ùí»Ç Ï³½Ù³Ï»ñåÙ³Ý ¨ ³ÝóÏ³óÙ³Ý Ñ»ï Ï³åí³Í | E28: 0 | I28: 0 | W28: 0 | Z28: 0
A29: 7.5 | B29: ²ÛÉ í»×»ñ | E29: 0 | I29: 0 | W29: 0 | Z29: 0
A30: 9 | B30: Ð³í³ùÇ ³ÝóÏ³óÙ³Ý Ù³ëÇÝ Ñ³Ù³ÛÝùÇ Õ»Ï³í³ñÇ áñáßáõÙÝ»ñÇ ¨ ·áñÍáÕáõÃÛáõÝÝ»ñÇ Çñ³í³ã³÷áõÃÛáõÝÁ íÇ×³ñÏ»Éáõ Ñ»ï Ï³åí³Í Çñ³í³Ñ³ñ³µ»ñáõÃÛáõÝÝ»ñÇ í»ñ³µ»ñÛ³É ¹³ï³Ï³Ý ·áñÍ»ñ | E30: 0 | I30: 0 | W30: 0 | Z30: 0
A31: 10 | B31: ä»ï³Ï³Ý, Ñ³Ù³ÛÝù³ÛÇÝ Ï³Ù ³ÛÉÁÝïñ³Ýù³ÛÇÝ Í³é³ÛáõÃÛ³Ý ³ÝóÝ»Éáõ Ï³Ù Çñ³Ï³Ý³óÝ»Éáõ Ñ»ï Ï³åí³Í Çñ³í³Ñ³ñ³µ»ñáõÃÛáõÝÝ»ñÇ í»ñ³µ»ñÛ³É ¹³ï³Ï³Ý ·áñÍ»ñ | C31: 2 | E31: 2 | H31: 1 | I31: 1 | N31: 2 | P31: 2 | W31: 2 | X31: 1 | Z31: 0 | AB31: 2 | AD31: 2 | AF31: 2
A32: 11 | B32: ì³ñã³Ï³Ý Ù³ñÙÇÝÝ»ñÇ ÙÇç¨ Çñ³í³ëáõÃÛ³Ý Ñ³ñó»ñÇ í»ñ³µ»ñÛ³É í»×»ñÇ Ñ»ï Ï³åí³Í Çñ³í³Ñ³ñ³µ»ñáõÃÛáõÝÝ»ñÇ í»ñ³µ»ñÛ³É ¹³ï³Ï³Ý ·áñÍ»ñ | E32: 0 | I32: 0 | W32: 0 | Z32: 0
A33: 12 | B33: Ð³ë³ñ³Ï³Ï³Ý Ï³½Ù³Ï»ñåáõÃÛáõÝÝ»ñÇ ¨ ³ÛÉ ÙÇ³íáñáõÙÝ»ñÇ ·áñÍáõÝ»áõÃÛ³Ý Ï³ë»óÙ³Ý Ï³Ù ¹³¹³ñ»óÙ³Ý Ñ»ï Ï³åí³Í Çñ³í³Ñ³ñ³µ»ñáõÃÛáõÝÝ»ñÇ í»ñ³µ»ñÛ³É ¹³ï³Ï³Ý ·áñÍ»ñ | E33: 0 | H33: 1 | I33: 0 | J33: 1 | W33: 0 | Z33: 0
A34: 13 | B34: ì³ñã³ñ³ñáõÃÛ³Ùµ å³ï×³éí³Í íÝ³ëÇ å³ï³ëË³Ý³ïíáõÃÛ³Ý Ñ»ï Ï³åí³Í Çñ³í³Ñ³ñ³µ»ñáõÃÛáõÝÝ»ñÇ í»ñ³µ»ñÛ³É ¹³ï³Ï³Ý ·áñÍ»ñ | E34: 0 | I34: 0 | W34: 0 | Z34: 0
A35: 14 | B35: ²ÝÑ»ï³Ó·»ÉÇ ÙÇջամտության áñáßÙ³Ý, µáÕáù³ñÏ³ÙաÝ í»ñ³µ»ñÛ³É ¹³ï³Ï³Ý ·áñÍ»ñ | E35: 0 | H35: 3 | I35: 3 | N35: 3 | O35: 2 | P35: 1 | W35: 3 | Z35: 0 | AB35: 2 | AD35: 2 | AF35: 2 | AI35: 1 | AK35: 1 | AM35: 1
A36: 16 | B36: Դատավորի հավակնորդի հայտի ընդունումը մերժելու áñáßÙ³Ý µáÕáù³ñÏ³ÙաÝ í»ñ³µ»ñÛ³É ¹³ï³Ï³Ý ·áñÍ»ñ | E36: 0 | I36: 0 | W36: 0 | Z36: 0
A37: 9.5 | B37: Ընտրական հանձնաժողովի գործավար մատյանը չլրացնելը կամ ոչ պատշաճ լրացնելը | E37: 0 | I37: 0 | W37: 0 | Z37: 0
A38: 9.14 | B38: Ժողովներ, հանրահավաքներ, երթեր և ցույցեր անցկացնելու կարգը խախտելը | E38: 0 | H38: 1 | I38: 1 | N38: 1 | O38: 1 | W38: 1 | Z38: 0 | AB38: 1 | AD38: 1 | AF38: 1
A39: 9.15 | B39: Զինծառայողների կամ ոստիկ. ծառայողի օրին. պահանջը չկատարելը | C39: 13 | D39: 2 | E39: 11 | H39: 15 | I39: 14 | J39: 1 | N39: 14 | O39: 6 | Q39: 8 | W39: 14 | Z39: 13 | AA39: 2
A40: 9.18 | B40: Հայաստանի Հանրապետության ուսումնական հաստատություններում առարկաների հայերեն դասավանդումը կամ միջնակարգ-մասնագիտական, մասնագիտական տեխնիկական և բարձրագույն ուսումնական հաստատություններում հայոց լեզվի ուսուցումը կամ հայոց լեզվի ընդունելության քննությունը չապահովելը | E40: 0 | I40: 0 | W40: 0 | Z40: 0
A41: 9.19 | B41: ՀՀ պետ. մարմ., ձեռնարկ-ի, հիմն-ի և կազմ-ի (անկախ սեփ. ձևից) գործավ-ը ոչ հայերեն վարելը, ցուցանակները, ձևաթղթերը, դրոշմանիշները, նամականիշները, կնիքները, միջ. փոստ. ծրարները և գովազդները ոչ հայերեն ձևավորելը | C41: 1 | E41: 1 | I41: 0 | N41: 1 | Q41: 1 | W41: 1 | Z41: 0 | AI41: 1 | AK41: 1 | AL41: 1
A42: 9.23 | B42: Տեղեկություն տալու պարտականությունը չկատարելը | E42: 0 | I42: 0 | W42: 0 | Z42: 0
A43: 9.26 | B43: Տեղեկություն (տվյալ) չտրամադրելը կամ կեղծ տեղեկություն (տվյալ) ներկայացնելը | E43: 0 | I43: 0 | W43: 0 | Z43: 0
A44: 9.31 | B44: Հարկադիր կատարողի որոշումը դիտավորյալ չկատարելը կամ կատարմանը խոչընդոտելը | E44: 0 | I44: 0 | W44: 0 | Z44: 0
A45: 9.33 | B45: Այլ իրավախախտումներ | C45: 2 | E45: 2 | H45: 4 | I45: 3 | J45: 1 | M45: 1 | N45: 3 | O45: 1 | Q45: 2 | W45: 3 | Z45: 1 | AB45: 1 | AD45: 1 | AF45: 1
A46: 9.7 | B46: Գույքի մանր հափշտակում | E46: 0 | I46: 0 | W46: 0 | Z46: 0
A47: 8 | B47: ²ÛÉ í»×»ñ | C47: 1 | E47: 1 | H47: 14 | I47: 14 | N47: 3 | O47: 2 | Q47: 1 | S47: 2 | U47: 1 | V47: 1 | W47: 5 | Y47: 1 | Z47: 10 | AA47: 1 | AB47: 3 | AD47: 3 | AE47: 2 | AF47: 1
B48: ÀÝ¹³Ù»ÝÁ | C48: =+C9+C12+C15+C16+C24+C30+C31+C32+C33+C34+C35+C36+C37+C38+C39+C40+C41+C42+C43+C44+C45+C46+C47 -> 672 | D48: =+D9+D12+D15+D16+D24+D30+D31+D32+D33+D34+D35+D36+D37+D38+D39+D40+D41+D42+D43+D44+D45+D46+D47 -> 47 | E48: =+E9+E12+E15+E16+E24+E30+E31+E32+E33+E34+E35+E36+E37+E38+E39+E40+E41+E42+E43+E44+E45+E46+E47 -> 617 | F48: =+F9+F12+F15+F16+F24+F30+F31+F32+F33+F34+F35+F36+F37+F38+F39+F40+F41+F42+F43+F44+F45+F46+F47 -> 4 | G48: =+G9+G12+G15+G16+G24+G30+G31+G32+G33+G34+G35+G36+G37+G38+G39+G40+G41+G42+G43+G44+G45+G46+G47 -> 4 | H48: =+H9+H12+H15+H16+H24+H30+H31+H32+H33+H34+H35+H36+H37+H38+H39+H40+H41+H42+H43+H44+H45+H46+H47 -> 1441 | I48: =+I9+I12+I15+I16+I24+I30+I31+I32+I33+I34+I35+I36+I37+I38+I39+I40+I41+I42+I43+I44+I45+I46+I47 -> 1223 | J48: =+J9+J12+J15+J16+J24+J30+J31+J32+J33+J34+J35+J36+J37+J38+J39+J40+J41+J42+J43+J44+J45+J46+J47 -> 119 | ... AM48: =+AM9+AM12+AM15+AM16+AM24+AM30+AM31+AM32+AM33+AM34+AM35+AM36+AM37+AM38+AM39+AM40+AM41+AM42+AM43+AM44+AM45+AM46+AM47 -> 5
C49: 1 | D49: 2 | E49: 3 | F49: 4 | G49: 5 | H49: 6 | I49: 7 | J49: 8 | K49: 9 | L49: 10 | M49: 11 | N49: 12 | O49: 13 | P49: 14 | Q49: 15 | R49: 16 | S49: 17 | T49: 18 | U49: 19 | V49: 20 | W49: 21 | X49: 22 | Y49: 23 | Z49: 24 | AA49: 25 | AB49: 26 | AC49: 27 | AD49: 28 | AE49: 29 | AF49: 30 | AG49: 31 | AH49: 32 | AI49: 33 | AJ49: 34 | AK49: 35 | AL49: 36 | AM49: 37

Sheet Դ․Դանիելյան
AI1: Հավելված 2 Բարձրագույն դատական խորհրդի 2022թվականի դեկտեմբերի 26-ի թիվ ԲԴԽ-122-Ո-408 որոշման
A2: 2025թ. | C2: Ð²ÞìºîìàôÂÚàôÜ
A3: ÐÐ ì²ðâ²Î²Ü ¸²î²ð²ÜÆ ¸²î²ìàð ԴԱՆԻԵԼ ԴԱՆԻԵԼՅԱՆԻ ¶àðÌàôÜºàôÂÚ²Ü ìºð²´ºðÚ²È
A4: ÐÐ í³ñã³Ï³Ý ¹³ï³ñ³ÝÇ ¹³ï³íáñÝ»ñÇ Ñ³ëïÇùÝ»ñÇ ÃÇíÁ` 24
A5: êïáõ·Çã Ñ³í³ë³ñáõÙÝ»ñª 1=2+3+4+5, 6=7+8+9+10, 2+3+7=11+21+22+24, 12=13+14+15+16, 17=18+19+20, 21=12+17, 28=26+27, 28=29+30, 35=33+34, 35=36+37 | C5: Ð³ßí»ïáõ Å³Ù³Ý³Ï³Ñ³ïí³ÍáõÙ Ý³Ëáñ¹ Ñ³ßí»ïáõ Å³Ù³Ý³Ï³Ñ³ïí³ÍÇó ÷áË³Ýóí³Í ·áñÍ»ñÇ ÁÝ¹Ñ³Ýáõñ ÃÇíÁ | H5: Ð³ßí»ïáõ Å³Ù³Ý³Ï³Ñ³ïí³ÍáõÙ ëï³óí³Í ·áñÍ»ñÇ (³Û¹ ÃíáõÙ` Ñ³Ûó³¹ÇÙáõÙÝ»ñÇ, ¹ÇÙáõÙÝ»ñÇ) ÁÝ¹Ñ³Ýáõñ ÃÇíÁ | M5: öáË³Ýóí»É ¿ ³ÛÉ ¹³ï³íáñÇ (Ï³½ÙÇ ÷á÷áËáõÃÛáõÝ) | N5: Ð³ßí»ïáõ Å³Ù³Ý³Ï³Ñ³ïí³ÍáõÙ ³í³ñïí³Í ·áñÍ»ñÇ ÁÝ¹Ñ³Ýáõñ ÃÇíÁ | X5: ¶áñÍÝ áõÕ³ñÏí»É ¿ Áëï ÁÝ¹¹³ïáõÃÛ³Ý | Y5: Ð³ßí»ïáõ Å³Ù³Ý³Ï³Ñ³ïí³ÍáõÙ Ï³ë»óí³Í í³ñáõÛÃÝ»ñáí ·áñÍ»ñÇ ÁÝ¹Ñ³Ýáõñ ÃÇíÁ | Z5: Ð³ßí»ïáõ Å³Ù³Ý³Ï³Ñ³ïí³ÍáõÙ ³Ý³í³ñï ·áñÍ»ñÇ ÁÝ¹Ñ³Ýáõñ ÃÇíÁ | AA5: ²Û¹ ÃíáõÙ` Ï³ë»óí³Í | AB5: ´áÕáù³ñÏí³Í ¹³ï³Ï³Ý ³Ïï»ñÁ | AG5: ²í³ñïí³Í ¹³ï³Ï³Ý ·áñÍ»ñÇ µáÕáù³ñÏÙ³Ý ïáÏáëÁ (Ñ³ßí»ïáõ Å³Ù³Ý³Ï³Ñ³ïí³ÍáõÙ) | AH5: ²Ý³í³ñï µáÕáùÝ»ñ | AI5: ´»Ï³Ýí³Í ¹³ï³Ï³Ý ³Ïï»ñÁ
C6: ÀÝ¹³Ù»ÝÁ | D6: ²Û¹ ÃíáõÙ`Ï³ë»óí³Í íÇ×³ÏáõÙ ÷áË³Ýóí³Í | E6: ²Û¹ ÃíáõÙª ÁÝ¹áõÝí»É ¿ í³ñáõÛÃ | F6: ²Û¹ ÃíáõÙª í»ñ³¹³ñÓí»É ¿ | G6: ²Û¹ ÃíáõÙª ÁÝ¹áõÝáõÙÁ Ù»ñÅí»É ¿ | H6: ÀÝ¹³Ù»ÝÁ | I6: ²Û¹ ÃíáõÙª ÁÝ¹áõÝí»É ¿ í³ñáõÛÃ | J6: ²Û¹ ÃíáõÙª í»ñ³¹³ñÓí»É ¿ | K6: ²Û¹ ÃíáõÙª ÁÝ¹áõÝáõÙÁ Ù»ñÅí»É ¿ | L6: Այդ թվում անորոշ | N6: ÀÝ¹³Ù»ÝÁ ³í³ñïí»É »Ý ·áñÍ»ñ ·áñÍÝ Áëï ¿áõÃÛ³Ý ÉáõÍáÕ ¹³ï³Ï³Ý ³Ïï»ñÇ (í×ÇéÝ»ñÇ) Ï³Û³óÙ³Ùµ | O6: ²Û¹ ÃíáõÙª Ñ³ÛóÇ µ³í³ñ³ñÙ³Ùµ | P6: ²Û¹ ÃíáõÙª Ñ³ÛóÇ Ù³ëÝ³ÏÇ µ³í³ñ³ñÙ³Ùµ | Q6: ²Û¹ ÃíáõÙª Ñ³ÛóÇ Ù»ñÅÙ³Ùµ | R6: ²Û¹ ÃíáõÙ` Ù³ëÝ³ÏÇ Ù»ñÅí»É ¿, Ù³ëÝ³ÏÇ Ï³ñ×í»É | S6: ²Û¹ ÃíáõÙª Ï³ñ×í»É »Ý | W6: ÀÝ¹³Ù»ÝÝ ³í³ñïí»É »Ý ·áñÍ»ñ | AB6: ²Û¹ ÃíáõÙ` ·áñÍÝ Áëï ¿áõÃÛ³Ý ÉáõÍáÕ ¹³ï³Ï³Ý ³Ïï»ñÁ | AC6: ²Û¹ ÃíáõÙ` ÙÇç³ÝÏÛ³É ¹³ï³Ï³Ý ³Ïï»ñÁ | AD6: ÀÝ¹³Ù»ÝÁ | AE6: Ü³Ëáñ¹ ï³ñÇÝ»ñÇÝ Ï³Û³óí³Í ³Ïï»ñÇ µáÕáù³ñÏáõÙÁ Ñ³ßí»ïáõ Å³Ù³Ý³Ï³ßñç³ÝáõÙ | AF6: Ð³ßí»ïáõ Å³Ù³Ý³Ï³ßñç³ÝáõÙ Ï³Û³óí³Í ³Ïï»ñÇ µáÕáù³ñÏáõÙÁ | AI6: ²Û¹ ÃíáõÙ` ·áñÍÝ Áëï ¿áõÃÛ³Ý ÉáõÍáÕ ¹³ï³Ï³Ý ³Ïï»ñÁ | AJ6: ²Û¹ ÃíáõÙ` ÙÇç³ÝÏÛ³É ¹³ï³Ï³Ý ³Ïï»ñÁ | AK6: ÀÝ¹³Ù»ÝÁ | AL6: Ü³Ëáñ¹ ï³ñÇÝ»ñÇÝ Ï³Û³óí³Í ³Ïï»ñÇ µ»Ï³ÝáõÙÝ»ñÁ Ñ³ßí»ïáõ Å³Ù³Ý³Ï³ßñç³ÝáõÙ | AM6: Ð³ßí»ïáõ Å³Ù³Ý³Ï³ßñç³ÝáõÙ Ï³Û³óí³Í ³Ïï»ñÇ µ»Ï³ÝáõÙÁ
S7: ÀÝ¹³Ù»ÝÁ Ï³ñ×í»É »Ý | T7: ²Û¹ ÃíáõÙª Ñ³ëï³ïí»É ¿ ÏÝùí³Í Ñ³ßïáõÃÛ³Ý Ñ³Ù³Ó³ÛÝáõÃÛáõÝÁ | U7: ²Û¹ ÃíáõÙª Ñ³ÛóÇó, ¹ÇÙáõÙÇó Ññ³Å³ñí»Éáõ ÑÇÙùáí | V7: ²Û¹ ÃíáõÙª ³ÛÉ ÑÇÙùáí
B8: ì³ñã³Ï³Ý ·áñÍ»ñÇ ¹³ë³Ï³ñ·áõÙÁ | C8: 1 | D8: 2 | E8: 3 | F8: 4 | G8: 5 | H8: 6 | I8: 7 | J8: 8 | K8: 9 | L8: 10 | M8: 11 | N8: 12 | O8: 13 | P8: 14 | Q8: 15 | R8: 16 | S8: 17 | T8: 18 | U8: 19 | V8: 20 | W8: 21 | X8: 22 | Y8: 23 | Z8: 24 | AA8: 25 | AB8: 26 | AC8: 27 | AD8: 28 | AE8: 29 | AF8: 30 | AG8: 31 | AH8: 32 | AI8: 33 | AJ8: 34 | AK8: 35 | AL8: 36 | AM8: 37
A9: 1 | B9: ä»ï³Ï³Ý Ù³ñÙÇÝÝ»ñÇ, ï»Õ³Ï³Ý ÇÝùÝ³Ï³é³í³ñÙ³Ý Ù³ñÙÇÝÝ»ñÇ áõ ¹ñ³Ýó å³ßïáÝ³ï³ñ ³ÝÓ³Ýó ³Ïï»ñÝ ³Ýí³í»ñ ×³Ý³ã»Éáõ Ñ»ï Ï³åí³Í Çñ³í³ñ³Ñ³µ»ñáõÃÛáõÝÝ»ñÇ í»ñ³µ»ñÛ³É ¹³ï³Ï³Ý ·áñÍ»ñ | C9: =+C10+C11 -> 592 | D9: =+D10+D11 -> 17 | E9: =+E10+E11 -> 570 | F9: =+F10+F11 -> 4 | G9: =+G10+G11 -> 1 | H9: =+H10+H11 -> 1026 | I9: =+I10+I11 -> 792 | J9: =+J10+J11 -> 151 | ... AM9: =+AM10+AM11 -> 1
A10: 1.1 | B10: ä»ï³Ï³Ý Ù³ñÙÇÝÝ»ñÇ áõ ¹ñ³Ýó å³ßïáÝ³ï³ñ ³ÝÓ³Ýó ³Ïï»ñÝ ³Ýí³í»ñ ×³Ý³ã»Éáõ Ñ»ï Ï³åí³Í Çñ³í³Ñ³ñ³µ»ñáõÃÛáõÝÝ»ñÇ í»ñ³µ»ñÛ³É ¹³ï³Ï³Ý ·áñÍ»ñ | C10: 527 | D10: 14 | E10: 508 | F10: 4 | G10: 1 | H10: 885 | I10: 697 | J10: 117 | K10: 25 | L10: 46 | M10: 2 | N10: 602 | O10: 475 | P10: 4 | Q10: 123 | S10: 15 | U10: 5 | V10: 10 | W10: 617 | X10: 1 | Y10: 3 | Z10: 599 | AA10: 21 | AB10: 126 | AC10: 40 | AD10: 166 | AE10: 28 | AF10: 138 | AI10: 13 | AJ10: 1 | AK10: 14 | AL10: 13 | AM10: 1
A11: 1.2 | B11: î»Õ³Ï³Ý ÇÝùÝ³Ï³é³í³ñÙ³Ý Ù³ñÙÇÝÝ»ñÇ áõ ¹ñ³Ýó å³ßïáÝ³ï³ñ ³ÝÓ³Ýó ³Ïï»ñÝ ³Ýí³í»ñ ×³Ý³ã»Éáõ Ñ»ï Ï³åí³Í Çñ³í³Ñ³ñ³µ»ñáõÃÛáõÝÝ»ñÇ í»ñ³µ»ñÛ³É ¹³ï³Ï³Ý ·áñÍ»ñ | C11: 65 | D11: 3 | E11: 62 | H11: 141 | I11: 95 | J11: 34 | K11: 3 | L11: 9 | N11: 62 | O11: 48 | P11: 4 | Q11: 10 | S11: 5 | U11: 5 | W11: 67 | X11: 2 | Y11: 1 | Z11: 91 | AA11: 3 | AB11: 54 | AC11: 3 | AD11: 57 | AE11: 21 | AF11: 36 | AI11: 6 | AK11: 6 | AL11: 6
A12: 2 | B12: ä»ï³Ï³Ý Ù³ñÙÇÝÝ»ñÇ, ï»Õ³Ï³Ý ÇÝùÝ³Ï³é³í³ñÙ³Ý Ù³ñÙÇÝÝ»ñÇ ¨ ¹ñ³Ýó å³ßïáÝ³ï³ñ ³ÝÓ³Ýó ·áñÍáÕáõÃÛáõÝÝ»ñÁ /³Ý·áñÍáõÃÛáõÝÁ/ íÇ×³ñÏ»Éáõ Ñ»ï Ï³åí³Í Çñ³í³Ñ³ñ³µ»ñáõÃÛáõÝÝ»ñÇ í»ñ³µ»ñÛ³É ¹³ï³Ï³Ý ·áñÍ»ñ | C12: =C13+C14 -> 116 | D12: =D13+D14 -> 3 | E12: =E13+E14 -> 107 | F12: =F13+F14 -> 5 | G12: =G13+G14 -> 1 | H12: =H13+H14 -> 181 | I12: =I13+I14 -> 120 | J12: =J13+J14 -> 45 | ... AM12: =AM13+AM14 -> 0
A13: 2.1 | B13: ä»ï³Ï³Ý Ù³ñÙÇÝÝ»ñÇ ¨ ¹ñ³Ýó å³ßïáÝ³ï³ñ ³ÝÓ³Ýó ·áñÍáÕáõÃÛáõÝÝ»ñÁ /³Ý·áñÍáõÃÛáõÝÁ/ íÇ×³ñÏ»Éáõ Ñ»ï Ï³åí³Í Çñ³í³Ñ³ñ³µ»ñáõÃÛáõÝÝ»ñÇ í»ñ³µ»ñÛ³É ¹³ï³Ï³Ý ·áñÍ»ñ | C13: 48 | D13: 3 | E13: 41 | F13: 4 | H13: 107 | I13: 74 | J13: 23 | K13: 2 | L13: 8 | N13: 33 | O13: 11 | P13: 3 | Q13: 19 | S13: 6 | U13: 3 | V13: 3 | W13: 39 | X13: 2 | Y13: 2 | Z13: 77 | AA13: 3 | AB13: 22 | AC13: 3 | AD13: 25 | AE13: 7 | AF13: 18 | AI13: 5 | AJ13: 1 | AK13: 6 | AL13: 6
A14: 2.2 | B14: î»Õ³Ï³Ý ÇÝùÝ³Ï³é³í³ñÙ³Ý Ù³ñÙÇÝÝ»ñÇ áõ ¹ñ³Ýó å³ßïáÝ³ï³ñ ³ÝÓ³Ýó ·áñÍáÕáõÃÛáõÝÝ»ñÁ /³Ý·áñÍáõÃÛáõÝÁ/ íÇ×³ñÏ»Éáõ Ñ»ï Ï³åí³Í Çñ³í³Ñ³ñ³µ»ñáõÃÛáõÝÝ»ñÇ í»ñ³µ»ñÛ³É ¹³ï³Ï³Ý ·áñÍ»ñ | C14: 68 | E14: 66 | F14: 1 | G14: 1 | H14: 74 | I14: 46 | J14: 22 | K14: 3 | L14: 3 | M14: 1 | N14: 27 | O14: 10 | P14: 2 | Q14: 15 | S14: 1 | V14: 1 | W14: 28 | X14: 1 | Y14: 1 | Z14: 82 | AA14: 2 | AB14: 22 | AC14: 4 | AD14: 26 | AE14: 1 | AF14: 25 | AI14: 4 | AK14: 4 | AL14: 4
A15: 5 | B15: Üáï³ñ³Ï³Ý ·áñÍáÕáõÃÛáõÝÝ»ñÁ Ï³Ù Ýáï³ñÇ ³Ý·áñÍáõÃÛáõÝÁ íÇ×³ñÏ»Éáõ Ñ»ï Ï³åí³Í Çñ³í³Ñ³ñ³µ»ñáõÃÛáõÝÝ»ñÇ í»ñ³µ»ñÛ³É ¹³ï³Ï³Ý ·áñÍ»ñ | C15: 3 | E15: 3 | I15: 0 | S15: 1 | U15: 1 | W15: 1 | Z15: 2
A16: 6 | B16: ÜáñÙ³ïÇí Çñ³í³Ï³Ý ³Ïï»ñÇ Çñ³í³ã³÷áõÃÛáõÝÁ íÇ×³ñÏ»Éáõ Ñ»ï Ï³åí³Í Çñ³í³Ñ³ñ³µ»ñáõÃÛáõÝÝ»ñÇ í»ñ³µ»ñÛ³É ¹³ï³Ï³Ý ·áñÍ»ñ | C16: =C17+C18+C19+C20+C21+C22+C23 -> 2 | D16: =D17+D18+D19+D20+D21+D22+D23 -> 0 | E16: =E17+E18+E19+E20+E21+E22+E23 -> 2 | F16: =F17+F18+F19+F20+F21+F22+F23 -> 0 | G16: =G17+G18+G19+G20+G21+G22+G23 -> 0 | H16: =H17+H18+H19+H20+H21+H22+H23 -> 6 | I16: =I17+I18+I19+I20+I21+I22+I23 -> 3 | J16: =J17+J18+J19+J20+J21+J22+J23 -> 3 | ... AM16: =AM17+AM18+AM19+AM20+AM21+AM22+AM23 -> 0
A17: 6.1 | B17: ¶»ñ³ï»ëã³Ï³Ý ÝáñÙ³ïÇí Çñ³í³Ï³Ý ³Ïï»ñÇª ÐÐ ê³ÑÙ³Ý³¹ñáõÃÛ³ÝÁ Ñ³Ù³å³ï³ëË³ÝáõÃÛáõÝÁ íÇ×³ñÏ»Éáõ í»ñ³µ»ñÛ³É | E17: 0 | I17: 0 | W17: 0 | Z17: 0
A18: 6.2 | B18: Ü³Ë³·³ÑÇ ÝáñÙ³ïÇí µÝáõÛÃ áõÝ»óáÕ ³Ïï»ñÇ` ³í»ÉÇ µ³ñÓñ Çñ³í³µ³Ý³Ï³Ý áõÅ áõÝ»óáÕ ÝáñÙ³ïÇí ³Ïï»ñÇÝ Ñ³Ù³å³ï³ëË³ÝáõÃÛáõÝÁ íÇ×³ñÏ»Éáõ í»ñ³µ»ñÛ³É | E18: 0 | I18: 0 | W18: 0 | Z18: 0
A19: 6.3 | B19: Î³é³í³ñáõÃÛ³Ý ÝáñÙ³ïÇí áñáßáõÙÝ»ñÇ`³í»ÉÇ µ³ñÓñ Çñ³í³µ³Ý³Ï³Ý áõÅ áõÝ»óáÕ ÝáñÙ³ïÇí ³Ïï»ñÇÝ Ñ³Ù³å³ï³ëË³ÝáõÃÛáõÝÁ íÇ×³ñÏ»Éáõ í»ñ³µ»ñÛ³É | C19: 2 | E19: 2 | H19: 2 | I19: 1 | J19: 1 | N19: 1 | Q19: 1 | W19: 1 | Z19: 2
A20: 6.4 | B20: ì³ñã³å»ïÇ ÝáñÙ³ïÇí áñáßáõÙÝ»ñÇ` ³í»ÉÇ µ³ñÓñ Çñ³í³µ³Ý³Ï³Ý áõÅ áõÝ»óáÕ ÝáñÙ³ïÇí ³Ïï»ñÇÝ Ñ³Ù³å³ï³ëË³ÝáõÃÛáõÝÁ íÇ×³ñÏ»Éáõ í»ñ³µ»ñÛ³É | E20: 0 | I20: 0 | W20: 0 | Z20: 0
A21: 6.5 | B21: ¶»ñ³ï»ëã³Ï³Ý ÝáñÙ³ïÇí Çñ³í³Ï³Ý ³Ïï»ñÇ` ³í»ÉÇ µ³ñÓñ Çñ³í³µ³Ý³Ï³Ý áõÅ áõÝ»óáÕ ÝáñÙ³ïÇí ³Ïï»ñÇÝ Ñ³Ù³å³ï³ëË³ÝáõÃÛáõÝÁ íÇ×³ñÏ»Éáõ í»ñ³µ»ñÛ³É | E21: 0 | I21: 0 | W21: 0 | Z21: 0
A22: 6.6 | B22: Ð³Ù³ÛÝùÇ ³í³·³Ýáõ áñáßáõÙÝ»ñÇ` ³í»ÉÇ µ³ñÓñ Çñ³í³µ³Ý³Ï³Ý áõÅ áõÝ»óáÕ ÝáñÙ³ïÇí ³Ïï»ñÇÝ Ñ³Ù³å³ï³ëË³ÝáõÃÛáõÝÁ íÇ×³ñÏ»Éáõ í»ñ³µ»ñÛ³É | E22: 0 | H22: 2 | I22: 1 | J22: 1 | M22: 1 | W22: 0 | Z22: 0
A23: 6.7 | B23: Ð³Ù³ÛÝùÇ Õ»Ï³í³ñÇ áñáßáõÙÝ»ñÇ` ³í»ÉÇ µ³ñÓñ Çñ³í³µ³Ý³Ï³Ý áõÅ áõÝ»óáÕ ÝáñÙ³ïÇí ³Ïï»ñÇÝ Ñ³Ù³å³ï³ëË³ÝáõÃÛáõÝÁ íÇ×³ñÏ»Éáõ í»ñ³µ»ñÛ³É | E23: 0 | H23: 2 | I23: 1 | J23: 1 | M23: 1 | W23: 0 | Z23: 0
A24: 7 | B24: ÀÝïñ³Ï³Ý Çñ³íáõÝùÇ å³ßïå³ÝáõÃÛ³Ý Ñ»ï Ï³åí³Í Çñ³í³Ñ³ñ³µ»ñáõÃÛáõÝÝ»ñÇ í»ñ³µ»ñÛ³É ¹³ï³Ï³Ý ·áñÍ»ñ | C24: =+C25+C26+C27+C28+C29 -> 0 | D24: =+D25+D26+D27+D28+D29 -> 0 | E24: =+E25+E26+E27+E28+E29 -> 0 | F24: =+F25+F26+F27+F28+F29 -> 0 | G24: =+G25+G26+G27+G28+G29 -> 0 | H24: =+H25+H26+H27+H28+H29 -> 0 | I24: =+I25+I26+I27+I28+I29 -> 0 | J24: =+J25+J26+J27+J28+J29 -> 0 | ... AM24: =+AM25+AM26+AM27+AM28+AM29 -> 0
A25: 7.1 | B25: Ü³Ë³·³ÑÇ ÁÝïñáõÃÛáõÝÝ»ñÇ Ñ»ï Ï³åí³Í | E25: 0 | I25: 0 | W25: 0 | Z25: 0
A26: 7.2 | B26: ²½·³ÛÇÝ ÅáÕáíÇ ÁÝïñáõÃÛáõÝÝ»ñÇ Ñ»ï Ï³åí³Í | E26: 0 | I26: 0 | W26: 0 | Z26: 0
A27: 7.3 | B27: î»Õ³Ï³Ý ÇÝùÝ³Ï³é³í³ñÙ³Ý Ù³ñÙÇÝÝ»ñÇ ÁÝïñáõÃÛáõÝÝ»ñÇ Ñ»ï Ï³åí³Í | E27: 0 | I27: 0 | W27: 0 | Z27: 0
A28: 7.4 | B28: Ð³Ýñ³ùí»Ç Ï³½Ù³Ï»ñåÙ³Ý ¨ ³ÝóÏ³óÙ³Ý Ñ»ï Ï³åí³Í | E28: 0 | I28: 0 | W28: 0 | Z28: 0
A29: 7.5 | B29: ²ÛÉ í»×»ñ | E29: 0 | I29: 0 | W29: 0 | Z29: 0
A30: 9 | B30: Ð³í³ùÇ ³ÝóÏ³óÙ³Ý Ù³ëÇÝ Ñ³Ù³ÛÝùÇ Õ»Ï³í³ñÇ áñáßáõÙÝ»ñÇ ¨ ·áñÍáÕáõÃÛáõÝÝ»ñÇ Çñ³í³ã³÷áõÃÛáõÝÁ íÇ×³ñÏ»Éáõ Ñ»ï Ï³åí³Í Çñ³í³Ñ³ñ³µ»ñáõÃÛáõÝÝ»ñÇ í»ñ³µ»ñÛ³É ¹³ï³Ï³Ý ·áñÍ»ñ | E30: 0 | I30: 0 | W30: 0 | Z30: 0
A31: 10 | B31: ä»ï³Ï³Ý, Ñ³Ù³ÛÝù³ÛÇÝ Ï³Ù ³ÛÉÁÝïñ³Ýù³ÛÇÝ Í³é³ÛáõÃÛ³Ý ³ÝóÝ»Éáõ Ï³Ù Çñ³Ï³Ý³óÝ»Éáõ Ñ»ï Ï³åí³Í Çñ³í³Ñ³ñ³µ»ñáõÃÛáõÝÝ»ñÇ í»ñ³µ»ñÛ³É ¹³ï³Ï³Ý ·áñÍ»ñ | E31: 0 | H31: 1 | I31: 1 | W31: 0 | Z31: 1
A32: 11 | B32: ì³ñã³Ï³Ý Ù³ñÙÇÝÝ»ñÇ ÙÇç¨ Çñ³í³ëáõÃÛ³Ý Ñ³ñó»ñÇ í»ñ³µ»ñÛ³É í»×»ñÇ Ñ»ï Ï³åí³Í Çñ³í³Ñ³ñ³µ»ñáõÃÛáõÝÝ»ñÇ í»ñ³µ»ñÛ³É ¹³ï³Ï³Ý ·áñÍ»ñ | E32: 0 | I32: 0 | W32: 0 | Z32: 0
A33: 12 | B33: Ð³ë³ñ³Ï³Ï³Ý Ï³½Ù³Ï»ñåáõÃÛáõÝÝ»ñÇ ¨ ³ÛÉ ÙÇ³íáñáõÙÝ»ñÇ ·áñÍáõÝ»áõÃÛ³Ý Ï³ë»óÙ³Ý Ï³Ù ¹³¹³ñ»óÙ³Ý Ñ»ï Ï³åí³Í Çñ³í³Ñ³ñ³µ»ñáõÃÛáõÝÝ»ñÇ í»ñ³µ»ñÛ³É ¹³ï³Ï³Ý ·áñÍ»ñ | E33: 0 | I33: 0 | W33: 0 | Z33: 0
A34: 13 | B34: ì³ñã³ñ³ñáõÃÛ³Ùµ å³ï×³éí³Í íÝ³ëÇ å³ï³ëË³Ý³ïíáõÃÛ³Ý Ñ»ï Ï³åí³Í Çñ³í³Ñ³ñ³µ»ñáõÃÛáõÝÝ»ñÇ í»ñ³µ»ñÛ³É ¹³ï³Ï³Ý ·áñÍ»ñ | C34: 1 | E34: 1 | I34: 0 | W34: 0 | Z34: 1
A35: 14 | B35: ²ÝÑ»ï³Ó·»ÉÇ ÙÇջամտության áñáßÙ³Ý, µáÕáù³ñÏ³ÙաÝ í»ñ³µ»ñÛ³É ¹³ï³Ï³Ý ·áñÍ»ñ | E35: 0 | H35: 3 | I35: 2 | J35: 1 | N35: 2 | O35: 2 | W35: 2 | Z35: 0 | AB35: 1 | AD35: 1 | AF35: 1
A36: 16 | B36: Դատավորի հավակնորդի հայտի ընդունումը մերժելու áñáßÙ³Ý µáÕáù³ñÏ³ÙաÝ í»ñ³µ»ñÛ³É ¹³ï³Ï³Ý ·áñÍ»ñ | E36: 0 | I36: 0 | W36: 0 | Z36: 0
A37: 9.5 | B37: Ընտրական հանձնաժողովի գործավար մատյանը չլրացնելը կամ ոչ պատշաճ լրացնելը | E37: 0 | I37: 0 | W37: 0 | Z37: 0
A38: 9.14 | B38: Ժողովներ, հանրահավաքներ, երթեր և ցույցեր անցկացնելու կարգը խախտելը | E38: 0 | I38: 0 | W38: 0 | Z38: 0
A39: 9.15 | B39: Զինծառայողների կամ ոստիկ. ծառայողի օրին. պահանջը չկատարելը | C39: 28 | E39: 28 | H39: 12 | I39: 10 | J39: 1 | K39: 1 | M39: 2 | N39: 27 | O39: 7 | Q39: 20 | W39: 27 | Z39: 9 | AB39: 5 | AD39: 5 | AF39: 5
A40: 9.18 | B40: Հայաստանի Հանրապետության ուսումնական հաստատություններում առարկաների հայերեն դասավանդումը կամ միջնակարգ-մասնագիտական, մասնագիտական տեխնիկական և բարձրագույն ուսումնական հաստատություններում հայոց լեզվի ուսուցումը կամ հայոց լեզվի ընդունելության քննությունը չապահովելը | E40: 0 | I40: 0 | W40: 0 | Z40: 0
A41: 9.19 | B41: ՀՀ պետ. մարմ., ձեռնարկ-ի, հիմն-ի և կազմ-ի (անկախ սեփ. ձևից) գործավ-ը ոչ հայերեն վարելը, ցուցանակները, ձևաթղթերը, դրոշմանիշները, նամականիշները, կնիքները, միջ. փոստ. ծրարները և գովազդները ոչ հայերեն ձևավորելը | C41: 1 | E41: 1 | I41: 0 | N41: 1 | Q41: 1 | W41: 1 | Z41: 0
A42: 9.23 | B42: Տեղեկություն տալու պարտականությունը չկատարելը | E42: 0 | I42: 0 | W42: 0 | Z42: 0
A43: 9.26 | B43: Տեղեկություն (տվյալ) չտրամադրելը կամ կեղծ տեղեկություն (տվյալ) ներկայացնելը | E43: 0 | I43: 0 | W43: 0 | Z43: 0
A44: 9.31 | B44: Հարկադիր կատարողի որոշումը դիտավորյալ չկատարելը կամ կատարմանը խոչընդոտելը | E44: 0 | I44: 0 | W44: 0 | Z44: 0
A45: 9.33 | B45: Այլ իրավախախտումներ | C45: 7 | E45: 7 | H45: 3 | I45: 3 | M45: 2 | N45: 5 | O45: 4 | Q45: 1 | W45: 5 | Z45: 3 | AB45: 1 | AD45: 1 | AF45: 1
A46: 9.7 | B46: Գույքի մանր հափշտակում | E46: 0 | I46: 0 | W46: 0 | Z46: 0
A47: 8 | B47: ²ÛÉ í»×»ñ | C47: 7 | D47: 1 | E47: 6 | H47: 17 | I47: 9 | J47: 5 | K47: 1 | L47: 2 | N47: 5 | O47: 2 | Q47: 3 | S47: 2 | U47: 2 | W47: 7 | Z47: 9 | AB47: 1 | AC47: 1 | AD47: 2 | AF47: 2 | AI47: 1 | AK47: 1 | AL47: 1
B48: ÀÝ¹³Ù»ÝÁ | C48: =+C9+C12+C15+C16+C24+C30+C31+C32+C33+C34+C35+C36+C37+C38+C39+C40+C41+C42+C43+C44+C45+C46+C47 -> 757 | D48: =+D9+D12+D15+D16+D24+D30+D31+D32+D33+D34+D35+D36+D37+D38+D39+D40+D41+D42+D43+D44+D45+D46+D47 -> 21 | E48: =+E9+E12+E15+E16+E24+E30+E31+E32+E33+E34+E35+E36+E37+E38+E39+E40+E41+E42+E43+E44+E45+E46+E47 -> 725 | F48: =+F9+F12+F15+F16+F24+F30+F31+F32+F33+F34+F35+F36+F37+F38+F39+F40+F41+F42+F43+F44+F45+F46+F47 -> 9 | G48: =+G9+G12+G15+G16+G24+G30+G31+G32+G33+G34+G35+G36+G37+G38+G39+G40+G41+G42+G43+G44+G45+G46+G47 -> 2 | H48: =+H9+H12+H15+H16+H24+H30+H31+H32+H33+H34+H35+H36+H37+H38+H39+H40+H41+H42+H43+H44+H45+H46+H47 -> 1249 | I48: =+I9+I12+I15+I16+I24+I30+I31+I32+I33+I34+I35+I36+I37+I38+I39+I40+I41+I42+I43+I44+I45+I46+I47 -> 940 | J48: =+J9+J12+J15+J16+J24+J30+J31+J32+J33+J34+J35+J36+J37+J38+J39+J40+J41+J42+J43+J44+J45+J46+J47 -> 206 | ... AM48: =+AM9+AM12+AM15+AM16+AM24+AM30+AM31+AM32+AM33+AM34+AM35+AM36+AM37+AM38+AM39+AM40+AM41+AM42+AM43+AM44+AM45+AM46+AM47 -> 1
C49: 1 | D49: 2 | E49: 3 | F49: 4 | G49: 5 | H49: 6 | I49: 7 | J49: 8 | K49: 9 | L49: 10 | M49: 11 | N49: 12 | O49: 13 | P49: 14 | Q49: 15 | R49: 16 | S49: 17 | T49: 18 | U49: 19 | V49: 20 | W49: 21 | X49: 22 | Y49: 23 | Z49: 24 | AA49: 25 | AB49: 26 | AC49: 27 | AD49: 28 | AE49: 29 | AF49: 30 | AG49: 31 | AH49: 32 | AI49: 33 | AJ49: 34 | AK49: 35 | AL49: 36 | AM49: 37

Sheet Ա․Դարբինյան
D1: =+'Ա․Ղազարյան'!C10+'Ռ․Ազրոյան'!C10+'Գ․Առաքելյան'!C10+'Ե․Առաքելյան'!C10+'Ա․Ավագյան'!C10+'Դ․Դանիելյան'!C10+C10+'Ա․Դիլբարյան'!C10+'Կ․Զարիկյան'!C10+'Մ․Համբարձումյան'!C10+'Ա․Ծատուրյան'!C10+'Ա․Հարությունյան'!C10+'Ռ․Մաքեյան'!C10+'Վ․Միքաելյան'!C10+'Ա․Ներսիսյան'!C10+'Ա․Չիլինգարյան'!C10+'Մ․Պետրոսյան'!C10+'Լ․Սադոյան'!C10+'Տ․Սանթրոսյան'!C10+'Ա․Մկրտչյան'!C10+'Լ․Բոյաջյան'!C10+'Հ․Մուրադյան'!C10+'Ն. Գասպարյան'!C10+'Օ. Դիլբանդյան'!C10+'Ա. Քամալյան'!C10 -> 8991 | AI1: Հավելված 2 Բարձրագույն դատական խորհրդի 2022թվականի դեկտեմբերի 26-ի թիվ ԲԴԽ-122-Ո-408 որոշման
A2: 2025թ. | C2: Ð²ÞìºîìàôÂÚàôÜ
A3: ÐÐ ì²ðâ²Î²Ü ¸²î²ð²ÜÆ ¸²î²ìàð ԱՂԱՍԻ ԴԱՐԲԻՆՅԱՆԻ ¶àðÌàôÜºàôÂÚ²Ü ìºð²´ºðÚ²È
A4: ÐÐ í³ñã³Ï³Ý ¹³ï³ñ³ÝÇ ¹³ï³íáñÝ»ñÇ Ñ³ëïÇùÝ»ñÇ ÃÇíÁ` 24
A5: êïáõ·Çã Ñ³í³ë³ñáõÙÝ»ñª 1=2+3+4+5, 6=7+8+9+10, 2+3+7=11+21+22+24, 12=13+14+15+16, 17=18+19+20, 21=12+17, 28=26+27, 28=29+30, 35=33+34, 35=36+37 | C5: Ð³ßí»ïáõ Å³Ù³Ý³Ï³Ñ³ïí³ÍáõÙ Ý³Ëáñ¹ Ñ³ßí»ïáõ Å³Ù³Ý³Ï³Ñ³ïí³ÍÇó ÷áË³Ýóí³Í ·áñÍ»ñÇ ÁÝ¹Ñ³Ýáõñ ÃÇíÁ | H5: Ð³ßí»ïáõ Å³Ù³Ý³Ï³Ñ³ïí³ÍáõÙ ëï³óí³Í ·áñÍ»ñÇ (³Û¹ ÃíáõÙ` Ñ³Ûó³¹ÇÙáõÙÝ»ñÇ, ¹ÇÙáõÙÝ»ñÇ) ÁÝ¹Ñ³Ýáõñ ÃÇíÁ | M5: öáË³Ýóí»É ¿ ³ÛÉ ¹³ï³íáñÇ (Ï³½ÙÇ ÷á÷áËáõÃÛáõÝ) | N5: Ð³ßí»ïáõ Å³Ù³Ý³Ï³Ñ³ïí³ÍáõÙ ³í³ñïí³Í ·áñÍ»ñÇ ÁÝ¹Ñ³Ýáõñ ÃÇíÁ | X5: ¶áñÍÝ áõÕ³ñÏí»É ¿ Áëï ÁÝ¹¹³ïáõÃÛ³Ý | Y5: Ð³ßí»ïáõ Å³Ù³Ý³Ï³Ñ³ïí³ÍáõÙ Ï³ë»óí³Í í³ñáõÛÃÝ»ñáí ·áñÍ»ñÇ ÁÝ¹Ñ³Ýáõñ ÃÇíÁ | Z5: Ð³ßí»ïáõ Å³Ù³Ý³Ï³Ñ³ïí³ÍáõÙ ³Ý³í³ñï ·áñÍ»ñÇ ÁÝ¹Ñ³Ýáõñ ÃÇíÁ | AA5: ²Û¹ ÃíáõÙ` Ï³ë»óí³Í | AB5: ´áÕáù³ñÏí³Í ¹³ï³Ï³Ý ³Ïï»ñÁ | AG5: ²í³ñïí³Í ¹³ï³Ï³Ý ·áñÍ»ñÇ µáÕáù³ñÏÙ³Ý ïáÏáëÁ (Ñ³ßí»ïáõ Å³Ù³Ý³Ï³Ñ³ïí³ÍáõÙ) | AH5: ²Ý³í³ñï µáÕáùÝ»ñ | AI5: ´»Ï³Ýí³Í ¹³ï³Ï³Ý ³Ïï»ñÁ
C6: ÀÝ¹³Ù»ÝÁ | D6: ²Û¹ ÃíáõÙ`Ï³ë»óí³Í íÇ×³ÏáõÙ ÷áË³Ýóí³Í | E6: ²Û¹ ÃíáõÙª ÁÝ¹áõÝí»É ¿ í³ñáõÛÃ | F6: ²Û¹ ÃíáõÙª í»ñ³¹³ñÓí»É ¿ | G6: ²Û¹ ÃíáõÙª ÁÝ¹áõÝáõÙÁ Ù»ñÅí»É ¿ | H6: ÀÝ¹³Ù»ÝÁ | I6: ²Û¹ ÃíáõÙª ÁÝ¹áõÝí»É ¿ í³ñáõÛÃ | J6: ²Û¹ ÃíáõÙª í»ñ³¹³ñÓí»É ¿ | K6: ²Û¹ ÃíáõÙª ÁÝ¹áõÝáõÙÁ Ù»ñÅí»É ¿ | L6: Այդ թվում անորոշ | N6: ÀÝ¹³Ù»ÝÁ ³í³ñïí»É »Ý ·áñÍ»ñ ·áñÍÝ Áëï ¿áõÃÛ³Ý ÉáõÍáÕ ¹³ï³Ï³Ý ³Ïï»ñÇ (í×ÇéÝ»ñÇ) Ï³Û³óÙ³Ùµ | O6: ²Û¹ ÃíáõÙª Ñ³ÛóÇ µ³í³ñ³ñÙ³Ùµ | P6: ²Û¹ ÃíáõÙª Ñ³ÛóÇ Ù³ëÝ³ÏÇ µ³í³ñ³ñÙ³Ùµ | Q6: ²Û¹ ÃíáõÙª Ñ³ÛóÇ Ù»ñÅÙ³Ùµ | R6: ²Û¹ ÃíáõÙ` Ù³ëÝ³ÏÇ Ù»ñÅí»É ¿, Ù³ëÝ³ÏÇ Ï³ñ×í»É | S6: ²Û¹ ÃíáõÙª Ï³ñ×í»É »Ý | W6: ÀÝ¹³Ù»ÝÝ ³í³ñïí»É »Ý ·áñÍ»ñ | AB6: ²Û¹ ÃíáõÙ` ·áñÍÝ Áëï ¿áõÃÛ³Ý ÉáõÍáÕ ¹³ï³Ï³Ý ³Ïï»ñÁ | AC6: ²Û¹ ÃíáõÙ` ÙÇç³ÝÏÛ³É ¹³ï³Ï³Ý ³Ïï»ñÁ | AD6: ÀÝ¹³Ù»ÝÁ | AE6: Ü³Ëáñ¹ ï³ñÇÝ»ñÇÝ Ï³Û³óí³Í ³Ïï»ñÇ µáÕáù³ñÏáõÙÁ Ñ³ßí»ïáõ Å³Ù³Ý³Ï³ßñç³ÝáõÙ | AF6: Ð³ßí»ïáõ Å³Ù³Ý³Ï³ßñç³ÝáõÙ Ï³Û³óí³Í ³Ïï»ñÇ µáÕáù³ñÏáõÙÁ | AI6: ²Û¹ ÃíáõÙ` ·áñÍÝ Áëï ¿áõÃÛ³Ý ÉáõÍáÕ ¹³ï³Ï³Ý ³Ïï»ñÁ | AJ6: ²Û¹ ÃíáõÙ` ÙÇç³ÝÏÛ³É ¹³ï³Ï³Ý ³Ïï»ñÁ | AK6: ÀÝ¹³Ù»ÝÁ | AL6: Ü³Ëáñ¹ ï³ñÇÝ»ñÇÝ Ï³Û³óí³Í ³Ïï»ñÇ µ»Ï³ÝáõÙÝ»ñÁ Ñ³ßí»ïáõ Å³Ù³Ý³Ï³ßñç³ÝáõÙ | AM6: Ð³ßí»ïáõ Å³Ù³Ý³Ï³ßñç³ÝáõÙ Ï³Û³óí³Í ³Ïï»ñÇ µ»Ï³ÝáõÙÁ
S7: ÀÝ¹³Ù»ÝÁ Ï³ñ×í»É »Ý | T7: ²Û¹ ÃíáõÙª Ñ³ëï³ïí»É ¿ ÏÝùí³Í Ñ³ßïáõÃÛ³Ý Ñ³Ù³Ó³ÛÝáõÃÛáõÝÁ | U7: ²Û¹ ÃíáõÙª Ñ³ÛóÇó, ¹ÇÙáõÙÇó Ññ³Å³ñí»Éáõ ÑÇÙùáí | V7: ²Û¹ ÃíáõÙª ³ÛÉ ÑÇÙùáí
B8: ì³ñã³Ï³Ý ·áñÍ»ñÇ ¹³ë³Ï³ñ·áõÙÁ | C8: 1 | D8: 2 | E8: 3 | F8: 4 | G8: 5 | H8: 6 | I8: 7 | J8: 8 | K8: 9 | L8: 10 | M8: 11 | N8: 12 | O8: 13 | P8: 14 | Q8: 15 | R8: 16 | S8: 17 | T8: 18 | U8: 19 | V8: 20 | W8: 21 | X8: 22 | Y8: 23 | Z8: 24 | AA8: 25 | AB8: 26 | AC8: 27 | AD8: 28 | AE8: 29 | AF8: 30 | AG8: 31 | AH8: 32 | AI8: 33 | AJ8: 34 | AK8: 35 | AL8: 36 | AM8: 37
A9: 1 | B9: ä»ï³Ï³Ý Ù³ñÙÇÝÝ»ñÇ, ï»Õ³Ï³Ý ÇÝùÝ³Ï³é³í³ñÙ³Ý Ù³ñÙÇÝÝ»ñÇ áõ ¹ñ³Ýó å³ßïáÝ³ï³ñ ³ÝÓ³Ýó ³Ïï»ñÝ ³Ýí³í»ñ ×³Ý³ã»Éáõ Ñ»ï Ï³åí³Í Çñ³í³ñ³Ñ³µ»ñáõÃÛáõÝÝ»ñÇ í»ñ³µ»ñÛ³É ¹³ï³Ï³Ý ·áñÍ»ñ | C9: =+C10+C11 -> 466 | D9: =+D10+D11 -> 59 | E9: =+E10+E11 -> 405 | F9: =+F10+F11 -> 1 | G9: =+G10+G11 -> 1 | H9: =+H10+H11 -> 1094 | I9: =+I10+I11 -> 903 | J9: =+J10+J11 -> 112 | ... AM9: =+AM10+AM11 -> 2
A10: 1.1 | B10: ä»ï³Ï³Ý Ù³ñÙÇÝÝ»ñÇ áõ ¹ñ³Ýó å³ßïáÝ³ï³ñ ³ÝÓ³Ýó ³Ïï»ñÝ ³Ýí³í»ñ ×³Ý³ã»Éáõ Ñ»ï Ï³åí³Í Çñ³í³Ñ³ñ³µ»ñáõÃÛáõÝÝ»ñÇ í»ñ³µ»ñÛ³É ¹³ï³Ï³Ý ·áñÍ»ñ | C10: 407 | D10: 55 | E10: 350 | F10: 1 | G10: 1 | H10: 943 | I10: 785 | J10: 86 | K10: 26 | L10: 46 | M10: 4 | N10: 712 | O10: 456 | P10: 5 | Q10: 251 | S10: 18 | T10: 1 | U10: 7 | V10: 10 | W10: 730 | X10: 1 | Y10: 13 | Z10: 455 | AA10: 64 | AB10: 180 | AC10: 35 | AD10: 215 | AE10: 25 | AF10: 190 | AI10: 27 | AJ10: 1 | AK10: 28 | AL10: 26 | AM10: 2
A11: 1.2 | B11: î»Õ³Ï³Ý ÇÝùÝ³Ï³é³í³ñÙ³Ý Ù³ñÙÇÝÝ»ñÇ áõ ¹ñ³Ýó å³ßïáÝ³ï³ñ ³ÝÓ³Ýó ³Ïï»ñÝ ³Ýí³í»ñ ×³Ý³ã»Éáõ Ñ»ï Ï³åí³Í Çñ³í³Ñ³ñ³µ»ñáõÃÛáõÝÝ»ñÇ í»ñ³µ»ñÛ³É ¹³ï³Ï³Ý ·áñÍ»ñ | C11: 59 | D11: 4 | E11: 55 | H11: 151 | I11: 118 | J11: 26 | K11: 4 | L11: 3 | M11: 1 | N11: 76 | O11: 52 | Q11: 24 | S11: 4 | U11: 3 | V11: 1 | W11: 80 | Y11: 5 | Z11: 96 | AA11: 8 | AB11: 43 | AC11: 4 | AD11: 47 | AE11: 3 | AF11: 44 | AI11: 2 | AK11: 2 | AL11: 2
A12: 2 | B12: ä»ï³Ï³Ý Ù³ñÙÇÝÝ»ñÇ, ï»Õ³Ï³Ý ÇÝùÝ³Ï³é³í³ñÙ³Ý Ù³ñÙÇÝÝ»ñÇ ¨ ¹ñ³Ýó å³ßïáÝ³ï³ñ ³ÝÓ³Ýó ·áñÍáÕáõÃÛáõÝÝ»ñÁ /³Ý·áñÍáõÃÛáõÝÁ/ íÇ×³ñÏ»Éáõ Ñ»ï Ï³åí³Í Çñ³í³Ñ³ñ³µ»ñáõÃÛáõÝÝ»ñÇ í»ñ³µ»ñÛ³É ¹³ï³Ï³Ý ·áñÍ»ñ | C12: =C13+C14 -> 99 | D12: =D13+D14 -> 10 | E12: =E13+E14 -> 89 | F12: =F13+F14 -> 0 | G12: =G13+G14 -> 0 | H12: =H13+H14 -> 185 | I12: =I13+I14 -> 122 | J12: =J13+J14 -> 44 | ... AM12: =AM13+AM14 -> 1
A13: 2.1 | B13: ä»ï³Ï³Ý Ù³ñÙÇÝÝ»ñÇ ¨ ¹ñ³Ýó å³ßïáÝ³ï³ñ ³ÝÓ³Ýó ·áñÍáÕáõÃÛáõÝÝ»ñÁ /³Ý·áñÍáõÃÛáõÝÁ/ íÇ×³ñÏ»Éáõ Ñ»ï Ï³åí³Í Çñ³í³Ñ³ñ³µ»ñáõÃÛáõÝÝ»ñÇ í»ñ³µ»ñÛ³É ¹³ï³Ï³Ý ·áñÍ»ñ | C13: 31 | D13: 5 | E13: 26 | H13: 109 | I13: 74 | J13: 25 | K13: 5 | L13: 5 | N13: 47 | O13: 19 | P13: 5 | Q13: 23 | S13: 4 | U13: 2 | V13: 2 | W13: 51 | Z13: 54 | AA13: 4 | AB13: 128 | AC13: 1 | AD13: 129 | AE13: 5 | AF13: 124 | AI13: 2 | AK13: 2 | AL13: 2
A14: 2.2 | B14: î»Õ³Ï³Ý ÇÝùÝ³Ï³é³í³ñÙ³Ý Ù³ñÙÇÝÝ»ñÇ áõ ¹ñ³Ýó å³ßïáÝ³ï³ñ ³ÝÓ³Ýó ·áñÍáÕáõÃÛáõÝÝ»ñÁ /³Ý·áñÍáõÃÛáõÝÁ/ íÇ×³ñÏ»Éáõ Ñ»ï Ï³åí³Í Çñ³í³Ñ³ñ³µ»ñáõÃÛáõÝÝ»ñÇ í»ñ³µ»ñÛ³É ¹³ï³Ï³Ý ·áñÍ»ñ | C14: 68 | D14: 5 | E14: 63 | H14: 76 | I14: 48 | J14: 19 | K14: 4 | L14: 5 | N14: 39 | O14: 10 | P14: 5 | Q14: 24 | S14: 6 | U14: 4 | V14: 2 | W14: 45 | Y14: 3 | Z14: 71 | AA14: 7 | AB14: 24 | AC14: 4 | AD14: 28 | AE14: 1 | AF14: 27 | AI14: 3 | AJ14: 1 | AK14: 4 | AL14: 3 | AM14: 1
A15: 5 | B15: Üáï³ñ³Ï³Ý ·áñÍáÕáõÃÛáõÝÝ»ñÁ Ï³Ù Ýáï³ñÇ ³Ý·áñÍáõÃÛáõÝÁ íÇ×³ñÏ»Éáõ Ñ»ï Ï³åí³Í Çñ³í³Ñ³ñ³µ»ñáõÃÛáõÝÝ»ñÇ í»ñ³µ»ñÛ³É ¹³ï³Ï³Ý ·áñÍ»ñ | C15: 2 | E15: 2 | H15: 2 | I15: 2 | N15: 1 | O15: 1 | S15: 1 | U15: 1 | W15: 2 | X15: 2 | Z15: 0 | AB15: 2 | AD15: 2 | AE15: 1 | AF15: 1
A16: 6 | B16: ÜáñÙ³ïÇí Çñ³í³Ï³Ý ³Ïï»ñÇ Çñ³í³ã³÷áõÃÛáõÝÁ íÇ×³ñÏ»Éáõ Ñ»ï Ï³åí³Í Çñ³í³Ñ³ñ³µ»ñáõÃÛáõÝÝ»ñÇ í»ñ³µ»ñÛ³É ¹³ï³Ï³Ý ·áñÍ»ñ | C16: =C17+C18+C19+C20+C21+C22+C23 -> 1 | D16: =D17+D18+D19+D20+D21+D22+D23 -> 0 | E16: =E17+E18+E19+E20+E21+E22+E23 -> 1 | F16: =F17+F18+F19+F20+F21+F22+F23 -> 0 | G16: =G17+G18+G19+G20+G21+G22+G23 -> 0 | H16: =H17+H18+H19+H20+H21+H22+H23 -> 2 | I16: =I17+I18+I19+I20+I21+I22+I23 -> 2 | J16: =J17+J18+J19+J20+J21+J22+J23 -> 0 | ... AM16: =AM17+AM18+AM19+AM20+AM21+AM22+AM23 -> 0
A17: 6.1 | B17: ¶»ñ³ï»ëã³Ï³Ý ÝáñÙ³ïÇí Çñ³í³Ï³Ý ³Ïï»ñÇª ÐÐ ê³ÑÙ³Ý³¹ñáõÃÛ³ÝÁ Ñ³Ù³å³ï³ëË³ÝáõÃÛáõÝÁ íÇ×³ñÏ»Éáõ í»ñ³µ»ñÛ³É | E17: 0 | I17: 0 | W17: 0 | Z17: 0
A18: 6.2 | B18: Ü³Ë³·³ÑÇ ÝáñÙ³ïÇí µÝáõÛÃ áõÝ»óáÕ ³Ïï»ñÇ` ³í»ÉÇ µ³ñÓñ Çñ³í³µ³Ý³Ï³Ý áõÅ áõÝ»óáÕ ÝáñÙ³ïÇí ³Ïï»ñÇÝ Ñ³Ù³å³ï³ëË³ÝáõÃÛáõÝÁ íÇ×³ñÏ»Éáõ í»ñ³µ»ñÛ³É | E18: 0 | I18: 0 | W18: 0 | Z18: 0
A19: 6.3 | B19: Î³é³í³ñáõÃÛ³Ý ÝáñÙ³ïÇí áñáßáõÙÝ»ñÇ`³í»ÉÇ µ³ñÓñ Çñ³í³µ³Ý³Ï³Ý áõÅ áõÝ»óáÕ ÝáñÙ³ïÇí ³Ïï»ñÇÝ Ñ³Ù³å³ï³ëË³ÝáõÃÛáõÝÁ íÇ×³ñÏ»Éáõ í»ñ³µ»ñÛ³É | C19: 1 | E19: 1 | H19: 2 | I19: 2 | W19: 0 | Z19: 3
A20: 6.4 | B20: ì³ñã³å»ïÇ ÝáñÙ³ïÇí áñáßáõÙÝ»ñÇ` ³í»ÉÇ µ³ñÓñ Çñ³í³µ³Ý³Ï³Ý áõÅ áõÝ»óáÕ ÝáñÙ³ïÇí ³Ïï»ñÇÝ Ñ³Ù³å³ï³ëË³ÝáõÃÛáõÝÁ íÇ×³ñÏ»Éáõ í»ñ³µ»ñÛ³É | E20: 0 | I20: 0 | W20: 0 | Z20: 0
A21: 6.5 | B21: ¶»ñ³ï»ëã³Ï³Ý ÝáñÙ³ïÇí Çñ³í³Ï³Ý ³Ïï»ñÇ` ³í»ÉÇ µ³ñÓñ Çñ³í³µ³Ý³Ï³Ý áõÅ áõÝ»óáÕ ÝáñÙ³ïÇí ³Ïï»ñÇÝ Ñ³Ù³å³ï³ëË³ÝáõÃÛáõÝÁ íÇ×³ñÏ»Éáõ í»ñ³µ»ñÛ³É | E21: 0 | I21: 0 | W21: 0 | Z21: 0
A22: 6.6 | B22: Ð³Ù³ÛÝùÇ ³í³·³Ýáõ áñáßáõÙÝ»ñÇ` ³í»ÉÇ µ³ñÓñ Çñ³í³µ³Ý³Ï³Ý áõÅ áõÝ»óáÕ ÝáñÙ³ïÇí ³Ïï»ñÇÝ Ñ³Ù³å³ï³ëË³ÝáõÃÛáõÝÁ íÇ×³ñÏ»Éáõ í»ñ³µ»ñÛ³É | E22: 0 | I22: 0 | W22: 0 | Z22: 0
A23: 6.7 | B23: Ð³Ù³ÛÝùÇ Õ»Ï³í³ñÇ áñáßáõÙÝ»ñÇ` ³í»ÉÇ µ³ñÓñ Çñ³í³µ³Ý³Ï³Ý áõÅ áõÝ»óáÕ ÝáñÙ³ïÇí ³Ïï»ñÇÝ Ñ³Ù³å³ï³ëË³ÝáõÃÛáõÝÁ íÇ×³ñÏ»Éáõ í»ñ³µ»ñÛ³É | E23: 0 | I23: 0 | W23: 0 | Z23: 0
A24: 7 | B24: ÀÝïñ³Ï³Ý Çñ³íáõÝùÇ å³ßïå³ÝáõÃÛ³Ý Ñ»ï Ï³åí³Í Çñ³í³Ñ³ñ³µ»ñáõÃÛáõÝÝ»ñÇ í»ñ³µ»ñÛ³É ¹³ï³Ï³Ý ·áñÍ»ñ | C24: =+C25+C26+C27+C28+C29 -> 0 | D24: =+D25+D26+D27+D28+D29 -> 0 | E24: =+E25+E26+E27+E28+E29 -> 0 | F24: =+F25+F26+F27+F28+F29 -> 0 | G24: =+G25+G26+G27+G28+G29 -> 0 | H24: =+H25+H26+H27+H28+H29 -> 0 | I24: =+I25+I26+I27+I28+I29 -> 0 | J24: =+J25+J26+J27+J28+J29 -> 0 | ... AM24: =+AM25+AM26+AM27+AM28+AM29 -> 0
A25: 7.1 | B25: Ü³Ë³·³ÑÇ ÁÝïñáõÃÛáõÝÝ»ñÇ Ñ»ï Ï³åí³Í | E25: 0 | I25: 0 | W25: 0 | Z25: 0
A26: 7.2 | B26: ²½·³ÛÇÝ ÅáÕáíÇ ÁÝïñáõÃÛáõÝÝ»ñÇ Ñ»ï Ï³åí³Í | E26: 0 | I26: 0 | W26: 0 | Z26: 0
A27: 7.3 | B27: î»Õ³Ï³Ý ÇÝùÝ³Ï³é³í³ñÙ³Ý Ù³ñÙÇÝÝ»ñÇ ÁÝïñáõÃÛáõÝÝ»ñÇ Ñ»ï Ï³åí³Í | E27: 0 | I27: 0 | W27: 0 | Z27: 0
A28: 7.4 | B28: Ð³Ýñ³ùí»Ç Ï³½Ù³Ï»ñåÙ³Ý ¨ ³ÝóÏ³óÙ³Ý Ñ»ï Ï³åí³Í | E28: 0 | I28: 0 | W28: 0 | Z28: 0
A29: 7.5 | B29: ²ÛÉ í»×»ñ | E29: 0 | I29: 0 | W29: 0 | Z29: 0
A30: 9 | B30: Ð³í³ùÇ ³ÝóÏ³óÙ³Ý Ù³ëÇÝ Ñ³Ù³ÛÝùÇ Õ»Ï³í³ñÇ áñáßáõÙÝ»ñÇ ¨ ·áñÍáÕáõÃÛáõÝÝ»ñÇ Çñ³í³ã³÷áõÃÛáõÝÁ íÇ×³ñÏ»Éáõ Ñ»ï Ï³åí³Í Çñ³í³Ñ³ñ³µ»ñáõÃÛáõÝÝ»ñÇ í»ñ³µ»ñÛ³É ¹³ï³Ï³Ý ·áñÍ»ñ | E30: 0 | I30: 0 | W30: 0 | Z30: 0
A31: 10 | B31: ä»ï³Ï³Ý, Ñ³Ù³ÛÝù³ÛÇÝ Ï³Ù ³ÛÉÁÝïñ³Ýù³ÛÇÝ Í³é³ÛáõÃÛ³Ý ³ÝóÝ»Éáõ Ï³Ù Çñ³Ï³Ý³óÝ»Éáõ Ñ»ï Ï³åí³Í Çñ³í³Ñ³ñ³µ»ñáõÃÛáõÝÝ»ñÇ í»ñ³µ»ñÛ³É ¹³ï³Ï³Ý ·áñÍ»ñ | C31: 3 | E31: 3 | H31: 1 | I31: 1 | N31: 2 | O31: 1 | Q31: 1 | W31: 2 | X31: 1 | Z31: 1 | AB31: 2 | AD31: 2 | AF31: 2 | AI31: 1 | AK31: 1 | AL31: 1
A32: 11 | B32: ì³ñã³Ï³Ý Ù³ñÙÇÝÝ»ñÇ ÙÇç¨ Çñ³í³ëáõÃÛ³Ý Ñ³ñó»ñÇ í»ñ³µ»ñÛ³É í»×»ñÇ Ñ»ï Ï³åí³Í Çñ³í³Ñ³ñ³µ»ñáõÃÛáõÝÝ»ñÇ í»ñ³µ»ñÛ³É ¹³ï³Ï³Ý ·áñÍ»ñ | E32: 0 | I32: 0 | W32: 0 | Z32: 0
A33: 12 | B33: Ð³ë³ñ³Ï³Ï³Ý Ï³½Ù³Ï»ñåáõÃÛáõÝÝ»ñÇ ¨ ³ÛÉ ÙÇ³íáñáõÙÝ»ñÇ ·áñÍáõÝ»áõÃÛ³Ý Ï³ë»óÙ³Ý Ï³Ù ¹³¹³ñ»óÙ³Ý Ñ»ï Ï³åí³Í Çñ³í³Ñ³ñ³µ»ñáõÃÛáõÝÝ»ñÇ í»ñ³µ»ñÛ³É ¹³ï³Ï³Ý ·áñÍ»ñ | E33: 0 | H33: 1 | I33: 1 | S33: 1 | V33: 1 | W33: 1 | Z33: 0
A34: 13 | B34: ì³ñã³ñ³ñáõÃÛ³Ùµ å³ï×³éí³Í íÝ³ëÇ å³ï³ëË³Ý³ïíáõÃÛ³Ý Ñ»ï Ï³åí³Í Çñ³í³Ñ³ñ³µ»ñáõÃÛáõÝÝ»ñÇ í»ñ³µ»ñÛ³É ¹³ï³Ï³Ý ·áñÍ»ñ | E34: 0 | I34: 0 | W34: 0 | Z34: 0
A35: 14 | B35: ²ÝÑ»ï³Ó·»ÉÇ ÙÇջամտության áñáßÙ³Ý, µáÕáù³ñÏ³ÙաÝ í»ñ³µ»ñÛ³É ¹³ï³Ï³Ý ·áñÍ»ñ | E35: 0 | I35: 0 | W35: 0 | Z35: 0
A36: 16 | B36: Դատավորի հավակնորդի հայտի ընդունումը մերժելու áñáßÙ³Ý µáÕáù³ñÏ³ÙաÝ í»ñ³µ»ñÛ³É ¹³ï³Ï³Ý ·áñÍ»ñ | E36: 0 | I36: 0 | W36: 0 | Z36: 0
A37: 9.5 | B37: Ընտրական հանձնաժողովի գործավար մատյանը չլրացնելը կամ ոչ պատշաճ լրացնելը | E37: 0 | I37: 0 | W37: 0 | Z37: 0
A38: 9.14 | B38: Ժողովներ, հանրահավաքներ, երթեր և ցույցեր անցկացնելու կարգը խախտելը | E38: 0 | I38: 0 | W38: 0 | Z38: 0
A39: 9.15 | B39: Զինծառայողների կամ ոստիկ. ծառայողի օրին. պահանջը չկատարելը | C39: 18 | D39: 4 | E39: 14 | H39: 18 | I39: 16 | K39: 1 | L39: 1 | N39: 22 | O39: 7 | Q39: 15 | S39: 1 | V39: 1 | W39: 23 | Z39: 11 | AA39: 4 | AB39: 9 | AD39: 9 | AF39: 9
A40: 9.18 | B40: Հայաստանի Հանրապետության ուսումնական հաստատություններում առարկաների հայերեն դասավանդումը կամ միջնակարգ-մասնագիտական, մասնագիտական տեխնիկական և բարձրագույն ուսումնական հաստատություններում հայոց լեզվի ուսուցումը կամ հայոց լեզվի ընդունելության քննությունը չապահովելը | C40: 0 | E40: 0 | I40: 0 | W40: 0 | Z40: 0
A41: 9.19 | B41: ՀՀ պետ. մարմ., ձեռնարկ-ի, հիմն-ի և կազմ-ի (անկախ սեփ. ձևից) գործավ-ը ոչ հայերեն վարելը, ցուցանակները, ձևաթղթերը, դրոշմանիշները, նամականիշները, կնիքները, միջ. փոստ. ծրարները և գովազդները ոչ հայերեն ձևավորելը | C41: 1 | E41: 1 | I41: 0 | N41: 1 | O41: 1 | W41: 1 | Z41: 0 | AB41: 1 | AD41: 1 | AF41: 1
A42: 9.23 | B42: Տեղեկություն տալու պարտականությունը չկատարելը | C42: 2 | D42: 1 | E42: 1 | I42: 0 | N42: 1 | Q42: 1 | W42: 1 | Z42: 1 | AA42: 1
A43: 9.26 | B43: Տեղեկություն (տվյալ) չտրամադրելը կամ կեղծ տեղեկություն (տվյալ) ներկայացնելը | E43: 0 | I43: 0 | W43: 0 | Z43: 0
A44: 9.31 | B44: Հարկադիր կատարողի որոշումը դիտավորյալ չկատարելը կամ կատարմանը խոչընդոտելը | E44: 0 | I44: 0 | W44: 0 | Z44: 0
A45: 9.33 | B45: Այլ իրավախախտումներ | E45: 0 | H45: 4 | I45: 4 | N45: 2 | O45: 2 | W45: 2 | Z45: 2
A46: 9.7 | B46: Գույքի մանր հափշտակում | E46: 0 | I46: 0 | W46: 0 | Z46: 0
A47: 8 | B47: ²ÛÉ í»×»ñ | C47: 2 | D47: 1 | E47: 1 | H47: 13 | I47: 9 | J47: 2 | K47: 1 | L47: 1 | N47: 1 | O47: 1 | S47: 3 | U47: 3 | W47: 4 | Y47: 1 | Z47: 7 | AA47: 1 | AC47: 1 | AD47: 1 | AF47: 1
B48: ÀÝ¹³Ù»ÝÁ | C48: =+C9+C12+C15+C16+C24+C30+C31+C32+C33+C34+C35+C36+C37+C38+C39+C40+C41+C42+C43+C44+C45+C46+C47 -> 594 | D48: =+D9+D12+D15+D16+D24+D30+D31+D32+D33+D34+D35+D36+D37+D38+D39+D40+D41+D42+D43+D44+D45+D46+D47 -> 75 | E48: =+E9+E12+E15+E16+E24+E30+E31+E32+E33+E34+E35+E36+E37+E38+E39+E40+E41+E42+E43+E44+E45+E46+E47 -> 517 | F48: =+F9+F12+F15+F16+F24+F30+F31+F32+F33+F34+F35+F36+F37+F38+F39+F40+F41+F42+F43+F44+F45+F46+F47 -> 1 | G48: =+G9+G12+G15+G16+G24+G30+G31+G32+G33+G34+G35+G36+G37+G38+G39+G40+G41+G42+G43+G44+G45+G46+G47 -> 1 | H48: =+H9+H12+H15+H16+H24+H30+H31+H32+H33+H34+H35+H36+H37+H38+H39+H40+H41+H42+H43+H44+H45+H46+H47 -> 1320 | I48: =+I9+I12+I15+I16+I24+I30+I31+I32+I33+I34+I35+I36+I37+I38+I39+I40+I41+I42+I43+I44+I45+I46+I47 -> 1060 | J48: =+J9+J12+J15+J16+J24+J30+J31+J32+J33+J34+J35+J36+J37+J38+J39+J40+J41+J42+J43+J44+J45+J46+J47 -> 158 | ... AM48: =+AM9+AM12+AM15+AM16+AM24+AM30+AM31+AM32+AM33+AM34+AM35+AM36+AM37+AM38+AM39+AM40+AM41+AM42+AM43+AM44+AM45+AM46+AM47 -> 3
C49: 1 | D49: 2 | E49: 3 | F49: 4 | G49: 5 | H49: 6 | I49: 7 | J49: 8 | K49: 9 | L49: 10 | M49: 11 | N49: 12 | O49: 13 | P49: 14 | Q49: 15 | R49: 16 | S49: 17 | T49: 18 | U49: 19 | V49: 20 | W49: 21 | X49: 22 | Y49: 23 | Z49: 24 | AA49: 25 | AB49: 26 | AC49: 27 | AD49: 28 | AE49: 29 | AF49: 30 | AG49: 31 | AH49: 32 | AI49: 33 | AJ49: 34 | AK49: 35 | AL49: 36 | AM49: 37

Sheet Ա․Դիլբարյան
AI1: Հավելված 2 Բարձրագույն դատական խորհրդի 2022թվականի դեկտեմբերի 26-ի թիվ ԲԴԽ-122-Ո-408 որոշման
A2: 2025թ. | C2: Ð²ÞìºîìàôÂÚàôÜ
A3: ÐÐ ì²ðâ²Î²Ü ¸²î²ð²ÜÆ ¸²î²ìàð ԱՆՆԱ ԴԻԼԲԱՐՅԱՆԻ ¶àðÌàôÜºàôÂÚ²Ü ìºð²´ºðÚ²È
A4: ÐÐ í³ñã³Ï³Ý ¹³ï³ñ³ÝÇ ¹³ï³íáñÝ»ñÇ Ñ³ëïÇùÝ»ñÇ ÃÇíÁ` 24
A5: êïáõ·Çã Ñ³í³ë³ñáõÙÝ»ñª 1=2+3+4+5, 6=7+8+9+10, 2+3+7=11+21+22+24, 12=13+14+15+16, 17=18+19+20, 21=12+17, 28=26+27, 28=29+30, 35=33+34, 35=36+37 | C5: Ð³ßí»ïáõ Å³Ù³Ý³Ï³Ñ³ïí³ÍáõÙ Ý³Ëáñ¹ Ñ³ßí»ïáõ Å³Ù³Ý³Ï³Ñ³ïí³ÍÇó ÷áË³Ýóí³Í ·áñÍ»ñÇ ÁÝ¹Ñ³Ýáõñ ÃÇíÁ | H5: Ð³ßí»ïáõ Å³Ù³Ý³Ï³Ñ³ïí³ÍáõÙ ëï³óí³Í ·áñÍ»ñÇ (³Û¹ ÃíáõÙ` Ñ³Ûó³¹ÇÙáõÙÝ»ñÇ, ¹ÇÙáõÙÝ»ñÇ) ÁÝ¹Ñ³Ýáõñ ÃÇíÁ | M5: öáË³Ýóí»É ¿ ³ÛÉ ¹³ï³íáñÇ (Ï³½ÙÇ ÷á÷áËáõÃÛáõÝ) | N5: Ð³ßí»ïáõ Å³Ù³Ý³Ï³Ñ³ïí³ÍáõÙ ³í³ñïí³Í ·áñÍ»ñÇ ÁÝ¹Ñ³Ýáõñ ÃÇíÁ | X5: ¶áñÍÝ áõÕ³ñÏí»É ¿ Áëï ÁÝ¹¹³ïáõÃÛ³Ý | Y5: Ð³ßí»ïáõ Å³Ù³Ý³Ï³Ñ³ïí³ÍáõÙ Ï³ë»óí³Í í³ñáõÛÃÝ»ñáí ·áñÍ»ñÇ ÁÝ¹Ñ³Ýáõñ ÃÇíÁ | Z5: Ð³ßí»ïáõ Å³Ù³Ý³Ï³Ñ³ïí³ÍáõÙ ³Ý³í³ñï ·áñÍ»ñÇ ÁÝ¹Ñ³Ýáõñ ÃÇíÁ | AA5: ²Û¹ ÃíáõÙ` Ï³ë»óí³Í | AB5: ´áÕáù³ñÏí³Í ¹³ï³Ï³Ý ³Ïï»ñÁ | AG5: ²í³ñïí³Í ¹³ï³Ï³Ý ·áñÍ»ñÇ µáÕáù³ñÏÙ³Ý ïáÏáëÁ (Ñ³ßí»ïáõ Å³Ù³Ý³Ï³Ñ³ïí³ÍáõÙ) | AH5: ²Ý³í³ñï µáÕáùÝ»ñ | AI5: ´»Ï³Ýí³Í ¹³ï³Ï³Ý ³Ïï»ñÁ
C6: ÀÝ¹³Ù»ÝÁ | D6: ²Û¹ ÃíáõÙ`Ï³ë»óí³Í íÇ×³ÏáõÙ ÷áË³Ýóí³Í | E6: ²Û¹ ÃíáõÙª ÁÝ¹áõÝí»É ¿ í³ñáõÛÃ | F6: ²Û¹ ÃíáõÙª í»ñ³¹³ñÓí»É ¿ | G6: ²Û¹ ÃíáõÙª ÁÝ¹áõÝáõÙÁ Ù»ñÅí»É ¿ | H6: ÀÝ¹³Ù»ÝÁ | I6: ²Û¹ ÃíáõÙª ÁÝ¹áõÝí»É ¿ í³ñáõÛÃ | J6: ²Û¹ ÃíáõÙª í»ñ³¹³ñÓí»É ¿ | K6: ²Û¹ ÃíáõÙª ÁÝ¹áõÝáõÙÁ Ù»ñÅí»É ¿ | L6: Այդ թվում անորոշ | N6: ÀÝ¹³Ù»ÝÁ ³í³ñïí»É »Ý ·áñÍ»ñ ·áñÍÝ Áëï ¿áõÃÛ³Ý ÉáõÍáÕ ¹³ï³Ï³Ý ³Ïï»ñÇ (í×ÇéÝ»ñÇ) Ï³Û³óÙ³Ùµ | O6: ²Û¹ ÃíáõÙª Ñ³ÛóÇ µ³í³ñ³ñÙ³Ùµ | P6: ²Û¹ ÃíáõÙª Ñ³ÛóÇ Ù³ëÝ³ÏÇ µ³í³ñ³ñÙ³Ùµ | Q6: ²Û¹ ÃíáõÙª Ñ³ÛóÇ Ù»ñÅÙ³Ùµ | R6: ²Û¹ ÃíáõÙ` Ù³ëÝ³ÏÇ Ù»ñÅí»É ¿, Ù³ëÝ³ÏÇ Ï³ñ×í»É | S6: ²Û¹ ÃíáõÙª Ï³ñ×í»É »Ý | W6: ÀÝ¹³Ù»ÝÝ ³í³ñïí»É »Ý ·áñÍ»ñ | AB6: ²Û¹ ÃíáõÙ` ·áñÍÝ Áëï ¿áõÃÛ³Ý ÉáõÍáÕ ¹³ï³Ï³Ý ³Ïï»ñÁ | AC6: ²Û¹ ÃíáõÙ` ÙÇç³ÝÏÛ³É ¹³ï³Ï³Ý ³Ïï»ñÁ | AD6: ÀÝ¹³Ù»ÝÁ | AE6: Ü³Ëáñ¹ ï³ñÇÝ»ñÇÝ Ï³Û³óí³Í ³Ïï»ñÇ µáÕáù³ñÏáõÙÁ Ñ³ßí»ïáõ Å³Ù³Ý³Ï³ßñç³ÝáõÙ | AF6: Ð³ßí»ïáõ Å³Ù³Ý³Ï³ßñç³ÝáõÙ Ï³Û³óí³Í ³Ïï»ñÇ µáÕáù³ñÏáõÙÁ | AI6: ²Û¹ ÃíáõÙ` ·áñÍÝ Áëï ¿áõÃÛ³Ý ÉáõÍáÕ ¹³ï³Ï³Ý ³Ïï»ñÁ | AJ6: ²Û¹ ÃíáõÙ` ÙÇç³ÝÏÛ³É ¹³ï³Ï³Ý ³Ïï»ñÁ | AK6: ÀÝ¹³Ù»ÝÁ | AL6: Ü³Ëáñ¹ ï³ñÇÝ»ñÇÝ Ï³Û³óí³Í ³Ïï»ñÇ µ»Ï³ÝáõÙÝ»ñÁ Ñ³ßí»ïáõ Å³Ù³Ý³Ï³ßñç³ÝáõÙ | AM6: Ð³ßí»ïáõ Å³Ù³Ý³Ï³ßñç³ÝáõÙ Ï³Û³óí³Í ³Ïï»ñÇ µ»Ï³ÝáõÙÁ
S7: ÀÝ¹³Ù»ÝÁ Ï³ñ×í»É »Ý | T7: ²Û¹ ÃíáõÙª Ñ³ëï³ïí»É ¿ ÏÝùí³Í Ñ³ßïáõÃÛ³Ý Ñ³Ù³Ó³ÛÝáõÃÛáõÝÁ | U7: ²Û¹ ÃíáõÙª Ñ³ÛóÇó, ¹ÇÙáõÙÇó Ññ³Å³ñí»Éáõ ÑÇÙùáí | V7: ²Û¹ ÃíáõÙª ³ÛÉ ÑÇÙùáí
B8: ì³ñã³Ï³Ý ·áñÍ»ñÇ ¹³ë³Ï³ñ·áõÙÁ | C8: 1 | D8: 2 | E8: 3 | F8: 4 | G8: 5 | H8: 6 | I8: 7 | J8: 8 | K8: 9 | L8: 10 | M8: 11 | N8: 12 | O8: 13 | P8: 14 | Q8: 15 | R8: 16 | S8: 17 | T8: 18 | U8: 19 | V8: 20 | W8: 21 | X8: 22 | Y8: 23 | Z8: 24 | AA8: 25 | AB8: 26 | AC8: 27 | AD8: 28 | AE8: 29 | AF8: 30 | AG8: 31 | AH8: 32 | AI8: 33 | AJ8: 34 | AK8: 35 | AL8: 36 | AM8: 37
A9: 1 | B9: ä»ï³Ï³Ý Ù³ñÙÇÝÝ»ñÇ, ï»Õ³Ï³Ý ÇÝùÝ³Ï³é³í³ñÙ³Ý Ù³ñÙÇÝÝ»ñÇ áõ ¹ñ³Ýó å³ßïáÝ³ï³ñ ³ÝÓ³Ýó ³Ïï»ñÝ ³Ýí³í»ñ ×³Ý³ã»Éáõ Ñ»ï Ï³åí³Í Çñ³í³ñ³Ñ³µ»ñáõÃÛáõÝÝ»ñÇ í»ñ³µ»ñÛ³É ¹³ï³Ï³Ý ·áñÍ»ñ | C9: =+C10+C11 -> 558 | D9: =+D10+D11 -> 21 | E9: =+E10+E11 -> 532 | F9: =+F10+F11 -> 2 | G9: =+G10+G11 -> 3 | H9: =+H10+H11 -> 1151 | I9: =+I10+I11 -> 1044 | J9: =+J10+J11 -> 79 | ... AM9: =+AM10+AM11 -> 4
A10: 1.1 | B10: ä»ï³Ï³Ý Ù³ñÙÇÝÝ»ñÇ áõ ¹ñ³Ýó å³ßïáÝ³ï³ñ ³ÝÓ³Ýó ³Ïï»ñÝ ³Ýí³í»ñ ×³Ý³ã»Éáõ Ñ»ï Ï³åí³Í Çñ³í³Ñ³ñ³µ»ñáõÃÛáõÝÝ»ñÇ í»ñ³µ»ñÛ³É ¹³ï³Ï³Ý ·áñÍ»ñ | C10: 471 | D10: 19 | E10: 451 | F10: 1 | H10: 967 | I10: 879 | J10: 63 | K10: 25 | M10: 1 | N10: 835 | O10: 708 | P10: 5 | Q10: 122 | S10: 13 | T10: 1 | U10: 2 | V10: 10 | W10: 848 | Y10: 12 | Z10: 500 | AA10: 19 | AB10: 192 | AC10: 31 | AD10: 223 | AE10: 39 | AF10: 184 | AI10: 14 | AJ10: 3 | AK10: 17 | AL10: 15 | AM10: 2
A11: 1.2 | B11: î»Õ³Ï³Ý ÇÝùÝ³Ï³é³í³ñÙ³Ý Ù³ñÙÇÝÝ»ñÇ áõ ¹ñ³Ýó å³ßïáÝ³ï³ñ ³ÝÓ³Ýó ³Ïï»ñÝ ³Ýí³í»ñ ×³Ý³ã»Éáõ Ñ»ï Ï³åí³Í Çñ³í³Ñ³ñ³µ»ñáõÃÛáõÝÝ»ñÇ í»ñ³µ»ñÛ³É ¹³ï³Ï³Ý ·áñÍ»ñ | C11: 87 | D11: 2 | E11: 81 | F11: 1 | G11: 3 | H11: 184 | I11: 165 | J11: 16 | K11: 3 | M11: 1 | N11: 101 | O11: 86 | P11: 1 | Q11: 14 | S11: 7 | U11: 2 | V11: 5 | W11: 108 | X11: 7 | Y11: 4 | Z11: 132 | AA11: 4 | AB11: 71 | AC11: 3 | AD11: 74 | AE11: 8 | AF11: 66 | AJ11: 2 | AK11: 2 | AM11: 2
A12: 2 | B12: ä»ï³Ï³Ý Ù³ñÙÇÝÝ»ñÇ, ï»Õ³Ï³Ý ÇÝùÝ³Ï³é³í³ñÙ³Ý Ù³ñÙÇÝÝ»ñÇ ¨ ¹ñ³Ýó å³ßïáÝ³ï³ñ ³ÝÓ³Ýó ·áñÍáÕáõÃÛáõÝÝ»ñÁ /³Ý·áñÍáõÃÛáõÝÁ/ íÇ×³ñÏ»Éáõ Ñ»ï Ï³åí³Í Çñ³í³Ñ³ñ³µ»ñáõÃÛáõÝÝ»ñÇ í»ñ³µ»ñÛ³É ¹³ï³Ï³Ý ·áñÍ»ñ | C12: =C13+C14 -> 105 | D12: =D13+D14 -> 8 | E12: =E13+E14 -> 93 | F12: =F13+F14 -> 1 | G12: =G13+G14 -> 3 | H12: =H13+H14 -> 177 | I12: =I13+I14 -> 149 | J12: =J13+J14 -> 24 | ... AM12: =AM13+AM14 -> 5
A13: 2.1 | B13: ä»ï³Ï³Ý Ù³ñÙÇÝÝ»ñÇ ¨ ¹ñ³Ýó å³ßïáÝ³ï³ñ ³ÝÓ³Ýó ·áñÍáÕáõÃÛáõÝÝ»ñÁ /³Ý·áñÍáõÃÛáõÝÁ/ íÇ×³ñÏ»Éáõ Ñ»ï Ï³åí³Í Çñ³í³Ñ³ñ³µ»ñáõÃÛáõÝÝ»ñÇ í»ñ³µ»ñÛ³É ¹³ï³Ï³Ý ·áñÍ»ñ | C13: 65 | D13: 4 | E13: 57 | F13: 1 | G13: 3 | H13: 113 | I13: 93 | J13: 16 | K13: 3 | L13: 1 | N13: 56 | O13: 29 | P13: 1 | Q13: 26 | S13: 9 | U13: 4 | V13: 5 | W13: 65 | X13: 7 | Y13: 2 | Z13: 82 | AA13: 5 | AB13: 33 | AC13: 8 | AD13: 41 | AE13: 2 | AF13: 39 | AI13: 1 | AJ13: 4 | AK13: 5 | AM13: 5
A14: 2.2 | B14: î»Õ³Ï³Ý ÇÝùÝ³Ï³é³í³ñÙ³Ý Ù³ñÙÇÝÝ»ñÇ áõ ¹ñ³Ýó å³ßïáÝ³ï³ñ ³ÝÓ³Ýó ·áñÍáÕáõÃÛáõÝÝ»ñÁ /³Ý·áñÍáõÃÛáõÝÁ/ íÇ×³ñÏ»Éáõ Ñ»ï Ï³åí³Í Çñ³í³Ñ³ñ³µ»ñáõÃÛáõÝÝ»ñÇ í»ñ³µ»ñÛ³É ¹³ï³Ï³Ý ·áñÍ»ñ | C14: 40 | D14: 4 | E14: 36 | H14: 64 | I14: 56 | J14: 8 | N14: 27 | O14: 23 | Q14: 4 | S14: 3 | U14: 1 | V14: 2 | W14: 30 | Y14: 1 | Z14: 66 | AA14: 3 | AB14: 22 | AD14: 22 | AE14: 2 | AF14: 20 | AI14: 5 | AK14: 5 | AL14: 5
A15: 5 | B15: Üáï³ñ³Ï³Ý ·áñÍáÕáõÃÛáõÝÝ»ñÁ Ï³Ù Ýáï³ñÇ ³Ý·áñÍáõÃÛáõÝÁ íÇ×³ñÏ»Éáõ Ñ»ï Ï³åí³Í Çñ³í³Ñ³ñ³µ»ñáõÃÛáõÝÝ»ñÇ í»ñ³µ»ñÛ³É ¹³ï³Ï³Ý ·áñÍ»ñ | C15: 5 | E15: 5 | H15: 1 | I15: 1 | N15: 3 | O15: 2 | Q15: 1 | S15: 1 | V15: 1 | W15: 4 | X15: 1 | Z15: 1 | AB15: 1 | AD15: 1 | AF15: 1
A16: 6 | B16: ÜáñÙ³ïÇí Çñ³í³Ï³Ý ³Ïï»ñÇ Çñ³í³ã³÷áõÃÛáõÝÁ íÇ×³ñÏ»Éáõ Ñ»ï Ï³åí³Í Çñ³í³Ñ³ñ³µ»ñáõÃÛáõÝÝ»ñÇ í»ñ³µ»ñÛ³É ¹³ï³Ï³Ý ·áñÍ»ñ | C16: =C17+C18+C19+C20+C21+C22+C23 -> 1 | D16: =D17+D18+D19+D20+D21+D22+D23 -> 0 | E16: =E17+E18+E19+E20+E21+E22+E23 -> 1 | F16: =F17+F18+F19+F20+F21+F22+F23 -> 0 | G16: =G17+G18+G19+G20+G21+G22+G23 -> 0 | H16: =H17+H18+H19+H20+H21+H22+H23 -> 2 | I16: =I17+I18+I19+I20+I21+I22+I23 -> 1 | J16: =J17+J18+J19+J20+J21+J22+J23 -> 1 | ... AM16: =AM17+AM18+AM19+AM20+AM21+AM22+AM23 -> 0
A17: 6.1 | B17: ¶»ñ³ï»ëã³Ï³Ý ÝáñÙ³ïÇí Çñ³í³Ï³Ý ³Ïï»ñÇª ÐÐ ê³ÑÙ³Ý³¹ñáõÃÛ³ÝÁ Ñ³Ù³å³ï³ëË³ÝáõÃÛáõÝÁ íÇ×³ñÏ»Éáõ í»ñ³µ»ñÛ³É | E17: 0 | I17: 0 | W17: 0 | Z17: 0
A18: 6.2 | B18: Ü³Ë³·³ÑÇ ÝáñÙ³ïÇí µÝáõÛÃ áõÝ»óáÕ ³Ïï»ñÇ` ³í»ÉÇ µ³ñÓñ Çñ³í³µ³Ý³Ï³Ý áõÅ áõÝ»óáÕ ÝáñÙ³ïÇí ³Ïï»ñÇÝ Ñ³Ù³å³ï³ëË³ÝáõÃÛáõÝÁ íÇ×³ñÏ»Éáõ í»ñ³µ»ñÛ³É | E18: 0 | I18: 0 | W18: 0 | Z18: 0
A19: 6.3 | B19: Î³é³í³ñáõÃÛ³Ý ÝáñÙ³ïÇí áñáßáõÙÝ»ñÇ`³í»ÉÇ µ³ñÓñ Çñ³í³µ³Ý³Ï³Ý áõÅ áõÝ»óáÕ ÝáñÙ³ïÇí ³Ïï»ñÇÝ Ñ³Ù³å³ï³ëË³ÝáõÃÛáõÝÁ íÇ×³ñÏ»Éáõ í»ñ³µ»ñÛ³É | C19: 1 | E19: 1 | I19: 0 | W19: 0 | Z19: 1
A20: 6.4 | B20: ì³ñã³å»ïÇ ÝáñÙ³ïÇí áñáßáõÙÝ»ñÇ` ³í»ÉÇ µ³ñÓñ Çñ³í³µ³Ý³Ï³Ý áõÅ áõÝ»óáÕ ÝáñÙ³ïÇí ³Ïï»ñÇÝ Ñ³Ù³å³ï³ëË³ÝáõÃÛáõÝÁ íÇ×³ñÏ»Éáõ í»ñ³µ»ñÛ³É | E20: 0 | I20: 0 | W20: 0 | Z20: 0
A21: 6.5 | B21: ¶»ñ³ï»ëã³Ï³Ý ÝáñÙ³ïÇí Çñ³í³Ï³Ý ³Ïï»ñÇ` ³í»ÉÇ µ³ñÓñ Çñ³í³µ³Ý³Ï³Ý áõÅ áõÝ»óáÕ ÝáñÙ³ïÇí ³Ïï»ñÇÝ Ñ³Ù³å³ï³ëË³ÝáõÃÛáõÝÁ íÇ×³ñÏ»Éáõ í»ñ³µ»ñÛ³É | E21: 0 | H21: 1 | I21: 1 | S21: 1 | U21: 1 | W21: 1 | Z21: 0
A22: 6.6 | B22: Ð³Ù³ÛÝùÇ ³í³·³Ýáõ áñáßáõÙÝ»ñÇ` ³í»ÉÇ µ³ñÓñ Çñ³í³µ³Ý³Ï³Ý áõÅ áõÝ»óáÕ ÝáñÙ³ïÇí ³Ïï»ñÇÝ Ñ³Ù³å³ï³ëË³ÝáõÃÛáõÝÁ íÇ×³ñÏ»Éáõ í»ñ³µ»ñÛ³É | E22: 0 | H22: 1 | I22: 0 | J22: 1 | W22: 0 | Z22: 0
A23: 6.7 | B23: Ð³Ù³ÛÝùÇ Õ»Ï³í³ñÇ áñáßáõÙÝ»ñÇ` ³í»ÉÇ µ³ñÓñ Çñ³í³µ³Ý³Ï³Ý áõÅ áõÝ»óáÕ ÝáñÙ³ïÇí ³Ïï»ñÇÝ Ñ³Ù³å³ï³ëË³ÝáõÃÛáõÝÁ íÇ×³ñÏ»Éáõ í»ñ³µ»ñÛ³É | E23: 0 | I23: 0 | W23: 0 | Z23: 0
A24: 7 | B24: ÀÝïñ³Ï³Ý Çñ³íáõÝùÇ å³ßïå³ÝáõÃÛ³Ý Ñ»ï Ï³åí³Í Çñ³í³Ñ³ñ³µ»ñáõÃÛáõÝÝ»ñÇ í»ñ³µ»ñÛ³É ¹³ï³Ï³Ý ·áñÍ»ñ | C24: =+C25+C26+C27+C28+C29 -> 0 | D24: =+D25+D26+D27+D28+D29 -> 0 | E24: =+E25+E26+E27+E28+E29 -> 0 | F24: =+F25+F26+F27+F28+F29 -> 0 | G24: =+G25+G26+G27+G28+G29 -> 0 | H24: =+H25+H26+H27+H28+H29 -> 0 | I24: =+I25+I26+I27+I28+I29 -> 0 | J24: =+J25+J26+J27+J28+J29 -> 0 | ... AM24: =+AM25+AM26+AM27+AM28+AM29 -> 0
A25: 7.1 | B25: Ü³Ë³·³ÑÇ ÁÝïñáõÃÛáõÝÝ»ñÇ Ñ»ï Ï³åí³Í | E25: 0 | I25: 0 | W25: 0 | Z25: 0
A26: 7.2 | B26: ²½·³ÛÇÝ ÅáÕáíÇ ÁÝïñáõÃÛáõÝÝ»ñÇ Ñ»ï Ï³åí³Í | E26: 0 | I26: 0 | W26: 0 | Z26: 0
A27: 7.3 | B27: î»Õ³Ï³Ý ÇÝùÝ³Ï³é³í³ñÙ³Ý Ù³ñÙÇÝÝ»ñÇ ÁÝïñáõÃÛáõÝÝ»ñÇ Ñ»ï Ï³åí³Í | E27: 0 | I27: 0 | W27: 0 | Z27: 0
A28: 7.4 | B28: Ð³Ýñ³ùí»Ç Ï³½Ù³Ï»ñåÙ³Ý ¨ ³ÝóÏ³óÙ³Ý Ñ»ï Ï³åí³Í | E28: 0 | I28: 0 | W28: 0 | Z28: 0
A29: 7.5 | B29: ²ÛÉ í»×»ñ | E29: 0 | I29: 0 | W29: 0 | Z29: 0
A30: 9 | B30: Ð³í³ùÇ ³ÝóÏ³óÙ³Ý Ù³ëÇÝ Ñ³Ù³ÛÝùÇ Õ»Ï³í³ñÇ áñáßáõÙÝ»ñÇ ¨ ·áñÍáÕáõÃÛáõÝÝ»ñÇ Çñ³í³ã³÷áõÃÛáõÝÁ íÇ×³ñÏ»Éáõ Ñ»ï Ï³åí³Í Çñ³í³Ñ³ñ³µ»ñáõÃÛáõÝÝ»ñÇ í»ñ³µ»ñÛ³É ¹³ï³Ï³Ý ·áñÍ»ñ | E30: 0 | I30: 0 | W30: 0 | Z30: 0
A31: 10 | B31: ä»ï³Ï³Ý, Ñ³Ù³ÛÝù³ÛÇÝ Ï³Ù ³ÛÉÁÝïñ³Ýù³ÛÇÝ Í³é³ÛáõÃÛ³Ý ³ÝóÝ»Éáõ Ï³Ù Çñ³Ï³Ý³óÝ»Éáõ Ñ»ï Ï³åí³Í Çñ³í³Ñ³ñ³µ»ñáõÃÛáõÝÝ»ñÇ í»ñ³µ»ñÛ³É ¹³ï³Ï³Ý ·áñÍ»ñ | C31: 5 | E31: 5 | H31: 1 | I31: 1 | M31: 1 | N31: 2 | Q31: 2 | W31: 2 | X31: 1 | Z31: 2 | AB31: 1 | AD31: 1 | AF31: 1
A32: 11 | B32: ì³ñã³Ï³Ý Ù³ñÙÇÝÝ»ñÇ ÙÇç¨ Çñ³í³ëáõÃÛ³Ý Ñ³ñó»ñÇ í»ñ³µ»ñÛ³É í»×»ñÇ Ñ»ï Ï³åí³Í Çñ³í³Ñ³ñ³µ»ñáõÃÛáõÝÝ»ñÇ í»ñ³µ»ñÛ³É ¹³ï³Ï³Ý ·áñÍ»ñ | E32: 0 | I32: 0 | W32: 0 | Z32: 0
A33: 12 | B33: Ð³ë³ñ³Ï³Ï³Ý Ï³½Ù³Ï»ñåáõÃÛáõÝÝ»ñÇ ¨ ³ÛÉ ÙÇ³íáñáõÙÝ»ñÇ ·áñÍáõÝ»áõÃÛ³Ý Ï³ë»óÙ³Ý Ï³Ù ¹³¹³ñ»óÙ³Ý Ñ»ï Ï³åí³Í Çñ³í³Ñ³ñ³µ»ñáõÃÛáõÝÝ»ñÇ í»ñ³µ»ñÛ³É ¹³ï³Ï³Ý ·áñÍ»ñ | E33: 0 | H33: 2 | I33: 2 | N33: 2 | Q33: 2 | W33: 2 | Z33: 0
A34: 13 | B34: ì³ñã³ñ³ñáõÃÛ³Ùµ å³ï×³éí³Í íÝ³ëÇ å³ï³ëË³Ý³ïíáõÃÛ³Ý Ñ»ï Ï³åí³Í Çñ³í³Ñ³ñ³µ»ñáõÃÛáõÝÝ»ñÇ í»ñ³µ»ñÛ³É ¹³ï³Ï³Ý ·áñÍ»ñ | E34: 0 | I34: 0 | W34: 0 | Z34: 0
A35: 14 | B35: ²ÝÑ»ï³Ó·»ÉÇ ÙÇջամտության áñáßÙ³Ý, µáÕáù³ñÏ³ÙաÝ í»ñ³µ»ñÛ³É ¹³ï³Ï³Ý ·áñÍ»ñ | E35: 0 | H35: 1 | I35: 1 | N35: 1 | O35: 1 | W35: 1 | Z35: 0 | AB35: 1 | AD35: 1 | AF35: 1
A36: 16 | B36: Դատավորի հավակնորդի հայտի ընդունումը մերժելու áñáßÙ³Ý µáÕáù³ñÏ³ÙաÝ í»ñ³µ»ñÛ³É ¹³ï³Ï³Ý ·áñÍ»ñ | E36: 0 | I36: 0 | W36: 0 | Z36: 0
A37: 9.5 | B37: Ընտրական հանձնաժողովի գործավար մատյանը չլրացնելը կամ ոչ պատշաճ լրացնելը | E37: 0 | I37: 0 | W37: 0 | Z37: 0
A38: 9.14 | B38: Ժողովներ, հանրահավաքներ, երթեր և ցույցեր անցկացնելու կարգը խախտելը | E38: 0 | I38: 0 | W38: 0 | Z38: 0
A39: 9.15 | B39: Զինծառայողների կամ ոստիկ. ծառայողի օրին. պահանջը չկատարելը | C39: 8 | D39: 3 | E39: 5 | H39: 16 | I39: 16 | N39: 15 | O39: 9 | Q39: 6 | W39: 15 | Y39: 3 | Z39: 9 | AA39: 3 | AB39: 4 | AD39: 4 | AE39: 3 | AF39: 1
A40: 9.18 | B40: Հայաստանի Հանրապետության ուսումնական հաստատություններում առարկաների հայերեն դասավանդումը կամ միջնակարգ-մասնագիտական, մասնագիտական տեխնիկական և բարձրագույն ուսումնական հաստատություններում հայոց լեզվի ուսուցումը կամ հայոց լեզվի ընդունելության քննությունը չապահովելը | E40: 0 | I40: 0 | W40: 0 | Z40: 0
A41: 9.19 | B41: ՀՀ պետ. մարմ., ձեռնարկ-ի, հիմն-ի և կազմ-ի (անկախ սեփ. ձևից) գործավ-ը ոչ հայերեն վարելը, ցուցանակները, ձևաթղթերը, դրոշմանիշները, նամականիշները, կնիքները, միջ. փոստ. ծրարները և գովազդները ոչ հայերեն ձևավորելը | E41: 0 | H41: 1 | I41: 1 | N41: 1 | Q41: 1 | W41: 1 | Z41: 0
A42: 9.23 | B42: Տեղեկություն տալու պարտականությունը չկատարելը | E42: 0 | I42: 0 | W42: 0 | Z42: 0
A43: 9.26 | B43: Տեղեկություն (տվյալ) չտրամադրելը կամ կեղծ տեղեկություն (տվյալ) ներկայացնելը | E43: 0 | I43: 0 | W43: 0 | Z43: 0
A44: 9.31 | B44: Հարկադիր կատարողի որոշումը դիտավորյալ չկատարելը կամ կատարմանը խոչընդոտելը | E44: 0 | I44: 0 | W44: 0 | Z44: 0
A45: 9.33 | B45: Այլ իրավախախտումներ | E45: 0 | H45: 6 | I45: 6 | N45: 2 | O45: 2 | W45: 2 | Z45: 4
A46: 9.7 | B46: Գույքի մանր հափշտակում | E46: 0 | I46: 0 | W46: 0 | Z46: 0
A47: 8 | B47: ²ÛÉ í»×»ñ | C47: 6 | E47: 6 | H47: 15 | I47: 15 | N47: 11 | O47: 11 | S47: 1 | U47: 1 | W47: 12 | Y47: 2 | Z47: 9 | AA47: 2 | AB47: 1 | AD47: 1 | AE47: 1
B48: ÀÝ¹³Ù»ÝÁ | C48: =+C9+C12+C15+C16+C24+C30+C31+C32+C33+C34+C35+C36+C37+C38+C39+C40+C41+C42+C43+C44+C45+C46+C47 -> 688 | D48: =+D9+D12+D15+D16+D24+D30+D31+D32+D33+D34+D35+D36+D37+D38+D39+D40+D41+D42+D43+D44+D45+D46+D47 -> 32 | E48: =+E9+E12+E15+E16+E24+E30+E31+E32+E33+E34+E35+E36+E37+E38+E39+E40+E41+E42+E43+E44+E45+E46+E47 -> 647 | F48: =+F9+F12+F15+F16+F24+F30+F31+F32+F33+F34+F35+F36+F37+F38+F39+F40+F41+F42+F43+F44+F45+F46+F47 -> 3 | G48: =+G9+G12+G15+G16+G24+G30+G31+G32+G33+G34+G35+G36+G37+G38+G39+G40+G41+G42+G43+G44+G45+G46+G47 -> 6 | H48: =+H9+H12+H15+H16+H24+H30+H31+H32+H33+H34+H35+H36+H37+H38+H39+H40+H41+H42+H43+H44+H45+H46+H47 -> 1373 | I48: =+I9+I12+I15+I16+I24+I30+I31+I32+I33+I34+I35+I36+I37+I38+I39+I40+I41+I42+I43+I44+I45+I46+I47 -> 1237 | J48: =+J9+J12+J15+J16+J24+J30+J31+J32+J33+J34+J35+J36+J37+J38+J39+J40+J41+J42+J43+J44+J45+J46+J47 -> 104 | ... AM48: =+AM9+AM12+AM15+AM16+AM24+AM30+AM31+AM32+AM33+AM34+AM35+AM36+AM37+AM38+AM39+AM40+AM41+AM42+AM43+AM44+AM45+AM46+AM47 -> 9
C49: 1 | D49: 2 | E49: 3 | F49: 4 | G49: 5 | H49: 6 | I49: 7 | J49: 8 | K49: 9 | L49: 10 | M49: 11 | N49: 12 | O49: 13 | P49: 14 | Q49: 15 | R49: 16 | S49: 17 | T49: 18 | U49: 19 | V49: 20 | W49: 21 | X49: 22 | Y49: 23 | Z49: 24 | AA49: 25 | AB49: 26 | AC49: 27 | AD49: 28 | AE49: 29 | AF49: 30 | AG49: 31 | AH49: 32 | AI49: 33 | AJ49: 34 | AK49: 35 | AL49: 36 | AM49: 37

Sheet Կ․Զարիկյան
AI1: Հավելված 2 Բարձրագույն դատական խորհրդի 2022թվականի դեկտեմբերի 26-ի թիվ ԲԴԽ-122-Ո-408 որոշման
A2: 2025թ. | C2: Ð²ÞìºîìàôÂÚàôÜ
A3: ÐÐ ì²ðâ²Î²Ü ¸²î²ð²ÜÆ ¸²î²ìàð ԿԱՐԵՆ ԶԱՐԻԿՅԱՆԻ ¶àðÌàôÜºàôÂÚ²Ü ìºð²´ºðÚ²È
A4: ÐÐ í³ñã³Ï³Ý ¹³ï³ñ³ÝÇ ¹³ï³íáñÝ»ñÇ Ñ³ëïÇùÝ»ñÇ ÃÇíÁ` 24
A5: êïáõ·Çã Ñ³í³ë³ñáõÙÝ»ñª 1=2+3+4+5, 6=7+8+9+10, 2+3+7=11+21+22+24, 12=13+14+15+16, 17=18+19+20, 21=12+17, 28=26+27, 28=29+30, 35=33+34, 35=36+37 | C5: Ð³ßí»ïáõ Å³Ù³Ý³Ï³Ñ³ïí³ÍáõÙ Ý³Ëáñ¹ Ñ³ßí»ïáõ Å³Ù³Ý³Ï³Ñ³ïí³ÍÇó ÷áË³Ýóí³Í ·áñÍ»ñÇ ÁÝ¹Ñ³Ýáõñ ÃÇíÁ | H5: Ð³ßí»ïáõ Å³Ù³Ý³Ï³Ñ³ïí³ÍáõÙ ëï³óí³Í ·áñÍ»ñÇ (³Û¹ ÃíáõÙ` Ñ³Ûó³¹ÇÙáõÙÝ»ñÇ, ¹ÇÙáõÙÝ»ñÇ) ÁÝ¹Ñ³Ýáõñ ÃÇíÁ | M5: öáË³Ýóí»É ¿ ³ÛÉ ¹³ï³íáñÇ (Ï³½ÙÇ ÷á÷áËáõÃÛáõÝ) | N5: Ð³ßí»ïáõ Å³Ù³Ý³Ï³Ñ³ïí³ÍáõÙ ³í³ñïí³Í ·áñÍ»ñÇ ÁÝ¹Ñ³Ýáõñ ÃÇíÁ | X5: ¶áñÍÝ áõÕ³ñÏí»É ¿ Áëï ÁÝ¹¹³ïáõÃÛ³Ý | Y5: Ð³ßí»ïáõ Å³Ù³Ý³Ï³Ñ³ïí³ÍáõÙ Ï³ë»óí³Í í³ñáõÛÃÝ»ñáí ·áñÍ»ñÇ ÁÝ¹Ñ³Ýáõñ ÃÇíÁ | Z5: Ð³ßí»ïáõ Å³Ù³Ý³Ï³Ñ³ïí³ÍáõÙ ³Ý³í³ñï ·áñÍ»ñÇ ÁÝ¹Ñ³Ýáõñ ÃÇíÁ | AA5: ²Û¹ ÃíáõÙ` Ï³ë»óí³Í | AB5: ´áÕáù³ñÏí³Í ¹³ï³Ï³Ý ³Ïï»ñÁ | AG5: ²í³ñïí³Í ¹³ï³Ï³Ý ·áñÍ»ñÇ µáÕáù³ñÏÙ³Ý ïáÏáëÁ (Ñ³ßí»ïáõ Å³Ù³Ý³Ï³Ñ³ïí³ÍáõÙ) | AH5: ²Ý³í³ñï µáÕáùÝ»ñ | AI5: ´»Ï³Ýí³Í ¹³ï³Ï³Ý ³Ïï»ñÁ
C6: ÀÝ¹³Ù»ÝÁ | D6: ²Û¹ ÃíáõÙ`Ï³ë»óí³Í íÇ×³ÏáõÙ ÷áË³Ýóí³Í | E6: ²Û¹ ÃíáõÙª ÁÝ¹áõÝí»É ¿ í³ñáõÛÃ | F6: ²Û¹ ÃíáõÙª í»ñ³¹³ñÓí»É ¿ | G6: ²Û¹ ÃíáõÙª ÁÝ¹áõÝáõÙÁ Ù»ñÅí»É ¿ | H6: ÀÝ¹³Ù»ÝÁ | I6: ²Û¹ ÃíáõÙª ÁÝ¹áõÝí»É ¿ í³ñáõÛÃ | J6: ²Û¹ ÃíáõÙª í»ñ³¹³ñÓí»É ¿ | K6: ²Û¹ ÃíáõÙª ÁÝ¹áõÝáõÙÁ Ù»ñÅí»É ¿ | L6: Այդ թվում անորոշ | N6: ÀÝ¹³Ù»ÝÁ ³í³ñïí»É »Ý ·áñÍ»ñ ·áñÍÝ Áëï ¿áõÃÛ³Ý ÉáõÍáÕ ¹³ï³Ï³Ý ³Ïï»ñÇ (í×ÇéÝ»ñÇ) Ï³Û³óÙ³Ùµ | O6: ²Û¹ ÃíáõÙª Ñ³ÛóÇ µ³í³ñ³ñÙ³Ùµ | P6: ²Û¹ ÃíáõÙª Ñ³ÛóÇ Ù³ëÝ³ÏÇ µ³í³ñ³ñÙ³Ùµ | Q6: ²Û¹ ÃíáõÙª Ñ³ÛóÇ Ù»ñÅÙ³Ùµ | R6: ²Û¹ ÃíáõÙ` Ù³ëÝ³ÏÇ Ù»ñÅí»É ¿, Ù³ëÝ³ÏÇ Ï³ñ×í»É | S6: ²Û¹ ÃíáõÙª Ï³ñ×í»É »Ý | W6: ÀÝ¹³Ù»ÝÝ ³í³ñïí»É »Ý ·áñÍ»ñ | AB6: ²Û¹ ÃíáõÙ` ·áñÍÝ Áëï ¿áõÃÛ³Ý ÉáõÍáÕ ¹³ï³Ï³Ý ³Ïï»ñÁ | AC6: ²Û¹ ÃíáõÙ` ÙÇç³ÝÏÛ³É ¹³ï³Ï³Ý ³Ïï»ñÁ | AD6: ÀÝ¹³Ù»ÝÁ | AE6: Ü³Ëáñ¹ ï³ñÇÝ»ñÇÝ Ï³Û³óí³Í ³Ïï»ñÇ µáÕáù³ñÏáõÙÁ Ñ³ßí»ïáõ Å³Ù³Ý³Ï³ßñç³ÝáõÙ | AF6: Ð³ßí»ïáõ Å³Ù³Ý³Ï³ßñç³ÝáõÙ Ï³Û³óí³Í ³Ïï»ñÇ µáÕáù³ñÏáõÙÁ | AI6: ²Û¹ ÃíáõÙ` ·áñÍÝ Áëï ¿áõÃÛ³Ý ÉáõÍáÕ ¹³ï³Ï³Ý ³Ïï»ñÁ | AJ6: ²Û¹ ÃíáõÙ` ÙÇç³ÝÏÛ³É ¹³ï³Ï³Ý ³Ïï»ñÁ | AK6: ÀÝ¹³Ù»ÝÁ | AL6: Ü³Ëáñ¹ ï³ñÇÝ»ñÇÝ Ï³Û³óí³Í ³Ïï»ñÇ µ»Ï³ÝáõÙÝ»ñÁ Ñ³ßí»ïáõ Å³Ù³Ý³Ï³ßñç³ÝáõÙ | AM6: Ð³ßí»ïáõ Å³Ù³Ý³Ï³ßñç³ÝáõÙ Ï³Û³óí³Í ³Ïï»ñÇ µ»Ï³ÝáõÙÁ
S7: ÀÝ¹³Ù»ÝÁ Ï³ñ×í»É »Ý | T7: ²Û¹ ÃíáõÙª Ñ³ëï³ïí»É ¿ ÏÝùí³Í Ñ³ßïáõÃÛ³Ý Ñ³Ù³Ó³ÛÝáõÃÛáõÝÁ | U7: ²Û¹ ÃíáõÙª Ñ³ÛóÇó, ¹ÇÙáõÙÇó Ññ³Å³ñí»Éáõ ÑÇÙùáí | V7: ²Û¹ ÃíáõÙª ³ÛÉ ÑÇÙùáí
B8: ì³ñã³Ï³Ý ·áñÍ»ñÇ ¹³ë³Ï³ñ·áõÙÁ | C8: 1 | D8: 2 | E8: 3 | F8: 4 | G8: 5 | H8: 6 | I8: 7 | J8: 8 | K8: 9 | L8: 10 | M8: 11 | N8: 12 | O8: 13 | P8: 14 | Q8: 15 | R8: 16 | S8: 17 | T8: 18 | U8: 19 | V8: 20 | W8: 21 | X8: 22 | Y8: 23 | Z8: 24 | AA8: 25 | AB8: 26 | AC8: 27 | AD8: 28 | AE8: 29 | AF8: 30 | AG8: 31 | AH8: 32 | AI8: 33 | AJ8: 34 | AK8: 35 | AL8: 36 | AM8: 37
A9: 1 | B9: ä»ï³Ï³Ý Ù³ñÙÇÝÝ»ñÇ, ï»Õ³Ï³Ý ÇÝùÝ³Ï³é³í³ñÙ³Ý Ù³ñÙÇÝÝ»ñÇ áõ ¹ñ³Ýó å³ßïáÝ³ï³ñ ³ÝÓ³Ýó ³Ïï»ñÝ ³Ýí³í»ñ ×³Ý³ã»Éáõ Ñ»ï Ï³åí³Í Çñ³í³ñ³Ñ³µ»ñáõÃÛáõÝÝ»ñÇ í»ñ³µ»ñÛ³É ¹³ï³Ï³Ý ·áñÍ»ñ | C9: =+C10+C11 -> 594 | D9: =+D10+D11 -> 48 | E9: =+E10+E11 -> 528 | F9: =+F10+F11 -> 9 | G9: =+G10+G11 -> 9 | H9: =+H10+H11 -> 691 | I9: =+I10+I11 -> 574 | J9: =+J10+J11 -> 103 | ... AM9: =+AM10+AM11 -> 1
A10: 1.1 | B10: ä»ï³Ï³Ý Ù³ñÙÇÝÝ»ñÇ áõ ¹ñ³Ýó å³ßïáÝ³ï³ñ ³ÝÓ³Ýó ³Ïï»ñÝ ³Ýí³í»ñ ×³Ý³ã»Éáõ Ñ»ï Ï³åí³Í Çñ³í³Ñ³ñ³µ»ñáõÃÛáõÝÝ»ñÇ í»ñ³µ»ñÛ³É ¹³ï³Ï³Ý ·áñÍ»ñ | C10: 480 | D10: 45 | E10: 420 | F10: 7 | G10: 8 | H10: 604 | I10: 507 | J10: 83 | K10: 14 | N10: 614 | O10: 514 | P10: 8 | Q10: 92 | S10: 27 | T10: 1 | U10: 3 | V10: 23 | W10: 641 | Y10: 15 | Z10: 331 | AA10: 54 | AB10: 188 | AC10: 19 | AD10: 207 | AE10: 38 | AF10: 169 | AI10: 16 | AJ10: 1 | AK10: 17 | AL10: 16 | AM10: 1
A11: 1.2 | B11: î»Õ³Ï³Ý ÇÝùÝ³Ï³é³í³ñÙ³Ý Ù³ñÙÇÝÝ»ñÇ áõ ¹ñ³Ýó å³ßïáÝ³ï³ñ ³ÝÓ³Ýó ³Ïï»ñÝ ³Ýí³í»ñ ×³Ý³ã»Éáõ Ñ»ï Ï³åí³Í Çñ³í³Ñ³ñ³µ»ñáõÃÛáõÝÝ»ñÇ í»ñ³µ»ñÛ³É ¹³ï³Ï³Ý ·áñÍ»ñ | C11: 114 | D11: 3 | E11: 108 | F11: 2 | G11: 1 | H11: 87 | I11: 67 | J11: 20 | N11: 69 | O11: 56 | P11: 3 | Q11: 10 | S11: 10 | U11: 4 | V11: 6 | W11: 79 | X11: 2 | Y11: 4 | Z11: 97 | AA11: 6 | AB11: 67 | AC11: 1 | AD11: 68 | AE11: 16 | AF11: 52 | AI11: 1 | AK11: 1 | AL11: 1
A12: 2 | B12: ä»ï³Ï³Ý Ù³ñÙÇÝÝ»ñÇ, ï»Õ³Ï³Ý ÇÝùÝ³Ï³é³í³ñÙ³Ý Ù³ñÙÇÝÝ»ñÇ ¨ ¹ñ³Ýó å³ßïáÝ³ï³ñ ³ÝÓ³Ýó ·áñÍáÕáõÃÛáõÝÝ»ñÁ /³Ý·áñÍáõÃÛáõÝÁ/ íÇ×³ñÏ»Éáõ Ñ»ï Ï³åí³Í Çñ³í³Ñ³ñ³µ»ñáõÃÛáõÝÝ»ñÇ í»ñ³µ»ñÛ³É ¹³ï³Ï³Ý ·áñÍ»ñ | C12: =C13+C14 -> 132 | D12: =D13+D14 -> 4 | E12: =E13+E14 -> 128 | F12: =F13+F14 -> 0 | G12: =G13+G14 -> 0 | H12: =H13+H14 -> 103 | I12: =I13+I14 -> 69 | J12: =J13+J14 -> 27 | ... AM12: =AM13+AM14 -> 1
A13: 2.1 | B13: ä»ï³Ï³Ý Ù³ñÙÇÝÝ»ñÇ ¨ ¹ñ³Ýó å³ßïáÝ³ï³ñ ³ÝÓ³Ýó ·áñÍáÕáõÃÛáõÝÝ»ñÁ /³Ý·áñÍáõÃÛáõÝÁ/ íÇ×³ñÏ»Éáõ Ñ»ï Ï³åí³Í Çñ³í³Ñ³ñ³µ»ñáõÃÛáõÝÝ»ñÇ í»ñ³µ»ñÛ³É ¹³ï³Ï³Ý ·áñÍ»ñ | C13: 67 | D13: 2 | E13: 65 | H13: 73 | I13: 51 | J13: 17 | K13: 5 | N13: 45 | O13: 16 | P13: 3 | Q13: 26 | S13: 3 | U13: 1 | V13: 2 | W13: 48 | X13: 2 | Y13: 2 | Z13: 67 | AA13: 3 | AB13: 31 | AC13: 1 | AD13: 32 | AE13: 4 | AF13: 28 | AI13: 2 | AK13: 2 | AL13: 2
A14: 2.2 | B14: î»Õ³Ï³Ý ÇÝùÝ³Ï³é³í³ñÙ³Ý Ù³ñÙÇÝÝ»ñÇ áõ ¹ñ³Ýó å³ßïáÝ³ï³ñ ³ÝÓ³Ýó ·áñÍáÕáõÃÛáõÝÝ»ñÁ /³Ý·áñÍáõÃÛáõÝÁ/ íÇ×³ñÏ»Éáõ Ñ»ï Ï³åí³Í Çñ³í³Ñ³ñ³µ»ñáõÃÛáõÝÝ»ñÇ í»ñ³µ»ñÛ³É ¹³ï³Ï³Ý ·áñÍ»ñ | C14: 65 | D14: 2 | E14: 63 | H14: 30 | I14: 18 | J14: 10 | K14: 2 | N14: 34 | O14: 12 | P14: 1 | Q14: 21 | S14: 3 | U14: 3 | W14: 37 | Y14: 4 | Z14: 46 | AA14: 6 | AB14: 35 | AC14: 3 | AD14: 38 | AE14: 6 | AF14: 32 | AI14: 1 | AJ14: 1 | AK14: 2 | AL14: 1 | AM14: 1
A15: 5 | B15: Üáï³ñ³Ï³Ý ·áñÍáÕáõÃÛáõÝÝ»ñÁ Ï³Ù Ýáï³ñÇ ³Ý·áñÍáõÃÛáõÝÁ íÇ×³ñÏ»Éáõ Ñ»ï Ï³åí³Í Çñ³í³Ñ³ñ³µ»ñáõÃÛáõÝÝ»ñÇ í»ñ³µ»ñÛ³É ¹³ï³Ï³Ý ·áñÍ»ñ | C15: 4 | D15: 2 | E15: 2 | I15: 0 | S15: 2 | U15: 1 | V15: 1 | W15: 2 | Y15: 1 | Z15: 2 | AA15: 2
A16: 6 | B16: ÜáñÙ³ïÇí Çñ³í³Ï³Ý ³Ïï»ñÇ Çñ³í³ã³÷áõÃÛáõÝÁ íÇ×³ñÏ»Éáõ Ñ»ï Ï³åí³Í Çñ³í³Ñ³ñ³µ»ñáõÃÛáõÝÝ»ñÇ í»ñ³µ»ñÛ³É ¹³ï³Ï³Ý ·áñÍ»ñ | C16: =C17+C18+C19+C20+C21+C22+C23 -> 5 | D16: =D17+D18+D19+D20+D21+D22+D23 -> 0 | E16: =E17+E18+E19+E20+E21+E22+E23 -> 5 | F16: =F17+F18+F19+F20+F21+F22+F23 -> 0 | G16: =G17+G18+G19+G20+G21+G22+G23 -> 0 | H16: =H17+H18+H19+H20+H21+H22+H23 -> 5 | I16: =I17+I18+I19+I20+I21+I22+I23 -> 3 | J16: =J17+J18+J19+J20+J21+J22+J23 -> 2 | ... AM16: =AM17+AM18+AM19+AM20+AM21+AM22+AM23 -> 0
A17: 6.1 | B17: ¶»ñ³ï»ëã³Ï³Ý ÝáñÙ³ïÇí Çñ³í³Ï³Ý ³Ïï»ñÇª ÐÐ ê³ÑÙ³Ý³¹ñáõÃÛ³ÝÁ Ñ³Ù³å³ï³ëË³ÝáõÃÛáõÝÁ íÇ×³ñÏ»Éáõ í»ñ³µ»ñÛ³É | E17: 0 | I17: 0 | W17: 0 | Z17: 0
A18: 6.2 | B18: Ü³Ë³·³ÑÇ ÝáñÙ³ïÇí µÝáõÛÃ áõÝ»óáÕ ³Ïï»ñÇ` ³í»ÉÇ µ³ñÓñ Çñ³í³µ³Ý³Ï³Ý áõÅ áõÝ»óáÕ ÝáñÙ³ïÇí ³Ïï»ñÇÝ Ñ³Ù³å³ï³ëË³ÝáõÃÛáõÝÁ íÇ×³ñÏ»Éáõ í»ñ³µ»ñÛ³É | E18: 0 | I18: 0 | W18: 0 | Z18: 0
A19: 6.3 | B19: Î³é³í³ñáõÃÛ³Ý ÝáñÙ³ïÇí áñáßáõÙÝ»ñÇ`³í»ÉÇ µ³ñÓñ Çñ³í³µ³Ý³Ï³Ý áõÅ áõÝ»óáÕ ÝáñÙ³ïÇí ³Ïï»ñÇÝ Ñ³Ù³å³ï³ëË³ÝáõÃÛáõÝÁ íÇ×³ñÏ»Éáõ í»ñ³µ»ñÛ³É | C19: 2 | E19: 2 | H19: 5 | I19: 3 | J19: 2 | M19: 0 | S19: 1 | V19: 1 | W19: 1 | Z19: 4 | AC19: 1 | AD19: 1 | AF19: 1
A20: 6.4 | B20: ì³ñã³å»ïÇ ÝáñÙ³ïÇí áñáßáõÙÝ»ñÇ` ³í»ÉÇ µ³ñÓñ Çñ³í³µ³Ý³Ï³Ý áõÅ áõÝ»óáÕ ÝáñÙ³ïÇí ³Ïï»ñÇÝ Ñ³Ù³å³ï³ëË³ÝáõÃÛáõÝÁ íÇ×³ñÏ»Éáõ í»ñ³µ»ñÛ³É | E20: 0 | I20: 0 | W20: 0 | Z20: 0
A21: 6.5 | B21: ¶»ñ³ï»ëã³Ï³Ý ÝáñÙ³ïÇí Çñ³í³Ï³Ý ³Ïï»ñÇ` ³í»ÉÇ µ³ñÓñ Çñ³í³µ³Ý³Ï³Ý áõÅ áõÝ»óáÕ ÝáñÙ³ïÇí ³Ïï»ñÇÝ Ñ³Ù³å³ï³ëË³ÝáõÃÛáõÝÁ íÇ×³ñÏ»Éáõ í»ñ³µ»ñÛ³É | C21: 2 | E21: 2 | I21: 0 | M21: 2 | W21: 0 | Z21: 0
A22: 6.6 | B22: Ð³Ù³ÛÝùÇ ³í³·³Ýáõ áñáßáõÙÝ»ñÇ` ³í»ÉÇ µ³ñÓñ Çñ³í³µ³Ý³Ï³Ý áõÅ áõÝ»óáÕ ÝáñÙ³ïÇí ³Ïï»ñÇÝ Ñ³Ù³å³ï³ëË³ÝáõÃÛáõÝÁ íÇ×³ñÏ»Éáõ í»ñ³µ»ñÛ³É | C22: 1 | E22: 1 | I22: 0 | W22: 0 | Z22: 1
A23: 6.7 | B23: Ð³Ù³ÛÝùÇ Õ»Ï³í³ñÇ áñáßáõÙÝ»ñÇ` ³í»ÉÇ µ³ñÓñ Çñ³í³µ³Ý³Ï³Ý áõÅ áõÝ»óáÕ ÝáñÙ³ïÇí ³Ïï»ñÇÝ Ñ³Ù³å³ï³ëË³ÝáõÃÛáõÝÁ íÇ×³ñÏ»Éáõ í»ñ³µ»ñÛ³É | E23: 0 | I23: 0 | W23: 0 | Z23: 0
A24: 7 | B24: ÀÝïñ³Ï³Ý Çñ³íáõÝùÇ å³ßïå³ÝáõÃÛ³Ý Ñ»ï Ï³åí³Í Çñ³í³Ñ³ñ³µ»ñáõÃÛáõÝÝ»ñÇ í»ñ³µ»ñÛ³É ¹³ï³Ï³Ý ·áñÍ»ñ | C24: =+C25+C26+C27+C28+C29 -> 0 | D24: =+D25+D26+D27+D28+D29 -> 0 | E24: =+E25+E26+E27+E28+E29 -> 0 | F24: =+F25+F26+F27+F28+F29 -> 0 | G24: =+G25+G26+G27+G28+G29 -> 0 | H24: =+H25+H26+H27+H28+H29 -> 0 | I24: =+I25+I26+I27+I28+I29 -> 0 | J24: =+J25+J26+J27+J28+J29 -> 0 | ... AM24: =+AM25+AM26+AM27+AM28+AM29 -> 0
A25: 7.1 | B25: Ü³Ë³·³ÑÇ ÁÝïñáõÃÛáõÝÝ»ñÇ Ñ»ï Ï³åí³Í | E25: 0 | I25: 0 | W25: 0 | Z25: 0
A26: 7.2 | B26: ²½·³ÛÇÝ ÅáÕáíÇ ÁÝïñáõÃÛáõÝÝ»ñÇ Ñ»ï Ï³åí³Í | E26: 0 | I26: 0 | W26: 0 | Z26: 0
A27: 7.3 | B27: î»Õ³Ï³Ý ÇÝùÝ³Ï³é³í³ñÙ³Ý Ù³ñÙÇÝÝ»ñÇ ÁÝïñáõÃÛáõÝÝ»ñÇ Ñ»ï Ï³åí³Í | E27: 0 | I27: 0 | W27: 0 | Z27: 0
A28: 7.4 | B28: Ð³Ýñ³ùí»Ç Ï³½Ù³Ï»ñåÙ³Ý ¨ ³ÝóÏ³óÙ³Ý Ñ»ï Ï³åí³Í | E28: 0 | I28: 0 | W28: 0 | Z28: 0
A29: 7.5 | B29: ²ÛÉ í»×»ñ | E29: 0 | I29: 0 | W29: 0 | Z29: 0
A30: 9 | B30: Ð³í³ùÇ ³ÝóÏ³óÙ³Ý Ù³ëÇÝ Ñ³Ù³ÛÝùÇ Õ»Ï³í³ñÇ áñáßáõÙÝ»ñÇ ¨ ·áñÍáÕáõÃÛáõÝÝ»ñÇ Çñ³í³ã³÷áõÃÛáõÝÁ íÇ×³ñÏ»Éáõ Ñ»ï Ï³åí³Í Çñ³í³Ñ³ñ³µ»ñáõÃÛáõÝÝ»ñÇ í»ñ³µ»ñÛ³É ¹³ï³Ï³Ý ·áñÍ»ñ | E30: 0 | I30: 0 | W30: 0 | Z30: 0
A31: 10 | B31: ä»ï³Ï³Ý, Ñ³Ù³ÛÝù³ÛÇÝ Ï³Ù ³ÛÉÁÝïñ³Ýù³ÛÇÝ Í³é³ÛáõÃÛ³Ý ³ÝóÝ»Éáõ Ï³Ù Çñ³Ï³Ý³óÝ»Éáõ Ñ»ï Ï³åí³Í Çñ³í³Ñ³ñ³µ»ñáõÃÛáõÝÝ»ñÇ í»ñ³µ»ñÛ³É ¹³ï³Ï³Ý ·áñÍ»ñ | C31: 4 | E31: 4 | I31: 0 | M31: 1 | N31: 2 | O31: 1 | Q31: 1 | W31: 2 | Z31: 1
A32: 11 | B32: ì³ñã³Ï³Ý Ù³ñÙÇÝÝ»ñÇ ÙÇç¨ Çñ³í³ëáõÃÛ³Ý Ñ³ñó»ñÇ í»ñ³µ»ñÛ³É í»×»ñÇ Ñ»ï Ï³åí³Í Çñ³í³Ñ³ñ³µ»ñáõÃÛáõÝÝ»ñÇ í»ñ³µ»ñÛ³É ¹³ï³Ï³Ý ·áñÍ»ñ | E32: 0 | I32: 0 | W32: 0 | Z32: 0
A33: 12 | B33: Ð³ë³ñ³Ï³Ï³Ý Ï³½Ù³Ï»ñåáõÃÛáõÝÝ»ñÇ ¨ ³ÛÉ ÙÇ³íáñáõÙÝ»ñÇ ·áñÍáõÝ»áõÃÛ³Ý Ï³ë»óÙ³Ý Ï³Ù ¹³¹³ñ»óÙ³Ý Ñ»ï Ï³åí³Í Çñ³í³Ñ³ñ³µ»ñáõÃÛáõÝÝ»ñÇ í»ñ³µ»ñÛ³É ¹³ï³Ï³Ý ·áñÍ»ñ | E33: 0 | I33: 0 | W33: 0 | Z33: 0
A34: 13 | B34: ì³ñã³ñ³ñáõÃÛ³Ùµ å³ï×³éí³Í íÝ³ëÇ å³ï³ëË³Ý³ïíáõÃÛ³Ý Ñ»ï Ï³åí³Í Çñ³í³Ñ³ñ³µ»ñáõÃÛáõÝÝ»ñÇ í»ñ³µ»ñÛ³É ¹³ï³Ï³Ý ·áñÍ»ñ | C34: 1 | E34: 1 | I34: 0 | N34: 1 | Q34: 1 | W34: 1 | Z34: 0
A35: 14 | B35: ²ÝÑ»ï³Ó·»ÉÇ ÙÇջամտության áñáßÙ³Ý, µáÕáù³ñÏ³ÙաÝ í»ñ³µ»ñÛ³É ¹³ï³Ï³Ý ·áñÍ»ñ | E35: 0 | H35: 1 | I35: 1 | N35: 1 | O35: 1 | W35: 1 | Z35: 0
A36: 16 | B36: Դատավորի հավակնորդի հայտի ընդունումը մերժելու áñáßÙ³Ý µáÕáù³ñÏ³ÙաÝ í»ñ³µ»ñÛ³É ¹³ï³Ï³Ý ·áñÍ»ñ | E36: 0 | I36: 0 | W36: 0 | Z36: 0
A37: 9.5 | B37: Ընտրական հանձնաժողովի գործավար մատյանը չլրացնելը կամ ոչ պատշաճ լրացնելը | E37: 0 | I37: 0 | W37: 0 | Z37: 0
A38: 9.14 | B38: Ժողովներ, հանրահավաքներ, երթեր և ցույցեր անցկացնելու կարգը խախտելը | E38: 0 | I38: 0 | W38: 0 | Z38: 0
A39: 9.15 | B39: Զինծառայողների կամ ոստիկ. ծառայողի օրին. պահանջը չկատարելը | C39: 33 | D39: 13 | E39: 20 | H39: 12 | I39: 11 | J39: 1 | N39: 23 | O39: 8 | Q39: 15 | S39: 1 | V39: 1 | W39: 24 | Z39: 20 | AA39: 13
A40: 9.18 | B40: Հայաստանի Հանրապետության ուսումնական հաստատություններում առարկաների հայերեն դասավանդումը կամ միջնակարգ-մասնագիտական, մասնագիտական տեխնիկական և բարձրագույն ուսումնական հաստատություններում հայոց լեզվի ուսուցումը կամ հայոց լեզվի ընդունելության քննությունը չապահովելը | E40: 0 | I40: 0 | W40: 0 | Z40: 0
A41: 9.19 | B41: ՀՀ պետ. մարմ., ձեռնարկ-ի, հիմն-ի և կազմ-ի (անկախ սեփ. ձևից) գործավ-ը ոչ հայերեն վարելը, ցուցանակները, ձևաթղթերը, դրոշմանիշները, նամականիշները, կնիքները, միջ. փոստ. ծրարները և գովազդները ոչ հայերեն ձևավորելը | C41: 1 | E41: 1 | H41: 2 | I41: 1 | J41: 1 | N41: 1 | Q41: 1 | W41: 1 | Z41: 1
A42: 9.23 | B42: Տեղեկություն տալու պարտականությունը չկատարելը | E42: 0 | H42: 1 | I42: 1 | W42: 0 | Z42: 1
A43: 9.26 | B43: Տեղեկություն (տվյալ) չտրամադրելը կամ կեղծ տեղեկություն (տվյալ) ներկայացնելը | E43: 0 | I43: 0 | W43: 0 | Z43: 0
A44: 9.31 | B44: Հարկադիր կատարողի որոշումը դիտավորյալ չկատարելը կամ կատարմանը խոչընդոտելը | E44: 0 | I44: 0 | W44: 0 | Z44: 0
A45: 9.33 | B45: Այլ իրավախախտումներ | C45: 1 | E45: 1 | H45: 3 | I45: 2 | J45: 1 | N45: 2 | O45: 1 | Q45: 1 | W45: 2 | Z45: 1
A46: 9.7 | B46: Գույքի մանր հափշտակում | E46: 0 | I46: 0 | W46: 0 | Z46: 0
A47: 8 | B47: ²ÛÉ í»×»ñ | C47: 5 | D47: 3 | E47: 2 | H47: 10 | I47: 6 | J47: 4 | N47: 3 | O47: 2 | P47: 1 | S47: 5 | U47: 4 | V47: 1 | W47: 8 | Z47: 3 | AB47: 1 | AD47: 1 | AE47: 1
B48: ÀÝ¹³Ù»ÝÁ | C48: =+C9+C12+C15+C16+C24+C30+C31+C32+C33+C34+C35+C36+C37+C38+C39+C40+C41+C42+C43+C44+C45+C46+C47 -> 780 | D48: =+D9+D12+D15+D16+D24+D30+D31+D32+D33+D34+D35+D36+D37+D38+D39+D40+D41+D42+D43+D44+D45+D46+D47 -> 70 | E48: =+E9+E12+E15+E16+E24+E30+E31+E32+E33+E34+E35+E36+E37+E38+E39+E40+E41+E42+E43+E44+E45+E46+E47 -> 692 | F48: =+F9+F12+F15+F16+F24+F30+F31+F32+F33+F34+F35+F36+F37+F38+F39+F40+F41+F42+F43+F44+F45+F46+F47 -> 9 | G48: =+G9+G12+G15+G16+G24+G30+G31+G32+G33+G34+G35+G36+G37+G38+G39+G40+G41+G42+G43+G44+G45+G46+G47 -> 9 | H48: =+H9+H12+H15+H16+H24+H30+H31+H32+H33+H34+H35+H36+H37+H38+H39+H40+H41+H42+H43+H44+H45+H46+H47 -> 828 | I48: =+I9+I12+I15+I16+I24+I30+I31+I32+I33+I34+I35+I36+I37+I38+I39+I40+I41+I42+I43+I44+I45+I46+I47 -> 668 | J48: =+J9+J12+J15+J16+J24+J30+J31+J32+J33+J34+J35+J36+J37+J38+J39+J40+J41+J42+J43+J44+J45+J46+J47 -> 139 | ... AM48: =+AM9+AM12+AM15+AM16+AM24+AM30+AM31+AM32+AM33+AM34+AM35+AM36+AM37+AM38+AM39+AM40+AM41+AM42+AM43+AM44+AM45+AM46+AM47 -> 2
C49: 1 | D49: 2 | E49: 3 | F49: 4 | G49: 5 | H49: 6 | I49: 7 | J49: 8 | K49: 9 | L49: 10 | M49: 11 | N49: 12 | O49: 13 | P49: 14 | Q49: 15 | R49: 16 | S49: 17 | T49: 18 | U49: 19 | V49: 20 | W49: 21 | X49: 22 | Y49: 23 | Z49: 24 | AA49: 25 | AB49: 26 | AC49: 27 | AD49: 28 | AE49: 29 | AF49: 30 | AG49: 31 | AH49: 32 | AI49: 33 | AJ49: 34 | AK49: 35 | AL49: 36 | AM49: 37
B50: Ծանոթություն. 1 գործ միացվել է:

Sheet Մ․Համբարձումյան
AI1: Հավելված 2 Բարձրագույն դատական խորհրդի 2022թվականի դեկտեմբերի 26-ի թիվ ԲԴԽ-122-Ո-408 որոշման
A2: 2025թ. | C2: Ð²ÞìºîìàôÂÚàôÜ
A3: ÐÐ ì²ðâ²Î²Ü ¸²î²ð²ÜÆ ¸²î²ìàð ՄԵՐԻ ՀԱՄԲԱՐՁՈՒՄՅԱՆԻ ¶àðÌàôÜºàôÂÚ²Ü ìºð²´ºðÚ²È
A4: ÐÐ í³ñã³Ï³Ý ¹³ï³ñ³ÝÇ ¹³ï³íáñÝ»ñÇ Ñ³ëïÇùÝ»ñÇ ÃÇíÁ` 24
A5: êïáõ·Çã Ñ³í³ë³ñáõÙÝ»ñª 1=2+3+4+5, 6=7+8+9+10, 2+3+7=11+21+22+24, 12=13+14+15+16, 17=18+19+20, 21=12+17, 28=26+27, 28=29+30, 35=33+34, 35=36+37 | C5: Ð³ßí»ïáõ Å³Ù³Ý³Ï³Ñ³ïí³ÍáõÙ Ý³Ëáñ¹ Ñ³ßí»ïáõ Å³Ù³Ý³Ï³Ñ³ïí³ÍÇó ÷áË³Ýóí³Í ·áñÍ»ñÇ ÁÝ¹Ñ³Ýáõñ ÃÇíÁ | H5: Ð³ßí»ïáõ Å³Ù³Ý³Ï³Ñ³ïí³ÍáõÙ ëï³óí³Í ·áñÍ»ñÇ (³Û¹ ÃíáõÙ` Ñ³Ûó³¹ÇÙáõÙÝ»ñÇ, ¹ÇÙáõÙÝ»ñÇ) ÁÝ¹Ñ³Ýáõñ ÃÇíÁ | M5: öáË³Ýóí»É ¿ ³ÛÉ ¹³ï³íáñÇ (Ï³½ÙÇ ÷á÷áËáõÃÛáõÝ) | N5: Ð³ßí»ïáõ Å³Ù³Ý³Ï³Ñ³ïí³ÍáõÙ ³í³ñïí³Í ·áñÍ»ñÇ ÁÝ¹Ñ³Ýáõñ ÃÇíÁ | X5: ¶áñÍÝ áõÕ³ñÏí»É ¿ Áëï ÁÝ¹¹³ïáõÃÛ³Ý | Y5: Ð³ßí»ïáõ Å³Ù³Ý³Ï³Ñ³ïí³ÍáõÙ Ï³ë»óí³Í í³ñáõÛÃÝ»ñáí ·áñÍ»ñÇ ÁÝ¹Ñ³Ýáõñ ÃÇíÁ | Z5: Ð³ßí»ïáõ Å³Ù³Ý³Ï³Ñ³ïí³ÍáõÙ ³Ý³í³ñï ·áñÍ»ñÇ ÁÝ¹Ñ³Ýáõñ ÃÇíÁ | AA5: ²Û¹ ÃíáõÙ` Ï³ë»óí³Í | AB5: ´áÕáù³ñÏí³Í ¹³ï³Ï³Ý ³Ïï»ñÁ | AG5: ²í³ñïí³Í ¹³ï³Ï³Ý ·áñÍ»ñÇ µáÕáù³ñÏÙ³Ý ïáÏáëÁ (Ñ³ßí»ïáõ Å³Ù³Ý³Ï³Ñ³ïí³ÍáõÙ) | AH5: ²Ý³í³ñï µáÕáùÝ»ñ | AI5: ´»Ï³Ýí³Í ¹³ï³Ï³Ý ³Ïï»ñÁ
C6: ÀÝ¹³Ù»ÝÁ | D6: ²Û¹ ÃíáõÙ`Ï³ë»óí³Í íÇ×³ÏáõÙ ÷áË³Ýóí³Í | E6: ²Û¹ ÃíáõÙª ÁÝ¹áõÝí»É ¿ í³ñáõÛÃ | F6: ²Û¹ ÃíáõÙª í»ñ³¹³ñÓí»É ¿ | G6: ²Û¹ ÃíáõÙª ÁÝ¹áõÝáõÙÁ Ù»ñÅí»É ¿ | H6: ÀÝ¹³Ù»ÝÁ | I6: ²Û¹ ÃíáõÙª ÁÝ¹áõÝí»É ¿ í³ñáõÛÃ | J6: ²Û¹ ÃíáõÙª í»ñ³¹³ñÓí»É ¿ | K6: ²Û¹ ÃíáõÙª ÁÝ¹áõÝáõÙÁ Ù»ñÅí»É ¿ | L6: Այդ թվում անորոշ | N6: ÀÝ¹³Ù»ÝÁ ³í³ñïí»É »Ý ·áñÍ»ñ ·áñÍÝ Áëï ¿áõÃÛ³Ý ÉáõÍáÕ ¹³ï³Ï³Ý ³Ïï»ñÇ (í×ÇéÝ»ñÇ) Ï³Û³óÙ³Ùµ | O6: ²Û¹ ÃíáõÙª Ñ³ÛóÇ µ³í³ñ³ñÙ³Ùµ | P6: ²Û¹ ÃíáõÙª Ñ³ÛóÇ Ù³ëÝ³ÏÇ µ³í³ñ³ñÙ³Ùµ | Q6: ²Û¹ ÃíáõÙª Ñ³ÛóÇ Ù»ñÅÙ³Ùµ | R6: ²Û¹ ÃíáõÙ` Ù³ëÝ³ÏÇ Ù»ñÅí»É ¿, Ù³ëÝ³ÏÇ Ï³ñ×í»É | S6: ²Û¹ ÃíáõÙª Ï³ñ×í»É »Ý | W6: ÀÝ¹³Ù»ÝÝ ³í³ñïí»É »Ý ·áñÍ»ñ | AB6: ²Û¹ ÃíáõÙ` ·áñÍÝ Áëï ¿áõÃÛ³Ý ÉáõÍáÕ ¹³ï³Ï³Ý ³Ïï»ñÁ | AC6: ²Û¹ ÃíáõÙ` ÙÇç³ÝÏÛ³É ¹³ï³Ï³Ý ³Ïï»ñÁ | AD6: ÀÝ¹³Ù»ÝÁ | AE6: Ü³Ëáñ¹ ï³ñÇÝ»ñÇÝ Ï³Û³óí³Í ³Ïï»ñÇ µáÕáù³ñÏáõÙÁ Ñ³ßí»ïáõ Å³Ù³Ý³Ï³ßñç³ÝáõÙ | AF6: Ð³ßí»ïáõ Å³Ù³Ý³Ï³ßñç³ÝáõÙ Ï³Û³óí³Í ³Ïï»ñÇ µáÕáù³ñÏáõÙÁ | AI6: ²Û¹ ÃíáõÙ` ·áñÍÝ Áëï ¿áõÃÛ³Ý ÉáõÍáÕ ¹³ï³Ï³Ý ³Ïï»ñÁ | AJ6: ²Û¹ ÃíáõÙ` ÙÇç³ÝÏÛ³É ¹³ï³Ï³Ý ³Ïï»ñÁ | AK6: ÀÝ¹³Ù»ÝÁ | AL6: Ü³Ëáñ¹ ï³ñÇÝ»ñÇÝ Ï³Û³óí³Í ³Ïï»ñÇ µ»Ï³ÝáõÙÝ»ñÁ Ñ³ßí»ïáõ Å³Ù³Ý³Ï³ßñç³ÝáõÙ | AM6: Ð³ßí»ïáõ Å³Ù³Ý³Ï³ßñç³ÝáõÙ Ï³Û³óí³Í ³Ïï»ñÇ µ»Ï³ÝáõÙÁ
S7: ÀÝ¹³Ù»ÝÁ Ï³ñ×í»É »Ý | T7: ²Û¹ ÃíáõÙª Ñ³ëï³ïí»É ¿ ÏÝùí³Í Ñ³ßïáõÃÛ³Ý Ñ³Ù³Ó³ÛÝáõÃÛáõÝÁ | U7: ²Û¹ ÃíáõÙª Ñ³ÛóÇó, ¹ÇÙáõÙÇó Ññ³Å³ñí»Éáõ ÑÇÙùáí | V7: ²Û¹ ÃíáõÙª ³ÛÉ ÑÇÙùáí
B8: ì³ñã³Ï³Ý ·áñÍ»ñÇ ¹³ë³Ï³ñ·áõÙÁ | C8: 1 | D8: 2 | E8: 3 | F8: 4 | G8: 5 | H8: 6 | I8: 7 | J8: 8 | K8: 9 | L8: 10 | M8: 11 | N8: 12 | O8: 13 | P8: 14 | Q8: 15 | R8: 16 | S8: 17 | T8: 18 | U8: 19 | V8: 20 | W8: 21 | X8: 22 | Y8: 23 | Z8: 24 | AA8: 25 | AB8: 26 | AC8: 27 | AD8: 28 | AE8: 29 | AF8: 30 | AG8: 31 | AH8: 32 | AI8: 33 | AJ8: 34 | AK8: 35 | AL8: 36 | AM8: 37
A9: 1 | B9: ä»ï³Ï³Ý Ù³ñÙÇÝÝ»ñÇ, ï»Õ³Ï³Ý ÇÝùÝ³Ï³é³í³ñÙ³Ý Ù³ñÙÇÝÝ»ñÇ áõ ¹ñ³Ýó å³ßïáÝ³ï³ñ ³ÝÓ³Ýó ³Ïï»ñÝ ³Ýí³í»ñ ×³Ý³ã»Éáõ Ñ»ï Ï³åí³Í Çñ³í³ñ³Ñ³µ»ñáõÃÛáõÝÝ»ñÇ í»ñ³µ»ñÛ³É ¹³ï³Ï³Ý ·áñÍ»ñ | C9: =+C10+C11 -> 140 | D9: =+D10+D11 -> 5 | E9: =+E10+E11 -> 135 | F9: =+F10+F11 -> 0 | G9: =+G10+G11 -> 0 | H9: =+H10+H11 -> 55 | I9: =+I10+I11 -> 48 | J9: =+J10+J11 -> 6 | ... AM9: =+AM10+AM11 -> 0
A10: 1.1 | B10: ä»ï³Ï³Ý Ù³ñÙÇÝÝ»ñÇ áõ ¹ñ³Ýó å³ßïáÝ³ï³ñ ³ÝÓ³Ýó ³Ïï»ñÝ ³Ýí³í»ñ ×³Ý³ã»Éáõ Ñ»ï Ï³åí³Í Çñ³í³Ñ³ñ³µ»ñáõÃÛáõÝÝ»ñÇ í»ñ³µ»ñÛ³É ¹³ï³Ï³Ý ·áñÍ»ñ | C10: 139 | D10: 4 | E10: 135 | H10: 42 | I10: 38 | J10: 3 | K10: 1 | N10: 133 | O10: 81 | P10: 1 | Q10: 51 | S10: 3 | V10: 3 | W10: 136 | Y10: 8 | Z10: 41 | AA10: 12 | AB10: 60 | AD10: 60 | AE10: 19 | AF10: 41 | AI10: 8 | AK10: 8 | AL10: 8
A11: 1.2 | B11: î»Õ³Ï³Ý ÇÝùÝ³Ï³é³í³ñÙ³Ý Ù³ñÙÇÝÝ»ñÇ áõ ¹ñ³Ýó å³ßïáÝ³ï³ñ ³ÝÓ³Ýó ³Ïï»ñÝ ³Ýí³í»ñ ×³Ý³ã»Éáõ Ñ»ï Ï³åí³Í Çñ³í³Ñ³ñ³µ»ñáõÃÛáõÝÝ»ñÇ í»ñ³µ»ñÛ³É ¹³ï³Ï³Ý ·áñÍ»ñ | C11: 1 | D11: 1 | E11: 0 | H11: 13 | I11: 10 | J11: 3 | N11: 0 | O11: 0 | Q11: 0 | S11: 7 | U11: 1 | V11: 6 | W11: 7 | Z11: 4 | AB11: 32 | AD11: 32 | AE11: 20 | AF11: 12 | AI11: 5 | AK11: 5 | AL11: 5
A12: 2 | B12: ä»ï³Ï³Ý Ù³ñÙÇÝÝ»ñÇ, ï»Õ³Ï³Ý ÇÝùÝ³Ï³é³í³ñÙ³Ý Ù³ñÙÇÝÝ»ñÇ ¨ ¹ñ³Ýó å³ßïáÝ³ï³ñ ³ÝÓ³Ýó ·áñÍáÕáõÃÛáõÝÝ»ñÁ /³Ý·áñÍáõÃÛáõÝÁ/ íÇ×³ñÏ»Éáõ Ñ»ï Ï³åí³Í Çñ³í³Ñ³ñ³µ»ñáõÃÛáõÝÝ»ñÇ í»ñ³µ»ñÛ³É ¹³ï³Ï³Ý ·áñÍ»ñ | C12: =C13+C14 -> 82 | D12: =D13+D14 -> 2 | E12: =E13+E14 -> 79 | F12: =F13+F14 -> 0 | G12: =G13+G14 -> 1 | H12: =H13+H14 -> 17 | I12: =I13+I14 -> 10 | J12: =J13+J14 -> 5 | ... AM12: =AM13+AM14 -> 2
A13: 2.1 | B13: ä»ï³Ï³Ý Ù³ñÙÇÝÝ»ñÇ ¨ ¹ñ³Ýó å³ßïáÝ³ï³ñ ³ÝÓ³Ýó ·áñÍáÕáõÃÛáõÝÝ»ñÁ /³Ý·áñÍáõÃÛáõÝÁ/ íÇ×³ñÏ»Éáõ Ñ»ï Ï³åí³Í Çñ³í³Ñ³ñ³µ»ñáõÃÛáõÝÝ»ñÇ í»ñ³µ»ñÛ³É ¹³ï³Ï³Ý ·áñÍ»ñ | C13: 53 | D13: 2 | E13: 51 | H13: 7 | I13: 5 | J13: 2 | N13: 25 | O13: 9 | Q13: 16 | S13: 7 | U13: 4 | V13: 3 | W13: 32 | Z13: 26 | AA13: 1 | AB13: 17 | AC13: 2 | AD13: 19 | AE13: 4 | AF13: 15 | AI13: 3 | AJ13: 2 | AK13: 5 | AL13: 3 | AM13: 2
A14: 2.2 | B14: î»Õ³Ï³Ý ÇÝùÝ³Ï³é³í³ñÙ³Ý Ù³ñÙÇÝÝ»ñÇ áõ ¹ñ³Ýó å³ßïáÝ³ï³ñ ³ÝÓ³Ýó ·áñÍáÕáõÃÛáõÝÝ»ñÁ /³Ý·áñÍáõÃÛáõÝÁ/ íÇ×³ñÏ»Éáõ Ñ»ï Ï³åí³Í Çñ³í³Ñ³ñ³µ»ñáõÃÛáõÝÝ»ñÇ í»ñ³µ»ñÛ³É ¹³ï³Ï³Ý ·áñÍ»ñ | C14: 29 | E14: 28 | G14: 1 | H14: 10 | I14: 5 | J14: 3 | K14: 2 | N14: 24 | O14: 5 | P14: 1 | Q14: 18 | S14: 2 | U14: 1 | V14: 1 | W14: 26 | Z14: 7 | AB14: 19 | AC14: 2 | AD14: 21 | AE14: 1 | AF14: 20 | AI14: 3 | AK14: 3 | AL14: 3
A15: 5 | B15: Üáï³ñ³Ï³Ý ·áñÍáÕáõÃÛáõÝÝ»ñÁ Ï³Ù Ýáï³ñÇ ³Ý·áñÍáõÃÛáõÝÁ íÇ×³ñÏ»Éáõ Ñ»ï Ï³åí³Í Çñ³í³Ñ³ñ³µ»ñáõÃÛáõÝÝ»ñÇ í»ñ³µ»ñÛ³É ¹³ï³Ï³Ý ·áñÍ»ñ | E15: 0 | I15: 0 | W15: 0 | Z15: 0
A16: 6 | B16: ÜáñÙ³ïÇí Çñ³í³Ï³Ý ³Ïï»ñÇ Çñ³í³ã³÷áõÃÛáõÝÁ íÇ×³ñÏ»Éáõ Ñ»ï Ï³åí³Í Çñ³í³Ñ³ñ³µ»ñáõÃÛáõÝÝ»ñÇ í»ñ³µ»ñÛ³É ¹³ï³Ï³Ý ·áñÍ»ñ | C16: =C17+C18+C19+C20+C21+C22+C23 -> 3 | D16: =D17+D18+D19+D20+D21+D22+D23 -> 0 | E16: =E17+E18+E19+E20+E21+E22+E23 -> 3 | F16: =F17+F18+F19+F20+F21+F22+F23 -> 0 | G16: =G17+G18+G19+G20+G21+G22+G23 -> 0 | H16: =H17+H18+H19+H20+H21+H22+H23 -> 2 | I16: =I17+I18+I19+I20+I21+I22+I23 -> 2 | J16: =J17+J18+J19+J20+J21+J22+J23 -> 0 | ... AM16: =AM17+AM18+AM19+AM20+AM21+AM22+AM23 -> 0
A17: 6.1 | B17: ¶»ñ³ï»ëã³Ï³Ý ÝáñÙ³ïÇí Çñ³í³Ï³Ý ³Ïï»ñÇª ÐÐ ê³ÑÙ³Ý³¹ñáõÃÛ³ÝÁ Ñ³Ù³å³ï³ëË³ÝáõÃÛáõÝÁ íÇ×³ñÏ»Éáõ í»ñ³µ»ñÛ³É | E17: 0 | I17: 0 | W17: 0 | Z17: 0
A18: 6.2 | B18: Ü³Ë³·³ÑÇ ÝáñÙ³ïÇí µÝáõÛÃ áõÝ»óáÕ ³Ïï»ñÇ` ³í»ÉÇ µ³ñÓñ Çñ³í³µ³Ý³Ï³Ý áõÅ áõÝ»óáÕ ÝáñÙ³ïÇí ³Ïï»ñÇÝ Ñ³Ù³å³ï³ëË³ÝáõÃÛáõÝÁ íÇ×³ñÏ»Éáõ í»ñ³µ»ñÛ³É | E18: 0 | I18: 0 | W18: 0 | Z18: 0
A19: 6.3 | B19: Î³é³í³ñáõÃÛ³Ý ÝáñÙ³ïÇí áñáßáõÙÝ»ñÇ`³í»ÉÇ µ³ñÓñ Çñ³í³µ³Ý³Ï³Ý áõÅ áõÝ»óáÕ ÝáñÙ³ïÇí ³Ïï»ñÇÝ Ñ³Ù³å³ï³ëË³ÝáõÃÛáõÝÁ íÇ×³ñÏ»Éáõ í»ñ³µ»ñÛ³É | C19: 2 | E19: 2 | H19: 0 | I19: 0 | W19: 0 | Z19: 2
A20: 6.4 | B20: ì³ñã³å»ïÇ ÝáñÙ³ïÇí áñáßáõÙÝ»ñÇ` ³í»ÉÇ µ³ñÓñ Çñ³í³µ³Ý³Ï³Ý áõÅ áõÝ»óáÕ ÝáñÙ³ïÇí ³Ïï»ñÇÝ Ñ³Ù³å³ï³ëË³ÝáõÃÛáõÝÁ íÇ×³ñÏ»Éáõ í»ñ³µ»ñÛ³É | E20: 0 | I20: 0 | W20: 0 | Z20: 0
A21: 6.5 | B21: ¶»ñ³ï»ëã³Ï³Ý ÝáñÙ³ïÇí Çñ³í³Ï³Ý ³Ïï»ñÇ` ³í»ÉÇ µ³ñÓñ Çñ³í³µ³Ý³Ï³Ý áõÅ áõÝ»óáÕ ÝáñÙ³ïÇí ³Ïï»ñÇÝ Ñ³Ù³å³ï³ëË³ÝáõÃÛáõÝÁ íÇ×³ñÏ»Éáõ í»ñ³µ»ñÛ³É | E21: 0 | H21: 1 | I21: 1 | N21: 1 | Q21: 1 | W21: 1 | Z21: 0 | AB21: 2 | AD21: 2 | AF21: 2
A22: 6.6 | B22: Ð³Ù³ÛÝùÇ ³í³·³Ýáõ áñáßáõÙÝ»ñÇ` ³í»ÉÇ µ³ñÓñ Çñ³í³µ³Ý³Ï³Ý áõÅ áõÝ»óáÕ ÝáñÙ³ïÇí ³Ïï»ñÇÝ Ñ³Ù³å³ï³ëË³ÝáõÃÛáõÝÁ íÇ×³ñÏ»Éáõ í»ñ³µ»ñÛ³É | C22: 1 | E22: 1 | H22: 1 | I22: 1 | W22: 0 | Z22: 2
A23: 6.7 | B23: Ð³Ù³ÛÝùÇ Õ»Ï³í³ñÇ áñáßáõÙÝ»ñÇ` ³í»ÉÇ µ³ñÓñ Çñ³í³µ³Ý³Ï³Ý áõÅ áõÝ»óáÕ ÝáñÙ³ïÇí ³Ïï»ñÇÝ Ñ³Ù³å³ï³ëË³ÝáõÃÛáõÝÁ íÇ×³ñÏ»Éáõ í»ñ³µ»ñÛ³É | E23: 0 | I23: 0 | W23: 0 | Z23: 0
A24: 7 | B24: ÀÝïñ³Ï³Ý Çñ³íáõÝùÇ å³ßïå³ÝáõÃÛ³Ý Ñ»ï Ï³åí³Í Çñ³í³Ñ³ñ³µ»ñáõÃÛáõÝÝ»ñÇ í»ñ³µ»ñÛ³É ¹³ï³Ï³Ý ·áñÍ»ñ | C24: =+C25+C26+C27+C28+C29 -> 0 | D24: =+D25+D26+D27+D28+D29 -> 0 | E24: =+E25+E26+E27+E28+E29 -> 0 | F24: =+F25+F26+F27+F28+F29 -> 0 | G24: =+G25+G26+G27+G28+G29 -> 0 | H24: =+H25+H26+H27+H28+H29 -> 0 | I24: =+I25+I26+I27+I28+I29 -> 0 | J24: =+J25+J26+J27+J28+J29 -> 0 | ... AM24: =+AM25+AM26+AM27+AM28+AM29 -> 0
A25: 7.1 | B25: Ü³Ë³·³ÑÇ ÁÝïñáõÃÛáõÝÝ»ñÇ Ñ»ï Ï³åí³Í | E25: 0 | I25: 0 | W25: 0 | Z25: 0
A26: 7.2 | B26: ²½·³ÛÇÝ ÅáÕáíÇ ÁÝïñáõÃÛáõÝÝ»ñÇ Ñ»ï Ï³åí³Í | E26: 0 | I26: 0 | W26: 0 | Z26: 0
A27: 7.3 | B27: î»Õ³Ï³Ý ÇÝùÝ³Ï³é³í³ñÙ³Ý Ù³ñÙÇÝÝ»ñÇ ÁÝïñáõÃÛáõÝÝ»ñÇ Ñ»ï Ï³åí³Í | E27: 0 | I27: 0 | W27: 0 | Z27: 0
A28: 7.4 | B28: Ð³Ýñ³ùí»Ç Ï³½Ù³Ï»ñåÙ³Ý ¨ ³ÝóÏ³óÙ³Ý Ñ»ï Ï³åí³Í | E28: 0 | I28: 0 | W28: 0 | Z28: 0
A29: 7.5 | B29: ²ÛÉ í»×»ñ | E29: 0 | I29: 0 | W29: 0 | Z29: 0
A30: 9 | B30: Ð³í³ùÇ ³ÝóÏ³óÙ³Ý Ù³ëÇÝ Ñ³Ù³ÛÝùÇ Õ»Ï³í³ñÇ áñáßáõÙÝ»ñÇ ¨ ·áñÍáÕáõÃÛáõÝÝ»ñÇ Çñ³í³ã³÷áõÃÛáõÝÁ íÇ×³ñÏ»Éáõ Ñ»ï Ï³åí³Í Çñ³í³Ñ³ñ³µ»ñáõÃÛáõÝÝ»ñÇ í»ñ³µ»ñÛ³É ¹³ï³Ï³Ý ·áñÍ»ñ | E30: 0 | H30: 1 | I30: 0 | K30: 1 | W30: 0 | Z30: 0
A31: 10 | B31: ä»ï³Ï³Ý, Ñ³Ù³ÛÝù³ÛÇÝ Ï³Ù ³ÛÉÁÝïñ³Ýù³ÛÇÝ Í³é³ÛáõÃÛ³Ý ³ÝóÝ»Éáõ Ï³Ù Çñ³Ï³Ý³óÝ»Éáõ Ñ»ï Ï³åí³Í Çñ³í³Ñ³ñ³µ»ñáõÃÛáõÝÝ»ñÇ í»ñ³µ»ñÛ³É ¹³ï³Ï³Ý ·áñÍ»ñ | C31: 1 | E31: 1 | I31: 0 | N31: 1 | O31: 1 | W31: 1 | Z31: 0 | AB31: 1 | AD31: 1 | AE31: 1
A32: 11 | B32: ì³ñã³Ï³Ý Ù³ñÙÇÝÝ»ñÇ ÙÇç¨ Çñ³í³ëáõÃÛ³Ý Ñ³ñó»ñÇ í»ñ³µ»ñÛ³É í»×»ñÇ Ñ»ï Ï³åí³Í Çñ³í³Ñ³ñ³µ»ñáõÃÛáõÝÝ»ñÇ í»ñ³µ»ñÛ³É ¹³ï³Ï³Ý ·áñÍ»ñ | E32: 0 | I32: 0 | W32: 0 | Z32: 0
A33: 12 | B33: Ð³ë³ñ³Ï³Ï³Ý Ï³½Ù³Ï»ñåáõÃÛáõÝÝ»ñÇ ¨ ³ÛÉ ÙÇ³íáñáõÙÝ»ñÇ ·áñÍáõÝ»áõÃÛ³Ý Ï³ë»óÙ³Ý Ï³Ù ¹³¹³ñ»óÙ³Ý Ñ»ï Ï³åí³Í Çñ³í³Ñ³ñ³µ»ñáõÃÛáõÝÝ»ñÇ í»ñ³µ»ñÛ³É ¹³ï³Ï³Ý ·áñÍ»ñ | E33: 0 | I33: 0 | W33: 0 | Z33: 0
A34: 13 | B34: ì³ñã³ñ³ñáõÃÛ³Ùµ å³ï×³éí³Í íÝ³ëÇ å³ï³ëË³Ý³ïíáõÃÛ³Ý Ñ»ï Ï³åí³Í Çñ³í³Ñ³ñ³µ»ñáõÃÛáõÝÝ»ñÇ í»ñ³µ»ñÛ³É ¹³ï³Ï³Ý ·áñÍ»ñ | E34: 0 | I34: 0 | W34: 0 | Z34: 0
A35: 14 | B35: ²ÝÑ»ï³Ó·»ÉÇ ÙÇջամտության áñáßÙ³Ý, µáÕáù³ñÏ³ÙաÝ í»ñ³µ»ñÛ³É ¹³ï³Ï³Ý ·áñÍ»ñ | E35: 0 | H35: 8 | I35: 8 | N35: 8 | O35: 6 | Q35: 2 | W35: 8 | Z35: 0 | AB35: 5 | AD35: 5 | AF35: 5
A36: 16 | B36: Դատավորի հավակնորդի հայտի ընդունումը մերժելու áñáßÙ³Ý µáÕáù³ñÏ³ÙաÝ í»ñ³µ»ñÛ³É ¹³ï³Ï³Ý ·áñÍ»ñ | E36: 0 | I36: 0 | W36: 0 | Z36: 0
A37: 9.5 | B37: Ընտրական հանձնաժողովի գործավար մատյանը չլրացնելը կամ ոչ պատշաճ լրացնելը | E37: 0 | I37: 0 | W37: 0 | Z37: 0
A38: 9.14 | B38: Ժողովներ, հանրահավաքներ, երթեր և ցույցեր անցկացնելու կարգը խախտելը | E38: 0 | I38: 0 | W38: 0 | Z38: 0
A39: 9.15 | B39: Զինծառայողների կամ ոստիկ. ծառայողի օրին. պահանջը չկատարելը | C39: 6 | E39: 6 | H39: 1 | I39: 1 | N39: 7 | O39: 1 | Q39: 6 | W39: 7 | Z39: 0 | AB39: 2 | AD39: 2 | AE39: 1 | AF39: 1 | AI39: 1 | AK39: 1 | AL39: 1
A40: 9.18 | B40: Հայաստանի Հանրապետության ուսումնական հաստատություններում առարկաների հայերեն դասավանդումը կամ միջնակարգ-մասնագիտական, մասնագիտական տեխնիկական և բարձրագույն ուսումնական հաստատություններում հայոց լեզվի ուսուցումը կամ հայոց լեզվի ընդունելության քննությունը չապահովելը | E40: 0 | I40: 0 | W40: 0 | Z40: 0
A41: 9.19 | B41: ՀՀ պետ. մարմ., ձեռնարկ-ի, հիմն-ի և կազմ-ի (անկախ սեփ. ձևից) գործավ-ը ոչ հայերեն վարելը, ցուցանակները, ձևաթղթերը, դրոշմանիշները, նամականիշները, կնիքները, միջ. փոստ. ծրարները և գովազդները ոչ հայերեն ձևավորելը | E41: 0 | H41: 0 | I41: 0 | N41: 0 | Q41: 0 | W41: 0 | Z41: 0
A42: 9.23 | B42: Տեղեկություն տալու պարտականությունը չկատարելը | C42: 1 | D42: 1 | E42: 0 | I42: 0 | W42: 0 | Z42: 1 | AA42: 1
A43: 9.26 | B43: Տեղեկություն (տվյալ) չտրամադրելը կամ կեղծ տեղեկություն (տվյալ) ներկայացնելը | E43: 0 | I43: 0 | W43: 0 | Z43: 0
A44: 9.31 | B44: Հարկադիր կատարողի որոշումը դիտավորյալ չկատարելը կամ կատարմանը խոչընդոտելը | E44: 0 | I44: 0 | W44: 0 | Z44: 0
A45: 9.33 | B45: Այլ իրավախախտումներ | E45: 0 | I45: 0 | W45: 0 | Z45: 0
A46: 9.7 | B46: Գույքի մանր հափշտակում | E46: 0 | I46: 0 | W46: 0 | Z46: 0
A47: 8 | B47: ²ÛÉ í»×»ñ | E47: 0 | H47: 2 | I47: 1 | J47: 1 | N47: 1 | Q47: 1 | W47: 1 | Z47: 0 | AI47: 1 | AK47: 1 | AL47: 1
B48: ÀÝ¹³Ù»ÝÁ | C48: =+C9+C12+C15+C16+C24+C30+C31+C32+C33+C34+C35+C36+C37+C38+C39+C40+C41+C42+C43+C44+C45+C46+C47 -> 233 | D48: =+D9+D12+D15+D16+D24+D30+D31+D32+D33+D34+D35+D36+D37+D38+D39+D40+D41+D42+D43+D44+D45+D46+D47 -> 8 | E48: =+E9+E12+E15+E16+E24+E30+E31+E32+E33+E34+E35+E36+E37+E38+E39+E40+E41+E42+E43+E44+E45+E46+E47 -> 224 | F48: =+F9+F12+F15+F16+F24+F30+F31+F32+F33+F34+F35+F36+F37+F38+F39+F40+F41+F42+F43+F44+F45+F46+F47 -> 0 | G48: =+G9+G12+G15+G16+G24+G30+G31+G32+G33+G34+G35+G36+G37+G38+G39+G40+G41+G42+G43+G44+G45+G46+G47 -> 1 | H48: =+H9+H12+H15+H16+H24+H30+H31+H32+H33+H34+H35+H36+H37+H38+H39+H40+H41+H42+H43+H44+H45+H46+H47 -> 86 | I48: =+I9+I12+I15+I16+I24+I30+I31+I32+I33+I34+I35+I36+I37+I38+I39+I40+I41+I42+I43+I44+I45+I46+I47 -> 70 | J48: =+J9+J12+J15+J16+J24+J30+J31+J32+J33+J34+J35+J36+J37+J38+J39+J40+J41+J42+J43+J44+J45+J46+J47 -> 12 | ... AM48: =+AM9+AM12+AM15+AM16+AM24+AM30+AM31+AM32+AM33+AM34+AM35+AM36+AM37+AM38+AM39+AM40+AM41+AM42+AM43+AM44+AM45+AM46+AM47 -> 2
C49: 1 | D49: 2 | E49: 3 | F49: 4 | G49: 5 | H49: 6 | I49: 7 | J49: 8 | K49: 9 | L49: 10 | M49: 11 | N49: 12 | O49: 13 | P49: 14 | Q49: 15 | R49: 16 | S49: 17 | T49: 18 | U49: 19 | V49: 20 | W49: 21 | X49: 22 | Y49: 23 | Z49: 24 | AA49: 25 | AB49: 26 | AC49: 27 | AD49: 28 | AE49: 29 | AF49: 30 | AG49: 31 | AH49: 32 | AI49: 33 | AJ49: 34 | AK49: 35 | AL49: 36 | AM49: 37

Sheet Ա․Ծատուրյան
AI1: Հավելված 2 Բարձրագույն դատական խորհրդի 2022թվականի դեկտեմբերի 26-ի թիվ ԲԴԽ-122-Ո-408 որոշման
A2: 2025թ. | C2: Ð²ÞìºîìàôÂÚàôÜ
A3: ÐÐ ì²ðâ²Î²Ü ¸²î²ð²ÜÆ ¸²î²ìàð ԱՐԹՈՒՐ ԾԱՏՈՒՐՅԱՆԻ ¶àðÌàôÜºàôÂÚ²Ü ìºð²´ºðÚ²È
A4: ÐÐ í³ñã³Ï³Ý ¹³ï³ñ³ÝÇ ¹³ï³íáñÝ»ñÇ Ñ³ëïÇùÝ»ñÇ ÃÇíÁ` 24
A5: êïáõ·Çã Ñ³í³ë³ñáõÙÝ»ñª 1=2+3+4+5, 6=7+8+9+10, 2+3+7=11+21+22+24, 12=13+14+15+16, 17=18+19+20, 21=12+17, 28=26+27, 28=29+30, 35=33+34, 35=36+37 | C5: Ð³ßí»ïáõ Å³Ù³Ý³Ï³Ñ³ïí³ÍáõÙ Ý³Ëáñ¹ Ñ³ßí»ïáõ Å³Ù³Ý³Ï³Ñ³ïí³ÍÇó ÷áË³Ýóí³Í ·áñÍ»ñÇ ÁÝ¹Ñ³Ýáõñ ÃÇíÁ | H5: Ð³ßí»ïáõ Å³Ù³Ý³Ï³Ñ³ïí³ÍáõÙ ëï³óí³Í ·áñÍ»ñÇ (³Û¹ ÃíáõÙ` Ñ³Ûó³¹ÇÙáõÙÝ»ñÇ, ¹ÇÙáõÙÝ»ñÇ) ÁÝ¹Ñ³Ýáõñ ÃÇíÁ | M5: öáË³Ýóí»É ¿ ³ÛÉ ¹³ï³íáñÇ (Ï³½ÙÇ ÷á÷áËáõÃÛáõÝ) | N5: Ð³ßí»ïáõ Å³Ù³Ý³Ï³Ñ³ïí³ÍáõÙ ³í³ñïí³Í ·áñÍ»ñÇ ÁÝ¹Ñ³Ýáõñ ÃÇíÁ | X5: ¶áñÍÝ áõÕ³ñÏí»É ¿ Áëï ÁÝ¹¹³ïáõÃÛ³Ý | Y5: Ð³ßí»ïáõ Å³Ù³Ý³Ï³Ñ³ïí³ÍáõÙ Ï³ë»óí³Í í³ñáõÛÃÝ»ñáí ·áñÍ»ñÇ ÁÝ¹Ñ³Ýáõñ ÃÇíÁ | Z5: Ð³ßí»ïáõ Å³Ù³Ý³Ï³Ñ³ïí³ÍáõÙ ³Ý³í³ñï ·áñÍ»ñÇ ÁÝ¹Ñ³Ýáõñ ÃÇíÁ | AA5: ²Û¹ ÃíáõÙ` Ï³ë»óí³Í | AB5: ´áÕáù³ñÏí³Í ¹³ï³Ï³Ý ³Ïï»ñÁ | AG5: ²í³ñïí³Í ¹³ï³Ï³Ý ·áñÍ»ñÇ µáÕáù³ñÏÙ³Ý ïáÏáëÁ (Ñ³ßí»ïáõ Å³Ù³Ý³Ï³Ñ³ïí³ÍáõÙ) | AH5: ²Ý³í³ñï µáÕáùÝ»ñ | AI5: ´»Ï³Ýí³Í ¹³ï³Ï³Ý ³Ïï»ñÁ
C6: ÀÝ¹³Ù»ÝÁ | D6: ²Û¹ ÃíáõÙ`Ï³ë»óí³Í íÇ×³ÏáõÙ ÷áË³Ýóí³Í | E6: ²Û¹ ÃíáõÙª ÁÝ¹áõÝí»É ¿ í³ñáõÛÃ | F6: ²Û¹ ÃíáõÙª í»ñ³¹³ñÓí»É ¿ | G6: ²Û¹ ÃíáõÙª ÁÝ¹áõÝáõÙÁ Ù»ñÅí»É ¿ | H6: ÀÝ¹³Ù»ÝÁ | I6: ²Û¹ ÃíáõÙª ÁÝ¹áõÝí»É ¿ í³ñáõÛÃ | J6: ²Û¹ ÃíáõÙª í»ñ³¹³ñÓí»É ¿ | K6: ²Û¹ ÃíáõÙª ÁÝ¹áõÝáõÙÁ Ù»ñÅí»É ¿ | L6: Այդ թվում անորոշ | N6: ÀÝ¹³Ù»ÝÁ ³í³ñïí»É »Ý ·áñÍ»ñ ·áñÍÝ Áëï ¿áõÃÛ³Ý ÉáõÍáÕ ¹³ï³Ï³Ý ³Ïï»ñÇ (í×ÇéÝ»ñÇ) Ï³Û³óÙ³Ùµ | O6: ²Û¹ ÃíáõÙª Ñ³ÛóÇ µ³í³ñ³ñÙ³Ùµ | P6: ²Û¹ ÃíáõÙª Ñ³ÛóÇ Ù³ëÝ³ÏÇ µ³í³ñ³ñÙ³Ùµ | Q6: ²Û¹ ÃíáõÙª Ñ³ÛóÇ Ù»ñÅÙ³Ùµ | R6: ²Û¹ ÃíáõÙ` Ù³ëÝ³ÏÇ Ù»ñÅí»É ¿, Ù³ëÝ³ÏÇ Ï³ñ×í»É | S6: ²Û¹ ÃíáõÙª Ï³ñ×í»É »Ý | W6: ÀÝ¹³Ù»ÝÝ ³í³ñïí»É »Ý ·áñÍ»ñ | AB6: ²Û¹ ÃíáõÙ` ·áñÍÝ Áëï ¿áõÃÛ³Ý ÉáõÍáÕ ¹³ï³Ï³Ý ³Ïï»ñÁ | AC6: ²Û¹ ÃíáõÙ` ÙÇç³ÝÏÛ³É ¹³ï³Ï³Ý ³Ïï»ñÁ | AD6: ÀÝ¹³Ù»ÝÁ | AE6: Ü³Ëáñ¹ ï³ñÇÝ»ñÇÝ Ï³Û³óí³Í ³Ïï»ñÇ µáÕáù³ñÏáõÙÁ Ñ³ßí»ïáõ Å³Ù³Ý³Ï³ßñç³ÝáõÙ | AF6: Ð³ßí»ïáõ Å³Ù³Ý³Ï³ßñç³ÝáõÙ Ï³Û³óí³Í ³Ïï»ñÇ µáÕáù³ñÏáõÙÁ | AI6: ²Û¹ ÃíáõÙ` ·áñÍÝ Áëï ¿áõÃÛ³Ý ÉáõÍáÕ ¹³ï³Ï³Ý ³Ïï»ñÁ | AJ6: ²Û¹ ÃíáõÙ` ÙÇç³ÝÏÛ³É ¹³ï³Ï³Ý ³Ïï»ñÁ | AK6: ÀÝ¹³Ù»ÝÁ | AL6: Ü³Ëáñ¹ ï³ñÇÝ»ñÇÝ Ï³Û³óí³Í ³Ïï»ñÇ µ»Ï³ÝáõÙÝ»ñÁ Ñ³ßí»ïáõ Å³Ù³Ý³Ï³ßñç³ÝáõÙ | AM6: Ð³ßí»ïáõ Å³Ù³Ý³Ï³ßñç³ÝáõÙ Ï³Û³óí³Í ³Ïï»ñÇ µ»Ï³ÝáõÙÁ
S7: ÀÝ¹³Ù»ÝÁ Ï³ñ×í»É »Ý | T7: ²Û¹ ÃíáõÙª Ñ³ëï³ïí»É ¿ ÏÝùí³Í Ñ³ßïáõÃÛ³Ý Ñ³Ù³Ó³ÛÝáõÃÛáõÝÁ | U7: ²Û¹ ÃíáõÙª Ñ³ÛóÇó, ¹ÇÙáõÙÇó Ññ³Å³ñí»Éáõ ÑÇÙùáí | V7: ²Û¹ ÃíáõÙª ³ÛÉ ÑÇÙùáí
B8: ì³ñã³Ï³Ý ·áñÍ»ñÇ ¹³ë³Ï³ñ·áõÙÁ | C8: 1 | D8: 2 | E8: 3 | F8: 4 | G8: 5 | H8: 6 | I8: 7 | J8: 8 | K8: 9 | L8: 10 | M8: 11 | N8: 12 | O8: 13 | P8: 14 | Q8: 15 | R8: 16 | S8: 17 | T8: 18 | U8: 19 | V8: 20 | W8: 21 | X8: 22 | Y8: 23 | Z8: 24 | AA8: 25 | AB8: 26 | AC8: 27 | AD8: 28 | AE8: 29 | AF8: 30 | AG8: 31 | AH8: 32 | AI8: 33 | AJ8: 34 | AK8: 35 | AL8: 36 | AM8: 37
A9: 1 | B9: ä»ï³Ï³Ý Ù³ñÙÇÝÝ»ñÇ, ï»Õ³Ï³Ý ÇÝùÝ³Ï³é³í³ñÙ³Ý Ù³ñÙÇÝÝ»ñÇ áõ ¹ñ³Ýó å³ßïáÝ³ï³ñ ³ÝÓ³Ýó ³Ïï»ñÝ ³Ýí³í»ñ ×³Ý³ã»Éáõ Ñ»ï Ï³åí³Í Çñ³í³ñ³Ñ³µ»ñáõÃÛáõÝÝ»ñÇ í»ñ³µ»ñÛ³É ¹³ï³Ï³Ý ·áñÍ»ñ | C9: =+C10+C11 -> 443 | D9: =+D10+D11 -> 16 | E9: =+E10+E11 -> 426 | F9: =+F10+F11 -> 0 | G9: =+G10+G11 -> 1 | H9: =+H10+H11 -> 1187 | I9: =+I10+I11 -> 1025 | J9: =+J10+J11 -> 108 | ... AM9: =+AM10+AM11 -> 8
A10: 1.1 | B10: ä»ï³Ï³Ý Ù³ñÙÇÝÝ»ñÇ áõ ¹ñ³Ýó å³ßïáÝ³ï³ñ ³ÝÓ³Ýó ³Ïï»ñÝ ³Ýí³í»ñ ×³Ý³ã»Éáõ Ñ»ï Ï³åí³Í Çñ³í³Ñ³ñ³µ»ñáõÃÛáõÝÝ»ñÇ í»ñ³µ»ñÛ³É ¹³ï³Ï³Ý ·áñÍ»ñ | C10: 428 | D10: 13 | E10: 414 | G10: 1 | H10: 1027 | I10: 899 | J10: 83 | K10: 30 | L10: 15 | M10: 2 | N10: 664 | O10: 597 | P10: 8 | Q10: 59 | S10: 8 | V10: 8 | W10: 672 | X10: 1 | Y10: 3 | Z10: 651 | AA10: 14 | AB10: 107 | AC10: 22 | AD10: 129 | AE10: 19 | AF10: 110 | AI10: 25 | AJ10: 4 | AK10: 29 | AL10: 23 | AM10: 6
A11: 1.2 | B11: î»Õ³Ï³Ý ÇÝùÝ³Ï³é³í³ñÙ³Ý Ù³ñÙÇÝÝ»ñÇ áõ ¹ñ³Ýó å³ßïáÝ³ï³ñ ³ÝÓ³Ýó ³Ïï»ñÝ ³Ýí³í»ñ ×³Ý³ã»Éáõ Ñ»ï Ï³åí³Í Çñ³í³Ñ³ñ³µ»ñáõÃÛáõÝÝ»ñÇ í»ñ³µ»ñÛ³É ¹³ï³Ï³Ý ·áñÍ»ñ | C11: 15 | D11: 3 | E11: 12 | H11: 160 | I11: 126 | J11: 25 | K11: 6 | L11: 3 | N11: 36 | O11: 30 | Q11: 6 | S11: 6 | U11: 4 | V11: 2 | W11: 42 | Z11: 99 | AA11: 2 | AB11: 28 | AC11: 4 | AD11: 32 | AE11: 14 | AF11: 18 | AI11: 2 | AJ11: 2 | AK11: 4 | AL11: 2 | AM11: 2
A12: 2 | B12: ä»ï³Ï³Ý Ù³ñÙÇÝÝ»ñÇ, ï»Õ³Ï³Ý ÇÝùÝ³Ï³é³í³ñÙ³Ý Ù³ñÙÇÝÝ»ñÇ ¨ ¹ñ³Ýó å³ßïáÝ³ï³ñ ³ÝÓ³Ýó ·áñÍáÕáõÃÛáõÝÝ»ñÁ /³Ý·áñÍáõÃÛáõÝÁ/ íÇ×³ñÏ»Éáõ Ñ»ï Ï³åí³Í Çñ³í³Ñ³ñ³µ»ñáõÃÛáõÝÝ»ñÇ í»ñ³µ»ñÛ³É ¹³ï³Ï³Ý ·áñÍ»ñ | C12: =C13+C14 -> 130 | D12: =D13+D14 -> 4 | E12: =E13+E14 -> 126 | F12: =F13+F14 -> 0 | G12: =G13+G14 -> 0 | H12: =H13+H14 -> 160 | I12: =I13+I14 -> 94 | J12: =J13+J14 -> 45 | ... AM12: =AM13+AM14 -> 4
A13: 2.1 | B13: ä»ï³Ï³Ý Ù³ñÙÇÝÝ»ñÇ ¨ ¹ñ³Ýó å³ßïáÝ³ï³ñ ³ÝÓ³Ýó ·áñÍáÕáõÃÛáõÝÝ»ñÁ /³Ý·áñÍáõÃÛáõÝÁ/ íÇ×³ñÏ»Éáõ Ñ»ï Ï³åí³Í Çñ³í³Ñ³ñ³µ»ñáõÃÛáõÝÝ»ñÇ í»ñ³µ»ñÛ³É ¹³ï³Ï³Ý ·áñÍ»ñ | C13: 82 | E13: 82 | H13: 103 | I13: 60 | J13: 30 | K13: 8 | L13: 5 | M13: 1 | N13: 51 | O13: 21 | P13: 2 | Q13: 28 | S13: 5 | T13: 1 | U13: 3 | V13: 1 | W13: 56 | Y13: 1 | Z13: 85 | AA13: 2 | AB13: 25 | AC13: 9 | AD13: 34 | AE13: 5 | AF13: 29 | AI13: 7 | AJ13: 5 | AK13: 12 | AL13: 9 | AM13: 3
A14: 2.2 | B14: î»Õ³Ï³Ý ÇÝùÝ³Ï³é³í³ñÙ³Ý Ù³ñÙÇÝÝ»ñÇ áõ ¹ñ³Ýó å³ßïáÝ³ï³ñ ³ÝÓ³Ýó ·áñÍáÕáõÃÛáõÝÝ»ñÁ /³Ý·áñÍáõÃÛáõÝÁ/ íÇ×³ñÏ»Éáõ Ñ»ï Ï³åí³Í Çñ³í³Ñ³ñ³µ»ñáõÃÛáõÝÝ»ñÇ í»ñ³µ»ñÛ³É ¹³ï³Ï³Ý ·áñÍ»ñ | C14: 48 | D14: 4 | E14: 44 | H14: 57 | I14: 34 | J14: 15 | K14: 6 | L14: 2 | N14: 23 | O14: 13 | P14: 2 | Q14: 8 | S14: 2 | U14: 2 | W14: 25 | Y14: 1 | Z14: 57 | AA14: 4 | AB14: 15 | AC14: 3 | AD14: 18 | AE14: 5 | AF14: 13 | AI14: 4 | AJ14: 1 | AK14: 5 | AL14: 4 | AM14: 1
A15: 5 | B15: Üáï³ñ³Ï³Ý ·áñÍáÕáõÃÛáõÝÝ»ñÁ Ï³Ù Ýáï³ñÇ ³Ý·áñÍáõÃÛáõÝÁ íÇ×³ñÏ»Éáõ Ñ»ï Ï³åí³Í Çñ³í³Ñ³ñ³µ»ñáõÃÛáõÝÝ»ñÇ í»ñ³µ»ñÛ³É ¹³ï³Ï³Ý ·áñÍ»ñ | C15: 2 | E15: 2 | H15: 1 | I15: 1 | S15: 1 | V15: 1 | W15: 1 | X15: 1 | Z15: 1 | AB15: 1 | AD15: 1 | AF15: 1
A16: 6 | B16: ÜáñÙ³ïÇí Çñ³í³Ï³Ý ³Ïï»ñÇ Çñ³í³ã³÷áõÃÛáõÝÁ íÇ×³ñÏ»Éáõ Ñ»ï Ï³åí³Í Çñ³í³Ñ³ñ³µ»ñáõÃÛáõÝÝ»ñÇ í»ñ³µ»ñÛ³É ¹³ï³Ï³Ý ·áñÍ»ñ | C16: =C17+C18+C19+C20+C21+C22+C23 -> 5 | D16: =D17+D18+D19+D20+D21+D22+D23 -> 0 | E16: =E17+E18+E19+E20+E21+E22+E23 -> 5 | F16: =F17+F18+F19+F20+F21+F22+F23 -> 0 | G16: =G17+G18+G19+G20+G21+G22+G23 -> 0 | H16: =H17+H18+H19+H20+H21+H22+H23 -> 1 | I16: =I17+I18+I19+I20+I21+I22+I23 -> 1 | J16: =J17+J18+J19+J20+J21+J22+J23 -> 0 | ... AM16: =AM17+AM18+AM19+AM20+AM21+AM22+AM23 -> 0
A17: 6.1 | B17: ¶»ñ³ï»ëã³Ï³Ý ÝáñÙ³ïÇí Çñ³í³Ï³Ý ³Ïï»ñÇª ÐÐ ê³ÑÙ³Ý³¹ñáõÃÛ³ÝÁ Ñ³Ù³å³ï³ëË³ÝáõÃÛáõÝÁ íÇ×³ñÏ»Éáõ í»ñ³µ»ñÛ³É | E17: 0 | I17: 0 | W17: 0 | Z17: 0
A18: 6.2 | B18: Ü³Ë³·³ÑÇ ÝáñÙ³ïÇí µÝáõÛÃ áõÝ»óáÕ ³Ïï»ñÇ` ³í»ÉÇ µ³ñÓñ Çñ³í³µ³Ý³Ï³Ý áõÅ áõÝ»óáÕ ÝáñÙ³ïÇí ³Ïï»ñÇÝ Ñ³Ù³å³ï³ëË³ÝáõÃÛáõÝÁ íÇ×³ñÏ»Éáõ í»ñ³µ»ñÛ³É | E18: 0 | I18: 0 | W18: 0 | Z18: 0
A19: 6.3 | B19: Î³é³í³ñáõÃÛ³Ý ÝáñÙ³ïÇí áñáßáõÙÝ»ñÇ`³í»ÉÇ µ³ñÓñ Çñ³í³µ³Ý³Ï³Ý áõÅ áõÝ»óáÕ ÝáñÙ³ïÇí ³Ïï»ñÇÝ Ñ³Ù³å³ï³ëË³ÝáõÃÛáõÝÁ íÇ×³ñÏ»Éáõ í»ñ³µ»ñÛ³É | C19: 4 | E19: 4 | I19: 0 | M19: 0 | W19: 0 | Z19: 4
A20: 6.4 | B20: ì³ñã³å»ïÇ ÝáñÙ³ïÇí áñáßáõÙÝ»ñÇ` ³í»ÉÇ µ³ñÓñ Çñ³í³µ³Ý³Ï³Ý áõÅ áõÝ»óáÕ ÝáñÙ³ïÇí ³Ïï»ñÇÝ Ñ³Ù³å³ï³ëË³ÝáõÃÛáõÝÁ íÇ×³ñÏ»Éáõ í»ñ³µ»ñÛ³É | E20: 0 | I20: 0 | W20: 0 | Z20: 0
A21: 6.5 | B21: ¶»ñ³ï»ëã³Ï³Ý ÝáñÙ³ïÇí Çñ³í³Ï³Ý ³Ïï»ñÇ` ³í»ÉÇ µ³ñÓñ Çñ³í³µ³Ý³Ï³Ý áõÅ áõÝ»óáÕ ÝáñÙ³ïÇí ³Ïï»ñÇÝ Ñ³Ù³å³ï³ëË³ÝáõÃÛáõÝÁ íÇ×³ñÏ»Éáõ í»ñ³µ»ñÛ³É | E21: 0 | H21: 1 | I21: 1 | W21: 0 | Z21: 1
A22: 6.6 | B22: Ð³Ù³ÛÝùÇ ³í³·³Ýáõ áñáßáõÙÝ»ñÇ` ³í»ÉÇ µ³ñÓñ Çñ³í³µ³Ý³Ï³Ý áõÅ áõÝ»óáÕ ÝáñÙ³ïÇí ³Ïï»ñÇÝ Ñ³Ù³å³ï³ëË³ÝáõÃÛáõÝÁ íÇ×³ñÏ»Éáõ í»ñ³µ»ñÛ³É | C22: 1 | E22: 1 | I22: 0 | W22: 0 | Z22: 1
A23: 6.7 | B23: Ð³Ù³ÛÝùÇ Õ»Ï³í³ñÇ áñáßáõÙÝ»ñÇ` ³í»ÉÇ µ³ñÓñ Çñ³í³µ³Ý³Ï³Ý áõÅ áõÝ»óáÕ ÝáñÙ³ïÇí ³Ïï»ñÇÝ Ñ³Ù³å³ï³ëË³ÝáõÃÛáõÝÁ íÇ×³ñÏ»Éáõ í»ñ³µ»ñÛ³É | E23: 0 | I23: 0 | W23: 0 | Z23: 0
A24: 7 | B24: ÀÝïñ³Ï³Ý Çñ³íáõÝùÇ å³ßïå³ÝáõÃÛ³Ý Ñ»ï Ï³åí³Í Çñ³í³Ñ³ñ³µ»ñáõÃÛáõÝÝ»ñÇ í»ñ³µ»ñÛ³É ¹³ï³Ï³Ý ·áñÍ»ñ | C24: =+C25+C26+C27+C28+C29 -> 0 | D24: =+D25+D26+D27+D28+D29 -> 0 | E24: =+E25+E26+E27+E28+E29 -> 0 | F24: =+F25+F26+F27+F28+F29 -> 0 | G24: =+G25+G26+G27+G28+G29 -> 0 | H24: =+H25+H26+H27+H28+H29 -> 0 | I24: =+I25+I26+I27+I28+I29 -> 0 | J24: =+J25+J26+J27+J28+J29 -> 0 | ... AM24: =+AM25+AM26+AM27+AM28+AM29 -> 0
A25: 7.1 | B25: Ü³Ë³·³ÑÇ ÁÝïñáõÃÛáõÝÝ»ñÇ Ñ»ï Ï³åí³Í | E25: 0 | I25: 0 | W25: 0 | Z25: 0
A26: 7.2 | B26: ²½·³ÛÇÝ ÅáÕáíÇ ÁÝïñáõÃÛáõÝÝ»ñÇ Ñ»ï Ï³åí³Í | E26: 0 | I26: 0 | W26: 0 | Z26: 0
A27: 7.3 | B27: î»Õ³Ï³Ý ÇÝùÝ³Ï³é³í³ñÙ³Ý Ù³ñÙÇÝÝ»ñÇ ÁÝïñáõÃÛáõÝÝ»ñÇ Ñ»ï Ï³åí³Í | E27: 0 | I27: 0 | W27: 0 | Z27: 0
A28: 7.4 | B28: Ð³Ýñ³ùí»Ç Ï³½Ù³Ï»ñåÙ³Ý ¨ ³ÝóÏ³óÙ³Ý Ñ»ï Ï³åí³Í | E28: 0 | I28: 0 | W28: 0 | Z28: 0
A29: 7.5 | B29: ²ÛÉ í»×»ñ | E29: 0 | I29: 0 | W29: 0 | Z29: 0
A30: 9 | B30: Ð³í³ùÇ ³ÝóÏ³óÙ³Ý Ù³ëÇÝ Ñ³Ù³ÛÝùÇ Õ»Ï³í³ñÇ áñáßáõÙÝ»ñÇ ¨ ·áñÍáÕáõÃÛáõÝÝ»ñÇ Çñ³í³ã³÷áõÃÛáõÝÁ íÇ×³ñÏ»Éáõ Ñ»ï Ï³åí³Í Çñ³í³Ñ³ñ³µ»ñáõÃÛáõÝÝ»ñÇ í»ñ³µ»ñÛ³É ¹³ï³Ï³Ý ·áñÍ»ñ | E30: 0 | I30: 0 | W30: 0 | Z30: 0
A31: 10 | B31: ä»ï³Ï³Ý, Ñ³Ù³ÛÝù³ÛÇÝ Ï³Ù ³ÛÉÁÝïñ³Ýù³ÛÇÝ Í³é³ÛáõÃÛ³Ý ³ÝóÝ»Éáõ Ï³Ù Çñ³Ï³Ý³óÝ»Éáõ Ñ»ï Ï³åí³Í Çñ³í³Ñ³ñ³µ»ñáõÃÛáõÝÝ»ñÇ í»ñ³µ»ñÛ³É ¹³ï³Ï³Ý ·áñÍ»ñ | C31: 7 | E31: 7 | H31: 2 | I31: 2 | N31: 4 | O31: 2 | P31: 1 | Q31: 1 | W31: 4 | X31: 2 | Z31: 3 | AB31: 2 | AD31: 2 | AF31: 2
A32: 11 | B32: ì³ñã³Ï³Ý Ù³ñÙÇÝÝ»ñÇ ÙÇç¨ Çñ³í³ëáõÃÛ³Ý Ñ³ñó»ñÇ í»ñ³µ»ñÛ³É í»×»ñÇ Ñ»ï Ï³åí³Í Çñ³í³Ñ³ñ³µ»ñáõÃÛáõÝÝ»ñÇ í»ñ³µ»ñÛ³É ¹³ï³Ï³Ý ·áñÍ»ñ | E32: 0 | I32: 0 | W32: 0 | Z32: 0
A33: 12 | B33: Ð³ë³ñ³Ï³Ï³Ý Ï³½Ù³Ï»ñåáõÃÛáõÝÝ»ñÇ ¨ ³ÛÉ ÙÇ³íáñáõÙÝ»ñÇ ·áñÍáõÝ»áõÃÛ³Ý Ï³ë»óÙ³Ý Ï³Ù ¹³¹³ñ»óÙ³Ý Ñ»ï Ï³åí³Í Çñ³í³Ñ³ñ³µ»ñáõÃÛáõÝÝ»ñÇ í»ñ³µ»ñÛ³É ¹³ï³Ï³Ý ·áñÍ»ñ | E33: 0 | I33: 0 | W33: 0 | Z33: 0
A34: 13 | B34: ì³ñã³ñ³ñáõÃÛ³Ùµ å³ï×³éí³Í íÝ³ëÇ å³ï³ëË³Ý³ïíáõÃÛ³Ý Ñ»ï Ï³åí³Í Çñ³í³Ñ³ñ³µ»ñáõÃÛáõÝÝ»ñÇ í»ñ³µ»ñÛ³É ¹³ï³Ï³Ý ·áñÍ»ñ | C34: 3 | E34: 3 | I34: 0 | N34: 2 | O34: 1 | P34: 1 | W34: 2 | Z34: 1 | AB34: 2 | AD34: 2 | AF34: 2
A35: 14 | B35: ²ÝÑ»ï³Ó·»ÉÇ ÙÇջամտության áñáßÙ³Ý, µáÕáù³ñÏ³ÙաÝ í»ñ³µ»ñÛ³É ¹³ï³Ï³Ý ·áñÍ»ñ | E35: 0 | H35: 1 | I35: 1 | N35: 1 | O35: 1 | W35: 1 | Z35: 0
A36: 16 | B36: Դատավորի հավակնորդի հայտի ընդունումը մերժելու áñáßÙ³Ý µáÕáù³ñÏ³ÙաÝ í»ñ³µ»ñÛ³É ¹³ï³Ï³Ý ·áñÍ»ñ | E36: 0 | I36: 0 | W36: 0 | Z36: 0
A37: 9.5 | B37: Ընտրական հանձնաժողովի գործավար մատյանը չլրացնելը կամ ոչ պատշաճ լրացնելը | E37: 0 | I37: 0 | W37: 0 | Z37: 0
A38: 9.14 | B38: Ժողովներ, հանրահավաքներ, երթեր և ցույցեր անցկացնելու կարգը խախտելը | E38: 0 | H38: 1 | I38: 1 | N38: 1 | Q38: 1 | W38: 1 | Z38: 0 | AB38: 1 | AD38: 1 | AF38: 1
A39: 9.15 | B39: Զինծառայողների կամ ոստիկ. ծառայողի օրին. պահանջը չկատարելը | C39: 30 | E39: 30 | H39: 14 | I39: 14 | N39: 30 | O39: 6 | Q39: 24 | W39: 30 | Z39: 14 | AB39: 8 | AD39: 8 | AE39: 1 | AF39: 7
A40: 9.18 | B40: Հայաստանի Հանրապետության ուսումնական հաստատություններում առարկաների հայերեն դասավանդումը կամ միջնակարգ-մասնագիտական, մասնագիտական տեխնիկական և բարձրագույն ուսումնական հաստատություններում հայոց լեզվի ուսուցումը կամ հայոց լեզվի ընդունելության քննությունը չապահովելը | E40: 0 | I40: 0 | W40: 0 | Z40: 0
A41: 9.19 | B41: ՀՀ պետ. մարմ., ձեռնարկ-ի, հիմն-ի և կազմ-ի (անկախ սեփ. ձևից) գործավ-ը ոչ հայերեն վարելը, ցուցանակները, ձևաթղթերը, դրոշմանիշները, նամականիշները, կնիքները, միջ. փոստ. ծրարները և գովազդները ոչ հայերեն ձևավորելը | C41: 1 | E41: 1 | H41: 1 | I41: 1 | W41: 0 | Z41: 2 | AI41: 1 | AK41: 1 | AL41: 1
A42: 9.23 | B42: Տեղեկություն տալու պարտականությունը չկատարելը | C42: 1 | E42: 1 | I42: 0 | N42: 1 | Q42: 1 | W42: 1 | Z42: 0
A43: 9.26 | B43: Տեղեկություն (տվյալ) չտրամադրելը կամ կեղծ տեղեկություն (տվյալ) ներկայացնելը | E43: 0 | I43: 0 | W43: 0 | Z43: 0
A44: 9.31 | B44: Հարկադիր կատարողի որոշումը դիտավորյալ չկատարելը կամ կատարմանը խոչընդոտելը | E44: 0 | H44: 1 | I44: 1 | W44: 0 | Z44: 1
A45: 9.33 | B45: Այլ իրավախախտումներ | C45: 1 | E45: 1 | H45: 8 | I45: 8 | N45: 3 | Q45: 3 | W45: 3 | Z45: 6 | AB45: 2 | AD45: 2 | AF45: 2
A46: 9.7 | B46: Գույքի մանր հափշտակում | E46: 0 | I46: 0 | W46: 0 | Z46: 0
A47: 8 | B47: ²ÛÉ í»×»ñ | C47: 4 | E47: 4 | H47: 14 | I47: 11 | J47: 3 | N47: 12 | O47: 8 | P47: 2 | Q47: 2 | S47: 1 | V47: 1 | W47: 13 | Z47: 2
B48: ÀÝ¹³Ù»ÝÁ | C48: =+C9+C12+C15+C16+C24+C30+C31+C32+C33+C34+C35+C36+C37+C38+C39+C40+C41+C42+C43+C44+C45+C46+C47 -> 627 | D48: =+D9+D12+D15+D16+D24+D30+D31+D32+D33+D34+D35+D36+D37+D38+D39+D40+D41+D42+D43+D44+D45+D46+D47 -> 20 | E48: =+E9+E12+E15+E16+E24+E30+E31+E32+E33+E34+E35+E36+E37+E38+E39+E40+E41+E42+E43+E44+E45+E46+E47 -> 606 | F48: =+F9+F12+F15+F16+F24+F30+F31+F32+F33+F34+F35+F36+F37+F38+F39+F40+F41+F42+F43+F44+F45+F46+F47 -> 0 | G48: =+G9+G12+G15+G16+G24+G30+G31+G32+G33+G34+G35+G36+G37+G38+G39+G40+G41+G42+G43+G44+G45+G46+G47 -> 1 | H48: =+H9+H12+H15+H16+H24+H30+H31+H32+H33+H34+H35+H36+H37+H38+H39+H40+H41+H42+H43+H44+H45+H46+H47 -> 1391 | I48: =+I9+I12+I15+I16+I24+I30+I31+I32+I33+I34+I35+I36+I37+I38+I39+I40+I41+I42+I43+I44+I45+I46+I47 -> 1160 | J48: =+J9+J12+J15+J16+J24+J30+J31+J32+J33+J34+J35+J36+J37+J38+J39+J40+J41+J42+J43+J44+J45+J46+J47 -> 156 | ... AM48: =+AM9+AM12+AM15+AM16+AM24+AM30+AM31+AM32+AM33+AM34+AM35+AM36+AM37+AM38+AM39+AM40+AM41+AM42+AM43+AM44+AM45+AM46+AM47 -> 12
C49: 1 | D49: 2 | E49: 3 | F49: 4 | G49: 5 | H49: 6 | I49: 7 | J49: 8 | K49: 9 | L49: 10 | M49: 11 | N49: 12 | O49: 13 | P49: 14 | Q49: 15 | R49: 16 | S49: 17 | T49: 18 | U49: 19 | V49: 20 | W49: 21 | X49: 22 | Y49: 23 | Z49: 24 | AA49: 25 | AB49: 26 | AC49: 27 | AD49: 28 | AE49: 29 | AF49: 30 | AG49: 31 | AH49: 32 | AI49: 33 | AJ49: 34 | AK49: 35 | AL49: 36 | AM49: 37

Sheet Ա․Հարությունյան
AI1: Հավելված 2 Բարձրագույն դատական խորհրդի 2022թվականի դեկտեմբերի 26-ի թիվ ԲԴԽ-122-Ո-408 որոշման
A2: 2025թ. | C2: Ð²ÞìºîìàôÂÚàôÜ
A3: ÐÐ ì²ðâ²Î²Ü ¸²î²ð²ÜÆ ¸²î²ìàð ԱՆԻ ՀԱՐՈՒԹՅՈՒՆՅԱՆԻ ¶àðÌàôÜºàôÂÚ²Ü ìºð²´ºðÚ²È
A4: ÐÐ í³ñã³Ï³Ý ¹³ï³ñ³ÝÇ ¹³ï³íáñÝ»ñÇ Ñ³ëïÇùÝ»ñÇ ÃÇíÁ` 24
A5: êïáõ·Çã Ñ³í³ë³ñáõÙÝ»ñª 1=2+3+4+5, 6=7+8+9+10, 2+3+7=11+21+22+24, 12=13+14+15+16, 17=18+19+20, 21=12+17, 28=26+27, 28=29+30, 35=33+34, 35=36+37 | C5: Ð³ßí»ïáõ Å³Ù³Ý³Ï³Ñ³ïí³ÍáõÙ Ý³Ëáñ¹ Ñ³ßí»ïáõ Å³Ù³Ý³Ï³Ñ³ïí³ÍÇó ÷áË³Ýóí³Í ·áñÍ»ñÇ ÁÝ¹Ñ³Ýáõñ ÃÇíÁ | H5: Ð³ßí»ïáõ Å³Ù³Ý³Ï³Ñ³ïí³ÍáõÙ ëï³óí³Í ·áñÍ»ñÇ (³Û¹ ÃíáõÙ` Ñ³Ûó³¹ÇÙáõÙÝ»ñÇ, ¹ÇÙáõÙÝ»ñÇ) ÁÝ¹Ñ³Ýáõñ ÃÇíÁ | M5: öáË³Ýóí»É ¿ ³ÛÉ ¹³ï³íáñÇ (Ï³½ÙÇ ÷á÷áËáõÃÛáõÝ) | N5: Ð³ßí»ïáõ Å³Ù³Ý³Ï³Ñ³ïí³ÍáõÙ ³í³ñïí³Í ·áñÍ»ñÇ ÁÝ¹Ñ³Ýáõñ ÃÇíÁ | X5: ¶áñÍÝ áõÕ³ñÏí»É ¿ Áëï ÁÝ¹¹³ïáõÃÛ³Ý | Y5: Ð³ßí»ïáõ Å³Ù³Ý³Ï³Ñ³ïí³ÍáõÙ Ï³ë»óí³Í í³ñáõÛÃÝ»ñáí ·áñÍ»ñÇ ÁÝ¹Ñ³Ýáõñ ÃÇíÁ | Z5: Ð³ßí»ïáõ Å³Ù³Ý³Ï³Ñ³ïí³ÍáõÙ ³Ý³í³ñï ·áñÍ»ñÇ ÁÝ¹Ñ³Ýáõñ ÃÇíÁ | AA5: ²Û¹ ÃíáõÙ` Ï³ë»óí³Í | AB5: ´áÕáù³ñÏí³Í ¹³ï³Ï³Ý ³Ïï»ñÁ | AG5: ²í³ñïí³Í ¹³ï³Ï³Ý ·áñÍ»ñÇ µáÕáù³ñÏÙ³Ý ïáÏáëÁ (Ñ³ßí»ïáõ Å³Ù³Ý³Ï³Ñ³ïí³ÍáõÙ) | AH5: ²Ý³í³ñï µáÕáùÝ»ñ | AI5: ´»Ï³Ýí³Í ¹³ï³Ï³Ý ³Ïï»ñÁ
C6: ÀÝ¹³Ù»ÝÁ | D6: ²Û¹ ÃíáõÙ`Ï³ë»óí³Í íÇ×³ÏáõÙ ÷áË³Ýóí³Í | E6: ²Û¹ ÃíáõÙª ÁÝ¹áõÝí»É ¿ í³ñáõÛÃ | F6: ²Û¹ ÃíáõÙª í»ñ³¹³ñÓí»É ¿ | G6: ²Û¹ ÃíáõÙª ÁÝ¹áõÝáõÙÁ Ù»ñÅí»É ¿ | H6: ÀÝ¹³Ù»ÝÁ | I6: ²Û¹ ÃíáõÙª ÁÝ¹áõÝí»É ¿ í³ñáõÛÃ | J6: ²Û¹ ÃíáõÙª í»ñ³¹³ñÓí»É ¿ | K6: ²Û¹ ÃíáõÙª ÁÝ¹áõÝáõÙÁ Ù»ñÅí»É ¿ | L6: Այդ թվում անորոշ | N6: ÀÝ¹³Ù»ÝÁ ³í³ñïí»É »Ý ·áñÍ»ñ ·áñÍÝ Áëï ¿áõÃÛ³Ý ÉáõÍáÕ ¹³ï³Ï³Ý ³Ïï»ñÇ (í×ÇéÝ»ñÇ) Ï³Û³óÙ³Ùµ | O6: ²Û¹ ÃíáõÙª Ñ³ÛóÇ µ³í³ñ³ñÙ³Ùµ | P6: ²Û¹ ÃíáõÙª Ñ³ÛóÇ Ù³ëÝ³ÏÇ µ³í³ñ³ñÙ³Ùµ | Q6: ²Û¹ ÃíáõÙª Ñ³ÛóÇ Ù»ñÅÙ³Ùµ | R6: ²Û¹ ÃíáõÙ` Ù³ëÝ³ÏÇ Ù»ñÅí»É ¿, Ù³ëÝ³ÏÇ Ï³ñ×í»É | S6: ²Û¹ ÃíáõÙª Ï³ñ×í»É »Ý | W6: ÀÝ¹³Ù»ÝÝ ³í³ñïí»É »Ý ·áñÍ»ñ | AB6: ²Û¹ ÃíáõÙ` ·áñÍÝ Áëï ¿áõÃÛ³Ý ÉáõÍáÕ ¹³ï³Ï³Ý ³Ïï»ñÁ | AC6: ²Û¹ ÃíáõÙ` ÙÇç³ÝÏÛ³É ¹³ï³Ï³Ý ³Ïï»ñÁ | AD6: ÀÝ¹³Ù»ÝÁ | AE6: Ü³Ëáñ¹ ï³ñÇÝ»ñÇÝ Ï³Û³óí³Í ³Ïï»ñÇ µáÕáù³ñÏáõÙÁ Ñ³ßí»ïáõ Å³Ù³Ý³Ï³ßñç³ÝáõÙ | AF6: Ð³ßí»ïáõ Å³Ù³Ý³Ï³ßñç³ÝáõÙ Ï³Û³óí³Í ³Ïï»ñÇ µáÕáù³ñÏáõÙÁ | AI6: ²Û¹ ÃíáõÙ` ·áñÍÝ Áëï ¿áõÃÛ³Ý ÉáõÍáÕ ¹³ï³Ï³Ý ³Ïï»ñÁ | AJ6: ²Û¹ ÃíáõÙ` ÙÇç³ÝÏÛ³É ¹³ï³Ï³Ý ³Ïï»ñÁ | AK6: ÀÝ¹³Ù»ÝÁ | AL6: Ü³Ëáñ¹ ï³ñÇÝ»ñÇÝ Ï³Û³óí³Í ³Ïï»ñÇ µ»Ï³ÝáõÙÝ»ñÁ Ñ³ßí»ïáõ Å³Ù³Ý³Ï³ßñç³ÝáõÙ | AM6: Ð³ßí»ïáõ Å³Ù³Ý³Ï³ßñç³ÝáõÙ Ï³Û³óí³Í ³Ïï»ñÇ µ»Ï³ÝáõÙÁ
S7: ÀÝ¹³Ù»ÝÁ Ï³ñ×í»É »Ý | T7: ²Û¹ ÃíáõÙª Ñ³ëï³ïí»É ¿ ÏÝùí³Í Ñ³ßïáõÃÛ³Ý Ñ³Ù³Ó³ÛÝáõÃÛáõÝÁ | U7: ²Û¹ ÃíáõÙª Ñ³ÛóÇó, ¹ÇÙáõÙÇó Ññ³Å³ñí»Éáõ ÑÇÙùáí | V7: ²Û¹ ÃíáõÙª ³ÛÉ ÑÇÙùáí
B8: ì³ñã³Ï³Ý ·áñÍ»ñÇ ¹³ë³Ï³ñ·áõÙÁ | C8: 1 | D8: 2 | E8: 3 | F8: 4 | G8: 5 | H8: 6 | I8: 7 | J8: 8 | K8: 9 | L8: 10 | M8: 11 | N8: 12 | O8: 13 | P8: 14 | Q8: 15 | R8: 16 | S8: 17 | T8: 18 | U8: 19 | V8: 20 | W8: 21 | X8: 22 | Y8: 23 | Z8: 24 | AA8: 25 | AB8: 26 | AC8: 27 | AD8: 28 | AE8: 29 | AF8: 30 | AG8: 31 | AH8: 32 | AI8: 33 | AJ8: 34 | AK8: 35 | AL8: 36 | AM8: 37
A9: 1 | B9: ä»ï³Ï³Ý Ù³ñÙÇÝÝ»ñÇ, ï»Õ³Ï³Ý ÇÝùÝ³Ï³é³í³ñÙ³Ý Ù³ñÙÇÝÝ»ñÇ áõ ¹ñ³Ýó å³ßïáÝ³ï³ñ ³ÝÓ³Ýó ³Ïï»ñÝ ³Ýí³í»ñ ×³Ý³ã»Éáõ Ñ»ï Ï³åí³Í Çñ³í³ñ³Ñ³µ»ñáõÃÛáõÝÝ»ñÇ í»ñ³µ»ñÛ³É ¹³ï³Ï³Ý ·áñÍ»ñ | C9: =+C10+C11 -> 518 | D9: =+D10+D11 -> 41 | E9: =+E10+E11 -> 477 | F9: =+F10+F11 -> 0 | G9: =+G10+G11 -> 0 | H9: =+H10+H11 -> 1039 | I9: =+I10+I11 -> 923 | J9: =+J10+J11 -> 66 | ... AM9: =+AM10+AM11 -> 6
A10: 1.1 | B10: ä»ï³Ï³Ý Ù³ñÙÇÝÝ»ñÇ áõ ¹ñ³Ýó å³ßïáÝ³ï³ñ ³ÝÓ³Ýó ³Ïï»ñÝ ³Ýí³í»ñ ×³Ý³ã»Éáõ Ñ»ï Ï³åí³Í Çñ³í³Ñ³ñ³µ»ñáõÃÛáõÝÝ»ñÇ í»ñ³µ»ñÛ³É ¹³ï³Ï³Ý ·áñÍ»ñ | C10: 455 | D10: 38 | E10: 417 | H10: 898 | I10: 800 | J10: 56 | K10: 15 | L10: 27 | M10: 2 | N10: 654 | O10: 467 | P10: 7 | Q10: 180 | S10: 13 | U10: 4 | V10: 9 | W10: 667 | X10: 3 | Y10: 11 | Z10: 583 | AA10: 37 | AB10: 251 | AC10: 22 | AD10: 273 | AE10: 75 | AF10: 198 | AI10: 28 | AJ10: 5 | AK10: 33 | AL10: 28 | AM10: 5
A11: 1.2 | B11: î»Õ³Ï³Ý ÇÝùÝ³Ï³é³í³ñÙ³Ý Ù³ñÙÇÝÝ»ñÇ áõ ¹ñ³Ýó å³ßïáÝ³ï³ñ ³ÝÓ³Ýó ³Ïï»ñÝ ³Ýí³í»ñ ×³Ý³ã»Éáõ Ñ»ï Ï³åí³Í Çñ³í³Ñ³ñ³µ»ñáõÃÛáõÝÝ»ñÇ í»ñ³µ»ñÛ³É ¹³ï³Ï³Ý ·áñÍ»ñ | C11: 63 | D11: 3 | E11: 60 | H11: 141 | I11: 123 | J11: 10 | K11: 2 | L11: 6 | N11: 70 | O11: 65 | Q11: 5 | S11: 3 | U11: 1 | V11: 2 | W11: 73 | X11: 5 | Y11: 4 | Z11: 108 | AA11: 6 | AB11: 53 | AC11: 3 | AD11: 56 | AE11: 5 | AF11: 51 | AI11: 1 | AJ11: 1 | AK11: 2 | AL11: 1 | AM11: 1
A12: 2 | B12: ä»ï³Ï³Ý Ù³ñÙÇÝÝ»ñÇ, ï»Õ³Ï³Ý ÇÝùÝ³Ï³é³í³ñÙ³Ý Ù³ñÙÇÝÝ»ñÇ ¨ ¹ñ³Ýó å³ßïáÝ³ï³ñ ³ÝÓ³Ýó ·áñÍáÕáõÃÛáõÝÝ»ñÁ /³Ý·áñÍáõÃÛáõÝÁ/ íÇ×³ñÏ»Éáõ Ñ»ï Ï³åí³Í Çñ³í³Ñ³ñ³µ»ñáõÃÛáõÝÝ»ñÇ í»ñ³µ»ñÛ³É ¹³ï³Ï³Ý ·áñÍ»ñ | C12: =C13+C14 -> 41 | D12: =D13+D14 -> 6 | E12: =E13+E14 -> 34 | F12: =F13+F14 -> 0 | G12: =G13+G14 -> 1 | H12: =H13+H14 -> 160 | I12: =I13+I14 -> 120 | J12: =J13+J14 -> 27 | ... AM12: =AM13+AM14 -> 1
A13: 2.1 | B13: ä»ï³Ï³Ý Ù³ñÙÇÝÝ»ñÇ ¨ ¹ñ³Ýó å³ßïáÝ³ï³ñ ³ÝÓ³Ýó ·áñÍáÕáõÃÛáõÝÝ»ñÁ /³Ý·áñÍáõÃÛáõÝÁ/ íÇ×³ñÏ»Éáõ Ñ»ï Ï³åí³Í Çñ³í³Ñ³ñ³µ»ñáõÃÛáõÝÝ»ñÇ í»ñ³µ»ñÛ³É ¹³ï³Ï³Ý ·áñÍ»ñ | C13: 24 | D13: 2 | E13: 21 | G13: 1 | H13: 108 | I13: 82 | J13: 15 | K13: 5 | L13: 6 | M13: 2 | N13: 60 | O13: 25 | P13: 7 | Q13: 28 | S13: 9 | U13: 2 | V13: 7 | W13: 69 | X13: 2 | Z13: 32 | AA13: 2 | AB13: 34 | AC13: 6 | AD13: 40 | AE13: 6 | AF13: 34 | AI13: 8 | AK13: 8 | AL13: 8
A14: 2.2 | B14: î»Õ³Ï³Ý ÇÝùÝ³Ï³é³í³ñÙ³Ý Ù³ñÙÇÝÝ»ñÇ áõ ¹ñ³Ýó å³ßïáÝ³ï³ñ ³ÝÓ³Ýó ·áñÍáÕáõÃÛáõÝÝ»ñÁ /³Ý·áñÍáõÃÛáõÝÁ/ íÇ×³ñÏ»Éáõ Ñ»ï Ï³åí³Í Çñ³í³Ñ³ñ³µ»ñáõÃÛáõÝÝ»ñÇ í»ñ³µ»ñÛ³É ¹³ï³Ï³Ý ·áñÍ»ñ | C14: 17 | D14: 4 | E14: 13 | H14: 52 | I14: 38 | J14: 12 | K14: 1 | L14: 1 | N14: 31 | O14: 12 | Q14: 19 | S14: 5 | U14: 1 | V14: 4 | W14: 36 | Z14: 19 | AA14: 3 | AB14: 24 | AC14: 1 | AD14: 25 | AE14: 19 | AF14: 6 | AI14: 6 | AJ14: 1 | AK14: 7 | AL14: 6 | AM14: 1
A15: 5 | B15: Üáï³ñ³Ï³Ý ·áñÍáÕáõÃÛáõÝÝ»ñÁ Ï³Ù Ýáï³ñÇ ³Ý·áñÍáõÃÛáõÝÁ íÇ×³ñÏ»Éáõ Ñ»ï Ï³åí³Í Çñ³í³Ñ³ñ³µ»ñáõÃÛáõÝÝ»ñÇ í»ñ³µ»ñÛ³É ¹³ï³Ï³Ý ·áñÍ»ñ | C15: 8 | D15: 1 | E15: 7 | H15: 2 | I15: 2 | N15: 4 | P15: 2 | Q15: 2 | W15: 4 | X15: 2 | Z15: 4 | AA15: 1 | AB15: 3 | AD15: 3 | AE15: 1 | AF15: 2
A16: 6 | B16: ÜáñÙ³ïÇí Çñ³í³Ï³Ý ³Ïï»ñÇ Çñ³í³ã³÷áõÃÛáõÝÁ íÇ×³ñÏ»Éáõ Ñ»ï Ï³åí³Í Çñ³í³Ñ³ñ³µ»ñáõÃÛáõÝÝ»ñÇ í»ñ³µ»ñÛ³É ¹³ï³Ï³Ý ·áñÍ»ñ | C16: =C17+C18+C19+C20+C21+C22+C23 -> 4 | D16: =D17+D18+D19+D20+D21+D22+D23 -> 0 | E16: =E17+E18+E19+E20+E21+E22+E23 -> 4 | F16: =F17+F18+F19+F20+F21+F22+F23 -> 0 | G16: =G17+G18+G19+G20+G21+G22+G23 -> 0 | H16: =H17+H18+H19+H20+H21+H22+H23 -> 3 | I16: =I17+I18+I19+I20+I21+I22+I23 -> 2 | J16: =J17+J18+J19+J20+J21+J22+J23 -> 1 | ... AM16: =AM17+AM18+AM19+AM20+AM21+AM22+AM23 -> 0
A17: 6.1 | B17: ¶»ñ³ï»ëã³Ï³Ý ÝáñÙ³ïÇí Çñ³í³Ï³Ý ³Ïï»ñÇª ÐÐ ê³ÑÙ³Ý³¹ñáõÃÛ³ÝÁ Ñ³Ù³å³ï³ëË³ÝáõÃÛáõÝÁ íÇ×³ñÏ»Éáõ í»ñ³µ»ñÛ³É | E17: 0 | I17: 0 | W17: 0 | Z17: 0
A18: 6.2 | B18: Ü³Ë³·³ÑÇ ÝáñÙ³ïÇí µÝáõÛÃ áõÝ»óáÕ ³Ïï»ñÇ` ³í»ÉÇ µ³ñÓñ Çñ³í³µ³Ý³Ï³Ý áõÅ áõÝ»óáÕ ÝáñÙ³ïÇí ³Ïï»ñÇÝ Ñ³Ù³å³ï³ëË³ÝáõÃÛáõÝÁ íÇ×³ñÏ»Éáõ í»ñ³µ»ñÛ³É | E18: 0 | I18: 0 | W18: 0 | Z18: 0
A19: 6.3 | B19: Î³é³í³ñáõÃÛ³Ý ÝáñÙ³ïÇí áñáßáõÙÝ»ñÇ`³í»ÉÇ µ³ñÓñ Çñ³í³µ³Ý³Ï³Ý áõÅ áõÝ»óáÕ ÝáñÙ³ïÇí ³Ïï»ñÇÝ Ñ³Ù³å³ï³ëË³ÝáõÃÛáõÝÁ íÇ×³ñÏ»Éáõ í»ñ³µ»ñÛ³É | C19: 4 | E19: 4 | H19: 3 | I19: 2 | J19: 1 | M19: 0 | W19: 0 | Z19: 6
A20: 6.4 | B20: ì³ñã³å»ïÇ ÝáñÙ³ïÇí áñáßáõÙÝ»ñÇ` ³í»ÉÇ µ³ñÓñ Çñ³í³µ³Ý³Ï³Ý áõÅ áõÝ»óáÕ ÝáñÙ³ïÇí ³Ïï»ñÇÝ Ñ³Ù³å³ï³ëË³ÝáõÃÛáõÝÁ íÇ×³ñÏ»Éáõ í»ñ³µ»ñÛ³É | E20: 0 | I20: 0 | W20: 0 | Z20: 0
A21: 6.5 | B21: ¶»ñ³ï»ëã³Ï³Ý ÝáñÙ³ïÇí Çñ³í³Ï³Ý ³Ïï»ñÇ` ³í»ÉÇ µ³ñÓñ Çñ³í³µ³Ý³Ï³Ý áõÅ áõÝ»óáÕ ÝáñÙ³ïÇí ³Ïï»ñÇÝ Ñ³Ù³å³ï³ëË³ÝáõÃÛáõÝÁ íÇ×³ñÏ»Éáõ í»ñ³µ»ñÛ³É | E21: 0 | I21: 0 | W21: 0 | Z21: 0
A22: 6.6 | B22: Ð³Ù³ÛÝùÇ ³í³·³Ýáõ áñáßáõÙÝ»ñÇ` ³í»ÉÇ µ³ñÓñ Çñ³í³µ³Ý³Ï³Ý áõÅ áõÝ»óáÕ ÝáñÙ³ïÇí ³Ïï»ñÇÝ Ñ³Ù³å³ï³ëË³ÝáõÃÛáõÝÁ íÇ×³ñÏ»Éáõ í»ñ³µ»ñÛ³É | E22: 0 | I22: 0 | W22: 0 | Z22: 0
A23: 6.7 | B23: Ð³Ù³ÛÝùÇ Õ»Ï³í³ñÇ áñáßáõÙÝ»ñÇ` ³í»ÉÇ µ³ñÓñ Çñ³í³µ³Ý³Ï³Ý áõÅ áõÝ»óáÕ ÝáñÙ³ïÇí ³Ïï»ñÇÝ Ñ³Ù³å³ï³ëË³ÝáõÃÛáõÝÁ íÇ×³ñÏ»Éáõ í»ñ³µ»ñÛ³É | E23: 0 | I23: 0 | W23: 0 | Z23: 0
A24: 7 | B24: ÀÝïñ³Ï³Ý Çñ³íáõÝùÇ å³ßïå³ÝáõÃÛ³Ý Ñ»ï Ï³åí³Í Çñ³í³Ñ³ñ³µ»ñáõÃÛáõÝÝ»ñÇ í»ñ³µ»ñÛ³É ¹³ï³Ï³Ý ·áñÍ»ñ | C24: =+C25+C26+C27+C28+C29 -> 0 | D24: =+D25+D26+D27+D28+D29 -> 0 | E24: =+E25+E26+E27+E28+E29 -> 0 | F24: =+F25+F26+F27+F28+F29 -> 0 | G24: =+G25+G26+G27+G28+G29 -> 0 | H24: =+H25+H26+H27+H28+H29 -> 0 | I24: =+I25+I26+I27+I28+I29 -> 0 | J24: =+J25+J26+J27+J28+J29 -> 0 | ... AM24: =+AM25+AM26+AM27+AM28+AM29 -> 0
A25: 7.1 | B25: Ü³Ë³·³ÑÇ ÁÝïñáõÃÛáõÝÝ»ñÇ Ñ»ï Ï³åí³Í | E25: 0 | I25: 0 | W25: 0 | Z25: 0
A26: 7.2 | B26: ²½·³ÛÇÝ ÅáÕáíÇ ÁÝïñáõÃÛáõÝÝ»ñÇ Ñ»ï Ï³åí³Í | E26: 0 | I26: 0 | W26: 0 | Z26: 0
A27: 7.3 | B27: î»Õ³Ï³Ý ÇÝùÝ³Ï³é³í³ñÙ³Ý Ù³ñÙÇÝÝ»ñÇ ÁÝïñáõÃÛáõÝÝ»ñÇ Ñ»ï Ï³åí³Í | E27: 0 | I27: 0 | W27: 0 | Z27: 0
A28: 7.4 | B28: Ð³Ýñ³ùí»Ç Ï³½Ù³Ï»ñåÙ³Ý ¨ ³ÝóÏ³óÙ³Ý Ñ»ï Ï³åí³Í | E28: 0 | I28: 0 | W28: 0 | Z28: 0
A29: 7.5 | B29: ²ÛÉ í»×»ñ | E29: 0 | I29: 0 | W29: 0 | Z29: 0
A30: 9 | B30: Ð³í³ùÇ ³ÝóÏ³óÙ³Ý Ù³ëÇÝ Ñ³Ù³ÛÝùÇ Õ»Ï³í³ñÇ áñáßáõÙÝ»ñÇ ¨ ·áñÍáÕáõÃÛáõÝÝ»ñÇ Çñ³í³ã³÷áõÃÛáõÝÁ íÇ×³ñÏ»Éáõ Ñ»ï Ï³åí³Í Çñ³í³Ñ³ñ³µ»ñáõÃÛáõÝÝ»ñÇ í»ñ³µ»ñÛ³É ¹³ï³Ï³Ý ·áñÍ»ñ | E30: 0 | I30: 0 | W30: 0 | Z30: 0
A31: 10 | B31: ä»ï³Ï³Ý, Ñ³Ù³ÛÝù³ÛÇÝ Ï³Ù ³ÛÉÁÝïñ³Ýù³ÛÇÝ Í³é³ÛáõÃÛ³Ý ³ÝóÝ»Éáõ Ï³Ù Çñ³Ï³Ý³óÝ»Éáõ Ñ»ï Ï³åí³Í Çñ³í³Ñ³ñ³µ»ñáõÃÛáõÝÝ»ñÇ í»ñ³µ»ñÛ³É ¹³ï³Ï³Ý ·áñÍ»ñ | C31: 7 | E31: 7 | H31: 1 | I31: 1 | N31: 5 | O31: 1 | P31: 2 | Q31: 2 | W31: 5 | Z31: 3 | AB31: 5 | AD31: 5 | AE31: 2 | AF31: 3 | AI31: 2 | AK31: 2 | AL31: 2
A32: 11 | B32: ì³ñã³Ï³Ý Ù³ñÙÇÝÝ»ñÇ ÙÇç¨ Çñ³í³ëáõÃÛ³Ý Ñ³ñó»ñÇ í»ñ³µ»ñÛ³É í»×»ñÇ Ñ»ï Ï³åí³Í Çñ³í³Ñ³ñ³µ»ñáõÃÛáõÝÝ»ñÇ í»ñ³µ»ñÛ³É ¹³ï³Ï³Ý ·áñÍ»ñ | E32: 0 | I32: 0 | W32: 0 | Z32: 0
A33: 12 | B33: Ð³ë³ñ³Ï³Ï³Ý Ï³½Ù³Ï»ñåáõÃÛáõÝÝ»ñÇ ¨ ³ÛÉ ÙÇ³íáñáõÙÝ»ñÇ ·áñÍáõÝ»áõÃÛ³Ý Ï³ë»óÙ³Ý Ï³Ù ¹³¹³ñ»óÙ³Ý Ñ»ï Ï³åí³Í Çñ³í³Ñ³ñ³µ»ñáõÃÛáõÝÝ»ñÇ í»ñ³µ»ñÛ³É ¹³ï³Ï³Ý ·áñÍ»ñ | E33: 0 | I33: 0 | W33: 0 | Z33: 0
A34: 13 | B34: ì³ñã³ñ³ñáõÃÛ³Ùµ å³ï×³éí³Í íÝ³ëÇ å³ï³ëË³Ý³ïíáõÃÛ³Ý Ñ»ï Ï³åí³Í Çñ³í³Ñ³ñ³µ»ñáõÃÛáõÝÝ»ñÇ í»ñ³µ»ñÛ³É ¹³ï³Ï³Ý ·áñÍ»ñ | C34: 1 | E34: 1 | I34: 0 | N34: 1 | Q34: 1 | W34: 1 | Z34: 0 | AB34: 1 | AD34: 1 | AF34: 1
A35: 14 | B35: ²ÝÑ»ï³Ó·»ÉÇ ÙÇջամտության áñáßÙ³Ý, µáÕáù³ñÏ³ÙաÝ í»ñ³µ»ñÛ³É ¹³ï³Ï³Ý ·áñÍ»ñ | E35: 0 | H35: 3 | I35: 3 | N35: 3 | O35: 2 | Q35: 1 | W35: 3 | Z35: 0 | AB35: 1 | AD35: 1 | AF35: 1
A36: 16 | B36: Դատավորի հավակնորդի հայտի ընդունումը մերժելու áñáßÙ³Ý µáÕáù³ñÏ³ÙաÝ í»ñ³µ»ñÛ³É ¹³ï³Ï³Ý ·áñÍ»ñ | E36: 0 | I36: 0 | W36: 0 | Z36: 0
A37: 9.5 | B37: Ընտրական հանձնաժողովի գործավար մատյանը չլրացնելը կամ ոչ պատշաճ լրացնելը | E37: 0 | I37: 0 | W37: 0 | Z37: 0
A38: 9.14 | B38: Ժողովներ, հանրահավաքներ, երթեր և ցույցեր անցկացնելու կարգը խախտելը | E38: 0 | I38: 0 | W38: 0 | Z38: 0
A39: 9.15 | B39: Զինծառայողների կամ ոստիկ. ծառայողի օրին. պահանջը չկատարելը | C39: 13 | D39: 3 | E39: 10 | H39: 14 | I39: 14 | N39: 18 | O39: 6 | Q39: 12 | W39: 18 | Z39: 9 | AA39: 3 | AB39: 10 | AD39: 10 | AE39: 4 | AF39: 6
A40: 9.18 | B40: Հայաստանի Հանրապետության ուսումնական հաստատություններում առարկաների հայերեն դասավանդումը կամ միջնակարգ-մասնագիտական, մասնագիտական տեխնիկական և բարձրագույն ուսումնական հաստատություններում հայոց լեզվի ուսուցումը կամ հայոց լեզվի ընդունելության քննությունը չապահովելը | E40: 0 | I40: 0 | W40: 0 | Z40: 0
A41: 9.19 | B41: ՀՀ պետ. մարմ., ձեռնարկ-ի, հիմն-ի և կազմ-ի (անկախ սեփ. ձևից) գործավ-ը ոչ հայերեն վարելը, ցուցանակները, ձևաթղթերը, դրոշմանիշները, նամականիշները, կնիքները, միջ. փոստ. ծրարները և գովազդները ոչ հայերեն ձևավորելը | C41: 1 | E41: 1 | H41: 0 | I41: 0 | N41: 1 | O41: 1 | Q41: 0 | W41: 1 | Z41: 0
A42: 9.23 | B42: Տեղեկություն տալու պարտականությունը չկատարելը | E42: 0 | I42: 0 | W42: 0 | Z42: 0
A43: 9.26 | B43: Տեղեկություն (տվյալ) չտրամադրելը կամ կեղծ տեղեկություն (տվյալ) ներկայացնելը | E43: 0 | I43: 0 | W43: 0 | Z43: 0
A44: 9.31 | B44: Հարկադիր կատարողի որոշումը դիտավորյալ չկատարելը կամ կատարմանը խոչընդոտելը | E44: 0 | I44: 0 | W44: 0 | Z44: 0
A45: 9.33 | B45: Այլ իրավախախտումներ | E45: 0 | H45: 10 | I45: 9 | J45: 1 | N45: 7 | O45: 2 | Q45: 5 | W45: 7 | Z45: 2 | AB45: 3 | AD45: 3 | AF45: 3
A46: 9.7 | B46: Գույքի մանր հափշտակում | E46: 0 | I46: 0 | W46: 0 | Z46: 0
A47: 8 | B47: ²ÛÉ í»×»ñ | C47: 3 | D47: 1 | E47: 2 | H47: 13 | I47: 10 | J47: 2 | K47: 1 | N47: 9 | O47: 6 | P47: 1 | Q47: 2 | W47: 9 | Z47: 4 | AA47: 1 | AB47: 1 | AD47: 1 | AF47: 1 | AI47: 1 | AK47: 1 | AL47: 1
B48: ÀÝ¹³Ù»ÝÁ | C48: =+C9+C12+C15+C16+C24+C30+C31+C32+C33+C34+C35+C36+C37+C38+C39+C40+C41+C42+C43+C44+C45+C46+C47 -> 596 | D48: =+D9+D12+D15+D16+D24+D30+D31+D32+D33+D34+D35+D36+D37+D38+D39+D40+D41+D42+D43+D44+D45+D46+D47 -> 52 | E48: =+E9+E12+E15+E16+E24+E30+E31+E32+E33+E34+E35+E36+E37+E38+E39+E40+E41+E42+E43+E44+E45+E46+E47 -> 543 | F48: =+F9+F12+F15+F16+F24+F30+F31+F32+F33+F34+F35+F36+F37+F38+F39+F40+F41+F42+F43+F44+F45+F46+F47 -> 0 | G48: =+G9+G12+G15+G16+G24+G30+G31+G32+G33+G34+G35+G36+G37+G38+G39+G40+G41+G42+G43+G44+G45+G46+G47 -> 1 | H48: =+H9+H12+H15+H16+H24+H30+H31+H32+H33+H34+H35+H36+H37+H38+H39+H40+H41+H42+H43+H44+H45+H46+H47 -> 1245 | I48: =+I9+I12+I15+I16+I24+I30+I31+I32+I33+I34+I35+I36+I37+I38+I39+I40+I41+I42+I43+I44+I45+I46+I47 -> 1084 | J48: =+J9+J12+J15+J16+J24+J30+J31+J32+J33+J34+J35+J36+J37+J38+J39+J40+J41+J42+J43+J44+J45+J46+J47 -> 97 | ... AM48: =+AM9+AM12+AM15+AM16+AM24+AM30+AM31+AM32+AM33+AM34+AM35+AM36+AM37+AM38+AM39+AM40+AM41+AM42+AM43+AM44+AM45+AM46+AM47 -> 7
C49: 1 | D49: 2 | E49: 3 | F49: 4 | G49: 5 | H49: 6 | I49: 7 | J49: 8 | K49: 9 | L49: 10 | M49: 11 | N49: 12 | O49: 13 | P49: 14 | Q49: 15 | R49: 16 | S49: 17 | T49: 18 | U49: 19 | V49: 20 | W49: 21 | X49: 22 | Y49: 23 | Z49: 24 | AA49: 25 | AB49: 26 | AC49: 27 | AD49: 28 | AE49: 29 | AF49: 30 | AG49: 31 | AH49: 32 | AI49: 33 | AJ49: 34 | AK49: 35 | AL49: 36 | AM49: 37

Sheet Ռ․Մաքեյան
AI1: Հավելված 2 Բարձրագույն դատական խորհրդի 2022թվականի դեկտեմբերի 26-ի թիվ ԲԴԽ-122-Ո-408 որոշման
A2: 2025թ. | C2: Ð²ÞìºîìàôÂÚàôÜ
A3: ÐÐ ì²ðâ²Î²Ü ¸²î²ð²ÜÆ ¸²î²ìàð ՌՈԲԵՐՏ ՄԱՔԵՅԱՆԻ ¶àðÌàôÜºàôÂÚ²Ü ìºð²´ºðÚ²È
A4: ÐÐ í³ñã³Ï³Ý ¹³ï³ñ³ÝÇ ¹³ï³íáñÝ»ñÇ Ñ³ëïÇùÝ»ñÇ ÃÇíÁ` 24
A5: êïáõ·Çã Ñ³í³ë³ñáõÙÝ»ñª 1=2+3+4+5, 6=7+8+9+10, 2+3+7=11+21+22+24, 12=13+14+15+16, 17=18+19+20, 21=12+17, 28=26+27, 28=29+30, 35=33+34, 35=36+37 | C5: Ð³ßí»ïáõ Å³Ù³Ý³Ï³Ñ³ïí³ÍáõÙ Ý³Ëáñ¹ Ñ³ßí»ïáõ Å³Ù³Ý³Ï³Ñ³ïí³ÍÇó ÷áË³Ýóí³Í ·áñÍ»ñÇ ÁÝ¹Ñ³Ýáõñ ÃÇíÁ | H5: Ð³ßí»ïáõ Å³Ù³Ý³Ï³Ñ³ïí³ÍáõÙ ëï³óí³Í ·áñÍ»ñÇ (³Û¹ ÃíáõÙ` Ñ³Ûó³¹ÇÙáõÙÝ»ñÇ, ¹ÇÙáõÙÝ»ñÇ) ÁÝ¹Ñ³Ýáõñ ÃÇíÁ | M5: öáË³Ýóí»É ¿ ³ÛÉ ¹³ï³íáñÇ (Ï³½ÙÇ ÷á÷áËáõÃÛáõÝ) | N5: Ð³ßí»ïáõ Å³Ù³Ý³Ï³Ñ³ïí³ÍáõÙ ³í³ñïí³Í ·áñÍ»ñÇ ÁÝ¹Ñ³Ýáõñ ÃÇíÁ | X5: ¶áñÍÝ áõÕ³ñÏí»É ¿ Áëï ÁÝ¹¹³ïáõÃÛ³Ý | Y5: Ð³ßí»ïáõ Å³Ù³Ý³Ï³Ñ³ïí³ÍáõÙ Ï³ë»óí³Í í³ñáõÛÃÝ»ñáí ·áñÍ»ñÇ ÁÝ¹Ñ³Ýáõñ ÃÇíÁ | Z5: Ð³ßí»ïáõ Å³Ù³Ý³Ï³Ñ³ïí³ÍáõÙ ³Ý³í³ñï ·áñÍ»ñÇ ÁÝ¹Ñ³Ýáõñ ÃÇíÁ | AA5: ²Û¹ ÃíáõÙ` Ï³ë»óí³Í | AB5: ´áÕáù³ñÏí³Í ¹³ï³Ï³Ý ³Ïï»ñÁ | AG5: ²í³ñïí³Í ¹³ï³Ï³Ý ·áñÍ»ñÇ µáÕáù³ñÏÙ³Ý ïáÏáëÁ (Ñ³ßí»ïáõ Å³Ù³Ý³Ï³Ñ³ïí³ÍáõÙ) | AH5: ²Ý³í³ñï µáÕáùÝ»ñ | AI5: ´»Ï³Ýí³Í ¹³ï³Ï³Ý ³Ïï»ñÁ
C6: ÀÝ¹³Ù»ÝÁ | D6: ²Û¹ ÃíáõÙ`Ï³ë»óí³Í íÇ×³ÏáõÙ ÷áË³Ýóí³Í | E6: ²Û¹ ÃíáõÙª ÁÝ¹áõÝí»É ¿ í³ñáõÛÃ | F6: ²Û¹ ÃíáõÙª í»ñ³¹³ñÓí»É ¿ | G6: ²Û¹ ÃíáõÙª ÁÝ¹áõÝáõÙÁ Ù»ñÅí»É ¿ | H6: ÀÝ¹³Ù»ÝÁ | I6: ²Û¹ ÃíáõÙª ÁÝ¹áõÝí»É ¿ í³ñáõÛÃ | J6: ²Û¹ ÃíáõÙª í»ñ³¹³ñÓí»É ¿ | K6: ²Û¹ ÃíáõÙª ÁÝ¹áõÝáõÙÁ Ù»ñÅí»É ¿ | L6: Այդ թվում անորոշ | N6: ÀÝ¹³Ù»ÝÁ ³í³ñïí»É »Ý ·áñÍ»ñ ·áñÍÝ Áëï ¿áõÃÛ³Ý ÉáõÍáÕ ¹³ï³Ï³Ý ³Ïï»ñÇ (í×ÇéÝ»ñÇ) Ï³Û³óÙ³Ùµ | O6: ²Û¹ ÃíáõÙª Ñ³ÛóÇ µ³í³ñ³ñÙ³Ùµ | P6: ²Û¹ ÃíáõÙª Ñ³ÛóÇ Ù³ëÝ³ÏÇ µ³í³ñ³ñÙ³Ùµ | Q6: ²Û¹ ÃíáõÙª Ñ³ÛóÇ Ù»ñÅÙ³Ùµ | R6: ²Û¹ ÃíáõÙ` Ù³ëÝ³ÏÇ Ù»ñÅí»É ¿, Ù³ëÝ³ÏÇ Ï³ñ×í»É | S6: ²Û¹ ÃíáõÙª Ï³ñ×í»É »Ý | W6: ÀÝ¹³Ù»ÝÝ ³í³ñïí»É »Ý ·áñÍ»ñ | AB6: ²Û¹ ÃíáõÙ` ·áñÍÝ Áëï ¿áõÃÛ³Ý ÉáõÍáÕ ¹³ï³Ï³Ý ³Ïï»ñÁ | AC6: ²Û¹ ÃíáõÙ` ÙÇç³ÝÏÛ³É ¹³ï³Ï³Ý ³Ïï»ñÁ | AD6: ÀÝ¹³Ù»ÝÁ | AE6: Ü³Ëáñ¹ ï³ñÇÝ»ñÇÝ Ï³Û³óí³Í ³Ïï»ñÇ µáÕáù³ñÏáõÙÁ Ñ³ßí»ïáõ Å³Ù³Ý³Ï³ßñç³ÝáõÙ | AF6: Ð³ßí»ïáõ Å³Ù³Ý³Ï³ßñç³ÝáõÙ Ï³Û³óí³Í ³Ïï»ñÇ µáÕáù³ñÏáõÙÁ | AI6: ²Û¹ ÃíáõÙ` ·áñÍÝ Áëï ¿áõÃÛ³Ý ÉáõÍáÕ ¹³ï³Ï³Ý ³Ïï»ñÁ | AJ6: ²Û¹ ÃíáõÙ` ÙÇç³ÝÏÛ³É ¹³ï³Ï³Ý ³Ïï»ñÁ | AK6: ÀÝ¹³Ù»ÝÁ | AL6: Ü³Ëáñ¹ ï³ñÇÝ»ñÇÝ Ï³Û³óí³Í ³Ïï»ñÇ µ»Ï³ÝáõÙÝ»ñÁ Ñ³ßí»ïáõ Å³Ù³Ý³Ï³ßñç³ÝáõÙ | AM6: Ð³ßí»ïáõ Å³Ù³Ý³Ï³ßñç³ÝáõÙ Ï³Û³óí³Í ³Ïï»ñÇ µ»Ï³ÝáõÙÁ
S7: ÀÝ¹³Ù»ÝÁ Ï³ñ×í»É »Ý | T7: ²Û¹ ÃíáõÙª Ñ³ëï³ïí»É ¿ ÏÝùí³Í Ñ³ßïáõÃÛ³Ý Ñ³Ù³Ó³ÛÝáõÃÛáõÝÁ | U7: ²Û¹ ÃíáõÙª Ñ³ÛóÇó, ¹ÇÙáõÙÇó Ññ³Å³ñí»Éáõ ÑÇÙùáí | V7: ²Û¹ ÃíáõÙª ³ÛÉ ÑÇÙùáí
B8: ì³ñã³Ï³Ý ·áñÍ»ñÇ ¹³ë³Ï³ñ·áõÙÁ | C8: 1 | D8: 2 | E8: 3 | F8: 4 | G8: 5 | H8: 6 | I8: 7 | J8: 8 | K8: 9 | L8: 10 | M8: 11 | N8: 12 | O8: 13 | P8: 14 | Q8: 15 | R8: 16 | S8: 17 | T8: 18 | U8: 19 | V8: 20 | W8: 21 | X8: 22 | Y8: 23 | Z8: 24 | AA8: 25 | AB8: 26 | AC8: 27 | AD8: 28 | AE8: 29 | AF8: 30 | AG8: 31 | AH8: 32 | AI8: 33 | AJ8: 34 | AK8: 35 | AL8: 36 | AM8: 37
A9: 1 | B9: ä»ï³Ï³Ý Ù³ñÙÇÝÝ»ñÇ, ï»Õ³Ï³Ý ÇÝùÝ³Ï³é³í³ñÙ³Ý Ù³ñÙÇÝÝ»ñÇ áõ ¹ñ³Ýó å³ßïáÝ³ï³ñ ³ÝÓ³Ýó ³Ïï»ñÝ ³Ýí³í»ñ ×³Ý³ã»Éáõ Ñ»ï Ï³åí³Í Çñ³í³ñ³Ñ³µ»ñáõÃÛáõÝÝ»ñÇ í»ñ³µ»ñÛ³É ¹³ï³Ï³Ý ·áñÍ»ñ | C9: =+C10+C11 -> 528 | D9: =+D10+D11 -> 25 | E9: =+E10+E11 -> 498 | F9: =+F10+F11 -> 2 | G9: =+G10+G11 -> 3 | H9: =+H10+H11 -> 1135 | I9: =+I10+I11 -> 965 | J9: =+J10+J11 -> 112 | ... AM9: =+AM10+AM11 -> 2
A10: 1.1 | B10: ä»ï³Ï³Ý Ù³ñÙÇÝÝ»ñÇ áõ ¹ñ³Ýó å³ßïáÝ³ï³ñ ³ÝÓ³Ýó ³Ïï»ñÝ ³Ýí³í»ñ ×³Ý³ã»Éáõ Ñ»ï Ï³åí³Í Çñ³í³Ñ³ñ³µ»ñáõÃÛáõÝÝ»ñÇ í»ñ³µ»ñÛ³É ¹³ï³Ï³Ý ·áñÍ»ñ | C10: 442 | D10: 21 | E10: 418 | F10: 1 | G10: 2 | H10: 957 | I10: 813 | J10: 92 | K10: 25 | L10: 27 | M10: 2 | N10: 736 | O10: 609 | P10: 2 | Q10: 125 | S10: 27 | U10: 5 | V10: 22 | W10: 763 | X10: 2 | Y10: 17 | Z10: 485 | AA10: 37 | AB10: 201 | AC10: 17 | AD10: 218 | AE10: 10 | AF10: 208 | AI10: 25 | AJ10: 2 | AK10: 27 | AL10: 25 | AM10: 2
A11: 1.2 | B11: î»Õ³Ï³Ý ÇÝùÝ³Ï³é³í³ñÙ³Ý Ù³ñÙÇÝÝ»ñÇ áõ ¹ñ³Ýó å³ßïáÝ³ï³ñ ³ÝÓ³Ýó ³Ïï»ñÝ ³Ýí³í»ñ ×³Ý³ã»Éáõ Ñ»ï Ï³åí³Í Çñ³í³Ñ³ñ³µ»ñáõÃÛáõÝÝ»ñÇ í»ñ³µ»ñÛ³É ¹³ï³Ï³Ý ·áñÍ»ñ | C11: 86 | D11: 4 | E11: 80 | F11: 1 | G11: 1 | H11: 178 | I11: 152 | J11: 20 | K11: 1 | L11: 5 | N11: 79 | O11: 66 | P11: 1 | Q11: 12 | S11: 9 | U11: 3 | V11: 6 | W11: 88 | X11: 5 | Y11: 2 | Z11: 143 | AA11: 3 | AB11: 54 | AC11: 5 | AD11: 59 | AE11: 2 | AF11: 57 | AI11: 8 | AK11: 8 | AL11: 8
A12: 2 | B12: ä»ï³Ï³Ý Ù³ñÙÇÝÝ»ñÇ, ï»Õ³Ï³Ý ÇÝùÝ³Ï³é³í³ñÙ³Ý Ù³ñÙÇÝÝ»ñÇ ¨ ¹ñ³Ýó å³ßïáÝ³ï³ñ ³ÝÓ³Ýó ·áñÍáÕáõÃÛáõÝÝ»ñÁ /³Ý·áñÍáõÃÛáõÝÁ/ íÇ×³ñÏ»Éáõ Ñ»ï Ï³åí³Í Çñ³í³Ñ³ñ³µ»ñáõÃÛáõÝÝ»ñÇ í»ñ³µ»ñÛ³É ¹³ï³Ï³Ý ·áñÍ»ñ | C12: =C13+C14 -> 87 | D12: =D13+D14 -> 1 | E12: =E13+E14 -> 83 | F12: =F13+F14 -> 2 | G12: =G13+G14 -> 1 | H12: =H13+H14 -> 147 | I12: =I13+I14 -> 106 | J12: =J13+J14 -> 36 | ... AM12: =AM13+AM14 -> 1
A13: 2.1 | B13: ä»ï³Ï³Ý Ù³ñÙÇÝÝ»ñÇ ¨ ¹ñ³Ýó å³ßïáÝ³ï³ñ ³ÝÓ³Ýó ·áñÍáÕáõÃÛáõÝÝ»ñÁ /³Ý·áñÍáõÃÛáõÝÁ/ íÇ×³ñÏ»Éáõ Ñ»ï Ï³åí³Í Çñ³í³Ñ³ñ³µ»ñáõÃÛáõÝÝ»ñÇ í»ñ³µ»ñÛ³É ¹³ï³Ï³Ý ·áñÍ»ñ | C13: 43 | D13: 1 | E13: 41 | F13: 1 | H13: 92 | I13: 70 | J13: 19 | L13: 3 | N13: 45 | O13: 26 | P13: 1 | Q13: 18 | S13: 2 | V13: 2 | W13: 47 | X13: 1 | Y13: 1 | Z13: 64 | AA13: 2 | AB13: 22 | AC13: 3 | AD13: 25 | AE13: 4 | AF13: 21 | AI13: 3 | AK13: 3 | AL13: 3
A14: 2.2 | B14: î»Õ³Ï³Ý ÇÝùÝ³Ï³é³í³ñÙ³Ý Ù³ñÙÇÝÝ»ñÇ áõ ¹ñ³Ýó å³ßïáÝ³ï³ñ ³ÝÓ³Ýó ·áñÍáÕáõÃÛáõÝÝ»ñÁ /³Ý·áñÍáõÃÛáõÝÁ/ íÇ×³ñÏ»Éáõ Ñ»ï Ï³åí³Í Çñ³í³Ñ³ñ³µ»ñáõÃÛáõÝÝ»ñÇ í»ñ³µ»ñÛ³É ¹³ï³Ï³Ý ·áñÍ»ñ | C14: 44 | E14: 42 | F14: 1 | G14: 1 | H14: 55 | I14: 36 | J14: 17 | K14: 1 | L14: 1 | M14: 1 | N14: 29 | O14: 21 | P14: 1 | Q14: 7 | S14: 3 | U14: 1 | V14: 2 | W14: 32 | X14: 3 | Z14: 42 | AB14: 19 | AC14: 2 | AD14: 21 | AE14: 1 | AF14: 20 | AI14: 3 | AJ14: 1 | AK14: 4 | AL14: 3 | AM14: 1
A15: 5 | B15: Üáï³ñ³Ï³Ý ·áñÍáÕáõÃÛáõÝÝ»ñÁ Ï³Ù Ýáï³ñÇ ³Ý·áñÍáõÃÛáõÝÁ íÇ×³ñÏ»Éáõ Ñ»ï Ï³åí³Í Çñ³í³Ñ³ñ³µ»ñáõÃÛáõÝÝ»ñÇ í»ñ³µ»ñÛ³É ¹³ï³Ï³Ý ·áñÍ»ñ | C15: 4 | E15: 4 | I15: 0 | N15: 1 | Q15: 1 | W15: 1 | X15: 1 | Y15: 1 | Z15: 2 | AA15: 1 | AB15: 1 | AD15: 1 | AF15: 1
A16: 6 | B16: ÜáñÙ³ïÇí Çñ³í³Ï³Ý ³Ïï»ñÇ Çñ³í³ã³÷áõÃÛáõÝÁ íÇ×³ñÏ»Éáõ Ñ»ï Ï³åí³Í Çñ³í³Ñ³ñ³µ»ñáõÃÛáõÝÝ»ñÇ í»ñ³µ»ñÛ³É ¹³ï³Ï³Ý ·áñÍ»ñ | C16: =C17+C18+C19+C20+C21+C22+C23 -> 1 | D16: =D17+D18+D19+D20+D21+D22+D23 -> 0 | E16: =E17+E18+E19+E20+E21+E22+E23 -> 1 | F16: =F17+F18+F19+F20+F21+F22+F23 -> 0 | G16: =G17+G18+G19+G20+G21+G22+G23 -> 0 | H16: =H17+H18+H19+H20+H21+H22+H23 -> 2 | I16: =I17+I18+I19+I20+I21+I22+I23 -> 2 | J16: =J17+J18+J19+J20+J21+J22+J23 -> 0 | ... AM16: =AM17+AM18+AM19+AM20+AM21+AM22+AM23 -> 0
A17: 6.1 | B17: ¶»ñ³ï»ëã³Ï³Ý ÝáñÙ³ïÇí Çñ³í³Ï³Ý ³Ïï»ñÇª ÐÐ ê³ÑÙ³Ý³¹ñáõÃÛ³ÝÁ Ñ³Ù³å³ï³ëË³ÝáõÃÛáõÝÁ íÇ×³ñÏ»Éáõ í»ñ³µ»ñÛ³É | E17: 0 | I17: 0 | W17: 0 | Z17: 0
A18: 6.2 | B18: Ü³Ë³·³ÑÇ ÝáñÙ³ïÇí µÝáõÛÃ áõÝ»óáÕ ³Ïï»ñÇ` ³í»ÉÇ µ³ñÓñ Çñ³í³µ³Ý³Ï³Ý áõÅ áõÝ»óáÕ ÝáñÙ³ïÇí ³Ïï»ñÇÝ Ñ³Ù³å³ï³ëË³ÝáõÃÛáõÝÁ íÇ×³ñÏ»Éáõ í»ñ³µ»ñÛ³É | E18: 0 | I18: 0 | W18: 0 | Z18: 0
A19: 6.3 | B19: Î³é³í³ñáõÃÛ³Ý ÝáñÙ³ïÇí áñáßáõÙÝ»ñÇ`³í»ÉÇ µ³ñÓñ Çñ³í³µ³Ý³Ï³Ý áõÅ áõÝ»óáÕ ÝáñÙ³ïÇí ³Ïï»ñÇÝ Ñ³Ù³å³ï³ëË³ÝáõÃÛáõÝÁ íÇ×³ñÏ»Éáõ í»ñ³µ»ñÛ³É | C19: 1 | E19: 1 | H19: 1 | I19: 1 | M19: 1 | N19: 1 | Q19: 1 | W19: 1 | Z19: 0
A20: 6.4 | B20: ì³ñã³å»ïÇ ÝáñÙ³ïÇí áñáßáõÙÝ»ñÇ` ³í»ÉÇ µ³ñÓñ Çñ³í³µ³Ý³Ï³Ý áõÅ áõÝ»óáÕ ÝáñÙ³ïÇí ³Ïï»ñÇÝ Ñ³Ù³å³ï³ëË³ÝáõÃÛáõÝÁ íÇ×³ñÏ»Éáõ í»ñ³µ»ñÛ³É | E20: 0 | I20: 0 | W20: 0 | Z20: 0
A21: 6.5 | B21: ¶»ñ³ï»ëã³Ï³Ý ÝáñÙ³ïÇí Çñ³í³Ï³Ý ³Ïï»ñÇ` ³í»ÉÇ µ³ñÓñ Çñ³í³µ³Ý³Ï³Ý áõÅ áõÝ»óáÕ ÝáñÙ³ïÇí ³Ïï»ñÇÝ Ñ³Ù³å³ï³ëË³ÝáõÃÛáõÝÁ íÇ×³ñÏ»Éáõ í»ñ³µ»ñÛ³É | E21: 0 | I21: 0 | W21: 0 | Z21: 0 | AI21: 1 | AK21: 1 | AL21: 1
A22: 6.6 | B22: Ð³Ù³ÛÝùÇ ³í³·³Ýáõ áñáßáõÙÝ»ñÇ` ³í»ÉÇ µ³ñÓñ Çñ³í³µ³Ý³Ï³Ý áõÅ áõÝ»óáÕ ÝáñÙ³ïÇí ³Ïï»ñÇÝ Ñ³Ù³å³ï³ëË³ÝáõÃÛáõÝÁ íÇ×³ñÏ»Éáõ í»ñ³µ»ñÛ³É | E22: 0 | I22: 0 | W22: 0 | Z22: 0
A23: 6.7 | B23: Ð³Ù³ÛÝùÇ Õ»Ï³í³ñÇ áñáßáõÙÝ»ñÇ` ³í»ÉÇ µ³ñÓñ Çñ³í³µ³Ý³Ï³Ý áõÅ áõÝ»óáÕ ÝáñÙ³ïÇí ³Ïï»ñÇÝ Ñ³Ù³å³ï³ëË³ÝáõÃÛáõÝÁ íÇ×³ñÏ»Éáõ í»ñ³µ»ñÛ³É | E23: 0 | H23: 1 | I23: 1 | W23: 0 | Z23: 1
A24: 7 | B24: ÀÝïñ³Ï³Ý Çñ³íáõÝùÇ å³ßïå³ÝáõÃÛ³Ý Ñ»ï Ï³åí³Í Çñ³í³Ñ³ñ³µ»ñáõÃÛáõÝÝ»ñÇ í»ñ³µ»ñÛ³É ¹³ï³Ï³Ý ·áñÍ»ñ | C24: =+C25+C26+C27+C28+C29 -> 0 | D24: =+D25+D26+D27+D28+D29 -> 0 | E24: =+E25+E26+E27+E28+E29 -> 0 | F24: =+F25+F26+F27+F28+F29 -> 0 | G24: =+G25+G26+G27+G28+G29 -> 0 | H24: =+H25+H26+H27+H28+H29 -> 0 | I24: =+I25+I26+I27+I28+I29 -> 0 | J24: =+J25+J26+J27+J28+J29 -> 0 | ... AM24: =+AM25+AM26+AM27+AM28+AM29 -> 0
A25: 7.1 | B25: Ü³Ë³·³ÑÇ ÁÝïñáõÃÛáõÝÝ»ñÇ Ñ»ï Ï³åí³Í | E25: 0 | I25: 0 | W25: 0 | Z25: 0
A26: 7.2 | B26: ²½·³ÛÇÝ ÅáÕáíÇ ÁÝïñáõÃÛáõÝÝ»ñÇ Ñ»ï Ï³åí³Í | E26: 0 | I26: 0 | W26: 0 | Z26: 0
A27: 7.3 | B27: î»Õ³Ï³Ý ÇÝùÝ³Ï³é³í³ñÙ³Ý Ù³ñÙÇÝÝ»ñÇ ÁÝïñáõÃÛáõÝÝ»ñÇ Ñ»ï Ï³åí³Í | E27: 0 | I27: 0 | W27: 0 | Z27: 0
A28: 7.4 | B28: Ð³Ýñ³ùí»Ç Ï³½Ù³Ï»ñåÙ³Ý ¨ ³ÝóÏ³óÙ³Ý Ñ»ï Ï³åí³Í | E28: 0 | I28: 0 | W28: 0 | Z28: 0
A29: 7.5 | B29: ²ÛÉ í»×»ñ | E29: 0 | I29: 0 | W29: 0 | Z29: 0
A30: 9 | B30: Ð³í³ùÇ ³ÝóÏ³óÙ³Ý Ù³ëÇÝ Ñ³Ù³ÛÝùÇ Õ»Ï³í³ñÇ áñáßáõÙÝ»ñÇ ¨ ·áñÍáÕáõÃÛáõÝÝ»ñÇ Çñ³í³ã³÷áõÃÛáõÝÁ íÇ×³ñÏ»Éáõ Ñ»ï Ï³åí³Í Çñ³í³Ñ³ñ³µ»ñáõÃÛáõÝÝ»ñÇ í»ñ³µ»ñÛ³É ¹³ï³Ï³Ý ·áñÍ»ñ | E30: 0 | I30: 0 | W30: 0 | Z30: 0
A31: 10 | B31: ä»ï³Ï³Ý, Ñ³Ù³ÛÝù³ÛÇÝ Ï³Ù ³ÛÉÁÝïñ³Ýù³ÛÇÝ Í³é³ÛáõÃÛ³Ý ³ÝóÝ»Éáõ Ï³Ù Çñ³Ï³Ý³óÝ»Éáõ Ñ»ï Ï³åí³Í Çñ³í³Ñ³ñ³µ»ñáõÃÛáõÝÝ»ñÇ í»ñ³µ»ñÛ³É ¹³ï³Ï³Ý ·áñÍ»ñ | C31: 5 | E31: 5 | I31: 0 | N31: 5 | O31: 1 | Q31: 4 | W31: 5 | Z31: 0 | AB31: 1 | AD31: 1 | AF31: 1 | AI31: 1 | AK31: 1 | AL31: 1
A32: 11 | B32: ì³ñã³Ï³Ý Ù³ñÙÇÝÝ»ñÇ ÙÇç¨ Çñ³í³ëáõÃÛ³Ý Ñ³ñó»ñÇ í»ñ³µ»ñÛ³É í»×»ñÇ Ñ»ï Ï³åí³Í Çñ³í³Ñ³ñ³µ»ñáõÃÛáõÝÝ»ñÇ í»ñ³µ»ñÛ³É ¹³ï³Ï³Ý ·áñÍ»ñ | E32: 0 | I32: 0 | W32: 0 | Z32: 0
A33: 12 | B33: Ð³ë³ñ³Ï³Ï³Ý Ï³½Ù³Ï»ñåáõÃÛáõÝÝ»ñÇ ¨ ³ÛÉ ÙÇ³íáñáõÙÝ»ñÇ ·áñÍáõÝ»áõÃÛ³Ý Ï³ë»óÙ³Ý Ï³Ù ¹³¹³ñ»óÙ³Ý Ñ»ï Ï³åí³Í Çñ³í³Ñ³ñ³µ»ñáõÃÛáõÝÝ»ñÇ í»ñ³µ»ñÛ³É ¹³ï³Ï³Ý ·áñÍ»ñ | E33: 0 | H33: 2 | I33: 2 | N33: 1 | Q33: 1 | W33: 1 | Z33: 1
A34: 13 | B34: ì³ñã³ñ³ñáõÃÛ³Ùµ å³ï×³éí³Í íÝ³ëÇ å³ï³ëË³Ý³ïíáõÃÛ³Ý Ñ»ï Ï³åí³Í Çñ³í³Ñ³ñ³µ»ñáõÃÛáõÝÝ»ñÇ í»ñ³µ»ñÛ³É ¹³ï³Ï³Ý ·áñÍ»ñ | E34: 0 | H34: 1 | I34: 0 | L34: 1 | W34: 0 | Z34: 0
A35: 14 | B35: ²ÝÑ»ï³Ó·»ÉÇ ÙÇջամտության áñáßÙ³Ý, µáÕáù³ñÏ³ÙաÝ í»ñ³µ»ñÛ³É ¹³ï³Ï³Ý ·áñÍ»ñ | E35: 0 | H35: 1 | I35: 1 | N35: 1 | O35: 1 | W35: 1 | Z35: 0
A36: 16 | B36: Դատավորի հավակնորդի հայտի ընդունումը մերժելու áñáßÙ³Ý µáÕáù³ñÏ³ÙաÝ í»ñ³µ»ñÛ³É ¹³ï³Ï³Ý ·áñÍ»ñ | E36: 0 | I36: 0 | W36: 0 | Z36: 0
A37: 9.5 | B37: Ընտրական հանձնաժողովի գործավար մատյանը չլրացնելը կամ ոչ պատշաճ լրացնելը | E37: 0 | I37: 0 | W37: 0 | Z37: 0
A38: 9.14 | B38: Ժողովներ, հանրահավաքներ, երթեր և ցույցեր անցկացնելու կարգը խախտելը | E38: 0 | I38: 0 | W38: 0 | Z38: 0 | AI38: 1 | AK38: 1 | AL38: 1
A39: 9.15 | B39: Զինծառայողների կամ ոստիկ. ծառայողի օրին. պահանջը չկատարելը | C39: 26 | D39: 2 | E39: 24 | H39: 8 | I39: 8 | N39: 25 | O39: 7 | Q39: 18 | W39: 25 | Z39: 9 | AA39: 2 | AB39: 3 | AD39: 3 | AF39: 3
A40: 9.18 | B40: Հայաստանի Հանրապետության ուսումնական հաստատություններում առարկաների հայերեն դասավանդումը կամ միջնակարգ-մասնագիտական, մասնագիտական տեխնիկական և բարձրագույն ուսումնական հաստատություններում հայոց լեզվի ուսուցումը կամ հայոց լեզվի ընդունելության քննությունը չապահովելը | E40: 0 | I40: 0 | W40: 0 | Z40: 0
A41: 9.19 | B41: ՀՀ պետ. մարմ., ձեռնարկ-ի, հիմն-ի և կազմ-ի (անկախ սեփ. ձևից) գործավ-ը ոչ հայերեն վարելը, ցուցանակները, ձևաթղթերը, դրոշմանիշները, նամականիշները, կնիքները, միջ. փոստ. ծրարները և գովազդները ոչ հայերեն ձևավորելը | C41: 1 | E41: 1 | H41: 1 | I41: 1 | N41: 1 | O41: 1 | W41: 1 | Z41: 1
A42: 9.23 | B42: Տեղեկություն տալու պարտականությունը չկատարելը | E42: 0 | I42: 0 | W42: 0 | Z42: 0
A43: 9.26 | B43: Տեղեկություն (տվյալ) չտրամադրելը կամ կեղծ տեղեկություն (տվյալ) ներկայացնելը | E43: 0 | I43: 0 | W43: 0 | Z43: 0
A44: 9.31 | B44: Հարկադիր կատարողի որոշումը դիտավորյալ չկատարելը կամ կատարմանը խոչընդոտելը | E44: 0 | I44: 0 | W44: 0 | Z44: 0
A45: 9.33 | B45: Այլ իրավախախտումներ | E45: 0 | H45: 7 | I45: 6 | K45: 1 | N45: 4 | O45: 3 | Q45: 1 | W45: 4 | Z45: 2
A46: 9.7 | B46: Գույքի մանր հափշտակում | E46: 0 | I46: 0 | W46: 0 | Z46: 0
A47: 8 | B47: ²ÛÉ í»×»ñ | C47: 3 | D47: 2 | E47: 1 | H47: 13 | I47: 11 | J47: 2 | S47: 1 | U47: 1 | W47: 1 | X47: 1 | Y47: 1 | Z47: 12 | AA47: 4
B48: ÀÝ¹³Ù»ÝÁ | C48: =+C9+C12+C15+C16+C24+C30+C31+C32+C33+C34+C35+C36+C37+C38+C39+C40+C41+C42+C43+C44+C45+C46+C47 -> 655 | D48: =+D9+D12+D15+D16+D24+D30+D31+D32+D33+D34+D35+D36+D37+D38+D39+D40+D41+D42+D43+D44+D45+D46+D47 -> 30 | E48: =+E9+E12+E15+E16+E24+E30+E31+E32+E33+E34+E35+E36+E37+E38+E39+E40+E41+E42+E43+E44+E45+E46+E47 -> 617 | F48: =+F9+F12+F15+F16+F24+F30+F31+F32+F33+F34+F35+F36+F37+F38+F39+F40+F41+F42+F43+F44+F45+F46+F47 -> 4 | G48: =+G9+G12+G15+G16+G24+G30+G31+G32+G33+G34+G35+G36+G37+G38+G39+G40+G41+G42+G43+G44+G45+G46+G47 -> 4 | H48: =+H9+H12+H15+H16+H24+H30+H31+H32+H33+H34+H35+H36+H37+H38+H39+H40+H41+H42+H43+H44+H45+H46+H47 -> 1317 | I48: =+I9+I12+I15+I16+I24+I30+I31+I32+I33+I34+I35+I36+I37+I38+I39+I40+I41+I42+I43+I44+I45+I46+I47 -> 1102 | J48: =+J9+J12+J15+J16+J24+J30+J31+J32+J33+J34+J35+J36+J37+J38+J39+J40+J41+J42+J43+J44+J45+J46+J47 -> 150 | ... AM48: =+AM9+AM12+AM15+AM16+AM24+AM30+AM31+AM32+AM33+AM34+AM35+AM36+AM37+AM38+AM39+AM40+AM41+AM42+AM43+AM44+AM45+AM46+AM47 -> 3
C49: 1 | D49: 2 | E49: 3 | F49: 4 | G49: 5 | H49: 6 | I49: 7 | J49: 8 | K49: 9 | L49: 10 | M49: 11 | N49: 12 | O49: 13 | P49: 14 | Q49: 15 | R49: 16 | S49: 17 | T49: 18 | U49: 19 | V49: 20 | W49: 21 | X49: 22 | Y49: 23 | Z49: 24 | AA49: 25 | AB49: 26 | AC49: 27 | AD49: 28 | AE49: 29 | AF49: 30 | AG49: 31 | AH49: 32 | AI49: 33 | AJ49: 34 | AK49: 35 | AL49: 36 | AM49: 37

Sheet Վ․Միքաելյան
AI1: Հավելված 2 Բարձրագույն դատական խորհրդի 2022թվականի դեկտեմբերի 26-ի թիվ ԲԴԽ-122-Ո-408 որոշման
A2: 2025թ. | C2: Ð²ÞìºîìàôÂÚàôÜ
A3: ÐÐ ì²ðâ²Î²Ü ¸²î²ð²ÜÆ ¸²î²ìàð ՎԱՐԱԶԴԱՏ ՄԻՔԱԵԼՅԱՆԻ ¶àðÌàôÜºàôÂÚ²Ü ìºð²´ºðÚ²È
A4: ÐÐ í³ñã³Ï³Ý ¹³ï³ñ³ÝÇ ¹³ï³íáñÝ»ñÇ Ñ³ëïÇùÝ»ñÇ ÃÇíÁ` 24
A5: êïáõ·Çã Ñ³í³ë³ñáõÙÝ»ñª 1=2+3+4+5, 6=7+8+9+10, 2+3+7=11+21+22+24, 12=13+14+15+16, 17=18+19+20, 21=12+17, 28=26+27, 28=29+30, 35=33+34, 35=36+37 | C5: Ð³ßí»ïáõ Å³Ù³Ý³Ï³Ñ³ïí³ÍáõÙ Ý³Ëáñ¹ Ñ³ßí»ïáõ Å³Ù³Ý³Ï³Ñ³ïí³ÍÇó ÷áË³Ýóí³Í ·áñÍ»ñÇ ÁÝ¹Ñ³Ýáõñ ÃÇíÁ | H5: Ð³ßí»ïáõ Å³Ù³Ý³Ï³Ñ³ïí³ÍáõÙ ëï³óí³Í ·áñÍ»ñÇ (³Û¹ ÃíáõÙ` Ñ³Ûó³¹ÇÙáõÙÝ»ñÇ, ¹ÇÙáõÙÝ»ñÇ) ÁÝ¹Ñ³Ýáõñ ÃÇíÁ | M5: öáË³Ýóí»É ¿ ³ÛÉ ¹³ï³íáñÇ (Ï³½ÙÇ ÷á÷áËáõÃÛáõÝ) | N5: Ð³ßí»ïáõ Å³Ù³Ý³Ï³Ñ³ïí³ÍáõÙ ³í³ñïí³Í ·áñÍ»ñÇ ÁÝ¹Ñ³Ýáõñ ÃÇíÁ | X5: ¶áñÍÝ áõÕ³ñÏí»É ¿ Áëï ÁÝ¹¹³ïáõÃÛ³Ý | Y5: Ð³ßí»ïáõ Å³Ù³Ý³Ï³Ñ³ïí³ÍáõÙ Ï³ë»óí³Í í³ñáõÛÃÝ»ñáí ·áñÍ»ñÇ ÁÝ¹Ñ³Ýáõñ ÃÇíÁ | Z5: Ð³ßí»ïáõ Å³Ù³Ý³Ï³Ñ³ïí³ÍáõÙ ³Ý³í³ñï ·áñÍ»ñÇ ÁÝ¹Ñ³Ýáõñ ÃÇíÁ | AA5: ²Û¹ ÃíáõÙ` Ï³ë»óí³Í | AB5: ´áÕáù³ñÏí³Í ¹³ï³Ï³Ý ³Ïï»ñÁ | AG5: ²í³ñïí³Í ¹³ï³Ï³Ý ·áñÍ»ñÇ µáÕáù³ñÏÙ³Ý ïáÏáëÁ (Ñ³ßí»ïáõ Å³Ù³Ý³Ï³Ñ³ïí³ÍáõÙ) | AH5: ²Ý³í³ñï µáÕáùÝ»ñ | AI5: ´»Ï³Ýí³Í ¹³ï³Ï³Ý ³Ïï»ñÁ
C6: ÀÝ¹³Ù»ÝÁ | D6: ²Û¹ ÃíáõÙ`Ï³ë»óí³Í íÇ×³ÏáõÙ ÷áË³Ýóí³Í | E6: ²Û¹ ÃíáõÙª ÁÝ¹áõÝí»É ¿ í³ñáõÛÃ | F6: ²Û¹ ÃíáõÙª í»ñ³¹³ñÓí»É ¿ | G6: ²Û¹ ÃíáõÙª ÁÝ¹áõÝáõÙÁ Ù»ñÅí»É ¿ | H6: ÀÝ¹³Ù»ÝÁ | I6: ²Û¹ ÃíáõÙª ÁÝ¹áõÝí»É ¿ í³ñáõÛÃ | J6: ²Û¹ ÃíáõÙª í»ñ³¹³ñÓí»É ¿ | K6: ²Û¹ ÃíáõÙª ÁÝ¹áõÝáõÙÁ Ù»ñÅí»É ¿ | L6: Այդ թվում անորոշ | N6: ÀÝ¹³Ù»ÝÁ ³í³ñïí»É »Ý ·áñÍ»ñ ·áñÍÝ Áëï ¿áõÃÛ³Ý ÉáõÍáÕ ¹³ï³Ï³Ý ³Ïï»ñÇ (í×ÇéÝ»ñÇ) Ï³Û³óÙ³Ùµ | O6: ²Û¹ ÃíáõÙª Ñ³ÛóÇ µ³í³ñ³ñÙ³Ùµ | P6: ²Û¹ ÃíáõÙª Ñ³ÛóÇ Ù³ëÝ³ÏÇ µ³í³ñ³ñÙ³Ùµ | Q6: ²Û¹ ÃíáõÙª Ñ³ÛóÇ Ù»ñÅÙ³Ùµ | R6: ²Û¹ ÃíáõÙ` Ù³ëÝ³ÏÇ Ù»ñÅí»É ¿, Ù³ëÝ³ÏÇ Ï³ñ×í»É | S6: ²Û¹ ÃíáõÙª Ï³ñ×í»É »Ý | W6: ÀÝ¹³Ù»ÝÝ ³í³ñïí»É »Ý ·áñÍ»ñ | AB6: ²Û¹ ÃíáõÙ` ·áñÍÝ Áëï ¿áõÃÛ³Ý ÉáõÍáÕ ¹³ï³Ï³Ý ³Ïï»ñÁ | AC6: ²Û¹ ÃíáõÙ` ÙÇç³ÝÏÛ³É ¹³ï³Ï³Ý ³Ïï»ñÁ | AD6: ÀÝ¹³Ù»ÝÁ | AE6: Ü³Ëáñ¹ ï³ñÇÝ»ñÇÝ Ï³Û³óí³Í ³Ïï»ñÇ µáÕáù³ñÏáõÙÁ Ñ³ßí»ïáõ Å³Ù³Ý³Ï³ßñç³ÝáõÙ | AF6: Ð³ßí»ïáõ Å³Ù³Ý³Ï³ßñç³ÝáõÙ Ï³Û³óí³Í ³Ïï»ñÇ µáÕáù³ñÏáõÙÁ | AI6: ²Û¹ ÃíáõÙ` ·áñÍÝ Áëï ¿áõÃÛ³Ý ÉáõÍáÕ ¹³ï³Ï³Ý ³Ïï»ñÁ | AJ6: ²Û¹ ÃíáõÙ` ÙÇç³ÝÏÛ³É ¹³ï³Ï³Ý ³Ïï»ñÁ | AK6: ÀÝ¹³Ù»ÝÁ | AL6: Ü³Ëáñ¹ ï³ñÇÝ»ñÇÝ Ï³Û³óí³Í ³Ïï»ñÇ µ»Ï³ÝáõÙÝ»ñÁ Ñ³ßí»ïáõ Å³Ù³Ý³Ï³ßñç³ÝáõÙ | AM6: Ð³ßí»ïáõ Å³Ù³Ý³Ï³ßñç³ÝáõÙ Ï³Û³óí³Í ³Ïï»ñÇ µ»Ï³ÝáõÙÁ
S7: ÀÝ¹³Ù»ÝÁ Ï³ñ×í»É »Ý | T7: ²Û¹ ÃíáõÙª Ñ³ëï³ïí»É ¿ ÏÝùí³Í Ñ³ßïáõÃÛ³Ý Ñ³Ù³Ó³ÛÝáõÃÛáõÝÁ | U7: ²Û¹ ÃíáõÙª Ñ³ÛóÇó, ¹ÇÙáõÙÇó Ññ³Å³ñí»Éáõ ÑÇÙùáí | V7: ²Û¹ ÃíáõÙª ³ÛÉ ÑÇÙùáí
B8: ì³ñã³Ï³Ý ·áñÍ»ñÇ ¹³ë³Ï³ñ·áõÙÁ | C8: 1 | D8: 2 | E8: 3 | F8: 4 | G8: 5 | H8: 6 | I8: 7 | J8: 8 | K8: 9 | L8: 10 | M8: 11 | N8: 12 | O8: 13 | P8: 14 | Q8: 15 | R8: 16 | S8: 17 | T8: 18 | U8: 19 | V8: 20 | W8: 21 | X8: 22 | Y8: 23 | Z8: 24 | AA8: 25 | AB8: 26 | AC8: 27 | AD8: 28 | AE8: 29 | AF8: 30 | AG8: 31 | AH8: 32 | AI8: 33 | AJ8: 34 | AK8: 35 | AL8: 36 | AM8: 37 | AO8: 1=2+3+4+5 | AQ8: 6=7+8+9+10 | AS8: 2+3+7=11+21+22+24 | AU8: 12=13+14+15+16 | AW8: 17=18+19+20 | AY8: 21=12+17 | BA8: 28=26+27 | BC8: 28=29+30 | BE8: 35=33+34 | BG8: 35=36+37
A9: 1 | B9: ä»ï³Ï³Ý Ù³ñÙÇÝÝ»ñÇ, ï»Õ³Ï³Ý ÇÝùÝ³Ï³é³í³ñÙ³Ý Ù³ñÙÇÝÝ»ñÇ áõ ¹ñ³Ýó å³ßïáÝ³ï³ñ ³ÝÓ³Ýó ³Ïï»ñÝ ³Ýí³í»ñ ×³Ý³ã»Éáõ Ñ»ï Ï³åí³Í Çñ³í³ñ³Ñ³µ»ñáõÃÛáõÝÝ»ñÇ í»ñ³µ»ñÛ³É ¹³ï³Ï³Ý ·áñÍ»ñ | C9: =+C10+C11 -> 287 | D9: =+D10+D11 -> 40 | E9: =+E10+E11 -> 246 | F9: =+F10+F11 -> 1 | G9: =+G10+G11 -> 0 | H9: =+H10+H11 -> 993 | I9: =+I10+I11 -> 862 | J9: =+J10+J11 -> 68 | ... AM9: =+AM10+AM11 -> 5 | AO9: =AO10+AO11 -> 287 | AP9: =AP10+AP11 -> 287 | AQ9: =AQ10+AQ11 -> 993 | AR9: =AR10+AR11 -> 993 | AS9: =AS10+AS11 -> 1148 | AT9: =AT10+AT11 -> 1148 | AU9: =AU10+AU11 -> 615 | AV9: =AV10+AV11 -> 615 | ... BH9: =BH10+BH11 -> 28
A10: 1.1 | B10: ä»ï³Ï³Ý Ù³ñÙÇÝÝ»ñÇ áõ ¹ñ³Ýó å³ßïáÝ³ï³ñ ³ÝÓ³Ýó ³Ïï»ñÝ ³Ýí³í»ñ ×³Ý³ã»Éáõ Ñ»ï Ï³åí³Í Çñ³í³Ñ³ñ³µ»ñáõÃÛáõÝÝ»ñÇ í»ñ³µ»ñÛ³É ¹³ï³Ï³Ý ·áñÍ»ñ | C10: 226 | D10: 34 | E10: 191 | F10: 1 | H10: 854 | I10: 756 | J10: 49 | K10: 25 | L10: 24 | M10: 3 | N10: 563 | O10: 422 | P10: 7 | Q10: 134 | S10: 17 | U10: 4 | V10: 13 | W10: 580 | X10: 3 | Y10: 2 | Z10: 395 | AA10: 35 | AB10: 119 | AC10: 24 | AD10: 143 | AE10: 17 | AF10: 126 | AI10: 21 | AJ10: 3 | AK10: 24 | AL10: 20 | AM10: 4 | AO10: =C10 -> 226 | AP10: =D10+E10+F10+G10 -> 226 | AQ10: =H10 -> 854 | AR10: =I10+J10+K10+L10 -> 854 | AS10: =D10+E10+I10 -> 981 | AT10: =M10+W10+X10+Z10 -> 981 | AU10: =N10 -> 563 | AV10: =O10+P10+Q10+R10 -> 563 | AW10: =S10 -> 17 | AX10: =T10+U10+V10 -> 17 | AY10: =W10 -> 580 | AZ10: =N10+S10 -> 580 | BA10: =AD10 -> 143 | BB10: =AB10+AC10 -> 143 | BC10: =AD10 -> 143 | BD10: =AE10+AF10 -> 143 | BE10: =AK10 -> 24 | BF10: =AI10+AJ10 -> 24 | BG10: =AK10 -> 24 | BH10: =AL10+AM10 -> 24
A11: 1.2 | B11: î»Õ³Ï³Ý ÇÝùÝ³Ï³é³í³ñÙ³Ý Ù³ñÙÇÝÝ»ñÇ áõ ¹ñ³Ýó å³ßïáÝ³ï³ñ ³ÝÓ³Ýó ³Ïï»ñÝ ³Ýí³í»ñ ×³Ý³ã»Éáõ Ñ»ï Ï³åí³Í Çñ³í³Ñ³ñ³µ»ñáõÃÛáõÝÝ»ñÇ í»ñ³µ»ñÛ³É ¹³ï³Ï³Ý ·áñÍ»ñ | C11: 61 | D11: 6 | E11: 55 | H11: 139 | I11: 106 | J11: 19 | K11: 2 | L11: 12 | N11: 52 | O11: 40 | Q11: 12 | W11: 52 | X11: 1 | Y11: 2 | Z11: 114 | AA11: 7 | AB11: 29 | AC11: 2 | AD11: 31 | AE11: 4 | AF11: 27 | AI11: 3 | AJ11: 1 | AK11: 4 | AL11: 3 | AM11: 1 | AO11: =C11 -> 61 | AP11: =D11+E11+F11+G11 -> 61 | AQ11: =H11 -> 139 | AR11: =I11+J11+K11+L11 -> 139 | AS11: =D11+E11+I11 -> 167 | AT11: =M11+W11+X11+Z11 -> 167 | AU11: =N11 -> 52 | AV11: =O11+P11+Q11+R11 -> 52 | AW11: =S11 -> 0 | AX11: =T11+U11+V11 -> 0 | AY11: =W11 -> 52 | AZ11: =N11+S11 -> 52 | BA11: =AD11 -> 31 | BB11: =AB11+AC11 -> 31 | BC11: =AD11 -> 31 | BD11: =AE11+AF11 -> 31 | BE11: =AK11 -> 4 | BF11: =AI11+AJ11 -> 4 | BG11: =AK11 -> 4 | BH11: =AL11+AM11 -> 4
A12: 2 | B12: ä»ï³Ï³Ý Ù³ñÙÇÝÝ»ñÇ, ï»Õ³Ï³Ý ÇÝùÝ³Ï³é³í³ñÙ³Ý Ù³ñÙÇÝÝ»ñÇ ¨ ¹ñ³Ýó å³ßïáÝ³ï³ñ ³ÝÓ³Ýó ·áñÍáÕáõÃÛáõÝÝ»ñÁ /³Ý·áñÍáõÃÛáõÝÁ/ íÇ×³ñÏ»Éáõ Ñ»ï Ï³åí³Í Çñ³í³Ñ³ñ³µ»ñáõÃÛáõÝÝ»ñÇ í»ñ³µ»ñÛ³É ¹³ï³Ï³Ý ·áñÍ»ñ | C12: =C13+C14 -> 78 | D12: =D13+D14 -> 7 | E12: =E13+E14 -> 71 | F12: =F13+F14 -> 0 | G12: =G13+G14 -> 0 | H12: =H13+H14 -> 158 | I12: =I13+I14 -> 122 | J12: =J13+J14 -> 26 | ... AM12: =AM13+AM14 -> 2 | AO12: =AO13+AO14+AO15 -> 81 | AP12: =AP13+AP14+AP15 -> 81 | AQ12: =AQ13+AQ14+AQ15 -> 159 | AR12: =AR13+AR14+AR15 -> 159 | AS12: =AS13+AS14+AS15 -> 204 | AT12: =AT13+AT14+AT15 -> 204 | AU12: =AU13+AU14+AU15 -> 64 | AV12: =AV13+AV14+AV15 -> 64 | ... BH12: =BH13+BH14+BH15 -> 7
