Workbook

Sheet TD
B1: Ð²ÞìºîìàôÂÚàôÜ
B2: ÐÐ ïÝï»ë³Ï³Ý ¹³ï³ñ³ÝÇ ÏáÕÙÇó í×³ñÙ³Ý Ï³ñ·³¹ñáõÃÛáõÝ ³ñÓ³Ï»Éáõ í³ñáõÛÃÝ»ñÇ ÁÝÃ³óùÇ Ù³ëÇÝ
B3: 2006Ã.
A5: Ð/Ð | B5: ¸³ï³íáñ | C5: êï³óí»É ¿ í×³ñÙ³Ý Ï³ñ·³¹ñáõÃÛáõÝ ³ñÓ³Ï»Éáõ Ù³ëÇÝ ¹ÇÙáõÙ | D5: ²ñÓ³Ïí»É ¿ í×³ñÙ³Ý Ï³ñ·³¹ñáõÃÛáõÝ | E5: Ø»ñÅí»É ¿ | F5: Ø»ñÅí»É ¿ Ù³ëáí | G5: êï³óí»É ¿ ³é³ñÏáõÃÛáõÝ | H5: êï³ó»É ¿ ûñÇÝ³Ï³Ý áõÅÇ Ù»ç Ùï³Í í×éÇ áõÅ | I5: âÇ Ùï»É ûñÇÝ³Ï³Ý áõÅÇ Ù»ç | J5: îñí»É ¿ Ï³ï³ñáÕ³Ï³Ý Ã»ñÃ | K5: ³Ý³í³ñï
A6: 1 | B6: ÊáõÝ¹Ï³ñÛ³Ý | C6: 4 | E6: 4
A7: 2 | B7: Ü³½³ñÛ³Ý | C7: 9 | D7: 9 | H7: 6 | I7: 3 | J7: 1
A8: 3 | B8: Ô³ñÇµÛ³Ý | C8: 2 | E8: 2
A9: 4 | B9: Ð³ÏáµÛ³Ý | C9: 35 | D9: 28 | E9: 7 | G9: 7 | H9: 18 | I9: 3 | J9: 2
A10: 5 | B10: ê³ñ·ëÛ³Ý | C10: 2 | D10: 2 | H10: 2
A11: 6 | B11: êáëÛ³Ý | C11: 2 | E11: 2
A12: 7 | B12: î³í³ñ³óÛ³Ý | C12: 3 | D12: 1 | E12: 2 | H12: 1
A13: 8 | B13: êáÕáÙáÝÛ³Ý | C13: 10 | D13: 9 | E13: 1 | H13: 7 | I13: 2
A14: 9 | B14: ². Ô³½³ñÛ³Ý | C14: 11 | D14: 11 | E14: - | F14: - | G14: 4 | H14: 5 | I14: 2 | J14: -
A15: 10 | B15: ì. ²ëÉ³ÝÛ³Ý | C15: 147 | D15: 147 | E15: - | F15: - | G15: 25 | H15: 106 | I15: 41 | J15: 98
A16: 11 | B16: Î. ´³Õ¹³ë³ñÛ³Ý | C16: 10 | D16: 10 | E16: - | F16: - | G16: - | H16: 9 | I16: 1 | J16: 1
A17: 12 | B17: è. ê³ñ·ëÛ³Ý | C17: 1 | D17: - | E17: 1 | F17: - | G17: - | H17: - | I17: - | J17: -
A18: 13
B19: ÀÝ¹³Ù»ÝÁ | C19: =SUM(C6:C17) -> 236 | D19: =SUM(D6:D17) -> 217 | E19: =SUM(E6:E17) -> 19 | F19: =SUM(F6:F17) -> 0 | G19: =SUM(G6:G17) -> 36 | H19: =SUM(H6:H17) -> 154 | I19: =SUM(I6:I17) -> 52 | J19: =SUM(J6:J17) -> 102 | K19: =SUM(K6:K17) -> 0

Sheet 1-in atjan
B1: Ð²ÞìºîìàôÂÚàôÜ
B2: ÐÐ ³é³çÇÝ ³ïÛ³ÝÇ ¹³ï³ñ³ÝÝ»ñÇ ÏáÕÙÇó í×³ñÙ³Ý Ï³ñ·³¹ñáõÃÛáõÝ ³ñÓ³Ï»Éáõ í³ñáõÛÃÝ»ñÇ ÁÝÃ³óùÇ Ù³ëÇÝ
B3: 2006Ã.
A5: Ð/Ñ | B5: ¸³ï³íáñ | C5: êï³óí»É ¿ í×³ñÙ³Ý Ï³ñ·³¹ñáõÃÛáõÝ ³ñÓ³Ï»Éáõ Ù³ëÇÝ ¹ÇÙáõÙ | D5: ²ñÓ³Ïí»É ¿ í×³ñÙ³Ý Ï³ñ·³¹ñáõÃÛáõÝ | E5: Ø»ñÅí»É ¿ | F5: Ø»ñÅí»É ¿ Ù³ëáí | G5: êï³óí»É ¿ ³é³ñÏáõÃÛáõÝ | H5: êï³ó»É ¿ ûñÇÝ³Ï³Ý áõÅÇ Ù»ç Ùï³Í í×éÇ áõÅ | I5: âÇ Ùï»É ûñÇÝ³Ï³Ý áõÅÇ Ù»ç | J5: îñí»É ¿ Ï³ï³ñáÕ³Ï³Ý Ã»ñÃ
A6: 1
A7: 2
A8: 3
A9: 4
A10: 5
A11: 6
A12: 7
A13: 8
A14: 9
A15: 10
A16: 11
A17: 12
A18: 13
B19: ÀÝ¹³Ù»ÝÁ | C19: =SUM(Marzer!C19+Erevan!C19) -> 26653 | D19: =SUM(Marzer!D19+Erevan!D19) -> 24757 | E19: =SUM(Marzer!E19+Erevan!E19) -> 548 | F19: =SUM(Marzer!F19+Erevan!F19) -> 33 | G19: =SUM(Marzer!G19+Erevan!G19) -> 639 | H19: =SUM(Marzer!H19+Erevan!H19) -> 17293 | I19: =SUM(Marzer!I19+Erevan!I19) -> 6284 | J19: =SUM(Marzer!J19+Erevan!J19) -> 11062 | K19: =SUM(Marzer!K19+Erevan!K19) -> 1663

Sheet Marzer
B1: Ð²ÞìºîìàôÂÚàôÜ
B2: ÐÐ Ù³ñ½»ñÇ ³é³çÇÝ ³ïÛ³ÝÇ ¹³ï³ñ³ÝÝ»ñÇ ÏáÕÙÇó í×³ñÙ³Ý Ï³ñ·³¹ñáõÃÛáõÝ ³ñÓ³Ï»Éáõ í³ñáõÛÃÝ»ñÇ ÁÝÃ³óùÇ Ù³ëÇÝ
B3: 2006Ã.
A5: Ð/Ñ | B5: ¸³ï³íáñ | C5: êï³óí»É ¿ í×³ñÙ³Ý Ï³ñ·³¹ñáõÃÛáõÝ ³ñÓ³Ï»Éáõ Ù³ëÇÝ ¹ÇÙáõÙ | D5: ²ñÓ³Ïí»É ¿ í×³ñÙ³Ý Ï³ñ·³¹ñáõÃÛáõÝ | E5: Ø»ñÅí»É ¿ | F5: Ø»ñÅí»É ¿ Ù³ëáí | G5: êï³óí»É ¿ ³é³ñÏáõÃÛáõÝ | H5: êï³ó»É ¿ ûñÇÝ³Ï³Ý áõÅÇ Ù»ç Ùï³Í í×éÇ áõÅ | I5: âÇ Ùï»É ûñÇÝ³Ï³Ý áõÅÇ Ù»ç | J5: îñí»É ¿ Ï³ï³ñáÕ³Ï³Ý Ã»ñÃ
A6: 1
A7: 2
A8: 3
A9: 4
A10: 5
A11: 6
A12: 7
A13: 8
A14: 9
A15: 10
A16: 11
A17: 12
A18: 13
B19: ÀÝ¹³Ù»ÝÁ | C19: =SUM(Shirak!C19+VDz!C19+Lori!C19+Suniq!C19+Gex!C19+Kotaik!C19+Aragacotn!C19+Tavush!C19+Ararat!C19+Armavir!C19) -> 11377 | D19: =SUM(Shirak!D19+VDz!D19+Lori!D19+Suniq!D19+Gex!D19+Kotaik!D19+Aragacotn!D19+Tavush!D19+Ararat!D19+Armavir!D19) -> 10827 | E19: =SUM(Shirak!E19+VDz!E19+Lori!E19+Suniq!E19+Gex!E19+Kotaik!E19+Aragacotn!E19+Tavush!E19+Ararat!E19+Armavir!E19) -> 481 | F19: =SUM(Shirak!F19+VDz!F19+Lori!F19+Suniq!F19+Gex!F19+Kotaik!F19+Aragacotn!F19+Tavush!F19+Ararat!F19+Armavir!F19) -> 3 | G19: =SUM(Shirak!G19+VDz!G19+Lori!G19+Suniq!G19+Gex!G19+Kotaik!G19+Aragacotn!G19+Tavush!G19+Ararat!G19+Armavir!G19) -> 544 | H19: =SUM(Shirak!H19+VDz!H19+Lori!H19+Suniq!H19+Gex!H19+Kotaik!H19+Aragacotn!H19+Tavush!H19+Ararat!H19+Armavir!H19) -> 7760 | I19: =SUM(Shirak!I19+VDz!I19+Lori!I19+Suniq!I19+Gex!I19+Kotaik!I19+Aragacotn!I19+Tavush!I19+Ararat!I19+Armavir!I19) -> 2427 | J19: =SUM(Shirak!J19+VDz!J19+Lori!J19+Suniq!J19+Gex!J19+Kotaik!J19+Aragacotn!J19+Tavush!J19+Ararat!J19+Armavir!J19) -> 4042

Sheet Erevan
B1: Ð²ÞìºîìàôÂÚàôÜ
B2: ºñ¨³Ý ù³Õ³ùÇ ³é³çÇÝ ³ïÛ³ÝÇ ¹³ï³ñ³ÝÇ ÏáÕÙÇó í×³ñÙ³Ý Ï³ñ·³¹ñáõÃÛáõÝ ³ñÓ³Ï»Éáõ í³ñáõÛÃÝ»ñÇ ÁÝÃ³óùÇ Ù³ëÇÝ
B3: 2006Ã.
A5: Ð/Ñ | B5: ¸³ï³íáñ | C5: êï³óí»É ¿ í×³ñÙ³Ý Ï³ñ·³¹ñáõÃÛáõÝ ³ñÓ³Ï»Éáõ Ù³ëÇÝ ¹ÇÙáõÙ | D5: ²ñÓ³Ïí»É ¿ í×³ñÙ³Ý Ï³ñ·³¹ñáõÃÛáõÝ | E5: Ø»ñÅí»É ¿ | F5: Ø»ñÅí»É ¿ Ù³ëáí | G5: êï³óí»É ¿ ³é³ñÏáõÃÛáõÝ | H5: êï³ó»É ¿ ûñÇÝ³Ï³Ý áõÅÇ Ù»ç Ùï³Í í×éÇ áõÅ | I5: âÇ Ùï»É ûñÇÝ³Ï³Ý áõÅÇ Ù»ç | J5: îñí»É ¿ Ï³ï³ñáÕ³Ï³Ý Ã»ñÃ
A6: 1
A7: 2
A8: 3
A9: 4
A10: 5
A11: 6
A12: 7
A13: 8
A14: 9
A15: 10
A16: 11
A17: 12
A18: 13
B19: ÀÝ¹³Ù»ÝÁ | C19: =SUM(Adjapniak!C19+Shengavit!C19+Kentron!C19+Arabkir!C19+Erebuni!C19+Avan!C19+Malatia!C19) -> 15276 | D19: =SUM(Adjapniak!D19+Shengavit!D19+Kentron!D19+Arabkir!D19+Erebuni!D19+Avan!D19+Malatia!D19) -> 13930 | E19: =SUM(Adjapniak!E19+Shengavit!E19+Kentron!E19+Arabkir!E19+Erebuni!E19+Avan!E19+Malatia!E19) -> 67 | F19: =SUM(Adjapniak!F19+Shengavit!F19+Kentron!F19+Arabkir!F19+Erebuni!F19+Avan!F19+Malatia!F19) -> 30 | G19: =SUM(Adjapniak!G19+Shengavit!G19+Kentron!G19+Arabkir!G19+Erebuni!G19+Avan!G19+Malatia!G19) -> 95 | H19: =SUM(Adjapniak!H19+Shengavit!H19+Kentron!H19+Arabkir!H19+Erebuni!H19+Avan!H19+Malatia!H19) -> 9533 | I19: =SUM(Adjapniak!I19+Shengavit!I19+Kentron!I19+Arabkir!I19+Erebuni!I19+Avan!I19+Malatia!I19) -> 3857 | J19: =SUM(Adjapniak!J19+Shengavit!J19+Kentron!J19+Arabkir!J19+Erebuni!J19+Avan!J19+Malatia!J19) -> 7020 | K19: =SUM(Adjapniak!K19+Shengavit!K19+Kentron!K19+Arabkir!K19+Erebuni!K19+Avan!K19+Malatia!K19) -> 1663

Sheet Adjapniak
B1: Ð²ÞìºîìàôÂÚàôÜ
B2: ºñ¨³Ý ù³Õ³ùÇ ²ç³÷ÝÛ³Ï ¨ ø³Ý³ù»é-¼»ÛÃáõÝ Ñ³Ù³ÛÝùÝ»ñÇ ³é³çÇÝ ³ïÛ³ÝÇ ¹³ï³ñ³ÝÇ ÏáÕÙÇó í×³ñÙ³Ý Ï³ñ·³¹ñáõÃÛáõÝ ³ñÓ³Ï»Éáõ í³ñáõÛÃÝ»ñÇ ÁÝÃ³óùÇ Ù³ëÇÝ
B3: 2006Ã.
A5: Ð/Ñ | B5: ¸³ï³íáñ | C5: êï³óí»É ¿ í×³ñÙ³Ý Ï³ñ·³¹ñáõÃÛáõÝ ³ñÓ³Ï»Éáõ Ù³ëÇÝ ¹ÇÙáõÙ | D5: ²ñÓ³Ïí»É ¿ í×³ñÙ³Ý Ï³ñ·³¹ñáõÃÛáõÝ | E5: Ø»ñÅí»É ¿ | F5: Ø»ñÅí»É ¿ Ù³ëáí | G5: êï³óí»É ¿ ³é³ñÏáõÃÛáõÝ | H5: êï³ó»É ¿ ûñÇÝ³Ï³Ý áõÅÇ Ù»ç Ùï³Í í×éÇ áõÅ | I5: âÇ Ùï»É ûñÇÝ³Ï³Ý áõÅÇ Ù»ç | J5: îñí»É ¿ Ï³ï³ñáÕ³Ï³Ý Ã»ñÃ
A6: 1 | B6: ¸³ÝÇ»ÉÛ³Ý | C6: 680 | D6: 499 | G6: 3 | H6: 496 | I6: 181
A7: 2 | B7: êÙµ³ïÛ³Ý | C7: 604 | D7: 439 | H7: 439 | I7: 165
A8: 3 | B8: ´³ñë»ÕÛ³Ý | C8: 645 | D8: 524 | E8: 2 | G8: 18 | H8: 506 | I8: 121 | J8: 50
A9: 4 | B9: ´³É³Û³Ý | C9: 177 | D9: 177 | G9: 2 | H9: 175
A10: 5
A11: 6
A12: 7
A13: 8
A14: 9
A15: 10
A16: 11
A17: 12
A18: 13
B19: ÀÝ¹³Ù»ÝÁ | C19: =SUM(C6:C17) -> 2106 | D19: =SUM(D6:D17) -> 1639 | E19: =SUM(E6:E17) -> 2 | F19: =SUM(F6:F17) -> 0 | G19: =SUM(G6:G17) -> 23 | H19: =SUM(H6:H17) -> 1616 | I19: =SUM(I6:I17) -> 467 | J19: =SUM(J6:J17) -> 50 | K19: =SUM(K6:K17) -> 0

Sheet Shengavit
B1: Ð²ÞìºîìàôÂÚàôÜ
B2: ºñ¨³Ý ù³Õ³ùÇ Þ»Ý·³íÇÃ Ñ³Ù³ÛÝùÇ ³é³çÇÝ ³ïÛ³ÝÇ ¹³ï³ñ³ÝÇ ÏáÕÙÇó í×³ñÙ³Ý Ï³ñ·³¹ñáõÃÛáõÝ ³ñÓ³Ï»Éáõ í³ñáõÛÃÝ»ñÇ ÁÝÃ³óùÇ Ù³ëÇÝ
B3: 2006Ã.
A5: Ð/Ñ | B5: ¸³ï³íáñ | C5: êï³óí»É ¿ í×³ñÙ³Ý Ï³ñ·³¹ñáõÃÛáõÝ ³ñÓ³Ï»Éáõ Ù³ëÇÝ ¹ÇÙáõÙ | D5: ²ñÓ³Ïí»É ¿ í×³ñÙ³Ý Ï³ñ·³¹ñáõÃÛáõÝ | E5: Ø»ñÅí»É ¿ | F5: Ø»ñÅí»É ¿ Ù³ëáí | G5: êï³óí»É ¿ ³é³ñÏáõÃÛáõÝ | H5: êï³ó»É ¿ ûñÇÝ³Ï³Ý áõÅÇ Ù»ç Ùï³Í í×éÇ áõÅ | I5: âÇ Ùï»É ûñÇÝ³Ï³Ý áõÅÇ Ù»ç | J5: îñí»É ¿ Ï³ï³ñáÕ³Ï³Ý Ã»ñÃ
A6: 1 | B6: äáÕáëÛ³Ý | C6: 205 | D6: 205 | H6: 205 | J6: 205
A7: 2 | B7: Ê³Ý¹³ÝÛ³Ý | C7: 235 | D7: 235 | H7: 235 | J7: 235
A8: 3 | B8: ´³ñë»ÕÛ³Ý | C8: 325 | D8: 325 | H8: 325 | J8: 325
A9: 4 | B9: ¶ñÇ·áñÛ³Ý | C9: 205 | D9: 205 | H9: 205 | J9: 205
A10: 5 | B10: Îáõµ³ÝÛ³Ý | C10: 169 | D10: 169 | H10: 169 | J10: 169
A11: 6 | B11: Ðáíë»÷Û³Ý | C11: 390 | D11: 390 | G11: 1 | H11: 389 | J11: 389
A12: 7
A13: 8
A14: 9
A15: 10
A16: 11
A17: 12
A18: 13
B19: ÀÝ¹³Ù»ÝÁ | C19: =SUM(C6:C17) -> 1529 | D19: =SUM(D6:D17) -> 1529 | E19: =SUM(E6:E17) -> 0 | F19: =SUM(F6:F17) -> 0 | G19: =SUM(G6:G17) -> 1 | H19: =SUM(H6:H17) -> 1528 | I19: =SUM(I6:I17) -> 0 | J19: =SUM(J6:J17) -> 1528 | K19: =SUM(K6:K17) -> 0

Sheet Kentron
B1: Ð²ÞìºîìàôÂÚàôÜ
B2: ºñ¨³Ý ù³Õ³ùÇ Î»ÝïñáÝ ¨ Üáñù-Ø³ñ³ß Ñ³Ù³ÛÝùÝ»ñÇ ³é³çÇÝ ³ïÛ³ÝÇ ¹³ï³ñ³ÝÇ ÏáÕÙÇó í×³ñÙ³Ý Ï³ñ·³¹ñáõÃÛáõÝ ³ñÓ³Ï»Éáõ í³ñáõÛÃÝ»ñÇ ÁÝÃ³óùÇ Ù³ëÇÝ
B3: 2006Ã.
A5: Ð/Ñ | B5: ¸³ï³íáñ | C5: êï³óí»É ¿ í×³ñÙ³Ý Ï³ñ·³¹ñáõÃÛáõÝ ³ñÓ³Ï»Éáõ Ù³ëÇÝ ¹ÇÙáõÙ | D5: ²ñÓ³Ïí»É ¿ í×³ñÙ³Ý Ï³ñ·³¹ñáõÃÛáõÝ | E5: Ø»ñÅí»É ¿ | F5: Ø»ñÅí»É ¿ Ù³ëáí | G5: êï³óí»É ¿ ³é³ñÏáõÃÛáõÝ | H5: êï³ó»É ¿ ûñÇÝ³Ï³Ý áõÅÇ Ù»ç Ùï³Í í×éÇ áõÅ | I5: âÇ Ùï»É ûñÇÝ³Ï³Ý áõÅÇ Ù»ç | J5: îñí»É ¿ Ï³ï³ñáÕ³Ï³Ý Ã»ñÃ
A6: 1 | B6: ¾¹.²í»ïÇëÛ³Ý | C6: 200 | D6: 199 | E6: 1 | H6: 178 | I6: 20 | J6: 178
A7: 2 | B7: È³É³Û³Ý | C7: 172 | D7: 172 | G7: 1 | H7: 124 | I7: 47 | J7: 124
A8: 3 | B8: ¶.Î³ñ³Ë³ÝÛ³Ý | C8: 184 | D8: 184 | H8: 159 | I8: 25 | J8: 159
A9: 4 | B9: Ü»ñëÇëÛ³Ý | C9: 125 | D9: 125 | H9: 115 | I9: 10 | J9: 115
A10: 5 | B10: úÑ³ÝÛ³Ý | C10: 90 | D10: 90 | H10: 87 | I10: 3 | J10: 87
A11: 6 | B11: ²ñ³ÙÛ³Ý | C11: 38 | D11: 38 | H11: 37 | I11: 1 | J11: 37
A12: 7 | B12: ÐáíÑ³ÝÝÇëÛ³Ý | C12: 63 | D12: 63 | H12: 60 | I12: 3 | J12: 60
A13: 8 | B13: Ø³ñïÇñáëÛ³Ý | C13: 170 | D13: 170 | H13: 170 | J13: 170
A14: 9 | B14: Â³¹¨áëÛ³Ý | C14: 24 | D14: 20 | G14: 7 | H14: 8 | I14: 5 | J14: 8
A15: 10 | B15: Ð³ÏáµÛ³Ý | C15: 22 | D15: 22 | H15: 9 | I15: 13 | J15: 9
A16: 11
A17: 12
A18: 13
B19: ÀÝ¹³Ù»ÝÁ | C19: =SUM(C6:C17) -> 1088 | D19: =SUM(D6:D17) -> 1083 | E19: =SUM(E6:E17) -> 1 | F19: =SUM(F6:F17) -> 0 | G19: =SUM(G6:G17) -> 8 | H19: =SUM(H6:H17) -> 947 | I19: =SUM(I6:I17) -> 127 | J19: =SUM(J6:J17) -> 947 | K19: =SUM(K6:K17) -> 0

Sheet Arabkir
B1: Ð²ÞìºîìàôÂÚàôÜ
B2: ºñ¨³Ý ù³Õ³ùÇ ²ñ³µÏÇñ ¨ ø³Ý³ù»é-¼»ÛÃáõÝ Ñ³Ù³ÛÝùÝ»ñÇ ³é³çÇÝ ³ïÛ³ÝÇ ¹³ï³ñ³ÝÇ ÏáÕÙÇó í×³ñÙ³Ý Ï³ñ·³¹ñáõÃÛáõÝ ³ñÓ³Ï»Éáõ í³ñáõÛÃÝ»ñÇ ÁÝÃ³óùÇ Ù³ëÇÝ
B3: 2006Ã.
A5: Ð/Ñ | B5: ¸³ï³íáñ | C5: êï³óí»É ¿ í×³ñÙ³Ý Ï³ñ·³¹ñáõÃÛáõÝ ³ñÓ³Ï»Éáõ Ù³ëÇÝ ¹ÇÙáõÙ | D5: ²ñÓ³Ïí»É ¿ í×³ñÙ³Ý Ï³ñ·³¹ñáõÃÛáõÝ | E5: Ø»ñÅí»É ¿ | F5: Ø»ñÅí»É ¿ Ù³ëáí | G5: êï³óí»É ¿ ³é³ñÏáõÃÛáõÝ | H5: êï³ó»É ¿ ûñÇÝ³Ï³Ý áõÅÇ Ù»ç Ùï³Í í×éÇ áõÅ | I5: âÇ Ùï»É ûñÇÝ³Ï³Ý áõÅÇ Ù»ç | J5: îñí»É ¿ Ï³ï³ñáÕ³Ï³Ý Ã»ñÃ
A6: 1 | B6: Ð³ÏáµÛ³Ý | C6: 242 | D6: 233 | E6: 9 | H6: 150 | I6: 83 | J6: 150
A7: 2 | B7: ÐáõÝ³ÝÛ³Ý | C7: 470 | D7: 260 | G7: 2 | H7: 226 | I7: 34 | J7: 145 | K7: 210
A8: 3 | B8: Ðáíë»÷Û³Ý | C8: 468 | D8: 276 | E8: 1 | G8: 3 | H8: 193 | I8: 83 | J8: 101 | K8: 191
A9: 4 | B9: ²é³ù»ÉÛ³Ý | C9: 470 | D9: 271 | G9: 6 | H9: 150 | I9: 121 | J9: 110 | K9: 199
A10: 5 | B10: è»Ñ³ÝÛ³Ý | C10: 5 | D10: 5 | H10: 2 | I10: 3 | J10: 1
A11: 6 | B11: ²ñ³ÙÛ³Ý | C11: 247 | D11: 35 | E11: 3 | G11: 1 | H11: 18 | I11: 17 | J11: 10 | K11: 209
A12: 7
A13: 8
A14: 9
A15: 10
A16: 11
A17: 12
A18: 13
B19: ÀÝ¹³Ù»ÝÁ | C19: =SUM(C6:C17) -> 1902 | D19: =SUM(D6:D17) -> 1080 | E19: =SUM(E6:E17) -> 13 | F19: =SUM(F6:F17) -> 0 | G19: =SUM(G6:G17) -> 12 | H19: =SUM(H6:H17) -> 739 | I19: =SUM(I6:I17) -> 341 | J19: =SUM(J6:J17) -> 517 | K19: =SUM(K6:K17) -> 809

Sheet Erebuni
B1: Ð²ÞìºîìàôÂÚàôÜ
B2: ºñ¨³Ý ù³Õ³ùÇ ¾ñ»µáõÝÇ ¨ Üáõµ³ñ³ß»Ý Ñ³Ù³ÛÝùÝ»ñÇ ³é³çÇÝ ³ïÛ³ÝÇ ¹³ï³ñ³ÝÇ ÏáÕÙÇó í×³ñÙ³Ý Ï³ñ·³¹ñáõÃÛáõÝ ³ñÓ³Ï»Éáõ í³ñáõÛÃÝ»ñÇ ÁÝÃ³óùÇ Ù³ëÇÝ
B3: 2006Ã.
A5: Ð/Ñ | B5: ¸³ï³íáñ | C5: êï³óí»É ¿ í×³ñÙ³Ý Ï³ñ·³¹ñáõÃÛáõÝ ³ñÓ³Ï»Éáõ Ù³ëÇÝ ¹ÇÙáõÙ | D5: ²ñÓ³Ïí»É ¿ í×³ñÙ³Ý Ï³ñ·³¹ñáõÃÛáõÝ | E5: Ø»ñÅí»É ¿ | F5: Ø»ñÅí»É ¿ Ù³ëáí | G5: êï³óí»É ¿ ³é³ñÏáõÃÛáõÝ | H5: êï³ó»É ¿ ûñÇÝ³Ï³Ý áõÅÇ Ù»ç Ùï³Í í×éÇ áõÅ | I5: âÇ Ùï»É ûñÇÝ³Ï³Ý áõÅÇ Ù»ç | J5: îñí»É ¿ Ï³ï³ñáÕ³Ï³Ý Ã»ñÃ
A6: 1 | B6: úÑ³ÝÛ³Ý
A7: 2 | B7: Îáëï³ÝÛ³Ý
A8: 3 | B8: è³ßÇ¹Û³Ý | C8: 430 | D8: 430 | G8: 1 | H8: 185 | I8: 244 | J8: 111
A9: 4 | B9: Ø³ñ·³ñÛ³Ý | C9: 369 | D9: 369 | G9: 3 | H9: 244 | I9: 122 | J9: 87
A10: 5 | B10: ä»ïñáëÛ³Ý | C10: 401 | D10: 401 | H10: 125 | I10: 276 | J10: 84
A11: 6 | B11: è»Ñ³ÝÛ³Ý
A12: 7 | B12: Îáõµ³ÝÛ³Ý | C12: 192 | D12: 192 | H12: 149 | I12: 43 | J12: 10
A13: 8 | B13: ¶³µñÇ»ÉÛ³Ý
A14: 9 | B14: ì.¶ñÇ·áñÛ³Ý | C14: 3 | D14: 3 | H14: 3
A15: 10 | B15: ².²½³ñÛ³Ý | C15: 266 | D15: 266 | G15: 1 | H15: 156 | I15: 69 | J15: 18
A16: 11
A17: 12
A18: 13
B19: ÀÝ¹³Ù»ÝÁ | C19: =SUM(C6:C17) -> 1661 | D19: =SUM(D6:D17) -> 1661 | E19: =SUM(E6:E17) -> 0 | F19: =SUM(F6:F17) -> 0 | G19: =SUM(G6:G17) -> 5 | H19: =SUM(H6:H17) -> 862 | I19: =SUM(I6:I17) -> 754 | J19: =SUM(J6:J17) -> 310

Sheet Avan
B1: Ð²ÞìºîìàôÂÚàôÜ
B2: ºñ¨³Ý ù³Õ³ùÇ ²í³Ý ¨ Üáñ-Üáñù Ñ³Ù³ÛÝùÝ»ñÇ ³é³çÇÝ ³ïÛ³ÝÇ ¹³ï³ñ³ÝÇ ÏáÕÙÇó í×³ñÙ³Ý Ï³ñ·³¹ñáõÃÛáõÝ ³ñÓ³Ï»Éáõ í³ñáõÛÃÝ»ñÇ ÁÝÃ³óùÇ Ù³ëÇÝ
B3: 2006Ã.
A5: Ð/Ñ | B5: ¸³ï³íáñ | C5: êï³óí»É ¿ í×³ñÙ³Ý Ï³ñ·³¹ñáõÃÛáõÝ ³ñÓ³Ï»Éáõ Ù³ëÇÝ ¹ÇÙáõÙ | D5: ²ñÓ³Ïí»É ¿ í×³ñÙ³Ý Ï³ñ·³¹ñáõÃÛáõÝ | E5: Ø»ñÅí»É ¿ | F5: Ø»ñÅí»É ¿ Ù³ëáí | G5: êï³óí»É ¿ ³é³ñÏáõÃÛáõÝ | H5: êï³ó»É ¿ ûñÇÝ³Ï³Ý áõÅÇ Ù»ç Ùï³Í í×éÇ áõÅ | I5: âÇ Ùï»É ûñÇÝ³Ï³Ý áõÅÇ Ù»ç | J5: îñí»É ¿ Ï³ï³ñáÕ³Ï³Ý Ã»ñÃ
A6: 1 | B6: ´³Õ¹³ë³ñÛ³Ý | C6: 618 | D6: 589 | E6: 28 | F6: 1 | G6: 9 | H6: 439 | I6: 141 | J6: 398
A7: 2 | B7: Ø³ñ·³ñÛ³Ý | C7: 627 | D7: 627 | G7: 1 | H7: 442 | I7: 184 | J7: 400
A8: 3 | B8: ¸³íÃÛ³Ý | C8: 405 | D8: 405 | G8: 5 | H8: 306 | I8: 94 | J8: 270
A9: 4 | B9: ä»ïñáëÛ³Ý | C9: 573 | D9: 550 | E9: 23 | G9: 7 | H9: 343 | I9: 200 | J9: 300
A10: 5 | B10: Î³ñ³å»ïÛ³Ý | C10: 482 | D10: 482 | G10: 3 | H10: 361 | I10: 118 | J10: 350
A11: 6
A12: 7
A13: 8
A14: 9
A15: 10
A16: 11
A17: 12
A18: 13
B19: ÀÝ¹³Ù»ÝÁ | C19: =SUM(C6:C17) -> 2705 | D19: =SUM(D6:D17) -> 2653 | E19: =SUM(E6:E17) -> 51 | F19: =SUM(F6:F17) -> 1 | G19: =SUM(G6:G17) -> 25 | H19: =SUM(H6:H17) -> 1891 | I19: =SUM(I6:I17) -> 737 | J19: =SUM(J6:J17) -> 1718

Sheet Malatia
B1: Ð²ÞìºîìàôÂÚàôÜ
B2: ºñ¨³Ý ù³Õ³ùÇ Ø³É³ÃÇ³-ê»µ³ëïÇ³ Ñ³Ù³ÛÝùÇ ³é³çÇÝ ³ïÛ³ÝÇ ¹³ï³ñ³ÝÇ ÏáÕÙÇó í×³ñÙ³Ý Ï³ñ·³¹ñáõÃÛáõÝ ³ñÓ³Ï»Éáõ í³ñáõÛÃÝ»ñÇ ÁÝÃ³óùÇ Ù³ëÇÝ
B3: 2006Ã.
A5: Ð/Ñ | B5: ¸³ï³íáñ | C5: êï³óí»É ¿ í×³ñÙ³Ý Ï³ñ·³¹ñáõÃÛáõÝ ³ñÓ³Ï»Éáõ Ù³ëÇÝ ¹ÇÙáõÙ | D5: ²ñÓ³Ïí»É ¿ í×³ñÙ³Ý Ï³ñ·³¹ñáõÃÛáõÝ | E5: Ø»ñÅí»É ¿ | F5: Ø»ñÅí»É ¿ Ù³ëáí | G5: êï³óí»É ¿ ³é³ñÏáõÃÛáõÝ | H5: êï³ó»É ¿ ûñÇÝ³Ï³Ý áõÅÇ Ù»ç Ùï³Í í×éÇ áõÅ | I5: âÇ Ùï»É ûñÇÝ³Ï³Ý áõÅÇ Ù»ç | J5: îñí»É ¿ Ï³ï³ñáÕ³Ï³Ý Ã»ñÃ | K5: ³Ý³í³ñï
A6: 1 | B6: ä»ïñáëÛ³Ý | C6: 354 | D6: 354 | H6: 170 | I6: 184 | J6: 170
A7: 2 | B7: ØÇù³Û»ÉÛ³Ý | C7: 959 | D7: 959 | F7: 28 | G7: 3 | H7: 356 | I7: 355 | J7: 356 | K7: 217
A8: 3 | B8: ÂáíÙ³ëÛ³Ý | C8: 46 | D8: 46 | H8: 29 | I8: 17 | J8: 29
A9: 4 | B9: ÐáíÑ³ÝÝÇëÛ³Ý | C9: 272 | D9: 272 | G9: 1 | H9: 24 | I9: 3 | J9: 24 | K9: 244
A10: 5 | B10: ì³ñ¹³ÝÛ³Ý | C10: 975 | D10: 975 | G10: 7 | H10: 464 | I10: 289 | J10: 464 | K10: 215
A11: 6 | B11: ¶ñÇ·áñÛ³Ý | C11: 720 | D11: 720 | F11: 1 | G11: 2 | H11: 388 | I11: 329 | J11: 388
A12: 7 | B12: ü³ñÇËáÛ³Ý | C12: 959 | D12: 959 | G12: 8 | H12: 519 | I12: 254 | J12: 519 | K12: 178
A13: 8
A14: 9
A15: 10
A16: 11
A17: 12
A18: 13
B19: ÀÝ¹³Ù»ÝÁ | C19: =SUM(C6:C17) -> 4285 | D19: =SUM(D6:D17) -> 4285 | E19: =SUM(E6:E17) -> 0 | F19: =SUM(F6:F17) -> 29 | G19: =SUM(G6:G17) -> 21 | H19: =SUM(H6:H17) -> 1950 | I19: =SUM(I6:I17) -> 1431 | J19: =SUM(J6:J17) -> 1950 | K19: =SUM(K6:K17) -> 854

Sheet Shirak
B1: Ð²ÞìºîìàôÂÚàôÜ
B2: ÐÐ ÞÇñ³ÏÇ Ù³ñ½Ç ³é³çÇÝ ³ïÛ³ÝÇ ¹³ï³ñ³ÝÇ ÏáÕÙÇó í×³ñÙ³Ý Ï³ñ·³¹ñáõÃÛáõÝ ³ñÓ³Ï»Éáõ í³ñáõÛÃÝ»ñÇ ÁÝÃ³óùÇ Ù³ëÇÝ
B3: 2006Ã.
A5: Ð/Ñ | B5: ¸³ï³íáñ | C5: êï³óí»É ¿ í×³ñÙ³Ý Ï³ñ·³¹ñáõÃÛáõÝ ³ñÓ³Ï»Éáõ Ù³ëÇÝ ¹ÇÙáõÙ | D5: ²ñÓ³Ïí»É ¿ í×³ñÙ³Ý Ï³ñ·³¹ñáõÃÛáõÝ | E5: Ø»ñÅí»É ¿ | F5: Ø»ñÅí»É ¿ Ù³ëáí | G5: êï³óí»É ¿ ³é³ñÏáõÃÛáõÝ | H5: êï³ó»É ¿ ûñÇÝ³Ï³Ý áõÅÇ Ù»ç Ùï³Í í×éÇ áõÅ | I5: âÇ Ùï»É ûñÇÝ³Ï³Ý áõÅÇ Ù»ç | J5: îñí»É ¿ Ï³ï³ñáÕ³Ï³Ý Ã»ñÃ
A6: 1 | B6: ØáíëÇëÛ³Ý | C6: 70 | D6: 70 | H6: 53 | I6: 17 | J6: 53
A7: 2 | B7: ØËÇÃ³ñÛ³Ý | C7: 123 | D7: 117 | G7: 2 | H7: 106 | I7: 15 | J7: 106
A8: 3 | B8: Ê³É³ÃÛ³Ý | C8: 119 | D8: 110 | G8: 4 | H8: 65 | I8: 41 | J8: 65
A9: 4 | B9: ê³ñáÛ³Ý | C9: 150 | D9: 150 | G9: 1 | H9: 102 | I9: 47 | J9: 102
A10: 5 | B10: ØÇù³Û»ÉÛ³Ý | C10: 128 | D10: 128 | G10: 6 | H10: 66 | I10: 56 | J10: 66
A11: 6 | B11: Ø³ÉË³ëÛ³Ý | C11: 20 | D11: 9 | H11: 9 | I11: 11 | J11: 9
A12: 7 | B12: Ð³ÏáµÛ³Ý | C12: 60 | D12: 60 | G12: 1 | H12: 33 | I12: 26 | J12: 33
A13: 8 | B13: ØÝ³óÛ³Ý | C13: 134 | D13: 134 | H13: 99 | I13: 35 | J13: 99
A14: 9 | B14: Ð.ÐáíÑ³ÝÝÇëÛ³Ý | C14: 152 | D14: 152 | G14: 6 | H14: 71 | I14: 75 | J14: 71
A15: 10 | B15: ².Ø³ÝáõÏÛ³Ý | C15: 13 | D15: 13 | G15: 0 | H15: 7 | I15: 6 | J15: 7
A16: 11 | B16: Ð.ºÝáùÛ³Ý | C16: 79 | D16: 79 | G16: 8 | H16: 33 | I16: 38 | J16: 33
A17: 12 | B17: Ð.Ø»ÉùáÝÛ³Ý | C17: 78 | D17: 76 | G17: 7 | H17: 34 | I17: 35 | J17: 34
A18: 13
B19: ÀÝ¹³Ù»ÝÁ | C19: =SUM(C6:C17) -> 1126 | D19: =SUM(D6:D17) -> 1098 | E19: =SUM(E6:E17) -> 0 | F19: =SUM(F6:F17) -> 0 | G19: =SUM(G6:G17) -> 35 | H19: =SUM(H6:H17) -> 678 | I19: =SUM(I6:I17) -> 402 | J19: =SUM(J6:J17) -> 678

Sheet VDz
B1: Ð²ÞìºîìàôÂÚàôÜ
B2: ÐÐ ì³Ûáó ÒáñÇ Ù³ñ½Ç ³é³çÇÝ ³ïÛ³ÝÇ ¹³ï³ñ³ÝÇ ÏáÕÙÇó í×³ñÙ³Ý Ï³ñ·³¹ñáõÃÛáõÝ ³ñÓ³Ï»Éáõ í³ñáõÛÃÝ»ñÇ ÁÝÃ³óùÇ Ù³ëÇÝ
B3: 2006Ã.
A5: Ð/Ñ | B5: ¸³ï³íáñ | C5: êï³óí»É ¿ í×³ñÙ³Ý Ï³ñ·³¹ñáõÃÛáõÝ ³ñÓ³Ï»Éáõ Ù³ëÇÝ ¹ÇÙáõÙ | D5: ²ñÓ³Ïí»É ¿ í×³ñÙ³Ý Ï³ñ·³¹ñáõÃÛáõÝ | E5: Ø»ñÅí»É ¿ | F5: Ø»ñÅí»É ¿ Ù³ëáí | G5: êï³óí»É ¿ ³é³ñÏáõÃÛáõÝ | H5: êï³ó»É ¿ ûñÇÝ³Ï³Ý áõÅÇ Ù»ç Ùï³Í í×éÇ áõÅ | I5: âÇ Ùï»É ûñÇÝ³Ï³Ý áõÅÇ Ù»ç | J5: îñí»É ¿ Ï³ï³ñáÕ³Ï³Ý Ã»ñÃ
A6: 1 | B6: äáÕáëÛ³Ý | C6: 448 | D6: 448 | G6: 18 | H6: 247 | I6: 183 | J6: 247
A7: 2 | B7: ¸³ñµÇÝÛ³Ý | C7: 165 | D7: 165 | G7: 8 | H7: 76 | I7: 81 | J7: 76
A8: 3
A9: 4
A10: 5
A11: 6
A12: 7
A13: 8
A14: 9
A15: 10
A16: 11
A17: 12
A18: 13
B19: ÀÝ¹³Ù»ÝÁ | C19: =SUM(C6:C17) -> 613 | D19: =SUM(D6:D17) -> 613 | E19: =SUM(E6:E17) -> 0 | F19: =SUM(F6:F17) -> 0 | G19: =SUM(G6:G17) -> 26 | H19: =SUM(H6:H17) -> 323 | I19: =SUM(I6:I17) -> 264 | J19: =SUM(J6:J17) -> 323

Sheet Lori
B1: Ð²ÞìºîìàôÂÚàôÜ
B2: ÐÐ Èáéáõ Ù³ñ½Ç ³é³çÇÝ ³ïÛ³ÝÇ ¹³ï³ñ³ÝÇ ÏáÕÙÇó í×³ñÙ³Ý Ï³ñ·³¹ñáõÃÛáõÝ ³ñÓ³Ï»Éáõ í³ñáõÛÃÝ»ñÇ ÁÝÃ³óùÇ Ù³ëÇÝ
B3: 2006Ã.
A5: Ð/Ñ | B5: ¸³ï³íáñ | C5: êï³óí»É ¿ í×³ñÙ³Ý Ï³ñ·³¹ñáõÃÛáõÝ ³ñÓ³Ï»Éáõ Ù³ëÇÝ ¹ÇÙáõÙ | D5: ²ñÓ³Ïí»É ¿ í×³ñÙ³Ý Ï³ñ·³¹ñáõÃÛáõÝ | E5: Ø»ñÅí»É ¿ | F5: Ø»ñÅí»É ¿ Ù³ëáí | G5: êï³óí»É ¿ ³é³ñÏáõÃÛáõÝ | H5: êï³ó»É ¿ ûñÇÝ³Ï³Ý áõÅÇ Ù»ç Ùï³Í í×éÇ áõÅ | I5: âÇ Ùï»É ûñÇÝ³Ï³Ý áõÅÇ Ù»ç | J5: îñí»É ¿ Ï³ï³ñáÕ³Ï³Ý Ã»ñÃ
A6: 1 | B6: ÐáíÑ³ÝÝÇëÛ³Ý | C6: 50 | D6: 50 | G6: 8 | H6: 29 | I6: 13
A7: 2 | B7: Þ³ÑáÛ³Ý | C7: 62 | D7: 62 | G7: 1 | H7: 47 | I7: 10 | J7: 6
A8: 3 | B8: ²ëÉ³ÝÛ³Ý | C8: 9 | D8: 9 | H8: 9 | J8: 1
A9: 4 | B9: Ô³½³ñÛ³Ý | C9: 14 | D9: 14 | H9: 14 | J9: 4
A10: 5 | B10: Ð³ñáõÃÛáõÝÛ³Ý | C10: 13 | D10: 13 | H10: 13
A11: 6 | B11: ²É³í»ñ¹Û³Ý | C11: 50 | D11: 42 | E11: 8 | G11: 5 | H11: 18 | I11: 7
A12: 7 | B12: ¶ñÇ·áñÛ³Ý | C12: 89 | D12: 89 | G12: 13 | H12: 58 | J12: 6
A13: 8 | B13: ÐáíÑ³ÝÛ³Ý | C13: 85 | D13: 85 | G13: 3 | H13: 49 | I13: 15 | J13: 2
A14: 9 | B14: ØËÇÃ³ñÛ³Ý | C14: 54 | D14: 53 | E14: 1 | G14: 3 | H14: 40 | I14: 5 | J14: 6
A15: 10 | B15: ´³Õ¹³ë³ñÛ³Ý | C15: 83 | D15: 83 | G15: 5 | H15: 78 | I15: 5 | J15: 8
A16: 11 | B16: Ðáí³ÏÇÙÛ³Ý | C16: 104 | D16: 104 | G16: 5 | H16: 75 | I16: 21 | J16: 8
A17: 12 | B17: ØÏáÛ³Ý | C17: 55 | D17: 54 | E17: 1 | H17: 25 | I17: 8 | J17: 21
A18: 13 | B18: ¶³·ÇÏÛ³Ý | C18: 271 | D18: 270 | E18: 1 | G18: 11 | H18: 141 | I18: 40 | J18: 78
B19: ÀÝ¹³Ù»ÝÁ | C19: =SUM(C6:C18) -> 939 | D19: =SUM(D6:D18) -> 928 | E19: =SUM(E6:E18) -> 11 | F19: =SUM(F6:F18) -> 0 | G19: =SUM(G6:G18) -> 54 | H19: =SUM(H6:H18) -> 596 | I19: =SUM(I6:I18) -> 124 | J19: =SUM(J6:J18) -> 140

Sheet Suniq
B1: Ð²ÞìºîìàôÂÚàôÜ
B2: ÐÐ êÛáõÝÇùÇ Ù³ñ½Ç ³é³çÇÝ ³ïÛ³ÝÇ ¹³ï³ñ³ÝÇ ÏáÕÙÇó í×³ñÙ³Ý Ï³ñ·³¹ñáõÃÛáõÝ ³ñÓ³Ï»Éáõ í³ñáõÛÃÝ»ñÇ ÁÝÃ³óùÇ Ù³ëÇÝ
B3: 2006Ã.
A5: Ð/Ñ | B5: ¸³ï³íáñ | C5: êï³óí»É ¿ í×³ñÙ³Ý Ï³ñ·³¹ñáõÃÛáõÝ ³ñÓ³Ï»Éáõ Ù³ëÇÝ ¹ÇÙáõÙ | D5: ²ñÓ³Ïí»É ¿ í×³ñÙ³Ý Ï³ñ·³¹ñáõÃÛáõÝ | E5: Ø»ñÅí»É ¿ | F5: Ø»ñÅí»É ¿ Ù³ëáí | G5: êï³óí»É ¿ ³é³ñÏáõÃÛáõÝ | H5: êï³ó»É ¿ ûñÇÝ³Ï³Ý áõÅÇ Ù»ç Ùï³Í í×éÇ áõÅ | I5: âÇ Ùï»É ûñÇÝ³Ï³Ý áõÅÇ Ù»ç | J5: îñí»É ¿ Ï³ï³ñáÕ³Ï³Ý Ã»ñÃ
A6: 1 | B6: ê³ñ·ëÛ³Ý | C6: 2 | D6: 2 | H6: 2 | J6: 1
A7: 2 | B7: ´»·É³ñÛ³Ý | C7: 98 | D7: 83 | G7: 1 | H7: 55 | I7: 27 | J7: 28
A8: 3 | B8: ¸³íÃÛ³Ý | C8: 6 | D8: 6 | H8: 5 | I8: 1 | J8: 2
A9: 4 | B9: ÂáõÙ³ÝÛ³Ý | C9: 14 | D9: 14 | H9: 5 | I9: 9 | J9: 2
A10: 5 | B10: ÐáíÑ³ÝÝÇëÛ³Ý | C10: 9 | D10: 9 | G10: 1 | H10: 7 | I10: 1 | J10: 3
A11: 6 | B11: Ø³Ý³ë³ñÛ³Ý | C11: 118 | D11: 89 | H11: 61 | I11: 28 | J11: 24
A12: 7
A13: 8
A14: 9
A15: 10
A16: 11
A17: 12
A18: 13
B19: ÀÝ¹³Ù»ÝÁ | C19: =SUM(C6:C17) -> 247 | D19: =SUM(D6:D17) -> 203 | E19: =SUM(E6:E17) -> 0 | F19: =SUM(F6:F17) -> 0 | G19: =SUM(G6:G17) -> 2 | H19: =SUM(H6:H17) -> 135 | I19: =SUM(I6:I17) -> 66 | J19: =SUM(J6:J17) -> 60

Sheet Gex
B1: Ð²ÞìºîìàôÂÚàôÜ
B2: ÐÐ ¶»Õ³ñùáõÝÇùÇ Ù³ñ½Ç ³é³çÇÝ ³ïÛ³ÝÇ ¹³ï³ñ³ÝÇ ÏáÕÙÇó í×³ñÙ³Ý Ï³ñ·³¹ñáõÃÛáõÝ ³ñÓ³Ï»Éáõ í³ñáõÛÃÝ»ñÇ ÁÝÃ³óùÇ Ù³ëÇÝ
B3: 2006Ã.
A5: Ð/Ñ | B5: ¸³ï³íáñ | C5: êï³óí»É ¿ í×³ñÙ³Ý Ï³ñ·³¹ñáõÃÛáõÝ ³ñÓ³Ï»Éáõ Ù³ëÇÝ ¹ÇÙáõÙ | D5: ²ñÓ³Ïí»É ¿ í×³ñÙ³Ý Ï³ñ·³¹ñáõÃÛáõÝ | E5: Ø»ñÅí»É ¿ | F5: Ø»ñÅí»É ¿ Ù³ëáí | G5: êï³óí»É ¿ ³é³ñÏáõÃÛáõÝ | H5: êï³ó»É ¿ ûñÇÝ³Ï³Ý áõÅÇ Ù»ç Ùï³Í í×éÇ áõÅ | I5: âÇ Ùï»É ûñÇÝ³Ï³Ý áõÅÇ Ù»ç | J5: îñí»É ¿ Ï³ï³ñáÕ³Ï³Ý Ã»ñÃ
A6: 1 | B6: âÇãáÛ³Ý | C6: 60 | D6: 58 | E6: 1 | G6: 2 | H6: 20 | I6: 37 | J6: 12
A7: 2 | B7: ²ë³ïñÛ³Ý | C7: 105 | D7: 96 | E7: 9 | G7: 25 | H7: 47 | I7: 24 | J7: 3
A8: 3 | B8: Ø»ñ³Ý·áõÉÛ³Ý | C8: 127 | D8: 121 | E8: 6 | G8: 13 | H8: 58 | I8: 50 | J8: 7
A9: 4 | B9: Ø»ÉÇùÛ³Ý | C9: 211 | D9: 210 | E9: 1 | H9: 32 | I9: 178 | J9: 3
A10: 5 | B10: ÆëÏáÛ³Ý | C10: 12 | D10: 12 | G10: 3 | H10: 7 | I10: 2 | J10: 2
A11: 6 | B11: ä»ïñáëÛ³Ý | C11: 16 | D11: 16 | H11: 16 | I11: 0 | J11: 13
A12: 7 | B12: Â³Ùñ³½Û³Ý | C12: 74 | D12: 73 | E12: 1 | G12: 6 | H12: 49 | I12: 18 | J12: 22
A13: 8 | B13: Ø³ÏÛ³Ý
A14: 9
A15: 10
A16: 11
A17: 12
A18: 13
B19: ÀÝ¹³Ù»ÝÁ | C19: =SUM(C6:C18) -> 605 | D19: =SUM(D6:D18) -> 586 | E19: =SUM(E6:E18) -> 18 | F19: =SUM(F6:F18) -> 0 | G19: =SUM(G6:G18) -> 49 | H19: =SUM(H6:H18) -> 229 | I19: =SUM(I6:I18) -> 309 | J19: =SUM(J6:J18) -> 62

Sheet Kotaik
B1: Ð²ÞìºîìàôÂÚàôÜ
B2: ÐÐ Îáï³ÛùÇ Ù³ñ½Ç ³é³çÇÝ ³ïÛ³ÝÇ ¹³ï³ñ³ÝÇ ÏáÕÙÇó í×³ñÙ³Ý Ï³ñ·³¹ñáõÃÛáõÝ ³ñÓ³Ï»Éáõ í³ñáõÛÃÝ»ñÇ ÁÝÃ³óùÇ Ù³ëÇÝ
B3: 2006Ã.
A5: Ð/Ñ | B5: ¸³ï³íáñ | C5: êï³óí»É ¿ í×³ñÙ³Ý Ï³ñ·³¹ñáõÃÛáõÝ ³ñÓ³Ï»Éáõ Ù³ëÇÝ ¹ÇÙáõÙ | D5: ²ñÓ³Ïí»É ¿ í×³ñÙ³Ý Ï³ñ·³¹ñáõÃÛáõÝ | E5: Ø»ñÅí»É ¿ | F5: Ø»ñÅí»É ¿ Ù³ëáí | G5: êï³óí»É ¿ ³é³ñÏáõÃÛáõÝ | H5: êï³ó»É ¿ ûñÇÝ³Ï³Ý áõÅÇ Ù»ç Ùï³Í í×éÇ áõÅ | I5: âÇ Ùï»É ûñÇÝ³Ï³Ý áõÅÇ Ù»ç | J5: îñí»É ¿ Ï³ï³ñáÕ³Ï³Ý Ã»ñÃ
A6: 1 | B6: ²½³ñÛ³Ý | C6: 342 | D6: 200 | E6: 142 | G6: 62 | H6: 109 | I6: 29 | J6: 20
A7: 2 | B7: ÂáñáëÛ³Ý | C7: 145 | D7: 145 | G7: 17 | H7: 103 | I7: 25 | J7: 35
A8: 3 | B8: äáÕáëÛ³Ý | C8: 205 | D8: 202 | E8: 3 | G8: 20 | H8: 130 | I8: 52 | J8: 67
A9: 4 | B9: ê³ñ·ëÛ³Ý | C9: 411 | D9: 394 | E9: 17 | G9: 17 | H9: 319 | I9: 58 | J9: 132
A10: 5 | B10: Ð»µáÛ³Ý | C10: 472 | D10: 472 | G10: 12 | H10: 417 | I10: 43 | J10: 269
A11: 6 | B11: ¶³ÉëïÛ³Ý | C11: 554 | D11: 528 | E11: 26 | G11: 26 | H11: 427 | I11: 75 | J11: 226
A12: 7 | B12: êÇë³ÏÛ³Ý | C12: 96 | D12: 42 | E12: 54 | G12: 4 | H12: 29 | I12: 9 | J12: 17
A13: 8 | B13: ´³Õ¹³ë³ñÛ³Ý | C13: 1061 | D13: 861 | E13: 200 | G13: 24 | H13: 774 | I13: 63 | J13: 774
A14: 9
A15: 10
A16: 11
A17: 12
A18: 13
B19: ÀÝ¹³Ù»ÝÁ | C19: =SUM(C6:C18) -> 3286 | D19: =SUM(D6:D18) -> 2844 | E19: =SUM(E6:E18) -> 442 | F19: =SUM(F6:F18) -> 0 | G19: =SUM(G6:G18) -> 182 | H19: =SUM(H6:H18) -> 2308 | I19: =SUM(I6:I18) -> 354 | J19: =SUM(J6:J18) -> 1540

Sheet Aragacotn
B1: Ð²ÞìºîìàôÂÚàôÜ
B2: ÐÐ ²ñ³·³ÍáïÝÇ Ù³ñ½Ç ³é³çÇÝ ³ïÛ³ÝÇ ¹³ï³ñ³ÝÇ ÏáÕÙÇó í×³ñÙ³Ý Ï³ñ·³¹ñáõÃÛáõÝ ³ñÓ³Ï»Éáõ í³ñáõÛÃÝ»ñÇ ÁÝÃ³óùÇ Ù³ëÇÝ
B3: 2006Ã.
A5: Ð/Ñ | B5: ¸³ï³íáñ | C5: êï³óí»É ¿ í×³ñÙ³Ý Ï³ñ·³¹ñáõÃÛáõÝ ³ñÓ³Ï»Éáõ Ù³ëÇÝ ¹ÇÙáõÙ | D5: ²ñÓ³Ïí»É ¿ í×³ñÙ³Ý Ï³ñ·³¹ñáõÃÛáõÝ | E5: Ø»ñÅí»É ¿ | F5: Ø»ñÅí»É ¿ Ù³ëáí | G5: êï³óí»É ¿ ³é³ñÏáõÃÛáõÝ | H5: êï³ó»É ¿ ûñÇÝ³Ï³Ý áõÅÇ Ù»ç Ùï³Í í×éÇ áõÅ | I5: âÇ Ùï»É ûñÇÝ³Ï³Ý áõÅÇ Ù»ç | J5: îñí»É ¿ Ï³ï³ñáÕ³Ï³Ý Ã»ñÃ
A6: 1 | B6: ê.ØÝáÛ³Ý | C6: 142 | D6: 141 | E6: 1 | G6: 12 | H6: 73 | I6: 56 | J6: 61
A7: 2 | B7: ¶.Ê³ã³ïñÛ³Ý | C7: 142 | D7: 141 | E7: 1 | G7: 13 | H7: 60 | I7: 68 | J7: 45
A8: 3 | B8: Ð.Ê³ã³ïñÛ³Ý | C8: 68 | D8: 68 | G8: 15 | H8: 36 | I8: 17 | J8: 7
A9: 4 | B9: è.´³ñë»ÕÛ³Ý | C9: 32 | D9: 31 | E9: 1 | G9: 1 | H9: 26 | I9: 4 | J9: 22
A10: 5 | B10: Ø.Ø³ñ·³ñÛ³Ý | C10: 117 | D10: 117 | G10: 19 | H10: 81 | I10: 17 | J10: 29
A11: 6
A12: 7
A13: 8
A14: 9
A15: 10
A16: 11
A17: 12
A18: 13
B19: ÀÝ¹³Ù»ÝÁ | C19: =SUM(C6:C17) -> 501 | D19: =SUM(D6:D17) -> 498 | E19: =SUM(E6:E17) -> 3 | F19: =SUM(F6:F17) -> 0 | G19: =SUM(G6:G17) -> 60 | H19: =SUM(H6:H17) -> 276 | I19: =SUM(I6:I17) -> 162 | J19: =SUM(J6:J17) -> 164

Sheet Tavush
B1: Ð²ÞìºîìàôÂÚàôÜ
B2: ÐÐ î³íáõßÇ Ù³ñ½Ç ³é³çÇÝ ³ïÛ³ÝÇ ¹³ï³ñ³ÝÇ ÏáÕÙÇó í×³ñÙ³Ý Ï³ñ·³¹ñáõÃÛáõÝ ³ñÓ³Ï»Éáõ í³ñáõÛÃÝ»ñÇ ÁÝÃ³óùÇ Ù³ëÇÝ
B3: 2006Ã.
A5: Ð/Ñ | B5: ¸³ï³íáñ | C5: êï³óí»É ¿ í×³ñÙ³Ý Ï³ñ·³¹ñáõÃÛáõÝ ³ñÓ³Ï»Éáõ Ù³ëÇÝ ¹ÇÙáõÙ | D5: ²ñÓ³Ïí»É ¿ í×³ñÙ³Ý Ï³ñ·³¹ñáõÃÛáõÝ | E5: Ø»ñÅí»É ¿ | F5: Ø»ñÅí»É ¿ Ù³ëáí | G5: êï³óí»É ¿ ³é³ñÏáõÃÛáõÝ | H5: êï³ó»É ¿ ûñÇÝ³Ï³Ý áõÅÇ Ù»ç Ùï³Í í×éÇ áõÅ | I5: âÇ Ùï»É ûñÇÝ³Ï³Ý áõÅÇ Ù»ç | J5: îñí»É ¿ Ï³ï³ñáÕ³Ï³Ý Ã»ñÃ
A6: 1 | B6: Ø³ñ¹³ÝÛ³Ý | C6: 79 | D6: 79 | H6: 79
A7: 2 | B7: Ø»ÉùáÝÛ³Ý | C7: 33 | D7: 33
A8: 3 | B8: ¼³ùÇÝÛ³Ý | C8: 109 | D8: 109 | E8: 2 | G8: 46 | H8: 50 | I8: 11 | J8: 44
A9: 4 | B9: Ê³ãÇÏÛ³Ý | C9: 58 | D9: 58 | G9: 10 | H9: 47 | I9: 1 | J9: 14
A10: 5 | B10: Ê³ã³ïñÛ³Ý | C10: 1 | D10: 1 | E10: 1
A11: 6
A12: 7
A13: 8
A14: 9
A15: 10
A16: 11
A17: 12
A18: 13
B19: ÀÝ¹³Ù»ÝÁ | C19: =SUM(C6:C18) -> 280 | D19: =SUM(D6:D18) -> 280 | E19: =SUM(E6:E18) -> 3 | F19: =SUM(F6:F18) -> 0 | G19: =SUM(G6:G18) -> 56 | H19: =SUM(H6:H18) -> 176 | I19: =SUM(I6:I18) -> 12 | J19: =SUM(J6:J18) -> 58

Sheet Ararat
B1: Ð²ÞìºîìàôÂÚàôÜ
B2: ÐÐ ²ñ³ñ³ïÇ Ù³ñ½Ç ³é³çÇÝ ³ïÛ³ÝÇ ¹³ï³ñ³ÝÇ ÏáÕÙÇó í×³ñÙ³Ý Ï³ñ·³¹ñáõÃÛáõÝ ³ñÓ³Ï»Éáõ í³ñáõÛÃÝ»ñÇ ÁÝÃ³óùÇ Ù³ëÇÝ
B3: 2006Ã.
A5: Ð/Ñ | B5: ¸³ï³íáñ | C5: êï³óí»É ¿ í×³ñÙ³Ý Ï³ñ·³¹ñáõÃÛáõÝ ³ñÓ³Ï»Éáõ Ù³ëÇÝ ¹ÇÙáõÙ | D5: ²ñÓ³Ïí»É ¿ í×³ñÙ³Ý Ï³ñ·³¹ñáõÃÛáõÝ | E5: Ø»ñÅí»É ¿ | F5: Ø»ñÅí»É ¿ Ù³ëáí | G5: êï³óí»É ¿ ³é³ñÏáõÃÛáõÝ | H5: êï³ó»É ¿ ûñÇÝ³Ï³Ý áõÅÇ Ù»ç Ùï³Í í×éÇ áõÅ | I5: âÇ Ùï»É ûñÇÝ³Ï³Ý áõÅÇ Ù»ç | J5: îñí»É ¿ Ï³ï³ñáÕ³Ï³Ý Ã»ñÃ
A6: 1 | B6: ê³ñ·ëÛ³Ý | C6: 226 | D6: 226 | E6: 1 | G6: 4 | H6: 166 | I6: 59 | J6: 21
A7: 2 | B7: ²ñ³½Û³Ý | C7: 227 | D7: 227 | G7: 4 | H7: 162 | I7: 65 | J7: 45
A8: 3 | B8: Ê.ÐáíÑ³ÝÝÇëÛ³Ý | C8: 189 | D8: 189 | G8: 1 | H8: 144 | I8: 44 | J8: 16
A9: 4 | B9: äáÕáëÛ³Ý | C9: 264 | D9: 264 | E9: 2 | G9: 1 | H9: 226 | I9: 36 | J9: 71
A10: 5 | B10: øáã³ñÛ³Ý | C10: 325 | D10: 325 | H10: 300 | I10: 25 | J10: 63
A11: 6 | B11: è.ÐáíÑ³ÝÝÇëÛ³Ý | C11: 2 | D11: 2 | H11: 2
A12: 7 | B12: ¶.´³ÉÛ³Ý | C12: 561 | D12: 561 | G12: 25 | H12: 536 | I12: 25 | J12: 95
A13: 8 | B13: Ê³ã³ïñÛ³Ý | C13: 75 | D13: 75 | G13: 1 | H13: 74 | I13: 1
A14: 9
A15: 10
A16: 11
A17: 12
A18: 13
B19: ÀÝ¹³Ù»ÝÁ | C19: =SUM(C6:C17) -> 1869 | D19: =SUM(D6:D17) -> 1869 | E19: =SUM(E6:E17) -> 3 | F19: =SUM(F6:F17) -> 0 | G19: =SUM(G6:G17) -> 36 | H19: =SUM(H6:H17) -> 1610 | I19: =SUM(I6:I17) -> 255 | J19: =SUM(J6:J17) -> 311

Sheet Armavir
B1: Ð²ÞìºîìàôÂÚàôÜ
B2: ÐÐ ²ñÙ³íÇñÇ Ù³ñ½Ç ³é³çÇÝ ³ïÛ³ÝÇ ¹³ï³ñ³ÝÇ ÏáÕÙÇó í×³ñÙ³Ý Ï³ñ·³¹ñáõÃÛáõÝ ³ñÓ³Ï»Éáõ í³ñáõÛÃÝ»ñÇ ÁÝÃ³óùÇ Ù³ëÇÝ
B3: 2006Ã.
A5: Ð/Ñ | B5: ¸³ï³íáñ | C5: êï³óí»É ¿ í×³ñÙ³Ý Ï³ñ·³¹ñáõÃÛáõÝ ³ñÓ³Ï»Éáõ Ù³ëÇÝ ¹ÇÙáõÙ | D5: ²ñÓ³Ïí»É ¿ í×³ñÙ³Ý Ï³ñ·³¹ñáõÃÛáõÝ | E5: Ø»ñÅí»É ¿ | F5: Ø»ñÅí»É ¿ Ù³ëáí | G5: êï³óí»É ¿ ³é³ñÏáõÃÛáõÝ | H5: êï³ó»É ¿ ûñÇÝ³Ï³Ý áõÅÇ Ù»ç Ùï³Í í×éÇ áõÅ | I5: âÇ Ùï»É ûñÇÝ³Ï³Ý áõÅÇ Ù»ç | J5: îñí»É ¿ Ï³ï³ñáÕ³Ï³Ý Ã»ñÃ
A6: 1 | B6: Ø. êÇÙáÝÛ³Ý | C6: 311 | D6: 311 | G6: 5 | H6: 202 | I6: 109 | J6: 111
A7: 2 | B7: ². ²¹³ÙÛ³Ý | C7: 348 | D7: 347 | E7: 1 | H7: 255 | I7: 92 | J7: 129
A8: 3 | B8: ². Ðáíë»÷Û³Ý | C8: 256 | D8: 256 | G8: 4 | H8: 198 | I8: 58 | J8: 105
A9: 4 | B9: î. ä»ïñáëÛ³Ý | C9: 402 | D9: 401 | F9: 1 | G9: 14 | H9: 322 | I9: 79 | J9: 149
A10: 5 | B10: ¶. Ø³½Ù³ÝÛ³Ý | C10: 396 | D10: 395 | G10: 1 | H10: 315 | I10: 80 | J10: 153
A11: 6 | B11: Ü. ¶ñÇ·áñÛ³Ý | C11: 198 | D11: 198 | F11: 2 | G11: 20 | H11: 137 | I11: 61 | J11: 59
A12: 7
A13: 8
A14: 9
A15: 10
A16: 11
A17: 12
A18: 13
B19: ÀÝ¹³Ù»ÝÁ | C19: =SUM(C6:C17) -> 1911 | D19: =SUM(D6:D17) -> 1908 | E19: =SUM(E6:E17) -> 1 | F19: =SUM(F6:F17) -> 3 | G19: =SUM(G6:G17) -> 44 | H19: =SUM(H6:H17) -> 1429 | I19: =SUM(I6:I17) -> 479 | J19: =SUM(J6:J17) -> 706
