Workbook

Sheet Ընդհամենը
A1: Ð²ÞìºîìàôÂÚàôÜ
A2: êÚàôÜÆøÆ Ø²ð¼Æ ÀÜ¸Ð²Üàôð Æð²ì²êàôÂÚ²Ü ²è²æÆÜ ²îÚ²ÜÆ ¸²î²ð²ÜÆ
H3: ¶àðÌàôÜºàôÂÚ²Ü ìºð²´ºðÚ²È êÜ²ÜÎàôÂÚ²Ü ¶àðÌºðՈՎ | U3: 2016Ã.
A4: ìÇ×³Ï³·ñ³Ï³Ý ïáÕÇ Ñ³Ù³ñÁ | B4: êïáõ·Çã Ñ³í³ë³ñáõÙÝ»ñ` 1+7=8+16+17, 2=3+4, 2=5+6+7, 7=9+10+11+12 | E4: ²Ý³í³ñï ·áñÍ»ñÇ ÙÝ³óáñ¹Á Ñ³ßí»ïáõ Å³Ù³Ý³Ï³ßñç³ÝÇ ëÏ½µáõÙ | F4: êï³óí³Í ¹ÇÙáõÙÝ»ñÇ (·áñÍ»ñ) ù³Ý³ÏÁ | L4: öáË³Ýóí»É ¿ ³ÛÉ ¹³ï³íáñÇ (Ï³½ÙÇ ÷á÷áËáõÃÛáõÝ) | M4: ì³ñáõÛÃ ÁÝ¹áõÝí³Í ¹ÇÙáõÙÝ»ñáí Ï³Û³óí³Í ¹³ï³Ï³Ý ³Ïï»ñ | Q4: Ü»ñÏ³Û³óí»É ¿ ýÇÝ³Ýë³Ï³Ý ³éáÕç³óÙ³Ý Íñ³·Çñ | T4: ²í³ñïí»É »Ý ·áñÍ»ñ Ñ³ßí»ïáõ Å³Ù³Ý³Ï³ßñç³ÝáõÙ | U4: ²Ý³í³ñï ·áñÍ»ñÇ ÙÝ³óáñ¹Á Ñ³ßí»ïáõ Å³Ù³Ý³Ï³ßñç³ÝÇ í»ñçáõÙ | V4: ´áÕáù³ñÏí»É »Ý í»ñ³ùÝÝÇã ¹³ï³ñ³Ý
F6: ÀÝ¹³Ù»ÝÁ | G6: ³Û¹ ÃíáõÙ Ñ³ñÏ³¹ñí³Í ëÝ³ÝÏáõÃÛáõÝ | H6: ³Û¹ ÃíáõÙ Ï³Ù³íáñ ëÝ³ÝÏáõÃÛáõÝ | I6: ëï³óí³Í ¹ÇÙáõÙÝ»ñÇ ÁÝÃ³óùÁ | M6: Ï³Û³óí»É ¿ å³ñï³å³ÝÇÝ ëÝ³ÝÏ ×³Ý³ã»Éáõ Ù³ëÇÝ í×Çé | N6: å³ñï³å³ÝÇÝ ëÝ³ÝÏ ×³Ý³ã»Éáõ ¹ÇÙáõÙÁ Ù»ñÅí»É ¿ | O6: ¹ÇÙáõÙÁ ÃáÕÝí»É ¿ ³é³Ýó ùÝÝáõÃÛ³Ý | P6: ³Ý³í³ñï (³Û¹ ÃíáõÙ Ï³ë»óí³Í) | Q6: ÀÝ¹³Ù»ÝÁ | R6: ÃáÕÝí»É ¿ ³é³Ýó ùÝÝ³ñÏÙ³Ý | S6: Ñ³ëï³ïí»É ¿
I8: ¸ÇÙáõÙÇ ÁÝ¹áõÝáõÙÁ Ù»ñÅí»É ¿ | J8: ¸ÇÙáõÙÁ í»ñ³¹³ñÓí»É ¿ | K8: ÀÝ¹áõÝí»É ¿ í³ñáõÛÃ
E18: 1 | F18: 2 | G18: 3 | H18: 4 | I18: 5 | J18: 6 | K18: 7 | L18: 8 | M18: 9 | N18: 10 | O18: 11 | P18: 12 | Q18: 13 | R18: 14 | S18: 15 | T18: 16 | U18: 17 | V18: 18 | W18: 1+7=8+16+17 | Y18: 2=3+4 | AA18: 2=5+6+7 | AC18: 7=9+10+11+12
A19: 1 | B19: Æñ³í³µ³Ý³Ï³Ý ³ÝÓÇ ëÝ³ÝÏáõÃÛ³Ý í»ñ³µ»ñÛ³É | E19: =Ս.Գրիգորյան!E19+Ժ.Ասատրյան!E19+Մ.Հովակիմյան!E19 -> 89 | F19: =Ս.Գրիգորյան!F19+Ժ.Ասատրյան!F19+Մ.Հովակիմյան!F19 -> 36 | G19: =Ս.Գրիգորյան!G19+Ժ.Ասատրյան!G19+Մ.Հովակիմյան!G19 -> 30 | H19: =Ս.Գրիգորյան!H19+Ժ.Ասատրյան!H19+Մ.Հովակիմյան!H19 -> 6 | I19: =Ս.Գրիգորյան!I19+Ժ.Ասատրյան!I19+Մ.Հովակիմյան!I19 -> 1 | J19: =Ս.Գրիգորյան!J19+Ժ.Ասատրյան!J19+Մ.Հովակիմյան!J19 -> 9 | K19: =Ս.Գրիգորյան!K19+Ժ.Ասատրյան!K19+Մ.Հովակիմյան!K19 -> 26 | L19: =Ս.Գրիգորյան!L19+Ժ.Ասատրյան!L19+Մ.Հովակիմյան!L19 -> 0 | ... V19: =Ս.Գրիգորյան!V19+Ժ.Ասատրյան!V19+Մ.Հովակիմյան!V19 -> 1 | W19: =E19+K19 -> 115 | X19: =L19+T19+U19 -> 115 | Y19: =F19 -> 36 | Z19: =G19+H19 -> 36 | AA19: =F19 -> 36 | AB19: =I19+J19+K19 -> 36 | AC19: =K19 -> 26 | AD19: =M19+N19+O19+P19 -> 26
A20: 2 | B20: ²ÝÑ³ï Ó»éÝ»ñ»óÇ ëÝ³ÝÏáõÃÛ³Ý í»ñ³µ»ñÛ³É | E20: =Ս.Գրիգորյան!E20+Ժ.Ասատրյան!E20+Մ.Հովակիմյան!E20 -> 43 | F20: =Ս.Գրիգորյան!F20+Ժ.Ասատրյան!F20+Մ.Հովակիմյան!F20 -> 4 | G20: =Ս.Գրիգորյան!G20+Ժ.Ասատրյան!G20+Մ.Հովակիմյան!G20 -> 4 | H20: =Ս.Գրիգորյան!H20+Ժ.Ասատրյան!H20+Մ.Հովակիմյան!H20 -> 0 | I20: =Ս.Գրիգորյան!I20+Ժ.Ասատրյան!I20+Մ.Հովակիմյան!I20 -> 0 | J20: =Ս.Գրիգորյան!J20+Ժ.Ասատրյան!J20+Մ.Հովակիմյան!J20 -> 1 | K20: =Ս.Գրիգորյան!K20+Ժ.Ասատրյան!K20+Մ.Հովակիմյան!K20 -> 3 | L20: =Ս.Գրիգորյան!L20+Ժ.Ասատրյան!L20+Մ.Հովակիմյան!L20 -> 0 | ... V20: =Ս.Գրիգորյան!V20+Ժ.Ասատրյան!V20+Մ.Հովակիմյան!V20 -> 0 | W20: =E20+K20 -> 46 | X20: =L20+T20+U20 -> 46 | Y20: =F20 -> 4 | Z20: =G20+H20 -> 4 | AA20: =F20 -> 4 | AB20: =I20+J20+K20 -> 4 | AC20: =K20 -> 3 | AD20: =M20+N20+O20+P20 -> 3
A21: 3 | B21: üÇ½ÇÏ³Ï³Ý ³ÝÓ³Ýó ëÝ³ÝÏáõÃÛ³Ý í»ñ³µ»ñÛ³É | E21: =Ս.Գրիգորյան!E21+Ժ.Ասատրյան!E21+Մ.Հովակիմյան!E21 -> 146 | F21: =Ս.Գրիգորյան!F21+Ժ.Ասատրյան!F21+Մ.Հովակիմյան!F21 -> 42 | G21: =Ս.Գրիգորյան!G21+Ժ.Ասատրյան!G21+Մ.Հովակիմյան!G21 -> 13 | H21: =Ս.Գրիգորյան!H21+Ժ.Ասատրյան!H21+Մ.Հովակիմյան!H21 -> 29 | I21: =Ս.Գրիգորյան!I21+Ժ.Ասատրյան!I21+Մ.Հովակիմյան!I21 -> 2 | J21: =Ս.Գրիգորյան!J21+Ժ.Ասատրյան!J21+Մ.Հովակիմյան!J21 -> 9 | K21: =Ս.Գրիգորյան!K21+Ժ.Ասատրյան!K21+Մ.Հովակիմյան!K21 -> 31 | L21: =Ս.Գրիգորյան!L21+Ժ.Ասատրյան!L21+Մ.Հովակիմյան!L21 -> 0 | ... V21: =Ս.Գրիգորյան!V21+Ժ.Ասատրյան!V21+Մ.Հովակիմյան!V21 -> 1 | W21: =E21+K21 -> 177 | X21: =L21+T21+U21 -> 177 | Y21: =F21 -> 42 | Z21: =G21+H21 -> 42 | AA21: =F21 -> 42 | AB21: =I21+J21+K21 -> 42 | AC21: =K21 -> 31 | AD21: =M21+N21+O21+P21 -> 31
A22: 4 | B22: ԸՆԴՀԱՄԵՆԸ | E22: =Ս.Գրիգորյան!E22+Ժ.Ասատրյան!E22+Մ.Հովակիմյան!E22 -> 278 | F22: =Ս.Գրիգորյան!F22+Ժ.Ասատրյան!F22+Մ.Հովակիմյան!F22 -> 82 | G22: =Ս.Գրիգորյան!G22+Ժ.Ասատրյան!G22+Մ.Հովակիմյան!G22 -> 47 | H22: =Ս.Գրիգորյան!H22+Ժ.Ասատրյան!H22+Մ.Հովակիմյան!H22 -> 35 | I22: =Ս.Գրիգորյան!I22+Ժ.Ասատրյան!I22+Մ.Հովակիմյան!I22 -> 3 | J22: =Ս.Գրիգորյան!J22+Ժ.Ասատրյան!J22+Մ.Հովակիմյան!J22 -> 19 | K22: =Ս.Գրիգորյան!K22+Ժ.Ասատրյան!K22+Մ.Հովակիմյան!K22 -> 60 | L22: =Ս.Գրիգորյան!L22+Ժ.Ասատրյան!L22+Մ.Հովակիմյան!L22 -> 0 | ... V22: =Ս.Գրիգորյան!V22+Ժ.Ասատրյան!V22+Մ.Հովակիմյան!V22 -> 2 | W22: =E22+K22 -> 338 | X22: =L22+T22+U22 -> 337 | Y22: =F22 -> 82 | Z22: =G22+H22 -> 82 | AA22: =F22 -> 82 | AB22: =I22+J22+K22 -> 82 | AC22: =K22 -> 60 | AD22: =M22+N22+O22+P22 -> 60

Sheet Ս.Գրիգորյան
A1: Ð²ÞìºîìàôÂÚàôÜ
A2: êÚàôÜÆøÆ Ø²ð¼Æ ÀÜ¸Ð²Üàôð Æð²ì²êàôÂÚ²Ü ²è²æÆÜ ²îÚ²ÜÆ ¸²î²ð²ÜÆ ¸²î²ìàð
A3: ê.¶ðÆ¶àðÚ²ÜÆ | H3: ¶àðÌàôÜºàôÂÚ²Ü ìºð²´ºðÚ²È êÜ²ÜÎàôÂÚ²Ü ¶àðÌºðՈՎ | U3: 2016Ã.
B4: êïáõ·Çã Ñ³í³ë³ñáõÙÝ»ñ` 1+7=8+16+17, 2=3+4, 2=5+6+7, 7=9+10+11+12 | E4: ²Ý³í³ñï ·áñÍ»ñÇ ÙÝ³óáñ¹Á Ñ³ßí»ïáõ Å³Ù³Ý³Ï³ßñç³ÝÇ ëÏ½µáõÙ | F4: êï³óí³Í ¹ÇÙáõÙÝ»ñÇ (·áñÍ»ñ) ù³Ý³ÏÁ | L4: öáË³Ýóí»É ¿ ³ÛÉ ¹³ï³íáñÇ (Ï³½ÙÇ ÷á÷áËáõÃÛáõÝ) | M4: ì³ñáõÛÃ ÁÝ¹áõÝí³Í ¹ÇÙáõÙÝ»ñáí Ï³Û³óí³Í ¹³ï³Ï³Ý ³Ïï»ñ | Q4: Ü»ñÏ³Û³óí»É ¿ ýÇÝ³Ýë³Ï³Ý ³éáÕç³óÙ³Ý Íñ³·Çñ | T4: ²í³ñïí»É »Ý ·áñÍ»ñ Ñ³ßí»ïáõ Å³Ù³Ý³Ï³ßñç³ÝáõÙ | U4: ²Ý³í³ñï ·áñÍ»ñÇ ÙÝ³óáñ¹Á Ñ³ßí»ïáõ Å³Ù³Ý³Ï³ßñç³ÝÇ í»ñçáõÙ | V4: ´áÕáù³ñÏí»É »Ý í»ñ³ùÝÝÇã ¹³ï³ñ³Ý
F6: ÀÝ¹³Ù»ÝÁ | G6: ³Û¹ ÃíáõÙ Ñ³ñÏ³¹ñí³Í ëÝ³ÝÏáõÃÛáõÝ | H6: ³Û¹ ÃíáõÙ Ï³Ù³íáñ ëÝ³ÝÏáõÃÛáõÝ | I6: ëï³óí³Í ¹ÇÙáõÙÝ»ñÇ ÁÝÃ³óùÁ | M6: Ï³Û³óí»É ¿ å³ñï³å³ÝÇÝ ëÝ³ÝÏ ×³Ý³ã»Éáõ Ù³ëÇÝ í×Çé | N6: å³ñï³å³ÝÇÝ ëÝ³ÝÏ ×³Ý³ã»Éáõ ¹ÇÙáõÙÁ Ù»ñÅí»É ¿ | O6: ¹ÇÙáõÙÁ ÃáÕÝí»É ¿ ³é³Ýó ùÝÝáõÃÛ³Ý | P6: ³Ý³í³ñï (³Û¹ ÃíáõÙ Ï³ë»óí³Í) | Q6: ÀÝ¹³Ù»ÝÁ | R6: ÃáÕÝí»É ¿ ³é³Ýó ùÝÝ³ñÏÙ³Ý | S6: Ñ³ëï³ïí»É ¿
I8: ¸ÇÙáõÙÇ ÁÝ¹áõÝáõÙÁ Ù»ñÅí»É ¿ | J8: ¸ÇÙáõÙÁ í»ñ³¹³ñÓí»É ¿ | K8: ÀÝ¹áõÝí»É ¿ í³ñáõÛÃ
E18: 1 | F18: 2 | G18: 3 | H18: 4 | I18: 5 | J18: 6 | K18: 7 | L18: 8 | M18: 9 | N18: 10 | O18: 11 | P18: 12 | Q18: 13 | R18: 14 | S18: 15 | T18: 16 | U18: 17 | V18: 18 | W18: 1+7=8+16+17 | Y18: 2=3+4 | AA18: 2=5+6+7 | AC18: 7=9+10+11+12
A19: 1 | B19: Æñ³í³µ³Ý³Ï³Ý ³ÝÓÇ ëÝ³ÝÏáõÃÛ³Ý í»ñ³µ»ñÛ³É | E19: 24 | U19: 24 | W19: =E19+K19 -> 24 | X19: =L19+T19+U19 -> 24 | Y19: =F19 -> 0 | Z19: =G19+H19 -> 0 | AA19: =F19 -> 0 | AB19: =I19+J19+K19 -> 0 | AC19: =K19 -> 0 | AD19: =M19+N19+O19+P19 -> 0
A20: 2 | B20: ²ÝÑ³ï Ó»éÝ»ñ»óÇ ëÝ³ÝÏáõÃÛ³Ý í»ñ³µ»ñÛ³É | E20: 27 | U20: 27 | W20: =E20+K20 -> 27 | X20: =L20+T20+U20 -> 27 | Y20: =F20 -> 0 | Z20: =G20+H20 -> 0 | AA20: =F20 -> 0 | AB20: =I20+J20+K20 -> 0 | AC20: =K20 -> 0 | AD20: =M20+N20+O20+P20 -> 0
A21: 3 | B21: üÇ½ÇÏ³Ï³Ý ³ÝÓ³Ýó ëÝ³ÝÏáõÃÛ³Ý í»ñ³µ»ñÛ³É | E21: 32 | U21: 32 | W21: =E21+K21 -> 32 | X21: =L21+T21+U21 -> 32 | Y21: =F21 -> 0 | Z21: =G21+H21 -> 0 | AA21: =F21 -> 0 | AB21: =I21+J21+K21 -> 0 | AC21: =K21 -> 0 | AD21: =M21+N21+O21+P21 -> 0
A22: 4 | B22: ԸՆԴՀԱՄԵՆԸ | E22: 83 | U22: 83 | W22: =E22+K22 -> 83 | X22: =L22+T22+U22 -> 83 | Y22: =F22 -> 0 | Z22: =G22+H22 -> 0 | AA22: =F22 -> 0 | AB22: =I22+J22+K22 -> 0 | AC22: =K22 -> 0 | AD22: =M22+N22+O22+P22 -> 0

Sheet Ժ.Ասատրյան
A1: Ð²ÞìºîìàôÂÚàôÜ
A2: êÚàôÜÆøÆ Ø²ð¼Æ ÀÜ¸Ð²Üàôð Æð²ì²êàôÂÚ²Ü ²è²æÆÜ ²îÚ²ÜÆ ¸²î²ð²ÜÆ ¸²î²ìàð
A3: Ä.²ê²îðÚ²ÜÆ | H3: ¶àðÌàôÜºàôÂÚ²Ü ìºð²´ºðÚ²È êÜ²ÜÎàôÂÚ²Ü ¶àðÌºðՈՎ | U3: 2016Ã.
B4: êïáõ·Çã Ñ³í³ë³ñáõÙÝ»ñ` 1+7=8+16+17, 2=3+4, 2=5+6+7, 7=9+10+11+12 | E4: ²Ý³í³ñï ·áñÍ»ñÇ ÙÝ³óáñ¹Á Ñ³ßí»ïáõ Å³Ù³Ý³Ï³ßñç³ÝÇ ëÏ½µáõÙ | F4: êï³óí³Í ¹ÇÙáõÙÝ»ñÇ (·áñÍ»ñ) ù³Ý³ÏÁ | L4: öáË³Ýóí»É ¿ ³ÛÉ ¹³ï³íáñÇ (Ï³½ÙÇ ÷á÷áËáõÃÛáõÝ) | M4: ì³ñáõÛÃ ÁÝ¹áõÝí³Í ¹ÇÙáõÙÝ»ñáí Ï³Û³óí³Í ¹³ï³Ï³Ý ³Ïï»ñ | Q4: Ü»ñÏ³Û³óí»É ¿ ýÇÝ³Ýë³Ï³Ý ³éáÕç³óÙ³Ý Íñ³·Çñ | T4: ²í³ñïí»É »Ý ·áñÍ»ñ Ñ³ßí»ïáõ Å³Ù³Ý³Ï³ßñç³ÝáõÙ | U4: ²Ý³í³ñï ·áñÍ»ñÇ ÙÝ³óáñ¹Á Ñ³ßí»ïáõ Å³Ù³Ý³Ï³ßñç³ÝÇ í»ñçáõÙ | V4: ´áÕáù³ñÏí»É »Ý í»ñ³ùÝÝÇã ¹³ï³ñ³Ý
F6: ÀÝ¹³Ù»ÝÁ | G6: ³Û¹ ÃíáõÙ Ñ³ñÏ³¹ñí³Í ëÝ³ÝÏáõÃÛáõÝ | H6: ³Û¹ ÃíáõÙ Ï³Ù³íáñ ëÝ³ÝÏáõÃÛáõÝ | I6: ëï³óí³Í ¹ÇÙáõÙÝ»ñÇ ÁÝÃ³óùÁ | M6: Ï³Û³óí»É ¿ å³ñï³å³ÝÇÝ ëÝ³ÝÏ ×³Ý³ã»Éáõ Ù³ëÇÝ í×Çé | N6: å³ñï³å³ÝÇÝ ëÝ³ÝÏ ×³Ý³ã»Éáõ ¹ÇÙáõÙÁ Ù»ñÅí»É ¿ | O6: ¹ÇÙáõÙÁ ÃáÕÝí»É ¿ ³é³Ýó ùÝÝáõÃÛ³Ý | P6: ³Ý³í³ñï (³Û¹ ÃíáõÙ Ï³ë»óí³Í) | Q6: ÀÝ¹³Ù»ÝÁ | R6: ÃáÕÝí»É ¿ ³é³Ýó ùÝÝ³ñÏÙ³Ý | S6: Ñ³ëï³ïí»É ¿
I8: ¸ÇÙáõÙÇ ÁÝ¹áõÝáõÙÁ Ù»ñÅí»É ¿ | J8: ¸ÇÙáõÙÁ í»ñ³¹³ñÓí»É ¿ | K8: ÀÝ¹áõÝí»É ¿ í³ñáõÛÃ
E18: 1 | F18: 2 | G18: 3 | H18: 4 | I18: 5 | J18: 6 | K18: 7 | L18: 8 | M18: 9 | N18: 10 | O18: 11 | P18: 12 | Q18: 13 | R18: 14 | S18: 15 | T18: 16 | U18: 17 | V18: 18 | W18: 1+7=8+16+17 | Y18: 2=3+4 | AA18: 2=5+6+7 | AC18: 7=9+10+11+12
A19: 1 | B19: Æñ³í³µ³Ý³Ï³Ý ³ÝÓÇ ëÝ³ÝÏáõÃÛ³Ý í»ñ³µ»ñÛ³É | E19: 3 | F19: 21 | G19: 17 | H19: 4 | I19: 1 | J19: 7 | K19: 13 | M19: 11 | N19: 1 | P19: 1 | T19: 4 | U19: 12 | V19: 1 | W19: =E19+K19 -> 16 | X19: =L19+T19+U19 -> 16 | Y19: =F19 -> 21 | Z19: =G19+H19 -> 21 | AA19: =F19 -> 21 | AB19: =I19+J19+K19 -> 21 | AC19: =K19 -> 13 | AD19: =M19+N19+O19+P19 -> 13
A20: 2 | B20: ²ÝÑ³ï Ó»éÝ»ñ»óÇ ëÝ³ÝÏáõÃÛ³Ý í»ñ³µ»ñÛ³É | F20: 3 | G20: 3 | J20: 1 | K20: 2 | P20: 2 | U20: 2 | W20: =E20+K20 -> 2 | X20: =L20+T20+U20 -> 2 | Y20: =F20 -> 3 | Z20: =G20+H20 -> 3 | AA20: =F20 -> 3 | AB20: =I20+J20+K20 -> 3 | AC20: =K20 -> 2 | AD20: =M20+N20+O20+P20 -> 2
A21: 3 | B21: üÇ½ÇÏ³Ï³Ý ³ÝÓ³Ýó ëÝ³ÝÏáõÃÛ³Ý í»ñ³µ»ñÛ³É | E21: 7 | F21: 20 | G21: 7 | H21: 13 | I21: 1 | J21: 7 | K21: 12 | M21: 6 | N21: 1 | P21: 5 | T21: 2 | U21: 17 | V21: 1 | W21: =E21+K21 -> 19 | X21: =L21+T21+U21 -> 19 | Y21: =F21 -> 20 | Z21: =G21+H21 -> 20 | AA21: =F21 -> 20 | AB21: =I21+J21+K21 -> 20 | AC21: =K21 -> 12 | AD21: =M21+N21+O21+P21 -> 12
A22: 4 | B22: ԸՆԴՀԱՄԵՆԸ | E22: 10 | F22: 44 | G22: 27 | H22: 17 | I22: 2 | J22: 15 | K22: 27 | M22: 17 | N22: 2 | P22: 8 | T22: 6 | U22: 30 | V22: 2 | W22: =E22+K22 -> 37 | X22: =L22+T22+U22 -> 36 | Y22: =F22 -> 44 | Z22: =G22+H22 -> 44 | AA22: =F22 -> 44 | AB22: =I22+J22+K22 -> 44 | AC22: =K22 -> 27 | AD22: =M22+N22+O22+P22 -> 27

Sheet Մ.Հովակիմյան
A1: Ð²ÞìºîìàôÂÚàôÜ
A2: êÚàôÜÆøÆ Ø²ð¼Æ ÀÜ¸Ð²Üàôð Æð²ì²êàôÂÚ²Ü ²è²æÆÜ ²îÚ²ÜÆ ¸²î²ð²ÜÆ ¸²î²ìàð
A3: Ø.Ðàì²ÎÆØÚ²ÜÆ | H3: ¶àðÌàôÜºàôÂÚ²Ü ìºð²´ºðÚ²È êÜ²ÜÎàôÂÚ²Ü ¶àðÌºðՈՎ | U3: 2016Ã.
B4: êïáõ·Çã Ñ³í³ë³ñáõÙÝ»ñ` 1+7=8+16+17, 2=3+4, 2=5+6+7, 7=9+10+11+12 | E4: ²Ý³í³ñï ·áñÍ»ñÇ ÙÝ³óáñ¹Á Ñ³ßí»ïáõ Å³Ù³Ý³Ï³ßñç³ÝÇ ëÏ½µáõÙ | F4: êï³óí³Í ¹ÇÙáõÙÝ»ñÇ (·áñÍ»ñ) ù³Ý³ÏÁ | L4: öáË³Ýóí»É ¿ ³ÛÉ ¹³ï³íáñÇ (Ï³½ÙÇ ÷á÷áËáõÃÛáõÝ) | M4: ì³ñáõÛÃ ÁÝ¹áõÝí³Í ¹ÇÙáõÙÝ»ñáí Ï³Û³óí³Í ¹³ï³Ï³Ý ³Ïï»ñ | Q4: Ü»ñÏ³Û³óí»É ¿ ýÇÝ³Ýë³Ï³Ý ³éáÕç³óÙ³Ý Íñ³·Çñ | T4: ²í³ñïí»É »Ý ·áñÍ»ñ Ñ³ßí»ïáõ Å³Ù³Ý³Ï³ßñç³ÝáõÙ | U4: ²Ý³í³ñï ·áñÍ»ñÇ ÙÝ³óáñ¹Á Ñ³ßí»ïáõ Å³Ù³Ý³Ï³ßñç³ÝÇ í»ñçáõÙ | V4: ´áÕáù³ñÏí»É »Ý í»ñ³ùÝÝÇã ¹³ï³ñ³Ý
F6: ÀÝ¹³Ù»ÝÁ | G6: ³Û¹ ÃíáõÙ Ñ³ñÏ³¹ñí³Í ëÝ³ÝÏáõÃÛáõÝ | H6: ³Û¹ ÃíáõÙ Ï³Ù³íáñ ëÝ³ÝÏáõÃÛáõÝ | I6: ëï³óí³Í ¹ÇÙáõÙÝ»ñÇ ÁÝÃ³óùÁ | M6: Ï³Û³óí»É ¿ å³ñï³å³ÝÇÝ ëÝ³ÝÏ ×³Ý³ã»Éáõ Ù³ëÇÝ í×Çé | N6: å³ñï³å³ÝÇÝ ëÝ³ÝÏ ×³Ý³ã»Éáõ ¹ÇÙáõÙÁ Ù»ñÅí»É ¿ | O6: ¹ÇÙáõÙÁ ÃáÕÝí»É ¿ ³é³Ýó ùÝÝáõÃÛ³Ý | P6: ³Ý³í³ñï (³Û¹ ÃíáõÙ Ï³ë»óí³Í) | Q6: ÀÝ¹³Ù»ÝÁ | R6: ÃáÕÝí»É ¿ ³é³Ýó ùÝÝ³ñÏÙ³Ý | S6: Ñ³ëï³ïí»É ¿
I8: ¸ÇÙáõÙÇ ÁÝ¹áõÝáõÙÁ Ù»ñÅí»É ¿ | J8: ¸ÇÙáõÙÁ í»ñ³¹³ñÓí»É ¿ | K8: ÀÝ¹áõÝí»É ¿ í³ñáõÛÃ
E18: 1 | F18: 2 | G18: 3 | H18: 4 | I18: 5 | J18: 6 | K18: 7 | L18: 8 | M18: 9 | N18: 10 | O18: 11 | P18: 12 | Q18: 13 | R18: 14 | S18: 15 | T18: 16 | U18: 17 | V18: 18 | W18: 1+7=8+16+17 | Y18: 2=3+4 | AA18: 2=5+6+7 | AC18: 7=9+10+11+12
A19: 1 | B19: Æñ³í³µ³Ý³Ï³Ý ³ÝÓÇ ëÝ³ÝÏáõÃÛ³Ý í»ñ³µ»ñÛ³É | E19: 62 | F19: 15 | G19: 13 | H19: 2 | I19: 0 | J19: 2 | K19: 13 | L19: 0 | M19: 7 | N19: 0 | O19: 0 | P19: 6 | Q19: 0 | R19: 0 | S19: 0 | T19: 0 | U19: 75 | V19: 0 | W19: =E19+K19 -> 75 | X19: =L19+T19+U19 -> 75 | Y19: =F19 -> 15 | Z19: =G19+H19 -> 15 | AA19: =F19 -> 15 | AB19: =I19+J19+K19 -> 15 | AC19: =K19 -> 13 | AD19: =M19+N19+O19+P19 -> 13
A20: 2 | B20: ²ÝÑ³ï Ó»éÝ»ñ»óÇ ëÝ³ÝÏáõÃÛ³Ý í»ñ³µ»ñÛ³É | E20: 16 | F20: 1 | G20: 1 | H20: 0 | I20: 0 | J20: 0 | K20: 1 | L20: 0 | M20: 1 | N20: 0 | O20: 0 | P20: 0 | Q20: 0 | R20: 0 | S20: 0 | T20: 0 | U20: 17 | V20: 0 | W20: =E20+K20 -> 17 | X20: =L20+T20+U20 -> 17 | Y20: =F20 -> 1 | Z20: =G20+H20 -> 1 | AA20: =F20 -> 1 | AB20: =I20+J20+K20 -> 1 | AC20: =K20 -> 1 | AD20: =M20+N20+O20+P20 -> 1
A21: 3 | B21: üÇ½ÇÏ³Ï³Ý ³ÝÓ³Ýó ëÝ³ÝÏáõÃÛ³Ý í»ñ³µ»ñÛ³É | E21: 107 | F21: 22 | G21: 6 | H21: 16 | I21: 1 | J21: 2 | K21: 19 | L21: 0 | M21: 15 | N21: 1 | O21: 0 | P21: 3 | Q21: 0 | R21: 0 | S21: 0 | T21: 1 | U21: 125 | V21: 0 | W21: =E21+K21 -> 126 | X21: =L21+T21+U21 -> 126 | Y21: =F21 -> 22 | Z21: =G21+H21 -> 22 | AA21: =F21 -> 22 | AB21: =I21+J21+K21 -> 22 | AC21: =K21 -> 19 | AD21: =M21+N21+O21+P21 -> 19
A22: 4 | B22: ԸՆԴՀԱՄԵՆԸ | E22: 185 | F22: 38 | G22: 20 | H22: 18 | I22: 1 | J22: 4 | K22: 33 | L22: 0 | M22: 23 | N22: 1 | O22: 0 | P22: 9 | Q22: 0 | R22: 0 | S22: 0 | T22: 1 | U22: 217 | V22: 0 | W22: =E22+K22 -> 218 | X22: =L22+T22+U22 -> 218 | Y22: =F22 -> 38 | Z22: =G22+H22 -> 38 | AA22: =F22 -> 38 | AB22: =I22+J22+K22 -> 38 | AC22: =K22 -> 33 | AD22: =M22+N22+O22+P22 -> 33
