Workbook

Sheet Ընդամենը
A1: Ð²ÞìºîìàôÂÚàôÜ
A2: ÐÐ ÀÜ¸Ð²Üàôð Æð²ì²êàôÂÚ²Ü ²è²æÆÜ ²îÚ²ÜÆ ¸²î²ð²ÜÜºðÆ
H3: ¶àðÌàôÜºàôÂÚ²Ü ìºð²´ºðÚ²È êÜ²ÜÎàôÂÚ²Ü ¶àðÌºðàì 2015թ.
A4: ìÇ×³Ï³·ñ³Ï³Ý ïáÕÇ Ñ³Ù³ñÁ | B4: êïáõ·Çã Ñ³í³ë³ñáõÙÝ»ñ` 1+7=8+16+17, 2=3+4, 2=5+6+7, 7=9+10+11+12 | E4: ²Ý³í³ñï ·áñÍ»ñÇ ÙÝ³óáñ¹Á Ñ³ßí»ïáõ Å³Ù³Ý³Ï³ßñç³ÝÇ ëÏ½µáõÙ | F4: êï³óí³Í ¹ÇÙáõÙÝ»ñÇ (·áñÍ»ñ) ù³Ý³ÏÁ | L4: öáË³Ýóí»É ¿ ³ÛÉ ¹³ï³íáñÇ (Ï³½ÙÇ ÷á÷áËáõÃÛáõÝ) | M4: ì³ñáõÛÃ ÁÝ¹áõÝí³Í ¹ÇÙáõÙÝ»ñáí Ï³Û³óí³Í ¹³ï³Ï³Ý ³Ïï»ñ | Q4: Ü»ñÏ³Û³óí»É ¿ ýÇÝ³Ýë³Ï³Ý ³éáÕç³óÙ³Ý Íñ³·Çñ | T4: ²í³ñïí»É »Ý ·áñÍ»ñ Ñ³ßí»ïáõ Å³Ù³Ý³Ï³ßñç³ÝáõÙ | U4: ²Ý³í³ñï ·áñÍ»ñÇ ÙÝ³óáñ¹Á Ñ³ßí»ïáõ Å³Ù³Ý³Ï³ßñç³ÝÇ í»ñçáõÙ | V4: ´áÕáù³ñÏí»É »Ý í»ñ³ùÝÝÇã ¹³ï³ñ³Ý
F6: ÀÝ¹³Ù»ÝÁ | G6: ³Û¹ ÃíáõÙ Ñ³ñÏ³¹ñí³Í ëÝ³ÝÏáõÃÛáõÝ | H6: ³Û¹ ÃíáõÙ Ï³Ù³íáñ ëÝ³ÝÏáõÃÛáõÝ | I6: ëï³óí³Í ¹ÇÙáõÙÝ»ñÇ ÁÝÃ³óùÁ | M6: Ï³Û³óí»É ¿ å³ñï³å³ÝÇÝ ëÝ³ÝÏ ×³Ý³ã»Éáõ Ù³ëÇÝ í×Çé | N6: å³ñï³å³ÝÇÝ ëÝ³ÝÏ ×³Ý³ã»Éáõ ¹ÇÙáõÙÁ Ù»ñÅí»É ¿ | O6: ¹ÇÙáõÙÁ ÃáÕÝí»É ¿ ³é³Ýó ùÝÝáõÃÛ³Ý | P6: ³Ý³í³ñï (³Û¹ ÃíáõÙ Ï³ë»óí³Í) | Q6: ÀÝ¹³Ù»ÝÁ | R6: ÃáÕÝí»É ¿ ³é³Ýó ùÝÝ³ñÏÙ³Ý | S6: Ñ³ëï³ïí»É ¿
I8: ¸ÇÙáõÙÇ ÁÝ¹áõÝáõÙÁ Ù»ñÅí»É ¿ | J8: ¸ÇÙáõÙÁ í»ñ³¹³ñÓí»É ¿ | K8: ÀÝ¹áõÝí»É ¿ í³ñáõÛÃ
E18: 1 | F18: 2 | G18: 3 | H18: 4 | I18: 5 | J18: 6 | K18: 7 | L18: 8 | M18: 9 | N18: 10 | O18: 11 | P18: 12 | Q18: 13 | R18: 14 | S18: 15 | T18: 16 | U18: 17 | V18: 18 | W18: 1+7=8+16+17 | Y18: 2=3+4 | AA18: 2=5+6+7 | AC18: 7=9+10+11+12
A19: 1 | B19: Æñ³í³µ³Ý³Ï³Ý ³ÝÓÇ ëÝ³ÝÏáõÃÛ³Ý í»ñ³µ»ñÛ³É | E19: =Ajapnyak!E19+Erebuni!E19+Malatia!E19+Avan!E19+Shengavit!E19+Kentron!E19+Kotayq!E19+Armavir!E19+Aragacotn!E19+Syuniq!E19+Ararat!E19+Tavush!E19+Shirak!E19+Lori!E19+Gexarquniq!E19 -> 1413 | F19: =Ajapnyak!F19+Erebuni!F19+Malatia!F19+Avan!F19+Shengavit!F19+Kentron!F19+Kotayq!F19+Armavir!F19+Aragacotn!F19+Syuniq!F19+Ararat!F19+Tavush!F19+Shirak!F19+Lori!F19+Gexarquniq!F19 -> 711 | G19: =Ajapnyak!G19+Erebuni!G19+Malatia!G19+Avan!G19+Shengavit!G19+Kentron!G19+Kotayq!G19+Armavir!G19+Aragacotn!G19+Syuniq!G19+Ararat!G19+Tavush!G19+Shirak!G19+Lori!G19+Gexarquniq!G19 -> 688 | H19: =Ajapnyak!H19+Erebuni!H19+Malatia!H19+Avan!H19+Shengavit!H19+Kentron!H19+Kotayq!H19+Armavir!H19+Aragacotn!H19+Syuniq!H19+Ararat!H19+Tavush!H19+Shirak!H19+Lori!H19+Gexarquniq!H19 -> 23 | I19: =Ajapnyak!I19+Erebuni!I19+Malatia!I19+Avan!I19+Shengavit!I19+Kentron!I19+Kotayq!I19+Armavir!I19+Aragacotn!I19+Syuniq!I19+Ararat!I19+Tavush!I19+Shirak!I19+Lori!I19+Gexarquniq!I19 -> 5 | J19: =Ajapnyak!J19+Erebuni!J19+Malatia!J19+Avan!J19+Shengavit!J19+Kentron!J19+Kotayq!J19+Armavir!J19+Aragacotn!J19+Syuniq!J19+Ararat!J19+Tavush!J19+Shirak!J19+Lori!J19+Gexarquniq!J19 -> 114 | K19: =Ajapnyak!K19+Erebuni!K19+Malatia!K19+Avan!K19+Shengavit!K19+Kentron!K19+Kotayq!K19+Armavir!K19+Aragacotn!K19+Syuniq!K19+Ararat!K19+Tavush!K19+Shirak!K19+Lori!K19+Gexarquniq!K19 -> 585 | L19: =Ajapnyak!L19+Erebuni!L19+Malatia!L19+Avan!L19+Shengavit!L19+Kentron!L19+Kotayq!L19+Armavir!L19+Aragacotn!L19+Syuniq!L19+Ararat!L19+Tavush!L19+Shirak!L19+Lori!L19+Gexarquniq!L19 -> 7 | ... AD19: =Ajapnyak!AD19+Erebuni!AD19+Malatia!AD19+Avan!AD19+Shengavit!AD19+Kentron!AD19+Kotayq!AD19+Armavir!AD19+Aragacotn!AD19+Syuniq!AD19+Ararat!AD19+Tavush!AD19+Shirak!AD19+Lori!AD19+Gexarquniq!AD19 -> 586
A20: 2 | B20: ²ÝÑ³ï Ó»éÝ»ñ»óÇ ëÝ³ÝÏáõÃÛ³Ý í»ñ³µ»ñÛ³É | E20: =Ajapnyak!E20+Erebuni!E20+Malatia!E20+Avan!E20+Shengavit!E20+Kentron!E20+Kotayq!E20+Armavir!E20+Aragacotn!E20+Syuniq!E20+Ararat!E20+Tavush!E20+Shirak!E20+Lori!E20+Gexarquniq!E20 -> 318 | F20: =Ajapnyak!F20+Erebuni!F20+Malatia!F20+Avan!F20+Shengavit!F20+Kentron!F20+Kotayq!F20+Armavir!F20+Aragacotn!F20+Syuniq!F20+Ararat!F20+Tavush!F20+Shirak!F20+Lori!F20+Gexarquniq!F20 -> 141 | G20: =Ajapnyak!G20+Erebuni!G20+Malatia!G20+Avan!G20+Shengavit!G20+Kentron!G20+Kotayq!G20+Armavir!G20+Aragacotn!G20+Syuniq!G20+Ararat!G20+Tavush!G20+Shirak!G20+Lori!G20+Gexarquniq!G20 -> 135 | H20: =Ajapnyak!H20+Erebuni!H20+Malatia!H20+Avan!H20+Shengavit!H20+Kentron!H20+Kotayq!H20+Armavir!H20+Aragacotn!H20+Syuniq!H20+Ararat!H20+Tavush!H20+Shirak!H20+Lori!H20+Gexarquniq!H20 -> 6 | I20: =Ajapnyak!I20+Erebuni!I20+Malatia!I20+Avan!I20+Shengavit!I20+Kentron!I20+Kotayq!I20+Armavir!I20+Aragacotn!I20+Syuniq!I20+Ararat!I20+Tavush!I20+Shirak!I20+Lori!I20+Gexarquniq!I20 -> 0 | J20: =Ajapnyak!J20+Erebuni!J20+Malatia!J20+Avan!J20+Shengavit!J20+Kentron!J20+Kotayq!J20+Armavir!J20+Aragacotn!J20+Syuniq!J20+Ararat!J20+Tavush!J20+Shirak!J20+Lori!J20+Gexarquniq!J20 -> 30 | K20: =Ajapnyak!K20+Erebuni!K20+Malatia!K20+Avan!K20+Shengavit!K20+Kentron!K20+Kotayq!K20+Armavir!K20+Aragacotn!K20+Syuniq!K20+Ararat!K20+Tavush!K20+Shirak!K20+Lori!K20+Gexarquniq!K20 -> 108 | L20: =Ajapnyak!L20+Erebuni!L20+Malatia!L20+Avan!L20+Shengavit!L20+Kentron!L20+Kotayq!L20+Armavir!L20+Aragacotn!L20+Syuniq!L20+Ararat!L20+Tavush!L20+Shirak!L20+Lori!L20+Gexarquniq!L20 -> 4 | ... AD20: =Ajapnyak!AD20+Erebuni!AD20+Malatia!AD20+Avan!AD20+Shengavit!AD20+Kentron!AD20+Kotayq!AD20+Armavir!AD20+Aragacotn!AD20+Syuniq!AD20+Ararat!AD20+Tavush!AD20+Shirak!AD20+Lori!AD20+Gexarquniq!AD20 -> 106
A21: 3 | B21: üÇ½ÇÏ³Ï³Ý ³ÝÓ³Ýó ëÝ³ÝÏáõÃÛ³Ý í»ñ³µ»ñÛ³É | E21: =Ajapnyak!E21+Erebuni!E21+Malatia!E21+Avan!E21+Shengavit!E21+Kentron!E21+Kotayq!E21+Armavir!E21+Aragacotn!E21+Syuniq!E21+Ararat!E21+Tavush!E21+Shirak!E21+Lori!E21+Gexarquniq!E21 -> 1287 | F21: =Ajapnyak!F21+Erebuni!F21+Malatia!F21+Avan!F21+Shengavit!F21+Kentron!F21+Kotayq!F21+Armavir!F21+Aragacotn!F21+Syuniq!F21+Ararat!F21+Tavush!F21+Shirak!F21+Lori!F21+Gexarquniq!F21 -> 1056 | G21: =Ajapnyak!G21+Erebuni!G21+Malatia!G21+Avan!G21+Shengavit!G21+Kentron!G21+Kotayq!G21+Armavir!G21+Aragacotn!G21+Syuniq!G21+Ararat!G21+Tavush!G21+Shirak!G21+Lori!G21+Gexarquniq!G21 -> 934 | H21: =Ajapnyak!H21+Erebuni!H21+Malatia!H21+Avan!H21+Shengavit!H21+Kentron!H21+Kotayq!H21+Armavir!H21+Aragacotn!H21+Syuniq!H21+Ararat!H21+Tavush!H21+Shirak!H21+Lori!H21+Gexarquniq!H21 -> 122 | I21: =Ajapnyak!I21+Erebuni!I21+Malatia!I21+Avan!I21+Shengavit!I21+Kentron!I21+Kotayq!I21+Armavir!I21+Aragacotn!I21+Syuniq!I21+Ararat!I21+Tavush!I21+Shirak!I21+Lori!I21+Gexarquniq!I21 -> 6 | J21: =Ajapnyak!J21+Erebuni!J21+Malatia!J21+Avan!J21+Shengavit!J21+Kentron!J21+Kotayq!J21+Armavir!J21+Aragacotn!J21+Syuniq!J21+Ararat!J21+Tavush!J21+Shirak!J21+Lori!J21+Gexarquniq!J21 -> 204 | K21: =Ajapnyak!K21+Erebuni!K21+Malatia!K21+Avan!K21+Shengavit!K21+Kentron!K21+Kotayq!K21+Armavir!K21+Aragacotn!K21+Syuniq!K21+Ararat!K21+Tavush!K21+Shirak!K21+Lori!K21+Gexarquniq!K21 -> 841 | L21: =Ajapnyak!L21+Erebuni!L21+Malatia!L21+Avan!L21+Shengavit!L21+Kentron!L21+Kotayq!L21+Armavir!L21+Aragacotn!L21+Syuniq!L21+Ararat!L21+Tavush!L21+Shirak!L21+Lori!L21+Gexarquniq!L21 -> 9 | ... AD21: =Ajapnyak!AD21+Erebuni!AD21+Malatia!AD21+Avan!AD21+Shengavit!AD21+Kentron!AD21+Kotayq!AD21+Armavir!AD21+Aragacotn!AD21+Syuniq!AD21+Ararat!AD21+Tavush!AD21+Shirak!AD21+Lori!AD21+Gexarquniq!AD21 -> 830
A22: 4 | B22: ԸՆԴՀԱՄԵՆԸ | E22: =Ajapnyak!E22+Erebuni!E22+Malatia!E22+Avan!E22+Shengavit!E22+Kentron!E22+Kotayq!E22+Armavir!E22+Aragacotn!E22+Syuniq!E22+Ararat!E22+Tavush!E22+Shirak!E22+Lori!E22+Gexarquniq!E22 -> 3018 | F22: =Ajapnyak!F22+Erebuni!F22+Malatia!F22+Avan!F22+Shengavit!F22+Kentron!F22+Kotayq!F22+Armavir!F22+Aragacotn!F22+Syuniq!F22+Ararat!F22+Tavush!F22+Shirak!F22+Lori!F22+Gexarquniq!F22 -> 1908 | G22: =Ajapnyak!G22+Erebuni!G22+Malatia!G22+Avan!G22+Shengavit!G22+Kentron!G22+Kotayq!G22+Armavir!G22+Aragacotn!G22+Syuniq!G22+Ararat!G22+Tavush!G22+Shirak!G22+Lori!G22+Gexarquniq!G22 -> 1757 | H22: =Ajapnyak!H22+Erebuni!H22+Malatia!H22+Avan!H22+Shengavit!H22+Kentron!H22+Kotayq!H22+Armavir!H22+Aragacotn!H22+Syuniq!H22+Ararat!H22+Tavush!H22+Shirak!H22+Lori!H22+Gexarquniq!H22 -> 151 | I22: =Ajapnyak!I22+Erebuni!I22+Malatia!I22+Avan!I22+Shengavit!I22+Kentron!I22+Kotayq!I22+Armavir!I22+Aragacotn!I22+Syuniq!I22+Ararat!I22+Tavush!I22+Shirak!I22+Lori!I22+Gexarquniq!I22 -> 11 | J22: =Ajapnyak!J22+Erebuni!J22+Malatia!J22+Avan!J22+Shengavit!J22+Kentron!J22+Kotayq!J22+Armavir!J22+Aragacotn!J22+Syuniq!J22+Ararat!J22+Tavush!J22+Shirak!J22+Lori!J22+Gexarquniq!J22 -> 348 | K22: =Ajapnyak!K22+Erebuni!K22+Malatia!K22+Avan!K22+Shengavit!K22+Kentron!K22+Kotayq!K22+Armavir!K22+Aragacotn!K22+Syuniq!K22+Ararat!K22+Tavush!K22+Shirak!K22+Lori!K22+Gexarquniq!K22 -> 1534 | L22: =Ajapnyak!L22+Erebuni!L22+Malatia!L22+Avan!L22+Shengavit!L22+Kentron!L22+Kotayq!L22+Armavir!L22+Aragacotn!L22+Syuniq!L22+Ararat!L22+Tavush!L22+Shirak!L22+Lori!L22+Gexarquniq!L22 -> 20 | ... AD22: =Ajapnyak!AD22+Erebuni!AD22+Malatia!AD22+Avan!AD22+Shengavit!AD22+Kentron!AD22+Kotayq!AD22+Armavir!AD22+Aragacotn!AD22+Syuniq!AD22+Ararat!AD22+Tavush!AD22+Shirak!AD22+Lori!AD22+Gexarquniq!AD22 -> 1522

Sheet Ajapnyak
A1: Ð²ÞìºîìàôÂÚàôÜ
A2: ºðºì²ÜÆ ²æ²öÜÚ²Î ºì ¸²ìÂ²ÞºÜ ì²ðâ²Î²Ü Þðæ²ÜÜºðÆ ÀÜ¸Ð²Üàôð Æð²ì²êàôÂÚ²Ü ²è²æÆÜ ²îÚ²ÜÆ ¸²î²ð²ÜÆ
H3: ¶àðÌàôÜºàôÂÚ²Ü ìºð²´ºðÚ²È êÜ²ÜÎàôÂÚ²Ü ¶àðÌºðàì 2015թ.
A4: ìÇ×³Ï³·ñ³Ï³Ý ïáÕÇ Ñ³Ù³ñÁ | B4: êïáõ·Çã Ñ³í³ë³ñáõÙÝ»ñ` 1+7=8+16+17, 2=3+4, 2=5+6+7, 7=9+10+11+12 | E4: ²Ý³í³ñï ·áñÍ»ñÇ ÙÝ³óáñ¹Á Ñ³ßí»ïáõ Å³Ù³Ý³Ï³ßñç³ÝÇ ëÏ½µáõÙ | F4: êï³óí³Í ¹ÇÙáõÙÝ»ñÇ (·áñÍ»ñ) ù³Ý³ÏÁ | L4: öáË³Ýóí»É ¿ ³ÛÉ ¹³ï³íáñÇ (Ï³½ÙÇ ÷á÷áËáõÃÛáõÝ) | M4: ì³ñáõÛÃ ÁÝ¹áõÝí³Í ¹ÇÙáõÙÝ»ñáí Ï³Û³óí³Í ¹³ï³Ï³Ý ³Ïï»ñ | Q4: Ü»ñÏ³Û³óí»É ¿ ýÇÝ³Ýë³Ï³Ý ³éáÕç³óÙ³Ý Íñ³·Çñ | T4: ²í³ñïí»É »Ý ·áñÍ»ñ Ñ³ßí»ïáõ Å³Ù³Ý³Ï³ßñç³ÝáõÙ | U4: ²Ý³í³ñï ·áñÍ»ñÇ ÙÝ³óáñ¹Á Ñ³ßí»ïáõ Å³Ù³Ý³Ï³ßñç³ÝÇ í»ñçáõÙ | V4: ´áÕáù³ñÏí»É »Ý í»ñ³ùÝÝÇã ¹³ï³ñ³Ý
F6: ÀÝ¹³Ù»ÝÁ | G6: ³Û¹ ÃíáõÙ Ñ³ñÏ³¹ñí³Í ëÝ³ÝÏáõÃÛáõÝ | H6: ³Û¹ ÃíáõÙ Ï³Ù³íáñ ëÝ³ÝÏáõÃÛáõÝ | I6: ëï³óí³Í ¹ÇÙáõÙÝ»ñÇ ÁÝÃ³óùÁ | M6: Ï³Û³óí»É ¿ å³ñï³å³ÝÇÝ ëÝ³ÝÏ ×³Ý³ã»Éáõ Ù³ëÇÝ í×Çé | N6: å³ñï³å³ÝÇÝ ëÝ³ÝÏ ×³Ý³ã»Éáõ ¹ÇÙáõÙÁ Ù»ñÅí»É ¿ | O6: ¹ÇÙáõÙÁ ÃáÕÝí»É ¿ ³é³Ýó ùÝÝáõÃÛ³Ý | P6: ³Ý³í³ñï (³Û¹ ÃíáõÙ Ï³ë»óí³Í) | Q6: ÀÝ¹³Ù»ÝÁ | R6: ÃáÕÝí»É ¿ ³é³Ýó ùÝÝ³ñÏÙ³Ý | S6: Ñ³ëï³ïí»É ¿
I8: ¸ÇÙáõÙÇ ÁÝ¹áõÝáõÙÁ Ù»ñÅí»É ¿ | J8: ¸ÇÙáõÙÁ í»ñ³¹³ñÓí»É ¿ | K8: ÀÝ¹áõÝí»É ¿ í³ñáõÛÃ
E18: 1 | F18: 2 | G18: 3 | H18: 4 | I18: 5 | J18: 6 | K18: 7 | L18: 8 | M18: 9 | N18: 10 | O18: 11 | P18: 12 | Q18: 13 | R18: 14 | S18: 15 | T18: 16 | U18: 17 | V18: 18 | W18: 1+7=8+16+17 | Y18: 2=3+4 | AA18: 2=5+6+7 | AC18: 7=9+10+11+12
A19: 1 | B19: Æñ³í³µ³Ý³Ï³Ý ³ÝÓÇ ëÝ³ÝÏáõÃÛ³Ý í»ñ³µ»ñÛ³É | E19: 48 | F19: 49 | G19: 49 | H19: 0 | I19: 0 | J19: 18 | K19: 31 | L19: 0 | M19: 7 | N19: 3 | O19: 0 | P19: 21 | Q19: 0 | R19: 0 | S19: 0 | T19: 6 | U19: 73 | V19: 2 | W19: =E19+K19 -> 79 | X19: =L19+T19+U19 -> 79 | Y19: =F19 -> 49 | Z19: =G19+H19 -> 49 | AA19: =F19 -> 49 | AB19: =I19+J19+K19 -> 49 | AC19: =K19 -> 31 | AD19: =M19+N19+O19+P19 -> 31
A20: 2 | B20: ²ÝÑ³ï Ó»éÝ»ñ»óÇ ëÝ³ÝÏáõÃÛ³Ý í»ñ³µ»ñÛ³É | E20: 18 | F20: 10 | G20: 10 | H20: 0 | I20: 0 | J20: 2 | K20: 8 | L20: 0 | M20: 4 | N20: 0 | O20: 0 | P20: 4 | Q20: 0 | R20: 0 | S20: 0 | T20: 2 | U20: 24 | V20: 0 | W20: =E20+K20 -> 26 | X20: =L20+T20+U20 -> 26 | Y20: =F20 -> 10 | Z20: =G20+H20 -> 10 | AA20: =F20 -> 10 | AB20: =I20+J20+K20 -> 10 | AC20: =K20 -> 8 | AD20: =M20+N20+O20+P20 -> 8
A21: 3 | B21: üÇ½ÇÏ³Ï³Ý ³ÝÓ³Ýó ëÝ³ÝÏáõÃÛ³Ý í»ñ³µ»ñÛ³É | E21: 76 | F21: 63 | G21: 60 | H21: 3 | I21: 0 | J21: 16 | K21: 47 | L21: 0 | M21: 10 | N21: 6 | O21: 0 | P21: 31 | Q21: 0 | R21: 0 | S21: 0 | T21: 8 | U21: 115 | V21: 5 | W21: =E21+K21 -> 123 | X21: =L21+T21+U21 -> 123 | Y21: =F21 -> 63 | Z21: =G21+H21 -> 63 | AA21: =F21 -> 63 | AB21: =I21+J21+K21 -> 63 | AC21: =K21 -> 47 | AD21: =M21+N21+O21+P21 -> 47
A22: 4 | B22: ԸՆԴՀԱՄԵՆԸ | E22: 142 | F22: 122 | G22: 119 | H22: 3 | I22: 0 | J22: 36 | K22: 86 | L22: 0 | M22: 21 | N22: 9 | O22: 0 | P22: 56 | Q22: 0 | R22: 0 | S22: 0 | T22: 16 | U22: 212 | V22: 7 | W22: =E22+K22 -> 228 | X22: =L22+T22+U22 -> 228 | Y22: =F22 -> 122 | Z22: =G22+H22 -> 122 | AA22: =F22 -> 122 | AB22: =I22+J22+K22 -> 122 | AC22: =K22 -> 86 | AD22: =M22+N22+O22+P22 -> 86

Sheet Erebuni
A1: Ð²ÞìºîìàôÂÚàôÜ
A2: ºðºì²ÜÆ ԷՐԵԲՈՒՆԻ ԵՎ ՆՈՒԲԱՐԱՇԵՆ ì²ðâ²Î²Ü Þðæ²ÜÜºðÆ ÀÜ¸Ð²Üàôð Æð²ì²êàôÂÚ²Ü ²è²æÆÜ ²îÚ²ÜÆ ¸²î²ð²ÜÆ
H3: ¶àðÌàôÜºàôÂÚ²Ü ìºð²´ºðÚ²È êÜ²ÜÎàôÂÚ²Ü ¶àðÌºðՈՎ 2015թ.
A4: ìÇ×³Ï³·ñ³Ï³Ý ïáÕÇ Ñ³Ù³ñÁ | B4: êïáõ·Çã Ñ³í³ë³ñáõÙÝ»ñ` 1+7=8+16+17, 2=3+4, 2=5+6+7, 7=9+10+11+12 | E4: ²Ý³í³ñï ·áñÍ»ñÇ ÙÝ³óáñ¹Á Ñ³ßí»ïáõ Å³Ù³Ý³Ï³ßñç³ÝÇ ëÏ½µáõÙ | F4: êï³óí³Í ¹ÇÙáõÙÝ»ñÇ (·áñÍ»ñ) ù³Ý³ÏÁ | L4: öáË³Ýóí»É ¿ ³ÛÉ ¹³ï³íáñÇ (Ï³½ÙÇ ÷á÷áËáõÃÛáõÝ) | M4: ì³ñáõÛÃ ÁÝ¹áõÝí³Í ¹ÇÙáõÙÝ»ñáí Ï³Û³óí³Í ¹³ï³Ï³Ý ³Ïï»ñ | Q4: Ü»ñÏ³Û³óí»É ¿ ýÇÝ³Ýë³Ï³Ý ³éáÕç³óÙ³Ý Íñ³·Çñ | T4: ²í³ñïí»É »Ý ·áñÍ»ñ Ñ³ßí»ïáõ Å³Ù³Ý³Ï³ßñç³ÝáõÙ | U4: ²Ý³í³ñï ·áñÍ»ñÇ ÙÝ³óáñ¹Á Ñ³ßí»ïáõ Å³Ù³Ý³Ï³ßñç³ÝÇ í»ñçáõÙ | V4: ´áÕáù³ñÏí»É »Ý í»ñ³ùÝÝÇã ¹³ï³ñ³Ý
F6: ÀÝ¹³Ù»ÝÁ | G6: ³Û¹ ÃíáõÙ Ñ³ñÏ³¹ñí³Í ëÝ³ÝÏáõÃÛáõÝ | H6: ³Û¹ ÃíáõÙ Ï³Ù³íáñ ëÝ³ÝÏáõÃÛáõÝ | I6: ëï³óí³Í ¹ÇÙáõÙÝ»ñÇ ÁÝÃ³óùÁ | M6: Ï³Û³óí»É ¿ å³ñï³å³ÝÇÝ ëÝ³ÝÏ ×³Ý³ã»Éáõ Ù³ëÇÝ í×Çé | N6: å³ñï³å³ÝÇÝ ëÝ³ÝÏ ×³Ý³ã»Éáõ ¹ÇÙáõÙÁ Ù»ñÅí»É ¿ | O6: ¹ÇÙáõÙÁ ÃáÕÝí»É ¿ ³é³Ýó ùÝÝáõÃÛ³Ý | P6: ³Ý³í³ñï (³Û¹ ÃíáõÙ Ï³ë»óí³Í) | Q6: ÀÝ¹³Ù»ÝÁ | R6: ÃáÕÝí»É ¿ ³é³Ýó ùÝÝ³ñÏÙ³Ý | S6: Ñ³ëï³ïí»É ¿
I8: ¸ÇÙáõÙÇ ÁÝ¹áõÝáõÙÁ Ù»ñÅí»É ¿ | J8: ¸ÇÙáõÙÁ í»ñ³¹³ñÓí»É ¿ | K8: ÀÝ¹áõÝí»É ¿ í³ñáõÛÃ
E18: 1 | F18: 2 | G18: 3 | H18: 4 | I18: 5 | J18: 6 | K18: 7 | L18: 8 | M18: 9 | N18: 10 | O18: 11 | P18: 12 | Q18: 13 | R18: 14 | S18: 15 | T18: 16 | U18: 17 | V18: 18 | W18: 1+7=8+16+17 | Y18: 2=3+4 | AA18: 2=5+6+7 | AC18: 7=9+10+11+12
A19: 1 | B19: Æñ³í³µ³Ý³Ï³Ý ³ÝÓÇ ëÝ³ÝÏáõÃÛ³Ý í»ñ³µ»ñÛ³É | E19: 38 | F19: 37 | G19: 36 | H19: 1 | I19: 1 | J19: 9 | K19: 27 | M19: 21 | O19: 2 | P19: 4 | T19: 21 | U19: 44 | W19: =E19+K19 -> 65 | X19: =L19+T19+U19 -> 65 | Y19: =F19 -> 37 | Z19: =G19+H19 -> 37 | AA19: =F19 -> 37 | AB19: =I19+J19+K19 -> 37 | AC19: =K19 -> 27 | AD19: =M19+N19+O19+P19 -> 27
A20: 2 | B20: ²ÝÑ³ï Ó»éÝ»ñ»óÇ ëÝ³ÝÏáõÃÛ³Ý í»ñ³µ»ñÛ³É | E20: 13 | F20: 8 | G20: 8 | K20: 8 | M20: 6 | P20: 2 | T20: 7 | U20: 14 | W20: =E20+K20 -> 21 | X20: =L20+T20+U20 -> 21 | Y20: =F20 -> 8 | Z20: =G20+H20 -> 8 | AA20: =F20 -> 8 | AB20: =I20+J20+K20 -> 8 | AC20: =K20 -> 8 | AD20: =M20+N20+O20+P20 -> 8
A21: 3 | B21: üÇ½ÇÏ³Ï³Ý ³ÝÓ³Ýó ëÝ³ÝÏáõÃÛ³Ý í»ñ³µ»ñÛ³É | E21: 64 | F21: 76 | G21: 64 | H21: 12 | J21: 27 | K21: 49 | M21: 27 | N21: 1 | O21: 2 | P21: 19 | T21: 31 | U21: 82 | V21: 1 | W21: =E21+K21 -> 113 | X21: =L21+T21+U21 -> 113 | Y21: =F21 -> 76 | Z21: =G21+H21 -> 76 | AA21: =F21 -> 76 | AB21: =I21+J21+K21 -> 76 | AC21: =K21 -> 49 | AD21: =M21+N21+O21+P21 -> 49
A22: 4 | B22: ԸՆԴՀԱՄԵՆԸ | E22: 115 | F22: 121 | G22: 108 | H22: 13 | I22: 1 | J22: 36 | K22: 84 | M22: 54 | N22: 1 | O22: 4 | P22: 25 | T22: 59 | U22: 140 | V22: 1 | W22: =E22+K22 -> 199 | X22: =L22+T22+U22 -> 199 | Y22: =F22 -> 121 | Z22: =G22+H22 -> 121 | AA22: =F22 -> 121 | AB22: =I22+J22+K22 -> 121 | AC22: =K22 -> 84 | AD22: =M22+N22+O22+P22 -> 84

Sheet Malatia
A1: Ð²ÞìºîìàôÂÚàôÜ
A2: ºðºì²ÜÆ ՄԱԼԱԹԻԱ ՍԵԲԱՍՏԻԱ ì²ðâ²Î²Ü Þðæ²ÜÆ ÀÜ¸Ð²Üàôð Æð²ì²êàôÂÚ²Ü ²è²æÆÜ ²îÚ²ÜÆ ¸²î²ð²ÜÆ
H3: ¶àðÌàôÜºàôÂÚ²Ü ìºð²´ºðÚ²È êÜ²ÜÎàôÂÚ²Ü ¶àðÌºðàì 2015թ.
A4: ìÇ×³Ï³·ñ³Ï³Ý ïáÕÇ Ñ³Ù³ñÁ | B4: êïáõ·Çã Ñ³í³ë³ñáõÙÝ»ñ` 1+7=8+16+17, 2=3+4, 2=5+6+7, 7=9+10+11+12 | E4: ²Ý³í³ñï ·áñÍ»ñÇ ÙÝ³óáñ¹Á Ñ³ßí»ïáõ Å³Ù³Ý³Ï³ßñç³ÝÇ ëÏ½µáõÙ | F4: êï³óí³Í ¹ÇÙáõÙÝ»ñÇ (·áñÍ»ñ) ù³Ý³ÏÁ | L4: öáË³Ýóí»É ¿ ³ÛÉ ¹³ï³íáñÇ (Ï³½ÙÇ ÷á÷áËáõÃÛáõÝ) | M4: ì³ñáõÛÃ ÁÝ¹áõÝí³Í ¹ÇÙáõÙÝ»ñáí Ï³Û³óí³Í ¹³ï³Ï³Ý ³Ïï»ñ | Q4: Ü»ñÏ³Û³óí»É ¿ ýÇÝ³Ýë³Ï³Ý ³éáÕç³óÙ³Ý Íñ³·Çñ | T4: ²í³ñïí»É »Ý ·áñÍ»ñ Ñ³ßí»ïáõ Å³Ù³Ý³Ï³ßñç³ÝáõÙ | U4: ²Ý³í³ñï ·áñÍ»ñÇ ÙÝ³óáñ¹Á Ñ³ßí»ïáõ Å³Ù³Ý³Ï³ßñç³ÝÇ í»ñçáõÙ | V4: ´áÕáù³ñÏí»É »Ý í»ñ³ùÝÝÇã ¹³ï³ñ³Ý
F6: ÀÝ¹³Ù»ÝÁ | G6: ³Û¹ ÃíáõÙ Ñ³ñÏ³¹ñí³Í ëÝ³ÝÏáõÃÛáõÝ | H6: ³Û¹ ÃíáõÙ Ï³Ù³íáñ ëÝ³ÝÏáõÃÛáõÝ | I6: ëï³óí³Í ¹ÇÙáõÙÝ»ñÇ ÁÝÃ³óùÁ | M6: Ï³Û³óí»É ¿ å³ñï³å³ÝÇÝ ëÝ³ÝÏ ×³Ý³ã»Éáõ Ù³ëÇÝ í×Çé | N6: å³ñï³å³ÝÇÝ ëÝ³ÝÏ ×³Ý³ã»Éáõ ¹ÇÙáõÙÁ Ù»ñÅí»É ¿ | O6: ¹ÇÙáõÙÁ ÃáÕÝí»É ¿ ³é³Ýó ùÝÝáõÃÛ³Ý | P6: ³Ý³í³ñï (³Û¹ ÃíáõÙ Ï³ë»óí³Í) | Q6: ÀÝ¹³Ù»ÝÁ | R6: ÃáÕÝí»É ¿ ³é³Ýó ùÝÝ³ñÏÙ³Ý | S6: Ñ³ëï³ïí»É ¿
I8: ¸ÇÙáõÙÇ ÁÝ¹áõÝáõÙÁ Ù»ñÅí»É ¿ | J8: ¸ÇÙáõÙÁ í»ñ³¹³ñÓí»É ¿ | K8: ÀÝ¹áõÝí»É ¿ í³ñáõÛÃ
E18: 1 | F18: 2 | G18: 3 | H18: 4 | I18: 5 | J18: 6 | K18: 7 | L18: 8 | M18: 9 | N18: 10 | O18: 11 | P18: 12 | Q18: 13 | R18: 14 | S18: 15 | T18: 16 | U18: 17 | V18: 18 | W18: 1+7=8+16+17 | Y18: 2=3+4 | AA18: 2=5+6+7 | AC18: 7=9+10+11+12
A19: 1 | B19: Æñ³í³µ³Ý³Ï³Ý ³ÝÓÇ ëÝ³ÝÏáõÃÛ³Ý í»ñ³µ»ñÛ³É | E19: 68 | F19: 29 | G19: 29 | I19: 2 | J19: 3 | K19: 24 | M19: 5 | P19: 19 | T19: 7 | U19: 85 | V19: 2 | W19: =E19+K19 -> 92 | X19: =L19+T19+U19 -> 92 | Y19: =F19 -> 29 | Z19: =G19+H19 -> 29 | AA19: =F19 -> 29 | AB19: =I19+J19+K19 -> 29 | AC19: =K19 -> 24 | AD19: =M19+N19+O19+P19 -> 24
A20: 2 | B20: ²ÝÑ³ï Ó»éÝ»ñ»óÇ ëÝ³ÝÏáõÃÛ³Ý í»ñ³µ»ñÛ³É | E20: 22 | F20: 5 | G20: 5 | J20: 1 | K20: 4 | M20: 1 | P20: 3 | T20: 2 | U20: 24 | W20: =E20+K20 -> 26 | X20: =L20+T20+U20 -> 26 | Y20: =F20 -> 5 | Z20: =G20+H20 -> 5 | AA20: =F20 -> 5 | AB20: =I20+J20+K20 -> 5 | AC20: =K20 -> 4 | AD20: =M20+N20+O20+P20 -> 4
A21: 3 | B21: üÇ½ÇÏ³Ï³Ý ³ÝÓ³Ýó ëÝ³ÝÏáõÃÛ³Ý í»ñ³µ»ñÛ³É | E21: 87 | F21: 73 | G21: 65 | H21: 8 | I21: 1 | J21: 15 | K21: 57 | M21: 8 | N21: 5 | P21: 44 | T21: 10 | U21: 134 | V21: 5 | W21: =E21+K21 -> 144 | X21: =L21+T21+U21 -> 144 | Y21: =F21 -> 73 | Z21: =G21+H21 -> 73 | AA21: =F21 -> 73 | AB21: =I21+J21+K21 -> 73 | AC21: =K21 -> 57 | AD21: =M21+N21+O21+P21 -> 57
A22: 4 | B22: ԸՆԴՀԱՄԵՆԸ | E22: 177 | F22: 107 | G22: 99 | H22: 8 | I22: 3 | J22: 19 | K22: 85 | M22: 14 | N22: 5 | P22: 66 | T22: 19 | U22: 243 | V22: 7 | W22: =E22+K22 -> 262 | X22: =L22+T22+U22 -> 262 | Y22: =F22 -> 107 | Z22: =G22+H22 -> 107 | AA22: =F22 -> 107 | AB22: =I22+J22+K22 -> 107 | AC22: =K22 -> 85 | AD22: =M22+N22+O22+P22 -> 85

Sheet Avan
A1: Ð²ÞìºîìàôÂÚàôÜ
A2: ºðºì²ÜÆ ²ՎԱՆ ºì ՆՈՐ ՆՈՐՔ ì²ðâ²Î²Ü Þðæ²ÜÜºðÆ ÀÜ¸Ð²Üàôð Æð²ì²êàôÂÚ²Ü ²è²æÆÜ ²îÚ²ÜÆ ¸²î²ð²ÜÆ
H3: ¶àðÌàôÜºàôÂÚ²Ü ìºð²´ºðÚ²È êÜ²ÜÎàôÂÚ²Ü ¶àðÌºðàì 2015թ.
A4: ìÇ×³Ï³·ñ³Ï³Ý ïáÕÇ Ñ³Ù³ñÁ | B4: êïáõ·Çã Ñ³í³ë³ñáõÙÝ»ñ` 1+7=8+16+17, 2=3+4, 2=5+6+7, 7=9+10+11+12 | E4: ²Ý³í³ñï ·áñÍ»ñÇ ÙÝ³óáñ¹Á Ñ³ßí»ïáõ Å³Ù³Ý³Ï³ßñç³ÝÇ ëÏ½µáõÙ | F4: êï³óí³Í ¹ÇÙáõÙÝ»ñÇ (·áñÍ»ñ) ù³Ý³ÏÁ | L4: öáË³Ýóí»É ¿ ³ÛÉ ¹³ï³íáñÇ (Ï³½ÙÇ ÷á÷áËáõÃÛáõÝ) | M4: ì³ñáõÛÃ ÁÝ¹áõÝí³Í ¹ÇÙáõÙÝ»ñáí Ï³Û³óí³Í ¹³ï³Ï³Ý ³Ïï»ñ | Q4: Ü»ñÏ³Û³óí»É ¿ ýÇÝ³Ýë³Ï³Ý ³éáÕç³óÙ³Ý Íñ³·Çñ | T4: ²í³ñïí»É »Ý ·áñÍ»ñ Ñ³ßí»ïáõ Å³Ù³Ý³Ï³ßñç³ÝáõÙ | U4: ²Ý³í³ñï ·áñÍ»ñÇ ÙÝ³óáñ¹Á Ñ³ßí»ïáõ Å³Ù³Ý³Ï³ßñç³ÝÇ í»ñçáõÙ | V4: ´áÕáù³ñÏí»É »Ý í»ñ³ùÝÝÇã ¹³ï³ñ³Ý
F6: ÀÝ¹³Ù»ÝÁ | G6: ³Û¹ ÃíáõÙ Ñ³ñÏ³¹ñí³Í ëÝ³ÝÏáõÃÛáõÝ | H6: ³Û¹ ÃíáõÙ Ï³Ù³íáñ ëÝ³ÝÏáõÃÛáõÝ | I6: ëï³óí³Í ¹ÇÙáõÙÝ»ñÇ ÁÝÃ³óùÁ | M6: Ï³Û³óí»É ¿ å³ñï³å³ÝÇÝ ëÝ³ÝÏ ×³Ý³ã»Éáõ Ù³ëÇÝ í×Çé | N6: å³ñï³å³ÝÇÝ ëÝ³ÝÏ ×³Ý³ã»Éáõ ¹ÇÙáõÙÁ Ù»ñÅí»É ¿ | O6: ¹ÇÙáõÙÁ ÃáÕÝí»É ¿ ³é³Ýó ùÝÝáõÃÛ³Ý | P6: ³Ý³í³ñï (³Û¹ ÃíáõÙ Ï³ë»óí³Í) | Q6: ÀÝ¹³Ù»ÝÁ | R6: ÃáÕÝí»É ¿ ³é³Ýó ùÝÝ³ñÏÙ³Ý | S6: Ñ³ëï³ïí»É ¿
I8: ¸ÇÙáõÙÇ ÁÝ¹áõÝáõÙÁ Ù»ñÅí»É ¿ | J8: ¸ÇÙáõÙÁ í»ñ³¹³ñÓí»É ¿ | K8: ÀÝ¹áõÝí»É ¿ í³ñáõÛÃ
E18: 1 | F18: 2 | G18: 3 | H18: 4 | I18: 5 | J18: 6 | K18: 7 | L18: 8 | M18: 9 | N18: 10 | O18: 11 | P18: 12 | Q18: 13 | R18: 14 | S18: 15 | T18: 16 | U18: 17 | V18: 18 | W18: 1+7=8+16+17 | Y18: 2=3+4 | AA18: 2=5+6+7 | AC18: 7=9+10+11+12
A19: 1 | B19: Æñ³í³µ³Ý³Ï³Ý ³ÝÓÇ ëÝ³ÝÏáõÃÛ³Ý í»ñ³µ»ñÛ³É | E19: 40 | F19: 55 | G19: 54 | H19: 1 | J19: 24 | K19: 31 | M19: 28 | P19: 3 | T19: 27 | U19: 68 | W19: =E19+K19 -> 71 | X19: =L19+T19+U19 -> 95 | Y19: =F19 -> 55 | Z19: =G19+H19 -> 55 | AA19: =F19 -> 55 | AB19: =I19+J19+K19 -> 55 | AC19: =K19 -> 31 | AD19: =M19+N19+O19+P19 -> 31
A20: 2 | B20: ²ÝÑ³ï Ó»éÝ»ñ»óÇ ëÝ³ÝÏáõÃÛ³Ý í»ñ³µ»ñÛ³É | E20: 4 | F20: 8 | G20: 8 | J20: 3 | K20: 5 | M20: 3 | P20: 2 | T20: 3 | U20: 9 | V20: 1 | W20: =E20+K20 -> 9 | X20: =L20+T20+U20 -> 12 | Y20: =F20 -> 8 | Z20: =G20+H20 -> 8 | AA20: =F20 -> 8 | AB20: =I20+J20+K20 -> 8 | AC20: =K20 -> 5 | AD20: =M20+N20+O20+P20 -> 5
A21: 3 | B21: üÇ½ÇÏ³Ï³Ý ³ÝÓ³Ýó ëÝ³ÝÏáõÃÛ³Ý í»ñ³µ»ñÛ³É | E21: 55 | F21: 93 | G21: 84 | H21: 9 | J21: 35 | K21: 58 | L21: 1 | M21: 42 | N21: 2 | P21: 14 | T21: 49 | U21: 99 | V21: 4 | W21: =E21+K21 -> 113 | X21: =L21+T21+U21 -> 149 | Y21: =F21 -> 93 | Z21: =G21+H21 -> 93 | AA21: =F21 -> 93 | AB21: =I21+J21+K21 -> 93 | AC21: =K21 -> 58 | AD21: =M21+N21+O21+P21 -> 58
A22: 4 | B22: ԸՆԴՀԱՄԵՆԸ | E22: 99 | F22: 156 | G22: 146 | H22: 10 | J22: 62 | K22: 94 | L22: 1 | M22: 73 | N22: 2 | P22: 19 | T22: 79 | U22: 176 | V22: 5 | W22: =E22+K22 -> 193 | X22: =L22+T22+U22 -> 256 | Y22: =F22 -> 156 | Z22: =G22+H22 -> 156 | AA22: =F22 -> 156 | AB22: =I22+J22+K22 -> 156 | AC22: =K22 -> 94 | AD22: =M22+N22+O22+P22 -> 94

Sheet Shengavit
A1: Ð²ÞìºîìàôÂÚàôÜ
A2: ºðºì²ÜÆ ՇԵՆԳԱՎԻԹ ì²ðâ²Î²Ü Þðæ²ÜÆ ÀÜ¸Ð²Üàôð Æð²ì²êàôÂÚ²Ü ²è²æÆÜ ²îÚ²ÜÆ ¸²î²ð²ÜÆ
H3: ¶àðÌàôÜºàôÂÚ²Ü ìºð²´ºðÚ²È êÜ²ÜÎàôÂÚ²Ü ¶àðÌºðՈՎ 2015թ.
A4: ìÇ×³Ï³·ñ³Ï³Ý ïáÕÇ Ñ³Ù³ñÁ | B4: êïáõ·Çã Ñ³í³ë³ñáõÙÝ»ñ` 1+7=8+16+17, 2=3+4, 2=5+6+7, 7=9+10+11+12 | E4: ²Ý³í³ñï ·áñÍ»ñÇ ÙÝ³óáñ¹Á Ñ³ßí»ïáõ Å³Ù³Ý³Ï³ßñç³ÝÇ ëÏ½µáõÙ | F4: êï³óí³Í ¹ÇÙáõÙÝ»ñÇ (·áñÍ»ñ) ù³Ý³ÏÁ | L4: öáË³Ýóí»É ¿ ³ÛÉ ¹³ï³íáñÇ (Ï³½ÙÇ ÷á÷áËáõÃÛáõÝ) | M4: ì³ñáõÛÃ ÁÝ¹áõÝí³Í ¹ÇÙáõÙÝ»ñáí Ï³Û³óí³Í ¹³ï³Ï³Ý ³Ïï»ñ | Q4: Ü»ñÏ³Û³óí»É ¿ ýÇÝ³Ýë³Ï³Ý ³éáÕç³óÙ³Ý Íñ³·Çñ | T4: ²í³ñïí»É »Ý ·áñÍ»ñ Ñ³ßí»ïáõ Å³Ù³Ý³Ï³ßñç³ÝáõÙ | U4: ²Ý³í³ñï ·áñÍ»ñÇ ÙÝ³óáñ¹Á Ñ³ßí»ïáõ Å³Ù³Ý³Ï³ßñç³ÝÇ í»ñçáõÙ | V4: ´áÕáù³ñÏí»É »Ý í»ñ³ùÝÝÇã ¹³ï³ñ³Ý
F6: ÀÝ¹³Ù»ÝÁ | G6: ³Û¹ ÃíáõÙ Ñ³ñÏ³¹ñí³Í ëÝ³ÝÏáõÃÛáõÝ | H6: ³Û¹ ÃíáõÙ Ï³Ù³íáñ ëÝ³ÝÏáõÃÛáõÝ | I6: ëï³óí³Í ¹ÇÙáõÙÝ»ñÇ ÁÝÃ³óùÁ | M6: Ï³Û³óí»É ¿ å³ñï³å³ÝÇÝ ëÝ³ÝÏ ×³Ý³ã»Éáõ Ù³ëÇÝ í×Çé | N6: å³ñï³å³ÝÇÝ ëÝ³ÝÏ ×³Ý³ã»Éáõ ¹ÇÙáõÙÁ Ù»ñÅí»É ¿ | O6: ¹ÇÙáõÙÁ ÃáÕÝí»É ¿ ³é³Ýó ùÝÝáõÃÛ³Ý | P6: ³Ý³í³ñï (³Û¹ ÃíáõÙ Ï³ë»óí³Í) | Q6: ÀÝ¹³Ù»ÝÁ | R6: ÃáÕÝí»É ¿ ³é³Ýó ùÝÝ³ñÏÙ³Ý | S6: Ñ³ëï³ïí»É ¿
I8: ¸ÇÙáõÙÇ ÁÝ¹áõÝáõÙÁ Ù»ñÅí»É ¿ | J8: ¸ÇÙáõÙÁ í»ñ³¹³ñÓí»É ¿ | K8: ÀÝ¹áõÝí»É ¿ í³ñáõÛÃ
E18: 1 | F18: 2 | G18: 3 | H18: 4 | I18: 5 | J18: 6 | K18: 7 | L18: 8 | M18: 9 | N18: 10 | O18: 11 | P18: 12 | Q18: 13 | R18: 14 | S18: 15 | T18: 16 | U18: 17 | V18: 18 | W18: 1+7=8+16+17 | Y18: 2=3+4 | AA18: 2=5+6+7 | AC18: 7=9+10+11+12
A19: 1 | B19: Æñ³í³µ³Ý³Ï³Ý ³ÝÓÇ ëÝ³ÝÏáõÃÛ³Ý í»ñ³µ»ñÛ³É | E19: =[1]Ա.Կուբանյան!E19+[1]Ա.Չիչոյան!E19 -> 84 | F19: =[1]Ա.Կուբանյան!F19+[1]Ա.Չիչոյան!F19 -> 80 | G19: =[1]Ա.Կուբանյան!G19+[1]Ա.Չիչոյան!G19 -> 80 | H19: =[1]Ա.Կուբանյան!H19+[1]Ա.Չիչոյան!H19 -> 0 | I19: =[1]Ա.Կուբանյան!I19+[1]Ա.Չիչոյան!I19 -> 0 | J19: =[1]Ա.Կուբանյան!J19+[1]Ա.Չիչոյան!J19 -> 31 | K19: =[1]Ա.Կուբանյան!K19+[1]Ա.Չիչոյան!K19 -> 49 | L19: 0 | M19: =[1]Ա.Կուբանյան!M19+[1]Ա.Չիչոյան!M19 -> 14 | N19: =[1]Ա.Կուբանյան!N19+[1]Ա.Չիչոյան!N19 -> 3 | O19: =[1]Ա.Կուբանյան!O19+[1]Ա.Չիչոյան!O19 -> 0 | P19: =[1]Ա.Կուբանյան!P19+[1]Ա.Չիչոյան!P19 -> 31 | Q19: =[1]Ա.Կուբանյան!Q19+[1]Ա.Չիչոյան!Q19 -> 2 | R19: =[1]Ա.Կուբանյան!R19+[1]Ա.Չիչոյան!R19 -> 0 | S19: =[1]Ա.Կուբանյան!S19+[1]Ա.Չիչոյան!S19 -> 2 | T19: =[1]Ա.Կուբանյան!T19+[1]Ա.Չիչոյան!T19 -> 28 | ... V19: =[1]Ա.Կուբանյան!V19+[1]Ա.Չիչոյան!V19 -> 2 | W19: =E19+K19 -> 133 | X19: =L19+T19+U19 -> 133 | Y19: =F19 -> 80 | Z19: =G19+H19 -> 80 | AA19: =F19 -> 80 | AB19: =I19+J19+K19 -> 80 | AC19: =K19 -> 49 | AD19: =M19+N19+O19+P19 -> 48
A20: 2 | B20: ²ÝÑ³ï Ó»éÝ»ñ»óÇ ëÝ³ÝÏáõÃÛ³Ý í»ñ³µ»ñÛ³É | E20: =[1]Ա.Կուբանյան!E20+[1]Ա.Չիչոյան!E20 -> 15 | F20: =[1]Ա.Կուբանյան!F20+[1]Ա.Չիչոյան!F20 -> 10 | G20: =[1]Ա.Կուբանյան!G20+[1]Ա.Չիչոյան!G20 -> 10 | H20: =[1]Ա.Կուբանյան!H20+[1]Ա.Չիչոյան!H20 -> 0 | I20: =[1]Ա.Կուբանյան!I20+[1]Ա.Չիչոյան!I20 -> 0 | J20: =[1]Ա.Կուբանյան!J20+[1]Ա.Չիչոյան!J20 -> 6 | K20: =[1]Ա.Կուբանյան!K20+[1]Ա.Չիչոյան!K20 -> 4 | L20: 0 | M20: =[1]Ա.Կուբանյան!M20+[1]Ա.Չիչոյան!M20 -> 1 | N20: =[1]Ա.Կուբանյան!N20+[1]Ա.Չիչոյան!N20 -> 0 | O20: =[1]Ա.Կուբանյան!O20+[1]Ա.Չիչոյան!O20 -> 0 | P20: =[1]Ա.Կուբանյան!P20+[1]Ա.Չիչոյան!P20 -> 3 | Q20: =[1]Ա.Կուբանյան!Q20+[1]Ա.Չիչոյան!Q20 -> 0 | R20: =[1]Ա.Կուբանյան!R20+[1]Ա.Չիչոյան!R20 -> 0 | S20: =[1]Ա.Կուբանյան!S20+[1]Ա.Չիչոյան!S20 -> 0 | T20: =[1]Ա.Կուբանյան!T20+[1]Ա.Չիչոյան!T20 -> 3 | ... V20: =[1]Ա.Կուբանյան!V20+[1]Ա.Չիչոյան!V20 -> 0 | W20: =E20+K20 -> 19 | X20: =L20+T20+U20 -> 19 | Y20: =F20 -> 10 | Z20: =G20+H20 -> 10 | AA20: =F20 -> 10 | AB20: =I20+J20+K20 -> 10 | AC20: =K20 -> 4 | AD20: =M20+N20+O20+P20 -> 4
A21: 3 | B21: üÇ½ÇÏ³Ï³Ý ³ÝÓ³Ýó ëÝ³ÝÏáõÃÛ³Ý í»ñ³µ»ñÛ³É | E21: =[1]Ա.Կուբանյան!E21+[1]Ա.Չիչոյան!E21 -> 70 | F21: =[1]Ա.Կուբանյան!F21+[1]Ա.Չիչոյան!F21 -> 80 | G21: =[1]Ա.Կուբանյան!G21+[1]Ա.Չիչոյան!G21 -> 65 | H21: =[1]Ա.Կուբանյան!H21+[1]Ա.Չիչոյան!H21 -> 15 | I21: =[1]Ա.Կուբանյան!I21+[1]Ա.Չիչոյան!I21 -> 3 | J21: =[1]Ա.Կուբանյան!J21+[1]Ա.Չիչոյան!J21 -> 25 | K21: =[1]Ա.Կուբանյան!K21+[1]Ա.Չիչոյան!K21 -> 52 | L21: 0 | M21: =[1]Ա.Կուբանյան!M21+[1]Ա.Չիչոյան!M21 -> 23 | N21: =[1]Ա.Կուբանյան!N21+[1]Ա.Չիչոյան!N21 -> 1 | O21: =[1]Ա.Կուբանյան!O21+[1]Ա.Չիչոյան!O21 -> 0 | P21: =[1]Ա.Կուբանյան!P21+[1]Ա.Չիչոյան!P21 -> 26 | Q21: =[1]Ա.Կուբանյան!Q21+[1]Ա.Չիչոյան!Q21 -> 3 | R21: =[1]Ա.Կուբանյան!R21+[1]Ա.Չիչոյան!R21 -> 2 | S21: =[1]Ա.Կուբանյան!S21+[1]Ա.Չիչոյան!S21 -> 1 | T21: =[1]Ա.Կուբանյան!T21+[1]Ա.Չիչոյան!T21 -> 24 | ... V21: =[1]Ա.Կուբանյան!V21+[1]Ա.Չիչոյան!V21 -> 1 | W21: =E21+K21 -> 122 | X21: =L21+T21+U21 -> 122 | Y21: =F21 -> 80 | Z21: =G21+H21 -> 80 | AA21: =F21 -> 80 | AB21: =I21+J21+K21 -> 80 | AC21: =K21 -> 52 | AD21: =M21+N21+O21+P21 -> 50
A22: 4 | B22: ԸՆԴՀԱՄԵՆԸ | E22: =[1]Ա.Կուբանյան!E22+[1]Ա.Չիչոյան!E22 -> 169 | F22: =[1]Ա.Կուբանյան!F22+[1]Ա.Չիչոյան!F22 -> 170 | G22: =[1]Ա.Կուբանյան!G22+[1]Ա.Չիչոյան!G22 -> 155 | H22: =[1]Ա.Կուբանյան!H22+[1]Ա.Չիչոյան!H22 -> 15 | I22: =[1]Ա.Կուբանյան!I22+[1]Ա.Չիչոյան!I22 -> 3 | J22: =[1]Ա.Կուբանյան!J22+[1]Ա.Չիչոյան!J22 -> 62 | K22: =[1]Ա.Կուբանյան!K22+[1]Ա.Չիչոյան!K22 -> 105 | L22: 0 | M22: =[1]Ա.Կուբանյան!M22+[1]Ա.Չիչոյան!M22 -> 38 | N22: =[1]Ա.Կուբանյան!N22+[1]Ա.Չիչոյան!N22 -> 4 | O22: =[1]Ա.Կուբանյան!O22+[1]Ա.Չիչոյան!O22 -> 0 | P22: =[1]Ա.Կուբանյան!P22+[1]Ա.Չիչոյան!P22 -> 60 | Q22: =[1]Ա.Կուբանյան!Q22+[1]Ա.Չիչոյան!Q22 -> 5 | R22: =[1]Ա.Կուբանյան!R22+[1]Ա.Չիչոյան!R22 -> 2 | S22: =[1]Ա.Կուբանյան!S22+[1]Ա.Չիչոյան!S22 -> 3 | T22: =[1]Ա.Կուբանյան!T22+[1]Ա.Չիչոյան!T22 -> 55 | ... V22: =[1]Ա.Կուբանյան!V22+[1]Ա.Չիչոյան!V22 -> 2 | W22: =E22+K22 -> 274 | X22: =L22+T22+U22 -> 274 | Y22: =F22 -> 170 | Z22: =G22+H22 -> 170 | AA22: =F22 -> 170 | AB22: =I22+J22+K22 -> 170 | AC22: =K22 -> 105 | AD22: =M22+N22+O22+P22 -> 102

Sheet Arabkir
A1: Ð²ÞìºîìàôÂÚàôÜ
A2: ºðºì²ÜÆ ²ð²´ÎÆð ºì ø²Ü²øºè-¼ºÚÂàôÜ ì²ðâ²Î²Ü Þðæ²ÜÜºðÆ ÀÜ¸Ð²Üàôð Æð²ì²êàôÂÚ²Ü ²è²æÆÜ ²îÚ²ÜÆ ¸²î²ð²ÜÆ
H3: ¶àðÌàôÜºàôÂÚ²Ü ìºð²´ºðÚ²È êÜ²ÜÎàôÂÚ²Ü ¶àðÌºðՈՎ 2015թ.
A4: ìÇ×³Ï³·ñ³Ï³Ý ïáÕÇ Ñ³Ù³ñÁ | B4: êïáõ·Çã Ñ³í³ë³ñáõÙÝ»ñ` 1+7=8+16+17, 2=3+4, 2=5+6+7, 7=9+10+11+12 | E4: ²Ý³í³ñï ·áñÍ»ñÇ ÙÝ³óáñ¹Á Ñ³ßí»ïáõ Å³Ù³Ý³Ï³ßñç³ÝÇ ëÏ½µáõÙ | F4: êï³óí³Í ¹ÇÙáõÙÝ»ñÇ (·áñÍ»ñ) ù³Ý³ÏÁ | L4: öáË³Ýóí»É ¿ ³ÛÉ ¹³ï³íáñÇ (Ï³½ÙÇ ÷á÷áËáõÃÛáõÝ) | M4: ì³ñáõÛÃ ÁÝ¹áõÝí³Í ¹ÇÙáõÙÝ»ñáí Ï³Û³óí³Í ¹³ï³Ï³Ý ³Ïï»ñ | Q4: Ü»ñÏ³Û³óí»É ¿ ýÇÝ³Ýë³Ï³Ý ³éáÕç³óÙ³Ý Íñ³·Çñ | T4: ²í³ñïí»É »Ý ·áñÍ»ñ Ñ³ßí»ïáõ Å³Ù³Ý³Ï³ßñç³ÝáõÙ | U4: ²Ý³í³ñï ·áñÍ»ñÇ ÙÝ³óáñ¹Á Ñ³ßí»ïáõ Å³Ù³Ý³Ï³ßñç³ÝÇ í»ñçáõÙ | V4: ´áÕáù³ñÏí»É »Ý í»ñ³ùÝÝÇã ¹³ï³ñ³Ý
F6: ÀÝ¹³Ù»ÝÁ | G6: ³Û¹ ÃíáõÙ Ñ³ñÏ³¹ñí³Í ëÝ³ÝÏáõÃÛáõÝ | H6: ³Û¹ ÃíáõÙ Ï³Ù³íáñ ëÝ³ÝÏáõÃÛáõÝ | I6: ëï³óí³Í ¹ÇÙáõÙÝ»ñÇ ÁÝÃ³óùÁ | M6: Ï³Û³óí»É ¿ å³ñï³å³ÝÇÝ ëÝ³ÝÏ ×³Ý³ã»Éáõ Ù³ëÇÝ í×Çé | N6: å³ñï³å³ÝÇÝ ëÝ³ÝÏ ×³Ý³ã»Éáõ ¹ÇÙáõÙÁ Ù»ñÅí»É ¿ | O6: ¹ÇÙáõÙÁ ÃáÕÝí»É ¿ ³é³Ýó ùÝÝáõÃÛ³Ý | P6: ³Ý³í³ñï (³Û¹ ÃíáõÙ Ï³ë»óí³Í) | Q6: ÀÝ¹³Ù»ÝÁ | R6: ÃáÕÝí»É ¿ ³é³Ýó ùÝÝ³ñÏÙ³Ý | S6: Ñ³ëï³ïí»É ¿
I8: ¸ÇÙáõÙÇ ÁÝ¹áõÝáõÙÁ Ù»ñÅí»É ¿ | J8: ¸ÇÙáõÙÁ í»ñ³¹³ñÓí»É ¿ | K8: ÀÝ¹áõÝí»É ¿ í³ñáõÛÃ
E18: 1 | F18: 2 | G18: 3 | H18: 4 | I18: 5 | J18: 6 | K18: 7 | L18: 8 | M18: 9 | N18: 10 | O18: 11 | P18: 12 | Q18: 13 | R18: 14 | S18: 15 | T18: 16 | U18: 17 | V18: 18 | W18: 1+7=8+16+17 | Y18: 2=3+4 | AA18: 2=5+6+7 | AC18: 7=9+10+11+12
A19: 1 | B19: Æñ³í³µ³Ý³Ï³Ý ³ÝÓÇ ëÝ³ÝÏáõÃÛ³Ý í»ñ³µ»ñÛ³É | E19: 167 | F19: 149 | G19: 144 | J19: =[2]Ա.Դանիելյան!J19+'[2]Ռ. Բունիաթյան'!J19+[2]Ս.Հովսեփյան!J19+[2]Ս.Թադևոսյան!J19 -> 20 | K19: =[2]Ա.Դանիելյան!K19+'[2]Ռ. Բունիաթյան'!K19+[2]Ս.Հովսեփյան!K19+[2]Ս.Թադևոսյան!K19 -> 129 | L19: =[2]Ա.Դանիելյան!L19+'[2]Ռ. Բունիաթյան'!L19+[2]Ս.Հովսեփյան!L19+[2]Ս.Թադևոսյան!L19 -> 1 | M19: =[2]Ա.Դանիելյան!M19+'[2]Ռ. Բունիաթյան'!M19+[2]Ս.Հովսեփյան!M19+[2]Ս.Թադևոսյան!M19 -> 36 | N19: =[2]Ա.Դանիելյան!N19+'[2]Ռ. Բունիաթյան'!N19+[2]Ս.Հովսեփյան!N19+[2]Ս.Թադևոսյան!N19 -> 0 | P19: =[2]Ա.Դանիելյան!P19+'[2]Ռ. Բունիաթյան'!P19+[2]Ս.Հովսեփյան!P19+[2]Ս.Թադևոսյան!P19 -> 101 | T19: =[2]Ա.Դանիելյան!T19+'[2]Ռ. Բունիաթյան'!T19+[2]Ս.Հովսեփյան!T19+[2]Ս.Թադևոսյան!T19 -> 60 | U19: =[2]Ա.Դանիելյան!U19+'[2]Ռ. Բունիաթյան'!U19+[2]Ս.Հովսեփյան!U19+[2]Ս.Թադևոսյան!U19 -> 209 | V19: =[2]Ա.Դանիելյան!V19+'[2]Ռ. Բունիաթյան'!V19+[2]Ս.Հովսեփյան!V19+[2]Ս.Թադևոսյան!V19 -> 21 | W19: =E19+K19 -> 296 | X19: =L19+T19+U19 -> 270 | Y19: =F19 -> 149 | Z19: =G19+H19 -> 144 | AA19: =F19 -> 149 | AB19: =I19+J19+K19 -> 149 | AC19: =K19 -> 129 | AD19: =M19+N19+O19+P19 -> 137
A20: 2 | B20: ²ÝÑ³ï Ó»éÝ»ñ»óÇ ëÝ³ÝÏáõÃÛ³Ý í»ñ³µ»ñÛ³É | E20: 10 | F20: 13 | G20: 13 | J20: =[2]Ա.Դանիելյան!J20+'[2]Ռ. Բունիաթյան'!J20+[2]Ս.Հովսեփյան!J20+[2]Ս.Թադևոսյան!J20 -> 1 | K20: =[2]Ա.Դանիելյան!K20+'[2]Ռ. Բունիաթյան'!K20+[2]Ս.Հովսեփյան!K20+[2]Ս.Թադևոսյան!K20 -> 12 | L20: =[2]Ա.Դանիելյան!L20+'[2]Ռ. Բունիաթյան'!L20+[2]Ս.Հովսեփյան!L20+[2]Ս.Թադևոսյան!L20 -> 0 | M20: =[2]Ա.Դանիելյան!M20+'[2]Ռ. Բունիաթյան'!M20+[2]Ս.Հովսեփյան!M20+[2]Ս.Թադևոսյան!M20 -> 7 | N20: =[2]Ա.Դանիելյան!N20+'[2]Ռ. Բունիաթյան'!N20+[2]Ս.Հովսեփյան!N20+[2]Ս.Թադևոսյան!N20 -> 1 | P20: =[2]Ա.Դանիելյան!P20+'[2]Ռ. Բունիաթյան'!P20+[2]Ս.Հովսեփյան!P20+[2]Ս.Թադևոսյան!P20 -> 4 | T20: =[2]Ա.Դանիելյան!T20+'[2]Ռ. Բունիաթյան'!T20+[2]Ս.Հովսեփյան!T20+[2]Ս.Թադևոսյան!T20 -> 4 | U20: =[2]Ա.Դանիելյան!U20+'[2]Ռ. Բունիաթյան'!U20+[2]Ս.Հովսեփյան!U20+[2]Ս.Թադևոսյան!U20 -> 17 | V20: =[2]Ա.Դանիելյան!V20+'[2]Ռ. Բունիաթյան'!V20+[2]Ս.Հովսեփյան!V20+[2]Ս.Թադևոսյան!V20 -> 2 | W20: =E20+K20 -> 22 | X20: =L20+T20+U20 -> 21 | Y20: =F20 -> 13 | Z20: =G20+H20 -> 13 | AA20: =F20 -> 13 | AB20: =I20+J20+K20 -> 13 | AC20: =K20 -> 12 | AD20: =M20+N20+O20+P20 -> 12
A21: 3 | B21: üÇ½ÇÏ³Ï³Ý ³ÝÓ³Ýó ëÝ³ÝÏáõÃÛ³Ý í»ñ³µ»ñÛ³É | E21: 111 | F21: 102 | G21: 94 | H21: 8 | J21: =[2]Ա.Դանիելյան!J21+'[2]Ռ. Բունիաթյան'!J21+[2]Ս.Հովսեփյան!J21+[2]Ս.Թադևոսյան!J21 -> 18 | K21: =[2]Ա.Դանիելյան!K21+'[2]Ռ. Բունիաթյան'!K21+[2]Ս.Հովսեփյան!K21+[2]Ս.Թադևոսյան!K21 -> 84 | L21: =[2]Ա.Դանիելյան!L21+'[2]Ռ. Բունիաթյան'!L21+[2]Ս.Հովսեփյան!L21+[2]Ս.Թադևոսյան!L21 -> 1 | M21: =[2]Ա.Դանիելյան!M21+'[2]Ռ. Բունիաթյան'!M21+[2]Ս.Հովսեփյան!M21+[2]Ս.Թադևոսյան!M21 -> 34 | N21: =[2]Ա.Դանիելյան!N21+'[2]Ռ. Բունիաթյան'!N21+[2]Ս.Հովսեփյան!N21+[2]Ս.Թադևոսյան!N21 -> 3 | P21: =[2]Ա.Դանիելյան!P21+'[2]Ռ. Բունիաթյան'!P21+[2]Ս.Հովսեփյան!P21+[2]Ս.Թադևոսյան!P21 -> 39 | T21: =[2]Ա.Դանիելյան!T21+'[2]Ռ. Բունիաթյան'!T21+[2]Ս.Հովսեփյան!T21+[2]Ս.Թադևոսյան!T21 -> 33 | U21: =[2]Ա.Դանիելյան!U21+'[2]Ռ. Բունիաթյան'!U21+[2]Ս.Հովսեփյան!U21+[2]Ս.Թադևոսյան!U21 -> 163 | V21: =[2]Ա.Դանիելյան!V21+'[2]Ռ. Բունիաթյան'!V21+[2]Ս.Հովսեփյան!V21+[2]Ս.Թադևոսյան!V21 -> 5 | W21: =E21+K21 -> 195 | X21: =L21+T21+U21 -> 197 | Y21: =F21 -> 102 | Z21: =G21+H21 -> 102 | AA21: =F21 -> 102 | AB21: =I21+J21+K21 -> 102 | AC21: =K21 -> 84 | AD21: =M21+N21+O21+P21 -> 76
A22: 4 | B22: ԸՆԴԱՄԵՆԸ | E22: 288 | F22: 264 | G22: 251 | H22: 18 | J22: =[2]Ա.Դանիելյան!J22+'[2]Ռ. Բունիաթյան'!J22+[2]Ս.Հովսեփյան!J22+[2]Ս.Թադևոսյան!J22 -> 39 | K22: =[2]Ա.Դանիելյան!K22+'[2]Ռ. Բունիաթյան'!K22+[2]Ս.Հովսեփյան!K22+[2]Ս.Թադևոսյան!K22 -> 225 | L22: =[2]Ա.Դանիելյան!L22+'[2]Ռ. Բունիաթյան'!L22+[2]Ս.Հովսեփյան!L22+[2]Ս.Թադևոսյան!L22 -> 2 | M22: =[2]Ա.Դանիելյան!M22+'[2]Ռ. Բունիաթյան'!M22+[2]Ս.Հովսեփյան!M22+[2]Ս.Թադևոսյան!M22 -> 77 | N22: =[2]Ա.Դանիելյան!N22+'[2]Ռ. Բունիաթյան'!N22+[2]Ս.Հովսեփյան!N22+[2]Ս.Թադևոսյան!N22 -> 4 | P22: =[2]Ա.Դանիելյան!P22+'[2]Ռ. Բունիաթյան'!P22+[2]Ս.Հովսեփյան!P22+[2]Ս.Թադևոսյան!P22 -> 144 | T22: =[2]Ա.Դանիելյան!T22+'[2]Ռ. Բունիաթյան'!T22+[2]Ս.Հովսեփյան!T22+[2]Ս.Թադևոսյան!T22 -> 97 | U22: =[2]Ա.Դանիելյան!U22+'[2]Ռ. Բունիաթյան'!U22+[2]Ս.Հովսեփյան!U22+[2]Ս.Թադևոսյան!U22 -> 389 | V22: =[2]Ա.Դանիելյան!V22+'[2]Ռ. Բունիաթյան'!V22+[2]Ս.Հովսեփյան!V22+[2]Ս.Թադևոսյան!V22 -> 28 | W22: =E22+K22 -> 513 | X22: =L22+T22+U22 -> 488 | Y22: =F22 -> 264 | Z22: =G22+H22 -> 269 | AA22: =F22 -> 264 | AB22: =I22+J22+K22 -> 264 | AC22: =K22 -> 225 | AD22: =M22+N22+O22+P22 -> 225

Sheet Kentron
A1: Ð²ÞìºîìàôÂÚàôÜ
A2: ºðºì²ÜÆ ԿԵՆՏՐՈՆ ºì ՆՈՐՔ ՄԱՐԱՇ ì²ðâ²Î²Ü Þðæ²ÜÜºðÆ ÀÜ¸Ð²Üàôð Æð²ì²êàôÂÚ²Ü ²è²æÆÜ ²îÚ²ÜÆ ¸²î²ð²ÜÆ
H3: ¶àðÌàôÜºàôÂÚ²Ü ìºð²´ºðÚ²È êÜ²ÜÎàôÂÚ²Ü ¶àðÌºðՈՎ 2015թ.
A4: ìÇ×³Ï³·ñ³Ï³Ý ïáÕÇ Ñ³Ù³ñÁ | B4: êïáõ·Çã Ñ³í³ë³ñáõÙÝ»ñ` 1+7=8+16+17, 2=3+4, 2=5+6+7, 7=9+10+11+12 | E4: ²Ý³í³ñï ·áñÍ»ñÇ ÙÝ³óáñ¹Á Ñ³ßí»ïáõ Å³Ù³Ý³Ï³ßñç³ÝÇ ëÏ½µáõÙ | F4: êï³óí³Í ¹ÇÙáõÙÝ»ñÇ (·áñÍ»ñ) ù³Ý³ÏÁ | L4: öáË³Ýóí»É ¿ ³ÛÉ ¹³ï³íáñÇ (Ï³½ÙÇ ÷á÷áËáõÃÛáõÝ) | M4: ì³ñáõÛÃ ÁÝ¹áõÝí³Í ¹ÇÙáõÙÝ»ñáí Ï³Û³óí³Í ¹³ï³Ï³Ý ³Ïï»ñ | Q4: Ü»ñÏ³Û³óí»É ¿ ýÇÝ³Ýë³Ï³Ý ³éáÕç³óÙ³Ý Íñ³·Çñ | T4: ²í³ñïí»É »Ý ·áñÍ»ñ Ñ³ßí»ïáõ Å³Ù³Ý³Ï³ßñç³ÝáõÙ | U4: ²Ý³í³ñï ·áñÍ»ñÇ ÙÝ³óáñ¹Á Ñ³ßí»ïáõ Å³Ù³Ý³Ï³ßñç³ÝÇ í»ñçáõÙ | V4: ´áÕáù³ñÏí»É »Ý í»ñ³ùÝÝÇã ¹³ï³ñ³Ý
F6: ÀÝ¹³Ù»ÝÁ | G6: ³Û¹ ÃíáõÙ Ñ³ñÏ³¹ñí³Í ëÝ³ÝÏáõÃÛáõÝ | H6: ³Û¹ ÃíáõÙ Ï³Ù³íáñ ëÝ³ÝÏáõÃÛáõÝ | I6: ëï³óí³Í ¹ÇÙáõÙÝ»ñÇ ÁÝÃ³óùÁ | M6: Ï³Û³óí»É ¿ å³ñï³å³ÝÇÝ ëÝ³ÝÏ ×³Ý³ã»Éáõ Ù³ëÇÝ í×Çé | N6: å³ñï³å³ÝÇÝ ëÝ³ÝÏ ×³Ý³ã»Éáõ ¹ÇÙáõÙÁ Ù»ñÅí»É ¿ | O6: ¹ÇÙáõÙÁ ÃáÕÝí»É ¿ ³é³Ýó ùÝÝáõÃÛ³Ý | P6: ³Ý³í³ñï (³Û¹ ÃíáõÙ Ï³ë»óí³Í) | Q6: ÀÝ¹³Ù»ÝÁ | R6: ÃáÕÝí»É ¿ ³é³Ýó ùÝÝ³ñÏÙ³Ý | S6: Ñ³ëï³ïí»É ¿
I8: ¸ÇÙáõÙÇ ÁÝ¹áõÝáõÙÁ Ù»ñÅí»É ¿ | J8: ¸ÇÙáõÙÁ í»ñ³¹³ñÓí»É ¿ | K8: ÀÝ¹áõÝí»É ¿ í³ñáõÛÃ
E18: 1 | F18: 2 | G18: 3 | H18: 4 | I18: 5 | J18: 6 | K18: 7 | L18: 8 | M18: 9 | N18: 10 | O18: 11 | P18: 12 | Q18: 13 | R18: 14 | S18: 15 | T18: 16 | U18: 17 | V18: 18 | W18: 1+7=8+16+17 | Y18: 2=3+4 | AA18: 2=5+6+7 | AC18: 7=9+10+11+12
A19: 1 | B19: Æñ³í³µ³Ý³Ï³Ý ³ÝÓÇ ëÝ³ÝÏáõÃÛ³Ý í»ñ³µ»ñÛ³É | E19: 474 | F19: 162 | G19: 151 | H19: 11 | I19: 2 | J19: 2 | K19: 158 | L19: 0 | M19: 72 | N19: 4 | O19: 0 | P19: 82 | Q19: 0 | R19: 0 | S19: 0 | T19: 69 | U19: 563 | V19: 12 | W19: =E19+K19 -> 632 | X19: =L19+T19+U19 -> 632 | Y19: =F19 -> 162 | Z19: =G19+H19 -> 162 | AA19: =F19 -> 162 | AB19: =I19+J19+K19 -> 162 | AC19: =K19 -> 158 | AD19: =M19+N19+O19+P19 -> 158
A20: 2 | B20: ²ÝÑ³ï Ó»éÝ»ñ»óÇ ëÝ³ÝÏáõÃÛ³Ý í»ñ³µ»ñÛ³É | E20: 42 | F20: 11 | G20: 11 | H20: 0 | I20: 0 | J20: 0 | K20: 11 | L20: 0 | M20: 6 | N20: 0 | O20: 0 | P20: 5 | Q20: 0 | R20: 0 | S20: 0 | T20: 7 | U20: 46 | V20: 0 | W20: =E20+K20 -> 53 | X20: =L20+T20+U20 -> 53 | Y20: =F20 -> 11 | Z20: =G20+H20 -> 11 | AA20: =F20 -> 11 | AB20: =I20+J20+K20 -> 11 | AC20: =K20 -> 11 | AD20: =M20+N20+O20+P20 -> 11
A21: 3 | B21: üÇ½ÇÏ³Ï³Ý ³ÝÓ³Ýó ëÝ³ÝÏáõÃÛ³Ý í»ñ³µ»ñÛ³É | E21: 181 | F21: 256 | G21: 248 | H21: 8 | I21: 2 | J21: 16 | K21: 238 | L21: 0 | M21: 72 | N21: 11 | O21: 0 | P21: 155 | Q21: 0 | R21: 0 | S21: 0 | T21: 29 | U21: 390 | V21: 4 | W21: =E21+K21 -> 419 | X21: =L21+T21+U21 -> 419 | Y21: =F21 -> 256 | Z21: =G21+H21 -> 256 | AA21: =F21 -> 256 | AB21: =I21+J21+K21 -> 256 | AC21: =K21 -> 238 | AD21: =M21+N21+O21+P21 -> 238
A22: 4 | B22: ԸՆԴՀԱՄԵՆԸ | E22: 697 | F22: 429 | G22: 410 | H22: 19 | I22: 4 | J22: 18 | K22: 407 | M22: 150 | N22: 15 | O22: 0 | P22: 242 | Q22: 0 | R22: 0 | S22: 0 | T22: 105 | U22: 999 | V22: 16 | W22: =E22+K22 -> 1104 | X22: =L22+T22+U22 -> 1104 | Y22: =F22 -> 429 | Z22: =G22+H22 -> 429 | AA22: =F22 -> 429 | AB22: =I22+J22+K22 -> 429 | AC22: =K22 -> 407 | AD22: =M22+N22+O22+P22 -> 407

Sheet Kotayq
A1: Ð²ÞìºîìàôÂÚàôÜ
A2: Îàî²ÚøÆ Ø²ð¼Æ ÀÜ¸Ð²Üàôð Æð²ì²êàôÂÚ²Ü ²è²æÆÜ ²îÚ²ÜÆ ¸²î²ð²ÜÆ
H3: ¶àðÌàôÜºàôÂÚ²Ü ìºð²´ºðÚ²È êÜ²ÜÎàôÂÚ²Ü ¶àðÌºðՈՎ 2015թ.
A4: ìÇ×³Ï³·ñ³Ï³Ý ïáÕÇ Ñ³Ù³ñÁ | B4: êïáõ·Çã Ñ³í³ë³ñáõÙÝ»ñ` 1+7=8+16+17, 2=3+4, 2=5+6+7, 7=9+10+11+12 | E4: ²Ý³í³ñï ·áñÍ»ñÇ ÙÝ³óáñ¹Á Ñ³ßí»ïáõ Å³Ù³Ý³Ï³ßñç³ÝÇ ëÏ½µáõÙ | F4: êï³óí³Í ¹ÇÙáõÙÝ»ñÇ (·áñÍ»ñ) ù³Ý³ÏÁ | L4: öáË³Ýóí»É ¿ ³ÛÉ ¹³ï³íáñÇ (Ï³½ÙÇ ÷á÷áËáõÃÛáõÝ) | M4: ì³ñáõÛÃ ÁÝ¹áõÝí³Í ¹ÇÙáõÙÝ»ñáí Ï³Û³óí³Í ¹³ï³Ï³Ý ³Ïï»ñ | Q4: Ü»ñÏ³Û³óí»É ¿ ýÇÝ³Ýë³Ï³Ý ³éáÕç³óÙ³Ý Íñ³·Çñ | T4: ²í³ñïí»É »Ý ·áñÍ»ñ Ñ³ßí»ïáõ Å³Ù³Ý³Ï³ßñç³ÝáõÙ | U4: ²Ý³í³ñï ·áñÍ»ñÇ ÙÝ³óáñ¹Á Ñ³ßí»ïáõ Å³Ù³Ý³Ï³ßñç³ÝÇ í»ñçáõÙ | V4: ´áÕáù³ñÏí»É »Ý í»ñ³ùÝÝÇã ¹³ï³ñ³Ý
F6: ÀÝ¹³Ù»ÝÁ | G6: ³Û¹ ÃíáõÙ Ñ³ñÏ³¹ñí³Í ëÝ³ÝÏáõÃÛáõÝ | H6: ³Û¹ ÃíáõÙ Ï³Ù³íáñ ëÝ³ÝÏáõÃÛáõÝ | I6: ëï³óí³Í ¹ÇÙáõÙÝ»ñÇ ÁÝÃ³óùÁ | M6: Ï³Û³óí»É ¿ å³ñï³å³ÝÇÝ ëÝ³ÝÏ ×³Ý³ã»Éáõ Ù³ëÇÝ í×Çé | N6: å³ñï³å³ÝÇÝ ëÝ³ÝÏ ×³Ý³ã»Éáõ ¹ÇÙáõÙÁ Ù»ñÅí»É ¿ | O6: ¹ÇÙáõÙÁ ÃáÕÝí»É ¿ ³é³Ýó ùÝÝáõÃÛ³Ý | P6: ³Ý³í³ñï (³Û¹ ÃíáõÙ Ï³ë»óí³Í) | Q6: ÀÝ¹³Ù»ÝÁ | R6: ÃáÕÝí»É ¿ ³é³Ýó ùÝÝ³ñÏÙ³Ý | S6: Ñ³ëï³ïí»É ¿
I8: ¸ÇÙáõÙÇ ÁÝ¹áõÝáõÙÁ Ù»ñÅí»É ¿ | J8: ¸ÇÙáõÙÁ í»ñ³¹³ñÓí»É ¿ | K8: ÀÝ¹áõÝí»É ¿ í³ñáõÛÃ
E18: 1 | F18: 2 | G18: 3 | H18: 4 | I18: 5 | J18: 6 | K18: 7 | L18: 8 | M18: 9 | N18: 10 | O18: 11 | P18: 12 | Q18: 13 | R18: 14 | S18: 15 | T18: 16 | U18: 17 | V18: 18 | W18: 1+7=8+16+17 | Y18: 2=3+4 | AA18: 2=5+6+7 | AC18: 7=9+10+11+12
A19: 1 | B19: Æñ³í³µ³Ý³Ï³Ý ³ÝÓÇ ëÝ³ÝÏáõÃÛ³Ý í»ñ³µ»ñÛ³É | E19: 121 | F19: 64 | G19: 60 | H19: 4 | I19: 0 | J19: 1 | K19: 63 | L19: 0 | M19: 25 | N19: 12 | O19: 8 | P19: 18 | Q19: 0 | R19: 0 | S19: 0 | T19: 37 | U19: 147 | V19: 19 | W19: =E19+K19 -> 184 | X19: =L19+T19+U19 -> 184 | Y19: =F19 -> 64 | Z19: =G19+H19 -> 64 | AA19: =F19 -> 64 | AB19: =I19+J19+K19 -> 64 | AC19: =K19 -> 63 | AD19: =M19+N19+O19+P19 -> 63
A20: 2 | B20: ²ÝÑ³ï Ó»éÝ»ñ»óÇ ëÝ³ÝÏáõÃÛ³Ý í»ñ³µ»ñÛ³É | E20: 41 | F20: 10 | G20: 9 | H20: 1 | I20: 0 | J20: 0 | K20: 10 | L20: 0 | M20: 7 | N20: 0 | O20: 1 | P20: 2 | Q20: 0 | R20: 0 | S20: 0 | T20: 3 | U20: 48 | V20: 3 | W20: =E20+K20 -> 51 | X20: =L20+T20+U20 -> 51 | Y20: =F20 -> 10 | Z20: =G20+H20 -> 10 | AA20: =F20 -> 10 | AB20: =I20+J20+K20 -> 10 | AC20: =K20 -> 10 | AD20: =M20+N20+O20+P20 -> 10
A21: 3 | B21: üÇ½ÇÏ³Ï³Ý ³ÝÓ³Ýó ëÝ³ÝÏáõÃÛ³Ý í»ñ³µ»ñÛ³É | E21: 161 | F21: 77 | G21: 63 | H21: 14 | I21: 0 | J21: 4 | K21: 73 | L21: 0 | M21: 49 | N21: 1 | O21: 5 | P21: 17 | Q21: 0 | R21: 0 | S21: 0 | T21: 21 | U21: 213 | V21: 3 | W21: =E21+K21 -> 234 | X21: =L21+T21+U21 -> 234 | Y21: =F21 -> 77 | Z21: =G21+H21 -> 77 | AA21: =F21 -> 77 | AB21: =I21+J21+K21 -> 77 | AC21: =K21 -> 73 | AD21: =M21+N21+O21+P21 -> 72
A22: 4 | B22: ԸՆԴՀԱՄԵՆԸ | E22: 323 | F22: 151 | G22: 132 | H22: 19 | I22: 0 | J22: 5 | K22: 146 | L22: 0 | M22: 81 | N22: 13 | O22: 14 | P22: 37 | Q22: 0 | R22: 0 | S22: 0 | T22: 61 | U22: 408 | V22: 25 | W22: =E22+K22 -> 469 | X22: =L22+T22+U22 -> 469 | Y22: =F22 -> 151 | Z22: =G22+H22 -> 151 | AA22: =F22 -> 151 | AB22: =I22+J22+K22 -> 151 | AC22: =K22 -> 146 | AD22: =M22+N22+O22+P22 -> 145

Sheet Armavir
A1: Ð²ÞìºîìàôÂÚàôÜ
A2: ²ðØ²ìÆðÆ Ø²ð¼Æ ÀÜ¸Ð²Üàôð Æð²ì²êàôÂÚ²Ü ²è²æÆÜ ²îÚ²ÜÆ ¸²î²ð²ÜÆ
H3: ¶àðÌàôÜºàôÂÚ²Ü ìºð²´ºðÚ²È êÜ²ÜÎàôÂÚ²Ü ¶àðÌºðՈՎ 2015թ.
A4: ìÇ×³Ï³·ñ³Ï³Ý ïáÕÇ Ñ³Ù³ñÁ | B4: êïáõ·Çã Ñ³í³ë³ñáõÙÝ»ñ` 1+7=8+16+17, 2=3+4, 2=5+6+7, 7=9+10+11+12 | E4: ²Ý³í³ñï ·áñÍ»ñÇ ÙÝ³óáñ¹Á Ñ³ßí»ïáõ Å³Ù³Ý³Ï³ßñç³ÝÇ ëÏ½µáõÙ | F4: êï³óí³Í ¹ÇÙáõÙÝ»ñÇ (·áñÍ»ñ) ù³Ý³ÏÁ | L4: öáË³Ýóí»É ¿ ³ÛÉ ¹³ï³íáñÇ (Ï³½ÙÇ ÷á÷áËáõÃÛáõÝ) | M4: ì³ñáõÛÃ ÁÝ¹áõÝí³Í ¹ÇÙáõÙÝ»ñáí Ï³Û³óí³Í ¹³ï³Ï³Ý ³Ïï»ñ | Q4: Ü»ñÏ³Û³óí»É ¿ ýÇÝ³Ýë³Ï³Ý ³éáÕç³óÙ³Ý Íñ³·Çñ | T4: ²í³ñïí»É »Ý ·áñÍ»ñ Ñ³ßí»ïáõ Å³Ù³Ý³Ï³ßñç³ÝáõÙ | U4: ²Ý³í³ñï ·áñÍ»ñÇ ÙÝ³óáñ¹Á Ñ³ßí»ïáõ Å³Ù³Ý³Ï³ßñç³ÝÇ í»ñçáõÙ | V4: ´áÕáù³ñÏí»É »Ý í»ñ³ùÝÝÇã ¹³ï³ñ³Ý
F6: ÀÝ¹³Ù»ÝÁ | G6: ³Û¹ ÃíáõÙ Ñ³ñÏ³¹ñí³Í ëÝ³ÝÏáõÃÛáõÝ | H6: ³Û¹ ÃíáõÙ Ï³Ù³íáñ ëÝ³ÝÏáõÃÛáõÝ | I6: ëï³óí³Í ¹ÇÙáõÙÝ»ñÇ ÁÝÃ³óùÁ | M6: Ï³Û³óí»É ¿ å³ñï³å³ÝÇÝ ëÝ³ÝÏ ×³Ý³ã»Éáõ Ù³ëÇÝ í×Çé | N6: å³ñï³å³ÝÇÝ ëÝ³ÝÏ ×³Ý³ã»Éáõ ¹ÇÙáõÙÁ Ù»ñÅí»É ¿ | O6: ¹ÇÙáõÙÁ ÃáÕÝí»É ¿ ³é³Ýó ùÝÝáõÃÛ³Ý | P6: ³Ý³í³ñï (³Û¹ ÃíáõÙ Ï³ë»óí³Í) | Q6: ÀÝ¹³Ù»ÝÁ | R6: ÃáÕÝí»É ¿ ³é³Ýó ùÝÝ³ñÏÙ³Ý | S6: Ñ³ëï³ïí»É ¿
I8: ¸ÇÙáõÙÇ ÁÝ¹áõÝáõÙÁ Ù»ñÅí»É ¿ | J8: ¸ÇÙáõÙÁ í»ñ³¹³ñÓí»É ¿ | K8: ÀÝ¹áõÝí»É ¿ í³ñáõÛÃ
E18: 1 | F18: 2 | G18: 3 | H18: 4 | I18: 5 | J18: 6 | K18: 7 | L18: 8 | M18: 9 | N18: 10 | O18: 11 | P18: 12 | Q18: 13 | R18: 14 | S18: 15 | T18: 16 | U18: 17 | V18: 18 | W18: 1+7=8+16+17 | Y18: 2=3+4 | AA18: 2=5+6+7 | AC18: 7=9+10+11+12
A19: 1 | B19: Æñ³í³µ³Ý³Ï³Ý ³ÝÓÇ ëÝ³ÝÏáõÃÛ³Ý í»ñ³µ»ñÛ³É | E19: 41 | F19: 36 | G19: 36 | J19: 5 | K19: 24 | L19: 7 | M19: 11 | N19: 1 | O19: 2 | P19: 10 | T19: 14 | U19: 51 | W19: =E19+K19 -> 65 | X19: =L19+T19+U19 -> 72 | Y19: =F19 -> 36 | Z19: =G19+H19 -> 36 | AA19: =F19 -> 36 | AB19: =I19+J19+K19 -> 29 | AC19: =K19 -> 24 | AD19: =M19+N19+O19+P19 -> 24
A20: 2 | B20: ²ÝÑ³ï Ó»éÝ»ñ»óÇ ëÝ³ÝÏáõÃÛ³Ý í»ñ³µ»ñÛ³É | E20: 7 | F20: 15 | G20: 15 | J20: 4 | K20: 8 | L20: 3 | M20: 5 | P20: 3 | U20: 15 | W20: =E20+K20 -> 15 | X20: =L20+T20+U20 -> 18 | Y20: =F20 -> 15 | Z20: =G20+H20 -> 15 | AA20: =F20 -> 15 | AB20: =I20+J20+K20 -> 12 | AC20: =K20 -> 8 | AD20: =M20+N20+O20+P20 -> 8
A21: 3 | B21: üÇ½ÇÏ³Ï³Ý ³ÝÓ³Ýó ëÝ³ÝÏáõÃÛ³Ý í»ñ³µ»ñÛ³É | E21: 45 | F21: 54 | G21: 53 | H21: 1 | J21: 7 | K21: 42 | L21: 5 | M21: 22 | N21: 3 | P21: 17 | T21: 7 | U21: 80 | V21: 3 | W21: =E21+K21 -> 87 | X21: =L21+T21+U21 -> 92 | Y21: =F21 -> 54 | Z21: =G21+H21 -> 54 | AA21: =F21 -> 54 | AB21: =I21+J21+K21 -> 49 | AC21: =K21 -> 42 | AD21: =M21+N21+O21+P21 -> 42
A22: 4 | B22: ԸՆԴՀԱՄԵՆԸ | E22: 93 | F22: 105 | G22: 104 | H22: 1 | J22: 16 | K22: 74 | L22: 15 | M22: 38 | N22: 4 | O22: 2 | P22: 30 | T22: 21 | U22: 146 | V22: 3 | W22: =E22+K22 -> 167 | X22: =L22+T22+U22 -> 182 | Y22: =F22 -> 105 | Z22: =G22+H22 -> 105 | AA22: =F22 -> 105 | AB22: =I22+J22+K22 -> 90 | AC22: =K22 -> 74 | AD22: =M22+N22+O22+P22 -> 74

Sheet Aragacotn
A1: Ð²ÞìºîìàôÂÚàôÜ
A2: ²ð²¶²ÌàîÜÆ Ø²ð¼Æ ÀÜ¸Ð²Üàôð Æð²ì²êàôÂÚ²Ü ²è²æÆÜ ²îÚ²ÜÆ ¸²î²ð²ÜÆ
H3: ¶àðÌàôÜºàôÂÚ²Ü ìºð²´ºðÚ²È êÜ²ÜÎàôÂÚ²Ü ¶àðÌºðàì 2015թ.
A4: ìÇ×³Ï³·ñ³Ï³Ý ïáÕÇ Ñ³Ù³ñÁ | B4: êïáõ·Çã Ñ³í³ë³ñáõÙÝ»ñ` 1+7=8+16+17, 2=3+4, 2=5+6+7, 7=9+10+11+12 | E4: ²Ý³í³ñï ·áñÍ»ñÇ ÙÝ³óáñ¹Á Ñ³ßí»ïáõ Å³Ù³Ý³Ï³ßñç³ÝÇ ëÏ½µáõÙ | F4: êï³óí³Í ¹ÇÙáõÙÝ»ñÇ (·áñÍ»ñ) ù³Ý³ÏÁ | L4: öáË³Ýóí»É ¿ ³ÛÉ ¹³ï³íáñÇ (Ï³½ÙÇ ÷á÷áËáõÃÛáõÝ) | M4: ì³ñáõÛÃ ÁÝ¹áõÝí³Í ¹ÇÙáõÙÝ»ñáí Ï³Û³óí³Í ¹³ï³Ï³Ý ³Ïï»ñ | Q4: Ü»ñÏ³Û³óí»É ¿ ýÇÝ³Ýë³Ï³Ý ³éáÕç³óÙ³Ý Íñ³·Çñ | T4: ²í³ñïí»É »Ý ·áñÍ»ñ Ñ³ßí»ïáõ Å³Ù³Ý³Ï³ßñç³ÝáõÙ | U4: ²Ý³í³ñï ·áñÍ»ñÇ ÙÝ³óáñ¹Á Ñ³ßí»ïáõ Å³Ù³Ý³Ï³ßñç³ÝÇ í»ñçáõÙ | V4: ´áÕáù³ñÏí»É »Ý í»ñ³ùÝÝÇã ¹³ï³ñ³Ý
F6: ÀÝ¹³Ù»ÝÁ | G6: ³Û¹ ÃíáõÙ Ñ³ñÏ³¹ñí³Í ëÝ³ÝÏáõÃÛáõÝ | H6: ³Û¹ ÃíáõÙ Ï³Ù³íáñ ëÝ³ÝÏáõÃÛáõÝ | I6: ëï³óí³Í ¹ÇÙáõÙÝ»ñÇ ÁÝÃ³óùÁ | M6: Ï³Û³óí»É ¿ å³ñï³å³ÝÇÝ ëÝ³ÝÏ ×³Ý³ã»Éáõ Ù³ëÇÝ í×Çé | N6: å³ñï³å³ÝÇÝ ëÝ³ÝÏ ×³Ý³ã»Éáõ ¹ÇÙáõÙÁ Ù»ñÅí»É ¿ | O6: ¹ÇÙáõÙÁ ÃáÕÝí»É ¿ ³é³Ýó ùÝÝáõÃÛ³Ý | P6: ³Ý³í³ñï (³Û¹ ÃíáõÙ Ï³ë»óí³Í) | Q6: ÀÝ¹³Ù»ÝÁ | R6: ÃáÕÝí»É ¿ ³é³Ýó ùÝÝ³ñÏÙ³Ý | S6: Ñ³ëï³ïí»É ¿
I8: ¸ÇÙáõÙÇ ÁÝ¹áõÝáõÙÁ Ù»ñÅí»É ¿ | J8: ¸ÇÙáõÙÁ í»ñ³¹³ñÓí»É ¿ | K8: ÀÝ¹áõÝí»É ¿ í³ñáõÛÃ
E18: 1 | F18: 2 | G18: 3 | H18: 4 | I18: 5 | J18: 6 | K18: 7 | L18: 8 | M18: 9 | N18: 10 | O18: 11 | P18: 12 | Q18: 13 | R18: 14 | S18: 15 | T18: 16 | U18: 17 | V18: 18 | W18: 1+7=8+16+17 | Y18: 2=3+4 | AA18: 2=5+6+7 | AC18: 7=9+10+11+12
A19: 1 | B19: Æñ³í³µ³Ý³Ï³Ý ³ÝÓÇ ëÝ³ÝÏáõÃÛ³Ý í»ñ³µ»ñÛ³É | E19: 46 | F19: 9 | G19: 9 | J19: 1 | K19: 8 | M19: 3 | P19: 5 | T19: 6 | U19: 48 | V19: 3 | W19: =E19+K19 -> 54 | X19: =L19+T19+U19 -> 54 | Y19: =F19 -> 9 | Z19: =G19+H19 -> 9 | AA19: =F19 -> 9 | AB19: =I19+J19+K19 -> 9 | AC19: =K19 -> 8 | AD19: =M19+N19+O19+P19 -> 8
A20: 2 | B20: ²ÝÑ³ï Ó»éÝ»ñ»óÇ ëÝ³ÝÏáõÃÛ³Ý í»ñ³µ»ñÛ³É | E20: 10 | T20: 1 | U20: 9 | W20: =E20+K20 -> 10 | X20: =L20+T20+U20 -> 10 | Y20: =F20 -> 0 | Z20: =G20+H20 -> 0 | AA20: =F20 -> 0 | AB20: =I20+J20+K20 -> 0 | AC20: =K20 -> 0 | AD20: =M20+N20+O20+P20 -> 0
A21: 3 | B21: üÇ½ÇÏ³Ï³Ý ³ÝÓ³Ýó ëÝ³ÝÏáõÃÛ³Ý í»ñ³µ»ñÛ³É | E21: 72 | F21: 38 | G21: 34 | H21: 4 | J21: 18 | K21: 20 | M21: 11 | N21: 3 | P21: 6 | T21: 16 | U21: 76 | V21: 4 | W21: =E21+K21 -> 92 | X21: =L21+T21+U21 -> 92 | Y21: =F21 -> 38 | Z21: =G21+H21 -> 38 | AA21: =F21 -> 38 | AB21: =I21+J21+K21 -> 38 | AC21: =K21 -> 20 | AD21: =M21+N21+O21+P21 -> 20
A22: 4 | B22: ԸՆԴՀԱՄԵՆԸ | E22: 128 | F22: 47 | G22: 43 | H22: 4 | J22: 19 | K22: 28 | M22: 14 | N22: 3 | P22: 11 | T22: 23 | U22: 133 | V22: 7 | W22: =E22+K22 -> 156 | X22: =L22+T22+U22 -> 156 | Y22: =F22 -> 47 | Z22: =G22+H22 -> 47 | AA22: =F22 -> 47 | AB22: =I22+J22+K22 -> 47 | AC22: =K22 -> 28 | AD22: =M22+N22+O22+P22 -> 28

Sheet Syuniq
A1: Ð²ÞìºîìàôÂÚàôÜ
A2: êÚàôÜÆøÆ Ø²ð¼Æ ÀÜ¸Ð²Üàôð Æð²ì²êàôÂÚ²Ü ²è²æÆÜ ²îÚ²ÜÆ ¸²î²ð²ÜÆ
H3: ¶àðÌàôÜºàôÂÚ²Ü ìºð²´ºðÚ²È êÜ²ÜÎàôÂÚ²Ü ¶àðÌºðՈՎ 2015թ.
A4: ìÇ×³Ï³·ñ³Ï³Ý ïáÕÇ Ñ³Ù³ñÁ | B4: êïáõ·Çã Ñ³í³ë³ñáõÙÝ»ñ` 1+7=8+16+17, 2=3+4, 2=5+6+7, 7=9+10+11+12 | E4: ²Ý³í³ñï ·áñÍ»ñÇ ÙÝ³óáñ¹Á Ñ³ßí»ïáõ Å³Ù³Ý³Ï³ßñç³ÝÇ ëÏ½µáõÙ | F4: êï³óí³Í ¹ÇÙáõÙÝ»ñÇ (·áñÍ»ñ) ù³Ý³ÏÁ | L4: öáË³Ýóí»É ¿ ³ÛÉ ¹³ï³íáñÇ (Ï³½ÙÇ ÷á÷áËáõÃÛáõÝ) | M4: ì³ñáõÛÃ ÁÝ¹áõÝí³Í ¹ÇÙáõÙÝ»ñáí Ï³Û³óí³Í ¹³ï³Ï³Ý ³Ïï»ñ | Q4: Ü»ñÏ³Û³óí»É ¿ ýÇÝ³Ýë³Ï³Ý ³éáÕç³óÙ³Ý Íñ³·Çñ | T4: ²í³ñïí»É »Ý ·áñÍ»ñ Ñ³ßí»ïáõ Å³Ù³Ý³Ï³ßñç³ÝáõÙ | U4: ²Ý³í³ñï ·áñÍ»ñÇ ÙÝ³óáñ¹Á Ñ³ßí»ïáõ Å³Ù³Ý³Ï³ßñç³ÝÇ í»ñçáõÙ | V4: ´áÕáù³ñÏí»É »Ý í»ñ³ùÝÝÇã ¹³ï³ñ³Ý
F6: ÀÝ¹³Ù»ÝÁ | G6: ³Û¹ ÃíáõÙ Ñ³ñÏ³¹ñí³Í ëÝ³ÝÏáõÃÛáõÝ | H6: ³Û¹ ÃíáõÙ Ï³Ù³íáñ ëÝ³ÝÏáõÃÛáõÝ | I6: ëï³óí³Í ¹ÇÙáõÙÝ»ñÇ ÁÝÃ³óùÁ | M6: Ï³Û³óí»É ¿ å³ñï³å³ÝÇÝ ëÝ³ÝÏ ×³Ý³ã»Éáõ Ù³ëÇÝ í×Çé | N6: å³ñï³å³ÝÇÝ ëÝ³ÝÏ ×³Ý³ã»Éáõ ¹ÇÙáõÙÁ Ù»ñÅí»É ¿ | O6: ¹ÇÙáõÙÁ ÃáÕÝí»É ¿ ³é³Ýó ùÝÝáõÃÛ³Ý | P6: ³Ý³í³ñï (³Û¹ ÃíáõÙ Ï³ë»óí³Í) | Q6: ÀÝ¹³Ù»ÝÁ | R6: ÃáÕÝí»É ¿ ³é³Ýó ùÝÝ³ñÏÙ³Ý | S6: Ñ³ëï³ïí»É ¿
I8: ¸ÇÙáõÙÇ ÁÝ¹áõÝáõÙÁ Ù»ñÅí»É ¿ | J8: ¸ÇÙáõÙÁ í»ñ³¹³ñÓí»É ¿ | K8: ÀÝ¹áõÝí»É ¿ í³ñáõÛÃ
E18: 1 | F18: 2 | G18: 3 | H18: 4 | I18: 5 | J18: 6 | K18: 7 | L18: 8 | M18: 9 | N18: 10 | O18: 11 | P18: 12 | Q18: 13 | R18: 14 | S18: 15 | T18: 16 | U18: 17 | V18: 18 | W18: 1+7=8+16+17 | Y18: 2=3+4 | AA18: 2=5+6+7 | AC18: 7=9+10+11+12
A19: 1 | B19: Æñ³í³µ³Ý³Ï³Ý ³ÝÓÇ ëÝ³ÝÏáõÃÛ³Ý í»ñ³µ»ñÛ³É | E19: 81 | F19: 17 | G19: 16 | H19: 1 | I19: 0 | J19: 9 | K19: 8 | L19: 0 | M19: 1 | N19: 1 | O19: 0 | P19: 6 | Q19: 0 | R19: 0 | S19: 0 | T19: 3 | U19: 86 | V19: 1 | W19: =E19+K19 -> 89 | X19: =L19+T19+U19 -> 89 | Y19: =F19 -> 17 | Z19: =G19+H19 -> 17 | AA19: =F19 -> 17 | AB19: =I19+J19+K19 -> 17 | AC19: =K19 -> 8 | AD19: =M19+N19+O19+P19 -> 8
A20: 2 | B20: ²ÝÑ³ï Ó»éÝ»ñ»óÇ ëÝ³ÝÏáõÃÛ³Ý í»ñ³µ»ñÛ³É | E20: 46 | F20: 1 | G20: 1 | H20: 0 | I20: 0 | J20: 0 | K20: 1 | L20: 0 | M20: 0 | N20: 0 | O20: 0 | P20: 1 | Q20: 0 | R20: 0 | S20: 0 | T20: 4 | U20: 43 | V20: 0 | W20: =E20+K20 -> 47 | X20: =L20+T20+U20 -> 47 | Y20: =F20 -> 1 | Z20: =G20+H20 -> 1 | AA20: =F20 -> 1 | AB20: =I20+J20+K20 -> 1 | AC20: =K20 -> 1 | AD20: =M20+N20+O20+P20 -> 1
A21: 3 | B21: üÇ½ÇÏ³Ï³Ý ³ÝÓ³Ýó ëÝ³ÝÏáõÃÛ³Ý í»ñ³µ»ñÛ³É | E21: 120 | F21: 41 | G21: 25 | H21: 16 | I21: 0 | J21: 10 | K21: 31 | L21: 0 | M21: 14 | N21: 1 | O21: 0 | P21: 16 | Q21: 0 | R21: 0 | S21: 0 | T21: 3 | U21: 148 | V21: 1 | W21: =E21+K21 -> 151 | X21: =L21+T21+U21 -> 151 | Y21: =F21 -> 41 | Z21: =G21+H21 -> 41 | AA21: =F21 -> 41 | AB21: =I21+J21+K21 -> 41 | AC21: =K21 -> 31 | AD21: =M21+N21+O21+P21 -> 31
A22: 4 | B22: ԸՆԴՀԱՄԵՆԸ | E22: 247 | F22: 59 | G22: 42 | H22: 17 | I22: 0 | J22: 19 | K22: 40 | L22: 0 | M22: 15 | N22: 2 | O22: 0 | P22: 23 | Q22: 0 | R22: 0 | S22: 0 | T22: 10 | U22: 277 | V22: 2 | W22: =E22+K22 -> 287 | X22: =L22+T22+U22 -> 287 | Y22: =F22 -> 59 | Z22: =G22+H22 -> 59 | AA22: =F22 -> 59 | AB22: =I22+J22+K22 -> 59 | AC22: =K22 -> 40 | AD22: =M22+N22+O22+P22 -> 40

Sheet Ararat
A1: Ð²ÞìºîìàôÂÚàôÜ
A2: ²ð²ð²îÆ ºì ì²Úàò ÒàðÆ Ø²ð¼ºðÆ ÀÜ¸Ð²Üàôð Æð²ì²êàôÂÚ²Ü ²è²æÆÜ ²îÚ²ÜÆ ¸²î²ð²ÜÆ
H3: ¶àðÌàôÜºàôÂÚ²Ü ìºð²´ºðÚ²È êÜ²ÜÎàôÂÚ²Ü ¶àðÌºðՈՎ 2015թ.
A4: ìÇ×³Ï³·ñ³Ï³Ý ïáÕÇ Ñ³Ù³ñÁ | B4: êïáõ·Çã Ñ³í³ë³ñáõÙÝ»ñ` 1+7=8+16+17, 2=3+4, 2=5+6+7, 7=9+10+11+12 | E4: ²Ý³í³ñï ·áñÍ»ñÇ ÙÝ³óáñ¹Á Ñ³ßí»ïáõ Å³Ù³Ý³Ï³ßñç³ÝÇ ëÏ½µáõÙ | F4: êï³óí³Í ¹ÇÙáõÙÝ»ñÇ (·áñÍ»ñ) ù³Ý³ÏÁ | L4: öáË³Ýóí»É ¿ ³ÛÉ ¹³ï³íáñÇ (Ï³½ÙÇ ÷á÷áËáõÃÛáõÝ) | M4: ì³ñáõÛÃ ÁÝ¹áõÝí³Í ¹ÇÙáõÙÝ»ñáí Ï³Û³óí³Í ¹³ï³Ï³Ý ³Ïï»ñ | Q4: Ü»ñÏ³Û³óí»É ¿ ýÇÝ³Ýë³Ï³Ý ³éáÕç³óÙ³Ý Íñ³·Çñ | T4: ²í³ñïí»É »Ý ·áñÍ»ñ Ñ³ßí»ïáõ Å³Ù³Ý³Ï³ßñç³ÝáõÙ | U4: ²Ý³í³ñï ·áñÍ»ñÇ ÙÝ³óáñ¹Á Ñ³ßí»ïáõ Å³Ù³Ý³Ï³ßñç³ÝÇ í»ñçáõÙ | V4: ´áÕáù³ñÏí»É »Ý í»ñ³ùÝÝÇã ¹³ï³ñ³Ý
F6: ÀÝ¹³Ù»ÝÁ | G6: ³Û¹ ÃíáõÙ Ñ³ñÏ³¹ñí³Í ëÝ³ÝÏáõÃÛáõÝ | H6: ³Û¹ ÃíáõÙ Ï³Ù³íáñ ëÝ³ÝÏáõÃÛáõÝ | I6: ëï³óí³Í ¹ÇÙáõÙÝ»ñÇ ÁÝÃ³óùÁ | M6: Ï³Û³óí»É ¿ å³ñï³å³ÝÇÝ ëÝ³ÝÏ ×³Ý³ã»Éáõ Ù³ëÇÝ í×Çé | N6: å³ñï³å³ÝÇÝ ëÝ³ÝÏ ×³Ý³ã»Éáõ ¹ÇÙáõÙÁ Ù»ñÅí»É ¿ | O6: ¹ÇÙáõÙÁ ÃáÕÝí»É ¿ ³é³Ýó ùÝÝáõÃÛ³Ý | P6: ³Ý³í³ñï (³Û¹ ÃíáõÙ Ï³ë»óí³Í) | Q6: ÀÝ¹³Ù»ÝÁ | R6: ÃáÕÝí»É ¿ ³é³Ýó ùÝÝ³ñÏÙ³Ý | S6: Ñ³ëï³ïí»É ¿
I8: ¸ÇÙáõÙÇ ÁÝ¹áõÝáõÙÁ Ù»ñÅí»É ¿ | J8: ¸ÇÙáõÙÁ í»ñ³¹³ñÓí»É ¿ | K8: ÀÝ¹áõÝí»É ¿ í³ñáõÛÃ
E18: 1 | F18: 2 | G18: 3 | H18: 4 | I18: 5 | J18: 6 | K18: 7 | L18: 8 | M18: 9 | N18: 10 | O18: 11 | P18: 12 | Q18: 13 | R18: 14 | S18: 15 | T18: 16 | U18: 17 | V18: 18 | W18: 1+7=8+16+17 | Y18: 2=3+4 | AA18: 2=5+6+7 | AC18: 7=9+10+11+12
A19: 1 | B19: Æñ³í³µ³Ý³Ï³Ý ³ÝÓÇ ëÝ³ÝÏáõÃÛ³Ý í»ñ³µ»ñÛ³É | E19: 79 | F19: 83 | G19: 80 | H19: 3 | K19: 83 | M19: 45 | P19: 38 | T19: 11 | U19: 151 | V19: 2 | W19: =E19+K19 -> 162 | X19: =L19+T19+U19 -> 162 | Y19: =F19 -> 83 | Z19: =G19+H19 -> 83 | AA19: =F19 -> 83 | AB19: =I19+J19+K19 -> 83 | AC19: =K19 -> 83 | AD19: =M19+N19+O19+P19 -> 83
A20: 2 | B20: ²ÝÑ³ï Ó»éÝ»ñ»óÇ ëÝ³ÝÏáõÃÛ³Ý í»ñ³µ»ñÛ³É | E20: 20 | F20: 9 | G20: 4 | H20: 5 | K20: 9 | M20: 6 | P20: 3 | U20: 29 | W20: =E20+K20 -> 29 | X20: =L20+T20+U20 -> 29 | Y20: =F20 -> 9 | Z20: =G20+H20 -> 9 | AA20: =F20 -> 9 | AB20: =I20+J20+K20 -> 9 | AC20: =K20 -> 9 | AD20: =M20+N20+O20+P20 -> 9
A21: 3 | B21: üÇ½ÇÏ³Ï³Ý ³ÝÓ³Ýó ëÝ³ÝÏáõÃÛ³Ý í»ñ³µ»ñÛ³É | E21: 143 | F21: 51 | G21: 48 | H21: 3 | K21: 51 | L21: 1 | M21: 21 | N21: 7 | P21: 22 | T21: 14 | U21: 179 | V21: 9 | W21: =E21+K21 -> 194 | X21: =L21+T21+U21 -> 194 | Y21: =F21 -> 51 | Z21: =G21+H21 -> 51 | AA21: =F21 -> 51 | AB21: =I21+J21+K21 -> 51 | AC21: =K21 -> 51 | AD21: =M21+N21+O21+P21 -> 50
A22: 4 | B22: ԸՆԴՀԱՄԵՆԸ | E22: 242 | F22: 143 | G22: 132 | H22: 11 | K22: 143 | L22: 1 | M22: 72 | N22: 7 | P22: 63 | T22: 25 | U22: 359 | V22: 11 | W22: =E22+K22 -> 385 | X22: =L22+T22+U22 -> 385 | Y22: =F22 -> 143 | Z22: =G22+H22 -> 143 | AA22: =F22 -> 143 | AB22: =I22+J22+K22 -> 143 | AC22: =K22 -> 143 | AD22: =M22+N22+O22+P22 -> 142

Sheet Tavush
A1: Ð²ÞìºîìàôÂÚàôÜ
A2: î²ìàôÞÆ Ø²ð¼Æ ÀÜ¸Ð²Üàôð Æð²ì²êàôÂÚ²Ü ²è²æÆÜ ²îÚ²ÜÆ ¸²î²ð²ÜÆ
H3: ¶àðÌàôÜºàôÂÚ²Ü ìºð²´ºðÚ²È êÜ²ÜÎàôÂÚ²Ü ¶àðÌºðàì 2015թ.
A4: ìÇ×³Ï³·ñ³Ï³Ý ïáÕÇ Ñ³Ù³ñÁ | B4: êïáõ·Çã Ñ³í³ë³ñáõÙÝ»ñ` 1+7=8+16+17, 2=3+4, 2=5+6+7, 7=9+10+11+12 | E4: ²Ý³í³ñï ·áñÍ»ñÇ ÙÝ³óáñ¹Á Ñ³ßí»ïáõ Å³Ù³Ý³Ï³ßñç³ÝÇ ëÏ½µáõÙ | F4: êï³óí³Í ¹ÇÙáõÙÝ»ñÇ (·áñÍ»ñ) ù³Ý³ÏÁ | L4: öáË³Ýóí»É ¿ ³ÛÉ ¹³ï³íáñÇ (Ï³½ÙÇ ÷á÷áËáõÃÛáõÝ) | M4: ì³ñáõÛÃ ÁÝ¹áõÝí³Í ¹ÇÙáõÙÝ»ñáí Ï³Û³óí³Í ¹³ï³Ï³Ý ³Ïï»ñ | Q4: Ü»ñÏ³Û³óí»É ¿ ýÇÝ³Ýë³Ï³Ý ³éáÕç³óÙ³Ý Íñ³·Çñ | T4: ²í³ñïí»É »Ý ·áñÍ»ñ Ñ³ßí»ïáõ Å³Ù³Ý³Ï³ßñç³ÝáõÙ | U4: ²Ý³í³ñï ·áñÍ»ñÇ ÙÝ³óáñ¹Á Ñ³ßí»ïáõ Å³Ù³Ý³Ï³ßñç³ÝÇ í»ñçáõÙ | V4: ´áÕáù³ñÏí»É »Ý í»ñ³ùÝÝÇã ¹³ï³ñ³Ý
F6: ÀÝ¹³Ù»ÝÁ | G6: ³Û¹ ÃíáõÙ Ñ³ñÏ³¹ñí³Í ëÝ³ÝÏáõÃÛáõÝ | H6: ³Û¹ ÃíáõÙ Ï³Ù³íáñ ëÝ³ÝÏáõÃÛáõÝ | I6: ëï³óí³Í ¹ÇÙáõÙÝ»ñÇ ÁÝÃ³óùÁ | M6: Ï³Û³óí»É ¿ å³ñï³å³ÝÇÝ ëÝ³ÝÏ ×³Ý³ã»Éáõ Ù³ëÇÝ í×Çé | N6: å³ñï³å³ÝÇÝ ëÝ³ÝÏ ×³Ý³ã»Éáõ ¹ÇÙáõÙÁ Ù»ñÅí»É ¿ | O6: ¹ÇÙáõÙÁ ÃáÕÝí»É ¿ ³é³Ýó ùÝÝáõÃÛ³Ý | P6: ³Ý³í³ñï (³Û¹ ÃíáõÙ Ï³ë»óí³Í) | Q6: ÀÝ¹³Ù»ÝÁ | R6: ÃáÕÝí»É ¿ ³é³Ýó ùÝÝ³ñÏÙ³Ý | S6: Ñ³ëï³ïí»É ¿
I8: ¸ÇÙáõÙÇ ÁÝ¹áõÝáõÙÁ Ù»ñÅí»É ¿ | J8: ¸ÇÙáõÙÁ í»ñ³¹³ñÓí»É ¿ | K8: ÀÝ¹áõÝí»É ¿ í³ñáõÛÃ
E18: 1 | F18: 2 | G18: 3 | H18: 4 | I18: 5 | J18: 6 | K18: 7 | L18: 8 | M18: 9 | N18: 10 | O18: 11 | P18: 12 | Q18: 13 | R18: 14 | S18: 15 | T18: 16 | U18: 17 | V18: 18 | W18: 1+7=8+16+17 | Y18: 2=3+4 | AA18: 2=5+6+7 | AC18: 7=9+10+11+12
A19: 1 | B19: Æñ³í³µ³Ý³Ï³Ý ³ÝÓÇ ëÝ³ÝÏáõÃÛ³Ý í»ñ³µ»ñÛ³É | E19: 28 | F19: 6 | G19: 6 | K19: 6 | M19: 3 | P19: 5 | T19: 7 | U19: 27 | V19: 1 | W19: =E19+K19 -> 34 | X19: =L19+T19+U19 -> 34 | Y19: =F19 -> 6 | Z19: =G19+H19 -> 6 | AA19: =F19 -> 6 | AB19: =I19+J19+K19 -> 6 | AC19: =K19 -> 6 | AD19: =M19+N19+O19+P19 -> 8
A20: 2 | B20: ²ÝÑ³ï Ó»éÝ»ñ»óÇ ëÝ³ÝÏáõÃÛ³Ý í»ñ³µ»ñÛ³É | E20: 20 | F20: 8 | G20: 8 | J20: 3 | K20: 5 | M20: 4 | P20: 1 | T20: 3 | U20: 22 | V20: 1 | W20: =E20+K20 -> 25 | X20: =L20+T20+U20 -> 25 | Y20: =F20 -> 8 | Z20: =G20+H20 -> 8 | AA20: =F20 -> 8 | AB20: =I20+J20+K20 -> 8 | AC20: =K20 -> 5 | AD20: =M20+N20+O20+P20 -> 5
A21: 3 | B21: üÇ½ÇÏ³Ï³Ý ³ÝÓ³Ýó ëÝ³ÝÏáõÃÛ³Ý í»ñ³µ»ñÛ³É | E21: 20 | F21: 15 | G21: 14 | H21: 1 | J21: 1 | K21: 14 | M21: 11 | P21: 3 | T21: 4 | U21: 30 | W21: =E21+K21 -> 34 | X21: =L21+T21+U21 -> 34 | Y21: =F21 -> 15 | Z21: =G21+H21 -> 15 | AA21: =F21 -> 15 | AB21: =I21+J21+K21 -> 15 | AC21: =K21 -> 14 | AD21: =M21+N21+O21+P21 -> 14
A22: 4 | B22: ԸՆԴՀԱՄԵՆԸ | E22: =SUM(E19:E21) -> 68 | F22: =SUM(F19:F21) -> 29 | G22: =SUM(G19:G21) -> 28 | H22: =SUM(H19:H21) -> 1 | I22: =SUM(I19:I21) -> 0 | J22: =SUM(J19:J21) -> 4 | K22: =SUM(K19:K21) -> 25 | L22: =SUM(L19:L21) -> 0 | ... V22: =SUM(V19:V21) -> 2 | W22: =E22+K22 -> 93 | X22: =L22+T22+U22 -> 93 | Y22: =F22 -> 29 | Z22: =G22+H22 -> 29 | AA22: =F22 -> 29 | AB22: =I22+J22+K22 -> 29 | AC22: =K22 -> 25 | AD22: =M22+N22+O22+P22 -> 27

Sheet Shirak
A1: Ð²ÞìºîìàôÂÚàôÜ
A2: ÞÆð²ÎÆ Ø²ð¼Æ ÀÜ¸Ð²Üàôð Æð²ì²êàôÂÚ²Ü ²è²æÆÜ ²îÚ²ÜÆ ¸²î²ð²ÜÆ
H3: ¶àðÌàôÜºàôÂÚ²Ü ìºð²´ºðÚ²È êÜ²ÜÎàôÂÚ²Ü ¶àðÌºðàì 2015թ.
A4: ìÇ×³Ï³·ñ³Ï³Ý ïáÕÇ Ñ³Ù³ñÁ | B4: êïáõ·Çã Ñ³í³ë³ñáõÙÝ»ñ` 1+7=8+16+17, 2=3+4, 2=5+6+7, 7=9+10+11+12 | E4: ²Ý³í³ñï ·áñÍ»ñÇ ÙÝ³óáñ¹Á Ñ³ßí»ïáõ Å³Ù³Ý³Ï³ßñç³ÝÇ ëÏ½µáõÙ | F4: êï³óí³Í ¹ÇÙáõÙÝ»ñÇ (·áñÍ»ñ) ù³Ý³ÏÁ | L4: öáË³Ýóí»É ¿ ³ÛÉ ¹³ï³íáñÇ (Ï³½ÙÇ ÷á÷áËáõÃÛáõÝ) | M4: ì³ñáõÛÃ ÁÝ¹áõÝí³Í ¹ÇÙáõÙÝ»ñáí Ï³Û³óí³Í ¹³ï³Ï³Ý ³Ïï»ñ | Q4: Ü»ñÏ³Û³óí»É ¿ ýÇÝ³Ýë³Ï³Ý ³éáÕç³óÙ³Ý Íñ³·Çñ | T4: ²í³ñïí»É »Ý ·áñÍ»ñ Ñ³ßí»ïáõ Å³Ù³Ý³Ï³ßñç³ÝáõÙ | U4: ²Ý³í³ñï ·áñÍ»ñÇ ÙÝ³óáñ¹Á Ñ³ßí»ïáõ Å³Ù³Ý³Ï³ßñç³ÝÇ í»ñçáõÙ | V4: ´áÕáù³ñÏí»É »Ý í»ñ³ùÝÝÇã ¹³ï³ñ³Ý
F6: ÀÝ¹³Ù»ÝÁ | G6: ³Û¹ ÃíáõÙ Ñ³ñÏ³¹ñí³Í ëÝ³ÝÏáõÃÛáõÝ | H6: ³Û¹ ÃíáõÙ Ï³Ù³íáñ ëÝ³ÝÏáõÃÛáõÝ | I6: ëï³óí³Í ¹ÇÙáõÙÝ»ñÇ ÁÝÃ³óùÁ | M6: Ï³Û³óí»É ¿ å³ñï³å³ÝÇÝ ëÝ³ÝÏ ×³Ý³ã»Éáõ Ù³ëÇÝ í×Çé | N6: å³ñï³å³ÝÇÝ ëÝ³ÝÏ ×³Ý³ã»Éáõ ¹ÇÙáõÙÁ Ù»ñÅí»É ¿ | O6: ¹ÇÙáõÙÁ ÃáÕÝí»É ¿ ³é³Ýó ùÝÝáõÃÛ³Ý | P6: ³Ý³í³ñï (³Û¹ ÃíáõÙ Ï³ë»óí³Í) | Q6: ÀÝ¹³Ù»ÝÁ | R6: ÃáÕÝí»É ¿ ³é³Ýó ùÝÝ³ñÏÙ³Ý | S6: Ñ³ëï³ïí»É ¿
I8: ¸ÇÙáõÙÇ ÁÝ¹áõÝáõÙÁ Ù»ñÅí»É ¿ | J8: ¸ÇÙáõÙÁ í»ñ³¹³ñÓí»É ¿ | K8: ÀÝ¹áõÝí»É ¿ í³ñáõÛÃ
E18: 1 | F18: 2 | G18: 3 | H18: 4 | I18: 5 | J18: 6 | K18: 7 | L18: 8 | M18: 9 | N18: 10 | O18: 11 | P18: 12 | Q18: 13 | R18: 14 | S18: 15 | T18: 16 | U18: 17 | V18: 18 | W18: 1+7=8+16+17 | Y18: 2=3+4 | AA18: 2=5+6+7 | AC18: 7=9+10+11+12
A19: 1 | B19: Æñ³í³µ³Ý³Ï³Ý ³ÝÓÇ ëÝ³ÝÏáõÃÛ³Ý í»ñ³µ»ñÛ³É | E19: 89 | F19: 17 | G19: 17 | J19: 3 | K19: 14 | M19: 7 | N19: 1 | P19: 6 | T19: 4 | U19: 99 | V19: 2 | W19: =E19+K19 -> 103 | X19: =L19+T19+U19 -> 103 | Y19: =F19 -> 17 | Z19: =G19+H19 -> 17 | AA19: =F19 -> 17 | AB19: =I19+J19+K19 -> 17 | AC19: =K19 -> 14 | AD19: =M19+N19+O19+P19 -> 14
A20: 2 | B20: ²ÝÑ³ï Ó»éÝ»ñ»óÇ ëÝ³ÝÏáõÃÛ³Ý í»ñ³µ»ñÛ³É | E20: 30 | F20: 26 | G20: 26 | J20: 8 | K20: 18 | L20: 1 | M20: 11 | P20: 5 | T20: 2 | U20: 45 | W20: =E20+K20 -> 48 | X20: =L20+T20+U20 -> 48 | Y20: =F20 -> 26 | Z20: =G20+H20 -> 26 | AA20: =F20 -> 26 | AB20: =I20+J20+K20 -> 26 | AC20: =K20 -> 18 | AD20: =M20+N20+O20+P20 -> 16
A21: 3 | B21: üÇ½ÇÏ³Ï³Ý ³ÝÓ³Ýó ëÝ³ÝÏáõÃÛ³Ý í»ñ³µ»ñÛ³É | E21: 77 | F21: 68 | G21: 47 | H21: 21 | J21: 9 | K21: 59 | L21: 2 | M21: 38 | N21: 7 | P21: 8 | T21: 25 | U21: 109 | V21: 1 | W21: =E21+K21 -> 136 | X21: =L21+T21+U21 -> 136 | Y21: =F21 -> 68 | Z21: =G21+H21 -> 68 | AA21: =F21 -> 68 | AB21: =I21+J21+K21 -> 68 | AC21: =K21 -> 59 | AD21: =M21+N21+O21+P21 -> 53
A22: 4 | B22: ԸՆԴՀԱՄԵՆԸ | E22: 196 | F22: 111 | G22: 90 | H22: 21 | J22: 20 | K22: 91 | L22: 3 | M22: 56 | N22: 8 | P22: 19 | T22: 31 | U22: 253 | V22: 3 | W22: =E22+K22 -> 287 | X22: =L22+T22+U22 -> 287 | Y22: =F22 -> 111 | Z22: =G22+H22 -> 111 | AA22: =F22 -> 111 | AB22: =I22+J22+K22 -> 111 | AC22: =K22 -> 91 | AD22: =M22+N22+O22+P22 -> 83

Sheet Lori
A1: Ð²ÞìºîìàôÂÚàôÜ
A2: Èàèàô Ø²ð¼Æ ÀÜ¸Ð²Üàôð Æð²ì²êàôÂÚ²Ü ²è²æÆÜ ²îÚ²ÜÆ ¸²î²ð²ÜÆ
H3: ¶àðÌàôÜºàôÂÚ²Ü ìºð²´ºðÚ²È êÜ²ÜÎàôÂÚ²Ü ¶àðÌºðՈՎ 2015թ.
A4: ìÇ×³Ï³·ñ³Ï³Ý ïáÕÇ Ñ³Ù³ñÁ | B4: êïáõ·Çã Ñ³í³ë³ñáõÙÝ»ñ` 1+7=8+16+17, 2=3+4, 2=5+6+7, 7=9+10+11+12 | E4: ²Ý³í³ñï ·áñÍ»ñÇ ÙÝ³óáñ¹Á Ñ³ßí»ïáõ Å³Ù³Ý³Ï³ßñç³ÝÇ ëÏ½µáõÙ | F4: êï³óí³Í ¹ÇÙáõÙÝ»ñÇ (·áñÍ»ñ) ù³Ý³ÏÁ | L4: öáË³Ýóí»É ¿ ³ÛÉ ¹³ï³íáñÇ (Ï³½ÙÇ ÷á÷áËáõÃÛáõÝ) | M4: ì³ñáõÛÃ ÁÝ¹áõÝí³Í ¹ÇÙáõÙÝ»ñáí Ï³Û³óí³Í ¹³ï³Ï³Ý ³Ïï»ñ | Q4: Ü»ñÏ³Û³óí»É ¿ ýÇÝ³Ýë³Ï³Ý ³éáÕç³óÙ³Ý Íñ³·Çñ | T4: ²í³ñïí»É »Ý ·áñÍ»ñ Ñ³ßí»ïáõ Å³Ù³Ý³Ï³ßñç³ÝáõÙ | U4: ²Ý³í³ñï ·áñÍ»ñÇ ÙÝ³óáñ¹Á Ñ³ßí»ïáõ Å³Ù³Ý³Ï³ßñç³ÝÇ í»ñçáõÙ | V4: ´áÕáù³ñÏí»É »Ý í»ñ³ùÝÝÇã ¹³ï³ñ³Ý
F6: ÀÝ¹³Ù»ÝÁ | G6: ³Û¹ ÃíáõÙ Ñ³ñÏ³¹ñí³Í ëÝ³ÝÏáõÃÛáõÝ | H6: ³Û¹ ÃíáõÙ Ï³Ù³íáñ ëÝ³ÝÏáõÃÛáõÝ | I6: ëï³óí³Í ¹ÇÙáõÙÝ»ñÇ ÁÝÃ³óùÁ | M6: Ï³Û³óí»É ¿ å³ñï³å³ÝÇÝ ëÝ³ÝÏ ×³Ý³ã»Éáõ Ù³ëÇÝ í×Çé | N6: å³ñï³å³ÝÇÝ ëÝ³ÝÏ ×³Ý³ã»Éáõ ¹ÇÙáõÙÁ Ù»ñÅí»É ¿ | O6: ¹ÇÙáõÙÁ ÃáÕÝí»É ¿ ³é³Ýó ùÝÝáõÃÛ³Ý | P6: ³Ý³í³ñï (³Û¹ ÃíáõÙ Ï³ë»óí³Í) | Q6: ÀÝ¹³Ù»ÝÁ | R6: ÃáÕÝí»É ¿ ³é³Ýó ùÝÝ³ñÏÙ³Ý | S6: Ñ³ëï³ïí»É ¿
I8: ¸ÇÙáõÙÇ ÁÝ¹áõÝáõÙÁ Ù»ñÅí»É ¿ | J8: ¸ÇÙáõÙÁ í»ñ³¹³ñÓí»É ¿ | K8: ÀÝ¹áõÝí»É ¿ í³ñáõÛÃ
E18: 1 | F18: 2 | G18: 3 | H18: 4 | I18: 5 | J18: 6 | K18: 7 | L18: 8 | M18: 9 | N18: 10 | O18: 11 | P18: 12 | Q18: 13 | R18: 14 | S18: 15 | T18: 16 | U18: 17 | V18: 18 | W18: 1+7=8+16+17 | Y18: 2=3+4 | AA18: 2=5+6+7 | AC18: 7=9+10+11+12
A19: 1 | B19: Æñ³í³µ³Ý³Ï³Ý ³ÝÓÇ ëÝ³ÝÏáõÃÛ³Ý í»ñ³µ»ñÛ³É | E19: 115 | F19: =152-116 -> 36 | G19: 35 | H19: 1 | I19: 0 | J19: 6 | K19: =+F19-J19 -> 30 | M19: 17 | N19: 0 | O19: 0 | P19: =+K19-M19-N19-O19 -> 13 | Q19: 0 | R19: 0 | S19: 0 | T19: 23 | U19: 122 | V19: 7 | W19: =E19+K19 -> 145 | X19: =L19+T19+U19 -> 145 | Y19: =F19 -> 36 | Z19: =G19+H19 -> 36 | AA19: =F19 -> 36 | AB19: =I19+J19+K19 -> 36 | AC19: =K19 -> 30 | AD19: =M19+N19+O19+P19 -> 30
A20: 2 | B20: ²ÝÑ³ï Ó»éÝ»ñ»óÇ ëÝ³ÝÏáõÃÛ³Ý í»ñ³µ»ñÛ³É | E20: 20 | F20: =39-21 -> 18 | G20: 18 | I20: 0 | J20: 3 | K20: =+F20-J20 -> 15 | M20: 7 | N20: 1 | O20: 0 | P20: =+K20-M20-N20-O20 -> 7 | Q20: 1 | R20: 0 | S20: 1 | T20: 4 | U20: 31 | V20: 0 | W20: =E20+K20 -> 35 | X20: =L20+T20+U20 -> 35 | Y20: =F20 -> 18 | Z20: =G20+H20 -> 18 | AA20: =F20 -> 18 | AB20: =I20+J20+K20 -> 18 | AC20: =K20 -> 15 | AD20: =M20+N20+O20+P20 -> 15
A21: 3 | B21: üÇ½ÇÏ³Ï³Ý ³ÝÓ³Ýó ëÝ³ÝÏáõÃÛ³Ý í»ñ³µ»ñÛ³É | E21: 83 | F21: =130-87 -> 43 | G21: =+F21-H21 -> 38 | H21: 5 | I21: 0 | J21: 18 | K21: =+F21-J21 -> 25 | M21: 15 | N21: 0 | O21: 0 | P21: =+K21-M21-N21-O21 -> 10 | Q21: 5 | R21: 0 | S21: 5 | T21: 9 | U21: 99 | V21: 2 | W21: =E21+K21 -> 108 | X21: =L21+T21+U21 -> 108 | Y21: =F21 -> 43 | Z21: =G21+H21 -> 43 | AA21: =F21 -> 43 | AB21: =I21+J21+K21 -> 43 | AC21: =K21 -> 25 | AD21: =M21+N21+O21+P21 -> 25
A22: 4 | B22: ԸՆԴՀԱՄԵՆԸ | E22: =+E19+E20+E21 -> 218 | F22: =+F19+F20+F21 -> 97 | G22: =+G19+G20+G21 -> 91 | H22: =+H19+H20+H21 -> 6 | I22: =+I19+I20+I21 -> 0 | J22: =+J19+J20+J21 -> 27 | K22: =+K19+K20+K21 -> 70 | L22: =+L19+L20+L21 -> 0 | ... V22: =+V19+V20+V21 -> 9 | W22: =E22+K22 -> 288 | X22: =L22+T22+U22 -> 288 | Y22: =F22 -> 97 | Z22: =G22+H22 -> 97 | AA22: =F22 -> 97 | AB22: =I22+J22+K22 -> 97 | AC22: =K22 -> 70 | AD22: =M22+N22+O22+P22 -> 70

Sheet Gexarquniq
A1: Ð²ÞìºîìàôÂÚàôÜ
A2: ¶ºÔ²ðøàôÜÆøÆ Ø²ð¼Æ ÀÜ¸Ð²Üàôð Æð²ì²êàôÂÚ²Ü ²è²æÆÜ ²îÚ²ÜÆ ¸²î²ð²ÜÆ
H3: ¶àðÌàôÜºàôÂÚ²Ü ìºð²´ºðÚ²È êÜ²ÜÎàôÂÚ²Ü ¶àðÌºðՈՎ 2015թ.
A4: ìÇ×³Ï³·ñ³Ï³Ý ïáÕÇ Ñ³Ù³ñÁ | B4: êïáõ·Çã Ñ³í³ë³ñáõÙÝ»ñ` 1+7=8+16+17, 2=3+4, 2=5+6+7, 7=9+10+11+12 | E4: ²Ý³í³ñï ·áñÍ»ñÇ ÙÝ³óáñ¹Á Ñ³ßí»ïáõ Å³Ù³Ý³Ï³ßñç³ÝÇ ëÏ½µáõÙ | F4: êï³óí³Í ¹ÇÙáõÙÝ»ñÇ (·áñÍ»ñ) ù³Ý³ÏÁ | L4: öáË³Ýóí»É ¿ ³ÛÉ ¹³ï³íáñÇ (Ï³½ÙÇ ÷á÷áËáõÃÛáõÝ) | M4: ì³ñáõÛÃ ÁÝ¹áõÝí³Í ¹ÇÙáõÙÝ»ñáí Ï³Û³óí³Í ¹³ï³Ï³Ý ³Ïï»ñ | Q4: Ü»ñÏ³Û³óí»É ¿ ýÇÝ³Ýë³Ï³Ý ³éáÕç³óÙ³Ý Íñ³·Çñ | T4: ²í³ñïí»É »Ý ·áñÍ»ñ Ñ³ßí»ïáõ Å³Ù³Ý³Ï³ßñç³ÝáõÙ | U4: ²Ý³í³ñï ·áñÍ»ñÇ ÙÝ³óáñ¹Á Ñ³ßí»ïáõ Å³Ù³Ý³Ï³ßñç³ÝÇ í»ñçáõÙ | V4: ´áÕáù³ñÏí»É »Ý í»ñ³ùÝÝÇã ¹³ï³ñ³Ý
F6: ÀÝ¹³Ù»ÝÁ | G6: ³Û¹ ÃíáõÙ Ñ³ñÏ³¹ñí³Í ëÝ³ÝÏáõÃÛáõÝ | H6: ³Û¹ ÃíáõÙ Ï³Ù³íáñ ëÝ³ÝÏáõÃÛáõÝ | I6: ëï³óí³Í ¹ÇÙáõÙÝ»ñÇ ÁÝÃ³óùÁ | M6: Ï³Û³óí»É ¿ å³ñï³å³ÝÇÝ ëÝ³ÝÏ ×³Ý³ã»Éáõ Ù³ëÇÝ í×Çé | N6: å³ñï³å³ÝÇÝ ëÝ³ÝÏ ×³Ý³ã»Éáõ ¹ÇÙáõÙÁ Ù»ñÅí»É ¿ | O6: ¹ÇÙáõÙÁ ÃáÕÝí»É ¿ ³é³Ýó ùÝÝáõÃÛ³Ý | P6: ³Ý³í³ñï (³Û¹ ÃíáõÙ Ï³ë»óí³Í) | Q6: ÀÝ¹³Ù»ÝÁ | R6: ÃáÕÝí»É ¿ ³é³Ýó ùÝÝ³ñÏÙ³Ý | S6: Ñ³ëï³ïí»É ¿
I8: ¸ÇÙáõÙÇ ÁÝ¹áõÝáõÙÁ Ù»ñÅí»É ¿ | J8: ¸ÇÙáõÙÁ í»ñ³¹³ñÓí»É ¿ | K8: ÀÝ¹áõÝí»É ¿ í³ñáõÛÃ
E18: 1 | F18: 2 | G18: 3 | H18: 4 | I18: 5 | J18: 6 | K18: 7 | L18: 8 | M18: 9 | N18: 10 | O18: 11 | P18: 12 | Q18: 13 | R18: 14 | S18: 15 | T18: 16 | U18: 17 | V18: 18 | W18: 1+7=8+16+17 | Y18: 2=3+4 | AA18: 2=5+6+7 | AC18: 7=9+10+11+12
A19: 1 | B19: Æñ³í³µ³Ý³Ï³Ý ³ÝÓÇ ëÝ³ÝÏáõÃÛ³Ý í»ñ³µ»ñÛ³É | E19: 61 | F19: 31 | G19: 30 | H19: 1 | J19: 2 | K19: 29 | M19: 6 | O19: 1 | P19: 22 | T19: 13 | U19: 77 | V19: 2 | W19: =E19+K19 -> 90 | X19: =L19+T19+U19 -> 90 | Y19: =F19 -> 31 | Z19: =G19+H19 -> 31 | AA19: =F19 -> 31 | AB19: =I19+J19+K19 -> 31 | AC19: =K19 -> 29 | AD19: =M19+N19+O19+P19 -> 29
A20: 2 | B20: ²ÝÑ³ï Ó»éÝ»ñ»óÇ ëÝ³ÝÏáõÃÛ³Ý í»ñ³µ»ñÛ³É | E20: 10 | F20: 2 | G20: 2 | K20: 2 | M20: 1 | P20: 1 | U20: 12 | W20: =E20+K20 -> 12 | X20: =L20+T20+U20 -> 12 | Y20: =F20 -> 2 | Z20: =G20+H20 -> 2 | AA20: =F20 -> 2 | AB20: =I20+J20+K20 -> 2 | AC20: =K20 -> 2 | AD20: =M20+N20+O20+P20 -> 2
A21: 3 | B21: üÇ½ÇÏ³Ï³Ý ³ÝÓ³Ýó ëÝ³ÝÏáõÃÛ³Ý í»ñ³µ»ñÛ³É | E21: 33 | F21: 28 | G21: 26 | H21: 2 | J21: 3 | K21: 25 | M21: 5 | P21: 19 | Q21: 1 | S21: 1 | T21: 7 | U21: 51 | V21: 2 | W21: =E21+K21 -> 58 | X21: =L21+T21+U21 -> 58 | Y21: =F21 -> 28 | Z21: =G21+H21 -> 28 | AA21: =F21 -> 28 | AB21: =I21+J21+K21 -> 28 | AC21: =K21 -> 25 | AD21: =M21+N21+O21+P21 -> 24
A22: 4 | B22: ԸՆԴՀԱՄԵՆԸ | E22: =SUM(E19:E21) -> 104 | F22: =SUM(F19:F21) -> 61 | G22: =SUM(G19:G21) -> 58 | H22: =SUM(H19:H21) -> 3 | I22: =SUM(I19:I21) -> 0 | J22: =SUM(J19:J21) -> 5 | K22: =SUM(K19:K21) -> 56 | L22: =SUM(L19:L21) -> 0 | ... V22: =SUM(V19:V21) -> 4 | W22: =E22+K22 -> 160 | X22: =L22+T22+U22 -> 160 | Y22: =F22 -> 61 | Z22: =G22+H22 -> 61 | AA22: =F22 -> 61 | AB22: =I22+J22+K22 -> 61 | AC22: =K22 -> 56 | AD22: =M22+N22+O22+P22 -> 55
B23: Ծանոթություն ---Ֆիզիական անձանցով 1 գործ ուղարկվել է ընդդատության
