Workbook

Sheet Yndhanur
B1: 2015Ã. 1-ÇÝ ÏÇë³ÙÛ³Ï | E1: Ð²ÞìºîìàôÂÚàôÜ | R1: Ïազմված ՀՀ կառավարության 19.03.2015թ. Ãիվ 306-Ն որոշման հիման վրա
B2: ÐÐ ÀÜ¸Ð²Üàôð Æð²ì²êàôÂÚ²Ü ²è²æÆÜ ²îÚ²ÜÆ ¸²î²ð²ՆՆԵՐàôØ ՔՐԵԱԿԱՆ ¶àðÌºðÆ øÜÜàôÂÚ²Ü ìºð²´ºðÚ²È
B3: ÐÐ ÁÝ¹Ñ³Ýáõñ Çñ³í³ëáõÃÛ³Ý ³é³çÇÝ ³ïÛ³ÝÇ ¹³ï³ñ³ÝÝերáõÙ ùñ»³Ï³Ý Ù³ëÝ³·Çï³óáõÙ áõÝ»óáÕ ¹³ï³íáñÝ»ñÇ Ñ³ëïÇùÝ»ñÇ ù³Ý³ÏÁ`
B4: êïáõ·Çã Ñ³í³ë³ñáõÙÝ»ñ` 1+3=7+8+10, 7=4+5+6, 14=12+13, 17=15+16 | D4: ÐÐ ùñ»³Ï³Ý ûñ»Ýë·ñùÇ Ñá¹í³ÍÝ»ñ | E4: Ð³ßí»ïáõ Å³Ù³Ý³Ï³Ñ³ïí³ÍÇ ëÏ½µáõÙ Ý³Ëáñ¹ Ñ³ßí»ïáõ Å³Ù³Ý³Ï³Ñ³ïí³ÍÇó ÷áË³Ýóí³Í ·áñÍ»ñÇ ÁÝ¹Ñ³Ýáõñ ÃÇíÁ | F4: ²Û¹ ÃíáõÙ` Ï³ë»óí³Í íÇ×³ÏáõÙ ÷áË³Ýóí³Í | G4: Ð³ßí»ïáõ Å³Ù³Ý³Ï³Ñ³ïí³ÍáõÙ ëï³óí³Í ·áñÍ»ñÇ ÁÝ¹Ñ³Ýáõñ ÃÇíÁ | H4: Ð³ßí»ïáõ Å³Ù³Ý³Ï³Ñ³ïí³ÍáõÙ ³í³ñïí³Í ·áñÍ»ñի ընդհանուր թիվը | L4: àõÕ³ñÏí»É ¿ Áëï ÁÝ¹¹³ïáõÃÛ³Ý | M4: Ð³ßí»ïáõ Å³Ù³Ý³Ï³Ñ³ïí³ÍáõÙ Ï³ë»óí³Í í³ñáõÛÃÝ»ñáí ·áñÍ»ñÇ ÁÝ¹Ñ³Ýáõñ ÃÇíÁ | N4: Ð³ßí»ïáõ Å³Ù³Ý³Ï³Ñ³ïí³ÍáõÙ ³Ý³í³ñï ·áñÍ»ñÇ ÁÝ¹Ñ³Ýáõñ ÃÇíÁ | O4: ²Û¹ ÃíáõÙª Ï³ë»óí³Í | P4: ´áÕáù³ñÏí³Í ¹³ï³Ï³Ý ³Ïï»ñÇ ÃÇíÁ` Áëï ï»ë³ÏÝ»ñÇ | S4: ´»Ï³Ýí³Í ¹³ï³Ï³Ý ³Ïï»ñÇ ÃÇíÁ` Áëï ï»ë³ÏÝ»ñÇ
H5: øÝÝí»É ¿ Áëï ¿áõÃÛ³Ý ¨ ¹³ï³í×Çé Ï³Û³óí»É | J5: ՈñáßáõÙ ¿ Ï³Û³óí»É ³ÝÙ»ÕëáõÝ³ÏÝ»ñÇ ÝÏ³ïÙ³Ùµ µÅßÏ³Ï³Ý µÝáõÛÃÇ Ñ³ñÏ³¹ñ³Ï³Ý ÙÇçáóÝ»ñ ÏÇñ³é»Éáõ Ù³ëÇÝ | K5: ÀÝ¹³Ù»ÝÁ ³í³ñïí»É »Ý ·áñÍ»ñ
I6: ՈñáßáõÙ ¿ Ï³Û³óí»É ùñ»³Ï³Ý ·áñÍÇ í³ñáõÛÃÁ Ï³ñ×»Éáõ ¨ ùñ»³Ï³Ý Ñ»ï³åÝ¹áõÙÁ ¹³¹³ñ»óÝ»Éáõ Ù³ëÇÝ | P6: ²Û¹ ÃíáõÙ` ·áñÍÝ Áëï ¿áõÃÛ³Ý ÉáõÍáÕ ¹³ï³Ï³Ý ³Ïï»ñÁ | Q6: ²Û¹ ÃíáõÙ` ÙÇç³ÝÏÛ³É ¹³ï³Ï³Ý ³Ïï»ñÁ | R6: ÀÝ¹³Ù»ÝÁ | S6: ²Û¹ ÃíáõÙ` ·áñÍÝ Áëï ¿áõÃÛ³Ý ÉáõÍáÕ ¹³ï³Ï³Ý ³Ïï»ñÁ | T6: ²Û¹ ÃíáõÙ` ÙÇç³ÝÏÛ³É ¹³ï³Ï³Ý ³Ïï»ñÁ | U6: ÀÝ¹³Ù»ÝÁ
E7: 1 | F7: 2 | G7: 3 | H7: 4 | I7: 5 | J7: 6 | K7: 7 | L7: 8 | M7: 9 | N7: 10 | O7: 11 | P7: 12 | Q7: 13 | R7: 14 | S7: 15 | T7: 16 | U7: 17
A8: 1 | B8: 1. | C8: ÀÝ¹³Ù»ÝÁ ÏÛ³ÝùÇ ¨ ³éáÕçáõÃÛ³Ý ¹»Ù áõÕÕí³Í Ñ³Ýó³·áñÍáõÃÛáõÝÝ»ñÁ | E8: =SUM(E9:E35) -> 162 | F8: =SUM(F9:F35) -> 7 | G8: =SUM(G9:G35) -> 176 | H8: =SUM(H9:H35) -> 123 | I8: =SUM(I9:I35) -> 55 | J8: =SUM(J9:J35) -> 10 | K8: =SUM(K9:K35) -> 188 | L8: =SUM(L9:L35) -> 0 | ... U8: =SUM(U9:U35) -> 1
A9: 0 | B9: 1.1 | C9: êå³ÝáõÃÛáõÝÁ | D9: 104 | E9: =Erebuni!E9+Kentron!E9+Ajapnjak!E9+Avan!E9+Arabkir!E9+Shengavit!E9+'Malatia-Sebastia'!E9+Kotayq!E9+Ararat!E9+Armavir!E9+Aragacotn!E9+Shirak!E9+Lori!E9+Tavush!E9+Gegharquniq!E9+Syuniq!E9 -> 29 | F9: =Erebuni!F9+Kentron!F9+Ajapnjak!F9+Avan!F9+Arabkir!F9+Shengavit!F9+'Malatia-Sebastia'!F9+Kotayq!F9+Ararat!F9+Armavir!F9+Aragacotn!F9+Shirak!F9+Lori!F9+Tavush!F9+Gegharquniq!F9+Syuniq!F9 -> 1 | G9: =Erebuni!G9+Kentron!G9+Ajapnjak!G9+Avan!G9+Arabkir!G9+Shengavit!G9+'Malatia-Sebastia'!G9+Kotayq!G9+Ararat!G9+Armavir!G9+Aragacotn!G9+Shirak!G9+Lori!G9+Tavush!G9+Gegharquniq!G9+Syuniq!G9 -> 29 | H9: =Erebuni!H9+Kentron!H9+Ajapnjak!H9+Avan!H9+Arabkir!H9+Shengavit!H9+'Malatia-Sebastia'!H9+Kotayq!H9+Ararat!H9+Armavir!H9+Aragacotn!H9+Shirak!H9+Lori!H9+Tavush!H9+Gegharquniq!H9+Syuniq!H9 -> 14 | I9: =Erebuni!I9+Kentron!I9+Ajapnjak!I9+Avan!I9+Arabkir!I9+Shengavit!I9+'Malatia-Sebastia'!I9+Kotayq!I9+Ararat!I9+Armavir!I9+Aragacotn!I9+Shirak!I9+Lori!I9+Tavush!I9+Gegharquniq!I9+Syuniq!I9 -> 0 | J9: =Erebuni!J9+Kentron!J9+Ajapnjak!J9+Avan!J9+Arabkir!J9+Shengavit!J9+'Malatia-Sebastia'!J9+Kotayq!J9+Ararat!J9+Armavir!J9+Aragacotn!J9+Shirak!J9+Lori!J9+Tavush!J9+Gegharquniq!J9+Syuniq!J9 -> 3 | K9: =Erebuni!K9+Kentron!K9+Ajapnjak!K9+Avan!K9+Arabkir!K9+Shengavit!K9+'Malatia-Sebastia'!K9+Kotayq!K9+Ararat!K9+Armavir!K9+Aragacotn!K9+Shirak!K9+Lori!K9+Tavush!K9+Gegharquniq!K9+Syuniq!K9 -> 17 | L9: =Erebuni!L9+Kentron!L9+Ajapnjak!L9+Avan!L9+Arabkir!L9+Shengavit!L9+'Malatia-Sebastia'!L9+Kotayq!L9+Ararat!L9+Armavir!L9+Aragacotn!L9+Shirak!L9+Lori!L9+Tavush!L9+Gegharquniq!L9+Syuniq!L9 -> 0 | ... U9: =Erebuni!U9+Kentron!U9+Ajapnjak!U9+Avan!U9+Arabkir!U9+Shengavit!U9+'Malatia-Sebastia'!U9+Kotayq!U9+Ararat!U9+Armavir!U9+Aragacotn!U9+Shirak!U9+Lori!U9+Tavush!U9+Gegharquniq!U9+Syuniq!U9 -> 0
A10: 0 | B10: 1.2 | C10: Ðá·»Ï³Ý ËÇëï Ñáõ½ÙáõÝùÇ íÇ×³ÏáõÙ Ï³ï³ñí³Í ëå³ÝáõÃÛáõÝÁ | D10: 105 | E10: =Erebuni!E10+Kentron!E10+Ajapnjak!E10+Avan!E10+Arabkir!E10+Shengavit!E10+'Malatia-Sebastia'!E10+Kotayq!E10+Ararat!E10+Armavir!E10+Aragacotn!E10+Shirak!E10+Lori!E10+Tavush!E10+Gegharquniq!E10+Syuniq!E10 -> 0 | F10: =Erebuni!F10+Kentron!F10+Ajapnjak!F10+Avan!F10+Arabkir!F10+Shengavit!F10+'Malatia-Sebastia'!F10+Kotayq!F10+Ararat!F10+Armavir!F10+Aragacotn!F10+Shirak!F10+Lori!F10+Tavush!F10+Gegharquniq!F10+Syuniq!F10 -> 0 | G10: =Erebuni!G10+Kentron!G10+Ajapnjak!G10+Avan!G10+Arabkir!G10+Shengavit!G10+'Malatia-Sebastia'!G10+Kotayq!G10+Ararat!G10+Armavir!G10+Aragacotn!G10+Shirak!G10+Lori!G10+Tavush!G10+Gegharquniq!G10+Syuniq!G10 -> 2 | H10: =Erebuni!H10+Kentron!H10+Ajapnjak!H10+Avan!H10+Arabkir!H10+Shengavit!H10+'Malatia-Sebastia'!H10+Kotayq!H10+Ararat!H10+Armavir!H10+Aragacotn!H10+Shirak!H10+Lori!H10+Tavush!H10+Gegharquniq!H10+Syuniq!H10 -> 0 | I10: =Erebuni!I10+Kentron!I10+Ajapnjak!I10+Avan!I10+Arabkir!I10+Shengavit!I10+'Malatia-Sebastia'!I10+Kotayq!I10+Ararat!I10+Armavir!I10+Aragacotn!I10+Shirak!I10+Lori!I10+Tavush!I10+Gegharquniq!I10+Syuniq!I10 -> 0 | J10: =Erebuni!J10+Kentron!J10+Ajapnjak!J10+Avan!J10+Arabkir!J10+Shengavit!J10+'Malatia-Sebastia'!J10+Kotayq!J10+Ararat!J10+Armavir!J10+Aragacotn!J10+Shirak!J10+Lori!J10+Tavush!J10+Gegharquniq!J10+Syuniq!J10 -> 0 | K10: =Erebuni!K10+Kentron!K10+Ajapnjak!K10+Avan!K10+Arabkir!K10+Shengavit!K10+'Malatia-Sebastia'!K10+Kotayq!K10+Ararat!K10+Armavir!K10+Aragacotn!K10+Shirak!K10+Lori!K10+Tavush!K10+Gegharquniq!K10+Syuniq!K10 -> 0 | L10: =Erebuni!L10+Kentron!L10+Ajapnjak!L10+Avan!L10+Arabkir!L10+Shengavit!L10+'Malatia-Sebastia'!L10+Kotayq!L10+Ararat!L10+Armavir!L10+Aragacotn!L10+Shirak!L10+Lori!L10+Tavush!L10+Gegharquniq!L10+Syuniq!L10 -> 0 | ... U10: =Erebuni!U10+Kentron!U10+Ajapnjak!U10+Avan!U10+Arabkir!U10+Shengavit!U10+'Malatia-Sebastia'!U10+Kotayq!U10+Ararat!U10+Armavir!U10+Aragacotn!U10+Shirak!U10+Lori!U10+Tavush!U10+Gegharquniq!U10+Syuniq!U10 -> 0
A11: 0 | B11: 1.3 | C11: Øáñ ÏáÕÙÇó Ýáñ³ÍÇÝ »ñ»Ë³ÛÇ ëå³ÝáõÃÛáõÝÁ | D11: 106 | E11: =Erebuni!E11+Kentron!E11+Ajapnjak!E11+Avan!E11+Arabkir!E11+Shengavit!E11+'Malatia-Sebastia'!E11+Kotayq!E11+Ararat!E11+Armavir!E11+Aragacotn!E11+Shirak!E11+Lori!E11+Tavush!E11+Gegharquniq!E11+Syuniq!E11 -> 0 | F11: =Erebuni!F11+Kentron!F11+Ajapnjak!F11+Avan!F11+Arabkir!F11+Shengavit!F11+'Malatia-Sebastia'!F11+Kotayq!F11+Ararat!F11+Armavir!F11+Aragacotn!F11+Shirak!F11+Lori!F11+Tavush!F11+Gegharquniq!F11+Syuniq!F11 -> 0 | G11: =Erebuni!G11+Kentron!G11+Ajapnjak!G11+Avan!G11+Arabkir!G11+Shengavit!G11+'Malatia-Sebastia'!G11+Kotayq!G11+Ararat!G11+Armavir!G11+Aragacotn!G11+Shirak!G11+Lori!G11+Tavush!G11+Gegharquniq!G11+Syuniq!G11 -> 0 | H11: =Erebuni!H11+Kentron!H11+Ajapnjak!H11+Avan!H11+Arabkir!H11+Shengavit!H11+'Malatia-Sebastia'!H11+Kotayq!H11+Ararat!H11+Armavir!H11+Aragacotn!H11+Shirak!H11+Lori!H11+Tavush!H11+Gegharquniq!H11+Syuniq!H11 -> 0 | I11: =Erebuni!I11+Kentron!I11+Ajapnjak!I11+Avan!I11+Arabkir!I11+Shengavit!I11+'Malatia-Sebastia'!I11+Kotayq!I11+Ararat!I11+Armavir!I11+Aragacotn!I11+Shirak!I11+Lori!I11+Tavush!I11+Gegharquniq!I11+Syuniq!I11 -> 0 | J11: =Erebuni!J11+Kentron!J11+Ajapnjak!J11+Avan!J11+Arabkir!J11+Shengavit!J11+'Malatia-Sebastia'!J11+Kotayq!J11+Ararat!J11+Armavir!J11+Aragacotn!J11+Shirak!J11+Lori!J11+Tavush!J11+Gegharquniq!J11+Syuniq!J11 -> 0 | K11: =Erebuni!K11+Kentron!K11+Ajapnjak!K11+Avan!K11+Arabkir!K11+Shengavit!K11+'Malatia-Sebastia'!K11+Kotayq!K11+Ararat!K11+Armavir!K11+Aragacotn!K11+Shirak!K11+Lori!K11+Tavush!K11+Gegharquniq!K11+Syuniq!K11 -> 0 | L11: =Erebuni!L11+Kentron!L11+Ajapnjak!L11+Avan!L11+Arabkir!L11+Shengavit!L11+'Malatia-Sebastia'!L11+Kotayq!L11+Ararat!L11+Armavir!L11+Aragacotn!L11+Shirak!L11+Lori!L11+Tavush!L11+Gegharquniq!L11+Syuniq!L11 -> 0 | ... U11: =Erebuni!U11+Kentron!U11+Ajapnjak!U11+Avan!U11+Arabkir!U11+Shengavit!U11+'Malatia-Sebastia'!U11+Kotayq!U11+Ararat!U11+Armavir!U11+Aragacotn!U11+Shirak!U11+Lori!U11+Tavush!U11+Gegharquniq!U11+Syuniq!U11 -> 0
A12: 0 | B12: 1.4 | C12: Ð³Ýó³Ýù Ï³ï³ñ³Í ³ÝÓÇÝ µéÝ»Éáõ Ñ³Ù³ñ ³ÝÑñ³Å»ßï ÙÇçáóÝ»ñÇ ë³ÑÙ³Ý³½³ÝóÙ³Ùµ ëå³ÝáõÃÛáõÝÁ | D12: 107 | E12: =Erebuni!E12+Kentron!E12+Ajapnjak!E12+Avan!E12+Arabkir!E12+Shengavit!E12+'Malatia-Sebastia'!E12+Kotayq!E12+Ararat!E12+Armavir!E12+Aragacotn!E12+Shirak!E12+Lori!E12+Tavush!E12+Gegharquniq!E12+Syuniq!E12 -> 0 | F12: =Erebuni!F12+Kentron!F12+Ajapnjak!F12+Avan!F12+Arabkir!F12+Shengavit!F12+'Malatia-Sebastia'!F12+Kotayq!F12+Ararat!F12+Armavir!F12+Aragacotn!F12+Shirak!F12+Lori!F12+Tavush!F12+Gegharquniq!F12+Syuniq!F12 -> 0 | G12: =Erebuni!G12+Kentron!G12+Ajapnjak!G12+Avan!G12+Arabkir!G12+Shengavit!G12+'Malatia-Sebastia'!G12+Kotayq!G12+Ararat!G12+Armavir!G12+Aragacotn!G12+Shirak!G12+Lori!G12+Tavush!G12+Gegharquniq!G12+Syuniq!G12 -> 0 | H12: =Erebuni!H12+Kentron!H12+Ajapnjak!H12+Avan!H12+Arabkir!H12+Shengavit!H12+'Malatia-Sebastia'!H12+Kotayq!H12+Ararat!H12+Armavir!H12+Aragacotn!H12+Shirak!H12+Lori!H12+Tavush!H12+Gegharquniq!H12+Syuniq!H12 -> 0 | I12: =Erebuni!I12+Kentron!I12+Ajapnjak!I12+Avan!I12+Arabkir!I12+Shengavit!I12+'Malatia-Sebastia'!I12+Kotayq!I12+Ararat!I12+Armavir!I12+Aragacotn!I12+Shirak!I12+Lori!I12+Tavush!I12+Gegharquniq!I12+Syuniq!I12 -> 0 | J12: =Erebuni!J12+Kentron!J12+Ajapnjak!J12+Avan!J12+Arabkir!J12+Shengavit!J12+'Malatia-Sebastia'!J12+Kotayq!J12+Ararat!J12+Armavir!J12+Aragacotn!J12+Shirak!J12+Lori!J12+Tavush!J12+Gegharquniq!J12+Syuniq!J12 -> 0 | K12: =Erebuni!K12+Kentron!K12+Ajapnjak!K12+Avan!K12+Arabkir!K12+Shengavit!K12+'Malatia-Sebastia'!K12+Kotayq!K12+Ararat!K12+Armavir!K12+Aragacotn!K12+Shirak!K12+Lori!K12+Tavush!K12+Gegharquniq!K12+Syuniq!K12 -> 0 | L12: =Erebuni!L12+Kentron!L12+Ajapnjak!L12+Avan!L12+Arabkir!L12+Shengavit!L12+'Malatia-Sebastia'!L12+Kotayq!L12+Ararat!L12+Armavir!L12+Aragacotn!L12+Shirak!L12+Lori!L12+Tavush!L12+Gegharquniq!L12+Syuniq!L12 -> 0 | ... U12: =Erebuni!U12+Kentron!U12+Ajapnjak!U12+Avan!U12+Arabkir!U12+Shengavit!U12+'Malatia-Sebastia'!U12+Kotayq!U12+Ararat!U12+Armavir!U12+Aragacotn!U12+Shirak!U12+Lori!U12+Tavush!U12+Gegharquniq!U12+Syuniq!U12 -> 0
A13: 0 | B13: 1.5 | C13: ²ÝÑñ³Å»ßï å³ßïå³ÝáõÃÛ³Ý ë³ÑÙ³Ý³½³ÝóÙ³Ùµ ëå³ÝáõÃÛáõÝÁ | D13: 108 | E13: =Erebuni!E13+Kentron!E13+Ajapnjak!E13+Avan!E13+Arabkir!E13+Shengavit!E13+'Malatia-Sebastia'!E13+Kotayq!E13+Ararat!E13+Armavir!E13+Aragacotn!E13+Shirak!E13+Lori!E13+Tavush!E13+Gegharquniq!E13+Syuniq!E13 -> 0 | F13: =Erebuni!F13+Kentron!F13+Ajapnjak!F13+Avan!F13+Arabkir!F13+Shengavit!F13+'Malatia-Sebastia'!F13+Kotayq!F13+Ararat!F13+Armavir!F13+Aragacotn!F13+Shirak!F13+Lori!F13+Tavush!F13+Gegharquniq!F13+Syuniq!F13 -> 0 | G13: =Erebuni!G13+Kentron!G13+Ajapnjak!G13+Avan!G13+Arabkir!G13+Shengavit!G13+'Malatia-Sebastia'!G13+Kotayq!G13+Ararat!G13+Armavir!G13+Aragacotn!G13+Shirak!G13+Lori!G13+Tavush!G13+Gegharquniq!G13+Syuniq!G13 -> 0 | H13: =Erebuni!H13+Kentron!H13+Ajapnjak!H13+Avan!H13+Arabkir!H13+Shengavit!H13+'Malatia-Sebastia'!H13+Kotayq!H13+Ararat!H13+Armavir!H13+Aragacotn!H13+Shirak!H13+Lori!H13+Tavush!H13+Gegharquniq!H13+Syuniq!H13 -> 0 | I13: =Erebuni!I13+Kentron!I13+Ajapnjak!I13+Avan!I13+Arabkir!I13+Shengavit!I13+'Malatia-Sebastia'!I13+Kotayq!I13+Ararat!I13+Armavir!I13+Aragacotn!I13+Shirak!I13+Lori!I13+Tavush!I13+Gegharquniq!I13+Syuniq!I13 -> 0 | J13: =Erebuni!J13+Kentron!J13+Ajapnjak!J13+Avan!J13+Arabkir!J13+Shengavit!J13+'Malatia-Sebastia'!J13+Kotayq!J13+Ararat!J13+Armavir!J13+Aragacotn!J13+Shirak!J13+Lori!J13+Tavush!J13+Gegharquniq!J13+Syuniq!J13 -> 0 | K13: =Erebuni!K13+Kentron!K13+Ajapnjak!K13+Avan!K13+Arabkir!K13+Shengavit!K13+'Malatia-Sebastia'!K13+Kotayq!K13+Ararat!K13+Armavir!K13+Aragacotn!K13+Shirak!K13+Lori!K13+Tavush!K13+Gegharquniq!K13+Syuniq!K13 -> 0 | L13: =Erebuni!L13+Kentron!L13+Ajapnjak!L13+Avan!L13+Arabkir!L13+Shengavit!L13+'Malatia-Sebastia'!L13+Kotayq!L13+Ararat!L13+Armavir!L13+Aragacotn!L13+Shirak!L13+Lori!L13+Tavush!L13+Gegharquniq!L13+Syuniq!L13 -> 0 | ... U13: =Erebuni!U13+Kentron!U13+Ajapnjak!U13+Avan!U13+Arabkir!U13+Shengavit!U13+'Malatia-Sebastia'!U13+Kotayq!U13+Ararat!U13+Armavir!U13+Aragacotn!U13+Shirak!U13+Lori!U13+Tavush!U13+Gegharquniq!U13+Syuniq!U13 -> 0
A14: 0 | B14: 1.6 | C14: ²Ý½·áõßáõÃÛ³Ùµ Ù³Ñ å³ï×³é»ÉÁ | D14: 109 | E14: =Erebuni!E14+Kentron!E14+Ajapnjak!E14+Avan!E14+Arabkir!E14+Shengavit!E14+'Malatia-Sebastia'!E14+Kotayq!E14+Ararat!E14+Armavir!E14+Aragacotn!E14+Shirak!E14+Lori!E14+Tavush!E14+Gegharquniq!E14+Syuniq!E14 -> 3 | F14: =Erebuni!F14+Kentron!F14+Ajapnjak!F14+Avan!F14+Arabkir!F14+Shengavit!F14+'Malatia-Sebastia'!F14+Kotayq!F14+Ararat!F14+Armavir!F14+Aragacotn!F14+Shirak!F14+Lori!F14+Tavush!F14+Gegharquniq!F14+Syuniq!F14 -> 0 | G14: =Erebuni!G14+Kentron!G14+Ajapnjak!G14+Avan!G14+Arabkir!G14+Shengavit!G14+'Malatia-Sebastia'!G14+Kotayq!G14+Ararat!G14+Armavir!G14+Aragacotn!G14+Shirak!G14+Lori!G14+Tavush!G14+Gegharquniq!G14+Syuniq!G14 -> 0 | H14: =Erebuni!H14+Kentron!H14+Ajapnjak!H14+Avan!H14+Arabkir!H14+Shengavit!H14+'Malatia-Sebastia'!H14+Kotayq!H14+Ararat!H14+Armavir!H14+Aragacotn!H14+Shirak!H14+Lori!H14+Tavush!H14+Gegharquniq!H14+Syuniq!H14 -> 1 | I14: =Erebuni!I14+Kentron!I14+Ajapnjak!I14+Avan!I14+Arabkir!I14+Shengavit!I14+'Malatia-Sebastia'!I14+Kotayq!I14+Ararat!I14+Armavir!I14+Aragacotn!I14+Shirak!I14+Lori!I14+Tavush!I14+Gegharquniq!I14+Syuniq!I14 -> 0 | J14: =Erebuni!J14+Kentron!J14+Ajapnjak!J14+Avan!J14+Arabkir!J14+Shengavit!J14+'Malatia-Sebastia'!J14+Kotayq!J14+Ararat!J14+Armavir!J14+Aragacotn!J14+Shirak!J14+Lori!J14+Tavush!J14+Gegharquniq!J14+Syuniq!J14 -> 0 | K14: =Erebuni!K14+Kentron!K14+Ajapnjak!K14+Avan!K14+Arabkir!K14+Shengavit!K14+'Malatia-Sebastia'!K14+Kotayq!K14+Ararat!K14+Armavir!K14+Aragacotn!K14+Shirak!K14+Lori!K14+Tavush!K14+Gegharquniq!K14+Syuniq!K14 -> 1 | L14: =Erebuni!L14+Kentron!L14+Ajapnjak!L14+Avan!L14+Arabkir!L14+Shengavit!L14+'Malatia-Sebastia'!L14+Kotayq!L14+Ararat!L14+Armavir!L14+Aragacotn!L14+Shirak!L14+Lori!L14+Tavush!L14+Gegharquniq!L14+Syuniq!L14 -> 0 | ... U14: =Erebuni!U14+Kentron!U14+Ajapnjak!U14+Avan!U14+Arabkir!U14+Shengavit!U14+'Malatia-Sebastia'!U14+Kotayq!U14+Ararat!U14+Armavir!U14+Aragacotn!U14+Shirak!U14+Lori!U14+Tavush!U14+Gegharquniq!U14+Syuniq!U14 -> 0
A15: 0 | B15: 1.7 | C15: ÆÝùÝ³ëå³ÝáõÃÛ³Ý Ñ³ëóÝ»ÉÁ | D15: 110 | E15: =Erebuni!E15+Kentron!E15+Ajapnjak!E15+Avan!E15+Arabkir!E15+Shengavit!E15+'Malatia-Sebastia'!E15+Kotayq!E15+Ararat!E15+Armavir!E15+Aragacotn!E15+Shirak!E15+Lori!E15+Tavush!E15+Gegharquniq!E15+Syuniq!E15 -> 0 | F15: =Erebuni!F15+Kentron!F15+Ajapnjak!F15+Avan!F15+Arabkir!F15+Shengavit!F15+'Malatia-Sebastia'!F15+Kotayq!F15+Ararat!F15+Armavir!F15+Aragacotn!F15+Shirak!F15+Lori!F15+Tavush!F15+Gegharquniq!F15+Syuniq!F15 -> 0 | G15: =Erebuni!G15+Kentron!G15+Ajapnjak!G15+Avan!G15+Arabkir!G15+Shengavit!G15+'Malatia-Sebastia'!G15+Kotayq!G15+Ararat!G15+Armavir!G15+Aragacotn!G15+Shirak!G15+Lori!G15+Tavush!G15+Gegharquniq!G15+Syuniq!G15 -> 2 | H15: =Erebuni!H15+Kentron!H15+Ajapnjak!H15+Avan!H15+Arabkir!H15+Shengavit!H15+'Malatia-Sebastia'!H15+Kotayq!H15+Ararat!H15+Armavir!H15+Aragacotn!H15+Shirak!H15+Lori!H15+Tavush!H15+Gegharquniq!H15+Syuniq!H15 -> 1 | I15: =Erebuni!I15+Kentron!I15+Ajapnjak!I15+Avan!I15+Arabkir!I15+Shengavit!I15+'Malatia-Sebastia'!I15+Kotayq!I15+Ararat!I15+Armavir!I15+Aragacotn!I15+Shirak!I15+Lori!I15+Tavush!I15+Gegharquniq!I15+Syuniq!I15 -> 0 | J15: =Erebuni!J15+Kentron!J15+Ajapnjak!J15+Avan!J15+Arabkir!J15+Shengavit!J15+'Malatia-Sebastia'!J15+Kotayq!J15+Ararat!J15+Armavir!J15+Aragacotn!J15+Shirak!J15+Lori!J15+Tavush!J15+Gegharquniq!J15+Syuniq!J15 -> 0 | K15: =Erebuni!K15+Kentron!K15+Ajapnjak!K15+Avan!K15+Arabkir!K15+Shengavit!K15+'Malatia-Sebastia'!K15+Kotayq!K15+Ararat!K15+Armavir!K15+Aragacotn!K15+Shirak!K15+Lori!K15+Tavush!K15+Gegharquniq!K15+Syuniq!K15 -> 1 | L15: =Erebuni!L15+Kentron!L15+Ajapnjak!L15+Avan!L15+Arabkir!L15+Shengavit!L15+'Malatia-Sebastia'!L15+Kotayq!L15+Ararat!L15+Armavir!L15+Aragacotn!L15+Shirak!L15+Lori!L15+Tavush!L15+Gegharquniq!L15+Syuniq!L15 -> 0 | ... U15: =Erebuni!U15+Kentron!U15+Ajapnjak!U15+Avan!U15+Arabkir!U15+Shengavit!U15+'Malatia-Sebastia'!U15+Kotayq!U15+Ararat!U15+Armavir!U15+Aragacotn!U15+Shirak!U15+Lori!U15+Tavush!U15+Gegharquniq!U15+Syuniq!U15 -> 0
A16: 0 | B16: 1.8 | C16: ÆÝùÝ³ëå³ÝáõÃÛ³Ý Ñ³Ï»ÉÁ | D16: 111 | E16: =Erebuni!E16+Kentron!E16+Ajapnjak!E16+Avan!E16+Arabkir!E16+Shengavit!E16+'Malatia-Sebastia'!E16+Kotayq!E16+Ararat!E16+Armavir!E16+Aragacotn!E16+Shirak!E16+Lori!E16+Tavush!E16+Gegharquniq!E16+Syuniq!E16 -> 0 | F16: =Erebuni!F16+Kentron!F16+Ajapnjak!F16+Avan!F16+Arabkir!F16+Shengavit!F16+'Malatia-Sebastia'!F16+Kotayq!F16+Ararat!F16+Armavir!F16+Aragacotn!F16+Shirak!F16+Lori!F16+Tavush!F16+Gegharquniq!F16+Syuniq!F16 -> 0 | G16: =Erebuni!G16+Kentron!G16+Ajapnjak!G16+Avan!G16+Arabkir!G16+Shengavit!G16+'Malatia-Sebastia'!G16+Kotayq!G16+Ararat!G16+Armavir!G16+Aragacotn!G16+Shirak!G16+Lori!G16+Tavush!G16+Gegharquniq!G16+Syuniq!G16 -> 0 | H16: =Erebuni!H16+Kentron!H16+Ajapnjak!H16+Avan!H16+Arabkir!H16+Shengavit!H16+'Malatia-Sebastia'!H16+Kotayq!H16+Ararat!H16+Armavir!H16+Aragacotn!H16+Shirak!H16+Lori!H16+Tavush!H16+Gegharquniq!H16+Syuniq!H16 -> 0 | I16: =Erebuni!I16+Kentron!I16+Ajapnjak!I16+Avan!I16+Arabkir!I16+Shengavit!I16+'Malatia-Sebastia'!I16+Kotayq!I16+Ararat!I16+Armavir!I16+Aragacotn!I16+Shirak!I16+Lori!I16+Tavush!I16+Gegharquniq!I16+Syuniq!I16 -> 0 | J16: =Erebuni!J16+Kentron!J16+Ajapnjak!J16+Avan!J16+Arabkir!J16+Shengavit!J16+'Malatia-Sebastia'!J16+Kotayq!J16+Ararat!J16+Armavir!J16+Aragacotn!J16+Shirak!J16+Lori!J16+Tavush!J16+Gegharquniq!J16+Syuniq!J16 -> 0 | K16: =Erebuni!K16+Kentron!K16+Ajapnjak!K16+Avan!K16+Arabkir!K16+Shengavit!K16+'Malatia-Sebastia'!K16+Kotayq!K16+Ararat!K16+Armavir!K16+Aragacotn!K16+Shirak!K16+Lori!K16+Tavush!K16+Gegharquniq!K16+Syuniq!K16 -> 0 | L16: =Erebuni!L16+Kentron!L16+Ajapnjak!L16+Avan!L16+Arabkir!L16+Shengavit!L16+'Malatia-Sebastia'!L16+Kotayq!L16+Ararat!L16+Armavir!L16+Aragacotn!L16+Shirak!L16+Lori!L16+Tavush!L16+Gegharquniq!L16+Syuniq!L16 -> 0 | ... U16: =Erebuni!U16+Kentron!U16+Ajapnjak!U16+Avan!U16+Arabkir!U16+Shengavit!U16+'Malatia-Sebastia'!U16+Kotayq!U16+Ararat!U16+Armavir!U16+Aragacotn!U16+Shirak!U16+Lori!U16+Tavush!U16+Gegharquniq!U16+Syuniq!U16 -> 0
A17: 0 | B17: 1.9 | C17: ¸Çï³íáñáõÃÛ³Ùµ ³éáÕçáõÃÛ³ÝÁ Í³Ýñ íÝ³ë å³ï×³é»ÉÁ | D17: 112 | E17: =Erebuni!E17+Kentron!E17+Ajapnjak!E17+Avan!E17+Arabkir!E17+Shengavit!E17+'Malatia-Sebastia'!E17+Kotayq!E17+Ararat!E17+Armavir!E17+Aragacotn!E17+Shirak!E17+Lori!E17+Tavush!E17+Gegharquniq!E17+Syuniq!E17 -> 72 | F17: =Erebuni!F17+Kentron!F17+Ajapnjak!F17+Avan!F17+Arabkir!F17+Shengavit!F17+'Malatia-Sebastia'!F17+Kotayq!F17+Ararat!F17+Armavir!F17+Aragacotn!F17+Shirak!F17+Lori!F17+Tavush!F17+Gegharquniq!F17+Syuniq!F17 -> 1 | G17: =Erebuni!G17+Kentron!G17+Ajapnjak!G17+Avan!G17+Arabkir!G17+Shengavit!G17+'Malatia-Sebastia'!G17+Kotayq!G17+Ararat!G17+Armavir!G17+Aragacotn!G17+Shirak!G17+Lori!G17+Tavush!G17+Gegharquniq!G17+Syuniq!G17 -> 50 | H17: =Erebuni!H17+Kentron!H17+Ajapnjak!H17+Avan!H17+Arabkir!H17+Shengavit!H17+'Malatia-Sebastia'!H17+Kotayq!H17+Ararat!H17+Armavir!H17+Aragacotn!H17+Shirak!H17+Lori!H17+Tavush!H17+Gegharquniq!H17+Syuniq!H17 -> 66 | I17: =Erebuni!I17+Kentron!I17+Ajapnjak!I17+Avan!I17+Arabkir!I17+Shengavit!I17+'Malatia-Sebastia'!I17+Kotayq!I17+Ararat!I17+Armavir!I17+Aragacotn!I17+Shirak!I17+Lori!I17+Tavush!I17+Gegharquniq!I17+Syuniq!I17 -> 3 | J17: =Erebuni!J17+Kentron!J17+Ajapnjak!J17+Avan!J17+Arabkir!J17+Shengavit!J17+'Malatia-Sebastia'!J17+Kotayq!J17+Ararat!J17+Armavir!J17+Aragacotn!J17+Shirak!J17+Lori!J17+Tavush!J17+Gegharquniq!J17+Syuniq!J17 -> 2 | K17: =Erebuni!K17+Kentron!K17+Ajapnjak!K17+Avan!K17+Arabkir!K17+Shengavit!K17+'Malatia-Sebastia'!K17+Kotayq!K17+Ararat!K17+Armavir!K17+Aragacotn!K17+Shirak!K17+Lori!K17+Tavush!K17+Gegharquniq!K17+Syuniq!K17 -> 71 | L17: =Erebuni!L17+Kentron!L17+Ajapnjak!L17+Avan!L17+Arabkir!L17+Shengavit!L17+'Malatia-Sebastia'!L17+Kotayq!L17+Ararat!L17+Armavir!L17+Aragacotn!L17+Shirak!L17+Lori!L17+Tavush!L17+Gegharquniq!L17+Syuniq!L17 -> 0 | ... U17: =Erebuni!U17+Kentron!U17+Ajapnjak!U17+Avan!U17+Arabkir!U17+Shengavit!U17+'Malatia-Sebastia'!U17+Kotayq!U17+Ararat!U17+Armavir!U17+Aragacotn!U17+Shirak!U17+Lori!U17+Tavush!U17+Gegharquniq!U17+Syuniq!U17 -> 1
A18: 0 | B18: 1.10 | C18: ¸Çï³íáñáõÃÛ³Ùµ ³éáÕçáõÃÛ³ÝÁ ÙÇçÇÝ Í³ÝñáõÃÛ³Ý íÝ³ë å³ï×³é»ÉÁ | D18: 113 | E18: =Erebuni!E18+Kentron!E18+Ajapnjak!E18+Avan!E18+Arabkir!E18+Shengavit!E18+'Malatia-Sebastia'!E18+Kotayq!E18+Ararat!E18+Armavir!E18+Aragacotn!E18+Shirak!E18+Lori!E18+Tavush!E18+Gegharquniq!E18+Syuniq!E18 -> 13 | F18: =Erebuni!F18+Kentron!F18+Ajapnjak!F18+Avan!F18+Arabkir!F18+Shengavit!F18+'Malatia-Sebastia'!F18+Kotayq!F18+Ararat!F18+Armavir!F18+Aragacotn!F18+Shirak!F18+Lori!F18+Tavush!F18+Gegharquniq!F18+Syuniq!F18 -> 0 | G18: =Erebuni!G18+Kentron!G18+Ajapnjak!G18+Avan!G18+Arabkir!G18+Shengavit!G18+'Malatia-Sebastia'!G18+Kotayq!G18+Ararat!G18+Armavir!G18+Aragacotn!G18+Shirak!G18+Lori!G18+Tavush!G18+Gegharquniq!G18+Syuniq!G18 -> 14 | H18: =Erebuni!H18+Kentron!H18+Ajapnjak!H18+Avan!H18+Arabkir!H18+Shengavit!H18+'Malatia-Sebastia'!H18+Kotayq!H18+Ararat!H18+Armavir!H18+Aragacotn!H18+Shirak!H18+Lori!H18+Tavush!H18+Gegharquniq!H18+Syuniq!H18 -> 7 | I18: =Erebuni!I18+Kentron!I18+Ajapnjak!I18+Avan!I18+Arabkir!I18+Shengavit!I18+'Malatia-Sebastia'!I18+Kotayq!I18+Ararat!I18+Armavir!I18+Aragacotn!I18+Shirak!I18+Lori!I18+Tavush!I18+Gegharquniq!I18+Syuniq!I18 -> 7 | J18: =Erebuni!J18+Kentron!J18+Ajapnjak!J18+Avan!J18+Arabkir!J18+Shengavit!J18+'Malatia-Sebastia'!J18+Kotayq!J18+Ararat!J18+Armavir!J18+Aragacotn!J18+Shirak!J18+Lori!J18+Tavush!J18+Gegharquniq!J18+Syuniq!J18 -> 1 | K18: =Erebuni!K18+Kentron!K18+Ajapnjak!K18+Avan!K18+Arabkir!K18+Shengavit!K18+'Malatia-Sebastia'!K18+Kotayq!K18+Ararat!K18+Armavir!K18+Aragacotn!K18+Shirak!K18+Lori!K18+Tavush!K18+Gegharquniq!K18+Syuniq!K18 -> 15 | L18: =Erebuni!L18+Kentron!L18+Ajapnjak!L18+Avan!L18+Arabkir!L18+Shengavit!L18+'Malatia-Sebastia'!L18+Kotayq!L18+Ararat!L18+Armavir!L18+Aragacotn!L18+Shirak!L18+Lori!L18+Tavush!L18+Gegharquniq!L18+Syuniq!L18 -> 0 | ... U18: =Erebuni!U18+Kentron!U18+Ajapnjak!U18+Avan!U18+Arabkir!U18+Shengavit!U18+'Malatia-Sebastia'!U18+Kotayq!U18+Ararat!U18+Armavir!U18+Aragacotn!U18+Shirak!U18+Lori!U18+Tavush!U18+Gegharquniq!U18+Syuniq!U18 -> 0
A19: 0 | B19: 1.11 | C19: Ðá·»Ï³Ý ËÇëï Ñáõ½ÙáõÝùÇ íÇ×³ÏáõÙ ³éáÕçáõÃÛ³ÝÁ Í³Ýñ Ï³Ù ÙÇçÇÝ Í³ÝñáõÃÛ³Ý íÝ³ë å³ï×³é»ÉÁ | D19: 114 | E19: =Erebuni!E19+Kentron!E19+Ajapnjak!E19+Avan!E19+Arabkir!E19+Shengavit!E19+'Malatia-Sebastia'!E19+Kotayq!E19+Ararat!E19+Armavir!E19+Aragacotn!E19+Shirak!E19+Lori!E19+Tavush!E19+Gegharquniq!E19+Syuniq!E19 -> 1 | F19: =Erebuni!F19+Kentron!F19+Ajapnjak!F19+Avan!F19+Arabkir!F19+Shengavit!F19+'Malatia-Sebastia'!F19+Kotayq!F19+Ararat!F19+Armavir!F19+Aragacotn!F19+Shirak!F19+Lori!F19+Tavush!F19+Gegharquniq!F19+Syuniq!F19 -> 1 | G19: =Erebuni!G19+Kentron!G19+Ajapnjak!G19+Avan!G19+Arabkir!G19+Shengavit!G19+'Malatia-Sebastia'!G19+Kotayq!G19+Ararat!G19+Armavir!G19+Aragacotn!G19+Shirak!G19+Lori!G19+Tavush!G19+Gegharquniq!G19+Syuniq!G19 -> 0 | H19: =Erebuni!H19+Kentron!H19+Ajapnjak!H19+Avan!H19+Arabkir!H19+Shengavit!H19+'Malatia-Sebastia'!H19+Kotayq!H19+Ararat!H19+Armavir!H19+Aragacotn!H19+Shirak!H19+Lori!H19+Tavush!H19+Gegharquniq!H19+Syuniq!H19 -> 0 | I19: =Erebuni!I19+Kentron!I19+Ajapnjak!I19+Avan!I19+Arabkir!I19+Shengavit!I19+'Malatia-Sebastia'!I19+Kotayq!I19+Ararat!I19+Armavir!I19+Aragacotn!I19+Shirak!I19+Lori!I19+Tavush!I19+Gegharquniq!I19+Syuniq!I19 -> 0 | J19: =Erebuni!J19+Kentron!J19+Ajapnjak!J19+Avan!J19+Arabkir!J19+Shengavit!J19+'Malatia-Sebastia'!J19+Kotayq!J19+Ararat!J19+Armavir!J19+Aragacotn!J19+Shirak!J19+Lori!J19+Tavush!J19+Gegharquniq!J19+Syuniq!J19 -> 0 | K19: =Erebuni!K19+Kentron!K19+Ajapnjak!K19+Avan!K19+Arabkir!K19+Shengavit!K19+'Malatia-Sebastia'!K19+Kotayq!K19+Ararat!K19+Armavir!K19+Aragacotn!K19+Shirak!K19+Lori!K19+Tavush!K19+Gegharquniq!K19+Syuniq!K19 -> 0 | L19: =Erebuni!L19+Kentron!L19+Ajapnjak!L19+Avan!L19+Arabkir!L19+Shengavit!L19+'Malatia-Sebastia'!L19+Kotayq!L19+Ararat!L19+Armavir!L19+Aragacotn!L19+Shirak!L19+Lori!L19+Tavush!L19+Gegharquniq!L19+Syuniq!L19 -> 0 | ... U19: =Erebuni!U19+Kentron!U19+Ajapnjak!U19+Avan!U19+Arabkir!U19+Shengavit!U19+'Malatia-Sebastia'!U19+Kotayq!U19+Ararat!U19+Armavir!U19+Aragacotn!U19+Shirak!U19+Lori!U19+Tavush!U19+Gegharquniq!U19+Syuniq!U19 -> 0
A20: 0 | B20: 1.12 | C20: Ð³Ýó³Ýù Ï³ï³ñ³Í ³ÝÓÇÝ µéÝ»Éáõ Ñ³Ù³ñ ³ÝÑñ³Å»ßï ÙÇçáóÝ»ñÇ ë³ÑÙ³Ý½³ÝóÙ³Ùµ ³éáÕçáõÃÛ³ÝÁ Í³Ýñ Ï³Ù ÙÇçÇÝ Í³ÝñáõÃÛ³Ý íÝ³ë å³ï×³é»ÉÁ | D20: 115 | E20: =Erebuni!E20+Kentron!E20+Ajapnjak!E20+Avan!E20+Arabkir!E20+Shengavit!E20+'Malatia-Sebastia'!E20+Kotayq!E20+Ararat!E20+Armavir!E20+Aragacotn!E20+Shirak!E20+Lori!E20+Tavush!E20+Gegharquniq!E20+Syuniq!E20 -> 0 | F20: =Erebuni!F20+Kentron!F20+Ajapnjak!F20+Avan!F20+Arabkir!F20+Shengavit!F20+'Malatia-Sebastia'!F20+Kotayq!F20+Ararat!F20+Armavir!F20+Aragacotn!F20+Shirak!F20+Lori!F20+Tavush!F20+Gegharquniq!F20+Syuniq!F20 -> 0 | G20: =Erebuni!G20+Kentron!G20+Ajapnjak!G20+Avan!G20+Arabkir!G20+Shengavit!G20+'Malatia-Sebastia'!G20+Kotayq!G20+Ararat!G20+Armavir!G20+Aragacotn!G20+Shirak!G20+Lori!G20+Tavush!G20+Gegharquniq!G20+Syuniq!G20 -> 0 | H20: =Erebuni!H20+Kentron!H20+Ajapnjak!H20+Avan!H20+Arabkir!H20+Shengavit!H20+'Malatia-Sebastia'!H20+Kotayq!H20+Ararat!H20+Armavir!H20+Aragacotn!H20+Shirak!H20+Lori!H20+Tavush!H20+Gegharquniq!H20+Syuniq!H20 -> 0 | I20: =Erebuni!I20+Kentron!I20+Ajapnjak!I20+Avan!I20+Arabkir!I20+Shengavit!I20+'Malatia-Sebastia'!I20+Kotayq!I20+Ararat!I20+Armavir!I20+Aragacotn!I20+Shirak!I20+Lori!I20+Tavush!I20+Gegharquniq!I20+Syuniq!I20 -> 0 | J20: =Erebuni!J20+Kentron!J20+Ajapnjak!J20+Avan!J20+Arabkir!J20+Shengavit!J20+'Malatia-Sebastia'!J20+Kotayq!J20+Ararat!J20+Armavir!J20+Aragacotn!J20+Shirak!J20+Lori!J20+Tavush!J20+Gegharquniq!J20+Syuniq!J20 -> 0 | K20: =Erebuni!K20+Kentron!K20+Ajapnjak!K20+Avan!K20+Arabkir!K20+Shengavit!K20+'Malatia-Sebastia'!K20+Kotayq!K20+Ararat!K20+Armavir!K20+Aragacotn!K20+Shirak!K20+Lori!K20+Tavush!K20+Gegharquniq!K20+Syuniq!K20 -> 0 | L20: =Erebuni!L20+Kentron!L20+Ajapnjak!L20+Avan!L20+Arabkir!L20+Shengavit!L20+'Malatia-Sebastia'!L20+Kotayq!L20+Ararat!L20+Armavir!L20+Aragacotn!L20+Shirak!L20+Lori!L20+Tavush!L20+Gegharquniq!L20+Syuniq!L20 -> 0 | ... U20: =Erebuni!U20+Kentron!U20+Ajapnjak!U20+Avan!U20+Arabkir!U20+Shengavit!U20+'Malatia-Sebastia'!U20+Kotayq!U20+Ararat!U20+Armavir!U20+Aragacotn!U20+Shirak!U20+Lori!U20+Tavush!U20+Gegharquniq!U20+Syuniq!U20 -> 0
... A34: 0 | B34: 1.27 | C34: ´ÅßÏ³Ï³Ý û·ÝáõÃÛáõÝ ¨ ëå³ë³ñÏáõÙ Çñ³Ï³Ý³óÝáÕÝ»ñÇ ÏáÕÙÇó Ù³ëÝ³·Çï³Ï³Ý å³ñï³Ï³ÝáõÃÛáõÝÝ»ñÁ ãÏ³ï³ñ»ÉÁ Ï³Ù áã å³ïß³× Ï³ï³ñ»ÉÁ | D34: 130 | E34: =Erebuni!E34+Kentron!E34+Ajapnjak!E34+Avan!E34+Arabkir!E34+Shengavit!E34+'Malatia-Sebastia'!E34+Kotayq!E34+Ararat!E34+Armavir!E34+Aragacotn!E34+Shirak!E34+Lori!E34+Tavush!E34+Gegharquniq!E34+Syuniq!E34 -> 4 | F34: =Erebuni!F34+Kentron!F34+Ajapnjak!F34+Avan!F34+Arabkir!F34+Shengavit!F34+'Malatia-Sebastia'!F34+Kotayq!F34+Ararat!F34+Armavir!F34+Aragacotn!F34+Shirak!F34+Lori!F34+Tavush!F34+Gegharquniq!F34+Syuniq!F34 -> 0 | G34: =Erebuni!G34+Kentron!G34+Ajapnjak!G34+Avan!G34+Arabkir!G34+Shengavit!G34+'Malatia-Sebastia'!G34+Kotayq!G34+Ararat!G34+Armavir!G34+Aragacotn!G34+Shirak!G34+Lori!G34+Tavush!G34+Gegharquniq!G34+Syuniq!G34 -> 1 | H34: =Erebuni!H34+Kentron!H34+Ajapnjak!H34+Avan!H34+Arabkir!H34+Shengavit!H34+'Malatia-Sebastia'!H34+Kotayq!H34+Ararat!H34+Armavir!H34+Aragacotn!H34+Shirak!H34+Lori!H34+Tavush!H34+Gegharquniq!H34+Syuniq!H34 -> 3 | I34: =Erebuni!I34+Kentron!I34+Ajapnjak!I34+Avan!I34+Arabkir!I34+Shengavit!I34+'Malatia-Sebastia'!I34+Kotayq!I34+Ararat!I34+Armavir!I34+Aragacotn!I34+Shirak!I34+Lori!I34+Tavush!I34+Gegharquniq!I34+Syuniq!I34 -> 1 | J34: =Erebuni!J34+Kentron!J34+Ajapnjak!J34+Avan!J34+Arabkir!J34+Shengavit!J34+'Malatia-Sebastia'!J34+Kotayq!J34+Ararat!J34+Armavir!J34+Aragacotn!J34+Shirak!J34+Lori!J34+Tavush!J34+Gegharquniq!J34+Syuniq!J34 -> 0 | K34: =Erebuni!K34+Kentron!K34+Ajapnjak!K34+Avan!K34+Arabkir!K34+Shengavit!K34+'Malatia-Sebastia'!K34+Kotayq!K34+Ararat!K34+Armavir!K34+Aragacotn!K34+Shirak!K34+Lori!K34+Tavush!K34+Gegharquniq!K34+Syuniq!K34 -> 4 | L34: =Erebuni!L34+Kentron!L34+Ajapnjak!L34+Avan!L34+Arabkir!L34+Shengavit!L34+'Malatia-Sebastia'!L34+Kotayq!L34+Ararat!L34+Armavir!L34+Aragacotn!L34+Shirak!L34+Lori!L34+Tavush!L34+Gegharquniq!L34+Syuniq!L34 -> 0 | ... U34: =Erebuni!U34+Kentron!U34+Ajapnjak!U34+Avan!U34+Arabkir!U34+Shengavit!U34+'Malatia-Sebastia'!U34+Kotayq!U34+Ararat!U34+Armavir!U34+Aragacotn!U34+Shirak!U34+Lori!U34+Tavush!U34+Gegharquniq!U34+Syuniq!U34 -> 0
A35: 1 | B35: 1.28 | C35: ²ÛÉ Ñ³Ýó³·áñÍáõÃÛáõÝÝ»ñ | E35: =Erebuni!E35+Kentron!E35+Ajapnjak!E35+Avan!E35+Arabkir!E35+Shengavit!E35+'Malatia-Sebastia'!E35+Kotayq!E35+Ararat!E35+Armavir!E35+Aragacotn!E35+Shirak!E35+Lori!E35+Tavush!E35+Gegharquniq!E35+Syuniq!E35 -> 1 | F35: =Erebuni!F35+Kentron!F35+Ajapnjak!F35+Avan!F35+Arabkir!F35+Shengavit!F35+'Malatia-Sebastia'!F35+Kotayq!F35+Ararat!F35+Armavir!F35+Aragacotn!F35+Shirak!F35+Lori!F35+Tavush!F35+Gegharquniq!F35+Syuniq!F35 -> 1 | G35: =Erebuni!G35+Kentron!G35+Ajapnjak!G35+Avan!G35+Arabkir!G35+Shengavit!G35+'Malatia-Sebastia'!G35+Kotayq!G35+Ararat!G35+Armavir!G35+Aragacotn!G35+Shirak!G35+Lori!G35+Tavush!G35+Gegharquniq!G35+Syuniq!G35 -> 0 | H35: =Erebuni!H35+Kentron!H35+Ajapnjak!H35+Avan!H35+Arabkir!H35+Shengavit!H35+'Malatia-Sebastia'!H35+Kotayq!H35+Ararat!H35+Armavir!H35+Aragacotn!H35+Shirak!H35+Lori!H35+Tavush!H35+Gegharquniq!H35+Syuniq!H35 -> 0 | I35: =Erebuni!I35+Kentron!I35+Ajapnjak!I35+Avan!I35+Arabkir!I35+Shengavit!I35+'Malatia-Sebastia'!I35+Kotayq!I35+Ararat!I35+Armavir!I35+Aragacotn!I35+Shirak!I35+Lori!I35+Tavush!I35+Gegharquniq!I35+Syuniq!I35 -> 0 | J35: =Erebuni!J35+Kentron!J35+Ajapnjak!J35+Avan!J35+Arabkir!J35+Shengavit!J35+'Malatia-Sebastia'!J35+Kotayq!J35+Ararat!J35+Armavir!J35+Aragacotn!J35+Shirak!J35+Lori!J35+Tavush!J35+Gegharquniq!J35+Syuniq!J35 -> 0 | K35: =Erebuni!K35+Kentron!K35+Ajapnjak!K35+Avan!K35+Arabkir!K35+Shengavit!K35+'Malatia-Sebastia'!K35+Kotayq!K35+Ararat!K35+Armavir!K35+Aragacotn!K35+Shirak!K35+Lori!K35+Tavush!K35+Gegharquniq!K35+Syuniq!K35 -> 0 | L35: =Erebuni!L35+Kentron!L35+Ajapnjak!L35+Avan!L35+Arabkir!L35+Shengavit!L35+'Malatia-Sebastia'!L35+Kotayq!L35+Ararat!L35+Armavir!L35+Aragacotn!L35+Shirak!L35+Lori!L35+Tavush!L35+Gegharquniq!L35+Syuniq!L35 -> 0 | ... U35: =Erebuni!U35+Kentron!U35+Ajapnjak!U35+Avan!U35+Arabkir!U35+Shengavit!U35+'Malatia-Sebastia'!U35+Kotayq!U35+Ararat!U35+Armavir!U35+Aragacotn!U35+Shirak!U35+Lori!U35+Tavush!U35+Gegharquniq!U35+Syuniq!U35 -> 0
A36: 0 | B36: 2. | C36: ÀÝ¹³Ù»ÝÁ ³ÝÓÇ ³½³ïáõÃÛ³Ý, å³ïíÇ ¨ ³ñÅ³Ý³å³ïíáõÃÛ³Ý ¹»Ù áõÕÕí³Í Ñ³Ýó³·áñÍáõÃÛáõÝÝ»ñÁ | E36: =SUM(E37:E43) -> 16 | F36: =SUM(F37:F43) -> 0 | G36: =SUM(G37:G43) -> 40 | H36: =SUM(H37:H43) -> 27 | I36: =SUM(I37:I43) -> 2 | J36: =SUM(J37:J43) -> 5 | K36: =SUM(K37:K43) -> 34 | L36: =SUM(L37:L43) -> 0 | ... U36: =SUM(U37:U43) -> 2
A37: 0 | B37: 2.1 | C37: Ø³ñ¹áõÝ ³é¨³Ý·»ÉÁ | D37: 131 | E37: =Erebuni!E37+Kentron!E37+Ajapnjak!E37+Avan!E37+Arabkir!E37+Shengavit!E37+'Malatia-Sebastia'!E37+Kotayq!E37+Ararat!E37+Armavir!E37+Aragacotn!E37+Shirak!E37+Lori!E37+Tavush!E37+Gegharquniq!E37+Syuniq!E37 -> 6 | F37: =Erebuni!F37+Kentron!F37+Ajapnjak!F37+Avan!F37+Arabkir!F37+Shengavit!F37+'Malatia-Sebastia'!F37+Kotayq!F37+Ararat!F37+Armavir!F37+Aragacotn!F37+Shirak!F37+Lori!F37+Tavush!F37+Gegharquniq!F37+Syuniq!F37 -> 0 | G37: =Erebuni!G37+Kentron!G37+Ajapnjak!G37+Avan!G37+Arabkir!G37+Shengavit!G37+'Malatia-Sebastia'!G37+Kotayq!G37+Ararat!G37+Armavir!G37+Aragacotn!G37+Shirak!G37+Lori!G37+Tavush!G37+Gegharquniq!G37+Syuniq!G37 -> 24 | H37: =Erebuni!H37+Kentron!H37+Ajapnjak!H37+Avan!H37+Arabkir!H37+Shengavit!H37+'Malatia-Sebastia'!H37+Kotayq!H37+Ararat!H37+Armavir!H37+Aragacotn!H37+Shirak!H37+Lori!H37+Tavush!H37+Gegharquniq!H37+Syuniq!H37 -> 17 | I37: =Erebuni!I37+Kentron!I37+Ajapnjak!I37+Avan!I37+Arabkir!I37+Shengavit!I37+'Malatia-Sebastia'!I37+Kotayq!I37+Ararat!I37+Armavir!I37+Aragacotn!I37+Shirak!I37+Lori!I37+Tavush!I37+Gegharquniq!I37+Syuniq!I37 -> 0 | J37: =Erebuni!J37+Kentron!J37+Ajapnjak!J37+Avan!J37+Arabkir!J37+Shengavit!J37+'Malatia-Sebastia'!J37+Kotayq!J37+Ararat!J37+Armavir!J37+Aragacotn!J37+Shirak!J37+Lori!J37+Tavush!J37+Gegharquniq!J37+Syuniq!J37 -> 0 | K37: =Erebuni!K37+Kentron!K37+Ajapnjak!K37+Avan!K37+Arabkir!K37+Shengavit!K37+'Malatia-Sebastia'!K37+Kotayq!K37+Ararat!K37+Armavir!K37+Aragacotn!K37+Shirak!K37+Lori!K37+Tavush!K37+Gegharquniq!K37+Syuniq!K37 -> 17 | L37: =Erebuni!L37+Kentron!L37+Ajapnjak!L37+Avan!L37+Arabkir!L37+Shengavit!L37+'Malatia-Sebastia'!L37+Kotayq!L37+Ararat!L37+Armavir!L37+Aragacotn!L37+Shirak!L37+Lori!L37+Tavush!L37+Gegharquniq!L37+Syuniq!L37 -> 0 | ... U37: =Erebuni!U37+Kentron!U37+Ajapnjak!U37+Avan!U37+Arabkir!U37+Shengavit!U37+'Malatia-Sebastia'!U37+Kotayq!U37+Ararat!U37+Armavir!U37+Aragacotn!U37+Shirak!U37+Lori!U37+Tavush!U37+Gegharquniq!U37+Syuniq!U37 -> 2
B38: 2.2 | C38: Մարդու թրաֆիքինգը կամ շահագործումը | D38: 132 | E38: =Erebuni!E38+Kentron!E38+Ajapnjak!E38+Avan!E38+Arabkir!E38+Shengavit!E38+'Malatia-Sebastia'!E38+Kotayq!E38+Ararat!E38+Armavir!E38+Aragacotn!E38+Shirak!E38+Lori!E38+Tavush!E38+Gegharquniq!E38+Syuniq!E38 -> 2 | F38: =Erebuni!F38+Kentron!F38+Ajapnjak!F38+Avan!F38+Arabkir!F38+Shengavit!F38+'Malatia-Sebastia'!F38+Kotayq!F38+Ararat!F38+Armavir!F38+Aragacotn!F38+Shirak!F38+Lori!F38+Tavush!F38+Gegharquniq!F38+Syuniq!F38 -> 0 | G38: =Erebuni!G38+Kentron!G38+Ajapnjak!G38+Avan!G38+Arabkir!G38+Shengavit!G38+'Malatia-Sebastia'!G38+Kotayq!G38+Ararat!G38+Armavir!G38+Aragacotn!G38+Shirak!G38+Lori!G38+Tavush!G38+Gegharquniq!G38+Syuniq!G38 -> 3 | H38: =Erebuni!H38+Kentron!H38+Ajapnjak!H38+Avan!H38+Arabkir!H38+Shengavit!H38+'Malatia-Sebastia'!H38+Kotayq!H38+Ararat!H38+Armavir!H38+Aragacotn!H38+Shirak!H38+Lori!H38+Tavush!H38+Gegharquniq!H38+Syuniq!H38 -> 1 | I38: =Erebuni!I38+Kentron!I38+Ajapnjak!I38+Avan!I38+Arabkir!I38+Shengavit!I38+'Malatia-Sebastia'!I38+Kotayq!I38+Ararat!I38+Armavir!I38+Aragacotn!I38+Shirak!I38+Lori!I38+Tavush!I38+Gegharquniq!I38+Syuniq!I38 -> 0 | J38: =Erebuni!J38+Kentron!J38+Ajapnjak!J38+Avan!J38+Arabkir!J38+Shengavit!J38+'Malatia-Sebastia'!J38+Kotayq!J38+Ararat!J38+Armavir!J38+Aragacotn!J38+Shirak!J38+Lori!J38+Tavush!J38+Gegharquniq!J38+Syuniq!J38 -> 0 | K38: =Erebuni!K38+Kentron!K38+Ajapnjak!K38+Avan!K38+Arabkir!K38+Shengavit!K38+'Malatia-Sebastia'!K38+Kotayq!K38+Ararat!K38+Armavir!K38+Aragacotn!K38+Shirak!K38+Lori!K38+Tavush!K38+Gegharquniq!K38+Syuniq!K38 -> 1 | L38: =Erebuni!L38+Kentron!L38+Ajapnjak!L38+Avan!L38+Arabkir!L38+Shengavit!L38+'Malatia-Sebastia'!L38+Kotayq!L38+Ararat!L38+Armavir!L38+Aragacotn!L38+Shirak!L38+Lori!L38+Tavush!L38+Gegharquniq!L38+Syuniq!L38 -> 0 | ... U38: =Erebuni!U38+Kentron!U38+Ajapnjak!U38+Avan!U38+Arabkir!U38+Shengavit!U38+'Malatia-Sebastia'!U38+Kotayq!U38+Ararat!U38+Armavir!U38+Aragacotn!U38+Shirak!U38+Lori!U38+Tavush!U38+Gegharquniq!U38+Syuniq!U38 -> 0
B39: 2.2.1 | C39: Ø³ñ¹áõÝ åáéÝÇÏáõÃÛ³Ý Ï³Ù ë»é³Ï³Ý ß³Ñ³·áñÍÙ³Ý ³ÛÉ Ó¨»ñÇ Ù»ç, Ñ³ñÏ³¹Çñ ³ßË³ï³ÝùÇ Ï³Ù Í³é³ÛáõÃÛáõÝÝ»ñÇ Ý»ñ·ñ³í»ÉÁ Ï³Ù ëïñÏáõÃÛ³Ý Ï³Ù ëïñÏáõÃÛ³ÝÁ ÝÙ³ÝíáÕ íÇ×³ÏÇ Ù»ç ¹Ý»ÉÁ Ï³Ù å³Ñ»ÉÁ | D39: 132.1 | E39: =Erebuni!E39+Kentron!E39+Ajapnjak!E39+Avan!E39+Arabkir!E39+Shengavit!E39+'Malatia-Sebastia'!E39+Kotayq!E39+Ararat!E39+Armavir!E39+Aragacotn!E39+Shirak!E39+Lori!E39+Tavush!E39+Gegharquniq!E39+Syuniq!E39 -> 0 | F39: =Erebuni!F39+Kentron!F39+Ajapnjak!F39+Avan!F39+Arabkir!F39+Shengavit!F39+'Malatia-Sebastia'!F39+Kotayq!F39+Ararat!F39+Armavir!F39+Aragacotn!F39+Shirak!F39+Lori!F39+Tavush!F39+Gegharquniq!F39+Syuniq!F39 -> 0 | G39: =Erebuni!G39+Kentron!G39+Ajapnjak!G39+Avan!G39+Arabkir!G39+Shengavit!G39+'Malatia-Sebastia'!G39+Kotayq!G39+Ararat!G39+Armavir!G39+Aragacotn!G39+Shirak!G39+Lori!G39+Tavush!G39+Gegharquniq!G39+Syuniq!G39 -> 0 | H39: =Erebuni!H39+Kentron!H39+Ajapnjak!H39+Avan!H39+Arabkir!H39+Shengavit!H39+'Malatia-Sebastia'!H39+Kotayq!H39+Ararat!H39+Armavir!H39+Aragacotn!H39+Shirak!H39+Lori!H39+Tavush!H39+Gegharquniq!H39+Syuniq!H39 -> 0 | I39: =Erebuni!I39+Kentron!I39+Ajapnjak!I39+Avan!I39+Arabkir!I39+Shengavit!I39+'Malatia-Sebastia'!I39+Kotayq!I39+Ararat!I39+Armavir!I39+Aragacotn!I39+Shirak!I39+Lori!I39+Tavush!I39+Gegharquniq!I39+Syuniq!I39 -> 0 | J39: =Erebuni!J39+Kentron!J39+Ajapnjak!J39+Avan!J39+Arabkir!J39+Shengavit!J39+'Malatia-Sebastia'!J39+Kotayq!J39+Ararat!J39+Armavir!J39+Aragacotn!J39+Shirak!J39+Lori!J39+Tavush!J39+Gegharquniq!J39+Syuniq!J39 -> 0 | K39: =Erebuni!K39+Kentron!K39+Ajapnjak!K39+Avan!K39+Arabkir!K39+Shengavit!K39+'Malatia-Sebastia'!K39+Kotayq!K39+Ararat!K39+Armavir!K39+Aragacotn!K39+Shirak!K39+Lori!K39+Tavush!K39+Gegharquniq!K39+Syuniq!K39 -> 0 | L39: =Erebuni!L39+Kentron!L39+Ajapnjak!L39+Avan!L39+Arabkir!L39+Shengavit!L39+'Malatia-Sebastia'!L39+Kotayq!L39+Ararat!L39+Armavir!L39+Aragacotn!L39+Shirak!L39+Lori!L39+Tavush!L39+Gegharquniq!L39+Syuniq!L39 -> 0 | ... U39: =Erebuni!U39+Kentron!U39+Ajapnjak!U39+Avan!U39+Arabkir!U39+Shengavit!U39+'Malatia-Sebastia'!U39+Kotayq!U39+Ararat!U39+Armavir!U39+Aragacotn!U39+Shirak!U39+Lori!U39+Tavush!U39+Gegharquniq!U39+Syuniq!U39 -> 0
B40: 2.3 | C40: ²½³ïáõÃÛáõÝÇó ³åûñÇÝÇ ½ñÏ»ÉÁ | D40: 133 | E40: =Erebuni!E40+Kentron!E40+Ajapnjak!E40+Avan!E40+Arabkir!E40+Shengavit!E40+'Malatia-Sebastia'!E40+Kotayq!E40+Ararat!E40+Armavir!E40+Aragacotn!E40+Shirak!E40+Lori!E40+Tavush!E40+Gegharquniq!E40+Syuniq!E40 -> 0 | F40: =Erebuni!F40+Kentron!F40+Ajapnjak!F40+Avan!F40+Arabkir!F40+Shengavit!F40+'Malatia-Sebastia'!F40+Kotayq!F40+Ararat!F40+Armavir!F40+Aragacotn!F40+Shirak!F40+Lori!F40+Tavush!F40+Gegharquniq!F40+Syuniq!F40 -> 0 | G40: =Erebuni!G40+Kentron!G40+Ajapnjak!G40+Avan!G40+Arabkir!G40+Shengavit!G40+'Malatia-Sebastia'!G40+Kotayq!G40+Ararat!G40+Armavir!G40+Aragacotn!G40+Shirak!G40+Lori!G40+Tavush!G40+Gegharquniq!G40+Syuniq!G40 -> 1 | H40: =Erebuni!H40+Kentron!H40+Ajapnjak!H40+Avan!H40+Arabkir!H40+Shengavit!H40+'Malatia-Sebastia'!H40+Kotayq!H40+Ararat!H40+Armavir!H40+Aragacotn!H40+Shirak!H40+Lori!H40+Tavush!H40+Gegharquniq!H40+Syuniq!H40 -> 1 | I40: =Erebuni!I40+Kentron!I40+Ajapnjak!I40+Avan!I40+Arabkir!I40+Shengavit!I40+'Malatia-Sebastia'!I40+Kotayq!I40+Ararat!I40+Armavir!I40+Aragacotn!I40+Shirak!I40+Lori!I40+Tavush!I40+Gegharquniq!I40+Syuniq!I40 -> 0 | J40: =Erebuni!J40+Kentron!J40+Ajapnjak!J40+Avan!J40+Arabkir!J40+Shengavit!J40+'Malatia-Sebastia'!J40+Kotayq!J40+Ararat!J40+Armavir!J40+Aragacotn!J40+Shirak!J40+Lori!J40+Tavush!J40+Gegharquniq!J40+Syuniq!J40 -> 0 | K40: =Erebuni!K40+Kentron!K40+Ajapnjak!K40+Avan!K40+Arabkir!K40+Shengavit!K40+'Malatia-Sebastia'!K40+Kotayq!K40+Ararat!K40+Armavir!K40+Aragacotn!K40+Shirak!K40+Lori!K40+Tavush!K40+Gegharquniq!K40+Syuniq!K40 -> 1 | L40: =Erebuni!L40+Kentron!L40+Ajapnjak!L40+Avan!L40+Arabkir!L40+Shengavit!L40+'Malatia-Sebastia'!L40+Kotayq!L40+Ararat!L40+Armavir!L40+Aragacotn!L40+Shirak!L40+Lori!L40+Tavush!L40+Gegharquniq!L40+Syuniq!L40 -> 0 | ... U40: =Erebuni!U40+Kentron!U40+Ajapnjak!U40+Avan!U40+Arabkir!U40+Shengavit!U40+'Malatia-Sebastia'!U40+Kotayq!U40+Ararat!U40+Armavir!U40+Aragacotn!U40+Shirak!U40+Lori!U40+Tavush!U40+Gegharquniq!U40+Syuniq!U40 -> 0
B41: 2.4 | C41: Ðá·»µáõÅ³Ï³Ý ÑÇí³Ý¹³ÝáóáõÙ ³åûñÇÝÇ ï»Õ³íáñ»ÉÁ Ï³Ù å³Ñ»ÉÁ | D41: 134 | E41: =Erebuni!E41+Kentron!E41+Ajapnjak!E41+Avan!E41+Arabkir!E41+Shengavit!E41+'Malatia-Sebastia'!E41+Kotayq!E41+Ararat!E41+Armavir!E41+Aragacotn!E41+Shirak!E41+Lori!E41+Tavush!E41+Gegharquniq!E41+Syuniq!E41 -> 0 | F41: =Erebuni!F41+Kentron!F41+Ajapnjak!F41+Avan!F41+Arabkir!F41+Shengavit!F41+'Malatia-Sebastia'!F41+Kotayq!F41+Ararat!F41+Armavir!F41+Aragacotn!F41+Shirak!F41+Lori!F41+Tavush!F41+Gegharquniq!F41+Syuniq!F41 -> 0 | G41: =Erebuni!G41+Kentron!G41+Ajapnjak!G41+Avan!G41+Arabkir!G41+Shengavit!G41+'Malatia-Sebastia'!G41+Kotayq!G41+Ararat!G41+Armavir!G41+Aragacotn!G41+Shirak!G41+Lori!G41+Tavush!G41+Gegharquniq!G41+Syuniq!G41 -> 0 | H41: =Erebuni!H41+Kentron!H41+Ajapnjak!H41+Avan!H41+Arabkir!H41+Shengavit!H41+'Malatia-Sebastia'!H41+Kotayq!H41+Ararat!H41+Armavir!H41+Aragacotn!H41+Shirak!H41+Lori!H41+Tavush!H41+Gegharquniq!H41+Syuniq!H41 -> 0 | I41: =Erebuni!I41+Kentron!I41+Ajapnjak!I41+Avan!I41+Arabkir!I41+Shengavit!I41+'Malatia-Sebastia'!I41+Kotayq!I41+Ararat!I41+Armavir!I41+Aragacotn!I41+Shirak!I41+Lori!I41+Tavush!I41+Gegharquniq!I41+Syuniq!I41 -> 0 | J41: =Erebuni!J41+Kentron!J41+Ajapnjak!J41+Avan!J41+Arabkir!J41+Shengavit!J41+'Malatia-Sebastia'!J41+Kotayq!J41+Ararat!J41+Armavir!J41+Aragacotn!J41+Shirak!J41+Lori!J41+Tavush!J41+Gegharquniq!J41+Syuniq!J41 -> 0 | K41: =Erebuni!K41+Kentron!K41+Ajapnjak!K41+Avan!K41+Arabkir!K41+Shengavit!K41+'Malatia-Sebastia'!K41+Kotayq!K41+Ararat!K41+Armavir!K41+Aragacotn!K41+Shirak!K41+Lori!K41+Tavush!K41+Gegharquniq!K41+Syuniq!K41 -> 0 | L41: =Erebuni!L41+Kentron!L41+Ajapnjak!L41+Avan!L41+Arabkir!L41+Shengavit!L41+'Malatia-Sebastia'!L41+Kotayq!L41+Ararat!L41+Armavir!L41+Aragacotn!L41+Shirak!L41+Lori!L41+Tavush!L41+Gegharquniq!L41+Syuniq!L41 -> 0 | ... U41: =Erebuni!U41+Kentron!U41+Ajapnjak!U41+Avan!U41+Arabkir!U41+Shengavit!U41+'Malatia-Sebastia'!U41+Kotayq!U41+Ararat!U41+Armavir!U41+Aragacotn!U41+Shirak!U41+Lori!U41+Tavush!U41+Gegharquniq!U41+Syuniq!U41 -> 0
B42: 2.7 | C42: êå³ÝáõÃÛ³Ý, ³éáÕçáõÃÛ³ÝÁ Í³Ýñ íÝ³ë å³ï×³é»Éáõ Ï³Ù ·áõÛù áãÝã³óÝ»Éáõ ëå³éÝ³ÉÇùÁ | D42: 137 | E42: =Erebuni!E42+Kentron!E42+Ajapnjak!E42+Avan!E42+Arabkir!E42+Shengavit!E42+'Malatia-Sebastia'!E42+Kotayq!E42+Ararat!E42+Armavir!E42+Aragacotn!E42+Shirak!E42+Lori!E42+Tavush!E42+Gegharquniq!E42+Syuniq!E42 -> 7 | F42: =Erebuni!F42+Kentron!F42+Ajapnjak!F42+Avan!F42+Arabkir!F42+Shengavit!F42+'Malatia-Sebastia'!F42+Kotayq!F42+Ararat!F42+Armavir!F42+Aragacotn!F42+Shirak!F42+Lori!F42+Tavush!F42+Gegharquniq!F42+Syuniq!F42 -> 0 | G42: =Erebuni!G42+Kentron!G42+Ajapnjak!G42+Avan!G42+Arabkir!G42+Shengavit!G42+'Malatia-Sebastia'!G42+Kotayq!G42+Ararat!G42+Armavir!G42+Aragacotn!G42+Shirak!G42+Lori!G42+Tavush!G42+Gegharquniq!G42+Syuniq!G42 -> 12 | H42: =Erebuni!H42+Kentron!H42+Ajapnjak!H42+Avan!H42+Arabkir!H42+Shengavit!H42+'Malatia-Sebastia'!H42+Kotayq!H42+Ararat!H42+Armavir!H42+Aragacotn!H42+Shirak!H42+Lori!H42+Tavush!H42+Gegharquniq!H42+Syuniq!H42 -> 8 | I42: =Erebuni!I42+Kentron!I42+Ajapnjak!I42+Avan!I42+Arabkir!I42+Shengavit!I42+'Malatia-Sebastia'!I42+Kotayq!I42+Ararat!I42+Armavir!I42+Aragacotn!I42+Shirak!I42+Lori!I42+Tavush!I42+Gegharquniq!I42+Syuniq!I42 -> 2 | J42: =Erebuni!J42+Kentron!J42+Ajapnjak!J42+Avan!J42+Arabkir!J42+Shengavit!J42+'Malatia-Sebastia'!J42+Kotayq!J42+Ararat!J42+Armavir!J42+Aragacotn!J42+Shirak!J42+Lori!J42+Tavush!J42+Gegharquniq!J42+Syuniq!J42 -> 5 | K42: =Erebuni!K42+Kentron!K42+Ajapnjak!K42+Avan!K42+Arabkir!K42+Shengavit!K42+'Malatia-Sebastia'!K42+Kotayq!K42+Ararat!K42+Armavir!K42+Aragacotn!K42+Shirak!K42+Lori!K42+Tavush!K42+Gegharquniq!K42+Syuniq!K42 -> 15 | L42: =Erebuni!L42+Kentron!L42+Ajapnjak!L42+Avan!L42+Arabkir!L42+Shengavit!L42+'Malatia-Sebastia'!L42+Kotayq!L42+Ararat!L42+Armavir!L42+Aragacotn!L42+Shirak!L42+Lori!L42+Tavush!L42+Gegharquniq!L42+Syuniq!L42 -> 0 | ... U42: =Erebuni!U42+Kentron!U42+Ajapnjak!U42+Avan!U42+Arabkir!U42+Shengavit!U42+'Malatia-Sebastia'!U42+Kotayq!U42+Ararat!U42+Armavir!U42+Aragacotn!U42+Shirak!U42+Lori!U42+Tavush!U42+Gegharquniq!U42+Syuniq!U42 -> 0
A43: 0 | B43: 2.8 | C43: ²ÛÉ Ñ³Ýó³·áñÍáõÃÛáõÝÝ»ñ | E43: =Erebuni!E43+Kentron!E43+Ajapnjak!E43+Avan!E43+Arabkir!E43+Shengavit!E43+'Malatia-Sebastia'!E43+Kotayq!E43+Ararat!E43+Armavir!E43+Aragacotn!E43+Shirak!E43+Lori!E43+Tavush!E43+Gegharquniq!E43+Syuniq!E43 -> 1 | F43: =Erebuni!F43+Kentron!F43+Ajapnjak!F43+Avan!F43+Arabkir!F43+Shengavit!F43+'Malatia-Sebastia'!F43+Kotayq!F43+Ararat!F43+Armavir!F43+Aragacotn!F43+Shirak!F43+Lori!F43+Tavush!F43+Gegharquniq!F43+Syuniq!F43 -> 0 | G43: =Erebuni!G43+Kentron!G43+Ajapnjak!G43+Avan!G43+Arabkir!G43+Shengavit!G43+'Malatia-Sebastia'!G43+Kotayq!G43+Ararat!G43+Armavir!G43+Aragacotn!G43+Shirak!G43+Lori!G43+Tavush!G43+Gegharquniq!G43+Syuniq!G43 -> 0 | H43: =Erebuni!H43+Kentron!H43+Ajapnjak!H43+Avan!H43+Arabkir!H43+Shengavit!H43+'Malatia-Sebastia'!H43+Kotayq!H43+Ararat!H43+Armavir!H43+Aragacotn!H43+Shirak!H43+Lori!H43+Tavush!H43+Gegharquniq!H43+Syuniq!H43 -> 0 | I43: =Erebuni!I43+Kentron!I43+Ajapnjak!I43+Avan!I43+Arabkir!I43+Shengavit!I43+'Malatia-Sebastia'!I43+Kotayq!I43+Ararat!I43+Armavir!I43+Aragacotn!I43+Shirak!I43+Lori!I43+Tavush!I43+Gegharquniq!I43+Syuniq!I43 -> 0 | J43: =Erebuni!J43+Kentron!J43+Ajapnjak!J43+Avan!J43+Arabkir!J43+Shengavit!J43+'Malatia-Sebastia'!J43+Kotayq!J43+Ararat!J43+Armavir!J43+Aragacotn!J43+Shirak!J43+Lori!J43+Tavush!J43+Gegharquniq!J43+Syuniq!J43 -> 0 | K43: =Erebuni!K43+Kentron!K43+Ajapnjak!K43+Avan!K43+Arabkir!K43+Shengavit!K43+'Malatia-Sebastia'!K43+Kotayq!K43+Ararat!K43+Armavir!K43+Aragacotn!K43+Shirak!K43+Lori!K43+Tavush!K43+Gegharquniq!K43+Syuniq!K43 -> 0 | L43: =Erebuni!L43+Kentron!L43+Ajapnjak!L43+Avan!L43+Arabkir!L43+Shengavit!L43+'Malatia-Sebastia'!L43+Kotayq!L43+Ararat!L43+Armavir!L43+Aragacotn!L43+Shirak!L43+Lori!L43+Tavush!L43+Gegharquniq!L43+Syuniq!L43 -> 0 | ... U43: =Erebuni!U43+Kentron!U43+Ajapnjak!U43+Avan!U43+Arabkir!U43+Shengavit!U43+'Malatia-Sebastia'!U43+Kotayq!U43+Ararat!U43+Armavir!U43+Aragacotn!U43+Shirak!U43+Lori!U43+Tavush!U43+Gegharquniq!U43+Syuniq!U43 -> 0
A44: 0 | B44: 3. | C44: ÀÝ¹³Ù»ÝÁ ë»é³Ï³Ý ³ÝÓ»éÝÙË»ÉÇáõÃÛ³Ý ¨ ë»é³Ï³Ý ³½³ïáõÃÛ³Ý ¹»Ù áõÕÕí³Í Ñ³Ýó³·áñÍáõÃÛáõÝÝ»ñÁ | E44: =SUM(E45:E50) -> 25 | F44: =SUM(F45:F50) -> 1 | G44: =SUM(G45:G50) -> 27 | H44: =SUM(H45:H50) -> 32 | I44: =SUM(I45:I50) -> 0 | J44: =SUM(J45:J50) -> 0 | K44: =SUM(K45:K50) -> 32 | L44: =SUM(L45:L50) -> 1 | ... U44: =SUM(U45:U50) -> 0
A45: 0 | B45: 3.1 | C45: ´éÝ³µ³ñáõÃÛáõÝÁ | D45: 138 | E45: =Erebuni!E45+Kentron!E45+Ajapnjak!E45+Avan!E45+Arabkir!E45+Shengavit!E45+'Malatia-Sebastia'!E45+Kotayq!E45+Ararat!E45+Armavir!E45+Aragacotn!E45+Shirak!E45+Lori!E45+Tavush!E45+Gegharquniq!E45+Syuniq!E45 -> 1 | F45: =Erebuni!F45+Kentron!F45+Ajapnjak!F45+Avan!F45+Arabkir!F45+Shengavit!F45+'Malatia-Sebastia'!F45+Kotayq!F45+Ararat!F45+Armavir!F45+Aragacotn!F45+Shirak!F45+Lori!F45+Tavush!F45+Gegharquniq!F45+Syuniq!F45 -> 0 | G45: =Erebuni!G45+Kentron!G45+Ajapnjak!G45+Avan!G45+Arabkir!G45+Shengavit!G45+'Malatia-Sebastia'!G45+Kotayq!G45+Ararat!G45+Armavir!G45+Aragacotn!G45+Shirak!G45+Lori!G45+Tavush!G45+Gegharquniq!G45+Syuniq!G45 -> 4 | H45: =Erebuni!H45+Kentron!H45+Ajapnjak!H45+Avan!H45+Arabkir!H45+Shengavit!H45+'Malatia-Sebastia'!H45+Kotayq!H45+Ararat!H45+Armavir!H45+Aragacotn!H45+Shirak!H45+Lori!H45+Tavush!H45+Gegharquniq!H45+Syuniq!H45 -> 1 | I45: =Erebuni!I45+Kentron!I45+Ajapnjak!I45+Avan!I45+Arabkir!I45+Shengavit!I45+'Malatia-Sebastia'!I45+Kotayq!I45+Ararat!I45+Armavir!I45+Aragacotn!I45+Shirak!I45+Lori!I45+Tavush!I45+Gegharquniq!I45+Syuniq!I45 -> 0 | J45: =Erebuni!J45+Kentron!J45+Ajapnjak!J45+Avan!J45+Arabkir!J45+Shengavit!J45+'Malatia-Sebastia'!J45+Kotayq!J45+Ararat!J45+Armavir!J45+Aragacotn!J45+Shirak!J45+Lori!J45+Tavush!J45+Gegharquniq!J45+Syuniq!J45 -> 0 | K45: =Erebuni!K45+Kentron!K45+Ajapnjak!K45+Avan!K45+Arabkir!K45+Shengavit!K45+'Malatia-Sebastia'!K45+Kotayq!K45+Ararat!K45+Armavir!K45+Aragacotn!K45+Shirak!K45+Lori!K45+Tavush!K45+Gegharquniq!K45+Syuniq!K45 -> 1 | L45: =Erebuni!L45+Kentron!L45+Ajapnjak!L45+Avan!L45+Arabkir!L45+Shengavit!L45+'Malatia-Sebastia'!L45+Kotayq!L45+Ararat!L45+Armavir!L45+Aragacotn!L45+Shirak!L45+Lori!L45+Tavush!L45+Gegharquniq!L45+Syuniq!L45 -> 1 | ... U45: =Erebuni!U45+Kentron!U45+Ajapnjak!U45+Avan!U45+Arabkir!U45+Shengavit!U45+'Malatia-Sebastia'!U45+Kotayq!U45+Ararat!U45+Armavir!U45+Aragacotn!U45+Shirak!U45+Lori!U45+Tavush!U45+Gegharquniq!U45+Syuniq!U45 -> 0
B46: 3.2 | C46: ê»ùëáõ³É µÝáõÛÃÇ µéÝÇ ·áñÍáÕáõÃÛáõÝÝ»ñÁ | D46: 139 | E46: =Erebuni!E46+Kentron!E46+Ajapnjak!E46+Avan!E46+Arabkir!E46+Shengavit!E46+'Malatia-Sebastia'!E46+Kotayq!E46+Ararat!E46+Armavir!E46+Aragacotn!E46+Shirak!E46+Lori!E46+Tavush!E46+Gegharquniq!E46+Syuniq!E46 -> 6 | F46: =Erebuni!F46+Kentron!F46+Ajapnjak!F46+Avan!F46+Arabkir!F46+Shengavit!F46+'Malatia-Sebastia'!F46+Kotayq!F46+Ararat!F46+Armavir!F46+Aragacotn!F46+Shirak!F46+Lori!F46+Tavush!F46+Gegharquniq!F46+Syuniq!F46 -> 1 | G46: =Erebuni!G46+Kentron!G46+Ajapnjak!G46+Avan!G46+Arabkir!G46+Shengavit!G46+'Malatia-Sebastia'!G46+Kotayq!G46+Ararat!G46+Armavir!G46+Aragacotn!G46+Shirak!G46+Lori!G46+Tavush!G46+Gegharquniq!G46+Syuniq!G46 -> 2 | H46: =Erebuni!H46+Kentron!H46+Ajapnjak!H46+Avan!H46+Arabkir!H46+Shengavit!H46+'Malatia-Sebastia'!H46+Kotayq!H46+Ararat!H46+Armavir!H46+Aragacotn!H46+Shirak!H46+Lori!H46+Tavush!H46+Gegharquniq!H46+Syuniq!H46 -> 1 | I46: =Erebuni!I46+Kentron!I46+Ajapnjak!I46+Avan!I46+Arabkir!I46+Shengavit!I46+'Malatia-Sebastia'!I46+Kotayq!I46+Ararat!I46+Armavir!I46+Aragacotn!I46+Shirak!I46+Lori!I46+Tavush!I46+Gegharquniq!I46+Syuniq!I46 -> 0 | J46: =Erebuni!J46+Kentron!J46+Ajapnjak!J46+Avan!J46+Arabkir!J46+Shengavit!J46+'Malatia-Sebastia'!J46+Kotayq!J46+Ararat!J46+Armavir!J46+Aragacotn!J46+Shirak!J46+Lori!J46+Tavush!J46+Gegharquniq!J46+Syuniq!J46 -> 0 | K46: =Erebuni!K46+Kentron!K46+Ajapnjak!K46+Avan!K46+Arabkir!K46+Shengavit!K46+'Malatia-Sebastia'!K46+Kotayq!K46+Ararat!K46+Armavir!K46+Aragacotn!K46+Shirak!K46+Lori!K46+Tavush!K46+Gegharquniq!K46+Syuniq!K46 -> 1 | L46: =Erebuni!L46+Kentron!L46+Ajapnjak!L46+Avan!L46+Arabkir!L46+Shengavit!L46+'Malatia-Sebastia'!L46+Kotayq!L46+Ararat!L46+Armavir!L46+Aragacotn!L46+Shirak!L46+Lori!L46+Tavush!L46+Gegharquniq!L46+Syuniq!L46 -> 0 | ... U46: =Erebuni!U46+Kentron!U46+Ajapnjak!U46+Avan!U46+Arabkir!U46+Shengavit!U46+'Malatia-Sebastia'!U46+Kotayq!U46+Ararat!U46+Armavir!U46+Aragacotn!U46+Shirak!U46+Lori!U46+Tavush!U46+Gegharquniq!U46+Syuniq!U46 -> 0
B47: 3.3 | C47: Սեռական հարաբերության կամ սեքսուալ բնույթի գործողություններին հարկադրելը | D47: 140 | E47: =Erebuni!E47+Kentron!E47+Ajapnjak!E47+Avan!E47+Arabkir!E47+Shengavit!E47+'Malatia-Sebastia'!E47+Kotayq!E47+Ararat!E47+Armavir!E47+Aragacotn!E47+Shirak!E47+Lori!E47+Tavush!E47+Gegharquniq!E47+Syuniq!E47 -> 0 | F47: =Erebuni!F47+Kentron!F47+Ajapnjak!F47+Avan!F47+Arabkir!F47+Shengavit!F47+'Malatia-Sebastia'!F47+Kotayq!F47+Ararat!F47+Armavir!F47+Aragacotn!F47+Shirak!F47+Lori!F47+Tavush!F47+Gegharquniq!F47+Syuniq!F47 -> 0 | G47: =Erebuni!G47+Kentron!G47+Ajapnjak!G47+Avan!G47+Arabkir!G47+Shengavit!G47+'Malatia-Sebastia'!G47+Kotayq!G47+Ararat!G47+Armavir!G47+Aragacotn!G47+Shirak!G47+Lori!G47+Tavush!G47+Gegharquniq!G47+Syuniq!G47 -> 1 | H47: =Erebuni!H47+Kentron!H47+Ajapnjak!H47+Avan!H47+Arabkir!H47+Shengavit!H47+'Malatia-Sebastia'!H47+Kotayq!H47+Ararat!H47+Armavir!H47+Aragacotn!H47+Shirak!H47+Lori!H47+Tavush!H47+Gegharquniq!H47+Syuniq!H47 -> 1 | I47: =Erebuni!I47+Kentron!I47+Ajapnjak!I47+Avan!I47+Arabkir!I47+Shengavit!I47+'Malatia-Sebastia'!I47+Kotayq!I47+Ararat!I47+Armavir!I47+Aragacotn!I47+Shirak!I47+Lori!I47+Tavush!I47+Gegharquniq!I47+Syuniq!I47 -> 0 | J47: =Erebuni!J47+Kentron!J47+Ajapnjak!J47+Avan!J47+Arabkir!J47+Shengavit!J47+'Malatia-Sebastia'!J47+Kotayq!J47+Ararat!J47+Armavir!J47+Aragacotn!J47+Shirak!J47+Lori!J47+Tavush!J47+Gegharquniq!J47+Syuniq!J47 -> 0 | K47: =Erebuni!K47+Kentron!K47+Ajapnjak!K47+Avan!K47+Arabkir!K47+Shengavit!K47+'Malatia-Sebastia'!K47+Kotayq!K47+Ararat!K47+Armavir!K47+Aragacotn!K47+Shirak!K47+Lori!K47+Tavush!K47+Gegharquniq!K47+Syuniq!K47 -> 1 | L47: =Erebuni!L47+Kentron!L47+Ajapnjak!L47+Avan!L47+Arabkir!L47+Shengavit!L47+'Malatia-Sebastia'!L47+Kotayq!L47+Ararat!L47+Armavir!L47+Aragacotn!L47+Shirak!L47+Lori!L47+Tavush!L47+Gegharquniq!L47+Syuniq!L47 -> 0 | ... U47: =Erebuni!U47+Kentron!U47+Ajapnjak!U47+Avan!U47+Arabkir!U47+Shengavit!U47+'Malatia-Sebastia'!U47+Kotayq!U47+Ararat!U47+Armavir!U47+Aragacotn!U47+Shirak!U47+Lori!U47+Tavush!U47+Gegharquniq!U47+Syuniq!U47 -> 0
B48: 3.4 | C48: ê»é³Ï³Ý Ñ³ñ³µ»ñáõÃÛáõÝÁ ï³ëÝí»ó ï³ñÇÝ ãÉñ³ó³Í ³ÝÓÇ Ñ»ï Ï³Ù ë»ùëáõ³É µÝáõÛÃÇ ·áñÍáÕáõÃÛáõÝÝ»ñ Ï³ï³ñ»ÉÁ ï³ëÝí»ó ï³ñÇÝ ãÉñ³ó³Í ³ÝÓÇ ÝÏ³ïÙ³Ùµ | D48: 141 | E48: =Erebuni!E48+Kentron!E48+Ajapnjak!E48+Avan!E48+Arabkir!E48+Shengavit!E48+'Malatia-Sebastia'!E48+Kotayq!E48+Ararat!E48+Armavir!E48+Aragacotn!E48+Shirak!E48+Lori!E48+Tavush!E48+Gegharquniq!E48+Syuniq!E48 -> 16 | F48: =Erebuni!F48+Kentron!F48+Ajapnjak!F48+Avan!F48+Arabkir!F48+Shengavit!F48+'Malatia-Sebastia'!F48+Kotayq!F48+Ararat!F48+Armavir!F48+Aragacotn!F48+Shirak!F48+Lori!F48+Tavush!F48+Gegharquniq!F48+Syuniq!F48 -> 0 | G48: =Erebuni!G48+Kentron!G48+Ajapnjak!G48+Avan!G48+Arabkir!G48+Shengavit!G48+'Malatia-Sebastia'!G48+Kotayq!G48+Ararat!G48+Armavir!G48+Aragacotn!G48+Shirak!G48+Lori!G48+Tavush!G48+Gegharquniq!G48+Syuniq!G48 -> 18 | H48: =Erebuni!H48+Kentron!H48+Ajapnjak!H48+Avan!H48+Arabkir!H48+Shengavit!H48+'Malatia-Sebastia'!H48+Kotayq!H48+Ararat!H48+Armavir!H48+Aragacotn!H48+Shirak!H48+Lori!H48+Tavush!H48+Gegharquniq!H48+Syuniq!H48 -> 28 | I48: =Erebuni!I48+Kentron!I48+Ajapnjak!I48+Avan!I48+Arabkir!I48+Shengavit!I48+'Malatia-Sebastia'!I48+Kotayq!I48+Ararat!I48+Armavir!I48+Aragacotn!I48+Shirak!I48+Lori!I48+Tavush!I48+Gegharquniq!I48+Syuniq!I48 -> 0 | J48: =Erebuni!J48+Kentron!J48+Ajapnjak!J48+Avan!J48+Arabkir!J48+Shengavit!J48+'Malatia-Sebastia'!J48+Kotayq!J48+Ararat!J48+Armavir!J48+Aragacotn!J48+Shirak!J48+Lori!J48+Tavush!J48+Gegharquniq!J48+Syuniq!J48 -> 0 | K48: =Erebuni!K48+Kentron!K48+Ajapnjak!K48+Avan!K48+Arabkir!K48+Shengavit!K48+'Malatia-Sebastia'!K48+Kotayq!K48+Ararat!K48+Armavir!K48+Aragacotn!K48+Shirak!K48+Lori!K48+Tavush!K48+Gegharquniq!K48+Syuniq!K48 -> 28 | L48: =Erebuni!L48+Kentron!L48+Ajapnjak!L48+Avan!L48+Arabkir!L48+Shengavit!L48+'Malatia-Sebastia'!L48+Kotayq!L48+Ararat!L48+Armavir!L48+Aragacotn!L48+Shirak!L48+Lori!L48+Tavush!L48+Gegharquniq!L48+Syuniq!L48 -> 0 | ... U48: =Erebuni!U48+Kentron!U48+Ajapnjak!U48+Avan!U48+Arabkir!U48+Shengavit!U48+'Malatia-Sebastia'!U48+Kotayq!U48+Ararat!U48+Armavir!U48+Aragacotn!U48+Shirak!U48+Lori!U48+Tavush!U48+Gegharquniq!U48+Syuniq!U48 -> 0
B49: 3.5 | C49: ²Ý³é³Ï³µ³ñá ·áñÍáÕáõÃÛáõÝÝ»ñÁ | D49: 142 | E49: =Erebuni!E49+Kentron!E49+Ajapnjak!E49+Avan!E49+Arabkir!E49+Shengavit!E49+'Malatia-Sebastia'!E49+Kotayq!E49+Ararat!E49+Armavir!E49+Aragacotn!E49+Shirak!E49+Lori!E49+Tavush!E49+Gegharquniq!E49+Syuniq!E49 -> 2 | F49: =Erebuni!F49+Kentron!F49+Ajapnjak!F49+Avan!F49+Arabkir!F49+Shengavit!F49+'Malatia-Sebastia'!F49+Kotayq!F49+Ararat!F49+Armavir!F49+Aragacotn!F49+Shirak!F49+Lori!F49+Tavush!F49+Gegharquniq!F49+Syuniq!F49 -> 0 | G49: =Erebuni!G49+Kentron!G49+Ajapnjak!G49+Avan!G49+Arabkir!G49+Shengavit!G49+'Malatia-Sebastia'!G49+Kotayq!G49+Ararat!G49+Armavir!G49+Aragacotn!G49+Shirak!G49+Lori!G49+Tavush!G49+Gegharquniq!G49+Syuniq!G49 -> 2 | H49: =Erebuni!H49+Kentron!H49+Ajapnjak!H49+Avan!H49+Arabkir!H49+Shengavit!H49+'Malatia-Sebastia'!H49+Kotayq!H49+Ararat!H49+Armavir!H49+Aragacotn!H49+Shirak!H49+Lori!H49+Tavush!H49+Gegharquniq!H49+Syuniq!H49 -> 1 | I49: =Erebuni!I49+Kentron!I49+Ajapnjak!I49+Avan!I49+Arabkir!I49+Shengavit!I49+'Malatia-Sebastia'!I49+Kotayq!I49+Ararat!I49+Armavir!I49+Aragacotn!I49+Shirak!I49+Lori!I49+Tavush!I49+Gegharquniq!I49+Syuniq!I49 -> 0 | J49: =Erebuni!J49+Kentron!J49+Ajapnjak!J49+Avan!J49+Arabkir!J49+Shengavit!J49+'Malatia-Sebastia'!J49+Kotayq!J49+Ararat!J49+Armavir!J49+Aragacotn!J49+Shirak!J49+Lori!J49+Tavush!J49+Gegharquniq!J49+Syuniq!J49 -> 0 | K49: =Erebuni!K49+Kentron!K49+Ajapnjak!K49+Avan!K49+Arabkir!K49+Shengavit!K49+'Malatia-Sebastia'!K49+Kotayq!K49+Ararat!K49+Armavir!K49+Aragacotn!K49+Shirak!K49+Lori!K49+Tavush!K49+Gegharquniq!K49+Syuniq!K49 -> 1 | L49: =Erebuni!L49+Kentron!L49+Ajapnjak!L49+Avan!L49+Arabkir!L49+Shengavit!L49+'Malatia-Sebastia'!L49+Kotayq!L49+Ararat!L49+Armavir!L49+Aragacotn!L49+Shirak!L49+Lori!L49+Tavush!L49+Gegharquniq!L49+Syuniq!L49 -> 0 | ... U49: =Erebuni!U49+Kentron!U49+Ajapnjak!U49+Avan!U49+Arabkir!U49+Shengavit!U49+'Malatia-Sebastia'!U49+Kotayq!U49+Ararat!U49+Armavir!U49+Aragacotn!U49+Shirak!U49+Lori!U49+Tavush!U49+Gegharquniq!U49+Syuniq!U49 -> 0
B50: 3.6 | C50: ²ÛÉ Ñ³Ýó³·áñÍáõÃÛáõÝÝ»ñ | E50: =Erebuni!E50+Kentron!E50+Ajapnjak!E50+Avan!E50+Arabkir!E50+Shengavit!E50+'Malatia-Sebastia'!E50+Kotayq!E50+Ararat!E50+Armavir!E50+Aragacotn!E50+Shirak!E50+Lori!E50+Tavush!E50+Gegharquniq!E50+Syuniq!E50 -> 0 | F50: =Erebuni!F50+Kentron!F50+Ajapnjak!F50+Avan!F50+Arabkir!F50+Shengavit!F50+'Malatia-Sebastia'!F50+Kotayq!F50+Ararat!F50+Armavir!F50+Aragacotn!F50+Shirak!F50+Lori!F50+Tavush!F50+Gegharquniq!F50+Syuniq!F50 -> 0 | G50: =Erebuni!G50+Kentron!G50+Ajapnjak!G50+Avan!G50+Arabkir!G50+Shengavit!G50+'Malatia-Sebastia'!G50+Kotayq!G50+Ararat!G50+Armavir!G50+Aragacotn!G50+Shirak!G50+Lori!G50+Tavush!G50+Gegharquniq!G50+Syuniq!G50 -> 0 | H50: =Erebuni!H50+Kentron!H50+Ajapnjak!H50+Avan!H50+Arabkir!H50+Shengavit!H50+'Malatia-Sebastia'!H50+Kotayq!H50+Ararat!H50+Armavir!H50+Aragacotn!H50+Shirak!H50+Lori!H50+Tavush!H50+Gegharquniq!H50+Syuniq!H50 -> 0 | I50: =Erebuni!I50+Kentron!I50+Ajapnjak!I50+Avan!I50+Arabkir!I50+Shengavit!I50+'Malatia-Sebastia'!I50+Kotayq!I50+Ararat!I50+Armavir!I50+Aragacotn!I50+Shirak!I50+Lori!I50+Tavush!I50+Gegharquniq!I50+Syuniq!I50 -> 0 | J50: =Erebuni!J50+Kentron!J50+Ajapnjak!J50+Avan!J50+Arabkir!J50+Shengavit!J50+'Malatia-Sebastia'!J50+Kotayq!J50+Ararat!J50+Armavir!J50+Aragacotn!J50+Shirak!J50+Lori!J50+Tavush!J50+Gegharquniq!J50+Syuniq!J50 -> 0 | K50: =Erebuni!K50+Kentron!K50+Ajapnjak!K50+Avan!K50+Arabkir!K50+Shengavit!K50+'Malatia-Sebastia'!K50+Kotayq!K50+Ararat!K50+Armavir!K50+Aragacotn!K50+Shirak!K50+Lori!K50+Tavush!K50+Gegharquniq!K50+Syuniq!K50 -> 0 | L50: =Erebuni!L50+Kentron!L50+Ajapnjak!L50+Avan!L50+Arabkir!L50+Shengavit!L50+'Malatia-Sebastia'!L50+Kotayq!L50+Ararat!L50+Armavir!L50+Aragacotn!L50+Shirak!L50+Lori!L50+Tavush!L50+Gegharquniq!L50+Syuniq!L50 -> 0 | ... U50: =Erebuni!U50+Kentron!U50+Ajapnjak!U50+Avan!U50+Arabkir!U50+Shengavit!U50+'Malatia-Sebastia'!U50+Kotayq!U50+Ararat!U50+Armavir!U50+Aragacotn!U50+Shirak!U50+Lori!U50+Tavush!U50+Gegharquniq!U50+Syuniq!U50 -> 0
B51: 4. | C51: ÀÝ¹³Ù»ÝÁ Ù³ñ¹áõ ¨ ù³Õ³ù³óáõ ë³ÑÙ³Ý³¹ñ³Ï³Ý Çñ³íáõÝùÝ»ñÇ ¨ ³½³ïáõÃÛáõÝÝ»ñÇ ¹»Ù áõÕÕí³Í Ñ³Ýó³·áñÍáõÃÛáõÝÝ»ñÁ | E51: =SUM(E52:E79) -> 6 | F51: =SUM(F52:F79) -> 1 | G51: =SUM(G52:G79) -> 16 | H51: =SUM(H52:H79) -> 12 | I51: =SUM(I52:I79) -> 1 | J51: =SUM(J52:J79) -> 0 | K51: =SUM(K52:K79) -> 13 | L51: =SUM(L52:L79) -> 1 | ... U51: =SUM(U52:U79) -> 0
B52: 4.1 | C52: Ø³ñ¹áõ ¨ ù³Õ³ù³óáõ Çñ³í³Ñ³í³ë³ñáõÃÛáõÝÁ Ë³Ëï»ÉÁ | D52: 143 | E52: =Erebuni!E52+Kentron!E52+Ajapnjak!E52+Avan!E52+Arabkir!E52+Shengavit!E52+'Malatia-Sebastia'!E52+Kotayq!E52+Ararat!E52+Armavir!E52+Aragacotn!E52+Shirak!E52+Lori!E52+Tavush!E52+Gegharquniq!E52+Syuniq!E52 -> 0 | F52: =Erebuni!F52+Kentron!F52+Ajapnjak!F52+Avan!F52+Arabkir!F52+Shengavit!F52+'Malatia-Sebastia'!F52+Kotayq!F52+Ararat!F52+Armavir!F52+Aragacotn!F52+Shirak!F52+Lori!F52+Tavush!F52+Gegharquniq!F52+Syuniq!F52 -> 0 | G52: =Erebuni!G52+Kentron!G52+Ajapnjak!G52+Avan!G52+Arabkir!G52+Shengavit!G52+'Malatia-Sebastia'!G52+Kotayq!G52+Ararat!G52+Armavir!G52+Aragacotn!G52+Shirak!G52+Lori!G52+Tavush!G52+Gegharquniq!G52+Syuniq!G52 -> 0 | H52: =Erebuni!H52+Kentron!H52+Ajapnjak!H52+Avan!H52+Arabkir!H52+Shengavit!H52+'Malatia-Sebastia'!H52+Kotayq!H52+Ararat!H52+Armavir!H52+Aragacotn!H52+Shirak!H52+Lori!H52+Tavush!H52+Gegharquniq!H52+Syuniq!H52 -> 0 | I52: =Erebuni!I52+Kentron!I52+Ajapnjak!I52+Avan!I52+Arabkir!I52+Shengavit!I52+'Malatia-Sebastia'!I52+Kotayq!I52+Ararat!I52+Armavir!I52+Aragacotn!I52+Shirak!I52+Lori!I52+Tavush!I52+Gegharquniq!I52+Syuniq!I52 -> 0 | J52: =Erebuni!J52+Kentron!J52+Ajapnjak!J52+Avan!J52+Arabkir!J52+Shengavit!J52+'Malatia-Sebastia'!J52+Kotayq!J52+Ararat!J52+Armavir!J52+Aragacotn!J52+Shirak!J52+Lori!J52+Tavush!J52+Gegharquniq!J52+Syuniq!J52 -> 0 | K52: =Erebuni!K52+Kentron!K52+Ajapnjak!K52+Avan!K52+Arabkir!K52+Shengavit!K52+'Malatia-Sebastia'!K52+Kotayq!K52+Ararat!K52+Armavir!K52+Aragacotn!K52+Shirak!K52+Lori!K52+Tavush!K52+Gegharquniq!K52+Syuniq!K52 -> 0 | L52: =Erebuni!L52+Kentron!L52+Ajapnjak!L52+Avan!L52+Arabkir!L52+Shengavit!L52+'Malatia-Sebastia'!L52+Kotayq!L52+Ararat!L52+Armavir!L52+Aragacotn!L52+Shirak!L52+Lori!L52+Tavush!L52+Gegharquniq!L52+Syuniq!L52 -> 0 | ... U52: =Erebuni!U52+Kentron!U52+Ajapnjak!U52+Avan!U52+Arabkir!U52+Shengavit!U52+'Malatia-Sebastia'!U52+Kotayq!U52+Ararat!U52+Armavir!U52+Aragacotn!U52+Shirak!U52+Lori!U52+Tavush!U52+Gegharquniq!U52+Syuniq!U52 -> 0
B53: 4.2 | C53: ²ÝÓÝ³Ï³Ý Ï³Ù ÁÝï³Ý»Ï³Ý ÏÛ³ÝùÇ Ù³ëÇÝ ï»Õ»ÏáõÃÛáõÝÝ»ñ ³åûñÇÝÇ Ñ³í³ù»ÉÁ, å³Ñ»ÉÁ, û·ï³·áñÍ»ÉÁ Ï³Ù ï³ñ³Í»ÉÁ | D53: 144 | E53: =Erebuni!E53+Kentron!E53+Ajapnjak!E53+Avan!E53+Arabkir!E53+Shengavit!E53+'Malatia-Sebastia'!E53+Kotayq!E53+Ararat!E53+Armavir!E53+Aragacotn!E53+Shirak!E53+Lori!E53+Tavush!E53+Gegharquniq!E53+Syuniq!E53 -> 0 | F53: =Erebuni!F53+Kentron!F53+Ajapnjak!F53+Avan!F53+Arabkir!F53+Shengavit!F53+'Malatia-Sebastia'!F53+Kotayq!F53+Ararat!F53+Armavir!F53+Aragacotn!F53+Shirak!F53+Lori!F53+Tavush!F53+Gegharquniq!F53+Syuniq!F53 -> 0 | G53: =Erebuni!G53+Kentron!G53+Ajapnjak!G53+Avan!G53+Arabkir!G53+Shengavit!G53+'Malatia-Sebastia'!G53+Kotayq!G53+Ararat!G53+Armavir!G53+Aragacotn!G53+Shirak!G53+Lori!G53+Tavush!G53+Gegharquniq!G53+Syuniq!G53 -> 2 | H53: =Erebuni!H53+Kentron!H53+Ajapnjak!H53+Avan!H53+Arabkir!H53+Shengavit!H53+'Malatia-Sebastia'!H53+Kotayq!H53+Ararat!H53+Armavir!H53+Aragacotn!H53+Shirak!H53+Lori!H53+Tavush!H53+Gegharquniq!H53+Syuniq!H53 -> 0 | I53: =Erebuni!I53+Kentron!I53+Ajapnjak!I53+Avan!I53+Arabkir!I53+Shengavit!I53+'Malatia-Sebastia'!I53+Kotayq!I53+Ararat!I53+Armavir!I53+Aragacotn!I53+Shirak!I53+Lori!I53+Tavush!I53+Gegharquniq!I53+Syuniq!I53 -> 0 | J53: =Erebuni!J53+Kentron!J53+Ajapnjak!J53+Avan!J53+Arabkir!J53+Shengavit!J53+'Malatia-Sebastia'!J53+Kotayq!J53+Ararat!J53+Armavir!J53+Aragacotn!J53+Shirak!J53+Lori!J53+Tavush!J53+Gegharquniq!J53+Syuniq!J53 -> 0 | K53: =Erebuni!K53+Kentron!K53+Ajapnjak!K53+Avan!K53+Arabkir!K53+Shengavit!K53+'Malatia-Sebastia'!K53+Kotayq!K53+Ararat!K53+Armavir!K53+Aragacotn!K53+Shirak!K53+Lori!K53+Tavush!K53+Gegharquniq!K53+Syuniq!K53 -> 0 | L53: =Erebuni!L53+Kentron!L53+Ajapnjak!L53+Avan!L53+Arabkir!L53+Shengavit!L53+'Malatia-Sebastia'!L53+Kotayq!L53+Ararat!L53+Armavir!L53+Aragacotn!L53+Shirak!L53+Lori!L53+Tavush!L53+Gegharquniq!L53+Syuniq!L53 -> 1 | ... U53: =Erebuni!U53+Kentron!U53+Ajapnjak!U53+Avan!U53+Arabkir!U53+Shengavit!U53+'Malatia-Sebastia'!U53+Kotayq!U53+Ararat!U53+Armavir!U53+Aragacotn!U53+Shirak!U53+Lori!U53+Tavush!U53+Gegharquniq!U53+Syuniq!U53 -> 0
B54: 4.3 | C54: ´ÅßÏ³Ï³Ý ·³ÕïÝÇùÁ Ññ³å³ñ³Ï»ÉÁ | D54: 145 | E54: =Erebuni!E54+Kentron!E54+Ajapnjak!E54+Avan!E54+Arabkir!E54+Shengavit!E54+'Malatia-Sebastia'!E54+Kotayq!E54+Ararat!E54+Armavir!E54+Aragacotn!E54+Shirak!E54+Lori!E54+Tavush!E54+Gegharquniq!E54+Syuniq!E54 -> 0 | F54: =Erebuni!F54+Kentron!F54+Ajapnjak!F54+Avan!F54+Arabkir!F54+Shengavit!F54+'Malatia-Sebastia'!F54+Kotayq!F54+Ararat!F54+Armavir!F54+Aragacotn!F54+Shirak!F54+Lori!F54+Tavush!F54+Gegharquniq!F54+Syuniq!F54 -> 0 | G54: =Erebuni!G54+Kentron!G54+Ajapnjak!G54+Avan!G54+Arabkir!G54+Shengavit!G54+'Malatia-Sebastia'!G54+Kotayq!G54+Ararat!G54+Armavir!G54+Aragacotn!G54+Shirak!G54+Lori!G54+Tavush!G54+Gegharquniq!G54+Syuniq!G54 -> 0 | H54: =Erebuni!H54+Kentron!H54+Ajapnjak!H54+Avan!H54+Arabkir!H54+Shengavit!H54+'Malatia-Sebastia'!H54+Kotayq!H54+Ararat!H54+Armavir!H54+Aragacotn!H54+Shirak!H54+Lori!H54+Tavush!H54+Gegharquniq!H54+Syuniq!H54 -> 0 | I54: =Erebuni!I54+Kentron!I54+Ajapnjak!I54+Avan!I54+Arabkir!I54+Shengavit!I54+'Malatia-Sebastia'!I54+Kotayq!I54+Ararat!I54+Armavir!I54+Aragacotn!I54+Shirak!I54+Lori!I54+Tavush!I54+Gegharquniq!I54+Syuniq!I54 -> 0 | J54: =Erebuni!J54+Kentron!J54+Ajapnjak!J54+Avan!J54+Arabkir!J54+Shengavit!J54+'Malatia-Sebastia'!J54+Kotayq!J54+Ararat!J54+Armavir!J54+Aragacotn!J54+Shirak!J54+Lori!J54+Tavush!J54+Gegharquniq!J54+Syuniq!J54 -> 0 | K54: =Erebuni!K54+Kentron!K54+Ajapnjak!K54+Avan!K54+Arabkir!K54+Shengavit!K54+'Malatia-Sebastia'!K54+Kotayq!K54+Ararat!K54+Armavir!K54+Aragacotn!K54+Shirak!K54+Lori!K54+Tavush!K54+Gegharquniq!K54+Syuniq!K54 -> 0 | L54: =Erebuni!L54+Kentron!L54+Ajapnjak!L54+Avan!L54+Arabkir!L54+Shengavit!L54+'Malatia-Sebastia'!L54+Kotayq!L54+Ararat!L54+Armavir!L54+Aragacotn!L54+Shirak!L54+Lori!L54+Tavush!L54+Gegharquniq!L54+Syuniq!L54 -> 0 | ... U54: =Erebuni!U54+Kentron!U54+Ajapnjak!U54+Avan!U54+Arabkir!U54+Shengavit!U54+'Malatia-Sebastia'!U54+Kotayq!U54+Ararat!U54+Armavir!U54+Aragacotn!U54+Shirak!U54+Lori!U54+Tavush!U54+Gegharquniq!U54+Syuniq!U54 -> 0
B55: 4.4 | C55: Ü³Ù³Ï³·ñáõÃÛ³Ý, Ñ»é³Ëáë³ÛÇÝ Ëáë³ÏóáõÃÛáõÝÝ»ñÇ, ÷áëï³ÛÇÝ, Ñ»é³·ñ³Ï³Ý Ï³Ù ³ÛÉ Ñ³Õáñ¹áõÙÝ»ñÇ ·³ÕïÝÇáõÃÛáõÝÁ Ë³Ëï»ÉÁ | D55: 146 | E55: =Erebuni!E55+Kentron!E55+Ajapnjak!E55+Avan!E55+Arabkir!E55+Shengavit!E55+'Malatia-Sebastia'!E55+Kotayq!E55+Ararat!E55+Armavir!E55+Aragacotn!E55+Shirak!E55+Lori!E55+Tavush!E55+Gegharquniq!E55+Syuniq!E55 -> 0 | F55: =Erebuni!F55+Kentron!F55+Ajapnjak!F55+Avan!F55+Arabkir!F55+Shengavit!F55+'Malatia-Sebastia'!F55+Kotayq!F55+Ararat!F55+Armavir!F55+Aragacotn!F55+Shirak!F55+Lori!F55+Tavush!F55+Gegharquniq!F55+Syuniq!F55 -> 0 | G55: =Erebuni!G55+Kentron!G55+Ajapnjak!G55+Avan!G55+Arabkir!G55+Shengavit!G55+'Malatia-Sebastia'!G55+Kotayq!G55+Ararat!G55+Armavir!G55+Aragacotn!G55+Shirak!G55+Lori!G55+Tavush!G55+Gegharquniq!G55+Syuniq!G55 -> 0 | H55: =Erebuni!H55+Kentron!H55+Ajapnjak!H55+Avan!H55+Arabkir!H55+Shengavit!H55+'Malatia-Sebastia'!H55+Kotayq!H55+Ararat!H55+Armavir!H55+Aragacotn!H55+Shirak!H55+Lori!H55+Tavush!H55+Gegharquniq!H55+Syuniq!H55 -> 0 | I55: =Erebuni!I55+Kentron!I55+Ajapnjak!I55+Avan!I55+Arabkir!I55+Shengavit!I55+'Malatia-Sebastia'!I55+Kotayq!I55+Ararat!I55+Armavir!I55+Aragacotn!I55+Shirak!I55+Lori!I55+Tavush!I55+Gegharquniq!I55+Syuniq!I55 -> 0 | J55: =Erebuni!J55+Kentron!J55+Ajapnjak!J55+Avan!J55+Arabkir!J55+Shengavit!J55+'Malatia-Sebastia'!J55+Kotayq!J55+Ararat!J55+Armavir!J55+Aragacotn!J55+Shirak!J55+Lori!J55+Tavush!J55+Gegharquniq!J55+Syuniq!J55 -> 0 | K55: =Erebuni!K55+Kentron!K55+Ajapnjak!K55+Avan!K55+Arabkir!K55+Shengavit!K55+'Malatia-Sebastia'!K55+Kotayq!K55+Ararat!K55+Armavir!K55+Aragacotn!K55+Shirak!K55+Lori!K55+Tavush!K55+Gegharquniq!K55+Syuniq!K55 -> 0 | L55: =Erebuni!L55+Kentron!L55+Ajapnjak!L55+Avan!L55+Arabkir!L55+Shengavit!L55+'Malatia-Sebastia'!L55+Kotayq!L55+Ararat!L55+Armavir!L55+Aragacotn!L55+Shirak!L55+Lori!L55+Tavush!L55+Gegharquniq!L55+Syuniq!L55 -> 0 | ... U55: =Erebuni!U55+Kentron!U55+Ajapnjak!U55+Avan!U55+Arabkir!U55+Shengavit!U55+'Malatia-Sebastia'!U55+Kotayq!U55+Ararat!U55+Armavir!U55+Aragacotn!U55+Shirak!U55+Lori!U55+Tavush!U55+Gegharquniq!U55+Syuniq!U55 -> 0
B56: 4.5 | C56: ´Ý³Ï³ñ³ÝÇ ³ÝÓ»éÝÙË»ÉÇáõÃÛáõÝÁ Ë³Ëï»ÉÁ | D56: 147 | E56: =Erebuni!E56+Kentron!E56+Ajapnjak!E56+Avan!E56+Arabkir!E56+Shengavit!E56+'Malatia-Sebastia'!E56+Kotayq!E56+Ararat!E56+Armavir!E56+Aragacotn!E56+Shirak!E56+Lori!E56+Tavush!E56+Gegharquniq!E56+Syuniq!E56 -> 4 | F56: =Erebuni!F56+Kentron!F56+Ajapnjak!F56+Avan!F56+Arabkir!F56+Shengavit!F56+'Malatia-Sebastia'!F56+Kotayq!F56+Ararat!F56+Armavir!F56+Aragacotn!F56+Shirak!F56+Lori!F56+Tavush!F56+Gegharquniq!F56+Syuniq!F56 -> 1 | G56: =Erebuni!G56+Kentron!G56+Ajapnjak!G56+Avan!G56+Arabkir!G56+Shengavit!G56+'Malatia-Sebastia'!G56+Kotayq!G56+Ararat!G56+Armavir!G56+Aragacotn!G56+Shirak!G56+Lori!G56+Tavush!G56+Gegharquniq!G56+Syuniq!G56 -> 4 | H56: =Erebuni!H56+Kentron!H56+Ajapnjak!H56+Avan!H56+Arabkir!H56+Shengavit!H56+'Malatia-Sebastia'!H56+Kotayq!H56+Ararat!H56+Armavir!H56+Aragacotn!H56+Shirak!H56+Lori!H56+Tavush!H56+Gegharquniq!H56+Syuniq!H56 -> 5 | I56: =Erebuni!I56+Kentron!I56+Ajapnjak!I56+Avan!I56+Arabkir!I56+Shengavit!I56+'Malatia-Sebastia'!I56+Kotayq!I56+Ararat!I56+Armavir!I56+Aragacotn!I56+Shirak!I56+Lori!I56+Tavush!I56+Gegharquniq!I56+Syuniq!I56 -> 1 | J56: =Erebuni!J56+Kentron!J56+Ajapnjak!J56+Avan!J56+Arabkir!J56+Shengavit!J56+'Malatia-Sebastia'!J56+Kotayq!J56+Ararat!J56+Armavir!J56+Aragacotn!J56+Shirak!J56+Lori!J56+Tavush!J56+Gegharquniq!J56+Syuniq!J56 -> 0 | K56: =Erebuni!K56+Kentron!K56+Ajapnjak!K56+Avan!K56+Arabkir!K56+Shengavit!K56+'Malatia-Sebastia'!K56+Kotayq!K56+Ararat!K56+Armavir!K56+Aragacotn!K56+Shirak!K56+Lori!K56+Tavush!K56+Gegharquniq!K56+Syuniq!K56 -> 6 | L56: =Erebuni!L56+Kentron!L56+Ajapnjak!L56+Avan!L56+Arabkir!L56+Shengavit!L56+'Malatia-Sebastia'!L56+Kotayq!L56+Ararat!L56+Armavir!L56+Aragacotn!L56+Shirak!L56+Lori!L56+Tavush!L56+Gegharquniq!L56+Syuniq!L56 -> 0 | ... U56: =Erebuni!U56+Kentron!U56+Ajapnjak!U56+Avan!U56+Arabkir!U56+Shengavit!U56+'Malatia-Sebastia'!U56+Kotayq!U56+Ararat!U56+Armavir!U56+Aragacotn!U56+Shirak!U56+Lori!U56+Tavush!U56+Gegharquniq!U56+Syuniq!U56 -> 0
B57: 4.6 | C57: ²ÝÓÇÝ ï»Õ»ÏáõÃÛáõÝ Ý»ñÏ³Û³óÝ»Éáõó Ññ³Å³ñí»ÉÁ | D57: 148 | E57: =Erebuni!E57+Kentron!E57+Ajapnjak!E57+Avan!E57+Arabkir!E57+Shengavit!E57+'Malatia-Sebastia'!E57+Kotayq!E57+Ararat!E57+Armavir!E57+Aragacotn!E57+Shirak!E57+Lori!E57+Tavush!E57+Gegharquniq!E57+Syuniq!E57 -> 0 | F57: =Erebuni!F57+Kentron!F57+Ajapnjak!F57+Avan!F57+Arabkir!F57+Shengavit!F57+'Malatia-Sebastia'!F57+Kotayq!F57+Ararat!F57+Armavir!F57+Aragacotn!F57+Shirak!F57+Lori!F57+Tavush!F57+Gegharquniq!F57+Syuniq!F57 -> 0 | G57: =Erebuni!G57+Kentron!G57+Ajapnjak!G57+Avan!G57+Arabkir!G57+Shengavit!G57+'Malatia-Sebastia'!G57+Kotayq!G57+Ararat!G57+Armavir!G57+Aragacotn!G57+Shirak!G57+Lori!G57+Tavush!G57+Gegharquniq!G57+Syuniq!G57 -> 0 | H57: =Erebuni!H57+Kentron!H57+Ajapnjak!H57+Avan!H57+Arabkir!H57+Shengavit!H57+'Malatia-Sebastia'!H57+Kotayq!H57+Ararat!H57+Armavir!H57+Aragacotn!H57+Shirak!H57+Lori!H57+Tavush!H57+Gegharquniq!H57+Syuniq!H57 -> 0 | I57: =Erebuni!I57+Kentron!I57+Ajapnjak!I57+Avan!I57+Arabkir!I57+Shengavit!I57+'Malatia-Sebastia'!I57+Kotayq!I57+Ararat!I57+Armavir!I57+Aragacotn!I57+Shirak!I57+Lori!I57+Tavush!I57+Gegharquniq!I57+Syuniq!I57 -> 0 | J57: =Erebuni!J57+Kentron!J57+Ajapnjak!J57+Avan!J57+Arabkir!J57+Shengavit!J57+'Malatia-Sebastia'!J57+Kotayq!J57+Ararat!J57+Armavir!J57+Aragacotn!J57+Shirak!J57+Lori!J57+Tavush!J57+Gegharquniq!J57+Syuniq!J57 -> 0 | K57: =Erebuni!K57+Kentron!K57+Ajapnjak!K57+Avan!K57+Arabkir!K57+Shengavit!K57+'Malatia-Sebastia'!K57+Kotayq!K57+Ararat!K57+Armavir!K57+Aragacotn!K57+Shirak!K57+Lori!K57+Tavush!K57+Gegharquniq!K57+Syuniq!K57 -> 0 | L57: =Erebuni!L57+Kentron!L57+Ajapnjak!L57+Avan!L57+Arabkir!L57+Shengavit!L57+'Malatia-Sebastia'!L57+Kotayq!L57+Ararat!L57+Armavir!L57+Aragacotn!L57+Shirak!L57+Lori!L57+Tavush!L57+Gegharquniq!L57+Syuniq!L57 -> 0 | ... U57: =Erebuni!U57+Kentron!U57+Ajapnjak!U57+Avan!U57+Arabkir!U57+Shengavit!U57+'Malatia-Sebastia'!U57+Kotayq!U57+Ararat!U57+Armavir!U57+Aragacotn!U57+Shirak!U57+Lori!U57+Tavush!U57+Gegharquniq!U57+Syuniq!U57 -> 0
B58: 4.7 | C58: ÀÝïñ³Ï³Ý Çñ³íáõÝùÇ Çñ³Ï³Ý³óÙ³ÝÁ, ÁÝïñ³Ï³Ý Ñ³ÝÓÝ³ÅáÕáíÝ»ñÇ ³ßË³ï³ÝùÝ»ñÇÝ Ï³Ù ÁÝïñáõÃÛ³ÝÁ Ù³ëÝ³ÏóáÕ ³ÝÓ³Ýó ÉÇ³½áñáõÃÛáõÝÝ»ñÇ Çñ³Ï³Ý³óÙ³ÝÁ ËáãÁÝ¹áï»ÉÁ | D58: 149 | E58: =Erebuni!E58+Kentron!E58+Ajapnjak!E58+Avan!E58+Arabkir!E58+Shengavit!E58+'Malatia-Sebastia'!E58+Kotayq!E58+Ararat!E58+Armavir!E58+Aragacotn!E58+Shirak!E58+Lori!E58+Tavush!E58+Gegharquniq!E58+Syuniq!E58 -> 0 | F58: =Erebuni!F58+Kentron!F58+Ajapnjak!F58+Avan!F58+Arabkir!F58+Shengavit!F58+'Malatia-Sebastia'!F58+Kotayq!F58+Ararat!F58+Armavir!F58+Aragacotn!F58+Shirak!F58+Lori!F58+Tavush!F58+Gegharquniq!F58+Syuniq!F58 -> 0 | G58: =Erebuni!G58+Kentron!G58+Ajapnjak!G58+Avan!G58+Arabkir!G58+Shengavit!G58+'Malatia-Sebastia'!G58+Kotayq!G58+Ararat!G58+Armavir!G58+Aragacotn!G58+Shirak!G58+Lori!G58+Tavush!G58+Gegharquniq!G58+Syuniq!G58 -> 0 | H58: =Erebuni!H58+Kentron!H58+Ajapnjak!H58+Avan!H58+Arabkir!H58+Shengavit!H58+'Malatia-Sebastia'!H58+Kotayq!H58+Ararat!H58+Armavir!H58+Aragacotn!H58+Shirak!H58+Lori!H58+Tavush!H58+Gegharquniq!H58+Syuniq!H58 -> 0 | I58: =Erebuni!I58+Kentron!I58+Ajapnjak!I58+Avan!I58+Arabkir!I58+Shengavit!I58+'Malatia-Sebastia'!I58+Kotayq!I58+Ararat!I58+Armavir!I58+Aragacotn!I58+Shirak!I58+Lori!I58+Tavush!I58+Gegharquniq!I58+Syuniq!I58 -> 0 | J58: =Erebuni!J58+Kentron!J58+Ajapnjak!J58+Avan!J58+Arabkir!J58+Shengavit!J58+'Malatia-Sebastia'!J58+Kotayq!J58+Ararat!J58+Armavir!J58+Aragacotn!J58+Shirak!J58+Lori!J58+Tavush!J58+Gegharquniq!J58+Syuniq!J58 -> 0 | K58: =Erebuni!K58+Kentron!K58+Ajapnjak!K58+Avan!K58+Arabkir!K58+Shengavit!K58+'Malatia-Sebastia'!K58+Kotayq!K58+Ararat!K58+Armavir!K58+Aragacotn!K58+Shirak!K58+Lori!K58+Tavush!K58+Gegharquniq!K58+Syuniq!K58 -> 0 | L58: =Erebuni!L58+Kentron!L58+Ajapnjak!L58+Avan!L58+Arabkir!L58+Shengavit!L58+'Malatia-Sebastia'!L58+Kotayq!L58+Ararat!L58+Armavir!L58+Aragacotn!L58+Shirak!L58+Lori!L58+Tavush!L58+Gegharquniq!L58+Syuniq!L58 -> 0 | ... U58: =Erebuni!U58+Kentron!U58+Ajapnjak!U58+Avan!U58+Arabkir!U58+Shengavit!U58+'Malatia-Sebastia'!U58+Kotayq!U58+Ararat!U58+Armavir!U58+Aragacotn!U58+Shirak!U58+Lori!U58+Tavush!U58+Gegharquniq!U58+Syuniq!U58 -> 0
B59: 4.8 | C59: ÀÝïñáõÃÛáõÝÝ»ñÇ Ï³Ù ùí»³ñÏáõÃÛ³Ý ³ñ¹ÛáõÝùÝ»ñÁ Ï»ÕÍ»ÉÁ | D59: 150 | E59: =Erebuni!E59+Kentron!E59+Ajapnjak!E59+Avan!E59+Arabkir!E59+Shengavit!E59+'Malatia-Sebastia'!E59+Kotayq!E59+Ararat!E59+Armavir!E59+Aragacotn!E59+Shirak!E59+Lori!E59+Tavush!E59+Gegharquniq!E59+Syuniq!E59 -> 0 | F59: =Erebuni!F59+Kentron!F59+Ajapnjak!F59+Avan!F59+Arabkir!F59+Shengavit!F59+'Malatia-Sebastia'!F59+Kotayq!F59+Ararat!F59+Armavir!F59+Aragacotn!F59+Shirak!F59+Lori!F59+Tavush!F59+Gegharquniq!F59+Syuniq!F59 -> 0 | G59: =Erebuni!G59+Kentron!G59+Ajapnjak!G59+Avan!G59+Arabkir!G59+Shengavit!G59+'Malatia-Sebastia'!G59+Kotayq!G59+Ararat!G59+Armavir!G59+Aragacotn!G59+Shirak!G59+Lori!G59+Tavush!G59+Gegharquniq!G59+Syuniq!G59 -> 0 | H59: =Erebuni!H59+Kentron!H59+Ajapnjak!H59+Avan!H59+Arabkir!H59+Shengavit!H59+'Malatia-Sebastia'!H59+Kotayq!H59+Ararat!H59+Armavir!H59+Aragacotn!H59+Shirak!H59+Lori!H59+Tavush!H59+Gegharquniq!H59+Syuniq!H59 -> 0 | I59: =Erebuni!I59+Kentron!I59+Ajapnjak!I59+Avan!I59+Arabkir!I59+Shengavit!I59+'Malatia-Sebastia'!I59+Kotayq!I59+Ararat!I59+Armavir!I59+Aragacotn!I59+Shirak!I59+Lori!I59+Tavush!I59+Gegharquniq!I59+Syuniq!I59 -> 0 | J59: =Erebuni!J59+Kentron!J59+Ajapnjak!J59+Avan!J59+Arabkir!J59+Shengavit!J59+'Malatia-Sebastia'!J59+Kotayq!J59+Ararat!J59+Armavir!J59+Aragacotn!J59+Shirak!J59+Lori!J59+Tavush!J59+Gegharquniq!J59+Syuniq!J59 -> 0 | K59: =Erebuni!K59+Kentron!K59+Ajapnjak!K59+Avan!K59+Arabkir!K59+Shengavit!K59+'Malatia-Sebastia'!K59+Kotayq!K59+Ararat!K59+Armavir!K59+Aragacotn!K59+Shirak!K59+Lori!K59+Tavush!K59+Gegharquniq!K59+Syuniq!K59 -> 0 | L59: =Erebuni!L59+Kentron!L59+Ajapnjak!L59+Avan!L59+Arabkir!L59+Shengavit!L59+'Malatia-Sebastia'!L59+Kotayq!L59+Ararat!L59+Armavir!L59+Aragacotn!L59+Shirak!L59+Lori!L59+Tavush!L59+Gegharquniq!L59+Syuniq!L59 -> 0 | ... U59: =Erebuni!U59+Kentron!U59+Ajapnjak!U59+Avan!U59+Arabkir!U59+Shengavit!U59+'Malatia-Sebastia'!U59+Kotayq!U59+Ararat!U59+Armavir!U59+Aragacotn!U59+Shirak!U59+Lori!U59+Tavush!U59+Gegharquniq!U59+Syuniq!U59 -> 0
B60: 4.9 | C60: ÀÝïñáõÃÛáõÝÝ»ñÇ ³ÝóÏ³óÙ³Ý ÁÝÃ³óùáõÙ Ã»ÏÝ³ÍáõÇ, Ïáõë³ÏóáõÃÛ³Ý (Ïáõë³ÏóáõÃÛáõÝÝ»ñÇ ¹³ßÇÝùÇ) í»ñ³µ»ñÛ³É ½ñå³ñïã³Ï³Ý ï»Õ»ÏáõÃÛáõÝÝ»ñ ï³ñ³Í»ÉÁ | D60: 151 | E60: =Erebuni!E60+Kentron!E60+Ajapnjak!E60+Avan!E60+Arabkir!E60+Shengavit!E60+'Malatia-Sebastia'!E60+Kotayq!E60+Ararat!E60+Armavir!E60+Aragacotn!E60+Shirak!E60+Lori!E60+Tavush!E60+Gegharquniq!E60+Syuniq!E60 -> 0 | F60: =Erebuni!F60+Kentron!F60+Ajapnjak!F60+Avan!F60+Arabkir!F60+Shengavit!F60+'Malatia-Sebastia'!F60+Kotayq!F60+Ararat!F60+Armavir!F60+Aragacotn!F60+Shirak!F60+Lori!F60+Tavush!F60+Gegharquniq!F60+Syuniq!F60 -> 0 | G60: =Erebuni!G60+Kentron!G60+Ajapnjak!G60+Avan!G60+Arabkir!G60+Shengavit!G60+'Malatia-Sebastia'!G60+Kotayq!G60+Ararat!G60+Armavir!G60+Aragacotn!G60+Shirak!G60+Lori!G60+Tavush!G60+Gegharquniq!G60+Syuniq!G60 -> 0 | H60: =Erebuni!H60+Kentron!H60+Ajapnjak!H60+Avan!H60+Arabkir!H60+Shengavit!H60+'Malatia-Sebastia'!H60+Kotayq!H60+Ararat!H60+Armavir!H60+Aragacotn!H60+Shirak!H60+Lori!H60+Tavush!H60+Gegharquniq!H60+Syuniq!H60 -> 0 | I60: =Erebuni!I60+Kentron!I60+Ajapnjak!I60+Avan!I60+Arabkir!I60+Shengavit!I60+'Malatia-Sebastia'!I60+Kotayq!I60+Ararat!I60+Armavir!I60+Aragacotn!I60+Shirak!I60+Lori!I60+Tavush!I60+Gegharquniq!I60+Syuniq!I60 -> 0 | J60: =Erebuni!J60+Kentron!J60+Ajapnjak!J60+Avan!J60+Arabkir!J60+Shengavit!J60+'Malatia-Sebastia'!J60+Kotayq!J60+Ararat!J60+Armavir!J60+Aragacotn!J60+Shirak!J60+Lori!J60+Tavush!J60+Gegharquniq!J60+Syuniq!J60 -> 0 | K60: =Erebuni!K60+Kentron!K60+Ajapnjak!K60+Avan!K60+Arabkir!K60+Shengavit!K60+'Malatia-Sebastia'!K60+Kotayq!K60+Ararat!K60+Armavir!K60+Aragacotn!K60+Shirak!K60+Lori!K60+Tavush!K60+Gegharquniq!K60+Syuniq!K60 -> 0 | L60: =Erebuni!L60+Kentron!L60+Ajapnjak!L60+Avan!L60+Arabkir!L60+Shengavit!L60+'Malatia-Sebastia'!L60+Kotayq!L60+Ararat!L60+Armavir!L60+Aragacotn!L60+Shirak!L60+Lori!L60+Tavush!L60+Gegharquniq!L60+Syuniq!L60 -> 0 | ... U60: =Erebuni!U60+Kentron!U60+Ajapnjak!U60+Avan!U60+Arabkir!U60+Shengavit!U60+'Malatia-Sebastia'!U60+Kotayq!U60+Ararat!U60+Armavir!U60+Aragacotn!U60+Shirak!U60+Lori!U60+Tavush!U60+Gegharquniq!U60+Syuniq!U60 -> 0
B61: 4.10 | C61: ÀÝïñáÕÝ»ñÇ óáõó³ÏÝ»ñÁ Ï³½Ù»Éáõ, ¹ñ³Ýù ù³Õ³ù³óÇÝ»ñÇÝ ¨ Ïáõë³ÏóáõÃÛáõÝÝ»ñÇÝ ïñ³Ù³¹ñ»Éáõ Ï³Ù Ññ³å³ñ³Ï»Éáõ Ï³ñ·Á Ë³Ëï»ÉÁ | D61: 152 | E61: =Erebuni!E61+Kentron!E61+Ajapnjak!E61+Avan!E61+Arabkir!E61+Shengavit!E61+'Malatia-Sebastia'!E61+Kotayq!E61+Ararat!E61+Armavir!E61+Aragacotn!E61+Shirak!E61+Lori!E61+Tavush!E61+Gegharquniq!E61+Syuniq!E61 -> 0 | F61: =Erebuni!F61+Kentron!F61+Ajapnjak!F61+Avan!F61+Arabkir!F61+Shengavit!F61+'Malatia-Sebastia'!F61+Kotayq!F61+Ararat!F61+Armavir!F61+Aragacotn!F61+Shirak!F61+Lori!F61+Tavush!F61+Gegharquniq!F61+Syuniq!F61 -> 0 | G61: =Erebuni!G61+Kentron!G61+Ajapnjak!G61+Avan!G61+Arabkir!G61+Shengavit!G61+'Malatia-Sebastia'!G61+Kotayq!G61+Ararat!G61+Armavir!G61+Aragacotn!G61+Shirak!G61+Lori!G61+Tavush!G61+Gegharquniq!G61+Syuniq!G61 -> 0 | H61: =Erebuni!H61+Kentron!H61+Ajapnjak!H61+Avan!H61+Arabkir!H61+Shengavit!H61+'Malatia-Sebastia'!H61+Kotayq!H61+Ararat!H61+Armavir!H61+Aragacotn!H61+Shirak!H61+Lori!H61+Tavush!H61+Gegharquniq!H61+Syuniq!H61 -> 0 | I61: =Erebuni!I61+Kentron!I61+Ajapnjak!I61+Avan!I61+Arabkir!I61+Shengavit!I61+'Malatia-Sebastia'!I61+Kotayq!I61+Ararat!I61+Armavir!I61+Aragacotn!I61+Shirak!I61+Lori!I61+Tavush!I61+Gegharquniq!I61+Syuniq!I61 -> 0 | J61: =Erebuni!J61+Kentron!J61+Ajapnjak!J61+Avan!J61+Arabkir!J61+Shengavit!J61+'Malatia-Sebastia'!J61+Kotayq!J61+Ararat!J61+Armavir!J61+Aragacotn!J61+Shirak!J61+Lori!J61+Tavush!J61+Gegharquniq!J61+Syuniq!J61 -> 0 | K61: =Erebuni!K61+Kentron!K61+Ajapnjak!K61+Avan!K61+Arabkir!K61+Shengavit!K61+'Malatia-Sebastia'!K61+Kotayq!K61+Ararat!K61+Armavir!K61+Aragacotn!K61+Shirak!K61+Lori!K61+Tavush!K61+Gegharquniq!K61+Syuniq!K61 -> 0 | L61: =Erebuni!L61+Kentron!L61+Ajapnjak!L61+Avan!L61+Arabkir!L61+Shengavit!L61+'Malatia-Sebastia'!L61+Kotayq!L61+Ararat!L61+Armavir!L61+Aragacotn!L61+Shirak!L61+Lori!L61+Tavush!L61+Gegharquniq!L61+Syuniq!L61 -> 0 | ... U61: =Erebuni!U61+Kentron!U61+Ajapnjak!U61+Avan!U61+Arabkir!U61+Shengavit!U61+'Malatia-Sebastia'!U61+Kotayq!U61+Ararat!U61+Armavir!U61+Aragacotn!U61+Shirak!U61+Lori!U61+Tavush!U61+Gegharquniq!U61+Syuniq!U61 -> 0
A62: 0 | B62: 4.11 | C62: Ø»ÏÇó ³í»ÉÇ ³Ý·³Ù Ï³Ù ³ÛÉ ³ÝÓÇ ÷áË³ñ»Ý ùí»³ñÏ»ÉÁ | D62: 153 | E62: =Erebuni!E62+Kentron!E62+Ajapnjak!E62+Avan!E62+Arabkir!E62+Shengavit!E62+'Malatia-Sebastia'!E62+Kotayq!E62+Ararat!E62+Armavir!E62+Aragacotn!E62+Shirak!E62+Lori!E62+Tavush!E62+Gegharquniq!E62+Syuniq!E62 -> 0 | F62: =Erebuni!F62+Kentron!F62+Ajapnjak!F62+Avan!F62+Arabkir!F62+Shengavit!F62+'Malatia-Sebastia'!F62+Kotayq!F62+Ararat!F62+Armavir!F62+Aragacotn!F62+Shirak!F62+Lori!F62+Tavush!F62+Gegharquniq!F62+Syuniq!F62 -> 0 | G62: =Erebuni!G62+Kentron!G62+Ajapnjak!G62+Avan!G62+Arabkir!G62+Shengavit!G62+'Malatia-Sebastia'!G62+Kotayq!G62+Ararat!G62+Armavir!G62+Aragacotn!G62+Shirak!G62+Lori!G62+Tavush!G62+Gegharquniq!G62+Syuniq!G62 -> 0 | H62: =Erebuni!H62+Kentron!H62+Ajapnjak!H62+Avan!H62+Arabkir!H62+Shengavit!H62+'Malatia-Sebastia'!H62+Kotayq!H62+Ararat!H62+Armavir!H62+Aragacotn!H62+Shirak!H62+Lori!H62+Tavush!H62+Gegharquniq!H62+Syuniq!H62 -> 0 | I62: =Erebuni!I62+Kentron!I62+Ajapnjak!I62+Avan!I62+Arabkir!I62+Shengavit!I62+'Malatia-Sebastia'!I62+Kotayq!I62+Ararat!I62+Armavir!I62+Aragacotn!I62+Shirak!I62+Lori!I62+Tavush!I62+Gegharquniq!I62+Syuniq!I62 -> 0 | J62: =Erebuni!J62+Kentron!J62+Ajapnjak!J62+Avan!J62+Arabkir!J62+Shengavit!J62+'Malatia-Sebastia'!J62+Kotayq!J62+Ararat!J62+Armavir!J62+Aragacotn!J62+Shirak!J62+Lori!J62+Tavush!J62+Gegharquniq!J62+Syuniq!J62 -> 0 | K62: =Erebuni!K62+Kentron!K62+Ajapnjak!K62+Avan!K62+Arabkir!K62+Shengavit!K62+'Malatia-Sebastia'!K62+Kotayq!K62+Ararat!K62+Armavir!K62+Aragacotn!K62+Shirak!K62+Lori!K62+Tavush!K62+Gegharquniq!K62+Syuniq!K62 -> 0 | L62: =Erebuni!L62+Kentron!L62+Ajapnjak!L62+Avan!L62+Arabkir!L62+Shengavit!L62+'Malatia-Sebastia'!L62+Kotayq!L62+Ararat!L62+Armavir!L62+Aragacotn!L62+Shirak!L62+Lori!L62+Tavush!L62+Gegharquniq!L62+Syuniq!L62 -> 0 | ... U62: =Erebuni!U62+Kentron!U62+Ajapnjak!U62+Avan!U62+Arabkir!U62+Shengavit!U62+'Malatia-Sebastia'!U62+Kotayq!U62+Ararat!U62+Armavir!U62+Aragacotn!U62+Shirak!U62+Lori!U62+Tavush!U62+Gegharquniq!U62+Syuniq!U62 -> 0
B63: 4.12 | C63: øí»³ñÏáõÃÛ³Ý ·³ÕïÝÇáõÃÛáõÝÁ Ë³Ëï»ÉÁ | D63: 154 | E63: =Erebuni!E63+Kentron!E63+Ajapnjak!E63+Avan!E63+Arabkir!E63+Shengavit!E63+'Malatia-Sebastia'!E63+Kotayq!E63+Ararat!E63+Armavir!E63+Aragacotn!E63+Shirak!E63+Lori!E63+Tavush!E63+Gegharquniq!E63+Syuniq!E63 -> 0 | F63: =Erebuni!F63+Kentron!F63+Ajapnjak!F63+Avan!F63+Arabkir!F63+Shengavit!F63+'Malatia-Sebastia'!F63+Kotayq!F63+Ararat!F63+Armavir!F63+Aragacotn!F63+Shirak!F63+Lori!F63+Tavush!F63+Gegharquniq!F63+Syuniq!F63 -> 0 | G63: =Erebuni!G63+Kentron!G63+Ajapnjak!G63+Avan!G63+Arabkir!G63+Shengavit!G63+'Malatia-Sebastia'!G63+Kotayq!G63+Ararat!G63+Armavir!G63+Aragacotn!G63+Shirak!G63+Lori!G63+Tavush!G63+Gegharquniq!G63+Syuniq!G63 -> 0 | H63: =Erebuni!H63+Kentron!H63+Ajapnjak!H63+Avan!H63+Arabkir!H63+Shengavit!H63+'Malatia-Sebastia'!H63+Kotayq!H63+Ararat!H63+Armavir!H63+Aragacotn!H63+Shirak!H63+Lori!H63+Tavush!H63+Gegharquniq!H63+Syuniq!H63 -> 0 | I63: =Erebuni!I63+Kentron!I63+Ajapnjak!I63+Avan!I63+Arabkir!I63+Shengavit!I63+'Malatia-Sebastia'!I63+Kotayq!I63+Ararat!I63+Armavir!I63+Aragacotn!I63+Shirak!I63+Lori!I63+Tavush!I63+Gegharquniq!I63+Syuniq!I63 -> 0 | J63: =Erebuni!J63+Kentron!J63+Ajapnjak!J63+Avan!J63+Arabkir!J63+Shengavit!J63+'Malatia-Sebastia'!J63+Kotayq!J63+Ararat!J63+Armavir!J63+Aragacotn!J63+Shirak!J63+Lori!J63+Tavush!J63+Gegharquniq!J63+Syuniq!J63 -> 0 | K63: =Erebuni!K63+Kentron!K63+Ajapnjak!K63+Avan!K63+Arabkir!K63+Shengavit!K63+'Malatia-Sebastia'!K63+Kotayq!K63+Ararat!K63+Armavir!K63+Aragacotn!K63+Shirak!K63+Lori!K63+Tavush!K63+Gegharquniq!K63+Syuniq!K63 -> 0 | L63: =Erebuni!L63+Kentron!L63+Ajapnjak!L63+Avan!L63+Arabkir!L63+Shengavit!L63+'Malatia-Sebastia'!L63+Kotayq!L63+Ararat!L63+Armavir!L63+Aragacotn!L63+Shirak!L63+Lori!L63+Tavush!L63+Gegharquniq!L63+Syuniq!L63 -> 0 | ... U63: =Erebuni!U63+Kentron!U63+Ajapnjak!U63+Avan!U63+Arabkir!U63+Shengavit!U63+'Malatia-Sebastia'!U63+Kotayq!U63+Ararat!U63+Armavir!U63+Aragacotn!U63+Shirak!U63+Lori!U63+Tavush!U63+Gegharquniq!U63+Syuniq!U63 -> 0
B64: 4.13 | C64: Î»ÕÍ ÁÝïñ³Ï³Ý ùí»³Ã»ñÃÇÏÝ»ñ Ï³Ù ùí»³ñÏáõÃÛ³Ý Íñ³ñÝ»ñ å³ïñ³ëï»ÉÁ Ï³Ù ³ÏÝÑ³Ûï Ï»ÕÍ ÁÝïñ³Ï³Ý ùí»³Ã»ñÃÇÏÝ»ñ Ï³Ù ùí»³ñÏáõÃÛ³Ý Íñ³ñÝ»ñ Ñ³ÝÓÝ»ÉÁ Ï³Ù Çñ³óÝ»ÉÁ | D64: 154.1 | E64: =Erebuni!E64+Kentron!E64+Ajapnjak!E64+Avan!E64+Arabkir!E64+Shengavit!E64+'Malatia-Sebastia'!E64+Kotayq!E64+Ararat!E64+Armavir!E64+Aragacotn!E64+Shirak!E64+Lori!E64+Tavush!E64+Gegharquniq!E64+Syuniq!E64 -> 0 | F64: =Erebuni!F64+Kentron!F64+Ajapnjak!F64+Avan!F64+Arabkir!F64+Shengavit!F64+'Malatia-Sebastia'!F64+Kotayq!F64+Ararat!F64+Armavir!F64+Aragacotn!F64+Shirak!F64+Lori!F64+Tavush!F64+Gegharquniq!F64+Syuniq!F64 -> 0 | G64: =Erebuni!G64+Kentron!G64+Ajapnjak!G64+Avan!G64+Arabkir!G64+Shengavit!G64+'Malatia-Sebastia'!G64+Kotayq!G64+Ararat!G64+Armavir!G64+Aragacotn!G64+Shirak!G64+Lori!G64+Tavush!G64+Gegharquniq!G64+Syuniq!G64 -> 0 | H64: =Erebuni!H64+Kentron!H64+Ajapnjak!H64+Avan!H64+Arabkir!H64+Shengavit!H64+'Malatia-Sebastia'!H64+Kotayq!H64+Ararat!H64+Armavir!H64+Aragacotn!H64+Shirak!H64+Lori!H64+Tavush!H64+Gegharquniq!H64+Syuniq!H64 -> 0 | I64: =Erebuni!I64+Kentron!I64+Ajapnjak!I64+Avan!I64+Arabkir!I64+Shengavit!I64+'Malatia-Sebastia'!I64+Kotayq!I64+Ararat!I64+Armavir!I64+Aragacotn!I64+Shirak!I64+Lori!I64+Tavush!I64+Gegharquniq!I64+Syuniq!I64 -> 0 | J64: =Erebuni!J64+Kentron!J64+Ajapnjak!J64+Avan!J64+Arabkir!J64+Shengavit!J64+'Malatia-Sebastia'!J64+Kotayq!J64+Ararat!J64+Armavir!J64+Aragacotn!J64+Shirak!J64+Lori!J64+Tavush!J64+Gegharquniq!J64+Syuniq!J64 -> 0 | K64: =Erebuni!K64+Kentron!K64+Ajapnjak!K64+Avan!K64+Arabkir!K64+Shengavit!K64+'Malatia-Sebastia'!K64+Kotayq!K64+Ararat!K64+Armavir!K64+Aragacotn!K64+Shirak!K64+Lori!K64+Tavush!K64+Gegharquniq!K64+Syuniq!K64 -> 0 | L64: =Erebuni!L64+Kentron!L64+Ajapnjak!L64+Avan!L64+Arabkir!L64+Shengavit!L64+'Malatia-Sebastia'!L64+Kotayq!L64+Ararat!L64+Armavir!L64+Aragacotn!L64+Shirak!L64+Lori!L64+Tavush!L64+Gegharquniq!L64+Syuniq!L64 -> 0 | ... U64: =Erebuni!U64+Kentron!U64+Ajapnjak!U64+Avan!U64+Arabkir!U64+Shengavit!U64+'Malatia-Sebastia'!U64+Kotayq!U64+Ararat!U64+Armavir!U64+Aragacotn!U64+Shirak!U64+Lori!U64+Tavush!U64+Gegharquniq!U64+Syuniq!U64 -> 0
B65: 4.14 | C65: ÀÝïñáÕÇ Ï³ÙùÇ ³½³ï Çñ³Ï³Ý³óÙ³ÝÁ ËáãÁÝ¹áï»ÉÁ | D65: 154.2 | E65: =Erebuni!E65+Kentron!E65+Ajapnjak!E65+Avan!E65+Arabkir!E65+Shengavit!E65+'Malatia-Sebastia'!E65+Kotayq!E65+Ararat!E65+Armavir!E65+Aragacotn!E65+Shirak!E65+Lori!E65+Tavush!E65+Gegharquniq!E65+Syuniq!E65 -> 0 | F65: =Erebuni!F65+Kentron!F65+Ajapnjak!F65+Avan!F65+Arabkir!F65+Shengavit!F65+'Malatia-Sebastia'!F65+Kotayq!F65+Ararat!F65+Armavir!F65+Aragacotn!F65+Shirak!F65+Lori!F65+Tavush!F65+Gegharquniq!F65+Syuniq!F65 -> 0 | G65: =Erebuni!G65+Kentron!G65+Ajapnjak!G65+Avan!G65+Arabkir!G65+Shengavit!G65+'Malatia-Sebastia'!G65+Kotayq!G65+Ararat!G65+Armavir!G65+Aragacotn!G65+Shirak!G65+Lori!G65+Tavush!G65+Gegharquniq!G65+Syuniq!G65 -> 0 | H65: =Erebuni!H65+Kentron!H65+Ajapnjak!H65+Avan!H65+Arabkir!H65+Shengavit!H65+'Malatia-Sebastia'!H65+Kotayq!H65+Ararat!H65+Armavir!H65+Aragacotn!H65+Shirak!H65+Lori!H65+Tavush!H65+Gegharquniq!H65+Syuniq!H65 -> 0 | I65: =Erebuni!I65+Kentron!I65+Ajapnjak!I65+Avan!I65+Arabkir!I65+Shengavit!I65+'Malatia-Sebastia'!I65+Kotayq!I65+Ararat!I65+Armavir!I65+Aragacotn!I65+Shirak!I65+Lori!I65+Tavush!I65+Gegharquniq!I65+Syuniq!I65 -> 0 | J65: =Erebuni!J65+Kentron!J65+Ajapnjak!J65+Avan!J65+Arabkir!J65+Shengavit!J65+'Malatia-Sebastia'!J65+Kotayq!J65+Ararat!J65+Armavir!J65+Aragacotn!J65+Shirak!J65+Lori!J65+Tavush!J65+Gegharquniq!J65+Syuniq!J65 -> 0 | K65: =Erebuni!K65+Kentron!K65+Ajapnjak!K65+Avan!K65+Arabkir!K65+Shengavit!K65+'Malatia-Sebastia'!K65+Kotayq!K65+Ararat!K65+Armavir!K65+Aragacotn!K65+Shirak!K65+Lori!K65+Tavush!K65+Gegharquniq!K65+Syuniq!K65 -> 0 | L65: =Erebuni!L65+Kentron!L65+Ajapnjak!L65+Avan!L65+Arabkir!L65+Shengavit!L65+'Malatia-Sebastia'!L65+Kotayq!L65+Ararat!L65+Armavir!L65+Aragacotn!L65+Shirak!L65+Lori!L65+Tavush!L65+Gegharquniq!L65+Syuniq!L65 -> 0 | ... U65: =Erebuni!U65+Kentron!U65+Ajapnjak!U65+Avan!U65+Arabkir!U65+Shengavit!U65+'Malatia-Sebastia'!U65+Kotayq!U65+Ararat!U65+Armavir!U65+Aragacotn!U65+Shirak!U65+Lori!U65+Tavush!U65+Gegharquniq!U65+Syuniq!U65 -> 0
B66: 4.15 | C66: ÀÝïñ³Ï³Ý Ñ³ÝÓÝ³ÅáÕáíÇ ÏÝÇùÁ ãí»ñ³¹³ñÓÝ»ÉÁ, ÏÝÇùÇ å³Ñå³ÝÙ³Ý ë³ÑÙ³Ýí³Í Ï³ñ·Á Ë³Ëï»ÉÁ | D66: 154.3 | E66: =Erebuni!E66+Kentron!E66+Ajapnjak!E66+Avan!E66+Arabkir!E66+Shengavit!E66+'Malatia-Sebastia'!E66+Kotayq!E66+Ararat!E66+Armavir!E66+Aragacotn!E66+Shirak!E66+Lori!E66+Tavush!E66+Gegharquniq!E66+Syuniq!E66 -> 0 | F66: =Erebuni!F66+Kentron!F66+Ajapnjak!F66+Avan!F66+Arabkir!F66+Shengavit!F66+'Malatia-Sebastia'!F66+Kotayq!F66+Ararat!F66+Armavir!F66+Aragacotn!F66+Shirak!F66+Lori!F66+Tavush!F66+Gegharquniq!F66+Syuniq!F66 -> 0 | G66: =Erebuni!G66+Kentron!G66+Ajapnjak!G66+Avan!G66+Arabkir!G66+Shengavit!G66+'Malatia-Sebastia'!G66+Kotayq!G66+Ararat!G66+Armavir!G66+Aragacotn!G66+Shirak!G66+Lori!G66+Tavush!G66+Gegharquniq!G66+Syuniq!G66 -> 0 | H66: =Erebuni!H66+Kentron!H66+Ajapnjak!H66+Avan!H66+Arabkir!H66+Shengavit!H66+'Malatia-Sebastia'!H66+Kotayq!H66+Ararat!H66+Armavir!H66+Aragacotn!H66+Shirak!H66+Lori!H66+Tavush!H66+Gegharquniq!H66+Syuniq!H66 -> 0 | I66: =Erebuni!I66+Kentron!I66+Ajapnjak!I66+Avan!I66+Arabkir!I66+Shengavit!I66+'Malatia-Sebastia'!I66+Kotayq!I66+Ararat!I66+Armavir!I66+Aragacotn!I66+Shirak!I66+Lori!I66+Tavush!I66+Gegharquniq!I66+Syuniq!I66 -> 0 | J66: =Erebuni!J66+Kentron!J66+Ajapnjak!J66+Avan!J66+Arabkir!J66+Shengavit!J66+'Malatia-Sebastia'!J66+Kotayq!J66+Ararat!J66+Armavir!J66+Aragacotn!J66+Shirak!J66+Lori!J66+Tavush!J66+Gegharquniq!J66+Syuniq!J66 -> 0 | K66: =Erebuni!K66+Kentron!K66+Ajapnjak!K66+Avan!K66+Arabkir!K66+Shengavit!K66+'Malatia-Sebastia'!K66+Kotayq!K66+Ararat!K66+Armavir!K66+Aragacotn!K66+Shirak!K66+Lori!K66+Tavush!K66+Gegharquniq!K66+Syuniq!K66 -> 0 | L66: =Erebuni!L66+Kentron!L66+Ajapnjak!L66+Avan!L66+Arabkir!L66+Shengavit!L66+'Malatia-Sebastia'!L66+Kotayq!L66+Ararat!L66+Armavir!L66+Aragacotn!L66+Shirak!L66+Lori!L66+Tavush!L66+Gegharquniq!L66+Syuniq!L66 -> 0 | ... U66: =Erebuni!U66+Kentron!U66+Ajapnjak!U66+Avan!U66+Arabkir!U66+Shengavit!U66+'Malatia-Sebastia'!U66+Kotayq!U66+Ararat!U66+Armavir!U66+Aragacotn!U66+Shirak!U66+Lori!U66+Tavush!U66+Gegharquniq!U66+Syuniq!U66 -> 0
B67: 4.16 | C67: ¼»Ýùáíª ï»Õ³Ù³ë³ÛÇÝ Ï»ÝïñáÝ Ùáõïù ·áñÍ»ÉÁ | D67: 154.4 | E67: =Erebuni!E67+Kentron!E67+Ajapnjak!E67+Avan!E67+Arabkir!E67+Shengavit!E67+'Malatia-Sebastia'!E67+Kotayq!E67+Ararat!E67+Armavir!E67+Aragacotn!E67+Shirak!E67+Lori!E67+Tavush!E67+Gegharquniq!E67+Syuniq!E67 -> 0 | F67: =Erebuni!F67+Kentron!F67+Ajapnjak!F67+Avan!F67+Arabkir!F67+Shengavit!F67+'Malatia-Sebastia'!F67+Kotayq!F67+Ararat!F67+Armavir!F67+Aragacotn!F67+Shirak!F67+Lori!F67+Tavush!F67+Gegharquniq!F67+Syuniq!F67 -> 0 | G67: =Erebuni!G67+Kentron!G67+Ajapnjak!G67+Avan!G67+Arabkir!G67+Shengavit!G67+'Malatia-Sebastia'!G67+Kotayq!G67+Ararat!G67+Armavir!G67+Aragacotn!G67+Shirak!G67+Lori!G67+Tavush!G67+Gegharquniq!G67+Syuniq!G67 -> 0 | H67: =Erebuni!H67+Kentron!H67+Ajapnjak!H67+Avan!H67+Arabkir!H67+Shengavit!H67+'Malatia-Sebastia'!H67+Kotayq!H67+Ararat!H67+Armavir!H67+Aragacotn!H67+Shirak!H67+Lori!H67+Tavush!H67+Gegharquniq!H67+Syuniq!H67 -> 0 | I67: =Erebuni!I67+Kentron!I67+Ajapnjak!I67+Avan!I67+Arabkir!I67+Shengavit!I67+'Malatia-Sebastia'!I67+Kotayq!I67+Ararat!I67+Armavir!I67+Aragacotn!I67+Shirak!I67+Lori!I67+Tavush!I67+Gegharquniq!I67+Syuniq!I67 -> 0 | J67: =Erebuni!J67+Kentron!J67+Ajapnjak!J67+Avan!J67+Arabkir!J67+Shengavit!J67+'Malatia-Sebastia'!J67+Kotayq!J67+Ararat!J67+Armavir!J67+Aragacotn!J67+Shirak!J67+Lori!J67+Tavush!J67+Gegharquniq!J67+Syuniq!J67 -> 0 | K67: =Erebuni!K67+Kentron!K67+Ajapnjak!K67+Avan!K67+Arabkir!K67+Shengavit!K67+'Malatia-Sebastia'!K67+Kotayq!K67+Ararat!K67+Armavir!K67+Aragacotn!K67+Shirak!K67+Lori!K67+Tavush!K67+Gegharquniq!K67+Syuniq!K67 -> 0 | L67: =Erebuni!L67+Kentron!L67+Ajapnjak!L67+Avan!L67+Arabkir!L67+Shengavit!L67+'Malatia-Sebastia'!L67+Kotayq!L67+Ararat!L67+Armavir!L67+Aragacotn!L67+Shirak!L67+Lori!L67+Tavush!L67+Gegharquniq!L67+Syuniq!L67 -> 0 | ... U67: =Erebuni!U67+Kentron!U67+Ajapnjak!U67+Avan!U67+Arabkir!U67+Shengavit!U67+'Malatia-Sebastia'!U67+Kotayq!U67+Ararat!U67+Armavir!U67+Aragacotn!U67+Shirak!U67+Lori!U67+Tavush!U67+Gegharquniq!U67+Syuniq!U67 -> 0
B68: 4.17 | C68: ìëï³Ñí³Í ³ÝÓÇÝ,ÁÝïñ³Ï³Ý Ñ³ÝÓÝ³ÅáÕáíÇ ³Ý¹³ÙÇÝ,¹Çïáñ¹ÇÝ Ï³Ù ½³Ý·í³Í³ÛÇÝ Éñ³ïíáõÃÛ³Ý ÙÇçáóÇ Ý»ñÏ³Û³óáõóãÇÝ ÁÝïñ³Ï³Ý ÷³ëï³ÃÕÃ»ñÇÝ Í³ÝáÃ³Ý³ÉáõÝ ËáãÁÝ¹áï»ÉÁ, ÁÝïñ³Ï³Ý Ñ³ÝÓÝ³ÅáÕáíÇ ³ñÓ³Ý³·ñáõÃÛáõÝÝ»ñÇ å³ï×»ÝÝ»ñ ãï³ÉÁ | D68: 154.5 | E68: =Erebuni!E68+Kentron!E68+Ajapnjak!E68+Avan!E68+Arabkir!E68+Shengavit!E68+'Malatia-Sebastia'!E68+Kotayq!E68+Ararat!E68+Armavir!E68+Aragacotn!E68+Shirak!E68+Lori!E68+Tavush!E68+Gegharquniq!E68+Syuniq!E68 -> 0 | F68: =Erebuni!F68+Kentron!F68+Ajapnjak!F68+Avan!F68+Arabkir!F68+Shengavit!F68+'Malatia-Sebastia'!F68+Kotayq!F68+Ararat!F68+Armavir!F68+Aragacotn!F68+Shirak!F68+Lori!F68+Tavush!F68+Gegharquniq!F68+Syuniq!F68 -> 0 | G68: =Erebuni!G68+Kentron!G68+Ajapnjak!G68+Avan!G68+Arabkir!G68+Shengavit!G68+'Malatia-Sebastia'!G68+Kotayq!G68+Ararat!G68+Armavir!G68+Aragacotn!G68+Shirak!G68+Lori!G68+Tavush!G68+Gegharquniq!G68+Syuniq!G68 -> 0 | H68: =Erebuni!H68+Kentron!H68+Ajapnjak!H68+Avan!H68+Arabkir!H68+Shengavit!H68+'Malatia-Sebastia'!H68+Kotayq!H68+Ararat!H68+Armavir!H68+Aragacotn!H68+Shirak!H68+Lori!H68+Tavush!H68+Gegharquniq!H68+Syuniq!H68 -> 0 | I68: =Erebuni!I68+Kentron!I68+Ajapnjak!I68+Avan!I68+Arabkir!I68+Shengavit!I68+'Malatia-Sebastia'!I68+Kotayq!I68+Ararat!I68+Armavir!I68+Aragacotn!I68+Shirak!I68+Lori!I68+Tavush!I68+Gegharquniq!I68+Syuniq!I68 -> 0 | J68: =Erebuni!J68+Kentron!J68+Ajapnjak!J68+Avan!J68+Arabkir!J68+Shengavit!J68+'Malatia-Sebastia'!J68+Kotayq!J68+Ararat!J68+Armavir!J68+Aragacotn!J68+Shirak!J68+Lori!J68+Tavush!J68+Gegharquniq!J68+Syuniq!J68 -> 0 | K68: =Erebuni!K68+Kentron!K68+Ajapnjak!K68+Avan!K68+Arabkir!K68+Shengavit!K68+'Malatia-Sebastia'!K68+Kotayq!K68+Ararat!K68+Armavir!K68+Aragacotn!K68+Shirak!K68+Lori!K68+Tavush!K68+Gegharquniq!K68+Syuniq!K68 -> 0 | L68: =Erebuni!L68+Kentron!L68+Ajapnjak!L68+Avan!L68+Arabkir!L68+Shengavit!L68+'Malatia-Sebastia'!L68+Kotayq!L68+Ararat!L68+Armavir!L68+Aragacotn!L68+Shirak!L68+Lori!L68+Tavush!L68+Gegharquniq!L68+Syuniq!L68 -> 0 | ... U68: =Erebuni!U68+Kentron!U68+Ajapnjak!U68+Avan!U68+Arabkir!U68+Shengavit!U68+'Malatia-Sebastia'!U68+Kotayq!U68+Ararat!U68+Armavir!U68+Aragacotn!U68+Shirak!U68+Lori!U68+Tavush!U68+Gegharquniq!U68+Syuniq!U68 -> 0
B69: 4.18 | C69: ¶áñÍ³¹áõÉÇ Ù³ëÝ³Ïó»ÉáõÝ Ï³Ù ·áñÍ³¹áõÉÇ Ù³ëÝ³Ïó»Éáõó Ññ³Å³ñí»ÉáõÝ Ñ³ñÏ³¹ñ»ÉÁ | D69: 155 | E69: =Erebuni!E69+Kentron!E69+Ajapnjak!E69+Avan!E69+Arabkir!E69+Shengavit!E69+'Malatia-Sebastia'!E69+Kotayq!E69+Ararat!E69+Armavir!E69+Aragacotn!E69+Shirak!E69+Lori!E69+Tavush!E69+Gegharquniq!E69+Syuniq!E69 -> 0 | F69: =Erebuni!F69+Kentron!F69+Ajapnjak!F69+Avan!F69+Arabkir!F69+Shengavit!F69+'Malatia-Sebastia'!F69+Kotayq!F69+Ararat!F69+Armavir!F69+Aragacotn!F69+Shirak!F69+Lori!F69+Tavush!F69+Gegharquniq!F69+Syuniq!F69 -> 0 | G69: =Erebuni!G69+Kentron!G69+Ajapnjak!G69+Avan!G69+Arabkir!G69+Shengavit!G69+'Malatia-Sebastia'!G69+Kotayq!G69+Ararat!G69+Armavir!G69+Aragacotn!G69+Shirak!G69+Lori!G69+Tavush!G69+Gegharquniq!G69+Syuniq!G69 -> 0 | H69: =Erebuni!H69+Kentron!H69+Ajapnjak!H69+Avan!H69+Arabkir!H69+Shengavit!H69+'Malatia-Sebastia'!H69+Kotayq!H69+Ararat!H69+Armavir!H69+Aragacotn!H69+Shirak!H69+Lori!H69+Tavush!H69+Gegharquniq!H69+Syuniq!H69 -> 0 | I69: =Erebuni!I69+Kentron!I69+Ajapnjak!I69+Avan!I69+Arabkir!I69+Shengavit!I69+'Malatia-Sebastia'!I69+Kotayq!I69+Ararat!I69+Armavir!I69+Aragacotn!I69+Shirak!I69+Lori!I69+Tavush!I69+Gegharquniq!I69+Syuniq!I69 -> 0 | J69: =Erebuni!J69+Kentron!J69+Ajapnjak!J69+Avan!J69+Arabkir!J69+Shengavit!J69+'Malatia-Sebastia'!J69+Kotayq!J69+Ararat!J69+Armavir!J69+Aragacotn!J69+Shirak!J69+Lori!J69+Tavush!J69+Gegharquniq!J69+Syuniq!J69 -> 0 | K69: =Erebuni!K69+Kentron!K69+Ajapnjak!K69+Avan!K69+Arabkir!K69+Shengavit!K69+'Malatia-Sebastia'!K69+Kotayq!K69+Ararat!K69+Armavir!K69+Aragacotn!K69+Shirak!K69+Lori!K69+Tavush!K69+Gegharquniq!K69+Syuniq!K69 -> 0 | L69: =Erebuni!L69+Kentron!L69+Ajapnjak!L69+Avan!L69+Arabkir!L69+Shengavit!L69+'Malatia-Sebastia'!L69+Kotayq!L69+Ararat!L69+Armavir!L69+Aragacotn!L69+Shirak!L69+Lori!L69+Tavush!L69+Gegharquniq!L69+Syuniq!L69 -> 0 | ... U69: =Erebuni!U69+Kentron!U69+Ajapnjak!U69+Avan!U69+Arabkir!U69+Shengavit!U69+'Malatia-Sebastia'!U69+Kotayq!U69+Ararat!U69+Armavir!U69+Aragacotn!U69+Shirak!U69+Lori!U69+Tavush!U69+Gegharquniq!U69+Syuniq!U69 -> 0
B70: 4.19 | C70: ÐÕÇ ÏÝáçÁ Ï³Ù ÙÇÝã¨ »ñ»ù ï³ñ»Ï³Ý »ñ»Ë³ áõÝ»óáÕ ³ÝÓÇÝ ³ßË³ï³ÝùÇ ÁÝ¹áõÝ»Éáõõó Ññ³Å³ñí»ÉÁ Ï³Ù ³ßË³ï³ÝùÇó ³ÝÑÇÙÝ ³½³ï»ÉÁ | D70: 156 | E70: =Erebuni!E70+Kentron!E70+Ajapnjak!E70+Avan!E70+Arabkir!E70+Shengavit!E70+'Malatia-Sebastia'!E70+Kotayq!E70+Ararat!E70+Armavir!E70+Aragacotn!E70+Shirak!E70+Lori!E70+Tavush!E70+Gegharquniq!E70+Syuniq!E70 -> 0 | F70: =Erebuni!F70+Kentron!F70+Ajapnjak!F70+Avan!F70+Arabkir!F70+Shengavit!F70+'Malatia-Sebastia'!F70+Kotayq!F70+Ararat!F70+Armavir!F70+Aragacotn!F70+Shirak!F70+Lori!F70+Tavush!F70+Gegharquniq!F70+Syuniq!F70 -> 0 | G70: =Erebuni!G70+Kentron!G70+Ajapnjak!G70+Avan!G70+Arabkir!G70+Shengavit!G70+'Malatia-Sebastia'!G70+Kotayq!G70+Ararat!G70+Armavir!G70+Aragacotn!G70+Shirak!G70+Lori!G70+Tavush!G70+Gegharquniq!G70+Syuniq!G70 -> 0 | H70: =Erebuni!H70+Kentron!H70+Ajapnjak!H70+Avan!H70+Arabkir!H70+Shengavit!H70+'Malatia-Sebastia'!H70+Kotayq!H70+Ararat!H70+Armavir!H70+Aragacotn!H70+Shirak!H70+Lori!H70+Tavush!H70+Gegharquniq!H70+Syuniq!H70 -> 0 | I70: =Erebuni!I70+Kentron!I70+Ajapnjak!I70+Avan!I70+Arabkir!I70+Shengavit!I70+'Malatia-Sebastia'!I70+Kotayq!I70+Ararat!I70+Armavir!I70+Aragacotn!I70+Shirak!I70+Lori!I70+Tavush!I70+Gegharquniq!I70+Syuniq!I70 -> 0 | J70: =Erebuni!J70+Kentron!J70+Ajapnjak!J70+Avan!J70+Arabkir!J70+Shengavit!J70+'Malatia-Sebastia'!J70+Kotayq!J70+Ararat!J70+Armavir!J70+Aragacotn!J70+Shirak!J70+Lori!J70+Tavush!J70+Gegharquniq!J70+Syuniq!J70 -> 0 | K70: =Erebuni!K70+Kentron!K70+Ajapnjak!K70+Avan!K70+Arabkir!K70+Shengavit!K70+'Malatia-Sebastia'!K70+Kotayq!K70+Ararat!K70+Armavir!K70+Aragacotn!K70+Shirak!K70+Lori!K70+Tavush!K70+Gegharquniq!K70+Syuniq!K70 -> 0 | L70: =Erebuni!L70+Kentron!L70+Ajapnjak!L70+Avan!L70+Arabkir!L70+Shengavit!L70+'Malatia-Sebastia'!L70+Kotayq!L70+Ararat!L70+Armavir!L70+Aragacotn!L70+Shirak!L70+Lori!L70+Tavush!L70+Gegharquniq!L70+Syuniq!L70 -> 0 | ... U70: =Erebuni!U70+Kentron!U70+Ajapnjak!U70+Avan!U70+Arabkir!U70+Shengavit!U70+'Malatia-Sebastia'!U70+Kotayq!U70+Ararat!U70+Armavir!U70+Aragacotn!U70+Shirak!U70+Lori!U70+Tavush!U70+Gegharquniq!U70+Syuniq!U70 -> 0
B71: 4.20 | C71: ²ßË³ï³ÝùÇ å³ßïå³ÝáõÃÛ³Ý Ï³ÝáÝÝ»ñÁ Ë³Ëï»ÉÁ | D71: 157 | E71: =Erebuni!E71+Kentron!E71+Ajapnjak!E71+Avan!E71+Arabkir!E71+Shengavit!E71+'Malatia-Sebastia'!E71+Kotayq!E71+Ararat!E71+Armavir!E71+Aragacotn!E71+Shirak!E71+Lori!E71+Tavush!E71+Gegharquniq!E71+Syuniq!E71 -> 2 | F71: =Erebuni!F71+Kentron!F71+Ajapnjak!F71+Avan!F71+Arabkir!F71+Shengavit!F71+'Malatia-Sebastia'!F71+Kotayq!F71+Ararat!F71+Armavir!F71+Aragacotn!F71+Shirak!F71+Lori!F71+Tavush!F71+Gegharquniq!F71+Syuniq!F71 -> 0 | G71: =Erebuni!G71+Kentron!G71+Ajapnjak!G71+Avan!G71+Arabkir!G71+Shengavit!G71+'Malatia-Sebastia'!G71+Kotayq!G71+Ararat!G71+Armavir!G71+Aragacotn!G71+Shirak!G71+Lori!G71+Tavush!G71+Gegharquniq!G71+Syuniq!G71 -> 10 | H71: =Erebuni!H71+Kentron!H71+Ajapnjak!H71+Avan!H71+Arabkir!H71+Shengavit!H71+'Malatia-Sebastia'!H71+Kotayq!H71+Ararat!H71+Armavir!H71+Aragacotn!H71+Shirak!H71+Lori!H71+Tavush!H71+Gegharquniq!H71+Syuniq!H71 -> 7 | I71: =Erebuni!I71+Kentron!I71+Ajapnjak!I71+Avan!I71+Arabkir!I71+Shengavit!I71+'Malatia-Sebastia'!I71+Kotayq!I71+Ararat!I71+Armavir!I71+Aragacotn!I71+Shirak!I71+Lori!I71+Tavush!I71+Gegharquniq!I71+Syuniq!I71 -> 0 | J71: =Erebuni!J71+Kentron!J71+Ajapnjak!J71+Avan!J71+Arabkir!J71+Shengavit!J71+'Malatia-Sebastia'!J71+Kotayq!J71+Ararat!J71+Armavir!J71+Aragacotn!J71+Shirak!J71+Lori!J71+Tavush!J71+Gegharquniq!J71+Syuniq!J71 -> 0 | K71: =Erebuni!K71+Kentron!K71+Ajapnjak!K71+Avan!K71+Arabkir!K71+Shengavit!K71+'Malatia-Sebastia'!K71+Kotayq!K71+Ararat!K71+Armavir!K71+Aragacotn!K71+Shirak!K71+Lori!K71+Tavush!K71+Gegharquniq!K71+Syuniq!K71 -> 7 | L71: =Erebuni!L71+Kentron!L71+Ajapnjak!L71+Avan!L71+Arabkir!L71+Shengavit!L71+'Malatia-Sebastia'!L71+Kotayq!L71+Ararat!L71+Armavir!L71+Aragacotn!L71+Shirak!L71+Lori!L71+Tavush!L71+Gegharquniq!L71+Syuniq!L71 -> 0 | ... U71: =Erebuni!U71+Kentron!U71+Ajapnjak!U71+Avan!U71+Arabkir!U71+Shengavit!U71+'Malatia-Sebastia'!U71+Kotayq!U71+Ararat!U71+Armavir!U71+Aragacotn!U71+Shirak!U71+Lori!U71+Tavush!U71+Gegharquniq!U71+Syuniq!U71 -> 0
B72: 4.21 | C72: Ð»ÕÇÝ³Ï³ÛÇÝ ¨ Ñ³ñ³ÏÇó Çñ³íáõÝùÝ»ñÁ Ë³Ëï»ÉÁ | D72: 158 | E72: =Erebuni!E72+Kentron!E72+Ajapnjak!E72+Avan!E72+Arabkir!E72+Shengavit!E72+'Malatia-Sebastia'!E72+Kotayq!E72+Ararat!E72+Armavir!E72+Aragacotn!E72+Shirak!E72+Lori!E72+Tavush!E72+Gegharquniq!E72+Syuniq!E72 -> 0 | F72: =Erebuni!F72+Kentron!F72+Ajapnjak!F72+Avan!F72+Arabkir!F72+Shengavit!F72+'Malatia-Sebastia'!F72+Kotayq!F72+Ararat!F72+Armavir!F72+Aragacotn!F72+Shirak!F72+Lori!F72+Tavush!F72+Gegharquniq!F72+Syuniq!F72 -> 0 | G72: =Erebuni!G72+Kentron!G72+Ajapnjak!G72+Avan!G72+Arabkir!G72+Shengavit!G72+'Malatia-Sebastia'!G72+Kotayq!G72+Ararat!G72+Armavir!G72+Aragacotn!G72+Shirak!G72+Lori!G72+Tavush!G72+Gegharquniq!G72+Syuniq!G72 -> 0 | H72: =Erebuni!H72+Kentron!H72+Ajapnjak!H72+Avan!H72+Arabkir!H72+Shengavit!H72+'Malatia-Sebastia'!H72+Kotayq!H72+Ararat!H72+Armavir!H72+Aragacotn!H72+Shirak!H72+Lori!H72+Tavush!H72+Gegharquniq!H72+Syuniq!H72 -> 0 | I72: =Erebuni!I72+Kentron!I72+Ajapnjak!I72+Avan!I72+Arabkir!I72+Shengavit!I72+'Malatia-Sebastia'!I72+Kotayq!I72+Ararat!I72+Armavir!I72+Aragacotn!I72+Shirak!I72+Lori!I72+Tavush!I72+Gegharquniq!I72+Syuniq!I72 -> 0 | J72: =Erebuni!J72+Kentron!J72+Ajapnjak!J72+Avan!J72+Arabkir!J72+Shengavit!J72+'Malatia-Sebastia'!J72+Kotayq!J72+Ararat!J72+Armavir!J72+Aragacotn!J72+Shirak!J72+Lori!J72+Tavush!J72+Gegharquniq!J72+Syuniq!J72 -> 0 | K72: =Erebuni!K72+Kentron!K72+Ajapnjak!K72+Avan!K72+Arabkir!K72+Shengavit!K72+'Malatia-Sebastia'!K72+Kotayq!K72+Ararat!K72+Armavir!K72+Aragacotn!K72+Shirak!K72+Lori!K72+Tavush!K72+Gegharquniq!K72+Syuniq!K72 -> 0 | L72: =Erebuni!L72+Kentron!L72+Ajapnjak!L72+Avan!L72+Arabkir!L72+Shengavit!L72+'Malatia-Sebastia'!L72+Kotayq!L72+Ararat!L72+Armavir!L72+Aragacotn!L72+Shirak!L72+Lori!L72+Tavush!L72+Gegharquniq!L72+Syuniq!L72 -> 0 | ... U72: =Erebuni!U72+Kentron!U72+Ajapnjak!U72+Avan!U72+Arabkir!U72+Shengavit!U72+'Malatia-Sebastia'!U72+Kotayq!U72+Ararat!U72+Armavir!U72+Aragacotn!U72+Shirak!U72+Lori!U72+Tavush!U72+Gegharquniq!U72+Syuniq!U72 -> 0
B73: 4.22 | C73: ²ñïáÝ³·ñ³ÛÇÝ Çñ³íáõÝùÁ Ë³Ëï»ÉÁ | D73: 159 | E73: =Erebuni!E73+Kentron!E73+Ajapnjak!E73+Avan!E73+Arabkir!E73+Shengavit!E73+'Malatia-Sebastia'!E73+Kotayq!E73+Ararat!E73+Armavir!E73+Aragacotn!E73+Shirak!E73+Lori!E73+Tavush!E73+Gegharquniq!E73+Syuniq!E73 -> 0 | F73: =Erebuni!F73+Kentron!F73+Ajapnjak!F73+Avan!F73+Arabkir!F73+Shengavit!F73+'Malatia-Sebastia'!F73+Kotayq!F73+Ararat!F73+Armavir!F73+Aragacotn!F73+Shirak!F73+Lori!F73+Tavush!F73+Gegharquniq!F73+Syuniq!F73 -> 0 | G73: =Erebuni!G73+Kentron!G73+Ajapnjak!G73+Avan!G73+Arabkir!G73+Shengavit!G73+'Malatia-Sebastia'!G73+Kotayq!G73+Ararat!G73+Armavir!G73+Aragacotn!G73+Shirak!G73+Lori!G73+Tavush!G73+Gegharquniq!G73+Syuniq!G73 -> 0 | H73: =Erebuni!H73+Kentron!H73+Ajapnjak!H73+Avan!H73+Arabkir!H73+Shengavit!H73+'Malatia-Sebastia'!H73+Kotayq!H73+Ararat!H73+Armavir!H73+Aragacotn!H73+Shirak!H73+Lori!H73+Tavush!H73+Gegharquniq!H73+Syuniq!H73 -> 0 | I73: =Erebuni!I73+Kentron!I73+Ajapnjak!I73+Avan!I73+Arabkir!I73+Shengavit!I73+'Malatia-Sebastia'!I73+Kotayq!I73+Ararat!I73+Armavir!I73+Aragacotn!I73+Shirak!I73+Lori!I73+Tavush!I73+Gegharquniq!I73+Syuniq!I73 -> 0 | J73: =Erebuni!J73+Kentron!J73+Ajapnjak!J73+Avan!J73+Arabkir!J73+Shengavit!J73+'Malatia-Sebastia'!J73+Kotayq!J73+Ararat!J73+Armavir!J73+Aragacotn!J73+Shirak!J73+Lori!J73+Tavush!J73+Gegharquniq!J73+Syuniq!J73 -> 0 | K73: =Erebuni!K73+Kentron!K73+Ajapnjak!K73+Avan!K73+Arabkir!K73+Shengavit!K73+'Malatia-Sebastia'!K73+Kotayq!K73+Ararat!K73+Armavir!K73+Aragacotn!K73+Shirak!K73+Lori!K73+Tavush!K73+Gegharquniq!K73+Syuniq!K73 -> 0 | L73: =Erebuni!L73+Kentron!L73+Ajapnjak!L73+Avan!L73+Arabkir!L73+Shengavit!L73+'Malatia-Sebastia'!L73+Kotayq!L73+Ararat!L73+Armavir!L73+Aragacotn!L73+Shirak!L73+Lori!L73+Tavush!L73+Gegharquniq!L73+Syuniq!L73 -> 0 | ... U73: =Erebuni!U73+Kentron!U73+Ajapnjak!U73+Avan!U73+Arabkir!U73+Shengavit!U73+'Malatia-Sebastia'!U73+Kotayq!U73+Ararat!U73+Armavir!U73+Aragacotn!U73+Shirak!U73+Lori!U73+Tavush!U73+Gegharquniq!U73+Syuniq!U73 -> 0
B74: 4.23 | C74: ÊÕ×Ç Ï³Ù ¹³í³Ý³ÝùÇ ³½³ïáõÃÛ³Ý Çñ³íáõÝùÇ Çñ³Ï³Ý³óÙ³ÝÁ ËáãÁÝ¹áï»ÉÁ | D74: 160 | E74: =Erebuni!E74+Kentron!E74+Ajapnjak!E74+Avan!E74+Arabkir!E74+Shengavit!E74+'Malatia-Sebastia'!E74+Kotayq!E74+Ararat!E74+Armavir!E74+Aragacotn!E74+Shirak!E74+Lori!E74+Tavush!E74+Gegharquniq!E74+Syuniq!E74 -> 0 | F74: =Erebuni!F74+Kentron!F74+Ajapnjak!F74+Avan!F74+Arabkir!F74+Shengavit!F74+'Malatia-Sebastia'!F74+Kotayq!F74+Ararat!F74+Armavir!F74+Aragacotn!F74+Shirak!F74+Lori!F74+Tavush!F74+Gegharquniq!F74+Syuniq!F74 -> 0 | G74: =Erebuni!G74+Kentron!G74+Ajapnjak!G74+Avan!G74+Arabkir!G74+Shengavit!G74+'Malatia-Sebastia'!G74+Kotayq!G74+Ararat!G74+Armavir!G74+Aragacotn!G74+Shirak!G74+Lori!G74+Tavush!G74+Gegharquniq!G74+Syuniq!G74 -> 0 | H74: =Erebuni!H74+Kentron!H74+Ajapnjak!H74+Avan!H74+Arabkir!H74+Shengavit!H74+'Malatia-Sebastia'!H74+Kotayq!H74+Ararat!H74+Armavir!H74+Aragacotn!H74+Shirak!H74+Lori!H74+Tavush!H74+Gegharquniq!H74+Syuniq!H74 -> 0 | I74: =Erebuni!I74+Kentron!I74+Ajapnjak!I74+Avan!I74+Arabkir!I74+Shengavit!I74+'Malatia-Sebastia'!I74+Kotayq!I74+Ararat!I74+Armavir!I74+Aragacotn!I74+Shirak!I74+Lori!I74+Tavush!I74+Gegharquniq!I74+Syuniq!I74 -> 0 | J74: =Erebuni!J74+Kentron!J74+Ajapnjak!J74+Avan!J74+Arabkir!J74+Shengavit!J74+'Malatia-Sebastia'!J74+Kotayq!J74+Ararat!J74+Armavir!J74+Aragacotn!J74+Shirak!J74+Lori!J74+Tavush!J74+Gegharquniq!J74+Syuniq!J74 -> 0 | K74: =Erebuni!K74+Kentron!K74+Ajapnjak!K74+Avan!K74+Arabkir!K74+Shengavit!K74+'Malatia-Sebastia'!K74+Kotayq!K74+Ararat!K74+Armavir!K74+Aragacotn!K74+Shirak!K74+Lori!K74+Tavush!K74+Gegharquniq!K74+Syuniq!K74 -> 0 | L74: =Erebuni!L74+Kentron!L74+Ajapnjak!L74+Avan!L74+Arabkir!L74+Shengavit!L74+'Malatia-Sebastia'!L74+Kotayq!L74+Ararat!L74+Armavir!L74+Aragacotn!L74+Shirak!L74+Lori!L74+Tavush!L74+Gegharquniq!L74+Syuniq!L74 -> 0 | ... U74: =Erebuni!U74+Kentron!U74+Ajapnjak!U74+Avan!U74+Arabkir!U74+Shengavit!U74+'Malatia-Sebastia'!U74+Kotayq!U74+Ararat!U74+Armavir!U74+Aragacotn!U74+Shirak!U74+Lori!U74+Tavush!U74+Gegharquniq!U74+Syuniq!U74 -> 0
... B78: 4.27 | C78: Èñ³·ñáÕÇ Ù³ëÝ³·Çï³Ï³Ý ûñÇÝ³Ï³Ý ·áñÍáÕáõÃÛ³ÝÁ ËáãÁÝ¹áï»ÉÁ | D78: 164 | E78: =Erebuni!E78+Kentron!E78+Ajapnjak!E78+Avan!E78+Arabkir!E78+Shengavit!E78+'Malatia-Sebastia'!E78+Kotayq!E78+Ararat!E78+Armavir!E78+Aragacotn!E78+Shirak!E78+Lori!E78+Tavush!E78+Gegharquniq!E78+Syuniq!E78 -> 0 | F78: =Erebuni!F78+Kentron!F78+Ajapnjak!F78+Avan!F78+Arabkir!F78+Shengavit!F78+'Malatia-Sebastia'!F78+Kotayq!F78+Ararat!F78+Armavir!F78+Aragacotn!F78+Shirak!F78+Lori!F78+Tavush!F78+Gegharquniq!F78+Syuniq!F78 -> 0 | G78: =Erebuni!G78+Kentron!G78+Ajapnjak!G78+Avan!G78+Arabkir!G78+Shengavit!G78+'Malatia-Sebastia'!G78+Kotayq!G78+Ararat!G78+Armavir!G78+Aragacotn!G78+Shirak!G78+Lori!G78+Tavush!G78+Gegharquniq!G78+Syuniq!G78 -> 0 | H78: =Erebuni!H78+Kentron!H78+Ajapnjak!H78+Avan!H78+Arabkir!H78+Shengavit!H78+'Malatia-Sebastia'!H78+Kotayq!H78+Ararat!H78+Armavir!H78+Aragacotn!H78+Shirak!H78+Lori!H78+Tavush!H78+Gegharquniq!H78+Syuniq!H78 -> 0 | I78: =Erebuni!I78+Kentron!I78+Ajapnjak!I78+Avan!I78+Arabkir!I78+Shengavit!I78+'Malatia-Sebastia'!I78+Kotayq!I78+Ararat!I78+Armavir!I78+Aragacotn!I78+Shirak!I78+Lori!I78+Tavush!I78+Gegharquniq!I78+Syuniq!I78 -> 0 | J78: =Erebuni!J78+Kentron!J78+Ajapnjak!J78+Avan!J78+Arabkir!J78+Shengavit!J78+'Malatia-Sebastia'!J78+Kotayq!J78+Ararat!J78+Armavir!J78+Aragacotn!J78+Shirak!J78+Lori!J78+Tavush!J78+Gegharquniq!J78+Syuniq!J78 -> 0 | K78: =Erebuni!K78+Kentron!K78+Ajapnjak!K78+Avan!K78+Arabkir!K78+Shengavit!K78+'Malatia-Sebastia'!K78+Kotayq!K78+Ararat!K78+Armavir!K78+Aragacotn!K78+Shirak!K78+Lori!K78+Tavush!K78+Gegharquniq!K78+Syuniq!K78 -> 0 | L78: =Erebuni!L78+Kentron!L78+Ajapnjak!L78+Avan!L78+Arabkir!L78+Shengavit!L78+'Malatia-Sebastia'!L78+Kotayq!L78+Ararat!L78+Armavir!L78+Aragacotn!L78+Shirak!L78+Lori!L78+Tavush!L78+Gegharquniq!L78+Syuniq!L78 -> 0 | ... U78: =Erebuni!U78+Kentron!U78+Ajapnjak!U78+Avan!U78+Arabkir!U78+Shengavit!U78+'Malatia-Sebastia'!U78+Kotayq!U78+Ararat!U78+Armavir!U78+Aragacotn!U78+Shirak!U78+Lori!U78+Tavush!U78+Gegharquniq!U78+Syuniq!U78 -> 0
B79: 4.28 | C79: ²ÛÉ Ñ³Ýó³·áñÍáõÃÛáõÝÝ»ñ | E79: =Erebuni!E79+Kentron!E79+Ajapnjak!E79+Avan!E79+Arabkir!E79+Shengavit!E79+'Malatia-Sebastia'!E79+Kotayq!E79+Ararat!E79+Armavir!E79+Aragacotn!E79+Shirak!E79+Lori!E79+Tavush!E79+Gegharquniq!E79+Syuniq!E79 -> 0 | F79: =Erebuni!F79+Kentron!F79+Ajapnjak!F79+Avan!F79+Arabkir!F79+Shengavit!F79+'Malatia-Sebastia'!F79+Kotayq!F79+Ararat!F79+Armavir!F79+Aragacotn!F79+Shirak!F79+Lori!F79+Tavush!F79+Gegharquniq!F79+Syuniq!F79 -> 0 | G79: =Erebuni!G79+Kentron!G79+Ajapnjak!G79+Avan!G79+Arabkir!G79+Shengavit!G79+'Malatia-Sebastia'!G79+Kotayq!G79+Ararat!G79+Armavir!G79+Aragacotn!G79+Shirak!G79+Lori!G79+Tavush!G79+Gegharquniq!G79+Syuniq!G79 -> 0 | H79: =Erebuni!H79+Kentron!H79+Ajapnjak!H79+Avan!H79+Arabkir!H79+Shengavit!H79+'Malatia-Sebastia'!H79+Kotayq!H79+Ararat!H79+Armavir!H79+Aragacotn!H79+Shirak!H79+Lori!H79+Tavush!H79+Gegharquniq!H79+Syuniq!H79 -> 0 | I79: =Erebuni!I79+Kentron!I79+Ajapnjak!I79+Avan!I79+Arabkir!I79+Shengavit!I79+'Malatia-Sebastia'!I79+Kotayq!I79+Ararat!I79+Armavir!I79+Aragacotn!I79+Shirak!I79+Lori!I79+Tavush!I79+Gegharquniq!I79+Syuniq!I79 -> 0 | J79: =Erebuni!J79+Kentron!J79+Ajapnjak!J79+Avan!J79+Arabkir!J79+Shengavit!J79+'Malatia-Sebastia'!J79+Kotayq!J79+Ararat!J79+Armavir!J79+Aragacotn!J79+Shirak!J79+Lori!J79+Tavush!J79+Gegharquniq!J79+Syuniq!J79 -> 0 | K79: =Erebuni!K79+Kentron!K79+Ajapnjak!K79+Avan!K79+Arabkir!K79+Shengavit!K79+'Malatia-Sebastia'!K79+Kotayq!K79+Ararat!K79+Armavir!K79+Aragacotn!K79+Shirak!K79+Lori!K79+Tavush!K79+Gegharquniq!K79+Syuniq!K79 -> 0 | L79: =Erebuni!L79+Kentron!L79+Ajapnjak!L79+Avan!L79+Arabkir!L79+Shengavit!L79+'Malatia-Sebastia'!L79+Kotayq!L79+Ararat!L79+Armavir!L79+Aragacotn!L79+Shirak!L79+Lori!L79+Tavush!L79+Gegharquniq!L79+Syuniq!L79 -> 0 | ... U79: =Erebuni!U79+Kentron!U79+Ajapnjak!U79+Avan!U79+Arabkir!U79+Shengavit!U79+'Malatia-Sebastia'!U79+Kotayq!U79+Ararat!U79+Armavir!U79+Aragacotn!U79+Shirak!U79+Lori!U79+Tavush!U79+Gegharquniq!U79+Syuniq!U79 -> 0
B80: 5. | C80: ÀÝ¹³Ù»ÝÁ ÁÝï³ÝÇùÇ ¨ »ñ»Ë³ÛÇ ß³Ñ»ñÇ ¹»Ù áõÕÕí³Í Ñ³Ýó³·áñÍáõÃÛáõÝÝ»ñÁ | E80: =SUM(E81:E92) -> 1 | F80: =SUM(F81:F92) -> 1 | G80: =SUM(G81:G92) -> 3 | H80: =SUM(H81:H92) -> 4 | I80: =SUM(I81:I92) -> 0 | J80: =SUM(J81:J92) -> 0 | K80: =SUM(K81:K92) -> 4 | L80: =SUM(L81:L92) -> 0 | ... U80: =SUM(U81:U92) -> 0
B81: 5.1 | C81: ²Ýã³÷³Ñ³ëÇÝ Ñ³Ýó³ÝùÇ Ï³ï³ñÙ³ÝÁ Ý»ñ·ñ³í»ÉÁ | D81: 165 | E81: =Erebuni!E81+Kentron!E81+Ajapnjak!E81+Avan!E81+Arabkir!E81+Shengavit!E81+'Malatia-Sebastia'!E81+Kotayq!E81+Ararat!E81+Armavir!E81+Aragacotn!E81+Shirak!E81+Lori!E81+Tavush!E81+Gegharquniq!E81+Syuniq!E81 -> 0 | F81: =Erebuni!F81+Kentron!F81+Ajapnjak!F81+Avan!F81+Arabkir!F81+Shengavit!F81+'Malatia-Sebastia'!F81+Kotayq!F81+Ararat!F81+Armavir!F81+Aragacotn!F81+Shirak!F81+Lori!F81+Tavush!F81+Gegharquniq!F81+Syuniq!F81 -> 0 | G81: =Erebuni!G81+Kentron!G81+Ajapnjak!G81+Avan!G81+Arabkir!G81+Shengavit!G81+'Malatia-Sebastia'!G81+Kotayq!G81+Ararat!G81+Armavir!G81+Aragacotn!G81+Shirak!G81+Lori!G81+Tavush!G81+Gegharquniq!G81+Syuniq!G81 -> 0 | H81: =Erebuni!H81+Kentron!H81+Ajapnjak!H81+Avan!H81+Arabkir!H81+Shengavit!H81+'Malatia-Sebastia'!H81+Kotayq!H81+Ararat!H81+Armavir!H81+Aragacotn!H81+Shirak!H81+Lori!H81+Tavush!H81+Gegharquniq!H81+Syuniq!H81 -> 0 | I81: =Erebuni!I81+Kentron!I81+Ajapnjak!I81+Avan!I81+Arabkir!I81+Shengavit!I81+'Malatia-Sebastia'!I81+Kotayq!I81+Ararat!I81+Armavir!I81+Aragacotn!I81+Shirak!I81+Lori!I81+Tavush!I81+Gegharquniq!I81+Syuniq!I81 -> 0 | J81: =Erebuni!J81+Kentron!J81+Ajapnjak!J81+Avan!J81+Arabkir!J81+Shengavit!J81+'Malatia-Sebastia'!J81+Kotayq!J81+Ararat!J81+Armavir!J81+Aragacotn!J81+Shirak!J81+Lori!J81+Tavush!J81+Gegharquniq!J81+Syuniq!J81 -> 0 | K81: =Erebuni!K81+Kentron!K81+Ajapnjak!K81+Avan!K81+Arabkir!K81+Shengavit!K81+'Malatia-Sebastia'!K81+Kotayq!K81+Ararat!K81+Armavir!K81+Aragacotn!K81+Shirak!K81+Lori!K81+Tavush!K81+Gegharquniq!K81+Syuniq!K81 -> 0 | L81: =Erebuni!L81+Kentron!L81+Ajapnjak!L81+Avan!L81+Arabkir!L81+Shengavit!L81+'Malatia-Sebastia'!L81+Kotayq!L81+Ararat!L81+Armavir!L81+Aragacotn!L81+Shirak!L81+Lori!L81+Tavush!L81+Gegharquniq!L81+Syuniq!L81 -> 0 | ... U81: =Erebuni!U81+Kentron!U81+Ajapnjak!U81+Avan!U81+Arabkir!U81+Shengavit!U81+'Malatia-Sebastia'!U81+Kotayq!U81+Ararat!U81+Armavir!U81+Aragacotn!U81+Shirak!U81+Lori!U81+Tavush!U81+Gegharquniq!U81+Syuniq!U81 -> 0
B82: 5.2 | C82: ºñ»Ë³ÛÇÝ åáéÝÏáõÃÛ³Ý Ï³Ù åáéÝÏ³·ñ³Ï³Ý µÝáõÛÃÇ ÝÛáõÃ»ñ Ï³Ù ³é³ñÏ³Ý»ñ å³ïñ³ëï»Éáõ Ñ»ï Ï³åí³Í ·áñÍáÕáõÃÛáõÝÝ»ñ Ï³ï³ñ»ÉáõÝ Ý»ñ·ñ³í»ÉÁ | D82: 166 | E82: =Erebuni!E82+Kentron!E82+Ajapnjak!E82+Avan!E82+Arabkir!E82+Shengavit!E82+'Malatia-Sebastia'!E82+Kotayq!E82+Ararat!E82+Armavir!E82+Aragacotn!E82+Shirak!E82+Lori!E82+Tavush!E82+Gegharquniq!E82+Syuniq!E82 -> 0 | F82: =Erebuni!F82+Kentron!F82+Ajapnjak!F82+Avan!F82+Arabkir!F82+Shengavit!F82+'Malatia-Sebastia'!F82+Kotayq!F82+Ararat!F82+Armavir!F82+Aragacotn!F82+Shirak!F82+Lori!F82+Tavush!F82+Gegharquniq!F82+Syuniq!F82 -> 0 | G82: =Erebuni!G82+Kentron!G82+Ajapnjak!G82+Avan!G82+Arabkir!G82+Shengavit!G82+'Malatia-Sebastia'!G82+Kotayq!G82+Ararat!G82+Armavir!G82+Aragacotn!G82+Shirak!G82+Lori!G82+Tavush!G82+Gegharquniq!G82+Syuniq!G82 -> 0 | H82: =Erebuni!H82+Kentron!H82+Ajapnjak!H82+Avan!H82+Arabkir!H82+Shengavit!H82+'Malatia-Sebastia'!H82+Kotayq!H82+Ararat!H82+Armavir!H82+Aragacotn!H82+Shirak!H82+Lori!H82+Tavush!H82+Gegharquniq!H82+Syuniq!H82 -> 0 | I82: =Erebuni!I82+Kentron!I82+Ajapnjak!I82+Avan!I82+Arabkir!I82+Shengavit!I82+'Malatia-Sebastia'!I82+Kotayq!I82+Ararat!I82+Armavir!I82+Aragacotn!I82+Shirak!I82+Lori!I82+Tavush!I82+Gegharquniq!I82+Syuniq!I82 -> 0 | J82: =Erebuni!J82+Kentron!J82+Ajapnjak!J82+Avan!J82+Arabkir!J82+Shengavit!J82+'Malatia-Sebastia'!J82+Kotayq!J82+Ararat!J82+Armavir!J82+Aragacotn!J82+Shirak!J82+Lori!J82+Tavush!J82+Gegharquniq!J82+Syuniq!J82 -> 0 | K82: =Erebuni!K82+Kentron!K82+Ajapnjak!K82+Avan!K82+Arabkir!K82+Shengavit!K82+'Malatia-Sebastia'!K82+Kotayq!K82+Ararat!K82+Armavir!K82+Aragacotn!K82+Shirak!K82+Lori!K82+Tavush!K82+Gegharquniq!K82+Syuniq!K82 -> 0 | L82: =Erebuni!L82+Kentron!L82+Ajapnjak!L82+Avan!L82+Arabkir!L82+Shengavit!L82+'Malatia-Sebastia'!L82+Kotayq!L82+Ararat!L82+Armavir!L82+Aragacotn!L82+Shirak!L82+Lori!L82+Tavush!L82+Gegharquniq!L82+Syuniq!L82 -> 0 | ... U82: =Erebuni!U82+Kentron!U82+Ajapnjak!U82+Avan!U82+Arabkir!U82+Shengavit!U82+'Malatia-Sebastia'!U82+Kotayq!U82+Ararat!U82+Armavir!U82+Aragacotn!U82+Shirak!U82+Lori!U82+Tavush!U82+Gegharquniq!U82+Syuniq!U82 -> 0
B83: 5.3 | C83: ÌÝáÕÝ»ñÇó »ñ»Ë³ÛÇÝ ³åûñÇÝÇ µ³Å³Ý»ÉÁ Ï³Ù »ñ»Ë³ÛÇÝ ÷áË»ÉÁ | D83: 167 | E83: =Erebuni!E83+Kentron!E83+Ajapnjak!E83+Avan!E83+Arabkir!E83+Shengavit!E83+'Malatia-Sebastia'!E83+Kotayq!E83+Ararat!E83+Armavir!E83+Aragacotn!E83+Shirak!E83+Lori!E83+Tavush!E83+Gegharquniq!E83+Syuniq!E83 -> 0 | F83: =Erebuni!F83+Kentron!F83+Ajapnjak!F83+Avan!F83+Arabkir!F83+Shengavit!F83+'Malatia-Sebastia'!F83+Kotayq!F83+Ararat!F83+Armavir!F83+Aragacotn!F83+Shirak!F83+Lori!F83+Tavush!F83+Gegharquniq!F83+Syuniq!F83 -> 0 | G83: =Erebuni!G83+Kentron!G83+Ajapnjak!G83+Avan!G83+Arabkir!G83+Shengavit!G83+'Malatia-Sebastia'!G83+Kotayq!G83+Ararat!G83+Armavir!G83+Aragacotn!G83+Shirak!G83+Lori!G83+Tavush!G83+Gegharquniq!G83+Syuniq!G83 -> 0 | H83: =Erebuni!H83+Kentron!H83+Ajapnjak!H83+Avan!H83+Arabkir!H83+Shengavit!H83+'Malatia-Sebastia'!H83+Kotayq!H83+Ararat!H83+Armavir!H83+Aragacotn!H83+Shirak!H83+Lori!H83+Tavush!H83+Gegharquniq!H83+Syuniq!H83 -> 0 | I83: =Erebuni!I83+Kentron!I83+Ajapnjak!I83+Avan!I83+Arabkir!I83+Shengavit!I83+'Malatia-Sebastia'!I83+Kotayq!I83+Ararat!I83+Armavir!I83+Aragacotn!I83+Shirak!I83+Lori!I83+Tavush!I83+Gegharquniq!I83+Syuniq!I83 -> 0 | J83: =Erebuni!J83+Kentron!J83+Ajapnjak!J83+Avan!J83+Arabkir!J83+Shengavit!J83+'Malatia-Sebastia'!J83+Kotayq!J83+Ararat!J83+Armavir!J83+Aragacotn!J83+Shirak!J83+Lori!J83+Tavush!J83+Gegharquniq!J83+Syuniq!J83 -> 0 | K83: =Erebuni!K83+Kentron!K83+Ajapnjak!K83+Avan!K83+Arabkir!K83+Shengavit!K83+'Malatia-Sebastia'!K83+Kotayq!K83+Ararat!K83+Armavir!K83+Aragacotn!K83+Shirak!K83+Lori!K83+Tavush!K83+Gegharquniq!K83+Syuniq!K83 -> 0 | L83: =Erebuni!L83+Kentron!L83+Ajapnjak!L83+Avan!L83+Arabkir!L83+Shengavit!L83+'Malatia-Sebastia'!L83+Kotayq!L83+Ararat!L83+Armavir!L83+Aragacotn!L83+Shirak!L83+Lori!L83+Tavush!L83+Gegharquniq!L83+Syuniq!L83 -> 0 | ... U83: =Erebuni!U83+Kentron!U83+Ajapnjak!U83+Avan!U83+Arabkir!U83+Shengavit!U83+'Malatia-Sebastia'!U83+Kotayq!U83+Ararat!U83+Armavir!U83+Aragacotn!U83+Shirak!U83+Lori!U83+Tavush!U83+Gegharquniq!U83+Syuniq!U83 -> 0
B84: 5.4 | C84: ÊÝ³ÙùÁ ëï³ÝÓÝ»Éáõ Ýå³ï³Ïáí »ñ»Ë³ÛÇ ³éùÁ Ï³Ù ëï³ÝÓÝáÕÇ ËÝ³ÙùÇÝ Ñ³ÝÓÝ»Éáõ Ýå³ï³Ïáí »ñ»Ë³ÛÇ í³×³éùÁ | D84: 168 | E84: =Erebuni!E84+Kentron!E84+Ajapnjak!E84+Avan!E84+Arabkir!E84+Shengavit!E84+'Malatia-Sebastia'!E84+Kotayq!E84+Ararat!E84+Armavir!E84+Aragacotn!E84+Shirak!E84+Lori!E84+Tavush!E84+Gegharquniq!E84+Syuniq!E84 -> 1 | F84: =Erebuni!F84+Kentron!F84+Ajapnjak!F84+Avan!F84+Arabkir!F84+Shengavit!F84+'Malatia-Sebastia'!F84+Kotayq!F84+Ararat!F84+Armavir!F84+Aragacotn!F84+Shirak!F84+Lori!F84+Tavush!F84+Gegharquniq!F84+Syuniq!F84 -> 1 | G84: =Erebuni!G84+Kentron!G84+Ajapnjak!G84+Avan!G84+Arabkir!G84+Shengavit!G84+'Malatia-Sebastia'!G84+Kotayq!G84+Ararat!G84+Armavir!G84+Aragacotn!G84+Shirak!G84+Lori!G84+Tavush!G84+Gegharquniq!G84+Syuniq!G84 -> 0 | H84: =Erebuni!H84+Kentron!H84+Ajapnjak!H84+Avan!H84+Arabkir!H84+Shengavit!H84+'Malatia-Sebastia'!H84+Kotayq!H84+Ararat!H84+Armavir!H84+Aragacotn!H84+Shirak!H84+Lori!H84+Tavush!H84+Gegharquniq!H84+Syuniq!H84 -> 1 | I84: =Erebuni!I84+Kentron!I84+Ajapnjak!I84+Avan!I84+Arabkir!I84+Shengavit!I84+'Malatia-Sebastia'!I84+Kotayq!I84+Ararat!I84+Armavir!I84+Aragacotn!I84+Shirak!I84+Lori!I84+Tavush!I84+Gegharquniq!I84+Syuniq!I84 -> 0 | J84: =Erebuni!J84+Kentron!J84+Ajapnjak!J84+Avan!J84+Arabkir!J84+Shengavit!J84+'Malatia-Sebastia'!J84+Kotayq!J84+Ararat!J84+Armavir!J84+Aragacotn!J84+Shirak!J84+Lori!J84+Tavush!J84+Gegharquniq!J84+Syuniq!J84 -> 0 | K84: =Erebuni!K84+Kentron!K84+Ajapnjak!K84+Avan!K84+Arabkir!K84+Shengavit!K84+'Malatia-Sebastia'!K84+Kotayq!K84+Ararat!K84+Armavir!K84+Aragacotn!K84+Shirak!K84+Lori!K84+Tavush!K84+Gegharquniq!K84+Syuniq!K84 -> 1 | L84: =Erebuni!L84+Kentron!L84+Ajapnjak!L84+Avan!L84+Arabkir!L84+Shengavit!L84+'Malatia-Sebastia'!L84+Kotayq!L84+Ararat!L84+Armavir!L84+Aragacotn!L84+Shirak!L84+Lori!L84+Tavush!L84+Gegharquniq!L84+Syuniq!L84 -> 0 | ... U84: =Erebuni!U84+Kentron!U84+Ajapnjak!U84+Avan!U84+Arabkir!U84+Shengavit!U84+'Malatia-Sebastia'!U84+Kotayq!U84+Ararat!U84+Armavir!U84+Aragacotn!U84+Shirak!U84+Lori!U84+Tavush!U84+Gegharquniq!U84+Syuniq!U84 -> 0
B85: 5.5 | C85: àñ¹»·ñÙ³Ý ·³ÕïÝÇùÁ Ññ³å³ñ³Ï»ÉÁ Ï³Ù áñ¹»·ñÙ³Ý Ñ³Ù³Ó³ÛÝáõÃÛáõÝ ï³ÉáõÝ Ñ³Ï»ÉÁ Ï³Ù Ñ³ñÏ³¹ñ»ÉÁ | D85: 169 | E85: =Erebuni!E85+Kentron!E85+Ajapnjak!E85+Avan!E85+Arabkir!E85+Shengavit!E85+'Malatia-Sebastia'!E85+Kotayq!E85+Ararat!E85+Armavir!E85+Aragacotn!E85+Shirak!E85+Lori!E85+Tavush!E85+Gegharquniq!E85+Syuniq!E85 -> 0 | F85: =Erebuni!F85+Kentron!F85+Ajapnjak!F85+Avan!F85+Arabkir!F85+Shengavit!F85+'Malatia-Sebastia'!F85+Kotayq!F85+Ararat!F85+Armavir!F85+Aragacotn!F85+Shirak!F85+Lori!F85+Tavush!F85+Gegharquniq!F85+Syuniq!F85 -> 0 | G85: =Erebuni!G85+Kentron!G85+Ajapnjak!G85+Avan!G85+Arabkir!G85+Shengavit!G85+'Malatia-Sebastia'!G85+Kotayq!G85+Ararat!G85+Armavir!G85+Aragacotn!G85+Shirak!G85+Lori!G85+Tavush!G85+Gegharquniq!G85+Syuniq!G85 -> 0 | H85: =Erebuni!H85+Kentron!H85+Ajapnjak!H85+Avan!H85+Arabkir!H85+Shengavit!H85+'Malatia-Sebastia'!H85+Kotayq!H85+Ararat!H85+Armavir!H85+Aragacotn!H85+Shirak!H85+Lori!H85+Tavush!H85+Gegharquniq!H85+Syuniq!H85 -> 0 | I85: =Erebuni!I85+Kentron!I85+Ajapnjak!I85+Avan!I85+Arabkir!I85+Shengavit!I85+'Malatia-Sebastia'!I85+Kotayq!I85+Ararat!I85+Armavir!I85+Aragacotn!I85+Shirak!I85+Lori!I85+Tavush!I85+Gegharquniq!I85+Syuniq!I85 -> 0 | J85: =Erebuni!J85+Kentron!J85+Ajapnjak!J85+Avan!J85+Arabkir!J85+Shengavit!J85+'Malatia-Sebastia'!J85+Kotayq!J85+Ararat!J85+Armavir!J85+Aragacotn!J85+Shirak!J85+Lori!J85+Tavush!J85+Gegharquniq!J85+Syuniq!J85 -> 0 | K85: =Erebuni!K85+Kentron!K85+Ajapnjak!K85+Avan!K85+Arabkir!K85+Shengavit!K85+'Malatia-Sebastia'!K85+Kotayq!K85+Ararat!K85+Armavir!K85+Aragacotn!K85+Shirak!K85+Lori!K85+Tavush!K85+Gegharquniq!K85+Syuniq!K85 -> 0 | L85: =Erebuni!L85+Kentron!L85+Ajapnjak!L85+Avan!L85+Arabkir!L85+Shengavit!L85+'Malatia-Sebastia'!L85+Kotayq!L85+Ararat!L85+Armavir!L85+Aragacotn!L85+Shirak!L85+Lori!L85+Tavush!L85+Gegharquniq!L85+Syuniq!L85 -> 0 | ... U85: =Erebuni!U85+Kentron!U85+Ajapnjak!U85+Avan!U85+Arabkir!U85+Shengavit!U85+'Malatia-Sebastia'!U85+Kotayq!U85+Ararat!U85+Armavir!U85+Aragacotn!U85+Shirak!U85+Lori!U85+Tavush!U85+Gegharquniq!U85+Syuniq!U85 -> 0
B86: 5.6 | C86: ø³Õ³ù³óÇ³Ï³Ý Ï³óáõÃÛ³Ý ³Ïï»ñÇ ·ñ³ÝóÙ³Ý Ù³ñÙÇÝÝ»ñÇÝ ëáõï ï»Õ»ÏáõÃÛáõÝÝ»ñ Ñ³Õáñ¹»ÉÁ | D86: 169.1 | E86: =Erebuni!E86+Kentron!E86+Ajapnjak!E86+Avan!E86+Arabkir!E86+Shengavit!E86+'Malatia-Sebastia'!E86+Kotayq!E86+Ararat!E86+Armavir!E86+Aragacotn!E86+Shirak!E86+Lori!E86+Tavush!E86+Gegharquniq!E86+Syuniq!E86 -> 0 | F86: =Erebuni!F86+Kentron!F86+Ajapnjak!F86+Avan!F86+Arabkir!F86+Shengavit!F86+'Malatia-Sebastia'!F86+Kotayq!F86+Ararat!F86+Armavir!F86+Aragacotn!F86+Shirak!F86+Lori!F86+Tavush!F86+Gegharquniq!F86+Syuniq!F86 -> 0 | G86: =Erebuni!G86+Kentron!G86+Ajapnjak!G86+Avan!G86+Arabkir!G86+Shengavit!G86+'Malatia-Sebastia'!G86+Kotayq!G86+Ararat!G86+Armavir!G86+Aragacotn!G86+Shirak!G86+Lori!G86+Tavush!G86+Gegharquniq!G86+Syuniq!G86 -> 1 | H86: =Erebuni!H86+Kentron!H86+Ajapnjak!H86+Avan!H86+Arabkir!H86+Shengavit!H86+'Malatia-Sebastia'!H86+Kotayq!H86+Ararat!H86+Armavir!H86+Aragacotn!H86+Shirak!H86+Lori!H86+Tavush!H86+Gegharquniq!H86+Syuniq!H86 -> 1 | I86: =Erebuni!I86+Kentron!I86+Ajapnjak!I86+Avan!I86+Arabkir!I86+Shengavit!I86+'Malatia-Sebastia'!I86+Kotayq!I86+Ararat!I86+Armavir!I86+Aragacotn!I86+Shirak!I86+Lori!I86+Tavush!I86+Gegharquniq!I86+Syuniq!I86 -> 0 | J86: =Erebuni!J86+Kentron!J86+Ajapnjak!J86+Avan!J86+Arabkir!J86+Shengavit!J86+'Malatia-Sebastia'!J86+Kotayq!J86+Ararat!J86+Armavir!J86+Aragacotn!J86+Shirak!J86+Lori!J86+Tavush!J86+Gegharquniq!J86+Syuniq!J86 -> 0 | K86: =Erebuni!K86+Kentron!K86+Ajapnjak!K86+Avan!K86+Arabkir!K86+Shengavit!K86+'Malatia-Sebastia'!K86+Kotayq!K86+Ararat!K86+Armavir!K86+Aragacotn!K86+Shirak!K86+Lori!K86+Tavush!K86+Gegharquniq!K86+Syuniq!K86 -> 1 | L86: =Erebuni!L86+Kentron!L86+Ajapnjak!L86+Avan!L86+Arabkir!L86+Shengavit!L86+'Malatia-Sebastia'!L86+Kotayq!L86+Ararat!L86+Armavir!L86+Aragacotn!L86+Shirak!L86+Lori!L86+Tavush!L86+Gegharquniq!L86+Syuniq!L86 -> 0 | ... U86: =Erebuni!U86+Kentron!U86+Ajapnjak!U86+Avan!U86+Arabkir!U86+Shengavit!U86+'Malatia-Sebastia'!U86+Kotayq!U86+Ararat!U86+Armavir!U86+Aragacotn!U86+Shirak!U86+Lori!U86+Tavush!U86+Gegharquniq!U86+Syuniq!U86 -> 0
B87: 5.7 | C87: ºñ»Ë³ÛÇÝ ¹³ëïÇ³ñ³Ï»Éáõ å³ñï³Ï³ÝáõÃÛáõÝÁ ãÏ³ï³ñ»ÉÁ | D87: 170 | E87: =Erebuni!E87+Kentron!E87+Ajapnjak!E87+Avan!E87+Arabkir!E87+Shengavit!E87+'Malatia-Sebastia'!E87+Kotayq!E87+Ararat!E87+Armavir!E87+Aragacotn!E87+Shirak!E87+Lori!E87+Tavush!E87+Gegharquniq!E87+Syuniq!E87 -> 0 | F87: =Erebuni!F87+Kentron!F87+Ajapnjak!F87+Avan!F87+Arabkir!F87+Shengavit!F87+'Malatia-Sebastia'!F87+Kotayq!F87+Ararat!F87+Armavir!F87+Aragacotn!F87+Shirak!F87+Lori!F87+Tavush!F87+Gegharquniq!F87+Syuniq!F87 -> 0 | G87: =Erebuni!G87+Kentron!G87+Ajapnjak!G87+Avan!G87+Arabkir!G87+Shengavit!G87+'Malatia-Sebastia'!G87+Kotayq!G87+Ararat!G87+Armavir!G87+Aragacotn!G87+Shirak!G87+Lori!G87+Tavush!G87+Gegharquniq!G87+Syuniq!G87 -> 1 | H87: =Erebuni!H87+Kentron!H87+Ajapnjak!H87+Avan!H87+Arabkir!H87+Shengavit!H87+'Malatia-Sebastia'!H87+Kotayq!H87+Ararat!H87+Armavir!H87+Aragacotn!H87+Shirak!H87+Lori!H87+Tavush!H87+Gegharquniq!H87+Syuniq!H87 -> 1 | I87: =Erebuni!I87+Kentron!I87+Ajapnjak!I87+Avan!I87+Arabkir!I87+Shengavit!I87+'Malatia-Sebastia'!I87+Kotayq!I87+Ararat!I87+Armavir!I87+Aragacotn!I87+Shirak!I87+Lori!I87+Tavush!I87+Gegharquniq!I87+Syuniq!I87 -> 0 | J87: =Erebuni!J87+Kentron!J87+Ajapnjak!J87+Avan!J87+Arabkir!J87+Shengavit!J87+'Malatia-Sebastia'!J87+Kotayq!J87+Ararat!J87+Armavir!J87+Aragacotn!J87+Shirak!J87+Lori!J87+Tavush!J87+Gegharquniq!J87+Syuniq!J87 -> 0 | K87: =Erebuni!K87+Kentron!K87+Ajapnjak!K87+Avan!K87+Arabkir!K87+Shengavit!K87+'Malatia-Sebastia'!K87+Kotayq!K87+Ararat!K87+Armavir!K87+Aragacotn!K87+Shirak!K87+Lori!K87+Tavush!K87+Gegharquniq!K87+Syuniq!K87 -> 1 | L87: =Erebuni!L87+Kentron!L87+Ajapnjak!L87+Avan!L87+Arabkir!L87+Shengavit!L87+'Malatia-Sebastia'!L87+Kotayq!L87+Ararat!L87+Armavir!L87+Aragacotn!L87+Shirak!L87+Lori!L87+Tavush!L87+Gegharquniq!L87+Syuniq!L87 -> 0 | ... U87: =Erebuni!U87+Kentron!U87+Ajapnjak!U87+Avan!U87+Arabkir!U87+Shengavit!U87+'Malatia-Sebastia'!U87+Kotayq!U87+Ararat!U87+Armavir!U87+Aragacotn!U87+Shirak!U87+Lori!U87+Tavush!U87+Gegharquniq!U87+Syuniq!U87 -> 0
B88: 5.8 | C88: ºñ»Ë³ÛÇ ÏÛ³ÝùÇ ³Ýíï³Ý·áõÃÛ³Ý ³å³ÑáíÙ³Ý Ï³Ù ³éáÕçáõÃÛ³Ý å³Ñå³ÝÙ³Ý å³ñï³Ï³ÝáõÃÛáõÝÁ ãÏ³ï³ñ»ÉÁ Ï³Ù áã å³ïß³× Ï³ï³ñ»ÉÁ | D88: 171 | E88: =Erebuni!E88+Kentron!E88+Ajapnjak!E88+Avan!E88+Arabkir!E88+Shengavit!E88+'Malatia-Sebastia'!E88+Kotayq!E88+Ararat!E88+Armavir!E88+Aragacotn!E88+Shirak!E88+Lori!E88+Tavush!E88+Gegharquniq!E88+Syuniq!E88 -> 0 | F88: =Erebuni!F88+Kentron!F88+Ajapnjak!F88+Avan!F88+Arabkir!F88+Shengavit!F88+'Malatia-Sebastia'!F88+Kotayq!F88+Ararat!F88+Armavir!F88+Aragacotn!F88+Shirak!F88+Lori!F88+Tavush!F88+Gegharquniq!F88+Syuniq!F88 -> 0 | G88: =Erebuni!G88+Kentron!G88+Ajapnjak!G88+Avan!G88+Arabkir!G88+Shengavit!G88+'Malatia-Sebastia'!G88+Kotayq!G88+Ararat!G88+Armavir!G88+Aragacotn!G88+Shirak!G88+Lori!G88+Tavush!G88+Gegharquniq!G88+Syuniq!G88 -> 0 | H88: =Erebuni!H88+Kentron!H88+Ajapnjak!H88+Avan!H88+Arabkir!H88+Shengavit!H88+'Malatia-Sebastia'!H88+Kotayq!H88+Ararat!H88+Armavir!H88+Aragacotn!H88+Shirak!H88+Lori!H88+Tavush!H88+Gegharquniq!H88+Syuniq!H88 -> 0 | I88: =Erebuni!I88+Kentron!I88+Ajapnjak!I88+Avan!I88+Arabkir!I88+Shengavit!I88+'Malatia-Sebastia'!I88+Kotayq!I88+Ararat!I88+Armavir!I88+Aragacotn!I88+Shirak!I88+Lori!I88+Tavush!I88+Gegharquniq!I88+Syuniq!I88 -> 0 | J88: =Erebuni!J88+Kentron!J88+Ajapnjak!J88+Avan!J88+Arabkir!J88+Shengavit!J88+'Malatia-Sebastia'!J88+Kotayq!J88+Ararat!J88+Armavir!J88+Aragacotn!J88+Shirak!J88+Lori!J88+Tavush!J88+Gegharquniq!J88+Syuniq!J88 -> 0 | K88: =Erebuni!K88+Kentron!K88+Ajapnjak!K88+Avan!K88+Arabkir!K88+Shengavit!K88+'Malatia-Sebastia'!K88+Kotayq!K88+Ararat!K88+Armavir!K88+Aragacotn!K88+Shirak!K88+Lori!K88+Tavush!K88+Gegharquniq!K88+Syuniq!K88 -> 0 | L88: =Erebuni!L88+Kentron!L88+Ajapnjak!L88+Avan!L88+Arabkir!L88+Shengavit!L88+'Malatia-Sebastia'!L88+Kotayq!L88+Ararat!L88+Armavir!L88+Aragacotn!L88+Shirak!L88+Lori!L88+Tavush!L88+Gegharquniq!L88+Syuniq!L88 -> 0 | ... U88: =Erebuni!U88+Kentron!U88+Ajapnjak!U88+Avan!U88+Arabkir!U88+Shengavit!U88+'Malatia-Sebastia'!U88+Kotayq!U88+Ararat!U88+Armavir!U88+Aragacotn!U88+Shirak!U88+Lori!U88+Tavush!U88+Gegharquniq!U88+Syuniq!U88 -> 0
B89: 5.9 | C89: ÊÝ³Ù³Ï³ÉÇ Ï³Ù Ñá·³µ³ñÓáõÇ Çñ³íáõÝùÝ»ñÁ ã³ñ³ß³Ñ»ÉÁ | D89: 172 | E89: =Erebuni!E89+Kentron!E89+Ajapnjak!E89+Avan!E89+Arabkir!E89+Shengavit!E89+'Malatia-Sebastia'!E89+Kotayq!E89+Ararat!E89+Armavir!E89+Aragacotn!E89+Shirak!E89+Lori!E89+Tavush!E89+Gegharquniq!E89+Syuniq!E89 -> 0 | F89: =Erebuni!F89+Kentron!F89+Ajapnjak!F89+Avan!F89+Arabkir!F89+Shengavit!F89+'Malatia-Sebastia'!F89+Kotayq!F89+Ararat!F89+Armavir!F89+Aragacotn!F89+Shirak!F89+Lori!F89+Tavush!F89+Gegharquniq!F89+Syuniq!F89 -> 0 | G89: =Erebuni!G89+Kentron!G89+Ajapnjak!G89+Avan!G89+Arabkir!G89+Shengavit!G89+'Malatia-Sebastia'!G89+Kotayq!G89+Ararat!G89+Armavir!G89+Aragacotn!G89+Shirak!G89+Lori!G89+Tavush!G89+Gegharquniq!G89+Syuniq!G89 -> 0 | H89: =Erebuni!H89+Kentron!H89+Ajapnjak!H89+Avan!H89+Arabkir!H89+Shengavit!H89+'Malatia-Sebastia'!H89+Kotayq!H89+Ararat!H89+Armavir!H89+Aragacotn!H89+Shirak!H89+Lori!H89+Tavush!H89+Gegharquniq!H89+Syuniq!H89 -> 0 | I89: =Erebuni!I89+Kentron!I89+Ajapnjak!I89+Avan!I89+Arabkir!I89+Shengavit!I89+'Malatia-Sebastia'!I89+Kotayq!I89+Ararat!I89+Armavir!I89+Aragacotn!I89+Shirak!I89+Lori!I89+Tavush!I89+Gegharquniq!I89+Syuniq!I89 -> 0 | J89: =Erebuni!J89+Kentron!J89+Ajapnjak!J89+Avan!J89+Arabkir!J89+Shengavit!J89+'Malatia-Sebastia'!J89+Kotayq!J89+Ararat!J89+Armavir!J89+Aragacotn!J89+Shirak!J89+Lori!J89+Tavush!J89+Gegharquniq!J89+Syuniq!J89 -> 0 | K89: =Erebuni!K89+Kentron!K89+Ajapnjak!K89+Avan!K89+Arabkir!K89+Shengavit!K89+'Malatia-Sebastia'!K89+Kotayq!K89+Ararat!K89+Armavir!K89+Aragacotn!K89+Shirak!K89+Lori!K89+Tavush!K89+Gegharquniq!K89+Syuniq!K89 -> 0 | L89: =Erebuni!L89+Kentron!L89+Ajapnjak!L89+Avan!L89+Arabkir!L89+Shengavit!L89+'Malatia-Sebastia'!L89+Kotayq!L89+Ararat!L89+Armavir!L89+Aragacotn!L89+Shirak!L89+Lori!L89+Tavush!L89+Gegharquniq!L89+Syuniq!L89 -> 0 | ... U89: =Erebuni!U89+Kentron!U89+Ajapnjak!U89+Avan!U89+Arabkir!U89+Shengavit!U89+'Malatia-Sebastia'!U89+Kotayq!U89+Ararat!U89+Armavir!U89+Aragacotn!U89+Shirak!U89+Lori!U89+Tavush!U89+Gegharquniq!U89+Syuniq!U89 -> 0
A90: 0 | B90: 5.10 | C90: ÌÝáÕÇ ÏáÕÙÇó »ñ»Ë³ÛÇÝ å³Ñ»Éáõó ã³ñ³Ùïáñ»Ý Ëáõë³÷»ÉÁ (áõÅÁ Ïáñóñ³Í) | D90: 173 | E90: =Erebuni!E90+Kentron!E90+Ajapnjak!E90+Avan!E90+Arabkir!E90+Shengavit!E90+'Malatia-Sebastia'!E90+Kotayq!E90+Ararat!E90+Armavir!E90+Aragacotn!E90+Shirak!E90+Lori!E90+Tavush!E90+Gegharquniq!E90+Syuniq!E90 -> 0 | F90: =Erebuni!F90+Kentron!F90+Ajapnjak!F90+Avan!F90+Arabkir!F90+Shengavit!F90+'Malatia-Sebastia'!F90+Kotayq!F90+Ararat!F90+Armavir!F90+Aragacotn!F90+Shirak!F90+Lori!F90+Tavush!F90+Gegharquniq!F90+Syuniq!F90 -> 0 | G90: =Erebuni!G90+Kentron!G90+Ajapnjak!G90+Avan!G90+Arabkir!G90+Shengavit!G90+'Malatia-Sebastia'!G90+Kotayq!G90+Ararat!G90+Armavir!G90+Aragacotn!G90+Shirak!G90+Lori!G90+Tavush!G90+Gegharquniq!G90+Syuniq!G90 -> 1 | H90: =Erebuni!H90+Kentron!H90+Ajapnjak!H90+Avan!H90+Arabkir!H90+Shengavit!H90+'Malatia-Sebastia'!H90+Kotayq!H90+Ararat!H90+Armavir!H90+Aragacotn!H90+Shirak!H90+Lori!H90+Tavush!H90+Gegharquniq!H90+Syuniq!H90 -> 1 | I90: =Erebuni!I90+Kentron!I90+Ajapnjak!I90+Avan!I90+Arabkir!I90+Shengavit!I90+'Malatia-Sebastia'!I90+Kotayq!I90+Ararat!I90+Armavir!I90+Aragacotn!I90+Shirak!I90+Lori!I90+Tavush!I90+Gegharquniq!I90+Syuniq!I90 -> 0 | J90: =Erebuni!J90+Kentron!J90+Ajapnjak!J90+Avan!J90+Arabkir!J90+Shengavit!J90+'Malatia-Sebastia'!J90+Kotayq!J90+Ararat!J90+Armavir!J90+Aragacotn!J90+Shirak!J90+Lori!J90+Tavush!J90+Gegharquniq!J90+Syuniq!J90 -> 0 | K90: =Erebuni!K90+Kentron!K90+Ajapnjak!K90+Avan!K90+Arabkir!K90+Shengavit!K90+'Malatia-Sebastia'!K90+Kotayq!K90+Ararat!K90+Armavir!K90+Aragacotn!K90+Shirak!K90+Lori!K90+Tavush!K90+Gegharquniq!K90+Syuniq!K90 -> 1 | L90: =Erebuni!L90+Kentron!L90+Ajapnjak!L90+Avan!L90+Arabkir!L90+Shengavit!L90+'Malatia-Sebastia'!L90+Kotayq!L90+Ararat!L90+Armavir!L90+Aragacotn!L90+Shirak!L90+Lori!L90+Tavush!L90+Gegharquniq!L90+Syuniq!L90 -> 0 | ... U90: =Erebuni!U90+Kentron!U90+Ajapnjak!U90+Avan!U90+Arabkir!U90+Shengavit!U90+'Malatia-Sebastia'!U90+Kotayq!U90+Ararat!U90+Armavir!U90+Aragacotn!U90+Shirak!U90+Lori!U90+Tavush!U90+Gegharquniq!U90+Syuniq!U90 -> 0
B91: 5.11 | C91: ¼³í³ÏÇ ÏáÕÙÇó ³Ý³ßË³ïáõÝ³Ï ÍÝáÕÇÝ å³Ñ»Éáõó ã³ñ³Ùïáñ»Ý Ëáõë³÷»ÉÁ | D91: 174 | E91: =Erebuni!E91+Kentron!E91+Ajapnjak!E91+Avan!E91+Arabkir!E91+Shengavit!E91+'Malatia-Sebastia'!E91+Kotayq!E91+Ararat!E91+Armavir!E91+Aragacotn!E91+Shirak!E91+Lori!E91+Tavush!E91+Gegharquniq!E91+Syuniq!E91 -> 0 | F91: =Erebuni!F91+Kentron!F91+Ajapnjak!F91+Avan!F91+Arabkir!F91+Shengavit!F91+'Malatia-Sebastia'!F91+Kotayq!F91+Ararat!F91+Armavir!F91+Aragacotn!F91+Shirak!F91+Lori!F91+Tavush!F91+Gegharquniq!F91+Syuniq!F91 -> 0 | G91: =Erebuni!G91+Kentron!G91+Ajapnjak!G91+Avan!G91+Arabkir!G91+Shengavit!G91+'Malatia-Sebastia'!G91+Kotayq!G91+Ararat!G91+Armavir!G91+Aragacotn!G91+Shirak!G91+Lori!G91+Tavush!G91+Gegharquniq!G91+Syuniq!G91 -> 0 | H91: =Erebuni!H91+Kentron!H91+Ajapnjak!H91+Avan!H91+Arabkir!H91+Shengavit!H91+'Malatia-Sebastia'!H91+Kotayq!H91+Ararat!H91+Armavir!H91+Aragacotn!H91+Shirak!H91+Lori!H91+Tavush!H91+Gegharquniq!H91+Syuniq!H91 -> 0 | I91: =Erebuni!I91+Kentron!I91+Ajapnjak!I91+Avan!I91+Arabkir!I91+Shengavit!I91+'Malatia-Sebastia'!I91+Kotayq!I91+Ararat!I91+Armavir!I91+Aragacotn!I91+Shirak!I91+Lori!I91+Tavush!I91+Gegharquniq!I91+Syuniq!I91 -> 0 | J91: =Erebuni!J91+Kentron!J91+Ajapnjak!J91+Avan!J91+Arabkir!J91+Shengavit!J91+'Malatia-Sebastia'!J91+Kotayq!J91+Ararat!J91+Armavir!J91+Aragacotn!J91+Shirak!J91+Lori!J91+Tavush!J91+Gegharquniq!J91+Syuniq!J91 -> 0 | K91: =Erebuni!K91+Kentron!K91+Ajapnjak!K91+Avan!K91+Arabkir!K91+Shengavit!K91+'Malatia-Sebastia'!K91+Kotayq!K91+Ararat!K91+Armavir!K91+Aragacotn!K91+Shirak!K91+Lori!K91+Tavush!K91+Gegharquniq!K91+Syuniq!K91 -> 0 | L91: =Erebuni!L91+Kentron!L91+Ajapnjak!L91+Avan!L91+Arabkir!L91+Shengavit!L91+'Malatia-Sebastia'!L91+Kotayq!L91+Ararat!L91+Armavir!L91+Aragacotn!L91+Shirak!L91+Lori!L91+Tavush!L91+Gegharquniq!L91+Syuniq!L91 -> 0 | ... U91: =Erebuni!U91+Kentron!U91+Ajapnjak!U91+Avan!U91+Arabkir!U91+Shengavit!U91+'Malatia-Sebastia'!U91+Kotayq!U91+Ararat!U91+Armavir!U91+Aragacotn!U91+Shirak!U91+Lori!U91+Tavush!U91+Gegharquniq!U91+Syuniq!U91 -> 0
B92: 5.12 | C92: ²ÛÉ Ñ³Ýó³·áñÍáõÃÛáõÝÝ»ñ | E92: =Erebuni!E92+Kentron!E92+Ajapnjak!E92+Avan!E92+Arabkir!E92+Shengavit!E92+'Malatia-Sebastia'!E92+Kotayq!E92+Ararat!E92+Armavir!E92+Aragacotn!E92+Shirak!E92+Lori!E92+Tavush!E92+Gegharquniq!E92+Syuniq!E92 -> 0 | F92: =Erebuni!F92+Kentron!F92+Ajapnjak!F92+Avan!F92+Arabkir!F92+Shengavit!F92+'Malatia-Sebastia'!F92+Kotayq!F92+Ararat!F92+Armavir!F92+Aragacotn!F92+Shirak!F92+Lori!F92+Tavush!F92+Gegharquniq!F92+Syuniq!F92 -> 0 | G92: =Erebuni!G92+Kentron!G92+Ajapnjak!G92+Avan!G92+Arabkir!G92+Shengavit!G92+'Malatia-Sebastia'!G92+Kotayq!G92+Ararat!G92+Armavir!G92+Aragacotn!G92+Shirak!G92+Lori!G92+Tavush!G92+Gegharquniq!G92+Syuniq!G92 -> 0 | H92: =Erebuni!H92+Kentron!H92+Ajapnjak!H92+Avan!H92+Arabkir!H92+Shengavit!H92+'Malatia-Sebastia'!H92+Kotayq!H92+Ararat!H92+Armavir!H92+Aragacotn!H92+Shirak!H92+Lori!H92+Tavush!H92+Gegharquniq!H92+Syuniq!H92 -> 0 | I92: =Erebuni!I92+Kentron!I92+Ajapnjak!I92+Avan!I92+Arabkir!I92+Shengavit!I92+'Malatia-Sebastia'!I92+Kotayq!I92+Ararat!I92+Armavir!I92+Aragacotn!I92+Shirak!I92+Lori!I92+Tavush!I92+Gegharquniq!I92+Syuniq!I92 -> 0 | J92: =Erebuni!J92+Kentron!J92+Ajapnjak!J92+Avan!J92+Arabkir!J92+Shengavit!J92+'Malatia-Sebastia'!J92+Kotayq!J92+Ararat!J92+Armavir!J92+Aragacotn!J92+Shirak!J92+Lori!J92+Tavush!J92+Gegharquniq!J92+Syuniq!J92 -> 0 | K92: =Erebuni!K92+Kentron!K92+Ajapnjak!K92+Avan!K92+Arabkir!K92+Shengavit!K92+'Malatia-Sebastia'!K92+Kotayq!K92+Ararat!K92+Armavir!K92+Aragacotn!K92+Shirak!K92+Lori!K92+Tavush!K92+Gegharquniq!K92+Syuniq!K92 -> 0 | L92: =Erebuni!L92+Kentron!L92+Ajapnjak!L92+Avan!L92+Arabkir!L92+Shengavit!L92+'Malatia-Sebastia'!L92+Kotayq!L92+Ararat!L92+Armavir!L92+Aragacotn!L92+Shirak!L92+Lori!L92+Tavush!L92+Gegharquniq!L92+Syuniq!L92 -> 0 | ... U92: =Erebuni!U92+Kentron!U92+Ajapnjak!U92+Avan!U92+Arabkir!U92+Shengavit!U92+'Malatia-Sebastia'!U92+Kotayq!U92+Ararat!U92+Armavir!U92+Aragacotn!U92+Shirak!U92+Lori!U92+Tavush!U92+Gegharquniq!U92+Syuniq!U92 -> 0
B93: 6. | C93: ÀÝ¹³Ù»ÝÁ ë»÷³Ï³ÝáõÃÛ³Ý ¹»Ù áõÕÕí³Í Ñ³Ýó³·áñÍáõÃÛáõÝÝ»ñÁ | E93: =SUM(E94:E106) -> 349 | F93: =SUM(F94:F106) -> 45 | G93: =SUM(G94:G106) -> 450 | H93: =SUM(H94:H106) -> 344 | I93: =SUM(I94:I106) -> 30 | J93: =SUM(J94:J106) -> 8 | K93: =SUM(K94:K106) -> 382 | L93: =SUM(L94:L106) -> 13 | ... U93: =SUM(U94:U106) -> 1
B94: 6.1 | C94: ²í³½³ÏáõÃÛáõÝÁ | D94: 175 | E94: =Erebuni!E94+Kentron!E94+Ajapnjak!E94+Avan!E94+Arabkir!E94+Shengavit!E94+'Malatia-Sebastia'!E94+Kotayq!E94+Ararat!E94+Armavir!E94+Aragacotn!E94+Shirak!E94+Lori!E94+Tavush!E94+Gegharquniq!E94+Syuniq!E94 -> 25 | F94: =Erebuni!F94+Kentron!F94+Ajapnjak!F94+Avan!F94+Arabkir!F94+Shengavit!F94+'Malatia-Sebastia'!F94+Kotayq!F94+Ararat!F94+Armavir!F94+Aragacotn!F94+Shirak!F94+Lori!F94+Tavush!F94+Gegharquniq!F94+Syuniq!F94 -> 0 | G94: =Erebuni!G94+Kentron!G94+Ajapnjak!G94+Avan!G94+Arabkir!G94+Shengavit!G94+'Malatia-Sebastia'!G94+Kotayq!G94+Ararat!G94+Armavir!G94+Aragacotn!G94+Shirak!G94+Lori!G94+Tavush!G94+Gegharquniq!G94+Syuniq!G94 -> 16 | H94: =Erebuni!H94+Kentron!H94+Ajapnjak!H94+Avan!H94+Arabkir!H94+Shengavit!H94+'Malatia-Sebastia'!H94+Kotayq!H94+Ararat!H94+Armavir!H94+Aragacotn!H94+Shirak!H94+Lori!H94+Tavush!H94+Gegharquniq!H94+Syuniq!H94 -> 17 | I94: =Erebuni!I94+Kentron!I94+Ajapnjak!I94+Avan!I94+Arabkir!I94+Shengavit!I94+'Malatia-Sebastia'!I94+Kotayq!I94+Ararat!I94+Armavir!I94+Aragacotn!I94+Shirak!I94+Lori!I94+Tavush!I94+Gegharquniq!I94+Syuniq!I94 -> 0 | J94: =Erebuni!J94+Kentron!J94+Ajapnjak!J94+Avan!J94+Arabkir!J94+Shengavit!J94+'Malatia-Sebastia'!J94+Kotayq!J94+Ararat!J94+Armavir!J94+Aragacotn!J94+Shirak!J94+Lori!J94+Tavush!J94+Gegharquniq!J94+Syuniq!J94 -> 1 | K94: =Erebuni!K94+Kentron!K94+Ajapnjak!K94+Avan!K94+Arabkir!K94+Shengavit!K94+'Malatia-Sebastia'!K94+Kotayq!K94+Ararat!K94+Armavir!K94+Aragacotn!K94+Shirak!K94+Lori!K94+Tavush!K94+Gegharquniq!K94+Syuniq!K94 -> 18 | L94: =Erebuni!L94+Kentron!L94+Ajapnjak!L94+Avan!L94+Arabkir!L94+Shengavit!L94+'Malatia-Sebastia'!L94+Kotayq!L94+Ararat!L94+Armavir!L94+Aragacotn!L94+Shirak!L94+Lori!L94+Tavush!L94+Gegharquniq!L94+Syuniq!L94 -> 1 | ... U94: =Erebuni!U94+Kentron!U94+Ajapnjak!U94+Avan!U94+Arabkir!U94+Shengavit!U94+'Malatia-Sebastia'!U94+Kotayq!U94+Ararat!U94+Armavir!U94+Aragacotn!U94+Shirak!U94+Lori!U94+Tavush!U94+Gegharquniq!U94+Syuniq!U94 -> 0
B95: 6.2 | C95: ÎáÕáåáõïÁ | D95: 176 | E95: =Erebuni!E95+Kentron!E95+Ajapnjak!E95+Avan!E95+Arabkir!E95+Shengavit!E95+'Malatia-Sebastia'!E95+Kotayq!E95+Ararat!E95+Armavir!E95+Aragacotn!E95+Shirak!E95+Lori!E95+Tavush!E95+Gegharquniq!E95+Syuniq!E95 -> 23 | F95: =Erebuni!F95+Kentron!F95+Ajapnjak!F95+Avan!F95+Arabkir!F95+Shengavit!F95+'Malatia-Sebastia'!F95+Kotayq!F95+Ararat!F95+Armavir!F95+Aragacotn!F95+Shirak!F95+Lori!F95+Tavush!F95+Gegharquniq!F95+Syuniq!F95 -> 3 | G95: =Erebuni!G95+Kentron!G95+Ajapnjak!G95+Avan!G95+Arabkir!G95+Shengavit!G95+'Malatia-Sebastia'!G95+Kotayq!G95+Ararat!G95+Armavir!G95+Aragacotn!G95+Shirak!G95+Lori!G95+Tavush!G95+Gegharquniq!G95+Syuniq!G95 -> 35 | H95: =Erebuni!H95+Kentron!H95+Ajapnjak!H95+Avan!H95+Arabkir!H95+Shengavit!H95+'Malatia-Sebastia'!H95+Kotayq!H95+Ararat!H95+Armavir!H95+Aragacotn!H95+Shirak!H95+Lori!H95+Tavush!H95+Gegharquniq!H95+Syuniq!H95 -> 29 | I95: =Erebuni!I95+Kentron!I95+Ajapnjak!I95+Avan!I95+Arabkir!I95+Shengavit!I95+'Malatia-Sebastia'!I95+Kotayq!I95+Ararat!I95+Armavir!I95+Aragacotn!I95+Shirak!I95+Lori!I95+Tavush!I95+Gegharquniq!I95+Syuniq!I95 -> 1 | J95: =Erebuni!J95+Kentron!J95+Ajapnjak!J95+Avan!J95+Arabkir!J95+Shengavit!J95+'Malatia-Sebastia'!J95+Kotayq!J95+Ararat!J95+Armavir!J95+Aragacotn!J95+Shirak!J95+Lori!J95+Tavush!J95+Gegharquniq!J95+Syuniq!J95 -> 1 | K95: =Erebuni!K95+Kentron!K95+Ajapnjak!K95+Avan!K95+Arabkir!K95+Shengavit!K95+'Malatia-Sebastia'!K95+Kotayq!K95+Ararat!K95+Armavir!K95+Aragacotn!K95+Shirak!K95+Lori!K95+Tavush!K95+Gegharquniq!K95+Syuniq!K95 -> 31 | L95: =Erebuni!L95+Kentron!L95+Ajapnjak!L95+Avan!L95+Arabkir!L95+Shengavit!L95+'Malatia-Sebastia'!L95+Kotayq!L95+Ararat!L95+Armavir!L95+Aragacotn!L95+Shirak!L95+Lori!L95+Tavush!L95+Gegharquniq!L95+Syuniq!L95 -> 0 | ... U95: =Erebuni!U95+Kentron!U95+Ajapnjak!U95+Avan!U95+Arabkir!U95+Shengavit!U95+'Malatia-Sebastia'!U95+Kotayq!U95+Ararat!U95+Armavir!U95+Aragacotn!U95+Shirak!U95+Lori!U95+Tavush!U95+Gegharquniq!U95+Syuniq!U95 -> 0
B96: 6.3 | C96: ¶áÕáõÃÛáõÝÁ | D96: 177 | E96: =Erebuni!E96+Kentron!E96+Ajapnjak!E96+Avan!E96+Arabkir!E96+Shengavit!E96+'Malatia-Sebastia'!E96+Kotayq!E96+Ararat!E96+Armavir!E96+Aragacotn!E96+Shirak!E96+Lori!E96+Tavush!E96+Gegharquniq!E96+Syuniq!E96 -> 139 | F96: =Erebuni!F96+Kentron!F96+Ajapnjak!F96+Avan!F96+Arabkir!F96+Shengavit!F96+'Malatia-Sebastia'!F96+Kotayq!F96+Ararat!F96+Armavir!F96+Aragacotn!F96+Shirak!F96+Lori!F96+Tavush!F96+Gegharquniq!F96+Syuniq!F96 -> 17 | G96: =Erebuni!G96+Kentron!G96+Ajapnjak!G96+Avan!G96+Arabkir!G96+Shengavit!G96+'Malatia-Sebastia'!G96+Kotayq!G96+Ararat!G96+Armavir!G96+Aragacotn!G96+Shirak!G96+Lori!G96+Tavush!G96+Gegharquniq!G96+Syuniq!G96 -> 266 | H96: =Erebuni!H96+Kentron!H96+Ajapnjak!H96+Avan!H96+Arabkir!H96+Shengavit!H96+'Malatia-Sebastia'!H96+Kotayq!H96+Ararat!H96+Armavir!H96+Aragacotn!H96+Shirak!H96+Lori!H96+Tavush!H96+Gegharquniq!H96+Syuniq!H96 -> 197 | I96: =Erebuni!I96+Kentron!I96+Ajapnjak!I96+Avan!I96+Arabkir!I96+Shengavit!I96+'Malatia-Sebastia'!I96+Kotayq!I96+Ararat!I96+Armavir!I96+Aragacotn!I96+Shirak!I96+Lori!I96+Tavush!I96+Gegharquniq!I96+Syuniq!I96 -> 14 | J96: =Erebuni!J96+Kentron!J96+Ajapnjak!J96+Avan!J96+Arabkir!J96+Shengavit!J96+'Malatia-Sebastia'!J96+Kotayq!J96+Ararat!J96+Armavir!J96+Aragacotn!J96+Shirak!J96+Lori!J96+Tavush!J96+Gegharquniq!J96+Syuniq!J96 -> 5 | K96: =Erebuni!K96+Kentron!K96+Ajapnjak!K96+Avan!K96+Arabkir!K96+Shengavit!K96+'Malatia-Sebastia'!K96+Kotayq!K96+Ararat!K96+Armavir!K96+Aragacotn!K96+Shirak!K96+Lori!K96+Tavush!K96+Gegharquniq!K96+Syuniq!K96 -> 216 | L96: =Erebuni!L96+Kentron!L96+Ajapnjak!L96+Avan!L96+Arabkir!L96+Shengavit!L96+'Malatia-Sebastia'!L96+Kotayq!L96+Ararat!L96+Armavir!L96+Aragacotn!L96+Shirak!L96+Lori!L96+Tavush!L96+Gegharquniq!L96+Syuniq!L96 -> 5 | ... U96: =Erebuni!U96+Kentron!U96+Ajapnjak!U96+Avan!U96+Arabkir!U96+Shengavit!U96+'Malatia-Sebastia'!U96+Kotayq!U96+Ararat!U96+Armavir!U96+Aragacotn!U96+Shirak!U96+Lori!U96+Tavush!U96+Gegharquniq!U96+Syuniq!U96 -> 1
B97: 6.4 | C97: Ê³ñ¹³ËáõÃÛáõÝÁ | D97: 178 | E97: =Erebuni!E97+Kentron!E97+Ajapnjak!E97+Avan!E97+Arabkir!E97+Shengavit!E97+'Malatia-Sebastia'!E97+Kotayq!E97+Ararat!E97+Armavir!E97+Aragacotn!E97+Shirak!E97+Lori!E97+Tavush!E97+Gegharquniq!E97+Syuniq!E97 -> 121 | F97: =Erebuni!F97+Kentron!F97+Ajapnjak!F97+Avan!F97+Arabkir!F97+Shengavit!F97+'Malatia-Sebastia'!F97+Kotayq!F97+Ararat!F97+Armavir!F97+Aragacotn!F97+Shirak!F97+Lori!F97+Tavush!F97+Gegharquniq!F97+Syuniq!F97 -> 18 | G97: =Erebuni!G97+Kentron!G97+Ajapnjak!G97+Avan!G97+Arabkir!G97+Shengavit!G97+'Malatia-Sebastia'!G97+Kotayq!G97+Ararat!G97+Armavir!G97+Aragacotn!G97+Shirak!G97+Lori!G97+Tavush!G97+Gegharquniq!G97+Syuniq!G97 -> 73 | H97: =Erebuni!H97+Kentron!H97+Ajapnjak!H97+Avan!H97+Arabkir!H97+Shengavit!H97+'Malatia-Sebastia'!H97+Kotayq!H97+Ararat!H97+Armavir!H97+Aragacotn!H97+Shirak!H97+Lori!H97+Tavush!H97+Gegharquniq!H97+Syuniq!H97 -> 60 | I97: =Erebuni!I97+Kentron!I97+Ajapnjak!I97+Avan!I97+Arabkir!I97+Shengavit!I97+'Malatia-Sebastia'!I97+Kotayq!I97+Ararat!I97+Armavir!I97+Aragacotn!I97+Shirak!I97+Lori!I97+Tavush!I97+Gegharquniq!I97+Syuniq!I97 -> 7 | J97: =Erebuni!J97+Kentron!J97+Ajapnjak!J97+Avan!J97+Arabkir!J97+Shengavit!J97+'Malatia-Sebastia'!J97+Kotayq!J97+Ararat!J97+Armavir!J97+Aragacotn!J97+Shirak!J97+Lori!J97+Tavush!J97+Gegharquniq!J97+Syuniq!J97 -> 0 | K97: =Erebuni!K97+Kentron!K97+Ajapnjak!K97+Avan!K97+Arabkir!K97+Shengavit!K97+'Malatia-Sebastia'!K97+Kotayq!K97+Ararat!K97+Armavir!K97+Aragacotn!K97+Shirak!K97+Lori!K97+Tavush!K97+Gegharquniq!K97+Syuniq!K97 -> 67 | L97: =Erebuni!L97+Kentron!L97+Ajapnjak!L97+Avan!L97+Arabkir!L97+Shengavit!L97+'Malatia-Sebastia'!L97+Kotayq!L97+Ararat!L97+Armavir!L97+Aragacotn!L97+Shirak!L97+Lori!L97+Tavush!L97+Gegharquniq!L97+Syuniq!L97 -> 5 | ... U97: =Erebuni!U97+Kentron!U97+Ajapnjak!U97+Avan!U97+Arabkir!U97+Shengavit!U97+'Malatia-Sebastia'!U97+Kotayq!U97+Ararat!U97+Armavir!U97+Aragacotn!U97+Shirak!U97+Lori!U97+Tavush!U97+Gegharquniq!U97+Syuniq!U97 -> 0
B98: 6.5 | C98: Úáõñ³óÝ»ÉÁ Ï³Ù í³ïÝ»ÉÁ | D98: 179 | E98: =Erebuni!E98+Kentron!E98+Ajapnjak!E98+Avan!E98+Arabkir!E98+Shengavit!E98+'Malatia-Sebastia'!E98+Kotayq!E98+Ararat!E98+Armavir!E98+Aragacotn!E98+Shirak!E98+Lori!E98+Tavush!E98+Gegharquniq!E98+Syuniq!E98 -> 23 | F98: =Erebuni!F98+Kentron!F98+Ajapnjak!F98+Avan!F98+Arabkir!F98+Shengavit!F98+'Malatia-Sebastia'!F98+Kotayq!F98+Ararat!F98+Armavir!F98+Aragacotn!F98+Shirak!F98+Lori!F98+Tavush!F98+Gegharquniq!F98+Syuniq!F98 -> 4 | G98: =Erebuni!G98+Kentron!G98+Ajapnjak!G98+Avan!G98+Arabkir!G98+Shengavit!G98+'Malatia-Sebastia'!G98+Kotayq!G98+Ararat!G98+Armavir!G98+Aragacotn!G98+Shirak!G98+Lori!G98+Tavush!G98+Gegharquniq!G98+Syuniq!G98 -> 34 | H98: =Erebuni!H98+Kentron!H98+Ajapnjak!H98+Avan!H98+Arabkir!H98+Shengavit!H98+'Malatia-Sebastia'!H98+Kotayq!H98+Ararat!H98+Armavir!H98+Aragacotn!H98+Shirak!H98+Lori!H98+Tavush!H98+Gegharquniq!H98+Syuniq!H98 -> 24 | I98: =Erebuni!I98+Kentron!I98+Ajapnjak!I98+Avan!I98+Arabkir!I98+Shengavit!I98+'Malatia-Sebastia'!I98+Kotayq!I98+Ararat!I98+Armavir!I98+Aragacotn!I98+Shirak!I98+Lori!I98+Tavush!I98+Gegharquniq!I98+Syuniq!I98 -> 2 | J98: =Erebuni!J98+Kentron!J98+Ajapnjak!J98+Avan!J98+Arabkir!J98+Shengavit!J98+'Malatia-Sebastia'!J98+Kotayq!J98+Ararat!J98+Armavir!J98+Aragacotn!J98+Shirak!J98+Lori!J98+Tavush!J98+Gegharquniq!J98+Syuniq!J98 -> 0 | K98: =Erebuni!K98+Kentron!K98+Ajapnjak!K98+Avan!K98+Arabkir!K98+Shengavit!K98+'Malatia-Sebastia'!K98+Kotayq!K98+Ararat!K98+Armavir!K98+Aragacotn!K98+Shirak!K98+Lori!K98+Tavush!K98+Gegharquniq!K98+Syuniq!K98 -> 26 | L98: =Erebuni!L98+Kentron!L98+Ajapnjak!L98+Avan!L98+Arabkir!L98+Shengavit!L98+'Malatia-Sebastia'!L98+Kotayq!L98+Ararat!L98+Armavir!L98+Aragacotn!L98+Shirak!L98+Lori!L98+Tavush!L98+Gegharquniq!L98+Syuniq!L98 -> 0 | ... U98: =Erebuni!U98+Kentron!U98+Ajapnjak!U98+Avan!U98+Arabkir!U98+Shengavit!U98+'Malatia-Sebastia'!U98+Kotayq!U98+Ararat!U98+Armavir!U98+Aragacotn!U98+Shirak!U98+Lori!U98+Tavush!U98+Gegharquniq!U98+Syuniq!U98 -> 0
B99: 6.6 | C99: ²é³ÝÓÝ³ÏÇ ³ñÅ»ù áõÝ»óáÕ ³é³ñÏ³Ý»ñ Ñ³÷ßï³Ï»ÉÁ | D99: 180 | E99: =Erebuni!E99+Kentron!E99+Ajapnjak!E99+Avan!E99+Arabkir!E99+Shengavit!E99+'Malatia-Sebastia'!E99+Kotayq!E99+Ararat!E99+Armavir!E99+Aragacotn!E99+Shirak!E99+Lori!E99+Tavush!E99+Gegharquniq!E99+Syuniq!E99 -> 0 | F99: =Erebuni!F99+Kentron!F99+Ajapnjak!F99+Avan!F99+Arabkir!F99+Shengavit!F99+'Malatia-Sebastia'!F99+Kotayq!F99+Ararat!F99+Armavir!F99+Aragacotn!F99+Shirak!F99+Lori!F99+Tavush!F99+Gegharquniq!F99+Syuniq!F99 -> 0 | G99: =Erebuni!G99+Kentron!G99+Ajapnjak!G99+Avan!G99+Arabkir!G99+Shengavit!G99+'Malatia-Sebastia'!G99+Kotayq!G99+Ararat!G99+Armavir!G99+Aragacotn!G99+Shirak!G99+Lori!G99+Tavush!G99+Gegharquniq!G99+Syuniq!G99 -> 0 | H99: =Erebuni!H99+Kentron!H99+Ajapnjak!H99+Avan!H99+Arabkir!H99+Shengavit!H99+'Malatia-Sebastia'!H99+Kotayq!H99+Ararat!H99+Armavir!H99+Aragacotn!H99+Shirak!H99+Lori!H99+Tavush!H99+Gegharquniq!H99+Syuniq!H99 -> 0 | I99: =Erebuni!I99+Kentron!I99+Ajapnjak!I99+Avan!I99+Arabkir!I99+Shengavit!I99+'Malatia-Sebastia'!I99+Kotayq!I99+Ararat!I99+Armavir!I99+Aragacotn!I99+Shirak!I99+Lori!I99+Tavush!I99+Gegharquniq!I99+Syuniq!I99 -> 0 | J99: =Erebuni!J99+Kentron!J99+Ajapnjak!J99+Avan!J99+Arabkir!J99+Shengavit!J99+'Malatia-Sebastia'!J99+Kotayq!J99+Ararat!J99+Armavir!J99+Aragacotn!J99+Shirak!J99+Lori!J99+Tavush!J99+Gegharquniq!J99+Syuniq!J99 -> 0 | K99: =Erebuni!K99+Kentron!K99+Ajapnjak!K99+Avan!K99+Arabkir!K99+Shengavit!K99+'Malatia-Sebastia'!K99+Kotayq!K99+Ararat!K99+Armavir!K99+Aragacotn!K99+Shirak!K99+Lori!K99+Tavush!K99+Gegharquniq!K99+Syuniq!K99 -> 0 | L99: =Erebuni!L99+Kentron!L99+Ajapnjak!L99+Avan!L99+Arabkir!L99+Shengavit!L99+'Malatia-Sebastia'!L99+Kotayq!L99+Ararat!L99+Armavir!L99+Aragacotn!L99+Shirak!L99+Lori!L99+Tavush!L99+Gegharquniq!L99+Syuniq!L99 -> 0 | ... U99: =Erebuni!U99+Kentron!U99+Ajapnjak!U99+Avan!U99+Arabkir!U99+Shengavit!U99+'Malatia-Sebastia'!U99+Kotayq!U99+Ararat!U99+Armavir!U99+Aragacotn!U99+Shirak!U99+Lori!U99+Tavush!U99+Gegharquniq!U99+Syuniq!U99 -> 0
B100: 6.7 | C100: Ð³÷ßï³ÏáõÃÛáõÝÁ, áñÁ Ï³ï³ñí»É ¿ Ñ³Ù³Ï³ñ·ã³ÛÇÝ ï»ËÝÇÏ³ÛÇ û·ï³·áñÍÙ³Ùµ | D100: 181 | E100: =Erebuni!E100+Kentron!E100+Ajapnjak!E100+Avan!E100+Arabkir!E100+Shengavit!E100+'Malatia-Sebastia'!E100+Kotayq!E100+Ararat!E100+Armavir!E100+Aragacotn!E100+Shirak!E100+Lori!E100+Tavush!E100+Gegharquniq!E100+Syuniq!E100 -> 0 | F100: =Erebuni!F100+Kentron!F100+Ajapnjak!F100+Avan!F100+Arabkir!F100+Shengavit!F100+'Malatia-Sebastia'!F100+Kotayq!F100+Ararat!F100+Armavir!F100+Aragacotn!F100+Shirak!F100+Lori!F100+Tavush!F100+Gegharquniq!F100+Syuniq!F100 -> 0 | G100: =Erebuni!G100+Kentron!G100+Ajapnjak!G100+Avan!G100+Arabkir!G100+Shengavit!G100+'Malatia-Sebastia'!G100+Kotayq!G100+Ararat!G100+Armavir!G100+Aragacotn!G100+Shirak!G100+Lori!G100+Tavush!G100+Gegharquniq!G100+Syuniq!G100 -> 1 | H100: =Erebuni!H100+Kentron!H100+Ajapnjak!H100+Avan!H100+Arabkir!H100+Shengavit!H100+'Malatia-Sebastia'!H100+Kotayq!H100+Ararat!H100+Armavir!H100+Aragacotn!H100+Shirak!H100+Lori!H100+Tavush!H100+Gegharquniq!H100+Syuniq!H100 -> 1 | I100: =Erebuni!I100+Kentron!I100+Ajapnjak!I100+Avan!I100+Arabkir!I100+Shengavit!I100+'Malatia-Sebastia'!I100+Kotayq!I100+Ararat!I100+Armavir!I100+Aragacotn!I100+Shirak!I100+Lori!I100+Tavush!I100+Gegharquniq!I100+Syuniq!I100 -> 0 | J100: =Erebuni!J100+Kentron!J100+Ajapnjak!J100+Avan!J100+Arabkir!J100+Shengavit!J100+'Malatia-Sebastia'!J100+Kotayq!J100+Ararat!J100+Armavir!J100+Aragacotn!J100+Shirak!J100+Lori!J100+Tavush!J100+Gegharquniq!J100+Syuniq!J100 -> 0 | K100: =Erebuni!K100+Kentron!K100+Ajapnjak!K100+Avan!K100+Arabkir!K100+Shengavit!K100+'Malatia-Sebastia'!K100+Kotayq!K100+Ararat!K100+Armavir!K100+Aragacotn!K100+Shirak!K100+Lori!K100+Tavush!K100+Gegharquniq!K100+Syuniq!K100 -> 1 | L100: =Erebuni!L100+Kentron!L100+Ajapnjak!L100+Avan!L100+Arabkir!L100+Shengavit!L100+'Malatia-Sebastia'!L100+Kotayq!L100+Ararat!L100+Armavir!L100+Aragacotn!L100+Shirak!L100+Lori!L100+Tavush!L100+Gegharquniq!L100+Syuniq!L100 -> 0 | ... U100: =Erebuni!U100+Kentron!U100+Ajapnjak!U100+Avan!U100+Arabkir!U100+Shengavit!U100+'Malatia-Sebastia'!U100+Kotayq!U100+Ararat!U100+Armavir!U100+Aragacotn!U100+Shirak!U100+Lori!U100+Tavush!U100+Gegharquniq!U100+Syuniq!U100 -> 0
B101: 6.8 | C101: ÞáñÃáõÙÁ | D101: 182 | E101: =Erebuni!E101+Kentron!E101+Ajapnjak!E101+Avan!E101+Arabkir!E101+Shengavit!E101+'Malatia-Sebastia'!E101+Kotayq!E101+Ararat!E101+Armavir!E101+Aragacotn!E101+Shirak!E101+Lori!E101+Tavush!E101+Gegharquniq!E101+Syuniq!E101 -> 4 | F101: =Erebuni!F101+Kentron!F101+Ajapnjak!F101+Avan!F101+Arabkir!F101+Shengavit!F101+'Malatia-Sebastia'!F101+Kotayq!F101+Ararat!F101+Armavir!F101+Aragacotn!F101+Shirak!F101+Lori!F101+Tavush!F101+Gegharquniq!F101+Syuniq!F101 -> 1 | G101: =Erebuni!G101+Kentron!G101+Ajapnjak!G101+Avan!G101+Arabkir!G101+Shengavit!G101+'Malatia-Sebastia'!G101+Kotayq!G101+Ararat!G101+Armavir!G101+Aragacotn!G101+Shirak!G101+Lori!G101+Tavush!G101+Gegharquniq!G101+Syuniq!G101 -> 10 | H101: =Erebuni!H101+Kentron!H101+Ajapnjak!H101+Avan!H101+Arabkir!H101+Shengavit!H101+'Malatia-Sebastia'!H101+Kotayq!H101+Ararat!H101+Armavir!H101+Aragacotn!H101+Shirak!H101+Lori!H101+Tavush!H101+Gegharquniq!H101+Syuniq!H101 -> 4 | I101: =Erebuni!I101+Kentron!I101+Ajapnjak!I101+Avan!I101+Arabkir!I101+Shengavit!I101+'Malatia-Sebastia'!I101+Kotayq!I101+Ararat!I101+Armavir!I101+Aragacotn!I101+Shirak!I101+Lori!I101+Tavush!I101+Gegharquniq!I101+Syuniq!I101 -> 0 | J101: =Erebuni!J101+Kentron!J101+Ajapnjak!J101+Avan!J101+Arabkir!J101+Shengavit!J101+'Malatia-Sebastia'!J101+Kotayq!J101+Ararat!J101+Armavir!J101+Aragacotn!J101+Shirak!J101+Lori!J101+Tavush!J101+Gegharquniq!J101+Syuniq!J101 -> 0 | K101: =Erebuni!K101+Kentron!K101+Ajapnjak!K101+Avan!K101+Arabkir!K101+Shengavit!K101+'Malatia-Sebastia'!K101+Kotayq!K101+Ararat!K101+Armavir!K101+Aragacotn!K101+Shirak!K101+Lori!K101+Tavush!K101+Gegharquniq!K101+Syuniq!K101 -> 4 | L101: =Erebuni!L101+Kentron!L101+Ajapnjak!L101+Avan!L101+Arabkir!L101+Shengavit!L101+'Malatia-Sebastia'!L101+Kotayq!L101+Ararat!L101+Armavir!L101+Aragacotn!L101+Shirak!L101+Lori!L101+Tavush!L101+Gegharquniq!L101+Syuniq!L101 -> 2 | ... U101: =Erebuni!U101+Kentron!U101+Ajapnjak!U101+Avan!U101+Arabkir!U101+Shengavit!U101+'Malatia-Sebastia'!U101+Kotayq!U101+Ararat!U101+Armavir!U101+Aragacotn!U101+Shirak!U101+Lori!U101+Tavush!U101+Gegharquniq!U101+Syuniq!U101 -> 0
B102: 6.9 | C102: ²íïáÙ»ù»Ý³ÛÇÝ Ï³Ù ïñ³Ýëåáñï³ÛÇÝ ³ÛÉ ÙÇçáóÇÝ ³åûñÇÝ³µ³ñ ïÇñ³Ý³ÉÝ ³é³Ýó Ñ³÷ßï³Ï»Éáõ Ýå³ï³ÏÇ | D102: 183 | E102: =Erebuni!E102+Kentron!E102+Ajapnjak!E102+Avan!E102+Arabkir!E102+Shengavit!E102+'Malatia-Sebastia'!E102+Kotayq!E102+Ararat!E102+Armavir!E102+Aragacotn!E102+Shirak!E102+Lori!E102+Tavush!E102+Gegharquniq!E102+Syuniq!E102 -> 3 | F102: =Erebuni!F102+Kentron!F102+Ajapnjak!F102+Avan!F102+Arabkir!F102+Shengavit!F102+'Malatia-Sebastia'!F102+Kotayq!F102+Ararat!F102+Armavir!F102+Aragacotn!F102+Shirak!F102+Lori!F102+Tavush!F102+Gegharquniq!F102+Syuniq!F102 -> 2 | G102: =Erebuni!G102+Kentron!G102+Ajapnjak!G102+Avan!G102+Arabkir!G102+Shengavit!G102+'Malatia-Sebastia'!G102+Kotayq!G102+Ararat!G102+Armavir!G102+Aragacotn!G102+Shirak!G102+Lori!G102+Tavush!G102+Gegharquniq!G102+Syuniq!G102 -> 1 | H102: =Erebuni!H102+Kentron!H102+Ajapnjak!H102+Avan!H102+Arabkir!H102+Shengavit!H102+'Malatia-Sebastia'!H102+Kotayq!H102+Ararat!H102+Armavir!H102+Aragacotn!H102+Shirak!H102+Lori!H102+Tavush!H102+Gegharquniq!H102+Syuniq!H102 -> 0 | I102: =Erebuni!I102+Kentron!I102+Ajapnjak!I102+Avan!I102+Arabkir!I102+Shengavit!I102+'Malatia-Sebastia'!I102+Kotayq!I102+Ararat!I102+Armavir!I102+Aragacotn!I102+Shirak!I102+Lori!I102+Tavush!I102+Gegharquniq!I102+Syuniq!I102 -> 1 | J102: =Erebuni!J102+Kentron!J102+Ajapnjak!J102+Avan!J102+Arabkir!J102+Shengavit!J102+'Malatia-Sebastia'!J102+Kotayq!J102+Ararat!J102+Armavir!J102+Aragacotn!J102+Shirak!J102+Lori!J102+Tavush!J102+Gegharquniq!J102+Syuniq!J102 -> 0 | K102: =Erebuni!K102+Kentron!K102+Ajapnjak!K102+Avan!K102+Arabkir!K102+Shengavit!K102+'Malatia-Sebastia'!K102+Kotayq!K102+Ararat!K102+Armavir!K102+Aragacotn!K102+Shirak!K102+Lori!K102+Tavush!K102+Gegharquniq!K102+Syuniq!K102 -> 1 | L102: =Erebuni!L102+Kentron!L102+Ajapnjak!L102+Avan!L102+Arabkir!L102+Shengavit!L102+'Malatia-Sebastia'!L102+Kotayq!L102+Ararat!L102+Armavir!L102+Aragacotn!L102+Shirak!L102+Lori!L102+Tavush!L102+Gegharquniq!L102+Syuniq!L102 -> 0 | ... U102: =Erebuni!U102+Kentron!U102+Ajapnjak!U102+Avan!U102+Arabkir!U102+Shengavit!U102+'Malatia-Sebastia'!U102+Kotayq!U102+Ararat!U102+Armavir!U102+Aragacotn!U102+Shirak!U102+Lori!U102+Tavush!U102+Gegharquniq!U102+Syuniq!U102 -> 0
B103: 6.10 | C103: ¶áõÛù³ÛÇÝ íÝ³ë å³ï×³é»ÉÁ Ë³µ»áõÃÛ³Ý Ï³Ù íëï³ÑáõÃÛáõÝÁ ã³ñ³ß³Ñ»Éáõ »Õ³Ý³Ïáí | D103: 184 | E103: =Erebuni!E103+Kentron!E103+Ajapnjak!E103+Avan!E103+Arabkir!E103+Shengavit!E103+'Malatia-Sebastia'!E103+Kotayq!E103+Ararat!E103+Armavir!E103+Aragacotn!E103+Shirak!E103+Lori!E103+Tavush!E103+Gegharquniq!E103+Syuniq!E103 -> 1 | F103: =Erebuni!F103+Kentron!F103+Ajapnjak!F103+Avan!F103+Arabkir!F103+Shengavit!F103+'Malatia-Sebastia'!F103+Kotayq!F103+Ararat!F103+Armavir!F103+Aragacotn!F103+Shirak!F103+Lori!F103+Tavush!F103+Gegharquniq!F103+Syuniq!F103 -> 0 | G103: =Erebuni!G103+Kentron!G103+Ajapnjak!G103+Avan!G103+Arabkir!G103+Shengavit!G103+'Malatia-Sebastia'!G103+Kotayq!G103+Ararat!G103+Armavir!G103+Aragacotn!G103+Shirak!G103+Lori!G103+Tavush!G103+Gegharquniq!G103+Syuniq!G103 -> 2 | H103: =Erebuni!H103+Kentron!H103+Ajapnjak!H103+Avan!H103+Arabkir!H103+Shengavit!H103+'Malatia-Sebastia'!H103+Kotayq!H103+Ararat!H103+Armavir!H103+Aragacotn!H103+Shirak!H103+Lori!H103+Tavush!H103+Gegharquniq!H103+Syuniq!H103 -> 2 | I103: =Erebuni!I103+Kentron!I103+Ajapnjak!I103+Avan!I103+Arabkir!I103+Shengavit!I103+'Malatia-Sebastia'!I103+Kotayq!I103+Ararat!I103+Armavir!I103+Aragacotn!I103+Shirak!I103+Lori!I103+Tavush!I103+Gegharquniq!I103+Syuniq!I103 -> 0 | J103: =Erebuni!J103+Kentron!J103+Ajapnjak!J103+Avan!J103+Arabkir!J103+Shengavit!J103+'Malatia-Sebastia'!J103+Kotayq!J103+Ararat!J103+Armavir!J103+Aragacotn!J103+Shirak!J103+Lori!J103+Tavush!J103+Gegharquniq!J103+Syuniq!J103 -> 0 | K103: =Erebuni!K103+Kentron!K103+Ajapnjak!K103+Avan!K103+Arabkir!K103+Shengavit!K103+'Malatia-Sebastia'!K103+Kotayq!K103+Ararat!K103+Armavir!K103+Aragacotn!K103+Shirak!K103+Lori!K103+Tavush!K103+Gegharquniq!K103+Syuniq!K103 -> 2 | L103: =Erebuni!L103+Kentron!L103+Ajapnjak!L103+Avan!L103+Arabkir!L103+Shengavit!L103+'Malatia-Sebastia'!L103+Kotayq!L103+Ararat!L103+Armavir!L103+Aragacotn!L103+Shirak!L103+Lori!L103+Tavush!L103+Gegharquniq!L103+Syuniq!L103 -> 0 | ... U103: =Erebuni!U103+Kentron!U103+Ajapnjak!U103+Avan!U103+Arabkir!U103+Shengavit!U103+'Malatia-Sebastia'!U103+Kotayq!U103+Ararat!U103+Armavir!U103+Aragacotn!U103+Shirak!U103+Lori!U103+Tavush!U103+Gegharquniq!U103+Syuniq!U103 -> 0
B104: 6.11 | C104: ¶áõÛùÁ ¹Çï³íáñáõÃÛ³Ùµ áãÝã³óÝ»ÉÁ Ï³Ù íÝ³ë»ÉÁ | D104: 185 | E104: =Erebuni!E104+Kentron!E104+Ajapnjak!E104+Avan!E104+Arabkir!E104+Shengavit!E104+'Malatia-Sebastia'!E104+Kotayq!E104+Ararat!E104+Armavir!E104+Aragacotn!E104+Shirak!E104+Lori!E104+Tavush!E104+Gegharquniq!E104+Syuniq!E104 -> 10 | F104: =Erebuni!F104+Kentron!F104+Ajapnjak!F104+Avan!F104+Arabkir!F104+Shengavit!F104+'Malatia-Sebastia'!F104+Kotayq!F104+Ararat!F104+Armavir!F104+Aragacotn!F104+Shirak!F104+Lori!F104+Tavush!F104+Gegharquniq!F104+Syuniq!F104 -> 0 | G104: =Erebuni!G104+Kentron!G104+Ajapnjak!G104+Avan!G104+Arabkir!G104+Shengavit!G104+'Malatia-Sebastia'!G104+Kotayq!G104+Ararat!G104+Armavir!G104+Aragacotn!G104+Shirak!G104+Lori!G104+Tavush!G104+Gegharquniq!G104+Syuniq!G104 -> 9 | H104: =Erebuni!H104+Kentron!H104+Ajapnjak!H104+Avan!H104+Arabkir!H104+Shengavit!H104+'Malatia-Sebastia'!H104+Kotayq!H104+Ararat!H104+Armavir!H104+Aragacotn!H104+Shirak!H104+Lori!H104+Tavush!H104+Gegharquniq!H104+Syuniq!H104 -> 8 | I104: =Erebuni!I104+Kentron!I104+Ajapnjak!I104+Avan!I104+Arabkir!I104+Shengavit!I104+'Malatia-Sebastia'!I104+Kotayq!I104+Ararat!I104+Armavir!I104+Aragacotn!I104+Shirak!I104+Lori!I104+Tavush!I104+Gegharquniq!I104+Syuniq!I104 -> 5 | J104: =Erebuni!J104+Kentron!J104+Ajapnjak!J104+Avan!J104+Arabkir!J104+Shengavit!J104+'Malatia-Sebastia'!J104+Kotayq!J104+Ararat!J104+Armavir!J104+Aragacotn!J104+Shirak!J104+Lori!J104+Tavush!J104+Gegharquniq!J104+Syuniq!J104 -> 1 | K104: =Erebuni!K104+Kentron!K104+Ajapnjak!K104+Avan!K104+Arabkir!K104+Shengavit!K104+'Malatia-Sebastia'!K104+Kotayq!K104+Ararat!K104+Armavir!K104+Aragacotn!K104+Shirak!K104+Lori!K104+Tavush!K104+Gegharquniq!K104+Syuniq!K104 -> 14 | L104: =Erebuni!L104+Kentron!L104+Ajapnjak!L104+Avan!L104+Arabkir!L104+Shengavit!L104+'Malatia-Sebastia'!L104+Kotayq!L104+Ararat!L104+Armavir!L104+Aragacotn!L104+Shirak!L104+Lori!L104+Tavush!L104+Gegharquniq!L104+Syuniq!L104 -> 0 | ... U104: =Erebuni!U104+Kentron!U104+Ajapnjak!U104+Avan!U104+Arabkir!U104+Shengavit!U104+'Malatia-Sebastia'!U104+Kotayq!U104+Ararat!U104+Armavir!U104+Aragacotn!U104+Shirak!U104+Lori!U104+Tavush!U104+Gegharquniq!U104+Syuniq!U104 -> 0
B105: 6.12 | C105: ¶áõÛùÝ ³Ý½·áõßáõÃÛ³Ùµ áãÝã³óÝ»ÉÁ Ï³Ù íÝ³ë»ÉÁ | D105: 186 | E105: =Erebuni!E105+Kentron!E105+Ajapnjak!E105+Avan!E105+Arabkir!E105+Shengavit!E105+'Malatia-Sebastia'!E105+Kotayq!E105+Ararat!E105+Armavir!E105+Aragacotn!E105+Shirak!E105+Lori!E105+Tavush!E105+Gegharquniq!E105+Syuniq!E105 -> 0 | F105: =Erebuni!F105+Kentron!F105+Ajapnjak!F105+Avan!F105+Arabkir!F105+Shengavit!F105+'Malatia-Sebastia'!F105+Kotayq!F105+Ararat!F105+Armavir!F105+Aragacotn!F105+Shirak!F105+Lori!F105+Tavush!F105+Gegharquniq!F105+Syuniq!F105 -> 0 | G105: =Erebuni!G105+Kentron!G105+Ajapnjak!G105+Avan!G105+Arabkir!G105+Shengavit!G105+'Malatia-Sebastia'!G105+Kotayq!G105+Ararat!G105+Armavir!G105+Aragacotn!G105+Shirak!G105+Lori!G105+Tavush!G105+Gegharquniq!G105+Syuniq!G105 -> 2 | H105: =Erebuni!H105+Kentron!H105+Ajapnjak!H105+Avan!H105+Arabkir!H105+Shengavit!H105+'Malatia-Sebastia'!H105+Kotayq!H105+Ararat!H105+Armavir!H105+Aragacotn!H105+Shirak!H105+Lori!H105+Tavush!H105+Gegharquniq!H105+Syuniq!H105 -> 1 | I105: =Erebuni!I105+Kentron!I105+Ajapnjak!I105+Avan!I105+Arabkir!I105+Shengavit!I105+'Malatia-Sebastia'!I105+Kotayq!I105+Ararat!I105+Armavir!I105+Aragacotn!I105+Shirak!I105+Lori!I105+Tavush!I105+Gegharquniq!I105+Syuniq!I105 -> 0 | J105: =Erebuni!J105+Kentron!J105+Ajapnjak!J105+Avan!J105+Arabkir!J105+Shengavit!J105+'Malatia-Sebastia'!J105+Kotayq!J105+Ararat!J105+Armavir!J105+Aragacotn!J105+Shirak!J105+Lori!J105+Tavush!J105+Gegharquniq!J105+Syuniq!J105 -> 0 | K105: =Erebuni!K105+Kentron!K105+Ajapnjak!K105+Avan!K105+Arabkir!K105+Shengavit!K105+'Malatia-Sebastia'!K105+Kotayq!K105+Ararat!K105+Armavir!K105+Aragacotn!K105+Shirak!K105+Lori!K105+Tavush!K105+Gegharquniq!K105+Syuniq!K105 -> 1 | L105: =Erebuni!L105+Kentron!L105+Ajapnjak!L105+Avan!L105+Arabkir!L105+Shengavit!L105+'Malatia-Sebastia'!L105+Kotayq!L105+Ararat!L105+Armavir!L105+Aragacotn!L105+Shirak!L105+Lori!L105+Tavush!L105+Gegharquniq!L105+Syuniq!L105 -> 0 | ... U105: =Erebuni!U105+Kentron!U105+Ajapnjak!U105+Avan!U105+Arabkir!U105+Shengavit!U105+'Malatia-Sebastia'!U105+Kotayq!U105+Ararat!U105+Armavir!U105+Aragacotn!U105+Shirak!U105+Lori!U105+Tavush!U105+Gegharquniq!U105+Syuniq!U105 -> 0
B106: 6.13 | C106: Գուքի պահպանության պարտականություններն անփույթ կամ անբարեխիղճ կատարելը | D106: 186.1 | E106: =Erebuni!E106+Kentron!E106+Ajapnjak!E106+Avan!E106+Arabkir!E106+Shengavit!E106+'Malatia-Sebastia'!E106+Kotayq!E106+Ararat!E106+Armavir!E106+Aragacotn!E106+Shirak!E106+Lori!E106+Tavush!E106+Gegharquniq!E106+Syuniq!E106 -> 0 | F106: =Erebuni!F106+Kentron!F106+Ajapnjak!F106+Avan!F106+Arabkir!F106+Shengavit!F106+'Malatia-Sebastia'!F106+Kotayq!F106+Ararat!F106+Armavir!F106+Aragacotn!F106+Shirak!F106+Lori!F106+Tavush!F106+Gegharquniq!F106+Syuniq!F106 -> 0 | G106: =Erebuni!G106+Kentron!G106+Ajapnjak!G106+Avan!G106+Arabkir!G106+Shengavit!G106+'Malatia-Sebastia'!G106+Kotayq!G106+Ararat!G106+Armavir!G106+Aragacotn!G106+Shirak!G106+Lori!G106+Tavush!G106+Gegharquniq!G106+Syuniq!G106 -> 1 | H106: =Erebuni!H106+Kentron!H106+Ajapnjak!H106+Avan!H106+Arabkir!H106+Shengavit!H106+'Malatia-Sebastia'!H106+Kotayq!H106+Ararat!H106+Armavir!H106+Aragacotn!H106+Shirak!H106+Lori!H106+Tavush!H106+Gegharquniq!H106+Syuniq!H106 -> 1 | I106: =Erebuni!I106+Kentron!I106+Ajapnjak!I106+Avan!I106+Arabkir!I106+Shengavit!I106+'Malatia-Sebastia'!I106+Kotayq!I106+Ararat!I106+Armavir!I106+Aragacotn!I106+Shirak!I106+Lori!I106+Tavush!I106+Gegharquniq!I106+Syuniq!I106 -> 0 | J106: =Erebuni!J106+Kentron!J106+Ajapnjak!J106+Avan!J106+Arabkir!J106+Shengavit!J106+'Malatia-Sebastia'!J106+Kotayq!J106+Ararat!J106+Armavir!J106+Aragacotn!J106+Shirak!J106+Lori!J106+Tavush!J106+Gegharquniq!J106+Syuniq!J106 -> 0 | K106: =Erebuni!K106+Kentron!K106+Ajapnjak!K106+Avan!K106+Arabkir!K106+Shengavit!K106+'Malatia-Sebastia'!K106+Kotayq!K106+Ararat!K106+Armavir!K106+Aragacotn!K106+Shirak!K106+Lori!K106+Tavush!K106+Gegharquniq!K106+Syuniq!K106 -> 1 | L106: =Erebuni!L106+Kentron!L106+Ajapnjak!L106+Avan!L106+Arabkir!L106+Shengavit!L106+'Malatia-Sebastia'!L106+Kotayq!L106+Ararat!L106+Armavir!L106+Aragacotn!L106+Shirak!L106+Lori!L106+Tavush!L106+Gegharquniq!L106+Syuniq!L106 -> 0 | ... U106: =Erebuni!U106+Kentron!U106+Ajapnjak!U106+Avan!U106+Arabkir!U106+Shengavit!U106+'Malatia-Sebastia'!U106+Kotayq!U106+Ararat!U106+Armavir!U106+Aragacotn!U106+Shirak!U106+Lori!U106+Tavush!U106+Gegharquniq!U106+Syuniq!U106 -> 0
B107: 7. | C107: ÀÝ¹³Ù»ÝÁ ïÝï»ë³Ï³Ý ·áñÍáõÝ»áõÃÛ³Ý ¹»Ù áõÕÕí³Í Ñ³Ýó³·áñÍáõÃÛáõÝÝ»ñÁ | E107: =SUM(E108:E139) -> 62 | F107: =SUM(F108:F139) -> 14 | G107: =SUM(G108:G139) -> 69 | H107: =SUM(H108:H139) -> 60 | I107: =SUM(I108:I139) -> 1 | J107: =SUM(J108:J139) -> 0 | K107: =SUM(K108:K139) -> 61 | L107: =SUM(L108:L139) -> 5 | ... U107: =SUM(U108:U139) -> 1
B108: 7.1 | C108: úñÇÝ³Ï³Ý Ó»éÝ³ñÏ³ïÇñ³Ï³Ý ¨ ³ÛÉ ïÝï»ë³Ï³Ý ·áñÍáõÝ»áõÃÛ³ÝÁ ËáãÁÝ¹áï»ÉÁ | D108: 187 | E108: =Erebuni!E108+Kentron!E108+Ajapnjak!E108+Avan!E108+Arabkir!E108+Shengavit!E108+'Malatia-Sebastia'!E108+Kotayq!E108+Ararat!E108+Armavir!E108+Aragacotn!E108+Shirak!E108+Lori!E108+Tavush!E108+Gegharquniq!E108+Syuniq!E108 -> 0 | F108: =Erebuni!F108+Kentron!F108+Ajapnjak!F108+Avan!F108+Arabkir!F108+Shengavit!F108+'Malatia-Sebastia'!F108+Kotayq!F108+Ararat!F108+Armavir!F108+Aragacotn!F108+Shirak!F108+Lori!F108+Tavush!F108+Gegharquniq!F108+Syuniq!F108 -> 0 | G108: =Erebuni!G108+Kentron!G108+Ajapnjak!G108+Avan!G108+Arabkir!G108+Shengavit!G108+'Malatia-Sebastia'!G108+Kotayq!G108+Ararat!G108+Armavir!G108+Aragacotn!G108+Shirak!G108+Lori!G108+Tavush!G108+Gegharquniq!G108+Syuniq!G108 -> 0 | H108: =Erebuni!H108+Kentron!H108+Ajapnjak!H108+Avan!H108+Arabkir!H108+Shengavit!H108+'Malatia-Sebastia'!H108+Kotayq!H108+Ararat!H108+Armavir!H108+Aragacotn!H108+Shirak!H108+Lori!H108+Tavush!H108+Gegharquniq!H108+Syuniq!H108 -> 0 | I108: =Erebuni!I108+Kentron!I108+Ajapnjak!I108+Avan!I108+Arabkir!I108+Shengavit!I108+'Malatia-Sebastia'!I108+Kotayq!I108+Ararat!I108+Armavir!I108+Aragacotn!I108+Shirak!I108+Lori!I108+Tavush!I108+Gegharquniq!I108+Syuniq!I108 -> 0 | J108: =Erebuni!J108+Kentron!J108+Ajapnjak!J108+Avan!J108+Arabkir!J108+Shengavit!J108+'Malatia-Sebastia'!J108+Kotayq!J108+Ararat!J108+Armavir!J108+Aragacotn!J108+Shirak!J108+Lori!J108+Tavush!J108+Gegharquniq!J108+Syuniq!J108 -> 0 | K108: =Erebuni!K108+Kentron!K108+Ajapnjak!K108+Avan!K108+Arabkir!K108+Shengavit!K108+'Malatia-Sebastia'!K108+Kotayq!K108+Ararat!K108+Armavir!K108+Aragacotn!K108+Shirak!K108+Lori!K108+Tavush!K108+Gegharquniq!K108+Syuniq!K108 -> 0 | L108: =Erebuni!L108+Kentron!L108+Ajapnjak!L108+Avan!L108+Arabkir!L108+Shengavit!L108+'Malatia-Sebastia'!L108+Kotayq!L108+Ararat!L108+Armavir!L108+Aragacotn!L108+Shirak!L108+Lori!L108+Tavush!L108+Gegharquniq!L108+Syuniq!L108 -> 0 | ... U108: =Erebuni!U108+Kentron!U108+Ajapnjak!U108+Avan!U108+Arabkir!U108+Shengavit!U108+'Malatia-Sebastia'!U108+Kotayq!U108+Ararat!U108+Armavir!U108+Aragacotn!U108+Shirak!U108+Lori!U108+Tavush!U108+Gegharquniq!U108+Syuniq!U108 -> 0
B109: 7.2 | C109: ²åûñÇÝÇ Ó»éÝ³ñÏ³ïÇñáõÃÛáõÝÁ | D109: 188 | E109: =Erebuni!E109+Kentron!E109+Ajapnjak!E109+Avan!E109+Arabkir!E109+Shengavit!E109+'Malatia-Sebastia'!E109+Kotayq!E109+Ararat!E109+Armavir!E109+Aragacotn!E109+Shirak!E109+Lori!E109+Tavush!E109+Gegharquniq!E109+Syuniq!E109 -> 4 | F109: =Erebuni!F109+Kentron!F109+Ajapnjak!F109+Avan!F109+Arabkir!F109+Shengavit!F109+'Malatia-Sebastia'!F109+Kotayq!F109+Ararat!F109+Armavir!F109+Aragacotn!F109+Shirak!F109+Lori!F109+Tavush!F109+Gegharquniq!F109+Syuniq!F109 -> 3 | G109: =Erebuni!G109+Kentron!G109+Ajapnjak!G109+Avan!G109+Arabkir!G109+Shengavit!G109+'Malatia-Sebastia'!G109+Kotayq!G109+Ararat!G109+Armavir!G109+Aragacotn!G109+Shirak!G109+Lori!G109+Tavush!G109+Gegharquniq!G109+Syuniq!G109 -> 2 | H109: =Erebuni!H109+Kentron!H109+Ajapnjak!H109+Avan!H109+Arabkir!H109+Shengavit!H109+'Malatia-Sebastia'!H109+Kotayq!H109+Ararat!H109+Armavir!H109+Aragacotn!H109+Shirak!H109+Lori!H109+Tavush!H109+Gegharquniq!H109+Syuniq!H109 -> 2 | I109: =Erebuni!I109+Kentron!I109+Ajapnjak!I109+Avan!I109+Arabkir!I109+Shengavit!I109+'Malatia-Sebastia'!I109+Kotayq!I109+Ararat!I109+Armavir!I109+Aragacotn!I109+Shirak!I109+Lori!I109+Tavush!I109+Gegharquniq!I109+Syuniq!I109 -> 0 | J109: =Erebuni!J109+Kentron!J109+Ajapnjak!J109+Avan!J109+Arabkir!J109+Shengavit!J109+'Malatia-Sebastia'!J109+Kotayq!J109+Ararat!J109+Armavir!J109+Aragacotn!J109+Shirak!J109+Lori!J109+Tavush!J109+Gegharquniq!J109+Syuniq!J109 -> 0 | K109: =Erebuni!K109+Kentron!K109+Ajapnjak!K109+Avan!K109+Arabkir!K109+Shengavit!K109+'Malatia-Sebastia'!K109+Kotayq!K109+Ararat!K109+Armavir!K109+Aragacotn!K109+Shirak!K109+Lori!K109+Tavush!K109+Gegharquniq!K109+Syuniq!K109 -> 2 | L109: =Erebuni!L109+Kentron!L109+Ajapnjak!L109+Avan!L109+Arabkir!L109+Shengavit!L109+'Malatia-Sebastia'!L109+Kotayq!L109+Ararat!L109+Armavir!L109+Aragacotn!L109+Shirak!L109+Lori!L109+Tavush!L109+Gegharquniq!L109+Syuniq!L109 -> 0 | ... U109: =Erebuni!U109+Kentron!U109+Ajapnjak!U109+Avan!U109+Arabkir!U109+Shengavit!U109+'Malatia-Sebastia'!U109+Kotayq!U109+Ararat!U109+Armavir!U109+Aragacotn!U109+Shirak!U109+Lori!U109+Tavush!U109+Gegharquniq!U109+Syuniq!U109 -> 0
B110: 7.3 | C110: ²é³Ýó ÉÇó»Ý³½Ç³ÛÇ ³ñï³ñÅáõÛÃÇ í³×³éùÇ Çñ³Ï³Ý³óáõÙÁ | D110: 188.1 | E110: =Erebuni!E110+Kentron!E110+Ajapnjak!E110+Avan!E110+Arabkir!E110+Shengavit!E110+'Malatia-Sebastia'!E110+Kotayq!E110+Ararat!E110+Armavir!E110+Aragacotn!E110+Shirak!E110+Lori!E110+Tavush!E110+Gegharquniq!E110+Syuniq!E110 -> 1 | F110: =Erebuni!F110+Kentron!F110+Ajapnjak!F110+Avan!F110+Arabkir!F110+Shengavit!F110+'Malatia-Sebastia'!F110+Kotayq!F110+Ararat!F110+Armavir!F110+Aragacotn!F110+Shirak!F110+Lori!F110+Tavush!F110+Gegharquniq!F110+Syuniq!F110 -> 0 | G110: =Erebuni!G110+Kentron!G110+Ajapnjak!G110+Avan!G110+Arabkir!G110+Shengavit!G110+'Malatia-Sebastia'!G110+Kotayq!G110+Ararat!G110+Armavir!G110+Aragacotn!G110+Shirak!G110+Lori!G110+Tavush!G110+Gegharquniq!G110+Syuniq!G110 -> 24 | H110: =Erebuni!H110+Kentron!H110+Ajapnjak!H110+Avan!H110+Arabkir!H110+Shengavit!H110+'Malatia-Sebastia'!H110+Kotayq!H110+Ararat!H110+Armavir!H110+Aragacotn!H110+Shirak!H110+Lori!H110+Tavush!H110+Gegharquniq!H110+Syuniq!H110 -> 14 | I110: =Erebuni!I110+Kentron!I110+Ajapnjak!I110+Avan!I110+Arabkir!I110+Shengavit!I110+'Malatia-Sebastia'!I110+Kotayq!I110+Ararat!I110+Armavir!I110+Aragacotn!I110+Shirak!I110+Lori!I110+Tavush!I110+Gegharquniq!I110+Syuniq!I110 -> 0 | J110: =Erebuni!J110+Kentron!J110+Ajapnjak!J110+Avan!J110+Arabkir!J110+Shengavit!J110+'Malatia-Sebastia'!J110+Kotayq!J110+Ararat!J110+Armavir!J110+Aragacotn!J110+Shirak!J110+Lori!J110+Tavush!J110+Gegharquniq!J110+Syuniq!J110 -> 0 | K110: =Erebuni!K110+Kentron!K110+Ajapnjak!K110+Avan!K110+Arabkir!K110+Shengavit!K110+'Malatia-Sebastia'!K110+Kotayq!K110+Ararat!K110+Armavir!K110+Aragacotn!K110+Shirak!K110+Lori!K110+Tavush!K110+Gegharquniq!K110+Syuniq!K110 -> 14 | L110: =Erebuni!L110+Kentron!L110+Ajapnjak!L110+Avan!L110+Arabkir!L110+Shengavit!L110+'Malatia-Sebastia'!L110+Kotayq!L110+Ararat!L110+Armavir!L110+Aragacotn!L110+Shirak!L110+Lori!L110+Tavush!L110+Gegharquniq!L110+Syuniq!L110 -> 3 | ... U110: =Erebuni!U110+Kentron!U110+Ajapnjak!U110+Avan!U110+Arabkir!U110+Shengavit!U110+'Malatia-Sebastia'!U110+Kotayq!U110+Ararat!U110+Armavir!U110+Aragacotn!U110+Shirak!U110+Lori!U110+Tavush!U110+Gegharquniq!U110+Syuniq!U110 -> 0
B111: 7.4 | C111: Î»ÕÍ Ó»éÝ³ñÏ³ïÇñáõÃÛáõÝÁ | D111: 189 | E111: =Erebuni!E111+Kentron!E111+Ajapnjak!E111+Avan!E111+Arabkir!E111+Shengavit!E111+'Malatia-Sebastia'!E111+Kotayq!E111+Ararat!E111+Armavir!E111+Aragacotn!E111+Shirak!E111+Lori!E111+Tavush!E111+Gegharquniq!E111+Syuniq!E111 -> 2 | F111: =Erebuni!F111+Kentron!F111+Ajapnjak!F111+Avan!F111+Arabkir!F111+Shengavit!F111+'Malatia-Sebastia'!F111+Kotayq!F111+Ararat!F111+Armavir!F111+Aragacotn!F111+Shirak!F111+Lori!F111+Tavush!F111+Gegharquniq!F111+Syuniq!F111 -> 1 | G111: =Erebuni!G111+Kentron!G111+Ajapnjak!G111+Avan!G111+Arabkir!G111+Shengavit!G111+'Malatia-Sebastia'!G111+Kotayq!G111+Ararat!G111+Armavir!G111+Aragacotn!G111+Shirak!G111+Lori!G111+Tavush!G111+Gegharquniq!G111+Syuniq!G111 -> 0 | H111: =Erebuni!H111+Kentron!H111+Ajapnjak!H111+Avan!H111+Arabkir!H111+Shengavit!H111+'Malatia-Sebastia'!H111+Kotayq!H111+Ararat!H111+Armavir!H111+Aragacotn!H111+Shirak!H111+Lori!H111+Tavush!H111+Gegharquniq!H111+Syuniq!H111 -> 0 | I111: =Erebuni!I111+Kentron!I111+Ajapnjak!I111+Avan!I111+Arabkir!I111+Shengavit!I111+'Malatia-Sebastia'!I111+Kotayq!I111+Ararat!I111+Armavir!I111+Aragacotn!I111+Shirak!I111+Lori!I111+Tavush!I111+Gegharquniq!I111+Syuniq!I111 -> 0 | J111: =Erebuni!J111+Kentron!J111+Ajapnjak!J111+Avan!J111+Arabkir!J111+Shengavit!J111+'Malatia-Sebastia'!J111+Kotayq!J111+Ararat!J111+Armavir!J111+Aragacotn!J111+Shirak!J111+Lori!J111+Tavush!J111+Gegharquniq!J111+Syuniq!J111 -> 0 | K111: =Erebuni!K111+Kentron!K111+Ajapnjak!K111+Avan!K111+Arabkir!K111+Shengavit!K111+'Malatia-Sebastia'!K111+Kotayq!K111+Ararat!K111+Armavir!K111+Aragacotn!K111+Shirak!K111+Lori!K111+Tavush!K111+Gegharquniq!K111+Syuniq!K111 -> 0 | L111: =Erebuni!L111+Kentron!L111+Ajapnjak!L111+Avan!L111+Arabkir!L111+Shengavit!L111+'Malatia-Sebastia'!L111+Kotayq!L111+Ararat!L111+Armavir!L111+Aragacotn!L111+Shirak!L111+Lori!L111+Tavush!L111+Gegharquniq!L111+Syuniq!L111 -> 0 | ... U111: =Erebuni!U111+Kentron!U111+Ajapnjak!U111+Avan!U111+Arabkir!U111+Shengavit!U111+'Malatia-Sebastia'!U111+Kotayq!U111+Ararat!U111+Armavir!U111+Aragacotn!U111+Shirak!U111+Lori!U111+Tavush!U111+Gegharquniq!U111+Syuniq!U111 -> 0
B112: 7.5 | C112: Ð³Ýó³íáñ ×³Ý³å³ñÑáí ëï³óí³Í ·áõÛùÝ ûñÇÝ³Ï³Ý³óÝ»ÉÁ (÷áÕ»ñÇ Éí³óáõÙÁ) | D112: 190 | E112: =Erebuni!E112+Kentron!E112+Ajapnjak!E112+Avan!E112+Arabkir!E112+Shengavit!E112+'Malatia-Sebastia'!E112+Kotayq!E112+Ararat!E112+Armavir!E112+Aragacotn!E112+Shirak!E112+Lori!E112+Tavush!E112+Gegharquniq!E112+Syuniq!E112 -> 1 | F112: =Erebuni!F112+Kentron!F112+Ajapnjak!F112+Avan!F112+Arabkir!F112+Shengavit!F112+'Malatia-Sebastia'!F112+Kotayq!F112+Ararat!F112+Armavir!F112+Aragacotn!F112+Shirak!F112+Lori!F112+Tavush!F112+Gegharquniq!F112+Syuniq!F112 -> 1 | G112: =Erebuni!G112+Kentron!G112+Ajapnjak!G112+Avan!G112+Arabkir!G112+Shengavit!G112+'Malatia-Sebastia'!G112+Kotayq!G112+Ararat!G112+Armavir!G112+Aragacotn!G112+Shirak!G112+Lori!G112+Tavush!G112+Gegharquniq!G112+Syuniq!G112 -> 2 | H112: =Erebuni!H112+Kentron!H112+Ajapnjak!H112+Avan!H112+Arabkir!H112+Shengavit!H112+'Malatia-Sebastia'!H112+Kotayq!H112+Ararat!H112+Armavir!H112+Aragacotn!H112+Shirak!H112+Lori!H112+Tavush!H112+Gegharquniq!H112+Syuniq!H112 -> 1 | I112: =Erebuni!I112+Kentron!I112+Ajapnjak!I112+Avan!I112+Arabkir!I112+Shengavit!I112+'Malatia-Sebastia'!I112+Kotayq!I112+Ararat!I112+Armavir!I112+Aragacotn!I112+Shirak!I112+Lori!I112+Tavush!I112+Gegharquniq!I112+Syuniq!I112 -> 0 | J112: =Erebuni!J112+Kentron!J112+Ajapnjak!J112+Avan!J112+Arabkir!J112+Shengavit!J112+'Malatia-Sebastia'!J112+Kotayq!J112+Ararat!J112+Armavir!J112+Aragacotn!J112+Shirak!J112+Lori!J112+Tavush!J112+Gegharquniq!J112+Syuniq!J112 -> 0 | K112: =Erebuni!K112+Kentron!K112+Ajapnjak!K112+Avan!K112+Arabkir!K112+Shengavit!K112+'Malatia-Sebastia'!K112+Kotayq!K112+Ararat!K112+Armavir!K112+Aragacotn!K112+Shirak!K112+Lori!K112+Tavush!K112+Gegharquniq!K112+Syuniq!K112 -> 1 | L112: =Erebuni!L112+Kentron!L112+Ajapnjak!L112+Avan!L112+Arabkir!L112+Shengavit!L112+'Malatia-Sebastia'!L112+Kotayq!L112+Ararat!L112+Armavir!L112+Aragacotn!L112+Shirak!L112+Lori!L112+Tavush!L112+Gegharquniq!L112+Syuniq!L112 -> 0 | ... U112: =Erebuni!U112+Kentron!U112+Ajapnjak!U112+Avan!U112+Arabkir!U112+Shengavit!U112+'Malatia-Sebastia'!U112+Kotayq!U112+Ararat!U112+Armavir!U112+Aragacotn!U112+Shirak!U112+Lori!U112+Tavush!U112+Gegharquniq!U112+Syuniq!U112 -> 0
B113: 7.6 | C113: ì³ñÏÁ áã Ýå³ï³Ï³ÛÇÝ û·ï³·áñÍ»ÉÁ | D113: 191 | E113: =Erebuni!E113+Kentron!E113+Ajapnjak!E113+Avan!E113+Arabkir!E113+Shengavit!E113+'Malatia-Sebastia'!E113+Kotayq!E113+Ararat!E113+Armavir!E113+Aragacotn!E113+Shirak!E113+Lori!E113+Tavush!E113+Gegharquniq!E113+Syuniq!E113 -> 1 | F113: =Erebuni!F113+Kentron!F113+Ajapnjak!F113+Avan!F113+Arabkir!F113+Shengavit!F113+'Malatia-Sebastia'!F113+Kotayq!F113+Ararat!F113+Armavir!F113+Aragacotn!F113+Shirak!F113+Lori!F113+Tavush!F113+Gegharquniq!F113+Syuniq!F113 -> 0 | G113: =Erebuni!G113+Kentron!G113+Ajapnjak!G113+Avan!G113+Arabkir!G113+Shengavit!G113+'Malatia-Sebastia'!G113+Kotayq!G113+Ararat!G113+Armavir!G113+Aragacotn!G113+Shirak!G113+Lori!G113+Tavush!G113+Gegharquniq!G113+Syuniq!G113 -> 0 | H113: =Erebuni!H113+Kentron!H113+Ajapnjak!H113+Avan!H113+Arabkir!H113+Shengavit!H113+'Malatia-Sebastia'!H113+Kotayq!H113+Ararat!H113+Armavir!H113+Aragacotn!H113+Shirak!H113+Lori!H113+Tavush!H113+Gegharquniq!H113+Syuniq!H113 -> 0 | I113: =Erebuni!I113+Kentron!I113+Ajapnjak!I113+Avan!I113+Arabkir!I113+Shengavit!I113+'Malatia-Sebastia'!I113+Kotayq!I113+Ararat!I113+Armavir!I113+Aragacotn!I113+Shirak!I113+Lori!I113+Tavush!I113+Gegharquniq!I113+Syuniq!I113 -> 0 | J113: =Erebuni!J113+Kentron!J113+Ajapnjak!J113+Avan!J113+Arabkir!J113+Shengavit!J113+'Malatia-Sebastia'!J113+Kotayq!J113+Ararat!J113+Armavir!J113+Aragacotn!J113+Shirak!J113+Lori!J113+Tavush!J113+Gegharquniq!J113+Syuniq!J113 -> 0 | K113: =Erebuni!K113+Kentron!K113+Ajapnjak!K113+Avan!K113+Arabkir!K113+Shengavit!K113+'Malatia-Sebastia'!K113+Kotayq!K113+Ararat!K113+Armavir!K113+Aragacotn!K113+Shirak!K113+Lori!K113+Tavush!K113+Gegharquniq!K113+Syuniq!K113 -> 0 | L113: =Erebuni!L113+Kentron!L113+Ajapnjak!L113+Avan!L113+Arabkir!L113+Shengavit!L113+'Malatia-Sebastia'!L113+Kotayq!L113+Ararat!L113+Armavir!L113+Aragacotn!L113+Shirak!L113+Lori!L113+Tavush!L113+Gegharquniq!L113+Syuniq!L113 -> 0 | ... U113: =Erebuni!U113+Kentron!U113+Ajapnjak!U113+Avan!U113+Arabkir!U113+Shengavit!U113+'Malatia-Sebastia'!U113+Kotayq!U113+Ararat!U113+Armavir!U113+Aragacotn!U113+Shirak!U113+Lori!U113+Tavush!U113+Gegharquniq!U113+Syuniq!U113 -> 0
B114: 7.7 | C114: ²ÝûñÇÝ³Ï³Ý ·áñÍáÕáõÃÛáõÝÝ»ñÁ ëÝ³ÝÏáõÃÛ³Ý ÁÝÃ³óùáõÙ | D114: 192 | E114: =Erebuni!E114+Kentron!E114+Ajapnjak!E114+Avan!E114+Arabkir!E114+Shengavit!E114+'Malatia-Sebastia'!E114+Kotayq!E114+Ararat!E114+Armavir!E114+Aragacotn!E114+Shirak!E114+Lori!E114+Tavush!E114+Gegharquniq!E114+Syuniq!E114 -> 0 | F114: =Erebuni!F114+Kentron!F114+Ajapnjak!F114+Avan!F114+Arabkir!F114+Shengavit!F114+'Malatia-Sebastia'!F114+Kotayq!F114+Ararat!F114+Armavir!F114+Aragacotn!F114+Shirak!F114+Lori!F114+Tavush!F114+Gegharquniq!F114+Syuniq!F114 -> 0 | G114: =Erebuni!G114+Kentron!G114+Ajapnjak!G114+Avan!G114+Arabkir!G114+Shengavit!G114+'Malatia-Sebastia'!G114+Kotayq!G114+Ararat!G114+Armavir!G114+Aragacotn!G114+Shirak!G114+Lori!G114+Tavush!G114+Gegharquniq!G114+Syuniq!G114 -> 0 | H114: =Erebuni!H114+Kentron!H114+Ajapnjak!H114+Avan!H114+Arabkir!H114+Shengavit!H114+'Malatia-Sebastia'!H114+Kotayq!H114+Ararat!H114+Armavir!H114+Aragacotn!H114+Shirak!H114+Lori!H114+Tavush!H114+Gegharquniq!H114+Syuniq!H114 -> 0 | I114: =Erebuni!I114+Kentron!I114+Ajapnjak!I114+Avan!I114+Arabkir!I114+Shengavit!I114+'Malatia-Sebastia'!I114+Kotayq!I114+Ararat!I114+Armavir!I114+Aragacotn!I114+Shirak!I114+Lori!I114+Tavush!I114+Gegharquniq!I114+Syuniq!I114 -> 0 | J114: =Erebuni!J114+Kentron!J114+Ajapnjak!J114+Avan!J114+Arabkir!J114+Shengavit!J114+'Malatia-Sebastia'!J114+Kotayq!J114+Ararat!J114+Armavir!J114+Aragacotn!J114+Shirak!J114+Lori!J114+Tavush!J114+Gegharquniq!J114+Syuniq!J114 -> 0 | K114: =Erebuni!K114+Kentron!K114+Ajapnjak!K114+Avan!K114+Arabkir!K114+Shengavit!K114+'Malatia-Sebastia'!K114+Kotayq!K114+Ararat!K114+Armavir!K114+Aragacotn!K114+Shirak!K114+Lori!K114+Tavush!K114+Gegharquniq!K114+Syuniq!K114 -> 0 | L114: =Erebuni!L114+Kentron!L114+Ajapnjak!L114+Avan!L114+Arabkir!L114+Shengavit!L114+'Malatia-Sebastia'!L114+Kotayq!L114+Ararat!L114+Armavir!L114+Aragacotn!L114+Shirak!L114+Lori!L114+Tavush!L114+Gegharquniq!L114+Syuniq!L114 -> 0 | ... U114: =Erebuni!U114+Kentron!U114+Ajapnjak!U114+Avan!U114+Arabkir!U114+Shengavit!U114+'Malatia-Sebastia'!U114+Kotayq!U114+Ararat!U114+Armavir!U114+Aragacotn!U114+Shirak!U114+Lori!U114+Tavush!U114+Gegharquniq!U114+Syuniq!U114 -> 0
B115: 7.8 | C115: Î³ÝË³Ùï³Íí³Í ëÝ³ÝÏáõÃÛáõÝÁ | D115: 193 | E115: =Erebuni!E115+Kentron!E115+Ajapnjak!E115+Avan!E115+Arabkir!E115+Shengavit!E115+'Malatia-Sebastia'!E115+Kotayq!E115+Ararat!E115+Armavir!E115+Aragacotn!E115+Shirak!E115+Lori!E115+Tavush!E115+Gegharquniq!E115+Syuniq!E115 -> 3 | F115: =Erebuni!F115+Kentron!F115+Ajapnjak!F115+Avan!F115+Arabkir!F115+Shengavit!F115+'Malatia-Sebastia'!F115+Kotayq!F115+Ararat!F115+Armavir!F115+Aragacotn!F115+Shirak!F115+Lori!F115+Tavush!F115+Gegharquniq!F115+Syuniq!F115 -> 1 | G115: =Erebuni!G115+Kentron!G115+Ajapnjak!G115+Avan!G115+Arabkir!G115+Shengavit!G115+'Malatia-Sebastia'!G115+Kotayq!G115+Ararat!G115+Armavir!G115+Aragacotn!G115+Shirak!G115+Lori!G115+Tavush!G115+Gegharquniq!G115+Syuniq!G115 -> 2 | H115: =Erebuni!H115+Kentron!H115+Ajapnjak!H115+Avan!H115+Arabkir!H115+Shengavit!H115+'Malatia-Sebastia'!H115+Kotayq!H115+Ararat!H115+Armavir!H115+Aragacotn!H115+Shirak!H115+Lori!H115+Tavush!H115+Gegharquniq!H115+Syuniq!H115 -> 1 | I115: =Erebuni!I115+Kentron!I115+Ajapnjak!I115+Avan!I115+Arabkir!I115+Shengavit!I115+'Malatia-Sebastia'!I115+Kotayq!I115+Ararat!I115+Armavir!I115+Aragacotn!I115+Shirak!I115+Lori!I115+Tavush!I115+Gegharquniq!I115+Syuniq!I115 -> 0 | J115: =Erebuni!J115+Kentron!J115+Ajapnjak!J115+Avan!J115+Arabkir!J115+Shengavit!J115+'Malatia-Sebastia'!J115+Kotayq!J115+Ararat!J115+Armavir!J115+Aragacotn!J115+Shirak!J115+Lori!J115+Tavush!J115+Gegharquniq!J115+Syuniq!J115 -> 0 | K115: =Erebuni!K115+Kentron!K115+Ajapnjak!K115+Avan!K115+Arabkir!K115+Shengavit!K115+'Malatia-Sebastia'!K115+Kotayq!K115+Ararat!K115+Armavir!K115+Aragacotn!K115+Shirak!K115+Lori!K115+Tavush!K115+Gegharquniq!K115+Syuniq!K115 -> 1 | L115: =Erebuni!L115+Kentron!L115+Ajapnjak!L115+Avan!L115+Arabkir!L115+Shengavit!L115+'Malatia-Sebastia'!L115+Kotayq!L115+Ararat!L115+Armavir!L115+Aragacotn!L115+Shirak!L115+Lori!L115+Tavush!L115+Gegharquniq!L115+Syuniq!L115 -> 0 | ... U115: =Erebuni!U115+Kentron!U115+Ajapnjak!U115+Avan!U115+Arabkir!U115+Shengavit!U115+'Malatia-Sebastia'!U115+Kotayq!U115+Ararat!U115+Armavir!U115+Aragacotn!U115+Shirak!U115+Lori!U115+Tavush!U115+Gegharquniq!U115+Syuniq!U115 -> 0
B116: 7.9 | C116: Î»ÕÍ ëÝ³ÝÏáõÃÛáõÝÁ | D116: 194 | E116: =Erebuni!E116+Kentron!E116+Ajapnjak!E116+Avan!E116+Arabkir!E116+Shengavit!E116+'Malatia-Sebastia'!E116+Kotayq!E116+Ararat!E116+Armavir!E116+Aragacotn!E116+Shirak!E116+Lori!E116+Tavush!E116+Gegharquniq!E116+Syuniq!E116 -> 0 | F116: =Erebuni!F116+Kentron!F116+Ajapnjak!F116+Avan!F116+Arabkir!F116+Shengavit!F116+'Malatia-Sebastia'!F116+Kotayq!F116+Ararat!F116+Armavir!F116+Aragacotn!F116+Shirak!F116+Lori!F116+Tavush!F116+Gegharquniq!F116+Syuniq!F116 -> 0 | G116: =Erebuni!G116+Kentron!G116+Ajapnjak!G116+Avan!G116+Arabkir!G116+Shengavit!G116+'Malatia-Sebastia'!G116+Kotayq!G116+Ararat!G116+Armavir!G116+Aragacotn!G116+Shirak!G116+Lori!G116+Tavush!G116+Gegharquniq!G116+Syuniq!G116 -> 0 | H116: =Erebuni!H116+Kentron!H116+Ajapnjak!H116+Avan!H116+Arabkir!H116+Shengavit!H116+'Malatia-Sebastia'!H116+Kotayq!H116+Ararat!H116+Armavir!H116+Aragacotn!H116+Shirak!H116+Lori!H116+Tavush!H116+Gegharquniq!H116+Syuniq!H116 -> 0 | I116: =Erebuni!I116+Kentron!I116+Ajapnjak!I116+Avan!I116+Arabkir!I116+Shengavit!I116+'Malatia-Sebastia'!I116+Kotayq!I116+Ararat!I116+Armavir!I116+Aragacotn!I116+Shirak!I116+Lori!I116+Tavush!I116+Gegharquniq!I116+Syuniq!I116 -> 0 | J116: =Erebuni!J116+Kentron!J116+Ajapnjak!J116+Avan!J116+Arabkir!J116+Shengavit!J116+'Malatia-Sebastia'!J116+Kotayq!J116+Ararat!J116+Armavir!J116+Aragacotn!J116+Shirak!J116+Lori!J116+Tavush!J116+Gegharquniq!J116+Syuniq!J116 -> 0 | K116: =Erebuni!K116+Kentron!K116+Ajapnjak!K116+Avan!K116+Arabkir!K116+Shengavit!K116+'Malatia-Sebastia'!K116+Kotayq!K116+Ararat!K116+Armavir!K116+Aragacotn!K116+Shirak!K116+Lori!K116+Tavush!K116+Gegharquniq!K116+Syuniq!K116 -> 0 | L116: =Erebuni!L116+Kentron!L116+Ajapnjak!L116+Avan!L116+Arabkir!L116+Shengavit!L116+'Malatia-Sebastia'!L116+Kotayq!L116+Ararat!L116+Armavir!L116+Aragacotn!L116+Shirak!L116+Lori!L116+Tavush!L116+Gegharquniq!L116+Syuniq!L116 -> 0 | ... U116: =Erebuni!U116+Kentron!U116+Ajapnjak!U116+Avan!U116+Arabkir!U116+Shengavit!U116+'Malatia-Sebastia'!U116+Kotayq!U116+Ararat!U116+Armavir!U116+Aragacotn!U116+Shirak!U116+Lori!U116+Tavush!U116+Gegharquniq!U116+Syuniq!U116 -> 0
...

Sheet Erebuni
B1: 2015Ã. 1-ÇÝ ÏÇë³ÙÛ³Ï | E1: Ð²ÞìºîìàôÂÚàôÜ | R1: Ïազմված ՀՀ կառավարության 19.03.2015թ. Ãիվ 306-Ն որոշման հիման վրա
B2: ºðºì²Ü ø²Ô²øÆ ¾ðº´àôÜÆ ºì Üàô´²ð²ÞºÜ ì²ðâ²Î²Ü Þðæ²ÜÜºðÆ ÀÜ¸Ð²Üàôð Æð²ì²êàôÂÚ²Ü ²è²æÆÜ ²îÚ²ÜÆ ¸²î²ð²ÜàôØ ՔՐԵԱԿԱՆ ¶àðÌºðÆ øÜÜàôÂÚ²Ü ìºð²´ºðÚ²È
B3: ºñ¨³Ý ù³Õ³ùÇ ¾ñ»µáõÝÇ ¨ Üáõµ³ñ³ß»Ý í³ñã³Ï³Ý ßñç³ÝÝ»ñÇ ÁÝ¹Ñ³Ýáõñ Çñ³í³ëáõÃÛ³Ý ³é³çÇÝ ³ïÛ³ÝÇ ¹³ï³ñ³ÝáõÙ ùñ»³Ï³Ý Ù³ëÝ³·Çï³óáõÙ áõÝ»óáÕ ¹³ï³íáñÝ»ñÇ Ñ³ëïÇùÝ»ñÇ ù³Ý³ÏÁ` 4
B4: êïáõ·Çã Ñ³í³ë³ñáõÙÝ»ñ` 1+3=7+8+10, 7=4+5+6, 14=12+13, 17=15+16 | D4: ÐÐ ùñ»³Ï³Ý ûñ»Ýë·ñùÇ Ñá¹í³ÍÝ»ñ | E4: Ð³ßí»ïáõ Å³Ù³Ý³Ï³Ñ³ïí³ÍÇ ëÏ½µáõÙ Ý³Ëáñ¹ Ñ³ßí»ïáõ Å³Ù³Ý³Ï³Ñ³ïí³ÍÇó ÷áË³Ýóí³Í ·áñÍ»ñÇ ÁÝ¹Ñ³Ýáõñ ÃÇíÁ | F4: ²Û¹ ÃíáõÙ` Ï³ë»óí³Í íÇ×³ÏáõÙ ÷áË³Ýóí³Í | G4: Ð³ßí»ïáõ Å³Ù³Ý³Ï³Ñ³ïí³ÍáõÙ ëï³óí³Í ·áñÍ»ñÇ ÁÝ¹Ñ³Ýáõñ ÃÇíÁ | H4: Ð³ßí»ïáõ Å³Ù³Ý³Ï³Ñ³ïí³ÍáõÙ ³í³ñïí³Í ·áñÍ»ñի ընդհանուր թիվը | L4: àõÕ³ñÏí»É ¿ Áëï ÁÝ¹¹³ïáõÃÛ³Ý | M4: Ð³ßí»ïáõ Å³Ù³Ý³Ï³Ñ³ïí³ÍáõÙ Ï³ë»óí³Í í³ñáõÛÃÝ»ñáí ·áñÍ»ñÇ ÁÝ¹Ñ³Ýáõñ ÃÇíÁ | N4: Ð³ßí»ïáõ Å³Ù³Ý³Ï³Ñ³ïí³ÍáõÙ ³Ý³í³ñï ·áñÍ»ñÇ ÁÝ¹Ñ³Ýáõñ ÃÇíÁ | O4: ²Û¹ ÃíáõÙª Ï³ë»óí³Í | P4: ´áÕáù³ñÏí³Í ¹³ï³Ï³Ý ³Ïï»ñÇ ÃÇíÁ` Áëï ï»ë³ÏÝ»ñÇ | S4: ´»Ï³Ýí³Í ¹³ï³Ï³Ý ³Ïï»ñÇ ÃÇíÁ` Áëï ï»ë³ÏÝ»ñÇ
H5: øÝÝí»É ¿ Áëï ¿áõÃÛ³Ý ¨ ¹³ï³í×Çé Ï³Û³óí»É | J5: ՈñáßáõÙ ¿ Ï³Û³óí»É ³ÝÙ»ÕëáõÝ³ÏÝ»ñÇ ÝÏ³ïÙ³Ùµ µÅßÏ³Ï³Ý µÝáõÛÃÇ Ñ³ñÏ³¹ñ³Ï³Ý ÙÇçáóÝ»ñ ÏÇñ³é»Éáõ Ù³ëÇÝ | K5: ÀÝ¹³Ù»ÝÁ ³í³ñïí»É »Ý ·áñÍ»ñ
I6: ՈñáßáõÙ ¿ Ï³Û³óí»É ùñ»³Ï³Ý ·áñÍÇ í³ñáõÛÃÁ Ï³ñ×»Éáõ ¨ ùñ»³Ï³Ý Ñ»ï³åÝ¹áõÙÁ ¹³¹³ñ»óÝ»Éáõ Ù³ëÇÝ | P6: ²Û¹ ÃíáõÙ` ·áñÍÝ Áëï ¿áõÃÛ³Ý ÉáõÍáÕ ¹³ï³Ï³Ý ³Ïï»ñÁ | Q6: ²Û¹ ÃíáõÙ` ÙÇç³ÝÏÛ³É ¹³ï³Ï³Ý ³Ïï»ñÁ | R6: ÀÝ¹³Ù»ÝÁ | S6: ²Û¹ ÃíáõÙ` ·áñÍÝ Áëï ¿áõÃÛ³Ý ÉáõÍáÕ ¹³ï³Ï³Ý ³Ïï»ñÁ | T6: ²Û¹ ÃíáõÙ` ÙÇç³ÝÏÛ³É ¹³ï³Ï³Ý ³Ïï»ñÁ | U6: ÀÝ¹³Ù»ÝÁ
E7: 1 | F7: 2 | G7: 3 | H7: 4 | I7: 5 | J7: 6 | K7: 7 | L7: 8 | M7: 9 | N7: 10 | O7: 11 | P7: 12 | Q7: 13 | R7: 14 | S7: 15 | T7: 16 | U7: 17
A8: 1 | B8: 1. | C8: ÀÝ¹³Ù»ÝÁ ÏÛ³ÝùÇ ¨ ³éáÕçáõÃÛ³Ý ¹»Ù áõÕÕí³Í Ñ³Ýó³·áñÍáõÃÛáõÝÝ»ñÁ | E8: =SUM(E9:E35) -> 5 | F8: =SUM(F9:F35) -> 0 | G8: =SUM(G9:G35) -> 9 | H8: =SUM(H9:H35) -> 6 | I8: =SUM(I9:I35) -> 1 | J8: =SUM(J9:J35) -> 0 | K8: =SUM(K9:K35) -> 7 | L8: =SUM(L9:L35) -> 0 | ... U8: =SUM(U9:U35) -> 0
A9: 0 | B9: 1.1 | C9: êå³ÝáõÃÛáõÝÁ | D9: 104 | E9: 1 | G9: 3 | H9: 2 | K9: 2 | N9: 2 | P9: 1 | R9: 1
A10: 0 | B10: 1.2 | C10: Ðá·»Ï³Ý ËÇëï Ñáõ½ÙáõÝùÇ íÇ×³ÏáõÙ Ï³ï³ñí³Í ëå³ÝáõÃÛáõÝÁ | D10: 105
A11: 0 | B11: 1.3 | C11: Øáñ ÏáÕÙÇó Ýáñ³ÍÇÝ »ñ»Ë³ÛÇ ëå³ÝáõÃÛáõÝÁ | D11: 106
A12: 0 | B12: 1.4 | C12: Ð³Ýó³Ýù Ï³ï³ñ³Í ³ÝÓÇÝ µéÝ»Éáõ Ñ³Ù³ñ ³ÝÑñ³Å»ßï ÙÇçáóÝ»ñÇ ë³ÑÙ³Ý³½³ÝóÙ³Ùµ ëå³ÝáõÃÛáõÝÁ | D12: 107
A13: 0 | B13: 1.5 | C13: ²ÝÑñ³Å»ßï å³ßïå³ÝáõÃÛ³Ý ë³ÑÙ³Ý³½³ÝóÙ³Ùµ ëå³ÝáõÃÛáõÝÁ | D13: 108
A14: 0 | B14: 1.6 | C14: ²Ý½·áõßáõÃÛ³Ùµ Ù³Ñ å³ï×³é»ÉÁ | D14: 109
A15: 0 | B15: 1.7 | C15: ÆÝùÝ³ëå³ÝáõÃÛ³Ý Ñ³ëóÝ»ÉÁ | D15: 110
A16: 0 | B16: 1.8 | C16: ÆÝùÝ³ëå³ÝáõÃÛ³Ý Ñ³Ï»ÉÁ | D16: 111
A17: 0 | B17: 1.9 | C17: ¸Çï³íáñáõÃÛ³Ùµ ³éáÕçáõÃÛ³ÝÁ Í³Ýñ íÝ³ë å³ï×³é»ÉÁ | D17: 112 | E17: 1 | G17: 6 | H17: 2 | K17: 2 | N17: 5 | P17: 2 | R17: 2
A18: 0 | B18: 1.10 | C18: ¸Çï³íáñáõÃÛ³Ùµ ³éáÕçáõÃÛ³ÝÁ ÙÇçÇÝ Í³ÝñáõÃÛ³Ý íÝ³ë å³ï×³é»ÉÁ | D18: 113
A19: 0 | B19: 1.11 | C19: Ðá·»Ï³Ý ËÇëï Ñáõ½ÙáõÝùÇ íÇ×³ÏáõÙ ³éáÕçáõÃÛ³ÝÁ Í³Ýñ Ï³Ù ÙÇçÇÝ Í³ÝñáõÃÛ³Ý íÝ³ë å³ï×³é»ÉÁ | D19: 114
A20: 0 | B20: 1.12 | C20: Ð³Ýó³Ýù Ï³ï³ñ³Í ³ÝÓÇÝ µéÝ»Éáõ Ñ³Ù³ñ ³ÝÑñ³Å»ßï ÙÇçáóÝ»ñÇ ë³ÑÙ³Ý½³ÝóÙ³Ùµ ³éáÕçáõÃÛ³ÝÁ Í³Ýñ Ï³Ù ÙÇçÇÝ Í³ÝñáõÃÛ³Ý íÝ³ë å³ï×³é»ÉÁ | D20: 115
A21: 0 | B21: 1.13 | C21: ²éáÕçáõÃÛ³ÝÁ Í³Ýñ Ï³Ù ÙÇçÇÝ Í³ÝñáõÃÛ³Ý íÝ³ë å³ï×³é»ÉÁ ³ÝÑñ³Å»ßï å³ßïå³ÝáõÃÛ³Ý ë³ÑÙ³Ý³Ý³½³ÝóÙ³Ùµ | D21: 116
A22: 0 | B22: 1.14 | C22: ¸Çï³íáñáõÃÛ³Ùµ ³éáÕçáõÃÛ³ÝÁ Ã»Ã¨ íÝ³ë å³ï×³é»ÉÁ | D22: 117 | E22: 2 | H22: 1 | I22: 1 | K22: 2
A23: 0 | B23: 1.15 | C23: Ì»ÍÁ | D23: 118 | E23: 1 | H23: 1 | K23: 1
A24: 0 | B24: 1.16 | C24: Êáßï³Ý·áõÙÁ | D24: 119
A25: 0 | B25: 1.17 | C25: ²Ý½·áõßáõÃÛ³Ùµ ³éáÕçáõÃÛ³ÝÁ Í³Ýñ íÝ³ë å³ï×³é»ÉÁ | D25: 120
A26: 0 | B26: 1.18 | C26: ²Ý½·áõßáõÃÛ³Ùµ ³éáÕçáõÃÛ³ÝÁ ÙÇçÇÝ Í³ÝñáõÃÛ³Ý íÝ³ë å³ï×³é»ÉÁ | D26: 121
A27: 0 | B27: 1.19 | C27: ²åûñÇÝÇ ³µáñï Ï³ï³ñ»ÉÁ | D27: 122
A28: 0 | B28: 1.20 | C28: Ø³ñ¹áõ ÇÙáõÝ³ÛÇÝ ³Ýµ³í³ñ³ñáõÃÛ³Ý íÇñáõëÇ Ñ³ñáõóÇãáí í³ñ³Ï»ÉÁ | D28: 123
A29: 0 | B29: 1.21 | C29: ì»Ý»ñ³Ï³Ý ÑÇí³Ý¹áõÃÛ³Ùµ Ï³Ù ³ÛÉ ë»é³í³ñ³ÏÝ»ñáí í³ñ³Ï»ÉÁ | D29: 124
A30: 0 | B30: 1.22 | C30: öáËå³ïí³ëïÙ³Ý íÇñ³Ñ³ïáõÃÛáõÝ Ï³ï³ñ»Éáõ Ï³ÝáÝÝ»ñÁ Ë³Ëï»ÉÁ | D30: 125
A31: 0 | B31: 1.24 | C31: ²ÝÓÇÝ ³é³Ýó Çñ Ñ³ÝÓÝ³ñ³ñáõÃÛ³Ý µÅßÏ³Ï³Ý Ï³Ù ·Çï³Ï³Ý ÷áñÓ»ñÇ »ÝÃ³ñÏ»ÉÁ | D31: 127
A32: 0 | B32: 1.25 | C32: ìï³Ý·Ç Ù»ç ÃáÕÝ»ÉÁ | D32: 128
A33: 0 | B33: 1.26 | C33: ÐÇí³Ý¹ÇÝ û·ÝáõÃÛáõÝ óáõÛó ãï³ÉÁ | D33: 129
A34: 0 | B34: 1.27 | C34: ´ÅßÏ³Ï³Ý û·ÝáõÃÛáõÝ ¨ ëå³ë³ñÏáõÙ Çñ³Ï³Ý³óÝáÕÝ»ñÇ ÏáÕÙÇó Ù³ëÝ³·Çï³Ï³Ý å³ñï³Ï³ÝáõÃÛáõÝÝ»ñÁ ãÏ³ï³ñ»ÉÁ Ï³Ù áã å³ïß³× Ï³ï³ñ»ÉÁ | D34: 130
A35: 1 | B35: 1.28 | C35: ²ÛÉ Ñ³Ýó³·áñÍáõÃÛáõÝÝ»ñ
A36: 0 | B36: 2. | C36: ÀÝ¹³Ù»ÝÁ ³ÝÓÇ ³½³ïáõÃÛ³Ý, å³ïíÇ ¨ ³ñÅ³Ý³å³ïíáõÃÛ³Ý ¹»Ù áõÕÕí³Í Ñ³Ýó³·áñÍáõÃÛáõÝÝ»ñÁ | E36: =SUM(E37:E43) -> 3 | F36: =SUM(F37:F43) -> 0 | G36: =SUM(G37:G43) -> 1 | H36: =SUM(H37:H43) -> 1 | I36: =SUM(I37:I43) -> 0 | J36: =SUM(J37:J43) -> 0 | K36: =SUM(K37:K43) -> 1 | L36: =SUM(L37:L43) -> 0 | ... U36: =SUM(U37:U43) -> 0
A37: 0 | B37: 2.1 | C37: Ø³ñ¹áõÝ ³é¨³Ý·»ÉÁ | D37: 131 | E37: 1 | N37: 1
B38: 2.2 | C38: Մարդու թրաֆիքինգը կամ շահագործումը | D38: 132 | E38: 1 | G38: 1 | N38: 2
B39: 2.2.1 | C39: Ø³ñ¹áõÝ åáéÝÇÏáõÃÛ³Ý Ï³Ù ë»é³Ï³Ý ß³Ñ³·áñÍÙ³Ý ³ÛÉ Ó¨»ñÇ Ù»ç, Ñ³ñÏ³¹Çñ ³ßË³ï³ÝùÇ Ï³Ù Í³é³ÛáõÃÛáõÝÝ»ñÇ Ý»ñ·ñ³í»ÉÁ Ï³Ù ëïñÏáõÃÛ³Ý Ï³Ù ëïñÏáõÃÛ³ÝÁ ÝÙ³ÝíáÕ íÇ×³ÏÇ Ù»ç ¹Ý»ÉÁ Ï³Ù å³Ñ»ÉÁ | D39: 132.1
B40: 2.3 | C40: ²½³ïáõÃÛáõÝÇó ³åûñÇÝÇ ½ñÏ»ÉÁ | D40: 133
B41: 2.4 | C41: Ðá·»µáõÅ³Ï³Ý ÑÇí³Ý¹³ÝáóáõÙ ³åûñÇÝÇ ï»Õ³íáñ»ÉÁ Ï³Ù å³Ñ»ÉÁ | D41: 134
B42: 2.7 | C42: êå³ÝáõÃÛ³Ý, ³éáÕçáõÃÛ³ÝÁ Í³Ýñ íÝ³ë å³ï×³é»Éáõ Ï³Ù ·áõÛù áãÝã³óÝ»Éáõ ëå³éÝ³ÉÇùÁ | D42: 137 | E42: 1 | H42: 1 | K42: 1
A43: 0 | B43: 2.8 | C43: ²ÛÉ Ñ³Ýó³·áñÍáõÃÛáõÝÝ»ñ
A44: 0 | B44: 3. | C44: ÀÝ¹³Ù»ÝÁ ë»é³Ï³Ý ³ÝÓ»éÝÙË»ÉÇáõÃÛ³Ý ¨ ë»é³Ï³Ý ³½³ïáõÃÛ³Ý ¹»Ù áõÕÕí³Í Ñ³Ýó³·áñÍáõÃÛáõÝÝ»ñÁ | E44: =SUM(E45:E50) -> 3 | F44: =SUM(F45:F50) -> 0 | G44: =SUM(G45:G50) -> 1 | H44: =SUM(H45:H50) -> 4 | I44: =SUM(I45:I50) -> 0 | J44: =SUM(J45:J50) -> 0 | K44: =SUM(K45:K50) -> 4 | L44: =SUM(L45:L50) -> 0 | ... U44: =SUM(U45:U50) -> 0
A45: 0 | B45: 3.1 | C45: ´éÝ³µ³ñáõÃÛáõÝÁ | D45: 138
B46: 3.2 | C46: ê»ùëáõ³É µÝáõÛÃÇ µéÝÇ ·áñÍáÕáõÃÛáõÝÝ»ñÁ | D46: 139
B47: 3.3 | C47: Սեռական հարաբերության կամ սեքսուալ բնույթի գործողություններին հարկադրելը | D47: 140
B48: 3.4 | C48: ê»é³Ï³Ý Ñ³ñ³µ»ñáõÃÛáõÝÁ ï³ëÝí»ó ï³ñÇÝ ãÉñ³ó³Í ³ÝÓÇ Ñ»ï Ï³Ù ë»ùëáõ³É µÝáõÛÃÇ ·áñÍáÕáõÃÛáõÝÝ»ñ Ï³ï³ñ»ÉÁ ï³ëÝí»ó ï³ñÇÝ ãÉñ³ó³Í ³ÝÓÇ ÝÏ³ïÙ³Ùµ | D48: 141 | E48: 3 | G48: 1 | H48: 4 | K48: 4
B49: 3.5 | C49: ²Ý³é³Ï³µ³ñá ·áñÍáÕáõÃÛáõÝÝ»ñÁ | D49: 142
B50: 3.6 | C50: ²ÛÉ Ñ³Ýó³·áñÍáõÃÛáõÝÝ»ñ
B51: 4. | C51: ÀÝ¹³Ù»ÝÁ Ù³ñ¹áõ ¨ ù³Õ³ù³óáõ ë³ÑÙ³Ý³¹ñ³Ï³Ý Çñ³íáõÝùÝ»ñÇ ¨ ³½³ïáõÃÛáõÝÝ»ñÇ ¹»Ù áõÕÕí³Í Ñ³Ýó³·áñÍáõÃÛáõÝÝ»ñÁ | E51: =SUM(E52:E79) -> 0 | F51: =SUM(F52:F79) -> 0 | G51: =SUM(G52:G79) -> 0 | H51: =SUM(H52:H79) -> 0 | I51: =SUM(I52:I79) -> 0 | J51: =SUM(J52:J79) -> 0 | K51: =SUM(K52:K79) -> 0 | L51: =SUM(L52:L79) -> 0 | ... U51: =SUM(U52:U79) -> 0
B52: 4.1 | C52: Ø³ñ¹áõ ¨ ù³Õ³ù³óáõ Çñ³í³Ñ³í³ë³ñáõÃÛáõÝÁ Ë³Ëï»ÉÁ | D52: 143
B53: 4.2 | C53: ²ÝÓÝ³Ï³Ý Ï³Ù ÁÝï³Ý»Ï³Ý ÏÛ³ÝùÇ Ù³ëÇÝ ï»Õ»ÏáõÃÛáõÝÝ»ñ ³åûñÇÝÇ Ñ³í³ù»ÉÁ, å³Ñ»ÉÁ, û·ï³·áñÍ»ÉÁ Ï³Ù ï³ñ³Í»ÉÁ | D53: 144
B54: 4.3 | C54: ´ÅßÏ³Ï³Ý ·³ÕïÝÇùÁ Ññ³å³ñ³Ï»ÉÁ | D54: 145
B55: 4.4 | C55: Ü³Ù³Ï³·ñáõÃÛ³Ý, Ñ»é³Ëáë³ÛÇÝ Ëáë³ÏóáõÃÛáõÝÝ»ñÇ, ÷áëï³ÛÇÝ, Ñ»é³·ñ³Ï³Ý Ï³Ù ³ÛÉ Ñ³Õáñ¹áõÙÝ»ñÇ ·³ÕïÝÇáõÃÛáõÝÁ Ë³Ëï»ÉÁ | D55: 146
B56: 4.5 | C56: ´Ý³Ï³ñ³ÝÇ ³ÝÓ»éÝÙË»ÉÇáõÃÛáõÝÁ Ë³Ëï»ÉÁ | D56: 147
B57: 4.6 | C57: ²ÝÓÇÝ ï»Õ»ÏáõÃÛáõÝ Ý»ñÏ³Û³óÝ»Éáõó Ññ³Å³ñí»ÉÁ | D57: 148
B58: 4.7 | C58: ÀÝïñ³Ï³Ý Çñ³íáõÝùÇ Çñ³Ï³Ý³óÙ³ÝÁ, ÁÝïñ³Ï³Ý Ñ³ÝÓÝ³ÅáÕáíÝ»ñÇ ³ßË³ï³ÝùÝ»ñÇÝ Ï³Ù ÁÝïñáõÃÛ³ÝÁ Ù³ëÝ³ÏóáÕ ³ÝÓ³Ýó ÉÇ³½áñáõÃÛáõÝÝ»ñÇ Çñ³Ï³Ý³óÙ³ÝÁ ËáãÁÝ¹áï»ÉÁ | D58: 149
B59: 4.8 | C59: ÀÝïñáõÃÛáõÝÝ»ñÇ Ï³Ù ùí»³ñÏáõÃÛ³Ý ³ñ¹ÛáõÝùÝ»ñÁ Ï»ÕÍ»ÉÁ | D59: 150
B60: 4.9 | C60: ÀÝïñáõÃÛáõÝÝ»ñÇ ³ÝóÏ³óÙ³Ý ÁÝÃ³óùáõÙ Ã»ÏÝ³ÍáõÇ, Ïáõë³ÏóáõÃÛ³Ý (Ïáõë³ÏóáõÃÛáõÝÝ»ñÇ ¹³ßÇÝùÇ) í»ñ³µ»ñÛ³É ½ñå³ñïã³Ï³Ý ï»Õ»ÏáõÃÛáõÝÝ»ñ ï³ñ³Í»ÉÁ | D60: 151
B61: 4.10 | C61: ÀÝïñáÕÝ»ñÇ óáõó³ÏÝ»ñÁ Ï³½Ù»Éáõ, ¹ñ³Ýù ù³Õ³ù³óÇÝ»ñÇÝ ¨ Ïáõë³ÏóáõÃÛáõÝÝ»ñÇÝ ïñ³Ù³¹ñ»Éáõ Ï³Ù Ññ³å³ñ³Ï»Éáõ Ï³ñ·Á Ë³Ëï»ÉÁ | D61: 152
A62: 0 | B62: 4.11 | C62: Ø»ÏÇó ³í»ÉÇ ³Ý·³Ù Ï³Ù ³ÛÉ ³ÝÓÇ ÷áË³ñ»Ý ùí»³ñÏ»ÉÁ | D62: 153
B63: 4.12 | C63: øí»³ñÏáõÃÛ³Ý ·³ÕïÝÇáõÃÛáõÝÁ Ë³Ëï»ÉÁ | D63: 154
B64: 4.13 | C64: Î»ÕÍ ÁÝïñ³Ï³Ý ùí»³Ã»ñÃÇÏÝ»ñ Ï³Ù ùí»³ñÏáõÃÛ³Ý Íñ³ñÝ»ñ å³ïñ³ëï»ÉÁ Ï³Ù ³ÏÝÑ³Ûï Ï»ÕÍ ÁÝïñ³Ï³Ý ùí»³Ã»ñÃÇÏÝ»ñ Ï³Ù ùí»³ñÏáõÃÛ³Ý Íñ³ñÝ»ñ Ñ³ÝÓÝ»ÉÁ Ï³Ù Çñ³óÝ»ÉÁ | D64: 154.1
B65: 4.14 | C65: ÀÝïñáÕÇ Ï³ÙùÇ ³½³ï Çñ³Ï³Ý³óÙ³ÝÁ ËáãÁÝ¹áï»ÉÁ | D65: 154.2
B66: 4.15 | C66: ÀÝïñ³Ï³Ý Ñ³ÝÓÝ³ÅáÕáíÇ ÏÝÇùÁ ãí»ñ³¹³ñÓÝ»ÉÁ, ÏÝÇùÇ å³Ñå³ÝÙ³Ý ë³ÑÙ³Ýí³Í Ï³ñ·Á Ë³Ëï»ÉÁ | D66: 154.3
B67: 4.16 | C67: ¼»Ýùáíª ï»Õ³Ù³ë³ÛÇÝ Ï»ÝïñáÝ Ùáõïù ·áñÍ»ÉÁ | D67: 154.4
B68: 4.17 | C68: ìëï³Ñí³Í ³ÝÓÇÝ,ÁÝïñ³Ï³Ý Ñ³ÝÓÝ³ÅáÕáíÇ ³Ý¹³ÙÇÝ,¹Çïáñ¹ÇÝ Ï³Ù ½³Ý·í³Í³ÛÇÝ Éñ³ïíáõÃÛ³Ý ÙÇçáóÇ Ý»ñÏ³Û³óáõóãÇÝ ÁÝïñ³Ï³Ý ÷³ëï³ÃÕÃ»ñÇÝ Í³ÝáÃ³Ý³ÉáõÝ ËáãÁÝ¹áï»ÉÁ, ÁÝïñ³Ï³Ý Ñ³ÝÓÝ³ÅáÕáíÇ ³ñÓ³Ý³·ñáõÃÛáõÝÝ»ñÇ å³ï×»ÝÝ»ñ ãï³ÉÁ | D68: 154.5
B69: 4.18 | C69: ¶áñÍ³¹áõÉÇ Ù³ëÝ³Ïó»ÉáõÝ Ï³Ù ·áñÍ³¹áõÉÇ Ù³ëÝ³Ïó»Éáõó Ññ³Å³ñí»ÉáõÝ Ñ³ñÏ³¹ñ»ÉÁ | D69: 155
B70: 4.19 | C70: ÐÕÇ ÏÝáçÁ Ï³Ù ÙÇÝã¨ »ñ»ù ï³ñ»Ï³Ý »ñ»Ë³ áõÝ»óáÕ ³ÝÓÇÝ ³ßË³ï³ÝùÇ ÁÝ¹áõÝ»Éáõõó Ññ³Å³ñí»ÉÁ Ï³Ù ³ßË³ï³ÝùÇó ³ÝÑÇÙÝ ³½³ï»ÉÁ | D70: 156
B71: 4.20 | C71: ²ßË³ï³ÝùÇ å³ßïå³ÝáõÃÛ³Ý Ï³ÝáÝÝ»ñÁ Ë³Ëï»ÉÁ | D71: 157
B72: 4.21 | C72: Ð»ÕÇÝ³Ï³ÛÇÝ ¨ Ñ³ñ³ÏÇó Çñ³íáõÝùÝ»ñÁ Ë³Ëï»ÉÁ | D72: 158
B73: 4.22 | C73: ²ñïáÝ³·ñ³ÛÇÝ Çñ³íáõÝùÁ Ë³Ëï»ÉÁ | D73: 159
B74: 4.23 | C74: ÊÕ×Ç Ï³Ù ¹³í³Ý³ÝùÇ ³½³ïáõÃÛ³Ý Çñ³íáõÝùÇ Çñ³Ï³Ý³óÙ³ÝÁ ËáãÁÝ¹áï»ÉÁ | D74: 160
... B78: 4.27 | C78: Èñ³·ñáÕÇ Ù³ëÝ³·Çï³Ï³Ý ûñÇÝ³Ï³Ý ·áñÍáÕáõÃÛ³ÝÁ ËáãÁÝ¹áï»ÉÁ | D78: 164
B79: 4.28 | C79: ²ÛÉ Ñ³Ýó³·áñÍáõÃÛáõÝÝ»ñ
B80: 5. | C80: ÀÝ¹³Ù»ÝÁ ÁÝï³ÝÇùÇ ¨ »ñ»Ë³ÛÇ ß³Ñ»ñÇ ¹»Ù áõÕÕí³Í Ñ³Ýó³·áñÍáõÃÛáõÝÝ»ñÁ | E80: =SUM(E81:E92) -> 0 | F80: =SUM(F81:F92) -> 0 | G80: =SUM(G81:G92) -> 0 | H80: =SUM(H81:H92) -> 0 | I80: =SUM(I81:I92) -> 0 | J80: =SUM(J81:J92) -> 0 | K80: =SUM(K81:K92) -> 0 | L80: =SUM(L81:L92) -> 0 | ... U80: =SUM(U81:U92) -> 0
B81: 5.1 | C81: ²Ýã³÷³Ñ³ëÇÝ Ñ³Ýó³ÝùÇ Ï³ï³ñÙ³ÝÁ Ý»ñ·ñ³í»ÉÁ | D81: 165
B82: 5.2 | C82: ºñ»Ë³ÛÇÝ åáéÝÏáõÃÛ³Ý Ï³Ù åáéÝÏ³·ñ³Ï³Ý µÝáõÛÃÇ ÝÛáõÃ»ñ Ï³Ù ³é³ñÏ³Ý»ñ å³ïñ³ëï»Éáõ Ñ»ï Ï³åí³Í ·áñÍáÕáõÃÛáõÝÝ»ñ Ï³ï³ñ»ÉáõÝ Ý»ñ·ñ³í»ÉÁ | D82: 166
B83: 5.3 | C83: ÌÝáÕÝ»ñÇó »ñ»Ë³ÛÇÝ ³åûñÇÝÇ µ³Å³Ý»ÉÁ Ï³Ù »ñ»Ë³ÛÇÝ ÷áË»ÉÁ | D83: 167
B84: 5.4 | C84: ÊÝ³ÙùÁ ëï³ÝÓÝ»Éáõ Ýå³ï³Ïáí »ñ»Ë³ÛÇ ³éùÁ Ï³Ù ëï³ÝÓÝáÕÇ ËÝ³ÙùÇÝ Ñ³ÝÓÝ»Éáõ Ýå³ï³Ïáí »ñ»Ë³ÛÇ í³×³éùÁ | D84: 168
B85: 5.5 | C85: àñ¹»·ñÙ³Ý ·³ÕïÝÇùÁ Ññ³å³ñ³Ï»ÉÁ Ï³Ù áñ¹»·ñÙ³Ý Ñ³Ù³Ó³ÛÝáõÃÛáõÝ ï³ÉáõÝ Ñ³Ï»ÉÁ Ï³Ù Ñ³ñÏ³¹ñ»ÉÁ | D85: 169
B86: 5.6 | C86: ø³Õ³ù³óÇ³Ï³Ý Ï³óáõÃÛ³Ý ³Ïï»ñÇ ·ñ³ÝóÙ³Ý Ù³ñÙÇÝÝ»ñÇÝ ëáõï ï»Õ»ÏáõÃÛáõÝÝ»ñ Ñ³Õáñ¹»ÉÁ | D86: 169.1
B87: 5.7 | C87: ºñ»Ë³ÛÇÝ ¹³ëïÇ³ñ³Ï»Éáõ å³ñï³Ï³ÝáõÃÛáõÝÁ ãÏ³ï³ñ»ÉÁ | D87: 170
B88: 5.8 | C88: ºñ»Ë³ÛÇ ÏÛ³ÝùÇ ³Ýíï³Ý·áõÃÛ³Ý ³å³ÑáíÙ³Ý Ï³Ù ³éáÕçáõÃÛ³Ý å³Ñå³ÝÙ³Ý å³ñï³Ï³ÝáõÃÛáõÝÁ ãÏ³ï³ñ»ÉÁ Ï³Ù áã å³ïß³× Ï³ï³ñ»ÉÁ | D88: 171
B89: 5.9 | C89: ÊÝ³Ù³Ï³ÉÇ Ï³Ù Ñá·³µ³ñÓáõÇ Çñ³íáõÝùÝ»ñÁ ã³ñ³ß³Ñ»ÉÁ | D89: 172
A90: 0 | B90: 5.10 | C90: ÌÝáÕÇ ÏáÕÙÇó »ñ»Ë³ÛÇÝ å³Ñ»Éáõó ã³ñ³Ùïáñ»Ý Ëáõë³÷»ÉÁ (áõÅÁ Ïáñóñ³Í) | D90: 173
B91: 5.11 | C91: ¼³í³ÏÇ ÏáÕÙÇó ³Ý³ßË³ïáõÝ³Ï ÍÝáÕÇÝ å³Ñ»Éáõó ã³ñ³Ùïáñ»Ý Ëáõë³÷»ÉÁ | D91: 174
B92: 5.12 | C92: ²ÛÉ Ñ³Ýó³·áñÍáõÃÛáõÝÝ»ñ
B93: 6. | C93: ÀÝ¹³Ù»ÝÁ ë»÷³Ï³ÝáõÃÛ³Ý ¹»Ù áõÕÕí³Í Ñ³Ýó³·áñÍáõÃÛáõÝÝ»ñÁ | E93: =SUM(E94:E106) -> 11 | F93: =SUM(F94:F106) -> 2 | G93: =SUM(G94:G106) -> 13 | H93: =SUM(H94:H106) -> 9 | I93: =SUM(I94:I106) -> 0 | J93: =SUM(J94:J106) -> 0 | K93: =SUM(K94:K106) -> 9 | L93: =SUM(L94:L106) -> 0 | ... U93: =SUM(U94:U106) -> 0
B94: 6.1 | C94: ²í³½³ÏáõÃÛáõÝÁ | D94: 175 | E94: 1 | G94: 2 | H94: 2 | K94: 2 | N94: 1 | P94: 1 | Q94: 1 | R94: 2
B95: 6.2 | C95: ÎáÕáåáõïÁ | D95: 176 | G95: 1 | H95: 1 | K95: 1
B96: 6.3 | C96: ¶áÕáõÃÛáõÝÁ | D96: 177 | E96: 4 | G96: 7 | H96: 5 | K96: 5 | M96: 1 | N96: 6 | O96: 1 | P96: 1 | R96: 1
B97: 6.4 | C97: Ê³ñ¹³ËáõÃÛáõÝÁ | D97: 178 | E97: 5 | F97: 2 | G97: 3 | H97: 1 | K97: 1 | N97: 7 | O97: 2 | P97: 1 | R97: 1
B98: 6.5 | C98: Úáõñ³óÝ»ÉÁ Ï³Ù í³ïÝ»ÉÁ | D98: 179 | E98: 1 | N98: 1
B99: 6.6 | C99: ²é³ÝÓÝ³ÏÇ ³ñÅ»ù áõÝ»óáÕ ³é³ñÏ³Ý»ñ Ñ³÷ßï³Ï»ÉÁ | D99: 180
B100: 6.7 | C100: Ð³÷ßï³ÏáõÃÛáõÝÁ, áñÁ Ï³ï³ñí»É ¿ Ñ³Ù³Ï³ñ·ã³ÛÇÝ ï»ËÝÇÏ³ÛÇ û·ï³·áñÍÙ³Ùµ | D100: 181
B101: 6.8 | C101: ÞáñÃáõÙÁ | D101: 182
B102: 6.9 | C102: ²íïáÙ»ù»Ý³ÛÇÝ Ï³Ù ïñ³Ýëåáñï³ÛÇÝ ³ÛÉ ÙÇçáóÇÝ ³åûñÇÝ³µ³ñ ïÇñ³Ý³ÉÝ ³é³Ýó Ñ³÷ßï³Ï»Éáõ Ýå³ï³ÏÇ | D102: 183
B103: 6.10 | C103: ¶áõÛù³ÛÇÝ íÝ³ë å³ï×³é»ÉÁ Ë³µ»áõÃÛ³Ý Ï³Ù íëï³ÑáõÃÛáõÝÁ ã³ñ³ß³Ñ»Éáõ »Õ³Ý³Ïáí | D103: 184
...

Sheet Kentron
B1: 2015Ã. 1-ÇÝ ÏÇë³ÙÛ³Ï | E1: Ð²ÞìºîìàôÂÚàôÜ | R1: Ïազմված ՀՀ կառավարության 19.03.2015թ. Ãիվ 306-Ն որոշման հիման վրա
B2: ºðºì²Ü ø²Ô²øÆ ÎºÜîðàÜ ºì Üàðø-Ø²ð²Þ ì²ðâ²Î²Ü Þðæ²ÜÜºðÆ ÀÜ¸Ð²Üàôð Æð²ì²êàôÂÚ²Ü ²è²æÆÜ ²îÚ²ÜÆ ¸²î²ð²ՆàôØ ՔՐԵԱԿԱՆ ¶àðÌºðÆ øÜÜàôÂÚ²Ü ìºð²´ºðÚ²È
B3: ºñ¨³Ý ù³Õ³ùÇ Î»ÝïñáÝ ¨ Üáñù-Ø³ñ³ß í³ñã³Ï³Ý ßñç³ÝÝ»ñÇ ÁÝ¹Ñ³Ýáõñ Çñ³í³ëáõÃÛ³Ý ³é³çÇÝ ³ïÛ³ÝÇ ¹³ï³ñ³ÝáõÙ ùñ»³Ï³Ý Ù³ëÝ³·Çï³óáõÙ áõÝ»óáÕ ¹³ï³íáñÝ»ñÇ Ñ³ëïÇùÝ»ñÇ ù³Ý³ÏÁ` 5
B4: êïáõ·Çã Ñ³í³ë³ñáõÙÝ»ñ` 1+3=7+8+10, 7=4+5+6, 14=12+13, 17=15+16 | D4: ÐÐ ùñ»³Ï³Ý ûñ»Ýë·ñùÇ Ñá¹í³ÍÝ»ñ | E4: Ð³ßí»ïáõ Å³Ù³Ý³Ï³Ñ³ïí³ÍÇ ëÏ½µáõÙ Ý³Ëáñ¹ Ñ³ßí»ïáõ Å³Ù³Ý³Ï³Ñ³ïí³ÍÇó ÷áË³Ýóí³Í ·áñÍ»ñÇ ÁÝ¹Ñ³Ýáõñ ÃÇíÁ | F4: ²Û¹ ÃíáõÙ` Ï³ë»óí³Í íÇ×³ÏáõÙ ÷áË³Ýóí³Í | G4: Ð³ßí»ïáõ Å³Ù³Ý³Ï³Ñ³ïí³ÍáõÙ ëï³óí³Í ·áñÍ»ñÇ ÁÝ¹Ñ³Ýáõñ ÃÇíÁ | H4: Ð³ßí»ïáõ Å³Ù³Ý³Ï³Ñ³ïí³ÍáõÙ ³í³ñïí³Í ·áñÍ»ñի ընդհանուր թիվը | L4: àõÕ³ñÏí»É ¿ Áëï ÁÝ¹¹³ïáõÃÛ³Ý | M4: Ð³ßí»ïáõ Å³Ù³Ý³Ï³Ñ³ïí³ÍáõÙ Ï³ë»óí³Í í³ñáõÛÃÝ»ñáí ·áñÍ»ñÇ ÁÝ¹Ñ³Ýáõñ ÃÇíÁ | N4: Ð³ßí»ïáõ Å³Ù³Ý³Ï³Ñ³ïí³ÍáõÙ ³Ý³í³ñï ·áñÍ»ñÇ ÁÝ¹Ñ³Ýáõñ ÃÇíÁ | O4: ²Û¹ ÃíáõÙª Ï³ë»óí³Í | P4: ´áÕáù³ñÏí³Í ¹³ï³Ï³Ý ³Ïï»ñÇ ÃÇíÁ` Áëï ï»ë³ÏÝ»ñÇ | S4: ´»Ï³Ýí³Í ¹³ï³Ï³Ý ³Ïï»ñÇ ÃÇíÁ` Áëï ï»ë³ÏÝ»ñÇ
H5: øÝÝí»É ¿ Áëï ¿áõÃÛ³Ý ¨ ¹³ï³í×Çé Ï³Û³óí»É | J5: ՈñáßáõÙ ¿ Ï³Û³óí»É ³ÝÙ»ÕëáõÝ³ÏÝ»ñÇ ÝÏ³ïÙ³Ùµ µÅßÏ³Ï³Ý µÝáõÛÃÇ Ñ³ñÏ³¹ñ³Ï³Ý ÙÇçáóÝ»ñ ÏÇñ³é»Éáõ Ù³ëÇÝ | K5: ÀÝ¹³Ù»ÝÁ ³í³ñïí»É »Ý ·áñÍ»ñ
I6: ՈñáßáõÙ ¿ Ï³Û³óí»É ùñ»³Ï³Ý ·áñÍÇ í³ñáõÛÃÁ Ï³ñ×»Éáõ ¨ ùñ»³Ï³Ý Ñ»ï³åÝ¹áõÙÁ ¹³¹³ñ»óÝ»Éáõ Ù³ëÇÝ | P6: ²Û¹ ÃíáõÙ` ·áñÍÝ Áëï ¿áõÃÛ³Ý ÉáõÍáÕ ¹³ï³Ï³Ý ³Ïï»ñÁ | Q6: ²Û¹ ÃíáõÙ` ÙÇç³ÝÏÛ³É ¹³ï³Ï³Ý ³Ïï»ñÁ | R6: ÀÝ¹³Ù»ÝÁ | S6: ²Û¹ ÃíáõÙ` ·áñÍÝ Áëï ¿áõÃÛ³Ý ÉáõÍáÕ ¹³ï³Ï³Ý ³Ïï»ñÁ | T6: ²Û¹ ÃíáõÙ` ÙÇç³ÝÏÛ³É ¹³ï³Ï³Ý ³Ïï»ñÁ | U6: ÀÝ¹³Ù»ÝÁ
E7: 1 | F7: 2 | G7: 3 | H7: 4 | I7: 5 | J7: 6 | K7: 7 | L7: 8 | M7: 9 | N7: 10 | O7: 11 | P7: 12 | Q7: 13 | R7: 14 | S7: 15 | T7: 16 | U7: 17
A8: 1 | B8: 1. | C8: ÀÝ¹³Ù»ÝÁ ÏÛ³ÝùÇ ¨ ³éáÕçáõÃÛ³Ý ¹»Ù áõÕÕí³Í Ñ³Ýó³·áñÍáõÃÛáõÝÝ»ñÁ | E8: =SUM(E9:E35) -> 17 | F8: =SUM(F9:F35) -> 0 | G8: =SUM(G9:G35) -> 18 | H8: =SUM(H9:H35) -> 13 | I8: =SUM(I9:I35) -> 2 | J8: =SUM(J9:J35) -> 1 | K8: =SUM(K9:K35) -> 16 | L8: =SUM(L9:L35) -> 0 | ... U8: =SUM(U9:U35) -> 0
A9: 0 | B9: 1.1 | C9: êå³ÝáõÃÛáõÝÁ | D9: 104 | E9: 3 | G9: 2 | N9: 5 | Q9: 1 | R9: 1
A10: 0 | B10: 1.2 | C10: Ðá·»Ï³Ý ËÇëï Ñáõ½ÙáõÝùÇ íÇ×³ÏáõÙ Ï³ï³ñí³Í ëå³ÝáõÃÛáõÝÁ | D10: 105
A11: 0 | B11: 1.3 | C11: Øáñ ÏáÕÙÇó Ýáñ³ÍÇÝ »ñ»Ë³ÛÇ ëå³ÝáõÃÛáõÝÁ | D11: 106
A12: 0 | B12: 1.4 | C12: Ð³Ýó³Ýù Ï³ï³ñ³Í ³ÝÓÇÝ µéÝ»Éáõ Ñ³Ù³ñ ³ÝÑñ³Å»ßï ÙÇçáóÝ»ñÇ ë³ÑÙ³Ý³½³ÝóÙ³Ùµ ëå³ÝáõÃÛáõÝÁ | D12: 107
A13: 0 | B13: 1.5 | C13: ²ÝÑñ³Å»ßï å³ßïå³ÝáõÃÛ³Ý ë³ÑÙ³Ý³½³ÝóÙ³Ùµ ëå³ÝáõÃÛáõÝÁ | D13: 108
A14: 0 | B14: 1.6 | C14: ²Ý½·áõßáõÃÛ³Ùµ Ù³Ñ å³ï×³é»ÉÁ | D14: 109
A15: 0 | B15: 1.7 | C15: ÆÝùÝ³ëå³ÝáõÃÛ³Ý Ñ³ëóÝ»ÉÁ | D15: 110
A16: 0 | B16: 1.8 | C16: ÆÝùÝ³ëå³ÝáõÃÛ³Ý Ñ³Ï»ÉÁ | D16: 111
A17: 0 | B17: 1.9 | C17: ¸Çï³íáñáõÃÛ³Ùµ ³éáÕçáõÃÛ³ÝÁ Í³Ýñ íÝ³ë å³ï×³é»ÉÁ | D17: 112 | E17: 10 | G17: 5 | H17: 9 | K17: 9 | N17: 6 | P17: 6 | R17: 6
A18: 0 | B18: 1.10 | C18: ¸Çï³íáñáõÃÛ³Ùµ ³éáÕçáõÃÛ³ÝÁ ÙÇçÇÝ Í³ÝñáõÃÛ³Ý íÝ³ë å³ï×³é»ÉÁ | D18: 113 | G18: 2 | H18: 1 | K18: 1 | N18: 1
A19: 0 | B19: 1.11 | C19: Ðá·»Ï³Ý ËÇëï Ñáõ½ÙáõÝùÇ íÇ×³ÏáõÙ ³éáÕçáõÃÛ³ÝÁ Í³Ýñ Ï³Ù ÙÇçÇÝ Í³ÝñáõÃÛ³Ý íÝ³ë å³ï×³é»ÉÁ | D19: 114
A20: 0 | B20: 1.12 | C20: Ð³Ýó³Ýù Ï³ï³ñ³Í ³ÝÓÇÝ µéÝ»Éáõ Ñ³Ù³ñ ³ÝÑñ³Å»ßï ÙÇçáóÝ»ñÇ ë³ÑÙ³Ý½³ÝóÙ³Ùµ ³éáÕçáõÃÛ³ÝÁ Í³Ýñ Ï³Ù ÙÇçÇÝ Í³ÝñáõÃÛ³Ý íÝ³ë å³ï×³é»ÉÁ | D20: 115
A21: 0 | B21: 1.13 | C21: ²éáÕçáõÃÛ³ÝÁ Í³Ýñ Ï³Ù ÙÇçÇÝ Í³ÝñáõÃÛ³Ý íÝ³ë å³ï×³é»ÉÁ ³ÝÑñ³Å»ßï å³ßïå³ÝáõÃÛ³Ý ë³ÑÙ³Ý³Ý³½³ÝóÙ³Ùµ | D21: 116
A22: 0 | B22: 1.14 | C22: ¸Çï³íáñáõÃÛ³Ùµ ³éáÕçáõÃÛ³ÝÁ Ã»Ã¨ íÝ³ë å³ï×³é»ÉÁ | D22: 117 | E22: 2 | G22: 2 | H22: 1 | I22: 1 | J22: 1 | K22: 3 | N22: 1
A23: 0 | B23: 1.15 | C23: Ì»ÍÁ | D23: 118 | E23: 2 | G23: 7 | H23: 2 | I23: 1 | K23: 3 | N23: 6 | P23: 1 | R23: 1
A24: 0 | B24: 1.16 | C24: Êáßï³Ý·áõÙÁ | D24: 119
A25: 0 | B25: 1.17 | C25: ²Ý½·áõßáõÃÛ³Ùµ ³éáÕçáõÃÛ³ÝÁ Í³Ýñ íÝ³ë å³ï×³é»ÉÁ | D25: 120
A26: 0 | B26: 1.18 | C26: ²Ý½·áõßáõÃÛ³Ùµ ³éáÕçáõÃÛ³ÝÁ ÙÇçÇÝ Í³ÝñáõÃÛ³Ý íÝ³ë å³ï×³é»ÉÁ | D26: 121
A27: 0 | B27: 1.19 | C27: ²åûñÇÝÇ ³µáñï Ï³ï³ñ»ÉÁ | D27: 122
A28: 0 | B28: 1.20 | C28: Ø³ñ¹áõ ÇÙáõÝ³ÛÇÝ ³Ýµ³í³ñ³ñáõÃÛ³Ý íÇñáõëÇ Ñ³ñáõóÇãáí í³ñ³Ï»ÉÁ | D28: 123
A29: 0 | B29: 1.21 | C29: ì»Ý»ñ³Ï³Ý ÑÇí³Ý¹áõÃÛ³Ùµ Ï³Ù ³ÛÉ ë»é³í³ñ³ÏÝ»ñáí í³ñ³Ï»ÉÁ | D29: 124
A30: 0 | B30: 1.22 | C30: öáËå³ïí³ëïÙ³Ý íÇñ³Ñ³ïáõÃÛáõÝ Ï³ï³ñ»Éáõ Ï³ÝáÝÝ»ñÁ Ë³Ëï»ÉÁ | D30: 125
A31: 0 | B31: 1.24 | C31: ²ÝÓÇÝ ³é³Ýó Çñ Ñ³ÝÓÝ³ñ³ñáõÃÛ³Ý µÅßÏ³Ï³Ý Ï³Ù ·Çï³Ï³Ý ÷áñÓ»ñÇ »ÝÃ³ñÏ»ÉÁ | D31: 127
A32: 0 | B32: 1.25 | C32: ìï³Ý·Ç Ù»ç ÃáÕÝ»ÉÁ | D32: 128
A33: 0 | B33: 1.26 | C33: ÐÇí³Ý¹ÇÝ û·ÝáõÃÛáõÝ óáõÛó ãï³ÉÁ | D33: 129
A34: 0 | B34: 1.27 | C34: ´ÅßÏ³Ï³Ý û·ÝáõÃÛáõÝ ¨ ëå³ë³ñÏáõÙ Çñ³Ï³Ý³óÝáÕÝ»ñÇ ÏáÕÙÇó Ù³ëÝ³·Çï³Ï³Ý å³ñï³Ï³ÝáõÃÛáõÝÝ»ñÁ ãÏ³ï³ñ»ÉÁ Ï³Ù áã å³ïß³× Ï³ï³ñ»ÉÁ | D34: 130
A35: 1 | B35: 1.28 | C35: ²ÛÉ Ñ³Ýó³·áñÍáõÃÛáõÝÝ»ñ
A36: 0 | B36: 2. | C36: ÀÝ¹³Ù»ÝÁ ³ÝÓÇ ³½³ïáõÃÛ³Ý, å³ïíÇ ¨ ³ñÅ³Ý³å³ïíáõÃÛ³Ý ¹»Ù áõÕÕí³Í Ñ³Ýó³·áñÍáõÃÛáõÝÝ»ñÁ | E36: =SUM(E37:E43) -> 0 | F36: =SUM(F37:F43) -> 0 | G36: =SUM(G37:G43) -> 3 | H36: =SUM(H37:H43) -> 0 | I36: =SUM(I37:I43) -> 0 | J36: =SUM(J37:J43) -> 0 | K36: =SUM(K37:K43) -> 0 | L36: =SUM(L37:L43) -> 0 | ... U36: =SUM(U37:U43) -> 1
A37: 0 | B37: 2.1 | C37: Ø³ñ¹áõÝ ³é¨³Ý·»ÉÁ | D37: 131 | G37: 2 | N37: 2 | S37: 1 | U37: 1
B38: 2.2 | C38: Մարդու թրաֆիքինգը կամ շահագործումը | D38: 132 | G38: 1 | N38: 1
B39: 2.2.1 | C39: Ø³ñ¹áõÝ åáéÝÇÏáõÃÛ³Ý Ï³Ù ë»é³Ï³Ý ß³Ñ³·áñÍÙ³Ý ³ÛÉ Ó¨»ñÇ Ù»ç, Ñ³ñÏ³¹Çñ ³ßË³ï³ÝùÇ Ï³Ù Í³é³ÛáõÃÛáõÝÝ»ñÇ Ý»ñ·ñ³í»ÉÁ Ï³Ù ëïñÏáõÃÛ³Ý Ï³Ù ëïñÏáõÃÛ³ÝÁ ÝÙ³ÝíáÕ íÇ×³ÏÇ Ù»ç ¹Ý»ÉÁ Ï³Ù å³Ñ»ÉÁ | D39: 132.1
B40: 2.3 | C40: ²½³ïáõÃÛáõÝÇó ³åûñÇÝÇ ½ñÏ»ÉÁ | D40: 133
B41: 2.4 | C41: Ðá·»µáõÅ³Ï³Ý ÑÇí³Ý¹³ÝáóáõÙ ³åûñÇÝÇ ï»Õ³íáñ»ÉÁ Ï³Ù å³Ñ»ÉÁ | D41: 134
B42: 2.7 | C42: êå³ÝáõÃÛ³Ý, ³éáÕçáõÃÛ³ÝÁ Í³Ýñ íÝ³ë å³ï×³é»Éáõ Ï³Ù ·áõÛù áãÝã³óÝ»Éáõ ëå³éÝ³ÉÇùÁ | D42: 137
A43: 0 | B43: 2.8 | C43: ²ÛÉ Ñ³Ýó³·áñÍáõÃÛáõÝÝ»ñ
A44: 0 | B44: 3. | C44: ÀÝ¹³Ù»ÝÁ ë»é³Ï³Ý ³ÝÓ»éÝÙË»ÉÇáõÃÛ³Ý ¨ ë»é³Ï³Ý ³½³ïáõÃÛ³Ý ¹»Ù áõÕÕí³Í Ñ³Ýó³·áñÍáõÃÛáõÝÝ»ñÁ | E44: =SUM(E45:E50) -> 1 | F44: =SUM(F45:F50) -> 0 | G44: =SUM(G45:G50) -> 1 | H44: =SUM(H45:H50) -> 0 | I44: =SUM(I45:I50) -> 0 | J44: =SUM(J45:J50) -> 0 | K44: =SUM(K45:K50) -> 0 | L44: =SUM(L45:L50) -> 0 | ... U44: =SUM(U45:U50) -> 0
A45: 0 | B45: 3.1 | C45: ´éÝ³µ³ñáõÃÛáõÝÁ | D45: 138
B46: 3.2 | C46: ê»ùëáõ³É µÝáõÛÃÇ µéÝÇ ·áñÍáÕáõÃÛáõÝÝ»ñÁ | D46: 139
B47: 3.3 | C47: Սեռական հարաբերության կամ սեքսուալ բնույթի գործողություններին հարկադրելը | D47: 140
B48: 3.4 | C48: ê»é³Ï³Ý Ñ³ñ³µ»ñáõÃÛáõÝÁ ï³ëÝí»ó ï³ñÇÝ ãÉñ³ó³Í ³ÝÓÇ Ñ»ï Ï³Ù ë»ùëáõ³É µÝáõÛÃÇ ·áñÍáÕáõÃÛáõÝÝ»ñ Ï³ï³ñ»ÉÁ ï³ëÝí»ó ï³ñÇÝ ãÉñ³ó³Í ³ÝÓÇ ÝÏ³ïÙ³Ùµ | D48: 141 | E48: 1 | N48: 1
B49: 3.5 | C49: ²Ý³é³Ï³µ³ñá ·áñÍáÕáõÃÛáõÝÝ»ñÁ | D49: 142 | G49: 1 | N49: 1
B50: 3.6 | C50: ²ÛÉ Ñ³Ýó³·áñÍáõÃÛáõÝÝ»ñ
B51: 4. | C51: ÀÝ¹³Ù»ÝÁ Ù³ñ¹áõ ¨ ù³Õ³ù³óáõ ë³ÑÙ³Ý³¹ñ³Ï³Ý Çñ³íáõÝùÝ»ñÇ ¨ ³½³ïáõÃÛáõÝÝ»ñÇ ¹»Ù áõÕÕí³Í Ñ³Ýó³·áñÍáõÃÛáõÝÝ»ñÁ | E51: =SUM(E52:E79) -> 0 | F51: =SUM(F52:F79) -> 0 | G51: =SUM(G52:G79) -> 2 | H51: =SUM(H52:H79) -> 0 | I51: =SUM(I52:I79) -> 0 | J51: =SUM(J52:J79) -> 0 | K51: =SUM(K52:K79) -> 0 | L51: =SUM(L52:L79) -> 0 | ... U51: =SUM(U52:U79) -> 0
B52: 4.1 | C52: Ø³ñ¹áõ ¨ ù³Õ³ù³óáõ Çñ³í³Ñ³í³ë³ñáõÃÛáõÝÁ Ë³Ëï»ÉÁ | D52: 143
B53: 4.2 | C53: ²ÝÓÝ³Ï³Ý Ï³Ù ÁÝï³Ý»Ï³Ý ÏÛ³ÝùÇ Ù³ëÇÝ ï»Õ»ÏáõÃÛáõÝÝ»ñ ³åûñÇÝÇ Ñ³í³ù»ÉÁ, å³Ñ»ÉÁ, û·ï³·áñÍ»ÉÁ Ï³Ù ï³ñ³Í»ÉÁ | D53: 144 | G53: 1 | N53: 1
B54: 4.3 | C54: ´ÅßÏ³Ï³Ý ·³ÕïÝÇùÁ Ññ³å³ñ³Ï»ÉÁ | D54: 145
B55: 4.4 | C55: Ü³Ù³Ï³·ñáõÃÛ³Ý, Ñ»é³Ëáë³ÛÇÝ Ëáë³ÏóáõÃÛáõÝÝ»ñÇ, ÷áëï³ÛÇÝ, Ñ»é³·ñ³Ï³Ý Ï³Ù ³ÛÉ Ñ³Õáñ¹áõÙÝ»ñÇ ·³ÕïÝÇáõÃÛáõÝÁ Ë³Ëï»ÉÁ | D55: 146
B56: 4.5 | C56: ´Ý³Ï³ñ³ÝÇ ³ÝÓ»éÝÙË»ÉÇáõÃÛáõÝÁ Ë³Ëï»ÉÁ | D56: 147
B57: 4.6 | C57: ²ÝÓÇÝ ï»Õ»ÏáõÃÛáõÝ Ý»ñÏ³Û³óÝ»Éáõó Ññ³Å³ñí»ÉÁ | D57: 148
