Workbook

Sheet Yndhanur
B1: 2015Ã. 1-ÇÝ ÏÇë³ÙÛ³Ï | E1: Ð²ÞìºîìàôÂÚàôÜ | R1: Ïազմված ՀՀ կառավարության 19.03.2015թ. Ãիվ 306-Ն որոշման հիման վրա
B2: ÐÐ ÀÜ¸Ð²Üàôð Æð²ì²êàôÂÚ²Ü ²è²æÆÜ ²îÚ²ÜÆ ¸²î²ð²ՆՆԵՐàôØ ՔՐԵԱԿԱՆ ¶àðÌºðÆ øÜÜàôÂÚ²Ü ìºð²´ºðÚ²È
B3: ÐÐ ÁÝ¹Ñ³Ýáõñ Çñ³í³ëáõÃÛ³Ý ³é³çÇÝ ³ïÛ³ÝÇ ¹³ï³ñ³ÝÝերáõÙ ùñ»³Ï³Ý Ù³ëÝ³·Çï³óáõÙ áõÝ»óáÕ ¹³ï³íáñÝ»ñÇ Ñ³ëïÇùÝ»ñÇ ù³Ý³ÏÁ`
B4: êïáõ·Çã Ñ³í³ë³ñáõÙÝ»ñ` 1+3=7+8+10, 7=4+5+6, 14=12+13, 17=15+16 | D4: ÐÐ ùñ»³Ï³Ý ûñ»Ýë·ñùÇ Ñá¹í³ÍÝ»ñ | E4: Ð³ßí»ïáõ Å³Ù³Ý³Ï³Ñ³ïí³ÍÇ ëÏ½µáõÙ Ý³Ëáñ¹ Ñ³ßí»ïáõ Å³Ù³Ý³Ï³Ñ³ïí³ÍÇó ÷áË³Ýóí³Í ·áñÍ»ñÇ ÁÝ¹Ñ³Ýáõñ ÃÇíÁ | F4: ²Û¹ ÃíáõÙ` Ï³ë»óí³Í íÇ×³ÏáõÙ ÷áË³Ýóí³Í | G4: Ð³ßí»ïáõ Å³Ù³Ý³Ï³Ñ³ïí³ÍáõÙ ëï³óí³Í ·áñÍ»ñÇ ÁÝ¹Ñ³Ýáõñ ÃÇíÁ | H4: Ð³ßí»ïáõ Å³Ù³Ý³Ï³Ñ³ïí³ÍáõÙ ³í³ñïí³Í ·áñÍ»ñի ընդհանուր թիվը | L4: àõÕ³ñÏí»É ¿ Áëï ÁÝ¹¹³ïáõÃÛ³Ý | M4: Ð³ßí»ïáõ Å³Ù³Ý³Ï³Ñ³ïí³ÍáõÙ Ï³ë»óí³Í í³ñáõÛÃÝ»ñáí ·áñÍ»ñÇ ÁÝ¹Ñ³Ýáõñ ÃÇíÁ | N4: Ð³ßí»ïáõ Å³Ù³Ý³Ï³Ñ³ïí³ÍáõÙ ³Ý³í³ñï ·áñÍ»ñÇ ÁÝ¹Ñ³Ýáõñ ÃÇíÁ | O4: ²Û¹ ÃíáõÙª Ï³ë»óí³Í | P4: ´áÕáù³ñÏí³Í ¹³ï³Ï³Ý ³Ïï»ñÇ ÃÇíÁ` Áëï ï»ë³ÏÝ»ñÇ | S4: ´»Ï³Ýí³Í ¹³ï³Ï³Ý ³Ïï»ñÇ ÃÇíÁ` Áëï ï»ë³ÏÝ»ñÇ
H5: øÝÝí»É ¿ Áëï ¿áõÃÛ³Ý ¨ ¹³ï³í×Çé Ï³Û³óí»É | J5: ՈñáßáõÙ ¿ Ï³Û³óí»É ³ÝÙ»ÕëáõÝ³ÏÝ»ñÇ ÝÏ³ïÙ³Ùµ µÅßÏ³Ï³Ý µÝáõÛÃÇ Ñ³ñÏ³¹ñ³Ï³Ý ÙÇçáóÝ»ñ ÏÇñ³é»Éáõ Ù³ëÇÝ | K5: ÀÝ¹³Ù»ÝÁ ³í³ñïí»É »Ý ·áñÍ»ñ
I6: ՈñáßáõÙ ¿ Ï³Û³óí»É ùñ»³Ï³Ý ·áñÍÇ í³ñáõÛÃÁ Ï³ñ×»Éáõ ¨ ùñ»³Ï³Ý Ñ»ï³åÝ¹áõÙÁ ¹³¹³ñ»óÝ»Éáõ Ù³ëÇÝ | P6: ²Û¹ ÃíáõÙ` ·áñÍÝ Áëï ¿áõÃÛ³Ý ÉáõÍáÕ ¹³ï³Ï³Ý ³Ïï»ñÁ | Q6: ²Û¹ ÃíáõÙ` ÙÇç³ÝÏÛ³É ¹³ï³Ï³Ý ³Ïï»ñÁ | R6: ÀÝ¹³Ù»ÝÁ | S6: ²Û¹ ÃíáõÙ` ·áñÍÝ Áëï ¿áõÃÛ³Ý ÉáõÍáÕ ¹³ï³Ï³Ý ³Ïï»ñÁ | T6: ²Û¹ ÃíáõÙ` ÙÇç³ÝÏÛ³É ¹³ï³Ï³Ý ³Ïï»ñÁ | U6: ÀÝ¹³Ù»ÝÁ
E7: 1 | F7: 2 | G7: 3 | H7: 4 | I7: 5 | J7: 6 | K7: 7 | L7: 8 | M7: 9 | N7: 10 | O7: 11 | P7: 12 | Q7: 13 | R7: 14 | S7: 15 | T7: 16 | U7: 17
A8: 1 | B8: 1. | C8: ÀÝ¹³Ù»ÝÁ ÏÛ³ÝùÇ ¨ ³éáÕçáõÃÛ³Ý ¹»Ù áõÕÕí³Í Ñ³Ýó³·áñÍáõÃÛáõÝÝ»ñÁ | E8: =SUM(E9:E35) -> 162 | F8: =SUM(F9:F35) -> 7 | G8: =SUM(G9:G35) -> 176 | H8: =SUM(H9:H35) -> 123 | I8: =SUM(I9:I35) -> 55 | J8: =SUM(J9:J35) -> 10 | K8: =SUM(K9:K35) -> 188 | L8: =SUM(L9:L35) -> 0 | ... U8: =SUM(U9:U35) -> 1
A9: 0 | B9: 1.1 | C9: êå³ÝáõÃÛáõÝÁ | D9: 104 | E9: =Erebuni!E9+Kentron!E9+Ajapnjak!E9+Avan!E9+Arabkir!E9+Shengavit!E9+'Malatia-Sebastia'!E9+Kotayq!E9+Ararat!E9+Armavir!E9+Aragacotn!E9+Shirak!E9+Lori!E9+Tavush!E9+Gegharquniq!E9+Syuniq!E9 -> 29 | F9: =Erebuni!F9+Kentron!F9+Ajapnjak!F9+Avan!F9+Arabkir!F9+Shengavit!F9+'Malatia-Sebastia'!F9+Kotayq!F9+Ararat!F9+Armavir!F9+Aragacotn!F9+Shirak!F9+Lori!F9+Tavush!F9+Gegharquniq!F9+Syuniq!F9 -> 1 | G9: =Erebuni!G9+Kentron!G9+Ajapnjak!G9+Avan!G9+Arabkir!G9+Shengavit!G9+'Malatia-Sebastia'!G9+Kotayq!G9+Ararat!G9+Armavir!G9+Aragacotn!G9+Shirak!G9+Lori!G9+Tavush!G9+Gegharquniq!G9+Syuniq!G9 -> 29 | H9: =Erebuni!H9+Kentron!H9+Ajapnjak!H9+Avan!H9+Arabkir!H9+Shengavit!H9+'Malatia-Sebastia'!H9+Kotayq!H9+Ararat!H9+Armavir!H9+Aragacotn!H9+Shirak!H9+Lori!H9+Tavush!H9+Gegharquniq!H9+Syuniq!H9 -> 14 | I9: =Erebuni!I9+Kentron!I9+Ajapnjak!I9+Avan!I9+Arabkir!I9+Shengavit!I9+'Malatia-Sebastia'!I9+Kotayq!I9+Ararat!I9+Armavir!I9+Aragacotn!I9+Shirak!I9+Lori!I9+Tavush!I9+Gegharquniq!I9+Syuniq!I9 -> 0 | J9: =Erebuni!J9+Kentron!J9+Ajapnjak!J9+Avan!J9+Arabkir!J9+Shengavit!J9+'Malatia-Sebastia'!J9+Kotayq!J9+Ararat!J9+Armavir!J9+Aragacotn!J9+Shirak!J9+Lori!J9+Tavush!J9+Gegharquniq!J9+Syuniq!J9 -> 3 | K9: =Erebuni!K9+Kentron!K9+Ajapnjak!K9+Avan!K9+Arabkir!K9+Shengavit!K9+'Malatia-Sebastia'!K9+Kotayq!K9+Ararat!K9+Armavir!K9+Aragacotn!K9+Shirak!K9+Lori!K9+Tavush!K9+Gegharquniq!K9+Syuniq!K9 -> 17 | L9: =Erebuni!L9+Kentron!L9+Ajapnjak!L9+Avan!L9+Arabkir!L9+Shengavit!L9+'Malatia-Sebastia'!L9+Kotayq!L9+Ararat!L9+Armavir!L9+Aragacotn!L9+Shirak!L9+Lori!L9+Tavush!L9+Gegharquniq!L9+Syuniq!L9 -> 0 | ... U9: =Erebuni!U9+Kentron!U9+Ajapnjak!U9+Avan!U9+Arabkir!U9+Shengavit!U9+'Malatia-Sebastia'!U9+Kotayq!U9+Ararat!U9+Armavir!U9+Aragacotn!U9+Shirak!U9+Lori!U9+Tavush!U9+Gegharquniq!U9+Syuniq!U9 -> 0
A10: 0 | B10: 1.2 | C10: Ðá·»Ï³Ý ËÇëï Ñáõ½ÙáõÝùÇ íÇ×³ÏáõÙ Ï³ï³ñí³Í ëå³ÝáõÃÛáõÝÁ | D10: 105 | E10: =Erebuni!E10+Kentron!E10+Ajapnjak!E10+Avan!E10+Arabkir!E10+Shengavit!E10+'Malatia-Sebastia'!E10+Kotayq!E10+Ararat!E10+Armavir!E10+Aragacotn!E10+Shirak!E10+Lori!E10+Tavush!E10+Gegharquniq!E10+Syuniq!E10 -> 0 | F10: =Erebuni!F10+Kentron!F10+Ajapnjak!F10+Avan!F10+Arabkir!F10+Shengavit!F10+'Malatia-Sebastia'!F10+Kotayq!F10+Ararat!F10+Armavir!F10+Aragacotn!F10+Shirak!F10+Lori!F10+Tavush!F10+Gegharquniq!F10+Syuniq!F10 -> 0 | G10: =Erebuni!G10+Kentron!G10+Ajapnjak!G10+Avan!G10+Arabkir!G10+Shengavit!G10+'Malatia-Sebastia'!G10+Kotayq!G10+Ararat!G10+Armavir!G10+Aragacotn!G10+Shirak!G10+Lori!G10+Tavush!G10+Gegharquniq!G10+Syuniq!G10 -> 2 | H10: =Erebuni!H10+Kentron!H10+Ajapnjak!H10+Avan!H10+Arabkir!H10+Shengavit!H10+'Malatia-Sebastia'!H10+Kotayq!H10+Ararat!H10+Armavir!H10+Aragacotn!H10+Shirak!H10+Lori!H10+Tavush!H10+Gegharquniq!H10+Syuniq!H10 -> 0 | I10: =Erebuni!I10+Kentron!I10+Ajapnjak!I10+Avan!I10+Arabkir!I10+Shengavit!I10+'Malatia-Sebastia'!I10+Kotayq!I10+Ararat!I10+Armavir!I10+Aragacotn!I10+Shirak!I10+Lori!I10+Tavush!I10+Gegharquniq!I10+Syuniq!I10 -> 0 | J10: =Erebuni!J10+Kentron!J10+Ajapnjak!J10+Avan!J10+Arabkir!J10+Shengavit!J10+'Malatia-Sebastia'!J10+Kotayq!J10+Ararat!J10+Armavir!J10+Aragacotn!J10+Shirak!J10+Lori!J10+Tavush!J10+Gegharquniq!J10+Syuniq!J10 -> 0 | K10: =Erebuni!K10+Kentron!K10+Ajapnjak!K10+Avan!K10+Arabkir!K10+Shengavit!K10+'Malatia-Sebastia'!K10+Kotayq!K10+Ararat!K10+Armavir!K10+Aragacotn!K10+Shirak!K10+Lori!K10+Tavush!K10+Gegharquniq!K10+Syuniq!K10 -> 0 | L10: =Erebuni!L10+Kentron!L10+Ajapnjak!L10+Avan!L10+Arabkir!L10+Shengavit!L10+'Malatia-Sebastia'!L10+Kotayq!L10+Ararat!L10+Armavir!L10+Aragacotn!L10+Shirak!L10+Lori!L10+Tavush!L10+Gegharquniq!L10+Syuniq!L10 -> 0 | ... U10: =Erebuni!U10+Kentron!U10+Ajapnjak!U10+Avan!U10+Arabkir!U10+Shengavit!U10+'Malatia-Sebastia'!U10+Kotayq!U10+Ararat!U10+Armavir!U10+Aragacotn!U10+Shirak!U10+Lori!U10+Tavush!U10+Gegharquniq!U10+Syuniq!U10 -> 0
A11: 0 | B11: 1.3 | C11: Øáñ ÏáÕÙÇó Ýáñ³ÍÇÝ »ñ»Ë³ÛÇ ëå³ÝáõÃÛáõÝÁ | D11: 106 | E11: =Erebuni!E11+Kentron!E11+Ajapnjak!E11+Avan!E11+Arabkir!E11+Shengavit!E11+'Malatia-Sebastia'!E11+Kotayq!E11+Ararat!E11+Armavir!E11+Aragacotn!E11+Shirak!E11+Lori!E11+Tavush!E11+Gegharquniq!E11+Syuniq!E11 -> 0 | F11: =Erebuni!F11+Kentron!F11+Ajapnjak!F11+Avan!F11+Arabkir!F11+Shengavit!F11+'Malatia-Sebastia'!F11+Kotayq!F11+Ararat!F11+Armavir!F11+Aragacotn!F11+Shirak!F11+Lori!F11+Tavush!F11+Gegharquniq!F11+Syuniq!F11 -> 0 | G11: =Erebuni!G11+Kentron!G11+Ajapnjak!G11+Avan!G11+Arabkir!G11+Shengavit!G11+'Malatia-Sebastia'!G11+Kotayq!G11+Ararat!G11+Armavir!G11+Aragacotn!G11+Shirak!G11+Lori!G11+Tavush!G11+Gegharquniq!G11+Syuniq!G11 -> 0 | H11: =Erebuni!H11+Kentron!H11+Ajapnjak!H11+Avan!H11+Arabkir!H11+Shengavit!H11+'Malatia-Sebastia'!H11+Kotayq!H11+Ararat!H11+Armavir!H11+Aragacotn!H11+Shirak!H11+Lori!H11+Tavush!H11+Gegharquniq!H11+Syuniq!H11 -> 0 | I11: =Erebuni!I11+Kentron!I11+Ajapnjak!I11+Avan!I11+Arabkir!I11+Shengavit!I11+'Malatia-Sebastia'!I11+Kotayq!I11+Ararat!I11+Armavir!I11+Aragacotn!I11+Shirak!I11+Lori!I11+Tavush!I11+Gegharquniq!I11+Syuniq!I11 -> 0 | J11: =Erebuni!J11+Kentron!J11+Ajapnjak!J11+Avan!J11+Arabkir!J11+Shengavit!J11+'Malatia-Sebastia'!J11+Kotayq!J11+Ararat!J11+Armavir!J11+Aragacotn!J11+Shirak!J11+Lori!J11+Tavush!J11+Gegharquniq!J11+Syuniq!J11 -> 0 | K11: =Erebuni!K11+Kentron!K11+Ajapnjak!K11+Avan!K11+Arabkir!K11+Shengavit!K11+'Malatia-Sebastia'!K11+Kotayq!K11+Ararat!K11+Armavir!K11+Aragacotn!K11+Shirak!K11+Lori!K11+Tavush!K11+Gegharquniq!K11+Syuniq!K11 -> 0 | L11: =Erebuni!L11+Kentron!L11+Ajapnjak!L11+Avan!L11+Arabkir!L11+Shengavit!L11+'Malatia-Sebastia'!L11+Kotayq!L11+Ararat!L11+Armavir!L11+Aragacotn!L11+Shirak!L11+Lori!L11+Tavush!L11+Gegharquniq!L11+Syuniq!L11 -> 0 | ... U11: =Erebuni!U11+Kentron!U11+Ajapnjak!U11+Avan!U11+Arabkir!U11+Shengavit!U11+'Malatia-Sebastia'!U11+Kotayq!U11+Ararat!U11+Armavir!U11+Aragacotn!U11+Shirak!U11+Lori!U11+Tavush!U11+Gegharquniq!U11+Syuniq!U11 -> 0
A12: 0 | B12: 1.4 | C12: Ð³Ýó³Ýù Ï³ï³ñ³Í ³ÝÓÇÝ µéÝ»Éáõ Ñ³Ù³ñ ³ÝÑñ³Å»ßï ÙÇçáóÝ»ñÇ ë³ÑÙ³Ý³½³ÝóÙ³Ùµ ëå³ÝáõÃÛáõÝÁ | D12: 107 | E12: =Erebuni!E12+Kentron!E12+Ajapnjak!E12+Avan!E12+Arabkir!E12+Shengavit!E12+'Malatia-Sebastia'!E12+Kotayq!E12+Ararat!E12+Armavir!E12+Aragacotn!E12+Shirak!E12+Lori!E12+Tavush!E12+Gegharquniq!E12+Syuniq!E12 -> 0 | F12: =Erebuni!F12+Kentron!F12+Ajapnjak!F12+Avan!F12+Arabkir!F12+Shengavit!F12+'Malatia-Sebastia'!F12+Kotayq!F12+Ararat!F12+Armavir!F12+Aragacotn!F12+Shirak!F12+Lori!F12+Tavush!F12+Gegharquniq!F12+Syuniq!F12 -> 0 | G12: =Erebuni!G12+Kentron!G12+Ajapnjak!G12+Avan!G12+Arabkir!G12+Shengavit!G12+'Malatia-Sebastia'!G12+Kotayq!G12+Ararat!G12+Armavir!G12+Aragacotn!G12+Shirak!G12+Lori!G12+Tavush!G12+Gegharquniq!G12+Syuniq!G12 -> 0 | H12: =Erebuni!H12+Kentron!H12+Ajapnjak!H12+Avan!H12+Arabkir!H12+Shengavit!H12+'Malatia-Sebastia'!H12+Kotayq!H12+Ararat!H12+Armavir!H12+Aragacotn!H12+Shirak!H12+Lori!H12+Tavush!H12+Gegharquniq!H12+Syuniq!H12 -> 0 | I12: =Erebuni!I12+Kentron!I12+Ajapnjak!I12+Avan!I12+Arabkir!I12+Shengavit!I12+'Malatia-Sebastia'!I12+Kotayq!I12+Ararat!I12+Armavir!I12+Aragacotn!I12+Shirak!I12+Lori!I12+Tavush!I12+Gegharquniq!I12+Syuniq!I12 -> 0 | J12: =Erebuni!J12+Kentron!J12+Ajapnjak!J12+Avan!J12+Arabkir!J12+Shengavit!J12+'Malatia-Sebastia'!J12+Kotayq!J12+Ararat!J12+Armavir!J12+Aragacotn!J12+Shirak!J12+Lori!J12+Tavush!J12+Gegharquniq!J12+Syuniq!J12 -> 0 | K12: =Erebuni!K12+Kentron!K12+Ajapnjak!K12+Avan!K12+Arabkir!K12+Shengavit!K12+'Malatia-Sebastia'!K12+Kotayq!K12+Ararat!K12+Armavir!K12+Aragacotn!K12+Shirak!K12+Lori!K12+Tavush!K12+Gegharquniq!K12+Syuniq!K12 -> 0 | L12: =Erebuni!L12+Kentron!L12+Ajapnjak!L12+Avan!L12+Arabkir!L12+Shengavit!L12+'Malatia-Sebastia'!L12+Kotayq!L12+Ararat!L12+Armavir!L12+Aragacotn!L12+Shirak!L12+Lori!L12+Tavush!L12+Gegharquniq!L12+Syuniq!L12 -> 0 | ... U12: =Erebuni!U12+Kentron!U12+Ajapnjak!U12+Avan!U12+Arabkir!U12+Shengavit!U12+'Malatia-Sebastia'!U12+Kotayq!U12+Ararat!U12+Armavir!U12+Aragacotn!U12+Shirak!U12+Lori!U12+Tavush!U12+Gegharquniq!U12+Syuniq!U12 -> 0
A13: 0 | B13: 1.5 | C13: ²ÝÑñ³Å»ßï å³ßïå³ÝáõÃÛ³Ý ë³ÑÙ³Ý³½³ÝóÙ³Ùµ ëå³ÝáõÃÛáõÝÁ | D13: 108 | E13: =Erebuni!E13+Kentron!E13+Ajapnjak!E13+Avan!E13+Arabkir!E13+Shengavit!E13+'Malatia-Sebastia'!E13+Kotayq!E13+Ararat!E13+Armavir!E13+Aragacotn!E13+Shirak!E13+Lori!E13+Tavush!E13+Gegharquniq!E13+Syuniq!E13 -> 0 | F13: =Erebuni!F13+Kentron!F13+Ajapnjak!F13+Avan!F13+Arabkir!F13+Shengavit!F13+'Malatia-Sebastia'!F13+Kotayq!F13+Ararat!F13+Armavir!F13+Aragacotn!F13+Shirak!F13+Lori!F13+Tavush!F13+Gegharquniq!F13+Syuniq!F13 -> 0 | G13: =Erebuni!G13+Kentron!G13+Ajapnjak!G13+Avan!G13+Arabkir!G13+Shengavit!G13+'Malatia-Sebastia'!G13+Kotayq!G13+Ararat!G13+Armavir!G13+Aragacotn!G13+Shirak!G13+Lori!G13+Tavush!G13+Gegharquniq!G13+Syuniq!G13 -> 0 | H13: =Erebuni!H13+Kentron!H13+Ajapnjak!H13+Avan!H13+Arabkir!H13+Shengavit!H13+'Malatia-Sebastia'!H13+Kotayq!H13+Ararat!H13+Armavir!H13+Aragacotn!H13+Shirak!H13+Lori!H13+Tavush!H13+Gegharquniq!H13+Syuniq!H13 -> 0 | I13: =Erebuni!I13+Kentron!I13+Ajapnjak!I13+Avan!I13+Arabkir!I13+Shengavit!I13+'Malatia-Sebastia'!I13+Kotayq!I13+Ararat!I13+Armavir!I13+Aragacotn!I13+Shirak!I13+Lori!I13+Tavush!I13+Gegharquniq!I13+Syuniq!I13 -> 0 | J13: =Erebuni!J13+Kentron!J13+Ajapnjak!J13+Avan!J13+Arabkir!J13+Shengavit!J13+'Malatia-Sebastia'!J13+Kotayq!J13+Ararat!J13+Armavir!J13+Aragacotn!J13+Shirak!J13+Lori!J13+Tavush!J13+Gegharquniq!J13+Syuniq!J13 -> 0 | K13: =Erebuni!K13+Kentron!K13+Ajapnjak!K13+Avan!K13+Arabkir!K13+Shengavit!K13+'Malatia-Sebastia'!K13+Kotayq!K13+Ararat!K13+Armavir!K13+Aragacotn!K13+Shirak!K13+Lori!K13+Tavush!K13+Gegharquniq!K13+Syuniq!K13 -> 0 | L13: =Erebuni!L13+Kentron!L13+Ajapnjak!L13+Avan!L13+Arabkir!L13+Shengavit!L13+'Malatia-Sebastia'!L13+Kotayq!L13+Ararat!L13+Armavir!L13+Aragacotn!L13+Shirak!L13+Lori!L13+Tavush!L13+Gegharquniq!L13+Syuniq!L13 -> 0 | ... U13: =Erebuni!U13+Kentron!U13+Ajapnjak!U13+Avan!U13+Arabkir!U13+Shengavit!U13+'Malatia-Sebastia'!U13+Kotayq!U13+Ararat!U13+Armavir!U13+Aragacotn!U13+Shirak!U13+Lori!U13+Tavush!U13+Gegharquniq!U13+Syuniq!U13 -> 0
A14: 0 | B14: 1.6 | C14: ²Ý½·áõßáõÃÛ³Ùµ Ù³Ñ å³ï×³é»ÉÁ | D14: 109 | E14: =Erebuni!E14+Kentron!E14+Ajapnjak!E14+Avan!E14+Arabkir!E14+Shengavit!E14+'Malatia-Sebastia'!E14+Kotayq!E14+Ararat!E14+Armavir!E14+Aragacotn!E14+Shirak!E14+Lori!E14+Tavush!E14+Gegharquniq!E14+Syuniq!E14 -> 3 | F14: =Erebuni!F14+Kentron!F14+Ajapnjak!F14+Avan!F14+Arabkir!F14+Shengavit!F14+'Malatia-Sebastia'!F14+Kotayq!F14+Ararat!F14+Armavir!F14+Aragacotn!F14+Shirak!F14+Lori!F14+Tavush!F14+Gegharquniq!F14+Syuniq!F14 -> 0 | G14: =Erebuni!G14+Kentron!G14+Ajapnjak!G14+Avan!G14+Arabkir!G14+Shengavit!G14+'Malatia-Sebastia'!G14+Kotayq!G14+Ararat!G14+Armavir!G14+Aragacotn!G14+Shirak!G14+Lori!G14+Tavush!G14+Gegharquniq!G14+Syuniq!G14 -> 0 | H14: =Erebuni!H14+Kentron!H14+Ajapnjak!H14+Avan!H14+Arabkir!H14+Shengavit!H14+'Malatia-Sebastia'!H14+Kotayq!H14+Ararat!H14+Armavir!H14+Aragacotn!H14+Shirak!H14+Lori!H14+Tavush!H14+Gegharquniq!H14+Syuniq!H14 -> 1 | I14: =Erebuni!I14+Kentron!I14+Ajapnjak!I14+Avan!I14+Arabkir!I14+Shengavit!I14+'Malatia-Sebastia'!I14+Kotayq!I14+Ararat!I14+Armavir!I14+Aragacotn!I14+Shirak!I14+Lori!I14+Tavush!I14+Gegharquniq!I14+Syuniq!I14 -> 0 | J14: =Erebuni!J14+Kentron!J14+Ajapnjak!J14+Avan!J14+Arabkir!J14+Shengavit!J14+'Malatia-Sebastia'!J14+Kotayq!J14+Ararat!J14+Armavir!J14+Aragacotn!J14+Shirak!J14+Lori!J14+Tavush!J14+Gegharquniq!J14+Syuniq!J14 -> 0 | K14: =Erebuni!K14+Kentron!K14+Ajapnjak!K14+Avan!K14+Arabkir!K14+Shengavit!K14+'Malatia-Sebastia'!K14+Kotayq!K14+Ararat!K14+Armavir!K14+Aragacotn!K14+Shirak!K14+Lori!K14+Tavush!K14+Gegharquniq!K14+Syuniq!K14 -> 1 | L14: =Erebuni!L14+Kentron!L14+Ajapnjak!L14+Avan!L14+Arabkir!L14+Shengavit!L14+'Malatia-Sebastia'!L14+Kotayq!L14+Ararat!L14+Armavir!L14+Aragacotn!L14+Shirak!L14+Lori!L14+Tavush!L14+Gegharquniq!L14+Syuniq!L14 -> 0 | ... U14: =Erebuni!U14+Kentron!U14+Ajapnjak!U14+Avan!U14+Arabkir!U14+Shengavit!U14+'Malatia-Sebastia'!U14+Kotayq!U14+Ararat!U14+Armavir!U14+Aragacotn!U14+Shirak!U14+Lori!U14+Tavush!U14+Gegharquniq!U14+Syuniq!U14 -> 0
A15: 0 | B15: 1.7 | C15: ÆÝùÝ³ëå³ÝáõÃÛ³Ý Ñ³ëóÝ»ÉÁ | D15: 110 | E15: =Erebuni!E15+Kentron!E15+Ajapnjak!E15+Avan!E15+Arabkir!E15+Shengavit!E15+'Malatia-Sebastia'!E15+Kotayq!E15+Ararat!E15+Armavir!E15+Aragacotn!E15+Shirak!E15+Lori!E15+Tavush!E15+Gegharquniq!E15+Syuniq!E15 -> 0 | F15: =Erebuni!F15+Kentron!F15+Ajapnjak!F15+Avan!F15+Arabkir!F15+Shengavit!F15+'Malatia-Sebastia'!F15+Kotayq!F15+Ararat!F15+Armavir!F15+Aragacotn!F15+Shirak!F15+Lori!F15+Tavush!F15+Gegharquniq!F15+Syuniq!F15 -> 0 | G15: =Erebuni!G15+Kentron!G15+Ajapnjak!G15+Avan!G15+Arabkir!G15+Shengavit!G15+'Malatia-Sebastia'!G15+Kotayq!G15+Ararat!G15+Armavir!G15+Aragacotn!G15+Shirak!G15+Lori!G15+Tavush!G15+Gegharquniq!G15+Syuniq!G15 -> 2 | H15: =Erebuni!H15+Kentron!H15+Ajapnjak!H15+Avan!H15+Arabkir!H15+Shengavit!H15+'Malatia-Sebastia'!H15+Kotayq!H15+Ararat!H15+Armavir!H15+Aragacotn!H15+Shirak!H15+Lori!H15+Tavush!H15+Gegharquniq!H15+Syuniq!H15 -> 1 | I15: =Erebuni!I15+Kentron!I15+Ajapnjak!I15+Avan!I15+Arabkir!I15+Shengavit!I15+'Malatia-Sebastia'!I15+Kotayq!I15+Ararat!I15+Armavir!I15+Aragacotn!I15+Shirak!I15+Lori!I15+Tavush!I15+Gegharquniq!I15+Syuniq!I15 -> 0 | J15: =Erebuni!J15+Kentron!J15+Ajapnjak!J15+Avan!J15+Arabkir!J15+Shengavit!J15+'Malatia-Sebastia'!J15+Kotayq!J15+Ararat!J15+Armavir!J15+Aragacotn!J15+Shirak!J15+Lori!J15+Tavush!J15+Gegharquniq!J15+Syuniq!J15 -> 0 | K15: =Erebuni!K15+Kentron!K15+Ajapnjak!K15+Avan!K15+Arabkir!K15+Shengavit!K15+'Malatia-Sebastia'!K15+Kotayq!K15+Ararat!K15+Armavir!K15+Aragacotn!K15+Shirak!K15+Lori!K15+Tavush!K15+Gegharquniq!K15+Syuniq!K15 -> 1 | L15: =Erebuni!L15+Kentron!L15+Ajapnjak!L15+Avan!L15+Arabkir!L15+Shengavit!L15+'Malatia-Sebastia'!L15+Kotayq!L15+Ararat!L15+Armavir!L15+Aragacotn!L15+Shirak!L15+Lori!L15+Tavush!L15+Gegharquniq!L15+Syuniq!L15 -> 0 | ... U15: =Erebuni!U15+Kentron!U15+Ajapnjak!U15+Avan!U15+Arabkir!U15+Shengavit!U15+'Malatia-Sebastia'!U15+Kotayq!U15+Ararat!U15+Armavir!U15+Aragacotn!U15+Shirak!U15+Lori!U15+Tavush!U15+Gegharquniq!U15+Syuniq!U15 -> 0
A16: 0 | B16: 1.8 | C16: ÆÝùÝ³ëå³ÝáõÃÛ³Ý Ñ³Ï»ÉÁ | D16: 111 | E16: =Erebuni!E16+Kentron!E16+Ajapnjak!E16+Avan!E16+Arabkir!E16+Shengavit!E16+'Malatia-Sebastia'!E16+Kotayq!E16+Ararat!E16+Armavir!E16+Aragacotn!E16+Shirak!E16+Lori!E16+Tavush!E16+Gegharquniq!E16+Syuniq!E16 -> 0 | F16: =Erebuni!F16+Kentron!F16+Ajapnjak!F16+Avan!F16+Arabkir!F16+Shengavit!F16+'Malatia-Sebastia'!F16+Kotayq!F16+Ararat!F16+Armavir!F16+Aragacotn!F16+Shirak!F16+Lori!F16+Tavush!F16+Gegharquniq!F16+Syuniq!F16 -> 0 | G16: =Erebuni!G16+Kentron!G16+Ajapnjak!G16+Avan!G16+Arabkir!G16+Shengavit!G16+'Malatia-Sebastia'!G16+Kotayq!G16+Ararat!G16+Armavir!G16+Aragacotn!G16+Shirak!G16+Lori!G16+Tavush!G16+Gegharquniq!G16+Syuniq!G16 -> 0 | H16: =Erebuni!H16+Kentron!H16+Ajapnjak!H16+Avan!H16+Arabkir!H16+Shengavit!H16+'Malatia-Sebastia'!H16+Kotayq!H16+Ararat!H16+Armavir!H16+Aragacotn!H16+Shirak!H16+Lori!H16+Tavush!H16+Gegharquniq!H16+Syuniq!H16 -> 0 | I16: =Erebuni!I16+Kentron!I16+Ajapnjak!I16+Avan!I16+Arabkir!I16+Shengavit!I16+'Malatia-Sebastia'!I16+Kotayq!I16+Ararat!I16+Armavir!I16+Aragacotn!I16+Shirak!I16+Lori!I16+Tavush!I16+Gegharquniq!I16+Syuniq!I16 -> 0 | J16: =Erebuni!J16+Kentron!J16+Ajapnjak!J16+Avan!J16+Arabkir!J16+Shengavit!J16+'Malatia-Sebastia'!J16+Kotayq!J16+Ararat!J16+Armavir!J16+Aragacotn!J16+Shirak!J16+Lori!J16+Tavush!J16+Gegharquniq!J16+Syuniq!J16 -> 0 | K16: =Erebuni!K16+Kentron!K16+Ajapnjak!K16+Avan!K16+Arabkir!K16+Shengavit!K16+'Malatia-Sebastia'!K16+Kotayq!K16+Ararat!K16+Armavir!K16+Aragacotn!K16+Shirak!K16+Lori!K16+Tavush!K16+Gegharquniq!K16+Syuniq!K16 -> 0 | L16: =Erebuni!L16+Kentron!L16+Ajapnjak!L16+Avan!L16+Arabkir!L16+Shengavit!L16+'Malatia-Sebastia'!L16+Kotayq!L16+Ararat!L16+Armavir!L16+Aragacotn!L16+Shirak!L16+Lori!L16+Tavush!L16+Gegharquniq!L16+Syuniq!L16 -> 0 | ... U16: =Erebuni!U16+Kentron!U16+Ajapnjak!U16+Avan!U16+Arabkir!U16+Shengavit!U16+'Malatia-Sebastia'!U16+Kotayq!U16+Ararat!U16+Armavir!U16+Aragacotn!U16+Shirak!U16+Lori!U16+Tavush!U16+Gegharquniq!U16+Syuniq!U16 -> 0
A17: 0 | B17: 1.9 | C17: ¸Çï³íáñáõÃÛ³Ùµ ³éáÕçáõÃÛ³ÝÁ Í³Ýñ íÝ³ë å³ï×³é»ÉÁ | D17: 112 | E17: =Erebuni!E17+Kentron!E17+Ajapnjak!E17+Avan!E17+Arabkir!E17+Shengavit!E17+'Malatia-Sebastia'!E17+Kotayq!E17+Ararat!E17+Armavir!E17+Aragacotn!E17+Shirak!E17+Lori!E17+Tavush!E17+Gegharquniq!E17+Syuniq!E17 -> 72 | F17: =Erebuni!F17+Kentron!F17+Ajapnjak!F17+Avan!F17+Arabkir!F17+Shengavit!F17+'Malatia-Sebastia'!F17+Kotayq!F17+Ararat!F17+Armavir!F17+Aragacotn!F17+Shirak!F17+Lori!F17+Tavush!F17+Gegharquniq!F17+Syuniq!F17 -> 1 | G17: =Erebuni!G17+Kentron!G17+Ajapnjak!G17+Avan!G17+Arabkir!G17+Shengavit!G17+'Malatia-Sebastia'!G17+Kotayq!G17+Ararat!G17+Armavir!G17+Aragacotn!G17+Shirak!G17+Lori!G17+Tavush!G17+Gegharquniq!G17+Syuniq!G17 -> 50 | H17: =Erebuni!H17+Kentron!H17+Ajapnjak!H17+Avan!H17+Arabkir!H17+Shengavit!H17+'Malatia-Sebastia'!H17+Kotayq!H17+Ararat!H17+Armavir!H17+Aragacotn!H17+Shirak!H17+Lori!H17+Tavush!H17+Gegharquniq!H17+Syuniq!H17 -> 66 | I17: =Erebuni!I17+Kentron!I17+Ajapnjak!I17+Avan!I17+Arabkir!I17+Shengavit!I17+'Malatia-Sebastia'!I17+Kotayq!I17+Ararat!I17+Armavir!I17+Aragacotn!I17+Shirak!I17+Lori!I17+Tavush!I17+Gegharquniq!I17+Syuniq!I17 -> 3 | J17: =Erebuni!J17+Kentron!J17+Ajapnjak!J17+Avan!J17+Arabkir!J17+Shengavit!J17+'Malatia-Sebastia'!J17+Kotayq!J17+Ararat!J17+Armavir!J17+Aragacotn!J17+Shirak!J17+Lori!J17+Tavush!J17+Gegharquniq!J17+Syuniq!J17 -> 2 | K17: =Erebuni!K17+Kentron!K17+Ajapnjak!K17+Avan!K17+Arabkir!K17+Shengavit!K17+'Malatia-Sebastia'!K17+Kotayq!K17+Ararat!K17+Armavir!K17+Aragacotn!K17+Shirak!K17+Lori!K17+Tavush!K17+Gegharquniq!K17+Syuniq!K17 -> 71 | L17: =Erebuni!L17+Kentron!L17+Ajapnjak!L17+Avan!L17+Arabkir!L17+Shengavit!L17+'Malatia-Sebastia'!L17+Kotayq!L17+Ararat!L17+Armavir!L17+Aragacotn!L17+Shirak!L17+Lori!L17+Tavush!L17+Gegharquniq!L17+Syuniq!L17 -> 0 | ... U17: =Erebuni!U17+Kentron!U17+Ajapnjak!U17+Avan!U17+Arabkir!U17+Shengavit!U17+'Malatia-Sebastia'!U17+Kotayq!U17+Ararat!U17+Armavir!U17+Aragacotn!U17+Shirak!U17+Lori!U17+Tavush!U17+Gegharquniq!U17+Syuniq!U17 -> 1
A18: 0 | B18: 1.10 | C18: ¸Çï³íáñáõÃÛ³Ùµ ³éáÕçáõÃÛ³ÝÁ ÙÇçÇÝ Í³ÝñáõÃÛ³Ý íÝ³ë å³ï×³é»ÉÁ | D18: 113 | E18: =Erebuni!E18+Kentron!E18+Ajapnjak!E18+Avan!E18+Arabkir!E18+Shengavit!E18+'Malatia-Sebastia'!E18+Kotayq!E18+Ararat!E18+Armavir!E18+Aragacotn!E18+Shirak!E18+Lori!E18+Tavush!E18+Gegharquniq!E18+Syuniq!E18 -> 13 | F18: =Erebuni!F18+Kentron!F18+Ajapnjak!F18+Avan!F18+Arabkir!F18+Shengavit!F18+'Malatia-Sebastia'!F18+Kotayq!F18+Ararat!F18+Armavir!F18+Aragacotn!F18+Shirak!F18+Lori!F18+Tavush!F18+Gegharquniq!F18+Syuniq!F18 -> 0 | G18: =Erebuni!G18+Kentron!G18+Ajapnjak!G18+Avan!G18+Arabkir!G18+Shengavit!G18+'Malatia-Sebastia'!G18+Kotayq!G18+Ararat!G18+Armavir!G18+Aragacotn!G18+Shirak!G18+Lori!G18+Tavush!G18+Gegharquniq!G18+Syuniq!G18 -> 14 | H18: =Erebuni!H18+Kentron!H18+Ajapnjak!H18+Avan!H18+Arabkir!H18+Shengavit!H18+'Malatia-Sebastia'!H18+Kotayq!H18+Ararat!H18+Armavir!H18+Aragacotn!H18+Shirak!H18+Lori!H18+Tavush!H18+Gegharquniq!H18+Syuniq!H18 -> 7 | I18: =Erebuni!I18+Kentron!I18+Ajapnjak!I18+Avan!I18+Arabkir!I18+Shengavit!I18+'Malatia-Sebastia'!I18+Kotayq!I18+Ararat!I18+Armavir!I18+Aragacotn!I18+Shirak!I18+Lori!I18+Tavush!I18+Gegharquniq!I18+Syuniq!I18 -> 7 | J18: =Erebuni!J18+Kentron!J18+Ajapnjak!J18+Avan!J18+Arabkir!J18+Shengavit!J18+'Malatia-Sebastia'!J18+Kotayq!J18+Ararat!J18+Armavir!J18+Aragacotn!J18+Shirak!J18+Lori!J18+Tavush!J18+Gegharquniq!J18+Syuniq!J18 -> 1 | K18: =Erebuni!K18+Kentron!K18+Ajapnjak!K18+Avan!K18+Arabkir!K18+Shengavit!K18+'Malatia-Sebastia'!K18+Kotayq!K18+Ararat!K18+Armavir!K18+Aragacotn!K18+Shirak!K18+Lori!K18+Tavush!K18+Gegharquniq!K18+Syuniq!K18 -> 15 | L18: =Erebuni!L18+Kentron!L18+Ajapnjak!L18+Avan!L18+Arabkir!L18+Shengavit!L18+'Malatia-Sebastia'!L18+Kotayq!L18+Ararat!L18+Armavir!L18+Aragacotn!L18+Shirak!L18+Lori!L18+Tavush!L18+Gegharquniq!L18+Syuniq!L18 -> 0 | ... U18: =Erebuni!U18+Kentron!U18+Ajapnjak!U18+Avan!U18+Arabkir!U18+Shengavit!U18+'Malatia-Sebastia'!U18+Kotayq!U18+Ararat!U18+Armavir!U18+Aragacotn!U18+Shirak!U18+Lori!U18+Tavush!U18+Gegharquniq!U18+Syuniq!U18 -> 0
A19: 0 | B19: 1.11 | C19: Ðá·»Ï³Ý ËÇëï Ñáõ½ÙáõÝùÇ íÇ×³ÏáõÙ ³éáÕçáõÃÛ³ÝÁ Í³Ýñ Ï³Ù ÙÇçÇÝ Í³ÝñáõÃÛ³Ý íÝ³ë å³ï×³é»ÉÁ | D19: 114 | E19: =Erebuni!E19+Kentron!E19+Ajapnjak!E19+Avan!E19+Arabkir!E19+Shengavit!E19+'Malatia-Sebastia'!E19+Kotayq!E19+Ararat!E19+Armavir!E19+Aragacotn!E19+Shirak!E19+Lori!E19+Tavush!E19+Gegharquniq!E19+Syuniq!E19 -> 1 | F19: =Erebuni!F19+Kentron!F19+Ajapnjak!F19+Avan!F19+Arabkir!F19+Shengavit!F19+'Malatia-Sebastia'!F19+Kotayq!F19+Ararat!F19+Armavir!F19+Aragacotn!F19+Shirak!F19+Lori!F19+Tavush!F19+Gegharquniq!F19+Syuniq!F19 -> 1 | G19: =Erebuni!G19+Kentron!G19+Ajapnjak!G19+Avan!G19+Arabkir!G19+Shengavit!G19+'Malatia-Sebastia'!G19+Kotayq!G19+Ararat!G19+Armavir!G19+Aragacotn!G19+Shirak!G19+Lori!G19+Tavush!G19+Gegharquniq!G19+Syuniq!G19 -> 0 | H19: =Erebuni!H19+Kentron!H19+Ajapnjak!H19+Avan!H19+Arabkir!H19+Shengavit!H19+'Malatia-Sebastia'!H19+Kotayq!H19+Ararat!H19+Armavir!H19+Aragacotn!H19+Shirak!H19+Lori!H19+Tavush!H19+Gegharquniq!H19+Syuniq!H19 -> 0 | I19: =Erebuni!I19+Kentron!I19+Ajapnjak!I19+Avan!I19+Arabkir!I19+Shengavit!I19+'Malatia-Sebastia'!I19+Kotayq!I19+Ararat!I19+Armavir!I19+Aragacotn!I19+Shirak!I19+Lori!I19+Tavush!I19+Gegharquniq!I19+Syuniq!I19 -> 0 | J19: =Erebuni!J19+Kentron!J19+Ajapnjak!J19+Avan!J19+Arabkir!J19+Shengavit!J19+'Malatia-Sebastia'!J19+Kotayq!J19+Ararat!J19+Armavir!J19+Aragacotn!J19+Shirak!J19+Lori!J19+Tavush!J19+Gegharquniq!J19+Syuniq!J19 -> 0 | K19: =Erebuni!K19+Kentron!K19+Ajapnjak!K19+Avan!K19+Arabkir!K19+Shengavit!K19+'Malatia-Sebastia'!K19+Kotayq!K19+Ararat!K19+Armavir!K19+Aragacotn!K19+Shirak!K19+Lori!K19+Tavush!K19+Gegharquniq!K19+Syuniq!K19 -> 0 | L19: =Erebuni!L19+Kentron!L19+Ajapnjak!L19+Avan!L19+Arabkir!L19+Shengavit!L19+'Malatia-Sebastia'!L19+Kotayq!L19+Ararat!L19+Armavir!L19+Aragacotn!L19+Shirak!L19+Lori!L19+Tavush!L19+Gegharquniq!L19+Syuniq!L19 -> 0 | ... U19: =Erebuni!U19+Kentron!U19+Ajapnjak!U19+Avan!U19+Arabkir!U19+Shengavit!U19+'Malatia-Sebastia'!U19+Kotayq!U19+Ararat!U19+Armavir!U19+Aragacotn!U19+Shirak!U19+Lori!U19+Tavush!U19+Gegharquniq!U19+Syuniq!U19 -> 0
A20: 0 | B20: 1.12 | C20: Ð³Ýó³Ýù Ï³ï³ñ³Í ³ÝÓÇÝ µéÝ»Éáõ Ñ³Ù³ñ ³ÝÑñ³Å»ßï ÙÇçáóÝ»ñÇ ë³ÑÙ³Ý½³ÝóÙ³Ùµ ³éáÕçáõÃÛ³ÝÁ Í³Ýñ Ï³Ù ÙÇçÇÝ Í³ÝñáõÃÛ³Ý íÝ³ë å³ï×³é»ÉÁ | D20: 115 | E20: =Erebuni!E20+Kentron!E20+Ajapnjak!E20+Avan!E20+Arabkir!E20+Shengavit!E20+'Malatia-Sebastia'!E20+Kotayq!E20+Ararat!E20+Armavir!E20+Aragacotn!E20+Shirak!E20+Lori!E20+Tavush!E20+Gegharquniq!E20+Syuniq!E20 -> 0 | F20: =Erebuni!F20+Kentron!F20+Ajapnjak!F20+Avan!F20+Arabkir!F20+Shengavit!F20+'Malatia-Sebastia'!F20+Kotayq!F20+Ararat!F20+Armavir!F20+Aragacotn!F20+Shirak!F20+Lori!F20+Tavush!F20+Gegharquniq!F20+Syuniq!F20 -> 0 | G20: =Erebuni!G20+Kentron!G20+Ajapnjak!G20+Avan!G20+Arabkir!G20+Shengavit!G20+'Malatia-Sebastia'!G20+Kotayq!G20+Ararat!G20+Armavir!G20+Aragacotn!G20+Shirak!G20+Lori!G20+Tavush!G20+Gegharquniq!G20+Syuniq!G20 -> 0 | H20: =Erebuni!H20+Kentron!H20+Ajapnjak!H20+Avan!H20+Arabkir!H20+Shengavit!H20+'Malatia-Sebastia'!H20+Kotayq!H20+Ararat!H20+Armavir!H20+Aragacotn!H20+Shirak!H20+Lori!H20+Tavush!H20+Gegharquniq!H20+Syuniq!H20 -> 0 | I20: =Erebuni!I20+Kentron!I20+Ajapnjak!I20+Avan!I20+Arabkir!I20+Shengavit!I20+'Malatia-Sebastia'!I20+Kotayq!I20+Ararat!I20+Armavir!I20+Aragacotn!I20+Shirak!I20+Lori!I20+Tavush!I20+Gegharquniq!I20+Syuniq!I20 -> 0 | J20: =Erebuni!J20+Kentron!J20+Ajapnjak!J20+Avan!J20+Arabkir!J20+Shengavit!J20+'Malatia-Sebastia'!J20+Kotayq!J20+Ararat!J20+Armavir!J20+Aragacotn!J20+Shirak!J20+Lori!J20+Tavush!J20+Gegharquniq!J20+Syuniq!J20 -> 0 | K20: =Erebuni!K20+Kentron!K20+Ajapnjak!K20+Avan!K20+Arabkir!K20+Shengavit!K20+'Malatia-Sebastia'!K20+Kotayq!K20+Ararat!K20+Armavir!K20+Aragacotn!K20+Shirak!K20+Lori!K20+Tavush!K20+Gegharquniq!K20+Syuniq!K20 -> 0 | L20: =Erebuni!L20+Kentron!L20+Ajapnjak!L20+Avan!L20+Arabkir!L20+Shengavit!L20+'Malatia-Sebastia'!L20+Kotayq!L20+Ararat!L20+Armavir!L20+Aragacotn!L20+Shirak!L20+Lori!L20+Tavush!L20+Gegharquniq!L20+Syuniq!L20 -> 0 | ... U20: =Erebuni!U20+Kentron!U20+Ajapnjak!U20+Avan!U20+Arabkir!U20+Shengavit!U20+'Malatia-Sebastia'!U20+Kotayq!U20+Ararat!U20+Armavir!U20+Aragacotn!U20+Shirak!U20+Lori!U20+Tavush!U20+Gegharquniq!U20+Syuniq!U20 -> 0
... A34: 0 | B34: 1.27 | C34: ´ÅßÏ³Ï³Ý û·ÝáõÃÛáõÝ ¨ ëå³ë³ñÏáõÙ Çñ³Ï³Ý³óÝáÕÝ»ñÇ ÏáÕÙÇó Ù³ëÝ³·Çï³Ï³Ý å³ñï³Ï³ÝáõÃÛáõÝÝ»ñÁ ãÏ³ï³ñ»ÉÁ Ï³Ù áã å³ïß³× Ï³ï³ñ»ÉÁ | D34: 130 | E34: =Erebuni!E34+Kentron!E34+Ajapnjak!E34+Avan!E34+Arabkir!E34+Shengavit!E34+'Malatia-Sebastia'!E34+Kotayq!E34+Ararat!E34+Armavir!E34+Aragacotn!E34+Shirak!E34+Lori!E34+Tavush!E34+Gegharquniq!E34+Syuniq!E34 -> 4 | F34: =Erebuni!F34+Kentron!F34+Ajapnjak!F34+Avan!F34+Arabkir!F34+Shengavit!F34+'Malatia-Sebastia'!F34+Kotayq!F34+Ararat!F34+Armavir!F34+Aragacotn!F34+Shirak!F34+Lori!F34+Tavush!F34+Gegharquniq!F34+Syuniq!F34 -> 0 | G34: =Erebuni!G34+Kentron!G34+Ajapnjak!G34+Avan!G34+Arabkir!G34+Shengavit!G34+'Malatia-Sebastia'!G34+Kotayq!G34+Ararat!G34+Armavir!G34+Aragacotn!G34+Shirak!G34+Lori!G34+Tavush!G34+Gegharquniq!G34+Syuniq!G34 -> 1 | H34: =Erebuni!H34+Kentron!H34+Ajapnjak!H34+Avan!H34+Arabkir!H34+Shengavit!H34+'Malatia-Sebastia'!H34+Kotayq!H34+Ararat!H34+Armavir!H34+Aragacotn!H34+Shirak!H34+Lori!H34+Tavush!H34+Gegharquniq!H34+Syuniq!H34 -> 3 | I34: =Erebuni!I34+Kentron!I34+Ajapnjak!I34+Avan!I34+Arabkir!I34+Shengavit!I34+'Malatia-Sebastia'!I34+Kotayq!I34+Ararat!I34+Armavir!I34+Aragacotn!I34+Shirak!I34+Lori!I34+Tavush!I34+Gegharquniq!I34+Syuniq!I34 -> 1 | J34: =Erebuni!J34+Kentron!J34+Ajapnjak!J34+Avan!J34+Arabkir!J34+Shengavit!J34+'Malatia-Sebastia'!J34+Kotayq!J34+Ararat!J34+Armavir!J34+Aragacotn!J34+Shirak!J34+Lori!J34+Tavush!J34+Gegharquniq!J34+Syuniq!J34 -> 0 | K34: =Erebuni!K34+Kentron!K34+Ajapnjak!K34+Avan!K34+Arabkir!K34+Shengavit!K34+'Malatia-Sebastia'!K34+Kotayq!K34+Ararat!K34+Armavir!K34+Aragacotn!K34+Shirak!K34+Lori!K34+Tavush!K34+Gegharquniq!K34+Syuniq!K34 -> 4 | L34: =Erebuni!L34+Kentron!L34+Ajapnjak!L34+Avan!L34+Arabkir!L34+Shengavit!L34+'Malatia-Sebastia'!L34+Kotayq!L34+Ararat!L34+Armavir!L34+Aragacotn!L34+Shirak!L34+Lori!L34+Tavush!L34+Gegharquniq!L34+Syuniq!L34 -> 0 | ... U34: =Erebuni!U34+Kentron!U34+Ajapnjak!U34+Avan!U34+Arabkir!U34+Shengavit!U34+'Malatia-Sebastia'!U34+Kotayq!U34+Ararat!U34+Armavir!U34+Aragacotn!U34+Shirak!U34+Lori!U34+Tavush!U34+Gegharquniq!U34+Syuniq!U34 -> 0
A35: 1 | B35: 1.28 | C35: ²ÛÉ Ñ³Ýó³·áñÍáõÃÛáõÝÝ»ñ | E35: =Erebuni!E35+Kentron!E35+Ajapnjak!E35+Avan!E35+Arabkir!E35+Shengavit!E35+'Malatia-Sebastia'!E35+Kotayq!E35+Ararat!E35+Armavir!E35+Aragacotn!E35+Shirak!E35+Lori!E35+Tavush!E35+Gegharquniq!E35+Syuniq!E35 -> 1 | F35: =Erebuni!F35+Kentron!F35+Ajapnjak!F35+Avan!F35+Arabkir!F35+Shengavit!F35+'Malatia-Sebastia'!F35+Kotayq!F35+Ararat!F35+Armavir!F35+Aragacotn!F35+Shirak!F35+Lori!F35+Tavush!F35+Gegharquniq!F35+Syuniq!F35 -> 1 | G35: =Erebuni!G35+Kentron!G35+Ajapnjak!G35+Avan!G35+Arabkir!G35+Shengavit!G35+'Malatia-Sebastia'!G35+Kotayq!G35+Ararat!G35+Armavir!G35+Aragacotn!G35+Shirak!G35+Lori!G35+Tavush!G35+Gegharquniq!G35+Syuniq!G35 -> 0 | H35: =Erebuni!H35+Kentron!H35+Ajapnjak!H35+Avan!H35+Arabkir!H35+Shengavit!H35+'Malatia-Sebastia'!H35+Kotayq!H35+Ararat!H35+Armavir!H35+Aragacotn!H35+Shirak!H35+Lori!H35+Tavush!H35+Gegharquniq!H35+Syuniq!H35 -> 0 | I35: =Erebuni!I35+Kentron!I35+Ajapnjak!I35+Avan!I35+Arabkir!I35+Shengavit!I35+'Malatia-Sebastia'!I35+Kotayq!I35+Ararat!I35+Armavir!I35+Aragacotn!I35+Shirak!I35+Lori!I35+Tavush!I35+Gegharquniq!I35+Syuniq!I35 -> 0 | J35: =Erebuni!J35+Kentron!J35+Ajapnjak!J35+Avan!J35+Arabkir!J35+Shengavit!J35+'Malatia-Sebastia'!J35+Kotayq!J35+Ararat!J35+Armavir!J35+Aragacotn!J35+Shirak!J35+Lori!J35+Tavush!J35+Gegharquniq!J35+Syuniq!J35 -> 0 | K35: =Erebuni!K35+Kentron!K35+Ajapnjak!K35+Avan!K35+Arabkir!K35+Shengavit!K35+'Malatia-Sebastia'!K35+Kotayq!K35+Ararat!K35+Armavir!K35+Aragacotn!K35+Shirak!K35+Lori!K35+Tavush!K35+Gegharquniq!K35+Syuniq!K35 -> 0 | L35: =Erebuni!L35+Kentron!L35+Ajapnjak!L35+Avan!L35+Arabkir!L35+Shengavit!L35+'Malatia-Sebastia'!L35+Kotayq!L35+Ararat!L35+Armavir!L35+Aragacotn!L35+Shirak!L35+Lori!L35+Tavush!L35+Gegharquniq!L35+Syuniq!L35 -> 0 | ... U35: =Erebuni!U35+Kentron!U35+Ajapnjak!U35+Avan!U35+Arabkir!U35+Shengavit!U35+'Malatia-Sebastia'!U35+Kotayq!U35+Ararat!U35+Armavir!U35+Aragacotn!U35+Shirak!U35+Lori!U35+Tavush!U35+Gegharquniq!U35+Syuniq!U35 -> 0
A36: 0 | B36: 2. | C36: ÀÝ¹³Ù»ÝÁ ³ÝÓÇ ³½³ïáõÃÛ³Ý, å³ïíÇ ¨ ³ñÅ³Ý³å³ïíáõÃÛ³Ý ¹»Ù áõÕÕí³Í Ñ³Ýó³·áñÍáõÃÛáõÝÝ»ñÁ | E36: =SUM(E37:E43) -> 16 | F36: =SUM(F37:F43) -> 0 | G36: =SUM(G37:G43) -> 40 | H36: =SUM(H37:H43) -> 27 | I36: =SUM(I37:I43) -> 2 | J36: =SUM(J37:J43) -> 5 | K36: =SUM(K37:K43) -> 34 | L36: =SUM(L37:L43) -> 0 | ... U36: =SUM(U37:U43) -> 2
A37: 0 | B37: 2.1 | C37: Ø³ñ¹áõÝ ³é¨³Ý·»ÉÁ | D37: 131 | E37: =Erebuni!E37+Kentron!E37+Ajapnjak!E37+Avan!E37+Arabkir!E37+Shengavit!E37+'Malatia-Sebastia'!E37+Kotayq!E37+Ararat!E37+Armavir!E37+Aragacotn!E37+Shirak!E37+Lori!E37+Tavush!E37+Gegharquniq!E37+Syuniq!E37 -> 6 | F37: =Erebuni!F37+Kentron!F37+Ajapnjak!F37+Avan!F37+Arabkir!F37+Shengavit!F37+'Malatia-Sebastia'!F37+Kotayq!F37+Ararat!F37+Armavir!F37+Aragacotn!F37+Shirak!F37+Lori!F37+Tavush!F37+Gegharquniq!F37+Syuniq!F37 -> 0 | G37: =Erebuni!G37+Kentron!G37+Ajapnjak!G37+Avan!G37+Arabkir!G37+Shengavit!G37+'Malatia-Sebastia'!G37+Kotayq!G37+Ararat!G37+Armavir!G37+Aragacotn!G37+Shirak!G37+Lori!G37+Tavush!G37+Gegharquniq!G37+Syuniq!G37 -> 24 | H37: =Erebuni!H37+Kentron!H37+Ajapnjak!H37+Avan!H37+Arabkir!H37+Shengavit!H37+'Malatia-Sebastia'!H37+Kotayq!H37+Ararat!H37+Armavir!H37+Aragacotn!H37+Shirak!H37+Lori!H37+Tavush!H37+Gegharquniq!H37+Syuniq!H37 -> 17 | I37: =Erebuni!I37+Kentron!I37+Ajapnjak!I37+Avan!I37+Arabkir!I37+Shengavit!I37+'Malatia-Sebastia'!I37+Kotayq!I37+Ararat!I37+Armavir!I37+Aragacotn!I37+Shirak!I37+Lori!I37+Tavush!I37+Gegharquniq!I37+Syuniq!I37 -> 0 | J37: =Erebuni!J37+Kentron!J37+Ajapnjak!J37+Avan!J37+Arabkir!J37+Shengavit!J37+'Malatia-Sebastia'!J37+Kotayq!J37+Ararat!J37+Armavir!J37+Aragacotn!J37+Shirak!J37+Lori!J37+Tavush!J37+Gegharquniq!J37+Syuniq!J37 -> 0 | K37: =Erebuni!K37+Kentron!K37+Ajapnjak!K37+Avan!K37+Arabkir!K37+Shengavit!K37+'Malatia-Sebastia'!K37+Kotayq!K37+Ararat!K37+Armavir!K37+Aragacotn!K37+Shirak!K37+Lori!K37+Tavush!K37+Gegharquniq!K37+Syuniq!K37 -> 17 | L37: =Erebuni!L37+Kentron!L37+Ajapnjak!L37+Avan!L37+Arabkir!L37+Shengavit!L37+'Malatia-Sebastia'!L37+Kotayq!L37+Ararat!L37+Armavir!L37+Aragacotn!L37+Shirak!L37+Lori!L37+Tavush!L37+Gegharquniq!L37+Syuniq!L37 -> 0 | ... U37: =Erebuni!U37+Kentron!U37+Ajapnjak!U37+Avan!U37+Arabkir!U37+Shengavit!U37+'Malatia-Sebastia'!U37+Kotayq!U37+Ararat!U37+Armavir!U37+Aragacotn!U37+Shirak!U37+Lori!U37+Tavush!U37+Gegharquniq!U37+Syuniq!U37 -> 2
B38: 2.2 | C38: Մարդու թրաֆիքինգը կամ շահագործումը | D38: 132 | E38: =Erebuni!E38+Kentron!E38+Ajapnjak!E38+Avan!E38+Arabkir!E38+Shengavit!E38+'Malatia-Sebastia'!E38+Kotayq!E38+Ararat!E38+Armavir!E38+Aragacotn!E38+Shirak!E38+Lori!E38+Tavush!E38+Gegharquniq!E38+Syuniq!E38 -> 2 | F38: =Erebuni!F38+Kentron!F38+Ajapnjak!F38+Avan!F38+Arabkir!F38+Shengavit!F38+'Malatia-Sebastia'!F38+Kotayq!F38+Ararat!F38+Armavir!F38+Aragacotn!F38+Shirak!F38+Lori!F38+Tavush!F38+Gegharquniq!F38+Syuniq!F38 -> 0 | G38: =Erebuni!G38+Kentron!G38+Ajapnjak!G38+Avan!G38+Arabkir!G38+Shengavit!G38+'Malatia-Sebastia'!G38+Kotayq!G38+Ararat!G38+Armavir!G38+Aragacotn!G38+Shirak!G38+Lori!G38+Tavush!G38+Gegharquniq!G38+Syuniq!G38 -> 3 | H38: =Erebuni!H38+Kentron!H38+Ajapnjak!H38+Avan!H38+Arabkir!H38+Shengavit!H38+'Malatia-Sebastia'!H38+Kotayq!H38+Ararat!H38+Armavir!H38+Aragacotn!H38+Shirak!H38+Lori!H38+Tavush!H38+Gegharquniq!H38+Syuniq!H38 -> 1 | I38: =Erebuni!I38+Kentron!I38+Ajapnjak!I38+Avan!I38+Arabkir!I38+Shengavit!I38+'Malatia-Sebastia'!I38+Kotayq!I38+Ararat!I38+Armavir!I38+Aragacotn!I38+Shirak!I38+Lori!I38+Tavush!I38+Gegharquniq!I38+Syuniq!I38 -> 0 | J38: =Erebuni!J38+Kentron!J38+Ajapnjak!J38+Avan!J38+Arabkir!J38+Shengavit!J38+'Malatia-Sebastia'!J38+Kotayq!J38+Ararat!J38+Armavir!J38+Aragacotn!J38+Shirak!J38+Lori!J38+Tavush!J38+Gegharquniq!J38+Syuniq!J38 -> 0 | K38: =Erebuni!K38+Kentron!K38+Ajapnjak!K38+Avan!K38+Arabkir!K38+Shengavit!K38+'Malatia-Sebastia'!K38+Kotayq!K38+Ararat!K38+Armavir!K38+Aragacotn!K38+Shirak!K38+Lori!K38+Tavush!K38+Gegharquniq!K38+Syuniq!K38 -> 1 | L38: =Erebuni!L38+Kentron!L38+Ajapnjak!L38+Avan!L38+Arabkir!L38+Shengavit!L38+'Malatia-Sebastia'!L38+Kotayq!L38+Ararat!L38+Armavir!L38+Aragacotn!L38+Shirak!L38+Lori!L38+Tavush!L38+Gegharquniq!L38+Syuniq!L38 -> 0 | ... U38: =Erebuni!U38+Kentron!U38+Ajapnjak!U38+Avan!U38+Arabkir!U38+Shengavit!U38+'Malatia-Sebastia'!U38+Kotayq!U38+Ararat!U38+Armavir!U38+Aragacotn!U38+Shirak!U38+Lori!U38+Tavush!U38+Gegharquniq!U38+Syuniq!U38 -> 0
B39: 2.2.1 | C39: Ø³ñ¹áõÝ åáéÝÇÏáõÃÛ³Ý Ï³Ù ë»é³Ï³Ý ß³Ñ³·áñÍÙ³Ý ³ÛÉ Ó¨»ñÇ Ù»ç, Ñ³ñÏ³¹Çñ ³ßË³ï³ÝùÇ Ï³Ù Í³é³ÛáõÃÛáõÝÝ»ñÇ Ý»ñ·ñ³í»ÉÁ Ï³Ù ëïñÏáõÃÛ³Ý Ï³Ù ëïñÏáõÃÛ³ÝÁ ÝÙ³ÝíáÕ íÇ×³ÏÇ Ù»ç ¹Ý»ÉÁ Ï³Ù å³Ñ»ÉÁ | D39: 132.1 | E39: =Erebuni!E39+Kentron!E39+Ajapnjak!E39+Avan!E39+Arabkir!E39+Shengavit!E39+'Malatia-Sebastia'!E39+Kotayq!E39+Ararat!E39+Armavir!E39+Aragacotn!E39+Shirak!E39+Lori!E39+Tavush!E39+Gegharquniq!E39+Syuniq!E39 -> 0 | F39: =Erebuni!F39+Kentron!F39+Ajapnjak!F39+Avan!F39+Arabkir!F39+Shengavit!F39+'Malatia-Sebastia'!F39+Kotayq!F39+Ararat!F39+Armavir!F39+Aragacotn!F39+Shirak!F39+Lori!F39+Tavush!F39+Gegharquniq!F39+Syuniq!F39 -> 0 | G39: =Erebuni!G39+Kentron!G39+Ajapnjak!G39+Avan!G39+Arabkir!G39+Shengavit!G39+'Malatia-Sebastia'!G39+Kotayq!G39+Ararat!G39+Armavir!G39+Aragacotn!G39+Shirak!G39+Lori!G39+Tavush!G39+Gegharquniq!G39+Syuniq!G39 -> 0 | H39: =Erebuni!H39+Kentron!H39+Ajapnjak!H39+Avan!H39+Arabkir!H39+Shengavit!H39+'Malatia-Sebastia'!H39+Kotayq!H39+Ararat!H39+Armavir!H39+Aragacotn!H39+Shirak!H39+Lori!H39+Tavush!H39+Gegharquniq!H39+Syuniq!H39 -> 0 | I39: =Erebuni!I39+Kentron!I39+Ajapnjak!I39+Avan!I39+Arabkir!I39+Shengavit!I39+'Malatia-Sebastia'!I39+Kotayq!I39+Ararat!I39+Armavir!I39+Aragacotn!I39+Shirak!I39+Lori!I39+Tavush!I39+Gegharquniq!I39+Syuniq!I39 -> 0 | J39: =Erebuni!J39+Kentron!J39+Ajapnjak!J39+Avan!J39+Arabkir!J39+Shengavit!J39+'Malatia-Sebastia'!J39+Kotayq!J39+Ararat!J39+Armavir!J39+Aragacotn!J39+Shirak!J39+Lori!J39+Tavush!J39+Gegharquniq!J39+Syuniq!J39 -> 0 | K39: =Erebuni!K39+Kentron!K39+Ajapnjak!K39+Avan!K39+Arabkir!K39+Shengavit!K39+'Malatia-Sebastia'!K39+Kotayq!K39+Ararat!K39+Armavir!K39+Aragacotn!K39+Shirak!K39+Lori!K39+Tavush!K39+Gegharquniq!K39+Syuniq!K39 -> 0 | L39: =Erebuni!L39+Kentron!L39+Ajapnjak!L39+Avan!L39+Arabkir!L39+Shengavit!L39+'Malatia-Sebastia'!L39+Kotayq!L39+Ararat!L39+Armavir!L39+Aragacotn!L39+Shirak!L39+Lori!L39+Tavush!L39+Gegharquniq!L39+Syuniq!L39 -> 0 | ... U39: =Erebuni!U39+Kentron!U39+Ajapnjak!U39+Avan!U39+Arabkir!U39+Shengavit!U39+'Malatia-Sebastia'!U39+Kotayq!U39+Ararat!U39+Armavir!U39+Aragacotn!U39+Shirak!U39+Lori!U39+Tavush!U39+Gegharquniq!U39+Syuniq!U39 -> 0
B40: 2.3 | C40: ²½³ïáõÃÛáõÝÇó ³åûñÇÝÇ ½ñÏ»ÉÁ | D40: 133 | E40: =Erebuni!E40+Kentron!E40+Ajapnjak!E40+Avan!E40+Arabkir!E40+Shengavit!E40+'Malatia-Sebastia'!E40+Kotayq!E40+Ararat!E40+Armavir!E40+Aragacotn!E40+Shirak!E40+Lori!E40+Tavush!E40+Gegharquniq!E40+Syuniq!E40 -> 0 | F40: =Erebuni!F40+Kentron!F40+Ajapnjak!F40+Avan!F40+Arabkir!F40+Shengavit!F40+'Malatia-Sebastia'!F40+Kotayq!F40+Ararat!F40+Armavir!F40+Aragacotn!F40+Shirak!F40+Lori!F40+Tavush!F40+Gegharquniq!F40+Syuniq!F40 -> 0 | G40: =Erebuni!G40+Kentron!G40+Ajapnjak!G40+Avan!G40+Arabkir!G40+Shengavit!G40+'Malatia-Sebastia'!G40+Kotayq!G40+Ararat!G40+Armavir!G40+Aragacotn!G40+Shirak!G40+Lori!G40+Tavush!G40+Gegharquniq!G40+Syuniq!G40 -> 1 | H40: =Erebuni!H40+Kentron!H40+Ajapnjak!H40+Avan!H40+Arabkir!H40+Shengavit!H40+'Malatia-Sebastia'!H40+Kotayq!H40+Ararat!H40+Armavir!H40+Aragacotn!H40+Shirak!H40+Lori!H40+Tavush!H40+Gegharquniq!H40+Syuniq!H40 -> 1 | I40: =Erebuni!I40+Kentron!I40+Ajapnjak!I40+Avan!I40+Arabkir!I40+Shengavit!I40+'Malatia-Sebastia'!I40+Kotayq!I40+Ararat!I40+Armavir!I40+Aragacotn!I40+Shirak!I40+Lori!I40+Tavush!I40+Gegharquniq!I40+Syuniq!I40 -> 0 | J40: =Erebuni!J40+Kentron!J40+Ajapnjak!J40+Avan!J40+Arabkir!J40+Shengavit!J40+'Malatia-Sebastia'!J40+Kotayq!J40+Ararat!J40+Armavir!J40+Aragacotn!J40+Shirak!J40+Lori!J40+Tavush!J40+Gegharquniq!J40+Syuniq!J40 -> 0 | K40: =Erebuni!K40+Kentron!K40+Ajapnjak!K40+Avan!K40+Arabkir!K40+Shengavit!K40+'Malatia-Sebastia'!K40+Kotayq!K40+Ararat!K40+Armavir!K40+Aragacotn!K40+Shirak!K40+Lori!K40+Tavush!K40+Gegharquniq!K40+Syuniq!K40 -> 1 | L40: =Erebuni!L40+Kentron!L40+Ajapnjak!L40+Avan!L40+Arabkir!L40+Shengavit!L40+'Malatia-Sebastia'!L40+Kotayq!L40+Ararat!L40+Armavir!L40+Aragacotn!L40+Shirak!L40+Lori!L40+Tavush!L40+Gegharquniq!L40+Syuniq!L40 -> 0 | ... U40: =Erebuni!U40+Kentron!U40+Ajapnjak!U40+Avan!U40+Arabkir!U40+Shengavit!U40+'Malatia-Sebastia'!U40+Kotayq!U40+Ararat!U40+Armavir!U40+Aragacotn!U40+Shirak!U40+Lori!U40+Tavush!U40+Gegharquniq!U40+Syuniq!U40 -> 0
B41: 2.4 | C41: Ðá·»µáõÅ³Ï³Ý ÑÇí³Ý¹³ÝáóáõÙ ³åûñÇÝÇ ï»Õ³íáñ»ÉÁ Ï³Ù å³Ñ»ÉÁ | D41: 134 | E41: =Erebuni!E41+Kentron!E41+Ajapnjak!E41+Avan!E41+Arabkir!E41+Shengavit!E41+'Malatia-Sebastia'!E41+Kotayq!E41+Ararat!E41+Armavir!E41+Aragacotn!E41+Shirak!E41+Lori!E41+Tavush!E41+Gegharquniq!E41+Syuniq!E41 -> 0 | F41: =Erebuni!F41+Kentron!F41+Ajapnjak!F41+Avan!F41+Arabkir!F41+Shengavit!F41+'Malatia-Sebastia'!F41+Kotayq!F41+Ararat!F41+Armavir!F41+Aragacotn!F41+Shirak!F41+Lori!F41+Tavush!F41+Gegharquniq!F41+Syuniq!F41 -> 0 | G41: =Erebuni!G41+Kentron!G41+Ajapnjak!G41+Avan!G41+Arabkir!G41+Shengavit!G41+'Malatia-Sebastia'!G41+Kotayq!G41+Ararat!G41+Armavir!G41+Aragacotn!G41+Shirak!G41+Lori!G41+Tavush!G41+Gegharquniq!G41+Syuniq!G41 -> 0 | H41: =Erebuni!H41+Kentron!H41+Ajapnjak!H41+Avan!H41+Arabkir!H41+Shengavit!H41+'Malatia-Sebastia'!H41+Kotayq!H41+Ararat!H41+Armavir!H41+Aragacotn!H41+Shirak!H41+Lori!H41+Tavush!H41+Gegharquniq!H41+Syuniq!H41 -> 0 | I41: =Erebuni!I41+Kentron!I41+Ajapnjak!I41+Avan!I41+Arabkir!I41+Shengavit!I41+'Malatia-Sebastia'!I41+Kotayq!I41+Ararat!I41+Armavir!I41+Aragacotn!I41+Shirak!I41+Lori!I41+Tavush!I41+Gegharquniq!I41+Syuniq!I41 -> 0 | J41: =Erebuni!J41+Kentron!J41+Ajapnjak!J41+Avan!J41+Arabkir!J41+Shengavit!J41+'Malatia-Sebastia'!J41+Kotayq!J41+Ararat!J41+Armavir!J41+Aragacotn!J41+Shirak!J41+Lori!J41+Tavush!J41+Gegharquniq!J41+Syuniq!J41 -> 0 | K41: =Erebuni!K41+Kentron!K41+Ajapnjak!K41+Avan!K41+Arabkir!K41+Shengavit!K41+'Malatia-Sebastia'!K41+Kotayq!K41+Ararat!K41+Armavir!K41+Aragacotn!K41+Shirak!K41+Lori!K41+Tavush!K41+Gegharquniq!K41+Syuniq!K41 -> 0 | L41: =Erebuni!L41+Kentron!L41+Ajapnjak!L41+Avan!L41+Arabkir!L41+Shengavit!L41+'Malatia-Sebastia'!L41+Kotayq!L41+Ararat!L41+Armavir!L41+Aragacotn!L41+Shirak!L41+Lori!L41+Tavush!L41+Gegharquniq!L41+Syuniq!L41 -> 0 | ... U41: =Erebuni!U41+Kentron!U41+Ajapnjak!U41+Avan!U41+Arabkir!U41+Shengavit!U41+'Malatia-Sebastia'!U41+Kotayq!U41+Ararat!U41+Armavir!U41+Aragacotn!U41+Shirak!U41+Lori!U41+Tavush!U41+Gegharquniq!U41+Syuniq!U41 -> 0
B42: 2.7 | C42: êå³ÝáõÃÛ³Ý, ³éáÕçáõÃÛ³ÝÁ Í³Ýñ íÝ³ë å³ï×³é»Éáõ Ï³Ù ·áõÛù áãÝã³óÝ»Éáõ ëå³éÝ³ÉÇùÁ | D42: 137 | E42: =Erebuni!E42+Kentron!E42+Ajapnjak!E42+Avan!E42+Arabkir!E42+Shengavit!E42+'Malatia-Sebastia'!E42+Kotayq!E42+Ararat!E42+Armavir!E42+Aragacotn!E42+Shirak!E42+Lori!E42+Tavush!E42+Gegharquniq!E42+Syuniq!E42 -> 7 | F42: =Erebuni!F42+Kentron!F42+Ajapnjak!F42+Avan!F42+Arabkir!F42+Shengavit!F42+'Malatia-Sebastia'!F42+Kotayq!F42+Ararat!F42+Armavir!F42+Aragacotn!F42+Shirak!F42+Lori!F42+Tavush!F42+Gegharquniq!F42+Syuniq!F42 -> 0 | G42: =Erebuni!G42+Kentron!G42+Ajapnjak!G42+Avan!G42+Arabkir!G42+Shengavit!G42+'Malatia-Sebastia'!G42+Kotayq!G42+Ararat!G42+Armavir!G42+Aragacotn!G42+Shirak!G42+Lori!G42+Tavush!G42+Gegharquniq!G42+Syuniq!G42 -> 12 | H42: =Erebuni!H42+Kentron!H42+Ajapnjak!H42+Avan!H42+Arabkir!H42+Shengavit!H42+'Malatia-Sebastia'!H42+Kotayq!H42+Ararat!H42+Armavir!H42+Aragacotn!H42+Shirak!H42+Lori!H42+Tavush!H42+Gegharquniq!H42+Syuniq!H42 -> 8 | I42: =Erebuni!I42+Kentron!I42+Ajapnjak!I42+Avan!I42+Arabkir!I42+Shengavit!I42+'Malatia-Sebastia'!I42+Kotayq!I42+Ararat!I42+Armavir!I42+Aragacotn!I42+Shirak!I42+Lori!I42+Tavush!I42+Gegharquniq!I42+Syuniq!I42 -> 2 | J42: =Erebuni!J42+Kentron!J42+Ajapnjak!J42+Avan!J42+Arabkir!J42+Shengavit!J42+'Malatia-Sebastia'!J42+Kotayq!J42+Ararat!J42+Armavir!J42+Aragacotn!J42+Shirak!J42+Lori!J42+Tavush!J42+Gegharquniq!J42+Syuniq!J42 -> 5 | K42: =Erebuni!K42+Kentron!K42+Ajapnjak!K42+Avan!K42+Arabkir!K42+Shengavit!K42+'Malatia-Sebastia'!K42+Kotayq!K42+Ararat!K42+Armavir!K42+Aragacotn!K42+Shirak!K42+Lori!K42+Tavush!K42+Gegharquniq!K42+Syuniq!K42 -> 15 | L42: =Erebuni!L42+Kentron!L42+Ajapnjak!L42+Avan!L42+Arabkir!L42+Shengavit!L42+'Malatia-Sebastia'!L42+Kotayq!L42+Ararat!L42+Armavir!L42+Aragacotn!L42+Shirak!L42+Lori!L42+Tavush!L42+Gegharquniq!L42+Syuniq!L42 -> 0 | ... U42: =Erebuni!U42+Kentron!U42+Ajapnjak!U42+Avan!U42+Arabkir!U42+Shengavit!U42+'Malatia-Sebastia'!U42+Kotayq!U42+Ararat!U42+Armavir!U42+Aragacotn!U42+Shirak!U42+Lori!U42+Tavush!U42+Gegharquniq!U42+Syuniq!U42 -> 0
A43: 0 | B43: 2.8 | C43: ²ÛÉ Ñ³Ýó³·áñÍáõÃÛáõÝÝ»ñ | E43: =Erebuni!E43+Kentron!E43+Ajapnjak!E43+Avan!E43+Arabkir!E43+Shengavit!E43+'Malatia-Sebastia'!E43+Kotayq!E43+Ararat!E43+Armavir!E43+Aragacotn!E43+Shirak!E43+Lori!E43+Tavush!E43+Gegharquniq!E43+Syuniq!E43 -> 1 | F43: =Erebuni!F43+Kentron!F43+Ajapnjak!F43+Avan!F43+Arabkir!F43+Shengavit!F43+'Malatia-Sebastia'!F43+Kotayq!F43+Ararat!F43+Armavir!F43+Aragacotn!F43+Shirak!F43+Lori!F43+Tavush!F43+Gegharquniq!F43+Syuniq!F43 -> 0 | G43: =Erebuni!G43+Kentron!G43+Ajapnjak!G43+Avan!G43+Arabkir!G43+Shengavit!G43+'Malatia-Sebastia'!G43+Kotayq!G43+Ararat!G43+Armavir!G43+Aragacotn!G43+Shirak!G43+Lori!G43+Tavush!G43+Gegharquniq!G43+Syuniq!G43 -> 0 | H43: =Erebuni!H43+Kentron!H43+Ajapnjak!H43+Avan!H43+Arabkir!H43+Shengavit!H43+'Malatia-Sebastia'!H43+Kotayq!H43+Ararat!H43+Armavir!H43+Aragacotn!H43+Shirak!H43+Lori!H43+Tavush!H43+Gegharquniq!H43+Syuniq!H43 -> 0 | I43: =Erebuni!I43+Kentron!I43+Ajapnjak!I43+Avan!I43+Arabkir!I43+Shengavit!I43+'Malatia-Sebastia'!I43+Kotayq!I43+Ararat!I43+Armavir!I43+Aragacotn!I43+Shirak!I43+Lori!I43+Tavush!I43+Gegharquniq!I43+Syuniq!I43 -> 0 | J43: =Erebuni!J43+Kentron!J43+Ajapnjak!J43+Avan!J43+Arabkir!J43+Shengavit!J43+'Malatia-Sebastia'!J43+Kotayq!J43+Ararat!J43+Armavir!J43+Aragacotn!J43+Shirak!J43+Lori!J43+Tavush!J43+Gegharquniq!J43+Syuniq!J43 -> 0 | K43: =Erebuni!K43+Kentron!K43+Ajapnjak!K43+Avan!K43+Arabkir!K43+Shengavit!K43+'Malatia-Sebastia'!K43+Kotayq!K43+Ararat!K43+Armavir!K43+Aragacotn!K43+Shirak!K43+Lori!K43+Tavush!K43+Gegharquniq!K43+Syuniq!K43 -> 0 | L43: =Erebuni!L43+Kentron!L43+Ajapnjak!L43+Avan!L43+Arabkir!L43+Shengavit!L43+'Malatia-Sebastia'!L43+Kotayq!L43+Ararat!L43+Armavir!L43+Aragacotn!L43+Shirak!L43+Lori!L43+Tavush!L43+Gegharquniq!L43+Syuniq!L43 -> 0 | ... U43: =Erebuni!U43+Kentron!U43+Ajapnjak!U43+Avan!U43+Arabkir!U43+Shengavit!U43+'Malatia-Sebastia'!U43+Kotayq!U43+Ararat!U43+Armavir!U43+Aragacotn!U43+Shirak!U43+Lori!U43+Tavush!U43+Gegharquniq!U43+Syuniq!U43 -> 0
A44: 0 | B44: 3. | C44: ÀÝ¹³Ù»ÝÁ ë»é³Ï³Ý ³ÝÓ»éÝÙË»ÉÇáõÃÛ³Ý ¨ ë»é³Ï³Ý ³½³ïáõÃÛ³Ý ¹»Ù áõÕÕí³Í Ñ³Ýó³·áñÍáõÃÛáõÝÝ»ñÁ | E44: =SUM(E45:E50) -> 25 | F44: =SUM(F45:F50) -> 1 | G44: =SUM(G45:G50) -> 27 | H44: =SUM(H45:H50) -> 32 | I44: =SUM(I45:I50) -> 0 | J44: =SUM(J45:J50) -> 0 | K44: =SUM(K45:K50) -> 32 | L44: =SUM(L45:L50) -> 1 | ... U44: =SUM(U45:U50) -> 0
A45: 0 | B45: 3.1 | C45: ´éÝ³µ³ñáõÃÛáõÝÁ | D45: 138 | E45: =Erebuni!E45+Kentron!E45+Ajapnjak!E45+Avan!E45+Arabkir!E45+Shengavit!E45+'Malatia-Sebastia'!E45+Kotayq!E45+Ararat!E45+Armavir!E45+Aragacotn!E45+Shirak!E45+Lori!E45+Tavush!E45+Gegharquniq!E45+Syuniq!E45 -> 1 | F45: =Erebuni!F45+Kentron!F45+Ajapnjak!F45+Avan!F45+Arabkir!F45+Shengavit!F45+'Malatia-Sebastia'!F45+Kotayq!F45+Ararat!F45+Armavir!F45+Aragacotn!F45+Shirak!F45+Lori!F45+Tavush!F45+Gegharquniq!F45+Syuniq!F45 -> 0 | G45: =Erebuni!G45+Kentron!G45+Ajapnjak!G45+Avan!G45+Arabkir!G45+Shengavit!G45+'Malatia-Sebastia'!G45+Kotayq!G45+Ararat!G45+Armavir!G45+Aragacotn!G45+Shirak!G45+Lori!G45+Tavush!G45+Gegharquniq!G45+Syuniq!G45 -> 4 | H45: =Erebuni!H45+Kentron!H45+Ajapnjak!H45+Avan!H45+Arabkir!H45+Shengavit!H45+'Malatia-Sebastia'!H45+Kotayq!H45+Ararat!H45+Armavir!H45+Aragacotn!H45+Shirak!H45+Lori!H45+Tavush!H45+Gegharquniq!H45+Syuniq!H45 -> 1 | I45: =Erebuni!I45+Kentron!I45+Ajapnjak!I45+Avan!I45+Arabkir!I45+Shengavit!I45+'Malatia-Sebastia'!I45+Kotayq!I45+Ararat!I45+Armavir!I45+Aragacotn!I45+Shirak!I45+Lori!I45+Tavush!I45+Gegharquniq!I45+Syuniq!I45 -> 0 | J45: =Erebuni!J45+Kentron!J45+Ajapnjak!J45+Avan!J45+Arabkir!J45+Shengavit!J45+'Malatia-Sebastia'!J45+Kotayq!J45+Ararat!J45+Armavir!J45+Aragacotn!J45+Shirak!J45+Lori!J45+Tavush!J45+Gegharquniq!J45+Syuniq!J45 -> 0 | K45: =Erebuni!K45+Kentron!K45+Ajapnjak!K45+Avan!K45+Arabkir!K45+Shengavit!K45+'Malatia-Sebastia'!K45+Kotayq!K45+Ararat!K45+Armavir!K45+Aragacotn!K45+Shirak!K45+Lori!K45+Tavush!K45+Gegharquniq!K45+Syuniq!K45 -> 1 | L45: =Erebuni!L45+Kentron!L45+Ajapnjak!L45+Avan!L45+Arabkir!L45+Shengavit!L45+'Malatia-Sebastia'!L45+Kotayq!L45+Ararat!L45+Armavir!L45+Aragacotn!L45+Shirak!L45+Lori!L45+Tavush!L45+Gegharquniq!L45+Syuniq!L45 -> 1 | ... U45: =Erebuni!U45+Kentron!U45+Ajapnjak!U45+Avan!U45+Arabkir!U45+Shengavit!U45+'Malatia-Sebastia'!U45+Kotayq!U45+Ararat!U45+Armavir!U45+Aragacotn!U45+Shirak!U45+Lori!U45+Tavush!U45+Gegharquniq!U45+Syuniq!U45 -> 0
B46: 3.2 | C46: ê»ùëáõ³É µÝáõÛÃÇ µéÝÇ ·áñÍáÕáõÃÛáõÝÝ»ñÁ | D46: 139 | E46: =Erebuni!E46+Kentron!E46+Ajapnjak!E46+Avan!E46+Arabkir!E46+Shengavit!E46+'Malatia-Sebastia'!E46+Kotayq!E46+Ararat!E46+Armavir!E46+Aragacotn!E46+Shirak!E46+Lori!E46+Tavush!E46+Gegharquniq!E46+Syuniq!E46 -> 6 | F46: =Erebuni!F46+Kentron!F46+Ajapnjak!F46+Avan!F46+Arabkir!F46+Shengavit!F46+'Malatia-Sebastia'!F46+Kotayq!F46+Ararat!F46+Armavir!F46+Aragacotn!F46+Shirak!F46+Lori!F46+Tavush!F46+Gegharquniq!F46+Syuniq!F46 -> 1 | G46: =Erebuni!G46+Kentron!G46+Ajapnjak!G46+Avan!G46+Arabkir!G46+Shengavit!G46+'Malatia-Sebastia'!G46+Kotayq!G46+Ararat!G46+Armavir!G46+Aragacotn!G46+Shirak!G46+Lori!G46+Tavush!G46+Gegharquniq!G46+Syuniq!G46 -> 2 | H46: =Erebuni!H46+Kentron!H46+Ajapnjak!H46+Avan!H46+Arabkir!H46+Shengavit!H46+'Malatia-Sebastia'!H46+Kotayq!H46+Ararat!H46+Armavir!H46+Aragacotn!H46+Shirak!H46+Lori!H46+Tavush!H46+Gegharquniq!H46+Syuniq!H46 -> 1 | I46: =Erebuni!I46+Kentron!I46+Ajapnjak!I46+Avan!I46+Arabkir!I46+Shengavit!I46+'Malatia-Sebastia'!I46+Kotayq!I46+Ararat!I46+Armavir!I46+Aragacotn!I46+Shirak!I46+Lori!I46+Tavush!I46+Gegharquniq!I46+Syuniq!I46 -> 0 | J46: =Erebuni!J46+Kentron!J46+Ajapnjak!J46+Avan!J46+Arabkir!J46+Shengavit!J46+'Malatia-Sebastia'!J46+Kotayq!J46+Ararat!J46+Armavir!J46+Aragacotn!J46+Shirak!J46+Lori!J46+Tavush!J46+Gegharquniq!J46+Syuniq!J46 -> 0 | K46: =Erebuni!K46+Kentron!K46+Ajapnjak!K46+Avan!K46+Arabkir!K46+Shengavit!K46+'Malatia-Sebastia'!K46+Kotayq!K46+Ararat!K46+Armavir!K46+Aragacotn!K46+Shirak!K46+Lori!K46+Tavush!K46+Gegharquniq!K46+Syuniq!K46 -> 1 | L46: =Erebuni!L46+Kentron!L46+Ajapnjak!L46+Avan!L46+Arabkir!L46+Shengavit!L46+'Malatia-Sebastia'!L46+Kotayq!L46+Ararat!L46+Armavir!L46+Aragacotn!L46+Shirak!L46+Lori!L46+Tavush!L46+Gegharquniq!L46+Syuniq!L46 -> 0 | ... U46: =Erebuni!U46+Kentron!U46+Ajapnjak!U46+Avan!U46+Arabkir!U46+Shengavit!U46+'Malatia-Sebastia'!U46+Kotayq!U46+Ararat!U46+Armavir!U46+Aragacotn!U46+Shirak!U46+Lori!U46+Tavush!U46+Gegharquniq!U46+Syuniq!U46 -> 0
B47: 3.3 | C47: Սեռական հարաբերության կամ սեքսուալ բնույթի գործողություններին հարկադրելը | D47: 140 | E47: =Erebuni!E47+Kentron!E47+Ajapnjak!E47+Avan!E47+Arabkir!E47+Shengavit!E47+'Malatia-Sebastia'!E47+Kotayq!E47+Ararat!E47+Armavir!E47+Aragacotn!E47+Shirak!E47+Lori!E47+Tavush!E47+Gegharquniq!E47+Syuniq!E47 -> 0 | F47: =Erebuni!F47+Kentron!F47+Ajapnjak!F47+Avan!F47+Arabkir!F47+Shengavit!F47+'Malatia-Sebastia'!F47+Kotayq!F47+Ararat!F47+Armavir!F47+Aragacotn!F47+Shirak!F47+Lori!F47+Tavush!F47+Gegharquniq!F47+Syuniq!F47 -> 0 | G47: =Erebuni!G47+Kentron!G47+Ajapnjak!G47+Avan!G47+Arabkir!G47+Shengavit!G47+'Malatia-Sebastia'!G47+Kotayq!G47+Ararat!G47+Armavir!G47+Aragacotn!G47+Shirak!G47+Lori!G47+Tavush!G47+Gegharquniq!G47+Syuniq!G47 -> 1 | H47: =Erebuni!H47+Kentron!H47+Ajapnjak!H47+Avan!H47+Arabkir!H47+Shengavit!H47+'Malatia-Sebastia'!H47+Kotayq!H47+Ararat!H47+Armavir!H47+Aragacotn!H47+Shirak!H47+Lori!H47+Tavush!H47+Gegharquniq!H47+Syuniq!H47 -> 1 | I47: =Erebuni!I47+Kentron!I47+Ajapnjak!I47+Avan!I47+Arabkir!I47+Shengavit!I47+'Malatia-Sebastia'!I47+Kotayq!I47+Ararat!I47+Armavir!I47+Aragacotn!I47+Shirak!I47+Lori!I47+Tavush!I47+Gegharquniq!I47+Syuniq!I47 -> 0 | J47: =Erebuni!J47+Kentron!J47+Ajapnjak!J47+Avan!J47+Arabkir!J47+Shengavit!J47+'Malatia-Sebastia'!J47+Kotayq!J47+Ararat!J47+Armavir!J47+Aragacotn!J47+Shirak!J47+Lori!J47+Tavush!J47+Gegharquniq!J47+Syuniq!J47 -> 0 | K47: =Erebuni!K47+Kentron!K47+Ajapnjak!K47+Avan!K47+Arabkir!K47+Shengavit!K47+'Malatia-Sebastia'!K47+Kotayq!K47+Ararat!K47+Armavir!K47+Aragacotn!K47+Shirak!K47+Lori!K47+Tavush!K47+Gegharquniq!K47+Syuniq!K47 -> 1 | L47: =Erebuni!L47+Kentron!L47+Ajapnjak!L47+Avan!L47+Arabkir!L47+Shengavit!L47+'Malatia-Sebastia'!L47+Kotayq!L47+Ararat!L47+Armavir!L47+Aragacotn!L47+Shirak!L47+Lori!L47+Tavush!L47+Gegharquniq!L47+Syuniq!L47 -> 0 | ... U47: =Erebuni!U47+Kentron!U47+Ajapnjak!U47+Avan!U47+Arabkir!U47+Shengavit!U47+'Malatia-Sebastia'!U47+Kotayq!U47+Ararat!U47+Armavir!U47+Aragacotn!U47+Shirak!U47+Lori!U47+Tavush!U47+Gegharquniq!U47+Syuniq!U47 -> 0
B48: 3.4 | C48: ê»é³Ï³Ý Ñ³ñ³µ»ñáõÃÛáõÝÁ ï³ëÝí»ó ï³ñÇÝ ãÉñ³ó³Í ³ÝÓÇ Ñ»ï Ï³Ù ë»ùëáõ³É µÝáõÛÃÇ ·áñÍáÕáõÃÛáõÝÝ»ñ Ï³ï³ñ»ÉÁ ï³ëÝí»ó ï³ñÇÝ ãÉñ³ó³Í ³ÝÓÇ ÝÏ³ïÙ³Ùµ | D48: 141 | E48: =Erebuni!E48+Kentron!E48+Ajapnjak!E48+Avan!E48+Arabkir!E48+Shengavit!E48+'Malatia-Sebastia'!E48+Kotayq!E48+Ararat!E48+Armavir!E48+Aragacotn!E48+Shirak!E48+Lori!E48+Tavush!E48+Gegharquniq!E48+Syuniq!E48 -> 16 | F48: =Erebuni!F48+Kentron!F48+Ajapnjak!F48+Avan!F48+Arabkir!F48+Shengavit!F48+'Malatia-Sebastia'!F48+Kotayq!F48+Ararat!F48+Armavir!F48+Aragacotn!F48+Shirak!F48+Lori!F48+Tavush!F48+Gegharquniq!F48+Syuniq!F48 -> 0 | G48: =Erebuni!G48+Kentron!G48+Ajapnjak!G48+Avan!G48+Arabkir!G48+Shengavit!G48+'Malatia-Sebastia'!G48+Kotayq!G48+Ararat!G48+Armavir!G48+Aragacotn!G48+Shirak!G48+Lori!G48+Tavush!G48+Gegharquniq!G48+Syuniq!G48 -> 18 | H48: =Erebuni!H48+Kentron!H48+Ajapnjak!H48+Avan!H48+Arabkir!H48+Shengavit!H48+'Malatia-Sebastia'!H48+Kotayq!H48+Ararat!H48+Armavir!H48+Aragacotn!H48+Shirak!H48+Lori!H48+Tavush!H48+Gegharquniq!H48+Syuniq!H48 -> 28 | I48: =Erebuni!I48+Kentron!I48+Ajapnjak!I48+Avan!I48+Arabkir!I48+Shengavit!I48+'Malatia-Sebastia'!I48+Kotayq!I48+Ararat!I48+Armavir!I48+Aragacotn!I48+Shirak!I48+Lori!I48+Tavush!I48+Gegharquniq!I48+Syuniq!I48 -> 0 | J48: =Erebuni!J48+Kentron!J48+Ajapnjak!J48+Avan!J48+Arabkir!J48+Shengavit!J48+'Malatia-Sebastia'!J48+Kotayq!J48+Ararat!J48+Armavir!J48+Aragacotn!J48+Shirak!J48+Lori!J48+Tavush!J48+Gegharquniq!J48+Syuniq!J48 -> 0 | K48: =Erebuni!K48+Kentron!K48+Ajapnjak!K48+Avan!K48+Arabkir!K48+Shengavit!K48+'Malatia-Sebastia'!K48+Kotayq!K48+Ararat!K48+Armavir!K48+Aragacotn!K48+Shirak!K48+Lori!K48+Tavush!K48+Gegharquniq!K48+Syuniq!K48 -> 28 | L48: =Erebuni!L48+Kentron!L48+Ajapnjak!L48+Avan!L48+Arabkir!L48+Shengavit!L48+'Malatia-Sebastia'!L48+Kotayq!L48+Ararat!L48+Armavir!L48+Aragacotn!L48+Shirak!L48+Lori!L48+Tavush!L48+Gegharquniq!L48+Syuniq!L48 -> 0 | ... U48: =Erebuni!U48+Kentron!U48+Ajapnjak!U48+Avan!U48+Arabkir!U48+Shengavit!U48+'Malatia-Sebastia'!U48+Kotayq!U48+Ararat!U48+Armavir!U48+Aragacotn!U48+Shirak!U48+Lori!U48+Tavush!U48+Gegharquniq!U48+Syuniq!U48 -> 0
B49: 3.5 | C49: ²Ý³é³Ï³µ³ñá ·áñÍáÕáõÃÛáõÝÝ»ñÁ | D49: 142 | E49: =Erebuni!E49+Kentron!E49+Ajapnjak!E49+Avan!E49+Arabkir!E49+Shengavit!E49+'Malatia-Sebastia'!E49+Kotayq!E49+Ararat!E49+Armavir!E49+Aragacotn!E49+Shirak!E49+Lori!E49+Tavush!E49+Gegharquniq!E49+Syuniq!E49 -> 2 | F49: =Erebuni!F49+Kentron!F49+Ajapnjak!F49+Avan!F49+Arabkir!F49+Shengavit!F49+'Malatia-Sebastia'!F49+Kotayq!F49+Ararat!F49+Armavir!F49+Aragacotn!F49+Shirak!F49+Lori!F49+Tavush!F49+Gegharquniq!F49+Syuniq!F49 -> 0 | G49: =Erebuni!G49+Kentron!G49+Ajapnjak!G49+Avan!G49+Arabkir!G49+Shengavit!G49+'Malatia-Sebastia'!G49+Kotayq!G49+Ararat!G49+Armavir!G49+Aragacotn!G49+Shirak!G49+Lori!G49+Tavush!G49+Gegharquniq!G49+Syuniq!G49 -> 2 | H49: =Erebuni!H49+Kentron!H49+Ajapnjak!H49+Avan!H49+Arabkir!H49+Shengavit!H49+'Malatia-Sebastia'!H49+Kotayq!H49+Ararat!H49+Armavir!H49+Aragacotn!H49+Shirak!H49+Lori!H49+Tavush!H49+Gegharquniq!H49+Syuniq!H49 -> 1 | I49: =Erebuni!I49+Kentron!I49+Ajapnjak!I49+Avan!I49+Arabkir!I49+Shengavit!I49+'Malatia-Sebastia'!I49+Kotayq!I49+Ararat!I49+Armavir!I49+Aragacotn!I49+Shirak!I49+Lori!I49+Tavush!I49+Gegharquniq!I49+Syuniq!I49 -> 0 | J49: =Erebuni!J49+Kentron!J49+Ajapnjak!J49+Avan!J49+Arabkir!J49+Shengavit!J49+'Malatia-Sebastia'!J49+Kotayq!J49+Ararat!J49+Armavir!J49+Aragacotn!J49+Shirak!J49+Lori!J49+Tavush!J49+Gegharquniq!J49+Syuniq!J49 -> 0 | K49: =Erebuni!K49+Kentron!K49+Ajapnjak!K49+Avan!K49+Arabkir!K49+Shengavit!K49+'Malatia-Sebastia'!K49+Kotayq!K49+Ararat!K49+Armavir!K49+Aragacotn!K49+Shirak!K49+Lori!K49+Tavush!K49+Gegharquniq!K49+Syuniq!K49 -> 1 | L49: =Erebuni!L49+Kentron!L49+Ajapnjak!L49+Avan!L49+Arabkir!L49+Shengavit!L49+'Malatia-Sebastia'!L49+Kotayq!L49+Ararat!L49+Armavir!L49+Aragacotn!L49+Shirak!L49+Lori!L49+Tavush!L49+Gegharquniq!L49+Syuniq!L49 -> 0 | ... U49: =Erebuni!U49+Kentron!U49+Ajapnjak!U49+Avan!U49+Arabkir!U49+Shengavit!U49+'Malatia-Sebastia'!U49+Kotayq!U49+Ararat!U49+Armavir!U49+Aragacotn!U49+Shirak!U49+Lori!U49+Tavush!U49+Gegharquniq!U49+Syuniq!U49 -> 0
B50: 3.6 | C50: ²ÛÉ Ñ³Ýó³·áñÍáõÃÛáõÝÝ»ñ | E50: =Erebuni!E50+Kentron!E50+Ajapnjak!E50+Avan!E50+Arabkir!E50+Shengavit!E50+'Malatia-Sebastia'!E50+Kotayq!E50+Ararat!E50+Armavir!E50+Aragacotn!E50+Shirak!E50+Lori!E50+Tavush!E50+Gegharquniq!E50+Syuniq!E50 -> 0 | F50: =Erebuni!F50+Kentron!F50+Ajapnjak!F50+Avan!F50+Arabkir!F50+Shengavit!F50+'Malatia-Sebastia'!F50+Kotayq!F50+Ararat!F50+Armavir!F50+Aragacotn!F50+Shirak!F50+Lori!F50+Tavush!F50+Gegharquniq!F50+Syuniq!F50 -> 0 | G50: =Erebuni!G50+Kentron!G50+Ajapnjak!G50+Avan!G50+Arabkir!G50+Shengavit!G50+'Malatia-Sebastia'!G50+Kotayq!G50+Ararat!G50+Armavir!G50+Aragacotn!G50+Shirak!G50+Lori!G50+Tavush!G50+Gegharquniq!G50+Syuniq!G50 -> 0 | H50: =Erebuni!H50+Kentron!H50+Ajapnjak!H50+Avan!H50+Arabkir!H50+Shengavit!H50+'Malatia-Sebastia'!H50+Kotayq!H50+Ararat!H50+Armavir!H50+Aragacotn!H50+Shirak!H50+Lori!H50+Tavush!H50+Gegharquniq!H50+Syuniq!H50 -> 0 | I50: =Erebuni!I50+Kentron!I50+Ajapnjak!I50+Avan!I50+Arabkir!I50+Shengavit!I50+'Malatia-Sebastia'!I50+Kotayq!I50+Ararat!I50+Armavir!I50+Aragacotn!I50+Shirak!I50+Lori!I50+Tavush!I50+Gegharquniq!I50+Syuniq!I50 -> 0 | J50: =Erebuni!J50+Kentron!J50+Ajapnjak!J50+Avan!J50+Arabkir!J50+Shengavit!J50+'Malatia-Sebastia'!J50+Kotayq!J50+Ararat!J50+Armavir!J50+Aragacotn!J50+Shirak!J50+Lori!J50+Tavush!J50+Gegharquniq!J50+Syuniq!J50 -> 0 | K50: =Erebuni!K50+Kentron!K50+Ajapnjak!K50+Avan!K50+Arabkir!K50+Shengavit!K50+'Malatia-Sebastia'!K50+Kotayq!K50+Ararat!K50+Armavir!K50+Aragacotn!K50+Shirak!K50+Lori!K50+Tavush!K50+Gegharquniq!K50+Syuniq!K50 -> 0 | L50: =Erebuni!L50+Kentron!L50+Ajapnjak!L50+Avan!L50+Arabkir!L50+Shengavit!L50+'Malatia-Sebastia'!L50+Kotayq!L50+Ararat!L50+Armavir!L50+Aragacotn!L50+Shirak!L50+Lori!L50+Tavush!L50+Gegharquniq!L50+Syuniq!L50 -> 0 | ... U50: =Erebuni!U50+Kentron!U50+Ajapnjak!U50+Avan!U50+Arabkir!U50+Shengavit!U50+'Malatia-Sebastia'!U50+Kotayq!U50+Ararat!U50+Armavir!U50+Aragacotn!U50+Shirak!U50+Lori!U50+Tavush!U50+Gegharquniq!U50+Syuniq!U50 -> 0
B51: 4. | C51: ÀÝ¹³Ù»ÝÁ Ù³ñ¹áõ ¨ ù³Õ³ù³óáõ ë³ÑÙ³Ý³¹ñ³Ï³Ý Çñ³íáõÝùÝ»ñÇ ¨ ³½³ïáõÃÛáõÝÝ»ñÇ ¹»Ù áõÕÕí³Í Ñ³Ýó³·áñÍáõÃÛáõÝÝ»ñÁ | E51: =SUM(E52:E79) -> 6 | F51: =SUM(F52:F79) -> 1 | G51: =SUM(G52:G79) -> 16 | H51: =SUM(H52:H79) -> 12 | I51: =SUM(I52:I79) -> 1 | J51: =SUM(J52:J79) -> 0 | K51: =SUM(K52:K79) -> 13 | L51: =SUM(L52:L79) -> 1 | ... U51: =SUM(U52:U79) -> 0
B52: 4.1 | C52: Ø³ñ¹áõ ¨ ù³Õ³ù³óáõ Çñ³í³Ñ³í³ë³ñáõÃÛáõÝÁ Ë³Ëï»ÉÁ | D52: 143 | E52: =Erebuni!E52+Kentron!E52+Ajapnjak!E52+Avan!E52+Arabkir!E52+Shengavit!E52+'Malatia-Sebastia'!E52+Kotayq!E52+Ararat!E52+Armavir!E52+Aragacotn!E52+Shirak!E52+Lori!E52+Tavush!E52+Gegharquniq!E52+Syuniq!E52 -> 0 | F52: =Erebuni!F52+Kentron!F52+Ajapnjak!F52+Avan!F52+Arabkir!F52+Shengavit!F52+'Malatia-Sebastia'!F52+Kotayq!F52+Ararat!F52+Armavir!F52+Aragacotn!F52+Shirak!F52+Lori!F52+Tavush!F52+Gegharquniq!F52+Syuniq!F52 -> 0 | G52: =Erebuni!G52+Kentron!G52+Ajapnjak!G52+Avan!G52+Arabkir!G52+Shengavit!G52+'Malatia-Sebastia'!G52+Kotayq!G52+Ararat!G52+Armavir!G52+Aragacotn!G52+Shirak!G52+Lori!G52+Tavush!G52+Gegharquniq!G52+Syuniq!G52 -> 0 | H52: =Erebuni!H52+Kentron!H52+Ajapnjak!H52+Avan!H52+Arabkir!H52+Shengavit!H52+'Malatia-Sebastia'!H52+Kotayq!H52+Ararat!H52+Armavir!H52+Aragacotn!H52+Shirak!H52+Lori!H52+Tavush!H52+Gegharquniq!H52+Syuniq!H52 -> 0 | I52: =Erebuni!I52+Kentron!I52+Ajapnjak!I52+Avan!I52+Arabkir!I52+Shengavit!I52+'Malatia-Sebastia'!I52+Kotayq!I52+Ararat!I52+Armavir!I52+Aragacotn!I52+Shirak!I52+Lori!I52+Tavush!I52+Gegharquniq!I52+Syuniq!I52 -> 0 | J52: =Erebuni!J52+Kentron!J52+Ajapnjak!J52+Avan!J52+Arabkir!J52+Shengavit!J52+'Malatia-Sebastia'!J52+Kotayq!J52+Ararat!J52+Armavir!J52+Aragacotn!J52+Shirak!J52+Lori!J52+Tavush!J52+Gegharquniq!J52+Syuniq!J52 -> 0 | K52: =Erebuni!K52+Kentron!K52+Ajapnjak!K52+Avan!K52+Arabkir!K52+Shengavit!K52+'Malatia-Sebastia'!K52+Kotayq!K52+Ararat!K52+Armavir!K52+Aragacotn!K52+Shirak!K52+Lori!K52+Tavush!K52+Gegharquniq!K52+Syuniq!K52 -> 0 | L52: =Erebuni!L52+Kentron!L52+Ajapnjak!L52+Avan!L52+Arabkir!L52+Shengavit!L52+'Malatia-Sebastia'!L52+Kotayq!L52+Ararat!L52+Armavir!L52+Aragacotn!L52+Shirak!L52+Lori!L52+Tavush!L52+Gegharquniq!L52+Syuniq!L52 -> 0 | ... U52: =Erebuni!U52+Kentron!U52+Ajapnjak!U52+Avan!U52+Arabkir!U52+Shengavit!U52+'Malatia-Sebastia'!U52+Kotayq!U52+Ararat!U52+Armavir!U52+Aragacotn!U52+Shirak!U52+Lori!U52+Tavush!U52+Gegharquniq!U52+Syuniq!U52 -> 0
