Workbook

Sheet ընդհանուր
A1: 2022թ. տարեկան | D1: ՀԱՇՎԵՏՎՈՒԹՅՈՒՆ
A2: ՀՀ ԱՌԱՋԻՆ ԱՏՅԱՆԻ ԸՆԴՀԱՆՈՒՐ ԻՐԱՎԱՍՈՒԹՅԱՆ ԴԱՏԱՐԱՆՆԵՐՈՒՄ ՔՐԵԱԿԱՆ ԳՈՐԾԵՐԻ ՔՆՆՈՒԹՅԱՆ ՎԵՐԱԲԵՐՅԱԼ
C4: ՀՀ քրեական օրենսգրքի հոդվածներ | D4: Հաշվետու ժամանակահատվածի սկզբում նախորդ հաշվետու ժամանակահատվածից փոխանցված գործերի ընդհանուր թիվը | E4: Այդ թվում` կասեցված վիճակում փոխանցված | F4: Հաշվետու ժամանակահատվածում ստացված գործերի ընդհանուր թիվը | G4: Հաշվետու ժամանակահատվածում ավարտված գործերի ընդհանուր թիվը | K4: Ուղարկվել է ըստ ընդդատության | L4: Հաշվետու ժամանակահատվածում կասեցված վարույթներով գործերի ընդհանուր թիվը | M4: Հաշվետու ժամանակահատվածում անավարտ գործերի ընդհանուր թիվը | N4: Այդ թվում՝ կասեցված | O4: Բողոքարկված դատական ակտերի թիվը` ըստ տեսակների | R4: Բեկանված դատական ակտերի թիվը` ըստ տեսակների
G5: Քննվել է ըստ էության և դատավճիռ կայացվել | H5: Որոշում է կայացվել քրեական գործի վարույթը կարճելու և քրեական հետապնդումը դադարեցնելու մասին | I5: Որոշում է կայացվել անմեղսունակների նկատմամբ բժշկական բնույթի հարկադրական միջոցներ կիրառելու մասին | J5: Ընդամենը ավարտվել են գործեր | O5: Այդ թվում` գործն ըստ էության լուծող դատական ակտերը | P5: Այդ թվում` միջանկյալ դատական ակտերը | Q5: Ընդամենը | R5: Այդ թվում` գործն ըստ էության լուծող դատական ակտերը | S5: Այդ թվում` միջանկյալ դատական ակտերը | T5: Ընդամենը
D6: 1 | E6: 2 | F6: 3 | G6: 4 | H6: 5 | I6: 6 | J6: 7 | K6: 8 | L6: 9 | M6: 10 | N6: 11 | O6: 12 | P6: 13 | Q6: 14 | R6: 15 | S6: 16 | T6: 17
A7: 1. | B7: Ընդամենը կյանքի և առողջության դեմ ուղղված հանցագործությունները | D7: =SUM(Լոռի!D7+Արագածոտն!D7+Արմավիր!D7+Արարատ!D7+'Երևան քաղաք'!D7+Գեղարքունիք!D7+Կոտայք!D7+Շիրակ!D7+Սյունիք!D7+Տավուշ!D7) -> 709 | E7: =SUM(Լոռի!E7+Արագածոտն!E7+Արմավիր!E7+Արարատ!E7+'Երևան քաղաք'!E7+Գեղարքունիք!E7+Կոտայք!E7+Շիրակ!E7+Սյունիք!E7+Տավուշ!E7) -> 8 | F7: =SUM(Լոռի!F7+Արագածոտն!F7+Արմավիր!F7+Արարատ!F7+'Երևան քաղաք'!F7+Գեղարքունիք!F7+Կոտայք!F7+Շիրակ!F7+Սյունիք!F7+Տավուշ!F7) -> 256 | G7: =SUM(Լոռի!G7+Արագածոտն!G7+Արմավիր!G7+Արարատ!G7+'Երևան քաղաք'!G7+Գեղարքունիք!G7+Կոտայք!G7+Շիրակ!G7+Սյունիք!G7+Տավուշ!G7) -> 214 | H7: =SUM(Լոռի!H7+Արագածոտն!H7+Արմավիր!H7+Արարատ!H7+'Երևան քաղաք'!H7+Գեղարքունիք!H7+Կոտայք!H7+Շիրակ!H7+Սյունիք!H7+Տավուշ!H7) -> 98 | I7: =SUM(Լոռի!I7+Արագածոտն!I7+Արմավիր!I7+Արարատ!I7+'Երևան քաղաք'!I7+Գեղարքունիք!I7+Կոտայք!I7+Շիրակ!I7+Սյունիք!I7+Տավուշ!I7) -> 11 | J7: =SUM(Լոռի!J7+Արագածոտն!J7+Արմավիր!J7+Արարատ!J7+'Երևան քաղաք'!J7+Գեղարքունիք!J7+Կոտայք!J7+Շիրակ!J7+Սյունիք!J7+Տավուշ!J7) -> 323 | K7: =SUM(Լոռի!K7+Արագածոտն!K7+Արմավիր!K7+Արարատ!K7+'Երևան քաղաք'!K7+Գեղարքունիք!K7+Կոտայք!K7+Շիրակ!K7+Սյունիք!K7+Տավուշ!K7) -> 5 | ... T7: =SUM(Լոռի!T7+Արագածոտն!T7+Արմավիր!T7+Արարատ!T7+'Երևան քաղաք'!T7+Գեղարքունիք!T7+Կոտայք!T7+Շիրակ!T7+Սյունիք!T7+Տավուշ!T7) -> 4
A8: 1.1 | B8: Սպանությունը | C8: 104 | D8: =SUM(Լոռի!D8+Արագածոտն!D8+Արմավիր!D8+Արարատ!D8+'Երևան քաղաք'!D8+Գեղարքունիք!D8+Կոտայք!D8+Շիրակ!D8+Սյունիք!D8+Տավուշ!D8) -> 187 | E8: =SUM(Լոռի!E8+Արագածոտն!E8+Արմավիր!E8+Արարատ!E8+'Երևան քաղաք'!E8+Գեղարքունիք!E8+Կոտայք!E8+Շիրակ!E8+Սյունիք!E8+Տավուշ!E8) -> 1 | F8: =SUM(Լոռի!F8+Արագածոտն!F8+Արմավիր!F8+Արարատ!F8+'Երևան քաղաք'!F8+Գեղարքունիք!F8+Կոտայք!F8+Շիրակ!F8+Սյունիք!F8+Տավուշ!F8) -> 61 | G8: =SUM(Լոռի!G8+Արագածոտն!G8+Արմավիր!G8+Արարատ!G8+'Երևան քաղաք'!G8+Գեղարքունիք!G8+Կոտայք!G8+Շիրակ!G8+Սյունիք!G8+Տավուշ!G8) -> 37 | H8: =SUM(Լոռի!H8+Արագածոտն!H8+Արմավիր!H8+Արարատ!H8+'Երևան քաղաք'!H8+Գեղարքունիք!H8+Կոտայք!H8+Շիրակ!H8+Սյունիք!H8+Տավուշ!H8) -> 1 | I8: =SUM(Լոռի!I8+Արագածոտն!I8+Արմավիր!I8+Արարատ!I8+'Երևան քաղաք'!I8+Գեղարքունիք!I8+Կոտայք!I8+Շիրակ!I8+Սյունիք!I8+Տավուշ!I8) -> 2 | J8: =SUM(Լոռի!J8+Արագածոտն!J8+Արմավիր!J8+Արարատ!J8+'Երևան քաղաք'!J8+Գեղարքունիք!J8+Կոտայք!J8+Շիրակ!J8+Սյունիք!J8+Տավուշ!J8) -> 40 | K8: =SUM(Լոռի!K8+Արագածոտն!K8+Արմավիր!K8+Արարատ!K8+'Երևան քաղաք'!K8+Գեղարքունիք!K8+Կոտայք!K8+Շիրակ!K8+Սյունիք!K8+Տավուշ!K8) -> 4 | ... T8: =SUM(Լոռի!T8+Արագածոտն!T8+Արմավիր!T8+Արարատ!T8+'Երևան քաղաք'!T8+Գեղարքունիք!T8+Կոտայք!T8+Շիրակ!T8+Սյունիք!T8+Տավուշ!T8) -> 2
A9: 1.2 | B9: Հոգեկան խիստ հուզմունքի վիճակում կատարված սպանությունը | C9: 105 | D9: =SUM(Լոռի!D9+Արագածոտն!D9+Արմավիր!D9+Արարատ!D9+'Երևան քաղաք'!D9+Գեղարքունիք!D9+Կոտայք!D9+Շիրակ!D9+Սյունիք!D9+Տավուշ!D9) -> 0 | E9: =SUM(Լոռի!E9+Արագածոտն!E9+Արմավիր!E9+Արարատ!E9+'Երևան քաղաք'!E9+Գեղարքունիք!E9+Կոտայք!E9+Շիրակ!E9+Սյունիք!E9+Տավուշ!E9) -> 0 | F9: =SUM(Լոռի!F9+Արագածոտն!F9+Արմավիր!F9+Արարատ!F9+'Երևան քաղաք'!F9+Գեղարքունիք!F9+Կոտայք!F9+Շիրակ!F9+Սյունիք!F9+Տավուշ!F9) -> 0 | G9: =SUM(Լոռի!G9+Արագածոտն!G9+Արմավիր!G9+Արարատ!G9+'Երևան քաղաք'!G9+Գեղարքունիք!G9+Կոտայք!G9+Շիրակ!G9+Սյունիք!G9+Տավուշ!G9) -> 0 | H9: =SUM(Լոռի!H9+Արագածոտն!H9+Արմավիր!H9+Արարատ!H9+'Երևան քաղաք'!H9+Գեղարքունիք!H9+Կոտայք!H9+Շիրակ!H9+Սյունիք!H9+Տավուշ!H9) -> 0 | I9: =SUM(Լոռի!I9+Արագածոտն!I9+Արմավիր!I9+Արարատ!I9+'Երևան քաղաք'!I9+Գեղարքունիք!I9+Կոտայք!I9+Շիրակ!I9+Սյունիք!I9+Տավուշ!I9) -> 0 | J9: =SUM(Լոռի!J9+Արագածոտն!J9+Արմավիր!J9+Արարատ!J9+'Երևան քաղաք'!J9+Գեղարքունիք!J9+Կոտայք!J9+Շիրակ!J9+Սյունիք!J9+Տավուշ!J9) -> 0 | K9: =SUM(Լոռի!K9+Արագածոտն!K9+Արմավիր!K9+Արարատ!K9+'Երևան քաղաք'!K9+Գեղարքունիք!K9+Կոտայք!K9+Շիրակ!K9+Սյունիք!K9+Տավուշ!K9) -> 0 | ... T9: =SUM(Լոռի!T9+Արագածոտն!T9+Արմավիր!T9+Արարատ!T9+'Երևան քաղաք'!T9+Գեղարքունիք!T9+Կոտայք!T9+Շիրակ!T9+Սյունիք!T9+Տավուշ!T9) -> 0
A10: 1.3 | B10: Մոր կողմից նորածին երեխայի սպանությունը | C10: 106 | D10: =SUM(Լոռի!D10+Արագածոտն!D10+Արմավիր!D10+Արարատ!D10+'Երևան քաղաք'!D10+Գեղարքունիք!D10+Կոտայք!D10+Շիրակ!D10+Սյունիք!D10+Տավուշ!D10) -> 1 | E10: =SUM(Լոռի!E10+Արագածոտն!E10+Արմավիր!E10+Արարատ!E10+'Երևան քաղաք'!E10+Գեղարքունիք!E10+Կոտայք!E10+Շիրակ!E10+Սյունիք!E10+Տավուշ!E10) -> 0 | F10: =SUM(Լոռի!F10+Արագածոտն!F10+Արմավիր!F10+Արարատ!F10+'Երևան քաղաք'!F10+Գեղարքունիք!F10+Կոտայք!F10+Շիրակ!F10+Սյունիք!F10+Տավուշ!F10) -> 0 | G10: =SUM(Լոռի!G10+Արագածոտն!G10+Արմավիր!G10+Արարատ!G10+'Երևան քաղաք'!G10+Գեղարքունիք!G10+Կոտայք!G10+Շիրակ!G10+Սյունիք!G10+Տավուշ!G10) -> 1 | H10: =SUM(Լոռի!H10+Արագածոտն!H10+Արմավիր!H10+Արարատ!H10+'Երևան քաղաք'!H10+Գեղարքունիք!H10+Կոտայք!H10+Շիրակ!H10+Սյունիք!H10+Տավուշ!H10) -> 0 | I10: =SUM(Լոռի!I10+Արագածոտն!I10+Արմավիր!I10+Արարատ!I10+'Երևան քաղաք'!I10+Գեղարքունիք!I10+Կոտայք!I10+Շիրակ!I10+Սյունիք!I10+Տավուշ!I10) -> 0 | J10: =SUM(Լոռի!J10+Արագածոտն!J10+Արմավիր!J10+Արարատ!J10+'Երևան քաղաք'!J10+Գեղարքունիք!J10+Կոտայք!J10+Շիրակ!J10+Սյունիք!J10+Տավուշ!J10) -> 1 | K10: =SUM(Լոռի!K10+Արագածոտն!K10+Արմավիր!K10+Արարատ!K10+'Երևան քաղաք'!K10+Գեղարքունիք!K10+Կոտայք!K10+Շիրակ!K10+Սյունիք!K10+Տավուշ!K10) -> 0 | ... T10: =SUM(Լոռի!T10+Արագածոտն!T10+Արմավիր!T10+Արարատ!T10+'Երևան քաղաք'!T10+Գեղարքունիք!T10+Կոտայք!T10+Շիրակ!T10+Սյունիք!T10+Տավուշ!T10) -> 0
A11: 1.4 | B11: Հանցանք կատարած անձին բռնելու համար անհրաժեշտ միջոցների սահմանազանցմամբ սպանությունը | C11: 107 | D11: =SUM(Լոռի!D11+Արագածոտն!D11+Արմավիր!D11+Արարատ!D11+'Երևան քաղաք'!D11+Գեղարքունիք!D11+Կոտայք!D11+Շիրակ!D11+Սյունիք!D11+Տավուշ!D11) -> 0 | E11: =SUM(Լոռի!E11+Արագածոտն!E11+Արմավիր!E11+Արարատ!E11+'Երևան քաղաք'!E11+Գեղարքունիք!E11+Կոտայք!E11+Շիրակ!E11+Սյունիք!E11+Տավուշ!E11) -> 0 | F11: =SUM(Լոռի!F11+Արագածոտն!F11+Արմավիր!F11+Արարատ!F11+'Երևան քաղաք'!F11+Գեղարքունիք!F11+Կոտայք!F11+Շիրակ!F11+Սյունիք!F11+Տավուշ!F11) -> 0 | G11: =SUM(Լոռի!G11+Արագածոտն!G11+Արմավիր!G11+Արարատ!G11+'Երևան քաղաք'!G11+Գեղարքունիք!G11+Կոտայք!G11+Շիրակ!G11+Սյունիք!G11+Տավուշ!G11) -> 0 | H11: =SUM(Լոռի!H11+Արագածոտն!H11+Արմավիր!H11+Արարատ!H11+'Երևան քաղաք'!H11+Գեղարքունիք!H11+Կոտայք!H11+Շիրակ!H11+Սյունիք!H11+Տավուշ!H11) -> 0 | I11: =SUM(Լոռի!I11+Արագածոտն!I11+Արմավիր!I11+Արարատ!I11+'Երևան քաղաք'!I11+Գեղարքունիք!I11+Կոտայք!I11+Շիրակ!I11+Սյունիք!I11+Տավուշ!I11) -> 0 | J11: =SUM(Լոռի!J11+Արագածոտն!J11+Արմավիր!J11+Արարատ!J11+'Երևան քաղաք'!J11+Գեղարքունիք!J11+Կոտայք!J11+Շիրակ!J11+Սյունիք!J11+Տավուշ!J11) -> 0 | K11: =SUM(Լոռի!K11+Արագածոտն!K11+Արմավիր!K11+Արարատ!K11+'Երևան քաղաք'!K11+Գեղարքունիք!K11+Կոտայք!K11+Շիրակ!K11+Սյունիք!K11+Տավուշ!K11) -> 0 | ... T11: =SUM(Լոռի!T11+Արագածոտն!T11+Արմավիր!T11+Արարատ!T11+'Երևան քաղաք'!T11+Գեղարքունիք!T11+Կոտայք!T11+Շիրակ!T11+Սյունիք!T11+Տավուշ!T11) -> 0
A12: 1.5 | B12: Անհրաժեշտ պաշտպանության սահմանազանցմամբ սպանությունը | C12: 108 | D12: =SUM(Լոռի!D12+Արագածոտն!D12+Արմավիր!D12+Արարատ!D12+'Երևան քաղաք'!D12+Գեղարքունիք!D12+Կոտայք!D12+Շիրակ!D12+Սյունիք!D12+Տավուշ!D12) -> 0 | E12: =SUM(Լոռի!E12+Արագածոտն!E12+Արմավիր!E12+Արարատ!E12+'Երևան քաղաք'!E12+Գեղարքունիք!E12+Կոտայք!E12+Շիրակ!E12+Սյունիք!E12+Տավուշ!E12) -> 0 | F12: =SUM(Լոռի!F12+Արագածոտն!F12+Արմավիր!F12+Արարատ!F12+'Երևան քաղաք'!F12+Գեղարքունիք!F12+Կոտայք!F12+Շիրակ!F12+Սյունիք!F12+Տավուշ!F12) -> 0 | G12: =SUM(Լոռի!G12+Արագածոտն!G12+Արմավիր!G12+Արարատ!G12+'Երևան քաղաք'!G12+Գեղարքունիք!G12+Կոտայք!G12+Շիրակ!G12+Սյունիք!G12+Տավուշ!G12) -> 0 | H12: =SUM(Լոռի!H12+Արագածոտն!H12+Արմավիր!H12+Արարատ!H12+'Երևան քաղաք'!H12+Գեղարքունիք!H12+Կոտայք!H12+Շիրակ!H12+Սյունիք!H12+Տավուշ!H12) -> 0 | I12: =SUM(Լոռի!I12+Արագածոտն!I12+Արմավիր!I12+Արարատ!I12+'Երևան քաղաք'!I12+Գեղարքունիք!I12+Կոտայք!I12+Շիրակ!I12+Սյունիք!I12+Տավուշ!I12) -> 0 | J12: =SUM(Լոռի!J12+Արագածոտն!J12+Արմավիր!J12+Արարատ!J12+'Երևան քաղաք'!J12+Գեղարքունիք!J12+Կոտայք!J12+Շիրակ!J12+Սյունիք!J12+Տավուշ!J12) -> 0 | K12: =SUM(Լոռի!K12+Արագածոտն!K12+Արմավիր!K12+Արարատ!K12+'Երևան քաղաք'!K12+Գեղարքունիք!K12+Կոտայք!K12+Շիրակ!K12+Սյունիք!K12+Տավուշ!K12) -> 0 | ... T12: =SUM(Լոռի!T12+Արագածոտն!T12+Արմավիր!T12+Արարատ!T12+'Երևան քաղաք'!T12+Գեղարքունիք!T12+Կոտայք!T12+Շիրակ!T12+Սյունիք!T12+Տավուշ!T12) -> 0
A13: 1.6 | B13: Անզգուշությամբ մահ պատճառելը | C13: 109 | D13: =SUM(Լոռի!D13+Արագածոտն!D13+Արմավիր!D13+Արարատ!D13+'Երևան քաղաք'!D13+Գեղարքունիք!D13+Կոտայք!D13+Շիրակ!D13+Սյունիք!D13+Տավուշ!D13) -> 8 | E13: =SUM(Լոռի!E13+Արագածոտն!E13+Արմավիր!E13+Արարատ!E13+'Երևան քաղաք'!E13+Գեղարքունիք!E13+Կոտայք!E13+Շիրակ!E13+Սյունիք!E13+Տավուշ!E13) -> 0 | F13: =SUM(Լոռի!F13+Արագածոտն!F13+Արմավիր!F13+Արարատ!F13+'Երևան քաղաք'!F13+Գեղարքունիք!F13+Կոտայք!F13+Շիրակ!F13+Սյունիք!F13+Տավուշ!F13) -> 2 | G13: =SUM(Լոռի!G13+Արագածոտն!G13+Արմավիր!G13+Արարատ!G13+'Երևան քաղաք'!G13+Գեղարքունիք!G13+Կոտայք!G13+Շիրակ!G13+Սյունիք!G13+Տավուշ!G13) -> 1 | H13: =SUM(Լոռի!H13+Արագածոտն!H13+Արմավիր!H13+Արարատ!H13+'Երևան քաղաք'!H13+Գեղարքունիք!H13+Կոտայք!H13+Շիրակ!H13+Սյունիք!H13+Տավուշ!H13) -> 4 | I13: =SUM(Լոռի!I13+Արագածոտն!I13+Արմավիր!I13+Արարատ!I13+'Երևան քաղաք'!I13+Գեղարքունիք!I13+Կոտայք!I13+Շիրակ!I13+Սյունիք!I13+Տավուշ!I13) -> 0 | J13: =SUM(Լոռի!J13+Արագածոտն!J13+Արմավիր!J13+Արարատ!J13+'Երևան քաղաք'!J13+Գեղարքունիք!J13+Կոտայք!J13+Շիրակ!J13+Սյունիք!J13+Տավուշ!J13) -> 5 | K13: =SUM(Լոռի!K13+Արագածոտն!K13+Արմավիր!K13+Արարատ!K13+'Երևան քաղաք'!K13+Գեղարքունիք!K13+Կոտայք!K13+Շիրակ!K13+Սյունիք!K13+Տավուշ!K13) -> 0 | ... T13: =SUM(Լոռի!T13+Արագածոտն!T13+Արմավիր!T13+Արարատ!T13+'Երևան քաղաք'!T13+Գեղարքունիք!T13+Կոտայք!T13+Շիրակ!T13+Սյունիք!T13+Տավուշ!T13) -> 0
A14: 1.7 | B14: Ինքնասպանության հասցնելը | C14: 110 | D14: =SUM(Լոռի!D14+Արագածոտն!D14+Արմավիր!D14+Արարատ!D14+'Երևան քաղաք'!D14+Գեղարքունիք!D14+Կոտայք!D14+Շիրակ!D14+Սյունիք!D14+Տավուշ!D14) -> 8 | E14: =SUM(Լոռի!E14+Արագածոտն!E14+Արմավիր!E14+Արարատ!E14+'Երևան քաղաք'!E14+Գեղարքունիք!E14+Կոտայք!E14+Շիրակ!E14+Սյունիք!E14+Տավուշ!E14) -> 0 | F14: =SUM(Լոռի!F14+Արագածոտն!F14+Արմավիր!F14+Արարատ!F14+'Երևան քաղաք'!F14+Գեղարքունիք!F14+Կոտայք!F14+Շիրակ!F14+Սյունիք!F14+Տավուշ!F14) -> 0 | G14: =SUM(Լոռի!G14+Արագածոտն!G14+Արմավիր!G14+Արարատ!G14+'Երևան քաղաք'!G14+Գեղարքունիք!G14+Կոտայք!G14+Շիրակ!G14+Սյունիք!G14+Տավուշ!G14) -> 1 | H14: =SUM(Լոռի!H14+Արագածոտն!H14+Արմավիր!H14+Արարատ!H14+'Երևան քաղաք'!H14+Գեղարքունիք!H14+Կոտայք!H14+Շիրակ!H14+Սյունիք!H14+Տավուշ!H14) -> 1 | I14: =SUM(Լոռի!I14+Արագածոտն!I14+Արմավիր!I14+Արարատ!I14+'Երևան քաղաք'!I14+Գեղարքունիք!I14+Կոտայք!I14+Շիրակ!I14+Սյունիք!I14+Տավուշ!I14) -> 0 | J14: =SUM(Լոռի!J14+Արագածոտն!J14+Արմավիր!J14+Արարատ!J14+'Երևան քաղաք'!J14+Գեղարքունիք!J14+Կոտայք!J14+Շիրակ!J14+Սյունիք!J14+Տավուշ!J14) -> 2 | K14: =SUM(Լոռի!K14+Արագածոտն!K14+Արմավիր!K14+Արարատ!K14+'Երևան քաղաք'!K14+Գեղարքունիք!K14+Կոտայք!K14+Շիրակ!K14+Սյունիք!K14+Տավուշ!K14) -> 0 | ... T14: =SUM(Լոռի!T14+Արագածոտն!T14+Արմավիր!T14+Արարատ!T14+'Երևան քաղաք'!T14+Գեղարքունիք!T14+Կոտայք!T14+Շիրակ!T14+Սյունիք!T14+Տավուշ!T14) -> 0
A15: 1.8 | B15: Ինքնասպանության հակելը | C15: 111 | D15: =SUM(Լոռի!D15+Արագածոտն!D15+Արմավիր!D15+Արարատ!D15+'Երևան քաղաք'!D15+Գեղարքունիք!D15+Կոտայք!D15+Շիրակ!D15+Սյունիք!D15+Տավուշ!D15) -> 0 | E15: =SUM(Լոռի!E15+Արագածոտն!E15+Արմավիր!E15+Արարատ!E15+'Երևան քաղաք'!E15+Գեղարքունիք!E15+Կոտայք!E15+Շիրակ!E15+Սյունիք!E15+Տավուշ!E15) -> 0 | F15: =SUM(Լոռի!F15+Արագածոտն!F15+Արմավիր!F15+Արարատ!F15+'Երևան քաղաք'!F15+Գեղարքունիք!F15+Կոտայք!F15+Շիրակ!F15+Սյունիք!F15+Տավուշ!F15) -> 0 | G15: =SUM(Լոռի!G15+Արագածոտն!G15+Արմավիր!G15+Արարատ!G15+'Երևան քաղաք'!G15+Գեղարքունիք!G15+Կոտայք!G15+Շիրակ!G15+Սյունիք!G15+Տավուշ!G15) -> 0 | H15: =SUM(Լոռի!H15+Արագածոտն!H15+Արմավիր!H15+Արարատ!H15+'Երևան քաղաք'!H15+Գեղարքունիք!H15+Կոտայք!H15+Շիրակ!H15+Սյունիք!H15+Տավուշ!H15) -> 0 | I15: =SUM(Լոռի!I15+Արագածոտն!I15+Արմավիր!I15+Արարատ!I15+'Երևան քաղաք'!I15+Գեղարքունիք!I15+Կոտայք!I15+Շիրակ!I15+Սյունիք!I15+Տավուշ!I15) -> 0 | J15: =SUM(Լոռի!J15+Արագածոտն!J15+Արմավիր!J15+Արարատ!J15+'Երևան քաղաք'!J15+Գեղարքունիք!J15+Կոտայք!J15+Շիրակ!J15+Սյունիք!J15+Տավուշ!J15) -> 0 | K15: =SUM(Լոռի!K15+Արագածոտն!K15+Արմավիր!K15+Արարատ!K15+'Երևան քաղաք'!K15+Գեղարքունիք!K15+Կոտայք!K15+Շիրակ!K15+Սյունիք!K15+Տավուշ!K15) -> 0 | ... T15: =SUM(Լոռի!T15+Արագածոտն!T15+Արմավիր!T15+Արարատ!T15+'Երևան քաղաք'!T15+Գեղարքունիք!T15+Կոտայք!T15+Շիրակ!T15+Սյունիք!T15+Տավուշ!T15) -> 0
A16: 1.9 | B16: Դիտավորությամբ առողջությանը ծանր վնաս պատճառելը | C16: 112 | D16: =SUM(Լոռի!D16+Արագածոտն!D16+Արմավիր!D16+Արարատ!D16+'Երևան քաղաք'!D16+Գեղարքունիք!D16+Կոտայք!D16+Շիրակ!D16+Սյունիք!D16+Տավուշ!D16) -> 239 | E16: =SUM(Լոռի!E16+Արագածոտն!E16+Արմավիր!E16+Արարատ!E16+'Երևան քաղաք'!E16+Գեղարքունիք!E16+Կոտայք!E16+Շիրակ!E16+Սյունիք!E16+Տավուշ!E16) -> 1 | F16: =SUM(Լոռի!F16+Արագածոտն!F16+Արմավիր!F16+Արարատ!F16+'Երևան քաղաք'!F16+Գեղարքունիք!F16+Կոտայք!F16+Շիրակ!F16+Սյունիք!F16+Տավուշ!F16) -> 86 | G16: =SUM(Լոռի!G16+Արագածոտն!G16+Արմավիր!G16+Արարատ!G16+'Երևան քաղաք'!G16+Գեղարքունիք!G16+Կոտայք!G16+Շիրակ!G16+Սյունիք!G16+Տավուշ!G16) -> 81 | H16: =SUM(Լոռի!H16+Արագածոտն!H16+Արմավիր!H16+Արարատ!H16+'Երևան քաղաք'!H16+Գեղարքունիք!H16+Կոտայք!H16+Շիրակ!H16+Սյունիք!H16+Տավուշ!H16) -> 4 | I16: =SUM(Լոռի!I16+Արագածոտն!I16+Արմավիր!I16+Արարատ!I16+'Երևան քաղաք'!I16+Գեղարքունիք!I16+Կոտայք!I16+Շիրակ!I16+Սյունիք!I16+Տավուշ!I16) -> 1 | J16: =SUM(Լոռի!J16+Արագածոտն!J16+Արմավիր!J16+Արարատ!J16+'Երևան քաղաք'!J16+Գեղարքունիք!J16+Կոտայք!J16+Շիրակ!J16+Սյունիք!J16+Տավուշ!J16) -> 86 | K16: =SUM(Լոռի!K16+Արագածոտն!K16+Արմավիր!K16+Արարատ!K16+'Երևան քաղաք'!K16+Գեղարքունիք!K16+Կոտայք!K16+Շիրակ!K16+Սյունիք!K16+Տավուշ!K16) -> 1 | ... T16: =SUM(Լոռի!T16+Արագածոտն!T16+Արմավիր!T16+Արարատ!T16+'Երևան քաղաք'!T16+Գեղարքունիք!T16+Կոտայք!T16+Շիրակ!T16+Սյունիք!T16+Տավուշ!T16) -> 1
A17: 1.10 | B17: Դիտավորությամբ առողջությանը միջին ծանրության վնաս պատճառելը | C17: 113 | D17: =SUM(Լոռի!D17+Արագածոտն!D17+Արմավիր!D17+Արարատ!D17+'Երևան քաղաք'!D17+Գեղարքունիք!D17+Կոտայք!D17+Շիրակ!D17+Սյունիք!D17+Տավուշ!D17) -> 53 | E17: =SUM(Լոռի!E17+Արագածոտն!E17+Արմավիր!E17+Արարատ!E17+'Երևան քաղաք'!E17+Գեղարքունիք!E17+Կոտայք!E17+Շիրակ!E17+Սյունիք!E17+Տավուշ!E17) -> 1 | F17: =SUM(Լոռի!F17+Արագածոտն!F17+Արմավիր!F17+Արարատ!F17+'Երևան քաղաք'!F17+Գեղարքունիք!F17+Կոտայք!F17+Շիրակ!F17+Սյունիք!F17+Տավուշ!F17) -> 17 | G17: =SUM(Լոռի!G17+Արագածոտն!G17+Արմավիր!G17+Արարատ!G17+'Երևան քաղաք'!G17+Գեղարքունիք!G17+Կոտայք!G17+Շիրակ!G17+Սյունիք!G17+Տավուշ!G17) -> 14 | H17: =SUM(Լոռի!H17+Արագածոտն!H17+Արմավիր!H17+Արարատ!H17+'Երևան քաղաք'!H17+Գեղարքունիք!H17+Կոտայք!H17+Շիրակ!H17+Սյունիք!H17+Տավուշ!H17) -> 7 | I17: =SUM(Լոռի!I17+Արագածոտն!I17+Արմավիր!I17+Արարատ!I17+'Երևան քաղաք'!I17+Գեղարքունիք!I17+Կոտայք!I17+Շիրակ!I17+Սյունիք!I17+Տավուշ!I17) -> 1 | J17: =SUM(Լոռի!J17+Արագածոտն!J17+Արմավիր!J17+Արարատ!J17+'Երևան քաղաք'!J17+Գեղարքունիք!J17+Կոտայք!J17+Շիրակ!J17+Սյունիք!J17+Տավուշ!J17) -> 22 | K17: =SUM(Լոռի!K17+Արագածոտն!K17+Արմավիր!K17+Արարատ!K17+'Երևան քաղաք'!K17+Գեղարքունիք!K17+Կոտայք!K17+Շիրակ!K17+Սյունիք!K17+Տավուշ!K17) -> 0 | ... T17: =SUM(Լոռի!T17+Արագածոտն!T17+Արմավիր!T17+Արարատ!T17+'Երևան քաղաք'!T17+Գեղարքունիք!T17+Կոտայք!T17+Շիրակ!T17+Սյունիք!T17+Տավուշ!T17) -> 0
A18: 1.11 | B18: Հոգեկան խիստ հուզմունքի վիճակում առողջությանը ծանր կամ միջին ծանրության վնաս պատճառելը | C18: 114 | D18: =SUM(Լոռի!D18+Արագածոտն!D18+Արմավիր!D18+Արարատ!D18+'Երևան քաղաք'!D18+Գեղարքունիք!D18+Կոտայք!D18+Շիրակ!D18+Սյունիք!D18+Տավուշ!D18) -> 0 | E18: =SUM(Լոռի!E18+Արագածոտն!E18+Արմավիր!E18+Արարատ!E18+'Երևան քաղաք'!E18+Գեղարքունիք!E18+Կոտայք!E18+Շիրակ!E18+Սյունիք!E18+Տավուշ!E18) -> 0 | F18: =SUM(Լոռի!F18+Արագածոտն!F18+Արմավիր!F18+Արարատ!F18+'Երևան քաղաք'!F18+Գեղարքունիք!F18+Կոտայք!F18+Շիրակ!F18+Սյունիք!F18+Տավուշ!F18) -> 0 | G18: =SUM(Լոռի!G18+Արագածոտն!G18+Արմավիր!G18+Արարատ!G18+'Երևան քաղաք'!G18+Գեղարքունիք!G18+Կոտայք!G18+Շիրակ!G18+Սյունիք!G18+Տավուշ!G18) -> 0 | H18: =SUM(Լոռի!H18+Արագածոտն!H18+Արմավիր!H18+Արարատ!H18+'Երևան քաղաք'!H18+Գեղարքունիք!H18+Կոտայք!H18+Շիրակ!H18+Սյունիք!H18+Տավուշ!H18) -> 0 | I18: =SUM(Լոռի!I18+Արագածոտն!I18+Արմավիր!I18+Արարատ!I18+'Երևան քաղաք'!I18+Գեղարքունիք!I18+Կոտայք!I18+Շիրակ!I18+Սյունիք!I18+Տավուշ!I18) -> 0 | J18: =SUM(Լոռի!J18+Արագածոտն!J18+Արմավիր!J18+Արարատ!J18+'Երևան քաղաք'!J18+Գեղարքունիք!J18+Կոտայք!J18+Շիրակ!J18+Սյունիք!J18+Տավուշ!J18) -> 0 | K18: =SUM(Լոռի!K18+Արագածոտն!K18+Արմավիր!K18+Արարատ!K18+'Երևան քաղաք'!K18+Գեղարքունիք!K18+Կոտայք!K18+Շիրակ!K18+Սյունիք!K18+Տավուշ!K18) -> 0 | ... T18: =SUM(Լոռի!T18+Արագածոտն!T18+Արմավիր!T18+Արարատ!T18+'Երևան քաղաք'!T18+Գեղարքունիք!T18+Կոտայք!T18+Շիրակ!T18+Սյունիք!T18+Տավուշ!T18) -> 0
A19: 1.12 | B19: Հանցանք կատարած անձին բռնելու համար անհրաժեշտ միջոցների սահմանզանցմամբ առողջությանը ծանր կամ միջին ծանրության վնաս պատճառելը | C19: 115 | D19: =SUM(Լոռի!D19+Արագածոտն!D19+Արմավիր!D19+Արարատ!D19+'Երևան քաղաք'!D19+Գեղարքունիք!D19+Կոտայք!D19+Շիրակ!D19+Սյունիք!D19+Տավուշ!D19) -> 0 | E19: =SUM(Լոռի!E19+Արագածոտն!E19+Արմավիր!E19+Արարատ!E19+'Երևան քաղաք'!E19+Գեղարքունիք!E19+Կոտայք!E19+Շիրակ!E19+Սյունիք!E19+Տավուշ!E19) -> 0 | F19: =SUM(Լոռի!F19+Արագածոտն!F19+Արմավիր!F19+Արարատ!F19+'Երևան քաղաք'!F19+Գեղարքունիք!F19+Կոտայք!F19+Շիրակ!F19+Սյունիք!F19+Տավուշ!F19) -> 0 | G19: =SUM(Լոռի!G19+Արագածոտն!G19+Արմավիր!G19+Արարատ!G19+'Երևան քաղաք'!G19+Գեղարքունիք!G19+Կոտայք!G19+Շիրակ!G19+Սյունիք!G19+Տավուշ!G19) -> 0 | H19: =SUM(Լոռի!H19+Արագածոտն!H19+Արմավիր!H19+Արարատ!H19+'Երևան քաղաք'!H19+Գեղարքունիք!H19+Կոտայք!H19+Շիրակ!H19+Սյունիք!H19+Տավուշ!H19) -> 0 | I19: =SUM(Լոռի!I19+Արագածոտն!I19+Արմավիր!I19+Արարատ!I19+'Երևան քաղաք'!I19+Գեղարքունիք!I19+Կոտայք!I19+Շիրակ!I19+Սյունիք!I19+Տավուշ!I19) -> 0 | J19: =SUM(Լոռի!J19+Արագածոտն!J19+Արմավիր!J19+Արարատ!J19+'Երևան քաղաք'!J19+Գեղարքունիք!J19+Կոտայք!J19+Շիրակ!J19+Սյունիք!J19+Տավուշ!J19) -> 0 | K19: =SUM(Լոռի!K19+Արագածոտն!K19+Արմավիր!K19+Արարատ!K19+'Երևան քաղաք'!K19+Գեղարքունիք!K19+Կոտայք!K19+Շիրակ!K19+Սյունիք!K19+Տավուշ!K19) -> 0 | ... T19: =SUM(Լոռի!T19+Արագածոտն!T19+Արմավիր!T19+Արարատ!T19+'Երևան քաղաք'!T19+Գեղարքունիք!T19+Կոտայք!T19+Շիրակ!T19+Սյունիք!T19+Տավուշ!T19) -> 0
... A33: 1.27 | B33: Բժշկական օգնություն և սպասարկում իրականացնողների կողմից մասնագիտական պարտականությունները չկատարելը կամ ոչ պատշաճ կատարելը | C33: 130 | D33: =SUM(Լոռի!D33+Արագածոտն!D33+Արմավիր!D33+Արարատ!D33+'Երևան քաղաք'!D33+Գեղարքունիք!D33+Կոտայք!D33+Շիրակ!D33+Սյունիք!D33+Տավուշ!D33) -> 16 | E33: =SUM(Լոռի!E33+Արագածոտն!E33+Արմավիր!E33+Արարատ!E33+'Երևան քաղաք'!E33+Գեղարքունիք!E33+Կոտայք!E33+Շիրակ!E33+Սյունիք!E33+Տավուշ!E33) -> 1 | F33: =SUM(Լոռի!F33+Արագածոտն!F33+Արմավիր!F33+Արարատ!F33+'Երևան քաղաք'!F33+Գեղարքունիք!F33+Կոտայք!F33+Շիրակ!F33+Սյունիք!F33+Տավուշ!F33) -> 1 | G33: =SUM(Լոռի!G33+Արագածոտն!G33+Արմավիր!G33+Արարատ!G33+'Երևան քաղաք'!G33+Գեղարքունիք!G33+Կոտայք!G33+Շիրակ!G33+Սյունիք!G33+Տավուշ!G33) -> 4 | H33: =SUM(Լոռի!H33+Արագածոտն!H33+Արմավիր!H33+Արարատ!H33+'Երևան քաղաք'!H33+Գեղարքունիք!H33+Կոտայք!H33+Շիրակ!H33+Սյունիք!H33+Տավուշ!H33) -> 2 | I33: =SUM(Լոռի!I33+Արագածոտն!I33+Արմավիր!I33+Արարատ!I33+'Երևան քաղաք'!I33+Գեղարքունիք!I33+Կոտայք!I33+Շիրակ!I33+Սյունիք!I33+Տավուշ!I33) -> 0 | J33: =SUM(Լոռի!J33+Արագածոտն!J33+Արմավիր!J33+Արարատ!J33+'Երևան քաղաք'!J33+Գեղարքունիք!J33+Կոտայք!J33+Շիրակ!J33+Սյունիք!J33+Տավուշ!J33) -> 6 | K33: =SUM(Լոռի!K33+Արագածոտն!K33+Արմավիր!K33+Արարատ!K33+'Երևան քաղաք'!K33+Գեղարքունիք!K33+Կոտայք!K33+Շիրակ!K33+Սյունիք!K33+Տավուշ!K33) -> 0 | ... T33: =SUM(Լոռի!T33+Արագածոտն!T33+Արմավիր!T33+Արարատ!T33+'Երևան քաղաք'!T33+Գեղարքունիք!T33+Կոտայք!T33+Շիրակ!T33+Սյունիք!T33+Տավուշ!T33) -> 0
A34: 1.28 | B34: Այլ հանցագործություններ | D34: =SUM(Լոռի!D34+Արագածոտն!D34+Արմավիր!D34+Արարատ!D34+'Երևան քաղաք'!D34+Գեղարքունիք!D34+Կոտայք!D34+Շիրակ!D34+Սյունիք!D34+Տավուշ!D34) -> 1 | E34: =SUM(Լոռի!E34+Արագածոտն!E34+Արմավիր!E34+Արարատ!E34+'Երևան քաղաք'!E34+Գեղարքունիք!E34+Կոտայք!E34+Շիրակ!E34+Սյունիք!E34+Տավուշ!E34) -> 1 | F34: =SUM(Լոռի!F34+Արագածոտն!F34+Արմավիր!F34+Արարատ!F34+'Երևան քաղաք'!F34+Գեղարքունիք!F34+Կոտայք!F34+Շիրակ!F34+Սյունիք!F34+Տավուշ!F34) -> 1 | G34: =SUM(Լոռի!G34+Արագածոտն!G34+Արմավիր!G34+Արարատ!G34+'Երևան քաղաք'!G34+Գեղարքունիք!G34+Կոտայք!G34+Շիրակ!G34+Սյունիք!G34+Տավուշ!G34) -> 0 | H34: =SUM(Լոռի!H34+Արագածոտն!H34+Արմավիր!H34+Արարատ!H34+'Երևան քաղաք'!H34+Գեղարքունիք!H34+Կոտայք!H34+Շիրակ!H34+Սյունիք!H34+Տավուշ!H34) -> 0 | I34: =SUM(Լոռի!I34+Արագածոտն!I34+Արմավիր!I34+Արարատ!I34+'Երևան քաղաք'!I34+Գեղարքունիք!I34+Կոտայք!I34+Շիրակ!I34+Սյունիք!I34+Տավուշ!I34) -> 0 | J34: =SUM(Լոռի!J34+Արագածոտն!J34+Արմավիր!J34+Արարատ!J34+'Երևան քաղաք'!J34+Գեղարքունիք!J34+Կոտայք!J34+Շիրակ!J34+Սյունիք!J34+Տավուշ!J34) -> 0 | K34: =SUM(Լոռի!K34+Արագածոտն!K34+Արմավիր!K34+Արարատ!K34+'Երևան քաղաք'!K34+Գեղարքունիք!K34+Կոտայք!K34+Շիրակ!K34+Սյունիք!K34+Տավուշ!K34) -> 0 | ... T34: =SUM(Լոռի!T34+Արագածոտն!T34+Արմավիր!T34+Արարատ!T34+'Երևան քաղաք'!T34+Գեղարքունիք!T34+Կոտայք!T34+Շիրակ!T34+Սյունիք!T34+Տավուշ!T34) -> 0
A35: 2. | B35: Ընդամենը անձի ազատության, պատվի և արժանապատվության դեմ ուղղված հանցագործությունները | D35: =SUM(Լոռի!D35+Արագածոտն!D35+Արմավիր!D35+Արարատ!D35+'Երևան քաղաք'!D35+Գեղարքունիք!D35+Կոտայք!D35+Շիրակ!D35+Սյունիք!D35+Տավուշ!D35) -> 74 | E35: =SUM(Լոռի!E35+Արագածոտն!E35+Արմավիր!E35+Արարատ!E35+'Երևան քաղաք'!E35+Գեղարքունիք!E35+Կոտայք!E35+Շիրակ!E35+Սյունիք!E35+Տավուշ!E35) -> 1 | F35: =SUM(Լոռի!F35+Արագածոտն!F35+Արմավիր!F35+Արարատ!F35+'Երևան քաղաք'!F35+Գեղարքունիք!F35+Կոտայք!F35+Շիրակ!F35+Սյունիք!F35+Տավուշ!F35) -> 146 | G35: =SUM(Լոռի!G35+Արագածոտն!G35+Արմավիր!G35+Արարատ!G35+'Երևան քաղաք'!G35+Գեղարքունիք!G35+Կոտայք!G35+Շիրակ!G35+Սյունիք!G35+Տավուշ!G35) -> 22 | H35: =SUM(Լոռի!H35+Արագածոտն!H35+Արմավիր!H35+Արարատ!H35+'Երևան քաղաք'!H35+Գեղարքունիք!H35+Կոտայք!H35+Շիրակ!H35+Սյունիք!H35+Տավուշ!H35) -> 115 | I35: =SUM(Լոռի!I35+Արագածոտն!I35+Արմավիր!I35+Արարատ!I35+'Երևան քաղաք'!I35+Գեղարքունիք!I35+Կոտայք!I35+Շիրակ!I35+Սյունիք!I35+Տավուշ!I35) -> 1 | J35: =SUM(Լոռի!J35+Արագածոտն!J35+Արմավիր!J35+Արարատ!J35+'Երևան քաղաք'!J35+Գեղարքունիք!J35+Կոտայք!J35+Շիրակ!J35+Սյունիք!J35+Տավուշ!J35) -> 138 | K35: =SUM(Լոռի!K35+Արագածոտն!K35+Արմավիր!K35+Արարատ!K35+'Երևան քաղաք'!K35+Գեղարքունիք!K35+Կոտայք!K35+Շիրակ!K35+Սյունիք!K35+Տավուշ!K35) -> 2 | ... T35: =SUM(Լոռի!T35+Արագածոտն!T35+Արմավիր!T35+Արարատ!T35+'Երևան քաղաք'!T35+Գեղարքունիք!T35+Կոտայք!T35+Շիրակ!T35+Սյունիք!T35+Տավուշ!T35) -> 0
A36: 2.1 | B36: Մարդուն առևանգելը | C36: 131 | D36: =SUM(Լոռի!D36+Արագածոտն!D36+Արմավիր!D36+Արարատ!D36+'Երևան քաղաք'!D36+Գեղարքունիք!D36+Կոտայք!D36+Շիրակ!D36+Սյունիք!D36+Տավուշ!D36) -> 34 | E36: =SUM(Լոռի!E36+Արագածոտն!E36+Արմավիր!E36+Արարատ!E36+'Երևան քաղաք'!E36+Գեղարքունիք!E36+Կոտայք!E36+Շիրակ!E36+Սյունիք!E36+Տավուշ!E36) -> 0 | F36: =SUM(Լոռի!F36+Արագածոտն!F36+Արմավիր!F36+Արարատ!F36+'Երևան քաղաք'!F36+Գեղարքունիք!F36+Կոտայք!F36+Շիրակ!F36+Սյունիք!F36+Տավուշ!F36) -> 18 | G36: =SUM(Լոռի!G36+Արագածոտն!G36+Արմավիր!G36+Արարատ!G36+'Երևան քաղաք'!G36+Գեղարքունիք!G36+Կոտայք!G36+Շիրակ!G36+Սյունիք!G36+Տավուշ!G36) -> 10 | H36: =SUM(Լոռի!H36+Արագածոտն!H36+Արմավիր!H36+Արարատ!H36+'Երևան քաղաք'!H36+Գեղարքունիք!H36+Կոտայք!H36+Շիրակ!H36+Սյունիք!H36+Տավուշ!H36) -> 1 | I36: =SUM(Լոռի!I36+Արագածոտն!I36+Արմավիր!I36+Արարատ!I36+'Երևան քաղաք'!I36+Գեղարքունիք!I36+Կոտայք!I36+Շիրակ!I36+Սյունիք!I36+Տավուշ!I36) -> 0 | J36: =SUM(Լոռի!J36+Արագածոտն!J36+Արմավիր!J36+Արարատ!J36+'Երևան քաղաք'!J36+Գեղարքունիք!J36+Կոտայք!J36+Շիրակ!J36+Սյունիք!J36+Տավուշ!J36) -> 11 | K36: =SUM(Լոռի!K36+Արագածոտն!K36+Արմավիր!K36+Արարատ!K36+'Երևան քաղաք'!K36+Գեղարքունիք!K36+Կոտայք!K36+Շիրակ!K36+Սյունիք!K36+Տավուշ!K36) -> 0 | ... T36: =SUM(Լոռի!T36+Արագածոտն!T36+Արմավիր!T36+Արարատ!T36+'Երևան քաղաք'!T36+Գեղարքունիք!T36+Կոտայք!T36+Շիրակ!T36+Սյունիք!T36+Տավուշ!T36) -> 0
A37: 2.2 | B37: Մարդու թրաֆիքինգը կամ շահագործումը | C37: 132 | D37: =SUM(Լոռի!D37+Արագածոտն!D37+Արմավիր!D37+Արարատ!D37+'Երևան քաղաք'!D37+Գեղարքունիք!D37+Կոտայք!D37+Շիրակ!D37+Սյունիք!D37+Տավուշ!D37) -> 4 | E37: =SUM(Լոռի!E37+Արագածոտն!E37+Արմավիր!E37+Արարատ!E37+'Երևան քաղաք'!E37+Գեղարքունիք!E37+Կոտայք!E37+Շիրակ!E37+Սյունիք!E37+Տավուշ!E37) -> 0 | F37: =SUM(Լոռի!F37+Արագածոտն!F37+Արմավիր!F37+Արարատ!F37+'Երևան քաղաք'!F37+Գեղարքունիք!F37+Կոտայք!F37+Շիրակ!F37+Սյունիք!F37+Տավուշ!F37) -> 3 | G37: =SUM(Լոռի!G37+Արագածոտն!G37+Արմավիր!G37+Արարատ!G37+'Երևան քաղաք'!G37+Գեղարքունիք!G37+Կոտայք!G37+Շիրակ!G37+Սյունիք!G37+Տավուշ!G37) -> 0 | H37: =SUM(Լոռի!H37+Արագածոտն!H37+Արմավիր!H37+Արարատ!H37+'Երևան քաղաք'!H37+Գեղարքունիք!H37+Կոտայք!H37+Շիրակ!H37+Սյունիք!H37+Տավուշ!H37) -> 0 | I37: =SUM(Լոռի!I37+Արագածոտն!I37+Արմավիր!I37+Արարատ!I37+'Երևան քաղաք'!I37+Գեղարքունիք!I37+Կոտայք!I37+Շիրակ!I37+Սյունիք!I37+Տավուշ!I37) -> 0 | J37: =SUM(Լոռի!J37+Արագածոտն!J37+Արմավիր!J37+Արարատ!J37+'Երևան քաղաք'!J37+Գեղարքունիք!J37+Կոտայք!J37+Շիրակ!J37+Սյունիք!J37+Տավուշ!J37) -> 0 | K37: =SUM(Լոռի!K37+Արագածոտն!K37+Արմավիր!K37+Արարատ!K37+'Երևան քաղաք'!K37+Գեղարքունիք!K37+Կոտայք!K37+Շիրակ!K37+Սյունիք!K37+Տավուշ!K37) -> 1 | ... T37: =SUM(Լոռի!T37+Արագածոտն!T37+Արմավիր!T37+Արարատ!T37+'Երևան քաղաք'!T37+Գեղարքունիք!T37+Կոտայք!T37+Շիրակ!T37+Սյունիք!T37+Տավուշ!T37) -> 0
A38: 2.2.2 | B38: Երեխայի կամ հոգեկան խանգարման հետևանքով իր արարքի բնույթն ու նշանակությունը գիտակցելու կամ դա ղեկավարելու հնարավորությունից զրկված անձի թրաֆիքինգը կամ շահագործումը | C38: 132.2 | D38: =SUM(Լոռի!D38+Արագածոտն!D38+Արմավիր!D38+Արարատ!D38+'Երևան քաղաք'!D38+Գեղարքունիք!D38+Կոտայք!D38+Շիրակ!D38+Սյունիք!D38+Տավուշ!D38) -> 5 | E38: =SUM(Լոռի!E38+Արագածոտն!E38+Արմավիր!E38+Արարատ!E38+'Երևան քաղաք'!E38+Գեղարքունիք!E38+Կոտայք!E38+Շիրակ!E38+Սյունիք!E38+Տավուշ!E38) -> 0 | F38: =SUM(Լոռի!F38+Արագածոտն!F38+Արմավիր!F38+Արարատ!F38+'Երևան քաղաք'!F38+Գեղարքունիք!F38+Կոտայք!F38+Շիրակ!F38+Սյունիք!F38+Տավուշ!F38) -> 1 | G38: =SUM(Լոռի!G38+Արագածոտն!G38+Արմավիր!G38+Արարատ!G38+'Երևան քաղաք'!G38+Գեղարքունիք!G38+Կոտայք!G38+Շիրակ!G38+Սյունիք!G38+Տավուշ!G38) -> 0 | H38: =SUM(Լոռի!H38+Արագածոտն!H38+Արմավիր!H38+Արարատ!H38+'Երևան քաղաք'!H38+Գեղարքունիք!H38+Կոտայք!H38+Շիրակ!H38+Սյունիք!H38+Տավուշ!H38) -> 0 | I38: =SUM(Լոռի!I38+Արագածոտն!I38+Արմավիր!I38+Արարատ!I38+'Երևան քաղաք'!I38+Գեղարքունիք!I38+Կոտայք!I38+Շիրակ!I38+Սյունիք!I38+Տավուշ!I38) -> 0 | J38: =SUM(Լոռի!J38+Արագածոտն!J38+Արմավիր!J38+Արարատ!J38+'Երևան քաղաք'!J38+Գեղարքունիք!J38+Կոտայք!J38+Շիրակ!J38+Սյունիք!J38+Տավուշ!J38) -> 0 | K38: =SUM(Լոռի!K38+Արագածոտն!K38+Արմավիր!K38+Արարատ!K38+'Երևան քաղաք'!K38+Գեղարքունիք!K38+Կոտայք!K38+Շիրակ!K38+Սյունիք!K38+Տավուշ!K38) -> 0 | ... T38: =SUM(Լոռի!T38+Արագածոտն!T38+Արմավիր!T38+Արարատ!T38+'Երևան քաղաք'!T38+Գեղարքունիք!T38+Կոտայք!T38+Շիրակ!T38+Սյունիք!T38+Տավուշ!T38) -> 0
A39: 2.2.3 | B39: Շահագործման վիճակում գտնվող անձի ծառայությունից օգտվելը | C39: 132.3 | D39: =SUM(Լոռի!D39+Արագածոտն!D39+Արմավիր!D39+Արարատ!D39+'Երևան քաղաք'!D39+Գեղարքունիք!D39+Կոտայք!D39+Շիրակ!D39+Սյունիք!D39+Տավուշ!D39) -> 1 | E39: =SUM(Լոռի!E39+Արագածոտն!E39+Արմավիր!E39+Արարատ!E39+'Երևան քաղաք'!E39+Գեղարքունիք!E39+Կոտայք!E39+Շիրակ!E39+Սյունիք!E39+Տավուշ!E39) -> 0 | F39: =SUM(Լոռի!F39+Արագածոտն!F39+Արմավիր!F39+Արարատ!F39+'Երևան քաղաք'!F39+Գեղարքունիք!F39+Կոտայք!F39+Շիրակ!F39+Սյունիք!F39+Տավուշ!F39) -> 0 | G39: =SUM(Լոռի!G39+Արագածոտն!G39+Արմավիր!G39+Արարատ!G39+'Երևան քաղաք'!G39+Գեղարքունիք!G39+Կոտայք!G39+Շիրակ!G39+Սյունիք!G39+Տավուշ!G39) -> 1 | H39: =SUM(Լոռի!H39+Արագածոտն!H39+Արմավիր!H39+Արարատ!H39+'Երևան քաղաք'!H39+Գեղարքունիք!H39+Կոտայք!H39+Շիրակ!H39+Սյունիք!H39+Տավուշ!H39) -> 0 | I39: =SUM(Լոռի!I39+Արագածոտն!I39+Արմավիր!I39+Արարատ!I39+'Երևան քաղաք'!I39+Գեղարքունիք!I39+Կոտայք!I39+Շիրակ!I39+Սյունիք!I39+Տավուշ!I39) -> 0 | J39: =SUM(Լոռի!J39+Արագածոտն!J39+Արմավիր!J39+Արարատ!J39+'Երևան քաղաք'!J39+Գեղարքունիք!J39+Կոտայք!J39+Շիրակ!J39+Սյունիք!J39+Տավուշ!J39) -> 1 | K39: =SUM(Լոռի!K39+Արագածոտն!K39+Արմավիր!K39+Արարատ!K39+'Երևան քաղաք'!K39+Գեղարքունիք!K39+Կոտայք!K39+Շիրակ!K39+Սյունիք!K39+Տավուշ!K39) -> 0 | ... T39: =SUM(Լոռի!T39+Արագածոտն!T39+Արմավիր!T39+Արարատ!T39+'Երևան քաղաք'!T39+Գեղարքունիք!T39+Կոտայք!T39+Շիրակ!T39+Սյունիք!T39+Տավուշ!T39) -> 0
A40: 2.3 | B40: Ազատությունից ապօրինի զրկելը | C40: 133 | D40: =SUM(Լոռի!D40+Արագածոտն!D40+Արմավիր!D40+Արարատ!D40+'Երևան քաղաք'!D40+Գեղարքունիք!D40+Կոտայք!D40+Շիրակ!D40+Սյունիք!D40+Տավուշ!D40) -> 3 | E40: =SUM(Լոռի!E40+Արագածոտն!E40+Արմավիր!E40+Արարատ!E40+'Երևան քաղաք'!E40+Գեղարքունիք!E40+Կոտայք!E40+Շիրակ!E40+Սյունիք!E40+Տավուշ!E40) -> 0 | F40: =SUM(Լոռի!F40+Արագածոտն!F40+Արմավիր!F40+Արարատ!F40+'Երևան քաղաք'!F40+Գեղարքունիք!F40+Կոտայք!F40+Շիրակ!F40+Սյունիք!F40+Տավուշ!F40) -> 2 | G40: =SUM(Լոռի!G40+Արագածոտն!G40+Արմավիր!G40+Արարատ!G40+'Երևան քաղաք'!G40+Գեղարքունիք!G40+Կոտայք!G40+Շիրակ!G40+Սյունիք!G40+Տավուշ!G40) -> 0 | H40: =SUM(Լոռի!H40+Արագածոտն!H40+Արմավիր!H40+Արարատ!H40+'Երևան քաղաք'!H40+Գեղարքունիք!H40+Կոտայք!H40+Շիրակ!H40+Սյունիք!H40+Տավուշ!H40) -> 1 | I40: =SUM(Լոռի!I40+Արագածոտն!I40+Արմավիր!I40+Արարատ!I40+'Երևան քաղաք'!I40+Գեղարքունիք!I40+Կոտայք!I40+Շիրակ!I40+Սյունիք!I40+Տավուշ!I40) -> 0 | J40: =SUM(Լոռի!J40+Արագածոտն!J40+Արմավիր!J40+Արարատ!J40+'Երևան քաղաք'!J40+Գեղարքունիք!J40+Կոտայք!J40+Շիրակ!J40+Սյունիք!J40+Տավուշ!J40) -> 1 | K40: =SUM(Լոռի!K40+Արագածոտն!K40+Արմավիր!K40+Արարատ!K40+'Երևան քաղաք'!K40+Գեղարքունիք!K40+Կոտայք!K40+Շիրակ!K40+Սյունիք!K40+Տավուշ!K40) -> 0 | ... T40: =SUM(Լոռի!T40+Արագածոտն!T40+Արմավիր!T40+Արարատ!T40+'Երևան քաղաք'!T40+Գեղարքունիք!T40+Կոտայք!T40+Շիրակ!T40+Սյունիք!T40+Տավուշ!T40) -> 0
A41: 2.4 | B41: Հոգեբուժական հիվանդանոցում ապօրինի տեղավորելը կամ պահելը | C41: 134 | D41: =SUM(Լոռի!D41+Արագածոտն!D41+Արմավիր!D41+Արարատ!D41+'Երևան քաղաք'!D41+Գեղարքունիք!D41+Կոտայք!D41+Շիրակ!D41+Սյունիք!D41+Տավուշ!D41) -> 0 | E41: =SUM(Լոռի!E41+Արագածոտն!E41+Արմավիր!E41+Արարատ!E41+'Երևան քաղաք'!E41+Գեղարքունիք!E41+Կոտայք!E41+Շիրակ!E41+Սյունիք!E41+Տավուշ!E41) -> 0 | F41: =SUM(Լոռի!F41+Արագածոտն!F41+Արմավիր!F41+Արարատ!F41+'Երևան քաղաք'!F41+Գեղարքունիք!F41+Կոտայք!F41+Շիրակ!F41+Սյունիք!F41+Տավուշ!F41) -> 0 | G41: =SUM(Լոռի!G41+Արագածոտն!G41+Արմավիր!G41+Արարատ!G41+'Երևան քաղաք'!G41+Գեղարքունիք!G41+Կոտայք!G41+Շիրակ!G41+Սյունիք!G41+Տավուշ!G41) -> 0 | H41: =SUM(Լոռի!H41+Արագածոտն!H41+Արմավիր!H41+Արարատ!H41+'Երևան քաղաք'!H41+Գեղարքունիք!H41+Կոտայք!H41+Շիրակ!H41+Սյունիք!H41+Տավուշ!H41) -> 0 | I41: =SUM(Լոռի!I41+Արագածոտն!I41+Արմավիր!I41+Արարատ!I41+'Երևան քաղաք'!I41+Գեղարքունիք!I41+Կոտայք!I41+Շիրակ!I41+Սյունիք!I41+Տավուշ!I41) -> 0 | J41: =SUM(Լոռի!J41+Արագածոտն!J41+Արմավիր!J41+Արարատ!J41+'Երևան քաղաք'!J41+Գեղարքունիք!J41+Կոտայք!J41+Շիրակ!J41+Սյունիք!J41+Տավուշ!J41) -> 0 | K41: =SUM(Լոռի!K41+Արագածոտն!K41+Արմավիր!K41+Արարատ!K41+'Երևան քաղաք'!K41+Գեղարքունիք!K41+Կոտայք!K41+Շիրակ!K41+Սյունիք!K41+Տավուշ!K41) -> 0 | ... T41: =SUM(Լոռի!T41+Արագածոտն!T41+Արմավիր!T41+Արարատ!T41+'Երևան քաղաք'!T41+Գեղարքունիք!T41+Կոտայք!T41+Շիրակ!T41+Սյունիք!T41+Տավուշ!T41) -> 0
A42: 2.7 | B42: Սպանության, առողջությանը ծանր վնաս պատճառելու կամ գույք ոչնչացնելու սպառնալիքը | C42: 137 | D42: =SUM(Լոռի!D42+Արագածոտն!D42+Արմավիր!D42+Արարատ!D42+'Երևան քաղաք'!D42+Գեղարքունիք!D42+Կոտայք!D42+Շիրակ!D42+Սյունիք!D42+Տավուշ!D42) -> 14 | E42: =SUM(Լոռի!E42+Արագածոտն!E42+Արմավիր!E42+Արարատ!E42+'Երևան քաղաք'!E42+Գեղարքունիք!E42+Կոտայք!E42+Շիրակ!E42+Սյունիք!E42+Տավուշ!E42) -> 1 | F42: =SUM(Լոռի!F42+Արագածոտն!F42+Արմավիր!F42+Արարատ!F42+'Երևան քաղաք'!F42+Գեղարքունիք!F42+Կոտայք!F42+Շիրակ!F42+Սյունիք!F42+Տավուշ!F42) -> 18 | G42: =SUM(Լոռի!G42+Արագածոտն!G42+Արմավիր!G42+Արարատ!G42+'Երևան քաղաք'!G42+Գեղարքունիք!G42+Կոտայք!G42+Շիրակ!G42+Սյունիք!G42+Տավուշ!G42) -> 5 | H42: =SUM(Լոռի!H42+Արագածոտն!H42+Արմավիր!H42+Արարատ!H42+'Երևան քաղաք'!H42+Գեղարքունիք!H42+Կոտայք!H42+Շիրակ!H42+Սյունիք!H42+Տավուշ!H42) -> 11 | I42: =SUM(Լոռի!I42+Արագածոտն!I42+Արմավիր!I42+Արարատ!I42+'Երևան քաղաք'!I42+Գեղարքունիք!I42+Կոտայք!I42+Շիրակ!I42+Սյունիք!I42+Տավուշ!I42) -> 1 | J42: =SUM(Լոռի!J42+Արագածոտն!J42+Արմավիր!J42+Արարատ!J42+'Երևան քաղաք'!J42+Գեղարքունիք!J42+Կոտայք!J42+Շիրակ!J42+Սյունիք!J42+Տավուշ!J42) -> 17 | K42: =SUM(Լոռի!K42+Արագածոտն!K42+Արմավիր!K42+Արարատ!K42+'Երևան քաղաք'!K42+Գեղարքունիք!K42+Կոտայք!K42+Շիրակ!K42+Սյունիք!K42+Տավուշ!K42) -> 0 | ... T42: =SUM(Լոռի!T42+Արագածոտն!T42+Արմավիր!T42+Արարատ!T42+'Երևան քաղաք'!T42+Գեղարքունիք!T42+Կոտայք!T42+Շիրակ!T42+Սյունիք!T42+Տավուշ!T42) -> 0
A43: 2.8 | B43: Այլ հանցագործություններ | D43: =SUM(Լոռի!D43+Արագածոտն!D43+Արմավիր!D43+Արարատ!D43+'Երևան քաղաք'!D43+Գեղարքունիք!D43+Կոտայք!D43+Շիրակ!D43+Սյունիք!D43+Տավուշ!D43) -> 13 | E43: =SUM(Լոռի!E43+Արագածոտն!E43+Արմավիր!E43+Արարատ!E43+'Երևան քաղաք'!E43+Գեղարքունիք!E43+Կոտայք!E43+Շիրակ!E43+Սյունիք!E43+Տավուշ!E43) -> 0 | F43: =SUM(Լոռի!F43+Արագածոտն!F43+Արմավիր!F43+Արարատ!F43+'Երևան քաղաք'!F43+Գեղարքունիք!F43+Կոտայք!F43+Շիրակ!F43+Սյունիք!F43+Տավուշ!F43) -> 104 | G43: =SUM(Լոռի!G43+Արագածոտն!G43+Արմավիր!G43+Արարատ!G43+'Երևան քաղաք'!G43+Գեղարքունիք!G43+Կոտայք!G43+Շիրակ!G43+Սյունիք!G43+Տավուշ!G43) -> 6 | H43: =SUM(Լոռի!H43+Արագածոտն!H43+Արմավիր!H43+Արարատ!H43+'Երևան քաղաք'!H43+Գեղարքունիք!H43+Կոտայք!H43+Շիրակ!H43+Սյունիք!H43+Տավուշ!H43) -> 102 | I43: =SUM(Լոռի!I43+Արագածոտն!I43+Արմավիր!I43+Արարատ!I43+'Երևան քաղաք'!I43+Գեղարքունիք!I43+Կոտայք!I43+Շիրակ!I43+Սյունիք!I43+Տավուշ!I43) -> 0 | J43: =SUM(Լոռի!J43+Արագածոտն!J43+Արմավիր!J43+Արարատ!J43+'Երևան քաղաք'!J43+Գեղարքունիք!J43+Կոտայք!J43+Շիրակ!J43+Սյունիք!J43+Տավուշ!J43) -> 108 | K43: =SUM(Լոռի!K43+Արագածոտն!K43+Արմավիր!K43+Արարատ!K43+'Երևան քաղաք'!K43+Գեղարքունիք!K43+Կոտայք!K43+Շիրակ!K43+Սյունիք!K43+Տավուշ!K43) -> 1 | ... T43: =SUM(Լոռի!T43+Արագածոտն!T43+Արմավիր!T43+Արարատ!T43+'Երևան քաղաք'!T43+Գեղարքունիք!T43+Կոտայք!T43+Շիրակ!T43+Սյունիք!T43+Տավուշ!T43) -> 0
A44: 3. | B44: Ընդամենը սեռական անձեռնմխելիության և սեռական ազատության դեմ ուղղված հանցագործությունները | D44: =SUM(Լոռի!D44+Արագածոտն!D44+Արմավիր!D44+Արարատ!D44+'Երևան քաղաք'!D44+Գեղարքունիք!D44+Կոտայք!D44+Շիրակ!D44+Սյունիք!D44+Տավուշ!D44) -> 72 | E44: =SUM(Լոռի!E44+Արագածոտն!E44+Արմավիր!E44+Արարատ!E44+'Երևան քաղաք'!E44+Գեղարքունիք!E44+Կոտայք!E44+Շիրակ!E44+Սյունիք!E44+Տավուշ!E44) -> 3 | F44: =SUM(Լոռի!F44+Արագածոտն!F44+Արմավիր!F44+Արարատ!F44+'Երևան քաղաք'!F44+Գեղարքունիք!F44+Կոտայք!F44+Շիրակ!F44+Սյունիք!F44+Տավուշ!F44) -> 31 | G44: =SUM(Լոռի!G44+Արագածոտն!G44+Արմավիր!G44+Արարատ!G44+'Երևան քաղաք'!G44+Գեղարքունիք!G44+Կոտայք!G44+Շիրակ!G44+Սյունիք!G44+Տավուշ!G44) -> 23 | H44: =SUM(Լոռի!H44+Արագածոտն!H44+Արմավիր!H44+Արարատ!H44+'Երևան քաղաք'!H44+Գեղարքունիք!H44+Կոտայք!H44+Շիրակ!H44+Սյունիք!H44+Տավուշ!H44) -> 0 | I44: =SUM(Լոռի!I44+Արագածոտն!I44+Արմավիր!I44+Արարատ!I44+'Երևան քաղաք'!I44+Գեղարքունիք!I44+Կոտայք!I44+Շիրակ!I44+Սյունիք!I44+Տավուշ!I44) -> 1 | J44: =SUM(Լոռի!J44+Արագածոտն!J44+Արմավիր!J44+Արարատ!J44+'Երևան քաղաք'!J44+Գեղարքունիք!J44+Կոտայք!J44+Շիրակ!J44+Սյունիք!J44+Տավուշ!J44) -> 24 | K44: =SUM(Լոռի!K44+Արագածոտն!K44+Արմավիր!K44+Արարատ!K44+'Երևան քաղաք'!K44+Գեղարքունիք!K44+Կոտայք!K44+Շիրակ!K44+Սյունիք!K44+Տավուշ!K44) -> 1 | ... T44: =SUM(Լոռի!T44+Արագածոտն!T44+Արմավիր!T44+Արարատ!T44+'Երևան քաղաք'!T44+Գեղարքունիք!T44+Կոտայք!T44+Շիրակ!T44+Սյունիք!T44+Տավուշ!T44) -> 1
A45: 3.1 | B45: Բռնաբարությունը | C45: 138 | D45: =SUM(Լոռի!D45+Արագածոտն!D45+Արմավիր!D45+Արարատ!D45+'Երևան քաղաք'!D45+Գեղարքունիք!D45+Կոտայք!D45+Շիրակ!D45+Սյունիք!D45+Տավուշ!D45) -> 15 | E45: =SUM(Լոռի!E45+Արագածոտն!E45+Արմավիր!E45+Արարատ!E45+'Երևան քաղաք'!E45+Գեղարքունիք!E45+Կոտայք!E45+Շիրակ!E45+Սյունիք!E45+Տավուշ!E45) -> 0 | F45: =SUM(Լոռի!F45+Արագածոտն!F45+Արմավիր!F45+Արարատ!F45+'Երևան քաղաք'!F45+Գեղարքունիք!F45+Կոտայք!F45+Շիրակ!F45+Սյունիք!F45+Տավուշ!F45) -> 9 | G45: =SUM(Լոռի!G45+Արագածոտն!G45+Արմավիր!G45+Արարատ!G45+'Երևան քաղաք'!G45+Գեղարքունիք!G45+Կոտայք!G45+Շիրակ!G45+Սյունիք!G45+Տավուշ!G45) -> 4 | H45: =SUM(Լոռի!H45+Արագածոտն!H45+Արմավիր!H45+Արարատ!H45+'Երևան քաղաք'!H45+Գեղարքունիք!H45+Կոտայք!H45+Շիրակ!H45+Սյունիք!H45+Տավուշ!H45) -> 0 | I45: =SUM(Լոռի!I45+Արագածոտն!I45+Արմավիր!I45+Արարատ!I45+'Երևան քաղաք'!I45+Գեղարքունիք!I45+Կոտայք!I45+Շիրակ!I45+Սյունիք!I45+Տավուշ!I45) -> 1 | J45: =SUM(Լոռի!J45+Արագածոտն!J45+Արմավիր!J45+Արարատ!J45+'Երևան քաղաք'!J45+Գեղարքունիք!J45+Կոտայք!J45+Շիրակ!J45+Սյունիք!J45+Տավուշ!J45) -> 5 | K45: =SUM(Լոռի!K45+Արագածոտն!K45+Արմավիր!K45+Արարատ!K45+'Երևան քաղաք'!K45+Գեղարքունիք!K45+Կոտայք!K45+Շիրակ!K45+Սյունիք!K45+Տավուշ!K45) -> 0 | ... T45: =SUM(Լոռի!T45+Արագածոտն!T45+Արմավիր!T45+Արարատ!T45+'Երևան քաղաք'!T45+Գեղարքունիք!T45+Կոտայք!T45+Շիրակ!T45+Սյունիք!T45+Տավուշ!T45) -> 0
A46: 3.2 | B46: Սեքսուալ բնույթի բռնի գործողությունները | C46: 139 | D46: =SUM(Լոռի!D46+Արագածոտն!D46+Արմավիր!D46+Արարատ!D46+'Երևան քաղաք'!D46+Գեղարքունիք!D46+Կոտայք!D46+Շիրակ!D46+Սյունիք!D46+Տավուշ!D46) -> 24 | E46: =SUM(Լոռի!E46+Արագածոտն!E46+Արմավիր!E46+Արարատ!E46+'Երևան քաղաք'!E46+Գեղարքունիք!E46+Կոտայք!E46+Շիրակ!E46+Սյունիք!E46+Տավուշ!E46) -> 0 | F46: =SUM(Լոռի!F46+Արագածոտն!F46+Արմավիր!F46+Արարատ!F46+'Երևան քաղաք'!F46+Գեղարքունիք!F46+Կոտայք!F46+Շիրակ!F46+Սյունիք!F46+Տավուշ!F46) -> 9 | G46: =SUM(Լոռի!G46+Արագածոտն!G46+Արմավիր!G46+Արարատ!G46+'Երևան քաղաք'!G46+Գեղարքունիք!G46+Կոտայք!G46+Շիրակ!G46+Սյունիք!G46+Տավուշ!G46) -> 10 | H46: =SUM(Լոռի!H46+Արագածոտն!H46+Արմավիր!H46+Արարատ!H46+'Երևան քաղաք'!H46+Գեղարքունիք!H46+Կոտայք!H46+Շիրակ!H46+Սյունիք!H46+Տավուշ!H46) -> 0 | I46: =SUM(Լոռի!I46+Արագածոտն!I46+Արմավիր!I46+Արարատ!I46+'Երևան քաղաք'!I46+Գեղարքունիք!I46+Կոտայք!I46+Շիրակ!I46+Սյունիք!I46+Տավուշ!I46) -> 0 | J46: =SUM(Լոռի!J46+Արագածոտն!J46+Արմավիր!J46+Արարատ!J46+'Երևան քաղաք'!J46+Գեղարքունիք!J46+Կոտայք!J46+Շիրակ!J46+Սյունիք!J46+Տավուշ!J46) -> 10 | K46: =SUM(Լոռի!K46+Արագածոտն!K46+Արմավիր!K46+Արարատ!K46+'Երևան քաղաք'!K46+Գեղարքունիք!K46+Կոտայք!K46+Շիրակ!K46+Սյունիք!K46+Տավուշ!K46) -> 0 | ... T46: =SUM(Լոռի!T46+Արագածոտն!T46+Արմավիր!T46+Արարատ!T46+'Երևան քաղաք'!T46+Գեղարքունիք!T46+Կոտայք!T46+Շիրակ!T46+Սյունիք!T46+Տավուշ!T46) -> 1
A47: 3.3 | B47: Սեռական հարաբերության կամ սեքսուալ բնույթի գործողություններին հարկադրելը | C47: 140 | D47: =SUM(Լոռի!D47+Արագածոտն!D47+Արմավիր!D47+Արարատ!D47+'Երևան քաղաք'!D47+Գեղարքունիք!D47+Կոտայք!D47+Շիրակ!D47+Սյունիք!D47+Տավուշ!D47) -> 4 | E47: =SUM(Լոռի!E47+Արագածոտն!E47+Արմավիր!E47+Արարատ!E47+'Երևան քաղաք'!E47+Գեղարքունիք!E47+Կոտայք!E47+Շիրակ!E47+Սյունիք!E47+Տավուշ!E47) -> 1 | F47: =SUM(Լոռի!F47+Արագածոտն!F47+Արմավիր!F47+Արարատ!F47+'Երևան քաղաք'!F47+Գեղարքունիք!F47+Կոտայք!F47+Շիրակ!F47+Սյունիք!F47+Տավուշ!F47) -> 1 | G47: =SUM(Լոռի!G47+Արագածոտն!G47+Արմավիր!G47+Արարատ!G47+'Երևան քաղաք'!G47+Գեղարքունիք!G47+Կոտայք!G47+Շիրակ!G47+Սյունիք!G47+Տավուշ!G47) -> 2 | H47: =SUM(Լոռի!H47+Արագածոտն!H47+Արմավիր!H47+Արարատ!H47+'Երևան քաղաք'!H47+Գեղարքունիք!H47+Կոտայք!H47+Շիրակ!H47+Սյունիք!H47+Տավուշ!H47) -> 0 | I47: =SUM(Լոռի!I47+Արագածոտն!I47+Արմավիր!I47+Արարատ!I47+'Երևան քաղաք'!I47+Գեղարքունիք!I47+Կոտայք!I47+Շիրակ!I47+Սյունիք!I47+Տավուշ!I47) -> 0 | J47: =SUM(Լոռի!J47+Արագածոտն!J47+Արմավիր!J47+Արարատ!J47+'Երևան քաղաք'!J47+Գեղարքունիք!J47+Կոտայք!J47+Շիրակ!J47+Սյունիք!J47+Տավուշ!J47) -> 2 | K47: =SUM(Լոռի!K47+Արագածոտն!K47+Արմավիր!K47+Արարատ!K47+'Երևան քաղաք'!K47+Գեղարքունիք!K47+Կոտայք!K47+Շիրակ!K47+Սյունիք!K47+Տավուշ!K47) -> 0 | ... T47: =SUM(Լոռի!T47+Արագածոտն!T47+Արմավիր!T47+Արարատ!T47+'Երևան քաղաք'!T47+Գեղարքունիք!T47+Կոտայք!T47+Շիրակ!T47+Սյունիք!T47+Տավուշ!T47) -> 0
A48: 3.4 | B48: Սեռական հարաբերությունը տասնվեց տարին չլրացած անձի հետ կամ սեքսուալ բնույթի գործողություններ կատարելը տասնվեց տարին չլրացած անձի նկատմամբ | C48: 141 | D48: =SUM(Լոռի!D48+Արագածոտն!D48+Արմավիր!D48+Արարատ!D48+'Երևան քաղաք'!D48+Գեղարքունիք!D48+Կոտայք!D48+Շիրակ!D48+Սյունիք!D48+Տավուշ!D48) -> 18 | E48: =SUM(Լոռի!E48+Արագածոտն!E48+Արմավիր!E48+Արարատ!E48+'Երևան քաղաք'!E48+Գեղարքունիք!E48+Կոտայք!E48+Շիրակ!E48+Սյունիք!E48+Տավուշ!E48) -> 2 | F48: =SUM(Լոռի!F48+Արագածոտն!F48+Արմավիր!F48+Արարատ!F48+'Երևան քաղաք'!F48+Գեղարքունիք!F48+Կոտայք!F48+Շիրակ!F48+Սյունիք!F48+Տավուշ!F48) -> 3 | G48: =SUM(Լոռի!G48+Արագածոտն!G48+Արմավիր!G48+Արարատ!G48+'Երևան քաղաք'!G48+Գեղարքունիք!G48+Կոտայք!G48+Շիրակ!G48+Սյունիք!G48+Տավուշ!G48) -> 3 | H48: =SUM(Լոռի!H48+Արագածոտն!H48+Արմավիր!H48+Արարատ!H48+'Երևան քաղաք'!H48+Գեղարքունիք!H48+Կոտայք!H48+Շիրակ!H48+Սյունիք!H48+Տավուշ!H48) -> 0 | I48: =SUM(Լոռի!I48+Արագածոտն!I48+Արմավիր!I48+Արարատ!I48+'Երևան քաղաք'!I48+Գեղարքունիք!I48+Կոտայք!I48+Շիրակ!I48+Սյունիք!I48+Տավուշ!I48) -> 0 | J48: =SUM(Լոռի!J48+Արագածոտն!J48+Արմավիր!J48+Արարատ!J48+'Երևան քաղաք'!J48+Գեղարքունիք!J48+Կոտայք!J48+Շիրակ!J48+Սյունիք!J48+Տավուշ!J48) -> 3 | K48: =SUM(Լոռի!K48+Արագածոտն!K48+Արմավիր!K48+Արարատ!K48+'Երևան քաղաք'!K48+Գեղարքունիք!K48+Կոտայք!K48+Շիրակ!K48+Սյունիք!K48+Տավուշ!K48) -> 0 | ... T48: =SUM(Լոռի!T48+Արագածոտն!T48+Արմավիր!T48+Արարատ!T48+'Երևան քաղաք'!T48+Գեղարքունիք!T48+Կոտայք!T48+Շիրակ!T48+Սյունիք!T48+Տավուշ!T48) -> 0
A49: 3.5 | B49: Անառակաբարո գործողությունները | C49: 142 | D49: =SUM(Լոռի!D49+Արագածոտն!D49+Արմավիր!D49+Արարատ!D49+'Երևան քաղաք'!D49+Գեղարքունիք!D49+Կոտայք!D49+Շիրակ!D49+Սյունիք!D49+Տավուշ!D49) -> 11 | E49: =SUM(Լոռի!E49+Արագածոտն!E49+Արմավիր!E49+Արարատ!E49+'Երևան քաղաք'!E49+Գեղարքունիք!E49+Կոտայք!E49+Շիրակ!E49+Սյունիք!E49+Տավուշ!E49) -> 0 | F49: =SUM(Լոռի!F49+Արագածոտն!F49+Արմավիր!F49+Արարատ!F49+'Երևան քաղաք'!F49+Գեղարքունիք!F49+Կոտայք!F49+Շիրակ!F49+Սյունիք!F49+Տավուշ!F49) -> 7 | G49: =SUM(Լոռի!G49+Արագածոտն!G49+Արմավիր!G49+Արարատ!G49+'Երևան քաղաք'!G49+Գեղարքունիք!G49+Կոտայք!G49+Շիրակ!G49+Սյունիք!G49+Տավուշ!G49) -> 3 | H49: =SUM(Լոռի!H49+Արագածոտն!H49+Արմավիր!H49+Արարատ!H49+'Երևան քաղաք'!H49+Գեղարքունիք!H49+Կոտայք!H49+Շիրակ!H49+Սյունիք!H49+Տավուշ!H49) -> 0 | I49: =SUM(Լոռի!I49+Արագածոտն!I49+Արմավիր!I49+Արարատ!I49+'Երևան քաղաք'!I49+Գեղարքունիք!I49+Կոտայք!I49+Շիրակ!I49+Սյունիք!I49+Տավուշ!I49) -> 0 | J49: =SUM(Լոռի!J49+Արագածոտն!J49+Արմավիր!J49+Արարատ!J49+'Երևան քաղաք'!J49+Գեղարքունիք!J49+Կոտայք!J49+Շիրակ!J49+Սյունիք!J49+Տավուշ!J49) -> 3 | K49: =SUM(Լոռի!K49+Արագածոտն!K49+Արմավիր!K49+Արարատ!K49+'Երևան քաղաք'!K49+Գեղարքունիք!K49+Կոտայք!K49+Շիրակ!K49+Սյունիք!K49+Տավուշ!K49) -> 1 | ... T49: =SUM(Լոռի!T49+Արագածոտն!T49+Արմավիր!T49+Արարատ!T49+'Երևան քաղաք'!T49+Գեղարքունիք!T49+Կոտայք!T49+Շիրակ!T49+Սյունիք!T49+Տավուշ!T49) -> 0
A50: 3.6 | B50: Այլ հանցագործություններ | D50: =SUM(Լոռի!D50+Արագածոտն!D50+Արմավիր!D50+Արարատ!D50+'Երևան քաղաք'!D50+Գեղարքունիք!D50+Կոտայք!D50+Շիրակ!D50+Սյունիք!D50+Տավուշ!D50) -> 0 | E50: =SUM(Լոռի!E50+Արագածոտն!E50+Արմավիր!E50+Արարատ!E50+'Երևան քաղաք'!E50+Գեղարքունիք!E50+Կոտայք!E50+Շիրակ!E50+Սյունիք!E50+Տավուշ!E50) -> 0 | F50: =SUM(Լոռի!F50+Արագածոտն!F50+Արմավիր!F50+Արարատ!F50+'Երևան քաղաք'!F50+Գեղարքունիք!F50+Կոտայք!F50+Շիրակ!F50+Սյունիք!F50+Տավուշ!F50) -> 2 | G50: =SUM(Լոռի!G50+Արագածոտն!G50+Արմավիր!G50+Արարատ!G50+'Երևան քաղաք'!G50+Գեղարքունիք!G50+Կոտայք!G50+Շիրակ!G50+Սյունիք!G50+Տավուշ!G50) -> 1 | H50: =SUM(Լոռի!H50+Արագածոտն!H50+Արմավիր!H50+Արարատ!H50+'Երևան քաղաք'!H50+Գեղարքունիք!H50+Կոտայք!H50+Շիրակ!H50+Սյունիք!H50+Տավուշ!H50) -> 0 | I50: =SUM(Լոռի!I50+Արագածոտն!I50+Արմավիր!I50+Արարատ!I50+'Երևան քաղաք'!I50+Գեղարքունիք!I50+Կոտայք!I50+Շիրակ!I50+Սյունիք!I50+Տավուշ!I50) -> 0 | J50: =SUM(Լոռի!J50+Արագածոտն!J50+Արմավիր!J50+Արարատ!J50+'Երևան քաղաք'!J50+Գեղարքունիք!J50+Կոտայք!J50+Շիրակ!J50+Սյունիք!J50+Տավուշ!J50) -> 1 | K50: =SUM(Լոռի!K50+Արագածոտն!K50+Արմավիր!K50+Արարատ!K50+'Երևան քաղաք'!K50+Գեղարքունիք!K50+Կոտայք!K50+Շիրակ!K50+Սյունիք!K50+Տավուշ!K50) -> 0 | ... T50: =SUM(Լոռի!T50+Արագածոտն!T50+Արմավիր!T50+Արարատ!T50+'Երևան քաղաք'!T50+Գեղարքունիք!T50+Կոտայք!T50+Շիրակ!T50+Սյունիք!T50+Տավուշ!T50) -> 0
A51: 4. | B51: Ընդամենը մարդու և քաղաքացու սահմանադրական իրավունքների և ազատությունների դեմ ուղղված հանցագործությունները | D51: =SUM(Լոռի!D51+Արագածոտն!D51+Արմավիր!D51+Արարատ!D51+'Երևան քաղաք'!D51+Գեղարքունիք!D51+Կոտայք!D51+Շիրակ!D51+Սյունիք!D51+Տավուշ!D51) -> 47 | E51: =SUM(Լոռի!E51+Արագածոտն!E51+Արմավիր!E51+Արարատ!E51+'Երևան քաղաք'!E51+Գեղարքունիք!E51+Կոտայք!E51+Շիրակ!E51+Սյունիք!E51+Տավուշ!E51) -> 1 | F51: =SUM(Լոռի!F51+Արագածոտն!F51+Արմավիր!F51+Արարատ!F51+'Երևան քաղաք'!F51+Գեղարքունիք!F51+Կոտայք!F51+Շիրակ!F51+Սյունիք!F51+Տավուշ!F51) -> 18 | G51: =SUM(Լոռի!G51+Արագածոտն!G51+Արմավիր!G51+Արարատ!G51+'Երևան քաղաք'!G51+Գեղարքունիք!G51+Կոտայք!G51+Շիրակ!G51+Սյունիք!G51+Տավուշ!G51) -> 16 | H51: =SUM(Լոռի!H51+Արագածոտն!H51+Արմավիր!H51+Արարատ!H51+'Երևան քաղաք'!H51+Գեղարքունիք!H51+Կոտայք!H51+Շիրակ!H51+Սյունիք!H51+Տավուշ!H51) -> 6 | I51: =SUM(Լոռի!I51+Արագածոտն!I51+Արմավիր!I51+Արարատ!I51+'Երևան քաղաք'!I51+Գեղարքունիք!I51+Կոտայք!I51+Շիրակ!I51+Սյունիք!I51+Տավուշ!I51) -> 0 | J51: =SUM(Լոռի!J51+Արագածոտն!J51+Արմավիր!J51+Արարատ!J51+'Երևան քաղաք'!J51+Գեղարքունիք!J51+Կոտայք!J51+Շիրակ!J51+Սյունիք!J51+Տավուշ!J51) -> 22 | K51: =SUM(Լոռի!K51+Արագածոտն!K51+Արմավիր!K51+Արարատ!K51+'Երևան քաղաք'!K51+Գեղարքունիք!K51+Կոտայք!K51+Շիրակ!K51+Սյունիք!K51+Տավուշ!K51) -> 8 | ... T51: =SUM(Լոռի!T51+Արագածոտն!T51+Արմավիր!T51+Արարատ!T51+'Երևան քաղաք'!T51+Գեղարքունիք!T51+Կոտայք!T51+Շիրակ!T51+Սյունիք!T51+Տավուշ!T51) -> 0
A52: 4.1 | B52: Մարդու և քաղաքացու իրավահավասարությունը խախտելը | C52: 143 | D52: =SUM(Լոռի!D52+Արագածոտն!D52+Արմավիր!D52+Արարատ!D52+'Երևան քաղաք'!D52+Գեղարքունիք!D52+Կոտայք!D52+Շիրակ!D52+Սյունիք!D52+Տավուշ!D52) -> 0 | E52: =SUM(Լոռի!E52+Արագածոտն!E52+Արմավիր!E52+Արարատ!E52+'Երևան քաղաք'!E52+Գեղարքունիք!E52+Կոտայք!E52+Շիրակ!E52+Սյունիք!E52+Տավուշ!E52) -> 0 | F52: =SUM(Լոռի!F52+Արագածոտն!F52+Արմավիր!F52+Արարատ!F52+'Երևան քաղաք'!F52+Գեղարքունիք!F52+Կոտայք!F52+Շիրակ!F52+Սյունիք!F52+Տավուշ!F52) -> 0 | G52: =SUM(Լոռի!G52+Արագածոտն!G52+Արմավիր!G52+Արարատ!G52+'Երևան քաղաք'!G52+Գեղարքունիք!G52+Կոտայք!G52+Շիրակ!G52+Սյունիք!G52+Տավուշ!G52) -> 0 | H52: =SUM(Լոռի!H52+Արագածոտն!H52+Արմավիր!H52+Արարատ!H52+'Երևան քաղաք'!H52+Գեղարքունիք!H52+Կոտայք!H52+Շիրակ!H52+Սյունիք!H52+Տավուշ!H52) -> 0 | I52: =SUM(Լոռի!I52+Արագածոտն!I52+Արմավիր!I52+Արարատ!I52+'Երևան քաղաք'!I52+Գեղարքունիք!I52+Կոտայք!I52+Շիրակ!I52+Սյունիք!I52+Տավուշ!I52) -> 0 | J52: =SUM(Լոռի!J52+Արագածոտն!J52+Արմավիր!J52+Արարատ!J52+'Երևան քաղաք'!J52+Գեղարքունիք!J52+Կոտայք!J52+Շիրակ!J52+Սյունիք!J52+Տավուշ!J52) -> 0 | K52: =SUM(Լոռի!K52+Արագածոտն!K52+Արմավիր!K52+Արարատ!K52+'Երևան քաղաք'!K52+Գեղարքունիք!K52+Կոտայք!K52+Շիրակ!K52+Սյունիք!K52+Տավուշ!K52) -> 0 | ... T52: =SUM(Լոռի!T52+Արագածոտն!T52+Արմավիր!T52+Արարատ!T52+'Երևան քաղաք'!T52+Գեղարքունիք!T52+Կոտայք!T52+Շիրակ!T52+Սյունիք!T52+Տավուշ!T52) -> 0
A53: 4.2 | B53: Անձնական կամ ընտանեկան կյանքի մասին տեղեկություններ ապօրինի հավաքելը, պահելը, օգտագործելը կամ տարածելը | C53: 144 | D53: =SUM(Լոռի!D53+Արագածոտն!D53+Արմավիր!D53+Արարատ!D53+'Երևան քաղաք'!D53+Գեղարքունիք!D53+Կոտայք!D53+Շիրակ!D53+Սյունիք!D53+Տավուշ!D53) -> 4 | E53: =SUM(Լոռի!E53+Արագածոտն!E53+Արմավիր!E53+Արարատ!E53+'Երևան քաղաք'!E53+Գեղարքունիք!E53+Կոտայք!E53+Շիրակ!E53+Սյունիք!E53+Տավուշ!E53) -> 0 | F53: =SUM(Լոռի!F53+Արագածոտն!F53+Արմավիր!F53+Արարատ!F53+'Երևան քաղաք'!F53+Գեղարքունիք!F53+Կոտայք!F53+Շիրակ!F53+Սյունիք!F53+Տավուշ!F53) -> 2 | G53: =SUM(Լոռի!G53+Արագածոտն!G53+Արմավիր!G53+Արարատ!G53+'Երևան քաղաք'!G53+Գեղարքունիք!G53+Կոտայք!G53+Շիրակ!G53+Սյունիք!G53+Տավուշ!G53) -> 1 | H53: =SUM(Լոռի!H53+Արագածոտն!H53+Արմավիր!H53+Արարատ!H53+'Երևան քաղաք'!H53+Գեղարքունիք!H53+Կոտայք!H53+Շիրակ!H53+Սյունիք!H53+Տավուշ!H53) -> 2 | I53: =SUM(Լոռի!I53+Արագածոտն!I53+Արմավիր!I53+Արարատ!I53+'Երևան քաղաք'!I53+Գեղարքունիք!I53+Կոտայք!I53+Շիրակ!I53+Սյունիք!I53+Տավուշ!I53) -> 0 | J53: =SUM(Լոռի!J53+Արագածոտն!J53+Արմավիր!J53+Արարատ!J53+'Երևան քաղաք'!J53+Գեղարքունիք!J53+Կոտայք!J53+Շիրակ!J53+Սյունիք!J53+Տավուշ!J53) -> 3 | K53: =SUM(Լոռի!K53+Արագածոտն!K53+Արմավիր!K53+Արարատ!K53+'Երևան քաղաք'!K53+Գեղարքունիք!K53+Կոտայք!K53+Շիրակ!K53+Սյունիք!K53+Տավուշ!K53) -> 0 | ... T53: =SUM(Լոռի!T53+Արագածոտն!T53+Արմավիր!T53+Արարատ!T53+'Երևան քաղաք'!T53+Գեղարքունիք!T53+Կոտայք!T53+Շիրակ!T53+Սյունիք!T53+Տավուշ!T53) -> 0
A54: 4.3 | B54: Բժշկական գաղտնիքը հրապարակելը | C54: 145 | D54: =SUM(Լոռի!D54+Արագածոտն!D54+Արմավիր!D54+Արարատ!D54+'Երևան քաղաք'!D54+Գեղարքունիք!D54+Կոտայք!D54+Շիրակ!D54+Սյունիք!D54+Տավուշ!D54) -> 0 | E54: =SUM(Լոռի!E54+Արագածոտն!E54+Արմավիր!E54+Արարատ!E54+'Երևան քաղաք'!E54+Գեղարքունիք!E54+Կոտայք!E54+Շիրակ!E54+Սյունիք!E54+Տավուշ!E54) -> 0 | F54: =SUM(Լոռի!F54+Արագածոտն!F54+Արմավիր!F54+Արարատ!F54+'Երևան քաղաք'!F54+Գեղարքունիք!F54+Կոտայք!F54+Շիրակ!F54+Սյունիք!F54+Տավուշ!F54) -> 0 | G54: =SUM(Լոռի!G54+Արագածոտն!G54+Արմավիր!G54+Արարատ!G54+'Երևան քաղաք'!G54+Գեղարքունիք!G54+Կոտայք!G54+Շիրակ!G54+Սյունիք!G54+Տավուշ!G54) -> 0 | H54: =SUM(Լոռի!H54+Արագածոտն!H54+Արմավիր!H54+Արարատ!H54+'Երևան քաղաք'!H54+Գեղարքունիք!H54+Կոտայք!H54+Շիրակ!H54+Սյունիք!H54+Տավուշ!H54) -> 0 | I54: =SUM(Լոռի!I54+Արագածոտն!I54+Արմավիր!I54+Արարատ!I54+'Երևան քաղաք'!I54+Գեղարքունիք!I54+Կոտայք!I54+Շիրակ!I54+Սյունիք!I54+Տավուշ!I54) -> 0 | J54: =SUM(Լոռի!J54+Արագածոտն!J54+Արմավիր!J54+Արարատ!J54+'Երևան քաղաք'!J54+Գեղարքունիք!J54+Կոտայք!J54+Շիրակ!J54+Սյունիք!J54+Տավուշ!J54) -> 0 | K54: =SUM(Լոռի!K54+Արագածոտն!K54+Արմավիր!K54+Արարատ!K54+'Երևան քաղաք'!K54+Գեղարքունիք!K54+Կոտայք!K54+Շիրակ!K54+Սյունիք!K54+Տավուշ!K54) -> 0 | ... T54: =SUM(Լոռի!T54+Արագածոտն!T54+Արմավիր!T54+Արարատ!T54+'Երևան քաղաք'!T54+Գեղարքունիք!T54+Կոտայք!T54+Շիրակ!T54+Սյունիք!T54+Տավուշ!T54) -> 0
...

Sheet Լոռի
A1: 2022թ. | D1: ՀԱՇՎԵՏՎՈՒԹՅՈՒՆ
A2: ՀՀ ԼՈՌՈՒ ՄԱՐԶԻ ԱՌԱՋԻՆ ԱՏՅԱՆԻ ԸՆԴՀԱՆՈՒՐ ԻՐԱՎԱՍՈՒԹՅԱՆ ԴԱՏԱՐԱՆՈՒՄ ՔՐԵԱԿԱՆ ԳՈՐԾԵՐԻ ՔՆՆՈՒԹՅԱՆ ՎԵՐԱԲԵՐՅԱԼ
A3: ՀՀ Լոռու մարզի առաջին ատյանի ընդհանուր իրավասության դատարանում քրեական մասնագիտացում ունեցող դատավորների հաստիքների քանակը` 4
C4: ՀՀ քրեական օրենսգրքի հոդվածներ | D4: Հաշվետու ժամանակահատվածի սկզբում նախորդ հաշվետու ժամանակահատվածից փոխանցված գործերի ընդհանուր թիվը | E4: Այդ թվում` կասեցված վիճակում փոխանցված | F4: Հաշվետու ժամանակահատվածում ստացված գործերի ընդհանուր թիվը | G4: Հաշվետու ժամանակահատվածում ավարտված գործերի ընդհանուր թիվը | K4: Ուղարկվել է ըստ ընդդատության | L4: Հաշվետու ժամանակահատվածում կասեցված վարույթներով գործերի ընդհանուր թիվը | M4: Հաշվետու ժամանակահատվածում անավարտ գործերի ընդհանուր թիվը | N4: Այդ թվում՝ կասեցված | O4: Բողոքարկված դատական ակտերի թիվը` ըստ տեսակների | R4: Բեկանված դատական ակտերի թիվը` ըստ տեսակների
G5: Քննվել է ըստ էության և դատավճիռ կայացվել | H5: Որոշում է կայացվել քրեական գործի վարույթը կարճելու և քրեական հետապնդումը դադարեցնելու մասին | I5: Որոշում է կայացվել անմեղսունակների նկատմամբ բժշկական բնույթի հարկադրական միջոցներ կիրառելու մասին | J5: Ընդամենը ավարտվել են գործեր | O5: Այդ թվում` գործն ըստ էության լուծող դատական ակտերը | P5: Այդ թվում` միջանկյալ դատական ակտերը | Q5: Ընդամենը | R5: Այդ թվում` գործն ըստ էության լուծող դատական ակտերը | S5: Այդ թվում` միջանկյալ դատական ակտերը | T5: Ընդամենը
D6: 1 | E6: 2 | F6: 3 | G6: 4 | H6: 5 | I6: 6 | J6: 7 | K6: 8 | L6: 9 | M6: 10 | N6: 11 | O6: 12 | P6: 13 | Q6: 14 | R6: 15 | S6: 16 | T6: 17
A7: 1. | B7: Ընդամենը կյանքի և առողջության դեմ ուղղված հանցագործությունները | D7: =SUM(D8:D34) -> 61 | E7: =SUM(E8:E34) -> 0 | F7: =SUM(F8:F34) -> 15 | G7: =SUM(G8:G34) -> 20 | H7: =SUM(H8:H34) -> 3 | I7: =SUM(I8:I34) -> 1 | J7: =SUM(J8:J34) -> 24 | K7: =SUM(K8:K34) -> 0 | ... T7: =SUM(T8:T34) -> 1
A8: 1.1 | B8: Սպանությունը | C8: 104 | D8: 22 | F8: 4 | G8: 6 | H8: 1 | I8: 1 | J8: =+I8+H8+G8 -> 8 | M8: 18 | O8: 2 | P8: 10 | Q8: =+O8+P8 -> 12 | S8: 1 | T8: =+R8+S8 -> 1
A9: 1.2 | B9: Հոգեկան խիստ հուզմունքի վիճակում կատարված սպանությունը | C9: 105 | J9: =+I9+H9+G9 -> 0 | Q9: =+O9+P9 -> 0 | T9: =+R9+S9 -> 0
A10: 1.3 | B10: Մոր կողմից նորածին երեխայի սպանությունը | C10: 106 | J10: =+I10+H10+G10 -> 0 | Q10: =+O10+P10 -> 0 | T10: =+R10+S10 -> 0
A11: 1.4 | B11: Հանցանք կատարած անձին բռնելու համար անհրաժեշտ միջոցների սահմանազանցմամբ սպանությունը | C11: 107 | J11: =+I11+H11+G11 -> 0 | Q11: =+O11+P11 -> 0 | T11: =+R11+S11 -> 0
A12: 1.5 | B12: Անհրաժեշտ պաշտպանության սահմանազանցմամբ սպանությունը | C12: 108 | J12: =+I12+H12+G12 -> 0 | Q12: =+O12+P12 -> 0 | T12: =+R12+S12 -> 0
A13: 1.6 | B13: Անզգուշությամբ մահ պատճառելը | C13: 109 | D13: 1 | J13: =+I13+H13+G13 -> 0 | M13: 1 | Q13: =+O13+P13 -> 0 | T13: =+R13+S13 -> 0
A14: 1.7 | B14: Ինքնասպանության հասցնելը | C14: 110 | D14: 1 | J14: =+I14+H14+G14 -> 0 | M14: 1 | Q14: =+O14+P14 -> 0 | T14: =+R14+S14 -> 0
A15: 1.8 | B15: Ինքնասպանության հակելը | C15: 111 | J15: =+I15+H15+G15 -> 0 | Q15: =+O15+P15 -> 0 | T15: =+R15+S15 -> 0
A16: 1.9 | B16: Դիտավորությամբ առողջությանը ծանր վնաս պատճառելը | C16: 112 | D16: 23 | F16: 4 | G16: 5 | J16: =+I16+H16+G16 -> 5 | M16: 22 | O16: 2 | P16: 2 | Q16: =+O16+P16 -> 4 | T16: =+R16+S16 -> 0
A17: 1.10 | B17: Դիտավորությամբ առողջությանը միջին ծանրության վնաս պատճառելը | C17: 113 | D17: 2 | G17: 1 | J17: =+I17+H17+G17 -> 1 | M17: 1 | Q17: =+O17+P17 -> 0 | T17: =+R17+S17 -> 0
A18: 1.11 | B18: Հոգեկան խիստ հուզմունքի վիճակում առողջությանը ծանր կամ միջին ծանրության վնաս պատճառելը | C18: 114 | J18: =+I18+H18+G18 -> 0 | Q18: =+O18+P18 -> 0 | T18: =+R18+S18 -> 0
A19: 1.12 | B19: Հանցանք կատարած անձին բռնելու համար անհրաժեշտ միջոցների սահմանզանցմամբ առողջությանը ծանր կամ միջին ծանրության վնաս պատճառելը | C19: 115 | J19: =+I19+H19+G19 -> 0 | Q19: =+O19+P19 -> 0 | T19: =+R19+S19 -> 0
A20: 1.13 | B20: Առողջությանը ծանր կամ միջին ծանրության վնաս պատճառելը անհրաժեշտ պաշտպանության սահմանանազանցմամբ | C20: 116 | J20: =+I20+H20+G20 -> 0 | Q20: =+O20+P20 -> 0 | T20: =+R20+S20 -> 0
A21: 1.14 | B21: Դիտավորությամբ առողջությանը թեթև վնաս պատճառելը | C21: 117 | D21: 2 | G21: 1 | H21: 1 | J21: =+I21+H21+G21 -> 2 | O21: 1 | Q21: =+O21+P21 -> 1 | T21: =+R21+S21 -> 0
A22: 1.15 | B22: Ծեծը | C22: 118 | D22: 5 | F22: 7 | G22: 6 | H22: 1 | J22: =+I22+H22+G22 -> 7 | M22: 5 | Q22: =+O22+P22 -> 0 | T22: =+R22+S22 -> 0
A23: 1.16 | B23: Ֆիզիկական ուժեղ ցավ կամ հոգեկան ուժեղ տառապանք պատճառելը | C23: 119 | D23: 2 | J23: =+I23+H23+G23 -> 0 | M23: 2 | Q23: =+O23+P23 -> 0 | T23: =+R23+S23 -> 0
A24: 1.17 | B24: Անզգուշությամբ առողջությանը ծանր վնաս պատճառելը | C24: 120 | J24: =+I24+H24+G24 -> 0 | Q24: =+O24+P24 -> 0 | T24: =+R24+S24 -> 0
A25: 1.18 | B25: Անզգուշությամբ առողջությանը միջին ծանրության վնաս պատճառելը | C25: 121 | J25: =+I25+H25+G25 -> 0 | Q25: =+O25+P25 -> 0 | T25: =+R25+S25 -> 0
A26: 1.19 | B26: Ապօրինի աբորտ կատարելը | C26: 122 | J26: =+I26+H26+G26 -> 0 | Q26: =+O26+P26 -> 0 | T26: =+R26+S26 -> 0
A27: 1.20 | B27: Մարդու իմունային անբավարարության վիրուսի հարուցիչով վարակելը | C27: 123 | J27: =+I27+H27+G27 -> 0 | Q27: =+O27+P27 -> 0 | T27: =+R27+S27 -> 0
A28: 1.21 | B28: Վեներական հիվանդությամբ կամ այլ սեռավարակներով վարակելը | C28: 124 | J28: =+I28+H28+G28 -> 0 | Q28: =+O28+P28 -> 0 | T28: =+R28+S28 -> 0
A29: 1.22 | B29: Փոխպատվաստման վիրահատություն կատարելու կանոնները խախտելը | C29: 125 | J29: =+I29+H29+G29 -> 0 | Q29: =+O29+P29 -> 0 | T29: =+R29+S29 -> 0
A30: 1.24 | B30: Անձին առանց իր հանձնարարության բժշկական կամ գիտական փորձերի ենթարկելը | C30: 127 | J30: =+I30+H30+G30 -> 0 | Q30: =+O30+P30 -> 0 | T30: =+R30+S30 -> 0
A31: 1.25 | B31: Վտանգի մեջ թողնելը | C31: 128 | J31: =+I31+H31+G31 -> 0 | Q31: =+O31+P31 -> 0 | T31: =+R31+S31 -> 0
A32: 1.26 | B32: Հիվանդին օգնություն ցույց չտալը | C32: 129 | J32: =+I32+H32+G32 -> 0 | Q32: =+O32+P32 -> 0 | T32: =+R32+S32 -> 0
A33: 1.27 | B33: Բժշկական օգնություն և սպասարկում իրականացնողների կողմից մասնագիտական պարտականությունները չկատարելը կամ ոչ պատշաճ կատարելը | C33: 130 | D33: 3 | G33: 1 | J33: =+I33+H33+G33 -> 1 | M33: 2 | Q33: =+O33+P33 -> 0 | T33: =+R33+S33 -> 0
A34: 1.28 | B34: Այլ հանցագործություններ | J34: =+I34+H34+G34 -> 0 | Q34: =+O34+P34 -> 0 | T34: =+R34+S34 -> 0
A35: 2. | B35: Ընդամենը անձի ազատության, պատվի և արժանապատվության դեմ ուղղված հանցագործությունները | D35: =SUM(D36:D43) -> 3 | E35: =SUM(E36:E43) -> 0 | F35: =SUM(F36:F43) -> 4 | G35: =SUM(G36:G43) -> 0 | H35: =SUM(H36:H43) -> 2 | I35: =SUM(I36:I43) -> 0 | J35: =SUM(J36:J43) -> 2 | K35: =SUM(K36:K43) -> 0 | ... T35: =SUM(T36:T43) -> 0
A36: 2.1 | B36: Մարդուն առևանգելը | C36: 131 | D36: 2 | F36: 1 | J36: =+I36+H36+G36 -> 0 | M36: 3 | Q36: =+O36+P36 -> 0 | T36: =+R36+S36 -> 0
A37: 2.2 | B37: Մարդու թրաֆիքինգը կամ շահագործումը | C37: 132 | J37: =+I37+H37+G37 -> 0 | Q37: =+O37+P37 -> 0 | T37: =+R37+S37 -> 0
A38: 2.2.2 | B38: Երեխայի կամ հոգեկան խանգարման հետևանքով իր արարքի բնույթն ու նշանակությունը գիտակցելու կամ դա ղեկավարելու հնարավորությունից զրկված անձի թրաֆիքինգը կամ շահագործումը | C38: 132.2 | J38: =+I38+H38+G38 -> 0 | Q38: =+O38+P38 -> 0 | T38: =+R38+S38 -> 0
A39: 2.2.3 | B39: Շահագործման վիճակում գտնվող անձի ծառայությունից օգտվելը | C39: 132.3 | J39: =+I39+H39+G39 -> 0 | Q39: =+O39+P39 -> 0 | T39: =+R39+S39 -> 0
A40: 2.3 | B40: Ազատությունից ապօրինի զրկելը | C40: 133 | J40: =+I40+H40+G40 -> 0 | Q40: =+O40+P40 -> 0 | T40: =+R40+S40 -> 0
...

Sheet Արագածոտն
A1: 2022թ. Տարեկան | D1: ՀԱՇՎԵՏՎՈՒԹՅՈՒՆ
A2: ՀՀ ԱՐԱԳԱԾՈՏՆԻ ՄԱՐԶԻ ԱՌԱՋԻՆ ԱՏՅԱՆԻ ԸՆԴՀԱՆՈՒՐ ԻՐԱՎԱՍՈՒԹՅԱՆ ԴԱՏԱՐԱՆՈՒՄ ՔՐԵԱԿԱՆ ԳՈՐԾԵՐԻ ՔՆՆՈՒԹՅԱՆ ՎԵՐԱԲԵՐՅԱԼ
A3: ՀՀ Արագածոտնի մարզի առաջին ատյանի ընդհանուր իրավասության դատարանում քրեական մասնագիտացում ունեցող դատավորների հաստիքների քանակը` 2
C4: ՀՀ քրեական օրենսգրքի հոդվածներ | D4: Հաշվետու ժամանակահատվածի սկզբում նախորդ հաշվետու ժամանակահատվածից փոխանցված գործերի ընդհանուր թիվը | E4: Այդ թվում` կասեցված վիճակում փոխանցված | F4: Հաշվետու ժամանակահատվածում ստացված գործերի ընդհանուր թիվը | G4: Հաշվետու ժամանակահատվածում ավարտված գործերի ընդհանուր թիվը | K4: Ուղարկվել է ըստ ընդդատության | L4: Հաշվետու ժամանակահատվածում կասեցված վարույթներով գործերի ընդհանուր թիվը | M4: Հաշվետու ժամանակահատվածում անավարտ գործերի ընդհանուր թիվը | N4: Այդ թվում՝ կասեցված | O4: Բողոքարկված դատական ակտերի թիվը` ըստ տեսակների | R4: Բեկանված դատական ակտերի թիվը` ըստ տեսակների
G5: Քննվել է ըստ էության և դատավճիռ կայացվել | H5: Որոշում է կայացվել քրեական գործի վարույթը կարճելու և քրեական հետապնդումը դադարեցնելու մասին | I5: Որոշում է կայացվել անմեղսունակների նկատմամբ բժշկական բնույթի հարկադրական միջոցներ կիրառելու մասին | J5: Ընդամենը ավարտվել են գործեր | O5: Այդ թվում` գործն ըստ էության լուծող դատական ակտերը | P5: Այդ թվում` միջանկյալ դատական ակտերը | Q5: Ընդամենը | R5: Այդ թվում` գործն ըստ էության լուծող դատական ակտերը | S5: Այդ թվում` միջանկյալ դատական ակտերը | T5: Ընդամենը
D6: 1 | E6: 2 | F6: 3 | G6: 4 | H6: 5 | I6: 6 | J6: 7 | K6: 8 | L6: 9 | M6: 10 | N6: 11 | O6: 12 | P6: 13 | Q6: 14 | R6: 15 | S6: 16 | T6: 17
A7: 1. | B7: Ընդամենը կյանքի և առողջության դեմ ուղղված հանցագործությունները | D7: =SUM(D8:D34) -> 13 | E7: =SUM(E8:E34) -> 0 | F7: =SUM(F8:F34) -> 12 | G7: =SUM(G8:G34) -> 5 | H7: =SUM(H8:H34) -> 3 | I7: =SUM(I8:I34) -> 0 | J7: =SUM(J8:J34) -> 8 | K7: =SUM(K8:K34) -> 0 | ... T7: =SUM(T8:T34) -> 1
A8: 1.1 | B8: Սպանությունը | C8: 104 | D8: 5 | F8: 2 | G8: 1 | J8: 1 | M8: 6 | O8: 2 | Q8: 2 | R8: 1 | T8: 1
A9: 1.2 | B9: Հոգեկան խիստ հուզմունքի վիճակում կատարված սպանությունը | C9: 105
A10: 1.3 | B10: Մոր կողմից նորածին երեխայի սպանությունը | C10: 106
A11: 1.4 | B11: Հանցանք կատարած անձին բռնելու համար անհրաժեշտ միջոցների սահմանազանցմամբ սպանությունը | C11: 107
A12: 1.5 | B12: Անհրաժեշտ պաշտպանության սահմանազանցմամբ սպանությունը | C12: 108
A13: 1.6 | B13: Անզգուշությամբ մահ պատճառելը | C13: 109 | F13: 1 | M13: 1
A14: 1.7 | B14: Ինքնասպանության հասցնելը | C14: 110
A15: 1.8 | B15: Ինքնասպանության հակելը | C15: 111
A16: 1.9 | B16: Դիտավորությամբ առողջությանը ծանր վնաս պատճառելը | C16: 112 | D16: 4 | F16: 4 | G16: 1 | J16: 1 | M16: 7 | O16: 1 | Q16: 1
A17: 1.10 | B17: Դիտավորությամբ առողջությանը միջին ծանրության վնաս պատճառելը | C17: 113 | F17: 1 | M17: 1
A18: 1.11 | B18: Հոգեկան խիստ հուզմունքի վիճակում առողջությանը ծանր կամ միջին ծանրության վնաս պատճառելը | C18: 114
A19: 1.12 | B19: Հանցանք կատարած անձին բռնելու համար անհրաժեշտ միջոցների սահմանզանցմամբ առողջությանը ծանր կամ միջին ծանրության վնաս պատճառելը | C19: 115
A20: 1.13 | B20: Առողջությանը ծանր կամ միջին ծանրության վնաս պատճառելը անհրաժեշտ պաշտպանության սահմանանազանցմամբ | C20: 116
A21: 1.14 | B21: Դիտավորությամբ առողջությանը թեթև վնաս պատճառելը | C21: 117 | F21: 2 | M21: 1
A22: 1.15 | B22: Ծեծը | C22: 118 | D22: 3 | F22: 2 | G22: 2 | H22: 3 | J22: 5
A23: 1.16 | B23: Ֆիզիկական ուժեղ ցավ կամ հոգեկան ուժեղ տառապանք պատճառելը | C23: 119 | D23: 1 | G23: 1 | J23: 1 | O23: 1 | Q23: 1
A24: 1.17 | B24: Անզգուշությամբ առողջությանը ծանր վնաս պատճառելը | C24: 120
A25: 1.18 | B25: Անզգուշությամբ առողջությանը միջին ծանրության վնաս պատճառելը | C25: 121
