Workbook

Sheet ընդհանուր
A1: 2022թ. տարեկան | D1: ՀԱՇՎԵՏՎՈՒԹՅՈՒՆ
A2: ՀՀ ԱՌԱՋԻՆ ԱՏՅԱՆԻ ԸՆԴՀԱՆՈՒՐ ԻՐԱՎԱՍՈՒԹՅԱՆ ԴԱՏԱՐԱՆՆԵՐՈՒՄ ՔՐԵԱԿԱՆ ԳՈՐԾԵՐԻ ՔՆՆՈՒԹՅԱՆ ՎԵՐԱԲԵՐՅԱԼ
C4: ՀՀ քրեական օրենսգրքի հոդվածներ | D4: Հաշվետու ժամանակահատվածի սկզբում նախորդ հաշվետու ժամանակահատվածից փոխանցված գործերի ընդհանուր թիվը | E4: Այդ թվում` կասեցված վիճակում փոխանցված | F4: Հաշվետու ժամանակահատվածում ստացված գործերի ընդհանուր թիվը | G4: Հաշվետու ժամանակահատվածում ավարտված գործերի ընդհանուր թիվը | K4: Ուղարկվել է ըստ ընդդատության | L4: Հաշվետու ժամանակահատվածում կասեցված վարույթներով գործերի ընդհանուր թիվը | M4: Հաշվետու ժամանակահատվածում անավարտ գործերի ընդհանուր թիվը | N4: Այդ թվում՝ կասեցված | O4: Բողոքարկված դատական ակտերի թիվը` ըստ տեսակների | R4: Բեկանված դատական ակտերի թիվը` ըստ տեսակների
G5: Քննվել է ըստ էության և դատավճիռ կայացվել | H5: Որոշում է կայացվել քրեական գործի վարույթը կարճելու և քրեական հետապնդումը դադարեցնելու մասին | I5: Որոշում է կայացվել անմեղսունակների նկատմամբ բժշկական բնույթի հարկադրական միջոցներ կիրառելու մասին | J5: Ընդամենը ավարտվել են գործեր | O5: Այդ թվում` գործն ըստ էության լուծող դատական ակտերը | P5: Այդ թվում` միջանկյալ դատական ակտերը | Q5: Ընդամենը | R5: Այդ թվում` գործն ըստ էության լուծող դատական ակտերը | S5: Այդ թվում` միջանկյալ դատական ակտերը | T5: Ընդամենը
D6: 1 | E6: 2 | F6: 3 | G6: 4 | H6: 5 | I6: 6 | J6: 7 | K6: 8 | L6: 9 | M6: 10 | N6: 11 | O6: 12 | P6: 13 | Q6: 14 | R6: 15 | S6: 16 | T6: 17
A7: 1. | B7: Ընդամենը կյանքի և առողջության դեմ ուղղված հանցագործությունները | D7: =SUM(Լոռի!D7+Արագածոտն!D7+Արմավիր!D7+Արարատ!D7+'Երևան քաղաք'!D7+Գեղարքունիք!D7+Կոտայք!D7+Շիրակ!D7+Սյունիք!D7+Տավուշ!D7) -> 709 | E7: =SUM(Լոռի!E7+Արագածոտն!E7+Արմավիր!E7+Արարատ!E7+'Երևան քաղաք'!E7+Գեղարքունիք!E7+Կոտայք!E7+Շիրակ!E7+Սյունիք!E7+Տավուշ!E7) -> 8 | F7: =SUM(Լոռի!F7+Արագածոտն!F7+Արմավիր!F7+Արարատ!F7+'Երևան քաղաք'!F7+Գեղարքունիք!F7+Կոտայք!F7+Շիրակ!F7+Սյունիք!F7+Տավուշ!F7) -> 256 | G7: =SUM(Լոռի!G7+Արագածոտն!G7+Արմավիր!G7+Արարատ!G7+'Երևան քաղաք'!G7+Գեղարքունիք!G7+Կոտայք!G7+Շիրակ!G7+Սյունիք!G7+Տավուշ!G7) -> 214 | H7: =SUM(Լոռի!H7+Արագածոտն!H7+Արմավիր!H7+Արարատ!H7+'Երևան քաղաք'!H7+Գեղարքունիք!H7+Կոտայք!H7+Շիրակ!H7+Սյունիք!H7+Տավուշ!H7) -> 98 | I7: =SUM(Լոռի!I7+Արագածոտն!I7+Արմավիր!I7+Արարատ!I7+'Երևան քաղաք'!I7+Գեղարքունիք!I7+Կոտայք!I7+Շիրակ!I7+Սյունիք!I7+Տավուշ!I7) -> 11 | J7: =SUM(Լոռի!J7+Արագածոտն!J7+Արմավիր!J7+Արարատ!J7+'Երևան քաղաք'!J7+Գեղարքունիք!J7+Կոտայք!J7+Շիրակ!J7+Սյունիք!J7+Տավուշ!J7) -> 323 | K7: =SUM(Լոռի!K7+Արագածոտն!K7+Արմավիր!K7+Արարատ!K7+'Երևան քաղաք'!K7+Գեղարքունիք!K7+Կոտայք!K7+Շիրակ!K7+Սյունիք!K7+Տավուշ!K7) -> 5 | ... T7: =SUM(Լոռի!T7+Արագածոտն!T7+Արմավիր!T7+Արարատ!T7+'Երևան քաղաք'!T7+Գեղարքունիք!T7+Կոտայք!T7+Շիրակ!T7+Սյունիք!T7+Տավուշ!T7) -> 4
A8: 1.1 | B8: Սպանությունը | C8: 104 | D8: =SUM(Լոռի!D8+Արագածոտն!D8+Արմավիր!D8+Արարատ!D8+'Երևան քաղաք'!D8+Գեղարքունիք!D8+Կոտայք!D8+Շիրակ!D8+Սյունիք!D8+Տավուշ!D8) -> 187 | E8: =SUM(Լոռի!E8+Արագածոտն!E8+Արմավիր!E8+Արարատ!E8+'Երևան քաղաք'!E8+Գեղարքունիք!E8+Կոտայք!E8+Շիրակ!E8+Սյունիք!E8+Տավուշ!E8) -> 1 | F8: =SUM(Լոռի!F8+Արագածոտն!F8+Արմավիր!F8+Արարատ!F8+'Երևան քաղաք'!F8+Գեղարքունիք!F8+Կոտայք!F8+Շիրակ!F8+Սյունիք!F8+Տավուշ!F8) -> 61 | G8: =SUM(Լոռի!G8+Արագածոտն!G8+Արմավիր!G8+Արարատ!G8+'Երևան քաղաք'!G8+Գեղարքունիք!G8+Կոտայք!G8+Շիրակ!G8+Սյունիք!G8+Տավուշ!G8) -> 37 | H8: =SUM(Լոռի!H8+Արագածոտն!H8+Արմավիր!H8+Արարատ!H8+'Երևան քաղաք'!H8+Գեղարքունիք!H8+Կոտայք!H8+Շիրակ!H8+Սյունիք!H8+Տավուշ!H8) -> 1 | I8: =SUM(Լոռի!I8+Արագածոտն!I8+Արմավիր!I8+Արարատ!I8+'Երևան քաղաք'!I8+Գեղարքունիք!I8+Կոտայք!I8+Շիրակ!I8+Սյունիք!I8+Տավուշ!I8) -> 2 | J8: =SUM(Լոռի!J8+Արագածոտն!J8+Արմավիր!J8+Արարատ!J8+'Երևան քաղաք'!J8+Գեղարքունիք!J8+Կոտայք!J8+Շիրակ!J8+Սյունիք!J8+Տավուշ!J8) -> 40 | K8: =SUM(Լոռի!K8+Արագածոտն!K8+Արմավիր!K8+Արարատ!K8+'Երևան քաղաք'!K8+Գեղարքունիք!K8+Կոտայք!K8+Շիրակ!K8+Սյունիք!K8+Տավուշ!K8) -> 4 | ... T8: =SUM(Լոռի!T8+Արագածոտն!T8+Արմավիր!T8+Արարատ!T8+'Երևան քաղաք'!T8+Գեղարքունիք!T8+Կոտայք!T8+Շիրակ!T8+Սյունիք!T8+Տավուշ!T8) -> 2
A9: 1.2 | B9: Հոգեկան խիստ հուզմունքի վիճակում կատարված սպանությունը | C9: 105 | D9: =SUM(Լոռի!D9+Արագածոտն!D9+Արմավիր!D9+Արարատ!D9+'Երևան քաղաք'!D9+Գեղարքունիք!D9+Կոտայք!D9+Շիրակ!D9+Սյունիք!D9+Տավուշ!D9) -> 0 | E9: =SUM(Լոռի!E9+Արագածոտն!E9+Արմավիր!E9+Արարատ!E9+'Երևան քաղաք'!E9+Գեղարքունիք!E9+Կոտայք!E9+Շիրակ!E9+Սյունիք!E9+Տավուշ!E9) -> 0 | F9: =SUM(Լոռի!F9+Արագածոտն!F9+Արմավիր!F9+Արարատ!F9+'Երևան քաղաք'!F9+Գեղարքունիք!F9+Կոտայք!F9+Շիրակ!F9+Սյունիք!F9+Տավուշ!F9) -> 0 | G9: =SUM(Լոռի!G9+Արագածոտն!G9+Արմավիր!G9+Արարատ!G9+'Երևան քաղաք'!G9+Գեղարքունիք!G9+Կոտայք!G9+Շիրակ!G9+Սյունիք!G9+Տավուշ!G9) -> 0 | H9: =SUM(Լոռի!H9+Արագածոտն!H9+Արմավիր!H9+Արարատ!H9+'Երևան քաղաք'!H9+Գեղարքունիք!H9+Կոտայք!H9+Շիրակ!H9+Սյունիք!H9+Տավուշ!H9) -> 0 | I9: =SUM(Լոռի!I9+Արագածոտն!I9+Արմավիր!I9+Արարատ!I9+'Երևան քաղաք'!I9+Գեղարքունիք!I9+Կոտայք!I9+Շիրակ!I9+Սյունիք!I9+Տավուշ!I9) -> 0 | J9: =SUM(Լոռի!J9+Արագածոտն!J9+Արմավիր!J9+Արարատ!J9+'Երևան քաղաք'!J9+Գեղարքունիք!J9+Կոտայք!J9+Շիրակ!J9+Սյունիք!J9+Տավուշ!J9) -> 0 | K9: =SUM(Լոռի!K9+Արագածոտն!K9+Արմավիր!K9+Արարատ!K9+'Երևան քաղաք'!K9+Գեղարքունիք!K9+Կոտայք!K9+Շիրակ!K9+Սյունիք!K9+Տավուշ!K9) -> 0 | ... T9: =SUM(Լոռի!T9+Արագածոտն!T9+Արմավիր!T9+Արարատ!T9+'Երևան քաղաք'!T9+Գեղարքունիք!T9+Կոտայք!T9+Շիրակ!T9+Սյունիք!T9+Տավուշ!T9) -> 0
A10: 1.3 | B10: Մոր կողմից նորածին երեխայի սպանությունը | C10: 106 | D10: =SUM(Լոռի!D10+Արագածոտն!D10+Արմավիր!D10+Արարատ!D10+'Երևան քաղաք'!D10+Գեղարքունիք!D10+Կոտայք!D10+Շիրակ!D10+Սյունիք!D10+Տավուշ!D10) -> 1 | E10: =SUM(Լոռի!E10+Արագածոտն!E10+Արմավիր!E10+Արարատ!E10+'Երևան քաղաք'!E10+Գեղարքունիք!E10+Կոտայք!E10+Շիրակ!E10+Սյունիք!E10+Տավուշ!E10) -> 0 | F10: =SUM(Լոռի!F10+Արագածոտն!F10+Արմավիր!F10+Արարատ!F10+'Երևան քաղաք'!F10+Գեղարքունիք!F10+Կոտայք!F10+Շիրակ!F10+Սյունիք!F10+Տավուշ!F10) -> 0 | G10: =SUM(Լոռի!G10+Արագածոտն!G10+Արմավիր!G10+Արարատ!G10+'Երևան քաղաք'!G10+Գեղարքունիք!G10+Կոտայք!G10+Շիրակ!G10+Սյունիք!G10+Տավուշ!G10) -> 1 | H10: =SUM(Լոռի!H10+Արագածոտն!H10+Արմավիր!H10+Արարատ!H10+'Երևան քաղաք'!H10+Գեղարքունիք!H10+Կոտայք!H10+Շիրակ!H10+Սյունիք!H10+Տավուշ!H10) -> 0 | I10: =SUM(Լոռի!I10+Արագածոտն!I10+Արմավիր!I10+Արարատ!I10+'Երևան քաղաք'!I10+Գեղարքունիք!I10+Կոտայք!I10+Շիրակ!I10+Սյունիք!I10+Տավուշ!I10) -> 0 | J10: =SUM(Լոռի!J10+Արագածոտն!J10+Արմավիր!J10+Արարատ!J10+'Երևան քաղաք'!J10+Գեղարքունիք!J10+Կոտայք!J10+Շիրակ!J10+Սյունիք!J10+Տավուշ!J10) -> 1 | K10: =SUM(Լոռի!K10+Արագածոտն!K10+Արմավիր!K10+Արարատ!K10+'Երևան քաղաք'!K10+Գեղարքունիք!K10+Կոտայք!K10+Շիրակ!K10+Սյունիք!K10+Տավուշ!K10) -> 0 | ... T10: =SUM(Լոռի!T10+Արագածոտն!T10+Արմավիր!T10+Արարատ!T10+'Երևան քաղաք'!T10+Գեղարքունիք!T10+Կոտայք!T10+Շիրակ!T10+Սյունիք!T10+Տավուշ!T10) -> 0
A11: 1.4 | B11: Հանցանք կատարած անձին բռնելու համար անհրաժեշտ միջոցների սահմանազանցմամբ սպանությունը | C11: 107 | D11: =SUM(Լոռի!D11+Արագածոտն!D11+Արմավիր!D11+Արարատ!D11+'Երևան քաղաք'!D11+Գեղարքունիք!D11+Կոտայք!D11+Շիրակ!D11+Սյունիք!D11+Տավուշ!D11) -> 0 | E11: =SUM(Լոռի!E11+Արագածոտն!E11+Արմավիր!E11+Արարատ!E11+'Երևան քաղաք'!E11+Գեղարքունիք!E11+Կոտայք!E11+Շիրակ!E11+Սյունիք!E11+Տավուշ!E11) -> 0 | F11: =SUM(Լոռի!F11+Արագածոտն!F11+Արմավիր!F11+Արարատ!F11+'Երևան քաղաք'!F11+Գեղարքունիք!F11+Կոտայք!F11+Շիրակ!F11+Սյունիք!F11+Տավուշ!F11) -> 0 | G11: =SUM(Լոռի!G11+Արագածոտն!G11+Արմավիր!G11+Արարատ!G11+'Երևան քաղաք'!G11+Գեղարքունիք!G11+Կոտայք!G11+Շիրակ!G11+Սյունիք!G11+Տավուշ!G11) -> 0 | H11: =SUM(Լոռի!H11+Արագածոտն!H11+Արմավիր!H11+Արարատ!H11+'Երևան քաղաք'!H11+Գեղարքունիք!H11+Կոտայք!H11+Շիրակ!H11+Սյունիք!H11+Տավուշ!H11) -> 0 | I11: =SUM(Լոռի!I11+Արագածոտն!I11+Արմավիր!I11+Արարատ!I11+'Երևան քաղաք'!I11+Գեղարքունիք!I11+Կոտայք!I11+Շիրակ!I11+Սյունիք!I11+Տավուշ!I11) -> 0 | J11: =SUM(Լոռի!J11+Արագածոտն!J11+Արմավիր!J11+Արարատ!J11+'Երևան քաղաք'!J11+Գեղարքունիք!J11+Կոտայք!J11+Շիրակ!J11+Սյունիք!J11+Տավուշ!J11) -> 0 | K11: =SUM(Լոռի!K11+Արագածոտն!K11+Արմավիր!K11+Արարատ!K11+'Երևան քաղաք'!K11+Գեղարքունիք!K11+Կոտայք!K11+Շիրակ!K11+Սյունիք!K11+Տավուշ!K11) -> 0 | ... T11: =SUM(Լոռի!T11+Արագածոտն!T11+Արմավիր!T11+Արարատ!T11+'Երևան քաղաք'!T11+Գեղարքունիք!T11+Կոտայք!T11+Շիրակ!T11+Սյունիք!T11+Տավուշ!T11) -> 0
A12: 1.5 | B12: Անհրաժեշտ պաշտպանության սահմանազանցմամբ սպանությունը | C12: 108 | D12: =SUM(Լոռի!D12+Արագածոտն!D12+Արմավիր!D12+Արարատ!D12+'Երևան քաղաք'!D12+Գեղարքունիք!D12+Կոտայք!D12+Շիրակ!D12+Սյունիք!D12+Տավուշ!D12) -> 0 | E12: =SUM(Լոռի!E12+Արագածոտն!E12+Արմավիր!E12+Արարատ!E12+'Երևան քաղաք'!E12+Գեղարքունիք!E12+Կոտայք!E12+Շիրակ!E12+Սյունիք!E12+Տավուշ!E12) -> 0 | F12: =SUM(Լոռի!F12+Արագածոտն!F12+Արմավիր!F12+Արարատ!F12+'Երևան քաղաք'!F12+Գեղարքունիք!F12+Կոտայք!F12+Շիրակ!F12+Սյունիք!F12+Տավուշ!F12) -> 0 | G12: =SUM(Լոռի!G12+Արագածոտն!G12+Արմավիր!G12+Արարատ!G12+'Երևան քաղաք'!G12+Գեղարքունիք!G12+Կոտայք!G12+Շիրակ!G12+Սյունիք!G12+Տավուշ!G12) -> 0 | H12: =SUM(Լոռի!H12+Արագածոտն!H12+Արմավիր!H12+Արարատ!H12+'Երևան քաղաք'!H12+Գեղարքունիք!H12+Կոտայք!H12+Շիրակ!H12+Սյունիք!H12+Տավուշ!H12) -> 0 | I12: =SUM(Լոռի!I12+Արագածոտն!I12+Արմավիր!I12+Արարատ!I12+'Երևան քաղաք'!I12+Գեղարքունիք!I12+Կոտայք!I12+Շիրակ!I12+Սյունիք!I12+Տավուշ!I12) -> 0 | J12: =SUM(Լոռի!J12+Արագածոտն!J12+Արմավիր!J12+Արարատ!J12+'Երևան քաղաք'!J12+Գեղարքունիք!J12+Կոտայք!J12+Շիրակ!J12+Սյունիք!J12+Տավուշ!J12) -> 0 | K12: =SUM(Լոռի!K12+Արագածոտն!K12+Արմավիր!K12+Արարատ!K12+'Երևան քաղաք'!K12+Գեղարքունիք!K12+Կոտայք!K12+Շիրակ!K12+Սյունիք!K12+Տավուշ!K12) -> 0 | ... T12: =SUM(Լոռի!T12+Արագածոտն!T12+Արմավիր!T12+Արարատ!T12+'Երևան քաղաք'!T12+Գեղարքունիք!T12+Կոտայք!T12+Շիրակ!T12+Սյունիք!T12+Տավուշ!T12) -> 0
A13: 1.6 | B13: Անզգուշությամբ մահ պատճառելը | C13: 109 | D13: =SUM(Լոռի!D13+Արագածոտն!D13+Արմավիր!D13+Արարատ!D13+'Երևան քաղաք'!D13+Գեղարքունիք!D13+Կոտայք!D13+Շիրակ!D13+Սյունիք!D13+Տավուշ!D13) -> 8 | E13: =SUM(Լոռի!E13+Արագածոտն!E13+Արմավիր!E13+Արարատ!E13+'Երևան քաղաք'!E13+Գեղարքունիք!E13+Կոտայք!E13+Շիրակ!E13+Սյունիք!E13+Տավուշ!E13) -> 0 | F13: =SUM(Լոռի!F13+Արագածոտն!F13+Արմավիր!F13+Արարատ!F13+'Երևան քաղաք'!F13+Գեղարքունիք!F13+Կոտայք!F13+Շիրակ!F13+Սյունիք!F13+Տավուշ!F13) -> 2 | G13: =SUM(Լոռի!G13+Արագածոտն!G13+Արմավիր!G13+Արարատ!G13+'Երևան քաղաք'!G13+Գեղարքունիք!G13+Կոտայք!G13+Շիրակ!G13+Սյունիք!G13+Տավուշ!G13) -> 1 | H13: =SUM(Լոռի!H13+Արագածոտն!H13+Արմավիր!H13+Արարատ!H13+'Երևան քաղաք'!H13+Գեղարքունիք!H13+Կոտայք!H13+Շիրակ!H13+Սյունիք!H13+Տավուշ!H13) -> 4 | I13: =SUM(Լոռի!I13+Արագածոտն!I13+Արմավիր!I13+Արարատ!I13+'Երևան քաղաք'!I13+Գեղարքունիք!I13+Կոտայք!I13+Շիրակ!I13+Սյունիք!I13+Տավուշ!I13) -> 0 | J13: =SUM(Լոռի!J13+Արագածոտն!J13+Արմավիր!J13+Արարատ!J13+'Երևան քաղաք'!J13+Գեղարքունիք!J13+Կոտայք!J13+Շիրակ!J13+Սյունիք!J13+Տավուշ!J13) -> 5 | K13: =SUM(Լոռի!K13+Արագածոտն!K13+Արմավիր!K13+Արարատ!K13+'Երևան քաղաք'!K13+Գեղարքունիք!K13+Կոտայք!K13+Շիրակ!K13+Սյունիք!K13+Տավուշ!K13) -> 0 | ... T13: =SUM(Լոռի!T13+Արագածոտն!T13+Արմավիր!T13+Արարատ!T13+'Երևան քաղաք'!T13+Գեղարքունիք!T13+Կոտայք!T13+Շիրակ!T13+Սյունիք!T13+Տավուշ!T13) -> 0
A14: 1.7 | B14: Ինքնասպանության հասցնելը | C14: 110 | D14: =SUM(Լոռի!D14+Արագածոտն!D14+Արմավիր!D14+Արարատ!D14+'Երևան քաղաք'!D14+Գեղարքունիք!D14+Կոտայք!D14+Շիրակ!D14+Սյունիք!D14+Տավուշ!D14) -> 8 | E14: =SUM(Լոռի!E14+Արագածոտն!E14+Արմավիր!E14+Արարատ!E14+'Երևան քաղաք'!E14+Գեղարքունիք!E14+Կոտայք!E14+Շիրակ!E14+Սյունիք!E14+Տավուշ!E14) -> 0 | F14: =SUM(Լոռի!F14+Արագածոտն!F14+Արմավիր!F14+Արարատ!F14+'Երևան քաղաք'!F14+Գեղարքունիք!F14+Կոտայք!F14+Շիրակ!F14+Սյունիք!F14+Տավուշ!F14) -> 0 | G14: =SUM(Լոռի!G14+Արագածոտն!G14+Արմավիր!G14+Արարատ!G14+'Երևան քաղաք'!G14+Գեղարքունիք!G14+Կոտայք!G14+Շիրակ!G14+Սյունիք!G14+Տավուշ!G14) -> 1 | H14: =SUM(Լոռի!H14+Արագածոտն!H14+Արմավիր!H14+Արարատ!H14+'Երևան քաղաք'!H14+Գեղարքունիք!H14+Կոտայք!H14+Շիրակ!H14+Սյունիք!H14+Տավուշ!H14) -> 1 | I14: =SUM(Լոռի!I14+Արագածոտն!I14+Արմավիր!I14+Արարատ!I14+'Երևան քաղաք'!I14+Գեղարքունիք!I14+Կոտայք!I14+Շիրակ!I14+Սյունիք!I14+Տավուշ!I14) -> 0 | J14: =SUM(Լոռի!J14+Արագածոտն!J14+Արմավիր!J14+Արարատ!J14+'Երևան քաղաք'!J14+Գեղարքունիք!J14+Կոտայք!J14+Շիրակ!J14+Սյունիք!J14+Տավուշ!J14) -> 2 | K14: =SUM(Լոռի!K14+Արագածոտն!K14+Արմավիր!K14+Արարատ!K14+'Երևան քաղաք'!K14+Գեղարքունիք!K14+Կոտայք!K14+Շիրակ!K14+Սյունիք!K14+Տավուշ!K14) -> 0 | ... T14: =SUM(Լոռի!T14+Արագածոտն!T14+Արմավիր!T14+Արարատ!T14+'Երևան քաղաք'!T14+Գեղարքունիք!T14+Կոտայք!T14+Շիրակ!T14+Սյունիք!T14+Տավուշ!T14) -> 0
A15: 1.8 | B15: Ինքնասպանության հակելը | C15: 111 | D15: =SUM(Լոռի!D15+Արագածոտն!D15+Արմավիր!D15+Արարատ!D15+'Երևան քաղաք'!D15+Գեղարքունիք!D15+Կոտայք!D15+Շիրակ!D15+Սյունիք!D15+Տավուշ!D15) -> 0 | E15: =SUM(Լոռի!E15+Արագածոտն!E15+Արմավիր!E15+Արարատ!E15+'Երևան քաղաք'!E15+Գեղարքունիք!E15+Կոտայք!E15+Շիրակ!E15+Սյունիք!E15+Տավուշ!E15) -> 0 | F15: =SUM(Լոռի!F15+Արագածոտն!F15+Արմավիր!F15+Արարատ!F15+'Երևան քաղաք'!F15+Գեղարքունիք!F15+Կոտայք!F15+Շիրակ!F15+Սյունիք!F15+Տավուշ!F15) -> 0 | G15: =SUM(Լոռի!G15+Արագածոտն!G15+Արմավիր!G15+Արարատ!G15+'Երևան քաղաք'!G15+Գեղարքունիք!G15+Կոտայք!G15+Շիրակ!G15+Սյունիք!G15+Տավուշ!G15) -> 0 | H15: =SUM(Լոռի!H15+Արագածոտն!H15+Արմավիր!H15+Արարատ!H15+'Երևան քաղաք'!H15+Գեղարքունիք!H15+Կոտայք!H15+Շիրակ!H15+Սյունիք!H15+Տավուշ!H15) -> 0 | I15: =SUM(Լոռի!I15+Արագածոտն!I15+Արմավիր!I15+Արարատ!I15+'Երևան քաղաք'!I15+Գեղարքունիք!I15+Կոտայք!I15+Շիրակ!I15+Սյունիք!I15+Տավուշ!I15) -> 0 | J15: =SUM(Լոռի!J15+Արագածոտն!J15+Արմավիր!J15+Արարատ!J15+'Երևան քաղաք'!J15+Գեղարքունիք!J15+Կոտայք!J15+Շիրակ!J15+Սյունիք!J15+Տավուշ!J15) -> 0 | K15: =SUM(Լոռի!K15+Արագածոտն!K15+Արմավիր!K15+Արարատ!K15+'Երևան քաղաք'!K15+Գեղարքունիք!K15+Կոտայք!K15+Շիրակ!K15+Սյունիք!K15+Տավուշ!K15) -> 0 | ... T15: =SUM(Լոռի!T15+Արագածոտն!T15+Արմավիր!T15+Արարատ!T15+'Երևան քաղաք'!T15+Գեղարքունիք!T15+Կոտայք!T15+Շիրակ!T15+Սյունիք!T15+Տավուշ!T15) -> 0
A16: 1.9 | B16: Դիտավորությամբ առողջությանը ծանր վնաս պատճառելը | C16: 112 | D16: =SUM(Լոռի!D16+Արագածոտն!D16+Արմավիր!D16+Արարատ!D16+'Երևան քաղաք'!D16+Գեղարքունիք!D16+Կոտայք!D16+Շիրակ!D16+Սյունիք!D16+Տավուշ!D16) -> 239 | E16: =SUM(Լոռի!E16+Արագածոտն!E16+Արմավիր!E16+Արարատ!E16+'Երևան քաղաք'!E16+Գեղարքունիք!E16+Կոտայք!E16+Շիրակ!E16+Սյունիք!E16+Տավուշ!E16) -> 1 | F16: =SUM(Լոռի!F16+Արագածոտն!F16+Արմավիր!F16+Արարատ!F16+'Երևան քաղաք'!F16+Գեղարքունիք!F16+Կոտայք!F16+Շիրակ!F16+Սյունիք!F16+Տավուշ!F16) -> 86 | G16: =SUM(Լոռի!G16+Արագածոտն!G16+Արմավիր!G16+Արարատ!G16+'Երևան քաղաք'!G16+Գեղարքունիք!G16+Կոտայք!G16+Շիրակ!G16+Սյունիք!G16+Տավուշ!G16) -> 81 | H16: =SUM(Լոռի!H16+Արագածոտն!H16+Արմավիր!H16+Արարատ!H16+'Երևան քաղաք'!H16+Գեղարքունիք!H16+Կոտայք!H16+Շիրակ!H16+Սյունիք!H16+Տավուշ!H16) -> 4 | I16: =SUM(Լոռի!I16+Արագածոտն!I16+Արմավիր!I16+Արարատ!I16+'Երևան քաղաք'!I16+Գեղարքունիք!I16+Կոտայք!I16+Շիրակ!I16+Սյունիք!I16+Տավուշ!I16) -> 1 | J16: =SUM(Լոռի!J16+Արագածոտն!J16+Արմավիր!J16+Արարատ!J16+'Երևան քաղաք'!J16+Գեղարքունիք!J16+Կոտայք!J16+Շիրակ!J16+Սյունիք!J16+Տավուշ!J16) -> 86 | K16: =SUM(Լոռի!K16+Արագածոտն!K16+Արմավիր!K16+Արարատ!K16+'Երևան քաղաք'!K16+Գեղարքունիք!K16+Կոտայք!K16+Շիրակ!K16+Սյունիք!K16+Տավուշ!K16) -> 1 | ... T16: =SUM(Լոռի!T16+Արագածոտն!T16+Արմավիր!T16+Արարատ!T16+'Երևան քաղաք'!T16+Գեղարքունիք!T16+Կոտայք!T16+Շիրակ!T16+Սյունիք!T16+Տավուշ!T16) -> 1
A17: 1.10 | B17: Դիտավորությամբ առողջությանը միջին ծանրության վնաս պատճառելը | C17: 113 | D17: =SUM(Լոռի!D17+Արագածոտն!D17+Արմավիր!D17+Արարատ!D17+'Երևան քաղաք'!D17+Գեղարքունիք!D17+Կոտայք!D17+Շիրակ!D17+Սյունիք!D17+Տավուշ!D17) -> 53 | E17: =SUM(Լոռի!E17+Արագածոտն!E17+Արմավիր!E17+Արարատ!E17+'Երևան քաղաք'!E17+Գեղարքունիք!E17+Կոտայք!E17+Շիրակ!E17+Սյունիք!E17+Տավուշ!E17) -> 1 | F17: =SUM(Լոռի!F17+Արագածոտն!F17+Արմավիր!F17+Արարատ!F17+'Երևան քաղաք'!F17+Գեղարքունիք!F17+Կոտայք!F17+Շիրակ!F17+Սյունիք!F17+Տավուշ!F17) -> 17 | G17: =SUM(Լոռի!G17+Արագածոտն!G17+Արմավիր!G17+Արարատ!G17+'Երևան քաղաք'!G17+Գեղարքունիք!G17+Կոտայք!G17+Շիրակ!G17+Սյունիք!G17+Տավուշ!G17) -> 14 | H17: =SUM(Լոռի!H17+Արագածոտն!H17+Արմավիր!H17+Արարատ!H17+'Երևան քաղաք'!H17+Գեղարքունիք!H17+Կոտայք!H17+Շիրակ!H17+Սյունիք!H17+Տավուշ!H17) -> 7 | I17: =SUM(Լոռի!I17+Արագածոտն!I17+Արմավիր!I17+Արարատ!I17+'Երևան քաղաք'!I17+Գեղարքունիք!I17+Կոտայք!I17+Շիրակ!I17+Սյունիք!I17+Տավուշ!I17) -> 1 | J17: =SUM(Լոռի!J17+Արագածոտն!J17+Արմավիր!J17+Արարատ!J17+'Երևան քաղաք'!J17+Գեղարքունիք!J17+Կոտայք!J17+Շիրակ!J17+Սյունիք!J17+Տավուշ!J17) -> 22 | K17: =SUM(Լոռի!K17+Արագածոտն!K17+Արմավիր!K17+Արարատ!K17+'Երևան քաղաք'!K17+Գեղարքունիք!K17+Կոտայք!K17+Շիրակ!K17+Սյունիք!K17+Տավուշ!K17) -> 0 | ... T17: =SUM(Լոռի!T17+Արագածոտն!T17+Արմավիր!T17+Արարատ!T17+'Երևան քաղաք'!T17+Գեղարքունիք!T17+Կոտայք!T17+Շիրակ!T17+Սյունիք!T17+Տավուշ!T17) -> 0
A18: 1.11 | B18: Հոգեկան խիստ հուզմունքի վիճակում առողջությանը ծանր կամ միջին ծանրության վնաս պատճառելը | C18: 114 | D18: =SUM(Լոռի!D18+Արագածոտն!D18+Արմավիր!D18+Արարատ!D18+'Երևան քաղաք'!D18+Գեղարքունիք!D18+Կոտայք!D18+Շիրակ!D18+Սյունիք!D18+Տավուշ!D18) -> 0 | E18: =SUM(Լոռի!E18+Արագածոտն!E18+Արմավիր!E18+Արարատ!E18+'Երևան քաղաք'!E18+Գեղարքունիք!E18+Կոտայք!E18+Շիրակ!E18+Սյունիք!E18+Տավուշ!E18) -> 0 | F18: =SUM(Լոռի!F18+Արագածոտն!F18+Արմավիր!F18+Արարատ!F18+'Երևան քաղաք'!F18+Գեղարքունիք!F18+Կոտայք!F18+Շիրակ!F18+Սյունիք!F18+Տավուշ!F18) -> 0 | G18: =SUM(Լոռի!G18+Արագածոտն!G18+Արմավիր!G18+Արարատ!G18+'Երևան քաղաք'!G18+Գեղարքունիք!G18+Կոտայք!G18+Շիրակ!G18+Սյունիք!G18+Տավուշ!G18) -> 0 | H18: =SUM(Լոռի!H18+Արագածոտն!H18+Արմավիր!H18+Արարատ!H18+'Երևան քաղաք'!H18+Գեղարքունիք!H18+Կոտայք!H18+Շիրակ!H18+Սյունիք!H18+Տավուշ!H18) -> 0 | I18: =SUM(Լոռի!I18+Արագածոտն!I18+Արմավիր!I18+Արարատ!I18+'Երևան քաղաք'!I18+Գեղարքունիք!I18+Կոտայք!I18+Շիրակ!I18+Սյունիք!I18+Տավուշ!I18) -> 0 | J18: =SUM(Լոռի!J18+Արագածոտն!J18+Արմավիր!J18+Արարատ!J18+'Երևան քաղաք'!J18+Գեղարքունիք!J18+Կոտայք!J18+Շիրակ!J18+Սյունիք!J18+Տավուշ!J18) -> 0 | K18: =SUM(Լոռի!K18+Արագածոտն!K18+Արմավիր!K18+Արարատ!K18+'Երևան քաղաք'!K18+Գեղարքունիք!K18+Կոտայք!K18+Շիրակ!K18+Սյունիք!K18+Տավուշ!K18) -> 0 | ... T18: =SUM(Լոռի!T18+Արագածոտն!T18+Արմավիր!T18+Արարատ!T18+'Երևան քաղաք'!T18+Գեղարքունիք!T18+Կոտայք!T18+Շիրակ!T18+Սյունիք!T18+Տավուշ!T18) -> 0
A19: 1.12 | B19: Հանցանք կատարած անձին բռնելու համար անհրաժեշտ միջոցների սահմանզանցմամբ առողջությանը ծանր կամ միջին ծանրության վնաս պատճառելը | C19: 115 | D19: =SUM(Լոռի!D19+Արագածոտն!D19+Արմավիր!D19+Արարատ!D19+'Երևան քաղաք'!D19+Գեղարքունիք!D19+Կոտայք!D19+Շիրակ!D19+Սյունիք!D19+Տավուշ!D19) -> 0 | E19: =SUM(Լոռի!E19+Արագածոտն!E19+Արմավիր!E19+Արարատ!E19+'Երևան քաղաք'!E19+Գեղարքունիք!E19+Կոտայք!E19+Շիրակ!E19+Սյունիք!E19+Տավուշ!E19) -> 0 | F19: =SUM(Լոռի!F19+Արագածոտն!F19+Արմավիր!F19+Արարատ!F19+'Երևան քաղաք'!F19+Գեղարքունիք!F19+Կոտայք!F19+Շիրակ!F19+Սյունիք!F19+Տավուշ!F19) -> 0 | G19: =SUM(Լոռի!G19+Արագածոտն!G19+Արմավիր!G19+Արարատ!G19+'Երևան քաղաք'!G19+Գեղարքունիք!G19+Կոտայք!G19+Շիրակ!G19+Սյունիք!G19+Տավուշ!G19) -> 0 | H19: =SUM(Լոռի!H19+Արագածոտն!H19+Արմավիր!H19+Արարատ!H19+'Երևան քաղաք'!H19+Գեղարքունիք!H19+Կոտայք!H19+Շիրակ!H19+Սյունիք!H19+Տավուշ!H19) -> 0 | I19: =SUM(Լոռի!I19+Արագածոտն!I19+Արմավիր!I19+Արարատ!I19+'Երևան քաղաք'!I19+Գեղարքունիք!I19+Կոտայք!I19+Շիրակ!I19+Սյունիք!I19+Տավուշ!I19) -> 0 | J19: =SUM(Լոռի!J19+Արագածոտն!J19+Արմավիր!J19+Արարատ!J19+'Երևան քաղաք'!J19+Գեղարքունիք!J19+Կոտայք!J19+Շիրակ!J19+Սյունիք!J19+Տավուշ!J19) -> 0 | K19: =SUM(Լոռի!K19+Արագածոտն!K19+Արմավիր!K19+Արարատ!K19+'Երևան քաղաք'!K19+Գեղարքունիք!K19+Կոտայք!K19+Շիրակ!K19+Սյունիք!K19+Տավուշ!K19) -> 0 | ... T19: =SUM(Լոռի!T19+Արագածոտն!T19+Արմավիր!T19+Արարատ!T19+'Երևան քաղաք'!T19+Գեղարքունիք!T19+Կոտայք!T19+Շիրակ!T19+Սյունիք!T19+Տավուշ!T19) -> 0
... A33: 1.27 | B33: Բժշկական օգնություն և սպասարկում իրականացնողների կողմից մասնագիտական պարտականությունները չկատարելը կամ ոչ պատշաճ կատարելը | C33: 130 | D33: =SUM(Լոռի!D33+Արագածոտն!D33+Արմավիր!D33+Արարատ!D33+'Երևան քաղաք'!D33+Գեղարքունիք!D33+Կոտայք!D33+Շիրակ!D33+Սյունիք!D33+Տավուշ!D33) -> 16 | E33: =SUM(Լոռի!E33+Արագածոտն!E33+Արմավիր!E33+Արարատ!E33+'Երևան քաղաք'!E33+Գեղարքունիք!E33+Կոտայք!E33+Շիրակ!E33+Սյունիք!E33+Տավուշ!E33) -> 1 | F33: =SUM(Լոռի!F33+Արագածոտն!F33+Արմավիր!F33+Արարատ!F33+'Երևան քաղաք'!F33+Գեղարքունիք!F33+Կոտայք!F33+Շիրակ!F33+Սյունիք!F33+Տավուշ!F33) -> 1 | G33: =SUM(Լոռի!G33+Արագածոտն!G33+Արմավիր!G33+Արարատ!G33+'Երևան քաղաք'!G33+Գեղարքունիք!G33+Կոտայք!G33+Շիրակ!G33+Սյունիք!G33+Տավուշ!G33) -> 4 | H33: =SUM(Լոռի!H33+Արագածոտն!H33+Արմավիր!H33+Արարատ!H33+'Երևան քաղաք'!H33+Գեղարքունիք!H33+Կոտայք!H33+Շիրակ!H33+Սյունիք!H33+Տավուշ!H33) -> 2 | I33: =SUM(Լոռի!I33+Արագածոտն!I33+Արմավիր!I33+Արարատ!I33+'Երևան քաղաք'!I33+Գեղարքունիք!I33+Կոտայք!I33+Շիրակ!I33+Սյունիք!I33+Տավուշ!I33) -> 0 | J33: =SUM(Լոռի!J33+Արագածոտն!J33+Արմավիր!J33+Արարատ!J33+'Երևան քաղաք'!J33+Գեղարքունիք!J33+Կոտայք!J33+Շիրակ!J33+Սյունիք!J33+Տավուշ!J33) -> 6 | K33: =SUM(Լոռի!K33+Արագածոտն!K33+Արմավիր!K33+Արարատ!K33+'Երևան քաղաք'!K33+Գեղարքունիք!K33+Կոտայք!K33+Շիրակ!K33+Սյունիք!K33+Տավուշ!K33) -> 0 | ... T33: =SUM(Լոռի!T33+Արագածոտն!T33+Արմավիր!T33+Արարատ!T33+'Երևան քաղաք'!T33+Գեղարքունիք!T33+Կոտայք!T33+Շիրակ!T33+Սյունիք!T33+Տավուշ!T33) -> 0
A34: 1.28 | B34: Այլ հանցագործություններ | D34: =SUM(Լոռի!D34+Արագածոտն!D34+Արմավիր!D34+Արարատ!D34+'Երևան քաղաք'!D34+Գեղարքունիք!D34+Կոտայք!D34+Շիրակ!D34+Սյունիք!D34+Տավուշ!D34) -> 1 | E34: =SUM(Լոռի!E34+Արագածոտն!E34+Արմավիր!E34+Արարատ!E34+'Երևան քաղաք'!E34+Գեղարքունիք!E34+Կոտայք!E34+Շիրակ!E34+Սյունիք!E34+Տավուշ!E34) -> 1 | F34: =SUM(Լոռի!F34+Արագածոտն!F34+Արմավիր!F34+Արարատ!F34+'Երևան քաղաք'!F34+Գեղարքունիք!F34+Կոտայք!F34+Շիրակ!F34+Սյունիք!F34+Տավուշ!F34) -> 1 | G34: =SUM(Լոռի!G34+Արագածոտն!G34+Արմավիր!G34+Արարատ!G34+'Երևան քաղաք'!G34+Գեղարքունիք!G34+Կոտայք!G34+Շիրակ!G34+Սյունիք!G34+Տավուշ!G34) -> 0 | H34: =SUM(Լոռի!H34+Արագածոտն!H34+Արմավիր!H34+Արարատ!H34+'Երևան քաղաք'!H34+Գեղարքունիք!H34+Կոտայք!H34+Շիրակ!H34+Սյունիք!H34+Տավուշ!H34) -> 0 | I34: =SUM(Լոռի!I34+Արագածոտն!I34+Արմավիր!I34+Արարատ!I34+'Երևան քաղաք'!I34+Գեղարքունիք!I34+Կոտայք!I34+Շիրակ!I34+Սյունիք!I34+Տավուշ!I34) -> 0 | J34: =SUM(Լոռի!J34+Արագածոտն!J34+Արմավիր!J34+Արարատ!J34+'Երևան քաղաք'!J34+Գեղարքունիք!J34+Կոտայք!J34+Շիրակ!J34+Սյունիք!J34+Տավուշ!J34) -> 0 | K34: =SUM(Լոռի!K34+Արագածոտն!K34+Արմավիր!K34+Արարատ!K34+'Երևան քաղաք'!K34+Գեղարքունիք!K34+Կոտայք!K34+Շիրակ!K34+Սյունիք!K34+Տավուշ!K34) -> 0 | ... T34: =SUM(Լոռի!T34+Արագածոտն!T34+Արմավիր!T34+Արարատ!T34+'Երևան քաղաք'!T34+Գեղարքունիք!T34+Կոտայք!T34+Շիրակ!T34+Սյունիք!T34+Տավուշ!T34) -> 0
A35: 2. | B35: Ընդամենը անձի ազատության, պատվի և արժանապատվության դեմ ուղղված հանցագործությունները | D35: =SUM(Լոռի!D35+Արագածոտն!D35+Արմավիր!D35+Արարատ!D35+'Երևան քաղաք'!D35+Գեղարքունիք!D35+Կոտայք!D35+Շիրակ!D35+Սյունիք!D35+Տավուշ!D35) -> 74 | E35: =SUM(Լոռի!E35+Արագածոտն!E35+Արմավիր!E35+Արարատ!E35+'Երևան քաղաք'!E35+Գեղարքունիք!E35+Կոտայք!E35+Շիրակ!E35+Սյունիք!E35+Տավուշ!E35) -> 1 | F35: =SUM(Լոռի!F35+Արագածոտն!F35+Արմավիր!F35+Արարատ!F35+'Երևան քաղաք'!F35+Գեղարքունիք!F35+Կոտայք!F35+Շիրակ!F35+Սյունիք!F35+Տավուշ!F35) -> 146 | G35: =SUM(Լոռի!G35+Արագածոտն!G35+Արմավիր!G35+Արարատ!G35+'Երևան քաղաք'!G35+Գեղարքունիք!G35+Կոտայք!G35+Շիրակ!G35+Սյունիք!G35+Տավուշ!G35) -> 22 | H35: =SUM(Լոռի!H35+Արագածոտն!H35+Արմավիր!H35+Արարատ!H35+'Երևան քաղաք'!H35+Գեղարքունիք!H35+Կոտայք!H35+Շիրակ!H35+Սյունիք!H35+Տավուշ!H35) -> 115 | I35: =SUM(Լոռի!I35+Արագածոտն!I35+Արմավիր!I35+Արարատ!I35+'Երևան քաղաք'!I35+Գեղարքունիք!I35+Կոտայք!I35+Շիրակ!I35+Սյունիք!I35+Տավուշ!I35) -> 1 | J35: =SUM(Լոռի!J35+Արագածոտն!J35+Արմավիր!J35+Արարատ!J35+'Երևան քաղաք'!J35+Գեղարքունիք!J35+Կոտայք!J35+Շիրակ!J35+Սյունիք!J35+Տավուշ!J35) -> 138 | K35: =SUM(Լոռի!K35+Արագածոտն!K35+Արմավիր!K35+Արարատ!K35+'Երևան քաղաք'!K35+Գեղարքունիք!K35+Կոտայք!K35+Շիրակ!K35+Սյունիք!K35+Տավուշ!K35) -> 2 | ... T35: =SUM(Լոռի!T35+Արագածոտն!T35+Արմավիր!T35+Արարատ!T35+'Երևան քաղաք'!T35+Գեղարքունիք!T35+Կոտայք!T35+Շիրակ!T35+Սյունիք!T35+Տավուշ!T35) -> 0
A36: 2.1 | B36: Մարդուն առևանգելը | C36: 131 | D36: =SUM(Լոռի!D36+Արագածոտն!D36+Արմավիր!D36+Արարատ!D36+'Երևան քաղաք'!D36+Գեղարքունիք!D36+Կոտայք!D36+Շիրակ!D36+Սյունիք!D36+Տավուշ!D36) -> 34 | E36: =SUM(Լոռի!E36+Արագածոտն!E36+Արմավիր!E36+Արարատ!E36+'Երևան քաղաք'!E36+Գեղարքունիք!E36+Կոտայք!E36+Շիրակ!E36+Սյունիք!E36+Տավուշ!E36) -> 0 | F36: =SUM(Լոռի!F36+Արագածոտն!F36+Արմավիր!F36+Արարատ!F36+'Երևան քաղաք'!F36+Գեղարքունիք!F36+Կոտայք!F36+Շիրակ!F36+Սյունիք!F36+Տավուշ!F36) -> 18 | G36: =SUM(Լոռի!G36+Արագածոտն!G36+Արմավիր!G36+Արարատ!G36+'Երևան քաղաք'!G36+Գեղարքունիք!G36+Կոտայք!G36+Շիրակ!G36+Սյունիք!G36+Տավուշ!G36) -> 10 | H36: =SUM(Լոռի!H36+Արագածոտն!H36+Արմավիր!H36+Արարատ!H36+'Երևան քաղաք'!H36+Գեղարքունիք!H36+Կոտայք!H36+Շիրակ!H36+Սյունիք!H36+Տավուշ!H36) -> 1 | I36: =SUM(Լոռի!I36+Արագածոտն!I36+Արմավիր!I36+Արարատ!I36+'Երևան քաղաք'!I36+Գեղարքունիք!I36+Կոտայք!I36+Շիրակ!I36+Սյունիք!I36+Տավուշ!I36) -> 0 | J36: =SUM(Լոռի!J36+Արագածոտն!J36+Արմավիր!J36+Արարատ!J36+'Երևան քաղաք'!J36+Գեղարքունիք!J36+Կոտայք!J36+Շիրակ!J36+Սյունիք!J36+Տավուշ!J36) -> 11 | K36: =SUM(Լոռի!K36+Արագածոտն!K36+Արմավիր!K36+Արարատ!K36+'Երևան քաղաք'!K36+Գեղարքունիք!K36+Կոտայք!K36+Շիրակ!K36+Սյունիք!K36+Տավուշ!K36) -> 0 | ... T36: =SUM(Լոռի!T36+Արագածոտն!T36+Արմավիր!T36+Արարատ!T36+'Երևան քաղաք'!T36+Գեղարքունիք!T36+Կոտայք!T36+Շիրակ!T36+Սյունիք!T36+Տավուշ!T36) -> 0
A37: 2.2 | B37: Մարդու թրաֆիքինգը կամ շահագործումը | C37: 132 | D37: =SUM(Լոռի!D37+Արագածոտն!D37+Արմավիր!D37+Արարատ!D37+'Երևան քաղաք'!D37+Գեղարքունիք!D37+Կոտայք!D37+Շիրակ!D37+Սյունիք!D37+Տավուշ!D37) -> 4 | E37: =SUM(Լոռի!E37+Արագածոտն!E37+Արմավիր!E37+Արարատ!E37+'Երևան քաղաք'!E37+Գեղարքունիք!E37+Կոտայք!E37+Շիրակ!E37+Սյունիք!E37+Տավուշ!E37) -> 0 | F37: =SUM(Լոռի!F37+Արագածոտն!F37+Արմավիր!F37+Արարատ!F37+'Երևան քաղաք'!F37+Գեղարքունիք!F37+Կոտայք!F37+Շիրակ!F37+Սյունիք!F37+Տավուշ!F37) -> 3 | G37: =SUM(Լոռի!G37+Արագածոտն!G37+Արմավիր!G37+Արարատ!G37+'Երևան քաղաք'!G37+Գեղարքունիք!G37+Կոտայք!G37+Շիրակ!G37+Սյունիք!G37+Տավուշ!G37) -> 0 | H37: =SUM(Լոռի!H37+Արագածոտն!H37+Արմավիր!H37+Արարատ!H37+'Երևան քաղաք'!H37+Գեղարքունիք!H37+Կոտայք!H37+Շիրակ!H37+Սյունիք!H37+Տավուշ!H37) -> 0 | I37: =SUM(Լոռի!I37+Արագածոտն!I37+Արմավիր!I37+Արարատ!I37+'Երևան քաղաք'!I37+Գեղարքունիք!I37+Կոտայք!I37+Շիրակ!I37+Սյունիք!I37+Տավուշ!I37) -> 0 | J37: =SUM(Լոռի!J37+Արագածոտն!J37+Արմավիր!J37+Արարատ!J37+'Երևան քաղաք'!J37+Գեղարքունիք!J37+Կոտայք!J37+Շիրակ!J37+Սյունիք!J37+Տավուշ!J37) -> 0 | K37: =SUM(Լոռի!K37+Արագածոտն!K37+Արմավիր!K37+Արարատ!K37+'Երևան քաղաք'!K37+Գեղարքունիք!K37+Կոտայք!K37+Շիրակ!K37+Սյունիք!K37+Տավուշ!K37) -> 1 | ... T37: =SUM(Լոռի!T37+Արագածոտն!T37+Արմավիր!T37+Արարատ!T37+'Երևան քաղաք'!T37+Գեղարքունիք!T37+Կոտայք!T37+Շիրակ!T37+Սյունիք!T37+Տավուշ!T37) -> 0
A38: 2.2.2 | B38: Երեխայի կամ հոգեկան խանգարման հետևանքով իր արարքի բնույթն ու նշանակությունը գիտակցելու կամ դա ղեկավարելու հնարավորությունից զրկված անձի թրաֆիքինգը կամ շահագործումը | C38: 132.2 | D38: =SUM(Լոռի!D38+Արագածոտն!D38+Արմավիր!D38+Արարատ!D38+'Երևան քաղաք'!D38+Գեղարքունիք!D38+Կոտայք!D38+Շիրակ!D38+Սյունիք!D38+Տավուշ!D38) -> 5 | E38: =SUM(Լոռի!E38+Արագածոտն!E38+Արմավիր!E38+Արարատ!E38+'Երևան քաղաք'!E38+Գեղարքունիք!E38+Կոտայք!E38+Շիրակ!E38+Սյունիք!E38+Տավուշ!E38) -> 0 | F38: =SUM(Լոռի!F38+Արագածոտն!F38+Արմավիր!F38+Արարատ!F38+'Երևան քաղաք'!F38+Գեղարքունիք!F38+Կոտայք!F38+Շիրակ!F38+Սյունիք!F38+Տավուշ!F38) -> 1 | G38: =SUM(Լոռի!G38+Արագածոտն!G38+Արմավիր!G38+Արարատ!G38+'Երևան քաղաք'!G38+Գեղարքունիք!G38+Կոտայք!G38+Շիրակ!G38+Սյունիք!G38+Տավուշ!G38) -> 0 | H38: =SUM(Լոռի!H38+Արագածոտն!H38+Արմավիր!H38+Արարատ!H38+'Երևան քաղաք'!H38+Գեղարքունիք!H38+Կոտայք!H38+Շիրակ!H38+Սյունիք!H38+Տավուշ!H38) -> 0 | I38: =SUM(Լոռի!I38+Արագածոտն!I38+Արմավիր!I38+Արարատ!I38+'Երևան քաղաք'!I38+Գեղարքունիք!I38+Կոտայք!I38+Շիրակ!I38+Սյունիք!I38+Տավուշ!I38) -> 0 | J38: =SUM(Լոռի!J38+Արագածոտն!J38+Արմավիր!J38+Արարատ!J38+'Երևան քաղաք'!J38+Գեղարքունիք!J38+Կոտայք!J38+Շիրակ!J38+Սյունիք!J38+Տավուշ!J38) -> 0 | K38: =SUM(Լոռի!K38+Արագածոտն!K38+Արմավիր!K38+Արարատ!K38+'Երևան քաղաք'!K38+Գեղարքունիք!K38+Կոտայք!K38+Շիրակ!K38+Սյունիք!K38+Տավուշ!K38) -> 0 | ... T38: =SUM(Լոռի!T38+Արագածոտն!T38+Արմավիր!T38+Արարատ!T38+'Երևան քաղաք'!T38+Գեղարքունիք!T38+Կոտայք!T38+Շիրակ!T38+Սյունիք!T38+Տավուշ!T38) -> 0
A39: 2.2.3 | B39: Շահագործման վիճակում գտնվող անձի ծառայությունից օգտվելը | C39: 132.3 | D39: =SUM(Լոռի!D39+Արագածոտն!D39+Արմավիր!D39+Արարատ!D39+'Երևան քաղաք'!D39+Գեղարքունիք!D39+Կոտայք!D39+Շիրակ!D39+Սյունիք!D39+Տավուշ!D39) -> 1 | E39: =SUM(Լոռի!E39+Արագածոտն!E39+Արմավիր!E39+Արարատ!E39+'Երևան քաղաք'!E39+Գեղարքունիք!E39+Կոտայք!E39+Շիրակ!E39+Սյունիք!E39+Տավուշ!E39) -> 0 | F39: =SUM(Լոռի!F39+Արագածոտն!F39+Արմավիր!F39+Արարատ!F39+'Երևան քաղաք'!F39+Գեղարքունիք!F39+Կոտայք!F39+Շիրակ!F39+Սյունիք!F39+Տավուշ!F39) -> 0 | G39: =SUM(Լոռի!G39+Արագածոտն!G39+Արմավիր!G39+Արարատ!G39+'Երևան քաղաք'!G39+Գեղարքունիք!G39+Կոտայք!G39+Շիրակ!G39+Սյունիք!G39+Տավուշ!G39) -> 1 | H39: =SUM(Լոռի!H39+Արագածոտն!H39+Արմավիր!H39+Արարատ!H39+'Երևան քաղաք'!H39+Գեղարքունիք!H39+Կոտայք!H39+Շիրակ!H39+Սյունիք!H39+Տավուշ!H39) -> 0 | I39: =SUM(Լոռի!I39+Արագածոտն!I39+Արմավիր!I39+Արարատ!I39+'Երևան քաղաք'!I39+Գեղարքունիք!I39+Կոտայք!I39+Շիրակ!I39+Սյունիք!I39+Տավուշ!I39) -> 0 | J39: =SUM(Լոռի!J39+Արագածոտն!J39+Արմավիր!J39+Արարատ!J39+'Երևան քաղաք'!J39+Գեղարքունիք!J39+Կոտայք!J39+Շիրակ!J39+Սյունիք!J39+Տավուշ!J39) -> 1 | K39: =SUM(Լոռի!K39+Արագածոտն!K39+Արմավիր!K39+Արարատ!K39+'Երևան քաղաք'!K39+Գեղարքունիք!K39+Կոտայք!K39+Շիրակ!K39+Սյունիք!K39+Տավուշ!K39) -> 0 | ... T39: =SUM(Լոռի!T39+Արագածոտն!T39+Արմավիր!T39+Արարատ!T39+'Երևան քաղաք'!T39+Գեղարքունիք!T39+Կոտայք!T39+Շիրակ!T39+Սյունիք!T39+Տավուշ!T39) -> 0
A40: 2.3 | B40: Ազատությունից ապօրինի զրկելը | C40: 133 | D40: =SUM(Լոռի!D40+Արագածոտն!D40+Արմավիր!D40+Արարատ!D40+'Երևան քաղաք'!D40+Գեղարքունիք!D40+Կոտայք!D40+Շիրակ!D40+Սյունիք!D40+Տավուշ!D40) -> 3 | E40: =SUM(Լոռի!E40+Արագածոտն!E40+Արմավիր!E40+Արարատ!E40+'Երևան քաղաք'!E40+Գեղարքունիք!E40+Կոտայք!E40+Շիրակ!E40+Սյունիք!E40+Տավուշ!E40) -> 0 | F40: =SUM(Լոռի!F40+Արագածոտն!F40+Արմավիր!F40+Արարատ!F40+'Երևան քաղաք'!F40+Գեղարքունիք!F40+Կոտայք!F40+Շիրակ!F40+Սյունիք!F40+Տավուշ!F40) -> 2 | G40: =SUM(Լոռի!G40+Արագածոտն!G40+Արմավիր!G40+Արարատ!G40+'Երևան քաղաք'!G40+Գեղարքունիք!G40+Կոտայք!G40+Շիրակ!G40+Սյունիք!G40+Տավուշ!G40) -> 0 | H40: =SUM(Լոռի!H40+Արագածոտն!H40+Արմավիր!H40+Արարատ!H40+'Երևան քաղաք'!H40+Գեղարքունիք!H40+Կոտայք!H40+Շիրակ!H40+Սյունիք!H40+Տավուշ!H40) -> 1 | I40: =SUM(Լոռի!I40+Արագածոտն!I40+Արմավիր!I40+Արարատ!I40+'Երևան քաղաք'!I40+Գեղարքունիք!I40+Կոտայք!I40+Շիրակ!I40+Սյունիք!I40+Տավուշ!I40) -> 0 | J40: =SUM(Լոռի!J40+Արագածոտն!J40+Արմավիր!J40+Արարատ!J40+'Երևան քաղաք'!J40+Գեղարքունիք!J40+Կոտայք!J40+Շիրակ!J40+Սյունիք!J40+Տավուշ!J40) -> 1 | K40: =SUM(Լոռի!K40+Արագածոտն!K40+Արմավիր!K40+Արարատ!K40+'Երևան քաղաք'!K40+Գեղարքունիք!K40+Կոտայք!K40+Շիրակ!K40+Սյունիք!K40+Տավուշ!K40) -> 0 | ... T40: =SUM(Լոռի!T40+Արագածոտն!T40+Արմավիր!T40+Արարատ!T40+'Երևան քաղաք'!T40+Գեղարքունիք!T40+Կոտայք!T40+Շիրակ!T40+Սյունիք!T40+Տավուշ!T40) -> 0
A41: 2.4 | B41: Հոգեբուժական հիվանդանոցում ապօրինի տեղավորելը կամ պահելը | C41: 134 | D41: =SUM(Լոռի!D41+Արագածոտն!D41+Արմավիր!D41+Արարատ!D41+'Երևան քաղաք'!D41+Գեղարքունիք!D41+Կոտայք!D41+Շիրակ!D41+Սյունիք!D41+Տավուշ!D41) -> 0 | E41: =SUM(Լոռի!E41+Արագածոտն!E41+Արմավիր!E41+Արարատ!E41+'Երևան քաղաք'!E41+Գեղարքունիք!E41+Կոտայք!E41+Շիրակ!E41+Սյունիք!E41+Տավուշ!E41) -> 0 | F41: =SUM(Լոռի!F41+Արագածոտն!F41+Արմավիր!F41+Արարատ!F41+'Երևան քաղաք'!F41+Գեղարքունիք!F41+Կոտայք!F41+Շիրակ!F41+Սյունիք!F41+Տավուշ!F41) -> 0 | G41: =SUM(Լոռի!G41+Արագածոտն!G41+Արմավիր!G41+Արարատ!G41+'Երևան քաղաք'!G41+Գեղարքունիք!G41+Կոտայք!G41+Շիրակ!G41+Սյունիք!G41+Տավուշ!G41) -> 0 | H41: =SUM(Լոռի!H41+Արագածոտն!H41+Արմավիր!H41+Արարատ!H41+'Երևան քաղաք'!H41+Գեղարքունիք!H41+Կոտայք!H41+Շիրակ!H41+Սյունիք!H41+Տավուշ!H41) -> 0 | I41: =SUM(Լոռի!I41+Արագածոտն!I41+Արմավիր!I41+Արարատ!I41+'Երևան քաղաք'!I41+Գեղարքունիք!I41+Կոտայք!I41+Շիրակ!I41+Սյունիք!I41+Տավուշ!I41) -> 0 | J41: =SUM(Լոռի!J41+Արագածոտն!J41+Արմավիր!J41+Արարատ!J41+'Երևան քաղաք'!J41+Գեղարքունիք!J41+Կոտայք!J41+Շիրակ!J41+Սյունիք!J41+Տավուշ!J41) -> 0 | K41: =SUM(Լոռի!K41+Արագածոտն!K41+Արմավիր!K41+Արարատ!K41+'Երևան քաղաք'!K41+Գեղարքունիք!K41+Կոտայք!K41+Շիրակ!K41+Սյունիք!K41+Տավուշ!K41) -> 0 | ... T41: =SUM(Լոռի!T41+Արագածոտն!T41+Արմավիր!T41+Արարատ!T41+'Երևան քաղաք'!T41+Գեղարքունիք!T41+Կոտայք!T41+Շիրակ!T41+Սյունիք!T41+Տավուշ!T41) -> 0
A42: 2.7 | B42: Սպանության, առողջությանը ծանր վնաս պատճառելու կամ գույք ոչնչացնելու սպառնալիքը | C42: 137 | D42: =SUM(Լոռի!D42+Արագածոտն!D42+Արմավիր!D42+Արարատ!D42+'Երևան քաղաք'!D42+Գեղարքունիք!D42+Կոտայք!D42+Շիրակ!D42+Սյունիք!D42+Տավուշ!D42) -> 14 | E42: =SUM(Լոռի!E42+Արագածոտն!E42+Արմավիր!E42+Արարատ!E42+'Երևան քաղաք'!E42+Գեղարքունիք!E42+Կոտայք!E42+Շիրակ!E42+Սյունիք!E42+Տավուշ!E42) -> 1 | F42: =SUM(Լոռի!F42+Արագածոտն!F42+Արմավիր!F42+Արարատ!F42+'Երևան քաղաք'!F42+Գեղարքունիք!F42+Կոտայք!F42+Շիրակ!F42+Սյունիք!F42+Տավուշ!F42) -> 18 | G42: =SUM(Լոռի!G42+Արագածոտն!G42+Արմավիր!G42+Արարատ!G42+'Երևան քաղաք'!G42+Գեղարքունիք!G42+Կոտայք!G42+Շիրակ!G42+Սյունիք!G42+Տավուշ!G42) -> 5 | H42: =SUM(Լոռի!H42+Արագածոտն!H42+Արմավիր!H42+Արարատ!H42+'Երևան քաղաք'!H42+Գեղարքունիք!H42+Կոտայք!H42+Շիրակ!H42+Սյունիք!H42+Տավուշ!H42) -> 11 | I42: =SUM(Լոռի!I42+Արագածոտն!I42+Արմավիր!I42+Արարատ!I42+'Երևան քաղաք'!I42+Գեղարքունիք!I42+Կոտայք!I42+Շիրակ!I42+Սյունիք!I42+Տավուշ!I42) -> 1 | J42: =SUM(Լոռի!J42+Արագածոտն!J42+Արմավիր!J42+Արարատ!J42+'Երևան քաղաք'!J42+Գեղարքունիք!J42+Կոտայք!J42+Շիրակ!J42+Սյունիք!J42+Տավուշ!J42) -> 17 | K42: =SUM(Լոռի!K42+Արագածոտն!K42+Արմավիր!K42+Արարատ!K42+'Երևան քաղաք'!K42+Գեղարքունիք!K42+Կոտայք!K42+Շիրակ!K42+Սյունիք!K42+Տավուշ!K42) -> 0 | ... T42: =SUM(Լոռի!T42+Արագածոտն!T42+Արմավիր!T42+Արարատ!T42+'Երևան քաղաք'!T42+Գեղարքունիք!T42+Կոտայք!T42+Շիրակ!T42+Սյունիք!T42+Տավուշ!T42) -> 0
A43: 2.8 | B43: Այլ հանցագործություններ | D43: =SUM(Լոռի!D43+Արագածոտն!D43+Արմավիր!D43+Արարատ!D43+'Երևան քաղաք'!D43+Գեղարքունիք!D43+Կոտայք!D43+Շիրակ!D43+Սյունիք!D43+Տավուշ!D43) -> 13 | E43: =SUM(Լոռի!E43+Արագածոտն!E43+Արմավիր!E43+Արարատ!E43+'Երևան քաղաք'!E43+Գեղարքունիք!E43+Կոտայք!E43+Շիրակ!E43+Սյունիք!E43+Տավուշ!E43) -> 0 | F43: =SUM(Լոռի!F43+Արագածոտն!F43+Արմավիր!F43+Արարատ!F43+'Երևան քաղաք'!F43+Գեղարքունիք!F43+Կոտայք!F43+Շիրակ!F43+Սյունիք!F43+Տավուշ!F43) -> 104 | G43: =SUM(Լոռի!G43+Արագածոտն!G43+Արմավիր!G43+Արարատ!G43+'Երևան քաղաք'!G43+Գեղարքունիք!G43+Կոտայք!G43+Շիրակ!G43+Սյունիք!G43+Տավուշ!G43) -> 6 | H43: =SUM(Լոռի!H43+Արագածոտն!H43+Արմավիր!H43+Արարատ!H43+'Երևան քաղաք'!H43+Գեղարքունիք!H43+Կոտայք!H43+Շիրակ!H43+Սյունիք!H43+Տավուշ!H43) -> 102 | I43: =SUM(Լոռի!I43+Արագածոտն!I43+Արմավիր!I43+Արարատ!I43+'Երևան քաղաք'!I43+Գեղարքունիք!I43+Կոտայք!I43+Շիրակ!I43+Սյունիք!I43+Տավուշ!I43) -> 0 | J43: =SUM(Լոռի!J43+Արագածոտն!J43+Արմավիր!J43+Արարատ!J43+'Երևան քաղաք'!J43+Գեղարքունիք!J43+Կոտայք!J43+Շիրակ!J43+Սյունիք!J43+Տավուշ!J43) -> 108 | K43: =SUM(Լոռի!K43+Արագածոտն!K43+Արմավիր!K43+Արարատ!K43+'Երևան քաղաք'!K43+Գեղարքունիք!K43+Կոտայք!K43+Շիրակ!K43+Սյունիք!K43+Տավուշ!K43) -> 1 | ... T43: =SUM(Լոռի!T43+Արագածոտն!T43+Արմավիր!T43+Արարատ!T43+'Երևան քաղաք'!T43+Գեղարքունիք!T43+Կոտայք!T43+Շիրակ!T43+Սյունիք!T43+Տավուշ!T43) -> 0
A44: 3. | B44: Ընդամենը սեռական անձեռնմխելիության և սեռական ազատության դեմ ուղղված հանցագործությունները | D44: =SUM(Լոռի!D44+Արագածոտն!D44+Արմավիր!D44+Արարատ!D44+'Երևան քաղաք'!D44+Գեղարքունիք!D44+Կոտայք!D44+Շիրակ!D44+Սյունիք!D44+Տավուշ!D44) -> 72 | E44: =SUM(Լոռի!E44+Արագածոտն!E44+Արմավիր!E44+Արարատ!E44+'Երևան քաղաք'!E44+Գեղարքունիք!E44+Կոտայք!E44+Շիրակ!E44+Սյունիք!E44+Տավուշ!E44) -> 3 | F44: =SUM(Լոռի!F44+Արագածոտն!F44+Արմավիր!F44+Արարատ!F44+'Երևան քաղաք'!F44+Գեղարքունիք!F44+Կոտայք!F44+Շիրակ!F44+Սյունիք!F44+Տավուշ!F44) -> 31 | G44: =SUM(Լոռի!G44+Արագածոտն!G44+Արմավիր!G44+Արարատ!G44+'Երևան քաղաք'!G44+Գեղարքունիք!G44+Կոտայք!G44+Շիրակ!G44+Սյունիք!G44+Տավուշ!G44) -> 23 | H44: =SUM(Լոռի!H44+Արագածոտն!H44+Արմավիր!H44+Արարատ!H44+'Երևան քաղաք'!H44+Գեղարքունիք!H44+Կոտայք!H44+Շիրակ!H44+Սյունիք!H44+Տավուշ!H44) -> 0 | I44: =SUM(Լոռի!I44+Արագածոտն!I44+Արմավիր!I44+Արարատ!I44+'Երևան քաղաք'!I44+Գեղարքունիք!I44+Կոտայք!I44+Շիրակ!I44+Սյունիք!I44+Տավուշ!I44) -> 1 | J44: =SUM(Լոռի!J44+Արագածոտն!J44+Արմավիր!J44+Արարատ!J44+'Երևան քաղաք'!J44+Գեղարքունիք!J44+Կոտայք!J44+Շիրակ!J44+Սյունիք!J44+Տավուշ!J44) -> 24 | K44: =SUM(Լոռի!K44+Արագածոտն!K44+Արմավիր!K44+Արարատ!K44+'Երևան քաղաք'!K44+Գեղարքունիք!K44+Կոտայք!K44+Շիրակ!K44+Սյունիք!K44+Տավուշ!K44) -> 1 | ... T44: =SUM(Լոռի!T44+Արագածոտն!T44+Արմավիր!T44+Արարատ!T44+'Երևան քաղաք'!T44+Գեղարքունիք!T44+Կոտայք!T44+Շիրակ!T44+Սյունիք!T44+Տավուշ!T44) -> 1
A45: 3.1 | B45: Բռնաբարությունը | C45: 138 | D45: =SUM(Լոռի!D45+Արագածոտն!D45+Արմավիր!D45+Արարատ!D45+'Երևան քաղաք'!D45+Գեղարքունիք!D45+Կոտայք!D45+Շիրակ!D45+Սյունիք!D45+Տավուշ!D45) -> 15 | E45: =SUM(Լոռի!E45+Արագածոտն!E45+Արմավիր!E45+Արարատ!E45+'Երևան քաղաք'!E45+Գեղարքունիք!E45+Կոտայք!E45+Շիրակ!E45+Սյունիք!E45+Տավուշ!E45) -> 0 | F45: =SUM(Լոռի!F45+Արագածոտն!F45+Արմավիր!F45+Արարատ!F45+'Երևան քաղաք'!F45+Գեղարքունիք!F45+Կոտայք!F45+Շիրակ!F45+Սյունիք!F45+Տավուշ!F45) -> 9 | G45: =SUM(Լոռի!G45+Արագածոտն!G45+Արմավիր!G45+Արարատ!G45+'Երևան քաղաք'!G45+Գեղարքունիք!G45+Կոտայք!G45+Շիրակ!G45+Սյունիք!G45+Տավուշ!G45) -> 4 | H45: =SUM(Լոռի!H45+Արագածոտն!H45+Արմավիր!H45+Արարատ!H45+'Երևան քաղաք'!H45+Գեղարքունիք!H45+Կոտայք!H45+Շիրակ!H45+Սյունիք!H45+Տավուշ!H45) -> 0 | I45: =SUM(Լոռի!I45+Արագածոտն!I45+Արմավիր!I45+Արարատ!I45+'Երևան քաղաք'!I45+Գեղարքունիք!I45+Կոտայք!I45+Շիրակ!I45+Սյունիք!I45+Տավուշ!I45) -> 1 | J45: =SUM(Լոռի!J45+Արագածոտն!J45+Արմավիր!J45+Արարատ!J45+'Երևան քաղաք'!J45+Գեղարքունիք!J45+Կոտայք!J45+Շիրակ!J45+Սյունիք!J45+Տավուշ!J45) -> 5 | K45: =SUM(Լոռի!K45+Արագածոտն!K45+Արմավիր!K45+Արարատ!K45+'Երևան քաղաք'!K45+Գեղարքունիք!K45+Կոտայք!K45+Շիրակ!K45+Սյունիք!K45+Տավուշ!K45) -> 0 | ... T45: =SUM(Լոռի!T45+Արագածոտն!T45+Արմավիր!T45+Արարատ!T45+'Երևան քաղաք'!T45+Գեղարքունիք!T45+Կոտայք!T45+Շիրակ!T45+Սյունիք!T45+Տավուշ!T45) -> 0
A46: 3.2 | B46: Սեքսուալ բնույթի բռնի գործողությունները | C46: 139 | D46: =SUM(Լոռի!D46+Արագածոտն!D46+Արմավիր!D46+Արարատ!D46+'Երևան քաղաք'!D46+Գեղարքունիք!D46+Կոտայք!D46+Շիրակ!D46+Սյունիք!D46+Տավուշ!D46) -> 24 | E46: =SUM(Լոռի!E46+Արագածոտն!E46+Արմավիր!E46+Արարատ!E46+'Երևան քաղաք'!E46+Գեղարքունիք!E46+Կոտայք!E46+Շիրակ!E46+Սյունիք!E46+Տավուշ!E46) -> 0 | F46: =SUM(Լոռի!F46+Արագածոտն!F46+Արմավիր!F46+Արարատ!F46+'Երևան քաղաք'!F46+Գեղարքունիք!F46+Կոտայք!F46+Շիրակ!F46+Սյունիք!F46+Տավուշ!F46) -> 9 | G46: =SUM(Լոռի!G46+Արագածոտն!G46+Արմավիր!G46+Արարատ!G46+'Երևան քաղաք'!G46+Գեղարքունիք!G46+Կոտայք!G46+Շիրակ!G46+Սյունիք!G46+Տավուշ!G46) -> 10 | H46: =SUM(Լոռի!H46+Արագածոտն!H46+Արմավիր!H46+Արարատ!H46+'Երևան քաղաք'!H46+Գեղարքունիք!H46+Կոտայք!H46+Շիրակ!H46+Սյունիք!H46+Տավուշ!H46) -> 0 | I46: =SUM(Լոռի!I46+Արագածոտն!I46+Արմավիր!I46+Արարատ!I46+'Երևան քաղաք'!I46+Գեղարքունիք!I46+Կոտայք!I46+Շիրակ!I46+Սյունիք!I46+Տավուշ!I46) -> 0 | J46: =SUM(Լոռի!J46+Արագածոտն!J46+Արմավիր!J46+Արարատ!J46+'Երևան քաղաք'!J46+Գեղարքունիք!J46+Կոտայք!J46+Շիրակ!J46+Սյունիք!J46+Տավուշ!J46) -> 10 | K46: =SUM(Լոռի!K46+Արագածոտն!K46+Արմավիր!K46+Արարատ!K46+'Երևան քաղաք'!K46+Գեղարքունիք!K46+Կոտայք!K46+Շիրակ!K46+Սյունիք!K46+Տավուշ!K46) -> 0 | ... T46: =SUM(Լոռի!T46+Արագածոտն!T46+Արմավիր!T46+Արարատ!T46+'Երևան քաղաք'!T46+Գեղարքունիք!T46+Կոտայք!T46+Շիրակ!T46+Սյունիք!T46+Տավուշ!T46) -> 1
A47: 3.3 | B47: Սեռական հարաբերության կամ սեքսուալ բնույթի գործողություններին հարկադրելը | C47: 140 | D47: =SUM(Լոռի!D47+Արագածոտն!D47+Արմավիր!D47+Արարատ!D47+'Երևան քաղաք'!D47+Գեղարքունիք!D47+Կոտայք!D47+Շիրակ!D47+Սյունիք!D47+Տավուշ!D47) -> 4 | E47: =SUM(Լոռի!E47+Արագածոտն!E47+Արմավիր!E47+Արարատ!E47+'Երևան քաղաք'!E47+Գեղարքունիք!E47+Կոտայք!E47+Շիրակ!E47+Սյունիք!E47+Տավուշ!E47) -> 1 | F47: =SUM(Լոռի!F47+Արագածոտն!F47+Արմավիր!F47+Արարատ!F47+'Երևան քաղաք'!F47+Գեղարքունիք!F47+Կոտայք!F47+Շիրակ!F47+Սյունիք!F47+Տավուշ!F47) -> 1 | G47: =SUM(Լոռի!G47+Արագածոտն!G47+Արմավիր!G47+Արարատ!G47+'Երևան քաղաք'!G47+Գեղարքունիք!G47+Կոտայք!G47+Շիրակ!G47+Սյունիք!G47+Տավուշ!G47) -> 2 | H47: =SUM(Լոռի!H47+Արագածոտն!H47+Արմավիր!H47+Արարատ!H47+'Երևան քաղաք'!H47+Գեղարքունիք!H47+Կոտայք!H47+Շիրակ!H47+Սյունիք!H47+Տավուշ!H47) -> 0 | I47: =SUM(Լոռի!I47+Արագածոտն!I47+Արմավիր!I47+Արարատ!I47+'Երևան քաղաք'!I47+Գեղարքունիք!I47+Կոտայք!I47+Շիրակ!I47+Սյունիք!I47+Տավուշ!I47) -> 0 | J47: =SUM(Լոռի!J47+Արագածոտն!J47+Արմավիր!J47+Արարատ!J47+'Երևան քաղաք'!J47+Գեղարքունիք!J47+Կոտայք!J47+Շիրակ!J47+Սյունիք!J47+Տավուշ!J47) -> 2 | K47: =SUM(Լոռի!K47+Արագածոտն!K47+Արմավիր!K47+Արարատ!K47+'Երևան քաղաք'!K47+Գեղարքունիք!K47+Կոտայք!K47+Շիրակ!K47+Սյունիք!K47+Տավուշ!K47) -> 0 | ... T47: =SUM(Լոռի!T47+Արագածոտն!T47+Արմավիր!T47+Արարատ!T47+'Երևան քաղաք'!T47+Գեղարքունիք!T47+Կոտայք!T47+Շիրակ!T47+Սյունիք!T47+Տավուշ!T47) -> 0
A48: 3.4 | B48: Սեռական հարաբերությունը տասնվեց տարին չլրացած անձի հետ կամ սեքսուալ բնույթի գործողություններ կատարելը տասնվեց տարին չլրացած անձի նկատմամբ | C48: 141 | D48: =SUM(Լոռի!D48+Արագածոտն!D48+Արմավիր!D48+Արարատ!D48+'Երևան քաղաք'!D48+Գեղարքունիք!D48+Կոտայք!D48+Շիրակ!D48+Սյունիք!D48+Տավուշ!D48) -> 18 | E48: =SUM(Լոռի!E48+Արագածոտն!E48+Արմավիր!E48+Արարատ!E48+'Երևան քաղաք'!E48+Գեղարքունիք!E48+Կոտայք!E48+Շիրակ!E48+Սյունիք!E48+Տավուշ!E48) -> 2 | F48: =SUM(Լոռի!F48+Արագածոտն!F48+Արմավիր!F48+Արարատ!F48+'Երևան քաղաք'!F48+Գեղարքունիք!F48+Կոտայք!F48+Շիրակ!F48+Սյունիք!F48+Տավուշ!F48) -> 3 | G48: =SUM(Լոռի!G48+Արագածոտն!G48+Արմավիր!G48+Արարատ!G48+'Երևան քաղաք'!G48+Գեղարքունիք!G48+Կոտայք!G48+Շիրակ!G48+Սյունիք!G48+Տավուշ!G48) -> 3 | H48: =SUM(Լոռի!H48+Արագածոտն!H48+Արմավիր!H48+Արարատ!H48+'Երևան քաղաք'!H48+Գեղարքունիք!H48+Կոտայք!H48+Շիրակ!H48+Սյունիք!H48+Տավուշ!H48) -> 0 | I48: =SUM(Լոռի!I48+Արագածոտն!I48+Արմավիր!I48+Արարատ!I48+'Երևան քաղաք'!I48+Գեղարքունիք!I48+Կոտայք!I48+Շիրակ!I48+Սյունիք!I48+Տավուշ!I48) -> 0 | J48: =SUM(Լոռի!J48+Արագածոտն!J48+Արմավիր!J48+Արարատ!J48+'Երևան քաղաք'!J48+Գեղարքունիք!J48+Կոտայք!J48+Շիրակ!J48+Սյունիք!J48+Տավուշ!J48) -> 3 | K48: =SUM(Լոռի!K48+Արագածոտն!K48+Արմավիր!K48+Արարատ!K48+'Երևան քաղաք'!K48+Գեղարքունիք!K48+Կոտայք!K48+Շիրակ!K48+Սյունիք!K48+Տավուշ!K48) -> 0 | ... T48: =SUM(Լոռի!T48+Արագածոտն!T48+Արմավիր!T48+Արարատ!T48+'Երևան քաղաք'!T48+Գեղարքունիք!T48+Կոտայք!T48+Շիրակ!T48+Սյունիք!T48+Տավուշ!T48) -> 0
A49: 3.5 | B49: Անառակաբարո գործողությունները | C49: 142 | D49: =SUM(Լոռի!D49+Արագածոտն!D49+Արմավիր!D49+Արարատ!D49+'Երևան քաղաք'!D49+Գեղարքունիք!D49+Կոտայք!D49+Շիրակ!D49+Սյունիք!D49+Տավուշ!D49) -> 11 | E49: =SUM(Լոռի!E49+Արագածոտն!E49+Արմավիր!E49+Արարատ!E49+'Երևան քաղաք'!E49+Գեղարքունիք!E49+Կոտայք!E49+Շիրակ!E49+Սյունիք!E49+Տավուշ!E49) -> 0 | F49: =SUM(Լոռի!F49+Արագածոտն!F49+Արմավիր!F49+Արարատ!F49+'Երևան քաղաք'!F49+Գեղարքունիք!F49+Կոտայք!F49+Շիրակ!F49+Սյունիք!F49+Տավուշ!F49) -> 7 | G49: =SUM(Լոռի!G49+Արագածոտն!G49+Արմավիր!G49+Արարատ!G49+'Երևան քաղաք'!G49+Գեղարքունիք!G49+Կոտայք!G49+Շիրակ!G49+Սյունիք!G49+Տավուշ!G49) -> 3 | H49: =SUM(Լոռի!H49+Արագածոտն!H49+Արմավիր!H49+Արարատ!H49+'Երևան քաղաք'!H49+Գեղարքունիք!H49+Կոտայք!H49+Շիրակ!H49+Սյունիք!H49+Տավուշ!H49) -> 0 | I49: =SUM(Լոռի!I49+Արագածոտն!I49+Արմավիր!I49+Արարատ!I49+'Երևան քաղաք'!I49+Գեղարքունիք!I49+Կոտայք!I49+Շիրակ!I49+Սյունիք!I49+Տավուշ!I49) -> 0 | J49: =SUM(Լոռի!J49+Արագածոտն!J49+Արմավիր!J49+Արարատ!J49+'Երևան քաղաք'!J49+Գեղարքունիք!J49+Կոտայք!J49+Շիրակ!J49+Սյունիք!J49+Տավուշ!J49) -> 3 | K49: =SUM(Լոռի!K49+Արագածոտն!K49+Արմավիր!K49+Արարատ!K49+'Երևան քաղաք'!K49+Գեղարքունիք!K49+Կոտայք!K49+Շիրակ!K49+Սյունիք!K49+Տավուշ!K49) -> 1 | ... T49: =SUM(Լոռի!T49+Արագածոտն!T49+Արմավիր!T49+Արարատ!T49+'Երևան քաղաք'!T49+Գեղարքունիք!T49+Կոտայք!T49+Շիրակ!T49+Սյունիք!T49+Տավուշ!T49) -> 0
A50: 3.6 | B50: Այլ հանցագործություններ | D50: =SUM(Լոռի!D50+Արագածոտն!D50+Արմավիր!D50+Արարատ!D50+'Երևան քաղաք'!D50+Գեղարքունիք!D50+Կոտայք!D50+Շիրակ!D50+Սյունիք!D50+Տավուշ!D50) -> 0 | E50: =SUM(Լոռի!E50+Արագածոտն!E50+Արմավիր!E50+Արարատ!E50+'Երևան քաղաք'!E50+Գեղարքունիք!E50+Կոտայք!E50+Շիրակ!E50+Սյունիք!E50+Տավուշ!E50) -> 0 | F50: =SUM(Լոռի!F50+Արագածոտն!F50+Արմավիր!F50+Արարատ!F50+'Երևան քաղաք'!F50+Գեղարքունիք!F50+Կոտայք!F50+Շիրակ!F50+Սյունիք!F50+Տավուշ!F50) -> 2 | G50: =SUM(Լոռի!G50+Արագածոտն!G50+Արմավիր!G50+Արարատ!G50+'Երևան քաղաք'!G50+Գեղարքունիք!G50+Կոտայք!G50+Շիրակ!G50+Սյունիք!G50+Տավուշ!G50) -> 1 | H50: =SUM(Լոռի!H50+Արագածոտն!H50+Արմավիր!H50+Արարատ!H50+'Երևան քաղաք'!H50+Գեղարքունիք!H50+Կոտայք!H50+Շիրակ!H50+Սյունիք!H50+Տավուշ!H50) -> 0 | I50: =SUM(Լոռի!I50+Արագածոտն!I50+Արմավիր!I50+Արարատ!I50+'Երևան քաղաք'!I50+Գեղարքունիք!I50+Կոտայք!I50+Շիրակ!I50+Սյունիք!I50+Տավուշ!I50) -> 0 | J50: =SUM(Լոռի!J50+Արագածոտն!J50+Արմավիր!J50+Արարատ!J50+'Երևան քաղաք'!J50+Գեղարքունիք!J50+Կոտայք!J50+Շիրակ!J50+Սյունիք!J50+Տավուշ!J50) -> 1 | K50: =SUM(Լոռի!K50+Արագածոտն!K50+Արմավիր!K50+Արարատ!K50+'Երևան քաղաք'!K50+Գեղարքունիք!K50+Կոտայք!K50+Շիրակ!K50+Սյունիք!K50+Տավուշ!K50) -> 0 | ... T50: =SUM(Լոռի!T50+Արագածոտն!T50+Արմավիր!T50+Արարատ!T50+'Երևան քաղաք'!T50+Գեղարքունիք!T50+Կոտայք!T50+Շիրակ!T50+Սյունիք!T50+Տավուշ!T50) -> 0
A51: 4. | B51: Ընդամենը մարդու և քաղաքացու սահմանադրական իրավունքների և ազատությունների դեմ ուղղված հանցագործությունները | D51: =SUM(Լոռի!D51+Արագածոտն!D51+Արմավիր!D51+Արարատ!D51+'Երևան քաղաք'!D51+Գեղարքունիք!D51+Կոտայք!D51+Շիրակ!D51+Սյունիք!D51+Տավուշ!D51) -> 47 | E51: =SUM(Լոռի!E51+Արագածոտն!E51+Արմավիր!E51+Արարատ!E51+'Երևան քաղաք'!E51+Գեղարքունիք!E51+Կոտայք!E51+Շիրակ!E51+Սյունիք!E51+Տավուշ!E51) -> 1 | F51: =SUM(Լոռի!F51+Արագածոտն!F51+Արմավիր!F51+Արարատ!F51+'Երևան քաղաք'!F51+Գեղարքունիք!F51+Կոտայք!F51+Շիրակ!F51+Սյունիք!F51+Տավուշ!F51) -> 18 | G51: =SUM(Լոռի!G51+Արագածոտն!G51+Արմավիր!G51+Արարատ!G51+'Երևան քաղաք'!G51+Գեղարքունիք!G51+Կոտայք!G51+Շիրակ!G51+Սյունիք!G51+Տավուշ!G51) -> 16 | H51: =SUM(Լոռի!H51+Արագածոտն!H51+Արմավիր!H51+Արարատ!H51+'Երևան քաղաք'!H51+Գեղարքունիք!H51+Կոտայք!H51+Շիրակ!H51+Սյունիք!H51+Տավուշ!H51) -> 6 | I51: =SUM(Լոռի!I51+Արագածոտն!I51+Արմավիր!I51+Արարատ!I51+'Երևան քաղաք'!I51+Գեղարքունիք!I51+Կոտայք!I51+Շիրակ!I51+Սյունիք!I51+Տավուշ!I51) -> 0 | J51: =SUM(Լոռի!J51+Արագածոտն!J51+Արմավիր!J51+Արարատ!J51+'Երևան քաղաք'!J51+Գեղարքունիք!J51+Կոտայք!J51+Շիրակ!J51+Սյունիք!J51+Տավուշ!J51) -> 22 | K51: =SUM(Լոռի!K51+Արագածոտն!K51+Արմավիր!K51+Արարատ!K51+'Երևան քաղաք'!K51+Գեղարքունիք!K51+Կոտայք!K51+Շիրակ!K51+Սյունիք!K51+Տավուշ!K51) -> 8 | ... T51: =SUM(Լոռի!T51+Արագածոտն!T51+Արմավիր!T51+Արարատ!T51+'Երևան քաղաք'!T51+Գեղարքունիք!T51+Կոտայք!T51+Շիրակ!T51+Սյունիք!T51+Տավուշ!T51) -> 0
A52: 4.1 | B52: Մարդու և քաղաքացու իրավահավասարությունը խախտելը | C52: 143 | D52: =SUM(Լոռի!D52+Արագածոտն!D52+Արմավիր!D52+Արարատ!D52+'Երևան քաղաք'!D52+Գեղարքունիք!D52+Կոտայք!D52+Շիրակ!D52+Սյունիք!D52+Տավուշ!D52) -> 0 | E52: =SUM(Լոռի!E52+Արագածոտն!E52+Արմավիր!E52+Արարատ!E52+'Երևան քաղաք'!E52+Գեղարքունիք!E52+Կոտայք!E52+Շիրակ!E52+Սյունիք!E52+Տավուշ!E52) -> 0 | F52: =SUM(Լոռի!F52+Արագածոտն!F52+Արմավիր!F52+Արարատ!F52+'Երևան քաղաք'!F52+Գեղարքունիք!F52+Կոտայք!F52+Շիրակ!F52+Սյունիք!F52+Տավուշ!F52) -> 0 | G52: =SUM(Լոռի!G52+Արագածոտն!G52+Արմավիր!G52+Արարատ!G52+'Երևան քաղաք'!G52+Գեղարքունիք!G52+Կոտայք!G52+Շիրակ!G52+Սյունիք!G52+Տավուշ!G52) -> 0 | H52: =SUM(Լոռի!H52+Արագածոտն!H52+Արմավիր!H52+Արարատ!H52+'Երևան քաղաք'!H52+Գեղարքունիք!H52+Կոտայք!H52+Շիրակ!H52+Սյունիք!H52+Տավուշ!H52) -> 0 | I52: =SUM(Լոռի!I52+Արագածոտն!I52+Արմավիր!I52+Արարատ!I52+'Երևան քաղաք'!I52+Գեղարքունիք!I52+Կոտայք!I52+Շիրակ!I52+Սյունիք!I52+Տավուշ!I52) -> 0 | J52: =SUM(Լոռի!J52+Արագածոտն!J52+Արմավիր!J52+Արարատ!J52+'Երևան քաղաք'!J52+Գեղարքունիք!J52+Կոտայք!J52+Շիրակ!J52+Սյունիք!J52+Տավուշ!J52) -> 0 | K52: =SUM(Լոռի!K52+Արագածոտն!K52+Արմավիր!K52+Արարատ!K52+'Երևան քաղաք'!K52+Գեղարքունիք!K52+Կոտայք!K52+Շիրակ!K52+Սյունիք!K52+Տավուշ!K52) -> 0 | ... T52: =SUM(Լոռի!T52+Արագածոտն!T52+Արմավիր!T52+Արարատ!T52+'Երևան քաղաք'!T52+Գեղարքունիք!T52+Կոտայք!T52+Շիրակ!T52+Սյունիք!T52+Տավուշ!T52) -> 0
A53: 4.2 | B53: Անձնական կամ ընտանեկան կյանքի մասին տեղեկություններ ապօրինի հավաքելը, պահելը, օգտագործելը կամ տարածելը | C53: 144 | D53: =SUM(Լոռի!D53+Արագածոտն!D53+Արմավիր!D53+Արարատ!D53+'Երևան քաղաք'!D53+Գեղարքունիք!D53+Կոտայք!D53+Շիրակ!D53+Սյունիք!D53+Տավուշ!D53) -> 4 | E53: =SUM(Լոռի!E53+Արագածոտն!E53+Արմավիր!E53+Արարատ!E53+'Երևան քաղաք'!E53+Գեղարքունիք!E53+Կոտայք!E53+Շիրակ!E53+Սյունիք!E53+Տավուշ!E53) -> 0 | F53: =SUM(Լոռի!F53+Արագածոտն!F53+Արմավիր!F53+Արարատ!F53+'Երևան քաղաք'!F53+Գեղարքունիք!F53+Կոտայք!F53+Շիրակ!F53+Սյունիք!F53+Տավուշ!F53) -> 2 | G53: =SUM(Լոռի!G53+Արագածոտն!G53+Արմավիր!G53+Արարատ!G53+'Երևան քաղաք'!G53+Գեղարքունիք!G53+Կոտայք!G53+Շիրակ!G53+Սյունիք!G53+Տավուշ!G53) -> 1 | H53: =SUM(Լոռի!H53+Արագածոտն!H53+Արմավիր!H53+Արարատ!H53+'Երևան քաղաք'!H53+Գեղարքունիք!H53+Կոտայք!H53+Շիրակ!H53+Սյունիք!H53+Տավուշ!H53) -> 2 | I53: =SUM(Լոռի!I53+Արագածոտն!I53+Արմավիր!I53+Արարատ!I53+'Երևան քաղաք'!I53+Գեղարքունիք!I53+Կոտայք!I53+Շիրակ!I53+Սյունիք!I53+Տավուշ!I53) -> 0 | J53: =SUM(Լոռի!J53+Արագածոտն!J53+Արմավիր!J53+Արարատ!J53+'Երևան քաղաք'!J53+Գեղարքունիք!J53+Կոտայք!J53+Շիրակ!J53+Սյունիք!J53+Տավուշ!J53) -> 3 | K53: =SUM(Լոռի!K53+Արագածոտն!K53+Արմավիր!K53+Արարատ!K53+'Երևան քաղաք'!K53+Գեղարքունիք!K53+Կոտայք!K53+Շիրակ!K53+Սյունիք!K53+Տավուշ!K53) -> 0 | ... T53: =SUM(Լոռի!T53+Արագածոտն!T53+Արմավիր!T53+Արարատ!T53+'Երևան քաղաք'!T53+Գեղարքունիք!T53+Կոտայք!T53+Շիրակ!T53+Սյունիք!T53+Տավուշ!T53) -> 0
A54: 4.3 | B54: Բժշկական գաղտնիքը հրապարակելը | C54: 145 | D54: =SUM(Լոռի!D54+Արագածոտն!D54+Արմավիր!D54+Արարատ!D54+'Երևան քաղաք'!D54+Գեղարքունիք!D54+Կոտայք!D54+Շիրակ!D54+Սյունիք!D54+Տավուշ!D54) -> 0 | E54: =SUM(Լոռի!E54+Արագածոտն!E54+Արմավիր!E54+Արարատ!E54+'Երևան քաղաք'!E54+Գեղարքունիք!E54+Կոտայք!E54+Շիրակ!E54+Սյունիք!E54+Տավուշ!E54) -> 0 | F54: =SUM(Լոռի!F54+Արագածոտն!F54+Արմավիր!F54+Արարատ!F54+'Երևան քաղաք'!F54+Գեղարքունիք!F54+Կոտայք!F54+Շիրակ!F54+Սյունիք!F54+Տավուշ!F54) -> 0 | G54: =SUM(Լոռի!G54+Արագածոտն!G54+Արմավիր!G54+Արարատ!G54+'Երևան քաղաք'!G54+Գեղարքունիք!G54+Կոտայք!G54+Շիրակ!G54+Սյունիք!G54+Տավուշ!G54) -> 0 | H54: =SUM(Լոռի!H54+Արագածոտն!H54+Արմավիր!H54+Արարատ!H54+'Երևան քաղաք'!H54+Գեղարքունիք!H54+Կոտայք!H54+Շիրակ!H54+Սյունիք!H54+Տավուշ!H54) -> 0 | I54: =SUM(Լոռի!I54+Արագածոտն!I54+Արմավիր!I54+Արարատ!I54+'Երևան քաղաք'!I54+Գեղարքունիք!I54+Կոտայք!I54+Շիրակ!I54+Սյունիք!I54+Տավուշ!I54) -> 0 | J54: =SUM(Լոռի!J54+Արագածոտն!J54+Արմավիր!J54+Արարատ!J54+'Երևան քաղաք'!J54+Գեղարքունիք!J54+Կոտայք!J54+Շիրակ!J54+Սյունիք!J54+Տավուշ!J54) -> 0 | K54: =SUM(Լոռի!K54+Արագածոտն!K54+Արմավիր!K54+Արարատ!K54+'Երևան քաղաք'!K54+Գեղարքունիք!K54+Կոտայք!K54+Շիրակ!K54+Սյունիք!K54+Տավուշ!K54) -> 0 | ... T54: =SUM(Լոռի!T54+Արագածոտն!T54+Արմավիր!T54+Արարատ!T54+'Երևան քաղաք'!T54+Գեղարքունիք!T54+Կոտայք!T54+Շիրակ!T54+Սյունիք!T54+Տավուշ!T54) -> 0
A55: 4.4 | B55: Նամակագրության, հեռախոսային խոսակցությունների, փոստային, հեռագրական կամ այլ հաղորդումների գաղտնիությունը խախտելը | C55: 146 | D55: =SUM(Լոռի!D55+Արագածոտն!D55+Արմավիր!D55+Արարատ!D55+'Երևան քաղաք'!D55+Գեղարքունիք!D55+Կոտայք!D55+Շիրակ!D55+Սյունիք!D55+Տավուշ!D55) -> 0 | E55: =SUM(Լոռի!E55+Արագածոտն!E55+Արմավիր!E55+Արարատ!E55+'Երևան քաղաք'!E55+Գեղարքունիք!E55+Կոտայք!E55+Շիրակ!E55+Սյունիք!E55+Տավուշ!E55) -> 0 | F55: =SUM(Լոռի!F55+Արագածոտն!F55+Արմավիր!F55+Արարատ!F55+'Երևան քաղաք'!F55+Գեղարքունիք!F55+Կոտայք!F55+Շիրակ!F55+Սյունիք!F55+Տավուշ!F55) -> 0 | G55: =SUM(Լոռի!G55+Արագածոտն!G55+Արմավիր!G55+Արարատ!G55+'Երևան քաղաք'!G55+Գեղարքունիք!G55+Կոտայք!G55+Շիրակ!G55+Սյունիք!G55+Տավուշ!G55) -> 0 | H55: =SUM(Լոռի!H55+Արագածոտն!H55+Արմավիր!H55+Արարատ!H55+'Երևան քաղաք'!H55+Գեղարքունիք!H55+Կոտայք!H55+Շիրակ!H55+Սյունիք!H55+Տավուշ!H55) -> 0 | I55: =SUM(Լոռի!I55+Արագածոտն!I55+Արմավիր!I55+Արարատ!I55+'Երևան քաղաք'!I55+Գեղարքունիք!I55+Կոտայք!I55+Շիրակ!I55+Սյունիք!I55+Տավուշ!I55) -> 0 | J55: =SUM(Լոռի!J55+Արագածոտն!J55+Արմավիր!J55+Արարատ!J55+'Երևան քաղաք'!J55+Գեղարքունիք!J55+Կոտայք!J55+Շիրակ!J55+Սյունիք!J55+Տավուշ!J55) -> 0 | K55: =SUM(Լոռի!K55+Արագածոտն!K55+Արմավիր!K55+Արարատ!K55+'Երևան քաղաք'!K55+Գեղարքունիք!K55+Կոտայք!K55+Շիրակ!K55+Սյունիք!K55+Տավուշ!K55) -> 0 | ... T55: =SUM(Լոռի!T55+Արագածոտն!T55+Արմավիր!T55+Արարատ!T55+'Երևան քաղաք'!T55+Գեղարքունիք!T55+Կոտայք!T55+Շիրակ!T55+Սյունիք!T55+Տավուշ!T55) -> 0
A56: 4.5 | B56: Բնակարանի անձեռնմխելիությունը խախտելը | C56: 147 | D56: =SUM(Լոռի!D56+Արագածոտն!D56+Արմավիր!D56+Արարատ!D56+'Երևան քաղաք'!D56+Գեղարքունիք!D56+Կոտայք!D56+Շիրակ!D56+Սյունիք!D56+Տավուշ!D56) -> 12 | E56: =SUM(Լոռի!E56+Արագածոտն!E56+Արմավիր!E56+Արարատ!E56+'Երևան քաղաք'!E56+Գեղարքունիք!E56+Կոտայք!E56+Շիրակ!E56+Սյունիք!E56+Տավուշ!E56) -> 0 | F56: =SUM(Լոռի!F56+Արագածոտն!F56+Արմավիր!F56+Արարատ!F56+'Երևան քաղաք'!F56+Գեղարքունիք!F56+Կոտայք!F56+Շիրակ!F56+Սյունիք!F56+Տավուշ!F56) -> 8 | G56: =SUM(Լոռի!G56+Արագածոտն!G56+Արմավիր!G56+Արարատ!G56+'Երևան քաղաք'!G56+Գեղարքունիք!G56+Կոտայք!G56+Շիրակ!G56+Սյունիք!G56+Տավուշ!G56) -> 9 | H56: =SUM(Լոռի!H56+Արագածոտն!H56+Արմավիր!H56+Արարատ!H56+'Երևան քաղաք'!H56+Գեղարքունիք!H56+Կոտայք!H56+Շիրակ!H56+Սյունիք!H56+Տավուշ!H56) -> 4 | I56: =SUM(Լոռի!I56+Արագածոտն!I56+Արմավիր!I56+Արարատ!I56+'Երևան քաղաք'!I56+Գեղարքունիք!I56+Կոտայք!I56+Շիրակ!I56+Սյունիք!I56+Տավուշ!I56) -> 0 | J56: =SUM(Լոռի!J56+Արագածոտն!J56+Արմավիր!J56+Արարատ!J56+'Երևան քաղաք'!J56+Գեղարքունիք!J56+Կոտայք!J56+Շիրակ!J56+Սյունիք!J56+Տավուշ!J56) -> 13 | K56: =SUM(Լոռի!K56+Արագածոտն!K56+Արմավիր!K56+Արարատ!K56+'Երևան քաղաք'!K56+Գեղարքունիք!K56+Կոտայք!K56+Շիրակ!K56+Սյունիք!K56+Տավուշ!K56) -> 0 | ... T56: =SUM(Լոռի!T56+Արագածոտն!T56+Արմավիր!T56+Արարատ!T56+'Երևան քաղաք'!T56+Գեղարքունիք!T56+Կոտայք!T56+Շիրակ!T56+Սյունիք!T56+Տավուշ!T56) -> 0
A57: 4.6 | B57: Անձին տեղեկություն ներկայացնելուց հրաժարվելը | C57: 148 | D57: =SUM(Լոռի!D57+Արագածոտն!D57+Արմավիր!D57+Արարատ!D57+'Երևան քաղաք'!D57+Գեղարքունիք!D57+Կոտայք!D57+Շիրակ!D57+Սյունիք!D57+Տավուշ!D57) -> 0 | E57: =SUM(Լոռի!E57+Արագածոտն!E57+Արմավիր!E57+Արարատ!E57+'Երևան քաղաք'!E57+Գեղարքունիք!E57+Կոտայք!E57+Շիրակ!E57+Սյունիք!E57+Տավուշ!E57) -> 0 | F57: =SUM(Լոռի!F57+Արագածոտն!F57+Արմավիր!F57+Արարատ!F57+'Երևան քաղաք'!F57+Գեղարքունիք!F57+Կոտայք!F57+Շիրակ!F57+Սյունիք!F57+Տավուշ!F57) -> 0 | G57: =SUM(Լոռի!G57+Արագածոտն!G57+Արմավիր!G57+Արարատ!G57+'Երևան քաղաք'!G57+Գեղարքունիք!G57+Կոտայք!G57+Շիրակ!G57+Սյունիք!G57+Տավուշ!G57) -> 0 | H57: =SUM(Լոռի!H57+Արագածոտն!H57+Արմավիր!H57+Արարատ!H57+'Երևան քաղաք'!H57+Գեղարքունիք!H57+Կոտայք!H57+Շիրակ!H57+Սյունիք!H57+Տավուշ!H57) -> 0 | I57: =SUM(Լոռի!I57+Արագածոտն!I57+Արմավիր!I57+Արարատ!I57+'Երևան քաղաք'!I57+Գեղարքունիք!I57+Կոտայք!I57+Շիրակ!I57+Սյունիք!I57+Տավուշ!I57) -> 0 | J57: =SUM(Լոռի!J57+Արագածոտն!J57+Արմավիր!J57+Արարատ!J57+'Երևան քաղաք'!J57+Գեղարքունիք!J57+Կոտայք!J57+Շիրակ!J57+Սյունիք!J57+Տավուշ!J57) -> 0 | K57: =SUM(Լոռի!K57+Արագածոտն!K57+Արմավիր!K57+Արարատ!K57+'Երևան քաղաք'!K57+Գեղարքունիք!K57+Կոտայք!K57+Շիրակ!K57+Սյունիք!K57+Տավուշ!K57) -> 0 | ... T57: =SUM(Լոռի!T57+Արագածոտն!T57+Արմավիր!T57+Արարատ!T57+'Երևան քաղաք'!T57+Գեղարքունիք!T57+Կոտայք!T57+Շիրակ!T57+Սյունիք!T57+Տավուշ!T57) -> 0
A58: 4.7 | B58: Ընտրական իրավունքի իրականացմանը, ընտրական հանձնաժողովների աշխատանքներին կամ ընտրությանը մասնակցող անձանց լիազորությունների իրականացմանը խոչընդոտելը | C58: 149 | D58: =SUM(Լոռի!D58+Արագածոտն!D58+Արմավիր!D58+Արարատ!D58+'Երևան քաղաք'!D58+Գեղարքունիք!D58+Կոտայք!D58+Շիրակ!D58+Սյունիք!D58+Տավուշ!D58) -> 2 | E58: =SUM(Լոռի!E58+Արագածոտն!E58+Արմավիր!E58+Արարատ!E58+'Երևան քաղաք'!E58+Գեղարքունիք!E58+Կոտայք!E58+Շիրակ!E58+Սյունիք!E58+Տավուշ!E58) -> 1 | F58: =SUM(Լոռի!F58+Արագածոտն!F58+Արմավիր!F58+Արարատ!F58+'Երևան քաղաք'!F58+Գեղարքունիք!F58+Կոտայք!F58+Շիրակ!F58+Սյունիք!F58+Տավուշ!F58) -> 1 | G58: =SUM(Լոռի!G58+Արագածոտն!G58+Արմավիր!G58+Արարատ!G58+'Երևան քաղաք'!G58+Գեղարքունիք!G58+Կոտայք!G58+Շիրակ!G58+Սյունիք!G58+Տավուշ!G58) -> 0 | H58: =SUM(Լոռի!H58+Արագածոտն!H58+Արմավիր!H58+Արարատ!H58+'Երևան քաղաք'!H58+Գեղարքունիք!H58+Կոտայք!H58+Շիրակ!H58+Սյունիք!H58+Տավուշ!H58) -> 0 | I58: =SUM(Լոռի!I58+Արագածոտն!I58+Արմավիր!I58+Արարատ!I58+'Երևան քաղաք'!I58+Գեղարքունիք!I58+Կոտայք!I58+Շիրակ!I58+Սյունիք!I58+Տավուշ!I58) -> 0 | J58: =SUM(Լոռի!J58+Արագածոտն!J58+Արմավիր!J58+Արարատ!J58+'Երևան քաղաք'!J58+Գեղարքունիք!J58+Կոտայք!J58+Շիրակ!J58+Սյունիք!J58+Տավուշ!J58) -> 0 | K58: =SUM(Լոռի!K58+Արագածոտն!K58+Արմավիր!K58+Արարատ!K58+'Երևան քաղաք'!K58+Գեղարքունիք!K58+Կոտայք!K58+Շիրակ!K58+Սյունիք!K58+Տավուշ!K58) -> 1 | ... T58: =SUM(Լոռի!T58+Արագածոտն!T58+Արմավիր!T58+Արարատ!T58+'Երևան քաղաք'!T58+Գեղարքունիք!T58+Կոտայք!T58+Շիրակ!T58+Սյունիք!T58+Տավուշ!T58) -> 0
A59: 4.8 | B59: Ընտրությունների կամ քվեարկության արդյունքները կեղծելը | C59: 150 | D59: =SUM(Լոռի!D59+Արագածոտն!D59+Արմավիր!D59+Արարատ!D59+'Երևան քաղաք'!D59+Գեղարքունիք!D59+Կոտայք!D59+Շիրակ!D59+Սյունիք!D59+Տավուշ!D59) -> 0 | E59: =SUM(Լոռի!E59+Արագածոտն!E59+Արմավիր!E59+Արարատ!E59+'Երևան քաղաք'!E59+Գեղարքունիք!E59+Կոտայք!E59+Շիրակ!E59+Սյունիք!E59+Տավուշ!E59) -> 0 | F59: =SUM(Լոռի!F59+Արագածոտն!F59+Արմավիր!F59+Արարատ!F59+'Երևան քաղաք'!F59+Գեղարքունիք!F59+Կոտայք!F59+Շիրակ!F59+Սյունիք!F59+Տավուշ!F59) -> 0 | G59: =SUM(Լոռի!G59+Արագածոտն!G59+Արմավիր!G59+Արարատ!G59+'Երևան քաղաք'!G59+Գեղարքունիք!G59+Կոտայք!G59+Շիրակ!G59+Սյունիք!G59+Տավուշ!G59) -> 0 | H59: =SUM(Լոռի!H59+Արագածոտն!H59+Արմավիր!H59+Արարատ!H59+'Երևան քաղաք'!H59+Գեղարքունիք!H59+Կոտայք!H59+Շիրակ!H59+Սյունիք!H59+Տավուշ!H59) -> 0 | I59: =SUM(Լոռի!I59+Արագածոտն!I59+Արմավիր!I59+Արարատ!I59+'Երևան քաղաք'!I59+Գեղարքունիք!I59+Կոտայք!I59+Շիրակ!I59+Սյունիք!I59+Տավուշ!I59) -> 0 | J59: =SUM(Լոռի!J59+Արագածոտն!J59+Արմավիր!J59+Արարատ!J59+'Երևան քաղաք'!J59+Գեղարքունիք!J59+Կոտայք!J59+Շիրակ!J59+Սյունիք!J59+Տավուշ!J59) -> 0 | K59: =SUM(Լոռի!K59+Արագածոտն!K59+Արմավիր!K59+Արարատ!K59+'Երևան քաղաք'!K59+Գեղարքունիք!K59+Կոտայք!K59+Շիրակ!K59+Սյունիք!K59+Տավուշ!K59) -> 0 | ... T59: =SUM(Լոռի!T59+Արագածոտն!T59+Արմավիր!T59+Արարատ!T59+'Երևան քաղաք'!T59+Գեղարքունիք!T59+Կոտայք!T59+Շիրակ!T59+Սյունիք!T59+Տավուշ!T59) -> 0
A60: 4.10 | B60: Ընտրողների ցուցակները կազմելու, դրանք քաղաքացիներին և կուսակցություններին տրամադրելու կամ հրապարակելու կարգը խախտելը | C60: 152 | D60: =SUM(Լոռի!D60+Արագածոտն!D60+Արմավիր!D60+Արարատ!D60+'Երևան քաղաք'!D60+Գեղարքունիք!D60+Կոտայք!D60+Շիրակ!D60+Սյունիք!D60+Տավուշ!D60) -> 0 | E60: =SUM(Լոռի!E60+Արագածոտն!E60+Արմավիր!E60+Արարատ!E60+'Երևան քաղաք'!E60+Գեղարքունիք!E60+Կոտայք!E60+Շիրակ!E60+Սյունիք!E60+Տավուշ!E60) -> 0 | F60: =SUM(Լոռի!F60+Արագածոտն!F60+Արմավիր!F60+Արարատ!F60+'Երևան քաղաք'!F60+Գեղարքունիք!F60+Կոտայք!F60+Շիրակ!F60+Սյունիք!F60+Տավուշ!F60) -> 0 | G60: =SUM(Լոռի!G60+Արագածոտն!G60+Արմավիր!G60+Արարատ!G60+'Երևան քաղաք'!G60+Գեղարքունիք!G60+Կոտայք!G60+Շիրակ!G60+Սյունիք!G60+Տավուշ!G60) -> 0 | H60: =SUM(Լոռի!H60+Արագածոտն!H60+Արմավիր!H60+Արարատ!H60+'Երևան քաղաք'!H60+Գեղարքունիք!H60+Կոտայք!H60+Շիրակ!H60+Սյունիք!H60+Տավուշ!H60) -> 0 | I60: =SUM(Լոռի!I60+Արագածոտն!I60+Արմավիր!I60+Արարատ!I60+'Երևան քաղաք'!I60+Գեղարքունիք!I60+Կոտայք!I60+Շիրակ!I60+Սյունիք!I60+Տավուշ!I60) -> 0 | J60: =SUM(Լոռի!J60+Արագածոտն!J60+Արմավիր!J60+Արարատ!J60+'Երևան քաղաք'!J60+Գեղարքունիք!J60+Կոտայք!J60+Շիրակ!J60+Սյունիք!J60+Տավուշ!J60) -> 0 | K60: =SUM(Լոռի!K60+Արագածոտն!K60+Արմավիր!K60+Արարատ!K60+'Երևան քաղաք'!K60+Գեղարքունիք!K60+Կոտայք!K60+Շիրակ!K60+Սյունիք!K60+Տավուշ!K60) -> 0 | ... T60: =SUM(Լոռի!T60+Արագածոտն!T60+Արմավիր!T60+Արարատ!T60+'Երևան քաղաք'!T60+Գեղարքունիք!T60+Կոտայք!T60+Շիրակ!T60+Սյունիք!T60+Տավուշ!T60) -> 0
A61: 4.11 | B61: Մեկից ավելի անգամ կամ այլ անձի փոխարեն քվեարկելը | C61: 153 | D61: =SUM(Լոռի!D61+Արագածոտն!D61+Արմավիր!D61+Արարատ!D61+'Երևան քաղաք'!D61+Գեղարքունիք!D61+Կոտայք!D61+Շիրակ!D61+Սյունիք!D61+Տավուշ!D61) -> 2 | E61: =SUM(Լոռի!E61+Արագածոտն!E61+Արմավիր!E61+Արարատ!E61+'Երևան քաղաք'!E61+Գեղարքունիք!E61+Կոտայք!E61+Շիրակ!E61+Սյունիք!E61+Տավուշ!E61) -> 0 | F61: =SUM(Լոռի!F61+Արագածոտն!F61+Արմավիր!F61+Արարատ!F61+'Երևան քաղաք'!F61+Գեղարքունիք!F61+Կոտայք!F61+Շիրակ!F61+Սյունիք!F61+Տավուշ!F61) -> 1 | G61: =SUM(Լոռի!G61+Արագածոտն!G61+Արմավիր!G61+Արարատ!G61+'Երևան քաղաք'!G61+Գեղարքունիք!G61+Կոտայք!G61+Շիրակ!G61+Սյունիք!G61+Տավուշ!G61) -> 1 | H61: =SUM(Լոռի!H61+Արագածոտն!H61+Արմավիր!H61+Արարատ!H61+'Երևան քաղաք'!H61+Գեղարքունիք!H61+Կոտայք!H61+Շիրակ!H61+Սյունիք!H61+Տավուշ!H61) -> 0 | I61: =SUM(Լոռի!I61+Արագածոտն!I61+Արմավիր!I61+Արարատ!I61+'Երևան քաղաք'!I61+Գեղարքունիք!I61+Կոտայք!I61+Շիրակ!I61+Սյունիք!I61+Տավուշ!I61) -> 0 | J61: =SUM(Լոռի!J61+Արագածոտն!J61+Արմավիր!J61+Արարատ!J61+'Երևան քաղաք'!J61+Գեղարքունիք!J61+Կոտայք!J61+Շիրակ!J61+Սյունիք!J61+Տավուշ!J61) -> 1 | K61: =SUM(Լոռի!K61+Արագածոտն!K61+Արմավիր!K61+Արարատ!K61+'Երևան քաղաք'!K61+Գեղարքունիք!K61+Կոտայք!K61+Շիրակ!K61+Սյունիք!K61+Տավուշ!K61) -> 0 | ... T61: =SUM(Լոռի!T61+Արագածոտն!T61+Արմավիր!T61+Արարատ!T61+'Երևան քաղաք'!T61+Գեղարքունիք!T61+Կոտայք!T61+Շիրակ!T61+Սյունիք!T61+Տավուշ!T61) -> 0
A62: 4.12 | B62: Քվեարկության գաղտնիությունը խախտելը | C62: 154 | D62: =SUM(Լոռի!D62+Արագածոտն!D62+Արմավիր!D62+Արարատ!D62+'Երևան քաղաք'!D62+Գեղարքունիք!D62+Կոտայք!D62+Շիրակ!D62+Սյունիք!D62+Տավուշ!D62) -> 0 | E62: =SUM(Լոռի!E62+Արագածոտն!E62+Արմավիր!E62+Արարատ!E62+'Երևան քաղաք'!E62+Գեղարքունիք!E62+Կոտայք!E62+Շիրակ!E62+Սյունիք!E62+Տավուշ!E62) -> 0 | F62: =SUM(Լոռի!F62+Արագածոտն!F62+Արմավիր!F62+Արարատ!F62+'Երևան քաղաք'!F62+Գեղարքունիք!F62+Կոտայք!F62+Շիրակ!F62+Սյունիք!F62+Տավուշ!F62) -> 0 | G62: =SUM(Լոռի!G62+Արագածոտն!G62+Արմավիր!G62+Արարատ!G62+'Երևան քաղաք'!G62+Գեղարքունիք!G62+Կոտայք!G62+Շիրակ!G62+Սյունիք!G62+Տավուշ!G62) -> 0 | H62: =SUM(Լոռի!H62+Արագածոտն!H62+Արմավիր!H62+Արարատ!H62+'Երևան քաղաք'!H62+Գեղարքունիք!H62+Կոտայք!H62+Շիրակ!H62+Սյունիք!H62+Տավուշ!H62) -> 0 | I62: =SUM(Լոռի!I62+Արագածոտն!I62+Արմավիր!I62+Արարատ!I62+'Երևան քաղաք'!I62+Գեղարքունիք!I62+Կոտայք!I62+Շիրակ!I62+Սյունիք!I62+Տավուշ!I62) -> 0 | J62: =SUM(Լոռի!J62+Արագածոտն!J62+Արմավիր!J62+Արարատ!J62+'Երևան քաղաք'!J62+Գեղարքունիք!J62+Կոտայք!J62+Շիրակ!J62+Սյունիք!J62+Տավուշ!J62) -> 0 | K62: =SUM(Լոռի!K62+Արագածոտն!K62+Արմավիր!K62+Արարատ!K62+'Երևան քաղաք'!K62+Գեղարքունիք!K62+Կոտայք!K62+Շիրակ!K62+Սյունիք!K62+Տավուշ!K62) -> 0 | ... T62: =SUM(Լոռի!T62+Արագածոտն!T62+Արմավիր!T62+Արարատ!T62+'Երևան քաղաք'!T62+Գեղարքունիք!T62+Կոտայք!T62+Շիրակ!T62+Սյունիք!T62+Տավուշ!T62) -> 0
A63: 4.13 | B63: Կեղծ ընտրական քվեաթերթիկներ կամ քվեարկության ծրարներ, դրոշմանիշեր, կտրոններ պատրաստելը կամ ակնհայտ կեղծ ընտրական քվեաթերթիկներ կամ քվեարկության ծրարներ, դրոշմանիշեր, կտրոններ հանձնելը կամ իրացնելը | C63: 154.1 | D63: =SUM(Լոռի!D63+Արագածոտն!D63+Արմավիր!D63+Արարատ!D63+'Երևան քաղաք'!D63+Գեղարքունիք!D63+Կոտայք!D63+Շիրակ!D63+Սյունիք!D63+Տավուշ!D63) -> 0 | E63: =SUM(Լոռի!E63+Արագածոտն!E63+Արմավիր!E63+Արարատ!E63+'Երևան քաղաք'!E63+Գեղարքունիք!E63+Կոտայք!E63+Շիրակ!E63+Սյունիք!E63+Տավուշ!E63) -> 0 | F63: =SUM(Լոռի!F63+Արագածոտն!F63+Արմավիր!F63+Արարատ!F63+'Երևան քաղաք'!F63+Գեղարքունիք!F63+Կոտայք!F63+Շիրակ!F63+Սյունիք!F63+Տավուշ!F63) -> 0 | G63: =SUM(Լոռի!G63+Արագածոտն!G63+Արմավիր!G63+Արարատ!G63+'Երևան քաղաք'!G63+Գեղարքունիք!G63+Կոտայք!G63+Շիրակ!G63+Սյունիք!G63+Տավուշ!G63) -> 0 | H63: =SUM(Լոռի!H63+Արագածոտն!H63+Արմավիր!H63+Արարատ!H63+'Երևան քաղաք'!H63+Գեղարքունիք!H63+Կոտայք!H63+Շիրակ!H63+Սյունիք!H63+Տավուշ!H63) -> 0 | I63: =SUM(Լոռի!I63+Արագածոտն!I63+Արմավիր!I63+Արարատ!I63+'Երևան քաղաք'!I63+Գեղարքունիք!I63+Կոտայք!I63+Շիրակ!I63+Սյունիք!I63+Տավուշ!I63) -> 0 | J63: =SUM(Լոռի!J63+Արագածոտն!J63+Արմավիր!J63+Արարատ!J63+'Երևան քաղաք'!J63+Գեղարքունիք!J63+Կոտայք!J63+Շիրակ!J63+Սյունիք!J63+Տավուշ!J63) -> 0 | K63: =SUM(Լոռի!K63+Արագածոտն!K63+Արմավիր!K63+Արարատ!K63+'Երևան քաղաք'!K63+Գեղարքունիք!K63+Կոտայք!K63+Շիրակ!K63+Սյունիք!K63+Տավուշ!K63) -> 0 | ... T63: =SUM(Լոռի!T63+Արագածոտն!T63+Արմավիր!T63+Արարատ!T63+'Երևան քաղաք'!T63+Գեղարքունիք!T63+Կոտայք!T63+Շիրակ!T63+Սյունիք!T63+Տավուշ!T63) -> 0
... A79: 4.27 | B79: Լրագրողի մասնագիտական օրինական գործողությանը խոչընդոտելը | C79: 164 | D79: =SUM(Լոռի!D79+Արագածոտն!D79+Արմավիր!D79+Արարատ!D79+'Երևան քաղաք'!D79+Գեղարքունիք!D79+Կոտայք!D79+Շիրակ!D79+Սյունիք!D79+Տավուշ!D79) -> 1 | E79: =SUM(Լոռի!E79+Արագածոտն!E79+Արմավիր!E79+Արարատ!E79+'Երևան քաղաք'!E79+Գեղարքունիք!E79+Կոտայք!E79+Շիրակ!E79+Սյունիք!E79+Տավուշ!E79) -> 0 | F79: =SUM(Լոռի!F79+Արագածոտն!F79+Արմավիր!F79+Արարատ!F79+'Երևան քաղաք'!F79+Գեղարքունիք!F79+Կոտայք!F79+Շիրակ!F79+Սյունիք!F79+Տավուշ!F79) -> 0 | G79: =SUM(Լոռի!G79+Արագածոտն!G79+Արմավիր!G79+Արարատ!G79+'Երևան քաղաք'!G79+Գեղարքունիք!G79+Կոտայք!G79+Շիրակ!G79+Սյունիք!G79+Տավուշ!G79) -> 1 | H79: =SUM(Լոռի!H79+Արագածոտն!H79+Արմավիր!H79+Արարատ!H79+'Երևան քաղաք'!H79+Գեղարքունիք!H79+Կոտայք!H79+Շիրակ!H79+Սյունիք!H79+Տավուշ!H79) -> 0 | I79: =SUM(Լոռի!I79+Արագածոտն!I79+Արմավիր!I79+Արարատ!I79+'Երևան քաղաք'!I79+Գեղարքունիք!I79+Կոտայք!I79+Շիրակ!I79+Սյունիք!I79+Տավուշ!I79) -> 0 | J79: =SUM(Լոռի!J79+Արագածոտն!J79+Արմավիր!J79+Արարատ!J79+'Երևան քաղաք'!J79+Գեղարքունիք!J79+Կոտայք!J79+Շիրակ!J79+Սյունիք!J79+Տավուշ!J79) -> 1 | K79: =SUM(Լոռի!K79+Արագածոտն!K79+Արմավիր!K79+Արարատ!K79+'Երևան քաղաք'!K79+Գեղարքունիք!K79+Կոտայք!K79+Շիրակ!K79+Սյունիք!K79+Տավուշ!K79) -> 0 | ... T79: =SUM(Լոռի!T79+Արագածոտն!T79+Արմավիր!T79+Արարատ!T79+'Երևան քաղաք'!T79+Գեղարքունիք!T79+Կոտայք!T79+Շիրակ!T79+Սյունիք!T79+Տավուշ!T79) -> 0
A80: 4.28 | B80: Այլ հանցագործություններ | D80: =SUM(Լոռի!D80+Արագածոտն!D80+Արմավիր!D80+Արարատ!D80+'Երևան քաղաք'!D80+Գեղարքունիք!D80+Կոտայք!D80+Շիրակ!D80+Սյունիք!D80+Տավուշ!D80) -> 1 | E80: =SUM(Լոռի!E80+Արագածոտն!E80+Արմավիր!E80+Արարատ!E80+'Երևան քաղաք'!E80+Գեղարքունիք!E80+Կոտայք!E80+Շիրակ!E80+Սյունիք!E80+Տավուշ!E80) -> 0 | F80: =SUM(Լոռի!F80+Արագածոտն!F80+Արմավիր!F80+Արարատ!F80+'Երևան քաղաք'!F80+Գեղարքունիք!F80+Կոտայք!F80+Շիրակ!F80+Սյունիք!F80+Տավուշ!F80) -> 0 | G80: =SUM(Լոռի!G80+Արագածոտն!G80+Արմավիր!G80+Արարատ!G80+'Երևան քաղաք'!G80+Գեղարքունիք!G80+Կոտայք!G80+Շիրակ!G80+Սյունիք!G80+Տավուշ!G80) -> 0 | H80: =SUM(Լոռի!H80+Արագածոտն!H80+Արմավիր!H80+Արարատ!H80+'Երևան քաղաք'!H80+Գեղարքունիք!H80+Կոտայք!H80+Շիրակ!H80+Սյունիք!H80+Տավուշ!H80) -> 0 | I80: =SUM(Լոռի!I80+Արագածոտն!I80+Արմավիր!I80+Արարատ!I80+'Երևան քաղաք'!I80+Գեղարքունիք!I80+Կոտայք!I80+Շիրակ!I80+Սյունիք!I80+Տավուշ!I80) -> 0 | J80: =SUM(Լոռի!J80+Արագածոտն!J80+Արմավիր!J80+Արարատ!J80+'Երևան քաղաք'!J80+Գեղարքունիք!J80+Կոտայք!J80+Շիրակ!J80+Սյունիք!J80+Տավուշ!J80) -> 0 | K80: =SUM(Լոռի!K80+Արագածոտն!K80+Արմավիր!K80+Արարատ!K80+'Երևան քաղաք'!K80+Գեղարքունիք!K80+Կոտայք!K80+Շիրակ!K80+Սյունիք!K80+Տավուշ!K80) -> 1 | ... T80: =SUM(Լոռի!T80+Արագածոտն!T80+Արմավիր!T80+Արարատ!T80+'Երևան քաղաք'!T80+Գեղարքունիք!T80+Կոտայք!T80+Շիրակ!T80+Սյունիք!T80+Տավուշ!T80) -> 0
A81: 5. | B81: Ընդամենը ընտանիքի և երեխայի շահերի դեմ ուղղված հանցագործությունները | D81: =SUM(Լոռի!D81+Արագածոտն!D81+Արմավիր!D81+Արարատ!D81+'Երևան քաղաք'!D81+Գեղարքունիք!D81+Կոտայք!D81+Շիրակ!D81+Սյունիք!D81+Տավուշ!D81) -> 20 | E81: =SUM(Լոռի!E81+Արագածոտն!E81+Արմավիր!E81+Արարատ!E81+'Երևան քաղաք'!E81+Գեղարքունիք!E81+Կոտայք!E81+Շիրակ!E81+Սյունիք!E81+Տավուշ!E81) -> 0 | F81: =SUM(Լոռի!F81+Արագածոտն!F81+Արմավիր!F81+Արարատ!F81+'Երևան քաղաք'!F81+Գեղարքունիք!F81+Կոտայք!F81+Շիրակ!F81+Սյունիք!F81+Տավուշ!F81) -> 5 | G81: =SUM(Լոռի!G81+Արագածոտն!G81+Արմավիր!G81+Արարատ!G81+'Երևան քաղաք'!G81+Գեղարքունիք!G81+Կոտայք!G81+Շիրակ!G81+Սյունիք!G81+Տավուշ!G81) -> 3 | H81: =SUM(Լոռի!H81+Արագածոտն!H81+Արմավիր!H81+Արարատ!H81+'Երևան քաղաք'!H81+Գեղարքունիք!H81+Կոտայք!H81+Շիրակ!H81+Սյունիք!H81+Տավուշ!H81) -> 6 | I81: =SUM(Լոռի!I81+Արագածոտն!I81+Արմավիր!I81+Արարատ!I81+'Երևան քաղաք'!I81+Գեղարքունիք!I81+Կոտայք!I81+Շիրակ!I81+Սյունիք!I81+Տավուշ!I81) -> 0 | J81: =SUM(Լոռի!J81+Արագածոտն!J81+Արմավիր!J81+Արարատ!J81+'Երևան քաղաք'!J81+Գեղարքունիք!J81+Կոտայք!J81+Շիրակ!J81+Սյունիք!J81+Տավուշ!J81) -> 9 | K81: =SUM(Լոռի!K81+Արագածոտն!K81+Արմավիր!K81+Արարատ!K81+'Երևան քաղաք'!K81+Գեղարքունիք!K81+Կոտայք!K81+Շիրակ!K81+Սյունիք!K81+Տավուշ!K81) -> 0 | ... T81: =SUM(Լոռի!T81+Արագածոտն!T81+Արմավիր!T81+Արարատ!T81+'Երևան քաղաք'!T81+Գեղարքունիք!T81+Կոտայք!T81+Շիրակ!T81+Սյունիք!T81+Տավուշ!T81) -> 0
A82: 5.1 | B82: Անչափահասին հանցանքի կատարմանը ներգրավելը | C82: 165 | D82: =SUM(Լոռի!D82+Արագածոտն!D82+Արմավիր!D82+Արարատ!D82+'Երևան քաղաք'!D82+Գեղարքունիք!D82+Կոտայք!D82+Շիրակ!D82+Սյունիք!D82+Տավուշ!D82) -> 4 | E82: =SUM(Լոռի!E82+Արագածոտն!E82+Արմավիր!E82+Արարատ!E82+'Երևան քաղաք'!E82+Գեղարքունիք!E82+Կոտայք!E82+Շիրակ!E82+Սյունիք!E82+Տավուշ!E82) -> 0 | F82: =SUM(Լոռի!F82+Արագածոտն!F82+Արմավիր!F82+Արարատ!F82+'Երևան քաղաք'!F82+Գեղարքունիք!F82+Կոտայք!F82+Շիրակ!F82+Սյունիք!F82+Տավուշ!F82) -> 0 | G82: =SUM(Լոռի!G82+Արագածոտն!G82+Արմավիր!G82+Արարատ!G82+'Երևան քաղաք'!G82+Գեղարքունիք!G82+Կոտայք!G82+Շիրակ!G82+Սյունիք!G82+Տավուշ!G82) -> 1 | H82: =SUM(Լոռի!H82+Արագածոտն!H82+Արմավիր!H82+Արարատ!H82+'Երևան քաղաք'!H82+Գեղարքունիք!H82+Կոտայք!H82+Շիրակ!H82+Սյունիք!H82+Տավուշ!H82) -> 0 | I82: =SUM(Լոռի!I82+Արագածոտն!I82+Արմավիր!I82+Արարատ!I82+'Երևան քաղաք'!I82+Գեղարքունիք!I82+Կոտայք!I82+Շիրակ!I82+Սյունիք!I82+Տավուշ!I82) -> 0 | J82: =SUM(Լոռի!J82+Արագածոտն!J82+Արմավիր!J82+Արարատ!J82+'Երևան քաղաք'!J82+Գեղարքունիք!J82+Կոտայք!J82+Շիրակ!J82+Սյունիք!J82+Տավուշ!J82) -> 1 | K82: =SUM(Լոռի!K82+Արագածոտն!K82+Արմավիր!K82+Արարատ!K82+'Երևան քաղաք'!K82+Գեղարքունիք!K82+Կոտայք!K82+Շիրակ!K82+Սյունիք!K82+Տավուշ!K82) -> 0 | ... T82: =SUM(Լոռի!T82+Արագածոտն!T82+Արմավիր!T82+Արարատ!T82+'Երևան քաղաք'!T82+Գեղարքունիք!T82+Կոտայք!T82+Շիրակ!T82+Սյունիք!T82+Տավուշ!T82) -> 0
A83: 5.2 | B83: Երեխային պոռնկության կամ պոռնկագրական բնույթի նյութեր կամ առարկաներ պատրաստելու հետ կապված գործողություններ կատարելուն ներգրավելը | C83: 166 | D83: =SUM(Լոռի!D83+Արագածոտն!D83+Արմավիր!D83+Արարատ!D83+'Երևան քաղաք'!D83+Գեղարքունիք!D83+Կոտայք!D83+Շիրակ!D83+Սյունիք!D83+Տավուշ!D83) -> 0 | E83: =SUM(Լոռի!E83+Արագածոտն!E83+Արմավիր!E83+Արարատ!E83+'Երևան քաղաք'!E83+Գեղարքունիք!E83+Կոտայք!E83+Շիրակ!E83+Սյունիք!E83+Տավուշ!E83) -> 0 | F83: =SUM(Լոռի!F83+Արագածոտն!F83+Արմավիր!F83+Արարատ!F83+'Երևան քաղաք'!F83+Գեղարքունիք!F83+Կոտայք!F83+Շիրակ!F83+Սյունիք!F83+Տավուշ!F83) -> 0 | G83: =SUM(Լոռի!G83+Արագածոտն!G83+Արմավիր!G83+Արարատ!G83+'Երևան քաղաք'!G83+Գեղարքունիք!G83+Կոտայք!G83+Շիրակ!G83+Սյունիք!G83+Տավուշ!G83) -> 0 | H83: =SUM(Լոռի!H83+Արագածոտն!H83+Արմավիր!H83+Արարատ!H83+'Երևան քաղաք'!H83+Գեղարքունիք!H83+Կոտայք!H83+Շիրակ!H83+Սյունիք!H83+Տավուշ!H83) -> 0 | I83: =SUM(Լոռի!I83+Արագածոտն!I83+Արմավիր!I83+Արարատ!I83+'Երևան քաղաք'!I83+Գեղարքունիք!I83+Կոտայք!I83+Շիրակ!I83+Սյունիք!I83+Տավուշ!I83) -> 0 | J83: =SUM(Լոռի!J83+Արագածոտն!J83+Արմավիր!J83+Արարատ!J83+'Երևան քաղաք'!J83+Գեղարքունիք!J83+Կոտայք!J83+Շիրակ!J83+Սյունիք!J83+Տավուշ!J83) -> 0 | K83: =SUM(Լոռի!K83+Արագածոտն!K83+Արմավիր!K83+Արարատ!K83+'Երևան քաղաք'!K83+Գեղարքունիք!K83+Կոտայք!K83+Շիրակ!K83+Սյունիք!K83+Տավուշ!K83) -> 0 | ... T83: =SUM(Լոռի!T83+Արագածոտն!T83+Արմավիր!T83+Արարատ!T83+'Երևան քաղաք'!T83+Գեղարքունիք!T83+Կոտայք!T83+Շիրակ!T83+Սյունիք!T83+Տավուշ!T83) -> 0
A84: 5.2.1 | B84: Երեխային ոգելից խմիչքների օգտագործմանը, ուժեղ ներգործող կամ այլ թմրեցնող նյութերի ոչ բժշկական օգտագործմանը, թափառաշրջիկությանը ներգրավելը կամ մուրացկանության հետ կապված գործողություններ կատարելուն ներգրավելը | C84: 166.1 | D84: =SUM(Լոռի!D84+Արագածոտն!D84+Արմավիր!D84+Արարատ!D84+'Երևան քաղաք'!D84+Գեղարքունիք!D84+Կոտայք!D84+Շիրակ!D84+Սյունիք!D84+Տավուշ!D84) -> 0 | E84: =SUM(Լոռի!E84+Արագածոտն!E84+Արմավիր!E84+Արարատ!E84+'Երևան քաղաք'!E84+Գեղարքունիք!E84+Կոտայք!E84+Շիրակ!E84+Սյունիք!E84+Տավուշ!E84) -> 0 | F84: =SUM(Լոռի!F84+Արագածոտն!F84+Արմավիր!F84+Արարատ!F84+'Երևան քաղաք'!F84+Գեղարքունիք!F84+Կոտայք!F84+Շիրակ!F84+Սյունիք!F84+Տավուշ!F84) -> 0 | G84: =SUM(Լոռի!G84+Արագածոտն!G84+Արմավիր!G84+Արարատ!G84+'Երևան քաղաք'!G84+Գեղարքունիք!G84+Կոտայք!G84+Շիրակ!G84+Սյունիք!G84+Տավուշ!G84) -> 0 | H84: =SUM(Լոռի!H84+Արագածոտն!H84+Արմավիր!H84+Արարատ!H84+'Երևան քաղաք'!H84+Գեղարքունիք!H84+Կոտայք!H84+Շիրակ!H84+Սյունիք!H84+Տավուշ!H84) -> 0 | I84: =SUM(Լոռի!I84+Արագածոտն!I84+Արմավիր!I84+Արարատ!I84+'Երևան քաղաք'!I84+Գեղարքունիք!I84+Կոտայք!I84+Շիրակ!I84+Սյունիք!I84+Տավուշ!I84) -> 0 | J84: =SUM(Լոռի!J84+Արագածոտն!J84+Արմավիր!J84+Արարատ!J84+'Երևան քաղաք'!J84+Գեղարքունիք!J84+Կոտայք!J84+Շիրակ!J84+Սյունիք!J84+Տավուշ!J84) -> 0 | K84: =SUM(Լոռի!K84+Արագածոտն!K84+Արմավիր!K84+Արարատ!K84+'Երևան քաղաք'!K84+Գեղարքունիք!K84+Կոտայք!K84+Շիրակ!K84+Սյունիք!K84+Տավուշ!K84) -> 0 | ... T84: =SUM(Լոռի!T84+Արագածոտն!T84+Արմավիր!T84+Արարատ!T84+'Երևան քաղաք'!T84+Գեղարքունիք!T84+Կոտայք!T84+Շիրակ!T84+Սյունիք!T84+Տավուշ!T84) -> 0
A85: 5.3 | B85: Ծնողներից երեխային ապօրինի բաժանելը կամ երեխային փոխելը | C85: 167 | D85: =SUM(Լոռի!D85+Արագածոտն!D85+Արմավիր!D85+Արարատ!D85+'Երևան քաղաք'!D85+Գեղարքունիք!D85+Կոտայք!D85+Շիրակ!D85+Սյունիք!D85+Տավուշ!D85) -> 4 | E85: =SUM(Լոռի!E85+Արագածոտն!E85+Արմավիր!E85+Արարատ!E85+'Երևան քաղաք'!E85+Գեղարքունիք!E85+Կոտայք!E85+Շիրակ!E85+Սյունիք!E85+Տավուշ!E85) -> 0 | F85: =SUM(Լոռի!F85+Արագածոտն!F85+Արմավիր!F85+Արարատ!F85+'Երևան քաղաք'!F85+Գեղարքունիք!F85+Կոտայք!F85+Շիրակ!F85+Սյունիք!F85+Տավուշ!F85) -> 1 | G85: =SUM(Լոռի!G85+Արագածոտն!G85+Արմավիր!G85+Արարատ!G85+'Երևան քաղաք'!G85+Գեղարքունիք!G85+Կոտայք!G85+Շիրակ!G85+Սյունիք!G85+Տավուշ!G85) -> 0 | H85: =SUM(Լոռի!H85+Արագածոտն!H85+Արմավիր!H85+Արարատ!H85+'Երևան քաղաք'!H85+Գեղարքունիք!H85+Կոտայք!H85+Շիրակ!H85+Սյունիք!H85+Տավուշ!H85) -> 3 | I85: =SUM(Լոռի!I85+Արագածոտն!I85+Արմավիր!I85+Արարատ!I85+'Երևան քաղաք'!I85+Գեղարքունիք!I85+Կոտայք!I85+Շիրակ!I85+Սյունիք!I85+Տավուշ!I85) -> 0 | J85: =SUM(Լոռի!J85+Արագածոտն!J85+Արմավիր!J85+Արարատ!J85+'Երևան քաղաք'!J85+Գեղարքունիք!J85+Կոտայք!J85+Շիրակ!J85+Սյունիք!J85+Տավուշ!J85) -> 3 | K85: =SUM(Լոռի!K85+Արագածոտն!K85+Արմավիր!K85+Արարատ!K85+'Երևան քաղաք'!K85+Գեղարքունիք!K85+Կոտայք!K85+Շիրակ!K85+Սյունիք!K85+Տավուշ!K85) -> 0 | ... T85: =SUM(Լոռի!T85+Արագածոտն!T85+Արմավիր!T85+Արարատ!T85+'Երևան քաղաք'!T85+Գեղարքունիք!T85+Կոտայք!T85+Շիրակ!T85+Սյունիք!T85+Տավուշ!T85) -> 0
A86: 5.4 | B86: Խնամքը ստանձնելու նպատակով երեխայի առքը կամ ստանձնողի խնամքին հանձնելու նպատակով երեխայի վաճառքը | C86: 168 | D86: =SUM(Լոռի!D86+Արագածոտն!D86+Արմավիր!D86+Արարատ!D86+'Երևան քաղաք'!D86+Գեղարքունիք!D86+Կոտայք!D86+Շիրակ!D86+Սյունիք!D86+Տավուշ!D86) -> 5 | E86: =SUM(Լոռի!E86+Արագածոտն!E86+Արմավիր!E86+Արարատ!E86+'Երևան քաղաք'!E86+Գեղարքունիք!E86+Կոտայք!E86+Շիրակ!E86+Սյունիք!E86+Տավուշ!E86) -> 0 | F86: =SUM(Լոռի!F86+Արագածոտն!F86+Արմավիր!F86+Արարատ!F86+'Երևան քաղաք'!F86+Գեղարքունիք!F86+Կոտայք!F86+Շիրակ!F86+Սյունիք!F86+Տավուշ!F86) -> 0 | G86: =SUM(Լոռի!G86+Արագածոտն!G86+Արմավիր!G86+Արարատ!G86+'Երևան քաղաք'!G86+Գեղարքունիք!G86+Կոտայք!G86+Շիրակ!G86+Սյունիք!G86+Տավուշ!G86) -> 0 | H86: =SUM(Լոռի!H86+Արագածոտն!H86+Արմավիր!H86+Արարատ!H86+'Երևան քաղաք'!H86+Գեղարքունիք!H86+Կոտայք!H86+Շիրակ!H86+Սյունիք!H86+Տավուշ!H86) -> 0 | I86: =SUM(Լոռի!I86+Արագածոտն!I86+Արմավիր!I86+Արարատ!I86+'Երևան քաղաք'!I86+Գեղարքունիք!I86+Կոտայք!I86+Շիրակ!I86+Սյունիք!I86+Տավուշ!I86) -> 0 | J86: =SUM(Լոռի!J86+Արագածոտն!J86+Արմավիր!J86+Արարատ!J86+'Երևան քաղաք'!J86+Գեղարքունիք!J86+Կոտայք!J86+Շիրակ!J86+Սյունիք!J86+Տավուշ!J86) -> 0 | K86: =SUM(Լոռի!K86+Արագածոտն!K86+Արմավիր!K86+Արարատ!K86+'Երևան քաղաք'!K86+Գեղարքունիք!K86+Կոտայք!K86+Շիրակ!K86+Սյունիք!K86+Տավուշ!K86) -> 0 | ... T86: =SUM(Լոռի!T86+Արագածոտն!T86+Արմավիր!T86+Արարատ!T86+'Երևան քաղաք'!T86+Գեղարքունիք!T86+Կոտայք!T86+Շիրակ!T86+Սյունիք!T86+Տավուշ!T86) -> 0
A87: 5.5 | B87: Որդեգրման գաղտնիքը հրապարակելը կամ որդեգրման համաձայնություն տալուն հակելը կամ հարկադրելը | C87: 169 | D87: =SUM(Լոռի!D87+Արագածոտն!D87+Արմավիր!D87+Արարատ!D87+'Երևան քաղաք'!D87+Գեղարքունիք!D87+Կոտայք!D87+Շիրակ!D87+Սյունիք!D87+Տավուշ!D87) -> 0 | E87: =SUM(Լոռի!E87+Արագածոտն!E87+Արմավիր!E87+Արարատ!E87+'Երևան քաղաք'!E87+Գեղարքունիք!E87+Կոտայք!E87+Շիրակ!E87+Սյունիք!E87+Տավուշ!E87) -> 0 | F87: =SUM(Լոռի!F87+Արագածոտն!F87+Արմավիր!F87+Արարատ!F87+'Երևան քաղաք'!F87+Գեղարքունիք!F87+Կոտայք!F87+Շիրակ!F87+Սյունիք!F87+Տավուշ!F87) -> 0 | G87: =SUM(Լոռի!G87+Արագածոտն!G87+Արմավիր!G87+Արարատ!G87+'Երևան քաղաք'!G87+Գեղարքունիք!G87+Կոտայք!G87+Շիրակ!G87+Սյունիք!G87+Տավուշ!G87) -> 0 | H87: =SUM(Լոռի!H87+Արագածոտն!H87+Արմավիր!H87+Արարատ!H87+'Երևան քաղաք'!H87+Գեղարքունիք!H87+Կոտայք!H87+Շիրակ!H87+Սյունիք!H87+Տավուշ!H87) -> 0 | I87: =SUM(Լոռի!I87+Արագածոտն!I87+Արմավիր!I87+Արարատ!I87+'Երևան քաղաք'!I87+Գեղարքունիք!I87+Կոտայք!I87+Շիրակ!I87+Սյունիք!I87+Տավուշ!I87) -> 0 | J87: =SUM(Լոռի!J87+Արագածոտն!J87+Արմավիր!J87+Արարատ!J87+'Երևան քաղաք'!J87+Գեղարքունիք!J87+Կոտայք!J87+Շիրակ!J87+Սյունիք!J87+Տավուշ!J87) -> 0 | K87: =SUM(Լոռի!K87+Արագածոտն!K87+Արմավիր!K87+Արարատ!K87+'Երևան քաղաք'!K87+Գեղարքունիք!K87+Կոտայք!K87+Շիրակ!K87+Սյունիք!K87+Տավուշ!K87) -> 0 | ... T87: =SUM(Լոռի!T87+Արագածոտն!T87+Արմավիր!T87+Արարատ!T87+'Երևան քաղաք'!T87+Գեղարքունիք!T87+Կոտայք!T87+Շիրակ!T87+Սյունիք!T87+Տավուշ!T87) -> 0
A88: 5.6 | B88: Քաղաքացիական կացության ակտերի գրանցման մարմիններին սուտ տեղեկություններ հաղորդելը | C88: 169.1 | D88: =SUM(Լոռի!D88+Արագածոտն!D88+Արմավիր!D88+Արարատ!D88+'Երևան քաղաք'!D88+Գեղարքունիք!D88+Կոտայք!D88+Շիրակ!D88+Սյունիք!D88+Տավուշ!D88) -> 1 | E88: =SUM(Լոռի!E88+Արագածոտն!E88+Արմավիր!E88+Արարատ!E88+'Երևան քաղաք'!E88+Գեղարքունիք!E88+Կոտայք!E88+Շիրակ!E88+Սյունիք!E88+Տավուշ!E88) -> 0 | F88: =SUM(Լոռի!F88+Արագածոտն!F88+Արմավիր!F88+Արարատ!F88+'Երևան քաղաք'!F88+Գեղարքունիք!F88+Կոտայք!F88+Շիրակ!F88+Սյունիք!F88+Տավուշ!F88) -> 0 | G88: =SUM(Լոռի!G88+Արագածոտն!G88+Արմավիր!G88+Արարատ!G88+'Երևան քաղաք'!G88+Գեղարքունիք!G88+Կոտայք!G88+Շիրակ!G88+Սյունիք!G88+Տավուշ!G88) -> 0 | H88: =SUM(Լոռի!H88+Արագածոտն!H88+Արմավիր!H88+Արարատ!H88+'Երևան քաղաք'!H88+Գեղարքունիք!H88+Կոտայք!H88+Շիրակ!H88+Սյունիք!H88+Տավուշ!H88) -> 1 | I88: =SUM(Լոռի!I88+Արագածոտն!I88+Արմավիր!I88+Արարատ!I88+'Երևան քաղաք'!I88+Գեղարքունիք!I88+Կոտայք!I88+Շիրակ!I88+Սյունիք!I88+Տավուշ!I88) -> 0 | J88: =SUM(Լոռի!J88+Արագածոտն!J88+Արմավիր!J88+Արարատ!J88+'Երևան քաղաք'!J88+Գեղարքունիք!J88+Կոտայք!J88+Շիրակ!J88+Սյունիք!J88+Տավուշ!J88) -> 1 | K88: =SUM(Լոռի!K88+Արագածոտն!K88+Արմավիր!K88+Արարատ!K88+'Երևան քաղաք'!K88+Գեղարքունիք!K88+Կոտայք!K88+Շիրակ!K88+Սյունիք!K88+Տավուշ!K88) -> 0 | ... T88: =SUM(Լոռի!T88+Արագածոտն!T88+Արմավիր!T88+Արարատ!T88+'Երևան քաղաք'!T88+Գեղարքունիք!T88+Կոտայք!T88+Շիրակ!T88+Սյունիք!T88+Տավուշ!T88) -> 0
A89: 5.7 | B89: Երեխային դաստիարակելու պարտականությունը չկատարելը | C89: 170 | D89: =SUM(Լոռի!D89+Արագածոտն!D89+Արմավիր!D89+Արարատ!D89+'Երևան քաղաք'!D89+Գեղարքունիք!D89+Կոտայք!D89+Շիրակ!D89+Սյունիք!D89+Տավուշ!D89) -> 0 | E89: =SUM(Լոռի!E89+Արագածոտն!E89+Արմավիր!E89+Արարատ!E89+'Երևան քաղաք'!E89+Գեղարքունիք!E89+Կոտայք!E89+Շիրակ!E89+Սյունիք!E89+Տավուշ!E89) -> 0 | F89: =SUM(Լոռի!F89+Արագածոտն!F89+Արմավիր!F89+Արարատ!F89+'Երևան քաղաք'!F89+Գեղարքունիք!F89+Կոտայք!F89+Շիրակ!F89+Սյունիք!F89+Տավուշ!F89) -> 0 | G89: =SUM(Լոռի!G89+Արագածոտն!G89+Արմավիր!G89+Արարատ!G89+'Երևան քաղաք'!G89+Գեղարքունիք!G89+Կոտայք!G89+Շիրակ!G89+Սյունիք!G89+Տավուշ!G89) -> 0 | H89: =SUM(Լոռի!H89+Արագածոտն!H89+Արմավիր!H89+Արարատ!H89+'Երևան քաղաք'!H89+Գեղարքունիք!H89+Կոտայք!H89+Շիրակ!H89+Սյունիք!H89+Տավուշ!H89) -> 0 | I89: =SUM(Լոռի!I89+Արագածոտն!I89+Արմավիր!I89+Արարատ!I89+'Երևան քաղաք'!I89+Գեղարքունիք!I89+Կոտայք!I89+Շիրակ!I89+Սյունիք!I89+Տավուշ!I89) -> 0 | J89: =SUM(Լոռի!J89+Արագածոտն!J89+Արմավիր!J89+Արարատ!J89+'Երևան քաղաք'!J89+Գեղարքունիք!J89+Կոտայք!J89+Շիրակ!J89+Սյունիք!J89+Տավուշ!J89) -> 0 | K89: =SUM(Լոռի!K89+Արագածոտն!K89+Արմավիր!K89+Արարատ!K89+'Երևան քաղաք'!K89+Գեղարքունիք!K89+Կոտայք!K89+Շիրակ!K89+Սյունիք!K89+Տավուշ!K89) -> 0 | ... T89: =SUM(Լոռի!T89+Արագածոտն!T89+Արմավիր!T89+Արարատ!T89+'Երևան քաղաք'!T89+Գեղարքունիք!T89+Կոտայք!T89+Շիրակ!T89+Սյունիք!T89+Տավուշ!T89) -> 0
A90: 5.8 | B90: Երեխայի կյանքի անվտանգության ապահովման կամ առողջության պահպանման պարտականությունը չկատարելը կամ ոչ պատշաճ կատարելը | C90: 171 | D90: =SUM(Լոռի!D90+Արագածոտն!D90+Արմավիր!D90+Արարատ!D90+'Երևան քաղաք'!D90+Գեղարքունիք!D90+Կոտայք!D90+Շիրակ!D90+Սյունիք!D90+Տավուշ!D90) -> 0 | E90: =SUM(Լոռի!E90+Արագածոտն!E90+Արմավիր!E90+Արարատ!E90+'Երևան քաղաք'!E90+Գեղարքունիք!E90+Կոտայք!E90+Շիրակ!E90+Սյունիք!E90+Տավուշ!E90) -> 0 | F90: =SUM(Լոռի!F90+Արագածոտն!F90+Արմավիր!F90+Արարատ!F90+'Երևան քաղաք'!F90+Գեղարքունիք!F90+Կոտայք!F90+Շիրակ!F90+Սյունիք!F90+Տավուշ!F90) -> 1 | G90: =SUM(Լոռի!G90+Արագածոտն!G90+Արմավիր!G90+Արարատ!G90+'Երևան քաղաք'!G90+Գեղարքունիք!G90+Կոտայք!G90+Շիրակ!G90+Սյունիք!G90+Տավուշ!G90) -> 0 | H90: =SUM(Լոռի!H90+Արագածոտն!H90+Արմավիր!H90+Արարատ!H90+'Երևան քաղաք'!H90+Գեղարքունիք!H90+Կոտայք!H90+Շիրակ!H90+Սյունիք!H90+Տավուշ!H90) -> 0 | I90: =SUM(Լոռի!I90+Արագածոտն!I90+Արմավիր!I90+Արարատ!I90+'Երևան քաղաք'!I90+Գեղարքունիք!I90+Կոտայք!I90+Շիրակ!I90+Սյունիք!I90+Տավուշ!I90) -> 0 | J90: =SUM(Լոռի!J90+Արագածոտն!J90+Արմավիր!J90+Արարատ!J90+'Երևան քաղաք'!J90+Գեղարքունիք!J90+Կոտայք!J90+Շիրակ!J90+Սյունիք!J90+Տավուշ!J90) -> 0 | K90: =SUM(Լոռի!K90+Արագածոտն!K90+Արմավիր!K90+Արարատ!K90+'Երևան քաղաք'!K90+Գեղարքունիք!K90+Կոտայք!K90+Շիրակ!K90+Սյունիք!K90+Տավուշ!K90) -> 0 | ... T90: =SUM(Լոռի!T90+Արագածոտն!T90+Արմավիր!T90+Արարատ!T90+'Երևան քաղաք'!T90+Գեղարքունիք!T90+Կոտայք!T90+Շիրակ!T90+Սյունիք!T90+Տավուշ!T90) -> 0
A91: 5.8.1 | B91: Վերարտադրողականության օժանդակ տեխնոլոգիաներից օգտվելու կանոնները խախտելը | C91: 171.1 | D91: =SUM(Լոռի!D91+Արագածոտն!D91+Արմավիր!D91+Արարատ!D91+'Երևան քաղաք'!D91+Գեղարքունիք!D91+Կոտայք!D91+Շիրակ!D91+Սյունիք!D91+Տավուշ!D91) -> 0 | E91: =SUM(Լոռի!E91+Արագածոտն!E91+Արմավիր!E91+Արարատ!E91+'Երևան քաղաք'!E91+Գեղարքունիք!E91+Կոտայք!E91+Շիրակ!E91+Սյունիք!E91+Տավուշ!E91) -> 0 | F91: =SUM(Լոռի!F91+Արագածոտն!F91+Արմավիր!F91+Արարատ!F91+'Երևան քաղաք'!F91+Գեղարքունիք!F91+Կոտայք!F91+Շիրակ!F91+Սյունիք!F91+Տավուշ!F91) -> 0 | G91: =SUM(Լոռի!G91+Արագածոտն!G91+Արմավիր!G91+Արարատ!G91+'Երևան քաղաք'!G91+Գեղարքունիք!G91+Կոտայք!G91+Շիրակ!G91+Սյունիք!G91+Տավուշ!G91) -> 0 | H91: =SUM(Լոռի!H91+Արագածոտն!H91+Արմավիր!H91+Արարատ!H91+'Երևան քաղաք'!H91+Գեղարքունիք!H91+Կոտայք!H91+Շիրակ!H91+Սյունիք!H91+Տավուշ!H91) -> 0 | I91: =SUM(Լոռի!I91+Արագածոտն!I91+Արմավիր!I91+Արարատ!I91+'Երևան քաղաք'!I91+Գեղարքունիք!I91+Կոտայք!I91+Շիրակ!I91+Սյունիք!I91+Տավուշ!I91) -> 0 | J91: =SUM(Լոռի!J91+Արագածոտն!J91+Արմավիր!J91+Արարատ!J91+'Երևան քաղաք'!J91+Գեղարքունիք!J91+Կոտայք!J91+Շիրակ!J91+Սյունիք!J91+Տավուշ!J91) -> 0 | K91: =SUM(Լոռի!K91+Արագածոտն!K91+Արմավիր!K91+Արարատ!K91+'Երևան քաղաք'!K91+Գեղարքունիք!K91+Կոտայք!K91+Շիրակ!K91+Սյունիք!K91+Տավուշ!K91) -> 0 | ... T91: =SUM(Լոռի!T91+Արագածոտն!T91+Արմավիր!T91+Արարատ!T91+'Երևան քաղաք'!T91+Գեղարքունիք!T91+Կոտայք!T91+Շիրակ!T91+Սյունիք!T91+Տավուշ!T91) -> 0
A92: 5.9 | B92: Խնամակալի կամ հոգաբարձուի իրավունքները չարաշահելը | C92: 172 | D92: =SUM(Լոռի!D92+Արագածոտն!D92+Արմավիր!D92+Արարատ!D92+'Երևան քաղաք'!D92+Գեղարքունիք!D92+Կոտայք!D92+Շիրակ!D92+Սյունիք!D92+Տավուշ!D92) -> 0 | E92: =SUM(Լոռի!E92+Արագածոտն!E92+Արմավիր!E92+Արարատ!E92+'Երևան քաղաք'!E92+Գեղարքունիք!E92+Կոտայք!E92+Շիրակ!E92+Սյունիք!E92+Տավուշ!E92) -> 0 | F92: =SUM(Լոռի!F92+Արագածոտն!F92+Արմավիր!F92+Արարատ!F92+'Երևան քաղաք'!F92+Գեղարքունիք!F92+Կոտայք!F92+Շիրակ!F92+Սյունիք!F92+Տավուշ!F92) -> 0 | G92: =SUM(Լոռի!G92+Արագածոտն!G92+Արմավիր!G92+Արարատ!G92+'Երևան քաղաք'!G92+Գեղարքունիք!G92+Կոտայք!G92+Շիրակ!G92+Սյունիք!G92+Տավուշ!G92) -> 0 | H92: =SUM(Լոռի!H92+Արագածոտն!H92+Արմավիր!H92+Արարատ!H92+'Երևան քաղաք'!H92+Գեղարքունիք!H92+Կոտայք!H92+Շիրակ!H92+Սյունիք!H92+Տավուշ!H92) -> 0 | I92: =SUM(Լոռի!I92+Արագածոտն!I92+Արմավիր!I92+Արարատ!I92+'Երևան քաղաք'!I92+Գեղարքունիք!I92+Կոտայք!I92+Շիրակ!I92+Սյունիք!I92+Տավուշ!I92) -> 0 | J92: =SUM(Լոռի!J92+Արագածոտն!J92+Արմավիր!J92+Արարատ!J92+'Երևան քաղաք'!J92+Գեղարքունիք!J92+Կոտայք!J92+Շիրակ!J92+Սյունիք!J92+Տավուշ!J92) -> 0 | K92: =SUM(Լոռի!K92+Արագածոտն!K92+Արմավիր!K92+Արարատ!K92+'Երևան քաղաք'!K92+Գեղարքունիք!K92+Կոտայք!K92+Շիրակ!K92+Սյունիք!K92+Տավուշ!K92) -> 0 | ... T92: =SUM(Լոռի!T92+Արագածոտն!T92+Արմավիր!T92+Արարատ!T92+'Երևան քաղաք'!T92+Գեղարքունիք!T92+Կոտայք!T92+Շիրակ!T92+Սյունիք!T92+Տավուշ!T92) -> 0
A93: 5.10 | B93: Ծնողի կողմից երեխային պահելուց չարամտորեն խուսափելը | C93: 173 | D93: =SUM(Լոռի!D93+Արագածոտն!D93+Արմավիր!D93+Արարատ!D93+'Երևան քաղաք'!D93+Գեղարքունիք!D93+Կոտայք!D93+Շիրակ!D93+Սյունիք!D93+Տավուշ!D93) -> 4 | E93: =SUM(Լոռի!E93+Արագածոտն!E93+Արմավիր!E93+Արարատ!E93+'Երևան քաղաք'!E93+Գեղարքունիք!E93+Կոտայք!E93+Շիրակ!E93+Սյունիք!E93+Տավուշ!E93) -> 0 | F93: =SUM(Լոռի!F93+Արագածոտն!F93+Արմավիր!F93+Արարատ!F93+'Երևան քաղաք'!F93+Գեղարքունիք!F93+Կոտայք!F93+Շիրակ!F93+Սյունիք!F93+Տավուշ!F93) -> 3 | G93: =SUM(Լոռի!G93+Արագածոտն!G93+Արմավիր!G93+Արարատ!G93+'Երևան քաղաք'!G93+Գեղարքունիք!G93+Կոտայք!G93+Շիրակ!G93+Սյունիք!G93+Տավուշ!G93) -> 1 | H93: =SUM(Լոռի!H93+Արագածոտն!H93+Արմավիր!H93+Արարատ!H93+'Երևան քաղաք'!H93+Գեղարքունիք!H93+Կոտայք!H93+Շիրակ!H93+Սյունիք!H93+Տավուշ!H93) -> 1 | I93: =SUM(Լոռի!I93+Արագածոտն!I93+Արմավիր!I93+Արարատ!I93+'Երևան քաղաք'!I93+Գեղարքունիք!I93+Կոտայք!I93+Շիրակ!I93+Սյունիք!I93+Տավուշ!I93) -> 0 | J93: =SUM(Լոռի!J93+Արագածոտն!J93+Արմավիր!J93+Արարատ!J93+'Երևան քաղաք'!J93+Գեղարքունիք!J93+Կոտայք!J93+Շիրակ!J93+Սյունիք!J93+Տավուշ!J93) -> 2 | K93: =SUM(Լոռի!K93+Արագածոտն!K93+Արմավիր!K93+Արարատ!K93+'Երևան քաղաք'!K93+Գեղարքունիք!K93+Կոտայք!K93+Շիրակ!K93+Սյունիք!K93+Տավուշ!K93) -> 0 | ... T93: =SUM(Լոռի!T93+Արագածոտն!T93+Արմավիր!T93+Արարատ!T93+'Երևան քաղաք'!T93+Գեղարքունիք!T93+Կոտայք!T93+Շիրակ!T93+Սյունիք!T93+Տավուշ!T93) -> 0
A94: 5.11 | B94: Զավակի կողմից անաշխատունակ ծնողին պահելուց չարամտորեն խուսափելը | C94: 174 | D94: =SUM(Լոռի!D94+Արագածոտն!D94+Արմավիր!D94+Արարատ!D94+'Երևան քաղաք'!D94+Գեղարքունիք!D94+Կոտայք!D94+Շիրակ!D94+Սյունիք!D94+Տավուշ!D94) -> 0 | E94: =SUM(Լոռի!E94+Արագածոտն!E94+Արմավիր!E94+Արարատ!E94+'Երևան քաղաք'!E94+Գեղարքունիք!E94+Կոտայք!E94+Շիրակ!E94+Սյունիք!E94+Տավուշ!E94) -> 0 | F94: =SUM(Լոռի!F94+Արագածոտն!F94+Արմավիր!F94+Արարատ!F94+'Երևան քաղաք'!F94+Գեղարքունիք!F94+Կոտայք!F94+Շիրակ!F94+Սյունիք!F94+Տավուշ!F94) -> 0 | G94: =SUM(Լոռի!G94+Արագածոտն!G94+Արմավիր!G94+Արարատ!G94+'Երևան քաղաք'!G94+Գեղարքունիք!G94+Կոտայք!G94+Շիրակ!G94+Սյունիք!G94+Տավուշ!G94) -> 0 | H94: =SUM(Լոռի!H94+Արագածոտն!H94+Արմավիր!H94+Արարատ!H94+'Երևան քաղաք'!H94+Գեղարքունիք!H94+Կոտայք!H94+Շիրակ!H94+Սյունիք!H94+Տավուշ!H94) -> 0 | I94: =SUM(Լոռի!I94+Արագածոտն!I94+Արմավիր!I94+Արարատ!I94+'Երևան քաղաք'!I94+Գեղարքունիք!I94+Կոտայք!I94+Շիրակ!I94+Սյունիք!I94+Տավուշ!I94) -> 0 | J94: =SUM(Լոռի!J94+Արագածոտն!J94+Արմավիր!J94+Արարատ!J94+'Երևան քաղաք'!J94+Գեղարքունիք!J94+Կոտայք!J94+Շիրակ!J94+Սյունիք!J94+Տավուշ!J94) -> 0 | K94: =SUM(Լոռի!K94+Արագածոտն!K94+Արմավիր!K94+Արարատ!K94+'Երևան քաղաք'!K94+Գեղարքունիք!K94+Կոտայք!K94+Շիրակ!K94+Սյունիք!K94+Տավուշ!K94) -> 0 | ... T94: =SUM(Լոռի!T94+Արագածոտն!T94+Արմավիր!T94+Արարատ!T94+'Երևան քաղաք'!T94+Գեղարքունիք!T94+Կոտայք!T94+Շիրակ!T94+Սյունիք!T94+Տավուշ!T94) -> 0
A95: 5.12 | B95: Այլ հանցագործություններ | D95: =SUM(Լոռի!D95+Արագածոտն!D95+Արմավիր!D95+Արարատ!D95+'Երևան քաղաք'!D95+Գեղարքունիք!D95+Կոտայք!D95+Շիրակ!D95+Սյունիք!D95+Տավուշ!D95) -> 2 | E95: =SUM(Լոռի!E95+Արագածոտն!E95+Արմավիր!E95+Արարատ!E95+'Երևան քաղաք'!E95+Գեղարքունիք!E95+Կոտայք!E95+Շիրակ!E95+Սյունիք!E95+Տավուշ!E95) -> 0 | F95: =SUM(Լոռի!F95+Արագածոտն!F95+Արմավիր!F95+Արարատ!F95+'Երևան քաղաք'!F95+Գեղարքունիք!F95+Կոտայք!F95+Շիրակ!F95+Սյունիք!F95+Տավուշ!F95) -> 0 | G95: =SUM(Լոռի!G95+Արագածոտն!G95+Արմավիր!G95+Արարատ!G95+'Երևան քաղաք'!G95+Գեղարքունիք!G95+Կոտայք!G95+Շիրակ!G95+Սյունիք!G95+Տավուշ!G95) -> 1 | H95: =SUM(Լոռի!H95+Արագածոտն!H95+Արմավիր!H95+Արարատ!H95+'Երևան քաղաք'!H95+Գեղարքունիք!H95+Կոտայք!H95+Շիրակ!H95+Սյունիք!H95+Տավուշ!H95) -> 1 | I95: =SUM(Լոռի!I95+Արագածոտն!I95+Արմավիր!I95+Արարատ!I95+'Երևան քաղաք'!I95+Գեղարքունիք!I95+Կոտայք!I95+Շիրակ!I95+Սյունիք!I95+Տավուշ!I95) -> 0 | J95: =SUM(Լոռի!J95+Արագածոտն!J95+Արմավիր!J95+Արարատ!J95+'Երևան քաղաք'!J95+Գեղարքունիք!J95+Կոտայք!J95+Շիրակ!J95+Սյունիք!J95+Տավուշ!J95) -> 2 | K95: =SUM(Լոռի!K95+Արագածոտն!K95+Արմավիր!K95+Արարատ!K95+'Երևան քաղաք'!K95+Գեղարքունիք!K95+Կոտայք!K95+Շիրակ!K95+Սյունիք!K95+Տավուշ!K95) -> 0 | ... T95: =SUM(Լոռի!T95+Արագածոտն!T95+Արմավիր!T95+Արարատ!T95+'Երևան քաղաք'!T95+Գեղարքունիք!T95+Կոտայք!T95+Շիրակ!T95+Սյունիք!T95+Տավուշ!T95) -> 0
A96: 6. | B96: Ընդամենը սեփականության դեմ ուղղված հանցագործությունները | D96: =SUM(Լոռի!D96+Արագածոտն!D96+Արմավիր!D96+Արարատ!D96+'Երևան քաղաք'!D96+Գեղարքունիք!D96+Կոտայք!D96+Շիրակ!D96+Սյունիք!D96+Տավուշ!D96) -> 1473 | E96: =SUM(Լոռի!E96+Արագածոտն!E96+Արմավիր!E96+Արարատ!E96+'Երևան քաղաք'!E96+Գեղարքունիք!E96+Կոտայք!E96+Շիրակ!E96+Սյունիք!E96+Տավուշ!E96) -> 51 | F96: =SUM(Լոռի!F96+Արագածոտն!F96+Արմավիր!F96+Արարատ!F96+'Երևան քաղաք'!F96+Գեղարքունիք!F96+Կոտայք!F96+Շիրակ!F96+Սյունիք!F96+Տավուշ!F96) -> 667 | G96: =SUM(Լոռի!G96+Արագածոտն!G96+Արմավիր!G96+Արարատ!G96+'Երևան քաղաք'!G96+Գեղարքունիք!G96+Կոտայք!G96+Շիրակ!G96+Սյունիք!G96+Տավուշ!G96) -> 494 | H96: =SUM(Լոռի!H96+Արագածոտն!H96+Արմավիր!H96+Արարատ!H96+'Երևան քաղաք'!H96+Գեղարքունիք!H96+Կոտայք!H96+Շիրակ!H96+Սյունիք!H96+Տավուշ!H96) -> 202 | I96: =SUM(Լոռի!I96+Արագածոտն!I96+Արմավիր!I96+Արարատ!I96+'Երևան քաղաք'!I96+Գեղարքունիք!I96+Կոտայք!I96+Շիրակ!I96+Սյունիք!I96+Տավուշ!I96) -> 7 | J96: =SUM(Լոռի!J96+Արագածոտն!J96+Արմավիր!J96+Արարատ!J96+'Երևան քաղաք'!J96+Գեղարքունիք!J96+Կոտայք!J96+Շիրակ!J96+Սյունիք!J96+Տավուշ!J96) -> 703 | K96: =SUM(Լոռի!K96+Արագածոտն!K96+Արմավիր!K96+Արարատ!K96+'Երևան քաղաք'!K96+Գեղարքունիք!K96+Կոտայք!K96+Շիրակ!K96+Սյունիք!K96+Տավուշ!K96) -> 72 | ... T96: =SUM(Լոռի!T96+Արագածոտն!T96+Արմավիր!T96+Արարատ!T96+'Երևան քաղաք'!T96+Գեղարքունիք!T96+Կոտայք!T96+Շիրակ!T96+Սյունիք!T96+Տավուշ!T96) -> 6
A97: 6.1 | B97: Ավազակությունը | C97: 175 | D97: =SUM(Լոռի!D97+Արագածոտն!D97+Արմավիր!D97+Արարատ!D97+'Երևան քաղաք'!D97+Գեղարքունիք!D97+Կոտայք!D97+Շիրակ!D97+Սյունիք!D97+Տավուշ!D97) -> 54 | E97: =SUM(Լոռի!E97+Արագածոտն!E97+Արմավիր!E97+Արարատ!E97+'Երևան քաղաք'!E97+Գեղարքունիք!E97+Կոտայք!E97+Շիրակ!E97+Սյունիք!E97+Տավուշ!E97) -> 1 | F97: =SUM(Լոռի!F97+Արագածոտն!F97+Արմավիր!F97+Արարատ!F97+'Երևան քաղաք'!F97+Գեղարքունիք!F97+Կոտայք!F97+Շիրակ!F97+Սյունիք!F97+Տավուշ!F97) -> 29 | G97: =SUM(Լոռի!G97+Արագածոտն!G97+Արմավիր!G97+Արարատ!G97+'Երևան քաղաք'!G97+Գեղարքունիք!G97+Կոտայք!G97+Շիրակ!G97+Սյունիք!G97+Տավուշ!G97) -> 19 | H97: =SUM(Լոռի!H97+Արագածոտն!H97+Արմավիր!H97+Արարատ!H97+'Երևան քաղաք'!H97+Գեղարքունիք!H97+Կոտայք!H97+Շիրակ!H97+Սյունիք!H97+Տավուշ!H97) -> 0 | I97: =SUM(Լոռի!I97+Արագածոտն!I97+Արմավիր!I97+Արարատ!I97+'Երևան քաղաք'!I97+Գեղարքունիք!I97+Կոտայք!I97+Շիրակ!I97+Սյունիք!I97+Տավուշ!I97) -> 1 | J97: =SUM(Լոռի!J97+Արագածոտն!J97+Արմավիր!J97+Արարատ!J97+'Երևան քաղաք'!J97+Գեղարքունիք!J97+Կոտայք!J97+Շիրակ!J97+Սյունիք!J97+Տավուշ!J97) -> 20 | K97: =SUM(Լոռի!K97+Արագածոտն!K97+Արմավիր!K97+Արարատ!K97+'Երևան քաղաք'!K97+Գեղարքունիք!K97+Կոտայք!K97+Շիրակ!K97+Սյունիք!K97+Տավուշ!K97) -> 1 | ... T97: =SUM(Լոռի!T97+Արագածոտն!T97+Արմավիր!T97+Արարատ!T97+'Երևան քաղաք'!T97+Գեղարքունիք!T97+Կոտայք!T97+Շիրակ!T97+Սյունիք!T97+Տավուշ!T97) -> 0
A98: 6.2 | B98: Կողոպուտը | C98: 176 | D98: =SUM(Լոռի!D98+Արագածոտն!D98+Արմավիր!D98+Արարատ!D98+'Երևան քաղաք'!D98+Գեղարքունիք!D98+Կոտայք!D98+Շիրակ!D98+Սյունիք!D98+Տավուշ!D98) -> 75 | E98: =SUM(Լոռի!E98+Արագածոտն!E98+Արմավիր!E98+Արարատ!E98+'Երևան քաղաք'!E98+Գեղարքունիք!E98+Կոտայք!E98+Շիրակ!E98+Սյունիք!E98+Տավուշ!E98) -> 5 | F98: =SUM(Լոռի!F98+Արագածոտն!F98+Արմավիր!F98+Արարատ!F98+'Երևան քաղաք'!F98+Գեղարքունիք!F98+Կոտայք!F98+Շիրակ!F98+Սյունիք!F98+Տավուշ!F98) -> 32 | G98: =SUM(Լոռի!G98+Արագածոտն!G98+Արմավիր!G98+Արարատ!G98+'Երևան քաղաք'!G98+Գեղարքունիք!G98+Կոտայք!G98+Շիրակ!G98+Սյունիք!G98+Տավուշ!G98) -> 25 | H98: =SUM(Լոռի!H98+Արագածոտն!H98+Արմավիր!H98+Արարատ!H98+'Երևան քաղաք'!H98+Գեղարքունիք!H98+Կոտայք!H98+Շիրակ!H98+Սյունիք!H98+Տավուշ!H98) -> 4 | I98: =SUM(Լոռի!I98+Արագածոտն!I98+Արմավիր!I98+Արարատ!I98+'Երևան քաղաք'!I98+Գեղարքունիք!I98+Կոտայք!I98+Շիրակ!I98+Սյունիք!I98+Տավուշ!I98) -> 1 | J98: =SUM(Լոռի!J98+Արագածոտն!J98+Արմավիր!J98+Արարատ!J98+'Երևան քաղաք'!J98+Գեղարքունիք!J98+Կոտայք!J98+Շիրակ!J98+Սյունիք!J98+Տավուշ!J98) -> 30 | K98: =SUM(Լոռի!K98+Արագածոտն!K98+Արմավիր!K98+Արարատ!K98+'Երևան քաղաք'!K98+Գեղարքունիք!K98+Կոտայք!K98+Շիրակ!K98+Սյունիք!K98+Տավուշ!K98) -> 1 | ... T98: =SUM(Լոռի!T98+Արագածոտն!T98+Արմավիր!T98+Արարատ!T98+'Երևան քաղաք'!T98+Գեղարքունիք!T98+Կոտայք!T98+Շիրակ!T98+Սյունիք!T98+Տավուշ!T98) -> 0
A99: 6.3 | B99: Գողությունը | C99: 177 | D99: =SUM(Լոռի!D99+Արագածոտն!D99+Արմավիր!D99+Արարատ!D99+'Երևան քաղաք'!D99+Գեղարքունիք!D99+Կոտայք!D99+Շիրակ!D99+Սյունիք!D99+Տավուշ!D99) -> 711 | E99: =SUM(Լոռի!E99+Արագածոտն!E99+Արմավիր!E99+Արարատ!E99+'Երևան քաղաք'!E99+Գեղարքունիք!E99+Կոտայք!E99+Շիրակ!E99+Սյունիք!E99+Տավուշ!E99) -> 24 | F99: =SUM(Լոռի!F99+Արագածոտն!F99+Արմավիր!F99+Արարատ!F99+'Երևան քաղաք'!F99+Գեղարքունիք!F99+Կոտայք!F99+Շիրակ!F99+Սյունիք!F99+Տավուշ!F99) -> 369 | G99: =SUM(Լոռի!G99+Արագածոտն!G99+Արմավիր!G99+Արարատ!G99+'Երևան քաղաք'!G99+Գեղարքունիք!G99+Կոտայք!G99+Շիրակ!G99+Սյունիք!G99+Տավուշ!G99) -> 302 | H99: =SUM(Լոռի!H99+Արագածոտն!H99+Արմավիր!H99+Արարատ!H99+'Երևան քաղաք'!H99+Գեղարքունիք!H99+Կոտայք!H99+Շիրակ!H99+Սյունիք!H99+Տավուշ!H99) -> 85 | I99: =SUM(Լոռի!I99+Արագածոտն!I99+Արմավիր!I99+Արարատ!I99+'Երևան քաղաք'!I99+Գեղարքունիք!I99+Կոտայք!I99+Շիրակ!I99+Սյունիք!I99+Տավուշ!I99) -> 3 | J99: =SUM(Լոռի!J99+Արագածոտն!J99+Արմավիր!J99+Արարատ!J99+'Երևան քաղաք'!J99+Գեղարքունիք!J99+Կոտայք!J99+Շիրակ!J99+Սյունիք!J99+Տավուշ!J99) -> 390 | K99: =SUM(Լոռի!K99+Արագածոտն!K99+Արմավիր!K99+Արարատ!K99+'Երևան քաղաք'!K99+Գեղարքունիք!K99+Կոտայք!K99+Շիրակ!K99+Սյունիք!K99+Տավուշ!K99) -> 4 | ... T99: =SUM(Լոռի!T99+Արագածոտն!T99+Արմավիր!T99+Արարատ!T99+'Երևան քաղաք'!T99+Գեղարքունիք!T99+Կոտայք!T99+Շիրակ!T99+Սյունիք!T99+Տավուշ!T99) -> 3
A100: 6.4 | B100: Խարդախությունը | C100: 178 | D100: =SUM(Լոռի!D100+Արագածոտն!D100+Արմավիր!D100+Արարատ!D100+'Երևան քաղաք'!D100+Գեղարքունիք!D100+Կոտայք!D100+Շիրակ!D100+Սյունիք!D100+Տավուշ!D100) -> 336 | E100: =SUM(Լոռի!E100+Արագածոտն!E100+Արմավիր!E100+Արարատ!E100+'Երևան քաղաք'!E100+Գեղարքունիք!E100+Կոտայք!E100+Շիրակ!E100+Սյունիք!E100+Տավուշ!E100) -> 13 | F100: =SUM(Լոռի!F100+Արագածոտն!F100+Արմավիր!F100+Արարատ!F100+'Երևան քաղաք'!F100+Գեղարքունիք!F100+Կոտայք!F100+Շիրակ!F100+Սյունիք!F100+Տավուշ!F100) -> 133 | G100: =SUM(Լոռի!G100+Արագածոտն!G100+Արմավիր!G100+Արարատ!G100+'Երևան քաղաք'!G100+Գեղարքունիք!G100+Կոտայք!G100+Շիրակ!G100+Սյունիք!G100+Տավուշ!G100) -> 65 | H100: =SUM(Լոռի!H100+Արագածոտն!H100+Արմավիր!H100+Արարատ!H100+'Երևան քաղաք'!H100+Գեղարքունիք!H100+Կոտայք!H100+Շիրակ!H100+Սյունիք!H100+Տավուշ!H100) -> 52 | I100: =SUM(Լոռի!I100+Արագածոտն!I100+Արմավիր!I100+Արարատ!I100+'Երևան քաղաք'!I100+Գեղարքունիք!I100+Կոտայք!I100+Շիրակ!I100+Սյունիք!I100+Տավուշ!I100) -> 0 | J100: =SUM(Լոռի!J100+Արագածոտն!J100+Արմավիր!J100+Արարատ!J100+'Երևան քաղաք'!J100+Գեղարքունիք!J100+Կոտայք!J100+Շիրակ!J100+Սյունիք!J100+Տավուշ!J100) -> 117 | K100: =SUM(Լոռի!K100+Արագածոտն!K100+Արմավիր!K100+Արարատ!K100+'Երևան քաղաք'!K100+Գեղարքունիք!K100+Կոտայք!K100+Շիրակ!K100+Սյունիք!K100+Տավուշ!K100) -> 16 | ... T100: =SUM(Լոռի!T100+Արագածոտն!T100+Արմավիր!T100+Արարատ!T100+'Երևան քաղաք'!T100+Գեղարքունիք!T100+Կոտայք!T100+Շիրակ!T100+Սյունիք!T100+Տավուշ!T100) -> 0
A101: 6.5 | B101: Յուրացնելը կամ վատնելը | C101: 179 | D101: =SUM(Լոռի!D101+Արագածոտն!D101+Արմավիր!D101+Արարատ!D101+'Երևան քաղաք'!D101+Գեղարքունիք!D101+Կոտայք!D101+Շիրակ!D101+Սյունիք!D101+Տավուշ!D101) -> 153 | E101: =SUM(Լոռի!E101+Արագածոտն!E101+Արմավիր!E101+Արարատ!E101+'Երևան քաղաք'!E101+Գեղարքունիք!E101+Կոտայք!E101+Շիրակ!E101+Սյունիք!E101+Տավուշ!E101) -> 5 | F101: =SUM(Լոռի!F101+Արագածոտն!F101+Արմավիր!F101+Արարատ!F101+'Երևան քաղաք'!F101+Գեղարքունիք!F101+Կոտայք!F101+Շիրակ!F101+Սյունիք!F101+Տավուշ!F101) -> 39 | G101: =SUM(Լոռի!G101+Արագածոտն!G101+Արմավիր!G101+Արարատ!G101+'Երևան քաղաք'!G101+Գեղարքունիք!G101+Կոտայք!G101+Շիրակ!G101+Սյունիք!G101+Տավուշ!G101) -> 36 | H101: =SUM(Լոռի!H101+Արագածոտն!H101+Արմավիր!H101+Արարատ!H101+'Երևան քաղաք'!H101+Գեղարքունիք!H101+Կոտայք!H101+Շիրակ!H101+Սյունիք!H101+Տավուշ!H101) -> 10 | I101: =SUM(Լոռի!I101+Արագածոտն!I101+Արմավիր!I101+Արարատ!I101+'Երևան քաղաք'!I101+Գեղարքունիք!I101+Կոտայք!I101+Շիրակ!I101+Սյունիք!I101+Տավուշ!I101) -> 0 | J101: =SUM(Լոռի!J101+Արագածոտն!J101+Արմավիր!J101+Արարատ!J101+'Երևան քաղաք'!J101+Գեղարքունիք!J101+Կոտայք!J101+Շիրակ!J101+Սյունիք!J101+Տավուշ!J101) -> 46 | K101: =SUM(Լոռի!K101+Արագածոտն!K101+Արմավիր!K101+Արարատ!K101+'Երևան քաղաք'!K101+Գեղարքունիք!K101+Կոտայք!K101+Շիրակ!K101+Սյունիք!K101+Տավուշ!K101) -> 49 | ... T101: =SUM(Լոռի!T101+Արագածոտն!T101+Արմավիր!T101+Արարատ!T101+'Երևան քաղաք'!T101+Գեղարքունիք!T101+Կոտայք!T101+Շիրակ!T101+Սյունիք!T101+Տավուշ!T101) -> 0
A102: 6.6 | B102: Առանձնակի արժեք ունեցող առարկաներ հափշտակելը | C102: 180 | D102: =SUM(Լոռի!D102+Արագածոտն!D102+Արմավիր!D102+Արարատ!D102+'Երևան քաղաք'!D102+Գեղարքունիք!D102+Կոտայք!D102+Շիրակ!D102+Սյունիք!D102+Տավուշ!D102) -> 0 | E102: =SUM(Լոռի!E102+Արագածոտն!E102+Արմավիր!E102+Արարատ!E102+'Երևան քաղաք'!E102+Գեղարքունիք!E102+Կոտայք!E102+Շիրակ!E102+Սյունիք!E102+Տավուշ!E102) -> 0 | F102: =SUM(Լոռի!F102+Արագածոտն!F102+Արմավիր!F102+Արարատ!F102+'Երևան քաղաք'!F102+Գեղարքունիք!F102+Կոտայք!F102+Շիրակ!F102+Սյունիք!F102+Տավուշ!F102) -> 0 | G102: =SUM(Լոռի!G102+Արագածոտն!G102+Արմավիր!G102+Արարատ!G102+'Երևան քաղաք'!G102+Գեղարքունիք!G102+Կոտայք!G102+Շիրակ!G102+Սյունիք!G102+Տավուշ!G102) -> 0 | H102: =SUM(Լոռի!H102+Արագածոտն!H102+Արմավիր!H102+Արարատ!H102+'Երևան քաղաք'!H102+Գեղարքունիք!H102+Կոտայք!H102+Շիրակ!H102+Սյունիք!H102+Տավուշ!H102) -> 0 | I102: =SUM(Լոռի!I102+Արագածոտն!I102+Արմավիր!I102+Արարատ!I102+'Երևան քաղաք'!I102+Գեղարքունիք!I102+Կոտայք!I102+Շիրակ!I102+Սյունիք!I102+Տավուշ!I102) -> 0 | J102: =SUM(Լոռի!J102+Արագածոտն!J102+Արմավիր!J102+Արարատ!J102+'Երևան քաղաք'!J102+Գեղարքունիք!J102+Կոտայք!J102+Շիրակ!J102+Սյունիք!J102+Տավուշ!J102) -> 0 | K102: =SUM(Լոռի!K102+Արագածոտն!K102+Արմավիր!K102+Արարատ!K102+'Երևան քաղաք'!K102+Գեղարքունիք!K102+Կոտայք!K102+Շիրակ!K102+Սյունիք!K102+Տավուշ!K102) -> 0 | ... T102: =SUM(Լոռի!T102+Արագածոտն!T102+Արմավիր!T102+Արարատ!T102+'Երևան քաղաք'!T102+Գեղարքունիք!T102+Կոտայք!T102+Շիրակ!T102+Սյունիք!T102+Տավուշ!T102) -> 0
A103: 6.7 | B103: Հափշտակությունը, որը կատարվել է համակարգչային տեխնիկայի օգտագործմամբ | C103: 181 | D103: =SUM(Լոռի!D103+Արագածոտն!D103+Արմավիր!D103+Արարատ!D103+'Երևան քաղաք'!D103+Գեղարքունիք!D103+Կոտայք!D103+Շիրակ!D103+Սյունիք!D103+Տավուշ!D103) -> 14 | E103: =SUM(Լոռի!E103+Արագածոտն!E103+Արմավիր!E103+Արարատ!E103+'Երևան քաղաք'!E103+Գեղարքունիք!E103+Կոտայք!E103+Շիրակ!E103+Սյունիք!E103+Տավուշ!E103) -> 0 | F103: =SUM(Լոռի!F103+Արագածոտն!F103+Արմավիր!F103+Արարատ!F103+'Երևան քաղաք'!F103+Գեղարքունիք!F103+Կոտայք!F103+Շիրակ!F103+Սյունիք!F103+Տավուշ!F103) -> 11 | G103: =SUM(Լոռի!G103+Արագածոտն!G103+Արմավիր!G103+Արարատ!G103+'Երևան քաղաք'!G103+Գեղարքունիք!G103+Կոտայք!G103+Շիրակ!G103+Սյունիք!G103+Տավուշ!G103) -> 7 | H103: =SUM(Լոռի!H103+Արագածոտն!H103+Արմավիր!H103+Արարատ!H103+'Երևան քաղաք'!H103+Գեղարքունիք!H103+Կոտայք!H103+Շիրակ!H103+Սյունիք!H103+Տավուշ!H103) -> 3 | I103: =SUM(Լոռի!I103+Արագածոտն!I103+Արմավիր!I103+Արարատ!I103+'Երևան քաղաք'!I103+Գեղարքունիք!I103+Կոտայք!I103+Շիրակ!I103+Սյունիք!I103+Տավուշ!I103) -> 0 | J103: =SUM(Լոռի!J103+Արագածոտն!J103+Արմավիր!J103+Արարատ!J103+'Երևան քաղաք'!J103+Գեղարքունիք!J103+Կոտայք!J103+Շիրակ!J103+Սյունիք!J103+Տավուշ!J103) -> 10 | K103: =SUM(Լոռի!K103+Արագածոտն!K103+Արմավիր!K103+Արարատ!K103+'Երևան քաղաք'!K103+Գեղարքունիք!K103+Կոտայք!K103+Շիրակ!K103+Սյունիք!K103+Տավուշ!K103) -> 0 | ... T103: =SUM(Լոռի!T103+Արագածոտն!T103+Արմավիր!T103+Արարատ!T103+'Երևան քաղաք'!T103+Գեղարքունիք!T103+Կոտայք!T103+Շիրակ!T103+Սյունիք!T103+Տավուշ!T103) -> 1
A104: 6.8 | B104: Շորթումը | C104: 182 | D104: =SUM(Լոռի!D104+Արագածոտն!D104+Արմավիր!D104+Արարատ!D104+'Երևան քաղաք'!D104+Գեղարքունիք!D104+Կոտայք!D104+Շիրակ!D104+Սյունիք!D104+Տավուշ!D104) -> 35 | E104: =SUM(Լոռի!E104+Արագածոտն!E104+Արմավիր!E104+Արարատ!E104+'Երևան քաղաք'!E104+Գեղարքունիք!E104+Կոտայք!E104+Շիրակ!E104+Սյունիք!E104+Տավուշ!E104) -> 2 | F104: =SUM(Լոռի!F104+Արագածոտն!F104+Արմավիր!F104+Արարատ!F104+'Երևան քաղաք'!F104+Գեղարքունիք!F104+Կոտայք!F104+Շիրակ!F104+Սյունիք!F104+Տավուշ!F104) -> 9 | G104: =SUM(Լոռի!G104+Արագածոտն!G104+Արմավիր!G104+Արարատ!G104+'Երևան քաղաք'!G104+Գեղարքունիք!G104+Կոտայք!G104+Շիրակ!G104+Սյունիք!G104+Տավուշ!G104) -> 12 | H104: =SUM(Լոռի!H104+Արագածոտն!H104+Արմավիր!H104+Արարատ!H104+'Երևան քաղաք'!H104+Գեղարքունիք!H104+Կոտայք!H104+Շիրակ!H104+Սյունիք!H104+Տավուշ!H104) -> 2 | I104: =SUM(Լոռի!I104+Արագածոտն!I104+Արմավիր!I104+Արարատ!I104+'Երևան քաղաք'!I104+Գեղարքունիք!I104+Կոտայք!I104+Շիրակ!I104+Սյունիք!I104+Տավուշ!I104) -> 0 | J104: =SUM(Լոռի!J104+Արագածոտն!J104+Արմավիր!J104+Արարատ!J104+'Երևան քաղաք'!J104+Գեղարքունիք!J104+Կոտայք!J104+Շիրակ!J104+Սյունիք!J104+Տավուշ!J104) -> 14 | K104: =SUM(Լոռի!K104+Արագածոտն!K104+Արմավիր!K104+Արարատ!K104+'Երևան քաղաք'!K104+Գեղարքունիք!K104+Կոտայք!K104+Շիրակ!K104+Սյունիք!K104+Տավուշ!K104) -> 0 | ... T104: =SUM(Լոռի!T104+Արագածոտն!T104+Արմավիր!T104+Արարատ!T104+'Երևան քաղաք'!T104+Գեղարքունիք!T104+Կոտայք!T104+Շիրակ!T104+Սյունիք!T104+Տավուշ!T104) -> 0
A105: 6.9 | B105: Ավտոմեքենային կամ տրանսպորտային այլ միջոցին ապօրինաբար տիրանալն առանց հափշտակելու նպատակի | C105: 183 | D105: =SUM(Լոռի!D105+Արագածոտն!D105+Արմավիր!D105+Արարատ!D105+'Երևան քաղաք'!D105+Գեղարքունիք!D105+Կոտայք!D105+Շիրակ!D105+Սյունիք!D105+Տավուշ!D105) -> 5 | E105: =SUM(Լոռի!E105+Արագածոտն!E105+Արմավիր!E105+Արարատ!E105+'Երևան քաղաք'!E105+Գեղարքունիք!E105+Կոտայք!E105+Շիրակ!E105+Սյունիք!E105+Տավուշ!E105) -> 1 | F105: =SUM(Լոռի!F105+Արագածոտն!F105+Արմավիր!F105+Արարատ!F105+'Երևան քաղաք'!F105+Գեղարքունիք!F105+Կոտայք!F105+Շիրակ!F105+Սյունիք!F105+Տավուշ!F105) -> 1 | G105: =SUM(Լոռի!G105+Արագածոտն!G105+Արմավիր!G105+Արարատ!G105+'Երևան քաղաք'!G105+Գեղարքունիք!G105+Կոտայք!G105+Շիրակ!G105+Սյունիք!G105+Տավուշ!G105) -> 0 | H105: =SUM(Լոռի!H105+Արագածոտն!H105+Արմավիր!H105+Արարատ!H105+'Երևան քաղաք'!H105+Գեղարքունիք!H105+Կոտայք!H105+Շիրակ!H105+Սյունիք!H105+Տավուշ!H105) -> 2 | I105: 0 | J105: =SUM(Լոռի!J105+Արագածոտն!J105+Արմավիր!J105+Արարատ!J105+'Երևան քաղաք'!J105+Գեղարքունիք!J105+Կոտայք!J105+Շիրակ!J105+Սյունիք!J105+Տավուշ!J105) -> 2 | K105: =SUM(Լոռի!K105+Արագածոտն!K105+Արմավիր!K105+Արարատ!K105+'Երևան քաղաք'!K105+Գեղարքունիք!K105+Կոտայք!K105+Շիրակ!K105+Սյունիք!K105+Տավուշ!K105) -> 0 | L105: =SUM(Լոռի!L105+Արագածոտն!L105+Արմավիր!L105+Արարատ!L105+'Երևան քաղաք'!L105+Գեղարքունիք!L105+Կոտայք!L105+Շիրակ!L105+Սյունիք!L105+Տավուշ!L105) -> 0 | M105: =SUM(Լոռի!M105+Արագածոտն!M105+Արմավիր!M105+Արարատ!M105+'Երևան քաղաք'!M105+Գեղարքունիք!M105+Կոտայք!M105+Շիրակ!M105+Սյունիք!M105+Տավուշ!M105) -> 4 | N105: =SUM(Լոռի!N105+Արագածոտն!N105+Արմավիր!N105+Արարատ!N105+'Երևան քաղաք'!N105+Գեղարքունիք!N105+Կոտայք!N105+Շիրակ!N105+Սյունիք!N105+Տավուշ!N105) -> 1 | O105: =SUM(Լոռի!O105+Արագածոտն!O105+Արմավիր!O105+Արարատ!O105+'Երևան քաղաք'!O105+Գեղարքունիք!O105+Կոտայք!O105+Շիրակ!O105+Սյունիք!O105+Տավուշ!O105) -> 0 | P105: =SUM(Լոռի!P105+Արագածոտն!P105+Արմավիր!P105+Արարատ!P105+'Երևան քաղաք'!P105+Գեղարքունիք!P105+Կոտայք!P105+Շիրակ!P105+Սյունիք!P105+Տավուշ!P105) -> 0 | Q105: =SUM(Լոռի!Q105+Արագածոտն!Q105+Արմավիր!Q105+Արարատ!Q105+'Երևան քաղաք'!Q105+Գեղարքունիք!Q105+Կոտայք!Q105+Շիրակ!Q105+Սյունիք!Q105+Տավուշ!Q105) -> 0 | ... T105: =SUM(Լոռի!T105+Արագածոտն!T105+Արմավիր!T105+Արարատ!T105+'Երևան քաղաք'!T105+Գեղարքունիք!T105+Կոտայք!T105+Շիրակ!T105+Սյունիք!T105+Տավուշ!T105) -> 0
A106: 6.10 | B106: Գույքային վնաս պատճառելը խաբեության կամ վստահությունը չարաշահելու եղանակով | C106: 184 | D106: =SUM(Լոռի!D106+Արագածոտն!D106+Արմավիր!D106+Արարատ!D106+'Երևան քաղաք'!D106+Գեղարքունիք!D106+Կոտայք!D106+Շիրակ!D106+Սյունիք!D106+Տավուշ!D106) -> 20 | E106: =SUM(Լոռի!E106+Արագածոտն!E106+Արմավիր!E106+Արարատ!E106+'Երևան քաղաք'!E106+Գեղարքունիք!E106+Կոտայք!E106+Շիրակ!E106+Սյունիք!E106+Տավուշ!E106) -> 0 | F106: =SUM(Լոռի!F106+Արագածոտն!F106+Արմավիր!F106+Արարատ!F106+'Երևան քաղաք'!F106+Գեղարքունիք!F106+Կոտայք!F106+Շիրակ!F106+Սյունիք!F106+Տավուշ!F106) -> 10 | G106: =SUM(Լոռի!G106+Արագածոտն!G106+Արմավիր!G106+Արարատ!G106+'Երևան քաղաք'!G106+Գեղարքունիք!G106+Կոտայք!G106+Շիրակ!G106+Սյունիք!G106+Տավուշ!G106) -> 4 | H106: =SUM(Լոռի!H106+Արագածոտն!H106+Արմավիր!H106+Արարատ!H106+'Երևան քաղաք'!H106+Գեղարքունիք!H106+Կոտայք!H106+Շիրակ!H106+Սյունիք!H106+Տավուշ!H106) -> 7 | I106: =SUM(Լոռի!I106+Արագածոտն!I106+Արմավիր!I106+Արարատ!I106+'Երևան քաղաք'!I106+Գեղարքունիք!I106+Կոտայք!I106+Շիրակ!I106+Սյունիք!I106+Տավուշ!I106) -> 0 | J106: =SUM(Լոռի!J106+Արագածոտն!J106+Արմավիր!J106+Արարատ!J106+'Երևան քաղաք'!J106+Գեղարքունիք!J106+Կոտայք!J106+Շիրակ!J106+Սյունիք!J106+Տավուշ!J106) -> 11 | K106: =SUM(Լոռի!K106+Արագածոտն!K106+Արմավիր!K106+Արարատ!K106+'Երևան քաղաք'!K106+Գեղարքունիք!K106+Կոտայք!K106+Շիրակ!K106+Սյունիք!K106+Տավուշ!K106) -> 1 | ... T106: =SUM(Լոռի!T106+Արագածոտն!T106+Արմավիր!T106+Արարատ!T106+'Երևան քաղաք'!T106+Գեղարքունիք!T106+Կոտայք!T106+Շիրակ!T106+Սյունիք!T106+Տավուշ!T106) -> 0
A107: 6.10.1 | B107: Գրավառուին վնաս պատճառելը | C107: 184.1 | D107: =SUM(Լոռի!D107+Արագածոտն!D107+Արմավիր!D107+Արարատ!D107+'Երևան քաղաք'!D107+Գեղարքունիք!D107+Կոտայք!D107+Շիրակ!D107+Սյունիք!D107+Տավուշ!D107) -> 5 | E107: =SUM(Լոռի!E107+Արագածոտն!E107+Արմավիր!E107+Արարատ!E107+'Երևան քաղաք'!E107+Գեղարքունիք!E107+Կոտայք!E107+Շիրակ!E107+Սյունիք!E107+Տավուշ!E107) -> 0 | F107: =SUM(Լոռի!F107+Արագածոտն!F107+Արմավիր!F107+Արարատ!F107+'Երևան քաղաք'!F107+Գեղարքունիք!F107+Կոտայք!F107+Շիրակ!F107+Սյունիք!F107+Տավուշ!F107) -> 1 | G107: =SUM(Լոռի!G107+Արագածոտն!G107+Արմավիր!G107+Արարատ!G107+'Երևան քաղաք'!G107+Գեղարքունիք!G107+Կոտայք!G107+Շիրակ!G107+Սյունիք!G107+Տավուշ!G107) -> 1 | H107: =SUM(Լոռի!H107+Արագածոտն!H107+Արմավիր!H107+Արարատ!H107+'Երևան քաղաք'!H107+Գեղարքունիք!H107+Կոտայք!H107+Շիրակ!H107+Սյունիք!H107+Տավուշ!H107) -> 3 | I107: =SUM(Լոռի!I107+Արագածոտն!I107+Արմավիր!I107+Արարատ!I107+'Երևան քաղաք'!I107+Գեղարքունիք!I107+Կոտայք!I107+Շիրակ!I107+Սյունիք!I107+Տավուշ!I107) -> 0 | J107: =SUM(Լոռի!J107+Արագածոտն!J107+Արմավիր!J107+Արարատ!J107+'Երևան քաղաք'!J107+Գեղարքունիք!J107+Կոտայք!J107+Շիրակ!J107+Սյունիք!J107+Տավուշ!J107) -> 4 | K107: =SUM(Լոռի!K107+Արագածոտն!K107+Արմավիր!K107+Արարատ!K107+'Երևան քաղաք'!K107+Գեղարքունիք!K107+Կոտայք!K107+Շիրակ!K107+Սյունիք!K107+Տավուշ!K107) -> 0 | ... T107: =SUM(Լոռի!T107+Արագածոտն!T107+Արմավիր!T107+Արարատ!T107+'Երևան քաղաք'!T107+Գեղարքունիք!T107+Կոտայք!T107+Շիրակ!T107+Սյունիք!T107+Տավուշ!T107) -> 0
A108: 6.11 | B108: Գույքը դիտավորությամբ ոչնչացնելը կամ վնասելը | C108: 185 | D108: =SUM(Լոռի!D108+Արագածոտն!D108+Արմավիր!D108+Արարատ!D108+'Երևան քաղաք'!D108+Գեղարքունիք!D108+Կոտայք!D108+Շիրակ!D108+Սյունիք!D108+Տավուշ!D108) -> 57 | E108: =SUM(Լոռի!E108+Արագածոտն!E108+Արմավիր!E108+Արարատ!E108+'Երևան քաղաք'!E108+Գեղարքունիք!E108+Կոտայք!E108+Շիրակ!E108+Սյունիք!E108+Տավուշ!E108) -> 0 | F108: =SUM(Լոռի!F108+Արագածոտն!F108+Արմավիր!F108+Արարատ!F108+'Երևան քաղաք'!F108+Գեղարքունիք!F108+Կոտայք!F108+Շիրակ!F108+Սյունիք!F108+Տավուշ!F108) -> 30 | G108: =SUM(Լոռի!G108+Արագածոտն!G108+Արմավիր!G108+Արարատ!G108+'Երևան քաղաք'!G108+Գեղարքունիք!G108+Կոտայք!G108+Շիրակ!G108+Սյունիք!G108+Տավուշ!G108) -> 20 | H108: =SUM(Լոռի!H108+Արագածոտն!H108+Արմավիր!H108+Արարատ!H108+'Երևան քաղաք'!H108+Գեղարքունիք!H108+Կոտայք!H108+Շիրակ!H108+Սյունիք!H108+Տավուշ!H108) -> 31 | I108: =SUM(Լոռի!I108+Արագածոտն!I108+Արմավիր!I108+Արարատ!I108+'Երևան քաղաք'!I108+Գեղարքունիք!I108+Կոտայք!I108+Շիրակ!I108+Սյունիք!I108+Տավուշ!I108) -> 2 | J108: =SUM(Լոռի!J108+Արագածոտն!J108+Արմավիր!J108+Արարատ!J108+'Երևան քաղաք'!J108+Գեղարքունիք!J108+Կոտայք!J108+Շիրակ!J108+Սյունիք!J108+Տավուշ!J108) -> 53 | K108: =SUM(Լոռի!K108+Արագածոտն!K108+Արմավիր!K108+Արարատ!K108+'Երևան քաղաք'!K108+Գեղարքունիք!K108+Կոտայք!K108+Շիրակ!K108+Սյունիք!K108+Տավուշ!K108) -> 0 | ... T108: =SUM(Լոռի!T108+Արագածոտն!T108+Արմավիր!T108+Արարատ!T108+'Երևան քաղաք'!T108+Գեղարքունիք!T108+Կոտայք!T108+Շիրակ!T108+Սյունիք!T108+Տավուշ!T108) -> 1
A109: 6.12 | B109: Գույքն անզգուշությամբ ոչնչացնելը կամ վնասելը | C109: 186 | D109: =SUM(Լոռի!D109+Արագածոտն!D109+Արմավիր!D109+Արարատ!D109+'Երևան քաղաք'!D109+Գեղարքունիք!D109+Կոտայք!D109+Շիրակ!D109+Սյունիք!D109+Տավուշ!D109) -> 7 | E109: =SUM(Լոռի!E109+Արագածոտն!E109+Արմավիր!E109+Արարատ!E109+'Երևան քաղաք'!E109+Գեղարքունիք!E109+Կոտայք!E109+Շիրակ!E109+Սյունիք!E109+Տավուշ!E109) -> 0 | F109: =SUM(Լոռի!F109+Արագածոտն!F109+Արմավիր!F109+Արարատ!F109+'Երևան քաղաք'!F109+Գեղարքունիք!F109+Կոտայք!F109+Շիրակ!F109+Սյունիք!F109+Տավուշ!F109) -> 1 | G109: =SUM(Լոռի!G109+Արագածոտն!G109+Արմավիր!G109+Արարատ!G109+'Երևան քաղաք'!G109+Գեղարքունիք!G109+Կոտայք!G109+Շիրակ!G109+Սյունիք!G109+Տավուշ!G109) -> 2 | H109: =SUM(Լոռի!H109+Արագածոտն!H109+Արմավիր!H109+Արարատ!H109+'Երևան քաղաք'!H109+Գեղարքունիք!H109+Կոտայք!H109+Շիրակ!H109+Սյունիք!H109+Տավուշ!H109) -> 3 | I109: =SUM(Լոռի!I109+Արագածոտն!I109+Արմավիր!I109+Արարատ!I109+'Երևան քաղաք'!I109+Գեղարքունիք!I109+Կոտայք!I109+Շիրակ!I109+Սյունիք!I109+Տավուշ!I109) -> 0 | J109: =SUM(Լոռի!J109+Արագածոտն!J109+Արմավիր!J109+Արարատ!J109+'Երևան քաղաք'!J109+Գեղարքունիք!J109+Կոտայք!J109+Շիրակ!J109+Սյունիք!J109+Տավուշ!J109) -> 5 | K109: =SUM(Լոռի!K109+Արագածոտն!K109+Արմավիր!K109+Արարատ!K109+'Երևան քաղաք'!K109+Գեղարքունիք!K109+Կոտայք!K109+Շիրակ!K109+Սյունիք!K109+Տավուշ!K109) -> 0 | ... T109: =SUM(Լոռի!T109+Արագածոտն!T109+Արմավիր!T109+Արարատ!T109+'Երևան քաղաք'!T109+Գեղարքունիք!T109+Կոտայք!T109+Շիրակ!T109+Սյունիք!T109+Տավուշ!T109) -> 1
A110: 6.13 | B110: Գուքի պահպանության պարտականություններն անփույթ կամ անբարեխիղճ կատարելը | C110: 186.1 | D110: =SUM(Լոռի!D110+Արագածոտն!D110+Արմավիր!D110+Արարատ!D110+'Երևան քաղաք'!D110+Գեղարքունիք!D110+Կոտայք!D110+Շիրակ!D110+Սյունիք!D110+Տավուշ!D110) -> 1 | E110: =SUM(Լոռի!E110+Արագածոտն!E110+Արմավիր!E110+Արարատ!E110+'Երևան քաղաք'!E110+Գեղարքունիք!E110+Կոտայք!E110+Շիրակ!E110+Սյունիք!E110+Տավուշ!E110) -> 0 | F110: =SUM(Լոռի!F110+Արագածոտն!F110+Արմավիր!F110+Արարատ!F110+'Երևան քաղաք'!F110+Գեղարքունիք!F110+Կոտայք!F110+Շիրակ!F110+Սյունիք!F110+Տավուշ!F110) -> 2 | G110: =SUM(Լոռի!G110+Արագածոտն!G110+Արմավիր!G110+Արարատ!G110+'Երևան քաղաք'!G110+Գեղարքունիք!G110+Կոտայք!G110+Շիրակ!G110+Սյունիք!G110+Տավուշ!G110) -> 1 | H110: =SUM(Լոռի!H110+Արագածոտն!H110+Արմավիր!H110+Արարատ!H110+'Երևան քաղաք'!H110+Գեղարքունիք!H110+Կոտայք!H110+Շիրակ!H110+Սյունիք!H110+Տավուշ!H110) -> 0 | I110: =SUM(Լոռի!I110+Արագածոտն!I110+Արմավիր!I110+Արարատ!I110+'Երևան քաղաք'!I110+Գեղարքունիք!I110+Կոտայք!I110+Շիրակ!I110+Սյունիք!I110+Տավուշ!I110) -> 0 | J110: =SUM(Լոռի!J110+Արագածոտն!J110+Արմավիր!J110+Արարատ!J110+'Երևան քաղաք'!J110+Գեղարքունիք!J110+Կոտայք!J110+Շիրակ!J110+Սյունիք!J110+Տավուշ!J110) -> 1 | K110: =SUM(Լոռի!K110+Արագածոտն!K110+Արմավիր!K110+Արարատ!K110+'Երևան քաղաք'!K110+Գեղարքունիք!K110+Կոտայք!K110+Շիրակ!K110+Սյունիք!K110+Տավուշ!K110) -> 0 | ... T110: =SUM(Լոռի!T110+Արագածոտն!T110+Արմավիր!T110+Արարատ!T110+'Երևան քաղաք'!T110+Գեղարքունիք!T110+Կոտայք!T110+Շիրակ!T110+Սյունիք!T110+Տավուշ!T110) -> 0
A111: 6.14 | B111: Այլ հանցագործություններ | D111: =SUM(Լոռի!D111+Արագածոտն!D111+Արմավիր!D111+Արարատ!D111+'Երևան քաղաք'!D111+Գեղարքունիք!D111+Կոտայք!D111+Շիրակ!D111+Սյունիք!D111+Տավուշ!D111) -> 0 | E111: =SUM(Լոռի!E111+Արագածոտն!E111+Արմավիր!E111+Արարատ!E111+'Երևան քաղաք'!E111+Գեղարքունիք!E111+Կոտայք!E111+Շիրակ!E111+Սյունիք!E111+Տավուշ!E111) -> 0 | F111: =SUM(Լոռի!F111+Արագածոտն!F111+Արմավիր!F111+Արարատ!F111+'Երևան քաղաք'!F111+Գեղարքունիք!F111+Կոտայք!F111+Շիրակ!F111+Սյունիք!F111+Տավուշ!F111) -> 0 | G111: =SUM(Լոռի!G111+Արագածոտն!G111+Արմավիր!G111+Արարատ!G111+'Երևան քաղաք'!G111+Գեղարքունիք!G111+Կոտայք!G111+Շիրակ!G111+Սյունիք!G111+Տավուշ!G111) -> 0 | H111: =SUM(Լոռի!H111+Արագածոտն!H111+Արմավիր!H111+Արարատ!H111+'Երևան քաղաք'!H111+Գեղարքունիք!H111+Կոտայք!H111+Շիրակ!H111+Սյունիք!H111+Տավուշ!H111) -> 0 | I111: =SUM(Լոռի!I111+Արագածոտն!I111+Արմավիր!I111+Արարատ!I111+'Երևան քաղաք'!I111+Գեղարքունիք!I111+Կոտայք!I111+Շիրակ!I111+Սյունիք!I111+Տավուշ!I111) -> 0 | J111: =SUM(Լոռի!J111+Արագածոտն!J111+Արմավիր!J111+Արարատ!J111+'Երևան քաղաք'!J111+Գեղարքունիք!J111+Կոտայք!J111+Շիրակ!J111+Սյունիք!J111+Տավուշ!J111) -> 0 | K111: =SUM(Լոռի!K111+Արագածոտն!K111+Արմավիր!K111+Արարատ!K111+'Երևան քաղաք'!K111+Գեղարքունիք!K111+Կոտայք!K111+Շիրակ!K111+Սյունիք!K111+Տավուշ!K111) -> 0 | ... T111: =SUM(Լոռի!T111+Արագածոտն!T111+Արմավիր!T111+Արարատ!T111+'Երևան քաղաք'!T111+Գեղարքունիք!T111+Կոտայք!T111+Շիրակ!T111+Սյունիք!T111+Տավուշ!T111) -> 0
A112: 7. | B112: Ընդամենը տնտեսական գործունեության դեմ ուղղված հանցագործությունները | D112: =SUM(Լոռի!D112+Արագածոտն!D112+Արմավիր!D112+Արարատ!D112+'Երևան քաղաք'!D112+Գեղարքունիք!D112+Կոտայք!D112+Շիրակ!D112+Սյունիք!D112+Տավուշ!D112) -> 92 | E112: =SUM(Լոռի!E112+Արագածոտն!E112+Արմավիր!E112+Արարատ!E112+'Երևան քաղաք'!E112+Գեղարքունիք!E112+Կոտայք!E112+Շիրակ!E112+Սյունիք!E112+Տավուշ!E112) -> 10 | F112: =SUM(Լոռի!F112+Արագածոտն!F112+Արմավիր!F112+Արարատ!F112+'Երևան քաղաք'!F112+Գեղարքունիք!F112+Կոտայք!F112+Շիրակ!F112+Սյունիք!F112+Տավուշ!F112) -> 34 | G112: =SUM(Լոռի!G112+Արագածոտն!G112+Արմավիր!G112+Արարատ!G112+'Երևան քաղաք'!G112+Գեղարքունիք!G112+Կոտայք!G112+Շիրակ!G112+Սյունիք!G112+Տավուշ!G112) -> 23 | H112: =SUM(Լոռի!H112+Արագածոտն!H112+Արմավիր!H112+Արարատ!H112+'Երևան քաղաք'!H112+Գեղարքունիք!H112+Կոտայք!H112+Շիրակ!H112+Սյունիք!H112+Տավուշ!H112) -> 24 | I112: =SUM(Լոռի!I112+Արագածոտն!I112+Արմավիր!I112+Արարատ!I112+'Երևան քաղաք'!I112+Գեղարքունիք!I112+Կոտայք!I112+Շիրակ!I112+Սյունիք!I112+Տավուշ!I112) -> 0 | J112: =SUM(Լոռի!J112+Արագածոտն!J112+Արմավիր!J112+Արարատ!J112+'Երևան քաղաք'!J112+Գեղարքունիք!J112+Կոտայք!J112+Շիրակ!J112+Սյունիք!J112+Տավուշ!J112) -> 47 | K112: =SUM(Լոռի!K112+Արագածոտն!K112+Արմավիր!K112+Արարատ!K112+'Երևան քաղաք'!K112+Գեղարքունիք!K112+Կոտայք!K112+Շիրակ!K112+Սյունիք!K112+Տավուշ!K112) -> 7 | ... T112: =SUM(Լոռի!T112+Արագածոտն!T112+Արմավիր!T112+Արարատ!T112+'Երևան քաղաք'!T112+Գեղարքունիք!T112+Կոտայք!T112+Շիրակ!T112+Սյունիք!T112+Տավուշ!T112) -> 2
A113: 7.1 | B113: Օրինական ձեռնարկատիրական և այլ տնտեսական գործունեությանը խոչընդոտելը | C113: 187 | D113: =SUM(Լոռի!D113+Արագածոտն!D113+Արմավիր!D113+Արարատ!D113+'Երևան քաղաք'!D113+Գեղարքունիք!D113+Կոտայք!D113+Շիրակ!D113+Սյունիք!D113+Տավուշ!D113) -> 0 | E113: =SUM(Լոռի!E113+Արագածոտն!E113+Արմավիր!E113+Արարատ!E113+'Երևան քաղաք'!E113+Գեղարքունիք!E113+Կոտայք!E113+Շիրակ!E113+Սյունիք!E113+Տավուշ!E113) -> 0 | F113: =SUM(Լոռի!F113+Արագածոտն!F113+Արմավիր!F113+Արարատ!F113+'Երևան քաղաք'!F113+Գեղարքունիք!F113+Կոտայք!F113+Շիրակ!F113+Սյունիք!F113+Տավուշ!F113) -> 0 | G113: =SUM(Լոռի!G113+Արագածոտն!G113+Արմավիր!G113+Արարատ!G113+'Երևան քաղաք'!G113+Գեղարքունիք!G113+Կոտայք!G113+Շիրակ!G113+Սյունիք!G113+Տավուշ!G113) -> 0 | H113: =SUM(Լոռի!H113+Արագածոտն!H113+Արմավիր!H113+Արարատ!H113+'Երևան քաղաք'!H113+Գեղարքունիք!H113+Կոտայք!H113+Շիրակ!H113+Սյունիք!H113+Տավուշ!H113) -> 0 | I113: =SUM(Լոռի!I113+Արագածոտն!I113+Արմավիր!I113+Արարատ!I113+'Երևան քաղաք'!I113+Գեղարքունիք!I113+Կոտայք!I113+Շիրակ!I113+Սյունիք!I113+Տավուշ!I113) -> 0 | J113: =SUM(Լոռի!J113+Արագածոտն!J113+Արմավիր!J113+Արարատ!J113+'Երևան քաղաք'!J113+Գեղարքունիք!J113+Կոտայք!J113+Շիրակ!J113+Սյունիք!J113+Տավուշ!J113) -> 0 | K113: =SUM(Լոռի!K113+Արագածոտն!K113+Արմավիր!K113+Արարատ!K113+'Երևան քաղաք'!K113+Գեղարքունիք!K113+Կոտայք!K113+Շիրակ!K113+Սյունիք!K113+Տավուշ!K113) -> 0 | ... T113: =SUM(Լոռի!T113+Արագածոտն!T113+Արմավիր!T113+Արարատ!T113+'Երևան քաղաք'!T113+Գեղարքունիք!T113+Կոտայք!T113+Շիրակ!T113+Սյունիք!T113+Տավուշ!T113) -> 0
A114: 7.2 | B114: Ապօրինի ձեռնարկատիրությունը | C114: 188 | D114: =SUM(Լոռի!D114+Արագածոտն!D114+Արմավիր!D114+Արարատ!D114+'Երևան քաղաք'!D114+Գեղարքունիք!D114+Կոտայք!D114+Շիրակ!D114+Սյունիք!D114+Տավուշ!D114) -> 9 | E114: =SUM(Լոռի!E114+Արագածոտն!E114+Արմավիր!E114+Արարատ!E114+'Երևան քաղաք'!E114+Գեղարքունիք!E114+Կոտայք!E114+Շիրակ!E114+Սյունիք!E114+Տավուշ!E114) -> 3 | F114: =SUM(Լոռի!F114+Արագածոտն!F114+Արմավիր!F114+Արարատ!F114+'Երևան քաղաք'!F114+Գեղարքունիք!F114+Կոտայք!F114+Շիրակ!F114+Սյունիք!F114+Տավուշ!F114) -> 5 | G114: =SUM(Լոռի!G114+Արագածոտն!G114+Արմավիր!G114+Արարատ!G114+'Երևան քաղաք'!G114+Գեղարքունիք!G114+Կոտայք!G114+Շիրակ!G114+Սյունիք!G114+Տավուշ!G114) -> 2 | H114: =SUM(Լոռի!H114+Արագածոտն!H114+Արմավիր!H114+Արարատ!H114+'Երևան քաղաք'!H114+Գեղարքունիք!H114+Կոտայք!H114+Շիրակ!H114+Սյունիք!H114+Տավուշ!H114) -> 1 | I114: =SUM(Լոռի!I114+Արագածոտն!I114+Արմավիր!I114+Արարատ!I114+'Երևան քաղաք'!I114+Գեղարքունիք!I114+Կոտայք!I114+Շիրակ!I114+Սյունիք!I114+Տավուշ!I114) -> 0 | J114: =SUM(Լոռի!J114+Արագածոտն!J114+Արմավիր!J114+Արարատ!J114+'Երևան քաղաք'!J114+Գեղարքունիք!J114+Կոտայք!J114+Շիրակ!J114+Սյունիք!J114+Տավուշ!J114) -> 3 | K114: =SUM(Լոռի!K114+Արագածոտն!K114+Արմավիր!K114+Արարատ!K114+'Երևան քաղաք'!K114+Գեղարքունիք!K114+Կոտայք!K114+Շիրակ!K114+Սյունիք!K114+Տավուշ!K114) -> 0 | ... T114: =SUM(Լոռի!T114+Արագածոտն!T114+Արմավիր!T114+Արարատ!T114+'Երևան քաղաք'!T114+Գեղարքունիք!T114+Կոտայք!T114+Շիրակ!T114+Սյունիք!T114+Տավուշ!T114) -> 0
A115: 7.3 | B115: Առանց լիցենազիայի արտարժույթի վաճառքի իրականացումը | C115: 188.1 | D115: =SUM(Լոռի!D115+Արագածոտն!D115+Արմավիր!D115+Արարատ!D115+'Երևան քաղաք'!D115+Գեղարքունիք!D115+Կոտայք!D115+Շիրակ!D115+Սյունիք!D115+Տավուշ!D115) -> 9 | E115: =SUM(Լոռի!E115+Արագածոտն!E115+Արմավիր!E115+Արարատ!E115+'Երևան քաղաք'!E115+Գեղարքունիք!E115+Կոտայք!E115+Շիրակ!E115+Սյունիք!E115+Տավուշ!E115) -> 0 | F115: =SUM(Լոռի!F115+Արագածոտն!F115+Արմավիր!F115+Արարատ!F115+'Երևան քաղաք'!F115+Գեղարքունիք!F115+Կոտայք!F115+Շիրակ!F115+Սյունիք!F115+Տավուշ!F115) -> 2 | G115: =SUM(Լոռի!G115+Արագածոտն!G115+Արմավիր!G115+Արարատ!G115+'Երևան քաղաք'!G115+Գեղարքունիք!G115+Կոտայք!G115+Շիրակ!G115+Սյունիք!G115+Տավուշ!G115) -> 6 | H115: =SUM(Լոռի!H115+Արագածոտն!H115+Արմավիր!H115+Արարատ!H115+'Երևան քաղաք'!H115+Գեղարքունիք!H115+Կոտայք!H115+Շիրակ!H115+Սյունիք!H115+Տավուշ!H115) -> 1 | I115: =SUM(Լոռի!I115+Արագածոտն!I115+Արմավիր!I115+Արարատ!I115+'Երևան քաղաք'!I115+Գեղարքունիք!I115+Կոտայք!I115+Շիրակ!I115+Սյունիք!I115+Տավուշ!I115) -> 0 | J115: =SUM(Լոռի!J115+Արագածոտն!J115+Արմավիր!J115+Արարատ!J115+'Երևան քաղաք'!J115+Գեղարքունիք!J115+Կոտայք!J115+Շիրակ!J115+Սյունիք!J115+Տավուշ!J115) -> 7 | K115: =SUM(Լոռի!K115+Արագածոտն!K115+Արմավիր!K115+Արարատ!K115+'Երևան քաղաք'!K115+Գեղարքունիք!K115+Կոտայք!K115+Շիրակ!K115+Սյունիք!K115+Տավուշ!K115) -> 0 | ... T115: =SUM(Լոռի!T115+Արագածոտն!T115+Արմավիր!T115+Արարատ!T115+'Երևան քաղաք'!T115+Գեղարքունիք!T115+Կոտայք!T115+Շիրակ!T115+Սյունիք!T115+Տավուշ!T115) -> 0
A116: 7.4 | B116: Կեղծ ձեռնարկատիրությունը | C116: 189 | D116: =SUM(Լոռի!D116+Արագածոտն!D116+Արմավիր!D116+Արարատ!D116+'Երևան քաղաք'!D116+Գեղարքունիք!D116+Կոտայք!D116+Շիրակ!D116+Սյունիք!D116+Տավուշ!D116) -> 3 | E116: =SUM(Լոռի!E116+Արագածոտն!E116+Արմավիր!E116+Արարատ!E116+'Երևան քաղաք'!E116+Գեղարքունիք!E116+Կոտայք!E116+Շիրակ!E116+Սյունիք!E116+Տավուշ!E116) -> 2 | F116: =SUM(Լոռի!F116+Արագածոտն!F116+Արմավիր!F116+Արարատ!F116+'Երևան քաղաք'!F116+Գեղարքունիք!F116+Կոտայք!F116+Շիրակ!F116+Սյունիք!F116+Տավուշ!F116) -> 0 | G116: =SUM(Լոռի!G116+Արագածոտն!G116+Արմավիր!G116+Արարատ!G116+'Երևան քաղաք'!G116+Գեղարքունիք!G116+Կոտայք!G116+Շիրակ!G116+Սյունիք!G116+Տավուշ!G116) -> 0 | H116: =SUM(Լոռի!H116+Արագածոտն!H116+Արմավիր!H116+Արարատ!H116+'Երևան քաղաք'!H116+Գեղարքունիք!H116+Կոտայք!H116+Շիրակ!H116+Սյունիք!H116+Տավուշ!H116) -> 0 | I116: =SUM(Լոռի!I116+Արագածոտն!I116+Արմավիր!I116+Արարատ!I116+'Երևան քաղաք'!I116+Գեղարքունիք!I116+Կոտայք!I116+Շիրակ!I116+Սյունիք!I116+Տավուշ!I116) -> 0 | J116: =SUM(Լոռի!J116+Արագածոտն!J116+Արմավիր!J116+Արարատ!J116+'Երևան քաղաք'!J116+Գեղարքունիք!J116+Կոտայք!J116+Շիրակ!J116+Սյունիք!J116+Տավուշ!J116) -> 0 | K116: =SUM(Լոռի!K116+Արագածոտն!K116+Արմավիր!K116+Արարատ!K116+'Երևան քաղաք'!K116+Գեղարքունիք!K116+Կոտայք!K116+Շիրակ!K116+Սյունիք!K116+Տավուշ!K116) -> 0 | ... T116: =SUM(Լոռի!T116+Արագածոտն!T116+Արմավիր!T116+Արարատ!T116+'Երևան քաղաք'!T116+Գեղարքունիք!T116+Կոտայք!T116+Շիրակ!T116+Սյունիք!T116+Տավուշ!T116) -> 0
A117: 7.4.1 | B117: Ֆինանսական բուրգ ստեղծելը, կազմակերպելը կամ ղեկավարելը | C117: 189.1 | D117: =SUM(Լոռի!D117+Արագածոտն!D117+Արմավիր!D117+Արարատ!D117+'Երևան քաղաք'!D117+Գեղարքունիք!D117+Կոտայք!D117+Շիրակ!D117+Սյունիք!D117+Տավուշ!D117) -> 0 | E117: =SUM(Լոռի!E117+Արագածոտն!E117+Արմավիր!E117+Արարատ!E117+'Երևան քաղաք'!E117+Գեղարքունիք!E117+Կոտայք!E117+Շիրակ!E117+Սյունիք!E117+Տավուշ!E117) -> 0 | F117: =SUM(Լոռի!F117+Արագածոտն!F117+Արմավիր!F117+Արարատ!F117+'Երևան քաղաք'!F117+Գեղարքունիք!F117+Կոտայք!F117+Շիրակ!F117+Սյունիք!F117+Տավուշ!F117) -> 0 | G117: =SUM(Լոռի!G117+Արագածոտն!G117+Արմավիր!G117+Արարատ!G117+'Երևան քաղաք'!G117+Գեղարքունիք!G117+Կոտայք!G117+Շիրակ!G117+Սյունիք!G117+Տավուշ!G117) -> 0 | H117: =SUM(Լոռի!H117+Արագածոտն!H117+Արմավիր!H117+Արարատ!H117+'Երևան քաղաք'!H117+Գեղարքունիք!H117+Կոտայք!H117+Շիրակ!H117+Սյունիք!H117+Տավուշ!H117) -> 0 | I117: =SUM(Լոռի!I117+Արագածոտն!I117+Արմավիր!I117+Արարատ!I117+'Երևան քաղաք'!I117+Գեղարքունիք!I117+Կոտայք!I117+Շիրակ!I117+Սյունիք!I117+Տավուշ!I117) -> 0 | J117: =SUM(Լոռի!J117+Արագածոտն!J117+Արմավիր!J117+Արարատ!J117+'Երևան քաղաք'!J117+Գեղարքունիք!J117+Կոտայք!J117+Շիրակ!J117+Սյունիք!J117+Տավուշ!J117) -> 0 | K117: =SUM(Լոռի!K117+Արագածոտն!K117+Արմավիր!K117+Արարատ!K117+'Երևան քաղաք'!K117+Գեղարքունիք!K117+Կոտայք!K117+Շիրակ!K117+Սյունիք!K117+Տավուշ!K117) -> 0 | ... T117: =SUM(Լոռի!T117+Արագածոտն!T117+Արմավիր!T117+Արարատ!T117+'Երևան քաղաք'!T117+Գեղարքունիք!T117+Կոտայք!T117+Շիրակ!T117+Սյունիք!T117+Տավուշ!T117) -> 0
A118: 7.5 | B118: Հանցավոր ճանապարհով ստացված գույքն օրինականացնելը (փողերի լվացումը) | C118: 190 | D118: =SUM(Լոռի!D118+Արագածոտն!D118+Արմավիր!D118+Արարատ!D118+'Երևան քաղաք'!D118+Գեղարքունիք!D118+Կոտայք!D118+Շիրակ!D118+Սյունիք!D118+Տավուշ!D118) -> 10 | E118: =SUM(Լոռի!E118+Արագածոտն!E118+Արմավիր!E118+Արարատ!E118+'Երևան քաղաք'!E118+Գեղարքունիք!E118+Կոտայք!E118+Շիրակ!E118+Սյունիք!E118+Տավուշ!E118) -> 0 | F118: =SUM(Լոռի!F118+Արագածոտն!F118+Արմավիր!F118+Արարատ!F118+'Երևան քաղաք'!F118+Գեղարքունիք!F118+Կոտայք!F118+Շիրակ!F118+Սյունիք!F118+Տավուշ!F118) -> 2 | G118: =SUM(Լոռի!G118+Արագածոտն!G118+Արմավիր!G118+Արարատ!G118+'Երևան քաղաք'!G118+Գեղարքունիք!G118+Կոտայք!G118+Շիրակ!G118+Սյունիք!G118+Տավուշ!G118) -> 1 | H118: =SUM(Լոռի!H118+Արագածոտն!H118+Արմավիր!H118+Արարատ!H118+'Երևան քաղաք'!H118+Գեղարքունիք!H118+Կոտայք!H118+Շիրակ!H118+Սյունիք!H118+Տավուշ!H118) -> 0 | I118: =SUM(Լոռի!I118+Արագածոտն!I118+Արմավիր!I118+Արարատ!I118+'Երևան քաղաք'!I118+Գեղարքունիք!I118+Կոտայք!I118+Շիրակ!I118+Սյունիք!I118+Տավուշ!I118) -> 0 | J118: =SUM(Լոռի!J118+Արագածոտն!J118+Արմավիր!J118+Արարատ!J118+'Երևան քաղաք'!J118+Գեղարքունիք!J118+Կոտայք!J118+Շիրակ!J118+Սյունիք!J118+Տավուշ!J118) -> 1 | K118: =SUM(Լոռի!K118+Արագածոտն!K118+Արմավիր!K118+Արարատ!K118+'Երևան քաղաք'!K118+Գեղարքունիք!K118+Կոտայք!K118+Շիրակ!K118+Սյունիք!K118+Տավուշ!K118) -> 3 | ... T118: =SUM(Լոռի!T118+Արագածոտն!T118+Արմավիր!T118+Արարատ!T118+'Երևան քաղաք'!T118+Գեղարքունիք!T118+Կոտայք!T118+Շիրակ!T118+Սյունիք!T118+Տավուշ!T118) -> 0
A119: 7.5.1 | B119: Ներքին տեղեկությունների անբարեխիղճ օգտագործումը | C119: 190.1 | D119: =SUM(Լոռի!D119+Արագածոտն!D119+Արմավիր!D119+Արարատ!D119+'Երևան քաղաք'!D119+Գեղարքունիք!D119+Կոտայք!D119+Շիրակ!D119+Սյունիք!D119+Տավուշ!D119) -> 0 | E119: =SUM(Լոռի!E119+Արագածոտն!E119+Արմավիր!E119+Արարատ!E119+'Երևան քաղաք'!E119+Գեղարքունիք!E119+Կոտայք!E119+Շիրակ!E119+Սյունիք!E119+Տավուշ!E119) -> 0 | F119: =SUM(Լոռի!F119+Արագածոտն!F119+Արմավիր!F119+Արարատ!F119+'Երևան քաղաք'!F119+Գեղարքունիք!F119+Կոտայք!F119+Շիրակ!F119+Սյունիք!F119+Տավուշ!F119) -> 0 | G119: =SUM(Լոռի!G119+Արագածոտն!G119+Արմավիր!G119+Արարատ!G119+'Երևան քաղաք'!G119+Գեղարքունիք!G119+Կոտայք!G119+Շիրակ!G119+Սյունիք!G119+Տավուշ!G119) -> 0 | H119: =SUM(Լոռի!H119+Արագածոտն!H119+Արմավիր!H119+Արարատ!H119+'Երևան քաղաք'!H119+Գեղարքունիք!H119+Կոտայք!H119+Շիրակ!H119+Սյունիք!H119+Տավուշ!H119) -> 0 | I119: =SUM(Լոռի!I119+Արագածոտն!I119+Արմավիր!I119+Արարատ!I119+'Երևան քաղաք'!I119+Գեղարքունիք!I119+Կոտայք!I119+Շիրակ!I119+Սյունիք!I119+Տավուշ!I119) -> 0 | J119: =SUM(Լոռի!J119+Արագածոտն!J119+Արմավիր!J119+Արարատ!J119+'Երևան քաղաք'!J119+Գեղարքունիք!J119+Կոտայք!J119+Շիրակ!J119+Սյունիք!J119+Տավուշ!J119) -> 0 | K119: =SUM(Լոռի!K119+Արագածոտն!K119+Արմավիր!K119+Արարատ!K119+'Երևան քաղաք'!K119+Գեղարքունիք!K119+Կոտայք!K119+Շիրակ!K119+Սյունիք!K119+Տավուշ!K119) -> 0 | ... T119: =SUM(Լոռի!T119+Արագածոտն!T119+Արմավիր!T119+Արարատ!T119+'Երևան քաղաք'!T119+Գեղարքունիք!T119+Կոտայք!T119+Շիրակ!T119+Սյունիք!T119+Տավուշ!T119) -> 0
A120: 7.5.2 | B120: Գնային չարաշահումը | C120: 190.2 | D120: =SUM(Լոռի!D120+Արագածոտն!D120+Արմավիր!D120+Արարատ!D120+'Երևան քաղաք'!D120+Գեղարքունիք!D120+Կոտայք!D120+Շիրակ!D120+Սյունիք!D120+Տավուշ!D120) -> 0 | E120: =SUM(Լոռի!E120+Արագածոտն!E120+Արմավիր!E120+Արարատ!E120+'Երևան քաղաք'!E120+Գեղարքունիք!E120+Կոտայք!E120+Շիրակ!E120+Սյունիք!E120+Տավուշ!E120) -> 0 | F120: =SUM(Լոռի!F120+Արագածոտն!F120+Արմավիր!F120+Արարատ!F120+'Երևան քաղաք'!F120+Գեղարքունիք!F120+Կոտայք!F120+Շիրակ!F120+Սյունիք!F120+Տավուշ!F120) -> 0 | G120: =SUM(Լոռի!G120+Արագածոտն!G120+Արմավիր!G120+Արարատ!G120+'Երևան քաղաք'!G120+Գեղարքունիք!G120+Կոտայք!G120+Շիրակ!G120+Սյունիք!G120+Տավուշ!G120) -> 0 | H120: =SUM(Լոռի!H120+Արագածոտն!H120+Արմավիր!H120+Արարատ!H120+'Երևան քաղաք'!H120+Գեղարքունիք!H120+Կոտայք!H120+Շիրակ!H120+Սյունիք!H120+Տավուշ!H120) -> 0 | I120: =SUM(Լոռի!I120+Արագածոտն!I120+Արմավիր!I120+Արարատ!I120+'Երևան քաղաք'!I120+Գեղարքունիք!I120+Կոտայք!I120+Շիրակ!I120+Սյունիք!I120+Տավուշ!I120) -> 0 | J120: =SUM(Լոռի!J120+Արագածոտն!J120+Արմավիր!J120+Արարատ!J120+'Երևան քաղաք'!J120+Գեղարքունիք!J120+Կոտայք!J120+Շիրակ!J120+Սյունիք!J120+Տավուշ!J120) -> 0 | K120: =SUM(Լոռի!K120+Արագածոտն!K120+Արմավիր!K120+Արարատ!K120+'Երևան քաղաք'!K120+Գեղարքունիք!K120+Կոտայք!K120+Շիրակ!K120+Սյունիք!K120+Տավուշ!K120) -> 0 | ... T120: =SUM(Լոռի!T120+Արագածոտն!T120+Արմավիր!T120+Արարատ!T120+'Երևան քաղաք'!T120+Գեղարքունիք!T120+Կոտայք!T120+Շիրակ!T120+Սյունիք!T120+Տավուշ!T120) -> 0
A121: 7.6 | B121: Վարկը ոչ նպատակային օգտագործելը | C121: 191 | D121: =SUM(Լոռի!D121+Արագածոտն!D121+Արմավիր!D121+Արարատ!D121+'Երևան քաղաք'!D121+Գեղարքունիք!D121+Կոտայք!D121+Շիրակ!D121+Սյունիք!D121+Տավուշ!D121) -> 0 | E121: =SUM(Լոռի!E121+Արագածոտն!E121+Արմավիր!E121+Արարատ!E121+'Երևան քաղաք'!E121+Գեղարքունիք!E121+Կոտայք!E121+Շիրակ!E121+Սյունիք!E121+Տավուշ!E121) -> 0 | F121: =SUM(Լոռի!F121+Արագածոտն!F121+Արմավիր!F121+Արարատ!F121+'Երևան քաղաք'!F121+Գեղարքունիք!F121+Կոտայք!F121+Շիրակ!F121+Սյունիք!F121+Տավուշ!F121) -> 0 | G121: =SUM(Լոռի!G121+Արագածոտն!G121+Արմավիր!G121+Արարատ!G121+'Երևան քաղաք'!G121+Գեղարքունիք!G121+Կոտայք!G121+Շիրակ!G121+Սյունիք!G121+Տավուշ!G121) -> 0 | H121: =SUM(Լոռի!H121+Արագածոտն!H121+Արմավիր!H121+Արարատ!H121+'Երևան քաղաք'!H121+Գեղարքունիք!H121+Կոտայք!H121+Շիրակ!H121+Սյունիք!H121+Տավուշ!H121) -> 0 | I121: =SUM(Լոռի!I121+Արագածոտն!I121+Արմավիր!I121+Արարատ!I121+'Երևան քաղաք'!I121+Գեղարքունիք!I121+Կոտայք!I121+Շիրակ!I121+Սյունիք!I121+Տավուշ!I121) -> 0 | J121: =SUM(Լոռի!J121+Արագածոտն!J121+Արմավիր!J121+Արարատ!J121+'Երևան քաղաք'!J121+Գեղարքունիք!J121+Կոտայք!J121+Շիրակ!J121+Սյունիք!J121+Տավուշ!J121) -> 0 | K121: =SUM(Լոռի!K121+Արագածոտն!K121+Արմավիր!K121+Արարատ!K121+'Երևան քաղաք'!K121+Գեղարքունիք!K121+Կոտայք!K121+Շիրակ!K121+Սյունիք!K121+Տավուշ!K121) -> 0 | ... T121: =SUM(Լոռի!T121+Արագածոտն!T121+Արմավիր!T121+Արարատ!T121+'Երևան քաղաք'!T121+Գեղարքունիք!T121+Կոտայք!T121+Շիրակ!T121+Սյունիք!T121+Տավուշ!T121) -> 0
A122: 7.7 | B122: Անօրինական գործողությունները սնանկության ընթացքում | C122: 192 | D122: =SUM(Լոռի!D122+Արագածոտն!D122+Արմավիր!D122+Արարատ!D122+'Երևան քաղաք'!D122+Գեղարքունիք!D122+Կոտայք!D122+Շիրակ!D122+Սյունիք!D122+Տավուշ!D122) -> 3 | E122: =SUM(Լոռի!E122+Արագածոտն!E122+Արմավիր!E122+Արարատ!E122+'Երևան քաղաք'!E122+Գեղարքունիք!E122+Կոտայք!E122+Շիրակ!E122+Սյունիք!E122+Տավուշ!E122) -> 0 | F122: =SUM(Լոռի!F122+Արագածոտն!F122+Արմավիր!F122+Արարատ!F122+'Երևան քաղաք'!F122+Գեղարքունիք!F122+Կոտայք!F122+Շիրակ!F122+Սյունիք!F122+Տավուշ!F122) -> 2 | G122: =SUM(Լոռի!G122+Արագածոտն!G122+Արմավիր!G122+Արարատ!G122+'Երևան քաղաք'!G122+Գեղարքունիք!G122+Կոտայք!G122+Շիրակ!G122+Սյունիք!G122+Տավուշ!G122) -> 0 | H122: =SUM(Լոռի!H122+Արագածոտն!H122+Արմավիր!H122+Արարատ!H122+'Երևան քաղաք'!H122+Գեղարքունիք!H122+Կոտայք!H122+Շիրակ!H122+Սյունիք!H122+Տավուշ!H122) -> 3 | I122: =SUM(Լոռի!I122+Արագածոտն!I122+Արմավիր!I122+Արարատ!I122+'Երևան քաղաք'!I122+Գեղարքունիք!I122+Կոտայք!I122+Շիրակ!I122+Սյունիք!I122+Տավուշ!I122) -> 0 | J122: =SUM(Լոռի!J122+Արագածոտն!J122+Արմավիր!J122+Արարատ!J122+'Երևան քաղաք'!J122+Գեղարքունիք!J122+Կոտայք!J122+Շիրակ!J122+Սյունիք!J122+Տավուշ!J122) -> 3 | K122: =SUM(Լոռի!K122+Արագածոտն!K122+Արմավիր!K122+Արարատ!K122+'Երևան քաղաք'!K122+Գեղարքունիք!K122+Կոտայք!K122+Շիրակ!K122+Սյունիք!K122+Տավուշ!K122) -> 0 | ... T122: =SUM(Լոռի!T122+Արագածոտն!T122+Արմավիր!T122+Արարատ!T122+'Երևան քաղաք'!T122+Գեղարքունիք!T122+Կոտայք!T122+Շիրակ!T122+Սյունիք!T122+Տավուշ!T122) -> 0
A123: 7.8 | B123: Կանխամտածված սնանկությունը | C123: 193 | D123: =SUM(Լոռի!D123+Արագածոտն!D123+Արմավիր!D123+Արարատ!D123+'Երևան քաղաք'!D123+Գեղարքունիք!D123+Կոտայք!D123+Շիրակ!D123+Սյունիք!D123+Տավուշ!D123) -> 2 | E123: =SUM(Լոռի!E123+Արագածոտն!E123+Արմավիր!E123+Արարատ!E123+'Երևան քաղաք'!E123+Գեղարքունիք!E123+Կոտայք!E123+Շիրակ!E123+Սյունիք!E123+Տավուշ!E123) -> 0 | F123: =SUM(Լոռի!F123+Արագածոտն!F123+Արմավիր!F123+Արարատ!F123+'Երևան քաղաք'!F123+Գեղարքունիք!F123+Կոտայք!F123+Շիրակ!F123+Սյունիք!F123+Տավուշ!F123) -> 4 | G123: =SUM(Լոռի!G123+Արագածոտն!G123+Արմավիր!G123+Արարատ!G123+'Երևան քաղաք'!G123+Գեղարքունիք!G123+Կոտայք!G123+Շիրակ!G123+Սյունիք!G123+Տավուշ!G123) -> 1 | H123: =SUM(Լոռի!H123+Արագածոտն!H123+Արմավիր!H123+Արարատ!H123+'Երևան քաղաք'!H123+Գեղարքունիք!H123+Կոտայք!H123+Շիրակ!H123+Սյունիք!H123+Տավուշ!H123) -> 0 | I123: =SUM(Լոռի!I123+Արագածոտն!I123+Արմավիր!I123+Արարատ!I123+'Երևան քաղաք'!I123+Գեղարքունիք!I123+Կոտայք!I123+Շիրակ!I123+Սյունիք!I123+Տավուշ!I123) -> 0 | J123: =SUM(Լոռի!J123+Արագածոտն!J123+Արմավիր!J123+Արարատ!J123+'Երևան քաղաք'!J123+Գեղարքունիք!J123+Կոտայք!J123+Շիրակ!J123+Սյունիք!J123+Տավուշ!J123) -> 1 | K123: =SUM(Լոռի!K123+Արագածոտն!K123+Արմավիր!K123+Արարատ!K123+'Երևան քաղաք'!K123+Գեղարքունիք!K123+Կոտայք!K123+Շիրակ!K123+Սյունիք!K123+Տավուշ!K123) -> 1 | ... T123: =SUM(Լոռի!T123+Արագածոտն!T123+Արմավիր!T123+Արարատ!T123+'Երևան քաղաք'!T123+Գեղարքունիք!T123+Կոտայք!T123+Շիրակ!T123+Սյունիք!T123+Տավուշ!T123) -> 0
A124: 7.9 | B124: Կեղծ սնանկությունը | C124: 194 | D124: =SUM(Լոռի!D124+Արագածոտն!D124+Արմավիր!D124+Արարատ!D124+'Երևան քաղաք'!D124+Գեղարքունիք!D124+Կոտայք!D124+Շիրակ!D124+Սյունիք!D124+Տավուշ!D124) -> 0 | E124: =SUM(Լոռի!E124+Արագածոտն!E124+Արմավիր!E124+Արարատ!E124+'Երևան քաղաք'!E124+Գեղարքունիք!E124+Կոտայք!E124+Շիրակ!E124+Սյունիք!E124+Տավուշ!E124) -> 0 | F124: =SUM(Լոռի!F124+Արագածոտն!F124+Արմավիր!F124+Արարատ!F124+'Երևան քաղաք'!F124+Գեղարքունիք!F124+Կոտայք!F124+Շիրակ!F124+Սյունիք!F124+Տավուշ!F124) -> 0 | G124: =SUM(Լոռի!G124+Արագածոտն!G124+Արմավիր!G124+Արարատ!G124+'Երևան քաղաք'!G124+Գեղարքունիք!G124+Կոտայք!G124+Շիրակ!G124+Սյունիք!G124+Տավուշ!G124) -> 0 | H124: =SUM(Լոռի!H124+Արագածոտն!H124+Արմավիր!H124+Արարատ!H124+'Երևան քաղաք'!H124+Գեղարքունիք!H124+Կոտայք!H124+Շիրակ!H124+Սյունիք!H124+Տավուշ!H124) -> 0 | I124: =SUM(Լոռի!I124+Արագածոտն!I124+Արմավիր!I124+Արարատ!I124+'Երևան քաղաք'!I124+Գեղարքունիք!I124+Կոտայք!I124+Շիրակ!I124+Սյունիք!I124+Տավուշ!I124) -> 0 | J124: =SUM(Լոռի!J124+Արագածոտն!J124+Արմավիր!J124+Արարատ!J124+'Երևան քաղաք'!J124+Գեղարքունիք!J124+Կոտայք!J124+Շիրակ!J124+Սյունիք!J124+Տավուշ!J124) -> 0 | K124: =SUM(Լոռի!K124+Արագածոտն!K124+Արմավիր!K124+Արարատ!K124+'Երևան քաղաք'!K124+Գեղարքունիք!K124+Կոտայք!K124+Շիրակ!K124+Սյունիք!K124+Տավուշ!K124) -> 0 | ... T124: =SUM(Լոռի!T124+Արագածոտն!T124+Արմավիր!T124+Արարատ!T124+'Երևան քաղաք'!T124+Գեղարքունիք!T124+Կոտայք!T124+Շիրակ!T124+Սյունիք!T124+Տավուշ!T124) -> 0
... A135: 7.19 | B135: Չարաշահումն արժեթղթեր թողարկելիս | C135: 204 | D135: =SUM(Լոռի!D135+Արագածոտն!D135+Արմավիր!D135+Արարատ!D135+'Երևան քաղաք'!D135+Գեղարքունիք!D135+Կոտայք!D135+Շիրակ!D135+Սյունիք!D135+Տավուշ!D135) -> 0 | E135: =SUM(Լոռի!E135+Արագածոտն!E135+Արմավիր!E135+Արարատ!E135+'Երևան քաղաք'!E135+Գեղարքունիք!E135+Կոտայք!E135+Շիրակ!E135+Սյունիք!E135+Տավուշ!E135) -> 0 | F135: =SUM(Լոռի!F135+Արագածոտն!F135+Արմավիր!F135+Արարատ!F135+'Երևան քաղաք'!F135+Գեղարքունիք!F135+Կոտայք!F135+Շիրակ!F135+Սյունիք!F135+Տավուշ!F135) -> 0 | G135: =SUM(Լոռի!G135+Արագածոտն!G135+Արմավիր!G135+Արարատ!G135+'Երևան քաղաք'!G135+Գեղարքունիք!G135+Կոտայք!G135+Շիրակ!G135+Սյունիք!G135+Տավուշ!G135) -> 0 | H135: =SUM(Լոռի!H135+Արագածոտն!H135+Արմավիր!H135+Արարատ!H135+'Երևան քաղաք'!H135+Գեղարքունիք!H135+Կոտայք!H135+Շիրակ!H135+Սյունիք!H135+Տավուշ!H135) -> 0 | I135: =SUM(Լոռի!I135+Արագածոտն!I135+Արմավիր!I135+Արարատ!I135+'Երևան քաղաք'!I135+Գեղարքունիք!I135+Կոտայք!I135+Շիրակ!I135+Սյունիք!I135+Տավուշ!I135) -> 0 | J135: =SUM(Լոռի!J135+Արագածոտն!J135+Արմավիր!J135+Արարատ!J135+'Երևան քաղաք'!J135+Գեղարքունիք!J135+Կոտայք!J135+Շիրակ!J135+Սյունիք!J135+Տավուշ!J135) -> 0 | K135: =SUM(Լոռի!K135+Արագածոտն!K135+Արմավիր!K135+Արարատ!K135+'Երևան քաղաք'!K135+Գեղարքունիք!K135+Կոտայք!K135+Շիրակ!K135+Սյունիք!K135+Տավուշ!K135) -> 0 | ... T135: =SUM(Լոռի!T135+Արագածոտն!T135+Արմավիր!T135+Արարատ!T135+'Երևան քաղաք'!T135+Գեղարքունիք!T135+Կոտայք!T135+Շիրակ!T135+Սյունիք!T135+Տավուշ!T135) -> 0
A136: 7.20 | B136: Հարկերը, տուրքերը կամ պարտադիր այլ վճարումները վճարելուց չարամտորեն խուսափելը | C136: 205 | D136: =SUM(Լոռի!D136+Արագածոտն!D136+Արմավիր!D136+Արարատ!D136+'Երևան քաղաք'!D136+Գեղարքունիք!D136+Կոտայք!D136+Շիրակ!D136+Սյունիք!D136+Տավուշ!D136) -> 20 | E136: =SUM(Լոռի!E136+Արագածոտն!E136+Արմավիր!E136+Արարատ!E136+'Երևան քաղաք'!E136+Գեղարքունիք!E136+Կոտայք!E136+Շիրակ!E136+Սյունիք!E136+Տավուշ!E136) -> 3 | F136: =SUM(Լոռի!F136+Արագածոտն!F136+Արմավիր!F136+Արարատ!F136+'Երևան քաղաք'!F136+Գեղարքունիք!F136+Կոտայք!F136+Շիրակ!F136+Սյունիք!F136+Տավուշ!F136) -> 8 | G136: 0 | H136: =SUM(Լոռի!H136+Արագածոտն!H136+Արմավիր!H136+Արարատ!H136+'Երևան քաղաք'!H136+Գեղարքունիք!H136+Կոտայք!H136+Շիրակ!H136+Սյունիք!H136+Տավուշ!H136) -> 7 | I136: =SUM(Լոռի!I136+Արագածոտն!I136+Արմավիր!I136+Արարատ!I136+'Երևան քաղաք'!I136+Գեղարքունիք!I136+Կոտայք!I136+Շիրակ!I136+Սյունիք!I136+Տավուշ!I136) -> 0 | J136: =SUM(Լոռի!J136+Արագածոտն!J136+Արմավիր!J136+Արարատ!J136+'Երևան քաղաք'!J136+Գեղարքունիք!J136+Կոտայք!J136+Շիրակ!J136+Սյունիք!J136+Տավուշ!J136) -> 9 | K136: =SUM(Լոռի!K136+Արագածոտն!K136+Արմավիր!K136+Արարատ!K136+'Երևան քաղաք'!K136+Գեղարքունիք!K136+Կոտայք!K136+Շիրակ!K136+Սյունիք!K136+Տավուշ!K136) -> 1 | L136: =SUM(Լոռի!L136+Արագածոտն!L136+Արմավիր!L136+Արարատ!L136+'Երևան քաղաք'!L136+Գեղարքունիք!L136+Կոտայք!L136+Շիրակ!L136+Սյունիք!L136+Տավուշ!L136) -> 0 | M136: 0 | N136: =SUM(Լոռի!N136+Արագածոտն!N136+Արմավիր!N136+Արարատ!N136+'Երևան քաղաք'!N136+Գեղարքունիք!N136+Կոտայք!N136+Շիրակ!N136+Սյունիք!N136+Տավուշ!N136) -> 3 | O136: =SUM(Լոռի!O136+Արագածոտն!O136+Արմավիր!O136+Արարատ!O136+'Երևան քաղաք'!O136+Գեղարքունիք!O136+Կոտայք!O136+Շիրակ!O136+Սյունիք!O136+Տավուշ!O136) -> 1 | P136: =SUM(Լոռի!P136+Արագածոտն!P136+Արմավիր!P136+Արարատ!P136+'Երևան քաղաք'!P136+Գեղարքունիք!P136+Կոտայք!P136+Շիրակ!P136+Սյունիք!P136+Տավուշ!P136) -> 3 | Q136: =SUM(Լոռի!Q136+Արագածոտն!Q136+Արմավիր!Q136+Արարատ!Q136+'Երևան քաղաք'!Q136+Գեղարքունիք!Q136+Կոտայք!Q136+Շիրակ!Q136+Սյունիք!Q136+Տավուշ!Q136) -> 4 | R136: =SUM(Լոռի!R136+Արագածոտն!R136+Արմավիր!R136+Արարատ!R136+'Երևան քաղաք'!R136+Գեղարքունիք!R136+Կոտայք!R136+Շիրակ!R136+Սյունիք!R136+Տավուշ!R136) -> 1 | S136: =SUM(Լոռի!S136+Արագածոտն!S136+Արմավիր!S136+Արարատ!S136+'Երևան քաղաք'!S136+Գեղարքունիք!S136+Կոտայք!S136+Շիրակ!S136+Սյունիք!S136+Տավուշ!S136) -> 1 | T136: =SUM(Լոռի!T136+Արագածոտն!T136+Արմավիր!T136+Արարատ!T136+'Երևան քաղաք'!T136+Գեղարքունիք!T136+Կոտայք!T136+Շիրակ!T136+Սյունիք!T136+Տավուշ!T136) -> 2
A137: 7.22 | B137: Կեղծ գինի կամ կեղծ օղի կամ ալկոհոլային կեղծ այլ խմիչք իրացման նպատակով պատրաստելը կամ իրացնելը | C137: 207 | D137: =SUM(Լոռի!D137+Արագածոտն!D137+Արմավիր!D137+Արարատ!D137+'Երևան քաղաք'!D137+Գեղարքունիք!D137+Կոտայք!D137+Շիրակ!D137+Սյունիք!D137+Տավուշ!D137) -> 2 | E137: =SUM(Լոռի!E137+Արագածոտն!E137+Արմավիր!E137+Արարատ!E137+'Երևան քաղաք'!E137+Գեղարքունիք!E137+Կոտայք!E137+Շիրակ!E137+Սյունիք!E137+Տավուշ!E137) -> 0 | F137: =SUM(Լոռի!F137+Արագածոտն!F137+Արմավիր!F137+Արարատ!F137+'Երևան քաղաք'!F137+Գեղարքունիք!F137+Կոտայք!F137+Շիրակ!F137+Սյունիք!F137+Տավուշ!F137) -> 1 | G137: =SUM(Լոռի!G137+Արագածոտն!G137+Արմավիր!G137+Արարատ!G137+'Երևան քաղաք'!G137+Գեղարքունիք!G137+Կոտայք!G137+Շիրակ!G137+Սյունիք!G137+Տավուշ!G137) -> 3 | H137: =SUM(Լոռի!H137+Արագածոտն!H137+Արմավիր!H137+Արարատ!H137+'Երևան քաղաք'!H137+Գեղարքունիք!H137+Կոտայք!H137+Շիրակ!H137+Սյունիք!H137+Տավուշ!H137) -> 0 | I137: =SUM(Լոռի!I137+Արագածոտն!I137+Արմավիր!I137+Արարատ!I137+'Երևան քաղաք'!I137+Գեղարքունիք!I137+Կոտայք!I137+Շիրակ!I137+Սյունիք!I137+Տավուշ!I137) -> 0 | J137: =SUM(Լոռի!J137+Արագածոտն!J137+Արմավիր!J137+Արարատ!J137+'Երևան քաղաք'!J137+Գեղարքունիք!J137+Կոտայք!J137+Շիրակ!J137+Սյունիք!J137+Տավուշ!J137) -> 3 | K137: =SUM(Լոռի!K137+Արագածոտն!K137+Արմավիր!K137+Արարատ!K137+'Երևան քաղաք'!K137+Գեղարքունիք!K137+Կոտայք!K137+Շիրակ!K137+Սյունիք!K137+Տավուշ!K137) -> 0 | ... T137: =SUM(Լոռի!T137+Արագածոտն!T137+Արմավիր!T137+Արարատ!T137+'Երևան քաղաք'!T137+Գեղարքունիք!T137+Կոտայք!T137+Շիրակ!T137+Սյունիք!T137+Տավուշ!T137) -> 0
A138: 7.23 | B138: Ակցիզային դրոշմանիշեր և (կամ) դրոշմապիտակներ կեղծելը կամ իրացնելը | C138: 208 | D138: =SUM(Լոռի!D138+Արագածոտն!D138+Արմավիր!D138+Արարատ!D138+'Երևան քաղաք'!D138+Գեղարքունիք!D138+Կոտայք!D138+Շիրակ!D138+Սյունիք!D138+Տավուշ!D138) -> 0 | E138: =SUM(Լոռի!E138+Արագածոտն!E138+Արմավիր!E138+Արարատ!E138+'Երևան քաղաք'!E138+Գեղարքունիք!E138+Կոտայք!E138+Շիրակ!E138+Սյունիք!E138+Տավուշ!E138) -> 0 | F138: =SUM(Լոռի!F138+Արագածոտն!F138+Արմավիր!F138+Արարատ!F138+'Երևան քաղաք'!F138+Գեղարքունիք!F138+Կոտայք!F138+Շիրակ!F138+Սյունիք!F138+Տավուշ!F138) -> 0 | G138: =SUM(Լոռի!G138+Արագածոտն!G138+Արմավիր!G138+Արարատ!G138+'Երևան քաղաք'!G138+Գեղարքունիք!G138+Կոտայք!G138+Շիրակ!G138+Սյունիք!G138+Տավուշ!G138) -> 0 | H138: =SUM(Լոռի!H138+Արագածոտն!H138+Արմավիր!H138+Արարատ!H138+'Երևան քաղաք'!H138+Գեղարքունիք!H138+Կոտայք!H138+Շիրակ!H138+Սյունիք!H138+Տավուշ!H138) -> 0 | I138: =SUM(Լոռի!I138+Արագածոտն!I138+Արմավիր!I138+Արարատ!I138+'Երևան քաղաք'!I138+Գեղարքունիք!I138+Կոտայք!I138+Շիրակ!I138+Սյունիք!I138+Տավուշ!I138) -> 0 | J138: =SUM(Լոռի!J138+Արագածոտն!J138+Արմավիր!J138+Արարատ!J138+'Երևան քաղաք'!J138+Գեղարքունիք!J138+Կոտայք!J138+Շիրակ!J138+Սյունիք!J138+Տավուշ!J138) -> 0 | K138: =SUM(Լոռի!K138+Արագածոտն!K138+Արմավիր!K138+Արարատ!K138+'Երևան քաղաք'!K138+Գեղարքունիք!K138+Կոտայք!K138+Շիրակ!K138+Սյունիք!K138+Տավուշ!K138) -> 0 | ... T138: =SUM(Լոռի!T138+Արագածոտն!T138+Արմավիր!T138+Արարատ!T138+'Երևան քաղաք'!T138+Գեղարքունիք!T138+Կոտայք!T138+Շիրակ!T138+Սյունիք!T138+Տավուշ!T138) -> 0
A139: 7.24 | B139: Ակցիզային դրոշմանիշեր և (կամ) դրոշմապիտակներ օտարելը կամ ապօրինի ձեռք բերված ակցիզային դրոշմանիշերով և (կամ) դրոշմապիտակներով ապրանքներ դրոշմավորելը | C139: 209 | D139: =SUM(Լոռի!D139+Արագածոտն!D139+Արմավիր!D139+Արարատ!D139+'Երևան քաղաք'!D139+Գեղարքունիք!D139+Կոտայք!D139+Շիրակ!D139+Սյունիք!D139+Տավուշ!D139) -> 0 | E139: =SUM(Լոռի!E139+Արագածոտն!E139+Արմավիր!E139+Արարատ!E139+'Երևան քաղաք'!E139+Գեղարքունիք!E139+Կոտայք!E139+Շիրակ!E139+Սյունիք!E139+Տավուշ!E139) -> 0 | F139: =SUM(Լոռի!F139+Արագածոտն!F139+Արմավիր!F139+Արարատ!F139+'Երևան քաղաք'!F139+Գեղարքունիք!F139+Կոտայք!F139+Շիրակ!F139+Սյունիք!F139+Տավուշ!F139) -> 0 | G139: =SUM(Լոռի!G139+Արագածոտն!G139+Արմավիր!G139+Արարատ!G139+'Երևան քաղաք'!G139+Գեղարքունիք!G139+Կոտայք!G139+Շիրակ!G139+Սյունիք!G139+Տավուշ!G139) -> 0 | H139: =SUM(Լոռի!H139+Արագածոտն!H139+Արմավիր!H139+Արարատ!H139+'Երևան քաղաք'!H139+Գեղարքունիք!H139+Կոտայք!H139+Շիրակ!H139+Սյունիք!H139+Տավուշ!H139) -> 0 | I139: =SUM(Լոռի!I139+Արագածոտն!I139+Արմավիր!I139+Արարատ!I139+'Երևան քաղաք'!I139+Գեղարքունիք!I139+Կոտայք!I139+Շիրակ!I139+Սյունիք!I139+Տավուշ!I139) -> 0 | J139: =SUM(Լոռի!J139+Արագածոտն!J139+Արմավիր!J139+Արարատ!J139+'Երևան քաղաք'!J139+Գեղարքունիք!J139+Կոտայք!J139+Շիրակ!J139+Սյունիք!J139+Տավուշ!J139) -> 0 | K139: =SUM(Լոռի!K139+Արագածոտն!K139+Արմավիր!K139+Արարատ!K139+'Երևան քաղաք'!K139+Գեղարքունիք!K139+Կոտայք!K139+Շիրակ!K139+Սյունիք!K139+Տավուշ!K139) -> 0 | ... T139: =SUM(Լոռի!T139+Արագածոտն!T139+Արմավիր!T139+Արարատ!T139+'Երևան քաղաք'!T139+Գեղարքունիք!T139+Կոտայք!T139+Շիրակ!T139+Սյունիք!T139+Տավուշ!T139) -> 0
...

Sheet Լոռի
A1: 2022թ. | D1: ՀԱՇՎԵՏՎՈՒԹՅՈՒՆ
A2: ՀՀ ԼՈՌՈՒ ՄԱՐԶԻ ԱՌԱՋԻՆ ԱՏՅԱՆԻ ԸՆԴՀԱՆՈՒՐ ԻՐԱՎԱՍՈՒԹՅԱՆ ԴԱՏԱՐԱՆՈՒՄ ՔՐԵԱԿԱՆ ԳՈՐԾԵՐԻ ՔՆՆՈՒԹՅԱՆ ՎԵՐԱԲԵՐՅԱԼ
A3: ՀՀ Լոռու մարզի առաջին ատյանի ընդհանուր իրավասության դատարանում քրեական մասնագիտացում ունեցող դատավորների հաստիքների քանակը` 4
C4: ՀՀ քրեական օրենսգրքի հոդվածներ | D4: Հաշվետու ժամանակահատվածի սկզբում նախորդ հաշվետու ժամանակահատվածից փոխանցված գործերի ընդհանուր թիվը | E4: Այդ թվում` կասեցված վիճակում փոխանցված | F4: Հաշվետու ժամանակահատվածում ստացված գործերի ընդհանուր թիվը | G4: Հաշվետու ժամանակահատվածում ավարտված գործերի ընդհանուր թիվը | K4: Ուղարկվել է ըստ ընդդատության | L4: Հաշվետու ժամանակահատվածում կասեցված վարույթներով գործերի ընդհանուր թիվը | M4: Հաշվետու ժամանակահատվածում անավարտ գործերի ընդհանուր թիվը | N4: Այդ թվում՝ կասեցված | O4: Բողոքարկված դատական ակտերի թիվը` ըստ տեսակների | R4: Բեկանված դատական ակտերի թիվը` ըստ տեսակների
G5: Քննվել է ըստ էության և դատավճիռ կայացվել | H5: Որոշում է կայացվել քրեական գործի վարույթը կարճելու և քրեական հետապնդումը դադարեցնելու մասին | I5: Որոշում է կայացվել անմեղսունակների նկատմամբ բժշկական բնույթի հարկադրական միջոցներ կիրառելու մասին | J5: Ընդամենը ավարտվել են գործեր | O5: Այդ թվում` գործն ըստ էության լուծող դատական ակտերը | P5: Այդ թվում` միջանկյալ դատական ակտերը | Q5: Ընդամենը | R5: Այդ թվում` գործն ըստ էության լուծող դատական ակտերը | S5: Այդ թվում` միջանկյալ դատական ակտերը | T5: Ընդամենը
D6: 1 | E6: 2 | F6: 3 | G6: 4 | H6: 5 | I6: 6 | J6: 7 | K6: 8 | L6: 9 | M6: 10 | N6: 11 | O6: 12 | P6: 13 | Q6: 14 | R6: 15 | S6: 16 | T6: 17
A7: 1. | B7: Ընդամենը կյանքի և առողջության դեմ ուղղված հանցագործությունները | D7: =SUM(D8:D34) -> 61 | E7: =SUM(E8:E34) -> 0 | F7: =SUM(F8:F34) -> 15 | G7: =SUM(G8:G34) -> 20 | H7: =SUM(H8:H34) -> 3 | I7: =SUM(I8:I34) -> 1 | J7: =SUM(J8:J34) -> 24 | K7: =SUM(K8:K34) -> 0 | ... T7: =SUM(T8:T34) -> 1
A8: 1.1 | B8: Սպանությունը | C8: 104 | D8: 22 | F8: 4 | G8: 6 | H8: 1 | I8: 1 | J8: =+I8+H8+G8 -> 8 | M8: 18 | O8: 2 | P8: 10 | Q8: =+O8+P8 -> 12 | S8: 1 | T8: =+R8+S8 -> 1
A9: 1.2 | B9: Հոգեկան խիստ հուզմունքի վիճակում կատարված սպանությունը | C9: 105 | J9: =+I9+H9+G9 -> 0 | Q9: =+O9+P9 -> 0 | T9: =+R9+S9 -> 0
A10: 1.3 | B10: Մոր կողմից նորածին երեխայի սպանությունը | C10: 106 | J10: =+I10+H10+G10 -> 0 | Q10: =+O10+P10 -> 0 | T10: =+R10+S10 -> 0
A11: 1.4 | B11: Հանցանք կատարած անձին բռնելու համար անհրաժեշտ միջոցների սահմանազանցմամբ սպանությունը | C11: 107 | J11: =+I11+H11+G11 -> 0 | Q11: =+O11+P11 -> 0 | T11: =+R11+S11 -> 0
A12: 1.5 | B12: Անհրաժեշտ պաշտպանության սահմանազանցմամբ սպանությունը | C12: 108 | J12: =+I12+H12+G12 -> 0 | Q12: =+O12+P12 -> 0 | T12: =+R12+S12 -> 0
A13: 1.6 | B13: Անզգուշությամբ մահ պատճառելը | C13: 109 | D13: 1 | J13: =+I13+H13+G13 -> 0 | M13: 1 | Q13: =+O13+P13 -> 0 | T13: =+R13+S13 -> 0
A14: 1.7 | B14: Ինքնասպանության հասցնելը | C14: 110 | D14: 1 | J14: =+I14+H14+G14 -> 0 | M14: 1 | Q14: =+O14+P14 -> 0 | T14: =+R14+S14 -> 0
A15: 1.8 | B15: Ինքնասպանության հակելը | C15: 111 | J15: =+I15+H15+G15 -> 0 | Q15: =+O15+P15 -> 0 | T15: =+R15+S15 -> 0
A16: 1.9 | B16: Դիտավորությամբ առողջությանը ծանր վնաս պատճառելը | C16: 112 | D16: 23 | F16: 4 | G16: 5 | J16: =+I16+H16+G16 -> 5 | M16: 22 | O16: 2 | P16: 2 | Q16: =+O16+P16 -> 4 | T16: =+R16+S16 -> 0
A17: 1.10 | B17: Դիտավորությամբ առողջությանը միջին ծանրության վնաս պատճառելը | C17: 113 | D17: 2 | G17: 1 | J17: =+I17+H17+G17 -> 1 | M17: 1 | Q17: =+O17+P17 -> 0 | T17: =+R17+S17 -> 0
A18: 1.11 | B18: Հոգեկան խիստ հուզմունքի վիճակում առողջությանը ծանր կամ միջին ծանրության վնաս պատճառելը | C18: 114 | J18: =+I18+H18+G18 -> 0 | Q18: =+O18+P18 -> 0 | T18: =+R18+S18 -> 0
A19: 1.12 | B19: Հանցանք կատարած անձին բռնելու համար անհրաժեշտ միջոցների սահմանզանցմամբ առողջությանը ծանր կամ միջին ծանրության վնաս պատճառելը | C19: 115 | J19: =+I19+H19+G19 -> 0 | Q19: =+O19+P19 -> 0 | T19: =+R19+S19 -> 0
A20: 1.13 | B20: Առողջությանը ծանր կամ միջին ծանրության վնաս պատճառելը անհրաժեշտ պաշտպանության սահմանանազանցմամբ | C20: 116 | J20: =+I20+H20+G20 -> 0 | Q20: =+O20+P20 -> 0 | T20: =+R20+S20 -> 0
A21: 1.14 | B21: Դիտավորությամբ առողջությանը թեթև վնաս պատճառելը | C21: 117 | D21: 2 | G21: 1 | H21: 1 | J21: =+I21+H21+G21 -> 2 | O21: 1 | Q21: =+O21+P21 -> 1 | T21: =+R21+S21 -> 0
A22: 1.15 | B22: Ծեծը | C22: 118 | D22: 5 | F22: 7 | G22: 6 | H22: 1 | J22: =+I22+H22+G22 -> 7 | M22: 5 | Q22: =+O22+P22 -> 0 | T22: =+R22+S22 -> 0
A23: 1.16 | B23: Ֆիզիկական ուժեղ ցավ կամ հոգեկան ուժեղ տառապանք պատճառելը | C23: 119 | D23: 2 | J23: =+I23+H23+G23 -> 0 | M23: 2 | Q23: =+O23+P23 -> 0 | T23: =+R23+S23 -> 0
A24: 1.17 | B24: Անզգուշությամբ առողջությանը ծանր վնաս պատճառելը | C24: 120 | J24: =+I24+H24+G24 -> 0 | Q24: =+O24+P24 -> 0 | T24: =+R24+S24 -> 0
A25: 1.18 | B25: Անզգուշությամբ առողջությանը միջին ծանրության վնաս պատճառելը | C25: 121 | J25: =+I25+H25+G25 -> 0 | Q25: =+O25+P25 -> 0 | T25: =+R25+S25 -> 0
A26: 1.19 | B26: Ապօրինի աբորտ կատարելը | C26: 122 | J26: =+I26+H26+G26 -> 0 | Q26: =+O26+P26 -> 0 | T26: =+R26+S26 -> 0
A27: 1.20 | B27: Մարդու իմունային անբավարարության վիրուսի հարուցիչով վարակելը | C27: 123 | J27: =+I27+H27+G27 -> 0 | Q27: =+O27+P27 -> 0 | T27: =+R27+S27 -> 0
A28: 1.21 | B28: Վեներական հիվանդությամբ կամ այլ սեռավարակներով վարակելը | C28: 124 | J28: =+I28+H28+G28 -> 0 | Q28: =+O28+P28 -> 0 | T28: =+R28+S28 -> 0
A29: 1.22 | B29: Փոխպատվաստման վիրահատություն կատարելու կանոնները խախտելը | C29: 125 | J29: =+I29+H29+G29 -> 0 | Q29: =+O29+P29 -> 0 | T29: =+R29+S29 -> 0
A30: 1.24 | B30: Անձին առանց իր հանձնարարության բժշկական կամ գիտական փորձերի ենթարկելը | C30: 127 | J30: =+I30+H30+G30 -> 0 | Q30: =+O30+P30 -> 0 | T30: =+R30+S30 -> 0
A31: 1.25 | B31: Վտանգի մեջ թողնելը | C31: 128 | J31: =+I31+H31+G31 -> 0 | Q31: =+O31+P31 -> 0 | T31: =+R31+S31 -> 0
A32: 1.26 | B32: Հիվանդին օգնություն ցույց չտալը | C32: 129 | J32: =+I32+H32+G32 -> 0 | Q32: =+O32+P32 -> 0 | T32: =+R32+S32 -> 0
A33: 1.27 | B33: Բժշկական օգնություն և սպասարկում իրականացնողների կողմից մասնագիտական պարտականությունները չկատարելը կամ ոչ պատշաճ կատարելը | C33: 130 | D33: 3 | G33: 1 | J33: =+I33+H33+G33 -> 1 | M33: 2 | Q33: =+O33+P33 -> 0 | T33: =+R33+S33 -> 0
A34: 1.28 | B34: Այլ հանցագործություններ | J34: =+I34+H34+G34 -> 0 | Q34: =+O34+P34 -> 0 | T34: =+R34+S34 -> 0
A35: 2. | B35: Ընդամենը անձի ազատության, պատվի և արժանապատվության դեմ ուղղված հանցագործությունները | D35: =SUM(D36:D43) -> 3 | E35: =SUM(E36:E43) -> 0 | F35: =SUM(F36:F43) -> 4 | G35: =SUM(G36:G43) -> 0 | H35: =SUM(H36:H43) -> 2 | I35: =SUM(I36:I43) -> 0 | J35: =SUM(J36:J43) -> 2 | K35: =SUM(K36:K43) -> 0 | ... T35: =SUM(T36:T43) -> 0
A36: 2.1 | B36: Մարդուն առևանգելը | C36: 131 | D36: 2 | F36: 1 | J36: =+I36+H36+G36 -> 0 | M36: 3 | Q36: =+O36+P36 -> 0 | T36: =+R36+S36 -> 0
A37: 2.2 | B37: Մարդու թրաֆիքինգը կամ շահագործումը | C37: 132 | J37: =+I37+H37+G37 -> 0 | Q37: =+O37+P37 -> 0 | T37: =+R37+S37 -> 0
A38: 2.2.2 | B38: Երեխայի կամ հոգեկան խանգարման հետևանքով իր արարքի բնույթն ու նշանակությունը գիտակցելու կամ դա ղեկավարելու հնարավորությունից զրկված անձի թրաֆիքինգը կամ շահագործումը | C38: 132.2 | J38: =+I38+H38+G38 -> 0 | Q38: =+O38+P38 -> 0 | T38: =+R38+S38 -> 0
A39: 2.2.3 | B39: Շահագործման վիճակում գտնվող անձի ծառայությունից օգտվելը | C39: 132.3 | J39: =+I39+H39+G39 -> 0 | Q39: =+O39+P39 -> 0 | T39: =+R39+S39 -> 0
A40: 2.3 | B40: Ազատությունից ապօրինի զրկելը | C40: 133 | J40: =+I40+H40+G40 -> 0 | Q40: =+O40+P40 -> 0 | T40: =+R40+S40 -> 0
A41: 2.4 | B41: Հոգեբուժական հիվանդանոցում ապօրինի տեղավորելը կամ պահելը | C41: 134 | J41: =+I41+H41+G41 -> 0 | Q41: =+O41+P41 -> 0 | T41: =+R41+S41 -> 0
A42: 2.7 | B42: Սպանության, առողջությանը ծանր վնաս պատճառելու կամ գույք ոչնչացնելու սպառնալիքը | C42: 137 | D42: 1 | F42: 2 | H42: 1 | J42: =+I42+H42+G42 -> 1 | M42: 2 | Q42: =+O42+P42 -> 0 | T42: =+R42+S42 -> 0
A43: 2.8 | B43: Այլ հանցագործություններ | F43: 1 | H43: 1 | J43: =+I43+H43+G43 -> 1 | O43: 1 | Q43: =+O43+P43 -> 1 | T43: =+R43+S43 -> 0
A44: 3. | B44: Ընդամենը սեռական անձեռնմխելիության և սեռական ազատության դեմ ուղղված հանցագործությունները | D44: =SUM(D45:D50) -> 5 | E44: =SUM(E45:E50) -> 0 | F44: =SUM(F45:F50) -> 4 | G44: =SUM(G45:G50) -> 2 | H44: =SUM(H45:H50) -> 0 | I44: =SUM(I45:I50) -> 0 | J44: =SUM(J45:J50) -> 2 | K44: =SUM(K45:K50) -> 0 | ... T44: =SUM(T45:T50) -> 1
A45: 3.1 | B45: Բռնաբարությունը | C45: 138 | F45: 2 | J45: =+I45+H45+G45 -> 0 | M45: 2 | Q45: =+O45+P45 -> 0 | T45: =+R45+S45 -> 0
A46: 3.2 | B46: Սեքսուալ բնույթի բռնի գործողությունները | C46: 139 | D46: 2 | F46: 1 | G46: 1 | J46: =+I46+H46+G46 -> 1 | M46: 2 | P46: 2 | Q46: =+O46+P46 -> 2 | S46: 1 | T46: =+R46+S46 -> 1
A47: 3.3 | B47: Սեռական հարաբերության կամ սեքսուալ բնույթի գործողություններին հարկադրելը | C47: 140 | J47: =+I47+H47+G47 -> 0 | Q47: =+O47+P47 -> 0 | T47: =+R47+S47 -> 0
A48: 3.4 | B48: Սեռական հարաբերությունը տասնվեց տարին չլրացած անձի հետ կամ սեքսուալ բնույթի գործողություններ կատարելը տասնվեց տարին չլրացած անձի նկատմամբ | C48: 141 | D48: 1 | G48: 1 | J48: =+I48+H48+G48 -> 1 | O48: 1 | Q48: =+O48+P48 -> 1 | T48: =+R48+S48 -> 0
A49: 3.5 | B49: Անառակաբարո գործողությունները | C49: 142 | D49: 2 | F49: 1 | J49: =+I49+H49+G49 -> 0 | M49: 3 | Q49: =+O49+P49 -> 0 | T49: =+R49+S49 -> 0
A50: 3.6 | B50: Այլ հանցագործություններ | J50: =+I50+H50+G50 -> 0 | Q50: =+O50+P50 -> 0 | T50: =+R50+S50 -> 0
A51: 4. | B51: Ընդամենը մարդու և քաղաքացու սահմանադրական իրավունքների և ազատությունների դեմ ուղղված հանցագործությունները | D51: =SUM(D52:D80) -> 5 | E51: =SUM(E52:E80) -> 0 | F51: =SUM(F52:F80) -> 0 | G51: =SUM(G52:G80) -> 1 | H51: =SUM(H52:H80) -> 0 | I51: =SUM(I52:I80) -> 0 | J51: =SUM(J52:J80) -> 1 | K51: =SUM(K52:K80) -> 0 | ... T51: =SUM(T52:T80) -> 0
A52: 4.1 | B52: Մարդու և քաղաքացու իրավահավասարությունը խախտելը | C52: 143 | J52: =+I52+H52+G52 -> 0 | Q52: =+O52+P52 -> 0 | T52: =+R52+S52 -> 0
A53: 4.2 | B53: Անձնական կամ ընտանեկան կյանքի մասին տեղեկություններ ապօրինի հավաքելը, պահելը, օգտագործելը կամ տարածելը | C53: 144 | J53: =+I53+H53+G53 -> 0 | Q53: =+O53+P53 -> 0 | T53: =+R53+S53 -> 0
A54: 4.3 | B54: Բժշկական գաղտնիքը հրապարակելը | C54: 145 | J54: =+I54+H54+G54 -> 0 | Q54: =+O54+P54 -> 0 | T54: =+R54+S54 -> 0
A55: 4.4 | B55: Նամակագրության, հեռախոսային խոսակցությունների, փոստային, հեռագրական կամ այլ հաղորդումների գաղտնիությունը խախտելը | C55: 146 | J55: =+I55+H55+G55 -> 0 | Q55: =+O55+P55 -> 0 | T55: =+R55+S55 -> 0
A56: 4.5 | B56: Բնակարանի անձեռնմխելիությունը խախտելը | C56: 147 | D56: 1 | J56: =+I56+H56+G56 -> 0 | M56: 1 | Q56: =+O56+P56 -> 0 | T56: =+R56+S56 -> 0
A57: 4.6 | B57: Անձին տեղեկություն ներկայացնելուց հրաժարվելը | C57: 148 | J57: =+I57+H57+G57 -> 0 | Q57: =+O57+P57 -> 0 | T57: =+R57+S57 -> 0
A58: 4.7 | B58: Ընտրական իրավունքի իրականացմանը, ընտրական հանձնաժողովների աշխատանքներին կամ ընտրությանը մասնակցող անձանց լիազորությունների իրականացմանը խոչընդոտելը | C58: 149 | J58: =+I58+H58+G58 -> 0 | Q58: =+O58+P58 -> 0 | T58: =+R58+S58 -> 0
A59: 4.8 | B59: Ընտրությունների կամ քվեարկության արդյունքները կեղծելը | C59: 150 | J59: =+I59+H59+G59 -> 0 | Q59: =+O59+P59 -> 0 | T59: =+R59+S59 -> 0
A60: 4.10 | B60: Ընտրողների ցուցակները կազմելու, դրանք քաղաքացիներին և կուսակցություններին տրամադրելու կամ հրապարակելու կարգը խախտելը | C60: 152 | J60: =+I60+H60+G60 -> 0 | Q60: =+O60+P60 -> 0 | T60: =+R60+S60 -> 0
A61: 4.11 | B61: Մեկից ավելի անգամ կամ այլ անձի փոխարեն քվեարկելը | C61: 153 | D61: 1 | G61: 1 | J61: =+I61+H61+G61 -> 1 | O61: 1 | Q61: =+O61+P61 -> 1 | T61: =+R61+S61 -> 0
A62: 4.12 | B62: Քվեարկության գաղտնիությունը խախտելը | C62: 154 | J62: =+I62+H62+G62 -> 0 | Q62: =+O62+P62 -> 0 | T62: =+R62+S62 -> 0
A63: 4.13 | B63: Կեղծ ընտրական քվեաթերթիկներ կամ քվեարկության ծրարներ, դրոշմանիշեր, կտրոններ պատրաստելը կամ ակնհայտ կեղծ ընտրական քվեաթերթիկներ կամ քվեարկության ծրարներ, դրոշմանիշեր, կտրոններ հանձնելը կամ իրացնելը | C63: 154.1 | J63: =+I63+H63+G63 -> 0 | Q63: =+O63+P63 -> 0 | T63: =+R63+S63 -> 0
A64: 4.14 | B64: Ընտրողի կողմից թեկնածուներից, կուսակցություններից (կուսակցությունների դաշինքներից), հանրաքվեի քարոզչական նախաձեռնություններից կաշառք ստանալը կամ թեկնածուների, կուսակցությունների (կուսակցությունների դաշինքների), հանրաքվեի քարոզչական նախաձեռնությունների կողմից ընտրողներին կաշառք տալը կամ ընտրողի ազատ կամքի իրականացմանը խոչընդոտելը | C64: 154.2 | D64: 1 | J64: =+I64+H64+G64 -> 0 | M64: 1 | Q64: =+O64+P64 -> 0 | T64: =+R64+S64 -> 0
A65: 4.16 | B65: Զենքով՝ տեղամասային կենտրոն մուտք գործելը | C65: 154.4 | J65: =+I65+H65+G65 -> 0 | Q65: =+O65+P65 -> 0 | T65: =+R65+S65 -> 0
A66: 4.17 | B66: Վստահված անձին,ընտրական հանձնաժողովի անդամին,դիտորդին կամ զանգվածային լրատվության միջոցի ներկայացուցչին ընտրական փաստաթղթերին ծանոթանալուն խոչընդոտելը, ընտրական հանձնաժողովի արձանագրությունների պատճեններ չտալը | C66: 154.5 | J66: =+I66+H66+G66 -> 0 | Q66: =+O66+P66 -> 0 | T66: =+R66+S66 -> 0
A67: 4.17.1 | B67: Ընտրական հանձնաժողովի նախագահի լիազորությունները չկատարելը կամ ոչ պատշաճ կատարելը | C67: 154.6 | J67: =+I67+H67+G67 -> 0 | Q67: =+O67+P67 -> 0 | T67: =+R67+S67 -> 0
A68: 4.17.2 | B68: Քվեատուփը, ընտրողների ստորագրած ցուցակը, տեղամասային ընտրական հանձնաժողովի գրանցամատյանը, հանձնաժողովի կնիքը, տեղամասային ընտրական հանձնաժողովի անդամի անհատական կնիքը, ինքնասոսնձվող դրոշմանիշը, ընտրողի վերաբերյալ տվյալներ պարունակող քվեարկության կտրոնը կամ համարակալված կտրոնը, ընտրողների էլեկտրոնային գրանցման տեխնիկական սարքավորումը, կառավարության կողմից ընտրված մասնագիտացված կազմակերպության կողմից տեղադրված տեսախցիկը, ընտրական փաստաթղթերի մեկանգամյա օգտագործման պարկը կամ ընտրական փաստաթղթերի փաթեթը հափշտակելը | C68: 154.7 | J68: =+I68+H68+G68 -> 0 | Q68: =+O68+P68 -> 0 | T68: =+R68+S68 -> 0
A69: 4.17.3 | B69: Այլ անձի փոխարեն քվեարկելու վերաբերյալ սուտ հայտարարություն տալը կամ կեղծ ստորագրությամբ հայտարարություն դիմումին կից ներկայացնելը | C69: 154.8 | J69: =+I69+H69+G69 -> 0 | Q69: =+O69+P69 -> 0 | T69: =+R69+S69 -> 0
A70: 4.18 | B70: Գործադուլի մասնակցելուն կամ գործադուլի մասնակցելուց հրաժարվելուն հարկադրելը | C70: 155 | J70: =+I70+H70+G70 -> 0 | Q70: =+O70+P70 -> 0 | T70: =+R70+S70 -> 0
A71: 4.19 | B71: Հղի կնոջը կամ մինչև երեք տարեկան երեխա ունեցող անձին աշխատանքի ընդունելոււց հրաժարվելը կամ աշխատանքից անհիմն ազատելը | C71: 156 | J71: =+I71+H71+G71 -> 0 | Q71: =+O71+P71 -> 0 | T71: =+R71+S71 -> 0
A72: 4.20 | B72: Աշխատանքի պաշտպանության կանոնները խախտելը | C72: 157 | D72: 2 | J72: =+I72+H72+G72 -> 0 | M72: 2 | P72: 1 | Q72: =+O72+P72 -> 1 | T72: =+R72+S72 -> 0
A73: 4.21 | B73: Հեղինակային և հարակից իրավունքները խախտելը | C73: 158 | J73: =+I73+H73+G73 -> 0 | Q73: =+O73+P73 -> 0 | T73: =+R73+S73 -> 0
A74: 4.22 | B74: Արտոնագրային իրավունքը խախտելը | C74: 159 | J74: =+I74+H74+G74 -> 0 | Q74: =+O74+P74 -> 0 | T74: =+R74+S74 -> 0
A75: 4.23 | B75: Խղճի կամ դավանանքի ազատության իրավունքի իրականացմանը խոչընդոտելը | C75: 160 | J75: =+I75+H75+G75 -> 0 | Q75: =+O75+P75 -> 0 | T75: =+R75+S75 -> 0
A76: 4.24 | B76: Միավորումներ (հասարակական կամ արհեստակցական միություններ) կազմելու կամ կուսակցություններ ստեղծելու իրավունքի իրականացմանը կամ դրանց գործողությանը խոչընդոտելը | C76: 161 | J76: =+I76+H76+G76 -> 0 | Q76: =+O76+P76 -> 0 | T76: =+R76+S76 -> 0
A77: 4.25 | B77: Անձանց իրավունքների կամ անձի դեմ ոտնձգող միավորումներ կազմելը կամ ղեկավարելը | C77: 162 | J77: =+I77+H77+G77 -> 0 | Q77: =+O77+P77 -> 0 | T77: =+R77+S77 -> 0
A78: 4.26 | B78: Հավաքներ անցկացնելուն կամ դրանց մասնակցելուն խոչընդոտելը | C78: 163 | J78: =+I78+H78+G78 -> 0 | Q78: =+O78+P78 -> 0 | T78: =+R78+S78 -> 0
A79: 4.27 | B79: Լրագրողի մասնագիտական օրինական գործողությանը խոչընդոտելը | C79: 164 | J79: =+I79+H79+G79 -> 0 | Q79: =+O79+P79 -> 0 | T79: =+R79+S79 -> 0
A80: 4.28 | B80: Այլ հանցագործություններ | J80: =+I80+H80+G80 -> 0 | Q80: =+O80+P80 -> 0 | T80: =+R80+S80 -> 0
A81: 5. | B81: Ընդամենը ընտանիքի և երեխայի շահերի դեմ ուղղված հանցագործությունները | D81: =SUM(D82:D95) -> 2 | E81: =SUM(E82:E95) -> 0 | F81: =SUM(F82:F95) -> 0 | G81: =SUM(G82:G95) -> 0 | H81: =SUM(H82:H95) -> 0 | I81: =SUM(I82:I95) -> 0 | J81: =SUM(J82:J95) -> 0 | K81: =SUM(K82:K95) -> 0 | ... T81: =SUM(T82:T95) -> 0
A82: 5.1 | B82: Անչափահասին հանցանքի կատարմանը ներգրավելը | C82: 165 | D82: 1 | J82: =+I82+H82+G82 -> 0 | M82: 1 | Q82: =+O82+P82 -> 0 | T82: =+R82+S82 -> 0
A83: 5.2 | B83: Երեխային պոռնկության կամ պոռնկագրական բնույթի նյութեր կամ առարկաներ պատրաստելու հետ կապված գործողություններ կատարելուն ներգրավելը | C83: 166 | J83: =+I83+H83+G83 -> 0 | Q83: =+O83+P83 -> 0 | T83: =+R83+S83 -> 0
A84: 5.2.1 | B84: Երեխային ոգելից խմիչքների օգտագործմանը, ուժեղ ներգործող կամ այլ թմրեցնող նյութերի ոչ բժշկական օգտագործմանը, թափառաշրջիկությանը ներգրավելը կամ մուրացկանության հետ կապված գործողություններ կատարելուն ներգրավելը | C84: 166.1 | J84: =+I84+H84+G84 -> 0 | Q84: =+O84+P84 -> 0 | T84: =+R84+S84 -> 0
A85: 5.3 | B85: Ծնողներից երեխային ապօրինի բաժանելը կամ երեխային փոխելը | C85: 167 | J85: =+I85+H85+G85 -> 0 | Q85: =+O85+P85 -> 0 | T85: =+R85+S85 -> 0
A86: 5.4 | B86: Խնամքը ստանձնելու նպատակով երեխայի առքը կամ ստանձնողի խնամքին հանձնելու նպատակով երեխայի վաճառքը | C86: 168 | D86: 1 | J86: =+I86+H86+G86 -> 0 | M86: 1 | P86: 1 | Q86: =+O86+P86 -> 1 | T86: =+R86+S86 -> 0
A87: 5.5 | B87: Որդեգրման գաղտնիքը հրապարակելը կամ որդեգրման համաձայնություն տալուն հակելը կամ հարկադրելը | C87: 169 | J87: =+I87+H87+G87 -> 0 | Q87: =+O87+P87 -> 0 | T87: =+R87+S87 -> 0
A88: 5.6 | B88: Քաղաքացիական կացության ակտերի գրանցման մարմիններին սուտ տեղեկություններ հաղորդելը | C88: 169.1 | J88: =+I88+H88+G88 -> 0 | Q88: =+O88+P88 -> 0 | T88: =+R88+S88 -> 0
A89: 5.7 | B89: Երեխային դաստիարակելու պարտականությունը չկատարելը | C89: 170 | J89: =+I89+H89+G89 -> 0 | Q89: =+O89+P89 -> 0 | T89: =+R89+S89 -> 0
A90: 5.8 | B90: Երեխայի կյանքի անվտանգության ապահովման կամ առողջության պահպանման պարտականությունը չկատարելը կամ ոչ պատշաճ կատարելը | C90: 171 | J90: =+I90+H90+G90 -> 0 | Q90: =+O90+P90 -> 0 | T90: =+R90+S90 -> 0
A91: 5.8.1 | B91: Վերարտադրողականության օժանդակ տեխնոլոգիաներից օգտվելու կանոնները խախտելը | C91: 171.1 | J91: =+I91+H91+G91 -> 0 | Q91: =+O91+P91 -> 0 | T91: =+R91+S91 -> 0
A92: 5.9 | B92: Խնամակալի կամ հոգաբարձուի իրավունքները չարաշահելը | C92: 172 | J92: =+I92+H92+G92 -> 0 | Q92: =+O92+P92 -> 0 | T92: =+R92+S92 -> 0
A93: 5.10 | B93: Ծնողի կողմից երեխային պահելուց չարամտորեն խուսափելը | C93: 173 | J93: =+I93+H93+G93 -> 0 | Q93: =+O93+P93 -> 0 | T93: =+R93+S93 -> 0
A94: 5.11 | B94: Զավակի կողմից անաշխատունակ ծնողին պահելուց չարամտորեն խուսափելը | C94: 174 | J94: =+I94+H94+G94 -> 0 | Q94: =+O94+P94 -> 0 | T94: =+R94+S94 -> 0
A95: 5.12 | B95: Այլ հանցագործություններ | J95: =+I95+H95+G95 -> 0 | Q95: =+O95+P95 -> 0 | T95: =+R95+S95 -> 0
A96: 6. | B96: Ընդամենը սեփականության դեմ ուղղված հանցագործությունները | D96: =SUM(D97:D111) -> 70 | E96: =SUM(E97:E111) -> 5 | F96: =SUM(F97:F111) -> 32 | G96: =SUM(G97:G111) -> 31 | H96: =SUM(H97:H111) -> 7 | I96: =SUM(I97:I111) -> 1 | J96: =SUM(J97:J111) -> 39 | K96: =SUM(K97:K111) -> 5 | ... T96: =SUM(T97:T111) -> 1
A97: 6.1 | B97: Ավազակությունը | C97: 175 | D97: 7 | F97: 1 | G97: 1 | J97: =+I97+H97+G97 -> 1 | M97: 7 | O97: 1 | P97: 2 | Q97: =+O97+P97 -> 3 | T97: =+R97+S97 -> 0
A98: 6.2 | B98: Կողոպուտը | C98: 176 | D98: 5 | E98: 1 | F98: 2 | G98: 2 | H98: 1 | J98: =+I98+H98+G98 -> 3 | M98: 4 | N98: 1 | Q98: =+O98+P98 -> 0 | T98: =+R98+S98 -> 0
A99: 6.3 | B99: Գողությունը | C99: 177 | D99: 32 | E99: 3 | F99: 24 | G99: 20 | H99: 2 | I99: 1 | J99: =+I99+H99+G99 -> 23 | M99: 30 | N99: 1 | O99: 2 | P99: 8 | Q99: =+O99+P99 -> 10 | T99: =+R99+S99 -> 0
A100: 6.4 | B100: Խարդախությունը | C100: 178 | D100: 11 | F100: 3 | G100: 3 | H100: 3 | J100: =+I100+H100+G100 -> 6 | K100: 3 | M100: 5 | Q100: =+O100+P100 -> 0 | T100: =+R100+S100 -> 0
...

Sheet Արագածոտն
A1: 2022թ. Տարեկան | D1: ՀԱՇՎԵՏՎՈՒԹՅՈՒՆ
A2: ՀՀ ԱՐԱԳԱԾՈՏՆԻ ՄԱՐԶԻ ԱՌԱՋԻՆ ԱՏՅԱՆԻ ԸՆԴՀԱՆՈՒՐ ԻՐԱՎԱՍՈՒԹՅԱՆ ԴԱՏԱՐԱՆՈՒՄ ՔՐԵԱԿԱՆ ԳՈՐԾԵՐԻ ՔՆՆՈՒԹՅԱՆ ՎԵՐԱԲԵՐՅԱԼ
A3: ՀՀ Արագածոտնի մարզի առաջին ատյանի ընդհանուր իրավասության դատարանում քրեական մասնագիտացում ունեցող դատավորների հաստիքների քանակը` 2
C4: ՀՀ քրեական օրենսգրքի հոդվածներ | D4: Հաշվետու ժամանակահատվածի սկզբում նախորդ հաշվետու ժամանակահատվածից փոխանցված գործերի ընդհանուր թիվը | E4: Այդ թվում` կասեցված վիճակում փոխանցված | F4: Հաշվետու ժամանակահատվածում ստացված գործերի ընդհանուր թիվը | G4: Հաշվետու ժամանակահատվածում ավարտված գործերի ընդհանուր թիվը | K4: Ուղարկվել է ըստ ընդդատության | L4: Հաշվետու ժամանակահատվածում կասեցված վարույթներով գործերի ընդհանուր թիվը | M4: Հաշվետու ժամանակահատվածում անավարտ գործերի ընդհանուր թիվը | N4: Այդ թվում՝ կասեցված | O4: Բողոքարկված դատական ակտերի թիվը` ըստ տեսակների | R4: Բեկանված դատական ակտերի թիվը` ըստ տեսակների
G5: Քննվել է ըստ էության և դատավճիռ կայացվել | H5: Որոշում է կայացվել քրեական գործի վարույթը կարճելու և քրեական հետապնդումը դադարեցնելու մասին | I5: Որոշում է կայացվել անմեղսունակների նկատմամբ բժշկական բնույթի հարկադրական միջոցներ կիրառելու մասին | J5: Ընդամենը ավարտվել են գործեր | O5: Այդ թվում` գործն ըստ էության լուծող դատական ակտերը | P5: Այդ թվում` միջանկյալ դատական ակտերը | Q5: Ընդամենը | R5: Այդ թվում` գործն ըստ էության լուծող դատական ակտերը | S5: Այդ թվում` միջանկյալ դատական ակտերը | T5: Ընդամենը
D6: 1 | E6: 2 | F6: 3 | G6: 4 | H6: 5 | I6: 6 | J6: 7 | K6: 8 | L6: 9 | M6: 10 | N6: 11 | O6: 12 | P6: 13 | Q6: 14 | R6: 15 | S6: 16 | T6: 17
A7: 1. | B7: Ընդամենը կյանքի և առողջության դեմ ուղղված հանցագործությունները | D7: =SUM(D8:D34) -> 13 | E7: =SUM(E8:E34) -> 0 | F7: =SUM(F8:F34) -> 12 | G7: =SUM(G8:G34) -> 5 | H7: =SUM(H8:H34) -> 3 | I7: =SUM(I8:I34) -> 0 | J7: =SUM(J8:J34) -> 8 | K7: =SUM(K8:K34) -> 0 | ... T7: =SUM(T8:T34) -> 1
A8: 1.1 | B8: Սպանությունը | C8: 104 | D8: 5 | F8: 2 | G8: 1 | J8: 1 | M8: 6 | O8: 2 | Q8: 2 | R8: 1 | T8: 1
A9: 1.2 | B9: Հոգեկան խիստ հուզմունքի վիճակում կատարված սպանությունը | C9: 105
A10: 1.3 | B10: Մոր կողմից նորածին երեխայի սպանությունը | C10: 106
A11: 1.4 | B11: Հանցանք կատարած անձին բռնելու համար անհրաժեշտ միջոցների սահմանազանցմամբ սպանությունը | C11: 107
A12: 1.5 | B12: Անհրաժեշտ պաշտպանության սահմանազանցմամբ սպանությունը | C12: 108
A13: 1.6 | B13: Անզգուշությամբ մահ պատճառելը | C13: 109 | F13: 1 | M13: 1
A14: 1.7 | B14: Ինքնասպանության հասցնելը | C14: 110
A15: 1.8 | B15: Ինքնասպանության հակելը | C15: 111
A16: 1.9 | B16: Դիտավորությամբ առողջությանը ծանր վնաս պատճառելը | C16: 112 | D16: 4 | F16: 4 | G16: 1 | J16: 1 | M16: 7 | O16: 1 | Q16: 1
A17: 1.10 | B17: Դիտավորությամբ առողջությանը միջին ծանրության վնաս պատճառելը | C17: 113 | F17: 1 | M17: 1
A18: 1.11 | B18: Հոգեկան խիստ հուզմունքի վիճակում առողջությանը ծանր կամ միջին ծանրության վնաս պատճառելը | C18: 114
A19: 1.12 | B19: Հանցանք կատարած անձին բռնելու համար անհրաժեշտ միջոցների սահմանզանցմամբ առողջությանը ծանր կամ միջին ծանրության վնաս պատճառելը | C19: 115
A20: 1.13 | B20: Առողջությանը ծանր կամ միջին ծանրության վնաս պատճառելը անհրաժեշտ պաշտպանության սահմանանազանցմամբ | C20: 116
A21: 1.14 | B21: Դիտավորությամբ առողջությանը թեթև վնաս պատճառելը | C21: 117 | F21: 2 | M21: 1
A22: 1.15 | B22: Ծեծը | C22: 118 | D22: 3 | F22: 2 | G22: 2 | H22: 3 | J22: 5
A23: 1.16 | B23: Ֆիզիկական ուժեղ ցավ կամ հոգեկան ուժեղ տառապանք պատճառելը | C23: 119 | D23: 1 | G23: 1 | J23: 1 | O23: 1 | Q23: 1
A24: 1.17 | B24: Անզգուշությամբ առողջությանը ծանր վնաս պատճառելը | C24: 120
A25: 1.18 | B25: Անզգուշությամբ առողջությանը միջին ծանրության վնաս պատճառելը | C25: 121
A26: 1.19 | B26: Ապօրինի աբորտ կատարելը | C26: 122
A27: 1.20 | B27: Մարդու իմունային անբավարարության վիրուսի հարուցիչով վարակելը | C27: 123
A28: 1.21 | B28: Վեներական հիվանդությամբ կամ այլ սեռավարակներով վարակելը | C28: 124
A29: 1.22 | B29: Փոխպատվաստման վիրահատություն կատարելու կանոնները խախտելը | C29: 125
A30: 1.24 | B30: Անձին առանց իր հանձնարարության բժշկական կամ գիտական փորձերի ենթարկելը | C30: 127
A31: 1.25 | B31: Վտանգի մեջ թողնելը | C31: 128
A32: 1.26 | B32: Հիվանդին օգնություն ցույց չտալը | C32: 129
A33: 1.27 | B33: Բժշկական օգնություն և սպասարկում իրականացնողների կողմից մասնագիտական պարտականությունները չկատարելը կամ ոչ պատշաճ կատարելը | C33: 130
A34: 1.28 | B34: Այլ հանցագործություններ
A35: 2. | B35: Ընդամենը անձի ազատության, պատվի և արժանապատվության դեմ ուղղված հանցագործությունները | D35: =SUM(D36:D43) -> 2 | E35: =SUM(E36:E43) -> 0 | F35: =SUM(F36:F43) -> 9 | G35: =SUM(G36:G43) -> 1 | H35: =SUM(H36:H43) -> 7 | I35: =SUM(I36:I43) -> 0 | J35: =SUM(J36:J43) -> 8 | K35: =SUM(K36:K43) -> 0 | ... T35: =SUM(T36:T43) -> 0
A36: 2.1 | B36: Մարդուն առևանգելը | C36: 131 | D36: 2 | F36: 2 | G36: 1 | J36: 1 | M36: 3
A37: 2.2 | B37: Մարդու թրաֆիքինգը կամ շահագործումը | C37: 132
A38: 2.2.2 | B38: Երեխայի կամ հոգեկան խանգարման հետևանքով իր արարքի բնույթն ու նշանակությունը գիտակցելու կամ դա ղեկավարելու հնարավորությունից զրկված անձի թրաֆիքինգը կամ շահագործումը | C38: 132.2
A39: 2.2.3 | B39: Շահագործման վիճակում գտնվող անձի ծառայությունից օգտվելը | C39: 132.3
A40: 2.3 | B40: Ազատությունից ապօրինի զրկելը | C40: 133
A41: 2.4 | B41: Հոգեբուժական հիվանդանոցում ապօրինի տեղավորելը կամ պահելը | C41: 134
A42: 2.7 | B42: Սպանության, առողջությանը ծանր վնաս պատճառելու կամ գույք ոչնչացնելու սպառնալիքը | C42: 137
A43: 2.8 | B43: Այլ հանցագործություններ | F43: 7 | H43: 7 | J43: 7
A44: 3. | B44: Ընդամենը սեռական անձեռնմխելիության և սեռական ազատության դեմ ուղղված հանցագործությունները | D44: =SUM(D45:D50) -> 5 | E44: =SUM(E45:E50) -> 1 | F44: =SUM(F45:F50) -> 1 | G44: =SUM(G45:G50) -> 1 | H44: =SUM(H45:H50) -> 0 | I44: =SUM(I45:I50) -> 0 | J44: =SUM(J45:J50) -> 1 | K44: =SUM(K45:K50) -> 0 | ... T44: =SUM(T45:T50) -> 0
A45: 3.1 | B45: Բռնաբարությունը | C45: 138 | D45: 1 | G45: 1 | J45: 1
A46: 3.2 | B46: Սեքսուալ բնույթի բռնի գործողությունները | C46: 139 | D46: 1 | M46: 1
A47: 3.3 | B47: Սեռական հարաբերության կամ սեքսուալ բնույթի գործողություններին հարկադրելը | C47: 140 | F47: 1 | M47: 1
A48: 3.4 | B48: Սեռական հարաբերությունը տասնվեց տարին չլրացած անձի հետ կամ սեքսուալ բնույթի գործողություններ կատարելը տասնվեց տարին չլրացած անձի նկատմամբ | C48: 141 | D48: 2 | E48: 1 | M48: 2 | N48: 1
A49: 3.5 | B49: Անառակաբարո գործողությունները | C49: 142 | D49: 1 | M49: 1
A50: 3.6 | B50: Այլ հանցագործություններ
A51: 4. | B51: Ընդամենը մարդու և քաղաքացու սահմանադրական իրավունքների և ազատությունների դեմ ուղղված հանցագործությունները | D51: =SUM(D52:D80) -> 3 | E51: =SUM(E52:E80) -> 0 | F51: =SUM(F52:F80) -> 2 | G51: =SUM(G52:G80) -> 2 | H51: =SUM(H52:H80) -> 0 | I51: =SUM(I52:I80) -> 0 | J51: =SUM(J52:J80) -> 2 | K51: =SUM(K52:K80) -> 0 | ... T51: =SUM(T52:T80) -> 0
A52: 4.1 | B52: Մարդու և քաղաքացու իրավահավասարությունը խախտելը | C52: 143
A53: 4.2 | B53: Անձնական կամ ընտանեկան կյանքի մասին տեղեկություններ ապօրինի հավաքելը, պահելը, օգտագործելը կամ տարածելը | C53: 144
A54: 4.3 | B54: Բժշկական գաղտնիքը հրապարակելը | C54: 145
A55: 4.4 | B55: Նամակագրության, հեռախոսային խոսակցությունների, փոստային, հեռագրական կամ այլ հաղորդումների գաղտնիությունը խախտելը | C55: 146
A56: 4.5 | B56: Բնակարանի անձեռնմխելիությունը խախտելը | C56: 147 | D56: 2 | F56: 1 | G56: 2 | J56: 2 | M56: 1 | O56: 1 | Q56: 1
A57: 4.6 | B57: Անձին տեղեկություն ներկայացնելուց հրաժարվելը | C57: 148
A58: 4.7 | B58: Ընտրական իրավունքի իրականացմանը, ընտրական հանձնաժողովների աշխատանքներին կամ ընտրությանը մասնակցող անձանց լիազորությունների իրականացմանը խոչընդոտելը | C58: 149
A59: 4.8 | B59: Ընտրությունների կամ քվեարկության արդյունքները կեղծելը | C59: 150
A60: 4.10 | B60: Ընտրողների ցուցակները կազմելու, դրանք քաղաքացիներին և կուսակցություններին տրամադրելու կամ հրապարակելու կարգը խախտելը | C60: 152
A61: 4.11 | B61: Մեկից ավելի անգամ կամ այլ անձի փոխարեն քվեարկելը | C61: 153
A62: 4.12 | B62: Քվեարկության գաղտնիությունը խախտելը | C62: 154
A63: 4.13 | B63: Կեղծ ընտրական քվեաթերթիկներ կամ քվեարկության ծրարներ, դրոշմանիշեր, կտրոններ պատրաստելը կամ ակնհայտ կեղծ ընտրական քվեաթերթիկներ կամ քվեարկության ծրարներ, դրոշմանիշեր, կտրոններ հանձնելը կամ իրացնելը | C63: 154.1
A64: 4.14 | B64: Ընտրողի կողմից թեկնածուներից, կուսակցություններից (կուսակցությունների դաշինքներից), հանրաքվեի քարոզչական նախաձեռնություններից կաշառք ստանալը կամ թեկնածուների, կուսակցությունների (կուսակցությունների դաշինքների), հանրաքվեի քարոզչական նախաձեռնությունների կողմից ընտրողներին կաշառք տալը կամ ընտրողի ազատ կամքի իրականացմանը խոչընդոտելը | C64: 154.2 | D64: 1 | M64: 1
A65: 4.16 | B65: Զենքով՝ տեղամասային կենտրոն մուտք գործելը | C65: 154.4
A66: 4.17 | B66: Վստահված անձին,ընտրական հանձնաժողովի անդամին,դիտորդին կամ զանգվածային լրատվության միջոցի ներկայացուցչին ընտրական փաստաթղթերին ծանոթանալուն խոչընդոտելը, ընտրական հանձնաժողովի արձանագրությունների պատճեններ չտալը | C66: 154.5
A67: 4.17.1 | B67: Ընտրական հանձնաժողովի նախագահի լիազորությունները չկատարելը կամ ոչ պատշաճ կատարելը | C67: 154.6
A68: 4.17.2 | B68: Քվեատուփը, ընտրողների ստորագրած ցուցակը, տեղամասային ընտրական հանձնաժողովի գրանցամատյանը, հանձնաժողովի կնիքը, տեղամասային ընտրական հանձնաժողովի անդամի անհատական կնիքը, ինքնասոսնձվող դրոշմանիշը, ընտրողի վերաբերյալ տվյալներ պարունակող քվեարկության կտրոնը կամ համարակալված կտրոնը, ընտրողների էլեկտրոնային գրանցման տեխնիկական սարքավորումը, կառավարության կողմից ընտրված մասնագիտացված կազմակերպության կողմից տեղադրված տեսախցիկը, ընտրական փաստաթղթերի մեկանգամյա օգտագործման պարկը կամ ընտրական փաստաթղթերի փաթեթը հափշտակելը | C68: 154.7
A69: 4.17.3 | B69: Այլ անձի փոխարեն քվեարկելու վերաբերյալ սուտ հայտարարություն տալը կամ կեղծ ստորագրությամբ հայտարարություն դիմումին կից ներկայացնելը | C69: 154.8
A70: 4.18 | B70: Գործադուլի մասնակցելուն կամ գործադուլի մասնակցելուց հրաժարվելուն հարկադրելը | C70: 155
A71: 4.19 | B71: Հղի կնոջը կամ մինչև երեք տարեկան երեխա ունեցող անձին աշխատանքի ընդունելոււց հրաժարվելը կամ աշխատանքից անհիմն ազատելը | C71: 156
A72: 4.20 | B72: Աշխատանքի պաշտպանության կանոնները խախտելը | C72: 157 | F72: 1 | M72: 1
A73: 4.21 | B73: Հեղինակային և հարակից իրավունքները խախտելը | C73: 158
A74: 4.22 | B74: Արտոնագրային իրավունքը խախտելը | C74: 159
A75: 4.23 | B75: Խղճի կամ դավանանքի ազատության իրավունքի իրականացմանը խոչընդոտելը | C75: 160
A76: 4.24 | B76: Միավորումներ (հասարակական կամ արհեստակցական միություններ) կազմելու կամ կուսակցություններ ստեղծելու իրավունքի իրականացմանը կամ դրանց գործողությանը խոչընդոտելը | C76: 161
A77: 4.25 | B77: Անձանց իրավունքների կամ անձի դեմ ոտնձգող միավորումներ կազմելը կամ ղեկավարելը | C77: 162
A78: 4.26 | B78: Հավաքներ անցկացնելուն կամ դրանց մասնակցելուն խոչընդոտելը | C78: 163
A79: 4.27 | B79: Լրագրողի մասնագիտական օրինական գործողությանը խոչընդոտելը | C79: 164
A80: 4.28 | B80: Այլ հանցագործություններ
A81: 5. | B81: Ընդամենը ընտանիքի և երեխայի շահերի դեմ ուղղված հանցագործությունները | D81: =SUM(D82:D95) -> 1 | E81: =SUM(E82:E95) -> 0 | F81: =SUM(F82:F95) -> 0 | G81: =SUM(G82:G95) -> 0 | H81: =SUM(H82:H95) -> 1 | I81: =SUM(I82:I95) -> 0 | J81: =SUM(J82:J95) -> 1 | K81: =SUM(K82:K95) -> 0 | ... T81: =SUM(T82:T95) -> 0
A82: 5.1 | B82: Անչափահասին հանցանքի կատարմանը ներգրավելը | C82: 165
A83: 5.2 | B83: Երեխային պոռնկության կամ պոռնկագրական բնույթի նյութեր կամ առարկաներ պատրաստելու հետ կապված գործողություններ կատարելուն ներգրավելը | C83: 166
A84: 5.2.1 | B84: Երեխային ոգելից խմիչքների օգտագործմանը, ուժեղ ներգործող կամ այլ թմրեցնող նյութերի ոչ բժշկական օգտագործմանը, թափառաշրջիկությանը ներգրավելը կամ մուրացկանության հետ կապված գործողություններ կատարելուն ներգրավելը | C84: 166.1
A85: 5.3 | B85: Ծնողներից երեխային ապօրինի բաժանելը կամ երեխային փոխելը | C85: 167 | D85: 1 | H85: 1 | J85: 1
A86: 5.4 | B86: Խնամքը ստանձնելու նպատակով երեխայի առքը կամ ստանձնողի խնամքին հանձնելու նպատակով երեխայի վաճառքը | C86: 168
A87: 5.5 | B87: Որդեգրման գաղտնիքը հրապարակելը կամ որդեգրման համաձայնություն տալուն հակելը կամ հարկադրելը | C87: 169
A88: 5.6 | B88: Քաղաքացիական կացության ակտերի գրանցման մարմիններին սուտ տեղեկություններ հաղորդելը | C88: 169.1
A89: 5.7 | B89: Երեխային դաստիարակելու պարտականությունը չկատարելը | C89: 170
A90: 5.8 | B90: Երեխայի կյանքի անվտանգության ապահովման կամ առողջության պահպանման պարտականությունը չկատարելը կամ ոչ պատշաճ կատարելը | C90: 171
A91: 5.8.1 | B91: Վերարտադրողականության օժանդակ տեխնոլոգիաներից օգտվելու կանոնները խախտելը | C91: 171.1
A92: 5.9 | B92: Խնամակալի կամ հոգաբարձուի իրավունքները չարաշահելը | C92: 172
A93: 5.10 | B93: Ծնողի կողմից երեխային պահելուց չարամտորեն խուսափելը | C93: 173
A94: 5.11 | B94: Զավակի կողմից անաշխատունակ ծնողին պահելուց չարամտորեն խուսափելը | C94: 174
A95: 5.12 | B95: Այլ հանցագործություններ
A96: 6. | B96: Ընդամենը սեփականության դեմ ուղղված հանցագործությունները | D96: =SUM(D97:D111) -> 27 | E96: =SUM(E97:E111) -> 1 | F96: =SUM(F97:F111) -> 27 | G96: =SUM(G97:G111) -> 22 | H96: =SUM(H97:H111) -> 2 | I96: =SUM(I97:I111) -> 0 | J96: =SUM(J97:J111) -> 24 | K96: =SUM(K97:K111) -> 1 | ... T96: =SUM(T97:T111) -> 0
A97: 6.1 | B97: Ավազակությունը | C97: 175 | D97: 2 | G97: 1 | J97: 1 | M97: 1 | O97: 1 | Q97: 1
A98: 6.2 | B98: Կողոպուտը | C98: 176
A99: 6.3 | B99: Գողությունը | C99: 177 | D99: 14 | E99: 1 | F99: 19 | G99: 16 | J99: 16 | M99: 16 | N99: 1 | O99: 3 | Q99: 3
A100: 6.4 | B100: Խարդախությունը | C100: 178 | D100: 3 | F100: 2 | G100: 1 | H100: 1 | J100: 2 | M100: 3
...

Sheet Արմավիր
A1: 2022թ. Տարեկան | D1: ՀԱՇՎԵՏՎՈՒԹՅՈՒՆ
A2: ՀՀ ԱՐՄԱՎԻՐԻ ՄԱՐԶԻ ԱՌԱՋԻՆ ԱՏՅԱՆԻ ԸՆԴՀԱՆՈՒՐ ԻՐԱՎԱՍՈՒԹՅԱՆ ԴԱՏԱՐԱՆՈՒՄ ՔՐԵԱԿԱՆ ԳՈՐԾԵՐԻ ՔՆՆՈՒԹՅԱՆ ՎԵՐԱԲԵՐՅԱԼ
A3: ՀՀ Արմավիրի մարզի առաջին ատյանի ընդհանուր իրավասության դատարանում քրեական մասնագիտացում ունեցող դատավորների հաստիքների քանակը` 4
C4: ՀՀ քրեական օրենսգրքի հոդվածներ | D4: Հաշվետու ժամանակահատվածի սկզբում նախորդ հաշվետու ժամանակահատվածից փոխանցված գործերի ընդհանուր թիվը | E4: Այդ թվում` կասեցված վիճակում փոխանցված | F4: Հաշվետու ժամանակահատվածում ստացված գործերի ընդհանուր թիվը | G4: Հաշվետու ժամանակահատվածում ավարտված գործերի ընդհանուր թիվը | K4: Ուղարկվել է ըստ ընդդատության | L4: Հաշվետու ժամանակահատվածում կասեցված վարույթներով գործերի ընդհանուր թիվը | M4: Հաշվետու ժամանակահատվածում անավարտ գործերի ընդհանուր թիվը | N4: Այդ թվում՝ կասեցված | O4: Բողոքարկված դատական ակտերի թիվը` ըստ տեսակների | R4: Բեկանված դատական ակտերի թիվը` ըստ տեսակների
G5: Քննվել է ըստ էության և դատավճիռ կայացվել | H5: Որոշում է կայացվել քրեական գործի վարույթը կարճելու և քրեական հետապնդումը դադարեցնելու մասին | I5: Որոշում է կայացվել անմեղսունակների նկատմամբ բժշկական բնույթի հարկադրական միջոցներ կիրառելու մասին | J5: Ընդամենը ավարտվել են գործեր | O5: Այդ թվում` գործն ըստ էության լուծող դատական ակտերը | P5: Այդ թվում` միջանկյալ դատական ակտերը | Q5: Ընդամենը | R5: Այդ թվում` գործն ըստ էության լուծող դատական ակտերը | S5: Այդ թվում` միջանկյալ դատական ակտերը | T5: Ընդամենը
D6: 1 | E6: 2 | F6: 3 | G6: 4 | H6: 5 | I6: 6 | J6: 7 | K6: 8 | L6: 9 | M6: 10 | N6: 11 | O6: 12 | P6: 13 | Q6: 14 | R6: 15 | S6: 16 | T6: 17
A7: 1. | B7: Ընդամենը կյանքի և առողջության դեմ ուղղված հանցագործությունները | D7: =SUM(D8:D34) -> 75 | E7: =SUM(E8:E34) -> 0 | F7: =SUM(F8:F34) -> 15 | G7: =SUM(G8:G34) -> 7 | H7: =SUM(H8:H34) -> 16 | I7: =SUM(I8:I34) -> 0 | J7: =SUM(J8:J34) -> 23 | K7: =SUM(K8:K34) -> 0 | ... T7: =SUM(T8:T34) -> 0
A8: 1.1 | B8: Սպանությունը | C8: 104 | D8: 20 | F8: 3 | G8: 2 | J8: 2 | M8: 21 | P8: 1 | Q8: 1
A9: 1.2 | B9: Հոգեկան խիստ հուզմունքի վիճակում կատարված սպանությունը | C9: 105
A10: 1.3 | B10: Մոր կողմից նորածին երեխայի սպանությունը | C10: 106
A11: 1.4 | B11: Հանցանք կատարած անձին բռնելու համար անհրաժեշտ միջոցների սահմանազանցմամբ սպանությունը | C11: 107
A12: 1.5 | B12: Անհրաժեշտ պաշտպանության սահմանազանցմամբ սպանությունը | C12: 108
A13: 1.6 | B13: Անզգուշությամբ մահ պատճառելը | C13: 109
A14: 1.7 | B14: Ինքնասպանության հասցնելը | C14: 110
A15: 1.8 | B15: Ինքնասպանության հակելը | C15: 111
A16: 1.9 | B16: Դիտավորությամբ առողջությանը ծանր վնաս պատճառելը | C16: 112 | D16: 23 | F16: 8 | G16: 3 | J16: 3 | M16: 28
A17: 1.10 | B17: Դիտավորությամբ առողջությանը միջին ծանրության վնաս պատճառելը | C17: 113 | D17: 10 | F17: 1 | G17: 2 | H17: 1 | J17: 3 | M17: 8
A18: 1.11 | B18: Հոգեկան խիստ հուզմունքի վիճակում առողջությանը ծանր կամ միջին ծանրության վնաս պատճառելը | C18: 114
A19: 1.12 | B19: Հանցանք կատարած անձին բռնելու համար անհրաժեշտ միջոցների սահմանզանցմամբ առողջությանը ծանր կամ միջին ծանրության վնաս պատճառելը | C19: 115
A20: 1.13 | B20: Առողջությանը ծանր կամ միջին ծանրության վնաս պատճառելը անհրաժեշտ պաշտպանության սահմանանազանցմամբ | C20: 116
A21: 1.14 | B21: Դիտավորությամբ առողջությանը թեթև վնաս պատճառելը | C21: 117 | D21: 3 | F21: 1 | H21: 2 | J21: 2 | M21: 2
A22: 1.15 | B22: Ծեծը | C22: 118 | D22: 15 | F22: 2 | H22: 12 | J22: 12 | M22: 5
A23: 1.16 | B23: Ֆիզիկական ուժեղ ցավ կամ հոգեկան ուժեղ տառապանք պատճառելը | C23: 119 | D23: 1 | H23: 1 | J23: 1
A24: 1.17 | B24: Անզգուշությամբ առողջությանը ծանր վնաս պատճառելը | C24: 120
A25: 1.18 | B25: Անզգուշությամբ առողջությանը միջին ծանրության վնաս պատճառելը | C25: 121
A26: 1.19 | B26: Ապօրինի աբորտ կատարելը | C26: 122
A27: 1.20 | B27: Մարդու իմունային անբավարարության վիրուսի հարուցիչով վարակելը | C27: 123
A28: 1.21 | B28: Վեներական հիվանդությամբ կամ այլ սեռավարակներով վարակելը | C28: 124
A29: 1.22 | B29: Փոխպատվաստման վիրահատություն կատարելու կանոնները խախտելը | C29: 125
A30: 1.24 | B30: Անձին առանց իր հանձնարարության բժշկական կամ գիտական փորձերի ենթարկելը | C30: 127
A31: 1.25 | B31: Վտանգի մեջ թողնելը | C31: 128
A32: 1.26 | B32: Հիվանդին օգնություն ցույց չտալը | C32: 129
A33: 1.27 | B33: Բժշկական օգնություն և սպասարկում իրականացնողների կողմից մասնագիտական պարտականությունները չկատարելը կամ ոչ պատշաճ կատարելը | C33: 130 | D33: 3 | M33: 3
A34: 1.28 | B34: Այլ հանցագործություններ
A35: 2. | B35: Ընդամենը անձի ազատության, պատվի և արժանապատվության դեմ ուղղված հանցագործությունները | D35: =SUM(D36:D43) -> 8 | E35: =SUM(E36:E43) -> 0 | F35: =SUM(F36:F43) -> 15 | G35: =SUM(G36:G43) -> 1 | H35: =SUM(H36:H43) -> 12 | I35: =SUM(I36:I43) -> 0 | J35: =SUM(J36:J43) -> 13 | K35: =SUM(K36:K43) -> 0 | ... T35: =SUM(T36:T43) -> 0
A36: 2.1 | B36: Մարդուն առևանգելը | C36: 131 | D36: 5 | G36: 1 | J36: 1 | M36: 4
A37: 2.2 | B37: Մարդու թրաֆիքինգը կամ շահագործումը | C37: 132
A38: 2.2.2 | B38: Երեխայի կամ հոգեկան խանգարման հետևանքով իր արարքի բնույթն ու նշանակությունը գիտակցելու կամ դա ղեկավարելու հնարավորությունից զրկված անձի թրաֆիքինգը կամ շահագործումը | C38: 132.2 | D38: 1 | M38: 1
A39: 2.2.3 | B39: Շահագործման վիճակում գտնվող անձի ծառայությունից օգտվելը | C39: 132.3
A40: 2.3 | B40: Ազատությունից ապօրինի զրկելը | C40: 133
A41: 2.4 | B41: Հոգեբուժական հիվանդանոցում ապօրինի տեղավորելը կամ պահելը | C41: 134
A42: 2.7 | B42: Սպանության, առողջությանը ծանր վնաս պատճառելու կամ գույք ոչնչացնելու սպառնալիքը | C42: 137 | D42: 2 | F42: 2 | M42: 4
A43: 2.8 | B43: Այլ հանցագործություններ | F43: 13 | H43: 12 | J43: 12 | M43: 1
A44: 3. | B44: Ընդամենը սեռական անձեռնմխելիության և սեռական ազատության դեմ ուղղված հանցագործությունները | D44: =SUM(D45:D50) -> 14 | E44: =SUM(E45:E50) -> 0 | F44: =SUM(F45:F50) -> 1 | G44: =SUM(G45:G50) -> 0 | H44: =SUM(H45:H50) -> 0 | I44: =SUM(I45:I50) -> 0 | J44: =SUM(J45:J50) -> 0 | K44: =SUM(K45:K50) -> 0 | ... T44: =SUM(T45:T50) -> 0
A45: 3.1 | B45: Բռնաբարությունը | C45: 138
A46: 3.2 | B46: Սեքսուալ բնույթի բռնի գործողությունները | C46: 139 | D46: 3 | M46: 3
A47: 3.3 | B47: Սեռական հարաբերության կամ սեքսուալ բնույթի գործողություններին հարկադրելը | C47: 140
A48: 3.4 | B48: Սեռական հարաբերությունը տասնվեց տարին չլրացած անձի հետ կամ սեքսուալ բնույթի գործողություններ կատարելը տասնվեց տարին չլրացած անձի նկատմամբ | C48: 141 | D48: 9 | F48: 1 | M48: 10
A49: 3.5 | B49: Անառակաբարո գործողությունները | C49: 142 | D49: 2 | M49: 2
A50: 3.6 | B50: Այլ հանցագործություններ
A51: 4. | B51: Ընդամենը մարդու և քաղաքացու սահմանադրական իրավունքների և ազատությունների դեմ ուղղված հանցագործությունները | D51: =SUM(D52:D80) -> 2 | E51: =SUM(E52:E80) -> 0 | F51: =SUM(F52:F80) -> 0 | G51: =SUM(G52:G80) -> 0 | H51: =SUM(H52:H80) -> 1 | I51: =SUM(I52:I80) -> 0 | J51: =SUM(J52:J80) -> 1 | K51: =SUM(K52:K80) -> 0 | ... T51: =SUM(T52:T80) -> 0
A52: 4.1 | B52: Մարդու և քաղաքացու իրավահավասարությունը խախտելը | C52: 143
A53: 4.2 | B53: Անձնական կամ ընտանեկան կյանքի մասին տեղեկություններ ապօրինի հավաքելը, պահելը, օգտագործելը կամ տարածելը | C53: 144
A54: 4.3 | B54: Բժշկական գաղտնիքը հրապարակելը | C54: 145
A55: 4.4 | B55: Նամակագրության, հեռախոսային խոսակցությունների, փոստային, հեռագրական կամ այլ հաղորդումների գաղտնիությունը խախտելը | C55: 146
A56: 4.5 | B56: Բնակարանի անձեռնմխելիությունը խախտելը | C56: 147 | D56: 1 | H56: 1 | J56: 1
A57: 4.6 | B57: Անձին տեղեկություն ներկայացնելուց հրաժարվելը | C57: 148
A58: 4.7 | B58: Ընտրական իրավունքի իրականացմանը, ընտրական հանձնաժողովների աշխատանքներին կամ ընտրությանը մասնակցող անձանց լիազորությունների իրականացմանը խոչընդոտելը | C58: 149
A59: 4.8 | B59: Ընտրությունների կամ քվեարկության արդյունքները կեղծելը | C59: 150
A60: 4.10 | B60: Ընտրողների ցուցակները կազմելու, դրանք քաղաքացիներին և կուսակցություններին տրամադրելու կամ հրապարակելու կարգը խախտելը | C60: 152
A61: 4.11 | B61: Մեկից ավելի անգամ կամ այլ անձի փոխարեն քվեարկելը | C61: 153
A62: 4.12 | B62: Քվեարկության գաղտնիությունը խախտելը | C62: 154
A63: 4.13 | B63: Կեղծ ընտրական քվեաթերթիկներ կամ քվեարկության ծրարներ, դրոշմանիշեր, կտրոններ պատրաստելը կամ ակնհայտ կեղծ ընտրական քվեաթերթիկներ կամ քվեարկության ծրարներ, դրոշմանիշեր, կտրոններ հանձնելը կամ իրացնելը | C63: 154.1
A64: 4.14 | B64: Ընտրողի կողմից թեկնածուներից, կուսակցություններից (կուսակցությունների դաշինքներից), հանրաքվեի քարոզչական նախաձեռնություններից կաշառք ստանալը կամ թեկնածուների, կուսակցությունների (կուսակցությունների դաշինքների), հանրաքվեի քարոզչական նախաձեռնությունների կողմից ընտրողներին կաշառք տալը կամ ընտրողի ազատ կամքի իրականացմանը խոչընդոտելը | C64: 154.2 | D64: 1 | M64: 1
A65: 4.16 | B65: Զենքով՝ տեղամասային կենտրոն մուտք գործելը | C65: 154.4
A66: 4.17 | B66: Վստահված անձին,ընտրական հանձնաժողովի անդամին,դիտորդին կամ զանգվածային լրատվության միջոցի ներկայացուցչին ընտրական փաստաթղթերին ծանոթանալուն խոչընդոտելը, ընտրական հանձնաժողովի արձանագրությունների պատճեններ չտալը | C66: 154.5
A67: 4.17.1 | B67: Ընտրական հանձնաժողովի նախագահի լիազորությունները չկատարելը կամ ոչ պատշաճ կատարելը | C67: 154.6
A68: 4.17.2 | B68: Քվեատուփը, ընտրողների ստորագրած ցուցակը, տեղամասային ընտրական հանձնաժողովի գրանցամատյանը, հանձնաժողովի կնիքը, տեղամասային ընտրական հանձնաժողովի անդամի անհատական կնիքը, ինքնասոսնձվող դրոշմանիշը, ընտրողի վերաբերյալ տվյալներ պարունակող քվեարկության կտրոնը կամ համարակալված կտրոնը, ընտրողների էլեկտրոնային գրանցման տեխնիկական սարքավորումը, կառավարության կողմից ընտրված մասնագիտացված կազմակերպության կողմից տեղադրված տեսախցիկը, ընտրական փաստաթղթերի մեկանգամյա օգտագործման պարկը կամ ընտրական փաստաթղթերի փաթեթը հափշտակելը | C68: 154.7
A69: 4.17.3 | B69: Այլ անձի փոխարեն քվեարկելու վերաբերյալ սուտ հայտարարություն տալը կամ կեղծ ստորագրությամբ հայտարարություն դիմումին կից ներկայացնելը | C69: 154.8
A70: 4.18 | B70: Գործադուլի մասնակցելուն կամ գործադուլի մասնակցելուց հրաժարվելուն հարկադրելը | C70: 155
A71: 4.19 | B71: Հղի կնոջը կամ մինչև երեք տարեկան երեխա ունեցող անձին աշխատանքի ընդունելոււց հրաժարվելը կամ աշխատանքից անհիմն ազատելը | C71: 156
A72: 4.20 | B72: Աշխատանքի պաշտպանության կանոնները խախտելը | C72: 157
A73: 4.21 | B73: Հեղինակային և հարակից իրավունքները խախտելը | C73: 158
A74: 4.22 | B74: Արտոնագրային իրավունքը խախտելը | C74: 159
A75: 4.23 | B75: Խղճի կամ դավանանքի ազատության իրավունքի իրականացմանը խոչընդոտելը | C75: 160
A76: 4.24 | B76: Միավորումներ (հասարակական կամ արհեստակցական միություններ) կազմելու կամ կուսակցություններ ստեղծելու իրավունքի իրականացմանը կամ դրանց գործողությանը խոչընդոտելը | C76: 161
... A79: 4.27 | B79: Լրագրողի մասնագիտական օրինական գործողությանը խոչընդոտելը | C79: 164
A80: 4.28 | B80: Այլ հանցագործություններ
A81: 5. | B81: Ընդամենը ընտանիքի և երեխայի շահերի դեմ ուղղված հանցագործությունները | D81: =SUM(D82:D95) -> 2 | E81: =SUM(E82:E95) -> 0 | F81: =SUM(F82:F95) -> 1 | G81: =SUM(G82:G95) -> 0 | H81: =SUM(H82:H95) -> 1 | I81: =SUM(I82:I95) -> 0 | J81: =SUM(J82:J95) -> 1 | K81: =SUM(K82:K95) -> 0 | ... T81: =SUM(T82:T95) -> 0
A82: 5.1 | B82: Անչափահասին հանցանքի կատարմանը ներգրավելը | C82: 165
A83: 5.2 | B83: Երեխային պոռնկության կամ պոռնկագրական բնույթի նյութեր կամ առարկաներ պատրաստելու հետ կապված գործողություններ կատարելուն ներգրավելը | C83: 166
A84: 5.2.1 | B84: Երեխային ոգելից խմիչքների օգտագործմանը, ուժեղ ներգործող կամ այլ թմրեցնող նյութերի ոչ բժշկական օգտագործմանը, թափառաշրջիկությանը ներգրավելը կամ մուրացկանության հետ կապված գործողություններ կատարելուն ներգրավելը | C84: 166.1
A85: 5.3 | B85: Ծնողներից երեխային ապօրինի բաժանելը կամ երեխային փոխելը | C85: 167
A86: 5.4 | B86: Խնամքը ստանձնելու նպատակով երեխայի առքը կամ ստանձնողի խնամքին հանձնելու նպատակով երեխայի վաճառքը | C86: 168
A87: 5.5 | B87: Որդեգրման գաղտնիքը հրապարակելը կամ որդեգրման համաձայնություն տալուն հակելը կամ հարկադրելը | C87: 169
A88: 5.6 | B88: Քաղաքացիական կացության ակտերի գրանցման մարմիններին սուտ տեղեկություններ հաղորդելը | C88: 169.1
A89: 5.7 | B89: Երեխային դաստիարակելու պարտականությունը չկատարելը | C89: 170
A90: 5.8 | B90: Երեխայի կյանքի անվտանգության ապահովման կամ առողջության պահպանման պարտականությունը չկատարելը կամ ոչ պատշաճ կատարելը | C90: 171
A91: 5.8.1 | B91: Վերարտադրողականության օժանդակ տեխնոլոգիաներից օգտվելու կանոնները խախտելը | C91: 171.1
A92: 5.9 | B92: Խնամակալի կամ հոգաբարձուի իրավունքները չարաշահելը | C92: 172
A93: 5.10 | B93: Ծնողի կողմից երեխային պահելուց չարամտորեն խուսափելը | C93: 173 | D93: 2 | F93: 1 | H93: 1 | J93: 1 | M93: 2
A94: 5.11 | B94: Զավակի կողմից անաշխատունակ ծնողին պահելուց չարամտորեն խուսափելը | C94: 174
A95: 5.12 | B95: Այլ հանցագործություններ
A96: 6. | B96: Ընդամենը սեփականության դեմ ուղղված հանցագործությունները | D96: =SUM(D97:D111) -> 96 | E96: =SUM(E97:E111) -> 4 | F96: =SUM(F97:F111) -> 51 | G96: =SUM(G97:G111) -> 14 | H96: =SUM(H97:H111) -> 9 | I96: =SUM(I97:I111) -> 0 | J96: =SUM(J97:J111) -> 23 | K96: =SUM(K97:K111) -> 9 | ... T96: =SUM(T97:T111) -> 0
A97: 6.1 | B97: Ավազակությունը | C97: 175 | D97: 3 | F97: 3 | G97: 1 | J97: 1 | M97: 5 | P97: 2 | Q97: 2
A98: 6.2 | B98: Կողոպուտը | C98: 176 | D98: 5 | E98: 1 | F98: 3 | G98: 2 | J98: 2 | K98: 1 | M98: 5
A99: 6.3 | B99: Գողությունը | C99: 177 | D99: 54 | E99: 2 | F99: 30 | G99: 7 | H99: 3 | J99: 10 | M99: 74 | O99: 1 | P99: 3 | Q99: 4
A100: 6.4 | B100: Խարդախությունը | C100: 178 | D100: 11 | E100: 1 | F100: 6 | H100: 1 | J100: 1 | M100: 16 | P100: 1 | Q100: 1
A101: 6.5 | B101: Յուրացնելը կամ վատնելը | C101: 179 | D101: 13 | F101: 3 | G101: 2 | J101: 2 | K101: 8 | M101: 6
A102: 6.6 | B102: Առանձնակի արժեք ունեցող առարկաներ հափշտակելը | C102: 180
...

Sheet Արարատ
A1: 2022թ. Տարեկան | D1: ՀԱՇՎԵՏՎՈՒԹՅՈՒՆ
A2: ՀՀ ԱՐԱՐԱՏԻ ԵՎ ՎԱՅՈՑ ՁՈՐԻ ՄԱՐԶԵՐԻ ԱՌԱՋԻՆ ԱՏՅԱՆԻ ԸՆԴՀԱՆՈՒՐ ԻՐԱՎԱՍՈՒԹՅԱՆ ԴԱՏԱՐԱՆՈՒՄ ՔՐԵԱԿԱՆ ԳՈՐԾԵՐԻ ՔՆՆՈՒԹՅԱՆ ՎԵՐԱԲԵՐՅԱԼ
A3: ՀՀ Արարատի և Վայոց ձորի մարզերի առաջին ատյանի ընդհանուր իրավասության դատարանում քրեական մասնագիտացում ունեցող դատավորների հաստիքների քանակը` 5
C4: ՀՀ քրեական օրենսգրքի հոդվածներ | D4: Հաշվետու ժամանակահատվածի սկզբում նախորդ հաշվետու ժամանակահատվածից փոխանցված գործերի ընդհանուր թիվը | E4: Այդ թվում` կասեցված վիճակում փոխանցված | F4: Հաշվետու ժամանակահատվածում ստացված գործերի ընդհանուր թիվը | G4: Հաշվետու ժամանակահատվածում ավարտված գործերի ընդհանուր թիվը | K4: Ուղարկվել է ըստ ընդդատության | L4: Հաշվետու ժամանակահատվածում կասեցված վարույթներով գործերի ընդհանուր թիվը | M4: Հաշվետու ժամանակահատվածում անավարտ գործերի ընդհանուր թիվը | N4: Այդ թվում՝ կասեցված | O4: Բողոքարկված դատական ակտերի թիվը` ըստ տեսակների | R4: Բեկանված դատական ակտերի թիվը` ըստ տեսակների
G5: Քննվել է ըստ էության և դատավճիռ կայացվել | H5: Որոշում է կայացվել քրեական գործի վարույթը կարճելու և քրեական հետապնդումը դադարեցնելու մասին | I5: Որոշում է կայացվել անմեղսունակների նկատմամբ բժշկական բնույթի հարկադրական միջոցներ կիրառելու մասին | J5: Ընդամենը ավարտվել են գործեր | O5: Այդ թվում` գործն ըստ էության լուծող դատական ակտերը | P5: Այդ թվում` միջանկյալ դատական ակտերը | Q5: Ընդամենը | R5: Այդ թվում` գործն ըստ էության լուծող դատական ակտերը | S5: Այդ թվում` միջանկյալ դատական ակտերը | T5: Ընդամենը
D6: 1 | E6: 2 | F6: 3 | G6: 4 | H6: 5 | I6: 6 | J6: 7 | K6: 8 | L6: 9 | M6: 10 | N6: 11 | O6: 12 | P6: 13 | Q6: 14 | R6: 15 | S6: 16 | T6: 17
A7: 1. | B7: Ընդամենը կյանքի և առողջության դեմ ուղղված հանցագործությունները | D7: =SUM(D8:D34) -> 82 | E7: =SUM(E8:E34) -> 1 | F7: =SUM(F8:F34) -> 46 | G7: =SUM(G8:G34) -> 21 | H7: =SUM(H8:H34) -> 11 | I7: =SUM(I8:I34) -> 1 | J7: =SUM(J8:J34) -> 33 | K7: =SUM(K8:K34) -> 1 | ... T7: =SUM(T8:T34) -> 0
A8: 1.1 | B8: Սպանությունը | C8: 104 | D8: 23 | F8: 8 | G8: 1 | J8: 1 | K8: 1 | M8: 29 | O8: 1 | P8: 5 | Q8: 6
A9: 1.2 | B9: Հոգեկան խիստ հուզմունքի վիճակում կատարված սպանությունը | C9: 105
A10: 1.3 | B10: Մոր կողմից նորածին երեխայի սպանությունը | C10: 106
A11: 1.4 | B11: Հանցանք կատարած անձին բռնելու համար անհրաժեշտ միջոցների սահմանազանցմամբ սպանությունը | C11: 107
A12: 1.5 | B12: Անհրաժեշտ պաշտպանության սահմանազանցմամբ սպանությունը | C12: 108
A13: 1.6 | B13: Անզգուշությամբ մահ պատճառելը | C13: 109 | D13: 1 | H13: 1 | J13: 1
A14: 1.7 | B14: Ինքնասպանության հասցնելը | C14: 110 | D14: 3 | M14: 3
A15: 1.8 | B15: Ինքնասպանության հակելը | C15: 111
A16: 1.9 | B16: Դիտավորությամբ առողջությանը ծանր վնաս պատճառելը | C16: 112 | D16: 28 | F16: 20 | G16: 10 | J16: 10 | M16: 37 | O16: 1 | P16: 2 | Q16: 3
A17: 1.10 | B17: Դիտավորությամբ առողջությանը միջին ծանրության վնաս պատճառելը | C17: 113 | D17: 2 | F17: 1 | G17: 1 | H17: 1 | J17: 2 | M17: 1
A18: 1.11 | B18: Հոգեկան խիստ հուզմունքի վիճակում առողջությանը ծանր կամ միջին ծանրության վնաս պատճառելը | C18: 114
A19: 1.12 | B19: Հանցանք կատարած անձին բռնելու համար անհրաժեշտ միջոցների սահմանզանցմամբ առողջությանը ծանր կամ միջին ծանրության վնաս պատճառելը | C19: 115
A20: 1.13 | B20: Առողջությանը ծանր կամ միջին ծանրության վնաս պատճառելը անհրաժեշտ պաշտպանության սահմանանազանցմամբ | C20: 116
A21: 1.14 | B21: Դիտավորությամբ առողջությանը թեթև վնաս պատճառելը | C21: 117 | D21: 3 | F21: 4 | H21: 1 | J21: 1 | M21: 6
A22: 1.15 | B22: Ծեծը | C22: 118 | D22: 20 | E22: 1 | F22: 11 | G22: 9 | H22: 8 | I22: 1 | J22: 18 | M22: 13 | O22: 1 | Q22: 1
A23: 1.16 | B23: Ֆիզիկական ուժեղ ցավ կամ հոգեկան ուժեղ տառապանք պատճառելը | C23: 119 | D23: 1 | F23: 1 | M23: 2
A24: 1.17 | B24: Անզգուշությամբ առողջությանը ծանր վնաս պատճառելը | C24: 120
A25: 1.18 | B25: Անզգուշությամբ առողջությանը միջին ծանրության վնաս պատճառելը | C25: 121
A26: 1.19 | B26: Ապօրինի աբորտ կատարելը | C26: 122
A27: 1.20 | B27: Մարդու իմունային անբավարարության վիրուսի հարուցիչով վարակելը | C27: 123
A28: 1.21 | B28: Վեներական հիվանդությամբ կամ այլ սեռավարակներով վարակելը | C28: 124
A29: 1.22 | B29: Փոխպատվաստման վիրահատություն կատարելու կանոնները խախտելը | C29: 125
A30: 1.24 | B30: Անձին առանց իր հանձնարարության բժշկական կամ գիտական փորձերի ենթարկելը | C30: 127
A31: 1.25 | B31: Վտանգի մեջ թողնելը | C31: 128 | F31: 1 | M31: 1
A32: 1.26 | B32: Հիվանդին օգնություն ցույց չտալը | C32: 129
A33: 1.27 | B33: Բժշկական օգնություն և սպասարկում իրականացնողների կողմից մասնագիտական պարտականությունները չկատարելը կամ ոչ պատշաճ կատարելը | C33: 130 | D33: 1 | M33: 1
A34: 1.28 | B34: Այլ հանցագործություններ
A35: 2. | B35: Ընդամենը անձի ազատության, պատվի և արժանապատվության դեմ ուղղված հանցագործությունները | D35: =SUM(D36:D43) -> 2 | E35: =SUM(E36:E43) -> 0 | F35: =SUM(F36:F43) -> 12 | G35: =SUM(G36:G43) -> 2 | H35: =SUM(H36:H43) -> 6 | I35: =SUM(I36:I43) -> 0 | J35: =SUM(J36:J43) -> 8 | K35: =SUM(K36:K43) -> 0 | ... T35: =SUM(T36:T43) -> 0
A36: 2.1 | B36: Մարդուն առևանգելը | C36: 131 | D36: 1 | F36: 4 | G36: 2 | J36: 2 | M36: 3
A37: 2.2 | B37: Մարդու թրաֆիքինգը կամ շահագործումը | C37: 132
A38: 2.2.2 | B38: Երեխայի կամ հոգեկան խանգարման հետևանքով իր արարքի բնույթն ու նշանակությունը գիտակցելու կամ դա ղեկավարելու հնարավորությունից զրկված անձի թրաֆիքինգը կամ շահագործումը | C38: 132.2
A39: 2.2.3 | B39: Շահագործման վիճակում գտնվող անձի ծառայությունից օգտվելը | C39: 132.3
A40: 2.3 | B40: Ազատությունից ապօրինի զրկելը | C40: 133
A41: 2.4 | B41: Հոգեբուժական հիվանդանոցում ապօրինի տեղավորելը կամ պահելը | C41: 134
A42: 2.7 | B42: Սպանության, առողջությանը ծանր վնաս պատճառելու կամ գույք ոչնչացնելու սպառնալիքը | C42: 137 | D42: 1 | F42: 5 | H42: 3 | J42: 3 | M42: 3
A43: 2.8 | B43: Այլ հանցագործություններ | F43: 3 | H43: 3 | J43: 3
A44: 3. | B44: Ընդամենը սեռական անձեռնմխելիության և սեռական ազատության դեմ ուղղված հանցագործությունները | D44: =SUM(D45:D50) -> 9 | E44: =SUM(E45:E50) -> 0 | F44: =SUM(F45:F50) -> 3 | G44: =SUM(G45:G50) -> 3 | H44: =SUM(H45:H50) -> 0 | I44: =SUM(I45:I50) -> 0 | J44: =SUM(J45:J50) -> 3 | K44: =SUM(K45:K50) -> 0 | ... T44: =SUM(T45:T50) -> 0
A45: 3.1 | B45: Բռնաբարությունը | C45: 138 | D45: 3 | F45: 1 | M45: 4 | P45: 3 | Q45: 3
A46: 3.2 | B46: Սեքսուալ բնույթի բռնի գործողությունները | C46: 139 | D46: 4 | F46: 2 | G46: 2 | J46: 2 | M46: 4 | O46: 2 | Q46: 2
A47: 3.3 | B47: Սեռական հարաբերության կամ սեքսուալ բնույթի գործողություններին հարկադրելը | C47: 140
A48: 3.4 | B48: Սեռական հարաբերությունը տասնվեց տարին չլրացած անձի հետ կամ սեքսուալ բնույթի գործողություններ կատարելը տասնվեց տարին չլրացած անձի նկատմամբ | C48: 141 | D48: 2 | G48: 1 | J48: 1 | M48: 1
A49: 3.5 | B49: Անառակաբարո գործողությունները | C49: 142
A50: 3.6 | B50: Այլ հանցագործություններ
A51: 4. | B51: Ընդամենը մարդու և քաղաքացու սահմանադրական իրավունքների և ազատությունների դեմ ուղղված հանցագործությունները | D51: =SUM(D52:D80) -> 9 | E51: =SUM(E52:E80) -> 0 | F51: =SUM(F52:F80) -> 3 | G51: =SUM(G52:G80) -> 4 | H51: =SUM(H52:H80) -> 2 | I51: =SUM(I52:I80) -> 0 | J51: =SUM(J52:J80) -> 6 | K51: =SUM(K52:K80) -> 3 | ... T51: =SUM(T52:T80) -> 0
A52: 4.1 | B52: Մարդու և քաղաքացու իրավահավասարությունը խախտելը | C52: 143
A53: 4.2 | B53: Անձնական կամ ընտանեկան կյանքի մասին տեղեկություններ ապօրինի հավաքելը, պահելը, օգտագործելը կամ տարածելը | C53: 144 | D53: 2 | G53: 1 | H53: 1 | J53: 2
A54: 4.3 | B54: Բժշկական գաղտնիքը հրապարակելը | C54: 145
A55: 4.4 | B55: Նամակագրության, հեռախոսային խոսակցությունների, փոստային, հեռագրական կամ այլ հաղորդումների գաղտնիությունը խախտելը | C55: 146
A56: 4.5 | B56: Բնակարանի անձեռնմխելիությունը խախտելը | C56: 147 | D56: 1 | F56: 1 | G56: 1 | H56: 1 | J56: 2
A57: 4.6 | B57: Անձին տեղեկություն ներկայացնելուց հրաժարվելը | C57: 148
A58: 4.7 | B58: Ընտրական իրավունքի իրականացմանը, ընտրական հանձնաժողովների աշխատանքներին կամ ընտրությանը մասնակցող անձանց լիազորությունների իրականացմանը խոչընդոտելը | C58: 149
A59: 4.8 | B59: Ընտրությունների կամ քվեարկության արդյունքները կեղծելը | C59: 150
A60: 4.10 | B60: Ընտրողների ցուցակները կազմելու, դրանք քաղաքացիներին և կուսակցություններին տրամադրելու կամ հրապարակելու կարգը խախտելը | C60: 152
A61: 4.11 | B61: Մեկից ավելի անգամ կամ այլ անձի փոխարեն քվեարկելը | C61: 153
A62: 4.12 | B62: Քվեարկության գաղտնիությունը խախտելը | C62: 154
A63: 4.13 | B63: Կեղծ ընտրական քվեաթերթիկներ կամ քվեարկության ծրարներ, դրոշմանիշեր, կտրոններ պատրաստելը կամ ակնհայտ կեղծ ընտրական քվեաթերթիկներ կամ քվեարկության ծրարներ, դրոշմանիշեր, կտրոններ հանձնելը կամ իրացնելը | C63: 154.1
A64: 4.14 | B64: Ընտրողի կողմից թեկնածուներից, կուսակցություններից (կուսակցությունների դաշինքներից), հանրաքվեի քարոզչական նախաձեռնություններից կաշառք ստանալը կամ թեկնածուների, կուսակցությունների (կուսակցությունների դաշինքների), հանրաքվեի քարոզչական նախաձեռնությունների կողմից ընտրողներին կաշառք տալը կամ ընտրողի ազատ կամքի իրականացմանը խոչընդոտելը | C64: 154.2 | D64: 5 | F64: 1 | K64: 3 | M64: 3 | P64: 3 | Q64: 3
A65: 4.16 | B65: Զենքով՝ տեղամասային կենտրոն մուտք գործելը | C65: 154.4 | F65: 1 | G65: 1 | J65: 1
A66: 4.17 | B66: Վստահված անձին,ընտրական հանձնաժողովի անդամին,դիտորդին կամ զանգվածային լրատվության միջոցի ներկայացուցչին ընտրական փաստաթղթերին ծանոթանալուն խոչընդոտելը, ընտրական հանձնաժողովի արձանագրությունների պատճեններ չտալը | C66: 154.5
A67: 4.17.1 | B67: Ընտրական հանձնաժողովի նախագահի լիազորությունները չկատարելը կամ ոչ պատշաճ կատարելը | C67: 154.6
A68: 4.17.2 | B68: Քվեատուփը, ընտրողների ստորագրած ցուցակը, տեղամասային ընտրական հանձնաժողովի գրանցամատյանը, հանձնաժողովի կնիքը, տեղամասային ընտրական հանձնաժողովի անդամի անհատական կնիքը, ինքնասոսնձվող դրոշմանիշը, ընտրողի վերաբերյալ տվյալներ պարունակող քվեարկության կտրոնը կամ համարակալված կտրոնը, ընտրողների էլեկտրոնային գրանցման տեխնիկական սարքավորումը, կառավարության կողմից ընտրված մասնագիտացված կազմակերպության կողմից տեղադրված տեսախցիկը, ընտրական փաստաթղթերի մեկանգամյա օգտագործման պարկը կամ ընտրական փաստաթղթերի փաթեթը հափշտակելը | C68: 154.7
A69: 4.17.3 | B69: Այլ անձի փոխարեն քվեարկելու վերաբերյալ սուտ հայտարարություն տալը կամ կեղծ ստորագրությամբ հայտարարություն դիմումին կից ներկայացնելը | C69: 154.8
A70: 4.18 | B70: Գործադուլի մասնակցելուն կամ գործադուլի մասնակցելուց հրաժարվելուն հարկադրելը | C70: 155
A71: 4.19 | B71: Հղի կնոջը կամ մինչև երեք տարեկան երեխա ունեցող անձին աշխատանքի ընդունելոււց հրաժարվելը կամ աշխատանքից անհիմն ազատելը | C71: 156
A72: 4.20 | B72: Աշխատանքի պաշտպանության կանոնները խախտելը | C72: 157
A73: 4.21 | B73: Հեղինակային և հարակից իրավունքները խախտելը | C73: 158
A74: 4.22 | B74: Արտոնագրային իրավունքը խախտելը | C74: 159
A75: 4.23 | B75: Խղճի կամ դավանանքի ազատության իրավունքի իրականացմանը խոչընդոտելը | C75: 160
A76: 4.24 | B76: Միավորումներ (հասարակական կամ արհեստակցական միություններ) կազմելու կամ կուսակցություններ ստեղծելու իրավունքի իրականացմանը կամ դրանց գործողությանը խոչընդոտելը | C76: 161
A77: 4.25 | B77: Անձանց իրավունքների կամ անձի դեմ ոտնձգող միավորումներ կազմելը կամ ղեկավարելը | C77: 162
A78: 4.26 | B78: Հավաքներ անցկացնելուն կամ դրանց մասնակցելուն խոչընդոտելը | C78: 163
A79: 4.27 | B79: Լրագրողի մասնագիտական օրինական գործողությանը խոչընդոտելը | C79: 164 | D79: 1 | G79: 1 | J79: 1
A80: 4.28 | B80: Այլ հանցագործություններ
A81: 5. | B81: Ընդամենը ընտանիքի և երեխայի շահերի դեմ ուղղված հանցագործությունները | D81: =SUM(D82:D95) -> 2 | E81: =SUM(E82:E95) -> 0 | F81: =SUM(F82:F95) -> 2 | G81: =SUM(G82:G95) -> 0 | H81: =SUM(H82:H95) -> 0 | I81: =SUM(I82:I95) -> 0 | J81: =SUM(J82:J95) -> 0 | K81: =SUM(K82:K95) -> 0 | ... T81: =SUM(T82:T95) -> 0
A82: 5.1 | B82: Անչափահասին հանցանքի կատարմանը ներգրավելը | C82: 165
A83: 5.2 | B83: Երեխային պոռնկության կամ պոռնկագրական բնույթի նյութեր կամ առարկաներ պատրաստելու հետ կապված գործողություններ կատարելուն ներգրավելը | C83: 166
A84: 5.2.1 | B84: Երեխային ոգելից խմիչքների օգտագործմանը, ուժեղ ներգործող կամ այլ թմրեցնող նյութերի ոչ բժշկական օգտագործմանը, թափառաշրջիկությանը ներգրավելը կամ մուրացկանության հետ կապված գործողություններ կատարելուն ներգրավելը | C84: 166.1
A85: 5.3 | B85: Ծնողներից երեխային ապօրինի բաժանելը կամ երեխային փոխելը | C85: 167
A86: 5.4 | B86: Խնամքը ստանձնելու նպատակով երեխայի առքը կամ ստանձնողի խնամքին հանձնելու նպատակով երեխայի վաճառքը | C86: 168 | D86: 1 | M86: 1
A87: 5.5 | B87: Որդեգրման գաղտնիքը հրապարակելը կամ որդեգրման համաձայնություն տալուն հակելը կամ հարկադրելը | C87: 169
A88: 5.6 | B88: Քաղաքացիական կացության ակտերի գրանցման մարմիններին սուտ տեղեկություններ հաղորդելը | C88: 169.1
A89: 5.7 | B89: Երեխային դաստիարակելու պարտականությունը չկատարելը | C89: 170
A90: 5.8 | B90: Երեխայի կյանքի անվտանգության ապահովման կամ առողջության պահպանման պարտականությունը չկատարելը կամ ոչ պատշաճ կատարելը | C90: 171
A91: 5.8.1 | B91: Վերարտադրողականության օժանդակ տեխնոլոգիաներից օգտվելու կանոնները խախտելը | C91: 171.1
A92: 5.9 | B92: Խնամակալի կամ հոգաբարձուի իրավունքները չարաշահելը | C92: 172
A93: 5.10 | B93: Ծնողի կողմից երեխային պահելուց չարամտորեն խուսափելը | C93: 173 | D93: 1 | F93: 2 | M93: 3
A94: 5.11 | B94: Զավակի կողմից անաշխատունակ ծնողին պահելուց չարամտորեն խուսափելը | C94: 174
A95: 5.12 | B95: Այլ հանցագործություններ
A96: 6. | B96: Ընդամենը սեփականության դեմ ուղղված հանցագործությունները | D96: =SUM(D97:D111) -> 126 | E96: =SUM(E97:E111) -> 3 | F96: =SUM(F97:F111) -> 80 | G96: =SUM(G97:G111) -> 33 | H96: =SUM(H97:H111) -> 16 | I96: =SUM(I97:I111) -> 0 | J96: =SUM(J97:J111) -> 49 | K96: =SUM(K97:K111) -> 10 | ... T96: =SUM(T97:T111) -> 1
A97: 6.1 | B97: Ավազակությունը | C97: 175 | D97: 3 | F97: 1 | G97: 1 | J97: 1 | M97: 3 | O97: 1 | P97: 2 | Q97: 3
A98: 6.2 | B98: Կողոպուտը | C98: 176 | D98: 2 | F98: 3 | G98: 1 | J98: 1 | M98: 4 | P98: 2 | Q98: 2
A99: 6.3 | B99: Գողությունը | C99: 177 | D99: 74 | E99: 1 | F99: 57 | G99: 23 | H99: 6 | J99: 29 | K99: 1 | M99: 97 | O99: 4 | P99: 7 | Q99: 11 | R99: 1 | T99: 1
A100: 6.4 | B100: Խարդախությունը | C100: 178 | D100: 24 | E100: 1 | F100: 12 | G100: 2 | H100: 7 | J100: 9 | K100: 2 | M100: 25 | O100: 2 | Q100: 2
...

Sheet Գեղարքունիք
A1: 2022թ. Տարեկան | D1: ՀԱՇՎԵՏՎՈՒԹՅՈՒՆ
A2: ՀՀ ԳԵՂԱՐՔՈՒՆԻՔԻ ՄԱՐԶԻ ԱՌԱՋԻՆ ԱՏՅԱՆԻ ԸՆԴՀԱՆՈՒՐ ԻՐԱՎԱՍՈՒԹՅԱՆ ԴԱՏԱՐԱՆՈՒՄ ՔՐԵԱԿԱՆ ԳՈՐԾԵՐԻ ՔՆՆՈՒԹՅԱՆ ՎԵՐԱԲԵՐՅԱԼ
A3: ՀՀ Գեղարքունիքի մարզի առաջին ատյանի ընդհանուր իրավասության դատարանում քրեական մասնագիտացում ունեցող դատավորների հաստիքների քանակը` 4
C4: ՀՀ քրեական օրենսգրքի հոդվածներ | D4: Հաշվետու ժամանակահատվածի սկզբում նախորդ հաշվետու ժամանակահատվածից փոխանցված գործերի ընդհանուր թիվը | E4: Այդ թվում` կասեցված վիճակում փոխանցված | F4: Հաշվետու ժամանակահատվածում ստացված գործերի ընդհանուր թիվը | G4: Հաշվետու ժամանակահատվածում ավարտված գործերի ընդհանուր թիվը | K4: Ուղարկվել է ըստ ընդդատության | L4: Հաշվետու ժամանակահատվածում կասեցված վարույթներով գործերի ընդհանուր թիվը | M4: Հաշվետու ժամանակահատվածում անավարտ գործերի ընդհանուր թիվը | N4: Այդ թվում՝ կասեցված | O4: Բողոքարկված դատական ակտերի թիվը` ըստ տեսակների | R4: Բեկանված դատական ակտերի թիվը` ըստ տեսակների
G5: Քննվել է ըստ էության և դատավճիռ կայացվել | H5: Որոշում է կայացվել քրեական գործի վարույթը կարճելու և քրեական հետապնդումը դադարեցնելու մասին | I5: Որոշում է կայացվել անմեղսունակների նկատմամբ բժշկական բնույթի հարկադրական միջոցներ կիրառելու մասին | J5: Ընդամենը ավարտվել են գործեր | O5: Այդ թվում` գործն ըստ էության լուծող դատական ակտերը | P5: Այդ թվում` միջանկյալ դատական ակտերը | Q5: Ընդամենը | R5: Այդ թվում` գործն ըստ էության լուծող դատական ակտերը | S5: Այդ թվում` միջանկյալ դատական ակտերը | T5: Ընդամենը
D6: 1 | E6: 2 | F6: 3 | G6: 4 | H6: 5 | I6: 6 | J6: 7 | K6: 8 | L6: 9 | M6: 10 | N6: 11 | O6: 12 | P6: 13 | Q6: 14 | R6: 15 | S6: 16 | T6: 17
A7: 1. | B7: Ընդամենը կյանքի և առողջության դեմ ուղղված հանցագործությունները | D7: =SUM(D8:D34) -> 24 | E7: =SUM(E8:E34) -> 0 | F7: =SUM(F8:F34) -> 13 | G7: =SUM(G8:G34) -> 21 | H7: =SUM(H8:H34) -> 3 | I7: =SUM(I8:I34) -> 1 | J7: =SUM(J8:J34) -> 25 | K7: =SUM(K8:K34) -> 0 | ... T7: =SUM(T8:T34) -> 0
A8: 1.1 | B8: Սպանությունը | C8: 104 | D8: 10 | F8: 1 | G8: 5 | J8: 5 | M8: 6 | O8: 2 | Q8: 2
A9: 1.2 | B9: Հոգեկան խիստ հուզմունքի վիճակում կատարված սպանությունը | C9: 105
A10: 1.3 | B10: Մոր կողմից նորածին երեխայի սպանությունը | C10: 106 | O10: 1 | Q10: 1
A11: 1.4 | B11: Հանցանք կատարած անձին բռնելու համար անհրաժեշտ միջոցների սահմանազանցմամբ սպանությունը | C11: 107
A12: 1.5 | B12: Անհրաժեշտ պաշտպանության սահմանազանցմամբ սպանությունը | C12: 108
A13: 1.6 | B13: Անզգուշությամբ մահ պատճառելը | C13: 109 | F13: 1 | H13: 1 | J13: 1
A14: 1.7 | B14: Ինքնասպանության հասցնելը | C14: 110
A15: 1.8 | B15: Ինքնասպանության հակելը | C15: 111
A16: 1.9 | B16: Դիտավորությամբ առողջությանը ծանր վնաս պատճառելը | C16: 112 | D16: 10 | F16: 5 | G16: 11 | J16: 11 | M16: 4 | O16: 4 | Q16: 4
A17: 1.10 | B17: Դիտավորությամբ առողջությանը միջին ծանրության վնաս պատճառելը | C17: 113 | D17: 1 | F17: 2 | G17: 2 | J17: 2 | M17: 1
A18: 1.11 | B18: Հոգեկան խիստ հուզմունքի վիճակում առողջությանը ծանր կամ միջին ծանրության վնաս պատճառելը | C18: 114
A19: 1.12 | B19: Հանցանք կատարած անձին բռնելու համար անհրաժեշտ միջոցների սահմանզանցմամբ առողջությանը ծանր կամ միջին ծանրության վնաս պատճառելը | C19: 115
A20: 1.13 | B20: Առողջությանը ծանր կամ միջին ծանրության վնաս պատճառելը անհրաժեշտ պաշտպանության սահմանանազանցմամբ | C20: 116
A21: 1.14 | B21: Դիտավորությամբ առողջությանը թեթև վնաս պատճառելը | C21: 117 | D21: 1 | F21: 1 | G21: 1 | H21: 1 | J21: 2
A22: 1.15 | B22: Ծեծը | C22: 118 | D22: 1 | F22: 2 | G22: 1 | H22: 1 | J22: 2 | M22: 1
A23: 1.16 | B23: Ֆիզիկական ուժեղ ցավ կամ հոգեկան ուժեղ տառապանք պատճառելը | C23: 119
A24: 1.17 | B24: Անզգուշությամբ առողջությանը ծանր վնաս պատճառելը | C24: 120 | F24: 1 | I24: 1 | J24: 1
A25: 1.18 | B25: Անզգուշությամբ առողջությանը միջին ծանրության վնաս պատճառելը | C25: 121
A26: 1.19 | B26: Ապօրինի աբորտ կատարելը | C26: 122
A27: 1.20 | B27: Մարդու իմունային անբավարարության վիրուսի հարուցիչով վարակելը | C27: 123
A28: 1.21 | B28: Վեներական հիվանդությամբ կամ այլ սեռավարակներով վարակելը | C28: 124
A29: 1.22 | B29: Փոխպատվաստման վիրահատություն կատարելու կանոնները խախտելը | C29: 125
A30: 1.24 | B30: Անձին առանց իր հանձնարարության բժշկական կամ գիտական փորձերի ենթարկելը | C30: 127
A31: 1.25 | B31: Վտանգի մեջ թողնելը | C31: 128
A32: 1.26 | B32: Հիվանդին օգնություն ցույց չտալը | C32: 129
