Workbook

Sheet Ընդհամենը
A1: 2015Ã. | D1: Ð²ÞìºîìàôÂÚàôÜ | P1: Ï³½Ùí³Í` ÐÐ Ï³é³í³ñáõÃÛ³Ý 19.03.2015Ã. ÃÇí 306-Ü áñáßÙ³Ý ÑÇÙ³Ý íñ³
A2: ØÇÝã¹³ï³Ï³Ý í³ñáõÛÃÇ ÝÏ³ïÙ³Ùµ ¹³ï³Ï³Ý í»ñ³ÑëÏáÕáõÃÛ³ÝÁ, ¹³ï³Ï³Ý ³Ïï»ñÇ ¨ ¹³ï³Ï³Ý Ñ³ÝÓÝ³ñ³ñáõÃÛáõÝÝ»ñÇ Ï³ï³ñÙ³Ý Ñ»ï Ï³åí³Í ÙÇçÝáñ¹áõÃÛáõÝÝ»ñÇ í»ñ³µ»ñÛ³É ¹³ï³Ï³Ý ·áñÍ»ñáí ºñ¨³Ý ù³Õ³ùÇ Þ»Ý·³íÇÃ í³ñã³Ï³Ý ßñç³ÝÇ ÁÝ¹Ñ³Ýáõñ Çñ³í³ëáõÃÛ³Ý ³é³çÇÝ ³ïÛ³ÝÇ ¹³ï³ñ³ÝÇ ·áñÍáõÝ»áõÃÛ³Ý í»ñ³µ»ñÛ³É
A3: êïáõ·Çã Ñ³í³ë³ñáõÙ` 1+2=3+8+9, 8=4+5+6+7, | D3: Ð³ßí»ïáõ Å³Ù³Ý³Ï³Ñ³ïí³ÍÇ ëÏ½µáõÙ Ý³Ëáñ¹ Ñ³ßí»ïáõ Å³Ù³Ý³Ï³Ñ³ïí³ÍÇó ÷áË³Ýóí³Í ·áñÍ»ñÇ ÁÝ¹Ñ³Ýáõñ ÃÇíÁ | E3: Ð³ßí»ïáõ Å³Ù³Ý³Ï³Ñ³ïí³ÍáõÙ ëï³óí³Í ·áñÍ»ñÇ ÁÝ¹Ñ³Ýáõñ ÃÇíÁ | F3: öáË³Ýóí»É ¿ ³ÛÉ ¹³ï³íáñÇ Ï³Ù ³ÛÉ ¹³ï³ñ³Ý (Ï³½ÙÇ ÷á÷áËáõÃÛáõÝ, ÁÝ¹¹³ïáõÃÛáõÝ) | G3: Ð³ßí»ïáõ Å³Ù³Ý³Ï³Ñ³ïí³ÍáõÙ ³í³ñïí³Í ·áñÍ»ñÇ ÁÝ¹Ñ³Ýáõñ ÃÇíÁ | L3: Ð³ßí»ïáõ Å³Ù³Ý³Ï³Ñ³ïí³ÍáõÙ ³Ý³í³ñï ·áñÍ»ñÇ ÁÝ¹Ñ³Ýáõñ ÃÇíÁ | M3: ØÇçÝáñ¹áõÃÛáõÝÝ»ñáí Ï³Û³óí³Í ¹³ï³Ï³Ý ³Ïï»ñÇó µáÕáù³ñÏí³ÍÝ»ñÇ ù³Ý³ÏÁ | O3: ²Ý³í³ñï µáÕáùÝ»ñ | P3: ØÇçÝáñ¹áõÃÛáõÝÝ»ñáí Ï³Û³óí³Í ¨ µáÕáù³ñÏí³Í ¹³ï³Ï³Ý ³Ïï»ñÇó µ»Ï³Ýí³ÍÝ»ñÇ ù³Ý³ÏÁ | R3: ÙÇçÝáñ¹áõÃÛáõÝÝ»ñáí Ï³Û³óí³Í ¨ µáÕáù³ñÏí³Í ¹³ï³Ï³Ý ³Ïï»ñÇó ³Ý÷á÷áË ÃáÕÝí³ÍÝ»ñÇ ù³Ý³ÏÁ
G4: Ù»ñÅí»É ¿ | H4: µ³í³ñ³ñí»É ¿ | I4: µ³í³ñ³ñí»É ¿ Ù³ëÝ³ÏÇ | J4: ÃáÕÝí»É ¿ ³é³Ýó ùÝÝáõÃÛ³Ý | K4: ÀÝ¹³Ù»ÝÁ
M5: Ý³Ëáñ¹ ï³ñÇÝ»ñÇÝ Ï³Û³óí³Í ³Ïï»ñÇ ¹»Ù | N5: Ñ³ßí»ïáõ Å³Ù³Ý³Ï³ßñç³ÝáõÙ Ï³Û³óí³Í ³Ïï»ñÇ ¹»Ù | P5: Ý³Ëáñ¹ ï³ñÇÝ»ñÇÝ Ï³Û³óí³Í ³Ïï»ñÇ µ»Ï³ÝáõÙÝ»ñÁ | Q5: Ñ³ßí»ïáõ Å³Ù³Ý³Ï³ßñç³ÝáõÙ Ï³Û³óí³Í ³Ïï»ñÇ µ»Ï³ÝáõÙÝ»ñÁ
A6: 1. ØÇÝã¹³ï³Ï³Ý í³ñáõÛÃÇ ÝÏ³ïÙ³Ùµ ¹³ï³Ï³Ý í»ñ³ÑëÏáÕáõÃÛ³Ý áÉáñï | D6: 1 | E6: 2 | F6: 3 | G6: 4 | H6: 5 | I6: 6 | J6: 7 | K6: 8 | L6: 9 | M6: 10 | N6: 11 | O6: 12 | P6: 13 | Q6: 14 | R6: 15 | T6: 1+2=3+8+9 | V6: 8=4+5+6+7
A7: 1 | B7: Ï³É³ÝùÁ áñå»ë Ë³÷³ÝÙ³Ý ÙÇçáó ÏÇñ³é»Éáõ Ù³ëÇÝ ÙÇçÝáñ¹áõÃÛáõÝÝ»ñ | D7: ='Ա. Ազարյան'!D7+'Դ. Բալայան'!D7+'Ն. Բաղդասարյան'!D7+'Ն. Հովսեփյան'!D7+'Ա. Չիչոյան'!D7+'Ա. Կուբանյան'!D7+'Ի. Բարսեղյան'!D7 -> 0 | E7: ='Ա. Ազարյան'!E7+'Դ. Բալայան'!E7+'Ն. Բաղդասարյան'!E7+'Ն. Հովսեփյան'!E7+'Ա. Չիչոյան'!E7+'Ա. Կուբանյան'!E7+'Ի. Բարսեղյան'!E7 -> 60 | F7: ='Ա. Ազարյան'!F7+'Դ. Բալայան'!F7+'Ն. Բաղդասարյան'!F7+'Ն. Հովսեփյան'!F7+'Ա. Չիչոյան'!F7+'Ա. Կուբանյան'!F7+'Ի. Բարսեղյան'!F7 -> 1 | G7: ='Ա. Ազարյան'!G7+'Դ. Բալայան'!G7+'Ն. Բաղդասարյան'!G7+'Ն. Հովսեփյան'!G7+'Ա. Չիչոյան'!G7+'Ա. Կուբանյան'!G7+'Ի. Բարսեղյան'!G7 -> 4 | H7: ='Ա. Ազարյան'!H7+'Դ. Բալայան'!H7+'Ն. Բաղդասարյան'!H7+'Ն. Հովսեփյան'!H7+'Ա. Չիչոյան'!H7+'Ա. Կուբանյան'!H7+'Ի. Բարսեղյան'!H7 -> 55 | I7: ='Ա. Ազարյան'!I7+'Դ. Բալայան'!I7+'Ն. Բաղդասարյան'!I7+'Ն. Հովսեփյան'!I7+'Ա. Չիչոյան'!I7+'Ա. Կուբանյան'!I7+'Ի. Բարսեղյան'!I7 -> 0 | J7: ='Ա. Ազարյան'!J7+'Դ. Բալայան'!J7+'Ն. Բաղդասարյան'!J7+'Ն. Հովսեփյան'!J7+'Ա. Չիչոյան'!J7+'Ա. Կուբանյան'!J7+'Ի. Բարսեղյան'!J7 -> 0 | K7: ='Ա. Ազարյան'!K7+'Դ. Բալայան'!K7+'Ն. Բաղդասարյան'!K7+'Ն. Հովսեփյան'!K7+'Ա. Չիչոյան'!K7+'Ա. Կուբանյան'!K7+'Ի. Բարսեղյան'!K7 -> 59 | ... R7: ='Ա. Ազարյան'!R7+'Դ. Բալայան'!R7+'Ն. Բաղդասարյան'!R7+'Ն. Հովսեփյան'!R7+'Ա. Չիչոյան'!R7+'Ա. Կուբանյան'!R7+'Ի. Բարսեղյան'!R7 -> 12 | T7: =D7+E7 -> 60 | U7: =F7+K7+L7 -> 60 | V7: =K7 -> 59 | W7: =G7+H7+I7+J7 -> 59
A8: 2 | B8: Ï³É³ÝùÇ Å³ÙÏ»ïÁ »ñÏ³ñ³óÝ»Éáõ Ù³ëÇÝ ÙÇçÝáñ¹áõÃÛáõÝÝ»ñ | D8: ='Ա. Ազարյան'!D8+'Դ. Բալայան'!D8+'Ն. Բաղդասարյան'!D8+'Ն. Հովսեփյան'!D8+'Ա. Չիչոյան'!D8+'Ա. Կուբանյան'!D8+'Ի. Բարսեղյան'!D8 -> 1 | E8: ='Ա. Ազարյան'!E8+'Դ. Բալայան'!E8+'Ն. Բաղդասարյան'!E8+'Ն. Հովսեփյան'!E8+'Ա. Չիչոյան'!E8+'Ա. Կուբանյան'!E8+'Ի. Բարսեղյան'!E8 -> 93 | F8: ='Ա. Ազարյան'!F8+'Դ. Բալայան'!F8+'Ն. Բաղդասարյան'!F8+'Ն. Հովսեփյան'!F8+'Ա. Չիչոյան'!F8+'Ա. Կուբանյան'!F8+'Ի. Բարսեղյան'!F8 -> 1 | G8: ='Ա. Ազարյան'!G8+'Դ. Բալայան'!G8+'Ն. Բաղդասարյան'!G8+'Ն. Հովսեփյան'!G8+'Ա. Չիչոյան'!G8+'Ա. Կուբանյան'!G8+'Ի. Բարսեղյան'!G8 -> 4 | H8: ='Ա. Ազարյան'!H8+'Դ. Բալայան'!H8+'Ն. Բաղդասարյան'!H8+'Ն. Հովսեփյան'!H8+'Ա. Չիչոյան'!H8+'Ա. Կուբանյան'!H8+'Ի. Բարսեղյան'!H8 -> 77 | I8: ='Ա. Ազարյան'!I8+'Դ. Բալայան'!I8+'Ն. Բաղդասարյան'!I8+'Ն. Հովսեփյան'!I8+'Ա. Չիչոյան'!I8+'Ա. Կուբանյան'!I8+'Ի. Բարսեղյան'!I8 -> 12 | J8: ='Ա. Ազարյան'!J8+'Դ. Բալայան'!J8+'Ն. Բաղդասարյան'!J8+'Ն. Հովսեփյան'!J8+'Ա. Չիչոյան'!J8+'Ա. Կուբանյան'!J8+'Ի. Բարսեղյան'!J8 -> 0 | K8: ='Ա. Ազարյան'!K8+'Դ. Բալայան'!K8+'Ն. Բաղդասարյան'!K8+'Ն. Հովսեփյան'!K8+'Ա. Չիչոյան'!K8+'Ա. Կուբանյան'!K8+'Ի. Բարսեղյան'!K8 -> 93 | ... R8: ='Ա. Ազարյան'!R8+'Դ. Բալայան'!R8+'Ն. Բաղդասարյան'!R8+'Ն. Հովսեփյան'!R8+'Ա. Չիչոյան'!R8+'Ա. Կուբանյան'!R8+'Ի. Բարսեղյան'!R8 -> 13 | T8: =D8+E8 -> 94 | U8: =F8+K8+L8 -> 94 | V8: =K8 -> 93 | W8: =G8+H8+I8+J8 -> 93
A9: 3 | B9: Ï³É³ÝùÇ í»ñ³Ñ³ëï³ïÙ³Ý Ù³ëÇÝ ÙÇçÝáñ¹áõÃÛáõÝÝ»ñ | D9: ='Ա. Ազարյան'!D9+'Դ. Բալայան'!D9+'Ն. Բաղդասարյան'!D9+'Ն. Հովսեփյան'!D9+'Ա. Չիչոյան'!D9+'Ա. Կուբանյան'!D9+'Ի. Բարսեղյան'!D9 -> 0 | E9: ='Ա. Ազարյան'!E9+'Դ. Բալայան'!E9+'Ն. Բաղդասարյան'!E9+'Ն. Հովսեփյան'!E9+'Ա. Չիչոյան'!E9+'Ա. Կուբանյան'!E9+'Ի. Բարսեղյան'!E9 -> 15 | F9: ='Ա. Ազարյան'!F9+'Դ. Բալայան'!F9+'Ն. Բաղդասարյան'!F9+'Ն. Հովսեփյան'!F9+'Ա. Չիչոյան'!F9+'Ա. Կուբանյան'!F9+'Ի. Բարսեղյան'!F9 -> 0 | G9: ='Ա. Ազարյան'!G9+'Դ. Բալայան'!G9+'Ն. Բաղդասարյան'!G9+'Ն. Հովսեփյան'!G9+'Ա. Չիչոյան'!G9+'Ա. Կուբանյան'!G9+'Ի. Բարսեղյան'!G9 -> 1 | H9: ='Ա. Ազարյան'!H9+'Դ. Բալայան'!H9+'Ն. Բաղդասարյան'!H9+'Ն. Հովսեփյան'!H9+'Ա. Չիչոյան'!H9+'Ա. Կուբանյան'!H9+'Ի. Բարսեղյան'!H9 -> 14 | I9: ='Ա. Ազարյան'!I9+'Դ. Բալայան'!I9+'Ն. Բաղդասարյան'!I9+'Ն. Հովսեփյան'!I9+'Ա. Չիչոյան'!I9+'Ա. Կուբանյան'!I9+'Ի. Բարսեղյան'!I9 -> 0 | J9: ='Ա. Ազարյան'!J9+'Դ. Բալայան'!J9+'Ն. Բաղդասարյան'!J9+'Ն. Հովսեփյան'!J9+'Ա. Չիչոյան'!J9+'Ա. Կուբանյան'!J9+'Ի. Բարսեղյան'!J9 -> 0 | K9: ='Ա. Ազարյան'!K9+'Դ. Բալայան'!K9+'Ն. Բաղդասարյան'!K9+'Ն. Հովսեփյան'!K9+'Ա. Չիչոյան'!K9+'Ա. Կուբանյան'!K9+'Ի. Բարսեղյան'!K9 -> 15 | ... R9: ='Ա. Ազարյան'!R9+'Դ. Բալայան'!R9+'Ն. Բաղդասարյան'!R9+'Ն. Հովսեփյան'!R9+'Ա. Չիչոյան'!R9+'Ա. Կուբանյան'!R9+'Ի. Բարսեղյան'!R9 -> 1 | T9: =D9+E9 -> 15 | U9: =F9+K9+L9 -> 15 | V9: =K9 -> 15 | W9: =G9+H9+I9+J9 -> 15
A10: 4 | B10: ·ñ³íÁ áñå»ë Ï³É³Ý³íáñÙ³Ý ³ÛÉÁÝïñ³Ýù³ÛÇÝ Ë³÷³ÝÙ³Ý ÙÇçáó ÏÇñ³é»Éáõ Ù³ëÇÝ ÙÇçÝáñ¹áõÃÛáõÝÝ»ñ | D10: ='Ա. Ազարյան'!D10+'Դ. Բալայան'!D10+'Ն. Բաղդասարյան'!D10+'Ն. Հովսեփյան'!D10+'Ա. Չիչոյան'!D10+'Ա. Կուբանյան'!D10+'Ի. Բարսեղյան'!D10 -> 0 | E10: ='Ա. Ազարյան'!E10+'Դ. Բալայան'!E10+'Ն. Բաղդասարյան'!E10+'Ն. Հովսեփյան'!E10+'Ա. Չիչոյան'!E10+'Ա. Կուբանյան'!E10+'Ի. Բարսեղյան'!E10 -> 61 | F10: ='Ա. Ազարյան'!F10+'Դ. Բալայան'!F10+'Ն. Բաղդասարյան'!F10+'Ն. Հովսեփյան'!F10+'Ա. Չիչոյան'!F10+'Ա. Կուբանյան'!F10+'Ի. Բարսեղյան'!F10 -> 0 | G10: ='Ա. Ազարյան'!G10+'Դ. Բալայան'!G10+'Ն. Բաղդասարյան'!G10+'Ն. Հովսեփյան'!G10+'Ա. Չիչոյան'!G10+'Ա. Կուբանյան'!G10+'Ի. Բարսեղյան'!G10 -> 52 | H10: ='Ա. Ազարյան'!H10+'Դ. Բալայան'!H10+'Ն. Բաղդասարյան'!H10+'Ն. Հովսեփյան'!H10+'Ա. Չիչոյան'!H10+'Ա. Կուբանյան'!H10+'Ի. Բարսեղյան'!H10 -> 8 | I10: ='Ա. Ազարյան'!I10+'Դ. Բալայան'!I10+'Ն. Բաղդասարյան'!I10+'Ն. Հովսեփյան'!I10+'Ա. Չիչոյան'!I10+'Ա. Կուբանյան'!I10+'Ի. Բարսեղյան'!I10 -> 0 | J10: ='Ա. Ազարյան'!J10+'Դ. Բալայան'!J10+'Ն. Բաղդասարյան'!J10+'Ն. Հովսեփյան'!J10+'Ա. Չիչոյան'!J10+'Ա. Կուբանյան'!J10+'Ի. Բարսեղյան'!J10 -> 1 | K10: ='Ա. Ազարյան'!K10+'Դ. Բալայան'!K10+'Ն. Բաղդասարյան'!K10+'Ն. Հովսեփյան'!K10+'Ա. Չիչոյան'!K10+'Ա. Կուբանյան'!K10+'Ի. Բարսեղյան'!K10 -> 61 | ... R10: ='Ա. Ազարյան'!R10+'Դ. Բալայան'!R10+'Ն. Բաղդասարյան'!R10+'Ն. Հովսեփյան'!R10+'Ա. Չիչոյան'!R10+'Ա. Կուբանյան'!R10+'Ի. Բարսեղյան'!R10 -> 7 | T10: =D10+E10 -> 61 | U10: =F10+K10+L10 -> 61 | V10: =K10 -> 61 | W10: =G10+H10+I10+J10 -> 61
A11: 5 | B11: Ëáõ½³ñÏáõÃÛ³Ý Ï³ï³ñÙ³Ý Ù³ëÇÝ ÙÇçÝáñ¹áõÃÛáõÝÝ»ñ | D11: ='Ա. Ազարյան'!D11+'Դ. Բալայան'!D11+'Ն. Բաղդասարյան'!D11+'Ն. Հովսեփյան'!D11+'Ա. Չիչոյան'!D11+'Ա. Կուբանյան'!D11+'Ի. Բարսեղյան'!D11 -> 0 | E11: ='Ա. Ազարյան'!E11+'Դ. Բալայան'!E11+'Ն. Բաղդասարյան'!E11+'Ն. Հովսեփյան'!E11+'Ա. Չիչոյան'!E11+'Ա. Կուբանյան'!E11+'Ի. Բարսեղյան'!E11 -> 202 | F11: ='Ա. Ազարյան'!F11+'Դ. Բալայան'!F11+'Ն. Բաղդասարյան'!F11+'Ն. Հովսեփյան'!F11+'Ա. Չիչոյան'!F11+'Ա. Կուբանյան'!F11+'Ի. Բարսեղյան'!F11 -> 2 | G11: ='Ա. Ազարյան'!G11+'Դ. Բալայան'!G11+'Ն. Բաղդասարյան'!G11+'Ն. Հովսեփյան'!G11+'Ա. Չիչոյան'!G11+'Ա. Կուբանյան'!G11+'Ի. Բարսեղյան'!G11 -> 17 | H11: ='Ա. Ազարյան'!H11+'Դ. Բալայան'!H11+'Ն. Բաղդասարյան'!H11+'Ն. Հովսեփյան'!H11+'Ա. Չիչոյան'!H11+'Ա. Կուբանյան'!H11+'Ի. Բարսեղյան'!H11 -> 178 | I11: ='Ա. Ազարյան'!I11+'Դ. Բալայան'!I11+'Ն. Բաղդասարյան'!I11+'Ն. Հովսեփյան'!I11+'Ա. Չիչոյան'!I11+'Ա. Կուբանյան'!I11+'Ի. Բարսեղյան'!I11 -> 5 | J11: ='Ա. Ազարյան'!J11+'Դ. Բալայան'!J11+'Ն. Բաղդասարյան'!J11+'Ն. Հովսեփյան'!J11+'Ա. Չիչոյան'!J11+'Ա. Կուբանյան'!J11+'Ի. Բարսեղյան'!J11 -> 0 | K11: ='Ա. Ազարյան'!K11+'Դ. Բալայան'!K11+'Ն. Բաղդասարյան'!K11+'Ն. Հովսեփյան'!K11+'Ա. Չիչոյան'!K11+'Ա. Կուբանյան'!K11+'Ի. Բարսեղյան'!K11 -> 200 | ... R11: ='Ա. Ազարյան'!R11+'Դ. Բալայան'!R11+'Ն. Բաղդասարյան'!R11+'Ն. Հովսեփյան'!R11+'Ա. Չիչոյան'!R11+'Ա. Կուբանյան'!R11+'Ի. Բարսեղյան'!R11 -> 1 | T11: =D11+E11 -> 202 | U11: =F11+K11+L11 -> 202 | V11: =K11 -> 200 | W11: =G11+H11+I11+J11 -> 200
A12: 6 | B12: µ³ÝÏ³ÛÇÝ, ³å³Ñáí³·ñ³Ï³Ý, Ýáï³ñ³Ï³Ý ·³ÕïÝÇù Ï³½ÙáÕ ï»Õ»ÏáõÃÛáõÝÝ»ñÇ ëï³óÙ³Ý Ñ³Ù³ñ Ëáõ½³ñÏáõÃÛ³Ý Ï³Ù ³é·ñ³íÙ³Ý Ï³ï³ñÙ³Ý Ù³ëÇÝ ÙÇçÝáñ¹áõÃÛáõÝÝ»ñ | D12: ='Ա. Ազարյան'!D12+'Դ. Բալայան'!D12+'Ն. Բաղդասարյան'!D12+'Ն. Հովսեփյան'!D12+'Ա. Չիչոյան'!D12+'Ա. Կուբանյան'!D12+'Ի. Բարսեղյան'!D12 -> 0 | E12: ='Ա. Ազարյան'!E12+'Դ. Բալայան'!E12+'Ն. Բաղդասարյան'!E12+'Ն. Հովսեփյան'!E12+'Ա. Չիչոյան'!E12+'Ա. Կուբանյան'!E12+'Ի. Բարսեղյան'!E12 -> 10 | F12: ='Ա. Ազարյան'!F12+'Դ. Բալայան'!F12+'Ն. Բաղդասարյան'!F12+'Ն. Հովսեփյան'!F12+'Ա. Չիչոյան'!F12+'Ա. Կուբանյան'!F12+'Ի. Բարսեղյան'!F12 -> 0 | G12: ='Ա. Ազարյան'!G12+'Դ. Բալայան'!G12+'Ն. Բաղդասարյան'!G12+'Ն. Հովսեփյան'!G12+'Ա. Չիչոյան'!G12+'Ա. Կուբանյան'!G12+'Ի. Բարսեղյան'!G12 -> 2 | H12: ='Ա. Ազարյան'!H12+'Դ. Բալայան'!H12+'Ն. Բաղդասարյան'!H12+'Ն. Հովսեփյան'!H12+'Ա. Չիչոյան'!H12+'Ա. Կուբանյան'!H12+'Ի. Բարսեղյան'!H12 -> 5 | I12: ='Ա. Ազարյան'!I12+'Դ. Բալայան'!I12+'Ն. Բաղդասարյան'!I12+'Ն. Հովսեփյան'!I12+'Ա. Չիչոյան'!I12+'Ա. Կուբանյան'!I12+'Ի. Բարսեղյան'!I12 -> 3 | J12: ='Ա. Ազարյան'!J12+'Դ. Բալայան'!J12+'Ն. Բաղդասարյան'!J12+'Ն. Հովսեփյան'!J12+'Ա. Չիչոյան'!J12+'Ա. Կուբանյան'!J12+'Ի. Բարսեղյան'!J12 -> 0 | K12: ='Ա. Ազարյան'!K12+'Դ. Բալայան'!K12+'Ն. Բաղդասարյան'!K12+'Ն. Հովսեփյան'!K12+'Ա. Չիչոյան'!K12+'Ա. Կուբանյան'!K12+'Ի. Բարսեղյան'!K12 -> 10 | ... R12: ='Ա. Ազարյան'!R12+'Դ. Բալայան'!R12+'Ն. Բաղդասարյան'!R12+'Ն. Հովսեփյան'!R12+'Ա. Չիչոյան'!R12+'Ա. Կուբանյան'!R12+'Ի. Բարսեղյան'!R12 -> 0 | T12: =D12+E12 -> 10 | U12: =F12+K12+L12 -> 10 | V12: =K12 -> 10 | W12: =G12+H12+I12+J12 -> 10
A13: 7 | B13: Ý³Ù³Ï³·ñáõÃÛ³Ý, Ñ»é³·ñ³Ï³Ý, ÷áuï³ÛÇÝ Ñ³Õáñ¹áõÙÝ»ñÇ ÑëÏáÕáõÃÛ³Ý Ù³ëÇÝ ÙÇçÝáñ¹áõÃÛáõÝÝ»ñ | D13: ='Ա. Ազարյան'!D13+'Դ. Բալայան'!D13+'Ն. Բաղդասարյան'!D13+'Ն. Հովսեփյան'!D13+'Ա. Չիչոյան'!D13+'Ա. Կուբանյան'!D13+'Ի. Բարսեղյան'!D13 -> 0 | E13: ='Ա. Ազարյան'!E13+'Դ. Բալայան'!E13+'Ն. Բաղդասարյան'!E13+'Ն. Հովսեփյան'!E13+'Ա. Չիչոյան'!E13+'Ա. Կուբանյան'!E13+'Ի. Բարսեղյան'!E13 -> 0 | F13: ='Ա. Ազարյան'!F13+'Դ. Բալայան'!F13+'Ն. Բաղդասարյան'!F13+'Ն. Հովսեփյան'!F13+'Ա. Չիչոյան'!F13+'Ա. Կուբանյան'!F13+'Ի. Բարսեղյան'!F13 -> 0 | G13: ='Ա. Ազարյան'!G13+'Դ. Բալայան'!G13+'Ն. Բաղդասարյան'!G13+'Ն. Հովսեփյան'!G13+'Ա. Չիչոյան'!G13+'Ա. Կուբանյան'!G13+'Ի. Բարսեղյան'!G13 -> 0 | H13: ='Ա. Ազարյան'!H13+'Դ. Բալայան'!H13+'Ն. Բաղդասարյան'!H13+'Ն. Հովսեփյան'!H13+'Ա. Չիչոյան'!H13+'Ա. Կուբանյան'!H13+'Ի. Բարսեղյան'!H13 -> 0 | I13: ='Ա. Ազարյան'!I13+'Դ. Բալայան'!I13+'Ն. Բաղդասարյան'!I13+'Ն. Հովսեփյան'!I13+'Ա. Չիչոյան'!I13+'Ա. Կուբանյան'!I13+'Ի. Բարսեղյան'!I13 -> 0 | J13: ='Ա. Ազարյան'!J13+'Դ. Բալայան'!J13+'Ն. Բաղդասարյան'!J13+'Ն. Հովսեփյան'!J13+'Ա. Չիչոյան'!J13+'Ա. Կուբանյան'!J13+'Ի. Բարսեղյան'!J13 -> 0 | K13: ='Ա. Ազարյան'!K13+'Դ. Բալայան'!K13+'Ն. Բաղդասարյան'!K13+'Ն. Հովսեփյան'!K13+'Ա. Չիչոյան'!K13+'Ա. Կուբանյան'!K13+'Ի. Բարսեղյան'!K13 -> 0 | ... R13: ='Ա. Ազարյան'!R13+'Դ. Բալայան'!R13+'Ն. Բաղդասարյան'!R13+'Ն. Հովսեփյան'!R13+'Ա. Չիչոյան'!R13+'Ա. Կուբանյան'!R13+'Ի. Բարսեղյան'!R13 -> 0 | T13: =D13+E13 -> 0 | U13: =F13+K13+L13 -> 0 | V13: =K13 -> 0 | W13: =G13+H13+I13+J13 -> 0
A14: 8 | B14: Ñ»é³Ëáu³ÛÇÝ Ï³Ù Ï³åÇ ³ÛÉ ÙÇçáóÝ»ñáí ï³ñíáÕ Ëáu³ÏóáõÃÛáõÝÝ»ñÇ ÉuÙ³Ý ¨ Ó³ÛÝ³·ñ³éÙ³Ý Ù³ëÇÝ ÙÇçÝáñ¹áõÃÛáõÝÝ»ñ | D14: ='Ա. Ազարյան'!D14+'Դ. Բալայան'!D14+'Ն. Բաղդասարյան'!D14+'Ն. Հովսեփյան'!D14+'Ա. Չիչոյան'!D14+'Ա. Կուբանյան'!D14+'Ի. Բարսեղյան'!D14 -> 0 | E14: ='Ա. Ազարյան'!E14+'Դ. Բալայան'!E14+'Ն. Բաղդասարյան'!E14+'Ն. Հովսեփյան'!E14+'Ա. Չիչոյան'!E14+'Ա. Կուբանյան'!E14+'Ի. Բարսեղյան'!E14 -> 3 | F14: ='Ա. Ազարյան'!F14+'Դ. Բալայան'!F14+'Ն. Բաղդասարյան'!F14+'Ն. Հովսեփյան'!F14+'Ա. Չիչոյան'!F14+'Ա. Կուբանյան'!F14+'Ի. Բարսեղյան'!F14 -> 0 | G14: ='Ա. Ազարյան'!G14+'Դ. Բալայան'!G14+'Ն. Բաղդասարյան'!G14+'Ն. Հովսեփյան'!G14+'Ա. Չիչոյան'!G14+'Ա. Կուբանյան'!G14+'Ի. Բարսեղյան'!G14 -> 0 | H14: ='Ա. Ազարյան'!H14+'Դ. Բալայան'!H14+'Ն. Բաղդասարյան'!H14+'Ն. Հովսեփյան'!H14+'Ա. Չիչոյան'!H14+'Ա. Կուբանյան'!H14+'Ի. Բարսեղյան'!H14 -> 1 | I14: ='Ա. Ազարյան'!I14+'Դ. Բալայան'!I14+'Ն. Բաղդասարյան'!I14+'Ն. Հովսեփյան'!I14+'Ա. Չիչոյան'!I14+'Ա. Կուբանյան'!I14+'Ի. Բարսեղյան'!I14 -> 1 | J14: ='Ա. Ազարյան'!J14+'Դ. Բալայան'!J14+'Ն. Բաղդասարյան'!J14+'Ն. Հովսեփյան'!J14+'Ա. Չիչոյան'!J14+'Ա. Կուբանյան'!J14+'Ի. Բարսեղյան'!J14 -> 1 | K14: ='Ա. Ազարյան'!K14+'Դ. Բալայան'!K14+'Ն. Բաղդասարյան'!K14+'Ն. Հովսեփյան'!K14+'Ա. Չիչոյան'!K14+'Ա. Կուբանյան'!K14+'Ի. Բարսեղյան'!K14 -> 3 | ... R14: ='Ա. Ազարյան'!R14+'Դ. Բալայան'!R14+'Ն. Բաղդասարյան'!R14+'Ն. Հովսեփյան'!R14+'Ա. Չիչոյան'!R14+'Ա. Կուբանյան'!R14+'Ի. Բարսեղյան'!R14 -> 0 | T14: =D14+E14 -> 3 | U14: =F14+K14+L14 -> 3 | V14: =K14 -> 3 | W14: =G14+H14+I14+J14 -> 3
A15: 9 | B15: Ñ»é³ËáëÝ»ñÇ Ùáõïù³ÛÇÝ ¨ »Éù³ÛÇÝ í»ñÍ³ÝÙ³Ý ÃáõÛÉïíáõÃÛáõÝ ëï³Ý³Éáõ Ù³ëÇÝ ÙÇçÝáñ¹áõÃÛáõÝÝ»ñ | D15: ='Ա. Ազարյան'!D15+'Դ. Բալայան'!D15+'Ն. Բաղդասարյան'!D15+'Ն. Հովսեփյան'!D15+'Ա. Չիչոյան'!D15+'Ա. Կուբանյան'!D15+'Ի. Բարսեղյան'!D15 -> 0 | E15: ='Ա. Ազարյան'!E15+'Դ. Բալայան'!E15+'Ն. Բաղդասարյան'!E15+'Ն. Հովսեփյան'!E15+'Ա. Չիչոյան'!E15+'Ա. Կուբանյան'!E15+'Ի. Բարսեղյան'!E15 -> 248 | F15: ='Ա. Ազարյան'!F15+'Դ. Բալայան'!F15+'Ն. Բաղդասարյան'!F15+'Ն. Հովսեփյան'!F15+'Ա. Չիչոյան'!F15+'Ա. Կուբանյան'!F15+'Ի. Բարսեղյան'!F15 -> 6 | G15: ='Ա. Ազարյան'!G15+'Դ. Բալայան'!G15+'Ն. Բաղդասարյան'!G15+'Ն. Հովսեփյան'!G15+'Ա. Չիչոյան'!G15+'Ա. Կուբանյան'!G15+'Ի. Բարսեղյան'!G15 -> 7 | H15: ='Ա. Ազարյան'!H15+'Դ. Բալայան'!H15+'Ն. Բաղդասարյան'!H15+'Ն. Հովսեփյան'!H15+'Ա. Չիչոյան'!H15+'Ա. Կուբանյան'!H15+'Ի. Բարսեղյան'!H15 -> 229 | I15: ='Ա. Ազարյան'!I15+'Դ. Բալայան'!I15+'Ն. Բաղդասարյան'!I15+'Ն. Հովսեփյան'!I15+'Ա. Չիչոյան'!I15+'Ա. Կուբանյան'!I15+'Ի. Բարսեղյան'!I15 -> 5 | J15: ='Ա. Ազարյան'!J15+'Դ. Բալայան'!J15+'Ն. Բաղդասարյան'!J15+'Ն. Հովսեփյան'!J15+'Ա. Չիչոյան'!J15+'Ա. Կուբանյան'!J15+'Ի. Բարսեղյան'!J15 -> 1 | K15: ='Ա. Ազարյան'!K15+'Դ. Բալայան'!K15+'Ն. Բաղդասարյան'!K15+'Ն. Հովսեփյան'!K15+'Ա. Չիչոյան'!K15+'Ա. Կուբանյան'!K15+'Ի. Բարսեղյան'!K15 -> 242 | ... R15: ='Ա. Ազարյան'!R15+'Դ. Բալայան'!R15+'Ն. Բաղդասարյան'!R15+'Ն. Հովսեփյան'!R15+'Ա. Չիչոյան'!R15+'Ա. Կուբանյան'!R15+'Ի. Բարսեղյան'!R15 -> 4 | T15: =D15+E15 -> 248 | U15: =F15+K15+L15 -> 248 | V15: =K15 -> 242 | W15: =G15+H15+I15+J15 -> 242
A16: 10 | B16: Ñ»ï³ùÝÝáõÃÛ³Ý Ù³ñÙÝÇ ³ßË³ïáÕÇ, ùÝÝÇãÇ, ¹³ï³Ë³½Ç oå»ñ³ïÇí-Ñ»ï³Ëáõ½³Ï³Ý ·áñÍáÕáõÃÛáõÝÝ»ñ Çñ³Ï³Ý³óÝáÕ Ù³ñÙÇÝÝ»ñÇ ³ÝoñÇÝ³Ï³Ý ¨ ³ÝÑÇÙÝ áñáßáõÙÝ»ñÇ ¨ ·áñÍáÕáõÃÛáõÝÝ»ñÇ ¹»Ù µáÕáùÝ»ñ | D16: ='Ա. Ազարյան'!D16+'Դ. Բալայան'!D16+'Ն. Բաղդասարյան'!D16+'Ն. Հովսեփյան'!D16+'Ա. Չիչոյան'!D16+'Ա. Կուբանյան'!D16+'Ի. Բարսեղյան'!D16 -> 9 | E16: ='Ա. Ազարյան'!E16+'Դ. Բալայան'!E16+'Ն. Բաղդասարյան'!E16+'Ն. Հովսեփյան'!E16+'Ա. Չիչոյան'!E16+'Ա. Կուբանյան'!E16+'Ի. Բարսեղյան'!E16 -> 43 | F16: ='Ա. Ազարյան'!F16+'Դ. Բալայան'!F16+'Ն. Բաղդասարյան'!F16+'Ն. Հովսեփյան'!F16+'Ա. Չիչոյան'!F16+'Ա. Կուբանյան'!F16+'Ի. Բարսեղյան'!F16 -> 1 | G16: ='Ա. Ազարյան'!G16+'Դ. Բալայան'!G16+'Ն. Բաղդասարյան'!G16+'Ն. Հովսեփյան'!G16+'Ա. Չիչոյան'!G16+'Ա. Կուբանյան'!G16+'Ի. Բարսեղյան'!G16 -> 31 | H16: ='Ա. Ազարյան'!H16+'Դ. Բալայան'!H16+'Ն. Բաղդասարյան'!H16+'Ն. Հովսեփյան'!H16+'Ա. Չիչոյան'!H16+'Ա. Կուբանյան'!H16+'Ի. Բարսեղյան'!H16 -> 12 | I16: ='Ա. Ազարյան'!I16+'Դ. Բալայան'!I16+'Ն. Բաղդասարյան'!I16+'Ն. Հովսեփյան'!I16+'Ա. Չիչոյան'!I16+'Ա. Կուբանյան'!I16+'Ի. Բարսեղյան'!I16 -> 0 | J16: ='Ա. Ազարյան'!J16+'Դ. Բալայան'!J16+'Ն. Բաղդասարյան'!J16+'Ն. Հովսեփյան'!J16+'Ա. Չիչոյան'!J16+'Ա. Կուբանյան'!J16+'Ի. Բարսեղյան'!J16 -> 1 | K16: ='Ա. Ազարյան'!K16+'Դ. Բալայան'!K16+'Ն. Բաղդասարյան'!K16+'Ն. Հովսեփյան'!K16+'Ա. Չիչոյան'!K16+'Ա. Կուբանյան'!K16+'Ի. Բարսեղյան'!K16 -> 44 | ... R16: ='Ա. Ազարյան'!R16+'Դ. Բալայան'!R16+'Ն. Բաղդասարյան'!R16+'Ն. Հովսեփյան'!R16+'Ա. Չիչոյան'!R16+'Ա. Կուբանյան'!R16+'Ի. Բարսեղյան'!R16 -> 16 | T16: =D16+E16 -> 52 | U16: =F16+K16+L16 -> 52 | V16: =K16 -> 44 | W16: =G16+H16+I16+J16 -> 44
A17: 2. ¸³ï³Ï³Ý ³Ïï»ñÇ ¨ ¹³ï³Ï³Ý Ñ³ÝÓÝ³ñ³ñáõÃÛáõÝÝ»ñÇ Ï³ï³ñÙ³Ý Ñ»ï Ï³åí³Í Ñ³ñó»ñÇ ÉáõÍÙ³Ý áÉáñï
A18: 1 | B18: å³ïÅÇó å³ÛÙ³Ý³Ï³Ý í³Õ³Å³ÙÏ»ï ³½³ï»Éáõ Ù³ëÇÝ ÙÇçÝáñ¹áõÃÛáõÝÝ»ñ | D18: ='Ա. Ազարյան'!D18+'Դ. Բալայան'!D18+'Ն. Բաղդասարյան'!D18+'Ն. Հովսեփյան'!D18+'Ա. Չիչոյան'!D18+'Ա. Կուբանյան'!D18+'Ի. Բարսեղյան'!D18 -> 0 | E18: ='Ա. Ազարյան'!E18+'Դ. Բալայան'!E18+'Ն. Բաղդասարյան'!E18+'Ն. Հովսեփյան'!E18+'Ա. Չիչոյան'!E18+'Ա. Կուբանյան'!E18+'Ի. Բարսեղյան'!E18 -> 0 | F18: ='Ա. Ազարյան'!F18+'Դ. Բալայան'!F18+'Ն. Բաղդասարյան'!F18+'Ն. Հովսեփյան'!F18+'Ա. Չիչոյան'!F18+'Ա. Կուբանյան'!F18+'Ի. Բարսեղյան'!F18 -> 0 | G18: ='Ա. Ազարյան'!G18+'Դ. Բալայան'!G18+'Ն. Բաղդասարյան'!G18+'Ն. Հովսեփյան'!G18+'Ա. Չիչոյան'!G18+'Ա. Կուբանյան'!G18+'Ի. Բարսեղյան'!G18 -> 0 | H18: ='Ա. Ազարյան'!H18+'Դ. Բալայան'!H18+'Ն. Բաղդասարյան'!H18+'Ն. Հովսեփյան'!H18+'Ա. Չիչոյան'!H18+'Ա. Կուբանյան'!H18+'Ի. Բարսեղյան'!H18 -> 0 | I18: ='Ա. Ազարյան'!I18+'Դ. Բալայան'!I18+'Ն. Բաղդասարյան'!I18+'Ն. Հովսեփյան'!I18+'Ա. Չիչոյան'!I18+'Ա. Կուբանյան'!I18+'Ի. Բարսեղյան'!I18 -> 0 | J18: ='Ա. Ազարյան'!J18+'Դ. Բալայան'!J18+'Ն. Բաղդասարյան'!J18+'Ն. Հովսեփյան'!J18+'Ա. Չիչոյան'!J18+'Ա. Կուբանյան'!J18+'Ի. Բարսեղյան'!J18 -> 0 | K18: ='Ա. Ազարյան'!K18+'Դ. Բալայան'!K18+'Ն. Բաղդասարյան'!K18+'Ն. Հովսեփյան'!K18+'Ա. Չիչոյան'!K18+'Ա. Կուբանյան'!K18+'Ի. Բարսեղյան'!K18 -> 0 | ... R18: ='Ա. Ազարյան'!R18+'Դ. Բալայան'!R18+'Ն. Բաղդասարյան'!R18+'Ն. Հովսեփյան'!R18+'Ա. Չիչոյան'!R18+'Ա. Կուբանյան'!R18+'Ի. Բարսեղյան'!R18 -> 0 | T18: =D18+E18 -> 0 | U18: =F18+K18+L18 -> 0 | V18: =K18 -> 0 | W18: =G18+H18+I18+J18 -> 0
A19: 2 | B19: å³ïÇÅÁ ÷á÷áË»Éáõ, Ñ»ï³Ó·»Éáõ ¨ å³ïÅÇó ³½³ï»Éáõ Ù³uÇÝ ÙÇçÝáñ¹áõÃÛáõÝÝ»ñ | D19: ='Ա. Ազարյան'!D19+'Դ. Բալայան'!D19+'Ն. Բաղդասարյան'!D19+'Ն. Հովսեփյան'!D19+'Ա. Չիչոյան'!D19+'Ա. Կուբանյան'!D19+'Ի. Բարսեղյան'!D19 -> 4 | E19: ='Ա. Ազարյան'!E19+'Դ. Բալայան'!E19+'Ն. Բաղդասարյան'!E19+'Ն. Հովսեփյան'!E19+'Ա. Չիչոյան'!E19+'Ա. Կուբանյան'!E19+'Ի. Բարսեղյան'!E19 -> 27 | F19: ='Ա. Ազարյան'!F19+'Դ. Բալայան'!F19+'Ն. Բաղդասարյան'!F19+'Ն. Հովսեփյան'!F19+'Ա. Չիչոյան'!F19+'Ա. Կուբանյան'!F19+'Ի. Բարսեղյան'!F19 -> 0 | G19: ='Ա. Ազարյան'!G19+'Դ. Բալայան'!G19+'Ն. Բաղդասարյան'!G19+'Ն. Հովսեփյան'!G19+'Ա. Չիչոյան'!G19+'Ա. Կուբանյան'!G19+'Ի. Բարսեղյան'!G19 -> 4 | H19: ='Ա. Ազարյան'!H19+'Դ. Բալայան'!H19+'Ն. Բաղդասարյան'!H19+'Ն. Հովսեփյան'!H19+'Ա. Չիչոյան'!H19+'Ա. Կուբանյան'!H19+'Ի. Բարսեղյան'!H19 -> 22 | I19: ='Ա. Ազարյան'!I19+'Դ. Բալայան'!I19+'Ն. Բաղդասարյան'!I19+'Ն. Հովսեփյան'!I19+'Ա. Չիչոյան'!I19+'Ա. Կուբանյան'!I19+'Ի. Բարսեղյան'!I19 -> 0 | J19: ='Ա. Ազարյան'!J19+'Դ. Բալայան'!J19+'Ն. Բաղդասարյան'!J19+'Ն. Հովսեփյան'!J19+'Ա. Չիչոյան'!J19+'Ա. Կուբանյան'!J19+'Ի. Բարսեղյան'!J19 -> 4 | K19: ='Ա. Ազարյան'!K19+'Դ. Բալայան'!K19+'Ն. Բաղդասարյան'!K19+'Ն. Հովսեփյան'!K19+'Ա. Չիչոյան'!K19+'Ա. Կուբանյան'!K19+'Ի. Բարսեղյան'!K19 -> 30 | ... R19: ='Ա. Ազարյան'!R19+'Դ. Բալայան'!R19+'Ն. Բաղդասարյան'!R19+'Ն. Հովսեփյան'!R19+'Ա. Չիչոյան'!R19+'Ա. Կուբանյան'!R19+'Ի. Բարսեղյան'!R19 -> 0 | T19: =D19+E19 -> 31 | U19: =F19+K19+L19 -> 31 | V19: =K19 -> 30 | W19: =G19+H19+I19+J19 -> 30
A20: 3 | B20: Ñ³ñÏ³¹Çñ µáõÅÙ³Ý ï»ë³ÏÇ ÷á÷áËáõÃÛ³Ý Ù³ëÇÝ ÙÇçÝáñ¹áõÃÛáõÝÝ»ñ | D20: ='Ա. Ազարյան'!D20+'Դ. Բալայան'!D20+'Ն. Բաղդասարյան'!D20+'Ն. Հովսեփյան'!D20+'Ա. Չիչոյան'!D20+'Ա. Կուբանյան'!D20+'Ի. Բարսեղյան'!D20 -> 0 | E20: ='Ա. Ազարյան'!E20+'Դ. Բալայան'!E20+'Ն. Բաղդասարյան'!E20+'Ն. Հովսեփյան'!E20+'Ա. Չիչոյան'!E20+'Ա. Կուբանյան'!E20+'Ի. Բարսեղյան'!E20 -> 0 | F20: ='Ա. Ազարյան'!F20+'Դ. Բալայան'!F20+'Ն. Բաղդասարյան'!F20+'Ն. Հովսեփյան'!F20+'Ա. Չիչոյան'!F20+'Ա. Կուբանյան'!F20+'Ի. Բարսեղյան'!F20 -> 0 | G20: ='Ա. Ազարյան'!G20+'Դ. Բալայան'!G20+'Ն. Բաղդասարյան'!G20+'Ն. Հովսեփյան'!G20+'Ա. Չիչոյան'!G20+'Ա. Կուբանյան'!G20+'Ի. Բարսեղյան'!G20 -> 0 | H20: ='Ա. Ազարյան'!H20+'Դ. Բալայան'!H20+'Ն. Բաղդասարյան'!H20+'Ն. Հովսեփյան'!H20+'Ա. Չիչոյան'!H20+'Ա. Կուբանյան'!H20+'Ի. Բարսեղյան'!H20 -> 0 | I20: ='Ա. Ազարյան'!I20+'Դ. Բալայան'!I20+'Ն. Բաղդասարյան'!I20+'Ն. Հովսեփյան'!I20+'Ա. Չիչոյան'!I20+'Ա. Կուբանյան'!I20+'Ի. Բարսեղյան'!I20 -> 0 | J20: ='Ա. Ազարյան'!J20+'Դ. Բալայան'!J20+'Ն. Բաղդասարյան'!J20+'Ն. Հովսեփյան'!J20+'Ա. Չիչոյան'!J20+'Ա. Կուբանյան'!J20+'Ի. Բարսեղյան'!J20 -> 0 | K20: ='Ա. Ազարյան'!K20+'Դ. Բալայան'!K20+'Ն. Բաղդասարյան'!K20+'Ն. Հովսեփյան'!K20+'Ա. Չիչոյան'!K20+'Ա. Կուբանյան'!K20+'Ի. Բարսեղյան'!K20 -> 0 | ... R20: ='Ա. Ազարյան'!R20+'Դ. Բալայան'!R20+'Ն. Բաղդասարյան'!R20+'Ն. Հովսեփյան'!R20+'Ա. Չիչոյան'!R20+'Ա. Կուբանյան'!R20+'Ի. Բարսեղյան'!R20 -> 0 | T20: =D20+E20 -> 0 | U20: =F20+K20+L20 -> 0 | V20: =K20 -> 0 | W20: =G20+H20+I20+J20 -> 0
A21: 4 | B21: ³ÛÉ ÙÇçÝáñ¹áõÃÛáõÝÝ»ñ | D21: ='Ա. Ազարյան'!D21+'Դ. Բալայան'!D21+'Ն. Բաղդասարյան'!D21+'Ն. Հովսեփյան'!D21+'Ա. Չիչոյան'!D21+'Ա. Կուբանյան'!D21+'Ի. Բարսեղյան'!D21 -> 0 | E21: ='Ա. Ազարյան'!E21+'Դ. Բալայան'!E21+'Ն. Բաղդասարյան'!E21+'Ն. Հովսեփյան'!E21+'Ա. Չիչոյան'!E21+'Ա. Կուբանյան'!E21+'Ի. Բարսեղյան'!E21 -> 27 | F21: ='Ա. Ազարյան'!F21+'Դ. Բալայան'!F21+'Ն. Բաղդասարյան'!F21+'Ն. Հովսեփյան'!F21+'Ա. Չիչոյան'!F21+'Ա. Կուբանյան'!F21+'Ի. Բարսեղյան'!F21 -> 0 | G21: ='Ա. Ազարյան'!G21+'Դ. Բալայան'!G21+'Ն. Բաղդասարյան'!G21+'Ն. Հովսեփյան'!G21+'Ա. Չիչոյան'!G21+'Ա. Կուբանյան'!G21+'Ի. Բարսեղյան'!G21 -> 4 | H21: ='Ա. Ազարյան'!H21+'Դ. Բալայան'!H21+'Ն. Բաղդասարյան'!H21+'Ն. Հովսեփյան'!H21+'Ա. Չիչոյան'!H21+'Ա. Կուբանյան'!H21+'Ի. Բարսեղյան'!H21 -> 18 | I21: ='Ա. Ազարյան'!I21+'Դ. Բալայան'!I21+'Ն. Բաղդասարյան'!I21+'Ն. Հովսեփյան'!I21+'Ա. Չիչոյան'!I21+'Ա. Կուբանյան'!I21+'Ի. Բարսեղյան'!I21 -> 2 | J21: ='Ա. Ազարյան'!J21+'Դ. Բալայան'!J21+'Ն. Բաղդասարյան'!J21+'Ն. Հովսեփյան'!J21+'Ա. Չիչոյան'!J21+'Ա. Կուբանյան'!J21+'Ի. Բարսեղյան'!J21 -> 3 | K21: ='Ա. Ազարյան'!K21+'Դ. Բալայան'!K21+'Ն. Բաղդասարյան'!K21+'Ն. Հովսեփյան'!K21+'Ա. Չիչոյան'!K21+'Ա. Կուբանյան'!K21+'Ի. Բարսեղյան'!K21 -> 27 | ... R21: ='Ա. Ազարյան'!R21+'Դ. Բալայան'!R21+'Ն. Բաղդասարյան'!R21+'Ն. Հովսեփյան'!R21+'Ա. Չիչոյան'!R21+'Ա. Կուբանյան'!R21+'Ի. Բարսեղյան'!R21 -> 1 | T21: =D21+E21 -> 27 | U21: =F21+K21+L21 -> 27 | V21: =K21 -> 27 | W21: =G21+H21+I21+J21 -> 27
A22: 5 | B22: ¹³ï³Ï³Ý Ñ³ÝÓÝ³ñ³ñáõÃÛáõÝÝ»ñ | D22: ='Ա. Ազարյան'!D22+'Դ. Բալայան'!D22+'Ն. Բաղդասարյան'!D22+'Ն. Հովսեփյան'!D22+'Ա. Չիչոյան'!D22+'Ա. Կուբանյան'!D22+'Ի. Բարսեղյան'!D22 -> 2 | E22: ='Ա. Ազարյան'!E22+'Դ. Բալայան'!E22+'Ն. Բաղդասարյան'!E22+'Ն. Հովսեփյան'!E22+'Ա. Չիչոյան'!E22+'Ա. Կուբանյան'!E22+'Ի. Բարսեղյան'!E22 -> 19 | F22: ='Ա. Ազարյան'!F22+'Դ. Բալայան'!F22+'Ն. Բաղդասարյան'!F22+'Ն. Հովսեփյան'!F22+'Ա. Չիչոյան'!F22+'Ա. Կուբանյան'!F22+'Ի. Բարսեղյան'!F22 -> 0 | G22: ='Ա. Ազարյան'!G22+'Դ. Բալայան'!G22+'Ն. Բաղդասարյան'!G22+'Ն. Հովսեփյան'!G22+'Ա. Չիչոյան'!G22+'Ա. Կուբանյան'!G22+'Ի. Բարսեղյան'!G22 -> 1 | H22: ='Ա. Ազարյան'!H22+'Դ. Բալայան'!H22+'Ն. Բաղդասարյան'!H22+'Ն. Հովսեփյան'!H22+'Ա. Չիչոյան'!H22+'Ա. Կուբանյան'!H22+'Ի. Բարսեղյան'!H22 -> 8 | I22: ='Ա. Ազարյան'!I22+'Դ. Բալայան'!I22+'Ն. Բաղդասարյան'!I22+'Ն. Հովսեփյան'!I22+'Ա. Չիչոյան'!I22+'Ա. Կուբանյան'!I22+'Ի. Բարսեղյան'!I22 -> 0 | J22: ='Ա. Ազարյան'!J22+'Դ. Բալայան'!J22+'Ն. Բաղդասարյան'!J22+'Ն. Հովսեփյան'!J22+'Ա. Չիչոյան'!J22+'Ա. Կուբանյան'!J22+'Ի. Բարսեղյան'!J22 -> 0 | K22: ='Ա. Ազարյան'!K22+'Դ. Բալայան'!K22+'Ն. Բաղդասարյան'!K22+'Ն. Հովսեփյան'!K22+'Ա. Չիչոյան'!K22+'Ա. Կուբանյան'!K22+'Ի. Բարսեղյան'!K22 -> 9 | ... R22: ='Ա. Ազարյան'!R22+'Դ. Բալայան'!R22+'Ն. Բաղդասարյան'!R22+'Ն. Հովսեփյան'!R22+'Ա. Չիչոյան'!R22+'Ա. Կուբանյան'!R22+'Ի. Բարսեղյան'!R22 -> 0 | T22: =D22+E22 -> 21 | U22: =F22+K22+L22 -> 21 | V22: =K22 -> 9 | W22: =G22+H22+I22+J22 -> 9
A23: ÀÜ¸²ØºÜÀ | D23: ='Ա. Ազարյան'!D23+'Դ. Բալայան'!D23+'Ն. Բաղդասարյան'!D23+'Ն. Հովսեփյան'!D23+'Ա. Չիչոյան'!D23+'Ա. Կուբանյան'!D23+'Ի. Բարսեղյան'!D23 -> 16 | E23: ='Ա. Ազարյան'!E23+'Դ. Բալայան'!E23+'Ն. Բաղդասարյան'!E23+'Ն. Հովսեփյան'!E23+'Ա. Չիչոյան'!E23+'Ա. Կուբանյան'!E23+'Ի. Բարսեղյան'!E23 -> 808 | F23: ='Ա. Ազարյան'!F23+'Դ. Բալայան'!F23+'Ն. Բաղդասարյան'!F23+'Ն. Հովսեփյան'!F23+'Ա. Չիչոյան'!F23+'Ա. Կուբանյան'!F23+'Ի. Բարսեղյան'!F23 -> 11 | G23: ='Ա. Ազարյան'!G23+'Դ. Բալայան'!G23+'Ն. Բաղդասարյան'!G23+'Ն. Հովսեփյան'!G23+'Ա. Չիչոյան'!G23+'Ա. Կուբանյան'!G23+'Ի. Բարսեղյան'!G23 -> 127 | H23: ='Ա. Ազարյան'!H23+'Դ. Բալայան'!H23+'Ն. Բաղդասարյան'!H23+'Ն. Հովսեփյան'!H23+'Ա. Չիչոյան'!H23+'Ա. Կուբանյան'!H23+'Ի. Բարսեղյան'!H23 -> 627 | I23: ='Ա. Ազարյան'!I23+'Դ. Բալայան'!I23+'Ն. Բաղդասարյան'!I23+'Ն. Հովսեփյան'!I23+'Ա. Չիչոյան'!I23+'Ա. Կուբանյան'!I23+'Ի. Բարսեղյան'!I23 -> 28 | J23: ='Ա. Ազարյան'!J23+'Դ. Բալայան'!J23+'Ն. Բաղդասարյան'!J23+'Ն. Հովսեփյան'!J23+'Ա. Չիչոյան'!J23+'Ա. Կուբանյան'!J23+'Ի. Բարսեղյան'!J23 -> 11 | K23: ='Ա. Ազարյան'!K23+'Դ. Բալայան'!K23+'Ն. Բաղդասարյան'!K23+'Ն. Հովսեփյան'!K23+'Ա. Չիչոյան'!K23+'Ա. Կուբանյան'!K23+'Ի. Բարսեղյան'!K23 -> 793 | ... R23: ='Ա. Ազարյան'!R23+'Դ. Բալայան'!R23+'Ն. Բաղդասարյան'!R23+'Ն. Հովսեփյան'!R23+'Ա. Չիչոյան'!R23+'Ա. Կուբանյան'!R23+'Ի. Բարսեղյան'!R23 -> 55 | T23: =D23+E23 -> 824 | U23: =F23+K23+L23 -> 824 | V23: =K23 -> 793 | W23: =G23+H23+I23+J23 -> 793

Sheet Ա. Ազարյան
A1: 2015Ã. | D1: Ð²ÞìºîìàôÂÚàôÜ | P1: Ð³í»Éí³Í Ð³Û³ëï³ÝÇ Ð³Ýñ³å»ïáõÃÛ³Ý ¸³ï³ñ³ÝÝ»ñÇ Ý³Ë³·³ÑÝ»ñÇ ËáñÑñ¹Ç 01.02.2016Ã. ÃÇí 11È áñáßÙ³Ý
A2: ØÇÝã¹³ï³Ï³Ý í³ñáõÛÃÇ ÝÏ³ïÙ³Ùµ ¹³ï³Ï³Ý í»ñ³ÑëÏáÕáõÃÛ³ÝÁ, ¹³ï³Ï³Ý ³Ïï»ñÇ ¨ ¹³ï³Ï³Ý Ñ³ÝÓÝ³ñ³ñáõÃÛáõÝÝ»ñÇ Ï³ï³ñÙ³Ý Ñ»ï Ï³åí³Í ÙÇçÝáñ¹áõÃÛáõÝÝ»ñÇ í»ñ³µ»ñÛ³É ¹³ï³Ï³Ý ·áñÍ»ñáí ºñ¨³Ý ù³Õ³ùÇ Þ»Ý·³íÇÃ í³ñã³Ï³Ý ßñç³ÝÇ ÁÝ¹Ñ³Ýáõñ Çñ³í³ëáõÃÛ³Ý ³é³çÇÝ ³ïÛ³ÝÇ ¹³ï³ñ³ÝÇ ¹³ï³íáñ Ա. Ազարյանի ·áñÍáõÝ»áõÃÛ³Ý í»ñ³µ»ñÛ³É
A3: êïáõ·Çã Ñ³í³ë³ñáõÙ` 1+2=3+8+9, 8=4+5+6+7, | D3: Ð³ßí»ïáõ Å³Ù³Ý³Ï³Ñ³ïí³ÍÇ ëÏ½µáõÙ Ý³Ëáñ¹ Ñ³ßí»ïáõ Å³Ù³Ý³Ï³Ñ³ïí³ÍÇó ÷áË³Ýóí³Í ·áñÍ»ñÇ ÁÝ¹Ñ³Ýáõñ ÃÇíÁ | E3: Ð³ßí»ïáõ Å³Ù³Ý³Ï³Ñ³ïí³ÍáõÙ ëï³óí³Í ·áñÍ»ñÇ ÁÝ¹Ñ³Ýáõñ ÃÇíÁ | F3: öáË³Ýóí»É ¿ ³ÛÉ ¹³ï³íáñÇ Ï³Ù ³ÛÉ ¹³ï³ñ³Ý (Ï³½ÙÇ ÷á÷áËáõÃÛáõÝ, ÁÝ¹¹³ïáõÃÛáõÝ) | G3: Ð³ßí»ïáõ Å³Ù³Ý³Ï³Ñ³ïí³ÍáõÙ ³í³ñïí³Í ·áñÍ»ñÇ ÁÝ¹Ñ³Ýáõñ ÃÇíÁ | L3: Ð³ßí»ïáõ Å³Ù³Ý³Ï³Ñ³ïí³ÍáõÙ ³Ý³í³ñï ·áñÍ»ñÇ ÁÝ¹Ñ³Ýáõñ ÃÇíÁ | M3: ØÇçÝáñ¹áõÃÛáõÝÝ»ñáí Ï³Û³óí³Í ¹³ï³Ï³Ý ³Ïï»ñÇó µáÕáù³ñÏí³ÍÝ»ñÇ ù³Ý³ÏÁ | O3: ²Ý³í³ñï µáÕáùÝ»ñ | P3: ØÇçÝáñ¹áõÃÛáõÝÝ»ñáí Ï³Û³óí³Í ¨ µáÕáù³ñÏí³Í ¹³ï³Ï³Ý ³Ïï»ñÇó µ»Ï³Ýí³ÍÝ»ñÇ ù³Ý³ÏÁ | R3: ÙÇçÝáñ¹áõÃÛáõÝÝ»ñáí Ï³Û³óí³Í ¨ µáÕáù³ñÏí³Í ¹³ï³Ï³Ý ³Ïï»ñÇó ³Ý÷á÷áË ÃáÕÝí³ÍÝ»ñÇ ù³Ý³ÏÁ
G4: Ù»ñÅí»É ¿ | H4: µ³í³ñ³ñí»É ¿ | I4: µ³í³ñ³ñí»É ¿ Ù³ëÝ³ÏÇ | J4: ÃáÕÝí»É ¿ ³é³Ýó ùÝÝáõÃÛ³Ý | K4: ÀÝ¹³Ù»ÝÁ
M5: Ý³Ëáñ¹ ï³ñÇÝ»ñÇÝ Ï³Û³óí³Í ³Ïï»ñÇ ¹»Ù | N5: Ñ³ßí»ïáõ Å³Ù³Ý³Ï³ßñç³ÝáõÙ Ï³Û³óí³Í ³Ïï»ñÇ ¹»Ù | P5: Ý³Ëáñ¹ ï³ñÇÝ»ñÇÝ Ï³Û³óí³Í ³Ïï»ñÇ µ»Ï³ÝáõÙÝ»ñÁ | Q5: Ñ³ßí»ïáõ Å³Ù³Ý³Ï³ßñç³ÝáõÙ Ï³Û³óí³Í ³Ïï»ñÇ µ»Ï³ÝáõÙÝ»ñÁ
A6: 1. ØÇÝã¹³ï³Ï³Ý í³ñáõÛÃÇ ÝÏ³ïÙ³Ùµ ¹³ï³Ï³Ý í»ñ³ÑëÏáÕáõÃÛ³Ý áÉáñï | D6: 1 | E6: 2 | F6: 3 | G6: 4 | H6: 5 | I6: 6 | J6: 7 | K6: 8 | L6: 9 | M6: 10 | N6: 11 | O6: 12 | P6: 13 | Q6: 14 | R6: 15 | T6: 1+2=3+8+9 | V6: 8=4+5+6+7
A7: 1 | B7: Ï³É³ÝùÁ áñå»ë Ë³÷³ÝÙ³Ý ÙÇçáó ÏÇñ³é»Éáõ Ù³ëÇÝ ÙÇçÝáñ¹áõÃÛáõÝÝ»ñ | E7: 25 | F7: 1 | G7: 2 | H7: 22 | K7: 24 | N7: 5 | Q7: 2 | R7: 3 | T7: =D7+E7 -> 25 | U7: =F7+K7+L7 -> 25 | V7: =K7 -> 24 | W7: =G7+H7+I7+J7 -> 24
A8: 2 | B8: Ï³É³ÝùÇ Å³ÙÏ»ïÁ »ñÏ³ñ³óÝ»Éáõ Ù³ëÇÝ ÙÇçÝáñ¹áõÃÛáõÝÝ»ñ | D8: 1 | E8: 43 | G8: 2 | H8: 41 | I8: 1 | K8: 44 | N8: 9 | O8: 2 | Q8: 1 | R8: 6 | T8: =D8+E8 -> 44 | U8: =F8+K8+L8 -> 44 | V8: =K8 -> 44 | W8: =G8+H8+I8+J8 -> 44
A9: 3 | B9: Ï³É³ÝùÇ í»ñ³Ñ³ëï³ïÙ³Ý Ù³ëÇÝ ÙÇçÝáñ¹áõÃÛáõÝÝ»ñ | E9: 6 | H9: 6 | K9: 6 | N9: 1 | R9: 1 | T9: =D9+E9 -> 6 | U9: =F9+K9+L9 -> 6 | V9: =K9 -> 6 | W9: =G9+H9+I9+J9 -> 6
A10: 4 | B10: ·ñ³íÁ áñå»ë Ï³É³Ý³íáñÙ³Ý ³ÛÉÁÝïñ³Ýù³ÛÇÝ Ë³÷³ÝÙ³Ý ÙÇçáó ÏÇñ³é»Éáõ Ù³ëÇÝ ÙÇçÝáñ¹áõÃÛáõÝÝ»ñ | E10: 26 | G10: 22 | H10: 4 | K10: 26 | N10: 2 | O10: 1 | R10: 1 | T10: =D10+E10 -> 26 | U10: =F10+K10+L10 -> 26 | V10: =K10 -> 26 | W10: =G10+H10+I10+J10 -> 26
A11: 5 | B11: Ëáõ½³ñÏáõÃÛ³Ý Ï³ï³ñÙ³Ý Ù³ëÇÝ ÙÇçÝáñ¹áõÃÛáõÝÝ»ñ | E11: 50 | H11: 50 | K11: 50 | P11: 1 | T11: =D11+E11 -> 50 | U11: =F11+K11+L11 -> 50 | V11: =K11 -> 50 | W11: =G11+H11+I11+J11 -> 50
A12: 6 | B12: µ³ÝÏ³ÛÇÝ, ³å³Ñáí³·ñ³Ï³Ý, Ýáï³ñ³Ï³Ý ·³ÕïÝÇù Ï³½ÙáÕ ï»Õ»ÏáõÃÛáõÝÝ»ñÇ ëï³óÙ³Ý Ñ³Ù³ñ Ëáõ½³ñÏáõÃÛ³Ý Ï³Ù ³é·ñ³íÙ³Ý Ï³ï³ñÙ³Ý Ù³ëÇÝ ÙÇçÝáñ¹áõÃÛáõÝÝ»ñ | E12: 6 | H12: 4 | I12: 2 | K12: 6 | T12: =D12+E12 -> 6 | U12: =F12+K12+L12 -> 6 | V12: =K12 -> 6 | W12: =G12+H12+I12+J12 -> 6
A13: 7 | B13: Ý³Ù³Ï³·ñáõÃÛ³Ý, Ñ»é³·ñ³Ï³Ý, ÷áuï³ÛÇÝ Ñ³Õáñ¹áõÙÝ»ñÇ ÑëÏáÕáõÃÛ³Ý Ù³ëÇÝ ÙÇçÝáñ¹áõÃÛáõÝÝ»ñ | T13: =D13+E13 -> 0 | U13: =F13+K13+L13 -> 0 | V13: =K13 -> 0 | W13: =G13+H13+I13+J13 -> 0
A14: 8 | B14: Ñ»é³Ëáu³ÛÇÝ Ï³Ù Ï³åÇ ³ÛÉ ÙÇçáóÝ»ñáí ï³ñíáÕ Ëáu³ÏóáõÃÛáõÝÝ»ñÇ ÉuÙ³Ý ¨ Ó³ÛÝ³·ñ³éÙ³Ý Ù³ëÇÝ ÙÇçÝáñ¹áõÃÛáõÝÝ»ñ | T14: =D14+E14 -> 0 | U14: =F14+K14+L14 -> 0 | V14: =K14 -> 0 | W14: =G14+H14+I14+J14 -> 0
A15: 9 | B15: Ñ»é³ËáëÝ»ñÇ Ùáõïù³ÛÇÝ ¨ »Éù³ÛÇÝ í»ñÍ³ÝÙ³Ý ÃáõÛÉïíáõÃÛáõÝ ëï³Ý³Éáõ Ù³ëÇÝ ÙÇçÝáñ¹áõÃÛáõÝÝ»ñ | E15: 55 | F15: 2 | H15: 52 | I15: 1 | K15: 53 | N15: 1 | R15: 1 | T15: =D15+E15 -> 55 | U15: =F15+K15+L15 -> 55 | V15: =K15 -> 53 | W15: =G15+H15+I15+J15 -> 53
A16: 10 | B16: Ñ»ï³ùÝÝáõÃÛ³Ý Ù³ñÙÝÇ ³ßË³ïáÕÇ, ùÝÝÇãÇ, ¹³ï³Ë³½Ç oå»ñ³ïÇí-Ñ»ï³Ëáõ½³Ï³Ý ·áñÍáÕáõÃÛáõÝÝ»ñ Çñ³Ï³Ý³óÝáÕ Ù³ñÙÇÝÝ»ñÇ ³ÝoñÇÝ³Ï³Ý ¨ ³ÝÑÇÙÝ áñáßáõÙÝ»ñÇ ¨ ·áñÍáÕáõÃÛáõÝÝ»ñÇ ¹»Ù µáÕáùÝ»ñ | D16: 3 | E16: 19 | F16: 1 | G16: 14 | H16: 5 | K16: 19 | L16: 2 | N16: 14 | O16: 3 | Q16: 4 | R16: 10 | T16: =D16+E16 -> 22 | U16: =F16+K16+L16 -> 22 | V16: =K16 -> 19 | W16: =G16+H16+I16+J16 -> 19
A17: 2. ¸³ï³Ï³Ý ³Ïï»ñÇ ¨ ¹³ï³Ï³Ý Ñ³ÝÓÝ³ñ³ñáõÃÛáõÝÝ»ñÇ Ï³ï³ñÙ³Ý Ñ»ï Ï³åí³Í Ñ³ñó»ñÇ ÉáõÍÙ³Ý áÉáñï
A18: 1 | B18: å³ïÅÇó å³ÛÙ³Ý³Ï³Ý í³Õ³Å³ÙÏ»ï ³½³ï»Éáõ Ù³ëÇÝ ÙÇçÝáñ¹áõÃÛáõÝÝ»ñ | T18: =J18+K18 -> 0 | U18: =F18+K18+L18 -> 0 | V18: =P18 -> 0 | W18: =L18+M18+N18+O18 -> 0
A19: 2 | B19: å³ïÇÅÁ ÷á÷áË»Éáõ, Ñ»ï³Ó·»Éáõ ¨ å³ïÅÇó ³½³ï»Éáõ Ù³uÇÝ ÙÇçÝáñ¹áõÃÛáõÝÝ»ñ | D19: 3 | E19: 10 | G19: 1 | H19: 10 | J19: 1 | K19: 12 | L19: 1 | T19: =J19+K19 -> 13 | U19: =F19+K19+L19 -> 13 | V19: =P19 -> 0 | W19: =L19+M19+N19+O19 -> 1
A20: 3 | B20: Ñ³ñÏ³¹Çñ µáõÅÙ³Ý ï»ë³ÏÇ ÷á÷áËáõÃÛ³Ý Ù³ëÇÝ ÙÇçÝáñ¹áõÃÛáõÝÝ»ñ | T20: =J20+K20 -> 0 | U20: =F20+K20+L20 -> 0 | V20: =P20 -> 0 | W20: =L20+M20+N20+O20 -> 0
A21: 4 | B21: ³ÛÉ ÙÇçÝáñ¹áõÃÛáõÝÝ»ñ | E21: 10 | G21: 1 | H21: 7 | I21: 1 | J21: 1 | K21: 10 | T21: =J21+K21 -> 11 | U21: =F21+K21+L21 -> 10 | V21: =P21 -> 0 | W21: =L21+M21+N21+O21 -> 0
A22: 5 | B22: ¹³ï³Ï³Ý Ñ³ÝÓÝ³ñ³ñáõÃÛáõÝÝ»ñ | E22: 5 | H22: 4 | K22: 4 | L22: 1 | T22: =J22+K22 -> 4 | U22: =F22+K22+L22 -> 5 | V22: =P22 -> 0 | W22: =L22+M22+N22+O22 -> 1
A23: ÀÜ¸²ØºÜÀ | D23: =D7+D8+D9+D10+D11+D12+D13+D14+D15+D16+D18+D19+D20+D21+D22 -> 7 | E23: =E7+E8+E9+E10+E11+E12+E13+E14+E15+E16+E18+E19+E20+E21+E22 -> 255 | F23: =F7+F8+F9+F10+F11+F12+F13+F14+F15+F16+F18+F19+F20+F21+F22 -> 4 | G23: =G7+G8+G9+G10+G11+G12+G13+G14+G15+G16+G18+G19+G20+G21+G22 -> 42 | H23: =H7+H8+H9+H10+H11+H12+H13+H14+H15+H16+H18+H19+H20+H21+H22 -> 205 | I23: =I7+I8+I9+I10+I11+I12+I13+I14+I15+I16+I18+I19+I20+I21+I22 -> 5 | J23: =J7+J8+J9+J10+J11+J12+J13+J14+J15+J16+J18+J19+J20+J21+J22 -> 2 | K23: =K7+K8+K9+K10+K11+K12+K13+K14+K15+K16+K18+K19+K20+K21+K22 -> 254 | ... R23: =R7+R8+R9+R10+R11+R12+R13+R14+R15+R16+R18+R19+R20+R21+R22 -> 22 | T23: =SUM(T7:T16,T18:T22) -> 262 | U23: =F23+K23+L23 -> 262 | V23: =SUM(V7:V16,V18:V22) -> 228 | W23: =SUM(W7:W16,W18:W22) -> 230

Sheet Դ. Բալայան
A1: 2015Ã. | D1: Ð²ÞìºîìàôÂÚàôÜ | P1: Ð³í»Éí³Í Ð³Û³ëï³ÝÇ Ð³Ýñ³å»ïáõÃÛ³Ý ¸³ï³ñ³ÝÝ»ñÇ Ý³Ë³·³ÑÝ»ñÇ ËáñÑñ¹Ç 01.02.2016Ã. ÃÇí 11È áñáßÙ³Ý
A2: ØÇÝã¹³ï³Ï³Ý í³ñáõÛÃÇ ÝÏ³ïÙ³Ùµ ¹³ï³Ï³Ý í»ñ³ÑëÏáÕáõÃÛ³ÝÁ, ¹³ï³Ï³Ý ³Ïï»ñÇ ¨ ¹³ï³Ï³Ý Ñ³ÝÓÝ³ñ³ñáõÃÛáõÝÝ»ñÇ Ï³ï³ñÙ³Ý Ñ»ï Ï³åí³Í ÙÇçÝáñ¹áõÃÛáõÝÝ»ñÇ í»ñ³µ»ñÛ³É ¹³ï³Ï³Ý ·áñÍ»ñáí ºñ¨³Ý ù³Õ³ùÇ Þ»Ý·³íÇÃ í³ñã³Ï³Ý ßñç³ÝÇ ÁÝ¹Ñ³Ýáõñ Çñ³í³ëáõÃÛ³Ý ³é³çÇÝ ³ïÛ³ÝÇ ¹³ï³ñ³ÝÇ ¹³ï³íáñ Դ. Բալայանի ·áñÍáõÝ»áõÃÛ³Ý í»ñ³µ»ñÛ³É
A3: êïáõ·Çã Ñ³í³ë³ñáõÙ` 1+2=3+8+9, 8=4+5+6+7, | D3: Ð³ßí»ïáõ Å³Ù³Ý³Ï³Ñ³ïí³ÍÇ ëÏ½µáõÙ Ý³Ëáñ¹ Ñ³ßí»ïáõ Å³Ù³Ý³Ï³Ñ³ïí³ÍÇó ÷áË³Ýóí³Í ·áñÍ»ñÇ ÁÝ¹Ñ³Ýáõñ ÃÇíÁ | E3: Ð³ßí»ïáõ Å³Ù³Ý³Ï³Ñ³ïí³ÍáõÙ ëï³óí³Í ·áñÍ»ñÇ ÁÝ¹Ñ³Ýáõñ ÃÇíÁ | F3: öáË³Ýóí»É ¿ ³ÛÉ ¹³ï³íáñÇ Ï³Ù ³ÛÉ ¹³ï³ñ³Ý (Ï³½ÙÇ ÷á÷áËáõÃÛáõÝ, ÁÝ¹¹³ïáõÃÛáõÝ) | G3: Ð³ßí»ïáõ Å³Ù³Ý³Ï³Ñ³ïí³ÍáõÙ ³í³ñïí³Í ·áñÍ»ñÇ ÁÝ¹Ñ³Ýáõñ ÃÇíÁ | L3: Ð³ßí»ïáõ Å³Ù³Ý³Ï³Ñ³ïí³ÍáõÙ ³Ý³í³ñï ·áñÍ»ñÇ ÁÝ¹Ñ³Ýáõñ ÃÇíÁ | M3: ØÇçÝáñ¹áõÃÛáõÝÝ»ñáí Ï³Û³óí³Í ¹³ï³Ï³Ý ³Ïï»ñÇó µáÕáù³ñÏí³ÍÝ»ñÇ ù³Ý³ÏÁ | O3: ²Ý³í³ñï µáÕáùÝ»ñ | P3: ØÇçÝáñ¹áõÃÛáõÝÝ»ñáí Ï³Û³óí³Í ¨ µáÕáù³ñÏí³Í ¹³ï³Ï³Ý ³Ïï»ñÇó µ»Ï³Ýí³ÍÝ»ñÇ ù³Ý³ÏÁ | R3: ÙÇçÝáñ¹áõÃÛáõÝÝ»ñáí Ï³Û³óí³Í ¨ µáÕáù³ñÏí³Í ¹³ï³Ï³Ý ³Ïï»ñÇó ³Ý÷á÷áË ÃáÕÝí³ÍÝ»ñÇ ù³Ý³ÏÁ
G4: Ù»ñÅí»É ¿ | H4: µ³í³ñ³ñí»É ¿ | I4: µ³í³ñ³ñí»É ¿ Ù³ëÝ³ÏÇ | J4: ÃáÕÝí»É ¿ ³é³Ýó ùÝÝáõÃÛ³Ý | K4: ÀÝ¹³Ù»ÝÁ
M5: Ý³Ëáñ¹ ï³ñÇÝ»ñÇÝ Ï³Û³óí³Í ³Ïï»ñÇ ¹»Ù | N5: Ñ³ßí»ïáõ Å³Ù³Ý³Ï³ßñç³ÝáõÙ Ï³Û³óí³Í ³Ïï»ñÇ ¹»Ù | P5: Ý³Ëáñ¹ ï³ñÇÝ»ñÇÝ Ï³Û³óí³Í ³Ïï»ñÇ µ»Ï³ÝáõÙÝ»ñÁ | Q5: Ñ³ßí»ïáõ Å³Ù³Ý³Ï³ßñç³ÝáõÙ Ï³Û³óí³Í ³Ïï»ñÇ µ»Ï³ÝáõÙÝ»ñÁ
A6: 1. ØÇÝã¹³ï³Ï³Ý í³ñáõÛÃÇ ÝÏ³ïÙ³Ùµ ¹³ï³Ï³Ý í»ñ³ÑëÏáÕáõÃÛ³Ý áÉáñï | D6: 1 | E6: 2 | F6: 3 | G6: 4 | H6: 5 | I6: 6 | J6: 7 | K6: 8 | L6: 9 | M6: 10 | N6: 11 | O6: 12 | P6: 13 | Q6: 14 | R6: 15 | T6: 1+2=3+8+9 | V6: 8=4+5+6+7
A7: 1 | B7: Ï³É³ÝùÁ áñå»ë Ë³÷³ÝÙ³Ý ÙÇçáó ÏÇñ³é»Éáõ Ù³ëÇÝ ÙÇçÝáñ¹áõÃÛáõÝÝ»ñ | E7: 8 | G7: 1 | H7: 7 | K7: 8 | N7: 1 | Q7: 1 | T7: =D7+E7 -> 8 | U7: =F7+K7+L7 -> 8 | V7: =K7 -> 8 | W7: =G7+H7+I7+J7 -> 8
A8: 2 | B8: Ï³É³ÝùÇ Å³ÙÏ»ïÁ »ñÏ³ñ³óÝ»Éáõ Ù³ëÇÝ ÙÇçÝáñ¹áõÃÛáõÝÝ»ñ | E8: 11 | G8: 2 | H8: 2 | I8: 7 | K8: 11 | N8: 3 | O8: 2 | R8: 1 | T8: =D8+E8 -> 11 | U8: =F8+K8+L8 -> 11 | V8: =K8 -> 11 | W8: =G8+H8+I8+J8 -> 11
A9: 3 | B9: Ï³É³ÝùÇ í»ñ³Ñ³ëï³ïÙ³Ý Ù³ëÇÝ ÙÇçÝáñ¹áõÃÛáõÝÝ»ñ | E9: 7 | G9: 1 | H9: 6 | K9: 7 | T9: =D9+E9 -> 7 | U9: =F9+K9+L9 -> 7 | V9: =K9 -> 7 | W9: =G9+H9+I9+J9 -> 7
A10: 4 | B10: ·ñ³íÁ áñå»ë Ï³É³Ý³íáñÙ³Ý ³ÛÉÁÝïñ³Ýù³ÛÇÝ Ë³÷³ÝÙ³Ý ÙÇçáó ÏÇñ³é»Éáõ Ù³ëÇÝ ÙÇçÝáñ¹áõÃÛáõÝÝ»ñ | E10: 7 | G10: 3 | H10: 4 | K10: 7 | N10: 2 | R10: 2 | T10: =D10+E10 -> 7 | U10: =F10+K10+L10 -> 7 | V10: =K10 -> 7 | W10: =G10+H10+I10+J10 -> 7
A11: 5 | B11: Ëáõ½³ñÏáõÃÛ³Ý Ï³ï³ñÙ³Ý Ù³ëÇÝ ÙÇçÝáñ¹áõÃÛáõÝÝ»ñ | E11: 44 | G11: 11 | H11: 32 | I11: 1 | K11: 44 | T11: =D11+E11 -> 44 | U11: =F11+K11+L11 -> 44 | V11: =K11 -> 44 | W11: =G11+H11+I11+J11 -> 44
A12: 6 | B12: µ³ÝÏ³ÛÇÝ, ³å³Ñáí³·ñ³Ï³Ý, Ýáï³ñ³Ï³Ý ·³ÕïÝÇù Ï³½ÙáÕ ï»Õ»ÏáõÃÛáõÝÝ»ñÇ ëï³óÙ³Ý Ñ³Ù³ñ Ëáõ½³ñÏáõÃÛ³Ý Ï³Ù ³é·ñ³íÙ³Ý Ï³ï³ñÙ³Ý Ù³ëÇÝ ÙÇçÝáñ¹áõÃÛáõÝÝ»ñ | E12: 1 | G12: 1 | K12: 1 | T12: =D12+E12 -> 1 | U12: =F12+K12+L12 -> 1 | V12: =K12 -> 1 | W12: =G12+H12+I12+J12 -> 1
A13: 7 | B13: Ý³Ù³Ï³·ñáõÃÛ³Ý, Ñ»é³·ñ³Ï³Ý, ÷áuï³ÛÇÝ Ñ³Õáñ¹áõÙÝ»ñÇ ÑëÏáÕáõÃÛ³Ý Ù³ëÇÝ ÙÇçÝáñ¹áõÃÛáõÝÝ»ñ | T13: =D13+E13 -> 0 | U13: =F13+K13+L13 -> 0 | V13: =K13 -> 0 | W13: =G13+H13+I13+J13 -> 0
A14: 8 | B14: Ñ»é³Ëáu³ÛÇÝ Ï³Ù Ï³åÇ ³ÛÉ ÙÇçáóÝ»ñáí ï³ñíáÕ Ëáu³ÏóáõÃÛáõÝÝ»ñÇ ÉuÙ³Ý ¨ Ó³ÛÝ³·ñ³éÙ³Ý Ù³ëÇÝ ÙÇçÝáñ¹áõÃÛáõÝÝ»ñ | E14: 3 | H14: 1 | I14: 1 | J14: 1 | K14: 3 | T14: =D14+E14 -> 3 | U14: =F14+K14+L14 -> 3 | V14: =K14 -> 3 | W14: =G14+H14+I14+J14 -> 3
A15: 9 | B15: Ñ»é³ËáëÝ»ñÇ Ùáõïù³ÛÇÝ ¨ »Éù³ÛÇÝ í»ñÍ³ÝÙ³Ý ÃáõÛÉïíáõÃÛáõÝ ëï³Ý³Éáõ Ù³ëÇÝ ÙÇçÝáñ¹áõÃÛáõÝÝ»ñ | E15: 24 | G15: 3 | H15: 20 | I15: 1 | K15: 24 | N15: 2 | Q15: 1 | R15: 1 | T15: =D15+E15 -> 24 | U15: =F15+K15+L15 -> 24 | V15: =K15 -> 24 | W15: =G15+H15+I15+J15 -> 24
A16: 10 | B16: Ñ»ï³ùÝÝáõÃÛ³Ý Ù³ñÙÝÇ ³ßË³ïáÕÇ, ùÝÝÇãÇ, ¹³ï³Ë³½Ç oå»ñ³ïÇí-Ñ»ï³Ëáõ½³Ï³Ý ·áñÍáÕáõÃÛáõÝÝ»ñ Çñ³Ï³Ý³óÝáÕ Ù³ñÙÇÝÝ»ñÇ ³ÝoñÇÝ³Ï³Ý ¨ ³ÝÑÇÙÝ áñáßáõÙÝ»ñÇ ¨ ·áñÍáÕáõÃÛáõÝÝ»ñÇ ¹»Ù µáÕáùÝ»ñ | E16: 5 | G16: 2 | H16: 2 | K16: 4 | L16: 1 | N16: 1 | O16: 1 | T16: =D16+E16 -> 5 | U16: =F16+K16+L16 -> 5 | V16: =K16 -> 4 | W16: =G16+H16+I16+J16 -> 4
A17: 2. ¸³ï³Ï³Ý ³Ïï»ñÇ ¨ ¹³ï³Ï³Ý Ñ³ÝÓÝ³ñ³ñáõÃÛáõÝÝ»ñÇ Ï³ï³ñÙ³Ý Ñ»ï Ï³åí³Í Ñ³ñó»ñÇ ÉáõÍÙ³Ý áÉáñï
A18: 1 | B18: å³ïÅÇó å³ÛÙ³Ý³Ï³Ý í³Õ³Å³ÙÏ»ï ³½³ï»Éáõ Ù³ëÇÝ ÙÇçÝáñ¹áõÃÛáõÝÝ»ñ | T18: =J18+K18 -> 0 | U18: =F18+K18+L18 -> 0 | V18: =P18 -> 0 | W18: =L18+M18+N18+O18 -> 0
A19: 2 | B19: å³ïÇÅÁ ÷á÷áË»Éáõ, Ñ»ï³Ó·»Éáõ ¨ å³ïÅÇó ³½³ï»Éáõ Ù³uÇÝ ÙÇçÝáñ¹áõÃÛáõÝÝ»ñ | E19: 9 | G19: 2 | H19: 7 | K19: 9 | T19: =J19+K19 -> 9 | U19: =F19+K19+L19 -> 9 | V19: =P19 -> 0 | W19: =L19+M19+N19+O19 -> 0
A20: 3 | B20: Ñ³ñÏ³¹Çñ µáõÅÙ³Ý ï»ë³ÏÇ ÷á÷áËáõÃÛ³Ý Ù³ëÇÝ ÙÇçÝáñ¹áõÃÛáõÝÝ»ñ | T20: =J20+K20 -> 0 | U20: =F20+K20+L20 -> 0 | V20: =P20 -> 0 | W20: =L20+M20+N20+O20 -> 0
A21: 4 | B21: ³ÛÉ ÙÇçÝáñ¹áõÃÛáõÝÝ»ñ | E21: 7 | G21: 2 | H21: 4 | I21: 1 | K21: 7 | T21: =J21+K21 -> 7 | U21: =F21+K21+L21 -> 7 | V21: =P21 -> 0 | W21: =L21+M21+N21+O21 -> 0
A22: 5 | B22: ¹³ï³Ï³Ý Ñ³ÝÓÝ³ñ³ñáõÃÛáõÝÝ»ñ | T22: =J22+K22 -> 0 | U22: =F22+K22+L22 -> 0 | V22: =P22 -> 0 | W22: =L22+M22+N22+O22 -> 0
A23: ÀÜ¸²ØºÜÀ | D23: =D7+D8+D9+D10+D11+D12+D13+D14+D15+D16+D18+D19+D20+D21+D22 -> 0 | E23: =E7+E8+E9+E10+E11+E12+E13+E14+E15+E16+E18+E19+E20+E21+E22 -> 126 | F23: =F7+F8+F9+F10+F11+F12+F13+F14+F15+F16+F18+F19+F20+F21+F22 -> 0 | G23: =G7+G8+G9+G10+G11+G12+G13+G14+G15+G16+G18+G19+G20+G21+G22 -> 28 | H23: =H7+H8+H9+H10+H11+H12+H13+H14+H15+H16+H18+H19+H20+H21+H22 -> 85 | I23: =I7+I8+I9+I10+I11+I12+I13+I14+I15+I16+I18+I19+I20+I21+I22 -> 11 | J23: =J7+J8+J9+J10+J11+J12+J13+J14+J15+J16+J18+J19+J20+J21+J22 -> 1 | K23: =K7+K8+K9+K10+K11+K12+K13+K14+K15+K16+K18+K19+K20+K21+K22 -> 125 | ... R23: =R7+R8+R9+R10+R11+R12+R13+R14+R15+R16+R18+R19+R20+R21+R22 -> 4 | T23: =SUM(T7:T16,T18:T22) -> 126 | U23: =F23+K23+L23 -> 126 | V23: =SUM(V7:V16,V18:V22) -> 109 | W23: =SUM(W7:W16,W18:W22) -> 109

Sheet Ն. Բաղդասարյան
A1: 2015Ã. | D1: Ð²ÞìºîìàôÂÚàôÜ | P1: Ð³í»Éí³Í Ð³Û³ëï³ÝÇ Ð³Ýñ³å»ïáõÃÛ³Ý ¸³ï³ñ³ÝÝ»ñÇ Ý³Ë³·³ÑÝ»ñÇ ËáñÑñ¹Ç 01.02.2016Ã. ÃÇí 11È áñáßÙ³Ý
A2: ØÇÝã¹³ï³Ï³Ý í³ñáõÛÃÇ ÝÏ³ïÙ³Ùµ ¹³ï³Ï³Ý í»ñ³ÑëÏáÕáõÃÛ³ÝÁ, ¹³ï³Ï³Ý ³Ïï»ñÇ ¨ ¹³ï³Ï³Ý Ñ³ÝÓÝ³ñ³ñáõÃÛáõÝÝ»ñÇ Ï³ï³ñÙ³Ý Ñ»ï Ï³åí³Í ÙÇçÝáñ¹áõÃÛáõÝÝ»ñÇ í»ñ³µ»ñÛ³É ¹³ï³Ï³Ý ·áñÍ»ñáí ºñ¨³Ý ù³Õ³ùÇ Þ»Ý·³íÇÃ í³ñã³Ï³Ý ßñç³ÝÇ ÁÝ¹Ñ³Ýáõñ Çñ³í³ëáõÃÛ³Ý ³é³çÇÝ ³ïÛ³ÝÇ ¹³ï³ñ³ÝÇ ¹³ï³íáñ Ն. Բաղդասարյանի ·áñÍáõÝ»áõÃÛ³Ý í»ñ³µ»ñÛ³É
A3: êïáõ·Çã Ñ³í³ë³ñáõÙ` 1+2=3+8+9, 8=4+5+6+7, | D3: Ð³ßí»ïáõ Å³Ù³Ý³Ï³Ñ³ïí³ÍÇ ëÏ½µáõÙ Ý³Ëáñ¹ Ñ³ßí»ïáõ Å³Ù³Ý³Ï³Ñ³ïí³ÍÇó ÷áË³Ýóí³Í ·áñÍ»ñÇ ÁÝ¹Ñ³Ýáõñ ÃÇíÁ | E3: Ð³ßí»ïáõ Å³Ù³Ý³Ï³Ñ³ïí³ÍáõÙ ëï³óí³Í ·áñÍ»ñÇ ÁÝ¹Ñ³Ýáõñ ÃÇíÁ | F3: öáË³Ýóí»É ¿ ³ÛÉ ¹³ï³íáñÇ Ï³Ù ³ÛÉ ¹³ï³ñ³Ý (Ï³½ÙÇ ÷á÷áËáõÃÛáõÝ, ÁÝ¹¹³ïáõÃÛáõÝ) | G3: Ð³ßí»ïáõ Å³Ù³Ý³Ï³Ñ³ïí³ÍáõÙ ³í³ñïí³Í ·áñÍ»ñÇ ÁÝ¹Ñ³Ýáõñ ÃÇíÁ | L3: Ð³ßí»ïáõ Å³Ù³Ý³Ï³Ñ³ïí³ÍáõÙ ³Ý³í³ñï ·áñÍ»ñÇ ÁÝ¹Ñ³Ýáõñ ÃÇíÁ | M3: ØÇçÝáñ¹áõÃÛáõÝÝ»ñáí Ï³Û³óí³Í ¹³ï³Ï³Ý ³Ïï»ñÇó µáÕáù³ñÏí³ÍÝ»ñÇ ù³Ý³ÏÁ | O3: ²Ý³í³ñï µáÕáùÝ»ñ | P3: ØÇçÝáñ¹áõÃÛáõÝÝ»ñáí Ï³Û³óí³Í ¨ µáÕáù³ñÏí³Í ¹³ï³Ï³Ý ³Ïï»ñÇó µ»Ï³Ýí³ÍÝ»ñÇ ù³Ý³ÏÁ | R3: ÙÇçÝáñ¹áõÃÛáõÝÝ»ñáí Ï³Û³óí³Í ¨ µáÕáù³ñÏí³Í ¹³ï³Ï³Ý ³Ïï»ñÇó ³Ý÷á÷áË ÃáÕÝí³ÍÝ»ñÇ ù³Ý³ÏÁ
G4: Ù»ñÅí»É ¿ | H4: µ³í³ñ³ñí»É ¿ | I4: µ³í³ñ³ñí»É ¿ Ù³ëÝ³ÏÇ | J4: ÃáÕÝí»É ¿ ³é³Ýó ùÝÝáõÃÛ³Ý | K4: ÀÝ¹³Ù»ÝÁ
M5: Ý³Ëáñ¹ ï³ñÇÝ»ñÇÝ Ï³Û³óí³Í ³Ïï»ñÇ ¹»Ù | N5: Ñ³ßí»ïáõ Å³Ù³Ý³Ï³ßñç³ÝáõÙ Ï³Û³óí³Í ³Ïï»ñÇ ¹»Ù | P5: Ý³Ëáñ¹ ï³ñÇÝ»ñÇÝ Ï³Û³óí³Í ³Ïï»ñÇ µ»Ï³ÝáõÙÝ»ñÁ | Q5: Ñ³ßí»ïáõ Å³Ù³Ý³Ï³ßñç³ÝáõÙ Ï³Û³óí³Í ³Ïï»ñÇ µ»Ï³ÝáõÙÝ»ñÁ
A6: 1. ØÇÝã¹³ï³Ï³Ý í³ñáõÛÃÇ ÝÏ³ïÙ³Ùµ ¹³ï³Ï³Ý í»ñ³ÑëÏáÕáõÃÛ³Ý áÉáñï | D6: 1 | E6: 2 | F6: 3 | G6: 4 | H6: 5 | I6: 6 | J6: 7 | K6: 8 | L6: 9 | M6: 10 | N6: 11 | O6: 12 | P6: 13 | Q6: 14 | R6: 15 | T6: 1+2=3+8+9 | V6: 8=4+5+6+7
A7: 1 | B7: Ï³É³ÝùÁ áñå»ë Ë³÷³ÝÙ³Ý ÙÇçáó ÏÇñ³é»Éáõ Ù³ëÇÝ ÙÇçÝáñ¹áõÃÛáõÝÝ»ñ | E7: 11 | G7: 1 | H7: 10 | K7: 11 | N7: 5 | R7: 5 | T7: =D7+E7 -> 11 | U7: =F7+K7+L7 -> 11 | V7: =K7 -> 11 | W7: =G7+H7+I7+J7 -> 11
A8: 2 | B8: Ï³É³ÝùÇ Å³ÙÏ»ïÁ »ñÏ³ñ³óÝ»Éáõ Ù³ëÇÝ ÙÇçÝáñ¹áõÃÛáõÝÝ»ñ | E8: 30 | H8: 27 | I8: 3 | K8: 30 | M8: 2 | N8: 8 | R8: 4 | T8: =D8+E8 -> 30 | U8: =F8+K8+L8 -> 30 | V8: =K8 -> 30 | W8: =G8+H8+I8+J8 -> 30
A9: 3 | B9: Ï³É³ÝùÇ í»ñ³Ñ³ëï³ïÙ³Ý Ù³ëÇÝ ÙÇçÝáñ¹áõÃÛáõÝÝ»ñ | E9: 2 | H9: 2 | K9: 2 | T9: =D9+E9 -> 2 | U9: =F9+K9+L9 -> 2 | V9: =K9 -> 2 | W9: =G9+H9+I9+J9 -> 2
A10: 4 | B10: ·ñ³íÁ áñå»ë Ï³É³Ý³íáñÙ³Ý ³ÛÉÁÝïñ³Ýù³ÛÇÝ Ë³÷³ÝÙ³Ý ÙÇçáó ÏÇñ³é»Éáõ Ù³ëÇÝ ÙÇçÝáñ¹áõÃÛáõÝÝ»ñ | E10: 17 | G10: 16 | J10: 1 | K10: 17 | T10: =D10+E10 -> 17 | U10: =F10+K10+L10 -> 17 | V10: =K10 -> 17 | W10: =G10+H10+I10+J10 -> 17
A11: 5 | B11: Ëáõ½³ñÏáõÃÛ³Ý Ï³ï³ñÙ³Ý Ù³ëÇÝ ÙÇçÝáñ¹áõÃÛáõÝÝ»ñ | E11: 38 | G11: 5 | H11: 30 | I11: 3 | K11: 38 | N11: 1 | R11: 1 | T11: =D11+E11 -> 38 | U11: =F11+K11+L11 -> 38 | V11: =K11 -> 38 | W11: =G11+H11+I11+J11 -> 38
A12: 6 | B12: µ³ÝÏ³ÛÇÝ, ³å³Ñáí³·ñ³Ï³Ý, Ýáï³ñ³Ï³Ý ·³ÕïÝÇù Ï³½ÙáÕ ï»Õ»ÏáõÃÛáõÝÝ»ñÇ ëï³óÙ³Ý Ñ³Ù³ñ Ëáõ½³ñÏáõÃÛ³Ý Ï³Ù ³é·ñ³íÙ³Ý Ï³ï³ñÙ³Ý Ù³ëÇÝ ÙÇçÝáñ¹áõÃÛáõÝÝ»ñ | E12: 1 | G12: 1 | K12: 1 | N12: 1 | Q12: 1 | T12: =D12+E12 -> 1 | U12: =F12+K12+L12 -> 1 | V12: =K12 -> 1 | W12: =G12+H12+I12+J12 -> 1
A13: 7 | B13: Ý³Ù³Ï³·ñáõÃÛ³Ý, Ñ»é³·ñ³Ï³Ý, ÷áuï³ÛÇÝ Ñ³Õáñ¹áõÙÝ»ñÇ ÑëÏáÕáõÃÛ³Ý Ù³ëÇÝ ÙÇçÝáñ¹áõÃÛáõÝÝ»ñ | T13: =D13+E13 -> 0 | U13: =F13+K13+L13 -> 0 | V13: =K13 -> 0 | W13: =G13+H13+I13+J13 -> 0
A14: 8 | B14: Ñ»é³Ëáu³ÛÇÝ Ï³Ù Ï³åÇ ³ÛÉ ÙÇçáóÝ»ñáí ï³ñíáÕ Ëáu³ÏóáõÃÛáõÝÝ»ñÇ ÉuÙ³Ý ¨ Ó³ÛÝ³·ñ³éÙ³Ý Ù³ëÇÝ ÙÇçÝáñ¹áõÃÛáõÝÝ»ñ | T14: =D14+E14 -> 0 | U14: =F14+K14+L14 -> 0 | V14: =K14 -> 0 | W14: =G14+H14+I14+J14 -> 0
A15: 9 | B15: Ñ»é³ËáëÝ»ñÇ Ùáõïù³ÛÇÝ ¨ »Éù³ÛÇÝ í»ñÍ³ÝÙ³Ý ÃáõÛÉïíáõÃÛáõÝ ëï³Ý³Éáõ Ù³ëÇÝ ÙÇçÝáñ¹áõÃÛáõÝÝ»ñ | E15: 41 | F15: 1 | G15: 4 | H15: 34 | I15: 2 | K15: 40 | R15: 2 | T15: =D15+E15 -> 41 | U15: =F15+K15+L15 -> 41 | V15: =K15 -> 40 | W15: =G15+H15+I15+J15 -> 40
A16: 10 | B16: Ñ»ï³ùÝÝáõÃÛ³Ý Ù³ñÙÝÇ ³ßË³ïáÕÇ, ùÝÝÇãÇ, ¹³ï³Ë³½Ç oå»ñ³ïÇí-Ñ»ï³Ëáõ½³Ï³Ý ·áñÍáÕáõÃÛáõÝÝ»ñ Çñ³Ï³Ý³óÝáÕ Ù³ñÙÇÝÝ»ñÇ ³ÝoñÇÝ³Ï³Ý ¨ ³ÝÑÇÙÝ áñáßáõÙÝ»ñÇ ¨ ·áñÍáÕáõÃÛáõÝÝ»ñÇ ¹»Ù µáÕáùÝ»ñ | D16: 6 | E16: 19 | G16: 15 | H16: 5 | J16: 1 | K16: 21 | L16: 4 | M16: 1 | N16: 9 | O16: 3 | Q16: 1 | R16: 6 | T16: =D16+E16 -> 25 | U16: =F16+K16+L16 -> 25 | V16: =K16 -> 21 | W16: =G16+H16+I16+J16 -> 21
A17: 2. ¸³ï³Ï³Ý ³Ïï»ñÇ ¨ ¹³ï³Ï³Ý Ñ³ÝÓÝ³ñ³ñáõÃÛáõÝÝ»ñÇ Ï³ï³ñÙ³Ý Ñ»ï Ï³åí³Í Ñ³ñó»ñÇ ÉáõÍÙ³Ý áÉáñï
A18: 1 | B18: å³ïÅÇó å³ÛÙ³Ý³Ï³Ý í³Õ³Å³ÙÏ»ï ³½³ï»Éáõ Ù³ëÇÝ ÙÇçÝáñ¹áõÃÛáõÝÝ»ñ | T18: =J18+K18 -> 0 | U18: =F18+K18+L18 -> 0 | V18: =P18 -> 0 | W18: =L18+M18+N18+O18 -> 0
A19: 2 | B19: å³ïÇÅÁ ÷á÷áË»Éáõ, Ñ»ï³Ó·»Éáõ ¨ å³ïÅÇó ³½³ï»Éáõ Ù³uÇÝ ÙÇçÝáñ¹áõÃÛáõÝÝ»ñ | D19: 1 | E19: 8 | G19: 1 | H19: 5 | J19: 3 | K19: 9 | Q19: 1 | T19: =J19+K19 -> 12 | U19: =F19+K19+L19 -> 9 | V19: =P19 -> 0 | W19: =L19+M19+N19+O19 -> 0
A20: 3 | B20: Ñ³ñÏ³¹Çñ µáõÅÙ³Ý ï»ë³ÏÇ ÷á÷áËáõÃÛ³Ý Ù³ëÇÝ ÙÇçÝáñ¹áõÃÛáõÝÝ»ñ | T20: =J20+K20 -> 0 | U20: =F20+K20+L20 -> 0 | V20: =P20 -> 0 | W20: =L20+M20+N20+O20 -> 0
A21: 4 | B21: ³ÛÉ ÙÇçÝáñ¹áõÃÛáõÝÝ»ñ | E21: 7 | G21: 1 | H21: 4 | J21: 2 | K21: 7 | T21: =J21+K21 -> 9 | U21: =F21+K21+L21 -> 7 | V21: =P21 -> 0 | W21: =L21+M21+N21+O21 -> 0
A22: 5 | B22: ¹³ï³Ï³Ý Ñ³ÝÓÝ³ñ³ñáõÃÛáõÝÝ»ñ | E22: 6 | H22: 2 | K22: 2 | L22: 4 | T22: =J22+K22 -> 2 | U22: =F22+K22+L22 -> 6 | V22: =P22 -> 0 | W22: =L22+M22+N22+O22 -> 4
A23: ÀÜ¸²ØºÜÀ | D23: =D7+D8+D9+D10+D11+D12+D13+D14+D15+D16+D18+D19+D20+D21+D22 -> 7 | E23: =E7+E8+E9+E10+E11+E12+E13+E14+E15+E16+E18+E19+E20+E21+E22 -> 180 | F23: =F7+F8+F9+F10+F11+F12+F13+F14+F15+F16+F18+F19+F20+F21+F22 -> 1 | G23: =G7+G8+G9+G10+G11+G12+G13+G14+G15+G16+G18+G19+G20+G21+G22 -> 44 | H23: =H7+H8+H9+H10+H11+H12+H13+H14+H15+H16+H18+H19+H20+H21+H22 -> 119 | I23: =I7+I8+I9+I10+I11+I12+I13+I14+I15+I16+I18+I19+I20+I21+I22 -> 8 | J23: =J7+J8+J9+J10+J11+J12+J13+J14+J15+J16+J18+J19+J20+J21+J22 -> 7 | K23: =K7+K8+K9+K10+K11+K12+K13+K14+K15+K16+K18+K19+K20+K21+K22 -> 178 | ... R23: =R7+R8+R9+R10+R11+R12+R13+R14+R15+R16+R18+R19+R20+R21+R22 -> 18 | T23: =SUM(T7:T16,T18:T22) -> 188 | U23: =F23+K23+L23 -> 187 | V23: =SUM(V7:V16,V18:V22) -> 160 | W23: =SUM(W7:W16,W18:W22) -> 164

Sheet Ն. Հովսեփյան
A1: 2015Ã. | D1: Ð²ÞìºîìàôÂÚàôÜ | P1: Ð³í»Éí³Í Ð³Û³ëï³ÝÇ Ð³Ýñ³å»ïáõÃÛ³Ý ¸³ï³ñ³ÝÝ»ñÇ Ý³Ë³·³ÑÝ»ñÇ ËáñÑñ¹Ç 01.02.2016Ã. ÃÇí 11È áñáßÙ³Ý
A2: ØÇÝã¹³ï³Ï³Ý í³ñáõÛÃÇ ÝÏ³ïÙ³Ùµ ¹³ï³Ï³Ý í»ñ³ÑëÏáÕáõÃÛ³ÝÁ, ¹³ï³Ï³Ý ³Ïï»ñÇ ¨ ¹³ï³Ï³Ý Ñ³ÝÓÝ³ñ³ñáõÃÛáõÝÝ»ñÇ Ï³ï³ñÙ³Ý Ñ»ï Ï³åí³Í ÙÇçÝáñ¹áõÃÛáõÝÝ»ñÇ í»ñ³µ»ñÛ³É ¹³ï³Ï³Ý ·áñÍ»ñáí ºñ¨³Ý ù³Õ³ùÇ Þ»Ý·³íÇÃ í³ñã³Ï³Ý ßñç³ÝÇ ÁÝ¹Ñ³Ýáõñ Çñ³í³ëáõÃÛ³Ý ³é³çÇÝ ³ïÛ³ÝÇ ¹³ï³ñ³ÝÇ ¹³ï³íáñ Ն. Հովսեփյանի ·áñÍáõÝ»áõÃÛ³Ý í»ñ³µ»ñÛ³É
A3: êïáõ·Çã Ñ³í³ë³ñáõÙ` 1+2=3+8+9, 8=4+5+6+7, | D3: Ð³ßí»ïáõ Å³Ù³Ý³Ï³Ñ³ïí³ÍÇ ëÏ½µáõÙ Ý³Ëáñ¹ Ñ³ßí»ïáõ Å³Ù³Ý³Ï³Ñ³ïí³ÍÇó ÷áË³Ýóí³Í ·áñÍ»ñÇ ÁÝ¹Ñ³Ýáõñ ÃÇíÁ | E3: Ð³ßí»ïáõ Å³Ù³Ý³Ï³Ñ³ïí³ÍáõÙ ëï³óí³Í ·áñÍ»ñÇ ÁÝ¹Ñ³Ýáõñ ÃÇíÁ | F3: öáË³Ýóí»É ¿ ³ÛÉ ¹³ï³íáñÇ Ï³Ù ³ÛÉ ¹³ï³ñ³Ý (Ï³½ÙÇ ÷á÷áËáõÃÛáõÝ, ÁÝ¹¹³ïáõÃÛáõÝ) | G3: Ð³ßí»ïáõ Å³Ù³Ý³Ï³Ñ³ïí³ÍáõÙ ³í³ñïí³Í ·áñÍ»ñÇ ÁÝ¹Ñ³Ýáõñ ÃÇíÁ | L3: Ð³ßí»ïáõ Å³Ù³Ý³Ï³Ñ³ïí³ÍáõÙ ³Ý³í³ñï ·áñÍ»ñÇ ÁÝ¹Ñ³Ýáõñ ÃÇíÁ | M3: ØÇçÝáñ¹áõÃÛáõÝÝ»ñáí Ï³Û³óí³Í ¹³ï³Ï³Ý ³Ïï»ñÇó µáÕáù³ñÏí³ÍÝ»ñÇ ù³Ý³ÏÁ | O3: ²Ý³í³ñï µáÕáùÝ»ñ | P3: ØÇçÝáñ¹áõÃÛáõÝÝ»ñáí Ï³Û³óí³Í ¨ µáÕáù³ñÏí³Í ¹³ï³Ï³Ý ³Ïï»ñÇó µ»Ï³Ýí³ÍÝ»ñÇ ù³Ý³ÏÁ | R3: ÙÇçÝáñ¹áõÃÛáõÝÝ»ñáí Ï³Û³óí³Í ¨ µáÕáù³ñÏí³Í ¹³ï³Ï³Ý ³Ïï»ñÇó ³Ý÷á÷áË ÃáÕÝí³ÍÝ»ñÇ ù³Ý³ÏÁ
G4: Ù»ñÅí»É ¿ | H4: µ³í³ñ³ñí»É ¿ | I4: µ³í³ñ³ñí»É ¿ Ù³ëÝ³ÏÇ | J4: ÃáÕÝí»É ¿ ³é³Ýó ùÝÝáõÃÛ³Ý | K4: ÀÝ¹³Ù»ÝÁ
M5: Ý³Ëáñ¹ ï³ñÇÝ»ñÇÝ Ï³Û³óí³Í ³Ïï»ñÇ ¹»Ù | N5: Ñ³ßí»ïáõ Å³Ù³Ý³Ï³ßñç³ÝáõÙ Ï³Û³óí³Í ³Ïï»ñÇ ¹»Ù | P5: Ý³Ëáñ¹ ï³ñÇÝ»ñÇÝ Ï³Û³óí³Í ³Ïï»ñÇ µ»Ï³ÝáõÙÝ»ñÁ | Q5: Ñ³ßí»ïáõ Å³Ù³Ý³Ï³ßñç³ÝáõÙ Ï³Û³óí³Í ³Ïï»ñÇ µ»Ï³ÝáõÙÝ»ñÁ
A6: 1. ØÇÝã¹³ï³Ï³Ý í³ñáõÛÃÇ ÝÏ³ïÙ³Ùµ ¹³ï³Ï³Ý í»ñ³ÑëÏáÕáõÃÛ³Ý áÉáñï | D6: 1 | E6: 2 | F6: 3 | G6: 4 | H6: 5 | I6: 6 | J6: 7 | K6: 8 | L6: 9 | M6: 10 | N6: 11 | O6: 12 | P6: 13 | Q6: 14 | R6: 15 | T6: 1+2=3+8+9 | V6: 8=4+5+6+7
A7: 1 | B7: Ï³É³ÝùÁ áñå»ë Ë³÷³ÝÙ³Ý ÙÇçáó ÏÇñ³é»Éáõ Ù³ëÇÝ ÙÇçÝáñ¹áõÃÛáõÝÝ»ñ | E7: 7 | H7: 7 | K7: 7 | N7: 2 | R7: 2 | T7: =D7+E7 -> 7 | U7: =F7+K7+L7 -> 7 | V7: =K7 -> 7 | W7: =G7+H7+I7+J7 -> 7
A8: 2 | B8: Ï³É³ÝùÇ Å³ÙÏ»ïÁ »ñÏ³ñ³óÝ»Éáõ Ù³ëÇÝ ÙÇçÝáñ¹áõÃÛáõÝÝ»ñ | E8: 3 | H8: 2 | I8: 1 | K8: 3 | T8: =D8+E8 -> 3 | U8: =F8+K8+L8 -> 3 | V8: =K8 -> 3 | W8: =G8+H8+I8+J8 -> 3
A9: 3 | B9: Ï³É³ÝùÇ í»ñ³Ñ³ëï³ïÙ³Ý Ù³ëÇÝ ÙÇçÝáñ¹áõÃÛáõÝÝ»ñ | T9: =D9+E9 -> 0 | U9: =F9+K9+L9 -> 0 | V9: =K9 -> 0 | W9: =G9+H9+I9+J9 -> 0
A10: 4 | B10: ·ñ³íÁ áñå»ë Ï³É³Ý³íáñÙ³Ý ³ÛÉÁÝïñ³Ýù³ÛÇÝ Ë³÷³ÝÙ³Ý ÙÇçáó ÏÇñ³é»Éáõ Ù³ëÇÝ ÙÇçÝáñ¹áõÃÛáõÝÝ»ñ | E10: 5 | G10: 5 | K10: 5 | N10: 1 | R10: 1 | T10: =D10+E10 -> 5 | U10: =F10+K10+L10 -> 5 | V10: =K10 -> 5 | W10: =G10+H10+I10+J10 -> 5
A11: 5 | B11: Ëáõ½³ñÏáõÃÛ³Ý Ï³ï³ñÙ³Ý Ù³ëÇÝ ÙÇçÝáñ¹áõÃÛáõÝÝ»ñ | E11: 6 | H11: 6 | K11: 6 | N11: 1 | O11: 1 | T11: =D11+E11 -> 6 | U11: =F11+K11+L11 -> 6 | V11: =K11 -> 6 | W11: =G11+H11+I11+J11 -> 6
A12: 6 | B12: µ³ÝÏ³ÛÇÝ, ³å³Ñáí³·ñ³Ï³Ý, Ýáï³ñ³Ï³Ý ·³ÕïÝÇù Ï³½ÙáÕ ï»Õ»ÏáõÃÛáõÝÝ»ñÇ ëï³óÙ³Ý Ñ³Ù³ñ Ëáõ½³ñÏáõÃÛ³Ý Ï³Ù ³é·ñ³íÙ³Ý Ï³ï³ñÙ³Ý Ù³ëÇÝ ÙÇçÝáñ¹áõÃÛáõÝÝ»ñ | T12: =D12+E12 -> 0 | U12: =F12+K12+L12 -> 0 | V12: =K12 -> 0 | W12: =G12+H12+I12+J12 -> 0
A13: 7 | B13: Ý³Ù³Ï³·ñáõÃÛ³Ý, Ñ»é³·ñ³Ï³Ý, ÷áuï³ÛÇÝ Ñ³Õáñ¹áõÙÝ»ñÇ ÑëÏáÕáõÃÛ³Ý Ù³ëÇÝ ÙÇçÝáñ¹áõÃÛáõÝÝ»ñ | T13: =D13+E13 -> 0 | U13: =F13+K13+L13 -> 0 | V13: =K13 -> 0 | W13: =G13+H13+I13+J13 -> 0
A14: 8 | B14: Ñ»é³Ëáu³ÛÇÝ Ï³Ù Ï³åÇ ³ÛÉ ÙÇçáóÝ»ñáí ï³ñíáÕ Ëáu³ÏóáõÃÛáõÝÝ»ñÇ ÉuÙ³Ý ¨ Ó³ÛÝ³·ñ³éÙ³Ý Ù³ëÇÝ ÙÇçÝáñ¹áõÃÛáõÝÝ»ñ | T14: =D14+E14 -> 0 | U14: =F14+K14+L14 -> 0 | V14: =K14 -> 0 | W14: =G14+H14+I14+J14 -> 0
A15: 9 | B15: Ñ»é³ËáëÝ»ñÇ Ùáõïù³ÛÇÝ ¨ »Éù³ÛÇÝ í»ñÍ³ÝÙ³Ý ÃáõÛÉïíáõÃÛáõÝ ëï³Ý³Éáõ Ù³ëÇÝ ÙÇçÝáñ¹áõÃÛáõÝÝ»ñ | E15: 26 | H15: 26 | K15: 26 | T15: =D15+E15 -> 26 | U15: =F15+K15+L15 -> 26 | V15: =K15 -> 26 | W15: =G15+H15+I15+J15 -> 26
A16: 10 | B16: Ñ»ï³ùÝÝáõÃÛ³Ý Ù³ñÙÝÇ ³ßË³ïáÕÇ, ùÝÝÇãÇ, ¹³ï³Ë³½Ç oå»ñ³ïÇí-Ñ»ï³Ëáõ½³Ï³Ý ·áñÍáÕáõÃÛáõÝÝ»ñ Çñ³Ï³Ý³óÝáÕ Ù³ñÙÇÝÝ»ñÇ ³ÝoñÇÝ³Ï³Ý ¨ ³ÝÑÇÙÝ áñáßáõÙÝ»ñÇ ¨ ·áñÍáÕáõÃÛáõÝÝ»ñÇ ¹»Ù µáÕáùÝ»ñ | T16: =D16+E16 -> 0 | U16: =F16+K16+L16 -> 0 | V16: =K16 -> 0 | W16: =G16+H16+I16+J16 -> 0
A17: 2. ¸³ï³Ï³Ý ³Ïï»ñÇ ¨ ¹³ï³Ï³Ý Ñ³ÝÓÝ³ñ³ñáõÃÛáõÝÝ»ñÇ Ï³ï³ñÙ³Ý Ñ»ï Ï³åí³Í Ñ³ñó»ñÇ ÉáõÍÙ³Ý áÉáñï
A18: 1 | B18: å³ïÅÇó å³ÛÙ³Ý³Ï³Ý í³Õ³Å³ÙÏ»ï ³½³ï»Éáõ Ù³ëÇÝ ÙÇçÝáñ¹áõÃÛáõÝÝ»ñ | T18: =J18+K18 -> 0 | U18: =F18+K18+L18 -> 0 | V18: =P18 -> 0 | W18: =L18+M18+N18+O18 -> 0
A19: 2 | B19: å³ïÇÅÁ ÷á÷áË»Éáõ, Ñ»ï³Ó·»Éáõ ¨ å³ïÅÇó ³½³ï»Éáõ Ù³uÇÝ ÙÇçÝáñ¹áõÃÛáõÝÝ»ñ | T19: =J19+K19 -> 0 | U19: =F19+K19+L19 -> 0 | V19: =P19 -> 0 | W19: =L19+M19+N19+O19 -> 0
A20: 3 | B20: Ñ³ñÏ³¹Çñ µáõÅÙ³Ý ï»ë³ÏÇ ÷á÷áËáõÃÛ³Ý Ù³ëÇÝ ÙÇçÝáñ¹áõÃÛáõÝÝ»ñ | T20: =J20+K20 -> 0 | U20: =F20+K20+L20 -> 0 | V20: =P20 -> 0 | W20: =L20+M20+N20+O20 -> 0
A21: 4 | B21: ³ÛÉ ÙÇçÝáñ¹áõÃÛáõÝÝ»ñ | T21: =J21+K21 -> 0 | U21: =F21+K21+L21 -> 0 | V21: =P21 -> 0 | W21: =L21+M21+N21+O21 -> 0
A22: 5 | B22: ¹³ï³Ï³Ý Ñ³ÝÓÝ³ñ³ñáõÃÛáõÝÝ»ñ | E22: 2 | L22: 2 | T22: =J22+K22 -> 0 | U22: =F22+K22+L22 -> 2 | V22: =P22 -> 0 | W22: =L22+M22+N22+O22 -> 2
A23: ÀÜ¸²ØºÜÀ | D23: =D7+D8+D9+D10+D11+D12+D13+D14+D15+D16+D18+D19+D20+D21+D22 -> 0 | E23: =E7+E8+E9+E10+E11+E12+E13+E14+E15+E16+E18+E19+E20+E21+E22 -> 49 | F23: =F7+F8+F9+F10+F11+F12+F13+F14+F15+F16+F18+F19+F20+F21+F22 -> 0 | G23: =G7+G8+G9+G10+G11+G12+G13+G14+G15+G16+G18+G19+G20+G21+G22 -> 5 | H23: =H7+H8+H9+H10+H11+H12+H13+H14+H15+H16+H18+H19+H20+H21+H22 -> 41 | I23: =I7+I8+I9+I10+I11+I12+I13+I14+I15+I16+I18+I19+I20+I21+I22 -> 1 | J23: =J7+J8+J9+J10+J11+J12+J13+J14+J15+J16+J18+J19+J20+J21+J22 -> 0 | K23: =K7+K8+K9+K10+K11+K12+K13+K14+K15+K16+K18+K19+K20+K21+K22 -> 47 | ... R23: =R7+R8+R9+R10+R11+R12+R13+R14+R15+R16+R18+R19+R20+R21+R22 -> 3 | T23: =SUM(T7:T16,T18:T22) -> 47 | U23: =F23+K23+L23 -> 49 | V23: =SUM(V7:V16,V18:V22) -> 47 | W23: =SUM(W7:W16,W18:W22) -> 49

Sheet Ա. Չիչոյան
A1: 2015Ã. | D1: Ð²ÞìºîìàôÂÚàôÜ | P1: Ð³í»Éí³Í Ð³Û³ëï³ÝÇ Ð³Ýñ³å»ïáõÃÛ³Ý ¸³ï³ñ³ÝÝ»ñÇ Ý³Ë³·³ÑÝ»ñÇ ËáñÑñ¹Ç 01.02.2016Ã. ÃÇí 11È áñáßÙ³Ý
A2: ØÇÝã¹³ï³Ï³Ý í³ñáõÛÃÇ ÝÏ³ïÙ³Ùµ ¹³ï³Ï³Ý í»ñ³ÑëÏáÕáõÃÛ³ÝÁ, ¹³ï³Ï³Ý ³Ïï»ñÇ ¨ ¹³ï³Ï³Ý Ñ³ÝÓÝ³ñ³ñáõÃÛáõÝÝ»ñÇ Ï³ï³ñÙ³Ý Ñ»ï Ï³åí³Í ÙÇçÝáñ¹áõÃÛáõÝÝ»ñÇ í»ñ³µ»ñÛ³É ¹³ï³Ï³Ý ·áñÍ»ñáí ºñ¨³Ý ù³Õ³ùÇ Þ»Ý·³íÇÃ í³ñã³Ï³Ý ßñç³ÝÇ ÁÝ¹Ñ³Ýáõñ Çñ³í³ëáõÃÛ³Ý ³é³çÇÝ ³ïÛ³ÝÇ ¹³ï³ñ³ÝÇ ¹³ï³íáñ Ա. Չիչոյանի ·áñÍáõÝ»áõÃÛ³Ý í»ñ³µ»ñÛ³É
A3: êïáõ·Çã Ñ³í³ë³ñáõÙ` 1+2=3+8+9, 8=4+5+6+7, | D3: Ð³ßí»ïáõ Å³Ù³Ý³Ï³Ñ³ïí³ÍÇ ëÏ½µáõÙ Ý³Ëáñ¹ Ñ³ßí»ïáõ Å³Ù³Ý³Ï³Ñ³ïí³ÍÇó ÷áË³Ýóí³Í ·áñÍ»ñÇ ÁÝ¹Ñ³Ýáõñ ÃÇíÁ | E3: Ð³ßí»ïáõ Å³Ù³Ý³Ï³Ñ³ïí³ÍáõÙ ëï³óí³Í ·áñÍ»ñÇ ÁÝ¹Ñ³Ýáõñ ÃÇíÁ | F3: öáË³Ýóí»É ¿ ³ÛÉ ¹³ï³íáñÇ Ï³Ù ³ÛÉ ¹³ï³ñ³Ý (Ï³½ÙÇ ÷á÷áËáõÃÛáõÝ, ÁÝ¹¹³ïáõÃÛáõÝ) | G3: Ð³ßí»ïáõ Å³Ù³Ý³Ï³Ñ³ïí³ÍáõÙ ³í³ñïí³Í ·áñÍ»ñÇ ÁÝ¹Ñ³Ýáõñ ÃÇíÁ | L3: Ð³ßí»ïáõ Å³Ù³Ý³Ï³Ñ³ïí³ÍáõÙ ³Ý³í³ñï ·áñÍ»ñÇ ÁÝ¹Ñ³Ýáõñ ÃÇíÁ | M3: ØÇçÝáñ¹áõÃÛáõÝÝ»ñáí Ï³Û³óí³Í ¹³ï³Ï³Ý ³Ïï»ñÇó µáÕáù³ñÏí³ÍÝ»ñÇ ù³Ý³ÏÁ | O3: ²Ý³í³ñï µáÕáùÝ»ñ | P3: ØÇçÝáñ¹áõÃÛáõÝÝ»ñáí Ï³Û³óí³Í ¨ µáÕáù³ñÏí³Í ¹³ï³Ï³Ý ³Ïï»ñÇó µ»Ï³Ýí³ÍÝ»ñÇ ù³Ý³ÏÁ | R3: ÙÇçÝáñ¹áõÃÛáõÝÝ»ñáí Ï³Û³óí³Í ¨ µáÕáù³ñÏí³Í ¹³ï³Ï³Ý ³Ïï»ñÇó ³Ý÷á÷áË ÃáÕÝí³ÍÝ»ñÇ ù³Ý³ÏÁ
G4: Ù»ñÅí»É ¿ | H4: µ³í³ñ³ñí»É ¿ | I4: µ³í³ñ³ñí»É ¿ Ù³ëÝ³ÏÇ | J4: ÃáÕÝí»É ¿ ³é³Ýó ùÝÝáõÃÛ³Ý | K4: ÀÝ¹³Ù»ÝÁ
M5: Ý³Ëáñ¹ ï³ñÇÝ»ñÇÝ Ï³Û³óí³Í ³Ïï»ñÇ ¹»Ù | N5: Ñ³ßí»ïáõ Å³Ù³Ý³Ï³ßñç³ÝáõÙ Ï³Û³óí³Í ³Ïï»ñÇ ¹»Ù | P5: Ý³Ëáñ¹ ï³ñÇÝ»ñÇÝ Ï³Û³óí³Í ³Ïï»ñÇ µ»Ï³ÝáõÙÝ»ñÁ | Q5: Ñ³ßí»ïáõ Å³Ù³Ý³Ï³ßñç³ÝáõÙ Ï³Û³óí³Í ³Ïï»ñÇ µ»Ï³ÝáõÙÝ»ñÁ
A6: 1. ØÇÝã¹³ï³Ï³Ý í³ñáõÛÃÇ ÝÏ³ïÙ³Ùµ ¹³ï³Ï³Ý í»ñ³ÑëÏáÕáõÃÛ³Ý áÉáñï | D6: 1 | E6: 2 | F6: 3 | G6: 4 | H6: 5 | I6: 6 | J6: 7 | K6: 8 | L6: 9 | M6: 10 | N6: 11 | O6: 12 | P6: 13 | Q6: 14 | R6: 15 | T6: 1+2=3+8+9 | V6: 8=4+5+6+7
A7: 1 | B7: Ï³É³ÝùÁ áñå»ë Ë³÷³ÝÙ³Ý ÙÇçáó ÏÇñ³é»Éáõ Ù³ëÇÝ ÙÇçÝáñ¹áõÃÛáõÝÝ»ñ | E7: 2 | H7: 2 | K7: 2 | T7: =D7+E7 -> 2 | U7: =F7+K7+L7 -> 2 | V7: =K7 -> 2 | W7: =G7+H7+I7+J7 -> 2
A8: 2 | B8: Ï³É³ÝùÇ Å³ÙÏ»ïÁ »ñÏ³ñ³óÝ»Éáõ Ù³ëÇÝ ÙÇçÝáñ¹áõÃÛáõÝÝ»ñ | T8: =D8+E8 -> 0 | U8: =F8+K8+L8 -> 0 | V8: =K8 -> 0 | W8: =G8+H8+I8+J8 -> 0
A9: 3 | B9: Ï³É³ÝùÇ í»ñ³Ñ³ëï³ïÙ³Ý Ù³ëÇÝ ÙÇçÝáñ¹áõÃÛáõÝÝ»ñ | T9: =D9+E9 -> 0 | U9: =F9+K9+L9 -> 0 | V9: =K9 -> 0 | W9: =G9+H9+I9+J9 -> 0
A10: 4 | B10: ·ñ³íÁ áñå»ë Ï³É³Ý³íáñÙ³Ý ³ÛÉÁÝïñ³Ýù³ÛÇÝ Ë³÷³ÝÙ³Ý ÙÇçáó ÏÇñ³é»Éáõ Ù³ëÇÝ ÙÇçÝáñ¹áõÃÛáõÝÝ»ñ | T10: =D10+E10 -> 0 | U10: =F10+K10+L10 -> 0 | V10: =K10 -> 0 | W10: =G10+H10+I10+J10 -> 0
A11: 5 | B11: Ëáõ½³ñÏáõÃÛ³Ý Ï³ï³ñÙ³Ý Ù³ëÇÝ ÙÇçÝáñ¹áõÃÛáõÝÝ»ñ | E11: 28 | F11: 2 | H11: 26 | K11: 26 | T11: =D11+E11 -> 28 | U11: =F11+K11+L11 -> 28 | V11: =K11 -> 26 | W11: =G11+H11+I11+J11 -> 26
A12: 6 | B12: µ³ÝÏ³ÛÇÝ, ³å³Ñáí³·ñ³Ï³Ý, Ýáï³ñ³Ï³Ý ·³ÕïÝÇù Ï³½ÙáÕ ï»Õ»ÏáõÃÛáõÝÝ»ñÇ ëï³óÙ³Ý Ñ³Ù³ñ Ëáõ½³ñÏáõÃÛ³Ý Ï³Ù ³é·ñ³íÙ³Ý Ï³ï³ñÙ³Ý Ù³ëÇÝ ÙÇçÝáñ¹áõÃÛáõÝÝ»ñ | E12: 1 | H12: 1 | K12: 1 | T12: =D12+E12 -> 1 | U12: =F12+K12+L12 -> 1 | V12: =K12 -> 1 | W12: =G12+H12+I12+J12 -> 1
A13: 7 | B13: Ý³Ù³Ï³·ñáõÃÛ³Ý, Ñ»é³·ñ³Ï³Ý, ÷áuï³ÛÇÝ Ñ³Õáñ¹áõÙÝ»ñÇ ÑëÏáÕáõÃÛ³Ý Ù³ëÇÝ ÙÇçÝáñ¹áõÃÛáõÝÝ»ñ | T13: =D13+E13 -> 0 | U13: =F13+K13+L13 -> 0 | V13: =K13 -> 0 | W13: =G13+H13+I13+J13 -> 0
A14: 8 | B14: Ñ»é³Ëáu³ÛÇÝ Ï³Ù Ï³åÇ ³ÛÉ ÙÇçáóÝ»ñáí ï³ñíáÕ Ëáu³ÏóáõÃÛáõÝÝ»ñÇ ÉuÙ³Ý ¨ Ó³ÛÝ³·ñ³éÙ³Ý Ù³ëÇÝ ÙÇçÝáñ¹áõÃÛáõÝÝ»ñ | T14: =D14+E14 -> 0 | U14: =F14+K14+L14 -> 0 | V14: =K14 -> 0 | W14: =G14+H14+I14+J14 -> 0
A15: 9 | B15: Ñ»é³ËáëÝ»ñÇ Ùáõïù³ÛÇÝ ¨ »Éù³ÛÇÝ í»ñÍ³ÝÙ³Ý ÃáõÛÉïíáõÃÛáõÝ ëï³Ý³Éáõ Ù³ëÇÝ ÙÇçÝáñ¹áõÃÛáõÝÝ»ñ | E15: 31 | F15: 2 | H15: 27 | I15: 1 | J15: 1 | K15: 29 | T15: =D15+E15 -> 31 | U15: =F15+K15+L15 -> 31 | V15: =K15 -> 29 | W15: =G15+H15+I15+J15 -> 29
A16: 10 | B16: Ñ»ï³ùÝÝáõÃÛ³Ý Ù³ñÙÝÇ ³ßË³ïáÕÇ, ùÝÝÇãÇ, ¹³ï³Ë³½Ç oå»ñ³ïÇí-Ñ»ï³Ëáõ½³Ï³Ý ·áñÍáÕáõÃÛáõÝÝ»ñ Çñ³Ï³Ý³óÝáÕ Ù³ñÙÇÝÝ»ñÇ ³ÝoñÇÝ³Ï³Ý ¨ ³ÝÑÇÙÝ áñáßáõÙÝ»ñÇ ¨ ·áñÍáÕáõÃÛáõÝÝ»ñÇ ¹»Ù µáÕáùÝ»ñ | T16: =D16+E16 -> 0 | U16: =F16+K16+L16 -> 0 | V16: =K16 -> 0 | W16: =G16+H16+I16+J16 -> 0
A17: 2. ¸³ï³Ï³Ý ³Ïï»ñÇ ¨ ¹³ï³Ï³Ý Ñ³ÝÓÝ³ñ³ñáõÃÛáõÝÝ»ñÇ Ï³ï³ñÙ³Ý Ñ»ï Ï³åí³Í Ñ³ñó»ñÇ ÉáõÍÙ³Ý áÉáñï
A18: 1 | B18: å³ïÅÇó å³ÛÙ³Ý³Ï³Ý í³Õ³Å³ÙÏ»ï ³½³ï»Éáõ Ù³ëÇÝ ÙÇçÝáñ¹áõÃÛáõÝÝ»ñ | T18: =J18+K18 -> 0 | U18: =F18+K18+L18 -> 0 | V18: =P18 -> 0 | W18: =L18+M18+N18+O18 -> 0
A19: 2 | B19: å³ïÇÅÁ ÷á÷áË»Éáõ, Ñ»ï³Ó·»Éáõ ¨ å³ïÅÇó ³½³ï»Éáõ Ù³uÇÝ ÙÇçÝáñ¹áõÃÛáõÝÝ»ñ | T19: =J19+K19 -> 0 | U19: =F19+K19+L19 -> 0 | V19: =P19 -> 0 | W19: =L19+M19+N19+O19 -> 0
A20: 3 | B20: Ñ³ñÏ³¹Çñ µáõÅÙ³Ý ï»ë³ÏÇ ÷á÷áËáõÃÛ³Ý Ù³ëÇÝ ÙÇçÝáñ¹áõÃÛáõÝÝ»ñ | T20: =J20+K20 -> 0 | U20: =F20+K20+L20 -> 0 | V20: =P20 -> 0 | W20: =L20+M20+N20+O20 -> 0
A21: 4 | B21: ³ÛÉ ÙÇçÝáñ¹áõÃÛáõÝÝ»ñ | T21: =J21+K21 -> 0 | U21: =F21+K21+L21 -> 0 | V21: =P21 -> 0 | W21: =L21+M21+N21+O21 -> 0
A22: 5 | B22: ¹³ï³Ï³Ý Ñ³ÝÓÝ³ñ³ñáõÃÛáõÝÝ»ñ | D22: 1 | E22: 2 | H22: 2 | K22: 2 | L22: 1 | T22: =J22+K22 -> 2 | U22: =F22+K22+L22 -> 3 | V22: =P22 -> 0 | W22: =L22+M22+N22+O22 -> 1
A23: ÀÜ¸²ØºÜÀ | D23: =D7+D8+D9+D10+D11+D12+D13+D14+D15+D16+D18+D19+D20+D21+D22 -> 1 | E23: =E7+E8+E9+E10+E11+E12+E13+E14+E15+E16+E18+E19+E20+E21+E22 -> 64 | F23: =F7+F8+F9+F10+F11+F12+F13+F14+F15+F16+F18+F19+F20+F21+F22 -> 4 | G23: =G7+G8+G9+G10+G11+G12+G13+G14+G15+G16+G18+G19+G20+G21+G22 -> 0 | H23: =H7+H8+H9+H10+H11+H12+H13+H14+H15+H16+H18+H19+H20+H21+H22 -> 58 | I23: =I7+I8+I9+I10+I11+I12+I13+I14+I15+I16+I18+I19+I20+I21+I22 -> 1 | J23: =J7+J8+J9+J10+J11+J12+J13+J14+J15+J16+J18+J19+J20+J21+J22 -> 1 | K23: =K7+K8+K9+K10+K11+K12+K13+K14+K15+K16+K18+K19+K20+K21+K22 -> 60 | ... R23: =R7+R8+R9+R10+R11+R12+R13+R14+R15+R16+R18+R19+R20+R21+R22 -> 0 | T23: =SUM(T7:T16,T18:T22) -> 64 | U23: =F23+K23+L23 -> 65 | V23: =SUM(V7:V16,V18:V22) -> 58 | W23: =SUM(W7:W16,W18:W22) -> 59

Sheet Ա. Կուբանյան
A1: 2015Ã. | D1: Ð²ÞìºîìàôÂÚàôÜ | P1: Ð³í»Éí³Í Ð³Û³ëï³ÝÇ Ð³Ýñ³å»ïáõÃÛ³Ý ¸³ï³ñ³ÝÝ»ñÇ Ý³Ë³·³ÑÝ»ñÇ ËáñÑñ¹Ç 01.02.2016Ã. ÃÇí 11È áñáßÙ³Ý
A2: ØÇÝã¹³ï³Ï³Ý í³ñáõÛÃÇ ÝÏ³ïÙ³Ùµ ¹³ï³Ï³Ý í»ñ³ÑëÏáÕáõÃÛ³ÝÁ, ¹³ï³Ï³Ý ³Ïï»ñÇ ¨ ¹³ï³Ï³Ý Ñ³ÝÓÝ³ñ³ñáõÃÛáõÝÝ»ñÇ Ï³ï³ñÙ³Ý Ñ»ï Ï³åí³Í ÙÇçÝáñ¹áõÃÛáõÝÝ»ñÇ í»ñ³µ»ñÛ³É ¹³ï³Ï³Ý ·áñÍ»ñáí ºñ¨³Ý ù³Õ³ùÇ Þ»Ý·³íÇÃ í³ñã³Ï³Ý ßñç³ÝÇ ÁÝ¹Ñ³Ýáõñ Çñ³í³ëáõÃÛ³Ý ³é³çÇÝ ³ïÛ³ÝÇ ¹³ï³ñ³ÝÇ ¹³ï³íáñ Ա. Կուբանյանի ·áñÍáõÝ»áõÃÛ³Ý í»ñ³µ»ñÛ³É
A3: êïáõ·Çã Ñ³í³ë³ñáõÙ` 1+2=3+8+9, 8=4+5+6+7, | D3: Ð³ßí»ïáõ Å³Ù³Ý³Ï³Ñ³ïí³ÍÇ ëÏ½µáõÙ Ý³Ëáñ¹ Ñ³ßí»ïáõ Å³Ù³Ý³Ï³Ñ³ïí³ÍÇó ÷áË³Ýóí³Í ·áñÍ»ñÇ ÁÝ¹Ñ³Ýáõñ ÃÇíÁ | E3: Ð³ßí»ïáõ Å³Ù³Ý³Ï³Ñ³ïí³ÍáõÙ ëï³óí³Í ·áñÍ»ñÇ ÁÝ¹Ñ³Ýáõñ ÃÇíÁ | F3: öáË³Ýóí»É ¿ ³ÛÉ ¹³ï³íáñÇ Ï³Ù ³ÛÉ ¹³ï³ñ³Ý (Ï³½ÙÇ ÷á÷áËáõÃÛáõÝ, ÁÝ¹¹³ïáõÃÛáõÝ) | G3: Ð³ßí»ïáõ Å³Ù³Ý³Ï³Ñ³ïí³ÍáõÙ ³í³ñïí³Í ·áñÍ»ñÇ ÁÝ¹Ñ³Ýáõñ ÃÇíÁ | L3: Ð³ßí»ïáõ Å³Ù³Ý³Ï³Ñ³ïí³ÍáõÙ ³Ý³í³ñï ·áñÍ»ñÇ ÁÝ¹Ñ³Ýáõñ ÃÇíÁ | M3: ØÇçÝáñ¹áõÃÛáõÝÝ»ñáí Ï³Û³óí³Í ¹³ï³Ï³Ý ³Ïï»ñÇó µáÕáù³ñÏí³ÍÝ»ñÇ ù³Ý³ÏÁ | O3: ²Ý³í³ñï µáÕáùÝ»ñ | P3: ØÇçÝáñ¹áõÃÛáõÝÝ»ñáí Ï³Û³óí³Í ¨ µáÕáù³ñÏí³Í ¹³ï³Ï³Ý ³Ïï»ñÇó µ»Ï³Ýí³ÍÝ»ñÇ ù³Ý³ÏÁ | R3: ÙÇçÝáñ¹áõÃÛáõÝÝ»ñáí Ï³Û³óí³Í ¨ µáÕáù³ñÏí³Í ¹³ï³Ï³Ý ³Ïï»ñÇó ³Ý÷á÷áË ÃáÕÝí³ÍÝ»ñÇ ù³Ý³ÏÁ
G4: Ù»ñÅí»É ¿ | H4: µ³í³ñ³ñí»É ¿ | I4: µ³í³ñ³ñí»É ¿ Ù³ëÝ³ÏÇ | J4: ÃáÕÝí»É ¿ ³é³Ýó ùÝÝáõÃÛ³Ý | K4: ÀÝ¹³Ù»ÝÁ
M5: Ý³Ëáñ¹ ï³ñÇÝ»ñÇÝ Ï³Û³óí³Í ³Ïï»ñÇ ¹»Ù | N5: Ñ³ßí»ïáõ Å³Ù³Ý³Ï³ßñç³ÝáõÙ Ï³Û³óí³Í ³Ïï»ñÇ ¹»Ù | P5: Ý³Ëáñ¹ ï³ñÇÝ»ñÇÝ Ï³Û³óí³Í ³Ïï»ñÇ µ»Ï³ÝáõÙÝ»ñÁ | Q5: Ñ³ßí»ïáõ Å³Ù³Ý³Ï³ßñç³ÝáõÙ Ï³Û³óí³Í ³Ïï»ñÇ µ»Ï³ÝáõÙÝ»ñÁ
A6: 1. ØÇÝã¹³ï³Ï³Ý í³ñáõÛÃÇ ÝÏ³ïÙ³Ùµ ¹³ï³Ï³Ý í»ñ³ÑëÏáÕáõÃÛ³Ý áÉáñï | D6: 1 | E6: 2 | F6: 3 | G6: 4 | H6: 5 | I6: 6 | J6: 7 | K6: 8 | L6: 9 | M6: 10 | N6: 11 | O6: 12 | P6: 13 | Q6: 14 | R6: 15 | T6: 1+2=3+8+9 | V6: 8=4+5+6+7
A7: 1 | B7: Ï³É³ÝùÁ áñå»ë Ë³÷³ÝÙ³Ý ÙÇçáó ÏÇñ³é»Éáõ Ù³ëÇÝ ÙÇçÝáñ¹áõÃÛáõÝÝ»ñ | E7: 3 | H7: 3 | K7: 3 | T7: =D7+E7 -> 3 | U7: =F7+K7+L7 -> 3 | V7: =K7 -> 3 | W7: =G7+H7+I7+J7 -> 3
A8: 2 | B8: Ï³É³ÝùÇ Å³ÙÏ»ïÁ »ñÏ³ñ³óÝ»Éáõ Ù³ëÇÝ ÙÇçÝáñ¹áõÃÛáõÝÝ»ñ | E8: 1 | H8: 1 | K8: 1 | T8: =D8+E8 -> 1 | U8: =F8+K8+L8 -> 1 | V8: =K8 -> 1 | W8: =G8+H8+I8+J8 -> 1
A9: 3 | B9: Ï³É³ÝùÇ í»ñ³Ñ³ëï³ïÙ³Ý Ù³ëÇÝ ÙÇçÝáñ¹áõÃÛáõÝÝ»ñ | T9: =D9+E9 -> 0 | U9: =F9+K9+L9 -> 0 | V9: =K9 -> 0 | W9: =G9+H9+I9+J9 -> 0
A10: 4 | B10: ·ñ³íÁ áñå»ë Ï³É³Ý³íáñÙ³Ý ³ÛÉÁÝïñ³Ýù³ÛÇÝ Ë³÷³ÝÙ³Ý ÙÇçáó ÏÇñ³é»Éáõ Ù³ëÇÝ ÙÇçÝáñ¹áõÃÛáõÝÝ»ñ | E10: 3 | G10: 3 | K10: 3 | N10: 1 | R10: 1 | T10: =D10+E10 -> 3 | U10: =F10+K10+L10 -> 3 | V10: =K10 -> 3 | W10: =G10+H10+I10+J10 -> 3
A11: 5 | B11: Ëáõ½³ñÏáõÃÛ³Ý Ï³ï³ñÙ³Ý Ù³ëÇÝ ÙÇçÝáñ¹áõÃÛáõÝÝ»ñ | E11: 17 | H11: 17 | K11: 17 | T11: =D11+E11 -> 17 | U11: =F11+K11+L11 -> 17 | V11: =K11 -> 17 | W11: =G11+H11+I11+J11 -> 17
A12: 6 | B12: µ³ÝÏ³ÛÇÝ, ³å³Ñáí³·ñ³Ï³Ý, Ýáï³ñ³Ï³Ý ·³ÕïÝÇù Ï³½ÙáÕ ï»Õ»ÏáõÃÛáõÝÝ»ñÇ ëï³óÙ³Ý Ñ³Ù³ñ Ëáõ½³ñÏáõÃÛ³Ý Ï³Ù ³é·ñ³íÙ³Ý Ï³ï³ñÙ³Ý Ù³ëÇÝ ÙÇçÝáñ¹áõÃÛáõÝÝ»ñ | T12: =D12+E12 -> 0 | U12: =F12+K12+L12 -> 0 | V12: =K12 -> 0 | W12: =G12+H12+I12+J12 -> 0
A13: 7 | B13: Ý³Ù³Ï³·ñáõÃÛ³Ý, Ñ»é³·ñ³Ï³Ý, ÷áuï³ÛÇÝ Ñ³Õáñ¹áõÙÝ»ñÇ ÑëÏáÕáõÃÛ³Ý Ù³ëÇÝ ÙÇçÝáñ¹áõÃÛáõÝÝ»ñ | T13: =D13+E13 -> 0 | U13: =F13+K13+L13 -> 0 | V13: =K13 -> 0 | W13: =G13+H13+I13+J13 -> 0
A14: 8 | B14: Ñ»é³Ëáu³ÛÇÝ Ï³Ù Ï³åÇ ³ÛÉ ÙÇçáóÝ»ñáí ï³ñíáÕ Ëáu³ÏóáõÃÛáõÝÝ»ñÇ ÉuÙ³Ý ¨ Ó³ÛÝ³·ñ³éÙ³Ý Ù³ëÇÝ ÙÇçÝáñ¹áõÃÛáõÝÝ»ñ | T14: =D14+E14 -> 0 | U14: =F14+K14+L14 -> 0 | V14: =K14 -> 0 | W14: =G14+H14+I14+J14 -> 0
A15: 9 | B15: Ñ»é³ËáëÝ»ñÇ Ùáõïù³ÛÇÝ ¨ »Éù³ÛÇÝ í»ñÍ³ÝÙ³Ý ÃáõÛÉïíáõÃÛáõÝ ëï³Ý³Éáõ Ù³ëÇÝ ÙÇçÝáñ¹áõÃÛáõÝÝ»ñ | E15: 36 | H15: 36 | K15: 36 | T15: =D15+E15 -> 36 | U15: =F15+K15+L15 -> 36 | V15: =K15 -> 36 | W15: =G15+H15+I15+J15 -> 36
A16: 10 | B16: Ñ»ï³ùÝÝáõÃÛ³Ý Ù³ñÙÝÇ ³ßË³ïáÕÇ, ùÝÝÇãÇ, ¹³ï³Ë³½Ç oå»ñ³ïÇí-Ñ»ï³Ëáõ½³Ï³Ý ·áñÍáÕáõÃÛáõÝÝ»ñ Çñ³Ï³Ý³óÝáÕ Ù³ñÙÇÝÝ»ñÇ ³ÝoñÇÝ³Ï³Ý ¨ ³ÝÑÇÙÝ áñáßáõÙÝ»ñÇ ¨ ·áñÍáÕáõÃÛáõÝÝ»ñÇ ¹»Ù µáÕáùÝ»ñ | T16: =D16+E16 -> 0 | U16: =F16+K16+L16 -> 0 | V16: =K16 -> 0 | W16: =G16+H16+I16+J16 -> 0
A17: 2. ¸³ï³Ï³Ý ³Ïï»ñÇ ¨ ¹³ï³Ï³Ý Ñ³ÝÓÝ³ñ³ñáõÃÛáõÝÝ»ñÇ Ï³ï³ñÙ³Ý Ñ»ï Ï³åí³Í Ñ³ñó»ñÇ ÉáõÍÙ³Ý áÉáñï
A18: 1 | B18: å³ïÅÇó å³ÛÙ³Ý³Ï³Ý í³Õ³Å³ÙÏ»ï ³½³ï»Éáõ Ù³ëÇÝ ÙÇçÝáñ¹áõÃÛáõÝÝ»ñ | T18: =J18+K18 -> 0 | U18: =F18+K18+L18 -> 0 | V18: =P18 -> 0 | W18: =L18+M18+N18+O18 -> 0
A19: 2 | B19: å³ïÇÅÁ ÷á÷áË»Éáõ, Ñ»ï³Ó·»Éáõ ¨ å³ïÅÇó ³½³ï»Éáõ Ù³uÇÝ ÙÇçÝáñ¹áõÃÛáõÝÝ»ñ | T19: =J19+K19 -> 0 | U19: =F19+K19+L19 -> 0 | V19: =P19 -> 0 | W19: =L19+M19+N19+O19 -> 0
A20: 3 | B20: Ñ³ñÏ³¹Çñ µáõÅÙ³Ý ï»ë³ÏÇ ÷á÷áËáõÃÛ³Ý Ù³ëÇÝ ÙÇçÝáñ¹áõÃÛáõÝÝ»ñ | T20: =J20+K20 -> 0 | U20: =F20+K20+L20 -> 0 | V20: =P20 -> 0 | W20: =L20+M20+N20+O20 -> 0
A21: 4 | B21: ³ÛÉ ÙÇçÝáñ¹áõÃÛáõÝÝ»ñ | E21: 1 | H21: 1 | K21: 1 | N21: 1 | R21: 1 | T21: =J21+K21 -> 1 | U21: =F21+K21+L21 -> 1 | V21: =P21 -> 0 | W21: =L21+M21+N21+O21 -> 1
A22: 5 | B22: ¹³ï³Ï³Ý Ñ³ÝÓÝ³ñ³ñáõÃÛáõÝÝ»ñ | D22: 1 | E22: 3 | G22: 1 | K22: 1 | L22: 3 | T22: =J22+K22 -> 1 | U22: =F22+K22+L22 -> 4 | V22: =P22 -> 0 | W22: =L22+M22+N22+O22 -> 3
A23: ÀÜ¸²ØºÜÀ | D23: =D7+D8+D9+D10+D11+D12+D13+D14+D15+D16+D18+D19+D20+D21+D22 -> 1 | E23: =E7+E8+E9+E10+E11+E12+E13+E14+E15+E16+E18+E19+E20+E21+E22 -> 64 | F23: =F7+F8+F9+F10+F11+F12+F13+F14+F15+F16+F18+F19+F20+F21+F22 -> 0 | G23: =G7+G8+G9+G10+G11+G12+G13+G14+G15+G16+G18+G19+G20+G21+G22 -> 4 | H23: =H7+H8+H9+H10+H11+H12+H13+H14+H15+H16+H18+H19+H20+H21+H22 -> 58 | I23: =I7+I8+I9+I10+I11+I12+I13+I14+I15+I16+I18+I19+I20+I21+I22 -> 0 | J23: =J7+J8+J9+J10+J11+J12+J13+J14+J15+J16+J18+J19+J20+J21+J22 -> 0 | K23: =K7+K8+K9+K10+K11+K12+K13+K14+K15+K16+K18+K19+K20+K21+K22 -> 62 | ... R23: =R7+R8+R9+R10+R11+R12+R13+R14+R15+R16+R18+R19+R20+R21+R22 -> 2 | T23: =SUM(T7:T16,T18:T22) -> 62 | U23: =F23+K23+L23 -> 65 | V23: =SUM(V7:V16,V18:V22) -> 60 | W23: =SUM(W7:W16,W18:W22) -> 64

Sheet Ի. Բարսեղյան
A1: 2015Ã. | D1: Ð²ÞìºîìàôÂÚàôÜ | P1: Ð³í»Éí³Í Ð³Û³ëï³ÝÇ Ð³Ýñ³å»ïáõÃÛ³Ý ¸³ï³ñ³ÝÝ»ñÇ Ý³Ë³·³ÑÝ»ñÇ ËáñÑñ¹Ç 01.02.2016Ã. ÃÇí 11È áñáßÙ³Ý
A2: ØÇÝã¹³ï³Ï³Ý í³ñáõÛÃÇ ÝÏ³ïÙ³Ùµ ¹³ï³Ï³Ý í»ñ³ÑëÏáÕáõÃÛ³ÝÁ, ¹³ï³Ï³Ý ³Ïï»ñÇ ¨ ¹³ï³Ï³Ý Ñ³ÝÓÝ³ñ³ñáõÃÛáõÝÝ»ñÇ Ï³ï³ñÙ³Ý Ñ»ï Ï³åí³Í ÙÇçÝáñ¹áõÃÛáõÝÝ»ñÇ í»ñ³µ»ñÛ³É ¹³ï³Ï³Ý ·áñÍ»ñáí ºñ¨³Ý ù³Õ³ùÇ Þ»Ý·³íÇÃ í³ñã³Ï³Ý ßñç³ÝÇ ÁÝ¹Ñ³Ýáõñ Çñ³í³ëáõÃÛ³Ý ³é³çÇÝ ³ïÛ³ÝÇ ¹³ï³ñ³ÝÇ ¹³ï³íáñ Ի. Բարսեղյանի ·áñÍáõÝ»áõÃÛ³Ý í»ñ³µ»ñÛ³É
