Workbook

Sheet @ndhanur
A1: Ð²ÞìºîìàôÂÚàôÜ
A2: Հավելված 2 Հայաստանի Հանրապետության Դատարանների նախագահների խորհրդի 2007թ. ¹»Ïï»Ùµ»ñÇ 21-ի թիվ 23Լ որոշման
A3: ÐÐ ÀÜ¸Ð²Üàôð Æð²ì²êàôÂÚ²Ü ²è²æÆÜ ²îÚ²ÜÆ ¸²î²ð²ÜÜºðàôØ ØÆÜâ¸²î²Î²Ü ì²ðàôÚÂÆ ÜÎ²îØ²Ø´ ¸²î²Î²Ü ìºð²ÐêÎàÔàôÂÚ²Ü, ¸²î²Î²Ü ²ÎîºðÆ Î²î²ðØ²Ü Ðºî Î²äì²Ì Ð²ðòºðÆ ìºð²´ºðÚ²È 2014 Âì²Î²Ü
A4: ØÇçÝáñ¹áõÃÛáõÝÝ»ñÇ ùÝÝ³ñÏÙ³Ý ÁÝÃ³óùÁ | D4: Ü»ñÏ³Û³óí³Í ÙÇçÝáñ¹áõÃÛáõÝÝ»ñÇ ù³Ý³ÏÁ | E4: Ù»ñÅí»É ¿ | F4: µ³í³ñ³ñí»É ¿ | G4: ÃáÕÝí»É ³é³Ýó ùÝÝáõÃÛ³Ý | H4: ³Ý³í³ñï | I4: µáÕáù³ñÏí»É ¿ í»ñ³ùÝÝÇã ¹³ï³ñ³Ý
A5: êïáõ·Çã Ñ³í³ë³ñáõÙ` 1=2+3+4+5
A6: 1. ØÇÝã¹³ï³Ï³Ý í³ñáõÛÃÇ ÝÏ³ïÙ³Ùµ ¹³ï³Ï³Ý í»ñ³ÑëÏáÕáõÃÛ³Ý áÉáñï | D6: 1 | E6: 2 | F6: 3 | G6: 4 | H6: 5 | I6: 6
A7: ³(06) | B7: Ï³É³ÝùÁ áñå»ë Ë³÷³ÝÙ³Ý ÙÇçáó ÏÇñ³é»Éáõ Ù³ëÇÝ | D7: =SUM(kotayq!D7+shirak!D7+syuniq!D7+lori!D7+gexarquniq!D7+tavush!D7+aragacotn!D7+armavir!D7+ararat!D7+ajapnyak!D7+arabkir!D7+avan!D7+kentron!D7+malatia!D7+shengavit!D7+erebuni!D7) -> 2331 | E7: =SUM(kotayq!E7+shirak!E7+syuniq!E7+lori!E7+gexarquniq!E7+tavush!E7+aragacotn!E7+armavir!E7+ararat!E7+ajapnyak!E7+arabkir!E7+avan!E7+kentron!E7+malatia!E7+shengavit!E7+erebuni!E7) -> 122 | F7: =SUM(kotayq!F7+shirak!F7+syuniq!F7+lori!F7+gexarquniq!F7+tavush!F7+aragacotn!F7+armavir!F7+ararat!F7+ajapnyak!F7+arabkir!F7+avan!F7+kentron!F7+malatia!F7+shengavit!F7+erebuni!F7) -> 2203 | G7: =SUM(kotayq!G7+shirak!G7+syuniq!G7+lori!G7+gexarquniq!G7+tavush!G7+aragacotn!G7+armavir!G7+ararat!G7+ajapnyak!G7+arabkir!G7+avan!G7+kentron!G7+malatia!G7+shengavit!G7+erebuni!G7) -> 6 | H7: =SUM(kotayq!H7+shirak!H7+syuniq!H7+lori!H7+gexarquniq!H7+tavush!H7+aragacotn!H7+armavir!H7+ararat!H7+ajapnyak!H7+arabkir!H7+avan!H7+kentron!H7+malatia!H7+shengavit!H7+erebuni!H7) -> 0 | I7: =SUM(kotayq!I7+shirak!I7+syuniq!I7+lori!I7+gexarquniq!I7+tavush!I7+aragacotn!I7+armavir!I7+ararat!I7+ajapnyak!I7+arabkir!I7+avan!I7+kentron!I7+malatia!I7+shengavit!I7+erebuni!I7) -> 295
A8: µ(06) | B8: Ï³É³ÝùÇ Å³ÙÏ»ïÇ »ñÏ³ñ³óÝ»Éáõ Ù³ëÇÝ | D8: =SUM(kotayq!D8+shirak!D8+syuniq!D8+lori!D8+gexarquniq!D8+tavush!D8+aragacotn!D8+armavir!D8+ararat!D8+ajapnyak!D8+arabkir!D8+avan!D8+kentron!D8+malatia!D8+shengavit!D8+erebuni!D8) -> 1905 | E8: =SUM(kotayq!E8+shirak!E8+syuniq!E8+lori!E8+gexarquniq!E8+tavush!E8+aragacotn!E8+armavir!E8+ararat!E8+ajapnyak!E8+arabkir!E8+avan!E8+kentron!E8+malatia!E8+shengavit!E8+erebuni!E8) -> 13 | F8: =SUM(kotayq!F8+shirak!F8+syuniq!F8+lori!F8+gexarquniq!F8+tavush!F8+aragacotn!F8+armavir!F8+ararat!F8+ajapnyak!F8+arabkir!F8+avan!F8+kentron!F8+malatia!F8+shengavit!F8+erebuni!F8) -> 1849 | G8: =SUM(kotayq!G8+shirak!G8+syuniq!G8+lori!G8+gexarquniq!G8+tavush!G8+aragacotn!G8+armavir!G8+ararat!G8+ajapnyak!G8+arabkir!G8+avan!G8+kentron!G8+malatia!G8+shengavit!G8+erebuni!G8) -> 20 | H8: =SUM(kotayq!H8+shirak!H8+syuniq!H8+lori!H8+gexarquniq!H8+tavush!H8+aragacotn!H8+armavir!H8+ararat!H8+ajapnyak!H8+arabkir!H8+avan!H8+kentron!H8+malatia!H8+shengavit!H8+erebuni!H8) -> 23 | I8: =SUM(kotayq!I8+shirak!I8+syuniq!I8+lori!I8+gexarquniq!I8+tavush!I8+aragacotn!I8+armavir!I8+ararat!I8+ajapnyak!I8+arabkir!I8+avan!I8+kentron!I8+malatia!I8+shengavit!I8+erebuni!I8) -> 321
A9: ·(06) | B9: ·ñ³íÁ áñå»ë Ï³É³Ý³íáñÙ³Ý ³ÛÉÁÝïñ³Ýù³ÛÇÝ Ë³÷³ÝÙ³Ý ÙÇçáó ÏÇñ³é»Éáõ Ù³ëÇÝ | D9: =SUM(kotayq!D9+shirak!D9+syuniq!D9+lori!D9+gexarquniq!D9+tavush!D9+aragacotn!D9+armavir!D9+ararat!D9+ajapnyak!D9+arabkir!D9+avan!D9+kentron!D9+malatia!D9+shengavit!D9+erebuni!D9) -> 572 | E9: =SUM(kotayq!E9+shirak!E9+syuniq!E9+lori!E9+gexarquniq!E9+tavush!E9+aragacotn!E9+armavir!E9+ararat!E9+ajapnyak!E9+arabkir!E9+avan!E9+kentron!E9+malatia!E9+shengavit!E9+erebuni!E9) -> 462 | F9: =SUM(kotayq!F9+shirak!F9+syuniq!F9+lori!F9+gexarquniq!F9+tavush!F9+aragacotn!F9+armavir!F9+ararat!F9+ajapnyak!F9+arabkir!F9+avan!F9+kentron!F9+malatia!F9+shengavit!F9+erebuni!F9) -> 99 | G9: =SUM(kotayq!G9+shirak!G9+syuniq!G9+lori!G9+gexarquniq!G9+tavush!G9+aragacotn!G9+armavir!G9+ararat!G9+ajapnyak!G9+arabkir!G9+avan!G9+kentron!G9+malatia!G9+shengavit!G9+erebuni!G9) -> 9 | H9: =SUM(kotayq!H9+shirak!H9+syuniq!H9+lori!H9+gexarquniq!H9+tavush!H9+aragacotn!H9+armavir!H9+ararat!H9+ajapnyak!H9+arabkir!H9+avan!H9+kentron!H9+malatia!H9+shengavit!H9+erebuni!H9) -> 2 | I9: =SUM(kotayq!I9+shirak!I9+syuniq!I9+lori!I9+gexarquniq!I9+tavush!I9+aragacotn!I9+armavir!I9+ararat!I9+ajapnyak!I9+arabkir!I9+avan!I9+kentron!I9+malatia!I9+shengavit!I9+erebuni!I9) -> 133
A10: ¹(07) | B10: Ëáõ½³ñÏáõÃÛ³Ý Ï³ï³ñÙ³Ý Ù³ëÇÝ | D10: =SUM(kotayq!D10+shirak!D10+syuniq!D10+lori!D10+gexarquniq!D10+tavush!D10+aragacotn!D10+armavir!D10+ararat!D10+ajapnyak!D10+arabkir!D10+avan!D10+kentron!D10+malatia!D10+shengavit!D10+erebuni!D10) -> 4504 | E10: =SUM(kotayq!E10+shirak!E10+syuniq!E10+lori!E10+gexarquniq!E10+tavush!E10+aragacotn!E10+armavir!E10+ararat!E10+ajapnyak!E10+arabkir!E10+avan!E10+kentron!E10+malatia!E10+shengavit!E10+erebuni!E10) -> 105 | F10: =SUM(kotayq!F10+shirak!F10+syuniq!F10+lori!F10+gexarquniq!F10+tavush!F10+aragacotn!F10+armavir!F10+ararat!F10+ajapnyak!F10+arabkir!F10+avan!F10+kentron!F10+malatia!F10+shengavit!F10+erebuni!F10) -> 4373 | G10: =SUM(kotayq!G10+shirak!G10+syuniq!G10+lori!G10+gexarquniq!G10+tavush!G10+aragacotn!G10+armavir!G10+ararat!G10+ajapnyak!G10+arabkir!G10+avan!G10+kentron!G10+malatia!G10+shengavit!G10+erebuni!G10) -> 20 | H10: =SUM(kotayq!H10+shirak!H10+syuniq!H10+lori!H10+gexarquniq!H10+tavush!H10+aragacotn!H10+armavir!H10+ararat!H10+ajapnyak!H10+arabkir!H10+avan!H10+kentron!H10+malatia!H10+shengavit!H10+erebuni!H10) -> 0 | I10: =SUM(kotayq!I10+shirak!I10+syuniq!I10+lori!I10+gexarquniq!I10+tavush!I10+aragacotn!I10+armavir!I10+ararat!I10+ajapnyak!I10+arabkir!I10+avan!I10+kentron!I10+malatia!I10+shengavit!I10+erebuni!I10) -> 19
A11: »(08) | B11: Ý³Ù³Ï³·ñáõÃÛ³Ý, Ñ»é³·ñ³Ï³Ý, ÷áuï³ÛÇÝ Ñ³Õáñ¹áõÙÝ»ñÇ ÑëÏáÕáõÃÛ³Ý ÙÇçÝáñ¹áõÃÛáõÝÝ»ñÇ Ù³ëÇÝ | D11: =SUM(kotayq!D11+shirak!D11+syuniq!D11+lori!D11+gexarquniq!D11+tavush!D11+aragacotn!D11+armavir!D11+ararat!D11+ajapnyak!D11+arabkir!D11+avan!D11+kentron!D11+malatia!D11+shengavit!D11+erebuni!D11) -> 651 | E11: =SUM(kotayq!E11+shirak!E11+syuniq!E11+lori!E11+gexarquniq!E11+tavush!E11+aragacotn!E11+armavir!E11+ararat!E11+ajapnyak!E11+arabkir!E11+avan!E11+kentron!E11+malatia!E11+shengavit!E11+erebuni!E11) -> 0 | F11: =SUM(kotayq!F11+shirak!F11+syuniq!F11+lori!F11+gexarquniq!F11+tavush!F11+aragacotn!F11+armavir!F11+ararat!F11+ajapnyak!F11+arabkir!F11+avan!F11+kentron!F11+malatia!F11+shengavit!F11+erebuni!F11) -> 651 | G11: =SUM(kotayq!G11+shirak!G11+syuniq!G11+lori!G11+gexarquniq!G11+tavush!G11+aragacotn!G11+armavir!G11+ararat!G11+ajapnyak!G11+arabkir!G11+avan!G11+kentron!G11+malatia!G11+shengavit!G11+erebuni!G11) -> 0 | H11: =SUM(kotayq!H11+shirak!H11+syuniq!H11+lori!H11+gexarquniq!H11+tavush!H11+aragacotn!H11+armavir!H11+ararat!H11+ajapnyak!H11+arabkir!H11+avan!H11+kentron!H11+malatia!H11+shengavit!H11+erebuni!H11) -> 0 | I11: =SUM(kotayq!I11+shirak!I11+syuniq!I11+lori!I11+gexarquniq!I11+tavush!I11+aragacotn!I11+armavir!I11+ararat!I11+ajapnyak!I11+arabkir!I11+avan!I11+kentron!I11+malatia!I11+shengavit!I11+erebuni!I11) -> 1
A12: ½(09) | B12: Ñ»é³Ëáu³ÛÇÝ Ï³Ù Ï³åÇ ³ÛÉ ÙÇçáóÝ»ñáí ï³ñíáÕ Ëáu³ÏóáõÃÛáõÝÝ»ñÇ ÉuÙ³Ý ¨ Ó³ÛÝ³·ñ³éÙ³Ý ÙÇçÝáñ¹áõÃÛáõÝÝ»ñÇ Ù³ëÇÝ | D12: =SUM(kotayq!D12+shirak!D12+syuniq!D12+lori!D12+gexarquniq!D12+tavush!D12+aragacotn!D12+armavir!D12+ararat!D12+ajapnyak!D12+arabkir!D12+avan!D12+kentron!D12+malatia!D12+shengavit!D12+erebuni!D12) -> 75 | E12: =SUM(kotayq!E12+shirak!E12+syuniq!E12+lori!E12+gexarquniq!E12+tavush!E12+aragacotn!E12+armavir!E12+ararat!E12+ajapnyak!E12+arabkir!E12+avan!E12+kentron!E12+malatia!E12+shengavit!E12+erebuni!E12) -> 1 | F12: =SUM(kotayq!F12+shirak!F12+syuniq!F12+lori!F12+gexarquniq!F12+tavush!F12+aragacotn!F12+armavir!F12+ararat!F12+ajapnyak!F12+arabkir!F12+avan!F12+kentron!F12+malatia!F12+shengavit!F12+erebuni!F12) -> 72 | G12: =SUM(kotayq!G12+shirak!G12+syuniq!G12+lori!G12+gexarquniq!G12+tavush!G12+aragacotn!G12+armavir!G12+ararat!G12+ajapnyak!G12+arabkir!G12+avan!G12+kentron!G12+malatia!G12+shengavit!G12+erebuni!G12) -> 2 | H12: 0 | I12: =SUM(kotayq!I12+shirak!I12+syuniq!I12+lori!I12+gexarquniq!I12+tavush!I12+aragacotn!I12+armavir!I12+ararat!I12+ajapnyak!I12+arabkir!I12+avan!I12+kentron!I12+malatia!I12+shengavit!I12+erebuni!I12) -> 1
A13: ¿(10) | B13: Ñ»é³ËáëÝ»ñÇ Ùáõïù³ÛÇÝ ¨ »Éù³ÛÇÝ í»ñÍ³ÝÙ³Ý ÃáõÛÉïíáõÃÛáõÝ ëï³Ý³Éáõ ÙÇçÝáñ¹áõÃÛáõÝÝ»ñÇ Ù³ëÇÝ | D13: =SUM(kotayq!D13+shirak!D13+syuniq!D13+lori!D13+gexarquniq!D13+tavush!D13+aragacotn!D13+armavir!D13+ararat!D13+ajapnyak!D13+arabkir!D13+avan!D13+kentron!D13+malatia!D13+shengavit!D13+erebuni!D13) -> 4350 | E13: =SUM(kotayq!E13+shirak!E13+syuniq!E13+lori!E13+gexarquniq!E13+tavush!E13+aragacotn!E13+armavir!E13+ararat!E13+ajapnyak!E13+arabkir!E13+avan!E13+kentron!E13+malatia!E13+shengavit!E13+erebuni!E13) -> 58 | F13: =SUM(kotayq!F13+shirak!F13+syuniq!F13+lori!F13+gexarquniq!F13+tavush!F13+aragacotn!F13+armavir!F13+ararat!F13+ajapnyak!F13+arabkir!F13+avan!F13+kentron!F13+malatia!F13+shengavit!F13+erebuni!F13) -> 4288 | G13: =SUM(kotayq!G13+shirak!G13+syuniq!G13+lori!G13+gexarquniq!G13+tavush!G13+aragacotn!G13+armavir!G13+ararat!G13+ajapnyak!G13+arabkir!G13+avan!G13+kentron!G13+malatia!G13+shengavit!G13+erebuni!G13) -> 4 | H13: =SUM(kotayq!H13+shirak!H13+syuniq!H13+lori!H13+gexarquniq!H13+tavush!H13+aragacotn!H13+armavir!H13+ararat!H13+ajapnyak!H13+arabkir!H13+avan!H13+kentron!H13+malatia!H13+shengavit!H13+erebuni!H13) -> 0 | I13: =SUM(kotayq!I13+shirak!I13+syuniq!I13+lori!I13+gexarquniq!I13+tavush!I13+aragacotn!I13+armavir!I13+ararat!I13+ajapnyak!I13+arabkir!I13+avan!I13+kentron!I13+malatia!I13+shengavit!I13+erebuni!I13) -> 7
A14: Á(11) | B14: Ñ»ï³ùÝÝáõÃÛ³Ý Ù³ñÙÝÇ ³ßË³ïáÕÇ, ùÝÝÇãÇ, ¹³ï³Ë³½Ç oå»ñ³ïÇí-Ñ»ï³Ëáõ½³Ï³Ý ·áñÍáÕáõÃÛáõÝÝ»ñ Çñ³Ï³Ý³óÝáÕ Ù³ñÙÇÝÝ»ñÇ ³ÝoñÇÝ³Ï³Ý ¨ ³ÝÑÇÙÝ áñáßáõÙÝ»ñÇ ¨ ·áñÍáÕáõÃÛáõÝÝ»ñÇ ¹»Ù µáÕáùÝ»ñÇ Ù³ëÇÝ | D14: =SUM(kotayq!D14+shirak!D14+syuniq!D14+lori!D14+gexarquniq!D14+tavush!D14+aragacotn!D14+armavir!D14+ararat!D14+ajapnyak!D14+arabkir!D14+avan!D14+kentron!D14+malatia!D14+shengavit!D14+erebuni!D14) -> 775 | E14: =SUM(kotayq!E14+shirak!E14+syuniq!E14+lori!E14+gexarquniq!E14+tavush!E14+aragacotn!E14+armavir!E14+ararat!E14+ajapnyak!E14+arabkir!E14+avan!E14+kentron!E14+malatia!E14+shengavit!E14+erebuni!E14) -> 480 | F14: =SUM(kotayq!F14+shirak!F14+syuniq!F14+lori!F14+gexarquniq!F14+tavush!F14+aragacotn!F14+armavir!F14+ararat!F14+ajapnyak!F14+arabkir!F14+avan!F14+kentron!F14+malatia!F14+shengavit!F14+erebuni!F14) -> 110 | G14: =SUM(kotayq!G14+shirak!G14+syuniq!G14+lori!G14+gexarquniq!G14+tavush!G14+aragacotn!G14+armavir!G14+ararat!G14+ajapnyak!G14+arabkir!G14+avan!G14+kentron!G14+malatia!G14+shengavit!G14+erebuni!G14) -> 42 | H14: =SUM(kotayq!H14+shirak!H14+syuniq!H14+lori!H14+gexarquniq!H14+tavush!H14+aragacotn!H14+armavir!H14+ararat!H14+ajapnyak!H14+arabkir!H14+avan!H14+kentron!H14+malatia!H14+shengavit!H14+erebuni!H14) -> 112 | I14: =SUM(kotayq!I14+shirak!I14+syuniq!I14+lori!I14+gexarquniq!I14+tavush!I14+aragacotn!I14+armavir!I14+ararat!I14+ajapnyak!I14+arabkir!I14+avan!I14+kentron!I14+malatia!I14+shengavit!I14+erebuni!I14) -> 352
A15: 2. ¸³ï³Ï³Ý ³Ïï»ñÇ Ñ»ï Ï³ï³ñÙ³Ý Ñ»ï Ï³åí³Í Ñ³ñó»ñÇ ÉáõÍÙ³Ý áÉáñï
A16: ³(12) | B16: å³ïÅÇó å³ÛÙ³Ý³Ï³Ý í³Õ³Å³ÙÏ»ï ³½³ï»Éáõ Ù³ëÇÝ | D16: =SUM(kotayq!D16+shirak!D16+syuniq!D16+lori!D16+gexarquniq!D16+tavush!D16+aragacotn!D16+armavir!D16+ararat!D16+ajapnyak!D16+arabkir!D16+avan!D16+kentron!D16+malatia!D16+shengavit!D16+erebuni!D16) -> 257 | E16: =SUM(kotayq!E16+shirak!E16+syuniq!E16+lori!E16+gexarquniq!E16+tavush!E16+aragacotn!E16+armavir!E16+ararat!E16+ajapnyak!E16+arabkir!E16+avan!E16+kentron!E16+malatia!E16+shengavit!E16+erebuni!E16) -> 37 | F16: =SUM(kotayq!F16+shirak!F16+syuniq!F16+lori!F16+gexarquniq!F16+tavush!F16+aragacotn!F16+armavir!F16+ararat!F16+ajapnyak!F16+arabkir!F16+avan!F16+kentron!F16+malatia!F16+shengavit!F16+erebuni!F16) -> 214 | G16: =SUM(kotayq!G16+shirak!G16+syuniq!G16+lori!G16+gexarquniq!G16+tavush!G16+aragacotn!G16+armavir!G16+ararat!G16+ajapnyak!G16+arabkir!G16+avan!G16+kentron!G16+malatia!G16+shengavit!G16+erebuni!G16) -> 4 | H16: =SUM(kotayq!H16+shirak!H16+syuniq!H16+lori!H16+gexarquniq!H16+tavush!H16+aragacotn!H16+armavir!H16+ararat!H16+ajapnyak!H16+arabkir!H16+avan!H16+kentron!H16+malatia!H16+shengavit!H16+erebuni!H16) -> 2 | I16: =SUM(kotayq!I16+shirak!I16+syuniq!I16+lori!I16+gexarquniq!I16+tavush!I16+aragacotn!I16+armavir!I16+ararat!I16+ajapnyak!I16+arabkir!I16+avan!I16+kentron!I16+malatia!I16+shengavit!I16+erebuni!I16) -> 45
A17: µ(13) | B17: ÀÝ¹³Ù»ÝÁ å³ïÇÅÁ ÷á÷áË»Éáõ, Ñ»ï³Ó·»Éáõ ¨ å³ïÅÇó ³½³ï»Éáõ Ù³uÇÝ ÙÇçÝáñ¹áõÃÛáõÝÝ»ñ | D17: =SUM(kotayq!D17+shirak!D17+syuniq!D17+lori!D17+gexarquniq!D17+tavush!D17+aragacotn!D17+armavir!D17+ararat!D17+ajapnyak!D17+arabkir!D17+avan!D17+kentron!D17+malatia!D17+shengavit!D17+erebuni!D17) -> 583 | E17: =SUM(kotayq!E17+shirak!E17+syuniq!E17+lori!E17+gexarquniq!E17+tavush!E17+aragacotn!E17+armavir!E17+ararat!E17+ajapnyak!E17+arabkir!E17+avan!E17+kentron!E17+malatia!E17+shengavit!E17+erebuni!E17) -> 231 | F17: =SUM(kotayq!F17+shirak!F17+syuniq!F17+lori!F17+gexarquniq!F17+tavush!F17+aragacotn!F17+armavir!F17+ararat!F17+ajapnyak!F17+arabkir!F17+avan!F17+kentron!F17+malatia!F17+shengavit!F17+erebuni!F17) -> 242 | G17: =SUM(kotayq!G17+shirak!G17+syuniq!G17+lori!G17+gexarquniq!G17+tavush!G17+aragacotn!G17+armavir!G17+ararat!G17+ajapnyak!G17+arabkir!G17+avan!G17+kentron!G17+malatia!G17+shengavit!G17+erebuni!G17) -> 48 | H17: =SUM(kotayq!H17+shirak!H17+syuniq!H17+lori!H17+gexarquniq!H17+tavush!H17+aragacotn!H17+armavir!H17+ararat!H17+ajapnyak!H17+arabkir!H17+avan!H17+kentron!H17+malatia!H17+shengavit!H17+erebuni!H17) -> 44 | I17: =SUM(kotayq!I17+shirak!I17+syuniq!I17+lori!I17+gexarquniq!I17+tavush!I17+aragacotn!I17+armavir!I17+ararat!I17+ajapnyak!I17+arabkir!I17+avan!I17+kentron!I17+malatia!I17+shengavit!I17+erebuni!I17) -> 23
A18: ·(14) | B18: Ñ³ñÏ³¹Çñ µáõÅÙ³Ý ï»ë³ÏÇ ÷á÷áËáõÃÛ³Ý Ù³ëÇÝ | D18: =SUM(kotayq!D18+shirak!D18+syuniq!D18+lori!D18+gexarquniq!D18+tavush!D18+aragacotn!D18+armavir!D18+ararat!D18+ajapnyak!D18+arabkir!D18+avan!D18+kentron!D18+malatia!D18+shengavit!D18+erebuni!D18) -> 182 | E18: =SUM(kotayq!E18+shirak!E18+syuniq!E18+lori!E18+gexarquniq!E18+tavush!E18+aragacotn!E18+armavir!E18+ararat!E18+ajapnyak!E18+arabkir!E18+avan!E18+kentron!E18+malatia!E18+shengavit!E18+erebuni!E18) -> 17 | F18: =SUM(kotayq!F18+shirak!F18+syuniq!F18+lori!F18+gexarquniq!F18+tavush!F18+aragacotn!F18+armavir!F18+ararat!F18+ajapnyak!F18+arabkir!F18+avan!F18+kentron!F18+malatia!F18+shengavit!F18+erebuni!F18) -> 161 | G18: =SUM(kotayq!G18+shirak!G18+syuniq!G18+lori!G18+gexarquniq!G18+tavush!G18+aragacotn!G18+armavir!G18+ararat!G18+ajapnyak!G18+arabkir!G18+avan!G18+kentron!G18+malatia!G18+shengavit!G18+erebuni!G18) -> 4 | H18: =SUM(kotayq!H18+shirak!H18+syuniq!H18+lori!H18+gexarquniq!H18+tavush!H18+aragacotn!H18+armavir!H18+ararat!H18+ajapnyak!H18+arabkir!H18+avan!H18+kentron!H18+malatia!H18+shengavit!H18+erebuni!H18) -> 0 | I18: =SUM(kotayq!I18+shirak!I18+syuniq!I18+lori!I18+gexarquniq!I18+tavush!I18+aragacotn!I18+armavir!I18+ararat!I18+ajapnyak!I18+arabkir!I18+avan!I18+kentron!I18+malatia!I18+shengavit!I18+erebuni!I18) -> 7
A19: ¹(15) | B19: ³ÛÉ ÙÇçÝáñ¹áõÃÛáõÝÝ»ñ | D19: =SUM(kotayq!D19+shirak!D19+syuniq!D19+lori!D19+gexarquniq!D19+tavush!D19+aragacotn!D19+armavir!D19+ararat!D19+ajapnyak!D19+arabkir!D19+avan!D19+kentron!D19+malatia!D19+shengavit!D19+erebuni!D19) -> 609 | E19: =SUM(kotayq!E19+shirak!E19+syuniq!E19+lori!E19+gexarquniq!E19+tavush!E19+aragacotn!E19+armavir!E19+ararat!E19+ajapnyak!E19+arabkir!E19+avan!E19+kentron!E19+malatia!E19+shengavit!E19+erebuni!E19) -> 170 | F19: =SUM(kotayq!F19+shirak!F19+syuniq!F19+lori!F19+gexarquniq!F19+tavush!F19+aragacotn!F19+armavir!F19+ararat!F19+ajapnyak!F19+arabkir!F19+avan!F19+kentron!F19+malatia!F19+shengavit!F19+erebuni!F19) -> 381 | G19: =SUM(kotayq!G19+shirak!G19+syuniq!G19+lori!G19+gexarquniq!G19+tavush!G19+aragacotn!G19+armavir!G19+ararat!G19+ajapnyak!G19+arabkir!G19+avan!G19+kentron!G19+malatia!G19+shengavit!G19+erebuni!G19) -> 31 | H19: =SUM(kotayq!H19+shirak!H19+syuniq!H19+lori!H19+gexarquniq!H19+tavush!H19+aragacotn!H19+armavir!H19+ararat!H19+ajapnyak!H19+arabkir!H19+avan!H19+kentron!H19+malatia!H19+shengavit!H19+erebuni!H19) -> 16 | I19: =SUM(kotayq!I19+shirak!I19+syuniq!I19+lori!I19+gexarquniq!I19+tavush!I19+aragacotn!I19+armavir!I19+ararat!I19+ajapnyak!I19+arabkir!I19+avan!I19+kentron!I19+malatia!I19+shengavit!I19+erebuni!I19) -> 38
A20: ÀÜ¸²ØºÜÀ | D20: =SUM(D7:D19) -> 16794 | E20: =SUM(E7:E19) -> 1696 | F20: =SUM(F7:F19) -> 14643 | G20: =SUM(G7:G19) -> 190 | H20: =SUM(H7:H19) -> 199 | I20: =SUM(I7:I19) -> 1242
A23: /16/ | B23: դատական հանձնարարություն | D23: =SUM(kotayq!D23+shirak!D23+syuniq!D23+lori!D23+gexarquniq!D23+tavush!D23+aragacotn!D23+armavir!D23+ararat!D23+ajapnyak!D23+arabkir!D23+avan!D23+kentron!D23+malatia!D23+shengavit!D23+erebuni!D23) -> 261 | E23: =SUM(kotayq!E23+shirak!E23+syuniq!E23+lori!E23+gexarquniq!E23+tavush!E23+aragacotn!E23+armavir!E23+ararat!E23+ajapnyak!E23+arabkir!E23+avan!E23+kentron!E23+malatia!E23+shengavit!E23+erebuni!E23) -> 13 | F23: =SUM(kotayq!F23+shirak!F23+syuniq!F23+lori!F23+gexarquniq!F23+tavush!F23+aragacotn!F23+armavir!F23+ararat!F23+ajapnyak!F23+arabkir!F23+avan!F23+kentron!F23+malatia!F23+shengavit!F23+erebuni!F23) -> 114 | G23: =SUM(kotayq!G23+shirak!G23+syuniq!G23+lori!G23+gexarquniq!G23+tavush!G23+aragacotn!G23+armavir!G23+ararat!G23+ajapnyak!G23+arabkir!G23+avan!G23+kentron!G23+malatia!G23+shengavit!G23+erebuni!G23) -> 23 | H23: =SUM(kotayq!H23+shirak!H23+syuniq!H23+lori!H23+gexarquniq!H23+tavush!H23+aragacotn!H23+armavir!H23+ararat!H23+ajapnyak!H23+arabkir!H23+avan!H23+kentron!H23+malatia!H23+shengavit!H23+erebuni!H23) -> 86 | I23: =SUM(kotayq!I23+shirak!I23+syuniq!I23+lori!I23+gexarquniq!I23+tavush!I23+aragacotn!I23+armavir!I23+ararat!I23+ajapnyak!I23+arabkir!I23+avan!I23+kentron!I23+malatia!I23+shengavit!I23+erebuni!I23) -> 2
A24: /06/ | B24: կալանքի վերահաստատում | D24: =SUM(kotayq!D24+shirak!D24+syuniq!D24+lori!D24+gexarquniq!D24+tavush!D24+aragacotn!D24+armavir!D24+ararat!D24+ajapnyak!D24+arabkir!D24+avan!D24+kentron!D24+malatia!D24+shengavit!D24+erebuni!D24) -> 241 | E24: =SUM(kotayq!E24+shirak!E24+syuniq!E24+lori!E24+gexarquniq!E24+tavush!E24+aragacotn!E24+armavir!E24+ararat!E24+ajapnyak!E24+arabkir!E24+avan!E24+kentron!E24+malatia!E24+shengavit!E24+erebuni!E24) -> 24 | F24: =SUM(kotayq!F24+shirak!F24+syuniq!F24+lori!F24+gexarquniq!F24+tavush!F24+aragacotn!F24+armavir!F24+ararat!F24+ajapnyak!F24+arabkir!F24+avan!F24+kentron!F24+malatia!F24+shengavit!F24+erebuni!F24) -> 216 | G24: =SUM(kotayq!G24+shirak!G24+syuniq!G24+lori!G24+gexarquniq!G24+tavush!G24+aragacotn!G24+armavir!G24+ararat!G24+ajapnyak!G24+arabkir!G24+avan!G24+kentron!G24+malatia!G24+shengavit!G24+erebuni!G24) -> 1 | H24: =SUM(kotayq!H24+shirak!H24+syuniq!H24+lori!H24+gexarquniq!H24+tavush!H24+aragacotn!H24+armavir!H24+ararat!H24+ajapnyak!H24+arabkir!H24+avan!H24+kentron!H24+malatia!H24+shengavit!H24+erebuni!H24) -> 0 | I24: =SUM(kotayq!I24+shirak!I24+syuniq!I24+lori!I24+gexarquniq!I24+tavush!I24+aragacotn!I24+armavir!I24+ararat!I24+ajapnyak!I24+arabkir!I24+avan!I24+kentron!I24+malatia!I24+shengavit!I24+erebuni!I24) -> 38
B27: ÀÜ¸²ØºÜÀ | D27: 17297 | E27: 1733 | F27: 14973 | G27: 214 | H27: 285 | I27: 1282
C29: 50 ·áñÍ áõÕ³ñÏí»É ¿ Áëï ընդդատության
C30: 1 ·áñÍáí Ï³Û³óí»É ¿ Ï³ñ×Ù³Ý Ù³ëÇÝ ¹³ï³Ï³Ý ³Ïï
C31: 18 ·áñÍáí Ï³Û³óí»É ¿ í»ñ³¹³ñÓÙ³Ý áñáßáõÙ
C32: 12 ¹³ï³Ï³Ý Ñ³ÝÓÝ³ñ³ñáõÃÛáõÝ ·ïÝíáõÙ ¿ ³ÝÏ³ï³ñ íÇ×³ÏáõÙ
C33: 10 ·áñÍ ÙÇ³óí»É ¿ Ù»Ï í³ñáõÛÃáõÙ

Sheet kotayq
A1: Ð²ÞìºîìàôÂÚàôÜ
A2: Հավելված 2 Հայաստանի Հանրապետության Դատարանների նախագահների խորհրդի 2007թ. ¹»Ïï»Ùµ»ñÇ 21-ի թիվ 23Լ որոշման
A3: ՀՀ ԿՈՏԱՅՔԻ ՄԱՐԶԻ ԸՆԴՀԱՆՈՒՐ ԻՐԱՎԱՍՈՒԹՅԱՆ ԴԱՏԱՐԱՆՈՒՄ ՄԻՆՉԴԱՏԱԿԱՆ ՎԱՐՈՒՅԹԻ ՆԿԱՏՄԱՄԲ ԴԱՏԱԿԱՆ ՎԵՐԱՀՍԿՈՂՈՒԹՅԱՆ, ԴԱՏԱԿԱՆ ԱԿՏԵՐԻ ԿԱՏԱՐՄԱՆ ՀԵՏ ԿԱՊՎԱԾ ՀԱՐՑԵՐԻ ՎԵՐԱԲԵՐՅԱԼ 2014 ԹՎԱԿԱՆ
A4: ØÇçÝáñ¹áõÃÛáõÝÝ»ñÇ ùÝÝ³ñÏÙ³Ý ÁÝÃ³óùÁ | D4: Ü»ñÏ³Û³óí³Í ÙÇçÝáñ¹áõÃÛáõÝÝ»ñÇ ù³Ý³ÏÁ | E4: Ù»ñÅí»É ¿ | F4: µ³í³ñ³ñí»É ¿ | G4: ÃáÕÝí»É ³é³Ýó ùÝÝáõÃÛ³Ý | H4: ³Ý³í³ñï | I4: µáÕáù³ñÏí»É ¿ í»ñ³ùÝÝÇã ¹³ï³ñ³Ý
A5: êïáõ·Çã Ñ³í³ë³ñáõÙ` 1=2+3+4+5
A6: 1. ØÇÝã¹³ï³Ï³Ý í³ñáõÛÃÇ ÝÏ³ïÙ³Ùµ ¹³ï³Ï³Ý í»ñ³ÑëÏáÕáõÃÛ³Ý áÉáñï | D6: 1 | E6: 2 | F6: 3 | G6: 4 | H6: 5 | I6: 6
A7: ³(06) | B7: Ï³É³ÝùÁ áñå»ë Ë³÷³ÝÙ³Ý ÙÇçáó ÏÇñ³é»Éáõ Ù³ëÇÝ | D7: 171 | E7: 2 | F7: 169 | I7: 21
A8: µ(06) | B8: Ï³É³ÝùÇ Å³ÙÏ»ïÇ »ñÏ³ñ³óÝ»Éáõ Ù³ëÇÝ | D8: 163 | F8: 162 | G8: 1 | I8: 23
A9: ·(06) | B9: ·ñ³íÁ áñå»ë Ï³É³Ý³íáñÙ³Ý ³ÛÉÁÝïñ³Ýù³ÛÇÝ Ë³÷³ÝÙ³Ý ÙÇçáó ÏÇñ³é»Éáõ Ù³ëÇÝ | D9: 95 | E9: 87 | F9: 8 | I9: 8
A10: ¹(07) | B10: Ëáõ½³ñÏáõÃÛ³Ý Ï³ï³ñÙ³Ý Ù³ëÇÝ | D10: 335 | F10: 328 | G10: 1
A11: »(08) | B11: Ý³Ù³Ï³·ñáõÃÛ³Ý, Ñ»é³·ñ³Ï³Ý, ÷áuï³ÛÇÝ Ñ³Õáñ¹áõÙÝ»ñÇ ÑëÏáÕáõÃÛ³Ý ÙÇçÝáñ¹áõÃÛáõÝÝ»ñÇ Ù³ëÇÝ | D11: 29 | F11: 29
A12: ½(09) | B12: Ñ»é³Ëáu³ÛÇÝ Ï³Ù Ï³åÇ ³ÛÉ ÙÇçáóÝ»ñáí ï³ñíáÕ Ëáu³ÏóáõÃÛáõÝÝ»ñÇ ÉuÙ³Ý ¨ Ó³ÛÝ³·ñ³éÙ³Ý ÙÇçÝáñ¹áõÃÛáõÝÝ»ñÇ Ù³ëÇÝ | D12: 9 | F12: 9
A13: ¿(10) | B13: Ñ»é³ËáëÝ»ñÇ Ùáõïù³ÛÇÝ ¨ »Éù³ÛÇÝ í»ñÍ³ÝÙ³Ý ÃáõÛÉïíáõÃÛáõÝ ëï³Ý³Éáõ ÙÇçÝáñ¹áõÃÛáõÝÝ»ñÇ Ù³ëÇÝ | D13: 362 | E13: 4 | F13: 358
A14: Á(11) | B14: Ñ»ï³ùÝÝáõÃÛ³Ý Ù³ñÙÝÇ ³ßË³ïáÕÇ, ùÝÝÇãÇ, ¹³ï³Ë³½Ç oå»ñ³ïÇí-Ñ»ï³Ëáõ½³Ï³Ý ·áñÍáÕáõÃÛáõÝÝ»ñ Çñ³Ï³Ý³óÝáÕ Ù³ñÙÇÝÝ»ñÇ ³ÝoñÇÝ³Ï³Ý ¨ ³ÝÑÇÙÝ áñáßáõÙÝ»ñÇ ¨ ·áñÍáÕáõÃÛáõÝÝ»ñÇ ¹»Ù µáÕáùÝ»ñÇ Ù³ëÇÝ | D14: 21 | E14: 16 | H14: 5 | I14: 10
A15: 2. ¸³ï³Ï³Ý ³Ïï»ñÇ Ñ»ï Ï³ï³ñÙ³Ý Ñ»ï Ï³åí³Í Ñ³ñó»ñÇ ÉáõÍÙ³Ý áÉáñï
A16: ³(12) | B16: å³ïÅÇó å³ÛÙ³Ý³Ï³Ý í³Õ³Å³ÙÏ»ï ³½³ï»Éáõ Ù³ëÇÝ | D16: 122 | E16: 21 | F16: 97 | G16: 3 | H16: 1 | I16: 10
A17: µ(13) | B17: ÀÝ¹³Ù»ÝÁ å³ïÇÅÁ ÷á÷áË»Éáõ, Ñ»ï³Ó·»Éáõ ¨ å³ïÅÇó ³½³ï»Éáõ Ù³uÇÝ ÙÇçÝáñ¹áõÃÛáõÝÝ»ñ | D17: 94 | E17: 60 | F17: 21 | G17: 1 | H17: 11
A18: ·(14) | B18: Ñ³ñÏ³¹Çñ µáõÅÙ³Ý ï»ë³ÏÇ ÷á÷áËáõÃÛ³Ý Ù³ëÇÝ | D18: 8 | E18: 1 | F18: 7
A19: ¹(15) | B19: ³ÛÉ ÙÇçÝáñ¹áõÃÛáõÝÝ»ñ | D19: 89 | E19: 39 | F19: 46 | G19: 1 | H19: 1 | I19: 11
A20: ÀÜ¸²ØºÜÀ | D20: =SUM(D7:D19) -> 1498 | E20: =SUM(E7:E19) -> 230 | F20: =SUM(F7:F19) -> 1234 | G20: =SUM(G7:G19) -> 7 | H20: 18 | I20: =SUM(I7:I19) -> 83
A23: /16/ | B23: դատական հանձնարարություն | D23: 22 | E23: 5 | F23: 6 | H23: 6
A24: /06/ | B24: կալանքի վերահաստատում | D24: 14 | E24: 1 | F24: 12 | G24: 1 | I24: 4
C26: 2 ·áñÍ áõÕ³ñÏí»É ¿ Áëï ընդդատության
C27: 7 ·áñÍáí Ï³Û³óí»É ¿ í»ñ³¹³ñÓÙ³Ý áñáßáõÙ
C28: 5 ¹³ï³Ï³Ý Ñ³ÝÓÝ³ñ³ñáõÃÛáõÝ ·ïÝíáõÙ ¿ ³ÝÏ³ï³ñ íÇ×³ÏáõÙ

Sheet shirak
A1: Ð²ÞìºîìàôÂÚàôÜ
A2: Հավելված 2 Հայաստանի Հանրապետության Դատարանների նախագահների խորհրդի 2007թ. ¹»Ïï»Ùµ»ñÇ 21-ի թիվ 23Լ որոշման
A3: ՀՀ ՇԻՐԱԿԻ ՄԱՐԶԻ ԸՆԴՀԱՆՈՒՐ ԻՐԱՎԱՍՈՒԹՅԱՆ ԴԱՏԱՐԱՆՈՒՄ ՄԻՆՉԴԱՏԱԿԱՆ ՎԱՐՈՒՅԹԻ ՆԿԱՏՄԱՄԲ ԴԱՏԱԿԱՆ ՎԵՐԱՀՍԿՈՂՈՒԹՅԱՆ, ԴԱՏԱԿԱՆ ԱԿՏԵՐԻ ԿԱՏԱՐՄԱՆ ՀԵՏ ԿԱՊՎԱԾ ՀԱՐՑԵՐԻ ՎԵՐԱԲԵՐՅԱԼ 2014 ԹՎԱԿԱՆ
A4: ØÇçÝáñ¹áõÃÛáõÝÝ»ñÇ ùÝÝ³ñÏÙ³Ý ÁÝÃ³óùÁ | D4: Ü»ñÏ³Û³óí³Í ÙÇçÝáñ¹áõÃÛáõÝÝ»ñÇ ù³Ý³ÏÁ | E4: Ù»ñÅí»É ¿ | F4: µ³í³ñ³ñí»É ¿ | G4: ÃáÕÝí»É ³é³Ýó ùÝÝáõÃÛ³Ý | H4: ³Ý³í³ñï | I4: µáÕáù³ñÏí»É ¿ í»ñ³ùÝÝÇã ¹³ï³ñ³Ý
A5: êïáõ·Çã Ñ³í³ë³ñáõÙ` 1=2+3+4+5
A6: 1. ØÇÝã¹³ï³Ï³Ý í³ñáõÛÃÇ ÝÏ³ïÙ³Ùµ ¹³ï³Ï³Ý í»ñ³ÑëÏáÕáõÃÛ³Ý áÉáñï | D6: 1 | E6: 2 | F6: 3 | G6: 4 | H6: 5 | I6: 6
A7: ³(06) | B7: Ï³É³ÝùÁ áñå»ë Ë³÷³ÝÙ³Ý ÙÇçáó ÏÇñ³é»Éáõ Ù³ëÇÝ | D7: 191 | E7: 2 | F7: 189 | I7: 6
A8: µ(06) | B8: Ï³É³ÝùÇ Å³ÙÏ»ïÇ »ñÏ³ñ³óÝ»Éáõ Ù³ëÇÝ | D8: 134 | F8: 128 | G8: 2 | H8: 4 | I8: 8
A9: ·(06) | B9: ·ñ³íÁ áñå»ë Ï³É³Ý³íáñÙ³Ý ³ÛÉÁÝïñ³Ýù³ÛÇÝ Ë³÷³ÝÙ³Ý ÙÇçáó ÏÇñ³é»Éáõ Ù³ëÇÝ | D9: 34 | E9: 22 | F9: 12 | I9: 5
A10: ¹(07) | B10: Ëáõ½³ñÏáõÃÛ³Ý Ï³ï³ñÙ³Ý Ù³ëÇÝ | D10: 467 | E10: 2 | F10: 463 | G10: 2
A11: »(08) | B11: Ý³Ù³Ï³·ñáõÃÛ³Ý, Ñ»é³·ñ³Ï³Ý, ÷áuï³ÛÇÝ Ñ³Õáñ¹áõÙÝ»ñÇ ÑëÏáÕáõÃÛ³Ý ÙÇçÝáñ¹áõÃÛáõÝÝ»ñÇ Ù³ëÇÝ | D11: 111 | F11: 111
A12: ½(09) | B12: Ñ»é³Ëáu³ÛÇÝ Ï³Ù Ï³åÇ ³ÛÉ ÙÇçáóÝ»ñáí ï³ñíáÕ Ëáu³ÏóáõÃÛáõÝÝ»ñÇ ÉuÙ³Ý ¨ Ó³ÛÝ³·ñ³éÙ³Ý ÙÇçÝáñ¹áõÃÛáõÝÝ»ñÇ Ù³ëÇÝ | D12: 2 | F12: 2
A13: ¿(10) | B13: Ñ»é³ËáëÝ»ñÇ Ùáõïù³ÛÇÝ ¨ »Éù³ÛÇÝ í»ñÍ³ÝÙ³Ý ÃáõÛÉïíáõÃÛáõÝ ëï³Ý³Éáõ ÙÇçÝáñ¹áõÃÛáõÝÝ»ñÇ Ù³ëÇÝ | D13: 342 | E13: 1 | F13: 341
A14: Á(11) | B14: Ñ»ï³ùÝÝáõÃÛ³Ý Ù³ñÙÝÇ ³ßË³ïáÕÇ, ùÝÝÇãÇ, ¹³ï³Ë³½Ç oå»ñ³ïÇí-Ñ»ï³Ëáõ½³Ï³Ý ·áñÍáÕáõÃÛáõÝÝ»ñ Çñ³Ï³Ý³óÝáÕ Ù³ñÙÇÝÝ»ñÇ ³ÝoñÇÝ³Ï³Ý ¨ ³ÝÑÇÙÝ áñáßáõÙÝ»ñÇ ¨ ·áñÍáÕáõÃÛáõÝÝ»ñÇ ¹»Ù µáÕáùÝ»ñÇ Ù³ëÇÝ | D14: 24 | E14: 15 | F14: 3 | G14: 3 | H14: 2 | I14: 12
A15: 2. ¸³ï³Ï³Ý ³Ïï»ñÇ Ñ»ï Ï³ï³ñÙ³Ý Ñ»ï Ï³åí³Í Ñ³ñó»ñÇ ÉáõÍÙ³Ý áÉáñï
A16: ³(12) | B16: å³ïÅÇó å³ÛÙ³Ý³Ï³Ý í³Õ³Å³ÙÏ»ï ³½³ï»Éáõ Ù³ëÇÝ | D16: 25 | E16: 4 | F16: 19 | G16: 1 | H16: 1 | I16: 6
A17: µ(13) | B17: ÀÝ¹³Ù»ÝÁ å³ïÇÅÁ ÷á÷áË»Éáõ, Ñ»ï³Ó·»Éáõ ¨ å³ïÅÇó ³½³ï»Éáõ Ù³uÇÝ ÙÇçÝáñ¹áõÃÛáõÝÝ»ñ | D17: 34 | E17: 7 | F17: 20 | G17: 6 | I17: 4
A18: ·(14) | B18: Ñ³ñÏ³¹Çñ µáõÅÙ³Ý ï»ë³ÏÇ ÷á÷áËáõÃÛ³Ý Ù³ëÇÝ | D18: 4 | E18: 2 | F18: 1 | G18: 1
A19: ¹(15) | B19: ³ÛÉ ÙÇçÝáñ¹áõÃÛáõÝÝ»ñ | D19: 78 | E19: 23 | F19: 52 | G19: 3 | I19: 6
A20: ÀÜ¸²ØºÜÀ | D20: 1446 | E20: 78 | F20: 1341 | G20: 18 | H20: 7 | I20: 47
A23: /16/ | B23: դատական հանձնարարություն | D23: 22 | F23: 1 | G23: 9 | H23: 12
A24: /06/ | B24: կալանքի վերահաստատում | D24: 14 | F24: 14 | I24: 1
C25: 2 ·áñÍ áõÕ³ñÏí»É ¿ Áëï ընդդատության

Sheet syuniq
A1: Ð²ÞìºîìàôÂÚàôÜ
A2: Հավելված 2 Հայաստանի Հանրապետության Դատարանների նախագահների խորհրդի 2007թ. ¹»Ïï»Ùµ»ñÇ 21-ի թիվ 23Լ որոշման
A3: ՀՀ ՍՅՈՒՆԻՔԻ ՄԱՐԶԻ ԸՆԴՀԱՆՈՒՐ ԻՐԱՎԱՍՈՒԹՅԱՆ ԴԱՏԱՐԱՆՈՒՄ ՄԻՆՉԴԱՏԱԿԱՆ ՎԱՐՈՒՅԹԻ ՆԿԱՏՄԱՄԲ ԴԱՏԱԿԱՆ ՎԵՐԱՀՍԿՈՂՈՒԹՅԱՆ, ԴԱՏԱԿԱՆ ԱԿՏԵՐԻ ԿԱՏԱՐՄԱՆ ՀԵՏ ԿԱՊՎԱԾ ՀԱՐՑԵՐԻ ՎԵՐԱԲԵՐՅԱԼ 2014 ԹՎԱԿԱՆ
A4: ØÇçÝáñ¹áõÃÛáõÝÝ»ñÇ ùÝÝ³ñÏÙ³Ý ÁÝÃ³óùÁ | D4: Ü»ñÏ³Û³óí³Í ÙÇçÝáñ¹áõÃÛáõÝÝ»ñÇ ù³Ý³ÏÁ | E4: Ù»ñÅí»É ¿ | F4: µ³í³ñ³ñí»É ¿ | G4: ÃáÕÝí»É ³é³Ýó ùÝÝáõÃÛ³Ý | H4: ³Ý³í³ñï | I4: µáÕáù³ñÏí»É ¿ í»ñ³ùÝÝÇã ¹³ï³ñ³Ý
A5: êïáõ·Çã Ñ³í³ë³ñáõÙ` 1=2+3+4+5
A6: 1. ØÇÝã¹³ï³Ï³Ý í³ñáõÛÃÇ ÝÏ³ïÙ³Ùµ ¹³ï³Ï³Ý í»ñ³ÑëÏáÕáõÃÛ³Ý áÉáñï | D6: 1 | E6: 2 | F6: 3 | G6: 4 | H6: 5 | I6: 6
A7: ³(06) | B7: Ï³É³ÝùÁ áñå»ë Ë³÷³ÝÙ³Ý ÙÇçáó ÏÇñ³é»Éáõ Ù³ëÇÝ | D7: 136 | E7: 16 | F7: 120 | G7: 0 | H7: 0 | I7: 22
A8: µ(06) | B8: Ï³É³ÝùÇ Å³ÙÏ»ïÇ »ñÏ³ñ³óÝ»Éáõ Ù³ëÇÝ | D8: 103 | E8: 1 | F8: 99 | G8: 1 | H8: 2 | I8: 4
A9: ·(06) | B9: ·ñ³íÁ áñå»ë Ï³É³Ý³íáñÙ³Ý ³ÛÉÁÝïñ³Ýù³ÛÇÝ Ë³÷³ÝÙ³Ý ÙÇçáó ÏÇñ³é»Éáõ Ù³ëÇÝ | D9: 32 | E9: 26 | F9: 6 | G9: 0 | H9: 0 | I9: 3
A10: ¹(07) | B10: Ëáõ½³ñÏáõÃÛ³Ý Ï³ï³ñÙ³Ý Ù³ëÇÝ | D10: 108 | E10: 7 | F10: 100 | G10: 1 | H10: 0 | I10: 2
A11: »(08) | B11: Ý³Ù³Ï³·ñáõÃÛ³Ý, Ñ»é³·ñ³Ï³Ý, ÷áuï³ÛÇÝ Ñ³Õáñ¹áõÙÝ»ñÇ ÑëÏáÕáõÃÛ³Ý ÙÇçÝáñ¹áõÃÛáõÝÝ»ñÇ Ù³ëÇÝ | D11: 18 | E11: 0 | F11: 18 | G11: 0 | H11: 0 | I11: 0
A12: ½(09) | B12: Ñ»é³Ëáu³ÛÇÝ Ï³Ù Ï³åÇ ³ÛÉ ÙÇçáóÝ»ñáí ï³ñíáÕ Ëáu³ÏóáõÃÛáõÝÝ»ñÇ ÉuÙ³Ý ¨ Ó³ÛÝ³·ñ³éÙ³Ý ÙÇçÝáñ¹áõÃÛáõÝÝ»ñÇ Ù³ëÇÝ | D12: 0 | E12: 0 | F12: 0 | G12: 0 | H12: 0 | I12: 0
A13: ¿(10) | B13: Ñ»é³ËáëÝ»ñÇ Ùáõïù³ÛÇÝ ¨ »Éù³ÛÇÝ í»ñÍ³ÝÙ³Ý ÃáõÛÉïíáõÃÛáõÝ ëï³Ý³Éáõ ÙÇçÝáñ¹áõÃÛáõÝÝ»ñÇ Ù³ëÇÝ | D13: 66 | E13: 3 | F13: 63 | G13: 0 | H13: 0 | I13: 0
A14: Á(11) | B14: Ñ»ï³ùÝÝáõÃÛ³Ý Ù³ñÙÝÇ ³ßË³ïáÕÇ, ùÝÝÇãÇ, ¹³ï³Ë³½Ç oå»ñ³ïÇí-Ñ»ï³Ëáõ½³Ï³Ý ·áñÍáÕáõÃÛáõÝÝ»ñ Çñ³Ï³Ý³óÝáÕ Ù³ñÙÇÝÝ»ñÇ ³ÝoñÇÝ³Ï³Ý ¨ ³ÝÑÇÙÝ áñáßáõÙÝ»ñÇ ¨ ·áñÍáÕáõÃÛáõÝÝ»ñÇ ¹»Ù µáÕáùÝ»ñÇ Ù³ëÇÝ | D14: 16 | E14: 11 | F14: 3 | G14: 1 | H14: 1 | I14: 10
A15: 2. ¸³ï³Ï³Ý ³Ïï»ñÇ Ñ»ï Ï³ï³ñÙ³Ý Ñ»ï Ï³åí³Í Ñ³ñó»ñÇ ÉáõÍÙ³Ý áÉáñï
A16: ³(12) | B16: å³ïÅÇó å³ÛÙ³Ý³Ï³Ý í³Õ³Å³ÙÏ»ï ³½³ï»Éáõ Ù³ëÇÝ | D16: 9 | E16: 0 | F16: 9 | G16: 0 | H16: 0 | I16: 4
A17: µ(13) | B17: ÀÝ¹³Ù»ÝÁ å³ïÇÅÁ ÷á÷áË»Éáõ, Ñ»ï³Ó·»Éáõ ¨ å³ïÅÇó ³½³ï»Éáõ Ù³uÇÝ ÙÇçÝáñ¹áõÃÛáõÝÝ»ñ | D17: 7 | E17: 0 | F17: 7 | G17: 0 | H17: 0 | I17: 0
A18: ·(14) | B18: Ñ³ñÏ³¹Çñ µáõÅÙ³Ý ï»ë³ÏÇ ÷á÷áËáõÃÛ³Ý Ù³ëÇÝ | D18: 0 | E18: 0 | F18: 0 | G18: 0 | H18: 0 | I18: 0
A19: ¹(15) | B19: ³ÛÉ ÙÇçÝáñ¹áõÃÛáõÝÝ»ñ | D19: 39 | E19: 18 | F19: 21 | G19: 0 | H19: 0 | I19: 1
A20: ÀÜ¸²ØºÜÀ | D20: =SUM(D7:D19) -> 534 | E20: =SUM(E7:E19) -> 82 | F20: =SUM(F7:F19) -> 446 | G20: =SUM(G7:G19) -> 3 | H20: =SUM(H7:H19) -> 3 | I20: =SUM(I7:I19) -> 46
A23: /16/ | B23: դատական հանձնարարություն | D23: 3 | E23: 1 | F23: 0 | G23: 0 | H23: 2 | I23: 1
A24: /06/ | B24: կալանքի վերահաստատում | D24: 10 | E24: 2 | F24: 8 | G24: 0 | H24: 0 | I24: 0

Sheet lori
A1: Ð²ÞìºîìàôÂÚàôÜ
A2: Հավելված 2 Հայաստանի Հանրապետության Դատարանների նախագահների խորհրդի 2007թ. ¹»Ïï»Ùµ»ñÇ 21-ի թիվ 23Լ որոշման
A3: ՀՀ ԼՈՌՈՒ ՄԱՐԶԻ ԸՆԴՀԱՆՈՒՐ ԻՐԱՎԱՍՈՒԹՅԱՆ ԴԱՏԱՐԱՆՈՒՄ ՄԻՆՉԴԱՏԱԿԱՆ ՎԱՐՈՒՅԹԻ ՆԿԱՏՄԱՄԲ ԴԱՏԱԿԱՆ ՎԵՐԱՀՍԿՈՂՈՒԹՅԱՆ, ԴԱՏԱԿԱՆ ԱԿՏԵՐԻ ԿԱՏԱՐՄԱՆ ՀԵՏ ԿԱՊՎԱԾ ՀԱՐՑԵՐԻ ՎԵՐԱԲԵՐՅԱԼ 2014 ԹՎԱԿԱՆ
A4: ØÇçÝáñ¹áõÃÛáõÝÝ»ñÇ ùÝÝ³ñÏÙ³Ý ÁÝÃ³óùÁ | D4: Ü»ñÏ³Û³óí³Í ÙÇçÝáñ¹áõÃÛáõÝÝ»ñÇ ù³Ý³ÏÁ | E4: Ù»ñÅí»É ¿ | F4: µ³í³ñ³ñí»É ¿ | G4: ÃáÕÝí»É ³é³Ýó ùÝÝáõÃÛ³Ý | H4: ³Ý³í³ñï | I4: µáÕáù³ñÏí»É ¿ í»ñ³ùÝÝÇã ¹³ï³ñ³Ý
A5: êïáõ·Çã Ñ³í³ë³ñáõÙ` 1=2+3+4+5
A6: 1. ØÇÝã¹³ï³Ï³Ý í³ñáõÛÃÇ ÝÏ³ïÙ³Ùµ ¹³ï³Ï³Ý í»ñ³ÑëÏáÕáõÃÛ³Ý áÉáñï | D6: 1 | E6: 2 | F6: 3 | G6: 4 | H6: 5 | I6: 6
A7: ³(06) | B7: Ï³É³ÝùÁ áñå»ë Ë³÷³ÝÙ³Ý ÙÇçáó ÏÇñ³é»Éáõ Ù³ëÇÝ | D7: 143 | E7: 8 | F7: 135 | I7: 9
A8: µ(06) | B8: Ï³É³ÝùÇ Å³ÙÏ»ïÇ »ñÏ³ñ³óÝ»Éáõ Ù³ëÇÝ | D8: 81 | E8: 1 | F8: 72 | G8: 3 | H8: 5 | I8: 9
A9: ·(06) | B9: ·ñ³íÁ áñå»ë Ï³É³Ý³íáñÙ³Ý ³ÛÉÁÝïñ³Ýù³ÛÇÝ Ë³÷³ÝÙ³Ý ÙÇçáó ÏÇñ³é»Éáõ Ù³ëÇÝ | D9: 61 | E9: 48 | F9: 12 | G9: 1 | I9: 6
A10: ¹(07) | B10: Ëáõ½³ñÏáõÃÛ³Ý Ï³ï³ñÙ³Ý Ù³ëÇÝ | D10: 391 | E10: 9 | F10: 382
A11: »(08) | B11: Ý³Ù³Ï³·ñáõÃÛ³Ý, Ñ»é³·ñ³Ï³Ý, ÷áuï³ÛÇÝ Ñ³Õáñ¹áõÙÝ»ñÇ ÑëÏáÕáõÃÛ³Ý ÙÇçÝáñ¹áõÃÛáõÝÝ»ñÇ Ù³ëÇÝ | D11: 70 | F11: 70
A12: ½(09) | B12: Ñ»é³Ëáu³ÛÇÝ Ï³Ù Ï³åÇ ³ÛÉ ÙÇçáóÝ»ñáí ï³ñíáÕ Ëáu³ÏóáõÃÛáõÝÝ»ñÇ ÉuÙ³Ý ¨ Ó³ÛÝ³·ñ³éÙ³Ý ÙÇçÝáñ¹áõÃÛáõÝÝ»ñÇ Ù³ëÇÝ
A13: ¿(10) | B13: Ñ»é³ËáëÝ»ñÇ Ùáõïù³ÛÇÝ ¨ »Éù³ÛÇÝ í»ñÍ³ÝÙ³Ý ÃáõÛÉïíáõÃÛáõÝ ëï³Ý³Éáõ ÙÇçÝáñ¹áõÃÛáõÝÝ»ñÇ Ù³ëÇÝ | D13: 186 | E13: 6 | F13: 179 | G13: 1
A14: Á(11) | B14: Ñ»ï³ùÝÝáõÃÛ³Ý Ù³ñÙÝÇ ³ßË³ïáÕÇ, ùÝÝÇãÇ, ¹³ï³Ë³½Ç oå»ñ³ïÇí-Ñ»ï³Ëáõ½³Ï³Ý ·áñÍáÕáõÃÛáõÝÝ»ñ Çñ³Ï³Ý³óÝáÕ Ù³ñÙÇÝÝ»ñÇ ³ÝoñÇÝ³Ï³Ý ¨ ³ÝÑÇÙÝ áñáßáõÙÝ»ñÇ ¨ ·áñÍáÕáõÃÛáõÝÝ»ñÇ ¹»Ù µáÕáùÝ»ñÇ Ù³ëÇÝ | D14: 39 | E14: 29 | F14: 1 | G14: 4 | H14: 3 | I14: 15
A15: 2. ¸³ï³Ï³Ý ³Ïï»ñÇ Ñ»ï Ï³ï³ñÙ³Ý Ñ»ï Ï³åí³Í Ñ³ñó»ñÇ ÉáõÍÙ³Ý áÉáñï
A16: ³(12) | B16: å³ïÅÇó å³ÛÙ³Ý³Ï³Ý í³Õ³Å³ÙÏ»ï ³½³ï»Éáõ Ù³ëÇÝ | D16: 5 | F16: 5 | I16: 2
A17: µ(13) | B17: ÀÝ¹³Ù»ÝÁ å³ïÇÅÁ ÷á÷áË»Éáõ, Ñ»ï³Ó·»Éáõ ¨ å³ïÅÇó ³½³ï»Éáõ Ù³uÇÝ ÙÇçÝáñ¹áõÃÛáõÝÝ»ñ | D17: 54 | E17: 10 | F17: 20 | G17: 17 | H17: 6 | I17: 1
A18: ·(14) | B18: Ñ³ñÏ³¹Çñ µáõÅÙ³Ý ï»ë³ÏÇ ÷á÷áËáõÃÛ³Ý Ù³ëÇÝ | D18: 21 | E18: 2 | F18: 19
A19: ¹(15) | B19: ³ÛÉ ÙÇçÝáñ¹áõÃÛáõÝÝ»ñ | D19: 50 | E19: 14 | F19: 27 | G19: 3 | H19: 2 | I19: 3
A20: ÀÜ¸²ØºÜÀ | D20: =SUM(D7:D19) -> 1101 | E20: =SUM(E7:E19) -> 127 | F20: =SUM(F7:F19) -> 922 | G20: =SUM(G7:G19) -> 29 | H20: =SUM(H7:H19) -> 16 | I20: =SUM(I7:I19) -> 45
A23: /16/ | B23: դատական հանձնարարություն | D23: 19 | F23: 8 | H23: 8
A24: /06/ | B24: կալանքի վերահաստատում | D24: 19 | E24: 2 | F24: 17 | I24: 1
C25: 4 ·áñÍ áõÕ³ñÏí»É ¿ Áëï ընդդատության
C26: 1 ·áñÍáí Ï³Û³óí»É ¿ Ï³ñ×Ù³Ý Ù³ëÇÝ ¹³ï³Ï³Ý ³Ïï
C27: 3 ¹³ï³Ï³Ý Ñ³ÝÓÝ³ñ³ñáõÃÛáõÝ ·ïÝíáõÙ ¿ ³ÝÏ³ï³ñ íÇ×³ÏáõÙ
C28: 2 ·áñÍ ÙÇ³óí»É ¿ Ù»Ï í³ñáõÛÃáõÙ

Sheet gexarquniq
A1: Ð²ÞìºîìàôÂÚàôÜ
A2: Հավելված 2 Հայաստանի Հանրապետության Դատարանների նախագահների խորհրդի 2007թ. ¹»Ïï»Ùµ»ñÇ 21-ի թիվ 23Լ որոշման
A3: ՀՀ ԳԵՂԱՐՔՈՒՆԻՔԻ ՄԱՐԶԻ ԸՆԴՀԱՆՈՒՐ ԻՐԱՎԱՍՈՒԹՅԱՆ ԴԱՏԱՐԱՆՈՒՄ ՄԻՆՉԴԱՏԱԿԱՆ ՎԱՐՈՒՅԹԻ ՆԿԱՏՄԱՄԲ ԴԱՏԱԿԱՆ ՎԵՐԱՀՍԿՈՂՈՒԹՅԱՆ, ԴԱՏԱԿԱՆ ԱԿՏԵՐԻ ԿԱՏԱՐՄԱՆ ՀԵՏ ԿԱՊՎԱԾ ՀԱՐՑԵՐԻ ՎԵՐԱԲԵՐՅԱԼ 2014 ԹՎԱԿԱՆ
A4: ØÇçÝáñ¹áõÃÛáõÝÝ»ñÇ ùÝÝ³ñÏÙ³Ý ÁÝÃ³óùÁ | D4: Ü»ñÏ³Û³óí³Í ÙÇçÝáñ¹áõÃÛáõÝÝ»ñÇ ù³Ý³ÏÁ | E4: Ù»ñÅí»É ¿ | F4: µ³í³ñ³ñí»É ¿ | G4: ÃáÕÝí»É ³é³Ýó ùÝÝáõÃÛ³Ý | H4: ³Ý³í³ñï | I4: µáÕáù³ñÏí»É ¿ í»ñ³ùÝÝÇã ¹³ï³ñ³Ý
A5: êïáõ·Çã Ñ³í³ë³ñáõÙ` 1=2+3+4+5
A6: 1. ØÇÝã¹³ï³Ï³Ý í³ñáõÛÃÇ ÝÏ³ïÙ³Ùµ ¹³ï³Ï³Ý í»ñ³ÑëÏáÕáõÃÛ³Ý áÉáñï | D6: 1 | E6: 2 | F6: 3 | G6: 4 | H6: 5 | I6: 6
A7: ³(06) | B7: Ï³É³ÝùÁ áñå»ë Ë³÷³ÝÙ³Ý ÙÇçáó ÏÇñ³é»Éáõ Ù³ëÇÝ | D7: 101 | E7: 3 | F7: 97 | G7: 1 | I7: 12
A8: µ(06) | B8: Ï³É³ÝùÇ Å³ÙÏ»ïÇ »ñÏ³ñ³óÝ»Éáõ Ù³ëÇÝ | D8: 55 | F8: 55 | I8: 13
A9: ·(06) | B9: ·ñ³íÁ áñå»ë Ï³É³Ý³íáñÙ³Ý ³ÛÉÁÝïñ³Ýù³ÛÇÝ Ë³÷³ÝÙ³Ý ÙÇçáó ÏÇñ³é»Éáõ Ù³ëÇÝ | D9: 26 | E9: 23 | F9: 3 | I9: 4
A10: ¹(07) | B10: Ëáõ½³ñÏáõÃÛ³Ý Ï³ï³ñÙ³Ý Ù³ëÇÝ | D10: 223 | E10: 10 | F10: 213 | I10: 2
A11: »(08) | B11: Ý³Ù³Ï³·ñáõÃÛ³Ý, Ñ»é³·ñ³Ï³Ý, ÷áuï³ÛÇÝ Ñ³Õáñ¹áõÙÝ»ñÇ ÑëÏáÕáõÃÛ³Ý ÙÇçÝáñ¹áõÃÛáõÝÝ»ñÇ Ù³ëÇÝ | D11: 42 | F11: 42
A12: ½(09) | B12: Ñ»é³Ëáu³ÛÇÝ Ï³Ù Ï³åÇ ³ÛÉ ÙÇçáóÝ»ñáí ï³ñíáÕ Ëáu³ÏóáõÃÛáõÝÝ»ñÇ ÉuÙ³Ý ¨ Ó³ÛÝ³·ñ³éÙ³Ý ÙÇçÝáñ¹áõÃÛáõÝÝ»ñÇ Ù³ëÇÝ | D12: 1 | F12: 1
A13: ¿(10) | B13: Ñ»é³ËáëÝ»ñÇ Ùáõïù³ÛÇÝ ¨ »Éù³ÛÇÝ í»ñÍ³ÝÙ³Ý ÃáõÛÉïíáõÃÛáõÝ ëï³Ý³Éáõ ÙÇçÝáñ¹áõÃÛáõÝÝ»ñÇ Ù³ëÇÝ | D13: 140 | E13: 4 | F13: 136 | I13: 1
A14: Á(11) | B14: Ñ»ï³ùÝÝáõÃÛ³Ý Ù³ñÙÝÇ ³ßË³ïáÕÇ, ùÝÝÇãÇ, ¹³ï³Ë³½Ç oå»ñ³ïÇí-Ñ»ï³Ëáõ½³Ï³Ý ·áñÍáÕáõÃÛáõÝÝ»ñ Çñ³Ï³Ý³óÝáÕ Ù³ñÙÇÝÝ»ñÇ ³ÝoñÇÝ³Ï³Ý ¨ ³ÝÑÇÙÝ áñáßáõÙÝ»ñÇ ¨ ·áñÍáÕáõÃÛáõÝÝ»ñÇ ¹»Ù µáÕáùÝ»ñÇ Ù³ëÇÝ | D14: 23 | E14: 19 | F14: 3 | H14: 1 | I14: 11
A15: 2. ¸³ï³Ï³Ý ³Ïï»ñÇ Ñ»ï Ï³ï³ñÙ³Ý Ñ»ï Ï³åí³Í Ñ³ñó»ñÇ ÉáõÍÙ³Ý áÉáñï
A16: ³(12) | B16: å³ïÅÇó å³ÛÙ³Ý³Ï³Ý í³Õ³Å³ÙÏ»ï ³½³ï»Éáõ Ù³ëÇÝ
A17: µ(13) | B17: ÀÝ¹³Ù»ÝÁ å³ïÇÅÁ ÷á÷áË»Éáõ, Ñ»ï³Ó·»Éáõ ¨ å³ïÅÇó ³½³ï»Éáõ Ù³uÇÝ ÙÇçÝáñ¹áõÃÛáõÝÝ»ñ | D17: 18 | E17: 4 | F17: 12 | H17: 2
A18: ·(14) | B18: Ñ³ñÏ³¹Çñ µáõÅÙ³Ý ï»ë³ÏÇ ÷á÷áËáõÃÛ³Ý Ù³ëÇÝ | D18: 3 | F18: 3
A19: ¹(15) | B19: ³ÛÉ ÙÇçÝáñ¹áõÃÛáõÝÝ»ñ | D19: 28 | E19: 4 | F19: 17 | G19: 7
A20: ÀÜ¸²ØºÜÀ | D20: =SUM(D7:D19) -> 660 | E20: =SUM(E7:E19) -> 67 | F20: =SUM(F7:F19) -> 582 | G20: =SUM(G7:G19) -> 8 | H20: =SUM(H7:H19) -> 3 | I20: =SUM(I7:I19) -> 43
A23: /16/ | B23: դատական հանձնարարություն | D23: 6 | F23: 5 | H23: 1
A24: /06/ | B24: կալանքի վերահաստատում | D24: 8 | F24: 8 | I24: 1

Sheet tavush
A1: Ð²ÞìºîìàôÂÚàôÜ
A2: Հավելված 2 Հայաստանի Հանրապետության Դատարանների նախագահների խորհրդի 2007թ. ¹»Ïï»Ùµ»ñÇ 21-ի թիվ 23Լ որոշման
A3: ՀՀ ՏԱՎՈՒՇԻ ՄԱՐԶԻ ԸՆԴՀԱՆՈՒՐ ԻՐԱՎԱՍՈՒԹՅԱՆ ԴԱՏԱՐԱՆՈՒՄ ՄԻՆՉԴԱՏԱԿԱՆ ՎԱՐՈՒՅԹԻ ՆԿԱՏՄԱՄԲ ԴԱՏԱԿԱՆ ՎԵՐԱՀՍԿՈՂՈՒԹՅԱՆ, ԴԱՏԱԿԱՆ ԱԿՏԵՐԻ ԿԱՏԱՐՄԱՆ ՀԵՏ ԿԱՊՎԱԾ ՀԱՐՑԵՐԻ ՎԵՐԱԲԵՐՅԱԼ 2014 ԹՎԱԿԱՆ
A4: ØÇçÝáñ¹áõÃÛáõÝÝ»ñÇ ùÝÝ³ñÏÙ³Ý ÁÝÃ³óùÁ | D4: Ü»ñÏ³Û³óí³Í ÙÇçÝáñ¹áõÃÛáõÝÝ»ñÇ ù³Ý³ÏÁ | E4: Ù»ñÅí»É ¿ | F4: µ³í³ñ³ñí»É ¿ | G4: ÃáÕÝí»É ³é³Ýó ùÝÝáõÃÛ³Ý | H4: ³Ý³í³ñï | I4: µáÕáù³ñÏí»É ¿ í»ñ³ùÝÝÇã ¹³ï³ñ³Ý
A5: êïáõ·Çã Ñ³í³ë³ñáõÙ` 1=2+3+4+5
A6: 1. ØÇÝã¹³ï³Ï³Ý í³ñáõÛÃÇ ÝÏ³ïÙ³Ùµ ¹³ï³Ï³Ý í»ñ³ÑëÏáÕáõÃÛ³Ý áÉáñï | D6: 1 | E6: 2 | F6: 3 | G6: 4 | H6: 5 | I6: 6
A7: ³(06) | B7: Ï³É³ÝùÁ áñå»ë Ë³÷³ÝÙ³Ý ÙÇçáó ÏÇñ³é»Éáõ Ù³ëÇÝ | D7: 80 | E7: 9 | F7: 71 | I7: 9
A8: µ(06) | B8: Ï³É³ÝùÇ Å³ÙÏ»ïÇ »ñÏ³ñ³óÝ»Éáõ Ù³ëÇÝ | D8: 45 | E8: 1 | F8: 43 | G8: 1 | I8: 7
A9: ·(06) | B9: ·ñ³íÁ áñå»ë Ï³É³Ý³íáñÙ³Ý ³ÛÉÁÝïñ³Ýù³ÛÇÝ Ë³÷³ÝÙ³Ý ÙÇçáó ÏÇñ³é»Éáõ Ù³ëÇÝ | D9: 7 | E9: 4 | F9: 3 | I9: 3
A10: ¹(07) | B10: Ëáõ½³ñÏáõÃÛ³Ý Ï³ï³ñÙ³Ý Ù³ëÇÝ | D10: 80 | E10: 4 | F10: 71 | G10: 5
A11: »(08) | B11: Ý³Ù³Ï³·ñáõÃÛ³Ý, Ñ»é³·ñ³Ï³Ý, ÷áuï³ÛÇÝ Ñ³Õáñ¹áõÙÝ»ñÇ ÑëÏáÕáõÃÛ³Ý ÙÇçÝáñ¹áõÃÛáõÝÝ»ñÇ Ù³ëÇÝ | D11: 24 | F11: 24
A12: ½(09) | B12: Ñ»é³Ëáu³ÛÇÝ Ï³Ù Ï³åÇ ³ÛÉ ÙÇçáóÝ»ñáí ï³ñíáÕ Ëáu³ÏóáõÃÛáõÝÝ»ñÇ ÉuÙ³Ý ¨ Ó³ÛÝ³·ñ³éÙ³Ý ÙÇçÝáñ¹áõÃÛáõÝÝ»ñÇ Ù³ëÇÝ | D12: 2 | E12: 1 | F12: 1
A13: ¿(10) | B13: Ñ»é³ËáëÝ»ñÇ Ùáõïù³ÛÇÝ ¨ »Éù³ÛÇÝ í»ñÍ³ÝÙ³Ý ÃáõÛÉïíáõÃÛáõÝ ëï³Ý³Éáõ ÙÇçÝáñ¹áõÃÛáõÝÝ»ñÇ Ù³ëÇÝ | D13: 55 | E13: 3 | F13: 52
A14: Á(11) | B14: Ñ»ï³ùÝÝáõÃÛ³Ý Ù³ñÙÝÇ ³ßË³ïáÕÇ, ùÝÝÇãÇ, ¹³ï³Ë³½Ç oå»ñ³ïÇí-Ñ»ï³Ëáõ½³Ï³Ý ·áñÍáÕáõÃÛáõÝÝ»ñ Çñ³Ï³Ý³óÝáÕ Ù³ñÙÇÝÝ»ñÇ ³ÝoñÇÝ³Ï³Ý ¨ ³ÝÑÇÙÝ áñáßáõÙÝ»ñÇ ¨ ·áñÍáÕáõÃÛáõÝÝ»ñÇ ¹»Ù µáÕáùÝ»ñÇ Ù³ëÇÝ | D14: 11 | E14: 8 | F14: 3 | I14: 8
A15: 2. ¸³ï³Ï³Ý ³Ïï»ñÇ Ñ»ï Ï³ï³ñÙ³Ý Ñ»ï Ï³åí³Í Ñ³ñó»ñÇ ÉáõÍÙ³Ý áÉáñï
A16: ³(12) | B16: å³ïÅÇó å³ÛÙ³Ý³Ï³Ý í³Õ³Å³ÙÏ»ï ³½³ï»Éáõ Ù³ëÇÝ
A17: µ(13) | B17: ÀÝ¹³Ù»ÝÁ å³ïÇÅÁ ÷á÷áË»Éáõ, Ñ»ï³Ó·»Éáõ ¨ å³ïÅÇó ³½³ï»Éáõ Ù³uÇÝ ÙÇçÝáñ¹áõÃÛáõÝÝ»ñ | D17: 20 | E17: 18 | F17: 2 | I17: 1
A18: ·(14) | B18: Ñ³ñÏ³¹Çñ µáõÅÙ³Ý ï»ë³ÏÇ ÷á÷áËáõÃÛ³Ý Ù³ëÇÝ
A19: ¹(15) | B19: ³ÛÉ ÙÇçÝáñ¹áõÃÛáõÝÝ»ñ | D19: 19 | E19: 2 | F19: 17 | I19: 2
A20: ÀÜ¸²ØºÜÀ | D20: =SUM(D7:D19) -> 343 | E20: =SUM(E7:E19) -> 50 | F20: =SUM(F7:F19) -> 287 | G20: =SUM(G7:G19) -> 6 | H20: =SUM(H7:H19) -> 0 | I20: =SUM(I7:I19) -> 30
A23: /16/ | B23: դատական հանձնարարություն | D23: 3 | F23: 2 | G23: 1
A24: /06/ | B24: կալանքի վերահաստատում | D24: 14 | E24: 2 | F24: 12 | I24: 1

Sheet aragacotn
A1: Ð²ÞìºîìàôÂÚàôÜ
A2: Հավելված 2 Հայաստանի Հանրապետության Դատարանների նախագահների խորհրդի 2007թ. ¹»Ïï»Ùµ»ñÇ 21-ի թիվ 23Լ որոշման
A3: ՀՀ ԱՐԱԳԱԾՈՏՆԻ ՄԱՐԶԻ ԸՆԴՀԱՆՈՒՐ ԻՐԱՎԱՍՈՒԹՅԱՆ ԴԱՏԱՐԱՆՈՒՄ ՄԻՆՉԴԱՏԱԿԱՆ ՎԱՐՈՒՅԹԻ ՆԿԱՏՄԱՄԲ ԴԱՏԱԿԱՆ ՎԵՐԱՀՍԿՈՂՈՒԹՅԱՆ, ԴԱՏԱԿԱՆ ԱԿՏԵՐԻ ԿԱՏԱՐՄԱՆ ՀԵՏ ԿԱՊՎԱԾ ՀԱՐՑԵՐԻ ՎԵՐԱԲԵՐՅԱԼ 2014 ԹՎԱԿԱՆ
A4: ØÇçÝáñ¹áõÃÛáõÝÝ»ñÇ ùÝÝ³ñÏÙ³Ý ÁÝÃ³óùÁ | D4: Ü»ñÏ³Û³óí³Í ÙÇçÝáñ¹áõÃÛáõÝÝ»ñÇ ù³Ý³ÏÁ | E4: Ù»ñÅí»É ¿ | F4: µ³í³ñ³ñí»É ¿ | G4: ÃáÕÝí»É ³é³Ýó ùÝÝáõÃÛ³Ý | H4: ³Ý³í³ñï | I4: µáÕáù³ñÏí»É ¿ í»ñ³ùÝÝÇã ¹³ï³ñ³Ý
A5: êïáõ·Çã Ñ³í³ë³ñáõÙ` 1=2+3+4+5
A6: 1. ØÇÝã¹³ï³Ï³Ý í³ñáõÛÃÇ ÝÏ³ïÙ³Ùµ ¹³ï³Ï³Ý í»ñ³ÑëÏáÕáõÃÛ³Ý áÉáñï | D6: 1 | E6: 2 | F6: 3 | G6: 4 | H6: 5 | I6: 6
A7: ³(06) | B7: Ï³É³ÝùÁ áñå»ë Ë³÷³ÝÙ³Ý ÙÇçáó ÏÇñ³é»Éáõ Ù³ëÇÝ | D7: 67 | E7: 6 | F7: 61 | I7: 3
A8: µ(06) | B8: Ï³É³ÝùÇ Å³ÙÏ»ïÇ »ñÏ³ñ³óÝ»Éáõ Ù³ëÇÝ | D8: 18 | F8: 18 | I8: 2
A9: ·(06) | B9: ·ñ³íÁ áñå»ë Ï³É³Ý³íáñÙ³Ý ³ÛÉÁÝïñ³Ýù³ÛÇÝ Ë³÷³ÝÙ³Ý ÙÇçáó ÏÇñ³é»Éáõ Ù³ëÇÝ | D9: 3 | E9: 2 | F9: 1 | I9: 1
A10: ¹(07) | B10: Ëáõ½³ñÏáõÃÛ³Ý Ï³ï³ñÙ³Ý Ù³ëÇÝ | D10: 111 | E10: 5 | F10: 104 | G10: 2 | I10: 1
A11: »(08) | B11: Ý³Ù³Ï³·ñáõÃÛ³Ý, Ñ»é³·ñ³Ï³Ý, ÷áuï³ÛÇÝ Ñ³Õáñ¹áõÙÝ»ñÇ ÑëÏáÕáõÃÛ³Ý ÙÇçÝáñ¹áõÃÛáõÝÝ»ñÇ Ù³ëÇÝ | D11: 45 | F11: 45
A12: ½(09) | B12: Ñ»é³Ëáu³ÛÇÝ Ï³Ù Ï³åÇ ³ÛÉ ÙÇçáóÝ»ñáí ï³ñíáÕ Ëáu³ÏóáõÃÛáõÝÝ»ñÇ ÉuÙ³Ý ¨ Ó³ÛÝ³·ñ³éÙ³Ý ÙÇçÝáñ¹áõÃÛáõÝÝ»ñÇ Ù³ëÇÝ
A13: ¿(10) | B13: Ñ»é³ËáëÝ»ñÇ Ùáõïù³ÛÇÝ ¨ »Éù³ÛÇÝ í»ñÍ³ÝÙ³Ý ÃáõÛÉïíáõÃÛáõÝ ëï³Ý³Éáõ ÙÇçÝáñ¹áõÃÛáõÝÝ»ñÇ Ù³ëÇÝ | D13: 69 | E13: 5 | F13: 64 | I13: 1
A14: Á(11) | B14: Ñ»ï³ùÝÝáõÃÛ³Ý Ù³ñÙÝÇ ³ßË³ïáÕÇ, ùÝÝÇãÇ, ¹³ï³Ë³½Ç oå»ñ³ïÇí-Ñ»ï³Ëáõ½³Ï³Ý ·áñÍáÕáõÃÛáõÝÝ»ñ Çñ³Ï³Ý³óÝáÕ Ù³ñÙÇÝÝ»ñÇ ³ÝoñÇÝ³Ï³Ý ¨ ³ÝÑÇÙÝ áñáßáõÙÝ»ñÇ ¨ ·áñÍáÕáõÃÛáõÝÝ»ñÇ ¹»Ù µáÕáùÝ»ñÇ Ù³ëÇÝ | D14: 9 | E14: 4 | F14: 4 | G14: 1 | I14: 3
A15: 2. ¸³ï³Ï³Ý ³Ïï»ñÇ Ñ»ï Ï³ï³ñÙ³Ý Ñ»ï Ï³åí³Í Ñ³ñó»ñÇ ÉáõÍÙ³Ý áÉáñï
A16: ³(12) | B16: å³ïÅÇó å³ÛÙ³Ý³Ï³Ý í³Õ³Å³ÙÏ»ï ³½³ï»Éáõ Ù³ëÇÝ | D16: 59 | E16: 4 | F16: 55 | I16: 16
A17: µ(13) | B17: ÀÝ¹³Ù»ÝÁ å³ïÇÅÁ ÷á÷áË»Éáõ, Ñ»ï³Ó·»Éáõ ¨ å³ïÅÇó ³½³ï»Éáõ Ù³uÇÝ ÙÇçÝáñ¹áõÃÛáõÝÝ»ñ | D17: 30 | E17: 16 | F17: 11 | G17: 3 | I17: 2
A18: ·(14) | B18: Ñ³ñÏ³¹Çñ µáõÅÙ³Ý ï»ë³ÏÇ ÷á÷áËáõÃÛ³Ý Ù³ëÇÝ | D18: 3 | F18: 3
A19: ¹(15) | B19: ³ÛÉ ÙÇçÝáñ¹áõÃÛáõÝÝ»ñ | D19: 86 | E19: 20 | F19: 63 | G19: 2 | I19: 1
A20: ÀÜ¸²ØºÜÀ | D20: =SUM(D7:D19) -> 500 | E20: =SUM(E7:E19) -> 62 | F20: =SUM(F7:F19) -> 429 | G20: =SUM(G7:G19) -> 8 | H20: =SUM(H7:H19) -> 0 | I20: =SUM(I7:I19) -> 30
A23: /16/ | B23: դատական հանձնարարություն | D23: 8 | F23: 2 | H23: 2
A24: /06/ | B24: կալանքի վերահաստատում | D24: 1 | F24: 1
B25: 1 ·áñÍ áõÕ³ñÏí»É ¿ Áëï ընդդատության
B26: 4 ¹³ï³Ï³Ý Ñ³ÝÓÝ³ñ³ñáõÃÛáõÝ ·ïÝíáõÙ ¿ ³ÝÏ³ï³ñ íÇ×³ÏáõÙ

Sheet armavir
A1: Ð²ÞìºîìàôÂÚàôÜ
A2: Հավելված 2 Հայաստանի Հանրապետության Դատարանների նախագահների խորհրդի 2007թ. ¹»Ïï»Ùµ»ñÇ 21-ի թիվ 23Լ որոշման
A3: ՀՀ ԱՐՄԱՎԻՐԻ ՄԱՐԶԻ ԸՆԴՀԱՆՈՒՐ ԻՐԱՎԱՍՈՒԹՅԱՆ ԴԱՏԱՐԱՆՈՒՄ ՄԻՆՉԴԱՏԱԿԱՆ ՎԱՐՈՒՅԹԻ ՆԿԱՏՄԱՄԲ ԴԱՏԱԿԱՆ ՎԵՐԱՀՍԿՈՂՈՒԹՅԱՆ, ԴԱՏԱԿԱՆ ԱԿՏԵՐԻ ԿԱՏԱՐՄԱՆ ՀԵՏ ԿԱՊՎԱԾ ՀԱՐՑԵՐԻ ՎԵՐԱԲԵՐՅԱԼ 2014 ԹՎԱԿԱՆ
A4: ØÇçÝáñ¹áõÃÛáõÝÝ»ñÇ ùÝÝ³ñÏÙ³Ý ÁÝÃ³óùÁ | D4: Ü»ñÏ³Û³óí³Í ÙÇçÝáñ¹áõÃÛáõÝÝ»ñÇ ù³Ý³ÏÁ | E4: Ù»ñÅí»É ¿ | F4: µ³í³ñ³ñí»É ¿ | G4: ÃáÕÝí»É ³é³Ýó ùÝÝáõÃÛ³Ý | H4: ³Ý³í³ñï | I4: µáÕáù³ñÏí»É ¿ í»ñ³ùÝÝÇã ¹³ï³ñ³Ý
A5: êïáõ·Çã Ñ³í³ë³ñáõÙ` 1=2+3+4+5
A6: 1. ØÇÝã¹³ï³Ï³Ý í³ñáõÛÃÇ ÝÏ³ïÙ³Ùµ ¹³ï³Ï³Ý í»ñ³ÑëÏáÕáõÃÛ³Ý áÉáñï | D6: 1 | E6: 2 | F6: 3 | G6: 4 | H6: 5 | I6: 6
A7: ³(06) | B7: Ï³É³ÝùÁ áñå»ë Ë³÷³ÝÙ³Ý ÙÇçáó ÏÇñ³é»Éáõ Ù³ëÇÝ | D7: 209 | E7: 6 | F7: 203 | I7: 13
A8: µ(06) | B8: Ï³É³ÝùÇ Å³ÙÏ»ïÇ »ñÏ³ñ³óÝ»Éáõ Ù³ëÇÝ | D8: 88 | F8: 87 | G8: 1 | I8: 15
A9: ·(06) | B9: ·ñ³íÁ áñå»ë Ï³É³Ý³íáñÙ³Ý ³ÛÉÁÝïñ³Ýù³ÛÇÝ Ë³÷³ÝÙ³Ý ÙÇçáó ÏÇñ³é»Éáõ Ù³ëÇÝ | D9: 26 | E9: 19 | F9: 6 | G9: 1 | I9: 6
A10: ¹(07) | B10: Ëáõ½³ñÏáõÃÛ³Ý Ï³ï³ñÙ³Ý Ù³ëÇÝ | D10: 206 | E10: 6 | F10: 200
A11: »(08) | B11: Ý³Ù³Ï³·ñáõÃÛ³Ý, Ñ»é³·ñ³Ï³Ý, ÷áuï³ÛÇÝ Ñ³Õáñ¹áõÙÝ»ñÇ ÑëÏáÕáõÃÛ³Ý ÙÇçÝáñ¹áõÃÛáõÝÝ»ñÇ Ù³ëÇÝ | D11: 126 | F11: 126
A12: ½(09) | B12: Ñ»é³Ëáu³ÛÇÝ Ï³Ù Ï³åÇ ³ÛÉ ÙÇçáóÝ»ñáí ï³ñíáÕ Ëáu³ÏóáõÃÛáõÝÝ»ñÇ ÉuÙ³Ý ¨ Ó³ÛÝ³·ñ³éÙ³Ý ÙÇçÝáñ¹áõÃÛáõÝÝ»ñÇ Ù³ëÇÝ
A13: ¿(10) | B13: Ñ»é³ËáëÝ»ñÇ Ùáõïù³ÛÇÝ ¨ »Éù³ÛÇÝ í»ñÍ³ÝÙ³Ý ÃáõÛÉïíáõÃÛáõÝ ëï³Ý³Éáõ ÙÇçÝáñ¹áõÃÛáõÝÝ»ñÇ Ù³ëÇÝ | D13: 121 | E13: 2 | F13: 119 | I13: 1
A14: Á(11) | B14: Ñ»ï³ùÝÝáõÃÛ³Ý Ù³ñÙÝÇ ³ßË³ïáÕÇ, ùÝÝÇãÇ, ¹³ï³Ë³½Ç oå»ñ³ïÇí-Ñ»ï³Ëáõ½³Ï³Ý ·áñÍáÕáõÃÛáõÝÝ»ñ Çñ³Ï³Ý³óÝáÕ Ù³ñÙÇÝÝ»ñÇ ³ÝoñÇÝ³Ï³Ý ¨ ³ÝÑÇÙÝ áñáßáõÙÝ»ñÇ ¨ ·áñÍáÕáõÃÛáõÝÝ»ñÇ ¹»Ù µáÕáùÝ»ñÇ Ù³ëÇÝ | D14: 25 | E14: 12 | F14: 8 | G14: 2 | H14: 3 | I14: 13
A15: 2. ¸³ï³Ï³Ý ³Ïï»ñÇ Ñ»ï Ï³ï³ñÙ³Ý Ñ»ï Ï³åí³Í Ñ³ñó»ñÇ ÉáõÍÙ³Ý áÉáñï
A16: ³(12) | B16: å³ïÅÇó å³ÛÙ³Ý³Ï³Ý í³Õ³Å³ÙÏ»ï ³½³ï»Éáõ Ù³ëÇÝ
A17: µ(13) | B17: ÀÝ¹³Ù»ÝÁ å³ïÇÅÁ ÷á÷áË»Éáõ, Ñ»ï³Ó·»Éáõ ¨ å³ïÅÇó ³½³ï»Éáõ Ù³uÇÝ ÙÇçÝáñ¹áõÃÛáõÝÝ»ñ | D17: 19 | E17: 11 | F17: 7 | H17: 1 | I17: 2
A18: ·(14) | B18: Ñ³ñÏ³¹Çñ µáõÅÙ³Ý ï»ë³ÏÇ ÷á÷áËáõÃÛ³Ý Ù³ëÇÝ | D18: 8 | F18: 8
A19: ¹(15) | B19: ³ÛÉ ÙÇçÝáñ¹áõÃÛáõÝÝ»ñ | D19: 9 | F19: 8
A20: ÀÜ¸²ØºÜÀ | D20: =SUM(D7:D19) -> 837 | E20: =SUM(E7:E19) -> 56 | F20: =SUM(F7:F19) -> 772 | G20: =SUM(G7:G19) -> 4 | H20: =SUM(H7:H19) -> 4 | I20: =SUM(I7:I19) -> 50
A23: /16/ | B23: դատական հանձնարարություն | D23: 12 | F23: 5 | H23: 7
A24: /06/ | B24: կալանքի վերահաստատում | D24: 15 | E24: 1 | F24: 14 | I24: 1
C25: 1 ·áñÍáí Ï³Û³óí»É ¿ í»ñ³¹³ñÓÙ³Ý áñáßáõÙ

Sheet ararat
A1: Ð²ÞìºîìàôÂÚàôÜ
A2: Հավելված 2 Հայաստանի Հանրապետության Դատարանների նախագահների խորհրդի 2007թ. ¹»Ïï»Ùµ»ñÇ 21-ի թիվ 23Լ որոշման
A3: ՀՀ ԱՐԱՐԱՏԻ ԵՎ ՎԱՅՈՑ ՁՈՐԻ ՄԱՐԶԵՐԻ ԸՆԴՀԱՆՈՒՐ ԻՐԱՎԱՍՈՒԹՅԱՆ ԴԱՏԱՐԱՆՈՒՄ ՄԻՆՉԴԱՏԱԿԱՆ ՎԱՐՈՒՅԹԻ ՆԿԱՏՄԱՄԲ ԴԱՏԱԿԱՆ ՎԵՐԱՀՍԿՈՂՈՒԹՅԱՆ, ԴԱՏԱԿԱՆ ԱԿՏԵՐԻ ԿԱՏԱՐՄԱՆ ՀԵՏ ԿԱՊՎԱԾ ՀԱՐՑԵՐԻ ՎԵՐԱԲԵՐՅԱԼ 2014 ԹՎԱԿԱՆ
A4: ØÇçÝáñ¹áõÃÛáõÝÝ»ñÇ ùÝÝ³ñÏÙ³Ý ÁÝÃ³óùÁ | D4: Ü»ñÏ³Û³óí³Í ÙÇçÝáñ¹áõÃÛáõÝÝ»ñÇ ù³Ý³ÏÁ | E4: Ù»ñÅí»É ¿ | F4: µ³í³ñ³ñí»É ¿ | G4: ÃáÕÝí»É ³é³Ýó ùÝÝáõÃÛ³Ý | H4: ³Ý³í³ñï | I4: µáÕáù³ñÏí»É ¿ í»ñ³ùÝÝÇã ¹³ï³ñ³Ý
A5: êïáõ·Çã Ñ³í³ë³ñáõÙ` 1=2+3+4+5
A6: 1. ØÇÝã¹³ï³Ï³Ý í³ñáõÛÃÇ ÝÏ³ïÙ³Ùµ ¹³ï³Ï³Ý í»ñ³ÑëÏáÕáõÃÛ³Ý áÉáñï | D6: 1 | E6: 2 | F6: 3 | G6: 4 | H6: 5 | I6: 6
A7: ³(06) | B7: Ï³É³ÝùÁ áñå»ë Ë³÷³ÝÙ³Ý ÙÇçáó ÏÇñ³é»Éáõ Ù³ëÇÝ | D7: 197 | E7: 16 | F7: 181 | I7: 20
A8: µ(06) | B8: Ï³É³ÝùÇ Å³ÙÏ»ïÇ »ñÏ³ñ³óÝ»Éáõ Ù³ëÇÝ | D8: 105 | E8: 1 | F8: 103 | G8: 1 | I8: 13
A9: ·(06) | B9: ·ñ³íÁ áñå»ë Ï³É³Ý³íáñÙ³Ý ³ÛÉÁÝïñ³Ýù³ÛÇÝ Ë³÷³ÝÙ³Ý ÙÇçáó ÏÇñ³é»Éáõ Ù³ëÇÝ | D9: 39 | E9: 34 | F9: 5 | I9: 20
A10: ¹(07) | B10: Ëáõ½³ñÏáõÃÛ³Ý Ï³ï³ñÙ³Ý Ù³ëÇÝ | D10: 224 | E10: 3 | F10: 220 | G10: 1
A11: »(08) | B11: Ý³Ù³Ï³·ñáõÃÛ³Ý, Ñ»é³·ñ³Ï³Ý, ÷áuï³ÛÇÝ Ñ³Õáñ¹áõÙÝ»ñÇ ÑëÏáÕáõÃÛ³Ý ÙÇçÝáñ¹áõÃÛáõÝÝ»ñÇ Ù³ëÇÝ | D11: 103 | F11: 103
A12: ½(09) | B12: Ñ»é³Ëáu³ÛÇÝ Ï³Ù Ï³åÇ ³ÛÉ ÙÇçáóÝ»ñáí ï³ñíáÕ Ëáu³ÏóáõÃÛáõÝÝ»ñÇ ÉuÙ³Ý ¨ Ó³ÛÝ³·ñ³éÙ³Ý ÙÇçÝáñ¹áõÃÛáõÝÝ»ñÇ Ù³ëÇÝ
A13: ¿(10) | B13: Ñ»é³ËáëÝ»ñÇ Ùáõïù³ÛÇÝ ¨ »Éù³ÛÇÝ í»ñÍ³ÝÙ³Ý ÃáõÛÉïíáõÃÛáõÝ ëï³Ý³Éáõ ÙÇçÝáñ¹áõÃÛáõÝÝ»ñÇ Ù³ëÇÝ | D13: 182 | E13: 3 | F13: 178 | G13: 1 | I13: 1
A14: Á(11) | B14: Ñ»ï³ùÝÝáõÃÛ³Ý Ù³ñÙÝÇ ³ßË³ïáÕÇ, ùÝÝÇãÇ, ¹³ï³Ë³½Ç oå»ñ³ïÇí-Ñ»ï³Ëáõ½³Ï³Ý ·áñÍáÕáõÃÛáõÝÝ»ñ Çñ³Ï³Ý³óÝáÕ Ù³ñÙÇÝÝ»ñÇ ³ÝoñÇÝ³Ï³Ý ¨ ³ÝÑÇÙÝ áñáßáõÙÝ»ñÇ ¨ ·áñÍáÕáõÃÛáõÝÝ»ñÇ ¹»Ù µáÕáùÝ»ñÇ Ù³ëÇÝ | D14: 25 | E14: 18 | F14: 6 | H14: 1 | I14: 13
A15: 2. ¸³ï³Ï³Ý ³Ïï»ñÇ Ñ»ï Ï³ï³ñÙ³Ý Ñ»ï Ï³åí³Í Ñ³ñó»ñÇ ÉáõÍÙ³Ý áÉáñï
A16: ³(12) | B16: å³ïÅÇó å³ÛÙ³Ý³Ï³Ý í³Õ³Å³ÙÏ»ï ³½³ï»Éáõ Ù³ëÇÝ
A17: µ(13) | B17: ÀÝ¹³Ù»ÝÁ å³ïÇÅÁ ÷á÷áË»Éáõ, Ñ»ï³Ó·»Éáõ ¨ å³ïÅÇó ³½³ï»Éáõ Ù³uÇÝ ÙÇçÝáñ¹áõÃÛáõÝÝ»ñ | D17: 50 | E17: 27 | F17: 12 | H17: 3
A18: ·(14) | B18: Ñ³ñÏ³¹Çñ µáõÅÙ³Ý ï»ë³ÏÇ ÷á÷áËáõÃÛ³Ý Ù³ëÇÝ | D18: 2 | F18: 2
A19: ¹(15) | B19: ³ÛÉ ÙÇçÝáñ¹áõÃÛáõÝÝ»ñ | D19: 10 | E19: 1 | F19: 6 | H19: 3 | I19: 1
A20: ÀÜ¸²ØºÜÀ | D20: 937 | E20: 103 | F20: 816 | G20: 3 | H20: 7 | I20: 68
A23: /16/ | B23: դատական հանձնարարություն | D23: 21 | F23: 10 | G23: 4 | H23: 7
A24: /06/ | B24: կալանքի վերահաստատում | D24: 15 | E24: 3 | F24: 12 | I24: 4
C25: 8 ·áñÍ ÙÇ³óí»É ¿ Ù»Ï í³ñáõÛÃáõÙ

Sheet ajapnyak
A1: Ð²ÞìºîìàôÂÚàôÜ
A2: Հավելված 2 Հայաստանի Հանրապետության Դատարանների նախագահների խորհրդի 2007թ. ¹»Ïï»Ùµ»ñÇ 21-ի թիվ 23Լ որոշման
A3: ԱՋԱՓՆՅԱԿ ԵՎ ԴԱՎԹԱՇԵՆ ՎԱՐՉԱԿԱՆ ՇՐՋԱՆՆԵՐԻ ԸՆԴՀԱՆՈՒՐ ԻՐԱՎԱՍՈՒԹՅԱՆ ԴԱՏԱՐԱՆՈՒՄ ՄԻՆՉԴԱՏԱԿԱՆ ՎԱՐՈՒՅԹԻ ՆԿԱՏՄԱՄԲ ԴԱՏԱԿԱՆ ՎԵՐԱՀՍԿՈՂՈՒԹՅԱՆ, ԴԱՏԱԿԱՆ ԱԿՏԵՐԻ ԿԱՏԱՐՄԱՆ ՀԵՏ ԿԱՊՎԱԾ ՀԱՐՑԵՐԻ ՎԵՐԱԲԵՐՅԱԼ 2014 ԹՎԱԿԱՆ
A4: ØÇçÝáñ¹áõÃÛáõÝÝ»ñÇ ùÝÝ³ñÏÙ³Ý ÁÝÃ³óùÁ | D4: Ü»ñÏ³Û³óí³Í ÙÇçÝáñ¹áõÃÛáõÝÝ»ñÇ ù³Ý³ÏÁ | E4: Ù»ñÅí»É ¿ | F4: µ³í³ñ³ñí»É ¿ | G4: ÃáÕÝí»É ³é³Ýó ùÝÝáõÃÛ³Ý | H4: ³Ý³í³ñï | I4: µáÕáù³ñÏí»É ¿ í»ñ³ùÝÝÇã ¹³ï³ñ³Ý
A5: êïáõ·Çã Ñ³í³ë³ñáõÙ` 1=2+3+4+5
A6: 1. ØÇÝã¹³ï³Ï³Ý í³ñáõÛÃÇ ÝÏ³ïÙ³Ùµ ¹³ï³Ï³Ý í»ñ³ÑëÏáÕáõÃÛ³Ý áÉáñï | D6: 1 | E6: 2 | F6: 3 | G6: 4 | H6: 5 | I6: 6
A7: ³(06) | B7: Ï³É³ÝùÁ áñå»ë Ë³÷³ÝÙ³Ý ÙÇçáó ÏÇñ³é»Éáõ Ù³ëÇÝ | D7: 114 | E7: 9 | F7: 105 | I7: 7
A8: µ(06) | B8: Ï³É³ÝùÇ Å³ÙÏ»ïÇ »ñÏ³ñ³óÝ»Éáõ Ù³ëÇÝ | D8: 41 | E8: 1 | F8: 40 | I8: 6
A9: ·(06) | B9: ·ñ³íÁ áñå»ë Ï³É³Ý³íáñÙ³Ý ³ÛÉÁÝïñ³Ýù³ÛÇÝ Ë³÷³ÝÙ³Ý ÙÇçáó ÏÇñ³é»Éáõ Ù³ëÇÝ | D9: 39 | E9: 29 | F9: 8 | G9: 1 | H9: 1 | I9: 12
A10: ¹(07) | B10: Ëáõ½³ñÏáõÃÛ³Ý Ï³ï³ñÙ³Ý Ù³ëÇÝ | D10: 128 | E10: 20 | F10: 108 | I10: 3
A11: »(08) | B11: Ý³Ù³Ï³·ñáõÃÛ³Ý, Ñ»é³·ñ³Ï³Ý, ÷áuï³ÛÇÝ Ñ³Õáñ¹áõÙÝ»ñÇ ÑëÏáÕáõÃÛ³Ý ÙÇçÝáñ¹áõÃÛáõÝÝ»ñÇ Ù³ëÇÝ
A12: ½(09) | B12: Ñ»é³Ëáu³ÛÇÝ Ï³Ù Ï³åÇ ³ÛÉ ÙÇçáóÝ»ñáí ï³ñíáÕ Ëáu³ÏóáõÃÛáõÝÝ»ñÇ ÉuÙ³Ý ¨ Ó³ÛÝ³·ñ³éÙ³Ý ÙÇçÝáñ¹áõÃÛáõÝÝ»ñÇ Ù³ëÇÝ | D12: 3 | F12: 2 | G12: 1
A13: ¿(10) | B13: Ñ»é³ËáëÝ»ñÇ Ùáõïù³ÛÇÝ ¨ »Éù³ÛÇÝ í»ñÍ³ÝÙ³Ý ÃáõÛÉïíáõÃÛáõÝ ëï³Ý³Éáõ ÙÇçÝáñ¹áõÃÛáõÝÝ»ñÇ Ù³ëÇÝ | D13: 163 | E13: 13 | F13: 150 | I13: 2
A14: Á(11) | B14: Ñ»ï³ùÝÝáõÃÛ³Ý Ù³ñÙÝÇ ³ßË³ïáÕÇ, ùÝÝÇãÇ, ¹³ï³Ë³½Ç oå»ñ³ïÇí-Ñ»ï³Ëáõ½³Ï³Ý ·áñÍáÕáõÃÛáõÝÝ»ñ Çñ³Ï³Ý³óÝáÕ Ù³ñÙÇÝÝ»ñÇ ³ÝoñÇÝ³Ï³Ý ¨ ³ÝÑÇÙÝ áñáßáõÙÝ»ñÇ ¨ ·áñÍáÕáõÃÛáõÝÝ»ñÇ ¹»Ù µáÕáùÝ»ñÇ Ù³ëÇÝ | D14: 39 | E14: 24 | F14: 6 | G14: 3 | H14: 5 | I14: 19
A15: 2. ¸³ï³Ï³Ý ³Ïï»ñÇ Ñ»ï Ï³ï³ñÙ³Ý Ñ»ï Ï³åí³Í Ñ³ñó»ñÇ ÉáõÍÙ³Ý áÉáñï
A16: ³(12) | B16: å³ïÅÇó å³ÛÙ³Ý³Ï³Ý í³Õ³Å³ÙÏ»ï ³½³ï»Éáõ Ù³ëÇÝ
A17: µ(13) | B17: ÀÝ¹³Ù»ÝÁ å³ïÇÅÁ ÷á÷áË»Éáõ, Ñ»ï³Ó·»Éáõ ¨ å³ïÅÇó ³½³ï»Éáõ Ù³uÇÝ ÙÇçÝáñ¹áõÃÛáõÝÝ»ñ | D17: 21 | E17: 6 | F17: 12 | G17: 1 | H17: 2
A18: ·(14) | B18: Ñ³ñÏ³¹Çñ µáõÅÙ³Ý ï»ë³ÏÇ ÷á÷áËáõÃÛ³Ý Ù³ëÇÝ
A19: ¹(15) | B19: ³ÛÉ ÙÇçÝáñ¹áõÃÛáõÝÝ»ñ | D19: 16 | E19: 2 | F19: 14
A20: ÀÜ¸²ØºÜÀ | D20: =SUM(D7:D19) -> 564 | E20: =SUM(E7:E19) -> 104 | F20: =SUM(F7:F19) -> 445 | G20: =SUM(G7:G19) -> 6 | H20: =SUM(H7:H19) -> 8 | I20: =SUM(I7:I19) -> 49
A23: /16/ | B23: դատական հանձնարարություն | D23: 18 | E23: 1 | F23: 7 | H23: 10
A24: /06/ | B24: կալանքի վերահաստատում | D24: 15 | E24: 2 | F24: 13 | I24: 3
B25: 1 ·áñÍ áõÕ³ñÏí»É ¿ Áëï ընդդատության

Sheet arabkir
A1: Ð²ÞìºîìàôÂÚàôÜ
A2: Հավելված 2 Հայաստանի Հանրապետության Դատարանների նախագահների խորհրդի 2007թ. ¹»Ïï»Ùµ»ñÇ 21-ի թիվ 23Լ որոշման
A3: ԱՐԱԲԿԻՐ ԵՎ ՔԱՆԱՔԵՌ-ԶԵՅԹՈՒՆ ՎԱՐՉԱԿԱՆ ՇՐՋԱՆՆԵՐԻ ԸՆԴՀԱՆՈՒՐ ԻՐԱՎԱՍՈՒԹՅԱՆ ԴԱՏԱՐԱՆՈՒՄ ՄԻՆՉԴԱՏԱԿԱՆ ՎԱՐՈՒՅԹԻ ՆԿԱՏՄԱՄԲ ԴԱՏԱԿԱՆ ՎԵՐԱՀՍԿՈՂՈՒԹՅԱՆ, ԴԱՏԱԿԱՆ ԱԿՏԵՐԻ ԿԱՏԱՐՄԱՆ ՀԵՏ ԿԱՊՎԱԾ ՀԱՐՑԵՐԻ ՎԵՐԱԲԵՐՅԱԼ 2014 ԹՎԱԿԱՆ
A4: ØÇçÝáñ¹áõÃÛáõÝÝ»ñÇ ùÝÝ³ñÏÙ³Ý ÁÝÃ³óùÁ | D4: Ü»ñÏ³Û³óí³Í ÙÇçÝáñ¹áõÃÛáõÝÝ»ñÇ ù³Ý³ÏÁ | E4: Ù»ñÅí»É ¿ | F4: µ³í³ñ³ñí»É ¿ | G4: ÃáÕÝí»É ³é³Ýó ùÝÝáõÃÛ³Ý | H4: ³Ý³í³ñï | I4: µáÕáù³ñÏí»É ¿ í»ñ³ùÝÝÇã ¹³ï³ñ³Ý
A5: êïáõ·Çã Ñ³í³ë³ñáõÙ` 1=2+3+4+5
A6: 1. ØÇÝã¹³ï³Ï³Ý í³ñáõÛÃÇ ÝÏ³ïÙ³Ùµ ¹³ï³Ï³Ý í»ñ³ÑëÏáÕáõÃÛ³Ý áÉáñï | D6: 1 | E6: 2 | F6: 3 | G6: 4 | H6: 5 | I6: 6
A7: ³(06) | B7: Ï³É³ÝùÁ áñå»ë Ë³÷³ÝÙ³Ý ÙÇçáó ÏÇñ³é»Éáõ Ù³ëÇÝ | D7: 194 | E7: 10 | F7: 184 | I7: 38
A8: µ(06) | B8: Ï³É³ÝùÇ Å³ÙÏ»ïÇ »ñÏ³ñ³óÝ»Éáõ Ù³ëÇÝ | D8: 173 | E8: 2 | F8: 162 | G8: 5 | H8: 4 | I8: 47
A9: ·(06) | B9: ·ñ³íÁ áñå»ë Ï³É³Ý³íáñÙ³Ý ³ÛÉÁÝïñ³Ýù³ÛÇÝ Ë³÷³ÝÙ³Ý ÙÇçáó ÏÇñ³é»Éáõ Ù³ëÇÝ | D9: 20 | E9: 14 | F9: 3 | G9: 2 | H9: 1 | I9: 10
A10: ¹(07) | B10: Ëáõ½³ñÏáõÃÛ³Ý Ï³ï³ñÙ³Ý Ù³ëÇÝ | D10: 473 | E10: 5 | F10: 466 | G10: 2
A11: »(08) | B11: Ý³Ù³Ï³·ñáõÃÛ³Ý, Ñ»é³·ñ³Ï³Ý, ÷áuï³ÛÇÝ Ñ³Õáñ¹áõÙÝ»ñÇ ÑëÏáÕáõÃÛ³Ý ÙÇçÝáñ¹áõÃÛáõÝÝ»ñÇ Ù³ëÇÝ
A12: ½(09) | B12: Ñ»é³Ëáu³ÛÇÝ Ï³Ù Ï³åÇ ³ÛÉ ÙÇçáóÝ»ñáí ï³ñíáÕ Ëáu³ÏóáõÃÛáõÝÝ»ñÇ ÉuÙ³Ý ¨ Ó³ÛÝ³·ñ³éÙ³Ý ÙÇçÝáñ¹áõÃÛáõÝÝ»ñÇ Ù³ëÇÝ | D12: 3 | F12: 3
A13: ¿(10) | B13: Ñ»é³ËáëÝ»ñÇ Ùáõïù³ÛÇÝ ¨ »Éù³ÛÇÝ í»ñÍ³ÝÙ³Ý ÃáõÛÉïíáõÃÛáõÝ ëï³Ý³Éáõ ÙÇçÝáñ¹áõÃÛáõÝÝ»ñÇ Ù³ëÇÝ | D13: 568 | E13: 1 | F13: 566 | G13: 1
A14: Á(11) | B14: Ñ»ï³ùÝÝáõÃÛ³Ý Ù³ñÙÝÇ ³ßË³ïáÕÇ, ùÝÝÇãÇ, ¹³ï³Ë³½Ç oå»ñ³ïÇí-Ñ»ï³Ëáõ½³Ï³Ý ·áñÍáÕáõÃÛáõÝÝ»ñ Çñ³Ï³Ý³óÝáÕ Ù³ñÙÇÝÝ»ñÇ ³ÝoñÇÝ³Ï³Ý ¨ ³ÝÑÇÙÝ áñáßáõÙÝ»ñÇ ¨ ·áñÍáÕáõÃÛáõÝÝ»ñÇ ¹»Ù µáÕáùÝ»ñÇ Ù³ëÇÝ | D14: 116 | E14: 61 | F14: 14 | G14: 6 | H14: 30 | I14: 42
A15: 2. ¸³ï³Ï³Ý ³Ïï»ñÇ Ñ»ï Ï³ï³ñÙ³Ý Ñ»ï Ï³åí³Í Ñ³ñó»ñÇ ÉáõÍÙ³Ý áÉáñï
A16: ³(12) | B16: å³ïÅÇó å³ÛÙ³Ý³Ï³Ý í³Õ³Å³ÙÏ»ï ³½³ï»Éáõ Ù³ëÇÝ
A17: µ(13) | B17: ÀÝ¹³Ù»ÝÁ å³ïÇÅÁ ÷á÷áË»Éáõ, Ñ»ï³Ó·»Éáõ ¨ å³ïÅÇó ³½³ï»Éáõ Ù³uÇÝ ÙÇçÝáñ¹áõÃÛáõÝÝ»ñ | D17: 46 | E17: 6 | F17: 24 | G17: 6 | H17: 10 | I17: 1
A18: ·(14) | B18: Ñ³ñÏ³¹Çñ µáõÅÙ³Ý ï»ë³ÏÇ ÷á÷áËáõÃÛ³Ý Ù³ëÇÝ | D18: 26 | F18: 24 | G18: 2
A19: ¹(15) | B19: ³ÛÉ ÙÇçÝáñ¹áõÃÛáõÝÝ»ñ | D19: 4 | E19: 2 | F19: 2
A20: ÀÜ¸²ØºÜÀ | D20: 1623 | E20: 101 | F20: 1448 | G20: 24 | H20: 45
A23: /16/ | B23: դատական հանձնարարություն | D23: 29 | F23: 20 | G23: 1 | H23: 8
A24: /06/ | B24: կալանքի վերահաստատում | D24: 27 | E24: 1 | F24: 26 | I24: 3
C25: 5 ·áñÍ áõÕ³ñÏí»É ¿ Áëï ընդդատության

Sheet avan
A1: Ð²ÞìºîìàôÂÚàôÜ
A2: Հավելված 2 Հայաստանի Հանրապետության Դատարանների նախագահների խորհրդի 2007թ. ¹»Ïï»Ùµ»ñÇ 21-ի թիվ 23Լ որոշման
A3: ԱՎԱՆ ԵՎ ՆՈՐ ՆՈՐՔ ՎԱՐՉԱԿԱՆ ՇՐՋԱՆՆԵՐԻ ԸՆԴՀԱՆՈՒՐ ԻՐԱՎԱՍՈՒԹՅԱՆ ԴԱՏԱՐԱՆՈՒՄ ՄԻՆՉԴԱՏԱԿԱՆ ՎԱՐՈՒՅԹԻ ՆԿԱՏՄԱՄԲ ԴԱՏԱԿԱՆ ՎԵՐԱՀՍԿՈՂՈՒԹՅԱՆ, ԴԱՏԱԿԱՆ ԱԿՏԵՐԻ ԿԱՏԱՐՄԱՆ ՀԵՏ ԿԱՊՎԱԾ ՀԱՐՑԵՐԻ ՎԵՐԱԲԵՐՅԱԼ 2014 ԹՎԱԿԱՆ
A4: ØÇçÝáñ¹áõÃÛáõÝÝ»ñÇ ùÝÝ³ñÏÙ³Ý ÁÝÃ³óùÁ | D4: Ü»ñÏ³Û³óí³Í ÙÇçÝáñ¹áõÃÛáõÝÝ»ñÇ ù³Ý³ÏÁ | E4: Ù»ñÅí»É ¿ | F4: µ³í³ñ³ñí»É ¿ | G4: ÃáÕÝí»É ³é³Ýó ùÝÝáõÃÛ³Ý | H4: ³Ý³í³ñï | I4: µáÕáù³ñÏí»É ¿ í»ñ³ùÝÝÇã ¹³ï³ñ³Ý
A5: êïáõ·Çã Ñ³í³ë³ñáõÙ` 1=2+3+4+5
A6: 1. ØÇÝã¹³ï³Ï³Ý í³ñáõÛÃÇ ÝÏ³ïÙ³Ùµ ¹³ï³Ï³Ý í»ñ³ÑëÏáÕáõÃÛ³Ý áÉáñï | D6: 1 | E6: 2 | F6: 3 | G6: 4 | H6: 5 | I6: 6
A7: ³(06) | B7: Ï³É³ÝùÁ áñå»ë Ë³÷³ÝÙ³Ý ÙÇçáó ÏÇñ³é»Éáõ Ù³ëÇÝ | D7: 83 | E7: 7 | F7: 76 | G7: 0 | H7: 0 | I7: 3
A8: µ(06) | B8: Ï³É³ÝùÇ Å³ÙÏ»ïÇ »ñÏ³ñ³óÝ»Éáõ Ù³ëÇÝ | D8: 50 | E8: 0 | F8: 48 | G8: 0 | H8: 2 | I8: 5
A9: ·(06) | B9: ·ñ³íÁ áñå»ë Ï³É³Ý³íáñÙ³Ý ³ÛÉÁÝïñ³Ýù³ÛÇÝ Ë³÷³ÝÙ³Ý ÙÇçáó ÏÇñ³é»Éáõ Ù³ëÇÝ | D9: 37 | E9: 29 | F9: 7 | G9: 1 | H9: 0 | I9: 8
A10: ¹(07) | B10: Ëáõ½³ñÏáõÃÛ³Ý Ï³ï³ñÙ³Ý Ù³ëÇÝ | D10: 149 | E10: 5 | F10: 144 | I10: 2
A11: »(08) | B11: Ý³Ù³Ï³·ñáõÃÛ³Ý, Ñ»é³·ñ³Ï³Ý, ÷áuï³ÛÇÝ Ñ³Õáñ¹áõÙÝ»ñÇ ÑëÏáÕáõÃÛ³Ý ÙÇçÝáñ¹áõÃÛáõÝÝ»ñÇ Ù³ëÇÝ
A12: ½(09) | B12: Ñ»é³Ëáu³ÛÇÝ Ï³Ù Ï³åÇ ³ÛÉ ÙÇçáóÝ»ñáí ï³ñíáÕ Ëáu³ÏóáõÃÛáõÝÝ»ñÇ ÉuÙ³Ý ¨ Ó³ÛÝ³·ñ³éÙ³Ý ÙÇçÝáñ¹áõÃÛáõÝÝ»ñÇ Ù³ëÇÝ
A13: ¿(10) | B13: Ñ»é³ËáëÝ»ñÇ Ùáõïù³ÛÇÝ ¨ »Éù³ÛÇÝ í»ñÍ³ÝÙ³Ý ÃáõÛÉïíáõÃÛáõÝ ëï³Ý³Éáõ ÙÇçÝáñ¹áõÃÛáõÝÝ»ñÇ Ù³ëÇÝ | D13: 138 | E13: 1 | F13: 137 | I13: 1
A14: Á(11) | B14: Ñ»ï³ùÝÝáõÃÛ³Ý Ù³ñÙÝÇ ³ßË³ïáÕÇ, ùÝÝÇãÇ, ¹³ï³Ë³½Ç oå»ñ³ïÇí-Ñ»ï³Ëáõ½³Ï³Ý ·áñÍáÕáõÃÛáõÝÝ»ñ Çñ³Ï³Ý³óÝáÕ Ù³ñÙÇÝÝ»ñÇ ³ÝoñÇÝ³Ï³Ý ¨ ³ÝÑÇÙÝ áñáßáõÙÝ»ñÇ ¨ ·áñÍáÕáõÃÛáõÝÝ»ñÇ ¹»Ù µáÕáùÝ»ñÇ Ù³ëÇÝ | D14: 26 | E14: 13 | F14: 8 | G14: 2 | H14: 3 | I14: 14
A15: 2. ¸³ï³Ï³Ý ³Ïï»ñÇ Ñ»ï Ï³ï³ñÙ³Ý Ñ»ï Ï³åí³Í Ñ³ñó»ñÇ ÉáõÍÙ³Ý áÉáñï
A16: ³(12) | B16: å³ïÅÇó å³ÛÙ³Ý³Ï³Ý í³Õ³Å³ÙÏ»ï ³½³ï»Éáõ Ù³ëÇÝ
A17: µ(13) | B17: ÀÝ¹³Ù»ÝÁ å³ïÇÅÁ ÷á÷áË»Éáõ, Ñ»ï³Ó·»Éáõ ¨ å³ïÅÇó ³½³ï»Éáõ Ù³uÇÝ ÙÇçÝáñ¹áõÃÛáõÝÝ»ñ | D17: 18 | E17: 12 | F17: 4 | G17: 0 | H17: 2 | I17: 1
A18: ·(14) | B18: Ñ³ñÏ³¹Çñ µáõÅÙ³Ý ï»ë³ÏÇ ÷á÷áËáõÃÛ³Ý Ù³ëÇÝ | D18: 14 | E18: 3 | F18: 10 | G18: 1 | H18: 0 | I18: 1
A19: ¹(15) | B19: ³ÛÉ ÙÇçÝáñ¹áõÃÛáõÝÝ»ñ | D19: 25 | E19: 2 | F19: 23 | I19: 1
A20: ÀÜ¸²ØºÜÀ | D20: 540 | E20: 72 | F20: 457 | G20: 4 | H20: 7 | I20: 36
A23: /16/ | B23: դատական հանձնարարություն | D23: 19 | E23: 0 | F23: 4 | G23: 0 | H23: 4 | I23: 0
A24: /06/ | B24: կալանքի վերահաստատում | D24: 6 | E24: 2 | F24: 4 | G24: 0 | H24: 0 | I24: 3
C25: 1 ·áñÍ áõÕ³ñÏí»É ¿ Áëï ընդդատության
C26: 10 ·áñÍáí Ï³Û³óí»É ¿ í»ñ³¹³ñÓÙ³Ý áñáßáõÙ

Sheet kentron
A1: Ð²ÞìºîìàôÂÚàôÜ
A2: Հավելված 2 Հայաստանի Հանրապետության Դատարանների նախագահների խորհրդի 2007թ. ¹»Ïï»Ùµ»ñÇ 21-ի թիվ 23Լ որոշման
A3: ԿԵՆՏՐՈՆ ԵՎ ՆՈՐՔ-ՄԱՐԱՇ ՎԱՐՉԱԿԱՆ ՇՐՋԱՆՆԵՐԻ ԸՆԴՀԱՆՈՒՐ ԻՐԱՎԱՍՈՒԹՅԱՆ ԴԱՏԱՐԱՆՈՒՄ ՄԻՆՉԴԱՏԱԿԱՆ ՎԱՐՈՒՅԹԻ ՆԿԱՏՄԱՄԲ ԴԱՏԱԿԱՆ ՎԵՐԱՀՍԿՈՂՈՒԹՅԱՆ, ԴԱՏԱԿԱՆ ԱԿՏԵՐԻ ԿԱՏԱՐՄԱՆ ՀԵՏ ԿԱՊՎԱԾ ՀԱՐՑԵՐԻ ՎԵՐԱԲԵՐՅԱԼ 2014 ԹՎԱԿԱՆ
A4: ØÇçÝáñ¹áõÃÛáõÝÝ»ñÇ ùÝÝ³ñÏÙ³Ý ÁÝÃ³óùÁ | D4: Ü»ñÏ³Û³óí³Í ÙÇçÝáñ¹áõÃÛáõÝÝ»ñÇ ù³Ý³ÏÁ | E4: Ù»ñÅí»É ¿ | F4: µ³í³ñ³ñí»É ¿ | G4: ÃáÕÝí»É ³é³Ýó ùÝÝáõÃÛ³Ý | H4: ³Ý³í³ñï | I4: µáÕáù³ñÏí»É ¿ í»ñ³ùÝÝÇã ¹³ï³ñ³Ý
A5: êïáõ·Çã Ñ³í³ë³ñáõÙ` 1=2+3+4+5
A6: 1. ØÇÝã¹³ï³Ï³Ý í³ñáõÛÃÇ ÝÏ³ïÙ³Ùµ ¹³ï³Ï³Ý í»ñ³ÑëÏáÕáõÃÛ³Ý áÉáñï | D6: 1 | E6: 2 | F6: 3 | G6: 4 | H6: 5 | I6: 6
A7: ³(06) | B7: Ï³É³ÝùÁ áñå»ë Ë³÷³ÝÙ³Ý ÙÇçáó ÏÇñ³é»Éáõ Ù³ëÇÝ | D7: 343 | E7: 12 | F7: 328 | G7: 3 | H7: 0 | I7: 108
A8: µ(06) | B8: Ï³É³ÝùÇ Å³ÙÏ»ïÇ »ñÏ³ñ³óÝ»Éáõ Ù³ëÇÝ | D8: 635 | E8: 5 | F8: 628 | G8: 2 | H8: 0 | I8: 156
A9: ·(06) | B9: ·ñ³íÁ áñå»ë Ï³É³Ý³íáñÙ³Ý ³ÛÉÁÝïñ³Ýù³ÛÇÝ Ë³÷³ÝÙ³Ý ÙÇçáó ÏÇñ³é»Éáõ Ù³ëÇÝ | D9: 29 | E9: 22 | F9: 6 | G9: 1 | H9: 0 | I9: 13
A10: ¹(07) | B10: Ëáõ½³ñÏáõÃÛ³Ý Ï³ï³ñÙ³Ý Ù³ëÇÝ | D10: 1006 | E10: 18 | F10: 982 | G10: 6 | H10: 0 | I10: 7
A11: »(08) | B11: Ý³Ù³Ï³·ñáõÃÛ³Ý, Ñ»é³·ñ³Ï³Ý, ÷áuï³ÛÇÝ Ñ³Õáñ¹áõÙÝ»ñÇ ÑëÏáÕáõÃÛ³Ý ÙÇçÝáñ¹áõÃÛáõÝÝ»ñÇ Ù³ëÇÝ | D11: 82 | E11: 0 | F11: 82 | G11: 0 | H11: 0 | I11: 1
A12: ½(09) | B12: Ñ»é³Ëáu³ÛÇÝ Ï³Ù Ï³åÇ ³ÛÉ ÙÇçáóÝ»ñáí ï³ñíáÕ Ëáu³ÏóáõÃÛáõÝÝ»ñÇ ÉuÙ³Ý ¨ Ó³ÛÝ³·ñ³éÙ³Ý ÙÇçÝáñ¹áõÃÛáõÝÝ»ñÇ Ù³ëÇÝ | D12: 37 | E12: 0 | F12: 36 | G12: 1 | H12: 0 | I12: 0
A13: ¿(10) | B13: Ñ»é³ËáëÝ»ñÇ Ùáõïù³ÛÇÝ ¨ »Éù³ÛÇÝ í»ñÍ³ÝÙ³Ý ÃáõÛÉïíáõÃÛáõÝ ëï³Ý³Éáõ ÙÇçÝáñ¹áõÃÛáõÝÝ»ñÇ Ù³ëÇÝ | D13: 1121 | E13: 5 | F13: 1116 | G13: 0 | H13: 0 | I13: 0
A14: Á(11) | B14: Ñ»ï³ùÝÝáõÃÛ³Ý Ù³ñÙÝÇ ³ßË³ïáÕÇ, ùÝÝÇãÇ, ¹³ï³Ë³½Ç oå»ñ³ïÇí-Ñ»ï³Ëáõ½³Ï³Ý ·áñÍáÕáõÃÛáõÝÝ»ñ Çñ³Ï³Ý³óÝáÕ Ù³ñÙÇÝÝ»ñÇ ³ÝoñÇÝ³Ï³Ý ¨ ³ÝÑÇÙÝ áñáßáõÙÝ»ñÇ ¨ ·áñÍáÕáõÃÛáõÝÝ»ñÇ ¹»Ù µáÕáùÝ»ñÇ Ù³ëÇÝ | D14: 300 | E14: 187 | F14: 35 | G14: 16 | H14: 40 | I14: 135
A15: 2. ¸³ï³Ï³Ý ³Ïï»ñÇ Ñ»ï Ï³ï³ñÙ³Ý Ñ»ï Ï³åí³Í Ñ³ñó»ñÇ ÉáõÍÙ³Ý áÉáñï
A16: ³(12) | B16: å³ïÅÇó å³ÛÙ³Ý³Ï³Ý í³Õ³Å³ÙÏ»ï ³½³ï»Éáõ Ù³ëÇÝ | D16: 18 | E16: 6 | F16: 12 | G16: 0 | H16: 0 | I16: 5
A17: µ(13) | B17: ÀÝ¹³Ù»ÝÁ å³ïÇÅÁ ÷á÷áË»Éáõ, Ñ»ï³Ó·»Éáõ ¨ å³ïÅÇó ³½³ï»Éáõ Ù³uÇÝ ÙÇçÝáñ¹áõÃÛáõÝÝ»ñ | D17: 40 | E17: 13 | F17: 16 | G17: 3 | H17: 3 | I17: 3
A18: ·(14) | B18: Ñ³ñÏ³¹Çñ µáõÅÙ³Ý ï»ë³ÏÇ ÷á÷áËáõÃÛ³Ý Ù³ëÇÝ | D18: 54 | E18: 3 | F18: 51 | G18: 0 | H18: 0 | I18: 2
A19: ¹(15) | B19: ³ÛÉ ÙÇçÝáñ¹áõÃÛáõÝÝ»ñ | D19: 70 | E19: 25 | F19: 30 | G19: 8 | H19: 6 | I19: 7
A20: ÀÜ¸²ØºÜÀ | D20: =SUM(D7:D19) -> 3735 | E20: =SUM(E7:E19) -> 296 | F20: =SUM(F7:F19) -> 3322 | G20: =SUM(G7:G19) -> 40 | H20: =SUM(H7:H19) -> 49 | I20: =SUM(I7:I19) -> 437
A23: /16/ | B23: դատական հանձնարարություն | D23: 37 | E23: 3 | F23: 24 | G23: 2 | H23: 6 | I23: 1
A24: /06/ | B24: կալանքի վերահաստատում | D24: 46 | E24: 3 | F24: 43 | G24: 0 | H24: 0 | I24: 10
C25: 30 ·áñÍ áõÕ³ñÏí»É ¿ Áëï ընդդատության

Sheet malatia
A1: Ð²ÞìºîìàôÂÚàôÜ
A2: Հավելված 2 Հայաստանի Հանրապետության Դատարանների նախագահների խորհրդի 2007թ. ¹»Ïï»Ùµ»ñÇ 21-ի թիվ 23Լ որոշման
A3: ՄԱԼԱԹԻԱ-ՍԵԲԱՍՏԻԱ ՎԱՐՉԱԿԱՆ ՇՐՋԱՆԻ ԸՆԴՀԱՆՈՒՐ ԻՐԱՎԱՍՈՒԹՅԱՆ ԴԱՏԱՐԱՆՈՒՄ ՄԻՆՉԴԱՏԱԿԱՆ ՎԱՐՈՒՅԹԻ ՆԿԱՏՄԱՄԲ ԴԱՏԱԿԱՆ ՎԵՐԱՀՍԿՈՂՈՒԹՅԱՆ, ԴԱՏԱԿԱՆ ԱԿՏԵՐԻ ԿԱՏԱՐՄԱՆ ՀԵՏ ԿԱՊՎԱԾ ՀԱՐՑԵՐԻ ՎԵՐԱԲԵՐՅԱԼ 2014 ԹՎԱԿԱՆ
A4: ØÇçÝáñ¹áõÃÛáõÝÝ»ñÇ ùÝÝ³ñÏÙ³Ý ÁÝÃ³óùÁ | D4: Ü»ñÏ³Û³óí³Í ÙÇçÝáñ¹áõÃÛáõÝÝ»ñÇ ù³Ý³ÏÁ | E4: Ù»ñÅí»É ¿ | F4: µ³í³ñ³ñí»É ¿ | G4: ÃáÕÝí»É ³é³Ýó ùÝÝáõÃÛ³Ý | H4: ³Ý³í³ñï | I4: µáÕáù³ñÏí»É ¿ í»ñ³ùÝÝÇã ¹³ï³ñ³Ý
A5: êïáõ·Çã Ñ³í³ë³ñáõÙ` 1=2+3+4+5
A6: 1. ØÇÝã¹³ï³Ï³Ý í³ñáõÛÃÇ ÝÏ³ïÙ³Ùµ ¹³ï³Ï³Ý í»ñ³ÑëÏáÕáõÃÛ³Ý áÉáñï | D6: 1 | E6: 2 | F6: 3 | G6: 4 | H6: 5 | I6: 6
A7: ³(06) | B7: Ï³É³ÝùÁ áñå»ë Ë³÷³ÝÙ³Ý ÙÇçáó ÏÇñ³é»Éáõ Ù³ëÇÝ | D7: 86 | E7: 1 | F7: 85 | I7: 8
A8: µ(06) | B8: Ï³É³ÝùÇ Å³ÙÏ»ïÇ »ñÏ³ñ³óÝ»Éáõ Ù³ëÇÝ | D8: 53 | F8: 52 | H8: 1 | I8: 4
A9: ·(06) | B9: ·ñ³íÁ áñå»ë Ï³É³Ý³íáñÙ³Ý ³ÛÉÁÝïñ³Ýù³ÛÇÝ Ë³÷³ÝÙ³Ý ÙÇçáó ÏÇñ³é»Éáõ Ù³ëÇÝ | D9: 34 | E9: 29 | F9: 5 | I9: 9
A10: ¹(07) | B10: Ëáõ½³ñÏáõÃÛ³Ý Ï³ï³ñÙ³Ý Ù³ëÇÝ | D10: 215 | E10: 3 | F10: 212
A11: »(08) | B11: Ý³Ù³Ï³·ñáõÃÛ³Ý, Ñ»é³·ñ³Ï³Ý, ÷áuï³ÛÇÝ Ñ³Õáñ¹áõÙÝ»ñÇ ÑëÏáÕáõÃÛ³Ý ÙÇçÝáñ¹áõÃÛáõÝÝ»ñÇ Ù³ëÇÝ
A12: ½(09) | B12: Ñ»é³Ëáu³ÛÇÝ Ï³Ù Ï³åÇ ³ÛÉ ÙÇçáóÝ»ñáí ï³ñíáÕ Ëáu³ÏóáõÃÛáõÝÝ»ñÇ ÉuÙ³Ý ¨ Ó³ÛÝ³·ñ³éÙ³Ý ÙÇçÝáñ¹áõÃÛáõÝÝ»ñÇ Ù³ëÇÝ | D12: 14 | F12: 14 | I12: 1
A13: ¿(10) | B13: Ñ»é³ËáëÝ»ñÇ Ùáõïù³ÛÇÝ ¨ »Éù³ÛÇÝ í»ñÍ³ÝÙ³Ý ÃáõÛÉïíáõÃÛáõÝ ëï³Ý³Éáõ ÙÇçÝáñ¹áõÃÛáõÝÝ»ñÇ Ù³ëÇÝ | D13: 275 | E13: 3 | F13: 272
A14: Á(11) | B14: Ñ»ï³ùÝÝáõÃÛ³Ý Ù³ñÙÝÇ ³ßË³ïáÕÇ, ùÝÝÇãÇ, ¹³ï³Ë³½Ç oå»ñ³ïÇí-Ñ»ï³Ëáõ½³Ï³Ý ·áñÍáÕáõÃÛáõÝÝ»ñ Çñ³Ï³Ý³óÝáÕ Ù³ñÙÇÝÝ»ñÇ ³ÝoñÇÝ³Ï³Ý ¨ ³ÝÑÇÙÝ áñáßáõÙÝ»ñÇ ¨ ·áñÍáÕáõÃÛáõÝÝ»ñÇ ¹»Ù µáÕáùÝ»ñÇ Ù³ëÇÝ | D14: 23 | E14: 15 | F14: 4 | H14: 4 | I14: 11
A15: 2. ¸³ï³Ï³Ý ³Ïï»ñÇ Ñ»ï Ï³ï³ñÙ³Ý Ñ»ï Ï³åí³Í Ñ³ñó»ñÇ ÉáõÍÙ³Ý áÉáñï
A16: ³(12) | B16: å³ïÅÇó å³ÛÙ³Ý³Ï³Ý í³Õ³Å³ÙÏ»ï ³½³ï»Éáõ Ù³ëÇÝ
A17: µ(13) | B17: ÀÝ¹³Ù»ÝÁ å³ïÇÅÁ ÷á÷áË»Éáõ, Ñ»ï³Ó·»Éáõ ¨ å³ïÅÇó ³½³ï»Éáõ Ù³uÇÝ ÙÇçÝáñ¹áõÃÛáõÝÝ»ñ | D17: 15 | E17: 6 | F17: 7 | G17: 2
A18: ·(14) | B18: Ñ³ñÏ³¹Çñ µáõÅÙ³Ý ï»ë³ÏÇ ÷á÷áËáõÃÛ³Ý Ù³ëÇÝ | D18: 8 | F18: 8
A19: ¹(15) | B19: ³ÛÉ ÙÇçÝáñ¹áõÃÛáõÝÝ»ñ | D19: 17 | E19: 6 | F19: 8 | G19: 1 | H19: 2 | I19: 1
A20: ÀÜ¸²ØºÜÀ | D20: =SUM(D7:D19) -> 740 | E20: =SUM(E7:E19) -> 63 | F20: =SUM(F7:F19) -> 667 | G20: =SUM(G7:G19) -> 3 | H20: =SUM(H7:H19) -> 7 | I20: =SUM(I7:I19) -> 34
A23: /16/ | B23: դատական հանձնարարություն | D23: 18 | E23: 2 | F23: 4 | G23: 3 | H23: 9
A24: /06/ | B24: կալանքի վերահաստատում | D24: 8 | F24: 8

Sheet shengavit
A1: Ð²ÞìºîìàôÂÚàôÜ
A2: Հավելված 2 Հայաստանի Հանրապետության Դատարանների նախագահների խորհրդի 2007թ. ¹»Ïï»Ùµ»ñÇ 21-ի թիվ 23Լ որոշման
A3: ՇԵՆԳԱՎԻԹ ՎԱՐՉԱԿԱՆ ՇՐՋԱՆԻ ԸՆԴՀԱՆՈՒՐ ԻՐԱՎԱՍՈՒԹՅԱՆ ԴԱՏԱՐԱՆՈՒՄ ՄԻՆՉԴԱՏԱԿԱՆ ՎԱՐՈՒՅԹԻ ՆԿԱՏՄԱՄԲ ԴԱՏԱԿԱՆ ՎԵՐԱՀՍԿՈՂՈՒԹՅԱՆ, ԴԱՏԱԿԱՆ ԱԿՏԵՐԻ ԿԱՏԱՐՄԱՆ ՀԵՏ ԿԱՊՎԱԾ ՀԱՐՑԵՐԻ ՎԵՐԱԲԵՐՅԱԼ 2014 ԹՎԱԿԱՆ
A4: ØÇçÝáñ¹áõÃÛáõÝÝ»ñÇ ùÝÝ³ñÏÙ³Ý ÁÝÃ³óùÁ | D4: Ü»ñÏ³Û³óí³Í ÙÇçÝáñ¹áõÃÛáõÝÝ»ñÇ ù³Ý³ÏÁ | E4: Ù»ñÅí»É ¿ | F4: µ³í³ñ³ñí»É ¿ | G4: ÃáÕÝí»É ³é³Ýó ùÝÝáõÃÛ³Ý | H4: ³Ý³í³ñï | I4: µáÕáù³ñÏí»É ¿ í»ñ³ùÝÝÇã ¹³ï³ñ³Ý
A5: êïáõ·Çã Ñ³í³ë³ñáõÙ` 1=2+3+4+5
A6: 1. ØÇÝã¹³ï³Ï³Ý í³ñáõÛÃÇ ÝÏ³ïÙ³Ùµ ¹³ï³Ï³Ý í»ñ³ÑëÏáÕáõÃÛ³Ý áÉáñï | D6: 1 | E6: 2 | F6: 3 | G6: 4 | H6: 5 | I6: 6
A7: ³(06) | B7: Ï³É³ÝùÁ áñå»ë Ë³÷³ÝÙ³Ý ÙÇçáó ÏÇñ³é»Éáõ Ù³ëÇÝ | D7: 98 | E7: 7 | F7: 90 | G7: 1 | I7: 10
A8: µ(06) | B8: Ï³É³ÝùÇ Å³ÙÏ»ïÇ »ñÏ³ñ³óÝ»Éáõ Ù³ëÇÝ | D8: 78 | F8: 75 | G8: 2 | H8: 1 | I8: 8
A9: ·(06) | B9: ·ñ³íÁ áñå»ë Ï³É³Ý³íáñÙ³Ý ³ÛÉÁÝïñ³Ýù³ÛÇÝ Ë³÷³ÝÙ³Ý ÙÇçáó ÏÇñ³é»Éáõ Ù³ëÇÝ | D9: 31 | E9: 23 | F9: 6 | G9: 2 | I9: 9
A10: ¹(07) | B10: Ëáõ½³ñÏáõÃÛ³Ý Ï³ï³ñÙ³Ý Ù³ëÇÝ | D10: 202 | E10: 6 | F10: 196 | I10: 2
A11: »(08) | B11: Ý³Ù³Ï³·ñáõÃÛ³Ý, Ñ»é³·ñ³Ï³Ý, ÷áuï³ÛÇÝ Ñ³Õáñ¹áõÙÝ»ñÇ ÑëÏáÕáõÃÛ³Ý ÙÇçÝáñ¹áõÃÛáõÝÝ»ñÇ Ù³ëÇÝ
A12: ½(09) | B12: Ñ»é³Ëáu³ÛÇÝ Ï³Ù Ï³åÇ ³ÛÉ ÙÇçáóÝ»ñáí ï³ñíáÕ Ëáu³ÏóáõÃÛáõÝÝ»ñÇ ÉuÙ³Ý ¨ Ó³ÛÝ³·ñ³éÙ³Ý ÙÇçÝáñ¹áõÃÛáõÝÝ»ñÇ Ù³ëÇÝ | D12: 4 | F12: 4
A13: ¿(10) | B13: Ñ»é³ËáëÝ»ñÇ Ùáõïù³ÛÇÝ ¨ »Éù³ÛÇÝ í»ñÍ³ÝÙ³Ý ÃáõÛÉïíáõÃÛáõÝ ëï³Ý³Éáõ ÙÇçÝáñ¹áõÃÛáõÝÝ»ñÇ Ù³ëÇÝ | D13: 224 | E13: 3 | F13: 221
A14: Á(11) | B14: Ñ»ï³ùÝÝáõÃÛ³Ý Ù³ñÙÝÇ ³ßË³ïáÕÇ, ùÝÝÇãÇ, ¹³ï³Ë³½Ç oå»ñ³ïÇí-Ñ»ï³Ëáõ½³Ï³Ý ·áñÍáÕáõÃÛáõÝÝ»ñ Çñ³Ï³Ý³óÝáÕ Ù³ñÙÇÝÝ»ñÇ ³ÝoñÇÝ³Ï³Ý ¨ ³ÝÑÇÙÝ áñáßáõÙÝ»ñÇ ¨ ·áñÍáÕáõÃÛáõÝÝ»ñÇ ¹»Ù µáÕáùÝ»ñÇ Ù³ëÇÝ | D14: 31 | E14: 18 | F14: 4 | H14: 9 | I14: 13
A15: 2. ¸³ï³Ï³Ý ³Ïï»ñÇ Ñ»ï Ï³ï³ñÙ³Ý Ñ»ï Ï³åí³Í Ñ³ñó»ñÇ ÉáõÍÙ³Ý áÉáñï
A16: ³(12) | B16: å³ïÅÇó å³ÛÙ³Ý³Ï³Ý í³Õ³Å³ÙÏ»ï ³½³ï»Éáõ Ù³ëÇÝ | I16: =C16 -> 0
A17: µ(13) | B17: ÀÝ¹³Ù»ÝÁ å³ïÇÅÁ ÷á÷áË»Éáõ, Ñ»ï³Ó·»Éáõ ¨ å³ïÅÇó ³½³ï»Éáõ Ù³uÇÝ ÙÇçÝáñ¹áõÃÛáõÝÝ»ñ | D17: 60 | E17: 14 | F17: 33 | G17: 9 | H17: 4 | I17: 3
A18: ·(14) | B18: Ñ³ñÏ³¹Çñ µáõÅÙ³Ý ï»ë³ÏÇ ÷á÷áËáõÃÛ³Ý Ù³ëÇÝ
A19: ¹(15) | B19: ³ÛÉ ÙÇçÝáñ¹áõÃÛáõÝÝ»ñ | D19: 21 | E19: 4 | F19: 14 | G19: 3 | I19: 1
A20: ÀÜ¸²ØºÜÀ | D20: =SUM(D7:D19) -> 749 | E20: =SUM(E7:E19) -> 75 | F20: =SUM(F7:F19) -> 643 | G20: =SUM(G7:G19) -> 17 | H20: =SUM(H7:H19) -> 14 | I20: =SUM(I7:I19) -> 46
A23: /16/ | B23: դատական հանձնարարություն | D23: 15 | F23: 10 | G23: 3 | H23: 2
A24: /06/ | B24: կալանքի վերահաստատում | D24: 12 | E24: 2 | F24: 10 | I24: 2

Sheet erebuni
A1: Ð²ÞìºîìàôÂÚàôÜ
A2: Հավելված 2 Հայաստանի Հանրապետության Դատարանների նախագահների խորհրդի 2007թ. ¹»Ïï»Ùµ»ñÇ 21-ի թիվ 23Լ որոշման
A3: ԷՐԵԲՈՒՆԻ ԵՎ ՆՈՒԲԱՐԱՇԵՆ ՎԱՐՉԱԿԱՆ ՇՐՋԱՆՆԵՐԻ ԸՆԴՀԱՆՈՒՐ ԻՐԱՎԱՍՈՒԹՅԱՆ ԴԱՏԱՐԱՆՈՒՄ ՄԻՆՉԴԱՏԱԿԱՆ ՎԱՐՈՒՅԹԻ ՆԿԱՏՄԱՄԲ ԴԱՏԱԿԱՆ ՎԵՐԱՀՍԿՈՂՈՒԹՅԱՆ, ԴԱՏԱԿԱՆ ԱԿՏԵՐԻ ԿԱՏԱՐՄԱՆ ՀԵՏ ԿԱՊՎԱԾ ՀԱՐՑԵՐԻ ՎԵՐԱԲԵՐՅԱԼ 2014 ԹՎԱԿԱՆ
A4: ØÇçÝáñ¹áõÃÛáõÝÝ»ñÇ ùÝÝ³ñÏÙ³Ý ÁÝÃ³óùÁ | D4: Ü»ñÏ³Û³óí³Í ÙÇçÝáñ¹áõÃÛáõÝÝ»ñÇ ù³Ý³ÏÁ | E4: Ù»ñÅí»É ¿ | F4: µ³í³ñ³ñí»É ¿ | G4: ÃáÕÝí»É ³é³Ýó ùÝÝáõÃÛ³Ý | H4: ³Ý³í³ñï | I4: µáÕáù³ñÏí»É ¿ í»ñ³ùÝÝÇã ¹³ï³ñ³Ý
A5: êïáõ·Çã Ñ³í³ë³ñáõÙ` 1=2+3+4+5
A6: 1. ØÇÝã¹³ï³Ï³Ý í³ñáõÛÃÇ ÝÏ³ïÙ³Ùµ ¹³ï³Ï³Ý í»ñ³ÑëÏáÕáõÃÛ³Ý áÉáñï | D6: 1 | E6: 2 | F6: 3 | G6: 4 | H6: 5 | I6: 6
A7: ³(06) | B7: Ï³É³ÝùÁ áñå»ë Ë³÷³ÝÙ³Ý ÙÇçáó ÏÇñ³é»Éáõ Ù³ëÇÝ | D7: 118 | E7: 8 | F7: 109 | G7: 1 | I7: 6
A8: µ(06) | B8: Ï³É³ÝùÇ Å³ÙÏ»ïÇ »ñÏ³ñ³óÝ»Éáõ Ù³ëÇÝ | D8: 83 | E8: 1 | F8: 77 | G8: 1 | H8: 4 | I8: 1
A9: ·(06) | B9: ·ñ³íÁ áñå»ë Ï³É³Ý³íáñÙ³Ý ³ÛÉÁÝïñ³Ýù³ÛÇÝ Ë³÷³ÝÙ³Ý ÙÇçáó ÏÇñ³é»Éáõ Ù³ëÇÝ | D9: 59 | E9: 51 | F9: 8 | I9: 16
A10: ¹(07) | B10: Ëáõ½³ñÏáõÃÛ³Ý Ï³ï³ñÙ³Ý Ù³ëÇÝ | D10: 186 | E10: 2 | F10: 184
A11: »(08) | B11: Ý³Ù³Ï³·ñáõÃÛ³Ý, Ñ»é³·ñ³Ï³Ý, ÷áuï³ÛÇÝ Ñ³Õáñ¹áõÙÝ»ñÇ ÑëÏáÕáõÃÛ³Ý ÙÇçÝáñ¹áõÃÛáõÝÝ»ñÇ Ù³ëÇÝ | D11: 1 | F11: 1
A12: ½(09) | B12: Ñ»é³Ëáu³ÛÇÝ Ï³Ù Ï³åÇ ³ÛÉ ÙÇçáóÝ»ñáí ï³ñíáÕ Ëáu³ÏóáõÃÛáõÝÝ»ñÇ ÉuÙ³Ý ¨ Ó³ÛÝ³·ñ³éÙ³Ý ÙÇçÝáñ¹áõÃÛáõÝÝ»ñÇ Ù³ëÇÝ
A13: ¿(10) | B13: Ñ»é³ËáëÝ»ñÇ Ùáõïù³ÛÇÝ ¨ »Éù³ÛÇÝ í»ñÍ³ÝÙ³Ý ÃáõÛÉïíáõÃÛáõÝ ëï³Ý³Éáõ ÙÇçÝáñ¹áõÃÛáõÝÝ»ñÇ Ù³ëÇÝ | D13: 338 | E13: 1 | F13: 336 | G13: 1
A14: Á(11) | B14: Ñ»ï³ùÝÝáõÃÛ³Ý Ù³ñÙÝÇ ³ßË³ïáÕÇ, ùÝÝÇãÇ, ¹³ï³Ë³½Ç oå»ñ³ïÇí-Ñ»ï³Ëáõ½³Ï³Ý ·áñÍáÕáõÃÛáõÝÝ»ñ Çñ³Ï³Ý³óÝáÕ Ù³ñÙÇÝÝ»ñÇ ³ÝoñÇÝ³Ï³Ý ¨ ³ÝÑÇÙÝ áñáßáõÙÝ»ñÇ ¨ ·áñÍáÕáõÃÛáõÝÝ»ñÇ ¹»Ù µáÕáùÝ»ñÇ Ù³ëÇÝ | D14: 47 | E14: 30 | F14: 8 | G14: 4 | H14: 5 | I14: 23
A15: 2. ¸³ï³Ï³Ý ³Ïï»ñÇ Ñ»ï Ï³ï³ñÙ³Ý Ñ»ï Ï³åí³Í Ñ³ñó»ñÇ ÉáõÍÙ³Ý áÉáñï
