Workbook

Sheet վերաքննիչ քրեական դատարան 
AH1: Հավելված 2 Բարձրագույն դատական խորհրդի 2022թվականի դեկտեմբերի 26-ի թիվ ԲԴԽ-122-Ո-408 որոշման
C2: Ð²ÞìºîìàôÂÚàôÜ
A3: ÐÐ ìºð²øÜÜÆâ øðº²Î²Ü ¸²î²ð²ÜՈՒՄ êî²òì²Ì ´àÔàøÜºðÆ øÜÜàôÂÚ²Ü ìºð²´ºðÚ²È
A4: 2023 թ. ԱՌԱՋԻՆ ԿԻՍԱՄՅԱԿ
A5: ÐÐ í»ñ³ùÝÝÇã ùñ»³Ï³Ý ¹³ï³ñ³ÝáõÙ ¹³ï³íáñÝ»ñÇ Ñ³ëïÇùÝ»ñÇ ÃÇíÁ` 21
C6: Ð³ßí»ïáõ Å³Ù³Ý³Ï³Ñ³ïí³ÍÇ ëÏ½µáõÙ Ý³Ëáñ¹ Ñ³ßí»ïáõ Å³Ù³Ý³Ï³Ñ³ïí³ÍÇó ÷áË³Ýóí³Í ·áñÍ»ñÇ ÁÝ¹Ñ³Ýáõñ ÃÇíÁ | F6: Ð³ßí»ïáõ Å³Ù³Ý³Ï³Ñ³ïí³ÍáõÙ ëï³óí³Í µáÕáùÝ»ñÇ ÁÝ¹Ñ³Ýáõñ ÃÇíÁ | L6: ´áÕáù³ñÏí³Í ³Ïï»ñÇ ù³Ý³ÏÁ, áñáÝó ¹»Ù µ»ñí³Í µáÕáùÝ»ñÝ Ñ³ßí»ïáõ Å³Ù³Ý³Ï³ßñç³ÝáõÙ ÁÝ¹áõÝí»É »Ý í³ñáõÛÃ | M6: Ð³ßí»ïáõ Å³Ù³Ý³Ï³ßñç³ÝáõÙ ùÝÝí³Í ·áñÍ»ñáí Ï³Û³óí³Í áñáßáõÙÝ»ñ | AA6: Ð³ßí»ïáõ Å³Ù³Ý³Ï³Ñ³ïí³ÍáõÙ ³í³ñïí³Í ·áñÍ»ñÇ ÁÝ¹Ñ³Ýáõñ ÃÇíÁ | AE6: Ð³ßí»ïáõ Å³Ù³Ý³Ï³Ñ³ïí³ÍáõÙ Ï³ë»óí³Í í³ñáõÛÃÝ»ñáí ·áñÍ»ñÇ ÁÝ¹Ñ³Ýáõñ ÃÇíÁ | AF6: Ð³ßí»ïáõ Å³Ù³Ý³Ï³Ñ³ïí³ÍáõÙ ³Ý³í³ñï ·áñÍ»ñÇ ÁÝ¹Ñ³Ýáõñ ÃÇíÁ | AG6: ²Û¹ ÃíáõÙ` Ï³ë»óí³Í | AH6: ´áÕáù³ñÏí³Í ¹³ï³Ï³Ý ³Ïï»ñÇ ÃÇíÁ` Áëï ï»ë³ÏÝ»ñÇ | AK6: փոփոխված ¹³ï³Ï³Ý ³Ïï»ñÇ ÃÇíÁ` Áëï ï»ë³ÏÝ»ñÇ | AN6: ´áÕáù³ñÏí»É »Ý í×é³µ»Ï ¹³ï³ñ³Ý
AH7: ²Û¹ ÃíáõÙ` ·áñÍÝ Áëï ¿áõÃÛ³Ý ÉáõÍáÕ ¹³ï³Ï³Ý ³Ïï»ñ | AI7: ²Û¹ ÃíáõÙ` հատուկ վերանայման վարույթով | AJ7: ÀÝ¹³Ù»ÝÁ | AK7: ²Û¹ ÃíáõÙ` ·áñÍÝ Áëï ¿áõÃÛ³Ý ÉáõÍáÕ ¹³ï³Ï³Ý ³Ïï»ñ | AL7: ²Û¹ ÃíáõÙ` ²Û¹ ÃíáõÙ` հատուկ վերանայման վարույթով | AM7: ÀÝ¹³Ù»ÝÁ
C8: ÀÝ¹³Ù»ÝÁ | D8: Այդ թվում` վարույթ ընդունված µáÕáùÝ»ñáí փոխանցված | E8: Այդ թվում` չքննարկված µáÕáùÝ»ñáí փոխանցված | F8: ÀÝ¹³Ù»ÝÁ | G8: Այդ թվում` ընդունվել է վարույթ | H8: Այդ թվում` թողնվել է առանց քննության | I8: Այդ թվում` ÁÝ¹áõÝáõÙÁ մերժվել է | J8: Այդ թվում` í»ñ³ùÝÝÇã í³ñáõÛÃÁ Ï³ñ×í»É ¿ | K8: Այդ թվում` չի քննարկվել | M8: ¸³ï³Ï³Ý ³ÏïÁ ÃáÕÝí»É ¿ անփոփոխ | N8: ¸³ï³Ï³Ý ³ÏïÝ ³ÙµáÕçáõÃÛ³Ùµ փոփոխվել է ¨ Ï³Û³óí»É ¿ ·áñÍÝ Áëï ¿áõÃÛ³Ý ÉáõÍáÕ ¹³ï³Ï³Ý ³Ïï | O8: ¸³ï³Ï³Ý ³ÏïÁ Ù³ëÝ³ÏÇáñ»Ý փոփոխվել է ¨ փոփոխված Ù³ëáí Ï³Û³óí»É ¿ ·áñÍÝ Áëï ¿áõÃÛ³Ý ÉáõÍáÕ ¹³ï³Ï³Ý ³Ïï | P8: վարույթը փոխանցվել է նոր քննության | Q8: ¹³ï³Ï³Ý ³ÏïÁ Ù³ëÝ³ÏÇáñ»Ý փոփոխվել է ¨ ·áñÍÝ áõÕ³ñÏí»É ¿ Ýáñ ùÝÝáõÃÛ³Ý | R8: գույքային .Ñ³ÛóÇ Ù³ëáí ³ÙµáÕçáõÃÛ³Ùµ փոփոխվել է ¹³ï³Ï³Ý ³ÏïÁ ¨ Ñ³ëï³ïí»É ¿ ÏáÕÙ»ñÇ Ñ³ßïáõÃÛ³Ý Ñ³Ù³Ó³ÛÝáõÃÛáõÝÁ | S8: գույքային հայցÇ Ù³ëáí Ù³ëÝ³ÏÇáñ»Ý փոփոխվել է ¹³ï³Ï³Ý ³ÏïÁ ¨ փոփոխված Ù³ëáí Ñ³ëï³ïí»É ¿ ÏáÕÙ»ñÇ Ñ³ßïáõÃÛ³Ý Ñ³Ù³Ó³ÛÝáõÃÛáõÝÁ | T8: ²ÙµáÕçáõÃÛ³Ùµ փոփոխվել է քրեական í³ñáõÛÃÁ Ï³ñ×í»É ¿ | U8: Ø³ëÝ³ÏÇáñ»Ý փոփոխվել ¿ ¹³ï³Ï³Ý ³ÏïÁ ¨ ³Û¹ Ù³ëáí ·áñÍÇ í³ñáõÛÃÁ Ï³ñ×í»É ¿ | V8: ¸³ï³Ï³Ý ³ÏïÝ ³ÙµáÕçáõÃÛ³Ùµ փոփոխվել է | W8: ¸³ï³Ï³Ý ³ÏïÁ Ù³ëÝ³ÏÇáñ»Ý փոփոխվել է | X8: Դ³ï³Ï³Ý ³ÏïÁ փոփոխվել է ¨գույքային հայցը ÃáÕÝí»É ¿ ³é³Ýó ùÝÝáõÃÛ³Ý | Y8: Գործն ըստ էության չլուծող դատական ակտը թողնվել է օրինական ուժի մեջ | Z8: Կայացվել է գործն ըստ էության չլուծող նոր դատական ակտ | AA8: ²Û¹ ÃíáõÙ` ·áñÍÝ Áëï ¿áõÃÛ³Ý ÉáõÍ»Éáõ ÑÇÙùáí ³í³ñïí³Í | AB8: ²Û¹ ÃíáõÙ` ·áñÍÇ í³ñáõÛÃÁ Ï³ñ×»Éáõ ÑÇÙùáí ³í³ñïí³Í | AC8: ²Û¹ ÃíáõÙ` ³ÛÉ ÑÇÙùáí ³í³ñïí³Í | AD8: ÀÝ¹³Ù»ÝÁ
B10: ¸²î²ð²ÜÜºð | C10: 1 | D10: 2 | E10: 3 | F10: 4 | G10: 5 | H10: 6 | I10: 7 | J10: 8 | K10: 9 | L10: 10 | M10: 11 | N10: 12 | O10: 13 | P10: 14 | Q10: 15 | R10: 16 | S10: 17 | T10: 18 | U10: 19 | V10: 20 | W10: 21 | X10: 22 | Y10: 23 | Z10: 24 | AA10: 25 | AB10: 26 | AC10: 27 | AD10: 28 | AE10: 29 | AF10: 30 | AG10: 31 | AH10: 32 | AI10: 33 | AJ10: 34 | AK10: 35 | AL10: 36 | AM10: 37 | AN10: 38
A11: 1 | B11: ºñ¨³Ý ù³Õ³ùÇ ընդհանուր իրավասության առաջին ատյանի դատարան | C11: ='[1]Վ. Ռշտունի'!C11+'[1]Մ. Պապոյան'!C11+'[1]Լ. Աբգարյան'!C11+'[1]Կ. Մարդանյան'!C11+'[1]Ա. Վարդանյան'!C11+'[1]Ա. Մաթևոսյան'!C11+'[1]Լ. Հովհաննիսյան'!C11+[1]Ա.Դանիելյան!C11+'[1]Ս. Համբարձումյան'!C11+'[1]Գ. Հովհաննիսյան'!C11+'[1]Մ. Մելքոնյան'!C11+'[1]Լ. Ալավերդյան '!C11+'[1]Ռ. Պապոյան'!C11+'[1]Մ. Արղամանյան'!C11+'[1]Ա. Բեկթաշյան'!C11+'[1]Ա. Նիկողոսյան'!C11+'[1]Մ. Հարությունյան'!C11+'[1]Ռ. Մխիթարյան'!C11+'[1]Ն. Հովակիմյան'!C11+'[1]Ռ. Բարսեղյան'!C11+'[1]Ա. Մնացականյան'!C11+'[1]Կ. Ամիրյան'!C11+'[1]Ս. Մարաբյան'!C11+'[1]Ա. Նահապետյան'!C11+'[1]Ա. Հովհաննիսյան'!C11+'[1]Մ. Մակյան'!C11 -> 418 | D11: ='[1]Վ. Ռշտունի'!D11+'[1]Մ. Պապոյան'!D11+'[1]Լ. Աբգարյան'!D11+'[1]Կ. Մարդանյան'!D11+'[1]Ա. Վարդանյան'!D11+'[1]Ա. Մաթևոսյան'!D11+'[1]Լ. Հովհաննիսյան'!D11+[1]Ա.Դանիելյան!D11+'[1]Ս. Համբարձումյան'!D11+'[1]Գ. Հովհաննիսյան'!D11+'[1]Մ. Մելքոնյան'!D11+'[1]Լ. Ալավերդյան '!D11+'[1]Ռ. Պապոյան'!D11+'[1]Մ. Արղամանյան'!D11+'[1]Ա. Բեկթաշյան'!D11+'[1]Ա. Նիկողոսյան'!D11+'[1]Մ. Հարությունյան'!D11+'[1]Ռ. Մխիթարյան'!D11+'[1]Ն. Հովակիմյան'!D11+'[1]Ռ. Բարսեղյան'!D11+'[1]Ա. Մնացականյան'!D11+'[1]Կ. Ամիրյան'!D11+'[1]Ս. Մարաբյան'!D11+'[1]Ա. Նահապետյան'!D11+'[1]Ա. Հովհաննիսյան'!D11+'[1]Մ. Մակյան'!D11 -> 376 | E11: ='[1]Վ. Ռշտունի'!E11+'[1]Մ. Պապոյան'!E11+'[1]Լ. Աբգարյան'!E11+'[1]Կ. Մարդանյան'!E11+'[1]Ա. Վարդանյան'!E11+'[1]Ա. Մաթևոսյան'!E11+'[1]Լ. Հովհաննիսյան'!E11+[1]Ա.Դանիելյան!E11+'[1]Ս. Համբարձումյան'!E11+'[1]Գ. Հովհաննիսյան'!E11+'[1]Մ. Մելքոնյան'!E11+'[1]Լ. Ալավերդյան '!E11+'[1]Ռ. Պապոյան'!E11+'[1]Մ. Արղամանյան'!E11+'[1]Ա. Բեկթաշյան'!E11+'[1]Ա. Նիկողոսյան'!E11+'[1]Մ. Հարությունյան'!E11+'[1]Ռ. Մխիթարյան'!E11+'[1]Ն. Հովակիմյան'!E11+'[1]Ռ. Բարսեղյան'!E11+'[1]Ա. Մնացականյան'!E11+'[1]Կ. Ամիրյան'!E11+'[1]Ս. Մարաբյան'!E11+'[1]Ա. Նահապետյան'!E11+'[1]Ա. Հովհաննիսյան'!E11+'[1]Մ. Մակյան'!E11 -> 42 | F11: 1864 | G11: ='[1]Վ. Ռշտունի'!G11+'[1]Մ. Պապոյան'!G11+'[1]Լ. Աբգարյան'!G11+'[1]Կ. Մարդանյան'!G11+'[1]Ա. Վարդանյան'!G11+'[1]Ա. Մաթևոսյան'!G11+'[1]Լ. Հովհաննիսյան'!G11+[1]Ա.Դանիելյան!G11+'[1]Ս. Համբարձումյան'!G11+'[1]Գ. Հովհաննիսյան'!G11+'[1]Մ. Մելքոնյան'!G11+'[1]Լ. Ալավերդյան '!G11+'[1]Ռ. Պապոյան'!G11+'[1]Մ. Արղամանյան'!G11+'[1]Ա. Բեկթաշյան'!G11+'[1]Ա. Նիկողոսյան'!G11+'[1]Մ. Հարությունյան'!G11+'[1]Ռ. Մխիթարյան'!G11+'[1]Ն. Հովակիմյան'!G11+'[1]Ռ. Բարսեղյան'!G11+'[1]Ա. Մնացականյան'!G11+'[1]Կ. Ամիրյան'!G11+'[1]Ս. Մարաբյան'!G11+'[1]Ա. Նահապետյան'!G11+'[1]Ա. Հովհաննիսյան'!G11+'[1]Մ. Մակյան'!G11 -> 1673 | H11: ='[1]Վ. Ռշտունի'!H11+'[1]Մ. Պապոյան'!H11+'[1]Լ. Աբգարյան'!H11+'[1]Կ. Մարդանյան'!H11+'[1]Ա. Վարդանյան'!H11+'[1]Ա. Մաթևոսյան'!H11+'[1]Լ. Հովհաննիսյան'!H11+[1]Ա.Դանիելյան!H11+'[1]Ս. Համբարձումյան'!H11+'[1]Գ. Հովհաննիսյան'!H11+'[1]Մ. Մելքոնյան'!H11+'[1]Լ. Ալավերդյան '!H11+'[1]Ռ. Պապոյան'!H11+'[1]Մ. Արղամանյան'!H11+'[1]Ա. Բեկթաշյան'!H11+'[1]Ա. Նիկողոսյան'!H11+'[1]Մ. Հարությունյան'!H11+'[1]Ռ. Մխիթարյան'!H11+'[1]Ն. Հովակիմյան'!H11+'[1]Ռ. Բարսեղյան'!H11+'[1]Ա. Մնացականյան'!H11+'[1]Կ. Ամիրյան'!H11+'[1]Ս. Մարաբյան'!H11+'[1]Ա. Նահապետյան'!H11+'[1]Ա. Հովհաննիսյան'!H11+'[1]Մ. Մակյան'!H11 -> 71 | I11: ='[1]Վ. Ռշտունի'!I11+'[1]Մ. Պապոյան'!I11+'[1]Լ. Աբգարյան'!I11+'[1]Կ. Մարդանյան'!I11+'[1]Ա. Վարդանյան'!I11+'[1]Ա. Մաթևոսյան'!I11+'[1]Լ. Հովհաննիսյան'!I11+[1]Ա.Դանիելյան!I11+'[1]Ս. Համբարձումյան'!I11+'[1]Գ. Հովհաննիսյան'!I11+'[1]Մ. Մելքոնյան'!I11+'[1]Լ. Ալավերդյան '!I11+'[1]Ռ. Պապոյան'!I11+'[1]Մ. Արղամանյան'!I11+'[1]Ա. Բեկթաշյան'!I11+'[1]Ա. Նիկողոսյան'!I11+'[1]Մ. Հարությունյան'!I11+'[1]Ռ. Մխիթարյան'!I11+'[1]Ն. Հովակիմյան'!I11+'[1]Ռ. Բարսեղյան'!I11+'[1]Ա. Մնացականյան'!I11+'[1]Կ. Ամիրյան'!I11+'[1]Ս. Մարաբյան'!I11+'[1]Ա. Նահապետյան'!I11+'[1]Ա. Հովհաննիսյան'!I11+'[1]Մ. Մակյան'!I11 -> 0 | J11: ='[1]Վ. Ռշտունի'!J11+'[1]Մ. Պապոյան'!J11+'[1]Լ. Աբգարյան'!J11+'[1]Կ. Մարդանյան'!J11+'[1]Ա. Վարդանյան'!J11+'[1]Ա. Մաթևոսյան'!J11+'[1]Լ. Հովհաննիսյան'!J11+[1]Ա.Դանիելյան!J11+'[1]Ս. Համբարձումյան'!J11+'[1]Գ. Հովհաննիսյան'!J11+'[1]Մ. Մելքոնյան'!J11+'[1]Լ. Ալավերդյան '!J11+'[1]Ռ. Պապոյան'!J11+'[1]Մ. Արղամանյան'!J11+'[1]Ա. Բեկթաշյան'!J11+'[1]Ա. Նիկողոսյան'!J11+'[1]Մ. Հարությունյան'!J11+'[1]Ռ. Մխիթարյան'!J11+'[1]Ն. Հովակիմյան'!J11+'[1]Ռ. Բարսեղյան'!J11+'[1]Ա. Մնացականյան'!J11+'[1]Կ. Ամիրյան'!J11+'[1]Ս. Մարաբյան'!J11+'[1]Ա. Նահապետյան'!J11+'[1]Ա. Հովհաննիսյան'!J11+'[1]Մ. Մակյան'!J11 -> 17 | K11: 103 | L11: ='[1]Վ. Ռշտունի'!L11+'[1]Մ. Պապոյան'!L11+'[1]Լ. Աբգարյան'!L11+'[1]Կ. Մարդանյան'!L11+'[1]Ա. Վարդանյան'!L11+'[1]Ա. Մաթևոսյան'!L11+'[1]Լ. Հովհաննիսյան'!L11+[1]Ա.Դանիելյան!L11+'[1]Ս. Համբարձումյան'!L11+'[1]Գ. Հովհաննիսյան'!L11+'[1]Մ. Մելքոնյան'!L11+'[1]Լ. Ալավերդյան '!L11+'[1]Ռ. Պապոյան'!L11+'[1]Մ. Արղամանյան'!L11+'[1]Ա. Բեկթաշյան'!L11+'[1]Ա. Նիկողոսյան'!L11+'[1]Մ. Հարությունյան'!L11+'[1]Ռ. Մխիթարյան'!L11+'[1]Ն. Հովակիմյան'!L11+'[1]Ռ. Բարսեղյան'!L11+'[1]Ա. Մնացականյան'!L11+'[1]Կ. Ամիրյան'!L11+'[1]Ս. Մարաբյան'!L11+'[1]Ա. Նահապետյան'!L11+'[1]Ա. Հովհաննիսյան'!L11+'[1]Մ. Մակյան'!L11 -> 1665 | M11: ='[1]Վ. Ռշտունի'!M11+'[1]Մ. Պապոյան'!M11+'[1]Լ. Աբգարյան'!M11+'[1]Կ. Մարդանյան'!M11+'[1]Ա. Վարդանյան'!M11+'[1]Ա. Մաթևոսյան'!M11+'[1]Լ. Հովհաննիսյան'!M11+[1]Ա.Դանիելյան!M11+'[1]Ս. Համբարձումյան'!M11+'[1]Գ. Հովհաննիսյան'!M11+'[1]Մ. Մելքոնյան'!M11+'[1]Լ. Ալավերդյան '!M11+'[1]Ռ. Պապոյան'!M11+'[1]Մ. Արղամանյան'!M11+'[1]Ա. Բեկթաշյան'!M11+'[1]Ա. Նիկողոսյան'!M11+'[1]Մ. Հարությունյան'!M11+'[1]Ռ. Մխիթարյան'!M11+'[1]Ն. Հովակիմյան'!M11+'[1]Ռ. Բարսեղյան'!M11+'[1]Ա. Մնացականյան'!M11+'[1]Կ. Ամիրյան'!M11+'[1]Ս. Մարաբյան'!M11+'[1]Ա. Նահապետյան'!M11+'[1]Ա. Հովհաննիսյան'!M11+'[1]Մ. Մակյան'!M11 -> 123 | N11: ='[1]Վ. Ռշտունի'!N11+'[1]Մ. Պապոյան'!N11+'[1]Լ. Աբգարյան'!N11+'[1]Կ. Մարդանյան'!N11+'[1]Ա. Վարդանյան'!N11+'[1]Ա. Մաթևոսյան'!N11+'[1]Լ. Հովհաննիսյան'!N11+[1]Ա.Դանիելյան!N11+'[1]Ս. Համբարձումյան'!N11+'[1]Գ. Հովհաննիսյան'!N11+'[1]Մ. Մելքոնյան'!N11+'[1]Լ. Ալավերդյան '!N11+'[1]Ռ. Պապոյան'!N11+'[1]Մ. Արղամանյան'!N11+'[1]Ա. Բեկթաշյան'!N11+'[1]Ա. Նիկողոսյան'!N11+'[1]Մ. Հարությունյան'!N11+'[1]Ռ. Մխիթարյան'!N11+'[1]Ն. Հովակիմյան'!N11+'[1]Ռ. Բարսեղյան'!N11+'[1]Ա. Մնացականյան'!N11+'[1]Կ. Ամիրյան'!N11+'[1]Ս. Մարաբյան'!N11+'[1]Ա. Նահապետյան'!N11+'[1]Ա. Հովհաննիսյան'!N11+'[1]Մ. Մակյան'!N11 -> 0 | O11: ='[1]Վ. Ռշտունի'!O11+'[1]Մ. Պապոյան'!O11+'[1]Լ. Աբգարյան'!O11+'[1]Կ. Մարդանյան'!O11+'[1]Ա. Վարդանյան'!O11+'[1]Ա. Մաթևոսյան'!O11+'[1]Լ. Հովհաննիսյան'!O11+[1]Ա.Դանիելյան!O11+'[1]Ս. Համբարձումյան'!O11+'[1]Գ. Հովհաննիսյան'!O11+'[1]Մ. Մելքոնյան'!O11+'[1]Լ. Ալավերդյան '!O11+'[1]Ռ. Պապոյան'!O11+'[1]Մ. Արղամանյան'!O11+'[1]Ա. Բեկթաշյան'!O11+'[1]Ա. Նիկողոսյան'!O11+'[1]Մ. Հարությունյան'!O11+'[1]Ռ. Մխիթարյան'!O11+'[1]Ն. Հովակիմյան'!O11+'[1]Ռ. Բարսեղյան'!O11+'[1]Ա. Մնացականյան'!O11+'[1]Կ. Ամիրյան'!O11+'[1]Ս. Մարաբյան'!O11+'[1]Ա. Նահապետյան'!O11+'[1]Ա. Հովհաննիսյան'!O11+'[1]Մ. Մակյան'!O11 -> 0 | P11: ='[1]Վ. Ռշտունի'!P11+'[1]Մ. Պապոյան'!P11+'[1]Լ. Աբգարյան'!P11+'[1]Կ. Մարդանյան'!P11+'[1]Ա. Վարդանյան'!P11+'[1]Ա. Մաթևոսյան'!P11+'[1]Լ. Հովհաննիսյան'!P11+[1]Ա.Դանիելյան!P11+'[1]Ս. Համբարձումյան'!P11+'[1]Գ. Հովհաննիսյան'!P11+'[1]Մ. Մելքոնյան'!P11+'[1]Լ. Ալավերդյան '!P11+'[1]Ռ. Պապոյան'!P11+'[1]Մ. Արղամանյան'!P11+'[1]Ա. Բեկթաշյան'!P11+'[1]Ա. Նիկողոսյան'!P11+'[1]Մ. Հարությունյան'!P11+'[1]Ռ. Մխիթարյան'!P11+'[1]Ն. Հովակիմյան'!P11+'[1]Ռ. Բարսեղյան'!P11+'[1]Ա. Մնացականյան'!P11+'[1]Կ. Ամիրյան'!P11+'[1]Ս. Մարաբյան'!P11+'[1]Ա. Նահապետյան'!P11+'[1]Ա. Հովհաննիսյան'!P11+'[1]Մ. Մակյան'!P11 -> 5 | Q11: ='[1]Վ. Ռշտունի'!Q11+'[1]Մ. Պապոյան'!Q11+'[1]Լ. Աբգարյան'!Q11+'[1]Կ. Մարդանյան'!Q11+'[1]Ա. Վարդանյան'!Q11+'[1]Ա. Մաթևոսյան'!Q11+'[1]Լ. Հովհաննիսյան'!Q11+[1]Ա.Դանիելյան!Q11+'[1]Ս. Համբարձումյան'!Q11+'[1]Գ. Հովհաննիսյան'!Q11+'[1]Մ. Մելքոնյան'!Q11+'[1]Լ. Ալավերդյան '!Q11+'[1]Ռ. Պապոյան'!Q11+'[1]Մ. Արղամանյան'!Q11+'[1]Ա. Բեկթաշյան'!Q11+'[1]Ա. Նիկողոսյան'!Q11+'[1]Մ. Հարությունյան'!Q11+'[1]Ռ. Մխիթարյան'!Q11+'[1]Ն. Հովակիմյան'!Q11+'[1]Ռ. Բարսեղյան'!Q11+'[1]Ա. Մնացականյան'!Q11+'[1]Կ. Ամիրյան'!Q11+'[1]Ս. Մարաբյան'!Q11+'[1]Ա. Նահապետյան'!Q11+'[1]Ա. Հովհաննիսյան'!Q11+'[1]Մ. Մակյան'!Q11 -> 1 | R11: ='[1]Վ. Ռշտունի'!R11+'[1]Մ. Պապոյան'!R11+'[1]Լ. Աբգարյան'!R11+'[1]Կ. Մարդանյան'!R11+'[1]Ա. Վարդանյան'!R11+'[1]Ա. Մաթևոսյան'!R11+'[1]Լ. Հովհաննիսյան'!R11+[1]Ա.Դանիելյան!R11+'[1]Ս. Համբարձումյան'!R11+'[1]Գ. Հովհաննիսյան'!R11+'[1]Մ. Մելքոնյան'!R11+'[1]Լ. Ալավերդյան '!R11+'[1]Ռ. Պապոյան'!R11+'[1]Մ. Արղամանյան'!R11+'[1]Ա. Բեկթաշյան'!R11+'[1]Ա. Նիկողոսյան'!R11+'[1]Մ. Հարությունյան'!R11+'[1]Ռ. Մխիթարյան'!R11+'[1]Ն. Հովակիմյան'!R11+'[1]Ռ. Բարսեղյան'!R11+'[1]Ա. Մնացականյան'!R11+'[1]Կ. Ամիրյան'!R11+'[1]Ս. Մարաբյան'!R11+'[1]Ա. Նահապետյան'!R11+'[1]Ա. Հովհաննիսյան'!R11+'[1]Մ. Մակյան'!R11 -> 0 | S11: ='[1]Վ. Ռշտունի'!S11+'[1]Մ. Պապոյան'!S11+'[1]Լ. Աբգարյան'!S11+'[1]Կ. Մարդանյան'!S11+'[1]Ա. Վարդանյան'!S11+'[1]Ա. Մաթևոսյան'!S11+'[1]Լ. Հովհաննիսյան'!S11+[1]Ա.Դանիելյան!S11+'[1]Ս. Համբարձումյան'!S11+'[1]Գ. Հովհաննիսյան'!S11+'[1]Մ. Մելքոնյան'!S11+'[1]Լ. Ալավերդյան '!S11+'[1]Ռ. Պապոյան'!S11+'[1]Մ. Արղամանյան'!S11+'[1]Ա. Բեկթաշյան'!S11+'[1]Ա. Նիկողոսյան'!S11+'[1]Մ. Հարությունյան'!S11+'[1]Ռ. Մխիթարյան'!S11+'[1]Ն. Հովակիմյան'!S11+'[1]Ռ. Բարսեղյան'!S11+'[1]Ա. Մնացականյան'!S11+'[1]Կ. Ամիրյան'!S11+'[1]Ս. Մարաբյան'!S11+'[1]Ա. Նահապետյան'!S11+'[1]Ա. Հովհաննիսյան'!S11+'[1]Մ. Մակյան'!S11 -> 0 | ... AG11: ='[1]Վ. Ռշտունի'!AG11+'[1]Մ. Պապոյան'!AG11+'[1]Լ. Աբգարյան'!AG11+'[1]Կ. Մարդանյան'!AG11+'[1]Ա. Վարդանյան'!AG11+'[1]Ա. Մաթևոսյան'!AG11+'[1]Լ. Հովհաննիսյան'!AG11+[1]Ա.Դանիելյան!AG11+'[1]Ս. Համբարձումյան'!AG11+'[1]Գ. Հովհաննիսյան'!AG11+'[1]Մ. Մելքոնյան'!AG11+'[1]Լ. Ալավերդյան '!AG11+'[1]Ռ. Պապոյան'!AG11+'[1]Մ. Արղամանյան'!AG11+'[1]Ա. Բեկթաշյան'!AG11+'[1]Ա. Նիկողոսյան'!AG11+'[1]Մ. Հարությունյան'!AG11+'[1]Ռ. Մխիթարյան'!AG11+'[1]Ն. Հովակիմյան'!AG11+'[1]Ռ. Բարսեղյան'!AG11+'[1]Ա. Մնացականյան'!AG11+'[1]Կ. Ամիրյան'!AG11+'[1]Ս. Մարաբյան'!AG11+'[1]Ա. Նահապետյան'!AG11+'[1]Ա. Հովհաննիսյան'!AG11+'[1]Մ. Մակյան'!AG11 -> 1 | AH11: 192 | AI11: 1490 | AJ11: 1682 | AK11: ='[1]Վ. Ռշտունի'!AK11+'[1]Մ. Պապոյան'!AK11+'[1]Լ. Աբգարյան'!AK11+'[1]Կ. Մարդանյան'!AK11+'[1]Ա. Վարդանյան'!AK11+'[1]Ա. Մաթևոսյան'!AK11+'[1]Լ. Հովհաննիսյան'!AK11+[1]Ա.Դանիելյան!AK11+'[1]Ս. Համբարձումյան'!AK11+'[1]Գ. Հովհաննիսյան'!AK11+'[1]Մ. Մելքոնյան'!AK11+'[1]Լ. Ալավերդյան '!AK11+'[1]Ռ. Պապոյան'!AK11+'[1]Մ. Արղամանյան'!AK11+'[1]Ա. Բեկթաշյան'!AK11+'[1]Ա. Նիկողոսյան'!AK11+'[1]Մ. Հարությունյան'!AK11+'[1]Ռ. Մխիթարյան'!AK11+'[1]Ն. Հովակիմյան'!AK11+'[1]Ռ. Բարսեղյան'!AK11+'[1]Ա. Մնացականյան'!AK11+'[1]Կ. Ամիրյան'!AK11+'[1]Ս. Մարաբյան'!AK11+'[1]Ա. Նահապետյան'!AK11+'[1]Ա. Հովհաննիսյան'!AK11+'[1]Մ. Մակյան'!AK11 -> 62 | AL11: ='[1]Վ. Ռշտունի'!AL11+'[1]Մ. Պապոյան'!AL11+'[1]Լ. Աբգարյան'!AL11+'[1]Կ. Մարդանյան'!AL11+'[1]Ա. Վարդանյան'!AL11+'[1]Ա. Մաթևոսյան'!AL11+'[1]Լ. Հովհաննիսյան'!AL11+[1]Ա.Դանիելյան!AL11+'[1]Ս. Համբարձումյան'!AL11+'[1]Գ. Հովհաննիսյան'!AL11+'[1]Մ. Մելքոնյան'!AL11+'[1]Լ. Ալավերդյան '!AL11+'[1]Ռ. Պապոյան'!AL11+'[1]Մ. Արղամանյան'!AL11+'[1]Ա. Բեկթաշյան'!AL11+'[1]Ա. Նիկողոսյան'!AL11+'[1]Մ. Հարությունյան'!AL11+'[1]Ռ. Մխիթարյան'!AL11+'[1]Ն. Հովակիմյան'!AL11+'[1]Ռ. Բարսեղյան'!AL11+'[1]Ա. Մնացականյան'!AL11+'[1]Կ. Ամիրյան'!AL11+'[1]Ս. Մարաբյան'!AL11+'[1]Ա. Նահապետյան'!AL11+'[1]Ա. Հովհաննիսյան'!AL11+'[1]Մ. Մակյան'!AL11 -> 232 | AM11: ='[1]Վ. Ռշտունի'!AM11+'[1]Մ. Պապոյան'!AM11+'[1]Լ. Աբգարյան'!AM11+'[1]Կ. Մարդանյան'!AM11+'[1]Ա. Վարդանյան'!AM11+'[1]Ա. Մաթևոսյան'!AM11+'[1]Լ. Հովհաննիսյան'!AM11+[1]Ա.Դանիելյան!AM11+'[1]Ս. Համբարձումյան'!AM11+'[1]Գ. Հովհաննիսյան'!AM11+'[1]Մ. Մելքոնյան'!AM11+'[1]Լ. Ալավերդյան '!AM11+'[1]Ռ. Պապոյան'!AM11+'[1]Մ. Արղամանյան'!AM11+'[1]Ա. Բեկթաշյան'!AM11+'[1]Ա. Նիկողոսյան'!AM11+'[1]Մ. Հարությունյան'!AM11+'[1]Ռ. Մխիթարյան'!AM11+'[1]Ն. Հովակիմյան'!AM11+'[1]Ռ. Բարսեղյան'!AM11+'[1]Ա. Մնացականյան'!AM11+'[1]Կ. Ամիրյան'!AM11+'[1]Ս. Մարաբյան'!AM11+'[1]Ա. Նահապետյան'!AM11+'[1]Ա. Հովհաննիսյան'!AM11+'[1]Մ. Մակյան'!AM11 -> 294 | AN11: ='[1]Վ. Ռշտունի'!AN11+'[1]Մ. Պապոյան'!AN11+'[1]Լ. Աբգարյան'!AN11+'[1]Կ. Մարդանյան'!AN11+'[1]Ա. Վարդանյան'!AN11+'[1]Ա. Մաթևոսյան'!AN11+'[1]Լ. Հովհաննիսյան'!AN11+[1]Ա.Դանիելյան!AN11+'[1]Ս. Համբարձումյան'!AN11+'[1]Գ. Հովհաննիսյան'!AN11+'[1]Մ. Մելքոնյան'!AN11+'[1]Լ. Ալավերդյան '!AN11+'[1]Ռ. Պապոյան'!AN11+'[1]Մ. Արղամանյան'!AN11+'[1]Ա. Բեկթաշյան'!AN11+'[1]Ա. Նիկողոսյան'!AN11+'[1]Մ. Հարությունյան'!AN11+'[1]Ռ. Մխիթարյան'!AN11+'[1]Ն. Հովակիմյան'!AN11+'[1]Ռ. Բարսեղյան'!AN11+'[1]Ա. Մնացականյան'!AN11+'[1]Կ. Ամիրյան'!AN11+'[1]Ս. Մարաբյան'!AN11+'[1]Ա. Նահապետյան'!AN11+'[1]Ա. Հովհաննիսյան'!AN11+'[1]Մ. Մակյան'!AN11 -> 466
A12: 2 | B12: Èáéáõ Ù³ñ½Ç ÁÝ¹Ñ³Ýáõñ Çñ³í³ëáõÃÛ³Ý ³é³çÇÝ ³ïÛ³ÝÇ ¹³ï³ñ³Ý | C12: ='[1]Վ. Ռշտունի'!C12+'[1]Մ. Պապոյան'!C12+'[1]Լ. Աբգարյան'!C12+'[1]Կ. Մարդանյան'!C12+'[1]Ա. Վարդանյան'!C12+'[1]Ա. Մաթևոսյան'!C12+'[1]Լ. Հովհաննիսյան'!C12+[1]Ա.Դանիելյան!C12+'[1]Ս. Համբարձումյան'!C12+'[1]Գ. Հովհաննիսյան'!C12+'[1]Մ. Մելքոնյան'!C12+'[1]Լ. Ալավերդյան '!C12+'[1]Ռ. Պապոյան'!C12+'[1]Մ. Արղամանյան'!C12+'[1]Ա. Բեկթաշյան'!C12+'[1]Ա. Նիկողոսյան'!C12+'[1]Մ. Հարությունյան'!C12+'[1]Ռ. Մխիթարյան'!C12+'[1]Ն. Հովակիմյան'!C12+'[1]Ռ. Բարսեղյան'!C12+'[1]Ա. Մնացականյան'!C12+'[1]Կ. Ամիրյան'!C12+'[1]Ս. Մարաբյան'!C12+'[1]Ա. Նահապետյան'!C12+'[1]Ա. Հովհաննիսյան'!C12+'[1]Մ. Մակյան'!C12 -> 27 | D12: ='[1]Վ. Ռշտունի'!D12+'[1]Մ. Պապոյան'!D12+'[1]Լ. Աբգարյան'!D12+'[1]Կ. Մարդանյան'!D12+'[1]Ա. Վարդանյան'!D12+'[1]Ա. Մաթևոսյան'!D12+'[1]Լ. Հովհաննիսյան'!D12+[1]Ա.Դանիելյան!D12+'[1]Ս. Համբարձումյան'!D12+'[1]Գ. Հովհաննիսյան'!D12+'[1]Մ. Մելքոնյան'!D12+'[1]Լ. Ալավերդյան '!D12+'[1]Ռ. Պապոյան'!D12+'[1]Մ. Արղամանյան'!D12+'[1]Ա. Բեկթաշյան'!D12+'[1]Ա. Նիկողոսյան'!D12+'[1]Մ. Հարությունյան'!D12+'[1]Ռ. Մխիթարյան'!D12+'[1]Ն. Հովակիմյան'!D12+'[1]Ռ. Բարսեղյան'!D12+'[1]Ա. Մնացականյան'!D12+'[1]Կ. Ամիրյան'!D12+'[1]Ս. Մարաբյան'!D12+'[1]Ա. Նահապետյան'!D12+'[1]Ա. Հովհաննիսյան'!D12+'[1]Մ. Մակյան'!D12 -> 23 | E12: ='[1]Վ. Ռշտունի'!E12+'[1]Մ. Պապոյան'!E12+'[1]Լ. Աբգարյան'!E12+'[1]Կ. Մարդանյան'!E12+'[1]Ա. Վարդանյան'!E12+'[1]Ա. Մաթևոսյան'!E12+'[1]Լ. Հովհաննիսյան'!E12+[1]Ա.Դանիելյան!E12+'[1]Ս. Համբարձումյան'!E12+'[1]Գ. Հովհաննիսյան'!E12+'[1]Մ. Մելքոնյան'!E12+'[1]Լ. Ալավերդյան '!E12+'[1]Ռ. Պապոյան'!E12+'[1]Մ. Արղամանյան'!E12+'[1]Ա. Բեկթաշյան'!E12+'[1]Ա. Նիկողոսյան'!E12+'[1]Մ. Հարությունյան'!E12+'[1]Ռ. Մխիթարյան'!E12+'[1]Ն. Հովակիմյան'!E12+'[1]Ռ. Բարսեղյան'!E12+'[1]Ա. Մնացականյան'!E12+'[1]Կ. Ամիրյան'!E12+'[1]Ս. Մարաբյան'!E12+'[1]Ա. Նահապետյան'!E12+'[1]Ա. Հովհաննիսյան'!E12+'[1]Մ. Մակյան'!E12 -> 4 | F12: 182 | G12: ='[1]Վ. Ռշտունի'!G12+'[1]Մ. Պապոյան'!G12+'[1]Լ. Աբգարյան'!G12+'[1]Կ. Մարդանյան'!G12+'[1]Ա. Վարդանյան'!G12+'[1]Ա. Մաթևոսյան'!G12+'[1]Լ. Հովհաննիսյան'!G12+[1]Ա.Դանիելյան!G12+'[1]Ս. Համբարձումյան'!G12+'[1]Գ. Հովհաննիսյան'!G12+'[1]Մ. Մելքոնյան'!G12+'[1]Լ. Ալավերդյան '!G12+'[1]Ռ. Պապոյան'!G12+'[1]Մ. Արղամանյան'!G12+'[1]Ա. Բեկթաշյան'!G12+'[1]Ա. Նիկողոսյան'!G12+'[1]Մ. Հարությունյան'!G12+'[1]Ռ. Մխիթարյան'!G12+'[1]Ն. Հովակիմյան'!G12+'[1]Ռ. Բարսեղյան'!G12+'[1]Ա. Մնացականյան'!G12+'[1]Կ. Ամիրյան'!G12+'[1]Ս. Մարաբյան'!G12+'[1]Ա. Նահապետյան'!G12+'[1]Ա. Հովհաննիսյան'!G12+'[1]Մ. Մակյան'!G12 -> 166 | H12: ='[1]Վ. Ռշտունի'!H12+'[1]Մ. Պապոյան'!H12+'[1]Լ. Աբգարյան'!H12+'[1]Կ. Մարդանյան'!H12+'[1]Ա. Վարդանյան'!H12+'[1]Ա. Մաթևոսյան'!H12+'[1]Լ. Հովհաննիսյան'!H12+[1]Ա.Դանիելյան!H12+'[1]Ս. Համբարձումյան'!H12+'[1]Գ. Հովհաննիսյան'!H12+'[1]Մ. Մելքոնյան'!H12+'[1]Լ. Ալավերդյան '!H12+'[1]Ռ. Պապոյան'!H12+'[1]Մ. Արղամանյան'!H12+'[1]Ա. Բեկթաշյան'!H12+'[1]Ա. Նիկողոսյան'!H12+'[1]Մ. Հարությունյան'!H12+'[1]Ռ. Մխիթարյան'!H12+'[1]Ն. Հովակիմյան'!H12+'[1]Ռ. Բարսեղյան'!H12+'[1]Ա. Մնացականյան'!H12+'[1]Կ. Ամիրյան'!H12+'[1]Ս. Մարաբյան'!H12+'[1]Ա. Նահապետյան'!H12+'[1]Ա. Հովհաննիսյան'!H12+'[1]Մ. Մակյան'!H12 -> 8 | I12: ='[1]Վ. Ռշտունի'!I12+'[1]Մ. Պապոյան'!I12+'[1]Լ. Աբգարյան'!I12+'[1]Կ. Մարդանյան'!I12+'[1]Ա. Վարդանյան'!I12+'[1]Ա. Մաթևոսյան'!I12+'[1]Լ. Հովհաննիսյան'!I12+[1]Ա.Դանիելյան!I12+'[1]Ս. Համբարձումյան'!I12+'[1]Գ. Հովհաննիսյան'!I12+'[1]Մ. Մելքոնյան'!I12+'[1]Լ. Ալավերդյան '!I12+'[1]Ռ. Պապոյան'!I12+'[1]Մ. Արղամանյան'!I12+'[1]Ա. Բեկթաշյան'!I12+'[1]Ա. Նիկողոսյան'!I12+'[1]Մ. Հարությունյան'!I12+'[1]Ռ. Մխիթարյան'!I12+'[1]Ն. Հովակիմյան'!I12+'[1]Ռ. Բարսեղյան'!I12+'[1]Ա. Մնացականյան'!I12+'[1]Կ. Ամիրյան'!I12+'[1]Ս. Մարաբյան'!I12+'[1]Ա. Նահապետյան'!I12+'[1]Ա. Հովհաննիսյան'!I12+'[1]Մ. Մակյան'!I12 -> 1 | J12: ='[1]Վ. Ռշտունի'!J12+'[1]Մ. Պապոյան'!J12+'[1]Լ. Աբգարյան'!J12+'[1]Կ. Մարդանյան'!J12+'[1]Ա. Վարդանյան'!J12+'[1]Ա. Մաթևոսյան'!J12+'[1]Լ. Հովհաննիսյան'!J12+[1]Ա.Դանիելյան!J12+'[1]Ս. Համբարձումյան'!J12+'[1]Գ. Հովհաննիսյան'!J12+'[1]Մ. Մելքոնյան'!J12+'[1]Լ. Ալավերդյան '!J12+'[1]Ռ. Պապոյան'!J12+'[1]Մ. Արղամանյան'!J12+'[1]Ա. Բեկթաշյան'!J12+'[1]Ա. Նիկողոսյան'!J12+'[1]Մ. Հարությունյան'!J12+'[1]Ռ. Մխիթարյան'!J12+'[1]Ն. Հովակիմյան'!J12+'[1]Ռ. Բարսեղյան'!J12+'[1]Ա. Մնացականյան'!J12+'[1]Կ. Ամիրյան'!J12+'[1]Ս. Մարաբյան'!J12+'[1]Ա. Նահապետյան'!J12+'[1]Ա. Հովհաննիսյան'!J12+'[1]Մ. Մակյան'!J12 -> 0 | K12: 7 | L12: ='[1]Վ. Ռշտունի'!L12+'[1]Մ. Պապոյան'!L12+'[1]Լ. Աբգարյան'!L12+'[1]Կ. Մարդանյան'!L12+'[1]Ա. Վարդանյան'!L12+'[1]Ա. Մաթևոսյան'!L12+'[1]Լ. Հովհաննիսյան'!L12+[1]Ա.Դանիելյան!L12+'[1]Ս. Համբարձումյան'!L12+'[1]Գ. Հովհաննիսյան'!L12+'[1]Մ. Մելքոնյան'!L12+'[1]Լ. Ալավերդյան '!L12+'[1]Ռ. Պապոյան'!L12+'[1]Մ. Արղամանյան'!L12+'[1]Ա. Բեկթաշյան'!L12+'[1]Ա. Նիկողոսյան'!L12+'[1]Մ. Հարությունյան'!L12+'[1]Ռ. Մխիթարյան'!L12+'[1]Ն. Հովակիմյան'!L12+'[1]Ռ. Բարսեղյան'!L12+'[1]Ա. Մնացականյան'!L12+'[1]Կ. Ամիրյան'!L12+'[1]Ս. Մարաբյան'!L12+'[1]Ա. Նահապետյան'!L12+'[1]Ա. Հովհաննիսյան'!L12+'[1]Մ. Մակյան'!L12 -> 145 | M12: ='[1]Վ. Ռշտունի'!M12+'[1]Մ. Պապոյան'!M12+'[1]Լ. Աբգարյան'!M12+'[1]Կ. Մարդանյան'!M12+'[1]Ա. Վարդանյան'!M12+'[1]Ա. Մաթևոսյան'!M12+'[1]Լ. Հովհաննիսյան'!M12+[1]Ա.Դանիելյան!M12+'[1]Ս. Համբարձումյան'!M12+'[1]Գ. Հովհաննիսյան'!M12+'[1]Մ. Մելքոնյան'!M12+'[1]Լ. Ալավերդյան '!M12+'[1]Ռ. Պապոյան'!M12+'[1]Մ. Արղամանյան'!M12+'[1]Ա. Բեկթաշյան'!M12+'[1]Ա. Նիկողոսյան'!M12+'[1]Մ. Հարությունյան'!M12+'[1]Ռ. Մխիթարյան'!M12+'[1]Ն. Հովակիմյան'!M12+'[1]Ռ. Բարսեղյան'!M12+'[1]Ա. Մնացականյան'!M12+'[1]Կ. Ամիրյան'!M12+'[1]Ս. Մարաբյան'!M12+'[1]Ա. Նահապետյան'!M12+'[1]Ա. Հովհաննիսյան'!M12+'[1]Մ. Մակյան'!M12 -> 20 | N12: ='[1]Վ. Ռշտունի'!N12+'[1]Մ. Պապոյան'!N12+'[1]Լ. Աբգարյան'!N12+'[1]Կ. Մարդանյան'!N12+'[1]Ա. Վարդանյան'!N12+'[1]Ա. Մաթևոսյան'!N12+'[1]Լ. Հովհաննիսյան'!N12+[1]Ա.Դանիելյան!N12+'[1]Ս. Համբարձումյան'!N12+'[1]Գ. Հովհաննիսյան'!N12+'[1]Մ. Մելքոնյան'!N12+'[1]Լ. Ալավերդյան '!N12+'[1]Ռ. Պապոյան'!N12+'[1]Մ. Արղամանյան'!N12+'[1]Ա. Բեկթաշյան'!N12+'[1]Ա. Նիկողոսյան'!N12+'[1]Մ. Հարությունյան'!N12+'[1]Ռ. Մխիթարյան'!N12+'[1]Ն. Հովակիմյան'!N12+'[1]Ռ. Բարսեղյան'!N12+'[1]Ա. Մնացականյան'!N12+'[1]Կ. Ամիրյան'!N12+'[1]Ս. Մարաբյան'!N12+'[1]Ա. Նահապետյան'!N12+'[1]Ա. Հովհաննիսյան'!N12+'[1]Մ. Մակյան'!N12 -> 0 | O12: ='[1]Վ. Ռշտունի'!O12+'[1]Մ. Պապոյան'!O12+'[1]Լ. Աբգարյան'!O12+'[1]Կ. Մարդանյան'!O12+'[1]Ա. Վարդանյան'!O12+'[1]Ա. Մաթևոսյան'!O12+'[1]Լ. Հովհաննիսյան'!O12+[1]Ա.Դանիելյան!O12+'[1]Ս. Համբարձումյան'!O12+'[1]Գ. Հովհաննիսյան'!O12+'[1]Մ. Մելքոնյան'!O12+'[1]Լ. Ալավերդյան '!O12+'[1]Ռ. Պապոյան'!O12+'[1]Մ. Արղամանյան'!O12+'[1]Ա. Բեկթաշյան'!O12+'[1]Ա. Նիկողոսյան'!O12+'[1]Մ. Հարությունյան'!O12+'[1]Ռ. Մխիթարյան'!O12+'[1]Ն. Հովակիմյան'!O12+'[1]Ռ. Բարսեղյան'!O12+'[1]Ա. Մնացականյան'!O12+'[1]Կ. Ամիրյան'!O12+'[1]Ս. Մարաբյան'!O12+'[1]Ա. Նահապետյան'!O12+'[1]Ա. Հովհաննիսյան'!O12+'[1]Մ. Մակյան'!O12 -> 0 | P12: ='[1]Վ. Ռշտունի'!P12+'[1]Մ. Պապոյան'!P12+'[1]Լ. Աբգարյան'!P12+'[1]Կ. Մարդանյան'!P12+'[1]Ա. Վարդանյան'!P12+'[1]Ա. Մաթևոսյան'!P12+'[1]Լ. Հովհաննիսյան'!P12+[1]Ա.Դանիելյան!P12+'[1]Ս. Համբարձումյան'!P12+'[1]Գ. Հովհաննիսյան'!P12+'[1]Մ. Մելքոնյան'!P12+'[1]Լ. Ալավերդյան '!P12+'[1]Ռ. Պապոյան'!P12+'[1]Մ. Արղամանյան'!P12+'[1]Ա. Բեկթաշյան'!P12+'[1]Ա. Նիկողոսյան'!P12+'[1]Մ. Հարությունյան'!P12+'[1]Ռ. Մխիթարյան'!P12+'[1]Ն. Հովակիմյան'!P12+'[1]Ռ. Բարսեղյան'!P12+'[1]Ա. Մնացականյան'!P12+'[1]Կ. Ամիրյան'!P12+'[1]Ս. Մարաբյան'!P12+'[1]Ա. Նահապետյան'!P12+'[1]Ա. Հովհաննիսյան'!P12+'[1]Մ. Մակյան'!P12 -> 1 | Q12: ='[1]Վ. Ռշտունի'!Q12+'[1]Մ. Պապոյան'!Q12+'[1]Լ. Աբգարյան'!Q12+'[1]Կ. Մարդանյան'!Q12+'[1]Ա. Վարդանյան'!Q12+'[1]Ա. Մաթևոսյան'!Q12+'[1]Լ. Հովհաննիսյան'!Q12+[1]Ա.Դանիելյան!Q12+'[1]Ս. Համբարձումյան'!Q12+'[1]Գ. Հովհաննիսյան'!Q12+'[1]Մ. Մելքոնյան'!Q12+'[1]Լ. Ալավերդյան '!Q12+'[1]Ռ. Պապոյան'!Q12+'[1]Մ. Արղամանյան'!Q12+'[1]Ա. Բեկթաշյան'!Q12+'[1]Ա. Նիկողոսյան'!Q12+'[1]Մ. Հարությունյան'!Q12+'[1]Ռ. Մխիթարյան'!Q12+'[1]Ն. Հովակիմյան'!Q12+'[1]Ռ. Բարսեղյան'!Q12+'[1]Ա. Մնացականյան'!Q12+'[1]Կ. Ամիրյան'!Q12+'[1]Ս. Մարաբյան'!Q12+'[1]Ա. Նահապետյան'!Q12+'[1]Ա. Հովհաննիսյան'!Q12+'[1]Մ. Մակյան'!Q12 -> 0 | R12: ='[1]Վ. Ռշտունի'!R12+'[1]Մ. Պապոյան'!R12+'[1]Լ. Աբգարյան'!R12+'[1]Կ. Մարդանյան'!R12+'[1]Ա. Վարդանյան'!R12+'[1]Ա. Մաթևոսյան'!R12+'[1]Լ. Հովհաննիսյան'!R12+[1]Ա.Դանիելյան!R12+'[1]Ս. Համբարձումյան'!R12+'[1]Գ. Հովհաննիսյան'!R12+'[1]Մ. Մելքոնյան'!R12+'[1]Լ. Ալավերդյան '!R12+'[1]Ռ. Պապոյան'!R12+'[1]Մ. Արղամանյան'!R12+'[1]Ա. Բեկթաշյան'!R12+'[1]Ա. Նիկողոսյան'!R12+'[1]Մ. Հարությունյան'!R12+'[1]Ռ. Մխիթարյան'!R12+'[1]Ն. Հովակիմյան'!R12+'[1]Ռ. Բարսեղյան'!R12+'[1]Ա. Մնացականյան'!R12+'[1]Կ. Ամիրյան'!R12+'[1]Ս. Մարաբյան'!R12+'[1]Ա. Նահապետյան'!R12+'[1]Ա. Հովհաննիսյան'!R12+'[1]Մ. Մակյան'!R12 -> 0 | S12: ='[1]Վ. Ռշտունի'!S12+'[1]Մ. Պապոյան'!S12+'[1]Լ. Աբգարյան'!S12+'[1]Կ. Մարդանյան'!S12+'[1]Ա. Վարդանյան'!S12+'[1]Ա. Մաթևոսյան'!S12+'[1]Լ. Հովհաննիսյան'!S12+[1]Ա.Դանիելյան!S12+'[1]Ս. Համբարձումյան'!S12+'[1]Գ. Հովհաննիսյան'!S12+'[1]Մ. Մելքոնյան'!S12+'[1]Լ. Ալավերդյան '!S12+'[1]Ռ. Պապոյան'!S12+'[1]Մ. Արղամանյան'!S12+'[1]Ա. Բեկթաշյան'!S12+'[1]Ա. Նիկողոսյան'!S12+'[1]Մ. Հարությունյան'!S12+'[1]Ռ. Մխիթարյան'!S12+'[1]Ն. Հովակիմյան'!S12+'[1]Ռ. Բարսեղյան'!S12+'[1]Ա. Մնացականյան'!S12+'[1]Կ. Ամիրյան'!S12+'[1]Ս. Մարաբյան'!S12+'[1]Ա. Նահապետյան'!S12+'[1]Ա. Հովհաննիսյան'!S12+'[1]Մ. Մակյան'!S12 -> 0 | ... AN12: ='[1]Վ. Ռշտունի'!AN12+'[1]Մ. Պապոյան'!AN12+'[1]Լ. Աբգարյան'!AN12+'[1]Կ. Մարդանյան'!AN12+'[1]Ա. Վարդանյան'!AN12+'[1]Ա. Մաթևոսյան'!AN12+'[1]Լ. Հովհաննիսյան'!AN12+[1]Ա.Դանիելյան!AN12+'[1]Ս. Համբարձումյան'!AN12+'[1]Գ. Հովհաննիսյան'!AN12+'[1]Մ. Մելքոնյան'!AN12+'[1]Լ. Ալավերդյան '!AN12+'[1]Ռ. Պապոյան'!AN12+'[1]Մ. Արղամանյան'!AN12+'[1]Ա. Բեկթաշյան'!AN12+'[1]Ա. Նիկողոսյան'!AN12+'[1]Մ. Հարությունյան'!AN12+'[1]Ռ. Մխիթարյան'!AN12+'[1]Ն. Հովակիմյան'!AN12+'[1]Ռ. Բարսեղյան'!AN12+'[1]Ա. Մնացականյան'!AN12+'[1]Կ. Ամիրյան'!AN12+'[1]Ս. Մարաբյան'!AN12+'[1]Ա. Նահապետյան'!AN12+'[1]Ա. Հովհաննիսյան'!AN12+'[1]Մ. Մակյան'!AN12 -> 41
A13: 3 | B13: ÞÇñ³ÏÇ Ù³ñ½Ç ÁÝ¹Ñ³Ýáõñ Çñ³í³ëáõÃÛ³Ý ³é³çÇÝ ³ïÛ³ÝÇ¹³ï³ñ³Ý | C13: ='[1]Վ. Ռշտունի'!C13+'[1]Մ. Պապոյան'!C13+'[1]Լ. Աբգարյան'!C13+'[1]Կ. Մարդանյան'!C13+'[1]Ա. Վարդանյան'!C13+'[1]Ա. Մաթևոսյան'!C13+'[1]Լ. Հովհաննիսյան'!C13+[1]Ա.Դանիելյան!C13+'[1]Ս. Համբարձումյան'!C13+'[1]Գ. Հովհաննիսյան'!C13+'[1]Մ. Մելքոնյան'!C13+'[1]Լ. Ալավերդյան '!C13+'[1]Ռ. Պապոյան'!C13+'[1]Մ. Արղամանյան'!C13+'[1]Ա. Բեկթաշյան'!C13+'[1]Ա. Նիկողոսյան'!C13+'[1]Մ. Հարությունյան'!C13+'[1]Ռ. Մխիթարյան'!C13+'[1]Ն. Հովակիմյան'!C13+'[1]Ռ. Բարսեղյան'!C13+'[1]Ա. Մնացականյան'!C13+'[1]Կ. Ամիրյան'!C13+'[1]Ս. Մարաբյան'!C13+'[1]Ա. Նահապետյան'!C13+'[1]Ա. Հովհաննիսյան'!C13+'[1]Մ. Մակյան'!C13 -> 29 | D13: ='[1]Վ. Ռշտունի'!D13+'[1]Մ. Պապոյան'!D13+'[1]Լ. Աբգարյան'!D13+'[1]Կ. Մարդանյան'!D13+'[1]Ա. Վարդանյան'!D13+'[1]Ա. Մաթևոսյան'!D13+'[1]Լ. Հովհաննիսյան'!D13+[1]Ա.Դանիելյան!D13+'[1]Ս. Համբարձումյան'!D13+'[1]Գ. Հովհաննիսյան'!D13+'[1]Մ. Մելքոնյան'!D13+'[1]Լ. Ալավերդյան '!D13+'[1]Ռ. Պապոյան'!D13+'[1]Մ. Արղամանյան'!D13+'[1]Ա. Բեկթաշյան'!D13+'[1]Ա. Նիկողոսյան'!D13+'[1]Մ. Հարությունյան'!D13+'[1]Ռ. Մխիթարյան'!D13+'[1]Ն. Հովակիմյան'!D13+'[1]Ռ. Բարսեղյան'!D13+'[1]Ա. Մնացականյան'!D13+'[1]Կ. Ամիրյան'!D13+'[1]Ս. Մարաբյան'!D13+'[1]Ա. Նահապետյան'!D13+'[1]Ա. Հովհաննիսյան'!D13+'[1]Մ. Մակյան'!D13 -> 28 | E13: ='[1]Վ. Ռշտունի'!E13+'[1]Մ. Պապոյան'!E13+'[1]Լ. Աբգարյան'!E13+'[1]Կ. Մարդանյան'!E13+'[1]Ա. Վարդանյան'!E13+'[1]Ա. Մաթևոսյան'!E13+'[1]Լ. Հովհաննիսյան'!E13+[1]Ա.Դանիելյան!E13+'[1]Ս. Համբարձումյան'!E13+'[1]Գ. Հովհաննիսյան'!E13+'[1]Մ. Մելքոնյան'!E13+'[1]Լ. Ալավերդյան '!E13+'[1]Ռ. Պապոյան'!E13+'[1]Մ. Արղամանյան'!E13+'[1]Ա. Բեկթաշյան'!E13+'[1]Ա. Նիկողոսյան'!E13+'[1]Մ. Հարությունյան'!E13+'[1]Ռ. Մխիթարյան'!E13+'[1]Ն. Հովակիմյան'!E13+'[1]Ռ. Բարսեղյան'!E13+'[1]Ա. Մնացականյան'!E13+'[1]Կ. Ամիրյան'!E13+'[1]Ս. Մարաբյան'!E13+'[1]Ա. Նահապետյան'!E13+'[1]Ա. Հովհաննիսյան'!E13+'[1]Մ. Մակյան'!E13 -> 1 | F13: 158 | G13: ='[1]Վ. Ռշտունի'!G13+'[1]Մ. Պապոյան'!G13+'[1]Լ. Աբգարյան'!G13+'[1]Կ. Մարդանյան'!G13+'[1]Ա. Վարդանյան'!G13+'[1]Ա. Մաթևոսյան'!G13+'[1]Լ. Հովհաննիսյան'!G13+[1]Ա.Դանիելյան!G13+'[1]Ս. Համբարձումյան'!G13+'[1]Գ. Հովհաննիսյան'!G13+'[1]Մ. Մելքոնյան'!G13+'[1]Լ. Ալավերդյան '!G13+'[1]Ռ. Պապոյան'!G13+'[1]Մ. Արղամանյան'!G13+'[1]Ա. Բեկթաշյան'!G13+'[1]Ա. Նիկողոսյան'!G13+'[1]Մ. Հարությունյան'!G13+'[1]Ռ. Մխիթարյան'!G13+'[1]Ն. Հովակիմյան'!G13+'[1]Ռ. Բարսեղյան'!G13+'[1]Ա. Մնացականյան'!G13+'[1]Կ. Ամիրյան'!G13+'[1]Ս. Մարաբյան'!G13+'[1]Ա. Նահապետյան'!G13+'[1]Ա. Հովհաննիսյան'!G13+'[1]Մ. Մակյան'!G13 -> 141 | H13: ='[1]Վ. Ռշտունի'!H13+'[1]Մ. Պապոյան'!H13+'[1]Լ. Աբգարյան'!H13+'[1]Կ. Մարդանյան'!H13+'[1]Ա. Վարդանյան'!H13+'[1]Ա. Մաթևոսյան'!H13+'[1]Լ. Հովհաննիսյան'!H13+[1]Ա.Դանիելյան!H13+'[1]Ս. Համբարձումյան'!H13+'[1]Գ. Հովհաննիսյան'!H13+'[1]Մ. Մելքոնյան'!H13+'[1]Լ. Ալավերդյան '!H13+'[1]Ռ. Պապոյան'!H13+'[1]Մ. Արղամանյան'!H13+'[1]Ա. Բեկթաշյան'!H13+'[1]Ա. Նիկողոսյան'!H13+'[1]Մ. Հարությունյան'!H13+'[1]Ռ. Մխիթարյան'!H13+'[1]Ն. Հովակիմյան'!H13+'[1]Ռ. Բարսեղյան'!H13+'[1]Ա. Մնացականյան'!H13+'[1]Կ. Ամիրյան'!H13+'[1]Ս. Մարաբյան'!H13+'[1]Ա. Նահապետյան'!H13+'[1]Ա. Հովհաննիսյան'!H13+'[1]Մ. Մակյան'!H13 -> 8 | I13: ='[1]Վ. Ռշտունի'!I13+'[1]Մ. Պապոյան'!I13+'[1]Լ. Աբգարյան'!I13+'[1]Կ. Մարդանյան'!I13+'[1]Ա. Վարդանյան'!I13+'[1]Ա. Մաթևոսյան'!I13+'[1]Լ. Հովհաննիսյան'!I13+[1]Ա.Դանիելյան!I13+'[1]Ս. Համբարձումյան'!I13+'[1]Գ. Հովհաննիսյան'!I13+'[1]Մ. Մելքոնյան'!I13+'[1]Լ. Ալավերդյան '!I13+'[1]Ռ. Պապոյան'!I13+'[1]Մ. Արղամանյան'!I13+'[1]Ա. Բեկթաշյան'!I13+'[1]Ա. Նիկողոսյան'!I13+'[1]Մ. Հարությունյան'!I13+'[1]Ռ. Մխիթարյան'!I13+'[1]Ն. Հովակիմյան'!I13+'[1]Ռ. Բարսեղյան'!I13+'[1]Ա. Մնացականյան'!I13+'[1]Կ. Ամիրյան'!I13+'[1]Ս. Մարաբյան'!I13+'[1]Ա. Նահապետյան'!I13+'[1]Ա. Հովհաննիսյան'!I13+'[1]Մ. Մակյան'!I13 -> 0 | J13: ='[1]Վ. Ռշտունի'!J13+'[1]Մ. Պապոյան'!J13+'[1]Լ. Աբգարյան'!J13+'[1]Կ. Մարդանյան'!J13+'[1]Ա. Վարդանյան'!J13+'[1]Ա. Մաթևոսյան'!J13+'[1]Լ. Հովհաննիսյան'!J13+[1]Ա.Դանիելյան!J13+'[1]Ս. Համբարձումյան'!J13+'[1]Գ. Հովհաննիսյան'!J13+'[1]Մ. Մելքոնյան'!J13+'[1]Լ. Ալավերդյան '!J13+'[1]Ռ. Պապոյան'!J13+'[1]Մ. Արղամանյան'!J13+'[1]Ա. Բեկթաշյան'!J13+'[1]Ա. Նիկողոսյան'!J13+'[1]Մ. Հարությունյան'!J13+'[1]Ռ. Մխիթարյան'!J13+'[1]Ն. Հովակիմյան'!J13+'[1]Ռ. Բարսեղյան'!J13+'[1]Ա. Մնացականյան'!J13+'[1]Կ. Ամիրյան'!J13+'[1]Ս. Մարաբյան'!J13+'[1]Ա. Նահապետյան'!J13+'[1]Ա. Հովհաննիսյան'!J13+'[1]Մ. Մակյան'!J13 -> 1 | K13: 8 | L13: ='[1]Վ. Ռշտունի'!L13+'[1]Մ. Պապոյան'!L13+'[1]Լ. Աբգարյան'!L13+'[1]Կ. Մարդանյան'!L13+'[1]Ա. Վարդանյան'!L13+'[1]Ա. Մաթևոսյան'!L13+'[1]Լ. Հովհաննիսյան'!L13+[1]Ա.Դանիելյան!L13+'[1]Ս. Համբարձումյան'!L13+'[1]Գ. Հովհաննիսյան'!L13+'[1]Մ. Մելքոնյան'!L13+'[1]Լ. Ալավերդյան '!L13+'[1]Ռ. Պապոյան'!L13+'[1]Մ. Արղամանյան'!L13+'[1]Ա. Բեկթաշյան'!L13+'[1]Ա. Նիկողոսյան'!L13+'[1]Մ. Հարությունյան'!L13+'[1]Ռ. Մխիթարյան'!L13+'[1]Ն. Հովակիմյան'!L13+'[1]Ռ. Բարսեղյան'!L13+'[1]Ա. Մնացականյան'!L13+'[1]Կ. Ամիրյան'!L13+'[1]Ս. Մարաբյան'!L13+'[1]Ա. Նահապետյան'!L13+'[1]Ա. Հովհաննիսյան'!L13+'[1]Մ. Մակյան'!L13 -> 139 | M13: ='[1]Վ. Ռշտունի'!M13+'[1]Մ. Պապոյան'!M13+'[1]Լ. Աբգարյան'!M13+'[1]Կ. Մարդանյան'!M13+'[1]Ա. Վարդանյան'!M13+'[1]Ա. Մաթևոսյան'!M13+'[1]Լ. Հովհաննիսյան'!M13+[1]Ա.Դանիելյան!M13+'[1]Ս. Համբարձումյան'!M13+'[1]Գ. Հովհաննիսյան'!M13+'[1]Մ. Մելքոնյան'!M13+'[1]Լ. Ալավերդյան '!M13+'[1]Ռ. Պապոյան'!M13+'[1]Մ. Արղամանյան'!M13+'[1]Ա. Բեկթաշյան'!M13+'[1]Ա. Նիկողոսյան'!M13+'[1]Մ. Հարությունյան'!M13+'[1]Ռ. Մխիթարյան'!M13+'[1]Ն. Հովակիմյան'!M13+'[1]Ռ. Բարսեղյան'!M13+'[1]Ա. Մնացականյան'!M13+'[1]Կ. Ամիրյան'!M13+'[1]Ս. Մարաբյան'!M13+'[1]Ա. Նահապետյան'!M13+'[1]Ա. Հովհաննիսյան'!M13+'[1]Մ. Մակյան'!M13 -> 4 | N13: ='[1]Վ. Ռշտունի'!N13+'[1]Մ. Պապոյան'!N13+'[1]Լ. Աբգարյան'!N13+'[1]Կ. Մարդանյան'!N13+'[1]Ա. Վարդանյան'!N13+'[1]Ա. Մաթևոսյան'!N13+'[1]Լ. Հովհաննիսյան'!N13+[1]Ա.Դանիելյան!N13+'[1]Ս. Համբարձումյան'!N13+'[1]Գ. Հովհաննիսյան'!N13+'[1]Մ. Մելքոնյան'!N13+'[1]Լ. Ալավերդյան '!N13+'[1]Ռ. Պապոյան'!N13+'[1]Մ. Արղամանյան'!N13+'[1]Ա. Բեկթաշյան'!N13+'[1]Ա. Նիկողոսյան'!N13+'[1]Մ. Հարությունյան'!N13+'[1]Ռ. Մխիթարյան'!N13+'[1]Ն. Հովակիմյան'!N13+'[1]Ռ. Բարսեղյան'!N13+'[1]Ա. Մնացականյան'!N13+'[1]Կ. Ամիրյան'!N13+'[1]Ս. Մարաբյան'!N13+'[1]Ա. Նահապետյան'!N13+'[1]Ա. Հովհաննիսյան'!N13+'[1]Մ. Մակյան'!N13 -> 0 | O13: ='[1]Վ. Ռշտունի'!O13+'[1]Մ. Պապոյան'!O13+'[1]Լ. Աբգարյան'!O13+'[1]Կ. Մարդանյան'!O13+'[1]Ա. Վարդանյան'!O13+'[1]Ա. Մաթևոսյան'!O13+'[1]Լ. Հովհաննիսյան'!O13+[1]Ա.Դանիելյան!O13+'[1]Ս. Համբարձումյան'!O13+'[1]Գ. Հովհաննիսյան'!O13+'[1]Մ. Մելքոնյան'!O13+'[1]Լ. Ալավերդյան '!O13+'[1]Ռ. Պապոյան'!O13+'[1]Մ. Արղամանյան'!O13+'[1]Ա. Բեկթաշյան'!O13+'[1]Ա. Նիկողոսյան'!O13+'[1]Մ. Հարությունյան'!O13+'[1]Ռ. Մխիթարյան'!O13+'[1]Ն. Հովակիմյան'!O13+'[1]Ռ. Բարսեղյան'!O13+'[1]Ա. Մնացականյան'!O13+'[1]Կ. Ամիրյան'!O13+'[1]Ս. Մարաբյան'!O13+'[1]Ա. Նահապետյան'!O13+'[1]Ա. Հովհաննիսյան'!O13+'[1]Մ. Մակյան'!O13 -> 0 | P13: ='[1]Վ. Ռշտունի'!P13+'[1]Մ. Պապոյան'!P13+'[1]Լ. Աբգարյան'!P13+'[1]Կ. Մարդանյան'!P13+'[1]Ա. Վարդանյան'!P13+'[1]Ա. Մաթևոսյան'!P13+'[1]Լ. Հովհաննիսյան'!P13+[1]Ա.Դանիելյան!P13+'[1]Ս. Համբարձումյան'!P13+'[1]Գ. Հովհաննիսյան'!P13+'[1]Մ. Մելքոնյան'!P13+'[1]Լ. Ալավերդյան '!P13+'[1]Ռ. Պապոյան'!P13+'[1]Մ. Արղամանյան'!P13+'[1]Ա. Բեկթաշյան'!P13+'[1]Ա. Նիկողոսյան'!P13+'[1]Մ. Հարությունյան'!P13+'[1]Ռ. Մխիթարյան'!P13+'[1]Ն. Հովակիմյան'!P13+'[1]Ռ. Բարսեղյան'!P13+'[1]Ա. Մնացականյան'!P13+'[1]Կ. Ամիրյան'!P13+'[1]Ս. Մարաբյան'!P13+'[1]Ա. Նահապետյան'!P13+'[1]Ա. Հովհաննիսյան'!P13+'[1]Մ. Մակյան'!P13 -> 3 | Q13: ='[1]Վ. Ռշտունի'!Q13+'[1]Մ. Պապոյան'!Q13+'[1]Լ. Աբգարյան'!Q13+'[1]Կ. Մարդանյան'!Q13+'[1]Ա. Վարդանյան'!Q13+'[1]Ա. Մաթևոսյան'!Q13+'[1]Լ. Հովհաննիսյան'!Q13+[1]Ա.Դանիելյան!Q13+'[1]Ս. Համբարձումյան'!Q13+'[1]Գ. Հովհաննիսյան'!Q13+'[1]Մ. Մելքոնյան'!Q13+'[1]Լ. Ալավերդյան '!Q13+'[1]Ռ. Պապոյան'!Q13+'[1]Մ. Արղամանյան'!Q13+'[1]Ա. Բեկթաշյան'!Q13+'[1]Ա. Նիկողոսյան'!Q13+'[1]Մ. Հարությունյան'!Q13+'[1]Ռ. Մխիթարյան'!Q13+'[1]Ն. Հովակիմյան'!Q13+'[1]Ռ. Բարսեղյան'!Q13+'[1]Ա. Մնացականյան'!Q13+'[1]Կ. Ամիրյան'!Q13+'[1]Ս. Մարաբյան'!Q13+'[1]Ա. Նահապետյան'!Q13+'[1]Ա. Հովհաննիսյան'!Q13+'[1]Մ. Մակյան'!Q13 -> 0 | R13: ='[1]Վ. Ռշտունի'!R13+'[1]Մ. Պապոյան'!R13+'[1]Լ. Աբգարյան'!R13+'[1]Կ. Մարդանյան'!R13+'[1]Ա. Վարդանյան'!R13+'[1]Ա. Մաթևոսյան'!R13+'[1]Լ. Հովհաննիսյան'!R13+[1]Ա.Դանիելյան!R13+'[1]Ս. Համբարձումյան'!R13+'[1]Գ. Հովհաննիսյան'!R13+'[1]Մ. Մելքոնյան'!R13+'[1]Լ. Ալավերդյան '!R13+'[1]Ռ. Պապոյան'!R13+'[1]Մ. Արղամանյան'!R13+'[1]Ա. Բեկթաշյան'!R13+'[1]Ա. Նիկողոսյան'!R13+'[1]Մ. Հարությունյան'!R13+'[1]Ռ. Մխիթարյան'!R13+'[1]Ն. Հովակիմյան'!R13+'[1]Ռ. Բարսեղյան'!R13+'[1]Ա. Մնացականյան'!R13+'[1]Կ. Ամիրյան'!R13+'[1]Ս. Մարաբյան'!R13+'[1]Ա. Նահապետյան'!R13+'[1]Ա. Հովհաննիսյան'!R13+'[1]Մ. Մակյան'!R13 -> 0 | S13: ='[1]Վ. Ռշտունի'!S13+'[1]Մ. Պապոյան'!S13+'[1]Լ. Աբգարյան'!S13+'[1]Կ. Մարդանյան'!S13+'[1]Ա. Վարդանյան'!S13+'[1]Ա. Մաթևոսյան'!S13+'[1]Լ. Հովհաննիսյան'!S13+[1]Ա.Դանիելյան!S13+'[1]Ս. Համբարձումյան'!S13+'[1]Գ. Հովհաննիսյան'!S13+'[1]Մ. Մելքոնյան'!S13+'[1]Լ. Ալավերդյան '!S13+'[1]Ռ. Պապոյան'!S13+'[1]Մ. Արղամանյան'!S13+'[1]Ա. Բեկթաշյան'!S13+'[1]Ա. Նիկողոսյան'!S13+'[1]Մ. Հարությունյան'!S13+'[1]Ռ. Մխիթարյան'!S13+'[1]Ն. Հովակիմյան'!S13+'[1]Ռ. Բարսեղյան'!S13+'[1]Ա. Մնացականյան'!S13+'[1]Կ. Ամիրյան'!S13+'[1]Ս. Մարաբյան'!S13+'[1]Ա. Նահապետյան'!S13+'[1]Ա. Հովհաննիսյան'!S13+'[1]Մ. Մակյան'!S13 -> 0 | ... AG13: ='[1]Վ. Ռշտունի'!AG13+'[1]Մ. Պապոյան'!AG13+'[1]Լ. Աբգարյան'!AG13+'[1]Կ. Մարդանյան'!AG13+'[1]Ա. Վարդանյան'!AG13+'[1]Ա. Մաթևոսյան'!AG13+'[1]Լ. Հովհաննիսյան'!AG13+[1]Ա.Դանիելյան!AG13+'[1]Ս. Համբարձումյան'!AG13+'[1]Գ. Հովհաննիսյան'!AG13+'[1]Մ. Մելքոնյան'!AG13+'[1]Լ. Ալավերդյան '!AG13+'[1]Ռ. Պապոյան'!AG13+'[1]Մ. Արղամանյան'!AG13+'[1]Ա. Բեկթաշյան'!AG13+'[1]Ա. Նիկողոսյան'!AG13+'[1]Մ. Հարությունյան'!AG13+'[1]Ռ. Մխիթարյան'!AG13+'[1]Ն. Հովակիմյան'!AG13+'[1]Ռ. Բարսեղյան'!AG13+'[1]Ա. Մնացականյան'!AG13+'[1]Կ. Ամիրյան'!AG13+'[1]Ս. Մարաբյան'!AG13+'[1]Ա. Նահապետյան'!AG13+'[1]Ա. Հովհաննիսյան'!AG13+'[1]Մ. Մակյան'!AG13 -> 0 | AH13: 7 | AI13: ='[1]Վ. Ռշտունի'!AI13+'[1]Մ. Պապոյան'!AI13+'[1]Լ. Աբգարյան'!AI13+'[1]Կ. Մարդանյան'!AI13+'[1]Ա. Վարդանյան'!AI13+'[1]Ա. Մաթևոսյան'!AI13+'[1]Լ. Հովհաննիսյան'!AI13+[1]Ա.Դանիելյան!AI13+'[1]Ս. Համբարձումյան'!AI13+'[1]Գ. Հովհաննիսյան'!AI13+'[1]Մ. Մելքոնյան'!AI13+'[1]Լ. Ալավերդյան '!AI13+'[1]Ռ. Պապոյան'!AI13+'[1]Մ. Արղամանյան'!AI13+'[1]Ա. Բեկթաշյան'!AI13+'[1]Ա. Նիկողոսյան'!AI13+'[1]Մ. Հարությունյան'!AI13+'[1]Ռ. Մխիթարյան'!AI13+'[1]Ն. Հովակիմյան'!AI13+'[1]Ռ. Բարսեղյան'!AI13+'[1]Ա. Մնացականյան'!AI13+'[1]Կ. Ամիրյան'!AI13+'[1]Ս. Մարաբյան'!AI13+'[1]Ա. Նահապետյան'!AI13+'[1]Ա. Հովհաննիսյան'!AI13+'[1]Մ. Մակյան'!AI13 -> 139 | AJ13: 146 | AK13: ='[1]Վ. Ռշտունի'!AK13+'[1]Մ. Պապոյան'!AK13+'[1]Լ. Աբգարյան'!AK13+'[1]Կ. Մարդանյան'!AK13+'[1]Ա. Վարդանյան'!AK13+'[1]Ա. Մաթևոսյան'!AK13+'[1]Լ. Հովհաննիսյան'!AK13+[1]Ա.Դանիելյան!AK13+'[1]Ս. Համբարձումյան'!AK13+'[1]Գ. Հովհաննիսյան'!AK13+'[1]Մ. Մելքոնյան'!AK13+'[1]Լ. Ալավերդյան '!AK13+'[1]Ռ. Պապոյան'!AK13+'[1]Մ. Արղամանյան'!AK13+'[1]Ա. Բեկթաշյան'!AK13+'[1]Ա. Նիկողոսյան'!AK13+'[1]Մ. Հարությունյան'!AK13+'[1]Ռ. Մխիթարյան'!AK13+'[1]Ն. Հովակիմյան'!AK13+'[1]Ռ. Բարսեղյան'!AK13+'[1]Ա. Մնացականյան'!AK13+'[1]Կ. Ամիրյան'!AK13+'[1]Ս. Մարաբյան'!AK13+'[1]Ա. Նահապետյան'!AK13+'[1]Ա. Հովհաննիսյան'!AK13+'[1]Մ. Մակյան'!AK13 -> 10 | AL13: ='[1]Վ. Ռշտունի'!AL13+'[1]Մ. Պապոյան'!AL13+'[1]Լ. Աբգարյան'!AL13+'[1]Կ. Մարդանյան'!AL13+'[1]Ա. Վարդանյան'!AL13+'[1]Ա. Մաթևոսյան'!AL13+'[1]Լ. Հովհաննիսյան'!AL13+[1]Ա.Դանիելյան!AL13+'[1]Ս. Համբարձումյան'!AL13+'[1]Գ. Հովհաննիսյան'!AL13+'[1]Մ. Մելքոնյան'!AL13+'[1]Լ. Ալավերդյան '!AL13+'[1]Ռ. Պապոյան'!AL13+'[1]Մ. Արղամանյան'!AL13+'[1]Ա. Բեկթաշյան'!AL13+'[1]Ա. Նիկողոսյան'!AL13+'[1]Մ. Հարությունյան'!AL13+'[1]Ռ. Մխիթարյան'!AL13+'[1]Ն. Հովակիմյան'!AL13+'[1]Ռ. Բարսեղյան'!AL13+'[1]Ա. Մնացականյան'!AL13+'[1]Կ. Ամիրյան'!AL13+'[1]Ս. Մարաբյան'!AL13+'[1]Ա. Նահապետյան'!AL13+'[1]Ա. Հովհաննիսյան'!AL13+'[1]Մ. Մակյան'!AL13 -> 22 | AM13: ='[1]Վ. Ռշտունի'!AM13+'[1]Մ. Պապոյան'!AM13+'[1]Լ. Աբգարյան'!AM13+'[1]Կ. Մարդանյան'!AM13+'[1]Ա. Վարդանյան'!AM13+'[1]Ա. Մաթևոսյան'!AM13+'[1]Լ. Հովհաննիսյան'!AM13+[1]Ա.Դանիելյան!AM13+'[1]Ս. Համբարձումյան'!AM13+'[1]Գ. Հովհաննիսյան'!AM13+'[1]Մ. Մելքոնյան'!AM13+'[1]Լ. Ալավերդյան '!AM13+'[1]Ռ. Պապոյան'!AM13+'[1]Մ. Արղամանյան'!AM13+'[1]Ա. Բեկթաշյան'!AM13+'[1]Ա. Նիկողոսյան'!AM13+'[1]Մ. Հարությունյան'!AM13+'[1]Ռ. Մխիթարյան'!AM13+'[1]Ն. Հովակիմյան'!AM13+'[1]Ռ. Բարսեղյան'!AM13+'[1]Ա. Մնացականյան'!AM13+'[1]Կ. Ամիրյան'!AM13+'[1]Ս. Մարաբյան'!AM13+'[1]Ա. Նահապետյան'!AM13+'[1]Ա. Հովհաննիսյան'!AM13+'[1]Մ. Մակյան'!AM13 -> 32 | AN13: ='[1]Վ. Ռշտունի'!AN13+'[1]Մ. Պապոյան'!AN13+'[1]Լ. Աբգարյան'!AN13+'[1]Կ. Մարդանյան'!AN13+'[1]Ա. Վարդանյան'!AN13+'[1]Ա. Մաթևոսյան'!AN13+'[1]Լ. Հովհաննիսյան'!AN13+[1]Ա.Դանիելյան!AN13+'[1]Ս. Համբարձումյան'!AN13+'[1]Գ. Հովհաննիսյան'!AN13+'[1]Մ. Մելքոնյան'!AN13+'[1]Լ. Ալավերդյան '!AN13+'[1]Ռ. Պապոյան'!AN13+'[1]Մ. Արղամանյան'!AN13+'[1]Ա. Բեկթաշյան'!AN13+'[1]Ա. Նիկողոսյան'!AN13+'[1]Մ. Հարությունյան'!AN13+'[1]Ռ. Մխիթարյան'!AN13+'[1]Ն. Հովակիմյան'!AN13+'[1]Ռ. Բարսեղյան'!AN13+'[1]Ա. Մնացականյան'!AN13+'[1]Կ. Ամիրյան'!AN13+'[1]Ս. Մարաբյան'!AN13+'[1]Ա. Նահապետյան'!AN13+'[1]Ա. Հովհաննիսյան'!AN13+'[1]Մ. Մակյան'!AN13 -> 27
A14: 4 | B14: ²ñÙ³íÇñÇ Ù³ñ½Ç ÁÝ¹Ñ³Ýáõñ Çñ³í³ëáõÃÛ³Ý ³é³çÇÝ ³ïÛ³ÝÇ ¹³ï³ñ³Ý | C14: ='[1]Վ. Ռշտունի'!C14+'[1]Մ. Պապոյան'!C14+'[1]Լ. Աբգարյան'!C14+'[1]Կ. Մարդանյան'!C14+'[1]Ա. Վարդանյան'!C14+'[1]Ա. Մաթևոսյան'!C14+'[1]Լ. Հովհաննիսյան'!C14+[1]Ա.Դանիելյան!C14+'[1]Ս. Համբարձումյան'!C14+'[1]Գ. Հովհաննիսյան'!C14+'[1]Մ. Մելքոնյան'!C14+'[1]Լ. Ալավերդյան '!C14+'[1]Ռ. Պապոյան'!C14+'[1]Մ. Արղամանյան'!C14+'[1]Ա. Բեկթաշյան'!C14+'[1]Ա. Նիկողոսյան'!C14+'[1]Մ. Հարությունյան'!C14+'[1]Ռ. Մխիթարյան'!C14+'[1]Ն. Հովակիմյան'!C14+'[1]Ռ. Բարսեղյան'!C14+'[1]Ա. Մնացականյան'!C14+'[1]Կ. Ամիրյան'!C14+'[1]Ս. Մարաբյան'!C14+'[1]Ա. Նահապետյան'!C14+'[1]Ա. Հովհաննիսյան'!C14+'[1]Մ. Մակյան'!C14 -> 28 | D14: ='[1]Վ. Ռշտունի'!D14+'[1]Մ. Պապոյան'!D14+'[1]Լ. Աբգարյան'!D14+'[1]Կ. Մարդանյան'!D14+'[1]Ա. Վարդանյան'!D14+'[1]Ա. Մաթևոսյան'!D14+'[1]Լ. Հովհաննիսյան'!D14+[1]Ա.Դանիելյան!D14+'[1]Ս. Համբարձումյան'!D14+'[1]Գ. Հովհաննիսյան'!D14+'[1]Մ. Մելքոնյան'!D14+'[1]Լ. Ալավերդյան '!D14+'[1]Ռ. Պապոյան'!D14+'[1]Մ. Արղամանյան'!D14+'[1]Ա. Բեկթաշյան'!D14+'[1]Ա. Նիկողոսյան'!D14+'[1]Մ. Հարությունյան'!D14+'[1]Ռ. Մխիթարյան'!D14+'[1]Ն. Հովակիմյան'!D14+'[1]Ռ. Բարսեղյան'!D14+'[1]Ա. Մնացականյան'!D14+'[1]Կ. Ամիրյան'!D14+'[1]Ս. Մարաբյան'!D14+'[1]Ա. Նահապետյան'!D14+'[1]Ա. Հովհաննիսյան'!D14+'[1]Մ. Մակյան'!D14 -> 26 | E14: ='[1]Վ. Ռշտունի'!E14+'[1]Մ. Պապոյան'!E14+'[1]Լ. Աբգարյան'!E14+'[1]Կ. Մարդանյան'!E14+'[1]Ա. Վարդանյան'!E14+'[1]Ա. Մաթևոսյան'!E14+'[1]Լ. Հովհաննիսյան'!E14+[1]Ա.Դանիելյան!E14+'[1]Ս. Համբարձումյան'!E14+'[1]Գ. Հովհաննիսյան'!E14+'[1]Մ. Մելքոնյան'!E14+'[1]Լ. Ալավերդյան '!E14+'[1]Ռ. Պապոյան'!E14+'[1]Մ. Արղամանյան'!E14+'[1]Ա. Բեկթաշյան'!E14+'[1]Ա. Նիկողոսյան'!E14+'[1]Մ. Հարությունյան'!E14+'[1]Ռ. Մխիթարյան'!E14+'[1]Ն. Հովակիմյան'!E14+'[1]Ռ. Բարսեղյան'!E14+'[1]Ա. Մնացականյան'!E14+'[1]Կ. Ամիրյան'!E14+'[1]Ս. Մարաբյան'!E14+'[1]Ա. Նահապետյան'!E14+'[1]Ա. Հովհաննիսյան'!E14+'[1]Մ. Մակյան'!E14 -> 2 | F14: 249 | G14: ='[1]Վ. Ռշտունի'!G14+'[1]Մ. Պապոյան'!G14+'[1]Լ. Աբգարյան'!G14+'[1]Կ. Մարդանյան'!G14+'[1]Ա. Վարդանյան'!G14+'[1]Ա. Մաթևոսյան'!G14+'[1]Լ. Հովհաննիսյան'!G14+[1]Ա.Դանիելյան!G14+'[1]Ս. Համբարձումյան'!G14+'[1]Գ. Հովհաննիսյան'!G14+'[1]Մ. Մելքոնյան'!G14+'[1]Լ. Ալավերդյան '!G14+'[1]Ռ. Պապոյան'!G14+'[1]Մ. Արղամանյան'!G14+'[1]Ա. Բեկթաշյան'!G14+'[1]Ա. Նիկողոսյան'!G14+'[1]Մ. Հարությունյան'!G14+'[1]Ռ. Մխիթարյան'!G14+'[1]Ն. Հովակիմյան'!G14+'[1]Ռ. Բարսեղյան'!G14+'[1]Ա. Մնացականյան'!G14+'[1]Կ. Ամիրյան'!G14+'[1]Ս. Մարաբյան'!G14+'[1]Ա. Նահապետյան'!G14+'[1]Ա. Հովհաննիսյան'!G14+'[1]Մ. Մակյան'!G14 -> 210 | H14: ='[1]Վ. Ռշտունի'!H14+'[1]Մ. Պապոյան'!H14+'[1]Լ. Աբգարյան'!H14+'[1]Կ. Մարդանյան'!H14+'[1]Ա. Վարդանյան'!H14+'[1]Ա. Մաթևոսյան'!H14+'[1]Լ. Հովհաննիսյան'!H14+[1]Ա.Դանիելյան!H14+'[1]Ս. Համբարձումյան'!H14+'[1]Գ. Հովհաննիսյան'!H14+'[1]Մ. Մելքոնյան'!H14+'[1]Լ. Ալավերդյան '!H14+'[1]Ռ. Պապոյան'!H14+'[1]Մ. Արղամանյան'!H14+'[1]Ա. Բեկթաշյան'!H14+'[1]Ա. Նիկողոսյան'!H14+'[1]Մ. Հարությունյան'!H14+'[1]Ռ. Մխիթարյան'!H14+'[1]Ն. Հովակիմյան'!H14+'[1]Ռ. Բարսեղյան'!H14+'[1]Ա. Մնացականյան'!H14+'[1]Կ. Ամիրյան'!H14+'[1]Ս. Մարաբյան'!H14+'[1]Ա. Նահապետյան'!H14+'[1]Ա. Հովհաննիսյան'!H14+'[1]Մ. Մակյան'!H14 -> 9 | I14: ='[1]Վ. Ռշտունի'!I14+'[1]Մ. Պապոյան'!I14+'[1]Լ. Աբգարյան'!I14+'[1]Կ. Մարդանյան'!I14+'[1]Ա. Վարդանյան'!I14+'[1]Ա. Մաթևոսյան'!I14+'[1]Լ. Հովհաննիսյան'!I14+[1]Ա.Դանիելյան!I14+'[1]Ս. Համբարձումյան'!I14+'[1]Գ. Հովհաննիսյան'!I14+'[1]Մ. Մելքոնյան'!I14+'[1]Լ. Ալավերդյան '!I14+'[1]Ռ. Պապոյան'!I14+'[1]Մ. Արղամանյան'!I14+'[1]Ա. Բեկթաշյան'!I14+'[1]Ա. Նիկողոսյան'!I14+'[1]Մ. Հարությունյան'!I14+'[1]Ռ. Մխիթարյան'!I14+'[1]Ն. Հովակիմյան'!I14+'[1]Ռ. Բարսեղյան'!I14+'[1]Ա. Մնացականյան'!I14+'[1]Կ. Ամիրյան'!I14+'[1]Ս. Մարաբյան'!I14+'[1]Ա. Նահապետյան'!I14+'[1]Ա. Հովհաննիսյան'!I14+'[1]Մ. Մակյան'!I14 -> 0 | J14: ='[1]Վ. Ռշտունի'!J14+'[1]Մ. Պապոյան'!J14+'[1]Լ. Աբգարյան'!J14+'[1]Կ. Մարդանյան'!J14+'[1]Ա. Վարդանյան'!J14+'[1]Ա. Մաթևոսյան'!J14+'[1]Լ. Հովհաննիսյան'!J14+[1]Ա.Դանիելյան!J14+'[1]Ս. Համբարձումյան'!J14+'[1]Գ. Հովհաննիսյան'!J14+'[1]Մ. Մելքոնյան'!J14+'[1]Լ. Ալավերդյան '!J14+'[1]Ռ. Պապոյան'!J14+'[1]Մ. Արղամանյան'!J14+'[1]Ա. Բեկթաշյան'!J14+'[1]Ա. Նիկողոսյան'!J14+'[1]Մ. Հարությունյան'!J14+'[1]Ռ. Մխիթարյան'!J14+'[1]Ն. Հովակիմյան'!J14+'[1]Ռ. Բարսեղյան'!J14+'[1]Ա. Մնացականյան'!J14+'[1]Կ. Ամիրյան'!J14+'[1]Ս. Մարաբյան'!J14+'[1]Ա. Նահապետյան'!J14+'[1]Ա. Հովհաննիսյան'!J14+'[1]Մ. Մակյան'!J14 -> 3 | K14: 27 | L14: ='[1]Վ. Ռշտունի'!L14+'[1]Մ. Պապոյան'!L14+'[1]Լ. Աբգարյան'!L14+'[1]Կ. Մարդանյան'!L14+'[1]Ա. Վարդանյան'!L14+'[1]Ա. Մաթևոսյան'!L14+'[1]Լ. Հովհաննիսյան'!L14+[1]Ա.Դանիելյան!L14+'[1]Ս. Համբարձումյան'!L14+'[1]Գ. Հովհաննիսյան'!L14+'[1]Մ. Մելքոնյան'!L14+'[1]Լ. Ալավերդյան '!L14+'[1]Ռ. Պապոյան'!L14+'[1]Մ. Արղամանյան'!L14+'[1]Ա. Բեկթաշյան'!L14+'[1]Ա. Նիկողոսյան'!L14+'[1]Մ. Հարությունյան'!L14+'[1]Ռ. Մխիթարյան'!L14+'[1]Ն. Հովակիմյան'!L14+'[1]Ռ. Բարսեղյան'!L14+'[1]Ա. Մնացականյան'!L14+'[1]Կ. Ամիրյան'!L14+'[1]Ս. Մարաբյան'!L14+'[1]Ա. Նահապետյան'!L14+'[1]Ա. Հովհաննիսյան'!L14+'[1]Մ. Մակյան'!L14 -> 205 | M14: ='[1]Վ. Ռշտունի'!M14+'[1]Մ. Պապոյան'!M14+'[1]Լ. Աբգարյան'!M14+'[1]Կ. Մարդանյան'!M14+'[1]Ա. Վարդանյան'!M14+'[1]Ա. Մաթևոսյան'!M14+'[1]Լ. Հովհաննիսյան'!M14+[1]Ա.Դանիելյան!M14+'[1]Ս. Համբարձումյան'!M14+'[1]Գ. Հովհաննիսյան'!M14+'[1]Մ. Մելքոնյան'!M14+'[1]Լ. Ալավերդյան '!M14+'[1]Ռ. Պապոյան'!M14+'[1]Մ. Արղամանյան'!M14+'[1]Ա. Բեկթաշյան'!M14+'[1]Ա. Նիկողոսյան'!M14+'[1]Մ. Հարությունյան'!M14+'[1]Ռ. Մխիթարյան'!M14+'[1]Ն. Հովակիմյան'!M14+'[1]Ռ. Բարսեղյան'!M14+'[1]Ա. Մնացականյան'!M14+'[1]Կ. Ամիրյան'!M14+'[1]Ս. Մարաբյան'!M14+'[1]Ա. Նահապետյան'!M14+'[1]Ա. Հովհաննիսյան'!M14+'[1]Մ. Մակյան'!M14 -> 7 | N14: ='[1]Վ. Ռշտունի'!N14+'[1]Մ. Պապոյան'!N14+'[1]Լ. Աբգարյան'!N14+'[1]Կ. Մարդանյան'!N14+'[1]Ա. Վարդանյան'!N14+'[1]Ա. Մաթևոսյան'!N14+'[1]Լ. Հովհաննիսյան'!N14+[1]Ա.Դանիելյան!N14+'[1]Ս. Համբարձումյան'!N14+'[1]Գ. Հովհաննիսյան'!N14+'[1]Մ. Մելքոնյան'!N14+'[1]Լ. Ալավերդյան '!N14+'[1]Ռ. Պապոյան'!N14+'[1]Մ. Արղամանյան'!N14+'[1]Ա. Բեկթաշյան'!N14+'[1]Ա. Նիկողոսյան'!N14+'[1]Մ. Հարությունյան'!N14+'[1]Ռ. Մխիթարյան'!N14+'[1]Ն. Հովակիմյան'!N14+'[1]Ռ. Բարսեղյան'!N14+'[1]Ա. Մնացականյան'!N14+'[1]Կ. Ամիրյան'!N14+'[1]Ս. Մարաբյան'!N14+'[1]Ա. Նահապետյան'!N14+'[1]Ա. Հովհաննիսյան'!N14+'[1]Մ. Մակյան'!N14 -> 0 | O14: ='[1]Վ. Ռշտունի'!O14+'[1]Մ. Պապոյան'!O14+'[1]Լ. Աբգարյան'!O14+'[1]Կ. Մարդանյան'!O14+'[1]Ա. Վարդանյան'!O14+'[1]Ա. Մաթևոսյան'!O14+'[1]Լ. Հովհաննիսյան'!O14+[1]Ա.Դանիելյան!O14+'[1]Ս. Համբարձումյան'!O14+'[1]Գ. Հովհաննիսյան'!O14+'[1]Մ. Մելքոնյան'!O14+'[1]Լ. Ալավերդյան '!O14+'[1]Ռ. Պապոյան'!O14+'[1]Մ. Արղամանյան'!O14+'[1]Ա. Բեկթաշյան'!O14+'[1]Ա. Նիկողոսյան'!O14+'[1]Մ. Հարությունյան'!O14+'[1]Ռ. Մխիթարյան'!O14+'[1]Ն. Հովակիմյան'!O14+'[1]Ռ. Բարսեղյան'!O14+'[1]Ա. Մնացականյան'!O14+'[1]Կ. Ամիրյան'!O14+'[1]Ս. Մարաբյան'!O14+'[1]Ա. Նահապետյան'!O14+'[1]Ա. Հովհաննիսյան'!O14+'[1]Մ. Մակյան'!O14 -> 0 | P14: ='[1]Վ. Ռշտունի'!P14+'[1]Մ. Պապոյան'!P14+'[1]Լ. Աբգարյան'!P14+'[1]Կ. Մարդանյան'!P14+'[1]Ա. Վարդանյան'!P14+'[1]Ա. Մաթևոսյան'!P14+'[1]Լ. Հովհաննիսյան'!P14+[1]Ա.Դանիելյան!P14+'[1]Ս. Համբարձումյան'!P14+'[1]Գ. Հովհաննիսյան'!P14+'[1]Մ. Մելքոնյան'!P14+'[1]Լ. Ալավերդյան '!P14+'[1]Ռ. Պապոյան'!P14+'[1]Մ. Արղամանյան'!P14+'[1]Ա. Բեկթաշյան'!P14+'[1]Ա. Նիկողոսյան'!P14+'[1]Մ. Հարությունյան'!P14+'[1]Ռ. Մխիթարյան'!P14+'[1]Ն. Հովակիմյան'!P14+'[1]Ռ. Բարսեղյան'!P14+'[1]Ա. Մնացականյան'!P14+'[1]Կ. Ամիրյան'!P14+'[1]Ս. Մարաբյան'!P14+'[1]Ա. Նահապետյան'!P14+'[1]Ա. Հովհաննիսյան'!P14+'[1]Մ. Մակյան'!P14 -> 0 | Q14: ='[1]Վ. Ռշտունի'!Q14+'[1]Մ. Պապոյան'!Q14+'[1]Լ. Աբգարյան'!Q14+'[1]Կ. Մարդանյան'!Q14+'[1]Ա. Վարդանյան'!Q14+'[1]Ա. Մաթևոսյան'!Q14+'[1]Լ. Հովհաննիսյան'!Q14+[1]Ա.Դանիելյան!Q14+'[1]Ս. Համբարձումյան'!Q14+'[1]Գ. Հովհաննիսյան'!Q14+'[1]Մ. Մելքոնյան'!Q14+'[1]Լ. Ալավերդյան '!Q14+'[1]Ռ. Պապոյան'!Q14+'[1]Մ. Արղամանյան'!Q14+'[1]Ա. Բեկթաշյան'!Q14+'[1]Ա. Նիկողոսյան'!Q14+'[1]Մ. Հարությունյան'!Q14+'[1]Ռ. Մխիթարյան'!Q14+'[1]Ն. Հովակիմյան'!Q14+'[1]Ռ. Բարսեղյան'!Q14+'[1]Ա. Մնացականյան'!Q14+'[1]Կ. Ամիրյան'!Q14+'[1]Ս. Մարաբյան'!Q14+'[1]Ա. Նահապետյան'!Q14+'[1]Ա. Հովհաննիսյան'!Q14+'[1]Մ. Մակյան'!Q14 -> 0 | R14: ='[1]Վ. Ռշտունի'!R14+'[1]Մ. Պապոյան'!R14+'[1]Լ. Աբգարյան'!R14+'[1]Կ. Մարդանյան'!R14+'[1]Ա. Վարդանյան'!R14+'[1]Ա. Մաթևոսյան'!R14+'[1]Լ. Հովհաննիսյան'!R14+[1]Ա.Դանիելյան!R14+'[1]Ս. Համբարձումյան'!R14+'[1]Գ. Հովհաննիսյան'!R14+'[1]Մ. Մելքոնյան'!R14+'[1]Լ. Ալավերդյան '!R14+'[1]Ռ. Պապոյան'!R14+'[1]Մ. Արղամանյան'!R14+'[1]Ա. Բեկթաշյան'!R14+'[1]Ա. Նիկողոսյան'!R14+'[1]Մ. Հարությունյան'!R14+'[1]Ռ. Մխիթարյան'!R14+'[1]Ն. Հովակիմյան'!R14+'[1]Ռ. Բարսեղյան'!R14+'[1]Ա. Մնացականյան'!R14+'[1]Կ. Ամիրյան'!R14+'[1]Ս. Մարաբյան'!R14+'[1]Ա. Նահապետյան'!R14+'[1]Ա. Հովհաննիսյան'!R14+'[1]Մ. Մակյան'!R14 -> 0 | S14: ='[1]Վ. Ռշտունի'!S14+'[1]Մ. Պապոյան'!S14+'[1]Լ. Աբգարյան'!S14+'[1]Կ. Մարդանյան'!S14+'[1]Ա. Վարդանյան'!S14+'[1]Ա. Մաթևոսյան'!S14+'[1]Լ. Հովհաննիսյան'!S14+[1]Ա.Դանիելյան!S14+'[1]Ս. Համբարձումյան'!S14+'[1]Գ. Հովհաննիսյան'!S14+'[1]Մ. Մելքոնյան'!S14+'[1]Լ. Ալավերդյան '!S14+'[1]Ռ. Պապոյան'!S14+'[1]Մ. Արղամանյան'!S14+'[1]Ա. Բեկթաշյան'!S14+'[1]Ա. Նիկողոսյան'!S14+'[1]Մ. Հարությունյան'!S14+'[1]Ռ. Մխիթարյան'!S14+'[1]Ն. Հովակիմյան'!S14+'[1]Ռ. Բարսեղյան'!S14+'[1]Ա. Մնացականյան'!S14+'[1]Կ. Ամիրյան'!S14+'[1]Ս. Մարաբյան'!S14+'[1]Ա. Նահապետյան'!S14+'[1]Ա. Հովհաննիսյան'!S14+'[1]Մ. Մակյան'!S14 -> 0 | ... AH14: ='[1]Վ. Ռշտունի'!AH14+'[1]Մ. Պապոյան'!AH14+'[1]Լ. Աբգարյան'!AH14+'[1]Կ. Մարդանյան'!AH14+'[1]Ա. Վարդանյան'!AH14+'[1]Ա. Մաթևոսյան'!AH14+'[1]Լ. Հովհաննիսյան'!AH14+[1]Ա.Դանիելյան!AH14+'[1]Ս. Համբարձումյան'!AH14+'[1]Գ. Հովհաննիսյան'!AH14+'[1]Մ. Մելքոնյան'!AH14+'[1]Լ. Ալավերդյան '!AH14+'[1]Ռ. Պապոյան'!AH14+'[1]Մ. Արղամանյան'!AH14+'[1]Ա. Բեկթաշյան'!AH14+'[1]Ա. Նիկողոսյան'!AH14+'[1]Մ. Հարությունյան'!AH14+'[1]Ռ. Մխիթարյան'!AH14+'[1]Ն. Հովակիմյան'!AH14+'[1]Ռ. Բարսեղյան'!AH14+'[1]Ա. Մնացականյան'!AH14+'[1]Կ. Ամիրյան'!AH14+'[1]Ս. Մարաբյան'!AH14+'[1]Ա. Նահապետյան'!AH14+'[1]Ա. Հովհաննիսյան'!AH14+'[1]Մ. Մակյան'!AH14 -> 19 | AI14: 193 | AJ14: 212 | AK14: ='[1]Վ. Ռշտունի'!AK14+'[1]Մ. Պապոյան'!AK14+'[1]Լ. Աբգարյան'!AK14+'[1]Կ. Մարդանյան'!AK14+'[1]Ա. Վարդանյան'!AK14+'[1]Ա. Մաթևոսյան'!AK14+'[1]Լ. Հովհաննիսյան'!AK14+[1]Ա.Դանիելյան!AK14+'[1]Ս. Համբարձումյան'!AK14+'[1]Գ. Հովհաննիսյան'!AK14+'[1]Մ. Մելքոնյան'!AK14+'[1]Լ. Ալավերդյան '!AK14+'[1]Ռ. Պապոյան'!AK14+'[1]Մ. Արղամանյան'!AK14+'[1]Ա. Բեկթաշյան'!AK14+'[1]Ա. Նիկողոսյան'!AK14+'[1]Մ. Հարությունյան'!AK14+'[1]Ռ. Մխիթարյան'!AK14+'[1]Ն. Հովակիմյան'!AK14+'[1]Ռ. Բարսեղյան'!AK14+'[1]Ա. Մնացականյան'!AK14+'[1]Կ. Ամիրյան'!AK14+'[1]Ս. Մարաբյան'!AK14+'[1]Ա. Նահապետյան'!AK14+'[1]Ա. Հովհաննիսյան'!AK14+'[1]Մ. Մակյան'!AK14 -> 2 | AL14: ='[1]Վ. Ռշտունի'!AL14+'[1]Մ. Պապոյան'!AL14+'[1]Լ. Աբգարյան'!AL14+'[1]Կ. Մարդանյան'!AL14+'[1]Ա. Վարդանյան'!AL14+'[1]Ա. Մաթևոսյան'!AL14+'[1]Լ. Հովհաննիսյան'!AL14+[1]Ա.Դանիելյան!AL14+'[1]Ս. Համբարձումյան'!AL14+'[1]Գ. Հովհաննիսյան'!AL14+'[1]Մ. Մելքոնյան'!AL14+'[1]Լ. Ալավերդյան '!AL14+'[1]Ռ. Պապոյան'!AL14+'[1]Մ. Արղամանյան'!AL14+'[1]Ա. Բեկթաշյան'!AL14+'[1]Ա. Նիկողոսյան'!AL14+'[1]Մ. Հարությունյան'!AL14+'[1]Ռ. Մխիթարյան'!AL14+'[1]Ն. Հովակիմյան'!AL14+'[1]Ռ. Բարսեղյան'!AL14+'[1]Ա. Մնացականյան'!AL14+'[1]Կ. Ամիրյան'!AL14+'[1]Ս. Մարաբյան'!AL14+'[1]Ա. Նահապետյան'!AL14+'[1]Ա. Հովհաննիսյան'!AL14+'[1]Մ. Մակյան'!AL14 -> 27 | AM14: ='[1]Վ. Ռշտունի'!AM14+'[1]Մ. Պապոյան'!AM14+'[1]Լ. Աբգարյան'!AM14+'[1]Կ. Մարդանյան'!AM14+'[1]Ա. Վարդանյան'!AM14+'[1]Ա. Մաթևոսյան'!AM14+'[1]Լ. Հովհաննիսյան'!AM14+[1]Ա.Դանիելյան!AM14+'[1]Ս. Համբարձումյան'!AM14+'[1]Գ. Հովհաննիսյան'!AM14+'[1]Մ. Մելքոնյան'!AM14+'[1]Լ. Ալավերդյան '!AM14+'[1]Ռ. Պապոյան'!AM14+'[1]Մ. Արղամանյան'!AM14+'[1]Ա. Բեկթաշյան'!AM14+'[1]Ա. Նիկողոսյան'!AM14+'[1]Մ. Հարությունյան'!AM14+'[1]Ռ. Մխիթարյան'!AM14+'[1]Ն. Հովակիմյան'!AM14+'[1]Ռ. Բարսեղյան'!AM14+'[1]Ա. Մնացականյան'!AM14+'[1]Կ. Ամիրյան'!AM14+'[1]Ս. Մարաբյան'!AM14+'[1]Ա. Նահապետյան'!AM14+'[1]Ա. Հովհաննիսյան'!AM14+'[1]Մ. Մակյան'!AM14 -> 29 | AN14: ='[1]Վ. Ռշտունի'!AN14+'[1]Մ. Պապոյան'!AN14+'[1]Լ. Աբգարյան'!AN14+'[1]Կ. Մարդանյան'!AN14+'[1]Ա. Վարդանյան'!AN14+'[1]Ա. Մաթևոսյան'!AN14+'[1]Լ. Հովհաննիսյան'!AN14+[1]Ա.Դանիելյան!AN14+'[1]Ս. Համբարձումյան'!AN14+'[1]Գ. Հովհաննիսյան'!AN14+'[1]Մ. Մելքոնյան'!AN14+'[1]Լ. Ալավերդյան '!AN14+'[1]Ռ. Պապոյան'!AN14+'[1]Մ. Արղամանյան'!AN14+'[1]Ա. Բեկթաշյան'!AN14+'[1]Ա. Նիկողոսյան'!AN14+'[1]Մ. Հարությունյան'!AN14+'[1]Ռ. Մխիթարյան'!AN14+'[1]Ն. Հովակիմյան'!AN14+'[1]Ռ. Բարսեղյան'!AN14+'[1]Ա. Մնացականյան'!AN14+'[1]Կ. Ամիրյան'!AN14+'[1]Ս. Մարաբյան'!AN14+'[1]Ա. Նահապետյան'!AN14+'[1]Ա. Հովհաննիսյան'!AN14+'[1]Մ. Մակյան'!AN14 -> 26
A15: 5 | B15: Îáï³ÛùÇ Ù³ñ½Ç ÁÝ¹Ñ³Ýáõñ Çñ³í³ëáõÃÛ³Ý ³é³çÇÝ ³ïÛ³ÝÇ ¹³ï³ñ³Ý | C15: ='[1]Վ. Ռշտունի'!C15+'[1]Մ. Պապոյան'!C15+'[1]Լ. Աբգարյան'!C15+'[1]Կ. Մարդանյան'!C15+'[1]Ա. Վարդանյան'!C15+'[1]Ա. Մաթևոսյան'!C15+'[1]Լ. Հովհաննիսյան'!C15+[1]Ա.Դանիելյան!C15+'[1]Ս. Համբարձումյան'!C15+'[1]Գ. Հովհաննիսյան'!C15+'[1]Մ. Մելքոնյան'!C15+'[1]Լ. Ալավերդյան '!C15+'[1]Ռ. Պապոյան'!C15+'[1]Մ. Արղամանյան'!C15+'[1]Ա. Բեկթաշյան'!C15+'[1]Ա. Նիկողոսյան'!C15+'[1]Մ. Հարությունյան'!C15+'[1]Ռ. Մխիթարյան'!C15+'[1]Ն. Հովակիմյան'!C15+'[1]Ռ. Բարսեղյան'!C15+'[1]Ա. Մնացականյան'!C15+'[1]Կ. Ամիրյան'!C15+'[1]Ս. Մարաբյան'!C15+'[1]Ա. Նահապետյան'!C15+'[1]Ա. Հովհաննիսյան'!C15+'[1]Մ. Մակյան'!C15 -> 61 | D15: ='[1]Վ. Ռշտունի'!D15+'[1]Մ. Պապոյան'!D15+'[1]Լ. Աբգարյան'!D15+'[1]Կ. Մարդանյան'!D15+'[1]Ա. Վարդանյան'!D15+'[1]Ա. Մաթևոսյան'!D15+'[1]Լ. Հովհաննիսյան'!D15+[1]Ա.Դանիելյան!D15+'[1]Ս. Համբարձումյան'!D15+'[1]Գ. Հովհաննիսյան'!D15+'[1]Մ. Մելքոնյան'!D15+'[1]Լ. Ալավերդյան '!D15+'[1]Ռ. Պապոյան'!D15+'[1]Մ. Արղամանյան'!D15+'[1]Ա. Բեկթաշյան'!D15+'[1]Ա. Նիկողոսյան'!D15+'[1]Մ. Հարությունյան'!D15+'[1]Ռ. Մխիթարյան'!D15+'[1]Ն. Հովակիմյան'!D15+'[1]Ռ. Բարսեղյան'!D15+'[1]Ա. Մնացականյան'!D15+'[1]Կ. Ամիրյան'!D15+'[1]Ս. Մարաբյան'!D15+'[1]Ա. Նահապետյան'!D15+'[1]Ա. Հովհաննիսյան'!D15+'[1]Մ. Մակյան'!D15 -> 60 | E15: ='[1]Վ. Ռշտունի'!E15+'[1]Մ. Պապոյան'!E15+'[1]Լ. Աբգարյան'!E15+'[1]Կ. Մարդանյան'!E15+'[1]Ա. Վարդանյան'!E15+'[1]Ա. Մաթևոսյան'!E15+'[1]Լ. Հովհաննիսյան'!E15+[1]Ա.Դանիելյան!E15+'[1]Ս. Համբարձումյան'!E15+'[1]Գ. Հովհաննիսյան'!E15+'[1]Մ. Մելքոնյան'!E15+'[1]Լ. Ալավերդյան '!E15+'[1]Ռ. Պապոյան'!E15+'[1]Մ. Արղամանյան'!E15+'[1]Ա. Բեկթաշյան'!E15+'[1]Ա. Նիկողոսյան'!E15+'[1]Մ. Հարությունյան'!E15+'[1]Ռ. Մխիթարյան'!E15+'[1]Ն. Հովակիմյան'!E15+'[1]Ռ. Բարսեղյան'!E15+'[1]Ա. Մնացականյան'!E15+'[1]Կ. Ամիրյան'!E15+'[1]Ս. Մարաբյան'!E15+'[1]Ա. Նահապետյան'!E15+'[1]Ա. Հովհաննիսյան'!E15+'[1]Մ. Մակյան'!E15 -> 1 | F15: 241 | G15: ='[1]Վ. Ռշտունի'!G15+'[1]Մ. Պապոյան'!G15+'[1]Լ. Աբգարյան'!G15+'[1]Կ. Մարդանյան'!G15+'[1]Ա. Վարդանյան'!G15+'[1]Ա. Մաթևոսյան'!G15+'[1]Լ. Հովհաննիսյան'!G15+[1]Ա.Դանիելյան!G15+'[1]Ս. Համբարձումյան'!G15+'[1]Գ. Հովհաննիսյան'!G15+'[1]Մ. Մելքոնյան'!G15+'[1]Լ. Ալավերդյան '!G15+'[1]Ռ. Պապոյան'!G15+'[1]Մ. Արղամանյան'!G15+'[1]Ա. Բեկթաշյան'!G15+'[1]Ա. Նիկողոսյան'!G15+'[1]Մ. Հարությունյան'!G15+'[1]Ռ. Մխիթարյան'!G15+'[1]Ն. Հովակիմյան'!G15+'[1]Ռ. Բարսեղյան'!G15+'[1]Ա. Մնացականյան'!G15+'[1]Կ. Ամիրյան'!G15+'[1]Ս. Մարաբյան'!G15+'[1]Ա. Նահապետյան'!G15+'[1]Ա. Հովհաննիսյան'!G15+'[1]Մ. Մակյան'!G15 -> 219 | H15: ='[1]Վ. Ռշտունի'!H15+'[1]Մ. Պապոյան'!H15+'[1]Լ. Աբգարյան'!H15+'[1]Կ. Մարդանյան'!H15+'[1]Ա. Վարդանյան'!H15+'[1]Ա. Մաթևոսյան'!H15+'[1]Լ. Հովհաննիսյան'!H15+[1]Ա.Դանիելյան!H15+'[1]Ս. Համբարձումյան'!H15+'[1]Գ. Հովհաննիսյան'!H15+'[1]Մ. Մելքոնյան'!H15+'[1]Լ. Ալավերդյան '!H15+'[1]Ռ. Պապոյան'!H15+'[1]Մ. Արղամանյան'!H15+'[1]Ա. Բեկթաշյան'!H15+'[1]Ա. Նիկողոսյան'!H15+'[1]Մ. Հարությունյան'!H15+'[1]Ռ. Մխիթարյան'!H15+'[1]Ն. Հովակիմյան'!H15+'[1]Ռ. Բարսեղյան'!H15+'[1]Ա. Մնացականյան'!H15+'[1]Կ. Ամիրյան'!H15+'[1]Ս. Մարաբյան'!H15+'[1]Ա. Նահապետյան'!H15+'[1]Ա. Հովհաննիսյան'!H15+'[1]Մ. Մակյան'!H15 -> 3 | I15: ='[1]Վ. Ռշտունի'!I15+'[1]Մ. Պապոյան'!I15+'[1]Լ. Աբգարյան'!I15+'[1]Կ. Մարդանյան'!I15+'[1]Ա. Վարդանյան'!I15+'[1]Ա. Մաթևոսյան'!I15+'[1]Լ. Հովհաննիսյան'!I15+[1]Ա.Դանիելյան!I15+'[1]Ս. Համբարձումյան'!I15+'[1]Գ. Հովհաննիսյան'!I15+'[1]Մ. Մելքոնյան'!I15+'[1]Լ. Ալավերդյան '!I15+'[1]Ռ. Պապոյան'!I15+'[1]Մ. Արղամանյան'!I15+'[1]Ա. Բեկթաշյան'!I15+'[1]Ա. Նիկողոսյան'!I15+'[1]Մ. Հարությունյան'!I15+'[1]Ռ. Մխիթարյան'!I15+'[1]Ն. Հովակիմյան'!I15+'[1]Ռ. Բարսեղյան'!I15+'[1]Ա. Մնացականյան'!I15+'[1]Կ. Ամիրյան'!I15+'[1]Ս. Մարաբյան'!I15+'[1]Ա. Նահապետյան'!I15+'[1]Ա. Հովհաննիսյան'!I15+'[1]Մ. Մակյան'!I15 -> 0 | J15: ='[1]Վ. Ռշտունի'!J15+'[1]Մ. Պապոյան'!J15+'[1]Լ. Աբգարյան'!J15+'[1]Կ. Մարդանյան'!J15+'[1]Ա. Վարդանյան'!J15+'[1]Ա. Մաթևոսյան'!J15+'[1]Լ. Հովհաննիսյան'!J15+[1]Ա.Դանիելյան!J15+'[1]Ս. Համբարձումյան'!J15+'[1]Գ. Հովհաննիսյան'!J15+'[1]Մ. Մելքոնյան'!J15+'[1]Լ. Ալավերդյան '!J15+'[1]Ռ. Պապոյան'!J15+'[1]Մ. Արղամանյան'!J15+'[1]Ա. Բեկթաշյան'!J15+'[1]Ա. Նիկողոսյան'!J15+'[1]Մ. Հարությունյան'!J15+'[1]Ռ. Մխիթարյան'!J15+'[1]Ն. Հովակիմյան'!J15+'[1]Ռ. Բարսեղյան'!J15+'[1]Ա. Մնացականյան'!J15+'[1]Կ. Ամիրյան'!J15+'[1]Ս. Մարաբյան'!J15+'[1]Ա. Նահապետյան'!J15+'[1]Ա. Հովհաննիսյան'!J15+'[1]Մ. Մակյան'!J15 -> 1 | K15: 18 | L15: ='[1]Վ. Ռշտունի'!L15+'[1]Մ. Պապոյան'!L15+'[1]Լ. Աբգարյան'!L15+'[1]Կ. Մարդանյան'!L15+'[1]Ա. Վարդանյան'!L15+'[1]Ա. Մաթևոսյան'!L15+'[1]Լ. Հովհաննիսյան'!L15+[1]Ա.Դանիելյան!L15+'[1]Ս. Համբարձումյան'!L15+'[1]Գ. Հովհաննիսյան'!L15+'[1]Մ. Մելքոնյան'!L15+'[1]Լ. Ալավերդյան '!L15+'[1]Ռ. Պապոյան'!L15+'[1]Մ. Արղամանյան'!L15+'[1]Ա. Բեկթաշյան'!L15+'[1]Ա. Նիկողոսյան'!L15+'[1]Մ. Հարությունյան'!L15+'[1]Ռ. Մխիթարյան'!L15+'[1]Ն. Հովակիմյան'!L15+'[1]Ռ. Բարսեղյան'!L15+'[1]Ա. Մնացականյան'!L15+'[1]Կ. Ամիրյան'!L15+'[1]Ս. Մարաբյան'!L15+'[1]Ա. Նահապետյան'!L15+'[1]Ա. Հովհաննիսյան'!L15+'[1]Մ. Մակյան'!L15 -> 208 | M15: ='[1]Վ. Ռշտունի'!M15+'[1]Մ. Պապոյան'!M15+'[1]Լ. Աբգարյան'!M15+'[1]Կ. Մարդանյան'!M15+'[1]Ա. Վարդանյան'!M15+'[1]Ա. Մաթևոսյան'!M15+'[1]Լ. Հովհաննիսյան'!M15+[1]Ա.Դանիելյան!M15+'[1]Ս. Համբարձումյան'!M15+'[1]Գ. Հովհաննիսյան'!M15+'[1]Մ. Մելքոնյան'!M15+'[1]Լ. Ալավերդյան '!M15+'[1]Ռ. Պապոյան'!M15+'[1]Մ. Արղամանյան'!M15+'[1]Ա. Բեկթաշյան'!M15+'[1]Ա. Նիկողոսյան'!M15+'[1]Մ. Հարությունյան'!M15+'[1]Ռ. Մխիթարյան'!M15+'[1]Ն. Հովակիմյան'!M15+'[1]Ռ. Բարսեղյան'!M15+'[1]Ա. Մնացականյան'!M15+'[1]Կ. Ամիրյան'!M15+'[1]Ս. Մարաբյան'!M15+'[1]Ա. Նահապետյան'!M15+'[1]Ա. Հովհաննիսյան'!M15+'[1]Մ. Մակյան'!M15 -> 31 | N15: ='[1]Վ. Ռշտունի'!N15+'[1]Մ. Պապոյան'!N15+'[1]Լ. Աբգարյան'!N15+'[1]Կ. Մարդանյան'!N15+'[1]Ա. Վարդանյան'!N15+'[1]Ա. Մաթևոսյան'!N15+'[1]Լ. Հովհաննիսյան'!N15+[1]Ա.Դանիելյան!N15+'[1]Ս. Համբարձումյան'!N15+'[1]Գ. Հովհաննիսյան'!N15+'[1]Մ. Մելքոնյան'!N15+'[1]Լ. Ալավերդյան '!N15+'[1]Ռ. Պապոյան'!N15+'[1]Մ. Արղամանյան'!N15+'[1]Ա. Բեկթաշյան'!N15+'[1]Ա. Նիկողոսյան'!N15+'[1]Մ. Հարությունյան'!N15+'[1]Ռ. Մխիթարյան'!N15+'[1]Ն. Հովակիմյան'!N15+'[1]Ռ. Բարսեղյան'!N15+'[1]Ա. Մնացականյան'!N15+'[1]Կ. Ամիրյան'!N15+'[1]Ս. Մարաբյան'!N15+'[1]Ա. Նահապետյան'!N15+'[1]Ա. Հովհաննիսյան'!N15+'[1]Մ. Մակյան'!N15 -> 0 | O15: ='[1]Վ. Ռշտունի'!O15+'[1]Մ. Պապոյան'!O15+'[1]Լ. Աբգարյան'!O15+'[1]Կ. Մարդանյան'!O15+'[1]Ա. Վարդանյան'!O15+'[1]Ա. Մաթևոսյան'!O15+'[1]Լ. Հովհաննիսյան'!O15+[1]Ա.Դանիելյան!O15+'[1]Ս. Համբարձումյան'!O15+'[1]Գ. Հովհաննիսյան'!O15+'[1]Մ. Մելքոնյան'!O15+'[1]Լ. Ալավերդյան '!O15+'[1]Ռ. Պապոյան'!O15+'[1]Մ. Արղամանյան'!O15+'[1]Ա. Բեկթաշյան'!O15+'[1]Ա. Նիկողոսյան'!O15+'[1]Մ. Հարությունյան'!O15+'[1]Ռ. Մխիթարյան'!O15+'[1]Ն. Հովակիմյան'!O15+'[1]Ռ. Բարսեղյան'!O15+'[1]Ա. Մնացականյան'!O15+'[1]Կ. Ամիրյան'!O15+'[1]Ս. Մարաբյան'!O15+'[1]Ա. Նահապետյան'!O15+'[1]Ա. Հովհաննիսյան'!O15+'[1]Մ. Մակյան'!O15 -> 0 | P15: ='[1]Վ. Ռշտունի'!P15+'[1]Մ. Պապոյան'!P15+'[1]Լ. Աբգարյան'!P15+'[1]Կ. Մարդանյան'!P15+'[1]Ա. Վարդանյան'!P15+'[1]Ա. Մաթևոսյան'!P15+'[1]Լ. Հովհաննիսյան'!P15+[1]Ա.Դանիելյան!P15+'[1]Ս. Համբարձումյան'!P15+'[1]Գ. Հովհաննիսյան'!P15+'[1]Մ. Մելքոնյան'!P15+'[1]Լ. Ալավերդյան '!P15+'[1]Ռ. Պապոյան'!P15+'[1]Մ. Արղամանյան'!P15+'[1]Ա. Բեկթաշյան'!P15+'[1]Ա. Նիկողոսյան'!P15+'[1]Մ. Հարությունյան'!P15+'[1]Ռ. Մխիթարյան'!P15+'[1]Ն. Հովակիմյան'!P15+'[1]Ռ. Բարսեղյան'!P15+'[1]Ա. Մնացականյան'!P15+'[1]Կ. Ամիրյան'!P15+'[1]Ս. Մարաբյան'!P15+'[1]Ա. Նահապետյան'!P15+'[1]Ա. Հովհաննիսյան'!P15+'[1]Մ. Մակյան'!P15 -> 6 | Q15: ='[1]Վ. Ռշտունի'!Q15+'[1]Մ. Պապոյան'!Q15+'[1]Լ. Աբգարյան'!Q15+'[1]Կ. Մարդանյան'!Q15+'[1]Ա. Վարդանյան'!Q15+'[1]Ա. Մաթևոսյան'!Q15+'[1]Լ. Հովհաննիսյան'!Q15+[1]Ա.Դանիելյան!Q15+'[1]Ս. Համբարձումյան'!Q15+'[1]Գ. Հովհաննիսյան'!Q15+'[1]Մ. Մելքոնյան'!Q15+'[1]Լ. Ալավերդյան '!Q15+'[1]Ռ. Պապոյան'!Q15+'[1]Մ. Արղամանյան'!Q15+'[1]Ա. Բեկթաշյան'!Q15+'[1]Ա. Նիկողոսյան'!Q15+'[1]Մ. Հարությունյան'!Q15+'[1]Ռ. Մխիթարյան'!Q15+'[1]Ն. Հովակիմյան'!Q15+'[1]Ռ. Բարսեղյան'!Q15+'[1]Ա. Մնացականյան'!Q15+'[1]Կ. Ամիրյան'!Q15+'[1]Ս. Մարաբյան'!Q15+'[1]Ա. Նահապետյան'!Q15+'[1]Ա. Հովհաննիսյան'!Q15+'[1]Մ. Մակյան'!Q15 -> 0 | R15: ='[1]Վ. Ռշտունի'!R15+'[1]Մ. Պապոյան'!R15+'[1]Լ. Աբգարյան'!R15+'[1]Կ. Մարդանյան'!R15+'[1]Ա. Վարդանյան'!R15+'[1]Ա. Մաթևոսյան'!R15+'[1]Լ. Հովհաննիսյան'!R15+[1]Ա.Դանիելյան!R15+'[1]Ս. Համբարձումյան'!R15+'[1]Գ. Հովհաննիսյան'!R15+'[1]Մ. Մելքոնյան'!R15+'[1]Լ. Ալավերդյան '!R15+'[1]Ռ. Պապոյան'!R15+'[1]Մ. Արղամանյան'!R15+'[1]Ա. Բեկթաշյան'!R15+'[1]Ա. Նիկողոսյան'!R15+'[1]Մ. Հարությունյան'!R15+'[1]Ռ. Մխիթարյան'!R15+'[1]Ն. Հովակիմյան'!R15+'[1]Ռ. Բարսեղյան'!R15+'[1]Ա. Մնացականյան'!R15+'[1]Կ. Ամիրյան'!R15+'[1]Ս. Մարաբյան'!R15+'[1]Ա. Նահապետյան'!R15+'[1]Ա. Հովհաննիսյան'!R15+'[1]Մ. Մակյան'!R15 -> 0 | S15: ='[1]Վ. Ռշտունի'!S15+'[1]Մ. Պապոյան'!S15+'[1]Լ. Աբգարյան'!S15+'[1]Կ. Մարդանյան'!S15+'[1]Ա. Վարդանյան'!S15+'[1]Ա. Մաթևոսյան'!S15+'[1]Լ. Հովհաննիսյան'!S15+[1]Ա.Դանիելյան!S15+'[1]Ս. Համբարձումյան'!S15+'[1]Գ. Հովհաննիսյան'!S15+'[1]Մ. Մելքոնյան'!S15+'[1]Լ. Ալավերդյան '!S15+'[1]Ռ. Պապոյան'!S15+'[1]Մ. Արղամանյան'!S15+'[1]Ա. Բեկթաշյան'!S15+'[1]Ա. Նիկողոսյան'!S15+'[1]Մ. Հարությունյան'!S15+'[1]Ռ. Մխիթարյան'!S15+'[1]Ն. Հովակիմյան'!S15+'[1]Ռ. Բարսեղյան'!S15+'[1]Ա. Մնացականյան'!S15+'[1]Կ. Ամիրյան'!S15+'[1]Ս. Մարաբյան'!S15+'[1]Ա. Նահապետյան'!S15+'[1]Ա. Հովհաննիսյան'!S15+'[1]Մ. Մակյան'!S15 -> 0 | ... AH15: ='[1]Վ. Ռշտունի'!AH15+'[1]Մ. Պապոյան'!AH15+'[1]Լ. Աբգարյան'!AH15+'[1]Կ. Մարդանյան'!AH15+'[1]Ա. Վարդանյան'!AH15+'[1]Ա. Մաթևոսյան'!AH15+'[1]Լ. Հովհաննիսյան'!AH15+[1]Ա.Դանիելյան!AH15+'[1]Ս. Համբարձումյան'!AH15+'[1]Գ. Հովհաննիսյան'!AH15+'[1]Մ. Մելքոնյան'!AH15+'[1]Լ. Ալավերդյան '!AH15+'[1]Ռ. Պապոյան'!AH15+'[1]Մ. Արղամանյան'!AH15+'[1]Ա. Բեկթաշյան'!AH15+'[1]Ա. Նիկողոսյան'!AH15+'[1]Մ. Հարությունյան'!AH15+'[1]Ռ. Մխիթարյան'!AH15+'[1]Ն. Հովակիմյան'!AH15+'[1]Ռ. Բարսեղյան'!AH15+'[1]Ա. Մնացականյան'!AH15+'[1]Կ. Ամիրյան'!AH15+'[1]Ս. Մարաբյան'!AH15+'[1]Ա. Նահապետյան'!AH15+'[1]Ա. Հովհաննիսյան'!AH15+'[1]Մ. Մակյան'!AH15 -> 55 | AI15: 160 | AJ15: 215 | AK15: ='[1]Վ. Ռշտունի'!AK15+'[1]Մ. Պապոյան'!AK15+'[1]Լ. Աբգարյան'!AK15+'[1]Կ. Մարդանյան'!AK15+'[1]Ա. Վարդանյան'!AK15+'[1]Ա. Մաթևոսյան'!AK15+'[1]Լ. Հովհաննիսյան'!AK15+[1]Ա.Դանիելյան!AK15+'[1]Ս. Համբարձումյան'!AK15+'[1]Գ. Հովհաննիսյան'!AK15+'[1]Մ. Մելքոնյան'!AK15+'[1]Լ. Ալավերդյան '!AK15+'[1]Ռ. Պապոյան'!AK15+'[1]Մ. Արղամանյան'!AK15+'[1]Ա. Բեկթաշյան'!AK15+'[1]Ա. Նիկողոսյան'!AK15+'[1]Մ. Հարությունյան'!AK15+'[1]Ռ. Մխիթարյան'!AK15+'[1]Ն. Հովակիմյան'!AK15+'[1]Ռ. Բարսեղյան'!AK15+'[1]Ա. Մնացականյան'!AK15+'[1]Կ. Ամիրյան'!AK15+'[1]Ս. Մարաբյան'!AK15+'[1]Ա. Նահապետյան'!AK15+'[1]Ա. Հովհաննիսյան'!AK15+'[1]Մ. Մակյան'!AK15 -> 20 | AL15: ='[1]Վ. Ռշտունի'!AL15+'[1]Մ. Պապոյան'!AL15+'[1]Լ. Աբգարյան'!AL15+'[1]Կ. Մարդանյան'!AL15+'[1]Ա. Վարդանյան'!AL15+'[1]Ա. Մաթևոսյան'!AL15+'[1]Լ. Հովհաննիսյան'!AL15+[1]Ա.Դանիելյան!AL15+'[1]Ս. Համբարձումյան'!AL15+'[1]Գ. Հովհաննիսյան'!AL15+'[1]Մ. Մելքոնյան'!AL15+'[1]Լ. Ալավերդյան '!AL15+'[1]Ռ. Պապոյան'!AL15+'[1]Մ. Արղամանյան'!AL15+'[1]Ա. Բեկթաշյան'!AL15+'[1]Ա. Նիկողոսյան'!AL15+'[1]Մ. Հարությունյան'!AL15+'[1]Ռ. Մխիթարյան'!AL15+'[1]Ն. Հովակիմյան'!AL15+'[1]Ռ. Բարսեղյան'!AL15+'[1]Ա. Մնացականյան'!AL15+'[1]Կ. Ամիրյան'!AL15+'[1]Ս. Մարաբյան'!AL15+'[1]Ա. Նահապետյան'!AL15+'[1]Ա. Հովհաննիսյան'!AL15+'[1]Մ. Մակյան'!AL15 -> 30 | AM15: ='[1]Վ. Ռշտունի'!AM15+'[1]Մ. Պապոյան'!AM15+'[1]Լ. Աբգարյան'!AM15+'[1]Կ. Մարդանյան'!AM15+'[1]Ա. Վարդանյան'!AM15+'[1]Ա. Մաթևոսյան'!AM15+'[1]Լ. Հովհաննիսյան'!AM15+[1]Ա.Դանիելյան!AM15+'[1]Ս. Համբարձումյան'!AM15+'[1]Գ. Հովհաննիսյան'!AM15+'[1]Մ. Մելքոնյան'!AM15+'[1]Լ. Ալավերդյան '!AM15+'[1]Ռ. Պապոյան'!AM15+'[1]Մ. Արղամանյան'!AM15+'[1]Ա. Բեկթաշյան'!AM15+'[1]Ա. Նիկողոսյան'!AM15+'[1]Մ. Հարությունյան'!AM15+'[1]Ռ. Մխիթարյան'!AM15+'[1]Ն. Հովակիմյան'!AM15+'[1]Ռ. Բարսեղյան'!AM15+'[1]Ա. Մնացականյան'!AM15+'[1]Կ. Ամիրյան'!AM15+'[1]Ս. Մարաբյան'!AM15+'[1]Ա. Նահապետյան'!AM15+'[1]Ա. Հովհաննիսյան'!AM15+'[1]Մ. Մակյան'!AM15 -> 50 | AN15: ='[1]Վ. Ռշտունի'!AN15+'[1]Մ. Պապոյան'!AN15+'[1]Լ. Աբգարյան'!AN15+'[1]Կ. Մարդանյան'!AN15+'[1]Ա. Վարդանյան'!AN15+'[1]Ա. Մաթևոսյան'!AN15+'[1]Լ. Հովհաննիսյան'!AN15+[1]Ա.Դանիելյան!AN15+'[1]Ս. Համբարձումյան'!AN15+'[1]Գ. Հովհաննիսյան'!AN15+'[1]Մ. Մելքոնյան'!AN15+'[1]Լ. Ալավերդյան '!AN15+'[1]Ռ. Պապոյան'!AN15+'[1]Մ. Արղամանյան'!AN15+'[1]Ա. Բեկթաշյան'!AN15+'[1]Ա. Նիկողոսյան'!AN15+'[1]Մ. Հարությունյան'!AN15+'[1]Ռ. Մխիթարյան'!AN15+'[1]Ն. Հովակիմյան'!AN15+'[1]Ռ. Բարսեղյան'!AN15+'[1]Ա. Մնացականյան'!AN15+'[1]Կ. Ամիրյան'!AN15+'[1]Ս. Մարաբյան'!AN15+'[1]Ա. Նահապետյան'!AN15+'[1]Ա. Հովհաննիսյան'!AN15+'[1]Մ. Մակյան'!AN15 -> 57
A16: 6 | B16: ²ñ³ñ³ïÇ ¨ ì³Ûáó ÒáñÇ Ù³ñ½»ñÇ ÁÝ¹Ñ³Ýáõñ Çñ³í³ëáõÃÛ³Ý ³é³çÇÝ ³ïÛ³ÝÇ ¹³ï³ñ³Ý | C16: ='[1]Վ. Ռշտունի'!C16+'[1]Մ. Պապոյան'!C16+'[1]Լ. Աբգարյան'!C16+'[1]Կ. Մարդանյան'!C16+'[1]Ա. Վարդանյան'!C16+'[1]Ա. Մաթևոսյան'!C16+'[1]Լ. Հովհաննիսյան'!C16+[1]Ա.Դանիելյան!C16+'[1]Ս. Համբարձումյան'!C16+'[1]Գ. Հովհաննիսյան'!C16+'[1]Մ. Մելքոնյան'!C16+'[1]Լ. Ալավերդյան '!C16+'[1]Ռ. Պապոյան'!C16+'[1]Մ. Արղամանյան'!C16+'[1]Ա. Բեկթաշյան'!C16+'[1]Ա. Նիկողոսյան'!C16+'[1]Մ. Հարությունյան'!C16+'[1]Ռ. Մխիթարյան'!C16+'[1]Ն. Հովակիմյան'!C16+'[1]Ռ. Բարսեղյան'!C16+'[1]Ա. Մնացականյան'!C16+'[1]Կ. Ամիրյան'!C16+'[1]Ս. Մարաբյան'!C16+'[1]Ա. Նահապետյան'!C16+'[1]Ա. Հովհաննիսյան'!C16+'[1]Մ. Մակյան'!C16 -> 31 | D16: ='[1]Վ. Ռշտունի'!D16+'[1]Մ. Պապոյան'!D16+'[1]Լ. Աբգարյան'!D16+'[1]Կ. Մարդանյան'!D16+'[1]Ա. Վարդանյան'!D16+'[1]Ա. Մաթևոսյան'!D16+'[1]Լ. Հովհաննիսյան'!D16+[1]Ա.Դանիելյան!D16+'[1]Ս. Համբարձումյան'!D16+'[1]Գ. Հովհաննիսյան'!D16+'[1]Մ. Մելքոնյան'!D16+'[1]Լ. Ալավերդյան '!D16+'[1]Ռ. Պապոյան'!D16+'[1]Մ. Արղամանյան'!D16+'[1]Ա. Բեկթաշյան'!D16+'[1]Ա. Նիկողոսյան'!D16+'[1]Մ. Հարությունյան'!D16+'[1]Ռ. Մխիթարյան'!D16+'[1]Ն. Հովակիմյան'!D16+'[1]Ռ. Բարսեղյան'!D16+'[1]Ա. Մնացականյան'!D16+'[1]Կ. Ամիրյան'!D16+'[1]Ս. Մարաբյան'!D16+'[1]Ա. Նահապետյան'!D16+'[1]Ա. Հովհաննիսյան'!D16+'[1]Մ. Մակյան'!D16 -> 31 | E16: ='[1]Վ. Ռշտունի'!E16+'[1]Մ. Պապոյան'!E16+'[1]Լ. Աբգարյան'!E16+'[1]Կ. Մարդանյան'!E16+'[1]Ա. Վարդանյան'!E16+'[1]Ա. Մաթևոսյան'!E16+'[1]Լ. Հովհաննիսյան'!E16+[1]Ա.Դանիելյան!E16+'[1]Ս. Համբարձումյան'!E16+'[1]Գ. Հովհաննիսյան'!E16+'[1]Մ. Մելքոնյան'!E16+'[1]Լ. Ալավերդյան '!E16+'[1]Ռ. Պապոյան'!E16+'[1]Մ. Արղամանյան'!E16+'[1]Ա. Բեկթաշյան'!E16+'[1]Ա. Նիկողոսյան'!E16+'[1]Մ. Հարությունյան'!E16+'[1]Ռ. Մխիթարյան'!E16+'[1]Ն. Հովակիմյան'!E16+'[1]Ռ. Բարսեղյան'!E16+'[1]Ա. Մնացականյան'!E16+'[1]Կ. Ամիրյան'!E16+'[1]Ս. Մարաբյան'!E16+'[1]Ա. Նահապետյան'!E16+'[1]Ա. Հովհաննիսյան'!E16+'[1]Մ. Մակյան'!E16 -> 0 | F16: 146 | G16: ='[1]Վ. Ռշտունի'!G16+'[1]Մ. Պապոյան'!G16+'[1]Լ. Աբգարյան'!G16+'[1]Կ. Մարդանյան'!G16+'[1]Ա. Վարդանյան'!G16+'[1]Ա. Մաթևոսյան'!G16+'[1]Լ. Հովհաննիսյան'!G16+[1]Ա.Դանիելյան!G16+'[1]Ս. Համբարձումյան'!G16+'[1]Գ. Հովհաննիսյան'!G16+'[1]Մ. Մելքոնյան'!G16+'[1]Լ. Ալավերդյան '!G16+'[1]Ռ. Պապոյան'!G16+'[1]Մ. Արղամանյան'!G16+'[1]Ա. Բեկթաշյան'!G16+'[1]Ա. Նիկողոսյան'!G16+'[1]Մ. Հարությունյան'!G16+'[1]Ռ. Մխիթարյան'!G16+'[1]Ն. Հովակիմյան'!G16+'[1]Ռ. Բարսեղյան'!G16+'[1]Ա. Մնացականյան'!G16+'[1]Կ. Ամիրյան'!G16+'[1]Ս. Մարաբյան'!G16+'[1]Ա. Նահապետյան'!G16+'[1]Ա. Հովհաննիսյան'!G16+'[1]Մ. Մակյան'!G16 -> 135 | H16: ='[1]Վ. Ռշտունի'!H16+'[1]Մ. Պապոյան'!H16+'[1]Լ. Աբգարյան'!H16+'[1]Կ. Մարդանյան'!H16+'[1]Ա. Վարդանյան'!H16+'[1]Ա. Մաթևոսյան'!H16+'[1]Լ. Հովհաննիսյան'!H16+[1]Ա.Դանիելյան!H16+'[1]Ս. Համբարձումյան'!H16+'[1]Գ. Հովհաննիսյան'!H16+'[1]Մ. Մելքոնյան'!H16+'[1]Լ. Ալավերդյան '!H16+'[1]Ռ. Պապոյան'!H16+'[1]Մ. Արղամանյան'!H16+'[1]Ա. Բեկթաշյան'!H16+'[1]Ա. Նիկողոսյան'!H16+'[1]Մ. Հարությունյան'!H16+'[1]Ռ. Մխիթարյան'!H16+'[1]Ն. Հովակիմյան'!H16+'[1]Ռ. Բարսեղյան'!H16+'[1]Ա. Մնացականյան'!H16+'[1]Կ. Ամիրյան'!H16+'[1]Ս. Մարաբյան'!H16+'[1]Ա. Նահապետյան'!H16+'[1]Ա. Հովհաննիսյան'!H16+'[1]Մ. Մակյան'!H16 -> 6 | I16: ='[1]Վ. Ռշտունի'!I16+'[1]Մ. Պապոյան'!I16+'[1]Լ. Աբգարյան'!I16+'[1]Կ. Մարդանյան'!I16+'[1]Ա. Վարդանյան'!I16+'[1]Ա. Մաթևոսյան'!I16+'[1]Լ. Հովհաննիսյան'!I16+[1]Ա.Դանիելյան!I16+'[1]Ս. Համբարձումյան'!I16+'[1]Գ. Հովհաննիսյան'!I16+'[1]Մ. Մելքոնյան'!I16+'[1]Լ. Ալավերդյան '!I16+'[1]Ռ. Պապոյան'!I16+'[1]Մ. Արղամանյան'!I16+'[1]Ա. Բեկթաշյան'!I16+'[1]Ա. Նիկողոսյան'!I16+'[1]Մ. Հարությունյան'!I16+'[1]Ռ. Մխիթարյան'!I16+'[1]Ն. Հովակիմյան'!I16+'[1]Ռ. Բարսեղյան'!I16+'[1]Ա. Մնացականյան'!I16+'[1]Կ. Ամիրյան'!I16+'[1]Ս. Մարաբյան'!I16+'[1]Ա. Նահապետյան'!I16+'[1]Ա. Հովհաննիսյան'!I16+'[1]Մ. Մակյան'!I16 -> 0 | J16: ='[1]Վ. Ռշտունի'!J16+'[1]Մ. Պապոյան'!J16+'[1]Լ. Աբգարյան'!J16+'[1]Կ. Մարդանյան'!J16+'[1]Ա. Վարդանյան'!J16+'[1]Ա. Մաթևոսյան'!J16+'[1]Լ. Հովհաննիսյան'!J16+[1]Ա.Դանիելյան!J16+'[1]Ս. Համբարձումյան'!J16+'[1]Գ. Հովհաննիսյան'!J16+'[1]Մ. Մելքոնյան'!J16+'[1]Լ. Ալավերդյան '!J16+'[1]Ռ. Պապոյան'!J16+'[1]Մ. Արղամանյան'!J16+'[1]Ա. Բեկթաշյան'!J16+'[1]Ա. Նիկողոսյան'!J16+'[1]Մ. Հարությունյան'!J16+'[1]Ռ. Մխիթարյան'!J16+'[1]Ն. Հովակիմյան'!J16+'[1]Ռ. Բարսեղյան'!J16+'[1]Ա. Մնացականյան'!J16+'[1]Կ. Ամիրյան'!J16+'[1]Ս. Մարաբյան'!J16+'[1]Ա. Նահապետյան'!J16+'[1]Ա. Հովհաննիսյան'!J16+'[1]Մ. Մակյան'!J16 -> 0 | K16: 5 | L16: ='[1]Վ. Ռշտունի'!L16+'[1]Մ. Պապոյան'!L16+'[1]Լ. Աբգարյան'!L16+'[1]Կ. Մարդանյան'!L16+'[1]Ա. Վարդանյան'!L16+'[1]Ա. Մաթևոսյան'!L16+'[1]Լ. Հովհաննիսյան'!L16+[1]Ա.Դանիելյան!L16+'[1]Ս. Համբարձումյան'!L16+'[1]Գ. Հովհաննիսյան'!L16+'[1]Մ. Մելքոնյան'!L16+'[1]Լ. Ալավերդյան '!L16+'[1]Ռ. Պապոյան'!L16+'[1]Մ. Արղամանյան'!L16+'[1]Ա. Բեկթաշյան'!L16+'[1]Ա. Նիկողոսյան'!L16+'[1]Մ. Հարությունյան'!L16+'[1]Ռ. Մխիթարյան'!L16+'[1]Ն. Հովակիմյան'!L16+'[1]Ռ. Բարսեղյան'!L16+'[1]Ա. Մնացականյան'!L16+'[1]Կ. Ամիրյան'!L16+'[1]Ս. Մարաբյան'!L16+'[1]Ա. Նահապետյան'!L16+'[1]Ա. Հովհաննիսյան'!L16+'[1]Մ. Մակյան'!L16 -> 109 | M16: ='[1]Վ. Ռշտունի'!M16+'[1]Մ. Պապոյան'!M16+'[1]Լ. Աբգարյան'!M16+'[1]Կ. Մարդանյան'!M16+'[1]Ա. Վարդանյան'!M16+'[1]Ա. Մաթևոսյան'!M16+'[1]Լ. Հովհաննիսյան'!M16+[1]Ա.Դանիելյան!M16+'[1]Ս. Համբարձումյան'!M16+'[1]Գ. Հովհաննիսյան'!M16+'[1]Մ. Մելքոնյան'!M16+'[1]Լ. Ալավերդյան '!M16+'[1]Ռ. Պապոյան'!M16+'[1]Մ. Արղամանյան'!M16+'[1]Ա. Բեկթաշյան'!M16+'[1]Ա. Նիկողոսյան'!M16+'[1]Մ. Հարությունյան'!M16+'[1]Ռ. Մխիթարյան'!M16+'[1]Ն. Հովակիմյան'!M16+'[1]Ռ. Բարսեղյան'!M16+'[1]Ա. Մնացականյան'!M16+'[1]Կ. Ամիրյան'!M16+'[1]Ս. Մարաբյան'!M16+'[1]Ա. Նահապետյան'!M16+'[1]Ա. Հովհաննիսյան'!M16+'[1]Մ. Մակյան'!M16 -> 10 | N16: ='[1]Վ. Ռշտունի'!N16+'[1]Մ. Պապոյան'!N16+'[1]Լ. Աբգարյան'!N16+'[1]Կ. Մարդանյան'!N16+'[1]Ա. Վարդանյան'!N16+'[1]Ա. Մաթևոսյան'!N16+'[1]Լ. Հովհաննիսյան'!N16+[1]Ա.Դանիելյան!N16+'[1]Ս. Համբարձումյան'!N16+'[1]Գ. Հովհաննիսյան'!N16+'[1]Մ. Մելքոնյան'!N16+'[1]Լ. Ալավերդյան '!N16+'[1]Ռ. Պապոյան'!N16+'[1]Մ. Արղամանյան'!N16+'[1]Ա. Բեկթաշյան'!N16+'[1]Ա. Նիկողոսյան'!N16+'[1]Մ. Հարությունյան'!N16+'[1]Ռ. Մխիթարյան'!N16+'[1]Ն. Հովակիմյան'!N16+'[1]Ռ. Բարսեղյան'!N16+'[1]Ա. Մնացականյան'!N16+'[1]Կ. Ամիրյան'!N16+'[1]Ս. Մարաբյան'!N16+'[1]Ա. Նահապետյան'!N16+'[1]Ա. Հովհաննիսյան'!N16+'[1]Մ. Մակյան'!N16 -> 0 | O16: ='[1]Վ. Ռշտունի'!O16+'[1]Մ. Պապոյան'!O16+'[1]Լ. Աբգարյան'!O16+'[1]Կ. Մարդանյան'!O16+'[1]Ա. Վարդանյան'!O16+'[1]Ա. Մաթևոսյան'!O16+'[1]Լ. Հովհաննիսյան'!O16+[1]Ա.Դանիելյան!O16+'[1]Ս. Համբարձումյան'!O16+'[1]Գ. Հովհաննիսյան'!O16+'[1]Մ. Մելքոնյան'!O16+'[1]Լ. Ալավերդյան '!O16+'[1]Ռ. Պապոյան'!O16+'[1]Մ. Արղամանյան'!O16+'[1]Ա. Բեկթաշյան'!O16+'[1]Ա. Նիկողոսյան'!O16+'[1]Մ. Հարությունյան'!O16+'[1]Ռ. Մխիթարյան'!O16+'[1]Ն. Հովակիմյան'!O16+'[1]Ռ. Բարսեղյան'!O16+'[1]Ա. Մնացականյան'!O16+'[1]Կ. Ամիրյան'!O16+'[1]Ս. Մարաբյան'!O16+'[1]Ա. Նահապետյան'!O16+'[1]Ա. Հովհաննիսյան'!O16+'[1]Մ. Մակյան'!O16 -> 0 | P16: ='[1]Վ. Ռշտունի'!P16+'[1]Մ. Պապոյան'!P16+'[1]Լ. Աբգարյան'!P16+'[1]Կ. Մարդանյան'!P16+'[1]Ա. Վարդանյան'!P16+'[1]Ա. Մաթևոսյան'!P16+'[1]Լ. Հովհաննիսյան'!P16+[1]Ա.Դանիելյան!P16+'[1]Ս. Համբարձումյան'!P16+'[1]Գ. Հովհաննիսյան'!P16+'[1]Մ. Մելքոնյան'!P16+'[1]Լ. Ալավերդյան '!P16+'[1]Ռ. Պապոյան'!P16+'[1]Մ. Արղամանյան'!P16+'[1]Ա. Բեկթաշյան'!P16+'[1]Ա. Նիկողոսյան'!P16+'[1]Մ. Հարությունյան'!P16+'[1]Ռ. Մխիթարյան'!P16+'[1]Ն. Հովակիմյան'!P16+'[1]Ռ. Բարսեղյան'!P16+'[1]Ա. Մնացականյան'!P16+'[1]Կ. Ամիրյան'!P16+'[1]Ս. Մարաբյան'!P16+'[1]Ա. Նահապետյան'!P16+'[1]Ա. Հովհաննիսյան'!P16+'[1]Մ. Մակյան'!P16 -> 1 | Q16: ='[1]Վ. Ռշտունի'!Q16+'[1]Մ. Պապոյան'!Q16+'[1]Լ. Աբգարյան'!Q16+'[1]Կ. Մարդանյան'!Q16+'[1]Ա. Վարդանյան'!Q16+'[1]Ա. Մաթևոսյան'!Q16+'[1]Լ. Հովհաննիսյան'!Q16+[1]Ա.Դանիելյան!Q16+'[1]Ս. Համբարձումյան'!Q16+'[1]Գ. Հովհաննիսյան'!Q16+'[1]Մ. Մելքոնյան'!Q16+'[1]Լ. Ալավերդյան '!Q16+'[1]Ռ. Պապոյան'!Q16+'[1]Մ. Արղամանյան'!Q16+'[1]Ա. Բեկթաշյան'!Q16+'[1]Ա. Նիկողոսյան'!Q16+'[1]Մ. Հարությունյան'!Q16+'[1]Ռ. Մխիթարյան'!Q16+'[1]Ն. Հովակիմյան'!Q16+'[1]Ռ. Բարսեղյան'!Q16+'[1]Ա. Մնացականյան'!Q16+'[1]Կ. Ամիրյան'!Q16+'[1]Ս. Մարաբյան'!Q16+'[1]Ա. Նահապետյան'!Q16+'[1]Ա. Հովհաննիսյան'!Q16+'[1]Մ. Մակյան'!Q16 -> 0 | R16: ='[1]Վ. Ռշտունի'!R16+'[1]Մ. Պապոյան'!R16+'[1]Լ. Աբգարյան'!R16+'[1]Կ. Մարդանյան'!R16+'[1]Ա. Վարդանյան'!R16+'[1]Ա. Մաթևոսյան'!R16+'[1]Լ. Հովհաննիսյան'!R16+[1]Ա.Դանիելյան!R16+'[1]Ս. Համբարձումյան'!R16+'[1]Գ. Հովհաննիսյան'!R16+'[1]Մ. Մելքոնյան'!R16+'[1]Լ. Ալավերդյան '!R16+'[1]Ռ. Պապոյան'!R16+'[1]Մ. Արղամանյան'!R16+'[1]Ա. Բեկթաշյան'!R16+'[1]Ա. Նիկողոսյան'!R16+'[1]Մ. Հարությունյան'!R16+'[1]Ռ. Մխիթարյան'!R16+'[1]Ն. Հովակիմյան'!R16+'[1]Ռ. Բարսեղյան'!R16+'[1]Ա. Մնացականյան'!R16+'[1]Կ. Ամիրյան'!R16+'[1]Ս. Մարաբյան'!R16+'[1]Ա. Նահապետյան'!R16+'[1]Ա. Հովհաննիսյան'!R16+'[1]Մ. Մակյան'!R16 -> 0 | S16: ='[1]Վ. Ռշտունի'!S16+'[1]Մ. Պապոյան'!S16+'[1]Լ. Աբգարյան'!S16+'[1]Կ. Մարդանյան'!S16+'[1]Ա. Վարդանյան'!S16+'[1]Ա. Մաթևոսյան'!S16+'[1]Լ. Հովհաննիսյան'!S16+[1]Ա.Դանիելյան!S16+'[1]Ս. Համբարձումյան'!S16+'[1]Գ. Հովհաննիսյան'!S16+'[1]Մ. Մելքոնյան'!S16+'[1]Լ. Ալավերդյան '!S16+'[1]Ռ. Պապոյան'!S16+'[1]Մ. Արղամանյան'!S16+'[1]Ա. Բեկթաշյան'!S16+'[1]Ա. Նիկողոսյան'!S16+'[1]Մ. Հարությունյան'!S16+'[1]Ռ. Մխիթարյան'!S16+'[1]Ն. Հովակիմյան'!S16+'[1]Ռ. Բարսեղյան'!S16+'[1]Ա. Մնացականյան'!S16+'[1]Կ. Ամիրյան'!S16+'[1]Ս. Մարաբյան'!S16+'[1]Ա. Նահապետյան'!S16+'[1]Ա. Հովհաննիսյան'!S16+'[1]Մ. Մակյան'!S16 -> 0 | ... AN16: ='[1]Վ. Ռշտունի'!AN16+'[1]Մ. Պապոյան'!AN16+'[1]Լ. Աբգարյան'!AN16+'[1]Կ. Մարդանյան'!AN16+'[1]Ա. Վարդանյան'!AN16+'[1]Ա. Մաթևոսյան'!AN16+'[1]Լ. Հովհաննիսյան'!AN16+[1]Ա.Դանիելյան!AN16+'[1]Ս. Համբարձումյան'!AN16+'[1]Գ. Հովհաննիսյան'!AN16+'[1]Մ. Մելքոնյան'!AN16+'[1]Լ. Ալավերդյան '!AN16+'[1]Ռ. Պապոյան'!AN16+'[1]Մ. Արղամանյան'!AN16+'[1]Ա. Բեկթաշյան'!AN16+'[1]Ա. Նիկողոսյան'!AN16+'[1]Մ. Հարությունյան'!AN16+'[1]Ռ. Մխիթարյան'!AN16+'[1]Ն. Հովակիմյան'!AN16+'[1]Ռ. Բարսեղյան'!AN16+'[1]Ա. Մնացականյան'!AN16+'[1]Կ. Ամիրյան'!AN16+'[1]Ս. Մարաբյան'!AN16+'[1]Ա. Նահապետյան'!AN16+'[1]Ա. Հովհաննիսյան'!AN16+'[1]Մ. Մակյան'!AN16 -> 25
A17: 7 | B17: ¶»Õ³ñùáõÝÇùÇ Ù³ñ½Ç ÁÝ¹Ñ³Ýáõñ Çñ³í³ëáõÃÛ³Ý ³é³çÇÝ ³ïÛ³ÝÇ ¹³ï³ñ³Ý | C17: ='[1]Վ. Ռշտունի'!C17+'[1]Մ. Պապոյան'!C17+'[1]Լ. Աբգարյան'!C17+'[1]Կ. Մարդանյան'!C17+'[1]Ա. Վարդանյան'!C17+'[1]Ա. Մաթևոսյան'!C17+'[1]Լ. Հովհաննիսյան'!C17+[1]Ա.Դանիելյան!C17+'[1]Ս. Համբարձումյան'!C17+'[1]Գ. Հովհաննիսյան'!C17+'[1]Մ. Մելքոնյան'!C17+'[1]Լ. Ալավերդյան '!C17+'[1]Ռ. Պապոյան'!C17+'[1]Մ. Արղամանյան'!C17+'[1]Ա. Բեկթաշյան'!C17+'[1]Ա. Նիկողոսյան'!C17+'[1]Մ. Հարությունյան'!C17+'[1]Ռ. Մխիթարյան'!C17+'[1]Ն. Հովակիմյան'!C17+'[1]Ռ. Բարսեղյան'!C17+'[1]Ա. Մնացականյան'!C17+'[1]Կ. Ամիրյան'!C17+'[1]Ս. Մարաբյան'!C17+'[1]Ա. Նահապետյան'!C17+'[1]Ա. Հովհաննիսյան'!C17+'[1]Մ. Մակյան'!C17 -> 24 | D17: ='[1]Վ. Ռշտունի'!D17+'[1]Մ. Պապոյան'!D17+'[1]Լ. Աբգարյան'!D17+'[1]Կ. Մարդանյան'!D17+'[1]Ա. Վարդանյան'!D17+'[1]Ա. Մաթևոսյան'!D17+'[1]Լ. Հովհաննիսյան'!D17+[1]Ա.Դանիելյան!D17+'[1]Ս. Համբարձումյան'!D17+'[1]Գ. Հովհաննիսյան'!D17+'[1]Մ. Մելքոնյան'!D17+'[1]Լ. Ալավերդյան '!D17+'[1]Ռ. Պապոյան'!D17+'[1]Մ. Արղամանյան'!D17+'[1]Ա. Բեկթաշյան'!D17+'[1]Ա. Նիկողոսյան'!D17+'[1]Մ. Հարությունյան'!D17+'[1]Ռ. Մխիթարյան'!D17+'[1]Ն. Հովակիմյան'!D17+'[1]Ռ. Բարսեղյան'!D17+'[1]Ա. Մնացականյան'!D17+'[1]Կ. Ամիրյան'!D17+'[1]Ս. Մարաբյան'!D17+'[1]Ա. Նահապետյան'!D17+'[1]Ա. Հովհաննիսյան'!D17+'[1]Մ. Մակյան'!D17 -> 23 | E17: ='[1]Վ. Ռշտունի'!E17+'[1]Մ. Պապոյան'!E17+'[1]Լ. Աբգարյան'!E17+'[1]Կ. Մարդանյան'!E17+'[1]Ա. Վարդանյան'!E17+'[1]Ա. Մաթևոսյան'!E17+'[1]Լ. Հովհաննիսյան'!E17+[1]Ա.Դանիելյան!E17+'[1]Ս. Համբարձումյան'!E17+'[1]Գ. Հովհաննիսյան'!E17+'[1]Մ. Մելքոնյան'!E17+'[1]Լ. Ալավերդյան '!E17+'[1]Ռ. Պապոյան'!E17+'[1]Մ. Արղամանյան'!E17+'[1]Ա. Բեկթաշյան'!E17+'[1]Ա. Նիկողոսյան'!E17+'[1]Մ. Հարությունյան'!E17+'[1]Ռ. Մխիթարյան'!E17+'[1]Ն. Հովակիմյան'!E17+'[1]Ռ. Բարսեղյան'!E17+'[1]Ա. Մնացականյան'!E17+'[1]Կ. Ամիրյան'!E17+'[1]Ս. Մարաբյան'!E17+'[1]Ա. Նահապետյան'!E17+'[1]Ա. Հովհաննիսյան'!E17+'[1]Մ. Մակյան'!E17 -> 1 | F17: 107 | G17: ='[1]Վ. Ռշտունի'!G17+'[1]Մ. Պապոյան'!G17+'[1]Լ. Աբգարյան'!G17+'[1]Կ. Մարդանյան'!G17+'[1]Ա. Վարդանյան'!G17+'[1]Ա. Մաթևոսյան'!G17+'[1]Լ. Հովհաննիսյան'!G17+[1]Ա.Դանիելյան!G17+'[1]Ս. Համբարձումյան'!G17+'[1]Գ. Հովհաննիսյան'!G17+'[1]Մ. Մելքոնյան'!G17+'[1]Լ. Ալավերդյան '!G17+'[1]Ռ. Պապոյան'!G17+'[1]Մ. Արղամանյան'!G17+'[1]Ա. Բեկթաշյան'!G17+'[1]Ա. Նիկողոսյան'!G17+'[1]Մ. Հարությունյան'!G17+'[1]Ռ. Մխիթարյան'!G17+'[1]Ն. Հովակիմյան'!G17+'[1]Ռ. Բարսեղյան'!G17+'[1]Ա. Մնացականյան'!G17+'[1]Կ. Ամիրյան'!G17+'[1]Ս. Մարաբյան'!G17+'[1]Ա. Նահապետյան'!G17+'[1]Ա. Հովհաննիսյան'!G17+'[1]Մ. Մակյան'!G17 -> 101 | H17: ='[1]Վ. Ռշտունի'!H17+'[1]Մ. Պապոյան'!H17+'[1]Լ. Աբգարյան'!H17+'[1]Կ. Մարդանյան'!H17+'[1]Ա. Վարդանյան'!H17+'[1]Ա. Մաթևոսյան'!H17+'[1]Լ. Հովհաննիսյան'!H17+[1]Ա.Դանիելյան!H17+'[1]Ս. Համբարձումյան'!H17+'[1]Գ. Հովհաննիսյան'!H17+'[1]Մ. Մելքոնյան'!H17+'[1]Լ. Ալավերդյան '!H17+'[1]Ռ. Պապոյան'!H17+'[1]Մ. Արղամանյան'!H17+'[1]Ա. Բեկթաշյան'!H17+'[1]Ա. Նիկողոսյան'!H17+'[1]Մ. Հարությունյան'!H17+'[1]Ռ. Մխիթարյան'!H17+'[1]Ն. Հովակիմյան'!H17+'[1]Ռ. Բարսեղյան'!H17+'[1]Ա. Մնացականյան'!H17+'[1]Կ. Ամիրյան'!H17+'[1]Ս. Մարաբյան'!H17+'[1]Ա. Նահապետյան'!H17+'[1]Ա. Հովհաննիսյան'!H17+'[1]Մ. Մակյան'!H17 -> 2 | I17: ='[1]Վ. Ռշտունի'!I17+'[1]Մ. Պապոյան'!I17+'[1]Լ. Աբգարյան'!I17+'[1]Կ. Մարդանյան'!I17+'[1]Ա. Վարդանյան'!I17+'[1]Ա. Մաթևոսյան'!I17+'[1]Լ. Հովհաննիսյան'!I17+[1]Ա.Դանիելյան!I17+'[1]Ս. Համբարձումյան'!I17+'[1]Գ. Հովհաննիսյան'!I17+'[1]Մ. Մելքոնյան'!I17+'[1]Լ. Ալավերդյան '!I17+'[1]Ռ. Պապոյան'!I17+'[1]Մ. Արղամանյան'!I17+'[1]Ա. Բեկթաշյան'!I17+'[1]Ա. Նիկողոսյան'!I17+'[1]Մ. Հարությունյան'!I17+'[1]Ռ. Մխիթարյան'!I17+'[1]Ն. Հովակիմյան'!I17+'[1]Ռ. Բարսեղյան'!I17+'[1]Ա. Մնացականյան'!I17+'[1]Կ. Ամիրյան'!I17+'[1]Ս. Մարաբյան'!I17+'[1]Ա. Նահապետյան'!I17+'[1]Ա. Հովհաննիսյան'!I17+'[1]Մ. Մակյան'!I17 -> 0 | J17: ='[1]Վ. Ռշտունի'!J17+'[1]Մ. Պապոյան'!J17+'[1]Լ. Աբգարյան'!J17+'[1]Կ. Մարդանյան'!J17+'[1]Ա. Վարդանյան'!J17+'[1]Ա. Մաթևոսյան'!J17+'[1]Լ. Հովհաննիսյան'!J17+[1]Ա.Դանիելյան!J17+'[1]Ս. Համբարձումյան'!J17+'[1]Գ. Հովհաննիսյան'!J17+'[1]Մ. Մելքոնյան'!J17+'[1]Լ. Ալավերդյան '!J17+'[1]Ռ. Պապոյան'!J17+'[1]Մ. Արղամանյան'!J17+'[1]Ա. Բեկթաշյան'!J17+'[1]Ա. Նիկողոսյան'!J17+'[1]Մ. Հարությունյան'!J17+'[1]Ռ. Մխիթարյան'!J17+'[1]Ն. Հովակիմյան'!J17+'[1]Ռ. Բարսեղյան'!J17+'[1]Ա. Մնացականյան'!J17+'[1]Կ. Ամիրյան'!J17+'[1]Ս. Մարաբյան'!J17+'[1]Ա. Նահապետյան'!J17+'[1]Ա. Հովհաննիսյան'!J17+'[1]Մ. Մակյան'!J17 -> 0 | K17: 4 | L17: ='[1]Վ. Ռշտունի'!L17+'[1]Մ. Պապոյան'!L17+'[1]Լ. Աբգարյան'!L17+'[1]Կ. Մարդանյան'!L17+'[1]Ա. Վարդանյան'!L17+'[1]Ա. Մաթևոսյան'!L17+'[1]Լ. Հովհաննիսյան'!L17+[1]Ա.Դանիելյան!L17+'[1]Ս. Համբարձումյան'!L17+'[1]Գ. Հովհաննիսյան'!L17+'[1]Մ. Մելքոնյան'!L17+'[1]Լ. Ալավերդյան '!L17+'[1]Ռ. Պապոյան'!L17+'[1]Մ. Արղամանյան'!L17+'[1]Ա. Բեկթաշյան'!L17+'[1]Ա. Նիկողոսյան'!L17+'[1]Մ. Հարությունյան'!L17+'[1]Ռ. Մխիթարյան'!L17+'[1]Ն. Հովակիմյան'!L17+'[1]Ռ. Բարսեղյան'!L17+'[1]Ա. Մնացականյան'!L17+'[1]Կ. Ամիրյան'!L17+'[1]Ս. Մարաբյան'!L17+'[1]Ա. Նահապետյան'!L17+'[1]Ա. Հովհաննիսյան'!L17+'[1]Մ. Մակյան'!L17 -> 98 | M17: ='[1]Վ. Ռշտունի'!M17+'[1]Մ. Պապոյան'!M17+'[1]Լ. Աբգարյան'!M17+'[1]Կ. Մարդանյան'!M17+'[1]Ա. Վարդանյան'!M17+'[1]Ա. Մաթևոսյան'!M17+'[1]Լ. Հովհաննիսյան'!M17+[1]Ա.Դանիելյան!M17+'[1]Ս. Համբարձումյան'!M17+'[1]Գ. Հովհաննիսյան'!M17+'[1]Մ. Մելքոնյան'!M17+'[1]Լ. Ալավերդյան '!M17+'[1]Ռ. Պապոյան'!M17+'[1]Մ. Արղամանյան'!M17+'[1]Ա. Բեկթաշյան'!M17+'[1]Ա. Նիկողոսյան'!M17+'[1]Մ. Հարությունյան'!M17+'[1]Ռ. Մխիթարյան'!M17+'[1]Ն. Հովակիմյան'!M17+'[1]Ռ. Բարսեղյան'!M17+'[1]Ա. Մնացականյան'!M17+'[1]Կ. Ամիրյան'!M17+'[1]Ս. Մարաբյան'!M17+'[1]Ա. Նահապետյան'!M17+'[1]Ա. Հովհաննիսյան'!M17+'[1]Մ. Մակյան'!M17 -> 13 | N17: ='[1]Վ. Ռշտունի'!N17+'[1]Մ. Պապոյան'!N17+'[1]Լ. Աբգարյան'!N17+'[1]Կ. Մարդանյան'!N17+'[1]Ա. Վարդանյան'!N17+'[1]Ա. Մաթևոսյան'!N17+'[1]Լ. Հովհաննիսյան'!N17+[1]Ա.Դանիելյան!N17+'[1]Ս. Համբարձումյան'!N17+'[1]Գ. Հովհաննիսյան'!N17+'[1]Մ. Մելքոնյան'!N17+'[1]Լ. Ալավերդյան '!N17+'[1]Ռ. Պապոյան'!N17+'[1]Մ. Արղամանյան'!N17+'[1]Ա. Բեկթաշյան'!N17+'[1]Ա. Նիկողոսյան'!N17+'[1]Մ. Հարությունյան'!N17+'[1]Ռ. Մխիթարյան'!N17+'[1]Ն. Հովակիմյան'!N17+'[1]Ռ. Բարսեղյան'!N17+'[1]Ա. Մնացականյան'!N17+'[1]Կ. Ամիրյան'!N17+'[1]Ս. Մարաբյան'!N17+'[1]Ա. Նահապետյան'!N17+'[1]Ա. Հովհաննիսյան'!N17+'[1]Մ. Մակյան'!N17 -> 0 | O17: ='[1]Վ. Ռշտունի'!O17+'[1]Մ. Պապոյան'!O17+'[1]Լ. Աբգարյան'!O17+'[1]Կ. Մարդանյան'!O17+'[1]Ա. Վարդանյան'!O17+'[1]Ա. Մաթևոսյան'!O17+'[1]Լ. Հովհաննիսյան'!O17+[1]Ա.Դանիելյան!O17+'[1]Ս. Համբարձումյան'!O17+'[1]Գ. Հովհաննիսյան'!O17+'[1]Մ. Մելքոնյան'!O17+'[1]Լ. Ալավերդյան '!O17+'[1]Ռ. Պապոյան'!O17+'[1]Մ. Արղամանյան'!O17+'[1]Ա. Բեկթաշյան'!O17+'[1]Ա. Նիկողոսյան'!O17+'[1]Մ. Հարությունյան'!O17+'[1]Ռ. Մխիթարյան'!O17+'[1]Ն. Հովակիմյան'!O17+'[1]Ռ. Բարսեղյան'!O17+'[1]Ա. Մնացականյան'!O17+'[1]Կ. Ամիրյան'!O17+'[1]Ս. Մարաբյան'!O17+'[1]Ա. Նահապետյան'!O17+'[1]Ա. Հովհաննիսյան'!O17+'[1]Մ. Մակյան'!O17 -> 0 | P17: ='[1]Վ. Ռշտունի'!P17+'[1]Մ. Պապոյան'!P17+'[1]Լ. Աբգարյան'!P17+'[1]Կ. Մարդանյան'!P17+'[1]Ա. Վարդանյան'!P17+'[1]Ա. Մաթևոսյան'!P17+'[1]Լ. Հովհաննիսյան'!P17+[1]Ա.Դանիելյան!P17+'[1]Ս. Համբարձումյան'!P17+'[1]Գ. Հովհաննիսյան'!P17+'[1]Մ. Մելքոնյան'!P17+'[1]Լ. Ալավերդյան '!P17+'[1]Ռ. Պապոյան'!P17+'[1]Մ. Արղամանյան'!P17+'[1]Ա. Բեկթաշյան'!P17+'[1]Ա. Նիկողոսյան'!P17+'[1]Մ. Հարությունյան'!P17+'[1]Ռ. Մխիթարյան'!P17+'[1]Ն. Հովակիմյան'!P17+'[1]Ռ. Բարսեղյան'!P17+'[1]Ա. Մնացականյան'!P17+'[1]Կ. Ամիրյան'!P17+'[1]Ս. Մարաբյան'!P17+'[1]Ա. Նահապետյան'!P17+'[1]Ա. Հովհաննիսյան'!P17+'[1]Մ. Մակյան'!P17 -> 0 | Q17: ='[1]Վ. Ռշտունի'!Q17+'[1]Մ. Պապոյան'!Q17+'[1]Լ. Աբգարյան'!Q17+'[1]Կ. Մարդանյան'!Q17+'[1]Ա. Վարդանյան'!Q17+'[1]Ա. Մաթևոսյան'!Q17+'[1]Լ. Հովհաննիսյան'!Q17+[1]Ա.Դանիելյան!Q17+'[1]Ս. Համբարձումյան'!Q17+'[1]Գ. Հովհաննիսյան'!Q17+'[1]Մ. Մելքոնյան'!Q17+'[1]Լ. Ալավերդյան '!Q17+'[1]Ռ. Պապոյան'!Q17+'[1]Մ. Արղամանյան'!Q17+'[1]Ա. Բեկթաշյան'!Q17+'[1]Ա. Նիկողոսյան'!Q17+'[1]Մ. Հարությունյան'!Q17+'[1]Ռ. Մխիթարյան'!Q17+'[1]Ն. Հովակիմյան'!Q17+'[1]Ռ. Բարսեղյան'!Q17+'[1]Ա. Մնացականյան'!Q17+'[1]Կ. Ամիրյան'!Q17+'[1]Ս. Մարաբյան'!Q17+'[1]Ա. Նահապետյան'!Q17+'[1]Ա. Հովհաննիսյան'!Q17+'[1]Մ. Մակյան'!Q17 -> 0 | R17: ='[1]Վ. Ռշտունի'!R17+'[1]Մ. Պապոյան'!R17+'[1]Լ. Աբգարյան'!R17+'[1]Կ. Մարդանյան'!R17+'[1]Ա. Վարդանյան'!R17+'[1]Ա. Մաթևոսյան'!R17+'[1]Լ. Հովհաննիսյան'!R17+[1]Ա.Դանիելյան!R17+'[1]Ս. Համբարձումյան'!R17+'[1]Գ. Հովհաննիսյան'!R17+'[1]Մ. Մելքոնյան'!R17+'[1]Լ. Ալավերդյան '!R17+'[1]Ռ. Պապոյան'!R17+'[1]Մ. Արղամանյան'!R17+'[1]Ա. Բեկթաշյան'!R17+'[1]Ա. Նիկողոսյան'!R17+'[1]Մ. Հարությունյան'!R17+'[1]Ռ. Մխիթարյան'!R17+'[1]Ն. Հովակիմյան'!R17+'[1]Ռ. Բարսեղյան'!R17+'[1]Ա. Մնացականյան'!R17+'[1]Կ. Ամիրյան'!R17+'[1]Ս. Մարաբյան'!R17+'[1]Ա. Նահապետյան'!R17+'[1]Ա. Հովհաննիսյան'!R17+'[1]Մ. Մակյան'!R17 -> 0 | S17: ='[1]Վ. Ռշտունի'!S17+'[1]Մ. Պապոյան'!S17+'[1]Լ. Աբգարյան'!S17+'[1]Կ. Մարդանյան'!S17+'[1]Ա. Վարդանյան'!S17+'[1]Ա. Մաթևոսյան'!S17+'[1]Լ. Հովհաննիսյան'!S17+[1]Ա.Դանիելյան!S17+'[1]Ս. Համբարձումյան'!S17+'[1]Գ. Հովհաննիսյան'!S17+'[1]Մ. Մելքոնյան'!S17+'[1]Լ. Ալավերդյան '!S17+'[1]Ռ. Պապոյան'!S17+'[1]Մ. Արղամանյան'!S17+'[1]Ա. Բեկթաշյան'!S17+'[1]Ա. Նիկողոսյան'!S17+'[1]Մ. Հարությունյան'!S17+'[1]Ռ. Մխիթարյան'!S17+'[1]Ն. Հովակիմյան'!S17+'[1]Ռ. Բարսեղյան'!S17+'[1]Ա. Մնացականյան'!S17+'[1]Կ. Ամիրյան'!S17+'[1]Ս. Մարաբյան'!S17+'[1]Ա. Նահապետյան'!S17+'[1]Ա. Հովհաննիսյան'!S17+'[1]Մ. Մակյան'!S17 -> 0 | ... AG17: ='[1]Վ. Ռշտունի'!AG17+'[1]Մ. Պապոյան'!AG17+'[1]Լ. Աբգարյան'!AG17+'[1]Կ. Մարդանյան'!AG17+'[1]Ա. Վարդանյան'!AG17+'[1]Ա. Մաթևոսյան'!AG17+'[1]Լ. Հովհաննիսյան'!AG17+[1]Ա.Դանիելյան!AG17+'[1]Ս. Համբարձումյան'!AG17+'[1]Գ. Հովհաննիսյան'!AG17+'[1]Մ. Մելքոնյան'!AG17+'[1]Լ. Ալավերդյան '!AG17+'[1]Ռ. Պապոյան'!AG17+'[1]Մ. Արղամանյան'!AG17+'[1]Ա. Բեկթաշյան'!AG17+'[1]Ա. Նիկողոսյան'!AG17+'[1]Մ. Հարությունյան'!AG17+'[1]Ռ. Մխիթարյան'!AG17+'[1]Ն. Հովակիմյան'!AG17+'[1]Ռ. Բարսեղյան'!AG17+'[1]Ա. Մնացականյան'!AG17+'[1]Կ. Ամիրյան'!AG17+'[1]Ս. Մարաբյան'!AG17+'[1]Ա. Նահապետյան'!AG17+'[1]Ա. Հովհաննիսյան'!AG17+'[1]Մ. Մակյան'!AG17 -> 0 | AH17: 22 | AI17: 76 | AJ17: 98 | AK17: ='[1]Վ. Ռշտունի'!AK17+'[1]Մ. Պապոյան'!AK17+'[1]Լ. Աբգարյան'!AK17+'[1]Կ. Մարդանյան'!AK17+'[1]Ա. Վարդանյան'!AK17+'[1]Ա. Մաթևոսյան'!AK17+'[1]Լ. Հովհաննիսյան'!AK17+[1]Ա.Դանիելյան!AK17+'[1]Ս. Համբարձումյան'!AK17+'[1]Գ. Հովհաննիսյան'!AK17+'[1]Մ. Մելքոնյան'!AK17+'[1]Լ. Ալավերդյան '!AK17+'[1]Ռ. Պապոյան'!AK17+'[1]Մ. Արղամանյան'!AK17+'[1]Ա. Բեկթաշյան'!AK17+'[1]Ա. Նիկողոսյան'!AK17+'[1]Մ. Հարությունյան'!AK17+'[1]Ռ. Մխիթարյան'!AK17+'[1]Ն. Հովակիմյան'!AK17+'[1]Ռ. Բարսեղյան'!AK17+'[1]Ա. Մնացականյան'!AK17+'[1]Կ. Ամիրյան'!AK17+'[1]Ս. Մարաբյան'!AK17+'[1]Ա. Նահապետյան'!AK17+'[1]Ա. Հովհաննիսյան'!AK17+'[1]Մ. Մակյան'!AK17 -> 2 | AL17: ='[1]Վ. Ռշտունի'!AL17+'[1]Մ. Պապոյան'!AL17+'[1]Լ. Աբգարյան'!AL17+'[1]Կ. Մարդանյան'!AL17+'[1]Ա. Վարդանյան'!AL17+'[1]Ա. Մաթևոսյան'!AL17+'[1]Լ. Հովհաննիսյան'!AL17+[1]Ա.Դանիելյան!AL17+'[1]Ս. Համբարձումյան'!AL17+'[1]Գ. Հովհաննիսյան'!AL17+'[1]Մ. Մելքոնյան'!AL17+'[1]Լ. Ալավերդյան '!AL17+'[1]Ռ. Պապոյան'!AL17+'[1]Մ. Արղամանյան'!AL17+'[1]Ա. Բեկթաշյան'!AL17+'[1]Ա. Նիկողոսյան'!AL17+'[1]Մ. Հարությունյան'!AL17+'[1]Ռ. Մխիթարյան'!AL17+'[1]Ն. Հովակիմյան'!AL17+'[1]Ռ. Բարսեղյան'!AL17+'[1]Ա. Մնացականյան'!AL17+'[1]Կ. Ամիրյան'!AL17+'[1]Ս. Մարաբյան'!AL17+'[1]Ա. Նահապետյան'!AL17+'[1]Ա. Հովհաննիսյան'!AL17+'[1]Մ. Մակյան'!AL17 -> 10 | AM17: ='[1]Վ. Ռշտունի'!AM17+'[1]Մ. Պապոյան'!AM17+'[1]Լ. Աբգարյան'!AM17+'[1]Կ. Մարդանյան'!AM17+'[1]Ա. Վարդանյան'!AM17+'[1]Ա. Մաթևոսյան'!AM17+'[1]Լ. Հովհաննիսյան'!AM17+[1]Ա.Դանիելյան!AM17+'[1]Ս. Համբարձումյան'!AM17+'[1]Գ. Հովհաննիսյան'!AM17+'[1]Մ. Մելքոնյան'!AM17+'[1]Լ. Ալավերդյան '!AM17+'[1]Ռ. Պապոյան'!AM17+'[1]Մ. Արղամանյան'!AM17+'[1]Ա. Բեկթաշյան'!AM17+'[1]Ա. Նիկողոսյան'!AM17+'[1]Մ. Հարությունյան'!AM17+'[1]Ռ. Մխիթարյան'!AM17+'[1]Ն. Հովակիմյան'!AM17+'[1]Ռ. Բարսեղյան'!AM17+'[1]Ա. Մնացականյան'!AM17+'[1]Կ. Ամիրյան'!AM17+'[1]Ս. Մարաբյան'!AM17+'[1]Ա. Նահապետյան'!AM17+'[1]Ա. Հովհաննիսյան'!AM17+'[1]Մ. Մակյան'!AM17 -> 12 | AN17: ='[1]Վ. Ռշտունի'!AN17+'[1]Մ. Պապոյան'!AN17+'[1]Լ. Աբգարյան'!AN17+'[1]Կ. Մարդանյան'!AN17+'[1]Ա. Վարդանյան'!AN17+'[1]Ա. Մաթևոսյան'!AN17+'[1]Լ. Հովհաննիսյան'!AN17+[1]Ա.Դանիելյան!AN17+'[1]Ս. Համբարձումյան'!AN17+'[1]Գ. Հովհաննիսյան'!AN17+'[1]Մ. Մելքոնյան'!AN17+'[1]Լ. Ալավերդյան '!AN17+'[1]Ռ. Պապոյան'!AN17+'[1]Մ. Արղամանյան'!AN17+'[1]Ա. Բեկթաշյան'!AN17+'[1]Ա. Նիկողոսյան'!AN17+'[1]Մ. Հարությունյան'!AN17+'[1]Ռ. Մխիթարյան'!AN17+'[1]Ն. Հովակիմյան'!AN17+'[1]Ռ. Բարսեղյան'!AN17+'[1]Ա. Մնացականյան'!AN17+'[1]Կ. Ամիրյան'!AN17+'[1]Ս. Մարաբյան'!AN17+'[1]Ա. Նահապետյան'!AN17+'[1]Ա. Հովհաննիսյան'!AN17+'[1]Մ. Մակյան'!AN17 -> 24
A18: 8 | B18: ²ñ³·³ÍáïÝÇ Ù³ñ½Ç ÁÝ¹Ñ³Ýáõñ Çñ³í³ëáõÃÛ³Ý ³é³çÇÝ ³ïÛ³ÝÇ ¹³ï³ñ³Ý | C18: ='[1]Վ. Ռշտունի'!C18+'[1]Մ. Պապոյան'!C18+'[1]Լ. Աբգարյան'!C18+'[1]Կ. Մարդանյան'!C18+'[1]Ա. Վարդանյան'!C18+'[1]Ա. Մաթևոսյան'!C18+'[1]Լ. Հովհաննիսյան'!C18+[1]Ա.Դանիելյան!C18+'[1]Ս. Համբարձումյան'!C18+'[1]Գ. Հովհաննիսյան'!C18+'[1]Մ. Մելքոնյան'!C18+'[1]Լ. Ալավերդյան '!C18+'[1]Ռ. Պապոյան'!C18+'[1]Մ. Արղամանյան'!C18+'[1]Ա. Բեկթաշյան'!C18+'[1]Ա. Նիկողոսյան'!C18+'[1]Մ. Հարությունյան'!C18+'[1]Ռ. Մխիթարյան'!C18+'[1]Ն. Հովակիմյան'!C18+'[1]Ռ. Բարսեղյան'!C18+'[1]Ա. Մնացականյան'!C18+'[1]Կ. Ամիրյան'!C18+'[1]Ս. Մարաբյան'!C18+'[1]Ա. Նահապետյան'!C18+'[1]Ա. Հովհաննիսյան'!C18+'[1]Մ. Մակյան'!C18 -> 16 | D18: ='[1]Վ. Ռշտունի'!D18+'[1]Մ. Պապոյան'!D18+'[1]Լ. Աբգարյան'!D18+'[1]Կ. Մարդանյան'!D18+'[1]Ա. Վարդանյան'!D18+'[1]Ա. Մաթևոսյան'!D18+'[1]Լ. Հովհաննիսյան'!D18+[1]Ա.Դանիելյան!D18+'[1]Ս. Համբարձումյան'!D18+'[1]Գ. Հովհաննիսյան'!D18+'[1]Մ. Մելքոնյան'!D18+'[1]Լ. Ալավերդյան '!D18+'[1]Ռ. Պապոյան'!D18+'[1]Մ. Արղամանյան'!D18+'[1]Ա. Բեկթաշյան'!D18+'[1]Ա. Նիկողոսյան'!D18+'[1]Մ. Հարությունյան'!D18+'[1]Ռ. Մխիթարյան'!D18+'[1]Ն. Հովակիմյան'!D18+'[1]Ռ. Բարսեղյան'!D18+'[1]Ա. Մնացականյան'!D18+'[1]Կ. Ամիրյան'!D18+'[1]Ս. Մարաբյան'!D18+'[1]Ա. Նահապետյան'!D18+'[1]Ա. Հովհաննիսյան'!D18+'[1]Մ. Մակյան'!D18 -> 15 | E18: ='[1]Վ. Ռշտունի'!E18+'[1]Մ. Պապոյան'!E18+'[1]Լ. Աբգարյան'!E18+'[1]Կ. Մարդանյան'!E18+'[1]Ա. Վարդանյան'!E18+'[1]Ա. Մաթևոսյան'!E18+'[1]Լ. Հովհաննիսյան'!E18+[1]Ա.Դանիելյան!E18+'[1]Ս. Համբարձումյան'!E18+'[1]Գ. Հովհաննիսյան'!E18+'[1]Մ. Մելքոնյան'!E18+'[1]Լ. Ալավերդյան '!E18+'[1]Ռ. Պապոյան'!E18+'[1]Մ. Արղամանյան'!E18+'[1]Ա. Բեկթաշյան'!E18+'[1]Ա. Նիկողոսյան'!E18+'[1]Մ. Հարությունյան'!E18+'[1]Ռ. Մխիթարյան'!E18+'[1]Ն. Հովակիմյան'!E18+'[1]Ռ. Բարսեղյան'!E18+'[1]Ա. Մնացականյան'!E18+'[1]Կ. Ամիրյան'!E18+'[1]Ս. Մարաբյան'!E18+'[1]Ա. Նահապետյան'!E18+'[1]Ա. Հովհաննիսյան'!E18+'[1]Մ. Մակյան'!E18 -> 1 | F18: 93 | G18: ='[1]Վ. Ռշտունի'!G18+'[1]Մ. Պապոյան'!G18+'[1]Լ. Աբգարյան'!G18+'[1]Կ. Մարդանյան'!G18+'[1]Ա. Վարդանյան'!G18+'[1]Ա. Մաթևոսյան'!G18+'[1]Լ. Հովհաննիսյան'!G18+[1]Ա.Դանիելյան!G18+'[1]Ս. Համբարձումյան'!G18+'[1]Գ. Հովհաննիսյան'!G18+'[1]Մ. Մելքոնյան'!G18+'[1]Լ. Ալավերդյան '!G18+'[1]Ռ. Պապոյան'!G18+'[1]Մ. Արղամանյան'!G18+'[1]Ա. Բեկթաշյան'!G18+'[1]Ա. Նիկողոսյան'!G18+'[1]Մ. Հարությունյան'!G18+'[1]Ռ. Մխիթարյան'!G18+'[1]Ն. Հովակիմյան'!G18+'[1]Ռ. Բարսեղյան'!G18+'[1]Ա. Մնացականյան'!G18+'[1]Կ. Ամիրյան'!G18+'[1]Ս. Մարաբյան'!G18+'[1]Ա. Նահապետյան'!G18+'[1]Ա. Հովհաննիսյան'!G18+'[1]Մ. Մակյան'!G18 -> 88 | H18: ='[1]Վ. Ռշտունի'!H18+'[1]Մ. Պապոյան'!H18+'[1]Լ. Աբգարյան'!H18+'[1]Կ. Մարդանյան'!H18+'[1]Ա. Վարդանյան'!H18+'[1]Ա. Մաթևոսյան'!H18+'[1]Լ. Հովհաննիսյան'!H18+[1]Ա.Դանիելյան!H18+'[1]Ս. Համբարձումյան'!H18+'[1]Գ. Հովհաննիսյան'!H18+'[1]Մ. Մելքոնյան'!H18+'[1]Լ. Ալավերդյան '!H18+'[1]Ռ. Պապոյան'!H18+'[1]Մ. Արղամանյան'!H18+'[1]Ա. Բեկթաշյան'!H18+'[1]Ա. Նիկողոսյան'!H18+'[1]Մ. Հարությունյան'!H18+'[1]Ռ. Մխիթարյան'!H18+'[1]Ն. Հովակիմյան'!H18+'[1]Ռ. Բարսեղյան'!H18+'[1]Ա. Մնացականյան'!H18+'[1]Կ. Ամիրյան'!H18+'[1]Ս. Մարաբյան'!H18+'[1]Ա. Նահապետյան'!H18+'[1]Ա. Հովհաննիսյան'!H18+'[1]Մ. Մակյան'!H18 -> 0 | I18: ='[1]Վ. Ռշտունի'!I18+'[1]Մ. Պապոյան'!I18+'[1]Լ. Աբգարյան'!I18+'[1]Կ. Մարդանյան'!I18+'[1]Ա. Վարդանյան'!I18+'[1]Ա. Մաթևոսյան'!I18+'[1]Լ. Հովհաննիսյան'!I18+[1]Ա.Դանիելյան!I18+'[1]Ս. Համբարձումյան'!I18+'[1]Գ. Հովհաննիսյան'!I18+'[1]Մ. Մելքոնյան'!I18+'[1]Լ. Ալավերդյան '!I18+'[1]Ռ. Պապոյան'!I18+'[1]Մ. Արղամանյան'!I18+'[1]Ա. Բեկթաշյան'!I18+'[1]Ա. Նիկողոսյան'!I18+'[1]Մ. Հարությունյան'!I18+'[1]Ռ. Մխիթարյան'!I18+'[1]Ն. Հովակիմյան'!I18+'[1]Ռ. Բարսեղյան'!I18+'[1]Ա. Մնացականյան'!I18+'[1]Կ. Ամիրյան'!I18+'[1]Ս. Մարաբյան'!I18+'[1]Ա. Նահապետյան'!I18+'[1]Ա. Հովհաննիսյան'!I18+'[1]Մ. Մակյան'!I18 -> 0 | J18: ='[1]Վ. Ռշտունի'!J18+'[1]Մ. Պապոյան'!J18+'[1]Լ. Աբգարյան'!J18+'[1]Կ. Մարդանյան'!J18+'[1]Ա. Վարդանյան'!J18+'[1]Ա. Մաթևոսյան'!J18+'[1]Լ. Հովհաննիսյան'!J18+[1]Ա.Դանիելյան!J18+'[1]Ս. Համբարձումյան'!J18+'[1]Գ. Հովհաննիսյան'!J18+'[1]Մ. Մելքոնյան'!J18+'[1]Լ. Ալավերդյան '!J18+'[1]Ռ. Պապոյան'!J18+'[1]Մ. Արղամանյան'!J18+'[1]Ա. Բեկթաշյան'!J18+'[1]Ա. Նիկողոսյան'!J18+'[1]Մ. Հարությունյան'!J18+'[1]Ռ. Մխիթարյան'!J18+'[1]Ն. Հովակիմյան'!J18+'[1]Ռ. Բարսեղյան'!J18+'[1]Ա. Մնացականյան'!J18+'[1]Կ. Ամիրյան'!J18+'[1]Ս. Մարաբյան'!J18+'[1]Ա. Նահապետյան'!J18+'[1]Ա. Հովհաննիսյան'!J18+'[1]Մ. Մակյան'!J18 -> 0 | K18: 5 | L18: ='[1]Վ. Ռշտունի'!L18+'[1]Մ. Պապոյան'!L18+'[1]Լ. Աբգարյան'!L18+'[1]Կ. Մարդանյան'!L18+'[1]Ա. Վարդանյան'!L18+'[1]Ա. Մաթևոսյան'!L18+'[1]Լ. Հովհաննիսյան'!L18+[1]Ա.Դանիելյան!L18+'[1]Ս. Համբարձումյան'!L18+'[1]Գ. Հովհաննիսյան'!L18+'[1]Մ. Մելքոնյան'!L18+'[1]Լ. Ալավերդյան '!L18+'[1]Ռ. Պապոյան'!L18+'[1]Մ. Արղամանյան'!L18+'[1]Ա. Բեկթաշյան'!L18+'[1]Ա. Նիկողոսյան'!L18+'[1]Մ. Հարությունյան'!L18+'[1]Ռ. Մխիթարյան'!L18+'[1]Ն. Հովակիմյան'!L18+'[1]Ռ. Բարսեղյան'!L18+'[1]Ա. Մնացականյան'!L18+'[1]Կ. Ամիրյան'!L18+'[1]Ս. Մարաբյան'!L18+'[1]Ա. Նահապետյան'!L18+'[1]Ա. Հովհաննիսյան'!L18+'[1]Մ. Մակյան'!L18 -> 59 | M18: ='[1]Վ. Ռշտունի'!M18+'[1]Մ. Պապոյան'!M18+'[1]Լ. Աբգարյան'!M18+'[1]Կ. Մարդանյան'!M18+'[1]Ա. Վարդանյան'!M18+'[1]Ա. Մաթևոսյան'!M18+'[1]Լ. Հովհաննիսյան'!M18+[1]Ա.Դանիելյան!M18+'[1]Ս. Համբարձումյան'!M18+'[1]Գ. Հովհաննիսյան'!M18+'[1]Մ. Մելքոնյան'!M18+'[1]Լ. Ալավերդյան '!M18+'[1]Ռ. Պապոյան'!M18+'[1]Մ. Արղամանյան'!M18+'[1]Ա. Բեկթաշյան'!M18+'[1]Ա. Նիկողոսյան'!M18+'[1]Մ. Հարությունյան'!M18+'[1]Ռ. Մխիթարյան'!M18+'[1]Ն. Հովակիմյան'!M18+'[1]Ռ. Բարսեղյան'!M18+'[1]Ա. Մնացականյան'!M18+'[1]Կ. Ամիրյան'!M18+'[1]Ս. Մարաբյան'!M18+'[1]Ա. Նահապետյան'!M18+'[1]Ա. Հովհաննիսյան'!M18+'[1]Մ. Մակյան'!M18 -> 4 | N18: ='[1]Վ. Ռշտունի'!N18+'[1]Մ. Պապոյան'!N18+'[1]Լ. Աբգարյան'!N18+'[1]Կ. Մարդանյան'!N18+'[1]Ա. Վարդանյան'!N18+'[1]Ա. Մաթևոսյան'!N18+'[1]Լ. Հովհաննիսյան'!N18+[1]Ա.Դանիելյան!N18+'[1]Ս. Համբարձումյան'!N18+'[1]Գ. Հովհաննիսյան'!N18+'[1]Մ. Մելքոնյան'!N18+'[1]Լ. Ալավերդյան '!N18+'[1]Ռ. Պապոյան'!N18+'[1]Մ. Արղամանյան'!N18+'[1]Ա. Բեկթաշյան'!N18+'[1]Ա. Նիկողոսյան'!N18+'[1]Մ. Հարությունյան'!N18+'[1]Ռ. Մխիթարյան'!N18+'[1]Ն. Հովակիմյան'!N18+'[1]Ռ. Բարսեղյան'!N18+'[1]Ա. Մնացականյան'!N18+'[1]Կ. Ամիրյան'!N18+'[1]Ս. Մարաբյան'!N18+'[1]Ա. Նահապետյան'!N18+'[1]Ա. Հովհաննիսյան'!N18+'[1]Մ. Մակյան'!N18 -> 0 | O18: ='[1]Վ. Ռշտունի'!O18+'[1]Մ. Պապոյան'!O18+'[1]Լ. Աբգարյան'!O18+'[1]Կ. Մարդանյան'!O18+'[1]Ա. Վարդանյան'!O18+'[1]Ա. Մաթևոսյան'!O18+'[1]Լ. Հովհաննիսյան'!O18+[1]Ա.Դանիելյան!O18+'[1]Ս. Համբարձումյան'!O18+'[1]Գ. Հովհաննիսյան'!O18+'[1]Մ. Մելքոնյան'!O18+'[1]Լ. Ալավերդյան '!O18+'[1]Ռ. Պապոյան'!O18+'[1]Մ. Արղամանյան'!O18+'[1]Ա. Բեկթաշյան'!O18+'[1]Ա. Նիկողոսյան'!O18+'[1]Մ. Հարությունյան'!O18+'[1]Ռ. Մխիթարյան'!O18+'[1]Ն. Հովակիմյան'!O18+'[1]Ռ. Բարսեղյան'!O18+'[1]Ա. Մնացականյան'!O18+'[1]Կ. Ամիրյան'!O18+'[1]Ս. Մարաբյան'!O18+'[1]Ա. Նահապետյան'!O18+'[1]Ա. Հովհաննիսյան'!O18+'[1]Մ. Մակյան'!O18 -> 0 | P18: ='[1]Վ. Ռշտունի'!P18+'[1]Մ. Պապոյան'!P18+'[1]Լ. Աբգարյան'!P18+'[1]Կ. Մարդանյան'!P18+'[1]Ա. Վարդանյան'!P18+'[1]Ա. Մաթևոսյան'!P18+'[1]Լ. Հովհաննիսյան'!P18+[1]Ա.Դանիելյան!P18+'[1]Ս. Համբարձումյան'!P18+'[1]Գ. Հովհաննիսյան'!P18+'[1]Մ. Մելքոնյան'!P18+'[1]Լ. Ալավերդյան '!P18+'[1]Ռ. Պապոյան'!P18+'[1]Մ. Արղամանյան'!P18+'[1]Ա. Բեկթաշյան'!P18+'[1]Ա. Նիկողոսյան'!P18+'[1]Մ. Հարությունյան'!P18+'[1]Ռ. Մխիթարյան'!P18+'[1]Ն. Հովակիմյան'!P18+'[1]Ռ. Բարսեղյան'!P18+'[1]Ա. Մնացականյան'!P18+'[1]Կ. Ամիրյան'!P18+'[1]Ս. Մարաբյան'!P18+'[1]Ա. Նահապետյան'!P18+'[1]Ա. Հովհաննիսյան'!P18+'[1]Մ. Մակյան'!P18 -> 0 | Q18: ='[1]Վ. Ռշտունի'!Q18+'[1]Մ. Պապոյան'!Q18+'[1]Լ. Աբգարյան'!Q18+'[1]Կ. Մարդանյան'!Q18+'[1]Ա. Վարդանյան'!Q18+'[1]Ա. Մաթևոսյան'!Q18+'[1]Լ. Հովհաննիսյան'!Q18+[1]Ա.Դանիելյան!Q18+'[1]Ս. Համբարձումյան'!Q18+'[1]Գ. Հովհաննիսյան'!Q18+'[1]Մ. Մելքոնյան'!Q18+'[1]Լ. Ալավերդյան '!Q18+'[1]Ռ. Պապոյան'!Q18+'[1]Մ. Արղամանյան'!Q18+'[1]Ա. Բեկթաշյան'!Q18+'[1]Ա. Նիկողոսյան'!Q18+'[1]Մ. Հարությունյան'!Q18+'[1]Ռ. Մխիթարյան'!Q18+'[1]Ն. Հովակիմյան'!Q18+'[1]Ռ. Բարսեղյան'!Q18+'[1]Ա. Մնացականյան'!Q18+'[1]Կ. Ամիրյան'!Q18+'[1]Ս. Մարաբյան'!Q18+'[1]Ա. Նահապետյան'!Q18+'[1]Ա. Հովհաննիսյան'!Q18+'[1]Մ. Մակյան'!Q18 -> 0 | R18: ='[1]Վ. Ռշտունի'!R18+'[1]Մ. Պապոյան'!R18+'[1]Լ. Աբգարյան'!R18+'[1]Կ. Մարդանյան'!R18+'[1]Ա. Վարդանյան'!R18+'[1]Ա. Մաթևոսյան'!R18+'[1]Լ. Հովհաննիսյան'!R18+[1]Ա.Դանիելյան!R18+'[1]Ս. Համբարձումյան'!R18+'[1]Գ. Հովհաննիսյան'!R18+'[1]Մ. Մելքոնյան'!R18+'[1]Լ. Ալավերդյան '!R18+'[1]Ռ. Պապոյան'!R18+'[1]Մ. Արղամանյան'!R18+'[1]Ա. Բեկթաշյան'!R18+'[1]Ա. Նիկողոսյան'!R18+'[1]Մ. Հարությունյան'!R18+'[1]Ռ. Մխիթարյան'!R18+'[1]Ն. Հովակիմյան'!R18+'[1]Ռ. Բարսեղյան'!R18+'[1]Ա. Մնացականյան'!R18+'[1]Կ. Ամիրյան'!R18+'[1]Ս. Մարաբյան'!R18+'[1]Ա. Նահապետյան'!R18+'[1]Ա. Հովհաննիսյան'!R18+'[1]Մ. Մակյան'!R18 -> 0 | S18: ='[1]Վ. Ռշտունի'!S18+'[1]Մ. Պապոյան'!S18+'[1]Լ. Աբգարյան'!S18+'[1]Կ. Մարդանյան'!S18+'[1]Ա. Վարդանյան'!S18+'[1]Ա. Մաթևոսյան'!S18+'[1]Լ. Հովհաննիսյան'!S18+[1]Ա.Դանիելյան!S18+'[1]Ս. Համբարձումյան'!S18+'[1]Գ. Հովհաննիսյան'!S18+'[1]Մ. Մելքոնյան'!S18+'[1]Լ. Ալավերդյան '!S18+'[1]Ռ. Պապոյան'!S18+'[1]Մ. Արղամանյան'!S18+'[1]Ա. Բեկթաշյան'!S18+'[1]Ա. Նիկողոսյան'!S18+'[1]Մ. Հարությունյան'!S18+'[1]Ռ. Մխիթարյան'!S18+'[1]Ն. Հովակիմյան'!S18+'[1]Ռ. Բարսեղյան'!S18+'[1]Ա. Մնացականյան'!S18+'[1]Կ. Ամիրյան'!S18+'[1]Ս. Մարաբյան'!S18+'[1]Ա. Նահապետյան'!S18+'[1]Ա. Հովհաննիսյան'!S18+'[1]Մ. Մակյան'!S18 -> 0 | ... AG18: ='[1]Վ. Ռշտունի'!AG18+'[1]Մ. Պապոյան'!AG18+'[1]Լ. Աբգարյան'!AG18+'[1]Կ. Մարդանյան'!AG18+'[1]Ա. Վարդանյան'!AG18+'[1]Ա. Մաթևոսյան'!AG18+'[1]Լ. Հովհաննիսյան'!AG18+[1]Ա.Դանիելյան!AG18+'[1]Ս. Համբարձումյան'!AG18+'[1]Գ. Հովհաննիսյան'!AG18+'[1]Մ. Մելքոնյան'!AG18+'[1]Լ. Ալավերդյան '!AG18+'[1]Ռ. Պապոյան'!AG18+'[1]Մ. Արղամանյան'!AG18+'[1]Ա. Բեկթաշյան'!AG18+'[1]Ա. Նիկողոսյան'!AG18+'[1]Մ. Հարությունյան'!AG18+'[1]Ռ. Մխիթարյան'!AG18+'[1]Ն. Հովակիմյան'!AG18+'[1]Ռ. Բարսեղյան'!AG18+'[1]Ա. Մնացականյան'!AG18+'[1]Կ. Ամիրյան'!AG18+'[1]Ս. Մարաբյան'!AG18+'[1]Ա. Նահապետյան'!AG18+'[1]Ա. Հովհաննիսյան'!AG18+'[1]Մ. Մակյան'!AG18 -> 0 | AH18: 12 | AI18: ='[1]Վ. Ռշտունի'!AI18+'[1]Մ. Պապոյան'!AI18+'[1]Լ. Աբգարյան'!AI18+'[1]Կ. Մարդանյան'!AI18+'[1]Ա. Վարդանյան'!AI18+'[1]Ա. Մաթևոսյան'!AI18+'[1]Լ. Հովհաննիսյան'!AI18+[1]Ա.Դանիելյան!AI18+'[1]Ս. Համբարձումյան'!AI18+'[1]Գ. Հովհաննիսյան'!AI18+'[1]Մ. Մելքոնյան'!AI18+'[1]Լ. Ալավերդյան '!AI18+'[1]Ռ. Պապոյան'!AI18+'[1]Մ. Արղամանյան'!AI18+'[1]Ա. Բեկթաշյան'!AI18+'[1]Ա. Նիկողոսյան'!AI18+'[1]Մ. Հարությունյան'!AI18+'[1]Ռ. Մխիթարյան'!AI18+'[1]Ն. Հովակիմյան'!AI18+'[1]Ռ. Բարսեղյան'!AI18+'[1]Ա. Մնացականյան'!AI18+'[1]Կ. Ամիրյան'!AI18+'[1]Ս. Մարաբյան'!AI18+'[1]Ա. Նահապետյան'!AI18+'[1]Ա. Հովհաննիսյան'!AI18+'[1]Մ. Մակյան'!AI18 -> 45 | AJ18: 57 | AK18: ='[1]Վ. Ռշտունի'!AK18+'[1]Մ. Պապոյան'!AK18+'[1]Լ. Աբգարյան'!AK18+'[1]Կ. Մարդանյան'!AK18+'[1]Ա. Վարդանյան'!AK18+'[1]Ա. Մաթևոսյան'!AK18+'[1]Լ. Հովհաննիսյան'!AK18+[1]Ա.Դանիելյան!AK18+'[1]Ս. Համբարձումյան'!AK18+'[1]Գ. Հովհաննիսյան'!AK18+'[1]Մ. Մելքոնյան'!AK18+'[1]Լ. Ալավերդյան '!AK18+'[1]Ռ. Պապոյան'!AK18+'[1]Մ. Արղամանյան'!AK18+'[1]Ա. Բեկթաշյան'!AK18+'[1]Ա. Նիկողոսյան'!AK18+'[1]Մ. Հարությունյան'!AK18+'[1]Ռ. Մխիթարյան'!AK18+'[1]Ն. Հովակիմյան'!AK18+'[1]Ռ. Բարսեղյան'!AK18+'[1]Ա. Մնացականյան'!AK18+'[1]Կ. Ամիրյան'!AK18+'[1]Ս. Մարաբյան'!AK18+'[1]Ա. Նահապետյան'!AK18+'[1]Ա. Հովհաննիսյան'!AK18+'[1]Մ. Մակյան'!AK18 -> 4 | AL18: ='[1]Վ. Ռշտունի'!AL18+'[1]Մ. Պապոյան'!AL18+'[1]Լ. Աբգարյան'!AL18+'[1]Կ. Մարդանյան'!AL18+'[1]Ա. Վարդանյան'!AL18+'[1]Ա. Մաթևոսյան'!AL18+'[1]Լ. Հովհաննիսյան'!AL18+[1]Ա.Դանիելյան!AL18+'[1]Ս. Համբարձումյան'!AL18+'[1]Գ. Հովհաննիսյան'!AL18+'[1]Մ. Մելքոնյան'!AL18+'[1]Լ. Ալավերդյան '!AL18+'[1]Ռ. Պապոյան'!AL18+'[1]Մ. Արղամանյան'!AL18+'[1]Ա. Բեկթաշյան'!AL18+'[1]Ա. Նիկողոսյան'!AL18+'[1]Մ. Հարությունյան'!AL18+'[1]Ռ. Մխիթարյան'!AL18+'[1]Ն. Հովակիմյան'!AL18+'[1]Ռ. Բարսեղյան'!AL18+'[1]Ա. Մնացականյան'!AL18+'[1]Կ. Ամիրյան'!AL18+'[1]Ս. Մարաբյան'!AL18+'[1]Ա. Նահապետյան'!AL18+'[1]Ա. Հովհաննիսյան'!AL18+'[1]Մ. Մակյան'!AL18 -> 6 | AM18: ='[1]Վ. Ռշտունի'!AM18+'[1]Մ. Պապոյան'!AM18+'[1]Լ. Աբգարյան'!AM18+'[1]Կ. Մարդանյան'!AM18+'[1]Ա. Վարդանյան'!AM18+'[1]Ա. Մաթևոսյան'!AM18+'[1]Լ. Հովհաննիսյան'!AM18+[1]Ա.Դանիելյան!AM18+'[1]Ս. Համբարձումյան'!AM18+'[1]Գ. Հովհաննիսյան'!AM18+'[1]Մ. Մելքոնյան'!AM18+'[1]Լ. Ալավերդյան '!AM18+'[1]Ռ. Պապոյան'!AM18+'[1]Մ. Արղամանյան'!AM18+'[1]Ա. Բեկթաշյան'!AM18+'[1]Ա. Նիկողոսյան'!AM18+'[1]Մ. Հարությունյան'!AM18+'[1]Ռ. Մխիթարյան'!AM18+'[1]Ն. Հովակիմյան'!AM18+'[1]Ռ. Բարսեղյան'!AM18+'[1]Ա. Մնացականյան'!AM18+'[1]Կ. Ամիրյան'!AM18+'[1]Ս. Մարաբյան'!AM18+'[1]Ա. Նահապետյան'!AM18+'[1]Ա. Հովհաննիսյան'!AM18+'[1]Մ. Մակյան'!AM18 -> 10 | AN18: ='[1]Վ. Ռշտունի'!AN18+'[1]Մ. Պապոյան'!AN18+'[1]Լ. Աբգարյան'!AN18+'[1]Կ. Մարդանյան'!AN18+'[1]Ա. Վարդանյան'!AN18+'[1]Ա. Մաթևոսյան'!AN18+'[1]Լ. Հովհաննիսյան'!AN18+[1]Ա.Դանիելյան!AN18+'[1]Ս. Համբարձումյան'!AN18+'[1]Գ. Հովհաննիսյան'!AN18+'[1]Մ. Մելքոնյան'!AN18+'[1]Լ. Ալավերդյան '!AN18+'[1]Ռ. Պապոյան'!AN18+'[1]Մ. Արղամանյան'!AN18+'[1]Ա. Բեկթաշյան'!AN18+'[1]Ա. Նիկողոսյան'!AN18+'[1]Մ. Հարությունյան'!AN18+'[1]Ռ. Մխիթարյան'!AN18+'[1]Ն. Հովակիմյան'!AN18+'[1]Ռ. Բարսեղյան'!AN18+'[1]Ա. Մնացականյան'!AN18+'[1]Կ. Ամիրյան'!AN18+'[1]Ս. Մարաբյան'!AN18+'[1]Ա. Նահապետյան'!AN18+'[1]Ա. Հովհաննիսյան'!AN18+'[1]Մ. Մակյան'!AN18 -> 15
A19: 9 | B19: êÛáõÝÇùÇ Ù³ñ½Ç ÁÝ¹Ñ³Ýáõñ Çñ³í³ëáõÃÛ³Ý ³é³çÇÝ ³ïÛ³ÝÇ ¹³ï³ñ³Ý | C19: ='[1]Վ. Ռշտունի'!C19+'[1]Մ. Պապոյան'!C19+'[1]Լ. Աբգարյան'!C19+'[1]Կ. Մարդանյան'!C19+'[1]Ա. Վարդանյան'!C19+'[1]Ա. Մաթևոսյան'!C19+'[1]Լ. Հովհաննիսյան'!C19+[1]Ա.Դանիելյան!C19+'[1]Ս. Համբարձումյան'!C19+'[1]Գ. Հովհաննիսյան'!C19+'[1]Մ. Մելքոնյան'!C19+'[1]Լ. Ալավերդյան '!C19+'[1]Ռ. Պապոյան'!C19+'[1]Մ. Արղամանյան'!C19+'[1]Ա. Բեկթաշյան'!C19+'[1]Ա. Նիկողոսյան'!C19+'[1]Մ. Հարությունյան'!C19+'[1]Ռ. Մխիթարյան'!C19+'[1]Ն. Հովակիմյան'!C19+'[1]Ռ. Բարսեղյան'!C19+'[1]Ա. Մնացականյան'!C19+'[1]Կ. Ամիրյան'!C19+'[1]Ս. Մարաբյան'!C19+'[1]Ա. Նահապետյան'!C19+'[1]Ա. Հովհաննիսյան'!C19+'[1]Մ. Մակյան'!C19 -> 52 | D19: ='[1]Վ. Ռշտունի'!D19+'[1]Մ. Պապոյան'!D19+'[1]Լ. Աբգարյան'!D19+'[1]Կ. Մարդանյան'!D19+'[1]Ա. Վարդանյան'!D19+'[1]Ա. Մաթևոսյան'!D19+'[1]Լ. Հովհաննիսյան'!D19+[1]Ա.Դանիելյան!D19+'[1]Ս. Համբարձումյան'!D19+'[1]Գ. Հովհաննիսյան'!D19+'[1]Մ. Մելքոնյան'!D19+'[1]Լ. Ալավերդյան '!D19+'[1]Ռ. Պապոյան'!D19+'[1]Մ. Արղամանյան'!D19+'[1]Ա. Բեկթաշյան'!D19+'[1]Ա. Նիկողոսյան'!D19+'[1]Մ. Հարությունյան'!D19+'[1]Ռ. Մխիթարյան'!D19+'[1]Ն. Հովակիմյան'!D19+'[1]Ռ. Բարսեղյան'!D19+'[1]Ա. Մնացականյան'!D19+'[1]Կ. Ամիրյան'!D19+'[1]Ս. Մարաբյան'!D19+'[1]Ա. Նահապետյան'!D19+'[1]Ա. Հովհաննիսյան'!D19+'[1]Մ. Մակյան'!D19 -> 49 | E19: ='[1]Վ. Ռշտունի'!E19+'[1]Մ. Պապոյան'!E19+'[1]Լ. Աբգարյան'!E19+'[1]Կ. Մարդանյան'!E19+'[1]Ա. Վարդանյան'!E19+'[1]Ա. Մաթևոսյան'!E19+'[1]Լ. Հովհաննիսյան'!E19+[1]Ա.Դանիելյան!E19+'[1]Ս. Համբարձումյան'!E19+'[1]Գ. Հովհաննիսյան'!E19+'[1]Մ. Մելքոնյան'!E19+'[1]Լ. Ալավերդյան '!E19+'[1]Ռ. Պապոյան'!E19+'[1]Մ. Արղամանյան'!E19+'[1]Ա. Բեկթաշյան'!E19+'[1]Ա. Նիկողոսյան'!E19+'[1]Մ. Հարությունյան'!E19+'[1]Ռ. Մխիթարյան'!E19+'[1]Ն. Հովակիմյան'!E19+'[1]Ռ. Բարսեղյան'!E19+'[1]Ա. Մնացականյան'!E19+'[1]Կ. Ամիրյան'!E19+'[1]Ս. Մարաբյան'!E19+'[1]Ա. Նահապետյան'!E19+'[1]Ա. Հովհաննիսյան'!E19+'[1]Մ. Մակյան'!E19 -> 3 | F19: 203 | G19: ='[1]Վ. Ռշտունի'!G19+'[1]Մ. Պապոյան'!G19+'[1]Լ. Աբգարյան'!G19+'[1]Կ. Մարդանյան'!G19+'[1]Ա. Վարդանյան'!G19+'[1]Ա. Մաթևոսյան'!G19+'[1]Լ. Հովհաննիսյան'!G19+[1]Ա.Դանիելյան!G19+'[1]Ս. Համբարձումյան'!G19+'[1]Գ. Հովհաննիսյան'!G19+'[1]Մ. Մելքոնյան'!G19+'[1]Լ. Ալավերդյան '!G19+'[1]Ռ. Պապոյան'!G19+'[1]Մ. Արղամանյան'!G19+'[1]Ա. Բեկթաշյան'!G19+'[1]Ա. Նիկողոսյան'!G19+'[1]Մ. Հարությունյան'!G19+'[1]Ռ. Մխիթարյան'!G19+'[1]Ն. Հովակիմյան'!G19+'[1]Ռ. Բարսեղյան'!G19+'[1]Ա. Մնացականյան'!G19+'[1]Կ. Ամիրյան'!G19+'[1]Ս. Մարաբյան'!G19+'[1]Ա. Նահապետյան'!G19+'[1]Ա. Հովհաննիսյան'!G19+'[1]Մ. Մակյան'!G19 -> 186 | H19: ='[1]Վ. Ռշտունի'!H19+'[1]Մ. Պապոյան'!H19+'[1]Լ. Աբգարյան'!H19+'[1]Կ. Մարդանյան'!H19+'[1]Ա. Վարդանյան'!H19+'[1]Ա. Մաթևոսյան'!H19+'[1]Լ. Հովհաննիսյան'!H19+[1]Ա.Դանիելյան!H19+'[1]Ս. Համբարձումյան'!H19+'[1]Գ. Հովհաննիսյան'!H19+'[1]Մ. Մելքոնյան'!H19+'[1]Լ. Ալավերդյան '!H19+'[1]Ռ. Պապոյան'!H19+'[1]Մ. Արղամանյան'!H19+'[1]Ա. Բեկթաշյան'!H19+'[1]Ա. Նիկողոսյան'!H19+'[1]Մ. Հարությունյան'!H19+'[1]Ռ. Մխիթարյան'!H19+'[1]Ն. Հովակիմյան'!H19+'[1]Ռ. Բարսեղյան'!H19+'[1]Ա. Մնացականյան'!H19+'[1]Կ. Ամիրյան'!H19+'[1]Ս. Մարաբյան'!H19+'[1]Ա. Նահապետյան'!H19+'[1]Ա. Հովհաննիսյան'!H19+'[1]Մ. Մակյան'!H19 -> 5 | I19: ='[1]Վ. Ռշտունի'!I19+'[1]Մ. Պապոյան'!I19+'[1]Լ. Աբգարյան'!I19+'[1]Կ. Մարդանյան'!I19+'[1]Ա. Վարդանյան'!I19+'[1]Ա. Մաթևոսյան'!I19+'[1]Լ. Հովհաննիսյան'!I19+[1]Ա.Դանիելյան!I19+'[1]Ս. Համբարձումյան'!I19+'[1]Գ. Հովհաննիսյան'!I19+'[1]Մ. Մելքոնյան'!I19+'[1]Լ. Ալավերդյան '!I19+'[1]Ռ. Պապոյան'!I19+'[1]Մ. Արղամանյան'!I19+'[1]Ա. Բեկթաշյան'!I19+'[1]Ա. Նիկողոսյան'!I19+'[1]Մ. Հարությունյան'!I19+'[1]Ռ. Մխիթարյան'!I19+'[1]Ն. Հովակիմյան'!I19+'[1]Ռ. Բարսեղյան'!I19+'[1]Ա. Մնացականյան'!I19+'[1]Կ. Ամիրյան'!I19+'[1]Ս. Մարաբյան'!I19+'[1]Ա. Նահապետյան'!I19+'[1]Ա. Հովհաննիսյան'!I19+'[1]Մ. Մակյան'!I19 -> 0 | J19: ='[1]Վ. Ռշտունի'!J19+'[1]Մ. Պապոյան'!J19+'[1]Լ. Աբգարյան'!J19+'[1]Կ. Մարդանյան'!J19+'[1]Ա. Վարդանյան'!J19+'[1]Ա. Մաթևոսյան'!J19+'[1]Լ. Հովհաննիսյան'!J19+[1]Ա.Դանիելյան!J19+'[1]Ս. Համբարձումյան'!J19+'[1]Գ. Հովհաննիսյան'!J19+'[1]Մ. Մելքոնյան'!J19+'[1]Լ. Ալավերդյան '!J19+'[1]Ռ. Պապոյան'!J19+'[1]Մ. Արղամանյան'!J19+'[1]Ա. Բեկթաշյան'!J19+'[1]Ա. Նիկողոսյան'!J19+'[1]Մ. Հարությունյան'!J19+'[1]Ռ. Մխիթարյան'!J19+'[1]Ն. Հովակիմյան'!J19+'[1]Ռ. Բարսեղյան'!J19+'[1]Ա. Մնացականյան'!J19+'[1]Կ. Ամիրյան'!J19+'[1]Ս. Մարաբյան'!J19+'[1]Ա. Նահապետյան'!J19+'[1]Ա. Հովհաննիսյան'!J19+'[1]Մ. Մակյան'!J19 -> 1 | K19: 11 | L19: ='[1]Վ. Ռշտունի'!L19+'[1]Մ. Պապոյան'!L19+'[1]Լ. Աբգարյան'!L19+'[1]Կ. Մարդանյան'!L19+'[1]Ա. Վարդանյան'!L19+'[1]Ա. Մաթևոսյան'!L19+'[1]Լ. Հովհաննիսյան'!L19+[1]Ա.Դանիելյան!L19+'[1]Ս. Համբարձումյան'!L19+'[1]Գ. Հովհաննիսյան'!L19+'[1]Մ. Մելքոնյան'!L19+'[1]Լ. Ալավերդյան '!L19+'[1]Ռ. Պապոյան'!L19+'[1]Մ. Արղամանյան'!L19+'[1]Ա. Բեկթաշյան'!L19+'[1]Ա. Նիկողոսյան'!L19+'[1]Մ. Հարությունյան'!L19+'[1]Ռ. Մխիթարյան'!L19+'[1]Ն. Հովակիմյան'!L19+'[1]Ռ. Բարսեղյան'!L19+'[1]Ա. Մնացականյան'!L19+'[1]Կ. Ամիրյան'!L19+'[1]Ս. Մարաբյան'!L19+'[1]Ա. Նահապետյան'!L19+'[1]Ա. Հովհաննիսյան'!L19+'[1]Մ. Մակյան'!L19 -> 175 | M19: ='[1]Վ. Ռշտունի'!M19+'[1]Մ. Պապոյան'!M19+'[1]Լ. Աբգարյան'!M19+'[1]Կ. Մարդանյան'!M19+'[1]Ա. Վարդանյան'!M19+'[1]Ա. Մաթևոսյան'!M19+'[1]Լ. Հովհաննիսյան'!M19+[1]Ա.Դանիելյան!M19+'[1]Ս. Համբարձումյան'!M19+'[1]Գ. Հովհաննիսյան'!M19+'[1]Մ. Մելքոնյան'!M19+'[1]Լ. Ալավերդյան '!M19+'[1]Ռ. Պապոյան'!M19+'[1]Մ. Արղամանյան'!M19+'[1]Ա. Բեկթաշյան'!M19+'[1]Ա. Նիկողոսյան'!M19+'[1]Մ. Հարությունյան'!M19+'[1]Ռ. Մխիթարյան'!M19+'[1]Ն. Հովակիմյան'!M19+'[1]Ռ. Բարսեղյան'!M19+'[1]Ա. Մնացականյան'!M19+'[1]Կ. Ամիրյան'!M19+'[1]Ս. Մարաբյան'!M19+'[1]Ա. Նահապետյան'!M19+'[1]Ա. Հովհաննիսյան'!M19+'[1]Մ. Մակյան'!M19 -> 22 | N19: ='[1]Վ. Ռշտունի'!N19+'[1]Մ. Պապոյան'!N19+'[1]Լ. Աբգարյան'!N19+'[1]Կ. Մարդանյան'!N19+'[1]Ա. Վարդանյան'!N19+'[1]Ա. Մաթևոսյան'!N19+'[1]Լ. Հովհաննիսյան'!N19+[1]Ա.Դանիելյան!N19+'[1]Ս. Համբարձումյան'!N19+'[1]Գ. Հովհաննիսյան'!N19+'[1]Մ. Մելքոնյան'!N19+'[1]Լ. Ալավերդյան '!N19+'[1]Ռ. Պապոյան'!N19+'[1]Մ. Արղամանյան'!N19+'[1]Ա. Բեկթաշյան'!N19+'[1]Ա. Նիկողոսյան'!N19+'[1]Մ. Հարությունյան'!N19+'[1]Ռ. Մխիթարյան'!N19+'[1]Ն. Հովակիմյան'!N19+'[1]Ռ. Բարսեղյան'!N19+'[1]Ա. Մնացականյան'!N19+'[1]Կ. Ամիրյան'!N19+'[1]Ս. Մարաբյան'!N19+'[1]Ա. Նահապետյան'!N19+'[1]Ա. Հովհաննիսյան'!N19+'[1]Մ. Մակյան'!N19 -> 0 | O19: ='[1]Վ. Ռշտունի'!O19+'[1]Մ. Պապոյան'!O19+'[1]Լ. Աբգարյան'!O19+'[1]Կ. Մարդանյան'!O19+'[1]Ա. Վարդանյան'!O19+'[1]Ա. Մաթևոսյան'!O19+'[1]Լ. Հովհաննիսյան'!O19+[1]Ա.Դանիելյան!O19+'[1]Ս. Համբարձումյան'!O19+'[1]Գ. Հովհաննիսյան'!O19+'[1]Մ. Մելքոնյան'!O19+'[1]Լ. Ալավերդյան '!O19+'[1]Ռ. Պապոյան'!O19+'[1]Մ. Արղամանյան'!O19+'[1]Ա. Բեկթաշյան'!O19+'[1]Ա. Նիկողոսյան'!O19+'[1]Մ. Հարությունյան'!O19+'[1]Ռ. Մխիթարյան'!O19+'[1]Ն. Հովակիմյան'!O19+'[1]Ռ. Բարսեղյան'!O19+'[1]Ա. Մնացականյան'!O19+'[1]Կ. Ամիրյան'!O19+'[1]Ս. Մարաբյան'!O19+'[1]Ա. Նահապետյան'!O19+'[1]Ա. Հովհաննիսյան'!O19+'[1]Մ. Մակյան'!O19 -> 0 | P19: ='[1]Վ. Ռշտունի'!P19+'[1]Մ. Պապոյան'!P19+'[1]Լ. Աբգարյան'!P19+'[1]Կ. Մարդանյան'!P19+'[1]Ա. Վարդանյան'!P19+'[1]Ա. Մաթևոսյան'!P19+'[1]Լ. Հովհաննիսյան'!P19+[1]Ա.Դանիելյան!P19+'[1]Ս. Համբարձումյան'!P19+'[1]Գ. Հովհաննիսյան'!P19+'[1]Մ. Մելքոնյան'!P19+'[1]Լ. Ալավերդյան '!P19+'[1]Ռ. Պապոյան'!P19+'[1]Մ. Արղամանյան'!P19+'[1]Ա. Բեկթաշյան'!P19+'[1]Ա. Նիկողոսյան'!P19+'[1]Մ. Հարությունյան'!P19+'[1]Ռ. Մխիթարյան'!P19+'[1]Ն. Հովակիմյան'!P19+'[1]Ռ. Բարսեղյան'!P19+'[1]Ա. Մնացականյան'!P19+'[1]Կ. Ամիրյան'!P19+'[1]Ս. Մարաբյան'!P19+'[1]Ա. Նահապետյան'!P19+'[1]Ա. Հովհաննիսյան'!P19+'[1]Մ. Մակյան'!P19 -> 4 | Q19: ='[1]Վ. Ռշտունի'!Q19+'[1]Մ. Պապոյան'!Q19+'[1]Լ. Աբգարյան'!Q19+'[1]Կ. Մարդանյան'!Q19+'[1]Ա. Վարդանյան'!Q19+'[1]Ա. Մաթևոսյան'!Q19+'[1]Լ. Հովհաննիսյան'!Q19+[1]Ա.Դանիելյան!Q19+'[1]Ս. Համբարձումյան'!Q19+'[1]Գ. Հովհաննիսյան'!Q19+'[1]Մ. Մելքոնյան'!Q19+'[1]Լ. Ալավերդյան '!Q19+'[1]Ռ. Պապոյան'!Q19+'[1]Մ. Արղամանյան'!Q19+'[1]Ա. Բեկթաշյան'!Q19+'[1]Ա. Նիկողոսյան'!Q19+'[1]Մ. Հարությունյան'!Q19+'[1]Ռ. Մխիթարյան'!Q19+'[1]Ն. Հովակիմյան'!Q19+'[1]Ռ. Բարսեղյան'!Q19+'[1]Ա. Մնացականյան'!Q19+'[1]Կ. Ամիրյան'!Q19+'[1]Ս. Մարաբյան'!Q19+'[1]Ա. Նահապետյան'!Q19+'[1]Ա. Հովհաննիսյան'!Q19+'[1]Մ. Մակյան'!Q19 -> 0 | R19: ='[1]Վ. Ռշտունի'!R19+'[1]Մ. Պապոյան'!R19+'[1]Լ. Աբգարյան'!R19+'[1]Կ. Մարդանյան'!R19+'[1]Ա. Վարդանյան'!R19+'[1]Ա. Մաթևոսյան'!R19+'[1]Լ. Հովհաննիսյան'!R19+[1]Ա.Դանիելյան!R19+'[1]Ս. Համբարձումյան'!R19+'[1]Գ. Հովհաննիսյան'!R19+'[1]Մ. Մելքոնյան'!R19+'[1]Լ. Ալավերդյան '!R19+'[1]Ռ. Պապոյան'!R19+'[1]Մ. Արղամանյան'!R19+'[1]Ա. Բեկթաշյան'!R19+'[1]Ա. Նիկողոսյան'!R19+'[1]Մ. Հարությունյան'!R19+'[1]Ռ. Մխիթարյան'!R19+'[1]Ն. Հովակիմյան'!R19+'[1]Ռ. Բարսեղյան'!R19+'[1]Ա. Մնացականյան'!R19+'[1]Կ. Ամիրյան'!R19+'[1]Ս. Մարաբյան'!R19+'[1]Ա. Նահապետյան'!R19+'[1]Ա. Հովհաննիսյան'!R19+'[1]Մ. Մակյան'!R19 -> 0 | S19: ='[1]Վ. Ռշտունի'!S19+'[1]Մ. Պապոյան'!S19+'[1]Լ. Աբգարյան'!S19+'[1]Կ. Մարդանյան'!S19+'[1]Ա. Վարդանյան'!S19+'[1]Ա. Մաթևոսյան'!S19+'[1]Լ. Հովհաննիսյան'!S19+[1]Ա.Դանիելյան!S19+'[1]Ս. Համբարձումյան'!S19+'[1]Գ. Հովհաննիսյան'!S19+'[1]Մ. Մելքոնյան'!S19+'[1]Լ. Ալավերդյան '!S19+'[1]Ռ. Պապոյան'!S19+'[1]Մ. Արղամանյան'!S19+'[1]Ա. Բեկթաշյան'!S19+'[1]Ա. Նիկողոսյան'!S19+'[1]Մ. Հարությունյան'!S19+'[1]Ռ. Մխիթարյան'!S19+'[1]Ն. Հովակիմյան'!S19+'[1]Ռ. Բարսեղյան'!S19+'[1]Ա. Մնացականյան'!S19+'[1]Կ. Ամիրյան'!S19+'[1]Ս. Մարաբյան'!S19+'[1]Ա. Նահապետյան'!S19+'[1]Ա. Հովհաննիսյան'!S19+'[1]Մ. Մակյան'!S19 -> 0 | ... AG19: ='[1]Վ. Ռշտունի'!AG19+'[1]Մ. Պապոյան'!AG19+'[1]Լ. Աբգարյան'!AG19+'[1]Կ. Մարդանյան'!AG19+'[1]Ա. Վարդանյան'!AG19+'[1]Ա. Մաթևոսյան'!AG19+'[1]Լ. Հովհաննիսյան'!AG19+[1]Ա.Դանիելյան!AG19+'[1]Ս. Համբարձումյան'!AG19+'[1]Գ. Հովհաննիսյան'!AG19+'[1]Մ. Մելքոնյան'!AG19+'[1]Լ. Ալավերդյան '!AG19+'[1]Ռ. Պապոյան'!AG19+'[1]Մ. Արղամանյան'!AG19+'[1]Ա. Բեկթաշյան'!AG19+'[1]Ա. Նիկողոսյան'!AG19+'[1]Մ. Հարությունյան'!AG19+'[1]Ռ. Մխիթարյան'!AG19+'[1]Ն. Հովակիմյան'!AG19+'[1]Ռ. Բարսեղյան'!AG19+'[1]Ա. Մնացականյան'!AG19+'[1]Կ. Ամիրյան'!AG19+'[1]Ս. Մարաբյան'!AG19+'[1]Ա. Նահապետյան'!AG19+'[1]Ա. Հովհաննիսյան'!AG19+'[1]Մ. Մակյան'!AG19 -> 0 | AH19: 57 | AI19: 113 | AJ19: 170 | AK19: ='[1]Վ. Ռշտունի'!AK19+'[1]Մ. Պապոյան'!AK19+'[1]Լ. Աբգարյան'!AK19+'[1]Կ. Մարդանյան'!AK19+'[1]Ա. Վարդանյան'!AK19+'[1]Ա. Մաթևոսյան'!AK19+'[1]Լ. Հովհաննիսյան'!AK19+[1]Ա.Դանիելյան!AK19+'[1]Ս. Համբարձումյան'!AK19+'[1]Գ. Հովհաննիսյան'!AK19+'[1]Մ. Մելքոնյան'!AK19+'[1]Լ. Ալավերդյան '!AK19+'[1]Ռ. Պապոյան'!AK19+'[1]Մ. Արղամանյան'!AK19+'[1]Ա. Բեկթաշյան'!AK19+'[1]Ա. Նիկողոսյան'!AK19+'[1]Մ. Հարությունյան'!AK19+'[1]Ռ. Մխիթարյան'!AK19+'[1]Ն. Հովակիմյան'!AK19+'[1]Ռ. Բարսեղյան'!AK19+'[1]Ա. Մնացականյան'!AK19+'[1]Կ. Ամիրյան'!AK19+'[1]Ս. Մարաբյան'!AK19+'[1]Ա. Նահապետյան'!AK19+'[1]Ա. Հովհաննիսյան'!AK19+'[1]Մ. Մակյան'!AK19 -> 15 | AL19: ='[1]Վ. Ռշտունի'!AL19+'[1]Մ. Պապոյան'!AL19+'[1]Լ. Աբգարյան'!AL19+'[1]Կ. Մարդանյան'!AL19+'[1]Ա. Վարդանյան'!AL19+'[1]Ա. Մաթևոսյան'!AL19+'[1]Լ. Հովհաննիսյան'!AL19+[1]Ա.Դանիելյան!AL19+'[1]Ս. Համբարձումյան'!AL19+'[1]Գ. Հովհաննիսյան'!AL19+'[1]Մ. Մելքոնյան'!AL19+'[1]Լ. Ալավերդյան '!AL19+'[1]Ռ. Պապոյան'!AL19+'[1]Մ. Արղամանյան'!AL19+'[1]Ա. Բեկթաշյան'!AL19+'[1]Ա. Նիկողոսյան'!AL19+'[1]Մ. Հարությունյան'!AL19+'[1]Ռ. Մխիթարյան'!AL19+'[1]Ն. Հովակիմյան'!AL19+'[1]Ռ. Բարսեղյան'!AL19+'[1]Ա. Մնացականյան'!AL19+'[1]Կ. Ամիրյան'!AL19+'[1]Ս. Մարաբյան'!AL19+'[1]Ա. Նահապետյան'!AL19+'[1]Ա. Հովհաննիսյան'!AL19+'[1]Մ. Մակյան'!AL19 -> 34 | AM19: ='[1]Վ. Ռշտունի'!AM19+'[1]Մ. Պապոյան'!AM19+'[1]Լ. Աբգարյան'!AM19+'[1]Կ. Մարդանյան'!AM19+'[1]Ա. Վարդանյան'!AM19+'[1]Ա. Մաթևոսյան'!AM19+'[1]Լ. Հովհաննիսյան'!AM19+[1]Ա.Դանիելյան!AM19+'[1]Ս. Համբարձումյան'!AM19+'[1]Գ. Հովհաննիսյան'!AM19+'[1]Մ. Մելքոնյան'!AM19+'[1]Լ. Ալավերդյան '!AM19+'[1]Ռ. Պապոյան'!AM19+'[1]Մ. Արղամանյան'!AM19+'[1]Ա. Բեկթաշյան'!AM19+'[1]Ա. Նիկողոսյան'!AM19+'[1]Մ. Հարությունյան'!AM19+'[1]Ռ. Մխիթարյան'!AM19+'[1]Ն. Հովակիմյան'!AM19+'[1]Ռ. Բարսեղյան'!AM19+'[1]Ա. Մնացականյան'!AM19+'[1]Կ. Ամիրյան'!AM19+'[1]Ս. Մարաբյան'!AM19+'[1]Ա. Նահապետյան'!AM19+'[1]Ա. Հովհաննիսյան'!AM19+'[1]Մ. Մակյան'!AM19 -> 49 | AN19: ='[1]Վ. Ռշտունի'!AN19+'[1]Մ. Պապոյան'!AN19+'[1]Լ. Աբգարյան'!AN19+'[1]Կ. Մարդանյան'!AN19+'[1]Ա. Վարդանյան'!AN19+'[1]Ա. Մաթևոսյան'!AN19+'[1]Լ. Հովհաննիսյան'!AN19+[1]Ա.Դանիելյան!AN19+'[1]Ս. Համբարձումյան'!AN19+'[1]Գ. Հովհաննիսյան'!AN19+'[1]Մ. Մելքոնյան'!AN19+'[1]Լ. Ալավերդյան '!AN19+'[1]Ռ. Պապոյան'!AN19+'[1]Մ. Արղամանյան'!AN19+'[1]Ա. Բեկթաշյան'!AN19+'[1]Ա. Նիկողոսյան'!AN19+'[1]Մ. Հարությունյան'!AN19+'[1]Ռ. Մխիթարյան'!AN19+'[1]Ն. Հովակիմյան'!AN19+'[1]Ռ. Բարսեղյան'!AN19+'[1]Ա. Մնացականյան'!AN19+'[1]Կ. Ամիրյան'!AN19+'[1]Ս. Մարաբյան'!AN19+'[1]Ա. Նահապետյան'!AN19+'[1]Ա. Հովհաննիսյան'!AN19+'[1]Մ. Մակյան'!AN19 -> 39
A20: 10 | B20: î³íáõßÇ Ù³ñ½Ç ÁÝ¹Ñ³Ýáõñ Çñ³í³ëáõÃÛ³Ý ³é³çÇÝ ³ïÛ³ÝÇ ¹³ï³ñ³Ý | C20: ='[1]Վ. Ռշտունի'!C20+'[1]Մ. Պապոյան'!C20+'[1]Լ. Աբգարյան'!C20+'[1]Կ. Մարդանյան'!C20+'[1]Ա. Վարդանյան'!C20+'[1]Ա. Մաթևոսյան'!C20+'[1]Լ. Հովհաննիսյան'!C20+[1]Ա.Դանիելյան!C20+'[1]Ս. Համբարձումյան'!C20+'[1]Գ. Հովհաննիսյան'!C20+'[1]Մ. Մելքոնյան'!C20+'[1]Լ. Ալավերդյան '!C20+'[1]Ռ. Պապոյան'!C20+'[1]Մ. Արղամանյան'!C20+'[1]Ա. Բեկթաշյան'!C20+'[1]Ա. Նիկողոսյան'!C20+'[1]Մ. Հարությունյան'!C20+'[1]Ռ. Մխիթարյան'!C20+'[1]Ն. Հովակիմյան'!C20+'[1]Ռ. Բարսեղյան'!C20+'[1]Ա. Մնացականյան'!C20+'[1]Կ. Ամիրյան'!C20+'[1]Ս. Մարաբյան'!C20+'[1]Ա. Նահապետյան'!C20+'[1]Ա. Հովհաննիսյան'!C20+'[1]Մ. Մակյան'!C20 -> 35 | D20: ='[1]Վ. Ռշտունի'!D20+'[1]Մ. Պապոյան'!D20+'[1]Լ. Աբգարյան'!D20+'[1]Կ. Մարդանյան'!D20+'[1]Ա. Վարդանյան'!D20+'[1]Ա. Մաթևոսյան'!D20+'[1]Լ. Հովհաննիսյան'!D20+[1]Ա.Դանիելյան!D20+'[1]Ս. Համբարձումյան'!D20+'[1]Գ. Հովհաննիսյան'!D20+'[1]Մ. Մելքոնյան'!D20+'[1]Լ. Ալավերդյան '!D20+'[1]Ռ. Պապոյան'!D20+'[1]Մ. Արղամանյան'!D20+'[1]Ա. Բեկթաշյան'!D20+'[1]Ա. Նիկողոսյան'!D20+'[1]Մ. Հարությունյան'!D20+'[1]Ռ. Մխիթարյան'!D20+'[1]Ն. Հովակիմյան'!D20+'[1]Ռ. Բարսեղյան'!D20+'[1]Ա. Մնացականյան'!D20+'[1]Կ. Ամիրյան'!D20+'[1]Ս. Մարաբյան'!D20+'[1]Ա. Նահապետյան'!D20+'[1]Ա. Հովհաննիսյան'!D20+'[1]Մ. Մակյան'!D20 -> 30 | E20: ='[1]Վ. Ռշտունի'!E20+'[1]Մ. Պապոյան'!E20+'[1]Լ. Աբգարյան'!E20+'[1]Կ. Մարդանյան'!E20+'[1]Ա. Վարդանյան'!E20+'[1]Ա. Մաթևոսյան'!E20+'[1]Լ. Հովհաննիսյան'!E20+[1]Ա.Դանիելյան!E20+'[1]Ս. Համբարձումյան'!E20+'[1]Գ. Հովհաննիսյան'!E20+'[1]Մ. Մելքոնյան'!E20+'[1]Լ. Ալավերդյան '!E20+'[1]Ռ. Պապոյան'!E20+'[1]Մ. Արղամանյան'!E20+'[1]Ա. Բեկթաշյան'!E20+'[1]Ա. Նիկողոսյան'!E20+'[1]Մ. Հարությունյան'!E20+'[1]Ռ. Մխիթարյան'!E20+'[1]Ն. Հովակիմյան'!E20+'[1]Ռ. Բարսեղյան'!E20+'[1]Ա. Մնացականյան'!E20+'[1]Կ. Ամիրյան'!E20+'[1]Ս. Մարաբյան'!E20+'[1]Ա. Նահապետյան'!E20+'[1]Ա. Հովհաննիսյան'!E20+'[1]Մ. Մակյան'!E20 -> 5 | F20: 116 | G20: ='[1]Վ. Ռշտունի'!G20+'[1]Մ. Պապոյան'!G20+'[1]Լ. Աբգարյան'!G20+'[1]Կ. Մարդանյան'!G20+'[1]Ա. Վարդանյան'!G20+'[1]Ա. Մաթևոսյան'!G20+'[1]Լ. Հովհաննիսյան'!G20+[1]Ա.Դանիելյան!G20+'[1]Ս. Համբարձումյան'!G20+'[1]Գ. Հովհաննիսյան'!G20+'[1]Մ. Մելքոնյան'!G20+'[1]Լ. Ալավերդյան '!G20+'[1]Ռ. Պապոյան'!G20+'[1]Մ. Արղամանյան'!G20+'[1]Ա. Բեկթաշյան'!G20+'[1]Ա. Նիկողոսյան'!G20+'[1]Մ. Հարությունյան'!G20+'[1]Ռ. Մխիթարյան'!G20+'[1]Ն. Հովակիմյան'!G20+'[1]Ռ. Բարսեղյան'!G20+'[1]Ա. Մնացականյան'!G20+'[1]Կ. Ամիրյան'!G20+'[1]Ս. Մարաբյան'!G20+'[1]Ա. Նահապետյան'!G20+'[1]Ա. Հովհաննիսյան'!G20+'[1]Մ. Մակյան'!G20 -> 109 | H20: ='[1]Վ. Ռշտունի'!H20+'[1]Մ. Պապոյան'!H20+'[1]Լ. Աբգարյան'!H20+'[1]Կ. Մարդանյան'!H20+'[1]Ա. Վարդանյան'!H20+'[1]Ա. Մաթևոսյան'!H20+'[1]Լ. Հովհաննիսյան'!H20+[1]Ա.Դանիելյան!H20+'[1]Ս. Համբարձումյան'!H20+'[1]Գ. Հովհաննիսյան'!H20+'[1]Մ. Մելքոնյան'!H20+'[1]Լ. Ալավերդյան '!H20+'[1]Ռ. Պապոյան'!H20+'[1]Մ. Արղամանյան'!H20+'[1]Ա. Բեկթաշյան'!H20+'[1]Ա. Նիկողոսյան'!H20+'[1]Մ. Հարությունյան'!H20+'[1]Ռ. Մխիթարյան'!H20+'[1]Ն. Հովակիմյան'!H20+'[1]Ռ. Բարսեղյան'!H20+'[1]Ա. Մնացականյան'!H20+'[1]Կ. Ամիրյան'!H20+'[1]Ս. Մարաբյան'!H20+'[1]Ա. Նահապետյան'!H20+'[1]Ա. Հովհաննիսյան'!H20+'[1]Մ. Մակյան'!H20 -> 4 | I20: ='[1]Վ. Ռշտունի'!I20+'[1]Մ. Պապոյան'!I20+'[1]Լ. Աբգարյան'!I20+'[1]Կ. Մարդանյան'!I20+'[1]Ա. Վարդանյան'!I20+'[1]Ա. Մաթևոսյան'!I20+'[1]Լ. Հովհաննիսյան'!I20+[1]Ա.Դանիելյան!I20+'[1]Ս. Համբարձումյան'!I20+'[1]Գ. Հովհաննիսյան'!I20+'[1]Մ. Մելքոնյան'!I20+'[1]Լ. Ալավերդյան '!I20+'[1]Ռ. Պապոյան'!I20+'[1]Մ. Արղամանյան'!I20+'[1]Ա. Բեկթաշյան'!I20+'[1]Ա. Նիկողոսյան'!I20+'[1]Մ. Հարությունյան'!I20+'[1]Ռ. Մխիթարյան'!I20+'[1]Ն. Հովակիմյան'!I20+'[1]Ռ. Բարսեղյան'!I20+'[1]Ա. Մնացականյան'!I20+'[1]Կ. Ամիրյան'!I20+'[1]Ս. Մարաբյան'!I20+'[1]Ա. Նահապետյան'!I20+'[1]Ա. Հովհաննիսյան'!I20+'[1]Մ. Մակյան'!I20 -> 0 | J20: ='[1]Վ. Ռշտունի'!J20+'[1]Մ. Պապոյան'!J20+'[1]Լ. Աբգարյան'!J20+'[1]Կ. Մարդանյան'!J20+'[1]Ա. Վարդանյան'!J20+'[1]Ա. Մաթևոսյան'!J20+'[1]Լ. Հովհաննիսյան'!J20+[1]Ա.Դանիելյան!J20+'[1]Ս. Համբարձումյան'!J20+'[1]Գ. Հովհաննիսյան'!J20+'[1]Մ. Մելքոնյան'!J20+'[1]Լ. Ալավերդյան '!J20+'[1]Ռ. Պապոյան'!J20+'[1]Մ. Արղամանյան'!J20+'[1]Ա. Բեկթաշյան'!J20+'[1]Ա. Նիկողոսյան'!J20+'[1]Մ. Հարությունյան'!J20+'[1]Ռ. Մխիթարյան'!J20+'[1]Ն. Հովակիմյան'!J20+'[1]Ռ. Բարսեղյան'!J20+'[1]Ա. Մնացականյան'!J20+'[1]Կ. Ամիրյան'!J20+'[1]Ս. Մարաբյան'!J20+'[1]Ա. Նահապետյան'!J20+'[1]Ա. Հովհաննիսյան'!J20+'[1]Մ. Մակյան'!J20 -> 0 | K20: 3 | L20: ='[1]Վ. Ռշտունի'!L20+'[1]Մ. Պապոյան'!L20+'[1]Լ. Աբգարյան'!L20+'[1]Կ. Մարդանյան'!L20+'[1]Ա. Վարդանյան'!L20+'[1]Ա. Մաթևոսյան'!L20+'[1]Լ. Հովհաննիսյան'!L20+[1]Ա.Դանիելյան!L20+'[1]Ս. Համբարձումյան'!L20+'[1]Գ. Հովհաննիսյան'!L20+'[1]Մ. Մելքոնյան'!L20+'[1]Լ. Ալավերդյան '!L20+'[1]Ռ. Պապոյան'!L20+'[1]Մ. Արղամանյան'!L20+'[1]Ա. Բեկթաշյան'!L20+'[1]Ա. Նիկողոսյան'!L20+'[1]Մ. Հարությունյան'!L20+'[1]Ռ. Մխիթարյան'!L20+'[1]Ն. Հովակիմյան'!L20+'[1]Ռ. Բարսեղյան'!L20+'[1]Ա. Մնացականյան'!L20+'[1]Կ. Ամիրյան'!L20+'[1]Ս. Մարաբյան'!L20+'[1]Ա. Նահապետյան'!L20+'[1]Ա. Հովհաննիսյան'!L20+'[1]Մ. Մակյան'!L20 -> 109 | M20: ='[1]Վ. Ռշտունի'!M20+'[1]Մ. Պապոյան'!M20+'[1]Լ. Աբգարյան'!M20+'[1]Կ. Մարդանյան'!M20+'[1]Ա. Վարդանյան'!M20+'[1]Ա. Մաթևոսյան'!M20+'[1]Լ. Հովհաննիսյան'!M20+[1]Ա.Դանիելյան!M20+'[1]Ս. Համբարձումյան'!M20+'[1]Գ. Հովհաննիսյան'!M20+'[1]Մ. Մելքոնյան'!M20+'[1]Լ. Ալավերդյան '!M20+'[1]Ռ. Պապոյան'!M20+'[1]Մ. Արղամանյան'!M20+'[1]Ա. Բեկթաշյան'!M20+'[1]Ա. Նիկողոսյան'!M20+'[1]Մ. Հարությունյան'!M20+'[1]Ռ. Մխիթարյան'!M20+'[1]Ն. Հովակիմյան'!M20+'[1]Ռ. Բարսեղյան'!M20+'[1]Ա. Մնացականյան'!M20+'[1]Կ. Ամիրյան'!M20+'[1]Ս. Մարաբյան'!M20+'[1]Ա. Նահապետյան'!M20+'[1]Ա. Հովհաննիսյան'!M20+'[1]Մ. Մակյան'!M20 -> 19 | N20: ='[1]Վ. Ռշտունի'!N20+'[1]Մ. Պապոյան'!N20+'[1]Լ. Աբգարյան'!N20+'[1]Կ. Մարդանյան'!N20+'[1]Ա. Վարդանյան'!N20+'[1]Ա. Մաթևոսյան'!N20+'[1]Լ. Հովհաննիսյան'!N20+[1]Ա.Դանիելյան!N20+'[1]Ս. Համբարձումյան'!N20+'[1]Գ. Հովհաննիսյան'!N20+'[1]Մ. Մելքոնյան'!N20+'[1]Լ. Ալավերդյան '!N20+'[1]Ռ. Պապոյան'!N20+'[1]Մ. Արղամանյան'!N20+'[1]Ա. Բեկթաշյան'!N20+'[1]Ա. Նիկողոսյան'!N20+'[1]Մ. Հարությունյան'!N20+'[1]Ռ. Մխիթարյան'!N20+'[1]Ն. Հովակիմյան'!N20+'[1]Ռ. Բարսեղյան'!N20+'[1]Ա. Մնացականյան'!N20+'[1]Կ. Ամիրյան'!N20+'[1]Ս. Մարաբյան'!N20+'[1]Ա. Նահապետյան'!N20+'[1]Ա. Հովհաննիսյան'!N20+'[1]Մ. Մակյան'!N20 -> 0 | O20: ='[1]Վ. Ռշտունի'!O20+'[1]Մ. Պապոյան'!O20+'[1]Լ. Աբգարյան'!O20+'[1]Կ. Մարդանյան'!O20+'[1]Ա. Վարդանյան'!O20+'[1]Ա. Մաթևոսյան'!O20+'[1]Լ. Հովհաննիսյան'!O20+[1]Ա.Դանիելյան!O20+'[1]Ս. Համբարձումյան'!O20+'[1]Գ. Հովհաննիսյան'!O20+'[1]Մ. Մելքոնյան'!O20+'[1]Լ. Ալավերդյան '!O20+'[1]Ռ. Պապոյան'!O20+'[1]Մ. Արղամանյան'!O20+'[1]Ա. Բեկթաշյան'!O20+'[1]Ա. Նիկողոսյան'!O20+'[1]Մ. Հարությունյան'!O20+'[1]Ռ. Մխիթարյան'!O20+'[1]Ն. Հովակիմյան'!O20+'[1]Ռ. Բարսեղյան'!O20+'[1]Ա. Մնացականյան'!O20+'[1]Կ. Ամիրյան'!O20+'[1]Ս. Մարաբյան'!O20+'[1]Ա. Նահապետյան'!O20+'[1]Ա. Հովհաննիսյան'!O20+'[1]Մ. Մակյան'!O20 -> 0 | P20: ='[1]Վ. Ռշտունի'!P20+'[1]Մ. Պապոյան'!P20+'[1]Լ. Աբգարյան'!P20+'[1]Կ. Մարդանյան'!P20+'[1]Ա. Վարդանյան'!P20+'[1]Ա. Մաթևոսյան'!P20+'[1]Լ. Հովհաննիսյան'!P20+[1]Ա.Դանիելյան!P20+'[1]Ս. Համբարձումյան'!P20+'[1]Գ. Հովհաննիսյան'!P20+'[1]Մ. Մելքոնյան'!P20+'[1]Լ. Ալավերդյան '!P20+'[1]Ռ. Պապոյան'!P20+'[1]Մ. Արղամանյան'!P20+'[1]Ա. Բեկթաշյան'!P20+'[1]Ա. Նիկողոսյան'!P20+'[1]Մ. Հարությունյան'!P20+'[1]Ռ. Մխիթարյան'!P20+'[1]Ն. Հովակիմյան'!P20+'[1]Ռ. Բարսեղյան'!P20+'[1]Ա. Մնացականյան'!P20+'[1]Կ. Ամիրյան'!P20+'[1]Ս. Մարաբյան'!P20+'[1]Ա. Նահապետյան'!P20+'[1]Ա. Հովհաննիսյան'!P20+'[1]Մ. Մակյան'!P20 -> 7 | Q20: ='[1]Վ. Ռշտունի'!Q20+'[1]Մ. Պապոյան'!Q20+'[1]Լ. Աբգարյան'!Q20+'[1]Կ. Մարդանյան'!Q20+'[1]Ա. Վարդանյան'!Q20+'[1]Ա. Մաթևոսյան'!Q20+'[1]Լ. Հովհաննիսյան'!Q20+[1]Ա.Դանիելյան!Q20+'[1]Ս. Համբարձումյան'!Q20+'[1]Գ. Հովհաննիսյան'!Q20+'[1]Մ. Մելքոնյան'!Q20+'[1]Լ. Ալավերդյան '!Q20+'[1]Ռ. Պապոյան'!Q20+'[1]Մ. Արղամանյան'!Q20+'[1]Ա. Բեկթաշյան'!Q20+'[1]Ա. Նիկողոսյան'!Q20+'[1]Մ. Հարությունյան'!Q20+'[1]Ռ. Մխիթարյան'!Q20+'[1]Ն. Հովակիմյան'!Q20+'[1]Ռ. Բարսեղյան'!Q20+'[1]Ա. Մնացականյան'!Q20+'[1]Կ. Ամիրյան'!Q20+'[1]Ս. Մարաբյան'!Q20+'[1]Ա. Նահապետյան'!Q20+'[1]Ա. Հովհաննիսյան'!Q20+'[1]Մ. Մակյան'!Q20 -> 0 | R20: ='[1]Վ. Ռշտունի'!R20+'[1]Մ. Պապոյան'!R20+'[1]Լ. Աբգարյան'!R20+'[1]Կ. Մարդանյան'!R20+'[1]Ա. Վարդանյան'!R20+'[1]Ա. Մաթևոսյան'!R20+'[1]Լ. Հովհաննիսյան'!R20+[1]Ա.Դանիելյան!R20+'[1]Ս. Համբարձումյան'!R20+'[1]Գ. Հովհաննիսյան'!R20+'[1]Մ. Մելքոնյան'!R20+'[1]Լ. Ալավերդյան '!R20+'[1]Ռ. Պապոյան'!R20+'[1]Մ. Արղամանյան'!R20+'[1]Ա. Բեկթաշյան'!R20+'[1]Ա. Նիկողոսյան'!R20+'[1]Մ. Հարությունյան'!R20+'[1]Ռ. Մխիթարյան'!R20+'[1]Ն. Հովակիմյան'!R20+'[1]Ռ. Բարսեղյան'!R20+'[1]Ա. Մնացականյան'!R20+'[1]Կ. Ամիրյան'!R20+'[1]Ս. Մարաբյան'!R20+'[1]Ա. Նահապետյան'!R20+'[1]Ա. Հովհաննիսյան'!R20+'[1]Մ. Մակյան'!R20 -> 0 | S20: ='[1]Վ. Ռշտունի'!S20+'[1]Մ. Պապոյան'!S20+'[1]Լ. Աբգարյան'!S20+'[1]Կ. Մարդանյան'!S20+'[1]Ա. Վարդանյան'!S20+'[1]Ա. Մաթևոսյան'!S20+'[1]Լ. Հովհաննիսյան'!S20+[1]Ա.Դանիելյան!S20+'[1]Ս. Համբարձումյան'!S20+'[1]Գ. Հովհաննիսյան'!S20+'[1]Մ. Մելքոնյան'!S20+'[1]Լ. Ալավերդյան '!S20+'[1]Ռ. Պապոյան'!S20+'[1]Մ. Արղամանյան'!S20+'[1]Ա. Բեկթաշյան'!S20+'[1]Ա. Նիկողոսյան'!S20+'[1]Մ. Հարությունյան'!S20+'[1]Ռ. Մխիթարյան'!S20+'[1]Ն. Հովակիմյան'!S20+'[1]Ռ. Բարսեղյան'!S20+'[1]Ա. Մնացականյան'!S20+'[1]Կ. Ամիրյան'!S20+'[1]Ս. Մարաբյան'!S20+'[1]Ա. Նահապետյան'!S20+'[1]Ա. Հովհաննիսյան'!S20+'[1]Մ. Մակյան'!S20 -> 0 | ... AN20: ='[1]Վ. Ռշտունի'!AN20+'[1]Մ. Պապոյան'!AN20+'[1]Լ. Աբգարյան'!AN20+'[1]Կ. Մարդանյան'!AN20+'[1]Ա. Վարդանյան'!AN20+'[1]Ա. Մաթևոսյան'!AN20+'[1]Լ. Հովհաննիսյան'!AN20+[1]Ա.Դանիելյան!AN20+'[1]Ս. Համբարձումյան'!AN20+'[1]Գ. Հովհաննիսյան'!AN20+'[1]Մ. Մելքոնյան'!AN20+'[1]Լ. Ալավերդյան '!AN20+'[1]Ռ. Պապոյան'!AN20+'[1]Մ. Արղամանյան'!AN20+'[1]Ա. Բեկթաշյան'!AN20+'[1]Ա. Նիկողոսյան'!AN20+'[1]Մ. Հարությունյան'!AN20+'[1]Ռ. Մխիթարյան'!AN20+'[1]Ն. Հովակիմյան'!AN20+'[1]Ռ. Բարսեղյան'!AN20+'[1]Ա. Մնացականյան'!AN20+'[1]Կ. Ամիրյան'!AN20+'[1]Ս. Մարաբյան'!AN20+'[1]Ա. Նահապետյան'!AN20+'[1]Ա. Հովհաննիսյան'!AN20+'[1]Մ. Մակյան'!AN20 -> 17
A21: 11 | B21: ÈáõÍ³ñí³Í ¹³ï³ñ³ÝÝ»ñ | C21: ='[1]Վ. Ռշտունի'!C21+'[1]Մ. Պապոյան'!C21+'[1]Լ. Աբգարյան'!C21+'[1]Կ. Մարդանյան'!C21+'[1]Ա. Վարդանյան'!C21+'[1]Ա. Մաթևոսյան'!C21+'[1]Լ. Հովհաննիսյան'!C21+[1]Ա.Դանիելյան!C21+'[1]Ս. Համբարձումյան'!C21+'[1]Գ. Հովհաննիսյան'!C21+'[1]Մ. Մելքոնյան'!C21+'[1]Լ. Ալավերդյան '!C21+'[1]Ռ. Պապոյան'!C21+'[1]Մ. Արղամանյան'!C21+'[1]Ա. Բեկթաշյան'!C21+'[1]Ա. Նիկողոսյան'!C21+'[1]Մ. Հարությունյան'!C21+'[1]Ռ. Մխիթարյան'!C21+'[1]Ն. Հովակիմյան'!C21+'[1]Ռ. Բարսեղյան'!C21+'[1]Ա. Մնացականյան'!C21+'[1]Կ. Ամիրյան'!C21+'[1]Ս. Մարաբյան'!C21+'[1]Ա. Նահապետյան'!C21+'[1]Ա. Հովհաննիսյան'!C21+'[1]Մ. Մակյան'!C21 -> 0 | D21: ='[1]Վ. Ռշտունի'!D21+'[1]Մ. Պապոյան'!D21+'[1]Լ. Աբգարյան'!D21+'[1]Կ. Մարդանյան'!D21+'[1]Ա. Վարդանյան'!D21+'[1]Ա. Մաթևոսյան'!D21+'[1]Լ. Հովհաննիսյան'!D21+[1]Ա.Դանիելյան!D21+'[1]Ս. Համբարձումյան'!D21+'[1]Գ. Հովհաննիսյան'!D21+'[1]Մ. Մելքոնյան'!D21+'[1]Լ. Ալավերդյան '!D21+'[1]Ռ. Պապոյան'!D21+'[1]Մ. Արղամանյան'!D21+'[1]Ա. Բեկթաշյան'!D21+'[1]Ա. Նիկողոսյան'!D21+'[1]Մ. Հարությունյան'!D21+'[1]Ռ. Մխիթարյան'!D21+'[1]Ն. Հովակիմյան'!D21+'[1]Ռ. Բարսեղյան'!D21+'[1]Ա. Մնացականյան'!D21+'[1]Կ. Ամիրյան'!D21+'[1]Ս. Մարաբյան'!D21+'[1]Ա. Նահապետյան'!D21+'[1]Ա. Հովհաննիսյան'!D21+'[1]Մ. Մակյան'!D21 -> 0 | E21: ='[1]Վ. Ռշտունի'!E21+'[1]Մ. Պապոյան'!E21+'[1]Լ. Աբգարյան'!E21+'[1]Կ. Մարդանյան'!E21+'[1]Ա. Վարդանյան'!E21+'[1]Ա. Մաթևոսյան'!E21+'[1]Լ. Հովհաննիսյան'!E21+[1]Ա.Դանիելյան!E21+'[1]Ս. Համբարձումյան'!E21+'[1]Գ. Հովհաննիսյան'!E21+'[1]Մ. Մելքոնյան'!E21+'[1]Լ. Ալավերդյան '!E21+'[1]Ռ. Պապոյան'!E21+'[1]Մ. Արղամանյան'!E21+'[1]Ա. Բեկթաշյան'!E21+'[1]Ա. Նիկողոսյան'!E21+'[1]Մ. Հարությունյան'!E21+'[1]Ռ. Մխիթարյան'!E21+'[1]Ն. Հովակիմյան'!E21+'[1]Ռ. Բարսեղյան'!E21+'[1]Ա. Մնացականյան'!E21+'[1]Կ. Ամիրյան'!E21+'[1]Ս. Մարաբյան'!E21+'[1]Ա. Նահապետյան'!E21+'[1]Ա. Հովհաննիսյան'!E21+'[1]Մ. Մակյան'!E21 -> 0 | F21: ='[1]Վ. Ռշտունի'!F21+'[1]Մ. Պապոյան'!F21+'[1]Լ. Աբգարյան'!F21+'[1]Կ. Մարդանյան'!F21+'[1]Ա. Վարդանյան'!F21+'[1]Ա. Մաթևոսյան'!F21+'[1]Լ. Հովհաննիսյան'!F21+[1]Ա.Դանիելյան!F21+'[1]Ս. Համբարձումյան'!F21+'[1]Գ. Հովհաննիսյան'!F21+'[1]Մ. Մելքոնյան'!F21+'[1]Լ. Ալավերդյան '!F21+'[1]Ռ. Պապոյան'!F21+'[1]Մ. Արղամանյան'!F21+'[1]Ա. Բեկթաշյան'!F21+'[1]Ա. Նիկողոսյան'!F21+'[1]Մ. Հարությունյան'!F21+'[1]Ռ. Մխիթարյան'!F21+'[1]Ն. Հովակիմյան'!F21+'[1]Ռ. Բարսեղյան'!F21+'[1]Ա. Մնացականյան'!F21+'[1]Կ. Ամիրյան'!F21+'[1]Ս. Մարաբյան'!F21+'[1]Ա. Նահապետյան'!F21+'[1]Ա. Հովհաննիսյան'!F21+'[1]Մ. Մակյան'!F21 -> 0 | G21: ='[1]Վ. Ռշտունի'!G21+'[1]Մ. Պապոյան'!G21+'[1]Լ. Աբգարյան'!G21+'[1]Կ. Մարդանյան'!G21+'[1]Ա. Վարդանյան'!G21+'[1]Ա. Մաթևոսյան'!G21+'[1]Լ. Հովհաննիսյան'!G21+[1]Ա.Դանիելյան!G21+'[1]Ս. Համբարձումյան'!G21+'[1]Գ. Հովհաննիսյան'!G21+'[1]Մ. Մելքոնյան'!G21+'[1]Լ. Ալավերդյան '!G21+'[1]Ռ. Պապոյան'!G21+'[1]Մ. Արղամանյան'!G21+'[1]Ա. Բեկթաշյան'!G21+'[1]Ա. Նիկողոսյան'!G21+'[1]Մ. Հարությունյան'!G21+'[1]Ռ. Մխիթարյան'!G21+'[1]Ն. Հովակիմյան'!G21+'[1]Ռ. Բարսեղյան'!G21+'[1]Ա. Մնացականյան'!G21+'[1]Կ. Ամիրյան'!G21+'[1]Ս. Մարաբյան'!G21+'[1]Ա. Նահապետյան'!G21+'[1]Ա. Հովհաննիսյան'!G21+'[1]Մ. Մակյան'!G21 -> 0 | H21: ='[1]Վ. Ռշտունի'!H21+'[1]Մ. Պապոյան'!H21+'[1]Լ. Աբգարյան'!H21+'[1]Կ. Մարդանյան'!H21+'[1]Ա. Վարդանյան'!H21+'[1]Ա. Մաթևոսյան'!H21+'[1]Լ. Հովհաննիսյան'!H21+[1]Ա.Դանիելյան!H21+'[1]Ս. Համբարձումյան'!H21+'[1]Գ. Հովհաննիսյան'!H21+'[1]Մ. Մելքոնյան'!H21+'[1]Լ. Ալավերդյան '!H21+'[1]Ռ. Պապոյան'!H21+'[1]Մ. Արղամանյան'!H21+'[1]Ա. Բեկթաշյան'!H21+'[1]Ա. Նիկողոսյան'!H21+'[1]Մ. Հարությունյան'!H21+'[1]Ռ. Մխիթարյան'!H21+'[1]Ն. Հովակիմյան'!H21+'[1]Ռ. Բարսեղյան'!H21+'[1]Ա. Մնացականյան'!H21+'[1]Կ. Ամիրյան'!H21+'[1]Ս. Մարաբյան'!H21+'[1]Ա. Նահապետյան'!H21+'[1]Ա. Հովհաննիսյան'!H21+'[1]Մ. Մակյան'!H21 -> 0 | I21: ='[1]Վ. Ռշտունի'!I21+'[1]Մ. Պապոյան'!I21+'[1]Լ. Աբգարյան'!I21+'[1]Կ. Մարդանյան'!I21+'[1]Ա. Վարդանյան'!I21+'[1]Ա. Մաթևոսյան'!I21+'[1]Լ. Հովհաննիսյան'!I21+[1]Ա.Դանիելյան!I21+'[1]Ս. Համբարձումյան'!I21+'[1]Գ. Հովհաննիսյան'!I21+'[1]Մ. Մելքոնյան'!I21+'[1]Լ. Ալավերդյան '!I21+'[1]Ռ. Պապոյան'!I21+'[1]Մ. Արղամանյան'!I21+'[1]Ա. Բեկթաշյան'!I21+'[1]Ա. Նիկողոսյան'!I21+'[1]Մ. Հարությունյան'!I21+'[1]Ռ. Մխիթարյան'!I21+'[1]Ն. Հովակիմյան'!I21+'[1]Ռ. Բարսեղյան'!I21+'[1]Ա. Մնացականյան'!I21+'[1]Կ. Ամիրյան'!I21+'[1]Ս. Մարաբյան'!I21+'[1]Ա. Նահապետյան'!I21+'[1]Ա. Հովհաննիսյան'!I21+'[1]Մ. Մակյան'!I21 -> 0 | J21: ='[1]Վ. Ռշտունի'!J21+'[1]Մ. Պապոյան'!J21+'[1]Լ. Աբգարյան'!J21+'[1]Կ. Մարդանյան'!J21+'[1]Ա. Վարդանյան'!J21+'[1]Ա. Մաթևոսյան'!J21+'[1]Լ. Հովհաննիսյան'!J21+[1]Ա.Դանիելյան!J21+'[1]Ս. Համբարձումյան'!J21+'[1]Գ. Հովհաննիսյան'!J21+'[1]Մ. Մելքոնյան'!J21+'[1]Լ. Ալավերդյան '!J21+'[1]Ռ. Պապոյան'!J21+'[1]Մ. Արղամանյան'!J21+'[1]Ա. Բեկթաշյան'!J21+'[1]Ա. Նիկողոսյան'!J21+'[1]Մ. Հարությունյան'!J21+'[1]Ռ. Մխիթարյան'!J21+'[1]Ն. Հովակիմյան'!J21+'[1]Ռ. Բարսեղյան'!J21+'[1]Ա. Մնացականյան'!J21+'[1]Կ. Ամիրյան'!J21+'[1]Ս. Մարաբյան'!J21+'[1]Ա. Նահապետյան'!J21+'[1]Ա. Հովհաննիսյան'!J21+'[1]Մ. Մակյան'!J21 -> 0 | K21: 0 | L21: ='[1]Վ. Ռշտունի'!L21+'[1]Մ. Պապոյան'!L21+'[1]Լ. Աբգարյան'!L21+'[1]Կ. Մարդանյան'!L21+'[1]Ա. Վարդանյան'!L21+'[1]Ա. Մաթևոսյան'!L21+'[1]Լ. Հովհաննիսյան'!L21+[1]Ա.Դանիելյան!L21+'[1]Ս. Համբարձումյան'!L21+'[1]Գ. Հովհաննիսյան'!L21+'[1]Մ. Մելքոնյան'!L21+'[1]Լ. Ալավերդյան '!L21+'[1]Ռ. Պապոյան'!L21+'[1]Մ. Արղամանյան'!L21+'[1]Ա. Բեկթաշյան'!L21+'[1]Ա. Նիկողոսյան'!L21+'[1]Մ. Հարությունյան'!L21+'[1]Ռ. Մխիթարյան'!L21+'[1]Ն. Հովակիմյան'!L21+'[1]Ռ. Բարսեղյան'!L21+'[1]Ա. Մնացականյան'!L21+'[1]Կ. Ամիրյան'!L21+'[1]Ս. Մարաբյան'!L21+'[1]Ա. Նահապետյան'!L21+'[1]Ա. Հովհաննիսյան'!L21+'[1]Մ. Մակյան'!L21 -> 0 | M21: ='[1]Վ. Ռշտունի'!M21+'[1]Մ. Պապոյան'!M21+'[1]Լ. Աբգարյան'!M21+'[1]Կ. Մարդանյան'!M21+'[1]Ա. Վարդանյան'!M21+'[1]Ա. Մաթևոսյան'!M21+'[1]Լ. Հովհաննիսյան'!M21+[1]Ա.Դանիելյան!M21+'[1]Ս. Համբարձումյան'!M21+'[1]Գ. Հովհաննիսյան'!M21+'[1]Մ. Մելքոնյան'!M21+'[1]Լ. Ալավերդյան '!M21+'[1]Ռ. Պապոյան'!M21+'[1]Մ. Արղամանյան'!M21+'[1]Ա. Բեկթաշյան'!M21+'[1]Ա. Նիկողոսյան'!M21+'[1]Մ. Հարությունյան'!M21+'[1]Ռ. Մխիթարյան'!M21+'[1]Ն. Հովակիմյան'!M21+'[1]Ռ. Բարսեղյան'!M21+'[1]Ա. Մնացականյան'!M21+'[1]Կ. Ամիրյան'!M21+'[1]Ս. Մարաբյան'!M21+'[1]Ա. Նահապետյան'!M21+'[1]Ա. Հովհաննիսյան'!M21+'[1]Մ. Մակյան'!M21 -> 0 | N21: ='[1]Վ. Ռշտունի'!N21+'[1]Մ. Պապոյան'!N21+'[1]Լ. Աբգարյան'!N21+'[1]Կ. Մարդանյան'!N21+'[1]Ա. Վարդանյան'!N21+'[1]Ա. Մաթևոսյան'!N21+'[1]Լ. Հովհաննիսյան'!N21+[1]Ա.Դանիելյան!N21+'[1]Ս. Համբարձումյան'!N21+'[1]Գ. Հովհաննիսյան'!N21+'[1]Մ. Մելքոնյան'!N21+'[1]Լ. Ալավերդյան '!N21+'[1]Ռ. Պապոյան'!N21+'[1]Մ. Արղամանյան'!N21+'[1]Ա. Բեկթաշյան'!N21+'[1]Ա. Նիկողոսյան'!N21+'[1]Մ. Հարությունյան'!N21+'[1]Ռ. Մխիթարյան'!N21+'[1]Ն. Հովակիմյան'!N21+'[1]Ռ. Բարսեղյան'!N21+'[1]Ա. Մնացականյան'!N21+'[1]Կ. Ամիրյան'!N21+'[1]Ս. Մարաբյան'!N21+'[1]Ա. Նահապետյան'!N21+'[1]Ա. Հովհաննիսյան'!N21+'[1]Մ. Մակյան'!N21 -> 0 | O21: ='[1]Վ. Ռշտունի'!O21+'[1]Մ. Պապոյան'!O21+'[1]Լ. Աբգարյան'!O21+'[1]Կ. Մարդանյան'!O21+'[1]Ա. Վարդանյան'!O21+'[1]Ա. Մաթևոսյան'!O21+'[1]Լ. Հովհաննիսյան'!O21+[1]Ա.Դանիելյան!O21+'[1]Ս. Համբարձումյան'!O21+'[1]Գ. Հովհաննիսյան'!O21+'[1]Մ. Մելքոնյան'!O21+'[1]Լ. Ալավերդյան '!O21+'[1]Ռ. Պապոյան'!O21+'[1]Մ. Արղամանյան'!O21+'[1]Ա. Բեկթաշյան'!O21+'[1]Ա. Նիկողոսյան'!O21+'[1]Մ. Հարությունյան'!O21+'[1]Ռ. Մխիթարյան'!O21+'[1]Ն. Հովակիմյան'!O21+'[1]Ռ. Բարսեղյան'!O21+'[1]Ա. Մնացականյան'!O21+'[1]Կ. Ամիրյան'!O21+'[1]Ս. Մարաբյան'!O21+'[1]Ա. Նահապետյան'!O21+'[1]Ա. Հովհաննիսյան'!O21+'[1]Մ. Մակյան'!O21 -> 0 | P21: ='[1]Վ. Ռշտունի'!P21+'[1]Մ. Պապոյան'!P21+'[1]Լ. Աբգարյան'!P21+'[1]Կ. Մարդանյան'!P21+'[1]Ա. Վարդանյան'!P21+'[1]Ա. Մաթևոսյան'!P21+'[1]Լ. Հովհաննիսյան'!P21+[1]Ա.Դանիելյան!P21+'[1]Ս. Համբարձումյան'!P21+'[1]Գ. Հովհաննիսյան'!P21+'[1]Մ. Մելքոնյան'!P21+'[1]Լ. Ալավերդյան '!P21+'[1]Ռ. Պապոյան'!P21+'[1]Մ. Արղամանյան'!P21+'[1]Ա. Բեկթաշյան'!P21+'[1]Ա. Նիկողոսյան'!P21+'[1]Մ. Հարությունյան'!P21+'[1]Ռ. Մխիթարյան'!P21+'[1]Ն. Հովակիմյան'!P21+'[1]Ռ. Բարսեղյան'!P21+'[1]Ա. Մնացականյան'!P21+'[1]Կ. Ամիրյան'!P21+'[1]Ս. Մարաբյան'!P21+'[1]Ա. Նահապետյան'!P21+'[1]Ա. Հովհաննիսյան'!P21+'[1]Մ. Մակյան'!P21 -> 0 | Q21: ='[1]Վ. Ռշտունի'!Q21+'[1]Մ. Պապոյան'!Q21+'[1]Լ. Աբգարյան'!Q21+'[1]Կ. Մարդանյան'!Q21+'[1]Ա. Վարդանյան'!Q21+'[1]Ա. Մաթևոսյան'!Q21+'[1]Լ. Հովհաննիսյան'!Q21+[1]Ա.Դանիելյան!Q21+'[1]Ս. Համբարձումյան'!Q21+'[1]Գ. Հովհաննիսյան'!Q21+'[1]Մ. Մելքոնյան'!Q21+'[1]Լ. Ալավերդյան '!Q21+'[1]Ռ. Պապոյան'!Q21+'[1]Մ. Արղամանյան'!Q21+'[1]Ա. Բեկթաշյան'!Q21+'[1]Ա. Նիկողոսյան'!Q21+'[1]Մ. Հարությունյան'!Q21+'[1]Ռ. Մխիթարյան'!Q21+'[1]Ն. Հովակիմյան'!Q21+'[1]Ռ. Բարսեղյան'!Q21+'[1]Ա. Մնացականյան'!Q21+'[1]Կ. Ամիրյան'!Q21+'[1]Ս. Մարաբյան'!Q21+'[1]Ա. Նահապետյան'!Q21+'[1]Ա. Հովհաննիսյան'!Q21+'[1]Մ. Մակյան'!Q21 -> 0 | R21: ='[1]Վ. Ռշտունի'!R21+'[1]Մ. Պապոյան'!R21+'[1]Լ. Աբգարյան'!R21+'[1]Կ. Մարդանյան'!R21+'[1]Ա. Վարդանյան'!R21+'[1]Ա. Մաթևոսյան'!R21+'[1]Լ. Հովհաննիսյան'!R21+[1]Ա.Դանիելյան!R21+'[1]Ս. Համբարձումյան'!R21+'[1]Գ. Հովհաննիսյան'!R21+'[1]Մ. Մելքոնյան'!R21+'[1]Լ. Ալավերդյան '!R21+'[1]Ռ. Պապոյան'!R21+'[1]Մ. Արղամանյան'!R21+'[1]Ա. Բեկթաշյան'!R21+'[1]Ա. Նիկողոսյան'!R21+'[1]Մ. Հարությունյան'!R21+'[1]Ռ. Մխիթարյան'!R21+'[1]Ն. Հովակիմյան'!R21+'[1]Ռ. Բարսեղյան'!R21+'[1]Ա. Մնացականյան'!R21+'[1]Կ. Ամիրյան'!R21+'[1]Ս. Մարաբյան'!R21+'[1]Ա. Նահապետյան'!R21+'[1]Ա. Հովհաննիսյան'!R21+'[1]Մ. Մակյան'!R21 -> 0 | S21: ='[1]Վ. Ռշտունի'!S21+'[1]Մ. Պապոյան'!S21+'[1]Լ. Աբգարյան'!S21+'[1]Կ. Մարդանյան'!S21+'[1]Ա. Վարդանյան'!S21+'[1]Ա. Մաթևոսյան'!S21+'[1]Լ. Հովհաննիսյան'!S21+[1]Ա.Դանիելյան!S21+'[1]Ս. Համբարձումյան'!S21+'[1]Գ. Հովհաննիսյան'!S21+'[1]Մ. Մելքոնյան'!S21+'[1]Լ. Ալավերդյան '!S21+'[1]Ռ. Պապոյան'!S21+'[1]Մ. Արղամանյան'!S21+'[1]Ա. Բեկթաշյան'!S21+'[1]Ա. Նիկողոսյան'!S21+'[1]Մ. Հարությունյան'!S21+'[1]Ռ. Մխիթարյան'!S21+'[1]Ն. Հովակիմյան'!S21+'[1]Ռ. Բարսեղյան'!S21+'[1]Ա. Մնացականյան'!S21+'[1]Կ. Ամիրյան'!S21+'[1]Ս. Մարաբյան'!S21+'[1]Ա. Նահապետյան'!S21+'[1]Ա. Հովհաննիսյան'!S21+'[1]Մ. Մակյան'!S21 -> 0 | ... AN21: ='[1]Վ. Ռշտունի'!AN21+'[1]Մ. Պապոյան'!AN21+'[1]Լ. Աբգարյան'!AN21+'[1]Կ. Մարդանյան'!AN21+'[1]Ա. Վարդանյան'!AN21+'[1]Ա. Մաթևոսյան'!AN21+'[1]Լ. Հովհաննիսյան'!AN21+[1]Ա.Դանիելյան!AN21+'[1]Ս. Համբարձումյան'!AN21+'[1]Գ. Հովհաննիսյան'!AN21+'[1]Մ. Մելքոնյան'!AN21+'[1]Լ. Ալավերդյան '!AN21+'[1]Ռ. Պապոյան'!AN21+'[1]Մ. Արղամանյան'!AN21+'[1]Ա. Բեկթաշյան'!AN21+'[1]Ա. Նիկողոսյան'!AN21+'[1]Մ. Հարությունյան'!AN21+'[1]Ռ. Մխիթարյան'!AN21+'[1]Ն. Հովակիմյան'!AN21+'[1]Ռ. Բարսեղյան'!AN21+'[1]Ա. Մնացականյան'!AN21+'[1]Կ. Ամիրյան'!AN21+'[1]Ս. Մարաբյան'!AN21+'[1]Ա. Նահապետյան'!AN21+'[1]Ա. Հովհաննիսյան'!AN21+'[1]Մ. Մակյան'!AN21 -> 0
A22: 12 | B22: Հակակոռուպցիոն դատարան | C22: ='[1]Վ. Ռշտունի'!C22+'[1]Մ. Պապոյան'!C22+'[1]Լ. Աբգարյան'!C22+'[1]Կ. Մարդանյան'!C22+'[1]Ա. Վարդանյան'!C22+'[1]Ա. Մաթևոսյան'!C22+'[1]Լ. Հովհաննիսյան'!C22+[1]Ա.Դանիելյան!C22+'[1]Ս. Համբարձումյան'!C22+'[1]Գ. Հովհաննիսյան'!C22+'[1]Մ. Մելքոնյան'!C22+'[1]Լ. Ալավերդյան '!C22+'[1]Ռ. Պապոյան'!C22+'[1]Մ. Արղամանյան'!C22+'[1]Ա. Բեկթաշյան'!C22+'[1]Ա. Նիկողոսյան'!C22+'[1]Մ. Հարությունյան'!C22+'[1]Ռ. Մխիթարյան'!C22+'[1]Ն. Հովակիմյան'!C22+'[1]Ռ. Բարսեղյան'!C22+'[1]Ա. Մնացականյան'!C22+'[1]Կ. Ամիրյան'!C22+'[1]Ս. Մարաբյան'!C22+'[1]Ա. Նահապետյան'!C22+'[1]Ա. Հովհաննիսյան'!C22+'[1]Մ. Մակյան'!C22 -> 2 | D22: ='[1]Վ. Ռշտունի'!D22+'[1]Մ. Պապոյան'!D22+'[1]Լ. Աբգարյան'!D22+'[1]Կ. Մարդանյան'!D22+'[1]Ա. Վարդանյան'!D22+'[1]Ա. Մաթևոսյան'!D22+'[1]Լ. Հովհաննիսյան'!D22+[1]Ա.Դանիելյան!D22+'[1]Ս. Համբարձումյան'!D22+'[1]Գ. Հովհաննիսյան'!D22+'[1]Մ. Մելքոնյան'!D22+'[1]Լ. Ալավերդյան '!D22+'[1]Ռ. Պապոյան'!D22+'[1]Մ. Արղամանյան'!D22+'[1]Ա. Բեկթաշյան'!D22+'[1]Ա. Նիկողոսյան'!D22+'[1]Մ. Հարությունյան'!D22+'[1]Ռ. Մխիթարյան'!D22+'[1]Ն. Հովակիմյան'!D22+'[1]Ռ. Բարսեղյան'!D22+'[1]Ա. Մնացականյան'!D22+'[1]Կ. Ամիրյան'!D22+'[1]Ս. Մարաբյան'!D22+'[1]Ա. Նահապետյան'!D22+'[1]Ա. Հովհաննիսյան'!D22+'[1]Մ. Մակյան'!D22 -> 0 | E22: ='[1]Վ. Ռշտունի'!E22+'[1]Մ. Պապոյան'!E22+'[1]Լ. Աբգարյան'!E22+'[1]Կ. Մարդանյան'!E22+'[1]Ա. Վարդանյան'!E22+'[1]Ա. Մաթևոսյան'!E22+'[1]Լ. Հովհաննիսյան'!E22+[1]Ա.Դանիելյան!E22+'[1]Ս. Համբարձումյան'!E22+'[1]Գ. Հովհաննիսյան'!E22+'[1]Մ. Մելքոնյան'!E22+'[1]Լ. Ալավերդյան '!E22+'[1]Ռ. Պապոյան'!E22+'[1]Մ. Արղամանյան'!E22+'[1]Ա. Բեկթաշյան'!E22+'[1]Ա. Նիկողոսյան'!E22+'[1]Մ. Հարությունյան'!E22+'[1]Ռ. Մխիթարյան'!E22+'[1]Ն. Հովակիմյան'!E22+'[1]Ռ. Բարսեղյան'!E22+'[1]Ա. Մնացականյան'!E22+'[1]Կ. Ամիրյան'!E22+'[1]Ս. Մարաբյան'!E22+'[1]Ա. Նահապետյան'!E22+'[1]Ա. Հովհաննիսյան'!E22+'[1]Մ. Մակյան'!E22 -> 2 | F22: 445 | G22: ='[1]Վ. Ռշտունի'!G22+'[1]Մ. Պապոյան'!G22+'[1]Լ. Աբգարյան'!G22+'[1]Կ. Մարդանյան'!G22+'[1]Ա. Վարդանյան'!G22+'[1]Ա. Մաթևոսյան'!G22+'[1]Լ. Հովհաննիսյան'!G22+[1]Ա.Դանիելյան!G22+'[1]Ս. Համբարձումյան'!G22+'[1]Գ. Հովհաննիսյան'!G22+'[1]Մ. Մելքոնյան'!G22+'[1]Լ. Ալավերդյան '!G22+'[1]Ռ. Պապոյան'!G22+'[1]Մ. Արղամանյան'!G22+'[1]Ա. Բեկթաշյան'!G22+'[1]Ա. Նիկողոսյան'!G22+'[1]Մ. Հարությունյան'!G22+'[1]Ռ. Մխիթարյան'!G22+'[1]Ն. Հովակիմյան'!G22+'[1]Ռ. Բարսեղյան'!G22+'[1]Ա. Մնացականյան'!G22+'[1]Կ. Ամիրյան'!G22+'[1]Ս. Մարաբյան'!G22+'[1]Ա. Նահապետյան'!G22+'[1]Ա. Հովհաննիսյան'!G22+'[1]Մ. Մակյան'!G22 -> 391 | H22: ='[1]Վ. Ռշտունի'!H22+'[1]Մ. Պապոյան'!H22+'[1]Լ. Աբգարյան'!H22+'[1]Կ. Մարդանյան'!H22+'[1]Ա. Վարդանյան'!H22+'[1]Ա. Մաթևոսյան'!H22+'[1]Լ. Հովհաննիսյան'!H22+[1]Ա.Դանիելյան!H22+'[1]Ս. Համբարձումյան'!H22+'[1]Գ. Հովհաննիսյան'!H22+'[1]Մ. Մելքոնյան'!H22+'[1]Լ. Ալավերդյան '!H22+'[1]Ռ. Պապոյան'!H22+'[1]Մ. Արղամանյան'!H22+'[1]Ա. Բեկթաշյան'!H22+'[1]Ա. Նիկողոսյան'!H22+'[1]Մ. Հարությունյան'!H22+'[1]Ռ. Մխիթարյան'!H22+'[1]Ն. Հովակիմյան'!H22+'[1]Ռ. Բարսեղյան'!H22+'[1]Ա. Մնացականյան'!H22+'[1]Կ. Ամիրյան'!H22+'[1]Ս. Մարաբյան'!H22+'[1]Ա. Նահապետյան'!H22+'[1]Ա. Հովհաննիսյան'!H22+'[1]Մ. Մակյան'!H22 -> 26 | I22: ='[1]Վ. Ռշտունի'!I22+'[1]Մ. Պապոյան'!I22+'[1]Լ. Աբգարյան'!I22+'[1]Կ. Մարդանյան'!I22+'[1]Ա. Վարդանյան'!I22+'[1]Ա. Մաթևոսյան'!I22+'[1]Լ. Հովհաննիսյան'!I22+[1]Ա.Դանիելյան!I22+'[1]Ս. Համբարձումյան'!I22+'[1]Գ. Հովհաննիսյան'!I22+'[1]Մ. Մելքոնյան'!I22+'[1]Լ. Ալավերդյան '!I22+'[1]Ռ. Պապոյան'!I22+'[1]Մ. Արղամանյան'!I22+'[1]Ա. Բեկթաշյան'!I22+'[1]Ա. Նիկողոսյան'!I22+'[1]Մ. Հարությունյան'!I22+'[1]Ռ. Մխիթարյան'!I22+'[1]Ն. Հովակիմյան'!I22+'[1]Ռ. Բարսեղյան'!I22+'[1]Ա. Մնացականյան'!I22+'[1]Կ. Ամիրյան'!I22+'[1]Ս. Մարաբյան'!I22+'[1]Ա. Նահապետյան'!I22+'[1]Ա. Հովհաննիսյան'!I22+'[1]Մ. Մակյան'!I22 -> 0 | J22: ='[1]Վ. Ռշտունի'!J22+'[1]Մ. Պապոյան'!J22+'[1]Լ. Աբգարյան'!J22+'[1]Կ. Մարդանյան'!J22+'[1]Ա. Վարդանյան'!J22+'[1]Ա. Մաթևոսյան'!J22+'[1]Լ. Հովհաննիսյան'!J22+[1]Ա.Դանիելյան!J22+'[1]Ս. Համբարձումյան'!J22+'[1]Գ. Հովհաննիսյան'!J22+'[1]Մ. Մելքոնյան'!J22+'[1]Լ. Ալավերդյան '!J22+'[1]Ռ. Պապոյան'!J22+'[1]Մ. Արղամանյան'!J22+'[1]Ա. Բեկթաշյան'!J22+'[1]Ա. Նիկողոսյան'!J22+'[1]Մ. Հարությունյան'!J22+'[1]Ռ. Մխիթարյան'!J22+'[1]Ն. Հովակիմյան'!J22+'[1]Ռ. Բարսեղյան'!J22+'[1]Ա. Մնացականյան'!J22+'[1]Կ. Ամիրյան'!J22+'[1]Ս. Մարաբյան'!J22+'[1]Ա. Նահապետյան'!J22+'[1]Ա. Հովհաննիսյան'!J22+'[1]Մ. Մակյան'!J22 -> 3 | K22: 25 | L22: ='[1]Վ. Ռշտունի'!L22+'[1]Մ. Պապոյան'!L22+'[1]Լ. Աբգարյան'!L22+'[1]Կ. Մարդանյան'!L22+'[1]Ա. Վարդանյան'!L22+'[1]Ա. Մաթևոսյան'!L22+'[1]Լ. Հովհաննիսյան'!L22+[1]Ա.Դանիելյան!L22+'[1]Ս. Համբարձումյան'!L22+'[1]Գ. Հովհաննիսյան'!L22+'[1]Մ. Մելքոնյան'!L22+'[1]Լ. Ալավերդյան '!L22+'[1]Ռ. Պապոյան'!L22+'[1]Մ. Արղամանյան'!L22+'[1]Ա. Բեկթաշյան'!L22+'[1]Ա. Նիկողոսյան'!L22+'[1]Մ. Հարությունյան'!L22+'[1]Ռ. Մխիթարյան'!L22+'[1]Ն. Հովակիմյան'!L22+'[1]Ռ. Բարսեղյան'!L22+'[1]Ա. Մնացականյան'!L22+'[1]Կ. Ամիրյան'!L22+'[1]Ս. Մարաբյան'!L22+'[1]Ա. Նահապետյան'!L22+'[1]Ա. Հովհաննիսյան'!L22+'[1]Մ. Մակյան'!L22 -> 316 | M22: ='[1]Վ. Ռշտունի'!M22+'[1]Մ. Պապոյան'!M22+'[1]Լ. Աբգարյան'!M22+'[1]Կ. Մարդանյան'!M22+'[1]Ա. Վարդանյան'!M22+'[1]Ա. Մաթևոսյան'!M22+'[1]Լ. Հովհաննիսյան'!M22+[1]Ա.Դանիելյան!M22+'[1]Ս. Համբարձումյան'!M22+'[1]Գ. Հովհաննիսյան'!M22+'[1]Մ. Մելքոնյան'!M22+'[1]Լ. Ալավերդյան '!M22+'[1]Ռ. Պապոյան'!M22+'[1]Մ. Արղամանյան'!M22+'[1]Ա. Բեկթաշյան'!M22+'[1]Ա. Նիկողոսյան'!M22+'[1]Մ. Հարությունյան'!M22+'[1]Ռ. Մխիթարյան'!M22+'[1]Ն. Հովակիմյան'!M22+'[1]Ռ. Բարսեղյան'!M22+'[1]Ա. Մնացականյան'!M22+'[1]Կ. Ամիրյան'!M22+'[1]Ս. Մարաբյան'!M22+'[1]Ա. Նահապետյան'!M22+'[1]Ա. Հովհաննիսյան'!M22+'[1]Մ. Մակյան'!M22 -> 2 | N22: ='[1]Վ. Ռշտունի'!N22+'[1]Մ. Պապոյան'!N22+'[1]Լ. Աբգարյան'!N22+'[1]Կ. Մարդանյան'!N22+'[1]Ա. Վարդանյան'!N22+'[1]Ա. Մաթևոսյան'!N22+'[1]Լ. Հովհաննիսյան'!N22+[1]Ա.Դանիելյան!N22+'[1]Ս. Համբարձումյան'!N22+'[1]Գ. Հովհաննիսյան'!N22+'[1]Մ. Մելքոնյան'!N22+'[1]Լ. Ալավերդյան '!N22+'[1]Ռ. Պապոյան'!N22+'[1]Մ. Արղամանյան'!N22+'[1]Ա. Բեկթաշյան'!N22+'[1]Ա. Նիկողոսյան'!N22+'[1]Մ. Հարությունյան'!N22+'[1]Ռ. Մխիթարյան'!N22+'[1]Ն. Հովակիմյան'!N22+'[1]Ռ. Բարսեղյան'!N22+'[1]Ա. Մնացականյան'!N22+'[1]Կ. Ամիրյան'!N22+'[1]Ս. Մարաբյան'!N22+'[1]Ա. Նահապետյան'!N22+'[1]Ա. Հովհաննիսյան'!N22+'[1]Մ. Մակյան'!N22 -> 0 | O22: ='[1]Վ. Ռշտունի'!O22+'[1]Մ. Պապոյան'!O22+'[1]Լ. Աբգարյան'!O22+'[1]Կ. Մարդանյան'!O22+'[1]Ա. Վարդանյան'!O22+'[1]Ա. Մաթևոսյան'!O22+'[1]Լ. Հովհաննիսյան'!O22+[1]Ա.Դանիելյան!O22+'[1]Ս. Համբարձումյան'!O22+'[1]Գ. Հովհաննիսյան'!O22+'[1]Մ. Մելքոնյան'!O22+'[1]Լ. Ալավերդյան '!O22+'[1]Ռ. Պապոյան'!O22+'[1]Մ. Արղամանյան'!O22+'[1]Ա. Բեկթաշյան'!O22+'[1]Ա. Նիկողոսյան'!O22+'[1]Մ. Հարությունյան'!O22+'[1]Ռ. Մխիթարյան'!O22+'[1]Ն. Հովակիմյան'!O22+'[1]Ռ. Բարսեղյան'!O22+'[1]Ա. Մնացականյան'!O22+'[1]Կ. Ամիրյան'!O22+'[1]Ս. Մարաբյան'!O22+'[1]Ա. Նահապետյան'!O22+'[1]Ա. Հովհաննիսյան'!O22+'[1]Մ. Մակյան'!O22 -> 0 | P22: ='[1]Վ. Ռշտունի'!P22+'[1]Մ. Պապոյան'!P22+'[1]Լ. Աբգարյան'!P22+'[1]Կ. Մարդանյան'!P22+'[1]Ա. Վարդանյան'!P22+'[1]Ա. Մաթևոսյան'!P22+'[1]Լ. Հովհաննիսյան'!P22+[1]Ա.Դանիելյան!P22+'[1]Ս. Համբարձումյան'!P22+'[1]Գ. Հովհաննիսյան'!P22+'[1]Մ. Մելքոնյան'!P22+'[1]Լ. Ալավերդյան '!P22+'[1]Ռ. Պապոյան'!P22+'[1]Մ. Արղամանյան'!P22+'[1]Ա. Բեկթաշյան'!P22+'[1]Ա. Նիկողոսյան'!P22+'[1]Մ. Հարությունյան'!P22+'[1]Ռ. Մխիթարյան'!P22+'[1]Ն. Հովակիմյան'!P22+'[1]Ռ. Բարսեղյան'!P22+'[1]Ա. Մնացականյան'!P22+'[1]Կ. Ամիրյան'!P22+'[1]Ս. Մարաբյան'!P22+'[1]Ա. Նահապետյան'!P22+'[1]Ա. Հովհաննիսյան'!P22+'[1]Մ. Մակյան'!P22 -> 0 | Q22: ='[1]Վ. Ռշտունի'!Q22+'[1]Մ. Պապոյան'!Q22+'[1]Լ. Աբգարյան'!Q22+'[1]Կ. Մարդանյան'!Q22+'[1]Ա. Վարդանյան'!Q22+'[1]Ա. Մաթևոսյան'!Q22+'[1]Լ. Հովհաննիսյան'!Q22+[1]Ա.Դանիելյան!Q22+'[1]Ս. Համբարձումյան'!Q22+'[1]Գ. Հովհաննիսյան'!Q22+'[1]Մ. Մելքոնյան'!Q22+'[1]Լ. Ալավերդյան '!Q22+'[1]Ռ. Պապոյան'!Q22+'[1]Մ. Արղամանյան'!Q22+'[1]Ա. Բեկթաշյան'!Q22+'[1]Ա. Նիկողոսյան'!Q22+'[1]Մ. Հարությունյան'!Q22+'[1]Ռ. Մխիթարյան'!Q22+'[1]Ն. Հովակիմյան'!Q22+'[1]Ռ. Բարսեղյան'!Q22+'[1]Ա. Մնացականյան'!Q22+'[1]Կ. Ամիրյան'!Q22+'[1]Ս. Մարաբյան'!Q22+'[1]Ա. Նահապետյան'!Q22+'[1]Ա. Հովհաննիսյան'!Q22+'[1]Մ. Մակյան'!Q22 -> 0 | R22: ='[1]Վ. Ռշտունի'!R22+'[1]Մ. Պապոյան'!R22+'[1]Լ. Աբգարյան'!R22+'[1]Կ. Մարդանյան'!R22+'[1]Ա. Վարդանյան'!R22+'[1]Ա. Մաթևոսյան'!R22+'[1]Լ. Հովհաննիսյան'!R22+[1]Ա.Դանիելյան!R22+'[1]Ս. Համբարձումյան'!R22+'[1]Գ. Հովհաննիսյան'!R22+'[1]Մ. Մելքոնյան'!R22+'[1]Լ. Ալավերդյան '!R22+'[1]Ռ. Պապոյան'!R22+'[1]Մ. Արղամանյան'!R22+'[1]Ա. Բեկթաշյան'!R22+'[1]Ա. Նիկողոսյան'!R22+'[1]Մ. Հարությունյան'!R22+'[1]Ռ. Մխիթարյան'!R22+'[1]Ն. Հովակիմյան'!R22+'[1]Ռ. Բարսեղյան'!R22+'[1]Ա. Մնացականյան'!R22+'[1]Կ. Ամիրյան'!R22+'[1]Ս. Մարաբյան'!R22+'[1]Ա. Նահապետյան'!R22+'[1]Ա. Հովհաննիսյան'!R22+'[1]Մ. Մակյան'!R22 -> 0 | S22: ='[1]Վ. Ռշտունի'!S22+'[1]Մ. Պապոյան'!S22+'[1]Լ. Աբգարյան'!S22+'[1]Կ. Մարդանյան'!S22+'[1]Ա. Վարդանյան'!S22+'[1]Ա. Մաթևոսյան'!S22+'[1]Լ. Հովհաննիսյան'!S22+[1]Ա.Դանիելյան!S22+'[1]Ս. Համբարձումյան'!S22+'[1]Գ. Հովհաննիսյան'!S22+'[1]Մ. Մելքոնյան'!S22+'[1]Լ. Ալավերդյան '!S22+'[1]Ռ. Պապոյան'!S22+'[1]Մ. Արղամանյան'!S22+'[1]Ա. Բեկթաշյան'!S22+'[1]Ա. Նիկողոսյան'!S22+'[1]Մ. Հարությունյան'!S22+'[1]Ռ. Մխիթարյան'!S22+'[1]Ն. Հովակիմյան'!S22+'[1]Ռ. Բարսեղյան'!S22+'[1]Ա. Մնացականյան'!S22+'[1]Կ. Ամիրյան'!S22+'[1]Ս. Մարաբյան'!S22+'[1]Ա. Նահապետյան'!S22+'[1]Ա. Հովհաննիսյան'!S22+'[1]Մ. Մակյան'!S22 -> 0 | ... AN22: ='[1]Վ. Ռշտունի'!AN22+'[1]Մ. Պապոյան'!AN22+'[1]Լ. Աբգարյան'!AN22+'[1]Կ. Մարդանյան'!AN22+'[1]Ա. Վարդանյան'!AN22+'[1]Ա. Մաթևոսյան'!AN22+'[1]Լ. Հովհաննիսյան'!AN22+[1]Ա.Դանիելյան!AN22+'[1]Ս. Համբարձումյան'!AN22+'[1]Գ. Հովհաննիսյան'!AN22+'[1]Մ. Մելքոնյան'!AN22+'[1]Լ. Ալավերդյան '!AN22+'[1]Ռ. Պապոյան'!AN22+'[1]Մ. Արղամանյան'!AN22+'[1]Ա. Բեկթաշյան'!AN22+'[1]Ա. Նիկողոսյան'!AN22+'[1]Մ. Հարությունյան'!AN22+'[1]Ռ. Մխիթարյան'!AN22+'[1]Ն. Հովակիմյան'!AN22+'[1]Ռ. Բարսեղյան'!AN22+'[1]Ա. Մնացականյան'!AN22+'[1]Կ. Ամիրյան'!AN22+'[1]Ս. Մարաբյան'!AN22+'[1]Ա. Նահապետյան'!AN22+'[1]Ա. Հովհաննիսյան'!AN22+'[1]Մ. Մակյան'!AN22 -> 66
B23: ÀÝ¹³Ù»ÝÁ | C23: =SUM(C11:C22) -> 723 | D23: =SUM(D11:D22) -> 661 | E23: =SUM(E11:E22) -> 62 | F23: =SUM(F11:F22) -> 3804 | G23: =SUM(G11:G22) -> 3419 | H23: =SUM(H11:H22) -> 142 | I23: =SUM(I11:I22) -> 1 | J23: =SUM(J11:J22) -> 26 | ... AN23: =SUM(AN11:AN22) -> 803
