Workbook

Sheet վերաքննիչ քրեական դատարան 
AH1: Հավելված 2 Բարձրագույն դատական խորհրդի 2022թվականի դեկտեմբերի 26-ի թիվ ԲԴԽ-122-Ո-408 որոշման
C2: Ð²ÞìºîìàôÂÚàôÜ
A3: ÐÐ ìºð²øÜÜÆâ øðº²Î²Ü ¸²î²ð²ÜՈՒՄ êî²òì²Ì ´àÔàøÜºðÆ øÜÜàôÂÚ²Ü ìºð²´ºðÚ²È
A4: 2023 թ. ԱՌԱՋԻՆ ԿԻՍԱՄՅԱԿ
A5: ÐÐ í»ñ³ùÝÝÇã ùñ»³Ï³Ý ¹³ï³ñ³ÝáõÙ ¹³ï³íáñÝ»ñÇ Ñ³ëïÇùÝ»ñÇ ÃÇíÁ` 21
C6: Ð³ßí»ïáõ Å³Ù³Ý³Ï³Ñ³ïí³ÍÇ ëÏ½µáõÙ Ý³Ëáñ¹ Ñ³ßí»ïáõ Å³Ù³Ý³Ï³Ñ³ïí³ÍÇó ÷áË³Ýóí³Í ·áñÍ»ñÇ ÁÝ¹Ñ³Ýáõñ ÃÇíÁ | F6: Ð³ßí»ïáõ Å³Ù³Ý³Ï³Ñ³ïí³ÍáõÙ ëï³óí³Í µáÕáùÝ»ñÇ ÁÝ¹Ñ³Ýáõñ ÃÇíÁ | L6: ´áÕáù³ñÏí³Í ³Ïï»ñÇ ù³Ý³ÏÁ, áñáÝó ¹»Ù µ»ñí³Í µáÕáùÝ»ñÝ Ñ³ßí»ïáõ Å³Ù³Ý³Ï³ßñç³ÝáõÙ ÁÝ¹áõÝí»É »Ý í³ñáõÛÃ | M6: Ð³ßí»ïáõ Å³Ù³Ý³Ï³ßñç³ÝáõÙ ùÝÝí³Í ·áñÍ»ñáí Ï³Û³óí³Í áñáßáõÙÝ»ñ | AA6: Ð³ßí»ïáõ Å³Ù³Ý³Ï³Ñ³ïí³ÍáõÙ ³í³ñïí³Í ·áñÍ»ñÇ ÁÝ¹Ñ³Ýáõñ ÃÇíÁ | AE6: Ð³ßí»ïáõ Å³Ù³Ý³Ï³Ñ³ïí³ÍáõÙ Ï³ë»óí³Í í³ñáõÛÃÝ»ñáí ·áñÍ»ñÇ ÁÝ¹Ñ³Ýáõñ ÃÇíÁ | AF6: Ð³ßí»ïáõ Å³Ù³Ý³Ï³Ñ³ïí³ÍáõÙ ³Ý³í³ñï ·áñÍ»ñÇ ÁÝ¹Ñ³Ýáõñ ÃÇíÁ | AG6: ²Û¹ ÃíáõÙ` Ï³ë»óí³Í | AH6: ´áÕáù³ñÏí³Í ¹³ï³Ï³Ý ³Ïï»ñÇ ÃÇíÁ` Áëï ï»ë³ÏÝ»ñÇ | AK6: փոփոխված ¹³ï³Ï³Ý ³Ïï»ñÇ ÃÇíÁ` Áëï ï»ë³ÏÝ»ñÇ | AN6: ´áÕáù³ñÏí»É »Ý í×é³µ»Ï ¹³ï³ñ³Ý
AH7: ²Û¹ ÃíáõÙ` ·áñÍÝ Áëï ¿áõÃÛ³Ý ÉáõÍáÕ ¹³ï³Ï³Ý ³Ïï»ñ | AI7: ²Û¹ ÃíáõÙ` հատուկ վերանայման վարույթով | AJ7: ÀÝ¹³Ù»ÝÁ | AK7: ²Û¹ ÃíáõÙ` ·áñÍÝ Áëï ¿áõÃÛ³Ý ÉáõÍáÕ ¹³ï³Ï³Ý ³Ïï»ñ | AL7: ²Û¹ ÃíáõÙ` ²Û¹ ÃíáõÙ` հատուկ վերանայման վարույթով | AM7: ÀÝ¹³Ù»ÝÁ
C8: ÀÝ¹³Ù»ÝÁ | D8: Այդ թվում` վարույթ ընդունված µáÕáùÝ»ñáí փոխանցված | E8: Այդ թվում` չքննարկված µáÕáùÝ»ñáí փոխանցված | F8: ÀÝ¹³Ù»ÝÁ | G8: Այդ թվում` ընդունվել է վարույթ | H8: Այդ թվում` թողնվել է առանց քննության | I8: Այդ թվում` ÁÝ¹áõÝáõÙÁ մերժվել է | J8: Այդ թվում` í»ñ³ùÝÝÇã í³ñáõÛÃÁ Ï³ñ×í»É ¿ | K8: Այդ թվում` չի քննարկվել | M8: ¸³ï³Ï³Ý ³ÏïÁ ÃáÕÝí»É ¿ անփոփոխ | N8: ¸³ï³Ï³Ý ³ÏïÝ ³ÙµáÕçáõÃÛ³Ùµ փոփոխվել է ¨ Ï³Û³óí»É ¿ ·áñÍÝ Áëï ¿áõÃÛ³Ý ÉáõÍáÕ ¹³ï³Ï³Ý ³Ïï | O8: ¸³ï³Ï³Ý ³ÏïÁ Ù³ëÝ³ÏÇáñ»Ý փոփոխվել է ¨ փոփոխված Ù³ëáí Ï³Û³óí»É ¿ ·áñÍÝ Áëï ¿áõÃÛ³Ý ÉáõÍáÕ ¹³ï³Ï³Ý ³Ïï | P8: վարույթը փոխանցվել է նոր քննության | Q8: ¹³ï³Ï³Ý ³ÏïÁ Ù³ëÝ³ÏÇáñ»Ý փոփոխվել է ¨ ·áñÍÝ áõÕ³ñÏí»É ¿ Ýáñ ùÝÝáõÃÛ³Ý | R8: գույքային .Ñ³ÛóÇ Ù³ëáí ³ÙµáÕçáõÃÛ³Ùµ փոփոխվել է ¹³ï³Ï³Ý ³ÏïÁ ¨ Ñ³ëï³ïí»É ¿ ÏáÕÙ»ñÇ Ñ³ßïáõÃÛ³Ý Ñ³Ù³Ó³ÛÝáõÃÛáõÝÁ | S8: գույքային հայցÇ Ù³ëáí Ù³ëÝ³ÏÇáñ»Ý փոփոխվել է ¹³ï³Ï³Ý ³ÏïÁ ¨ փոփոխված Ù³ëáí Ñ³ëï³ïí»É ¿ ÏáÕÙ»ñÇ Ñ³ßïáõÃÛ³Ý Ñ³Ù³Ó³ÛÝáõÃÛáõÝÁ | T8: ²ÙµáÕçáõÃÛ³Ùµ փոփոխվել է քրեական í³ñáõÛÃÁ Ï³ñ×í»É ¿ | U8: Ø³ëÝ³ÏÇáñ»Ý փոփոխվել ¿ ¹³ï³Ï³Ý ³ÏïÁ ¨ ³Û¹ Ù³ëáí ·áñÍÇ í³ñáõÛÃÁ Ï³ñ×í»É ¿ | V8: ¸³ï³Ï³Ý ³ÏïÝ ³ÙµáÕçáõÃÛ³Ùµ փոփոխվել է | W8: ¸³ï³Ï³Ý ³ÏïÁ Ù³ëÝ³ÏÇáñ»Ý փոփոխվել է | X8: Դ³ï³Ï³Ý ³ÏïÁ փոփոխվել է ¨գույքային հայցը ÃáÕÝí»É ¿ ³é³Ýó ùÝÝáõÃÛ³Ý | Y8: Գործն ըստ էության չլուծող դատական ակտը թողնվել է օրինական ուժի մեջ | Z8: Կայացվել է գործն ըստ էության չլուծող նոր դատական ակտ | AA8: ²Û¹ ÃíáõÙ` ·áñÍÝ Áëï ¿áõÃÛ³Ý ÉáõÍ»Éáõ ÑÇÙùáí ³í³ñïí³Í | AB8: ²Û¹ ÃíáõÙ` ·áñÍÇ í³ñáõÛÃÁ Ï³ñ×»Éáõ ÑÇÙùáí ³í³ñïí³Í | AC8: ²Û¹ ÃíáõÙ` ³ÛÉ ÑÇÙùáí ³í³ñïí³Í | AD8: ÀÝ¹³Ù»ÝÁ
B10: ¸²î²ð²ÜÜºð | C10: 1 | D10: 2 | E10: 3 | F10: 4 | G10: 5 | H10: 6 | I10: 7 | J10: 8 | K10: 9 | L10: 10 | M10: 11 | N10: 12 | O10: 13 | P10: 14 | Q10: 15 | R10: 16 | S10: 17 | T10: 18 | U10: 19 | V10: 20 | W10: 21 | X10: 22 | Y10: 23 | Z10: 24 | AA10: 25 | AB10: 26 | AC10: 27 | AD10: 28 | AE10: 29 | AF10: 30 | AG10: 31 | AH10: 32 | AI10: 33 | AJ10: 34 | AK10: 35 | AL10: 36 | AM10: 37 | AN10: 38
A11: 1 | B11: ºñ¨³Ý ù³Õ³ùÇ ընդհանուր իրավասության առաջին ատյանի դատարան | C11: ='[1]Վ. Ռշտունի'!C11+'[1]Մ. Պապոյան'!C11+'[1]Լ. Աբգարյան'!C11+'[1]Կ. Մարդանյան'!C11+'[1]Ա. Վարդանյան'!C11+'[1]Ա. Մաթևոսյան'!C11+'[1]Լ. Հովհաննիսյան'!C11+[1]Ա.Դանիելյան!C11+'[1]Ս. Համբարձումյան'!C11+'[1]Գ. Հովհաննիսյան'!C11+'[1]Մ. Մելքոնյան'!C11+'[1]Լ. Ալավերդյան '!C11+'[1]Ռ. Պապոյան'!C11+'[1]Մ. Արղամանյան'!C11+'[1]Ա. Բեկթաշյան'!C11+'[1]Ա. Նիկողոսյան'!C11+'[1]Մ. Հարությունյան'!C11+'[1]Ռ. Մխիթարյան'!C11+'[1]Ն. Հովակիմյան'!C11+'[1]Ռ. Բարսեղյան'!C11+'[1]Ա. Մնացականյան'!C11+'[1]Կ. Ամիրյան'!C11+'[1]Ս. Մարաբյան'!C11+'[1]Ա. Նահապետյան'!C11+'[1]Ա. Հովհաննիսյան'!C11+'[1]Մ. Մակյան'!C11 -> 418 | D11: ='[1]Վ. Ռշտունի'!D11+'[1]Մ. Պապոյան'!D11+'[1]Լ. Աբգարյան'!D11+'[1]Կ. Մարդանյան'!D11+'[1]Ա. Վարդանյան'!D11+'[1]Ա. Մաթևոսյան'!D11+'[1]Լ. Հովհաննիսյան'!D11+[1]Ա.Դանիելյան!D11+'[1]Ս. Համբարձումյան'!D11+'[1]Գ. Հովհաննիսյան'!D11+'[1]Մ. Մելքոնյան'!D11+'[1]Լ. Ալավերդյան '!D11+'[1]Ռ. Պապոյան'!D11+'[1]Մ. Արղամանյան'!D11+'[1]Ա. Բեկթաշյան'!D11+'[1]Ա. Նիկողոսյան'!D11+'[1]Մ. Հարությունյան'!D11+'[1]Ռ. Մխիթարյան'!D11+'[1]Ն. Հովակիմյան'!D11+'[1]Ռ. Բարսեղյան'!D11+'[1]Ա. Մնացականյան'!D11+'[1]Կ. Ամիրյան'!D11+'[1]Ս. Մարաբյան'!D11+'[1]Ա. Նահապետյան'!D11+'[1]Ա. Հովհաննիսյան'!D11+'[1]Մ. Մակյան'!D11 -> 376 | E11: ='[1]Վ. Ռշտունի'!E11+'[1]Մ. Պապոյան'!E11+'[1]Լ. Աբգարյան'!E11+'[1]Կ. Մարդանյան'!E11+'[1]Ա. Վարդանյան'!E11+'[1]Ա. Մաթևոսյան'!E11+'[1]Լ. Հովհաննիսյան'!E11+[1]Ա.Դանիելյան!E11+'[1]Ս. Համբարձումյան'!E11+'[1]Գ. Հովհաննիսյան'!E11+'[1]Մ. Մելքոնյան'!E11+'[1]Լ. Ալավերդյան '!E11+'[1]Ռ. Պապոյան'!E11+'[1]Մ. Արղամանյան'!E11+'[1]Ա. Բեկթաշյան'!E11+'[1]Ա. Նիկողոսյան'!E11+'[1]Մ. Հարությունյան'!E11+'[1]Ռ. Մխիթարյան'!E11+'[1]Ն. Հովակիմյան'!E11+'[1]Ռ. Բարսեղյան'!E11+'[1]Ա. Մնացականյան'!E11+'[1]Կ. Ամիրյան'!E11+'[1]Ս. Մարաբյան'!E11+'[1]Ա. Նահապետյան'!E11+'[1]Ա. Հովհաննիսյան'!E11+'[1]Մ. Մակյան'!E11 -> 42 | F11: 1864 | G11: ='[1]Վ. Ռշտունի'!G11+'[1]Մ. Պապոյան'!G11+'[1]Լ. Աբգարյան'!G11+'[1]Կ. Մարդանյան'!G11+'[1]Ա. Վարդանյան'!G11+'[1]Ա. Մաթևոսյան'!G11+'[1]Լ. Հովհաննիսյան'!G11+[1]Ա.Դանիելյան!G11+'[1]Ս. Համբարձումյան'!G11+'[1]Գ. Հովհաննիսյան'!G11+'[1]Մ. Մելքոնյան'!G11+'[1]Լ. Ալավերդյան '!G11+'[1]Ռ. Պապոյան'!G11+'[1]Մ. Արղամանյան'!G11+'[1]Ա. Բեկթաշյան'!G11+'[1]Ա. Նիկողոսյան'!G11+'[1]Մ. Հարությունյան'!G11+'[1]Ռ. Մխիթարյան'!G11+'[1]Ն. Հովակիմյան'!G11+'[1]Ռ. Բարսեղյան'!G11+'[1]Ա. Մնացականյան'!G11+'[1]Կ. Ամիրյան'!G11+'[1]Ս. Մարաբյան'!G11+'[1]Ա. Նահապետյան'!G11+'[1]Ա. Հովհաննիսյան'!G11+'[1]Մ. Մակյան'!G11 -> 1673 | H11: ='[1]Վ. Ռշտունի'!H11+'[1]Մ. Պապոյան'!H11+'[1]Լ. Աբգարյան'!H11+'[1]Կ. Մարդանյան'!H11+'[1]Ա. Վարդանյան'!H11+'[1]Ա. Մաթևոսյան'!H11+'[1]Լ. Հովհաննիսյան'!H11+[1]Ա.Դանիելյան!H11+'[1]Ս. Համբարձումյան'!H11+'[1]Գ. Հովհաննիսյան'!H11+'[1]Մ. Մելքոնյան'!H11+'[1]Լ. Ալավերդյան '!H11+'[1]Ռ. Պապոյան'!H11+'[1]Մ. Արղամանյան'!H11+'[1]Ա. Բեկթաշյան'!H11+'[1]Ա. Նիկողոսյան'!H11+'[1]Մ. Հարությունյան'!H11+'[1]Ռ. Մխիթարյան'!H11+'[1]Ն. Հովակիմյան'!H11+'[1]Ռ. Բարսեղյան'!H11+'[1]Ա. Մնացականյան'!H11+'[1]Կ. Ամիրյան'!H11+'[1]Ս. Մարաբյան'!H11+'[1]Ա. Նահապետյան'!H11+'[1]Ա. Հովհաննիսյան'!H11+'[1]Մ. Մակյան'!H11 -> 71 | I11: ='[1]Վ. Ռշտունի'!I11+'[1]Մ. Պապոյան'!I11+'[1]Լ. Աբգարյան'!I11+'[1]Կ. Մարդանյան'!I11+'[1]Ա. Վարդանյան'!I11+'[1]Ա. Մաթևոսյան'!I11+'[1]Լ. Հովհաննիսյան'!I11+[1]Ա.Դանիելյան!I11+'[1]Ս. Համբարձումյան'!I11+'[1]Գ. Հովհաննիսյան'!I11+'[1]Մ. Մելքոնյան'!I11+'[1]Լ. Ալավերդյան '!I11+'[1]Ռ. Պապոյան'!I11+'[1]Մ. Արղամանյան'!I11+'[1]Ա. Բեկթաշյան'!I11+'[1]Ա. Նիկողոսյան'!I11+'[1]Մ. Հարությունյան'!I11+'[1]Ռ. Մխիթարյան'!I11+'[1]Ն. Հովակիմյան'!I11+'[1]Ռ. Բարսեղյան'!I11+'[1]Ա. Մնացականյան'!I11+'[1]Կ. Ամիրյան'!I11+'[1]Ս. Մարաբյան'!I11+'[1]Ա. Նահապետյան'!I11+'[1]Ա. Հովհաննիսյան'!I11+'[1]Մ. Մակյան'!I11 -> 0 | J11: ='[1]Վ. Ռշտունի'!J11+'[1]Մ. Պապոյան'!J11+'[1]Լ. Աբգարյան'!J11+'[1]Կ. Մարդանյան'!J11+'[1]Ա. Վարդանյան'!J11+'[1]Ա. Մաթևոսյան'!J11+'[1]Լ. Հովհաննիսյան'!J11+[1]Ա.Դանիելյան!J11+'[1]Ս. Համբարձումյան'!J11+'[1]Գ. Հովհաննիսյան'!J11+'[1]Մ. Մելքոնյան'!J11+'[1]Լ. Ալավերդյան '!J11+'[1]Ռ. Պապոյան'!J11+'[1]Մ. Արղամանյան'!J11+'[1]Ա. Բեկթաշյան'!J11+'[1]Ա. Նիկողոսյան'!J11+'[1]Մ. Հարությունյան'!J11+'[1]Ռ. Մխիթարյան'!J11+'[1]Ն. Հովակիմյան'!J11+'[1]Ռ. Բարսեղյան'!J11+'[1]Ա. Մնացականյան'!J11+'[1]Կ. Ամիրյան'!J11+'[1]Ս. Մարաբյան'!J11+'[1]Ա. Նահապետյան'!J11+'[1]Ա. Հովհաննիսյան'!J11+'[1]Մ. Մակյան'!J11 -> 17 | K11: 103 | L11: ='[1]Վ. Ռշտունի'!L11+'[1]Մ. Պապոյան'!L11+'[1]Լ. Աբգարյան'!L11+'[1]Կ. Մարդանյան'!L11+'[1]Ա. Վարդանյան'!L11+'[1]Ա. Մաթևոսյան'!L11+'[1]Լ. Հովհաննիսյան'!L11+[1]Ա.Դանիելյան!L11+'[1]Ս. Համբարձումյան'!L11+'[1]Գ. Հովհաննիսյան'!L11+'[1]Մ. Մելքոնյան'!L11+'[1]Լ. Ալավերդյան '!L11+'[1]Ռ. Պապոյան'!L11+'[1]Մ. Արղամանյան'!L11+'[1]Ա. Բեկթաշյան'!L11+'[1]Ա. Նիկողոսյան'!L11+'[1]Մ. Հարությունյան'!L11+'[1]Ռ. Մխիթարյան'!L11+'[1]Ն. Հովակիմյան'!L11+'[1]Ռ. Բարսեղյան'!L11+'[1]Ա. Մնացականյան'!L11+'[1]Կ. Ամիրյան'!L11+'[1]Ս. Մարաբյան'!L11+'[1]Ա. Նահապետյան'!L11+'[1]Ա. Հովհաննիսյան'!L11+'[1]Մ. Մակյան'!L11 -> 1665 | M11: ='[1]Վ. Ռշտունի'!M11+'[1]Մ. Պապոյան'!M11+'[1]Լ. Աբգարյան'!M11+'[1]Կ. Մարդանյան'!M11+'[1]Ա. Վարդանյան'!M11+'[1]Ա. Մաթևոսյան'!M11+'[1]Լ. Հովհաննիսյան'!M11+[1]Ա.Դանիելյան!M11+'[1]Ս. Համբարձումյան'!M11+'[1]Գ. Հովհաննիսյան'!M11+'[1]Մ. Մելքոնյան'!M11+'[1]Լ. Ալավերդյան '!M11+'[1]Ռ. Պապոյան'!M11+'[1]Մ. Արղամանյան'!M11+'[1]Ա. Բեկթաշյան'!M11+'[1]Ա. Նիկողոսյան'!M11+'[1]Մ. Հարությունյան'!M11+'[1]Ռ. Մխիթարյան'!M11+'[1]Ն. Հովակիմյան'!M11+'[1]Ռ. Բարսեղյան'!M11+'[1]Ա. Մնացականյան'!M11+'[1]Կ. Ամիրյան'!M11+'[1]Ս. Մարաբյան'!M11+'[1]Ա. Նահապետյան'!M11+'[1]Ա. Հովհաննիսյան'!M11+'[1]Մ. Մակյան'!M11 -> 123 | N11: ='[1]Վ. Ռշտունի'!N11+'[1]Մ. Պապոյան'!N11+'[1]Լ. Աբգարյան'!N11+'[1]Կ. Մարդանյան'!N11+'[1]Ա. Վարդանյան'!N11+'[1]Ա. Մաթևոսյան'!N11+'[1]Լ. Հովհաննիսյան'!N11+[1]Ա.Դանիելյան!N11+'[1]Ս. Համբարձումյան'!N11+'[1]Գ. Հովհաննիսյան'!N11+'[1]Մ. Մելքոնյան'!N11+'[1]Լ. Ալավերդյան '!N11+'[1]Ռ. Պապոյան'!N11+'[1]Մ. Արղամանյան'!N11+'[1]Ա. Բեկթաշյան'!N11+'[1]Ա. Նիկողոսյան'!N11+'[1]Մ. Հարությունյան'!N11+'[1]Ռ. Մխիթարյան'!N11+'[1]Ն. Հովակիմյան'!N11+'[1]Ռ. Բարսեղյան'!N11+'[1]Ա. Մնացականյան'!N11+'[1]Կ. Ամիրյան'!N11+'[1]Ս. Մարաբյան'!N11+'[1]Ա. Նահապետյան'!N11+'[1]Ա. Հովհաննիսյան'!N11+'[1]Մ. Մակյան'!N11 -> 0 | O11: ='[1]Վ. Ռշտունի'!O11+'[1]Մ. Պապոյան'!O11+'[1]Լ. Աբգարյան'!O11+'[1]Կ. Մարդանյան'!O11+'[1]Ա. Վարդանյան'!O11+'[1]Ա. Մաթևոսյան'!O11+'[1]Լ. Հովհաննիսյան'!O11+[1]Ա.Դանիելյան!O11+'[1]Ս. Համբարձումյան'!O11+'[1]Գ. Հովհաննիսյան'!O11+'[1]Մ. Մելքոնյան'!O11+'[1]Լ. Ալավերդյան '!O11+'[1]Ռ. Պապոյան'!O11+'[1]Մ. Արղամանյան'!O11+'[1]Ա. Բեկթաշյան'!O11+'[1]Ա. Նիկողոսյան'!O11+'[1]Մ. Հարությունյան'!O11+'[1]Ռ. Մխիթարյան'!O11+'[1]Ն. Հովակիմյան'!O11+'[1]Ռ. Բարսեղյան'!O11+'[1]Ա. Մնացականյան'!O11+'[1]Կ. Ամիրյան'!O11+'[1]Ս. Մարաբյան'!O11+'[1]Ա. Նահապետյան'!O11+'[1]Ա. Հովհաննիսյան'!O11+'[1]Մ. Մակյան'!O11 -> 0 | P11: ='[1]Վ. Ռշտունի'!P11+'[1]Մ. Պապոյան'!P11+'[1]Լ. Աբգարյան'!P11+'[1]Կ. Մարդանյան'!P11+'[1]Ա. Վարդանյան'!P11+'[1]Ա. Մաթևոսյան'!P11+'[1]Լ. Հովհաննիսյան'!P11+[1]Ա.Դանիելյան!P11+'[1]Ս. Համբարձումյան'!P11+'[1]Գ. Հովհաննիսյան'!P11+'[1]Մ. Մելքոնյան'!P11+'[1]Լ. Ալավերդյան '!P11+'[1]Ռ. Պապոյան'!P11+'[1]Մ. Արղամանյան'!P11+'[1]Ա. Բեկթաշյան'!P11+'[1]Ա. Նիկողոսյան'!P11+'[1]Մ. Հարությունյան'!P11+'[1]Ռ. Մխիթարյան'!P11+'[1]Ն. Հովակիմյան'!P11+'[1]Ռ. Բարսեղյան'!P11+'[1]Ա. Մնացականյան'!P11+'[1]Կ. Ամիրյան'!P11+'[1]Ս. Մարաբյան'!P11+'[1]Ա. Նահապետյան'!P11+'[1]Ա. Հովհաննիսյան'!P11+'[1]Մ. Մակյան'!P11 -> 5 | Q11: ='[1]Վ. Ռշտունի'!Q11+'[1]Մ. Պապոյան'!Q11+'[1]Լ. Աբգարյան'!Q11+'[1]Կ. Մարդանյան'!Q11+'[1]Ա. Վարդանյան'!Q11+'[1]Ա. Մաթևոսյան'!Q11+'[1]Լ. Հովհաննիսյան'!Q11+[1]Ա.Դանիելյան!Q11+'[1]Ս. Համբարձումյան'!Q11+'[1]Գ. Հովհաննիսյան'!Q11+'[1]Մ. Մելքոնյան'!Q11+'[1]Լ. Ալավերդյան '!Q11+'[1]Ռ. Պապոյան'!Q11+'[1]Մ. Արղամանյան'!Q11+'[1]Ա. Բեկթաշյան'!Q11+'[1]Ա. Նիկողոսյան'!Q11+'[1]Մ. Հարությունյան'!Q11+'[1]Ռ. Մխիթարյան'!Q11+'[1]Ն. Հովակիմյան'!Q11+'[1]Ռ. Բարսեղյան'!Q11+'[1]Ա. Մնացականյան'!Q11+'[1]Կ. Ամիրյան'!Q11+'[1]Ս. Մարաբյան'!Q11+'[1]Ա. Նահապետյան'!Q11+'[1]Ա. Հովհաննիսյան'!Q11+'[1]Մ. Մակյան'!Q11 -> 1 | R11: ='[1]Վ. Ռշտունի'!R11+'[1]Մ. Պապոյան'!R11+'[1]Լ. Աբգարյան'!R11+'[1]Կ. Մարդանյան'!R11+'[1]Ա. Վարդանյան'!R11+'[1]Ա. Մաթևոսյան'!R11+'[1]Լ. Հովհաննիսյան'!R11+[1]Ա.Դանիելյան!R11+'[1]Ս. Համբարձումյան'!R11+'[1]Գ. Հովհաննիսյան'!R11+'[1]Մ. Մելքոնյան'!R11+'[1]Լ. Ալավերդյան '!R11+'[1]Ռ. Պապոյան'!R11+'[1]Մ. Արղամանյան'!R11+'[1]Ա. Բեկթաշյան'!R11+'[1]Ա. Նիկողոսյան'!R11+'[1]Մ. Հարությունյան'!R11+'[1]Ռ. Մխիթարյան'!R11+'[1]Ն. Հովակիմյան'!R11+'[1]Ռ. Բարսեղյան'!R11+'[1]Ա. Մնացականյան'!R11+'[1]Կ. Ամիրյան'!R11+'[1]Ս. Մարաբյան'!R11+'[1]Ա. Նահապետյան'!R11+'[1]Ա. Հովհաննիսյան'!R11+'[1]Մ. Մակյան'!R11 -> 0 | S11: ='[1]Վ. Ռշտունի'!S11+'[1]Մ. Պապոյան'!S11+'[1]Լ. Աբգարյան'!S11+'[1]Կ. Մարդանյան'!S11+'[1]Ա. Վարդանյան'!S11+'[1]Ա. Մաթևոսյան'!S11+'[1]Լ. Հովհաննիսյան'!S11+[1]Ա.Դանիելյան!S11+'[1]Ս. Համբարձումյան'!S11+'[1]Գ. Հովհաննիսյան'!S11+'[1]Մ. Մելքոնյան'!S11+'[1]Լ. Ալավերդյան '!S11+'[1]Ռ. Պապոյան'!S11+'[1]Մ. Արղամանյան'!S11+'[1]Ա. Բեկթաշյան'!S11+'[1]Ա. Նիկողոսյան'!S11+'[1]Մ. Հարությունյան'!S11+'[1]Ռ. Մխիթարյան'!S11+'[1]Ն. Հովակիմյան'!S11+'[1]Ռ. Բարսեղյան'!S11+'[1]Ա. Մնացականյան'!S11+'[1]Կ. Ամիրյան'!S11+'[1]Ս. Մարաբյան'!S11+'[1]Ա. Նահապետյան'!S11+'[1]Ա. Հովհաննիսյան'!S11+'[1]Մ. Մակյան'!S11 -> 0 | ... AG11: ='[1]Վ. Ռշտունի'!AG11+'[1]Մ. Պապոյան'!AG11+'[1]Լ. Աբգարյան'!AG11+'[1]Կ. Մարդանյան'!AG11+'[1]Ա. Վարդանյան'!AG11+'[1]Ա. Մաթևոսյան'!AG11+'[1]Լ. Հովհաննիսյան'!AG11+[1]Ա.Դանիելյան!AG11+'[1]Ս. Համբարձումյան'!AG11+'[1]Գ. Հովհաննիսյան'!AG11+'[1]Մ. Մելքոնյան'!AG11+'[1]Լ. Ալավերդյան '!AG11+'[1]Ռ. Պապոյան'!AG11+'[1]Մ. Արղամանյան'!AG11+'[1]Ա. Բեկթաշյան'!AG11+'[1]Ա. Նիկողոսյան'!AG11+'[1]Մ. Հարությունյան'!AG11+'[1]Ռ. Մխիթարյան'!AG11+'[1]Ն. Հովակիմյան'!AG11+'[1]Ռ. Բարսեղյան'!AG11+'[1]Ա. Մնացականյան'!AG11+'[1]Կ. Ամիրյան'!AG11+'[1]Ս. Մարաբյան'!AG11+'[1]Ա. Նահապետյան'!AG11+'[1]Ա. Հովհաննիսյան'!AG11+'[1]Մ. Մակյան'!AG11 -> 1 | AH11: 192 | AI11: 1490 | AJ11: 1682 | AK11: ='[1]Վ. Ռշտունի'!AK11+'[1]Մ. Պապոյան'!AK11+'[1]Լ. Աբգարյան'!AK11+'[1]Կ. Մարդանյան'!AK11+'[1]Ա. Վարդանյան'!AK11+'[1]Ա. Մաթևոսյան'!AK11+'[1]Լ. Հովհաննիսյան'!AK11+[1]Ա.Դանիելյան!AK11+'[1]Ս. Համբարձումյան'!AK11+'[1]Գ. Հովհաննիսյան'!AK11+'[1]Մ. Մելքոնյան'!AK11+'[1]Լ. Ալավերդյան '!AK11+'[1]Ռ. Պապոյան'!AK11+'[1]Մ. Արղամանյան'!AK11+'[1]Ա. Բեկթաշյան'!AK11+'[1]Ա. Նիկողոսյան'!AK11+'[1]Մ. Հարությունյան'!AK11+'[1]Ռ. Մխիթարյան'!AK11+'[1]Ն. Հովակիմյան'!AK11+'[1]Ռ. Բարսեղյան'!AK11+'[1]Ա. Մնացականյան'!AK11+'[1]Կ. Ամիրյան'!AK11+'[1]Ս. Մարաբյան'!AK11+'[1]Ա. Նահապետյան'!AK11+'[1]Ա. Հովհաննիսյան'!AK11+'[1]Մ. Մակյան'!AK11 -> 62 | AL11: ='[1]Վ. Ռշտունի'!AL11+'[1]Մ. Պապոյան'!AL11+'[1]Լ. Աբգարյան'!AL11+'[1]Կ. Մարդանյան'!AL11+'[1]Ա. Վարդանյան'!AL11+'[1]Ա. Մաթևոսյան'!AL11+'[1]Լ. Հովհաննիսյան'!AL11+[1]Ա.Դանիելյան!AL11+'[1]Ս. Համբարձումյան'!AL11+'[1]Գ. Հովհաննիսյան'!AL11+'[1]Մ. Մելքոնյան'!AL11+'[1]Լ. Ալավերդյան '!AL11+'[1]Ռ. Պապոյան'!AL11+'[1]Մ. Արղամանյան'!AL11+'[1]Ա. Բեկթաշյան'!AL11+'[1]Ա. Նիկողոսյան'!AL11+'[1]Մ. Հարությունյան'!AL11+'[1]Ռ. Մխիթարյան'!AL11+'[1]Ն. Հովակիմյան'!AL11+'[1]Ռ. Բարսեղյան'!AL11+'[1]Ա. Մնացականյան'!AL11+'[1]Կ. Ամիրյան'!AL11+'[1]Ս. Մարաբյան'!AL11+'[1]Ա. Նահապետյան'!AL11+'[1]Ա. Հովհաննիսյան'!AL11+'[1]Մ. Մակյան'!AL11 -> 232 | AM11: ='[1]Վ. Ռշտունի'!AM11+'[1]Մ. Պապոյան'!AM11+'[1]Լ. Աբգարյան'!AM11+'[1]Կ. Մարդանյան'!AM11+'[1]Ա. Վարդանյան'!AM11+'[1]Ա. Մաթևոսյան'!AM11+'[1]Լ. Հովհաննիսյան'!AM11+[1]Ա.Դանիելյան!AM11+'[1]Ս. Համբարձումյան'!AM11+'[1]Գ. Հովհաննիսյան'!AM11+'[1]Մ. Մելքոնյան'!AM11+'[1]Լ. Ալավերդյան '!AM11+'[1]Ռ. Պապոյան'!AM11+'[1]Մ. Արղամանյան'!AM11+'[1]Ա. Բեկթաշյան'!AM11+'[1]Ա. Նիկողոսյան'!AM11+'[1]Մ. Հարությունյան'!AM11+'[1]Ռ. Մխիթարյան'!AM11+'[1]Ն. Հովակիմյան'!AM11+'[1]Ռ. Բարսեղյան'!AM11+'[1]Ա. Մնացականյան'!AM11+'[1]Կ. Ամիրյան'!AM11+'[1]Ս. Մարաբյան'!AM11+'[1]Ա. Նահապետյան'!AM11+'[1]Ա. Հովհաննիսյան'!AM11+'[1]Մ. Մակյան'!AM11 -> 294 | AN11: ='[1]Վ. Ռշտունի'!AN11+'[1]Մ. Պապոյան'!AN11+'[1]Լ. Աբգարյան'!AN11+'[1]Կ. Մարդանյան'!AN11+'[1]Ա. Վարդանյան'!AN11+'[1]Ա. Մաթևոսյան'!AN11+'[1]Լ. Հովհաննիսյան'!AN11+[1]Ա.Դանիելյան!AN11+'[1]Ս. Համբարձումյան'!AN11+'[1]Գ. Հովհաննիսյան'!AN11+'[1]Մ. Մելքոնյան'!AN11+'[1]Լ. Ալավերդյան '!AN11+'[1]Ռ. Պապոյան'!AN11+'[1]Մ. Արղամանյան'!AN11+'[1]Ա. Բեկթաշյան'!AN11+'[1]Ա. Նիկողոսյան'!AN11+'[1]Մ. Հարությունյան'!AN11+'[1]Ռ. Մխիթարյան'!AN11+'[1]Ն. Հովակիմյան'!AN11+'[1]Ռ. Բարսեղյան'!AN11+'[1]Ա. Մնացականյան'!AN11+'[1]Կ. Ամիրյան'!AN11+'[1]Ս. Մարաբյան'!AN11+'[1]Ա. Նահապետյան'!AN11+'[1]Ա. Հովհաննիսյան'!AN11+'[1]Մ. Մակյան'!AN11 -> 466
A12: 2 | B12: Èáéáõ Ù³ñ½Ç ÁÝ¹Ñ³Ýáõñ Çñ³í³ëáõÃÛ³Ý ³é³çÇÝ ³ïÛ³ÝÇ ¹³ï³ñ³Ý | C12: ='[1]Վ. Ռշտունի'!C12+'[1]Մ. Պապոյան'!C12+'[1]Լ. Աբգարյան'!C12+'[1]Կ. Մարդանյան'!C12+'[1]Ա. Վարդանյան'!C12+'[1]Ա. Մաթևոսյան'!C12+'[1]Լ. Հովհաննիսյան'!C12+[1]Ա.Դանիելյան!C12+'[1]Ս. Համբարձումյան'!C12+'[1]Գ. Հովհաննիսյան'!C12+'[1]Մ. Մելքոնյան'!C12+'[1]Լ. Ալավերդյան '!C12+'[1]Ռ. Պապոյան'!C12+'[1]Մ. Արղամանյան'!C12+'[1]Ա. Բեկթաշյան'!C12+'[1]Ա. Նիկողոսյան'!C12+'[1]Մ. Հարությունյան'!C12+'[1]Ռ. Մխիթարյան'!C12+'[1]Ն. Հովակիմյան'!C12+'[1]Ռ. Բարսեղյան'!C12+'[1]Ա. Մնացականյան'!C12+'[1]Կ. Ամիրյան'!C12+'[1]Ս. Մարաբյան'!C12+'[1]Ա. Նահապետյան'!C12+'[1]Ա. Հովհաննիսյան'!C12+'[1]Մ. Մակյան'!C12 -> 27 | D12: ='[1]Վ. Ռշտունի'!D12+'[1]Մ. Պապոյան'!D12+'[1]Լ. Աբգարյան'!D12+'[1]Կ. Մարդանյան'!D12+'[1]Ա. Վարդանյան'!D12+'[1]Ա. Մաթևոսյան'!D12+'[1]Լ. Հովհաննիսյան'!D12+[1]Ա.Դանիելյան!D12+'[1]Ս. Համբարձումյան'!D12+'[1]Գ. Հովհաննիսյան'!D12+'[1]Մ. Մելքոնյան'!D12+'[1]Լ. Ալավերդյան '!D12+'[1]Ռ. Պապոյան'!D12+'[1]Մ. Արղամանյան'!D12+'[1]Ա. Բեկթաշյան'!D12+'[1]Ա. Նիկողոսյան'!D12+'[1]Մ. Հարությունյան'!D12+'[1]Ռ. Մխիթարյան'!D12+'[1]Ն. Հովակիմյան'!D12+'[1]Ռ. Բարսեղյան'!D12+'[1]Ա. Մնացականյան'!D12+'[1]Կ. Ամիրյան'!D12+'[1]Ս. Մարաբյան'!D12+'[1]Ա. Նահապետյան'!D12+'[1]Ա. Հովհաննիսյան'!D12+'[1]Մ. Մակյան'!D12 -> 23 | E12: ='[1]Վ. Ռշտունի'!E12+'[1]Մ. Պապոյան'!E12+'[1]Լ. Աբգարյան'!E12+'[1]Կ. Մարդանյան'!E12+'[1]Ա. Վարդանյան'!E12+'[1]Ա. Մաթևոսյան'!E12+'[1]Լ. Հովհաննիսյան'!E12+[1]Ա.Դանիելյան!E12+'[1]Ս. Համբարձումյան'!E12+'[1]Գ. Հովհաննիսյան'!E12+'[1]Մ. Մելքոնյան'!E12+'[1]Լ. Ալավերդյան '!E12+'[1]Ռ. Պապոյան'!E12+'[1]Մ. Արղամանյան'!E12+'[1]Ա. Բեկթաշյան'!E12+'[1]Ա. Նիկողոսյան'!E12+'[1]Մ. Հարությունյան'!E12+'[1]Ռ. Մխիթարյան'!E12+'[1]Ն. Հովակիմյան'!E12+'[1]Ռ. Բարսեղյան'!E12+'[1]Ա. Մնացականյան'!E12+'[1]Կ. Ամիրյան'!E12+'[1]Ս. Մարաբյան'!E12+'[1]Ա. Նահապետյան'!E12+'[1]Ա. Հովհաննիսյան'!E12+'[1]Մ. Մակյան'!E12 -> 4 | F12: 182 | G12: ='[1]Վ. Ռշտունի'!G12+'[1]Մ. Պապոյան'!G12+'[1]Լ. Աբգարյան'!G12+'[1]Կ. Մարդանյան'!G12+'[1]Ա. Վարդանյան'!G12+'[1]Ա. Մաթևոսյան'!G12+'[1]Լ. Հովհաննիսյան'!G12+[1]Ա.Դանիելյան!G12+'[1]Ս. Համբարձումյան'!G12+'[1]Գ. Հովհաննիսյան'!G12+'[1]Մ. Մելքոնյան'!G12+'[1]Լ. Ալավերդյան '!G12+'[1]Ռ. Պապոյան'!G12+'[1]Մ. Արղամանյան'!G12+'[1]Ա. Բեկթաշյան'!G12+'[1]Ա. Նիկողոսյան'!G12+'[1]Մ. Հարությունյան'!G12+'[1]Ռ. Մխիթարյան'!G12+'[1]Ն. Հովակիմյան'!G12+'[1]Ռ. Բարսեղյան'!G12+'[1]Ա. Մնացականյան'!G12+'[1]Կ. Ամիրյան'!G12+'[1]Ս. Մարաբյան'!G12+'[1]Ա. Նահապետյան'!G12+'[1]Ա. Հովհաննիսյան'!G12+'[1]Մ. Մակյան'!G12 -> 166 | H12: ='[1]Վ. Ռշտունի'!H12+'[1]Մ. Պապոյան'!H12+'[1]Լ. Աբգարյան'!H12+'[1]Կ. Մարդանյան'!H12+'[1]Ա. Վարդանյան'!H12+'[1]Ա. Մաթևոսյան'!H12+'[1]Լ. Հովհաննիսյան'!H12+[1]Ա.Դանիելյան!H12+'[1]Ս. Համբարձումյան'!H12+'[1]Գ. Հովհաննիսյան'!H12+'[1]Մ. Մելքոնյան'!H12+'[1]Լ. Ալավերդյան '!H12+'[1]Ռ. Պապոյան'!H12+'[1]Մ. Արղամանյան'!H12+'[1]Ա. Բեկթաշյան'!H12+'[1]Ա. Նիկողոսյան'!H12+'[1]Մ. Հարությունյան'!H12+'[1]Ռ. Մխիթարյան'!H12+'[1]Ն. Հովակիմյան'!H12+'[1]Ռ. Բարսեղյան'!H12+'[1]Ա. Մնացականյան'!H12+'[1]Կ. Ամիրյան'!H12+'[1]Ս. Մարաբյան'!H12+'[1]Ա. Նահապետյան'!H12+'[1]Ա. Հովհաննիսյան'!H12+'[1]Մ. Մակյան'!H12 -> 8 | I12: ='[1]Վ. Ռշտունի'!I12+'[1]Մ. Պապոյան'!I12+'[1]Լ. Աբգարյան'!I12+'[1]Կ. Մարդանյան'!I12+'[1]Ա. Վարդանյան'!I12+'[1]Ա. Մաթևոսյան'!I12+'[1]Լ. Հովհաննիսյան'!I12+[1]Ա.Դանիելյան!I12+'[1]Ս. Համբարձումյան'!I12+'[1]Գ. Հովհաննիսյան'!I12+'[1]Մ. Մելքոնյան'!I12+'[1]Լ. Ալավերդյան '!I12+'[1]Ռ. Պապոյան'!I12+'[1]Մ. Արղամանյան'!I12+'[1]Ա. Բեկթաշյան'!I12+'[1]Ա. Նիկողոսյան'!I12+'[1]Մ. Հարությունյան'!I12+'[1]Ռ. Մխիթարյան'!I12+'[1]Ն. Հովակիմյան'!I12+'[1]Ռ. Բարսեղյան'!I12+'[1]Ա. Մնացականյան'!I12+'[1]Կ. Ամիրյան'!I12+'[1]Ս. Մարաբյան'!I12+'[1]Ա. Նահապետյան'!I12+'[1]Ա. Հովհաննիսյան'!I12+'[1]Մ. Մակյան'!I12 -> 1 | J12: ='[1]Վ. Ռշտունի'!J12+'[1]Մ. Պապոյան'!J12+'[1]Լ. Աբգարյան'!J12+'[1]Կ. Մարդանյան'!J12+'[1]Ա. Վարդանյան'!J12+'[1]Ա. Մաթևոսյան'!J12+'[1]Լ. Հովհաննիսյան'!J12+[1]Ա.Դանիելյան!J12+'[1]Ս. Համբարձումյան'!J12+'[1]Գ. Հովհաննիսյան'!J12+'[1]Մ. Մելքոնյան'!J12+'[1]Լ. Ալավերդյան '!J12+'[1]Ռ. Պապոյան'!J12+'[1]Մ. Արղամանյան'!J12+'[1]Ա. Բեկթաշյան'!J12+'[1]Ա. Նիկողոսյան'!J12+'[1]Մ. Հարությունյան'!J12+'[1]Ռ. Մխիթարյան'!J12+'[1]Ն. Հովակիմյան'!J12+'[1]Ռ. Բարսեղյան'!J12+'[1]Ա. Մնացականյան'!J12+'[1]Կ. Ամիրյան'!J12+'[1]Ս. Մարաբյան'!J12+'[1]Ա. Նահապետյան'!J12+'[1]Ա. Հովհաննիսյան'!J12+'[1]Մ. Մակյան'!J12 -> 0 | K12: 7 | L12: ='[1]Վ. Ռշտունի'!L12+'[1]Մ. Պապոյան'!L12+'[1]Լ. Աբգարյան'!L12+'[1]Կ. Մարդանյան'!L12+'[1]Ա. Վարդանյան'!L12+'[1]Ա. Մաթևոսյան'!L12+'[1]Լ. Հովհաննիսյան'!L12+[1]Ա.Դանիելյան!L12+'[1]Ս. Համբարձումյան'!L12+'[1]Գ. Հովհաննիսյան'!L12+'[1]Մ. Մելքոնյան'!L12+'[1]Լ. Ալավերդյան '!L12+'[1]Ռ. Պապոյան'!L12+'[1]Մ. Արղամանյան'!L12+'[1]Ա. Բեկթաշյան'!L12+'[1]Ա. Նիկողոսյան'!L12+'[1]Մ. Հարությունյան'!L12+'[1]Ռ. Մխիթարյան'!L12+'[1]Ն. Հովակիմյան'!L12+'[1]Ռ. Բարսեղյան'!L12+'[1]Ա. Մնացականյան'!L12+'[1]Կ. Ամիրյան'!L12+'[1]Ս. Մարաբյան'!L12+'[1]Ա. Նահապետյան'!L12+'[1]Ա. Հովհաննիսյան'!L12+'[1]Մ. Մակյան'!L12 -> 145 | M12: ='[1]Վ. Ռշտունի'!M12+'[1]Մ. Պապոյան'!M12+'[1]Լ. Աբգարյան'!M12+'[1]Կ. Մարդանյան'!M12+'[1]Ա. Վարդանյան'!M12+'[1]Ա. Մաթևոսյան'!M12+'[1]Լ. Հովհաննիսյան'!M12+[1]Ա.Դանիելյան!M12+'[1]Ս. Համբարձումյան'!M12+'[1]Գ. Հովհաննիսյան'!M12+'[1]Մ. Մելքոնյան'!M12+'[1]Լ. Ալավերդյան '!M12+'[1]Ռ. Պապոյան'!M12+'[1]Մ. Արղամանյան'!M12+'[1]Ա. Բեկթաշյան'!M12+'[1]Ա. Նիկողոսյան'!M12+'[1]Մ. Հարությունյան'!M12+'[1]Ռ. Մխիթարյան'!M12+'[1]Ն. Հովակիմյան'!M12+'[1]Ռ. Բարսեղյան'!M12+'[1]Ա. Մնացականյան'!M12+'[1]Կ. Ամիրյան'!M12+'[1]Ս. Մարաբյան'!M12+'[1]Ա. Նահապետյան'!M12+'[1]Ա. Հովհաննիսյան'!M12+'[1]Մ. Մակյան'!M12 -> 20 | N12: ='[1]Վ. Ռշտունի'!N12+'[1]Մ. Պապոյան'!N12+'[1]Լ. Աբգարյան'!N12+'[1]Կ. Մարդանյան'!N12+'[1]Ա. Վարդանյան'!N12+'[1]Ա. Մաթևոսյան'!N12+'[1]Լ. Հովհաննիսյան'!N12+[1]Ա.Դանիելյան!N12+'[1]Ս. Համբարձումյան'!N12+'[1]Գ. Հովհաննիսյան'!N12+'[1]Մ. Մելքոնյան'!N12+'[1]Լ. Ալավերդյան '!N12+'[1]Ռ. Պապոյան'!N12+'[1]Մ. Արղամանյան'!N12+'[1]Ա. Բեկթաշյան'!N12+'[1]Ա. Նիկողոսյան'!N12+'[1]Մ. Հարությունյան'!N12+'[1]Ռ. Մխիթարյան'!N12+'[1]Ն. Հովակիմյան'!N12+'[1]Ռ. Բարսեղյան'!N12+'[1]Ա. Մնացականյան'!N12+'[1]Կ. Ամիրյան'!N12+'[1]Ս. Մարաբյան'!N12+'[1]Ա. Նահապետյան'!N12+'[1]Ա. Հովհաննիսյան'!N12+'[1]Մ. Մակյան'!N12 -> 0 | O12: ='[1]Վ. Ռշտունի'!O12+'[1]Մ. Պապոյան'!O12+'[1]Լ. Աբգարյան'!O12+'[1]Կ. Մարդանյան'!O12+'[1]Ա. Վարդանյան'!O12+'[1]Ա. Մաթևոսյան'!O12+'[1]Լ. Հովհաննիսյան'!O12+[1]Ա.Դանիելյան!O12+'[1]Ս. Համբարձումյան'!O12+'[1]Գ. Հովհաննիսյան'!O12+'[1]Մ. Մելքոնյան'!O12+'[1]Լ. Ալավերդյան '!O12+'[1]Ռ. Պապոյան'!O12+'[1]Մ. Արղամանյան'!O12+'[1]Ա. Բեկթաշյան'!O12+'[1]Ա. Նիկողոսյան'!O12+'[1]Մ. Հարությունյան'!O12+'[1]Ռ. Մխիթարյան'!O12+'[1]Ն. Հովակիմյան'!O12+'[1]Ռ. Բարսեղյան'!O12+'[1]Ա. Մնացականյան'!O12+'[1]Կ. Ամիրյան'!O12+'[1]Ս. Մարաբյան'!O12+'[1]Ա. Նահապետյան'!O12+'[1]Ա. Հովհաննիսյան'!O12+'[1]Մ. Մակյան'!O12 -> 0 | P12: ='[1]Վ. Ռշտունի'!P12+'[1]Մ. Պապոյան'!P12+'[1]Լ. Աբգարյան'!P12+'[1]Կ. Մարդանյան'!P12+'[1]Ա. Վարդանյան'!P12+'[1]Ա. Մաթևոսյան'!P12+'[1]Լ. Հովհաննիսյան'!P12+[1]Ա.Դանիելյան!P12+'[1]Ս. Համբարձումյան'!P12+'[1]Գ. Հովհաննիսյան'!P12+'[1]Մ. Մելքոնյան'!P12+'[1]Լ. Ալավերդյան '!P12+'[1]Ռ. Պապոյան'!P12+'[1]Մ. Արղամանյան'!P12+'[1]Ա. Բեկթաշյան'!P12+'[1]Ա. Նիկողոսյան'!P12+'[1]Մ. Հարությունյան'!P12+'[1]Ռ. Մխիթարյան'!P12+'[1]Ն. Հովակիմյան'!P12+'[1]Ռ. Բարսեղյան'!P12+'[1]Ա. Մնացականյան'!P12+'[1]Կ. Ամիրյան'!P12+'[1]Ս. Մարաբյան'!P12+'[1]Ա. Նահապետյան'!P12+'[1]Ա. Հովհաննիսյան'!P12+'[1]Մ. Մակյան'!P12 -> 1 | Q12: ='[1]Վ. Ռշտունի'!Q12+'[1]Մ. Պապոյան'!Q12+'[1]Լ. Աբգարյան'!Q12+'[1]Կ. Մարդանյան'!Q12+'[1]Ա. Վարդանյան'!Q12+'[1]Ա. Մաթևոսյան'!Q12+'[1]Լ. Հովհաննիսյան'!Q12+[1]Ա.Դանիելյան!Q12+'[1]Ս. Համբարձումյան'!Q12+'[1]Գ. Հովհաննիսյան'!Q12+'[1]Մ. Մելքոնյան'!Q12+'[1]Լ. Ալավերդյան '!Q12+'[1]Ռ. Պապոյան'!Q12+'[1]Մ. Արղամանյան'!Q12+'[1]Ա. Բեկթաշյան'!Q12+'[1]Ա. Նիկողոսյան'!Q12+'[1]Մ. Հարությունյան'!Q12+'[1]Ռ. Մխիթարյան'!Q12+'[1]Ն. Հովակիմյան'!Q12+'[1]Ռ. Բարսեղյան'!Q12+'[1]Ա. Մնացականյան'!Q12+'[1]Կ. Ամիրյան'!Q12+'[1]Ս. Մարաբյան'!Q12+'[1]Ա. Նահապետյան'!Q12+'[1]Ա. Հովհաննիսյան'!Q12+'[1]Մ. Մակյան'!Q12 -> 0 | R12: ='[1]Վ. Ռշտունի'!R12+'[1]Մ. Պապոյան'!R12+'[1]Լ. Աբգարյան'!R12+'[1]Կ. Մարդանյան'!R12+'[1]Ա. Վարդանյան'!R12+'[1]Ա. Մաթևոսյան'!R12+'[1]Լ. Հովհաննիսյան'!R12+[1]Ա.Դանիելյան!R12+'[1]Ս. Համբարձումյան'!R12+'[1]Գ. Հովհաննիսյան'!R12+'[1]Մ. Մելքոնյան'!R12+'[1]Լ. Ալավերդյան '!R12+'[1]Ռ. Պապոյան'!R12+'[1]Մ. Արղամանյան'!R12+'[1]Ա. Բեկթաշյան'!R12+'[1]Ա. Նիկողոսյան'!R12+'[1]Մ. Հարությունյան'!R12+'[1]Ռ. Մխիթարյան'!R12+'[1]Ն. Հովակիմյան'!R12+'[1]Ռ. Բարսեղյան'!R12+'[1]Ա. Մնացականյան'!R12+'[1]Կ. Ամիրյան'!R12+'[1]Ս. Մարաբյան'!R12+'[1]Ա. Նահապետյան'!R12+'[1]Ա. Հովհաննիսյան'!R12+'[1]Մ. Մակյան'!R12 -> 0 | S12: ='[1]Վ. Ռշտունի'!S12+'[1]Մ. Պապոյան'!S12+'[1]Լ. Աբգարյան'!S12+'[1]Կ. Մարդանյան'!S12+'[1]Ա. Վարդանյան'!S12+'[1]Ա. Մաթևոսյան'!S12+'[1]Լ. Հովհաննիսյան'!S12+[1]Ա.Դանիելյան!S12+'[1]Ս. Համբարձումյան'!S12+'[1]Գ. Հովհաննիսյան'!S12+'[1]Մ. Մելքոնյան'!S12+'[1]Լ. Ալավերդյան '!S12+'[1]Ռ. Պապոյան'!S12+'[1]Մ. Արղամանյան'!S12+'[1]Ա. Բեկթաշյան'!S12+'[1]Ա. Նիկողոսյան'!S12+'[1]Մ. Հարությունյան'!S12+'[1]Ռ. Մխիթարյան'!S12+'[1]Ն. Հովակիմյան'!S12+'[1]Ռ. Բարսեղյան'!S12+'[1]Ա. Մնացականյան'!S12+'[1]Կ. Ամիրյան'!S12+'[1]Ս. Մարաբյան'!S12+'[1]Ա. Նահապետյան'!S12+'[1]Ա. Հովհաննիսյան'!S12+'[1]Մ. Մակյան'!S12 -> 0 | ... AN12: ='[1]Վ. Ռշտունի'!AN12+'[1]Մ. Պապոյան'!AN12+'[1]Լ. Աբգարյան'!AN12+'[1]Կ. Մարդանյան'!AN12+'[1]Ա. Վարդանյան'!AN12+'[1]Ա. Մաթևոսյան'!AN12+'[1]Լ. Հովհաննիսյան'!AN12+[1]Ա.Դանիելյան!AN12+'[1]Ս. Համբարձումյան'!AN12+'[1]Գ. Հովհաննիսյան'!AN12+'[1]Մ. Մելքոնյան'!AN12+'[1]Լ. Ալավերդյան '!AN12+'[1]Ռ. Պապոյան'!AN12+'[1]Մ. Արղամանյան'!AN12+'[1]Ա. Բեկթաշյան'!AN12+'[1]Ա. Նիկողոսյան'!AN12+'[1]Մ. Հարությունյան'!AN12+'[1]Ռ. Մխիթարյան'!AN12+'[1]Ն. Հովակիմյան'!AN12+'[1]Ռ. Բարսեղյան'!AN12+'[1]Ա. Մնացականյան'!AN12+'[1]Կ. Ամիրյան'!AN12+'[1]Ս. Մարաբյան'!AN12+'[1]Ա. Նահապետյան'!AN12+'[1]Ա. Հովհաննիսյան'!AN12+'[1]Մ. Մակյան'!AN12 -> 41
A13: 3 | B13: ÞÇñ³ÏÇ Ù³ñ½Ç ÁÝ¹Ñ³Ýáõñ Çñ³í³ëáõÃÛ³Ý ³é³çÇÝ ³ïÛ³ÝÇ¹³ï³ñ³Ý | C13: ='[1]Վ. Ռշտունի'!C13+'[1]Մ. Պապոյան'!C13+'[1]Լ. Աբգարյան'!C13+'[1]Կ. Մարդանյան'!C13+'[1]Ա. Վարդանյան'!C13+'[1]Ա. Մաթևոսյան'!C13+'[1]Լ. Հովհաննիսյան'!C13+[1]Ա.Դանիելյան!C13+'[1]Ս. Համբարձումյան'!C13+'[1]Գ. Հովհաննիսյան'!C13+'[1]Մ. Մելքոնյան'!C13+'[1]Լ. Ալավերդյան '!C13+'[1]Ռ. Պապոյան'!C13+'[1]Մ. Արղամանյան'!C13+'[1]Ա. Բեկթաշյան'!C13+'[1]Ա. Նիկողոսյան'!C13+'[1]Մ. Հարությունյան'!C13+'[1]Ռ. Մխիթարյան'!C13+'[1]Ն. Հովակիմյան'!C13+'[1]Ռ. Բարսեղյան'!C13+'[1]Ա. Մնացականյան'!C13+'[1]Կ. Ամիրյան'!C13+'[1]Ս. Մարաբյան'!C13+'[1]Ա. Նահապետյան'!C13+'[1]Ա. Հովհաննիսյան'!C13+'[1]Մ. Մակյան'!C13 -> 29 | D13: ='[1]Վ. Ռշտունի'!D13+'[1]Մ. Պապոյան'!D13+'[1]Լ. Աբգարյան'!D13+'[1]Կ. Մարդանյան'!D13+'[1]Ա. Վարդանյան'!D13+'[1]Ա. Մաթևոսյան'!D13+'[1]Լ. Հովհաննիսյան'!D13+[1]Ա.Դանիելյան!D13+'[1]Ս. Համբարձումյան'!D13+'[1]Գ. Հովհաննիսյան'!D13+'[1]Մ. Մելքոնյան'!D13+'[1]Լ. Ալավերդյան '!D13+'[1]Ռ. Պապոյան'!D13+'[1]Մ. Արղամանյան'!D13+'[1]Ա. Բեկթաշյան'!D13+'[1]Ա. Նիկողոսյան'!D13+'[1]Մ. Հարությունյան'!D13+'[1]Ռ. Մխիթարյան'!D13+'[1]Ն. Հովակիմյան'!D13+'[1]Ռ. Բարսեղյան'!D13+'[1]Ա. Մնացականյան'!D13+'[1]Կ. Ամիրյան'!D13+'[1]Ս. Մարաբյան'!D13+'[1]Ա. Նահապետյան'!D13+'[1]Ա. Հովհաննիսյան'!D13+'[1]Մ. Մակյան'!D13 -> 28 | E13: ='[1]Վ. Ռշտունի'!E13+'[1]Մ. Պապոյան'!E13+'[1]Լ. Աբգարյան'!E13+'[1]Կ. Մարդանյան'!E13+'[1]Ա. Վարդանյան'!E13+'[1]Ա. Մաթևոսյան'!E13+'[1]Լ. Հովհաննիսյան'!E13+[1]Ա.Դանիելյան!E13+'[1]Ս. Համբարձումյան'!E13+'[1]Գ. Հովհաննիսյան'!E13+'[1]Մ. Մելքոնյան'!E13+'[1]Լ. Ալավերդյան '!E13+'[1]Ռ. Պապոյան'!E13+'[1]Մ. Արղամանյան'!E13+'[1]Ա. Բեկթաշյան'!E13+'[1]Ա. Նիկողոսյան'!E13+'[1]Մ. Հարությունյան'!E13+'[1]Ռ. Մխիթարյան'!E13+'[1]Ն. Հովակիմյան'!E13+'[1]Ռ. Բարսեղյան'!E13+'[1]Ա. Մնացականյան'!E13+'[1]Կ. Ամիրյան'!E13+'[1]Ս. Մարաբյան'!E13+'[1]Ա. Նահապետյան'!E13+'[1]Ա. Հովհաննիսյան'!E13+'[1]Մ. Մակյան'!E13 -> 1 | F13: 158 | G13: ='[1]Վ. Ռշտունի'!G13+'[1]Մ. Պապոյան'!G13+'[1]Լ. Աբգարյան'!G13+'[1]Կ. Մարդանյան'!G13+'[1]Ա. Վարդանյան'!G13+'[1]Ա. Մաթևոսյան'!G13+'[1]Լ. Հովհաննիսյան'!G13+[1]Ա.Դանիելյան!G13+'[1]Ս. Համբարձումյան'!G13+'[1]Գ. Հովհաննիսյան'!G13+'[1]Մ. Մելքոնյան'!G13+'[1]Լ. Ալավերդյան '!G13+'[1]Ռ. Պապոյան'!G13+'[1]Մ. Արղամանյան'!G13+'[1]Ա. Բեկթաշյան'!G13+'[1]Ա. Նիկողոսյան'!G13+'[1]Մ. Հարությունյան'!G13+'[1]Ռ. Մխիթարյան'!G13+'[1]Ն. Հովակիմյան'!G13+'[1]Ռ. Բարսեղյան'!G13+'[1]Ա. Մնացականյան'!G13+'[1]Կ. Ամիրյան'!G13+'[1]Ս. Մարաբյան'!G13+'[1]Ա. Նահապետյան'!G13+'[1]Ա. Հովհաննիսյան'!G13+'[1]Մ. Մակյան'!G13 -> 141 | H13: ='[1]Վ. Ռշտունի'!H13+'[1]Մ. Պապոյան'!H13+'[1]Լ. Աբգարյան'!H13+'[1]Կ. Մարդանյան'!H13+'[1]Ա. Վարդանյան'!H13+'[1]Ա. Մաթևոսյան'!H13+'[1]Լ. Հովհաննիսյան'!H13+[1]Ա.Դանիելյան!H13+'[1]Ս. Համբարձումյան'!H13+'[1]Գ. Հովհաննիսյան'!H13+'[1]Մ. Մելքոնյան'!H13+'[1]Լ. Ալավերդյան '!H13+'[1]Ռ. Պապոյան'!H13+'[1]Մ. Արղամանյան'!H13+'[1]Ա. Բեկթաշյան'!H13+'[1]Ա. Նիկողոսյան'!H13+'[1]Մ. Հարությունյան'!H13+'[1]Ռ. Մխիթարյան'!H13+'[1]Ն. Հովակիմյան'!H13+'[1]Ռ. Բարսեղյան'!H13+'[1]Ա. Մնացականյան'!H13+'[1]Կ. Ամիրյան'!H13+'[1]Ս. Մարաբյան'!H13+'[1]Ա. Նահապետյան'!H13+'[1]Ա. Հովհաննիսյան'!H13+'[1]Մ. Մակյան'!H13 -> 8 | I13: ='[1]Վ. Ռշտունի'!I13+'[1]Մ. Պապոյան'!I13+'[1]Լ. Աբգարյան'!I13+'[1]Կ. Մարդանյան'!I13+'[1]Ա. Վարդանյան'!I13+'[1]Ա. Մաթևոսյան'!I13+'[1]Լ. Հովհաննիսյան'!I13+[1]Ա.Դանիելյան!I13+'[1]Ս. Համբարձումյան'!I13+'[1]Գ. Հովհաննիսյան'!I13+'[1]Մ. Մելքոնյան'!I13+'[1]Լ. Ալավերդյան '!I13+'[1]Ռ. Պապոյան'!I13+'[1]Մ. Արղամանյան'!I13+'[1]Ա. Բեկթաշյան'!I13+'[1]Ա. Նիկողոսյան'!I13+'[1]Մ. Հարությունյան'!I13+'[1]Ռ. Մխիթարյան'!I13+'[1]Ն. Հովակիմյան'!I13+'[1]Ռ. Բարսեղյան'!I13+'[1]Ա. Մնացականյան'!I13+'[1]Կ. Ամիրյան'!I13+'[1]Ս. Մարաբյան'!I13+'[1]Ա. Նահապետյան'!I13+'[1]Ա. Հովհաննիսյան'!I13+'[1]Մ. Մակյան'!I13 -> 0 | J13: ='[1]Վ. Ռշտունի'!J13+'[1]Մ. Պապոյան'!J13+'[1]Լ. Աբգարյան'!J13+'[1]Կ. Մարդանյան'!J13+'[1]Ա. Վարդանյան'!J13+'[1]Ա. Մաթևոսյան'!J13+'[1]Լ. Հովհաննիսյան'!J13+[1]Ա.Դանիելյան!J13+'[1]Ս. Համբարձումյան'!J13+'[1]Գ. Հովհաննիսյան'!J13+'[1]Մ. Մելքոնյան'!J13+'[1]Լ. Ալավերդյան '!J13+'[1]Ռ. Պապոյան'!J13+'[1]Մ. Արղամանյան'!J13+'[1]Ա. Բեկթաշյան'!J13+'[1]Ա. Նիկողոսյան'!J13+'[1]Մ. Հարությունյան'!J13+'[1]Ռ. Մխիթարյան'!J13+'[1]Ն. Հովակիմյան'!J13+'[1]Ռ. Բարսեղյան'!J13+'[1]Ա. Մնացականյան'!J13+'[1]Կ. Ամիրյան'!J13+'[1]Ս. Մարաբյան'!J13+'[1]Ա. Նահապետյան'!J13+'[1]Ա. Հովհաննիսյան'!J13+'[1]Մ. Մակյան'!J13 -> 1 | K13: 8 | L13: ='[1]Վ. Ռշտունի'!L13+'[1]Մ. Պապոյան'!L13+'[1]Լ. Աբգարյան'!L13+'[1]Կ. Մարդանյան'!L13+'[1]Ա. Վարդանյան'!L13+'[1]Ա. Մաթևոսյան'!L13+'[1]Լ. Հովհաննիսյան'!L13+[1]Ա.Դանիելյան!L13+'[1]Ս. Համբարձումյան'!L13+'[1]Գ. Հովհաննիսյան'!L13+'[1]Մ. Մելքոնյան'!L13+'[1]Լ. Ալավերդյան '!L13+'[1]Ռ. Պապոյան'!L13+'[1]Մ. Արղամանյան'!L13+'[1]Ա. Բեկթաշյան'!L13+'[1]Ա. Նիկողոսյան'!L13+'[1]Մ. Հարությունյան'!L13+'[1]Ռ. Մխիթարյան'!L13+'[1]Ն. Հովակիմյան'!L13+'[1]Ռ. Բարսեղյան'!L13+'[1]Ա. Մնացականյան'!L13+'[1]Կ. Ամիրյան'!L13+'[1]Ս. Մարաբյան'!L13+'[1]Ա. Նահապետյան'!L13+'[1]Ա. Հովհաննիսյան'!L13+'[1]Մ. Մակյան'!L13 -> 139 | M13: ='[1]Վ. Ռշտունի'!M13+'[1]Մ. Պապոյան'!M13+'[1]Լ. Աբգարյան'!M13+'[1]Կ. Մարդանյան'!M13+'[1]Ա. Վարդանյան'!M13+'[1]Ա. Մաթևոսյան'!M13+'[1]Լ. Հովհաննիսյան'!M13+[1]Ա.Դանիելյան!M13+'[1]Ս. Համբարձումյան'!M13+'[1]Գ. Հովհաննիսյան'!M13+'[1]Մ. Մելքոնյան'!M13+'[1]Լ. Ալավերդյան '!M13+'[1]Ռ. Պապոյան'!M13+'[1]Մ. Արղամանյան'!M13+'[1]Ա. Բեկթաշյան'!M13+'[1]Ա. Նիկողոսյան'!M13+'[1]Մ. Հարությունյան'!M13+'[1]Ռ. Մխիթարյան'!M13+'[1]Ն. Հովակիմյան'!M13+'[1]Ռ. Բարսեղյան'!M13+'[1]Ա. Մնացականյան'!M13+'[1]Կ. Ամիրյան'!M13+'[1]Ս. Մարաբյան'!M13+'[1]Ա. Նահապետյան'!M13+'[1]Ա. Հովհաննիսյան'!M13+'[1]Մ. Մակյան'!M13 -> 4 | N13: ='[1]Վ. Ռշտունի'!N13+'[1]Մ. Պապոյան'!N13+'[1]Լ. Աբգարյան'!N13+'[1]Կ. Մարդանյան'!N13+'[1]Ա. Վարդանյան'!N13+'[1]Ա. Մաթևոսյան'!N13+'[1]Լ. Հովհաննիսյան'!N13+[1]Ա.Դանիելյան!N13+'[1]Ս. Համբարձումյան'!N13+'[1]Գ. Հովհաննիսյան'!N13+'[1]Մ. Մելքոնյան'!N13+'[1]Լ. Ալավերդյան '!N13+'[1]Ռ. Պապոյան'!N13+'[1]Մ. Արղամանյան'!N13+'[1]Ա. Բեկթաշյան'!N13+'[1]Ա. Նիկողոսյան'!N13+'[1]Մ. Հարությունյան'!N13+'[1]Ռ. Մխիթարյան'!N13+'[1]Ն. Հովակիմյան'!N13+'[1]Ռ. Բարսեղյան'!N13+'[1]Ա. Մնացականյան'!N13+'[1]Կ. Ամիրյան'!N13+'[1]Ս. Մարաբյան'!N13+'[1]Ա. Նահապետյան'!N13+'[1]Ա. Հովհաննիսյան'!N13+'[1]Մ. Մակյան'!N13 -> 0 | O13: ='[1]Վ. Ռշտունի'!O13+'[1]Մ. Պապոյան'!O13+'[1]Լ. Աբգարյան'!O13+'[1]Կ. Մարդանյան'!O13+'[1]Ա. Վարդանյան'!O13+'[1]Ա. Մաթևոսյան'!O13+'[1]Լ. Հովհաննիսյան'!O13+[1]Ա.Դանիելյան!O13+'[1]Ս. Համբարձումյան'!O13+'[1]Գ. Հովհաննիսյան'!O13+'[1]Մ. Մելքոնյան'!O13+'[1]Լ. Ալավերդյան '!O13+'[1]Ռ. Պապոյան'!O13+'[1]Մ. Արղամանյան'!O13+'[1]Ա. Բեկթաշյան'!O13+'[1]Ա. Նիկողոսյան'!O13+'[1]Մ. Հարությունյան'!O13+'[1]Ռ. Մխիթարյան'!O13+'[1]Ն. Հովակիմյան'!O13+'[1]Ռ. Բարսեղյան'!O13+'[1]Ա. Մնացականյան'!O13+'[1]Կ. Ամիրյան'!O13+'[1]Ս. Մարաբյան'!O13+'[1]Ա. Նահապետյան'!O13+'[1]Ա. Հովհաննիսյան'!O13+'[1]Մ. Մակյան'!O13 -> 0 | P13: ='[1]Վ. Ռշտունի'!P13+'[1]Մ. Պապոյան'!P13+'[1]Լ. Աբգարյան'!P13+'[1]Կ. Մարդանյան'!P13+'[1]Ա. Վարդանյան'!P13+'[1]Ա. Մաթևոսյան'!P13+'[1]Լ. Հովհաննիսյան'!P13+[1]Ա.Դանիելյան!P13+'[1]Ս. Համբարձումյան'!P13+'[1]Գ. Հովհաննիսյան'!P13+'[1]Մ. Մելքոնյան'!P13+'[1]Լ. Ալավերդյան '!P13+'[1]Ռ. Պապոյան'!P13+'[1]Մ. Արղամանյան'!P13+'[1]Ա. Բեկթաշյան'!P13+'[1]Ա. Նիկողոսյան'!P13+'[1]Մ. Հարությունյան'!P13+'[1]Ռ. Մխիթարյան'!P13+'[1]Ն. Հովակիմյան'!P13+'[1]Ռ. Բարսեղյան'!P13+'[1]Ա. Մնացականյան'!P13+'[1]Կ. Ամիրյան'!P13+'[1]Ս. Մարաբյան'!P13+'[1]Ա. Նահապետյան'!P13+'[1]Ա. Հովհաննիսյան'!P13+'[1]Մ. Մակյան'!P13 -> 3 | Q13: ='[1]Վ. Ռշտունի'!Q13+'[1]Մ. Պապոյան'!Q13+'[1]Լ. Աբգարյան'!Q13+'[1]Կ. Մարդանյան'!Q13+'[1]Ա. Վարդանյան'!Q13+'[1]Ա. Մաթևոսյան'!Q13+'[1]Լ. Հովհաննիսյան'!Q13+[1]Ա.Դանիելյան!Q13+'[1]Ս. Համբարձումյան'!Q13+'[1]Գ. Հովհաննիսյան'!Q13+'[1]Մ. Մելքոնյան'!Q13+'[1]Լ. Ալավերդյան '!Q13+'[1]Ռ. Պապոյան'!Q13+'[1]Մ. Արղամանյան'!Q13+'[1]Ա. Բեկթաշյան'!Q13+'[1]Ա. Նիկողոսյան'!Q13+'[1]Մ. Հարությունյան'!Q13+'[1]Ռ. Մխիթարյան'!Q13+'[1]Ն. Հովակիմյան'!Q13+'[1]Ռ. Բարսեղյան'!Q13+'[1]Ա. Մնացականյան'!Q13+'[1]Կ. Ամիրյան'!Q13+'[1]Ս. Մարաբյան'!Q13+'[1]Ա. Նահապետյան'!Q13+'[1]Ա. Հովհաննիսյան'!Q13+'[1]Մ. Մակյան'!Q13 -> 0 | R13: ='[1]Վ. Ռշտունի'!R13+'[1]Մ. Պապոյան'!R13+'[1]Լ. Աբգարյան'!R13+'[1]Կ. Մարդանյան'!R13+'[1]Ա. Վարդանյան'!R13+'[1]Ա. Մաթևոսյան'!R13+'[1]Լ. Հովհաննիսյան'!R13+[1]Ա.Դանիելյան!R13+'[1]Ս. Համբարձումյան'!R13+'[1]Գ. Հովհաննիսյան'!R13+'[1]Մ. Մելքոնյան'!R13+'[1]Լ. Ալավերդյան '!R13+'[1]Ռ. Պապոյան'!R13+'[1]Մ. Արղամանյան'!R13+'[1]Ա. Բեկթաշյան'!R13+'[1]Ա. Նիկողոսյան'!R13+'[1]Մ. Հարությունյան'!R13+'[1]Ռ. Մխիթարյան'!R13+'[1]Ն. Հովակիմյան'!R13+'[1]Ռ. Բարսեղյան'!R13+'[1]Ա. Մնացականյան'!R13+'[1]Կ. Ամիրյան'!R13+'[1]Ս. Մարաբյան'!R13+'[1]Ա. Նահապետյան'!R13+'[1]Ա. Հովհաննիսյան'!R13+'[1]Մ. Մակյան'!R13 -> 0 | S13: ='[1]Վ. Ռշտունի'!S13+'[1]Մ. Պապոյան'!S13+'[1]Լ. Աբգարյան'!S13+'[1]Կ. Մարդանյան'!S13+'[1]Ա. Վարդանյան'!S13+'[1]Ա. Մաթևոսյան'!S13+'[1]Լ. Հովհաննիսյան'!S13+[1]Ա.Դանիելյան!S13+'[1]Ս. Համբարձումյան'!S13+'[1]Գ. Հովհաննիսյան'!S13+'[1]Մ. Մելքոնյան'!S13+'[1]Լ. Ալավերդյան '!S13+'[1]Ռ. Պապոյան'!S13+'[1]Մ. Արղամանյան'!S13+'[1]Ա. Բեկթաշյան'!S13+'[1]Ա. Նիկողոսյան'!S13+'[1]Մ. Հարությունյան'!S13+'[1]Ռ. Մխիթարյան'!S13+'[1]Ն. Հովակիմյան'!S13+'[1]Ռ. Բարսեղյան'!S13+'[1]Ա. Մնացականյան'!S13+'[1]Կ. Ամիրյան'!S13+'[1]Ս. Մարաբյան'!S13+'[1]Ա. Նահապետյան'!S13+'[1]Ա. Հովհաննիսյան'!S13+'[1]Մ. Մակյան'!S13 -> 0 | ... AG13: ='[1]Վ. Ռշտունի'!AG13+'[1]Մ. Պապոյան'!AG13+'[1]Լ. Աբգարյան'!AG13+'[1]Կ. Մարդանյան'!AG13+'[1]Ա. Վարդանյան'!AG13+'[1]Ա. Մաթևոսյան'!AG13+'[1]Լ. Հովհաննիսյան'!AG13+[1]Ա.Դանիելյան!AG13+'[1]Ս. Համբարձումյան'!AG13+'[1]Գ. Հովհաննիսյան'!AG13+'[1]Մ. Մելքոնյան'!AG13+'[1]Լ. Ալավերդյան '!AG13+'[1]Ռ. Պապոյան'!AG13+'[1]Մ. Արղամանյան'!AG13+'[1]Ա. Բեկթաշյան'!AG13+'[1]Ա. Նիկողոսյան'!AG13+'[1]Մ. Հարությունյան'!AG13+'[1]Ռ. Մխիթարյան'!AG13+'[1]Ն. Հովակիմյան'!AG13+'[1]Ռ. Բարսեղյան'!AG13+'[1]Ա. Մնացականյան'!AG13+'[1]Կ. Ամիրյան'!AG13+'[1]Ս. Մարաբյան'!AG13+'[1]Ա. Նահապետյան'!AG13+'[1]Ա. Հովհաննիսյան'!AG13+'[1]Մ. Մակյան'!AG13 -> 0 | AH13: 7 | AI13: ='[1]Վ. Ռշտունի'!AI13+'[1]Մ. Պապոյան'!AI13+'[1]Լ. Աբգարյան'!AI13+'[1]Կ. Մարդանյան'!AI13+'[1]Ա. Վարդանյան'!AI13+'[1]Ա. Մաթևոսյան'!AI13+'[1]Լ. Հովհաննիսյան'!AI13+[1]Ա.Դանիելյան!AI13+'[1]Ս. Համբարձումյան'!AI13+'[1]Գ. Հովհաննիսյան'!AI13+'[1]Մ. Մելքոնյան'!AI13+'[1]Լ. Ալավերդյան '!AI13+'[1]Ռ. Պապոյան'!AI13+'[1]Մ. Արղամանյան'!AI13+'[1]Ա. Բեկթաշյան'!AI13+'[1]Ա. Նիկողոսյան'!AI13+'[1]Մ. Հարությունյան'!AI13+'[1]Ռ. Մխիթարյան'!AI13+'[1]Ն. Հովակիմյան'!AI13+'[1]Ռ. Բարսեղյան'!AI13+'[1]Ա. Մնացականյան'!AI13+'[1]Կ. Ամիրյան'!AI13+'[1]Ս. Մարաբյան'!AI13+'[1]Ա. Նահապետյան'!AI13+'[1]Ա. Հովհաննիսյան'!AI13+'[1]Մ. Մակյան'!AI13 -> 139 | AJ13: 146 | AK13: ='[1]Վ. Ռշտունի'!AK13+'[1]Մ. Պապոյան'!AK13+'[1]Լ. Աբգարյան'!AK13+'[1]Կ. Մարդանյան'!AK13+'[1]Ա. Վարդանյան'!AK13+'[1]Ա. Մաթևոսյան'!AK13+'[1]Լ. Հովհաննիսյան'!AK13+[1]Ա.Դանիելյան!AK13+'[1]Ս. Համբարձումյան'!AK13+'[1]Գ. Հովհաննիսյան'!AK13+'[1]Մ. Մելքոնյան'!AK13+'[1]Լ. Ալավերդյան '!AK13+'[1]Ռ. Պապոյան'!AK13+'[1]Մ. Արղամանյան'!AK13+'[1]Ա. Բեկթաշյան'!AK13+'[1]Ա. Նիկողոսյան'!AK13+'[1]Մ. Հարությունյան'!AK13+'[1]Ռ. Մխիթարյան'!AK13+'[1]Ն. Հովակիմյան'!AK13+'[1]Ռ. Բարսեղյան'!AK13+'[1]Ա. Մնացականյան'!AK13+'[1]Կ. Ամիրյան'!AK13+'[1]Ս. Մարաբյան'!AK13+'[1]Ա. Նահապետյան'!AK13+'[1]Ա. Հովհաննիսյան'!AK13+'[1]Մ. Մակյան'!AK13 -> 10 | AL13: ='[1]Վ. Ռշտունի'!AL13+'[1]Մ. Պապոյան'!AL13+'[1]Լ. Աբգարյան'!AL13+'[1]Կ. Մարդանյան'!AL13+'[1]Ա. Վարդանյան'!AL13+'[1]Ա. Մաթևոսյան'!AL13+'[1]Լ. Հովհաննիսյան'!AL13+[1]Ա.Դանիելյան!AL13+'[1]Ս. Համբարձումյան'!AL13+'[1]Գ. Հովհաննիսյան'!AL13+'[1]Մ. Մելքոնյան'!AL13+'[1]Լ. Ալավերդյան '!AL13+'[1]Ռ. Պապոյան'!AL13+'[1]Մ. Արղամանյան'!AL13+'[1]Ա. Բեկթաշյան'!AL13+'[1]Ա. Նիկողոսյան'!AL13+'[1]Մ. Հարությունյան'!AL13+'[1]Ռ. Մխիթարյան'!AL13+'[1]Ն. Հովակիմյան'!AL13+'[1]Ռ. Բարսեղյան'!AL13+'[1]Ա. Մնացականյան'!AL13+'[1]Կ. Ամիրյան'!AL13+'[1]Ս. Մարաբյան'!AL13+'[1]Ա. Նահապետյան'!AL13+'[1]Ա. Հովհաննիսյան'!AL13+'[1]Մ. Մակյան'!AL13 -> 22 | AM13: ='[1]Վ. Ռշտունի'!AM13+'[1]Մ. Պապոյան'!AM13+'[1]Լ. Աբգարյան'!AM13+'[1]Կ. Մարդանյան'!AM13+'[1]Ա. Վարդանյան'!AM13+'[1]Ա. Մաթևոսյան'!AM13+'[1]Լ. Հովհաննիսյան'!AM13+[1]Ա.Դանիելյան!AM13+'[1]Ս. Համբարձումյան'!AM13+'[1]Գ. Հովհաննիսյան'!AM13+'[1]Մ. Մելքոնյան'!AM13+'[1]Լ. Ալավերդյան '!AM13+'[1]Ռ. Պապոյան'!AM13+'[1]Մ. Արղամանյան'!AM13+'[1]Ա. Բեկթաշյան'!AM13+'[1]Ա. Նիկողոսյան'!AM13+'[1]Մ. Հարությունյան'!AM13+'[1]Ռ. Մխիթարյան'!AM13+'[1]Ն. Հովակիմյան'!AM13+'[1]Ռ. Բարսեղյան'!AM13+'[1]Ա. Մնացականյան'!AM13+'[1]Կ. Ամիրյան'!AM13+'[1]Ս. Մարաբյան'!AM13+'[1]Ա. Նահապետյան'!AM13+'[1]Ա. Հովհաննիսյան'!AM13+'[1]Մ. Մակյան'!AM13 -> 32 | AN13: ='[1]Վ. Ռշտունի'!AN13+'[1]Մ. Պապոյան'!AN13+'[1]Լ. Աբգարյան'!AN13+'[1]Կ. Մարդանյան'!AN13+'[1]Ա. Վարդանյան'!AN13+'[1]Ա. Մաթևոսյան'!AN13+'[1]Լ. Հովհաննիսյան'!AN13+[1]Ա.Դանիելյան!AN13+'[1]Ս. Համբարձումյան'!AN13+'[1]Գ. Հովհաննիսյան'!AN13+'[1]Մ. Մելքոնյան'!AN13+'[1]Լ. Ալավերդյան '!AN13+'[1]Ռ. Պապոյան'!AN13+'[1]Մ. Արղամանյան'!AN13+'[1]Ա. Բեկթաշյան'!AN13+'[1]Ա. Նիկողոսյան'!AN13+'[1]Մ. Հարությունյան'!AN13+'[1]Ռ. Մխիթարյան'!AN13+'[1]Ն. Հովակիմյան'!AN13+'[1]Ռ. Բարսեղյան'!AN13+'[1]Ա. Մնացականյան'!AN13+'[1]Կ. Ամիրյան'!AN13+'[1]Ս. Մարաբյան'!AN13+'[1]Ա. Նահապետյան'!AN13+'[1]Ա. Հովհաննիսյան'!AN13+'[1]Մ. Մակյան'!AN13 -> 27
A14: 4 | B14: ²ñÙ³íÇñÇ Ù³ñ½Ç ÁÝ¹Ñ³Ýáõñ Çñ³í³ëáõÃÛ³Ý ³é³çÇÝ ³ïÛ³ÝÇ ¹³ï³ñ³Ý | C14: ='[1]Վ. Ռշտունի'!C14+'[1]Մ. Պապոյան'!C14+'[1]Լ. Աբգարյան'!C14+'[1]Կ. Մարդանյան'!C14+'[1]Ա. Վարդանյան'!C14+'[1]Ա. Մաթևոսյան'!C14+'[1]Լ. Հովհաննիսյան'!C14+[1]Ա.Դանիելյան!C14+'[1]Ս. Համբարձումյան'!C14+'[1]Գ. Հովհաննիսյան'!C14+'[1]Մ. Մելքոնյան'!C14+'[1]Լ. Ալավերդյան '!C14+'[1]Ռ. Պապոյան'!C14+'[1]Մ. Արղամանյան'!C14+'[1]Ա. Բեկթաշյան'!C14+'[1]Ա. Նիկողոսյան'!C14+'[1]Մ. Հարությունյան'!C14+'[1]Ռ. Մխիթարյան'!C14+'[1]Ն. Հովակիմյան'!C14+'[1]Ռ. Բարսեղյան'!C14+'[1]Ա. Մնացականյան'!C14+'[1]Կ. Ամիրյան'!C14+'[1]Ս. Մարաբյան'!C14+'[1]Ա. Նահապետյան'!C14+'[1]Ա. Հովհաննիսյան'!C14+'[1]Մ. Մակյան'!C14 -> 28 | D14: ='[1]Վ. Ռշտունի'!D14+'[1]Մ. Պապոյան'!D14+'[1]Լ. Աբգարյան'!D14+'[1]Կ. Մարդանյան'!D14+'[1]Ա. Վարդանյան'!D14+'[1]Ա. Մաթևոսյան'!D14+'[1]Լ. Հովհաննիսյան'!D14+[1]Ա.Դանիելյան!D14+'[1]Ս. Համբարձումյան'!D14+'[1]Գ. Հովհաննիսյան'!D14+'[1]Մ. Մելքոնյան'!D14+'[1]Լ. Ալավերդյան '!D14+'[1]Ռ. Պապոյան'!D14+'[1]Մ. Արղամանյան'!D14+'[1]Ա. Բեկթաշյան'!D14+'[1]Ա. Նիկողոսյան'!D14+'[1]Մ. Հարությունյան'!D14+'[1]Ռ. Մխիթարյան'!D14+'[1]Ն. Հովակիմյան'!D14+'[1]Ռ. Բարսեղյան'!D14+'[1]Ա. Մնացականյան'!D14+'[1]Կ. Ամիրյան'!D14+'[1]Ս. Մարաբյան'!D14+'[1]Ա. Նահապետյան'!D14+'[1]Ա. Հովհաննիսյան'!D14+'[1]Մ. Մակյան'!D14 -> 26 | E14: ='[1]Վ. Ռշտունի'!E14+'[1]Մ. Պապոյան'!E14+'[1]Լ. Աբգարյան'!E14+'[1]Կ. Մարդանյան'!E14+'[1]Ա. Վարդանյան'!E14+'[1]Ա. Մաթևոսյան'!E14+'[1]Լ. Հովհաննիսյան'!E14+[1]Ա.Դանիելյան!E14+'[1]Ս. Համբարձումյան'!E14+'[1]Գ. Հովհաննիսյան'!E14+'[1]Մ. Մելքոնյան'!E14+'[1]Լ. Ալավերդյան '!E14+'[1]Ռ. Պապոյան'!E14+'[1]Մ. Արղամանյան'!E14+'[1]Ա. Բեկթաշյան'!E14+'[1]Ա. Նիկողոսյան'!E14+'[1]Մ. Հարությունյան'!E14+'[1]Ռ. Մխիթարյան'!E14+'[1]Ն. Հովակիմյան'!E14+'[1]Ռ. Բարսեղյան'!E14+'[1]Ա. Մնացականյան'!E14+'[1]Կ. Ամիրյան'!E14+'[1]Ս. Մարաբյան'!E14+'[1]Ա. Նահապետյան'!E14+'[1]Ա. Հովհաննիսյան'!E14+'[1]Մ. Մակյան'!E14 -> 2 | F14: 249 | G14: ='[1]Վ. Ռշտունի'!G14+'[1]Մ. Պապոյան'!G14+'[1]Լ. Աբգարյան'!G14+'[1]Կ. Մարդանյան'!G14+'[1]Ա. Վարդանյան'!G14+'[1]Ա. Մաթևոսյան'!G14+'[1]Լ. Հովհաննիսյան'!G14+[1]Ա.Դանիելյան!G14+'[1]Ս. Համբարձումյան'!G14+'[1]Գ. Հովհաննիսյան'!G14+'[1]Մ. Մելքոնյան'!G14+'[1]Լ. Ալավերդյան '!G14+'[1]Ռ. Պապոյան'!G14+'[1]Մ. Արղամանյան'!G14+'[1]Ա. Բեկթաշյան'!G14+'[1]Ա. Նիկողոսյան'!G14+'[1]Մ. Հարությունյան'!G14+'[1]Ռ. Մխիթարյան'!G14+'[1]Ն. Հովակիմյան'!G14+'[1]Ռ. Բարսեղյան'!G14+'[1]Ա. Մնացականյան'!G14+'[1]Կ. Ամիրյան'!G14+'[1]Ս. Մարաբյան'!G14+'[1]Ա. Նահապետյան'!G14+'[1]Ա. Հովհաննիսյան'!G14+'[1]Մ. Մակյան'!G14 -> 210 | H14: ='[1]Վ. Ռշտունի'!H14+'[1]Մ. Պապոյան'!H14+'[1]Լ. Աբգարյան'!H14+'[1]Կ. Մարդանյան'!H14+'[1]Ա. Վարդանյան'!H14+'[1]Ա. Մաթևոսյան'!H14+'[1]Լ. Հովհաննիսյան'!H14+[1]Ա.Դանիելյան!H14+'[1]Ս. Համբարձումյան'!H14+'[1]Գ. Հովհաննիսյան'!H14+'[1]Մ. Մելքոնյան'!H14+'[1]Լ. Ալավերդյան '!H14+'[1]Ռ. Պապոյան'!H14+'[1]Մ. Արղամանյան'!H14+'[1]Ա. Բեկթաշյան'!H14+'[1]Ա. Նիկողոսյան'!H14+'[1]Մ. Հարությունյան'!H14+'[1]Ռ. Մխիթարյան'!H14+'[1]Ն. Հովակիմյան'!H14+'[1]Ռ. Բարսեղյան'!H14+'[1]Ա. Մնացականյան'!H14+'[1]Կ. Ամիրյան'!H14+'[1]Ս. Մարաբյան'!H14+'[1]Ա. Նահապետյան'!H14+'[1]Ա. Հովհաննիսյան'!H14+'[1]Մ. Մակյան'!H14 -> 9 | I14: ='[1]Վ. Ռշտունի'!I14+'[1]Մ. Պապոյան'!I14+'[1]Լ. Աբգարյան'!I14+'[1]Կ. Մարդանյան'!I14+'[1]Ա. Վարդանյան'!I14+'[1]Ա. Մաթևոսյան'!I14+'[1]Լ. Հովհաննիսյան'!I14+[1]Ա.Դանիելյան!I14+'[1]Ս. Համբարձումյան'!I14+'[1]Գ. Հովհաննիսյան'!I14+'[1]Մ. Մելքոնյան'!I14+'[1]Լ. Ալավերդյան '!I14+'[1]Ռ. Պապոյան'!I14+'[1]Մ. Արղամանյան'!I14+'[1]Ա. Բեկթաշյան'!I14+'[1]Ա. Նիկողոսյան'!I14+'[1]Մ. Հարությունյան'!I14+'[1]Ռ. Մխիթարյան'!I14+'[1]Ն. Հովակիմյան'!I14+'[1]Ռ. Բարսեղյան'!I14+'[1]Ա. Մնացականյան'!I14+'[1]Կ. Ամիրյան'!I14+'[1]Ս. Մարաբյան'!I14+'[1]Ա. Նահապետյան'!I14+'[1]Ա. Հովհաննիսյան'!I14+'[1]Մ. Մակյան'!I14 -> 0 | J14: ='[1]Վ. Ռշտունի'!J14+'[1]Մ. Պապոյան'!J14+'[1]Լ. Աբգարյան'!J14+'[1]Կ. Մարդանյան'!J14+'[1]Ա. Վարդանյան'!J14+'[1]Ա. Մաթևոսյան'!J14+'[1]Լ. Հովհաննիսյան'!J14+[1]Ա.Դանիելյան!J14+'[1]Ս. Համբարձումյան'!J14+'[1]Գ. Հովհաննիսյան'!J14+'[1]Մ. Մելքոնյան'!J14+'[1]Լ. Ալավերդյան '!J14+'[1]Ռ. Պապոյան'!J14+'[1]Մ. Արղամանյան'!J14+'[1]Ա. Բեկթաշյան'!J14+'[1]Ա. Նիկողոսյան'!J14+'[1]Մ. Հարությունյան'!J14+'[1]Ռ. Մխիթարյան'!J14+'[1]Ն. Հովակիմյան'!J14+'[1]Ռ. Բարսեղյան'!J14+'[1]Ա. Մնացականյան'!J14+'[1]Կ. Ամիրյան'!J14+'[1]Ս. Մարաբյան'!J14+'[1]Ա. Նահապետյան'!J14+'[1]Ա. Հովհաննիսյան'!J14+'[1]Մ. Մակյան'!J14 -> 3 | K14: 27 | L14: ='[1]Վ. Ռշտունի'!L14+'[1]Մ. Պապոյան'!L14+'[1]Լ. Աբգարյան'!L14+'[1]Կ. Մարդանյան'!L14+'[1]Ա. Վարդանյան'!L14+'[1]Ա. Մաթևոսյան'!L14+'[1]Լ. Հովհաննիսյան'!L14+[1]Ա.Դանիելյան!L14+'[1]Ս. Համբարձումյան'!L14+'[1]Գ. Հովհաննիսյան'!L14+'[1]Մ. Մելքոնյան'!L14+'[1]Լ. Ալավերդյան '!L14+'[1]Ռ. Պապոյան'!L14+'[1]Մ. Արղամանյան'!L14+'[1]Ա. Բեկթաշյան'!L14+'[1]Ա. Նիկողոսյան'!L14+'[1]Մ. Հարությունյան'!L14+'[1]Ռ. Մխիթարյան'!L14+'[1]Ն. Հովակիմյան'!L14+'[1]Ռ. Բարսեղյան'!L14+'[1]Ա. Մնացականյան'!L14+'[1]Կ. Ամիրյան'!L14+'[1]Ս. Մարաբյան'!L14+'[1]Ա. Նահապետյան'!L14+'[1]Ա. Հովհաննիսյան'!L14+'[1]Մ. Մակյան'!L14 -> 205 | M14: ='[1]Վ. Ռշտունի'!M14+'[1]Մ. Պապոյան'!M14+'[1]Լ. Աբգարյան'!M14+'[1]Կ. Մարդանյան'!M14+'[1]Ա. Վարդանյան'!M14+'[1]Ա. Մաթևոսյան'!M14+'[1]Լ. Հովհաննիսյան'!M14+[1]Ա.Դանիելյան!M14+'[1]Ս. Համբարձումյան'!M14+'[1]Գ. Հովհաննիսյան'!M14+'[1]Մ. Մելքոնյան'!M14+'[1]Լ. Ալավերդյան '!M14+'[1]Ռ. Պապոյան'!M14+'[1]Մ. Արղամանյան'!M14+'[1]Ա. Բեկթաշյան'!M14+'[1]Ա. Նիկողոսյան'!M14+'[1]Մ. Հարությունյան'!M14+'[1]Ռ. Մխիթարյան'!M14+'[1]Ն. Հովակիմյան'!M14+'[1]Ռ. Բարսեղյան'!M14+'[1]Ա. Մնացականյան'!M14+'[1]Կ. Ամիրյան'!M14+'[1]Ս. Մարաբյան'!M14+'[1]Ա. Նահապետյան'!M14+'[1]Ա. Հովհաննիսյան'!M14+'[1]Մ. Մակյան'!M14 -> 7 | N14: ='[1]Վ. Ռշտունի'!N14+'[1]Մ. Պապոյան'!N14+'[1]Լ. Աբգարյան'!N14+'[1]Կ. Մարդանյան'!N14+'[1]Ա. Վարդանյան'!N14+'[1]Ա. Մաթևոսյան'!N14+'[1]Լ. Հովհաննիսյան'!N14+[1]Ա.Դանիելյան!N14+'[1]Ս. Համբարձումյան'!N14+'[1]Գ. Հովհաննիսյան'!N14+'[1]Մ. Մելքոնյան'!N14+'[1]Լ. Ալավերդյան '!N14+'[1]Ռ. Պապոյան'!N14+'[1]Մ. Արղամանյան'!N14+'[1]Ա. Բեկթաշյան'!N14+'[1]Ա. Նիկողոսյան'!N14+'[1]Մ. Հարությունյան'!N14+'[1]Ռ. Մխիթարյան'!N14+'[1]Ն. Հովակիմյան'!N14+'[1]Ռ. Բարսեղյան'!N14+'[1]Ա. Մնացականյան'!N14+'[1]Կ. Ամիրյան'!N14+'[1]Ս. Մարաբյան'!N14+'[1]Ա. Նահապետյան'!N14+'[1]Ա. Հովհաննիսյան'!N14+'[1]Մ. Մակյան'!N14 -> 0 | O14: ='[1]Վ. Ռշտունի'!O14+'[1]Մ. Պապոյան'!O14+'[1]Լ. Աբգարյան'!O14+'[1]Կ. Մարդանյան'!O14+'[1]Ա. Վարդանյան'!O14+'[1]Ա. Մաթևոսյան'!O14+'[1]Լ. Հովհաննիսյան'!O14+[1]Ա.Դանիելյան!O14+'[1]Ս. Համբարձումյան'!O14+'[1]Գ. Հովհաննիսյան'!O14+'[1]Մ. Մելքոնյան'!O14+'[1]Լ. Ալավերդյան '!O14+'[1]Ռ. Պապոյան'!O14+'[1]Մ. Արղամանյան'!O14+'[1]Ա. Բեկթաշյան'!O14+'[1]Ա. Նիկողոսյան'!O14+'[1]Մ. Հարությունյան'!O14+'[1]Ռ. Մխիթարյան'!O14+'[1]Ն. Հովակիմյան'!O14+'[1]Ռ. Բարսեղյան'!O14+'[1]Ա. Մնացականյան'!O14+'[1]Կ. Ամիրյան'!O14+'[1]Ս. Մարաբյան'!O14+'[1]Ա. Նահապետյան'!O14+'[1]Ա. Հովհաննիսյան'!O14+'[1]Մ. Մակյան'!O14 -> 0 | P14: ='[1]Վ. Ռշտունի'!P14+'[1]Մ. Պապոյան'!P14+'[1]Լ. Աբգարյան'!P14+'[1]Կ. Մարդանյան'!P14+'[1]Ա. Վարդանյան'!P14+'[1]Ա. Մաթևոսյան'!P14+'[1]Լ. Հովհաննիսյան'!P14+[1]Ա.Դանիելյան!P14+'[1]Ս. Համբարձումյան'!P14+'[1]Գ. Հովհաննիսյան'!P14+'[1]Մ. Մելքոնյան'!P14+'[1]Լ. Ալավերդյան '!P14+'[1]Ռ. Պապոյան'!P14+'[1]Մ. Արղամանյան'!P14+'[1]Ա. Բեկթաշյան'!P14+'[1]Ա. Նիկողոսյան'!P14+'[1]Մ. Հարությունյան'!P14+'[1]Ռ. Մխիթարյան'!P14+'[1]Ն. Հովակիմյան'!P14+'[1]Ռ. Բարսեղյան'!P14+'[1]Ա. Մնացականյան'!P14+'[1]Կ. Ամիրյան'!P14+'[1]Ս. Մարաբյան'!P14+'[1]Ա. Նահապետյան'!P14+'[1]Ա. Հովհաննիսյան'!P14+'[1]Մ. Մակյան'!P14 -> 0 | Q14: ='[1]Վ. Ռշտունի'!Q14+'[1]Մ. Պապոյան'!Q14+'[1]Լ. Աբգարյան'!Q14+'[1]Կ. Մարդանյան'!Q14+'[1]Ա. Վարդանյան'!Q14+'[1]Ա. Մաթևոսյան'!Q14+'[1]Լ. Հովհաննիսյան'!Q14+[1]Ա.Դանիելյան!Q14+'[1]Ս. Համբարձումյան'!Q14+'[1]Գ. Հովհաննիսյան'!Q14+'[1]Մ. Մելքոնյան'!Q14+'[1]Լ. Ալավերդյան '!Q14+'[1]Ռ. Պապոյան'!Q14+'[1]Մ. Արղամանյան'!Q14+'[1]Ա. Բեկթաշյան'!Q14+'[1]Ա. Նիկողոսյան'!Q14+'[1]Մ. Հարությունյան'!Q14+'[1]Ռ. Մխիթարյան'!Q14+'[1]Ն. Հովակիմյան'!Q14+'[1]Ռ. Բարսեղյան'!Q14+'[1]Ա. Մնացականյան'!Q14+'[1]Կ. Ամիրյան'!Q14+'[1]Ս. Մարաբյան'!Q14+'[1]Ա. Նահապետյան'!Q14+'[1]Ա. Հովհաննիսյան'!Q14+'[1]Մ. Մակյան'!Q14 -> 0 | R14: ='[1]Վ. Ռշտունի'!R14+'[1]Մ. Պապոյան'!R14+'[1]Լ. Աբգարյան'!R14+'[1]Կ. Մարդանյան'!R14+'[1]Ա. Վարդանյան'!R14+'[1]Ա. Մաթևոսյան'!R14+'[1]Լ. Հովհաննիսյան'!R14+[1]Ա.Դանիելյան!R14+'[1]Ս. Համբարձումյան'!R14+'[1]Գ. Հովհաննիսյան'!R14+'[1]Մ. Մելքոնյան'!R14+'[1]Լ. Ալավերդյան '!R14+'[1]Ռ. Պապոյան'!R14+'[1]Մ. Արղամանյան'!R14+'[1]Ա. Բեկթաշյան'!R14+'[1]Ա. Նիկողոսյան'!R14+'[1]Մ. Հարությունյան'!R14+'[1]Ռ. Մխիթարյան'!R14+'[1]Ն. Հովակիմյան'!R14+'[1]Ռ. Բարսեղյան'!R14+'[1]Ա. Մնացականյան'!R14+'[1]Կ. Ամիրյան'!R14+'[1]Ս. Մարաբյան'!R14+'[1]Ա. Նահապետյան'!R14+'[1]Ա. Հովհաննիսյան'!R14+'[1]Մ. Մակյան'!R14 -> 0 | S14: ='[1]Վ. Ռշտունի'!S14+'[1]Մ. Պապոյան'!S14+'[1]Լ. Աբգարյան'!S14+'[1]Կ. Մարդանյան'!S14+'[1]Ա. Վարդանյան'!S14+'[1]Ա. Մաթևոսյան'!S14+'[1]Լ. Հովհաննիսյան'!S14+[1]Ա.Դանիելյան!S14+'[1]Ս. Համբարձումյան'!S14+'[1]Գ. Հովհաննիսյան'!S14+'[1]Մ. Մելքոնյան'!S14+'[1]Լ. Ալավերդյան '!S14+'[1]Ռ. Պապոյան'!S14+'[1]Մ. Արղամանյան'!S14+'[1]Ա. Բեկթաշյան'!S14+'[1]Ա. Նիկողոսյան'!S14+'[1]Մ. Հարությունյան'!S14+'[1]Ռ. Մխիթարյան'!S14+'[1]Ն. Հովակիմյան'!S14+'[1]Ռ. Բարսեղյան'!S14+'[1]Ա. Մնացականյան'!S14+'[1]Կ. Ամիրյան'!S14+'[1]Ս. Մարաբյան'!S14+'[1]Ա. Նահապետյան'!S14+'[1]Ա. Հովհաննիսյան'!S14+'[1]Մ. Մակյան'!S14 -> 0 | ... AH14: ='[1]Վ. Ռշտունի'!AH14+'[1]Մ. Պապոյան'!AH14+'[1]Լ. Աբգարյան'!AH14+'[1]Կ. Մարդանյան'!AH14+'[1]Ա. Վարդանյան'!AH14+'[1]Ա. Մաթևոսյան'!AH14+'[1]Լ. Հովհաննիսյան'!AH14+[1]Ա.Դանիելյան!AH14+'[1]Ս. Համբարձումյան'!AH14+'[1]Գ. Հովհաննիսյան'!AH14+'[1]Մ. Մելքոնյան'!AH14+'[1]Լ. Ալավերդյան '!AH14+'[1]Ռ. Պապոյան'!AH14+'[1]Մ. Արղամանյան'!AH14+'[1]Ա. Բեկթաշյան'!AH14+'[1]Ա. Նիկողոսյան'!AH14+'[1]Մ. Հարությունյան'!AH14+'[1]Ռ. Մխիթարյան'!AH14+'[1]Ն. Հովակիմյան'!AH14+'[1]Ռ. Բարսեղյան'!AH14+'[1]Ա. Մնացականյան'!AH14+'[1]Կ. Ամիրյան'!AH14+'[1]Ս. Մարաբյան'!AH14+'[1]Ա. Նահապետյան'!AH14+'[1]Ա. Հովհաննիսյան'!AH14+'[1]Մ. Մակյան'!AH14 -> 19 | AI14: 193 | AJ14: 212 | AK14: ='[1]Վ. Ռշտունի'!AK14+'[1]Մ. Պապոյան'!AK14+'[1]Լ. Աբգարյան'!AK14+'[1]Կ. Մարդանյան'!AK14+'[1]Ա. Վարդանյան'!AK14+'[1]Ա. Մաթևոսյան'!AK14+'[1]Լ. Հովհաննիսյան'!AK14+[1]Ա.Դանիելյան!AK14+'[1]Ս. Համբարձումյան'!AK14+'[1]Գ. Հովհաննիսյան'!AK14+'[1]Մ. Մելքոնյան'!AK14+'[1]Լ. Ալավերդյան '!AK14+'[1]Ռ. Պապոյան'!AK14+'[1]Մ. Արղամանյան'!AK14+'[1]Ա. Բեկթաշյան'!AK14+'[1]Ա. Նիկողոսյան'!AK14+'[1]Մ. Հարությունյան'!AK14+'[1]Ռ. Մխիթարյան'!AK14+'[1]Ն. Հովակիմյան'!AK14+'[1]Ռ. Բարսեղյան'!AK14+'[1]Ա. Մնացականյան'!AK14+'[1]Կ. Ամիրյան'!AK14+'[1]Ս. Մարաբյան'!AK14+'[1]Ա. Նահապետյան'!AK14+'[1]Ա. Հովհաննիսյան'!AK14+'[1]Մ. Մակյան'!AK14 -> 2 | AL14: ='[1]Վ. Ռշտունի'!AL14+'[1]Մ. Պապոյան'!AL14+'[1]Լ. Աբգարյան'!AL14+'[1]Կ. Մարդանյան'!AL14+'[1]Ա. Վարդանյան'!AL14+'[1]Ա. Մաթևոսյան'!AL14+'[1]Լ. Հովհաննիսյան'!AL14+[1]Ա.Դանիելյան!AL14+'[1]Ս. Համբարձումյան'!AL14+'[1]Գ. Հովհաննիսյան'!AL14+'[1]Մ. Մելքոնյան'!AL14+'[1]Լ. Ալավերդյան '!AL14+'[1]Ռ. Պապոյան'!AL14+'[1]Մ. Արղամանյան'!AL14+'[1]Ա. Բեկթաշյան'!AL14+'[1]Ա. Նիկողոսյան'!AL14+'[1]Մ. Հարությունյան'!AL14+'[1]Ռ. Մխիթարյան'!AL14+'[1]Ն. Հովակիմյան'!AL14+'[1]Ռ. Բարսեղյան'!AL14+'[1]Ա. Մնացականյան'!AL14+'[1]Կ. Ամիրյան'!AL14+'[1]Ս. Մարաբյան'!AL14+'[1]Ա. Նահապետյան'!AL14+'[1]Ա. Հովհաննիսյան'!AL14+'[1]Մ. Մակյան'!AL14 -> 27 | AM14: ='[1]Վ. Ռշտունի'!AM14+'[1]Մ. Պապոյան'!AM14+'[1]Լ. Աբգարյան'!AM14+'[1]Կ. Մարդանյան'!AM14+'[1]Ա. Վարդանյան'!AM14+'[1]Ա. Մաթևոսյան'!AM14+'[1]Լ. Հովհաննիսյան'!AM14+[1]Ա.Դանիելյան!AM14+'[1]Ս. Համբարձումյան'!AM14+'[1]Գ. Հովհաննիսյան'!AM14+'[1]Մ. Մելքոնյան'!AM14+'[1]Լ. Ալավերդյան '!AM14+'[1]Ռ. Պապոյան'!AM14+'[1]Մ. Արղամանյան'!AM14+'[1]Ա. Բեկթաշյան'!AM14+'[1]Ա. Նիկողոսյան'!AM14+'[1]Մ. Հարությունյան'!AM14+'[1]Ռ. Մխիթարյան'!AM14+'[1]Ն. Հովակիմյան'!AM14+'[1]Ռ. Բարսեղյան'!AM14+'[1]Ա. Մնացականյան'!AM14+'[1]Կ. Ամիրյան'!AM14+'[1]Ս. Մարաբյան'!AM14+'[1]Ա. Նահապետյան'!AM14+'[1]Ա. Հովհաննիսյան'!AM14+'[1]Մ. Մակյան'!AM14 -> 29 | AN14: ='[1]Վ. Ռշտունի'!AN14+'[1]Մ. Պապոյան'!AN14+'[1]Լ. Աբգարյան'!AN14+'[1]Կ. Մարդանյան'!AN14+'[1]Ա. Վարդանյան'!AN14+'[1]Ա. Մաթևոսյան'!AN14+'[1]Լ. Հովհաննիսյան'!AN14+[1]Ա.Դանիելյան!AN14+'[1]Ս. Համբարձումյան'!AN14+'[1]Գ. Հովհաննիսյան'!AN14+'[1]Մ. Մելքոնյան'!AN14+'[1]Լ. Ալավերդյան '!AN14+'[1]Ռ. Պապոյան'!AN14+'[1]Մ. Արղամանյան'!AN14+'[1]Ա. Բեկթաշյան'!AN14+'[1]Ա. Նիկողոսյան'!AN14+'[1]Մ. Հարությունյան'!AN14+'[1]Ռ. Մխիթարյան'!AN14+'[1]Ն. Հովակիմյան'!AN14+'[1]Ռ. Բարսեղյան'!AN14+'[1]Ա. Մնացականյան'!AN14+'[1]Կ. Ամիրյան'!AN14+'[1]Ս. Մարաբյան'!AN14+'[1]Ա. Նահապետյան'!AN14+'[1]Ա. Հովհաննիսյան'!AN14+'[1]Մ. Մակյան'!AN14 -> 26
