Workbook

Sheet Ընդհանուր
A1: 2015Ã. | G1: Ð²ÞìºîìàôÂÚàôÜ | AM1: Ï³½Ùí³Í` ÐÐ Ï³é³í³ñáõÃÛ³Ý 19.03.2015Ã. ÃÇí 306-Ü áñáßÙ³Ý ÑÇÙ³Ý íñ³
A2: ºðºì²ÜÆ ¾ðº´àôÜÆ ºì Üàô´²ð²ÞºÜ ì²ðâ²Î²Ü Þðæ²ÜÜºðÆ ÀÜ¸Ð²Üàôð Æð²ì²êàôÂÚ²Ü ²è²æÆÜ ²îÚ²ÜÆ ¸²î²ð²ÜÆ ¸²î²ìàð | Z2: ¶àðÌàôÜºàôÂÚ²Ü ìºð²´ºðÚ²È
A3: ø²Ô²ø²òÆ²Î²Ü ¶àðÌºðàì
A4: ºñ¨³ÝÇ ¾ñ»µáõÝÇ ¨ Üáõµ³ñ³ß»Ý í³ñã³Ï³Ý ßñç³ÝÝ»ñÇ ÁÝ¹Ñ³Ýáõñ Çñ³í³ëáõÃÛ³Ý ³é³çÇÝ ³ïÛ³ÝÇ ¹³ï³ñ³ÝÇ ù³Õ³ù³óÇ³Ï³Ý Ù³ëÝ³·Çï³óáõÙ áõÝ»óáÕ ¹³ï³íáñÝ»ñÇ Ñ³ëïÇùÝ»ñÇ ù³Ý³ÏÁ` 4
A5: êïáõ·Çã Ñ³í³ë³ñáõÙÝ»ñª 1=2+3+4+5, 6=7+8+9, 2+3+7=10+21+22+24, 11=12+13+14+15+16, 16=17+18+19, 21=11+20, 28=26+27, 28=29+30, 35=33+34, 35=36+37 | E5: Ð³ßí»ïáõ Å³Ù³Ý³Ï³Ñ³ïí³ÍáõÙ Ý³Ëáñ¹ Ñ³ßí»ïáõ Å³Ù³Ý³Ï³Ñ³ïí³ÍÇó ÷áË³Ýóí³Í ·áñÍ»ñÇ ÁÝ¹Ñ³Ýáõñ ÃÇíÁ | J5: Ð³ßí»ïáõ Å³Ù³Ý³Ï³Ñ³ïí³ÍáõÙëï³óí³Í ·áñÍ»ñÇ (³Û¹ ÃíáõÙ` Ñ³Ûó³¹ÇÙáõÙÝ»ñÇ, ¹ÇÙáõÙÝ»ñÇ) ÁÝ¹Ñ³Ýáõñ ÃÇíÁ | N5: öáË³Ýóí»É ¿ ³ÛÉ ¹³ï³íáñÇ (Ï³½ÙÇ ÷á÷áËáõÃÛáõÝ) | O5: Ð³ßí»ïáõ Å³Ù³Ý³Ï³Ñ³ïí³ÍáõÙ ³í³ñïí³Í ·áñÍ»ñÇ ÁÝ¹Ñ³Ýáõñ ÃÇíÁ | Z5: ¶áñÍÝ áõÕ³ñÏí»É ¿ Áëï ÁÝ¹¹³ïáõÃÛ³Ý | AA5: Ð³ßí»ïáõ Å³Ù³Ý³Ï³Ñ³ïí³ÍáõÙ Ï³ë»óí³Í í³ñáõÛÃÝ»ñáí ·áñÍ»ñÇ ÁÝ¹Ñ³Ýáõñ ÃÇíÁ | AB5: Ð³ßí»ïáõ Å³Ù³Ý³Ï³Ñ³ïí³ÍáõÙ ³Ý³í³ñï ·áñÍ»ñÇ ÁÝ¹Ñ³Ýáõñ ÃÇíÁ | AC5: ²Û¹ ÃíáõÙª Ï³ë»óí³Í | AD5: ´áÕáù³ñÏí³Í ¹³ï³Ï³Ý ³Ïï»ñÁ | AI5: ²í³ñïí³Í ¹³ï³Ï³Ý ·áñÍ»ñÇ µáÕáù³ñÏÙ³Ý ïáÏáëÁ (Ñ³ßí»ïáõ Å³Ù³Ý³Ï³ßñç³ÝáõÙ) | AJ5: ²Ý³í³ñï µáÕáùÝ»ñ | AK5: ´»Ï³Ýí³Í ¹³ï³Ï³Ý ³Ïï»ñÁ | AP5: µ»Ï³ÝáõÙÝ»ñÇ ïáÏáëÁ ³í³ñïí³Í ·áñÍ»ñÇó(Ñ³ßí»ïáõ Å³Ù³Ý³Ï³ßñç³ÝáõÙ) | AQ5: Î³ÛáõÝáõÃÛ³Ý ïáÏáëÁ ³í³ñïí³Í ·áñÍ»ñÇó(Ñ³ßí»ïáõ Å³Ù³Ý³Ï³ßñç³ÝáõÙ) | AR5: µ»Ï³ÝáõÙÝ»ñÇ ïáÏáëÁ µáÕáù³ñÏí³Í ·áñÍ»ñÇó(Ñ³ßí»ïáõ Å³Ù³Ý³Ï³ßñç³ÝáõÙ) | AS5: Ï³ÛáõÝáõÃÛ³Ý ïáÏáëÁ(Ñ³ßí»ïáõ Å³Ù³Ý³Ï³ßñç³ÝáõÙ)
E6: ÀÝ¹³Ù»ÝÁ | F6: ²Û¹ ÃíáõÙ`Ï³ë»óí³Í íÇ×³ÏáõÙ ÷áË³Ýóí³Í | G6: ²Û¹ ÃíáõÙª ÁÝ¹áõÝí»É ¿ í³ñáõÛÃ | H6: ²Û¹ ÃíáõÙª í»ñ³¹³ñÓí»É ¿ | I6: ²Û¹ ÃíáõÙª ÁÝ¹áõÝáõÙÁ Ù»ñÅí»É ¿ | J6: ÀÝ¹³Ù»ÝÁ | K6: ²Û¹ ÃíáõÙª ÁÝ¹áõÝí»É ¿ í³ñáõÛÃ | L6: ²Û¹ ÃíáõÙª í»ñ³¹³ñÓí»É ¿ | M6: ²Û¹ ÃíáõÙª ÁÝ¹áõÝáõÙÁ Ù»ñÅí»É ¿ | O6: ÀÝ¹³Ù»ÝÁ ³í³ñïí»É »Ý ·áñÍ»ñ ·áñÍÝ Áëï ¿áõÃÛ³Ý ÉáõÍáÕ ¹³ï³Ï³Ý ³Ïï»ñÇ (í×ÇéÝ»ñÇ) Ï³Û³óÙ³Ùµ | P6: ²Û¹ ÃíáõÙª Ñ³ÛóÇ µ³í³ñ³ñÙ³Ùµ | Q6: ²Û¹ ÃíáõÙª Ñ³ÛóÇ Ù³ëÝ³ÏÇ µ³í³ñ³ñÙ³Ùµ | R6: ²Û¹ ÃíáõÙª Ñ³ÛóÇ Ù»ñÅÙ³Ùµ | S6: Ø³ëáí Ï³ñ×í»É ¿É, Ù³ëáí Ù»ñÅí»É | T6: ²Û¹ ÃíáõÙª Ï³ñ×í»É »Ý | X6: Ð³ÛóÁ ÃáÕÝí»É ¿ ³é³Ýó ùÝÝáõÃÛ³Ý | Y6: ÀÝ¹³Ù»ÝÝ ³í³ñïí»É »Ý ·áñÍ»ñ | AD6: ²Û¹ ÃíáõÙ` ·áñÍÝ Áëï ¿áõÃÛ³Ý ÉáõÍáÕ ¹³ï³Ï³Ý ³Ïï»ñÁ | AE6: ²Û¹ ÃíáõÙ` ÙÇç³ÝÏÛ³É ¹³ï³Ï³Ý ³Ïï»ñÁ | AF6: ÀÝ¹³Ù»ÝÁ | AG6: Ü³Ëáñ¹ ï³ñÇÝ»ñÇÝ Ï³Û³óí³Í ³Ïï»ñÇ µáÕáù³ñÏáõÙÁ Ñ³ßí»ïáõ Å³Ù³Ý³Ï³ßñç³ÝáõÙ | AH6: Ð³ßí»ïáõ Å³Ù³Ý³Ï³ßñç³ÝáõÙ Ï³Û³óí³Í ³Ïï»ñÇ µáÕáù³ñÏáõÙÁ | AK6: ²Û¹ ÃíáõÙ` ·áñÍÝ Áëï ¿áõÃÛ³Ý ÉáõÍáÕ ¹³ï³Ï³Ý ³Ïï»ñÁ | AL6: ²Û¹ ÃíáõÙ` ÙÇç³ÝÏÛ³É ¹³ï³Ï³Ý ³Ïï»ñÁ | AM6: ÀÝ¹³Ù»ÝÁ | AN6: Ü³Ëáñ¹ ï³ñÇÝ»ñÇÝ Ï³Û³óí³Í ³Ïï»ñÇ µ»Ï³ÝáõÙÝ»ñÁ Ñ³ßí»ïáõ Å³Ù³Ý³Ï³ßñç³ÝáõÙ | AO6: Ð³ßí»ïáõ Å³Ù³Ý³Ï³ßñç³ÝáõÙ Ï³Û³óí³Í ³Ïï»ñÇ µ»Ï³ÝáõÙÁ
T7: ÀÝ¹³Ù»ÝÁ Ï³ñ×í»É »Ý | U7: ²Û¹ ÃíáõÙª Ñ³ëï³ïí»É ¿ ÏÝùí³Í Ñ³ßïáõÃÛ³Ý Ñ³Ù³Ó³ÛÝáõÃÛáõÝÁ | V7: ²Û¹ ÃíáõÙª Ñ³óÇó, ¹ÇÙáõÙÇó Ññ³Å³ñí»Éáõ ÑÇÙùáí | W7: ²Û¹ ÃíáõÙª ³ÛÉ ÑÇÙùáí
E8: 1 | F8: 2 | G8: 3 | H8: 4 | I8: 5 | J8: 6 | K8: 7 | L8: 8 | M8: 9 | N8: 10 | O8: 11 | P8: 12 | Q8: 13 | R8: 14 | S8: 15 | T8: 16 | U8: 17 | V8: 18 | W8: 19 | X8: 20 | Y8: 21 | Z8: 22 | AA8: 23 | AB8: 24 | AC8: 25 | AD8: 26 | AE8: 27 | AF8: 28 | AG8: 29 | AH8: 30 | AI8: 31 | AJ8: 32 | AK8: 33 | AL8: 34 | AM8: 35 | AN8: 36 | AO8: 37 | AP8: 38 | AQ8: 39 | AR8: 40 | AS8: 41 | AT8: 1=2+3+4+5 | AV8: 6=7+8+9 | AX8: 2+3+7=10+21+22+24 | AZ8: 11=12+13+14+15+16 | BB8: 16=17+18+19 | BD8: 21=11+20 | BF8: 28=26+27 | BH8: 28=29+30 | BJ8: 35=33+34 | BL8: 35=36+37
A9: 1. | B9: ¶áõÛù³ÛÇÝ Çñ³í³Ñ³ñ³µ»ñáõÃÛáõÝÝ»ñÇ í»ñ³µ»ñÛ³É ¹³ï³Ï³Ý ·áñÍ»ñ | E9: =SUM(E10:E28) -> 179 | F9: =SUM(F10:F28) -> 68 | G9: =SUM(G10:G28) -> 111 | H9: =SUM(H10:H28) -> 0 | I9: =SUM(I10:I28) -> 0 | J9: =SUM(J10:J28) -> 197 | K9: =SUM(K10:K28) -> 132 | L9: =SUM(L10:L28) -> 60 | ... BM9: =SUM(BM10:BM28) -> 16
A10: 1.1 | B10: ¶áõÛùÇ ÝÏ³ïÙ³Ùµ ë»÷³Ï³ÝáõÃÛ³Ý Çñ³íáõÝùÁ ×³Ý³ã»Éáõ í»ñ³µ»ñÛ³É | E10: =SUM(Գ.Խաչատրյան:Տ.Ստեփանյան!E10) -> 13 | F10: =SUM(Գ.Խաչատրյան:Տ.Ստեփանյան!F10) -> 1 | G10: =SUM(Գ.Խաչատրյան:Տ.Ստեփանյան!G10) -> 12 | H10: =SUM(Գ.Խաչատրյան:Տ.Ստեփանյան!H10) -> 0 | I10: =SUM(Գ.Խաչատրյան:Տ.Ստեփանյան!I10) -> 0 | J10: =SUM(Գ.Խաչատրյան:Տ.Ստեփանյան!J10) -> 30 | K10: =SUM(Գ.Խաչատրյան:Տ.Ստեփանյան!K10) -> 17 | L10: =SUM(Գ.Խաչատրյան:Տ.Ստեփանյան!L10) -> 11 | ... AS10: =SUM(Գ.Խաչատրյան:Տ.Ստեփանյան!AS10) -> 0 | AT10: =E10 -> 13 | AU10: =F10+G10+H10+I10 -> 13 | AV10: =J10 -> 30 | AW10: =K10+L10+M10 -> 30 | AX10: =F10+G10+K10 -> 30 | AY10: =N10+Y10+Z10+AB10 -> 30 | AZ10: =O10 -> 17 | BA10: =P10+Q10+R10+S10+T10 -> 17 | BB10: =T10 -> 7 | BC10: =+U10+V10+W10 -> 7 | BD10: =Y10 -> 17 | BE10: =+O10+X10 -> 17 | BF10: =AF10 -> 8 | BG10: =AD10+AE10 -> 8 | BH10: =AF10 -> 8 | BI10: =AG10+AH10 -> 8 | BJ10: =AM10 -> 3 | BK10: =AK10+AL10 -> 3 | BL10: =AM10 -> 3 | BM10: =AN10+AO10 -> 3
A11: 1.1.1 | B11: ²Û¹ ÃíáõÙª Ó»éùµ»ñÙ³Ý í³Õ»ÙáõÃÛ³Ý áõÅáí | E11: =SUM(Գ.Խաչատրյան:Տ.Ստեփանյան!E11) -> 13 | F11: =SUM(Գ.Խաչատրյան:Տ.Ստեփանյան!F11) -> 2 | G11: =SUM(Գ.Խաչատրյան:Տ.Ստեփանյան!G11) -> 11 | H11: =SUM(Գ.Խաչատրյան:Տ.Ստեփանյան!H11) -> 0 | I11: =SUM(Գ.Խաչատրյան:Տ.Ստեփանյան!I11) -> 0 | J11: =SUM(Գ.Խաչատրյան:Տ.Ստեփանյան!J11) -> 26 | K11: =SUM(Գ.Խաչատրյան:Տ.Ստեփանյան!K11) -> 18 | L11: =SUM(Գ.Խաչատրյան:Տ.Ստեփանյան!L11) -> 7 | ... AS11: =SUM(Գ.Խաչատրյան:Տ.Ստեփանյան!AS11) -> 0 | AT11: =E11 -> 13 | AU11: =F11+G11+H11+I11 -> 13 | AV11: =J11 -> 26 | AW11: =K11+L11+M11 -> 26 | AX11: =F11+G11+K11 -> 31 | AY11: =N11+Y11+Z11+AB11 -> 31 | AZ11: =O11 -> 18 | BA11: =P11+Q11+R11+S11+T11 -> 18 | BB11: =T11 -> 5 | BC11: =+U11+V11+W11 -> 5 | BD11: =Y11 -> 18 | BE11: =+O11+X11 -> 18 | BF11: =AF11 -> 7 | BG11: =AD11+AE11 -> 7 | BH11: =AF11 -> 7 | BI11: =AG11+AH11 -> 7 | BJ11: =AM11 -> 2 | BK11: =AK11+AL11 -> 2 | BL11: =AM11 -> 2 | BM11: =AN11+AO11 -> 2
A12: 1.1.2 | B12: ²Û¹ ÃíáõÙª ïÇñ³½áõñÏ ·áõÛùÇ ÝÏ³ïÙ³Ùµ | E12: =SUM(Գ.Խաչատրյան:Տ.Ստեփանյան!E12) -> 0 | F12: =SUM(Գ.Խաչատրյան:Տ.Ստեփանյան!F12) -> 0 | G12: =SUM(Գ.Խաչատրյան:Տ.Ստեփանյան!G12) -> 0 | H12: =SUM(Գ.Խաչատրյան:Տ.Ստեփանյան!H12) -> 0 | I12: =SUM(Գ.Խաչատրյան:Տ.Ստեփանյան!I12) -> 0 | J12: =SUM(Գ.Խաչատրյան:Տ.Ստեփանյան!J12) -> 0 | K12: =SUM(Գ.Խաչատրյան:Տ.Ստեփանյան!K12) -> 0 | L12: =SUM(Գ.Խաչատրյան:Տ.Ստեփանյան!L12) -> 0 | ... AS12: =SUM(Գ.Խաչատրյան:Տ.Ստեփանյան!AS12) -> 0 | AT12: =E12 -> 0 | AU12: =F12+G12+H12+I12 -> 0 | AV12: =J12 -> 0 | AW12: =K12+L12+M12 -> 0 | AX12: =F12+G12+K12 -> 0 | AY12: =N12+Y12+Z12+AB12 -> 0 | AZ12: =O12 -> 0 | BA12: =P12+Q12+R12+S12+T12 -> 0 | BB12: =T12 -> 0 | BC12: =+U12+V12+W12 -> 0 | BD12: =Y12 -> 0 | BE12: =+O12+X12 -> 0 | BF12: =AF12 -> 0 | BG12: =AD12+AE12 -> 0 | BH12: =AF12 -> 0 | BI12: =AG12+AH12 -> 0 | BJ12: =AM12 -> 0 | BK12: =AK12+AL12 -> 0 | BL12: =AM12 -> 0 | BM12: =AN12+AO12 -> 0
A13: 1.1.3 | B13: ²Û¹ ÃíáõÙª ÇÝùÝ³Ï³Ù Ï³éáõÛóÇ ÝÏ³ïÙ³Ùµ | E13: =SUM(Գ.Խաչատրյան:Տ.Ստեփանյան!E13) -> 0 | F13: =SUM(Գ.Խաչատրյան:Տ.Ստեփանյան!F13) -> 0 | G13: =SUM(Գ.Խաչատրյան:Տ.Ստեփանյան!G13) -> 0 | H13: =SUM(Գ.Խաչատրյան:Տ.Ստեփանյան!H13) -> 0 | I13: =SUM(Գ.Խաչատրյան:Տ.Ստեփանյան!I13) -> 0 | J13: =SUM(Գ.Խաչատրյան:Տ.Ստեփանյան!J13) -> 0 | K13: =SUM(Գ.Խաչատրյան:Տ.Ստեփանյան!K13) -> 0 | L13: =SUM(Գ.Խաչատրյան:Տ.Ստեփանյան!L13) -> 0 | ... AS13: =SUM(Գ.Խաչատրյան:Տ.Ստեփանյան!AS13) -> 0 | AT13: =E13 -> 0 | AU13: =F13+G13+H13+I13 -> 0 | AV13: =J13 -> 0 | AW13: =K13+L13+M13 -> 0 | AX13: =F13+G13+K13 -> 0 | AY13: =N13+Y13+Z13+AB13 -> 0 | AZ13: =O13 -> 0 | BA13: =P13+Q13+R13+S13+T13 -> 0 | BB13: =T13 -> 0 | BC13: =+U13+V13+W13 -> 0 | BD13: =Y13 -> 0 | BE13: =+O13+X13 -> 0 | BF13: =AF13 -> 0 | BG13: =AD13+AE13 -> 0 | BH13: =AF13 -> 0 | BI13: =AG13+AH13 -> 0 | BJ13: =AM13 -> 0 | BK13: =AK13+AL13 -> 0 | BL13: =AM13 -> 0 | BM13: =AN13+AO13 -> 0
A14: 1.2 | B14: ê»÷³Ï³ÝáõÃÛ³Ý Çñ³íáõÝùÇ ¹³¹³ñ»óÙ³Ý í»ñ³µ»ñÛ³É | E14: =SUM(Գ.Խաչատրյան:Տ.Ստեփանյան!E14) -> 2 | F14: =SUM(Գ.Խաչատրյան:Տ.Ստեփանյան!F14) -> 2 | G14: =SUM(Գ.Խաչատրյան:Տ.Ստեփանյան!G14) -> 0 | H14: =SUM(Գ.Խաչատրյան:Տ.Ստեփանյան!H14) -> 0 | I14: =SUM(Գ.Խաչատրյան:Տ.Ստեփանյան!I14) -> 0 | J14: =SUM(Գ.Խաչատրյան:Տ.Ստեփանյան!J14) -> 1 | K14: =SUM(Գ.Խաչատրյան:Տ.Ստեփանյան!K14) -> 1 | L14: =SUM(Գ.Խաչատրյան:Տ.Ստեփանյան!L14) -> 0 | ... AS14: =SUM(Գ.Խաչատրյան:Տ.Ստեփանյան!AS14) -> 0 | AT14: =E14 -> 2 | AU14: =F14+G14+H14+I14 -> 2 | AV14: =J14 -> 1 | AW14: =K14+L14+M14 -> 1 | AX14: =F14+G14+K14 -> 3 | AY14: =N14+Y14+Z14+AB14 -> 3 | AZ14: =O14 -> 0 | BA14: =P14+Q14+R14+S14+T14 -> 0 | BB14: =T14 -> 0 | BC14: =+U14+V14+W14 -> 0 | BD14: =Y14 -> 0 | BE14: =+O14+X14 -> 0 | BF14: =AF14 -> 0 | BG14: =AD14+AE14 -> 0 | BH14: =AF14 -> 0 | BI14: =AG14+AH14 -> 0 | BJ14: =AM14 -> 0 | BK14: =AK14+AL14 -> 0 | BL14: =AM14 -> 0 | BM14: =AN14+AO14 -> 0
A15: 1.3 | B15: ¶áõÛùÇ ÝÏ³ïÙ³Ùµ û·ï³·áñÍÙ³Ý Çñ³íáõÝùÁ ×³Ý³ã»Éáõ í»ñ³µ»ñÛ³É | E15: =SUM(Գ.Խաչատրյան:Տ.Ստեփանյան!E15) -> 1 | F15: =SUM(Գ.Խաչատրյան:Տ.Ստեփանյան!F15) -> 1 | G15: =SUM(Գ.Խաչատրյան:Տ.Ստեփանյան!G15) -> 0 | H15: =SUM(Գ.Խաչատրյան:Տ.Ստեփանյան!H15) -> 0 | I15: =SUM(Գ.Խաչատրյան:Տ.Ստեփանյան!I15) -> 0 | J15: =SUM(Գ.Խաչատրյան:Տ.Ստեփանյան!J15) -> 0 | K15: =SUM(Գ.Խաչատրյան:Տ.Ստեփանյան!K15) -> 0 | L15: =SUM(Գ.Խաչատրյան:Տ.Ստեփանյան!L15) -> 0 | ... AS15: =SUM(Գ.Խաչատրյան:Տ.Ստեփանյան!AS15) -> 0 | AT15: =E15 -> 1 | AU15: =F15+G15+H15+I15 -> 1 | AV15: =J15 -> 0 | AW15: =K15+L15+M15 -> 0 | AX15: =F15+G15+K15 -> 1 | AY15: =N15+Y15+Z15+AB15 -> 1 | AZ15: =O15 -> 0 | BA15: =P15+Q15+R15+S15+T15 -> 0 | BB15: =T15 -> 0 | BC15: =+U15+V15+W15 -> 0 | BD15: =Y15 -> 0 | BE15: =+O15+X15 -> 0 | BF15: =AF15 -> 0 | BG15: =AD15+AE15 -> 0 | BH15: =AF15 -> 0 | BI15: =AG15+AH15 -> 0 | BJ15: =AM15 -> 0 | BK15: =AK15+AL15 -> 0 | BL15: =AM15 -> 0 | BM15: =AN15+AO15 -> 0
A16: 1.3.1 | B16: ²Û¹ ÃíáõÙª µÝ³Ïû·ï³·áñÍÙ³Ý Çñ³íáõÝùÁ ×³Ý³ã»Éáõ í»ñ³µ»ñÛ³É | E16: =SUM(Գ.Խաչատրյան:Տ.Ստեփանյան!E16) -> 0 | F16: =SUM(Գ.Խաչատրյան:Տ.Ստեփանյան!F16) -> 0 | G16: =SUM(Գ.Խաչատրյան:Տ.Ստեփանյան!G16) -> 0 | H16: =SUM(Գ.Խաչատրյան:Տ.Ստեփանյան!H16) -> 0 | I16: =SUM(Գ.Խաչատրյան:Տ.Ստեփանյան!I16) -> 0 | J16: =SUM(Գ.Խաչատրյան:Տ.Ստեփանյան!J16) -> 0 | K16: =SUM(Գ.Խաչատրյան:Տ.Ստեփանյան!K16) -> 0 | L16: =SUM(Գ.Խաչատրյան:Տ.Ստեփանյան!L16) -> 0 | ... AS16: =SUM(Գ.Խաչատրյան:Տ.Ստեփանյան!AS16) -> 0 | AT16: =E16 -> 0 | AU16: =F16+G16+H16+I16 -> 0 | AV16: =J16 -> 0 | AW16: =K16+L16+M16 -> 0 | AX16: =F16+G16+K16 -> 0 | AY16: =N16+Y16+Z16+AB16 -> 0 | AZ16: =O16 -> 0 | BA16: =P16+Q16+R16+S16+T16 -> 0 | BB16: =T16 -> 0 | BC16: =+U16+V16+W16 -> 0 | BD16: =Y16 -> 0 | BE16: =+O16+X16 -> 0 | BF16: =AF16 -> 0 | BG16: =AD16+AE16 -> 0 | BH16: =AF16 -> 0 | BI16: =AG16+AH16 -> 0 | BJ16: =AM16 -> 0 | BK16: =AK16+AL16 -> 0 | BL16: =AM16 -> 0 | BM16: =AN16+AO16 -> 0
A17: 1.3.2 | B17: ²Û¹ ÃíáõÙª ÑáÕ³Ù³ëÇ ÝÏ³ïÙ³Ùµ û·ï³·áñÍÙ³Ý Çñ³íáõÝùÁ ×³Ý³ã»Éáõ í»ñ³µ»ñÛ³É | E17: =SUM(Գ.Խաչատրյան:Տ.Ստեփանյան!E17) -> 1 | F17: =SUM(Գ.Խաչատրյան:Տ.Ստեփանյան!F17) -> 0 | G17: =SUM(Գ.Խաչատրյան:Տ.Ստեփանյան!G17) -> 1 | H17: =SUM(Գ.Խաչատրյան:Տ.Ստեփանյան!H17) -> 0 | I17: =SUM(Գ.Խաչատրյան:Տ.Ստեփանյան!I17) -> 0 | J17: =SUM(Գ.Խաչատրյան:Տ.Ստեփանյան!J17) -> 3 | K17: =SUM(Գ.Խաչատրյան:Տ.Ստեփանյան!K17) -> 1 | L17: =SUM(Գ.Խաչատրյան:Տ.Ստեփանյան!L17) -> 2 | ... AS17: =SUM(Գ.Խաչատրյան:Տ.Ստեփանյան!AS17) -> 0 | AT17: =E17 -> 1 | AU17: =F17+G17+H17+I17 -> 1 | AV17: =J17 -> 3 | AW17: =K17+L17+M17 -> 3 | AX17: =F17+G17+K17 -> 2 | AY17: =N17+Y17+Z17+AB17 -> 2 | AZ17: =O17 -> 1 | BA17: =P17+Q17+R17+S17+T17 -> 1 | BB17: =T17 -> 1 | BC17: =+U17+V17+W17 -> 1 | BD17: =Y17 -> 1 | BE17: =+O17+X17 -> 1 | BF17: =AF17 -> 0 | BG17: =AD17+AE17 -> 0 | BH17: =AF17 -> 0 | BI17: =AG17+AH17 -> 0 | BJ17: =AM17 -> 0 | BK17: =AK17+AL17 -> 0 | BL17: =AM17 -> 0 | BM17: =AN17+AO17 -> 0
A18: 1.4 | B18: ¶áõÛùÇ ÝÏ³ïÙ³Ùµ û·ï³·áñÍÙ³Ý Çñ³íáõÝùÁ ¹³¹³ñ»óÝ»Éáõ í»ñ³µ»ñÛ³É | E18: =SUM(Գ.Խաչատրյան:Տ.Ստեփանյան!E18) -> 0 | F18: =SUM(Գ.Խաչատրյան:Տ.Ստեփանյան!F18) -> 0 | G18: =SUM(Գ.Խաչատրյան:Տ.Ստեփանյան!G18) -> 0 | H18: =SUM(Գ.Խաչատրյան:Տ.Ստեփանյան!H18) -> 0 | I18: =SUM(Գ.Խաչատրյան:Տ.Ստեփանյան!I18) -> 0 | J18: =SUM(Գ.Խաչատրյան:Տ.Ստեփանյան!J18) -> 0 | K18: =SUM(Գ.Խաչատրյան:Տ.Ստեփանյան!K18) -> 0 | L18: =SUM(Գ.Խաչատրյան:Տ.Ստեփանյան!L18) -> 0 | ... AS18: =SUM(Գ.Խաչատրյան:Տ.Ստեփանյան!AS18) -> 0 | AT18: =E18 -> 0 | AU18: =F18+G18+H18+I18 -> 0 | AV18: =J18 -> 0 | AW18: =K18+L18+M18 -> 0 | AX18: =F18+G18+K18 -> 0 | AY18: =N18+Y18+Z18+AB18 -> 0 | AZ18: =O18 -> 0 | BA18: =P18+Q18+R18+S18+T18 -> 0 | BB18: =T18 -> 0 | BC18: =+U18+V18+W18 -> 0 | BD18: =Y18 -> 0 | BE18: =+O18+X18 -> 0 | BF18: =AF18 -> 0 | BG18: =AD18+AE18 -> 0 | BH18: =AF18 -> 0 | BI18: =AG18+AH18 -> 0 | BJ18: =AM18 -> 0 | BK18: =AK18+AL18 -> 0 | BL18: =AM18 -> 0 | BM18: =AN18+AO18 -> 0
A19: 1.4.1 | B19: ²Û¹ ÃíáõÙª µÝ³Ïû·ï³·áñÍÙ³Ý Çñ³íáõÝùÁ ¹³¹³ñ»óÝ»Éáõ í»ñ³µ»ñÛ³É | E19: =SUM(Գ.Խաչատրյան:Տ.Ստեփանյան!E19) -> 0 | F19: =SUM(Գ.Խաչատրյան:Տ.Ստեփանյան!F19) -> 0 | G19: =SUM(Գ.Խաչատրյան:Տ.Ստեփանյան!G19) -> 0 | H19: =SUM(Գ.Խաչատրյան:Տ.Ստեփանյան!H19) -> 0 | I19: =SUM(Գ.Խաչատրյան:Տ.Ստեփանյան!I19) -> 0 | J19: =SUM(Գ.Խաչատրյան:Տ.Ստեփանյան!J19) -> 0 | K19: =SUM(Գ.Խաչատրյան:Տ.Ստեփանյան!K19) -> 0 | L19: =SUM(Գ.Խաչատրյան:Տ.Ստեփանյան!L19) -> 0 | ... AS19: =SUM(Գ.Խաչատրյան:Տ.Ստեփանյան!AS19) -> 0 | AT19: =E19 -> 0 | AU19: =F19+G19+H19+I19 -> 0 | AV19: =J19 -> 0 | AW19: =K19+L19+M19 -> 0 | AX19: =F19+G19+K19 -> 0 | AY19: =N19+Y19+Z19+AB19 -> 0 | AZ19: =O19 -> 0 | BA19: =P19+Q19+R19+S19+T19 -> 0 | BB19: =T19 -> 0 | BC19: =+U19+V19+W19 -> 0 | BD19: =Y19 -> 0 | BE19: =+O19+X19 -> 0 | BF19: =AF19 -> 0 | BG19: =AD19+AE19 -> 0 | BH19: =AF19 -> 0 | BI19: =AG19+AH19 -> 0 | BJ19: =AM19 -> 0 | BK19: =AK19+AL19 -> 0 | BL19: =AM19 -> 0 | BM19: =AN19+AO19 -> 0
A20: 1.4.1/1 | B20: ²Û¹ ÃíáõÙª ÷áËÑ³ïáõóÙ³Ùµ | E20: =SUM(Գ.Խաչատրյան:Տ.Ստեփանյան!E20) -> 0 | F20: =SUM(Գ.Խաչատրյան:Տ.Ստեփանյան!F20) -> 0 | G20: =SUM(Գ.Խաչատրյան:Տ.Ստեփանյան!G20) -> 0 | H20: =SUM(Գ.Խաչատրյան:Տ.Ստեփանյան!H20) -> 0 | I20: =SUM(Գ.Խաչատրյան:Տ.Ստեփանյան!I20) -> 0 | J20: =SUM(Գ.Խաչատրյան:Տ.Ստեփանյան!J20) -> 0 | K20: =SUM(Գ.Խաչատրյան:Տ.Ստեփանյան!K20) -> 0 | L20: =SUM(Գ.Խաչատրյան:Տ.Ստեփանյան!L20) -> 0 | ... AS20: =SUM(Գ.Խաչատրյան:Տ.Ստեփանյան!AS20) -> 0 | AT20: =E20 -> 0 | AU20: =F20+G20+H20+I20 -> 0 | AV20: =J20 -> 0 | AW20: =K20+L20+M20 -> 0 | AX20: =F20+G20+K20 -> 0 | AY20: =N20+Y20+Z20+AB20 -> 0 | AZ20: =O20 -> 0 | BA20: =P20+Q20+R20+S20+T20 -> 0 | BB20: =T20 -> 0 | BC20: =+U20+V20+W20 -> 0 | BD20: =Y20 -> 0 | BE20: =+O20+X20 -> 0 | BF20: =AF20 -> 0 | BG20: =AD20+AE20 -> 0 | BH20: =AF20 -> 0 | BI20: =AG20+AH20 -> 0 | BJ20: =AM20 -> 0 | BK20: =AK20+AL20 -> 0 | BL20: =AM20 -> 0 | BM20: =AN20+AO20 -> 0
A21: 1.5 | B21: ´Ý³Ï³ñ³ÝÇó/ ï³ñ³ÍùÇó/ íï³ñ»Éáõ í»ñ³µ»ñÛ³É | E21: =SUM(Գ.Խաչատրյան:Տ.Ստեփանյան!E21) -> 21 | F21: =SUM(Գ.Խաչատրյան:Տ.Ստեփանյան!F21) -> 8 | G21: =SUM(Գ.Խաչատրյան:Տ.Ստեփանյան!G21) -> 13 | H21: =SUM(Գ.Խաչատրյան:Տ.Ստեփանյան!H21) -> 0 | I21: =SUM(Գ.Խաչատրյան:Տ.Ստեփանյան!I21) -> 0 | J21: =SUM(Գ.Խաչատրյան:Տ.Ստեփանյան!J21) -> 29 | K21: =SUM(Գ.Խաչատրյան:Տ.Ստեփանյան!K21) -> 19 | L21: =SUM(Գ.Խաչատրյան:Տ.Ստեփանյան!L21) -> 10 | ... AS21: =SUM(Գ.Խաչատրյան:Տ.Ստեփանյան!AS21) -> 0 | AT21: =E21 -> 21 | AU21: =F21+G21+H21+I21 -> 21 | AV21: =J21 -> 29 | AW21: =K21+L21+M21 -> 29 | AX21: =F21+G21+K21 -> 40 | AY21: =N21+Y21+Z21+AB21 -> 40 | AZ21: =O21 -> 15 | BA21: =P21+Q21+R21+S21+T21 -> 15 | BB21: =T21 -> 5 | BC21: =+U21+V21+W21 -> 5 | BD21: =Y21 -> 15 | BE21: =+O21+X21 -> 15 | BF21: =AF21 -> 6 | BG21: =AD21+AE21 -> 6 | BH21: =AF21 -> 6 | BI21: =AG21+AH21 -> 6 | BJ21: =AM21 -> 3 | BK21: =AK21+AL21 -> 3 | BL21: =AM21 -> 3 | BM21: =AN21+AO21 -> 3
A22: 1.6 | B22: ¶áõÛùÝ áõñÇßÇ ³åûñÇÝÇ ïÇñ³å»ïáõÙÇó »ï í»ñ³¹³ñÓÝ»Éáõ í»ñ³µ»ñÛ³É | E22: =SUM(Գ.Խաչատրյան:Տ.Ստեփանյան!E22) -> 10 | F22: =SUM(Գ.Խաչատրյան:Տ.Ստեփանյան!F22) -> 6 | G22: =SUM(Գ.Խաչատրյան:Տ.Ստեփանյան!G22) -> 4 | H22: =SUM(Գ.Խաչատրյան:Տ.Ստեփանյան!H22) -> 0 | I22: =SUM(Գ.Խաչատրյան:Տ.Ստեփանյան!I22) -> 0 | J22: =SUM(Գ.Խաչատրյան:Տ.Ստեփանյան!J22) -> 9 | K22: =SUM(Գ.Խաչատրյան:Տ.Ստեփանյան!K22) -> 5 | L22: =SUM(Գ.Խաչատրյան:Տ.Ստեփանյան!L22) -> 3 | ... AS22: =SUM(Գ.Խաչատրյան:Տ.Ստեփանյան!AS22) -> 0 | AT22: =E22 -> 10 | AU22: =F22+G22+H22+I22 -> 10 | AV22: =J22 -> 9 | AW22: =K22+L22+M22 -> 9 | AX22: =F22+G22+K22 -> 15 | AY22: =N22+Y22+Z22+AB22 -> 15 | AZ22: =O22 -> 3 | BA22: =P22+Q22+R22+S22+T22 -> 3 | BB22: =T22 -> 1 | BC22: =+U22+V22+W22 -> 1 | BD22: =Y22 -> 3 | BE22: =+O22+X22 -> 3 | BF22: =AF22 -> 3 | BG22: =AD22+AE22 -> 3 | BH22: =AF22 -> 3 | BI22: =AG22+AH22 -> 3 | BJ22: =AM22 -> 0 | BK22: =AK22+AL22 -> 0 | BL22: =AM22 -> 0 | BM22: =AN22+AO22 -> 0
A23: 1.6.1 | B23: ´³ñ»ËÇÕ× Ó»éùµ»ñáÕÇó Çñ ·áõÛùÁ Ñ»ï å³Ñ³Ýç»Éáõ í»ñ³µ»ñÛ³É | E23: =SUM(Գ.Խաչատրյան:Տ.Ստեփանյան!E23) -> 0 | F23: =SUM(Գ.Խաչատրյան:Տ.Ստեփանյան!F23) -> 0 | G23: =SUM(Գ.Խաչատրյան:Տ.Ստեփանյան!G23) -> 0 | H23: =SUM(Գ.Խաչատրյան:Տ.Ստեփանյան!H23) -> 0 | I23: =SUM(Գ.Խաչատրյան:Տ.Ստեփանյան!I23) -> 0 | J23: =SUM(Գ.Խաչատրյան:Տ.Ստեփանյան!J23) -> 0 | K23: =SUM(Գ.Խաչատրյան:Տ.Ստեփանյան!K23) -> 0 | L23: =SUM(Գ.Խաչատրյան:Տ.Ստեփանյան!L23) -> 0 | ... AS23: =SUM(Գ.Խաչատրյան:Տ.Ստեփանյան!AS23) -> 0 | AT23: =E23 -> 0 | AU23: =F23+G23+H23+I23 -> 0 | AV23: =J23 -> 0 | AW23: =K23+L23+M23 -> 0 | AX23: =F23+G23+K23 -> 0 | AY23: =N23+Y23+Z23+AB23 -> 0 | AZ23: =O23 -> 0 | BA23: =P23+Q23+R23+S23+T23 -> 0 | BB23: =T23 -> 0 | BC23: =+U23+V23+W23 -> 0 | BD23: =Y23 -> 0 | BE23: =+O23+X23 -> 0 | BF23: =AF23 -> 0 | BG23: =AD23+AE23 -> 0 | BH23: =AF23 -> 0 | BI23: =AG23+AH23 -> 0 | BJ23: =AM23 -> 0 | BK23: =AK23+AL23 -> 0 | BL23: =AM23 -> 0 | BM23: =AN23+AO23 -> 0
A24: 1.7 | B24: îÇñ³å»ïáõÙÇó ½ñÏ»Éáõ Ñ»ï ãÏ³åí³Í Çñ³íáõÝùÝ»ñÇ Ë³ËïáõÙÁ í»ñ³óÝ»Éáõ í»ñ³µ»ñÛ³É | E24: =SUM(Գ.Խաչատրյան:Տ.Ստեփանյան!E24) -> 5 | F24: =SUM(Գ.Խաչատրյան:Տ.Ստեփանյան!F24) -> 2 | G24: =SUM(Գ.Խաչատրյան:Տ.Ստեփանյան!G24) -> 3 | H24: =SUM(Գ.Խաչատրյան:Տ.Ստեփանյան!H24) -> 0 | I24: =SUM(Գ.Խաչատրյան:Տ.Ստեփանյան!I24) -> 0 | J24: =SUM(Գ.Խաչատրյան:Տ.Ստեփանյան!J24) -> 1 | K24: =SUM(Գ.Խաչատրյան:Տ.Ստեփանյան!K24) -> 1 | L24: =SUM(Գ.Խաչատրյան:Տ.Ստեփանյան!L24) -> 0 | ... AS24: =SUM(Գ.Խաչատրյան:Տ.Ստեփանյան!AS24) -> 0 | AT24: =E24 -> 5 | AU24: =F24+G24+H24+I24 -> 5 | AV24: =J24 -> 1 | AW24: =K24+L24+M24 -> 1 | AX24: =F24+G24+K24 -> 6 | AY24: =N24+Y24+Z24+AB24 -> 6 | AZ24: =O24 -> 1 | BA24: =P24+Q24+R24+S24+T24 -> 1 | BB24: =T24 -> 0 | BC24: =+U24+V24+W24 -> 0 | BD24: =Y24 -> 1 | BE24: =+O24+X24 -> 1 | BF24: =AF24 -> 1 | BG24: =AD24+AE24 -> 1 | BH24: =AF24 -> 1 | BI24: =AG24+AH24 -> 1 | BJ24: =AM24 -> 1 | BK24: =AK24+AL24 -> 1 | BL24: =AM24 -> 1 | BM24: =AN24+AO24 -> 1
A25: 1.8 | B25: ÀÝ¹Ñ³Ýáõñ µ³ÅÝ³ÛÇÝ ë»÷³Ï³ÝáõÃÛáõÝÇó µ³ÅÇÝÝ ³é³ÝÓÝ³óÝ»Éáõ í»ñ³µ»ñÛ³É | E25: =SUM(Գ.Խաչատրյան:Տ.Ստեփանյան!E25) -> 77 | F25: =SUM(Գ.Խաչատրյան:Տ.Ստեփանյան!F25) -> 30 | G25: =SUM(Գ.Խաչատրյան:Տ.Ստեփանյան!G25) -> 47 | H25: =SUM(Գ.Խաչատրյան:Տ.Ստեփանյան!H25) -> 0 | I25: =SUM(Գ.Խաչատրյան:Տ.Ստեփանյան!I25) -> 0 | J25: =SUM(Գ.Խաչատրյան:Տ.Ստեփանյան!J25) -> 57 | K25: =SUM(Գ.Խաչատրյան:Տ.Ստեփանյան!K25) -> 44 | L25: =SUM(Գ.Խաչատրյան:Տ.Ստեփանյան!L25) -> 13 | ... AS25: =SUM(Գ.Խաչատրյան:Տ.Ստեփանյան!AS25) -> 0 | AT25: =E25 -> 77 | AU25: =F25+G25+H25+I25 -> 77 | AV25: =J25 -> 57 | AW25: =K25+L25+M25 -> 57 | AX25: =F25+G25+K25 -> 121 | AY25: =N25+Y25+Z25+AB25 -> 121 | AZ25: =O25 -> 50 | BA25: =P25+Q25+R25+S25+T25 -> 50 | BB25: =T25 -> 31 | BC25: =+U25+V25+W25 -> 31 | BD25: =Y25 -> 50 | BE25: =+O25+X25 -> 50 | BF25: =AF25 -> 17 | BG25: =AD25+AE25 -> 17 | BH25: =AF25 -> 17 | BI25: =AG25+AH25 -> 17 | BJ25: =AM25 -> 6 | BK25: =AK25+AL25 -> 6 | BL25: =AM25 -> 6 | BM25: =AN25+AO25 -> 6
A26: 1.8.1 | B26: Ð³Ù³ï»Õ ë»÷³Ï³ÝáõÃÛ³Ý Ý»ñùá ·ïÝíáÕ ·áõÛùÁ µ³Å³Ý»Éáõ ¨ ¹ñ³ÝÇó µ³ÅÇÝÝ ³é³ÝÓÝ³óÝ»Éáõ í»ñ³µ»ñÛ³É | E26: =SUM(Գ.Խաչատրյան:Տ.Ստեփանյան!E26) -> 22 | F26: =SUM(Գ.Խաչատրյան:Տ.Ստեփանյան!F26) -> 10 | G26: =SUM(Գ.Խաչատրյան:Տ.Ստեփանյան!G26) -> 12 | H26: =SUM(Գ.Խաչատրյան:Տ.Ստեփանյան!H26) -> 0 | I26: =SUM(Գ.Խաչատրյան:Տ.Ստեփանյան!I26) -> 0 | J26: =SUM(Գ.Խաչատրյան:Տ.Ստեփանյան!J26) -> 23 | K26: =SUM(Գ.Խաչատրյան:Տ.Ստեփանյան!K26) -> 13 | L26: =SUM(Գ.Խաչատրյան:Տ.Ստեփանյան!L26) -> 9 | ... AS26: =SUM(Գ.Խաչատրյան:Տ.Ստեփանյան!AS26) -> 0 | AT26: =E26 -> 22 | AU26: =F26+G26+H26+I26 -> 22 | AV26: =J26 -> 23 | AW26: =K26+L26+M26 -> 23 | AX26: =F26+G26+K26 -> 35 | AY26: =N26+Y26+Z26+AB26 -> 35 | AZ26: =O26 -> 13 | BA26: =P26+Q26+R26+S26+T26 -> 13 | BB26: =T26 -> 6 | BC26: =+U26+V26+W26 -> 6 | BD26: =Y26 -> 13 | BE26: =+O26+X26 -> 13 | BF26: =AF26 -> 1 | BG26: =AD26+AE26 -> 1 | BH26: =AF26 -> 1 | BI26: =AG26+AH26 -> 1 | BJ26: =AM26 -> 0 | BK26: =AK26+AL26 -> 0 | BL26: =AM26 -> 0 | BM26: =AN26+AO26 -> 0
... A28: 1.9 | B28: ²ÛÉ í»×»ñ | E28: =SUM(Գ.Խաչատրյան:Տ.Ստեփանյան!E28) -> 7 | F28: =SUM(Գ.Խաչատրյան:Տ.Ստեփանյան!F28) -> 3 | G28: =SUM(Գ.Խաչատրյան:Տ.Ստեփանյան!G28) -> 4 | H28: =SUM(Գ.Խաչատրյան:Տ.Ստեփանյան!H28) -> 0 | I28: =SUM(Գ.Խաչատրյան:Տ.Ստեփանյան!I28) -> 0 | J28: =SUM(Գ.Խաչատրյան:Տ.Ստեփանյան!J28) -> 14 | K28: =SUM(Գ.Խաչատրյան:Տ.Ստեփանյան!K28) -> 10 | L28: =SUM(Գ.Խաչատրյան:Տ.Ստեփանյան!L28) -> 4 | ... AS28: =SUM(Գ.Խաչատրյան:Տ.Ստեփանյան!AS28) -> 0 | AT28: =E28 -> 7 | AU28: =F28+G28+H28+I28 -> 7 | AV28: =J28 -> 14 | AW28: =K28+L28+M28 -> 14 | AX28: =F28+G28+K28 -> 17 | AY28: =N28+Y28+Z28+AB28 -> 17 | AZ28: =O28 -> 4 | BA28: =P28+Q28+R28+S28+T28 -> 4 | BB28: =T28 -> 0 | BC28: =+U28+V28+W28 -> 0 | BD28: =Y28 -> 4 | BE28: =+O28+X28 -> 4 | BF28: =AF28 -> 2 | BG28: =AD28+AE28 -> 2 | BH28: =AF28 -> 2 | BI28: =AG28+AH28 -> 2 | BJ28: =AM28 -> 1 | BK28: =AK28+AL28 -> 1 | BL28: =AM28 -> 1 | BM28: =AN28+AO28 -> 1
A29: 2. | B29: ¶áñÍ³ñùÝ»ñÇ Ñ»ï Ï³åí³Í Çñ³í³Ñ³ñ³µ»ñáõÃÛáõÝÝ»ñÇ í»ñ³µ»ñÛ³É ¹³ï³Ï³Ý ·áñÍ»ñ | E29: =SUM(E30:E40) -> 34 | F29: =SUM(F30:F40) -> 12 | G29: =SUM(G30:G40) -> 22 | H29: =SUM(H30:H40) -> 0 | I29: =SUM(I30:I40) -> 0 | J29: =SUM(J30:J40) -> 44 | K29: =SUM(K30:K40) -> 28 | L29: =SUM(L30:L40) -> 15 | ... BM29: =SUM(BM30:BM40) -> 2
A30: 2.1 | B30: ·áñÍ³ñùÝ»ñÇ ³Ýí³í»ñáõÃÛ³Ý Ñ»ï Ï³åí³Í í»×»ñ | E30: =SUM(Գ.Խաչատրյան:Տ.Ստեփանյան!E30) -> 10 | F30: =SUM(Գ.Խաչատրյան:Տ.Ստեփանյան!F30) -> 2 | G30: =SUM(Գ.Խաչատրյան:Տ.Ստեփանյան!G30) -> 8 | H30: =SUM(Գ.Խաչատրյան:Տ.Ստեփանյան!H30) -> 0 | I30: =SUM(Գ.Խաչատրյան:Տ.Ստեփանյան!I30) -> 0 | J30: =SUM(Գ.Խաչատրյան:Տ.Ստեփանյան!J30) -> 9 | K30: =SUM(Գ.Խաչատրյան:Տ.Ստեփանյան!K30) -> 6 | L30: =SUM(Գ.Խաչատրյան:Տ.Ստեփանյան!L30) -> 3 | ... AS30: =SUM(Գ.Խաչատրյան:Տ.Ստեփանյան!AS30) -> 0 | AT30: =E30 -> 10 | AU30: =F30+G30+H30+I30 -> 10 | AV30: =J30 -> 9 | AW30: =K30+L30+M30 -> 9 | AX30: =F30+G30+K30 -> 16 | AY30: =N30+Y30+Z30+AB30 -> 16 | AZ30: =O30 -> 7 | BA30: =P30+Q30+R30+S30+T30 -> 7 | BB30: =T30 -> 4 | BC30: =+U30+V30+W30 -> 4 | BD30: =Y30 -> 7 | BE30: =+O30+X30 -> 7 | BF30: =AF30 -> 2 | BG30: =AD30+AE30 -> 2 | BH30: =AF30 -> 2 | BI30: =AG30+AH30 -> 2 | BJ30: =AM30 -> 1 | BK30: =AK30+AL30 -> 1 | BL30: =AM30 -> 1 | BM30: =AN30+AO30 -> 1
A31: 2.1.1 | B31: ³Û¹ ÃíáõÙ` íÇ×³Ñ³ñáõÛó ·áñÍ³ñùÝ»ñÝ ³Ýí³í»ñ ×³Ý³ã»Éáõ í»ñ³µ»ñÛ³É | E31: =SUM(Գ.Խաչատրյան:Տ.Ստեփանյան!E31) -> 0 | F31: =SUM(Գ.Խաչատրյան:Տ.Ստեփանյան!F31) -> 0 | G31: =SUM(Գ.Խաչատրյան:Տ.Ստեփանյան!G31) -> 0 | H31: =SUM(Գ.Խաչատրյան:Տ.Ստեփանյան!H31) -> 0 | I31: =SUM(Գ.Խաչատրյան:Տ.Ստեփանյան!I31) -> 0 | J31: =SUM(Գ.Խաչատրյան:Տ.Ստեփանյան!J31) -> 0 | K31: =SUM(Գ.Խաչատրյան:Տ.Ստեփանյան!K31) -> 0 | L31: =SUM(Գ.Խաչատրյան:Տ.Ստեփանյան!L31) -> 0 | ... AS31: =SUM(Գ.Խաչատրյան:Տ.Ստեփանյան!AS31) -> 0 | AT31: =E31 -> 0 | AU31: =F31+G31+H31+I31 -> 0 | AV31: =J31 -> 0 | AW31: =K31+L31+M31 -> 0 | AX31: =F31+G31+K31 -> 0 | AY31: =N31+Y31+Z31+AB31 -> 0 | AZ31: =O31 -> 0 | BA31: =P31+Q31+R31+S31+T31 -> 0 | BB31: =T31 -> 0 | BC31: =+U31+V31+W31 -> 0 | BD31: =Y31 -> 0 | BE31: =+O31+X31 -> 0 | BF31: =AF31 -> 0 | BG31: =AD31+AE31 -> 0 | BH31: =AF31 -> 0 | BI31: =AG31+AH31 -> 0 | BJ31: =AM31 -> 0 | BK31: =AK31+AL31 -> 0 | BL31: =AM31 -> 0 | BM31: =AN31+AO31 -> 0
A32: 2.1.2 | B32: ³Û¹ ÃíáõÙ` ·áñÍ³ñùÇ ³éáãÝãáõÃÛ³Ý Ñ»ï¨³ÝùÝ»ñ ÏÇñ³é»Éáõ í»ñ³µ»ñÛ³É | E32: =SUM(Գ.Խաչատրյան:Տ.Ստեփանյան!E32) -> 5 | F32: =SUM(Գ.Խաչատրյան:Տ.Ստեփանյան!F32) -> 1 | G32: =SUM(Գ.Խաչատրյան:Տ.Ստեփանյան!G32) -> 4 | H32: =SUM(Գ.Խաչատրյան:Տ.Ստեփանյան!H32) -> 0 | I32: =SUM(Գ.Խաչատրյան:Տ.Ստեփանյան!I32) -> 0 | J32: =SUM(Գ.Խաչատրյան:Տ.Ստեփանյան!J32) -> 6 | K32: =SUM(Գ.Խաչատրյան:Տ.Ստեփանյան!K32) -> 4 | L32: =SUM(Գ.Խաչատրյան:Տ.Ստեփանյան!L32) -> 2 | ... AS32: =SUM(Գ.Խաչատրյան:Տ.Ստեփանյան!AS32) -> 0 | AT32: =E32 -> 5 | AU32: =F32+G32+H32+I32 -> 5 | AV32: =J32 -> 6 | AW32: =K32+L32+M32 -> 6 | AX32: =F32+G32+K32 -> 9 | AY32: =N32+Y32+Z32+AB32 -> 9 | AZ32: =O32 -> 4 | BA32: =P32+Q32+R32+S32+T32 -> 4 | BB32: =T32 -> 2 | BC32: =+U32+V32+W32 -> 2 | BD32: =Y32 -> 4 | BE32: =+O32+X32 -> 4 | BF32: =AF32 -> 2 | BG32: =AD32+AE32 -> 2 | BH32: =AF32 -> 2 | BI32: =AG32+AH32 -> 2 | BJ32: =AM32 -> 0 | BK32: =AK32+AL32 -> 0 | BL32: =AM32 -> 0 | BM32: =AN32+AO32 -> 0
A33: 2.2 | B33: ¶áñÍ³ñùÁ í³í»ñ ×³Ý³ã»Éáõ í»ñ³µ»ñÛ³É | E33: =SUM(Գ.Խաչատրյան:Տ.Ստեփանյան!E33) -> 2 | F33: =SUM(Գ.Խաչատրյան:Տ.Ստեփանյան!F33) -> 1 | G33: =SUM(Գ.Խաչատրյան:Տ.Ստեփանյան!G33) -> 1 | H33: =SUM(Գ.Խաչատրյան:Տ.Ստեփանյան!H33) -> 0 | I33: =SUM(Գ.Խաչատրյան:Տ.Ստեփանյան!I33) -> 0 | J33: =SUM(Գ.Խաչատրյան:Տ.Ստեփանյան!J33) -> 1 | K33: =SUM(Գ.Խաչատրյան:Տ.Ստեփանյան!K33) -> 1 | L33: =SUM(Գ.Խաչատրյան:Տ.Ստեփանյան!L33) -> 0 | ... AS33: =SUM(Գ.Խաչատրյան:Տ.Ստեփանյան!AS33) -> 0 | AT33: =E33 -> 2 | AU33: =F33+G33+H33+I33 -> 2 | AV33: =J33 -> 1 | AW33: =K33+L33+M33 -> 1 | AX33: =F33+G33+K33 -> 3 | AY33: =N33+Y33+Z33+AB33 -> 3 | AZ33: =O33 -> 1 | BA33: =P33+Q33+R33+S33+T33 -> 1 | BB33: =T33 -> 0 | BC33: =+U33+V33+W33 -> 0 | BD33: =Y33 -> 1 | BE33: =+O33+X33 -> 1 | BF33: =AF33 -> 1 | BG33: =AD33+AE33 -> 1 | BH33: =AF33 -> 1 | BI33: =AG33+AH33 -> 1 | BJ33: =AM33 -> 0 | BK33: =AK33+AL33 -> 0 | BL33: =AM33 -> 0 | BM33: =AN33+AO33 -> 0
A34: 2.3 | B34: ¶áñÍ³ñùÇó Í³·áÕ Çñ³íáõÝùÝ»ñÁ ·ñ³Ýó»Éáõ í»ñ³µ»ñÛ³É | E34: =SUM(Գ.Խաչատրյան:Տ.Ստեփանյան!E34) -> 0 | F34: =SUM(Գ.Խաչատրյան:Տ.Ստեփանյան!F34) -> 0 | G34: =SUM(Գ.Խաչատրյան:Տ.Ստեփանյան!G34) -> 0 | H34: =SUM(Գ.Խաչատրյան:Տ.Ստեփանյան!H34) -> 0 | I34: =SUM(Գ.Խաչատրյան:Տ.Ստեփանյան!I34) -> 0 | J34: =SUM(Գ.Խաչատրյան:Տ.Ստեփանյան!J34) -> 0 | K34: =SUM(Գ.Խաչատրյան:Տ.Ստեփանյան!K34) -> 0 | L34: =SUM(Գ.Խաչատրյան:Տ.Ստեփանյան!L34) -> 0 | ... AS34: =SUM(Գ.Խաչատրյան:Տ.Ստեփանյան!AS34) -> 0 | AT34: =E34 -> 0 | AU34: =F34+G34+H34+I34 -> 0 | AV34: =J34 -> 0 | AW34: =K34+L34+M34 -> 0 | AX34: =F34+G34+K34 -> 0 | AY34: =N34+Y34+Z34+AB34 -> 0 | AZ34: =O34 -> 0 | BA34: =P34+Q34+R34+S34+T34 -> 0 | BB34: =T34 -> 0 | BC34: =+U34+V34+W34 -> 0 | BD34: =Y34 -> 0 | BE34: =+O34+X34 -> 0 | BF34: =AF34 -> 0 | BG34: =AD34+AE34 -> 0 | BH34: =AF34 -> 0 | BI34: =AG34+AH34 -> 0 | BJ34: =AM34 -> 0 | BK34: =AK34+AL34 -> 0 | BL34: =AM34 -> 0 | BM34: =AN34+AO34 -> 0
A35: 2.4 | B35: ä³ÛÙ³Ý³·ÇñÝ ³Ýí³í»ñ ×³Ý³ã»Éáõ í»ñ³µ»ñÛ³É | E35: =SUM(Գ.Խաչատրյան:Տ.Ստեփանյան!E35) -> 12 | F35: =SUM(Գ.Խաչատրյան:Տ.Ստեփանյան!F35) -> 6 | G35: =SUM(Գ.Խաչատրյան:Տ.Ստեփանյան!G35) -> 6 | H35: =SUM(Գ.Խաչատրյան:Տ.Ստեփանյան!H35) -> 0 | I35: =SUM(Գ.Խաչատրյան:Տ.Ստեփանյան!I35) -> 0 | J35: =SUM(Գ.Խաչատրյան:Տ.Ստեփանյան!J35) -> 13 | K35: =SUM(Գ.Խաչատրյան:Տ.Ստեփանյան!K35) -> 8 | L35: =SUM(Գ.Խաչատրյան:Տ.Ստեփանյան!L35) -> 5 | ... AS35: =SUM(Գ.Խաչատրյան:Տ.Ստեփանյան!AS35) -> 0 | AT35: =E35 -> 12 | AU35: =F35+G35+H35+I35 -> 12 | AV35: =J35 -> 13 | AW35: =K35+L35+M35 -> 13 | AX35: =F35+G35+K35 -> 20 | AY35: =N35+Y35+Z35+AB35 -> 20 | AZ35: =O35 -> 7 | BA35: =P35+Q35+R35+S35+T35 -> 7 | BB35: =T35 -> 3 | BC35: =+U35+V35+W35 -> 3 | BD35: =Y35 -> 7 | BE35: =+O35+X35 -> 7 | BF35: =AF35 -> 2 | BG35: =AD35+AE35 -> 2 | BH35: =AF35 -> 2 | BI35: =AG35+AH35 -> 2 | BJ35: =AM35 -> 1 | BK35: =AK35+AL35 -> 1 | BL35: =AM35 -> 1 | BM35: =AN35+AO35 -> 1
A36: 2.5 | B36: ä³ÛÙ³Ý³·ñÇÁ í³í»ñ ×³Ý³ã»Éáõ í»ñ³µ»ñÛ³É | E36: =SUM(Գ.Խաչատրյան:Տ.Ստեփանյան!E36) -> 0 | F36: =SUM(Գ.Խաչատրյան:Տ.Ստեփանյան!F36) -> 0 | G36: =SUM(Գ.Խաչատրյան:Տ.Ստեփանյան!G36) -> 0 | H36: =SUM(Գ.Խաչատրյան:Տ.Ստեփանյան!H36) -> 0 | I36: =SUM(Գ.Խաչատրյան:Տ.Ստեփանյան!I36) -> 0 | J36: =SUM(Գ.Խաչատրյան:Տ.Ստեփանյան!J36) -> 4 | K36: =SUM(Գ.Խաչատրյան:Տ.Ստեփանյան!K36) -> 2 | L36: =SUM(Գ.Խաչատրյան:Տ.Ստեփանյան!L36) -> 2 | ... AS36: =SUM(Գ.Խաչատրյան:Տ.Ստեփանյան!AS36) -> 0 | AT36: =E36 -> 0 | AU36: =F36+G36+H36+I36 -> 0 | AV36: =J36 -> 4 | AW36: =K36+L36+M36 -> 4 | AX36: =F36+G36+K36 -> 2 | AY36: =N36+Y36+Z36+AB36 -> 2 | AZ36: =O36 -> 1 | BA36: =P36+Q36+R36+S36+T36 -> 1 | BB36: =T36 -> 1 | BC36: =+U36+V36+W36 -> 1 | BD36: =Y36 -> 1 | BE36: =+O36+X36 -> 1 | BF36: =AF36 -> 1 | BG36: =AD36+AE36 -> 1 | BH36: =AF36 -> 1 | BI36: =AG36+AH36 -> 1 | BJ36: =AM36 -> 0 | BK36: =AK36+AL36 -> 0 | BL36: =AM36 -> 0 | BM36: =AN36+AO36 -> 0
A37: 2.6 | B37: ä³ÛÙ³Ý³·ñÇó Í³·áÕ Çñ³íáõÝùÝ»ñÁ ·ñ³Ýó»Éáõ í»ñ³µ»ñÛ³É | E37: =SUM(Գ.Խաչատրյան:Տ.Ստեփանյան!E37) -> 0 | F37: =SUM(Գ.Խաչատրյան:Տ.Ստեփանյան!F37) -> 0 | G37: =SUM(Գ.Խաչատրյան:Տ.Ստեփանյան!G37) -> 0 | H37: =SUM(Գ.Խաչատրյան:Տ.Ստեփանյան!H37) -> 0 | I37: =SUM(Գ.Խաչատրյան:Տ.Ստեփանյան!I37) -> 0 | J37: =SUM(Գ.Խաչատրյան:Տ.Ստեփանյան!J37) -> 0 | K37: =SUM(Գ.Խաչատրյան:Տ.Ստեփանյան!K37) -> 0 | L37: =SUM(Գ.Խաչատրյան:Տ.Ստեփանյան!L37) -> 0 | ... AS37: =SUM(Գ.Խաչատրյան:Տ.Ստեփանյան!AS37) -> 0 | AT37: =E37 -> 0 | AU37: =F37+G37+H37+I37 -> 0 | AV37: =J37 -> 0 | AW37: =K37+L37+M37 -> 0 | AX37: =F37+G37+K37 -> 0 | AY37: =N37+Y37+Z37+AB37 -> 0 | AZ37: =O37 -> 0 | BA37: =P37+Q37+R37+S37+T37 -> 0 | BB37: =T37 -> 0 | BC37: =+U37+V37+W37 -> 0 | BD37: =Y37 -> 0 | BE37: =+O37+X37 -> 0 | BF37: =AF37 -> 0 | BG37: =AD37+AE37 -> 0 | BH37: =AF37 -> 0 | BI37: =AG37+AH37 -> 0 | BJ37: =AM37 -> 0 | BK37: =AK37+AL37 -> 0 | BL37: =AM37 -> 0 | BM37: =AN37+AO37 -> 0
A38: 2.7 | B38: ä³ÛÙ³Ý³·ÇñÁ ÷á÷áË»Éáõ ¨ ÉáõÍ»Éáõ í»ñ³µ»ñÛ³É | E38: =SUM(Գ.Խաչատրյան:Տ.Ստեփանյան!E38) -> 1 | F38: =SUM(Գ.Խաչատրյան:Տ.Ստեփանյան!F38) -> 0 | G38: =SUM(Գ.Խաչատրյան:Տ.Ստեփանյան!G38) -> 1 | H38: =SUM(Գ.Խաչատրյան:Տ.Ստեփանյան!H38) -> 0 | I38: =SUM(Գ.Խաչատրյան:Տ.Ստեփանյան!I38) -> 0 | J38: =SUM(Գ.Խաչատրյան:Տ.Ստեփանյան!J38) -> 0 | K38: =SUM(Գ.Խաչատրյան:Տ.Ստեփանյան!K38) -> 0 | L38: =SUM(Գ.Խաչատրյան:Տ.Ստեփանյան!L38) -> 0 | ... AS38: =SUM(Գ.Խաչատրյան:Տ.Ստեփանյան!AS38) -> 0 | AT38: =E38 -> 1 | AU38: =F38+G38+H38+I38 -> 1 | AV38: =J38 -> 0 | AW38: =K38+L38+M38 -> 0 | AX38: =F38+G38+K38 -> 1 | AY38: =N38+Y38+Z38+AB38 -> 1 | AZ38: =O38 -> 1 | BA38: =P38+Q38+R38+S38+T38 -> 1 | BB38: =T38 -> 0 | BC38: =+U38+V38+W38 -> 0 | BD38: =Y38 -> 1 | BE38: =+O38+X38 -> 1 | BF38: =AF38 -> 0 | BG38: =AD38+AE38 -> 0 | BH38: =AF38 -> 0 | BI38: =AG38+AH38 -> 0 | BJ38: =AM38 -> 0 | BK38: =AK38+AL38 -> 0 | BL38: =AM38 -> 0 | BM38: =AN38+AO38 -> 0
A39: 2.8 | B39: ä³ÛÙ³Ý³·Çñ ÏÝù»ÉáõÝ å³ñï³íáñ»óÝ»Éáõ í»ñ³µ»ñÛ³É | E39: =SUM(Գ.Խաչատրյան:Տ.Ստեփանյան!E39) -> 0 | F39: =SUM(Գ.Խաչատրյան:Տ.Ստեփանյան!F39) -> 0 | G39: =SUM(Գ.Խաչատրյան:Տ.Ստեփանյան!G39) -> 0 | H39: =SUM(Գ.Խաչատրյան:Տ.Ստեփանյան!H39) -> 0 | I39: =SUM(Գ.Խաչատրյան:Տ.Ստեփանյան!I39) -> 0 | J39: =SUM(Գ.Խաչատրյան:Տ.Ստեփանյան!J39) -> 1 | K39: =SUM(Գ.Խաչատրյան:Տ.Ստեփանյան!K39) -> 1 | L39: =SUM(Գ.Խաչատրյան:Տ.Ստեփանյան!L39) -> 0 | ... AS39: =SUM(Գ.Խաչատրյան:Տ.Ստեփանյան!AS39) -> 0 | AT39: =E39 -> 0 | AU39: =F39+G39+H39+I39 -> 0 | AV39: =J39 -> 1 | AW39: =K39+L39+M39 -> 1 | AX39: =F39+G39+K39 -> 1 | AY39: =N39+Y39+Z39+AB39 -> 1 | AZ39: =O39 -> 1 | BA39: =P39+Q39+R39+S39+T39 -> 1 | BB39: =T39 -> 1 | BC39: =+U39+V39+W39 -> 1 | BD39: =Y39 -> 1 | BE39: =+O39+X39 -> 1 | BF39: =AF39 -> 0 | BG39: =AD39+AE39 -> 0 | BH39: =AF39 -> 0 | BI39: =AG39+AH39 -> 0 | BJ39: =AM39 -> 0 | BK39: =AK39+AL39 -> 0 | BL39: =AM39 -> 0 | BM39: =AN39+AO39 -> 0
A40: 2.9 | B40: ²ÛÉ í»×»ñ | E40: =SUM(Գ.Խաչատրյան:Տ.Ստեփանյան!E40) -> 4 | F40: =SUM(Գ.Խաչատրյան:Տ.Ստեփանյան!F40) -> 2 | G40: =SUM(Գ.Խաչատրյան:Տ.Ստեփանյան!G40) -> 2 | H40: =SUM(Գ.Խաչատրյան:Տ.Ստեփանյան!H40) -> 0 | I40: =SUM(Գ.Խաչատրյան:Տ.Ստեփանյան!I40) -> 0 | J40: =SUM(Գ.Խաչատրյան:Տ.Ստեփանյան!J40) -> 10 | K40: =SUM(Գ.Խաչատրյան:Տ.Ստեփանյան!K40) -> 6 | L40: =SUM(Գ.Խաչատրյան:Տ.Ստեփանյան!L40) -> 3 | ... AS40: =SUM(Գ.Խաչատրյան:Տ.Ստեփանյան!AS40) -> 0 | AT40: =E40 -> 4 | AU40: =F40+G40+H40+I40 -> 4 | AV40: =J40 -> 10 | AW40: =K40+L40+M40 -> 10 | AX40: =F40+G40+K40 -> 10 | AY40: =N40+Y40+Z40+AB40 -> 10 | AZ40: =O40 -> 6 | BA40: =P40+Q40+R40+S40+T40 -> 6 | BB40: =T40 -> 2 | BC40: =+U40+V40+W40 -> 2 | BD40: =Y40 -> 6 | BE40: =+O40+X40 -> 6 | BF40: =AF40 -> 2 | BG40: =AD40+AE40 -> 2 | BH40: =AF40 -> 2 | BI40: =AG40+AH40 -> 2 | BJ40: =AM40 -> 0 | BK40: =AK40+AL40 -> 0 | BL40: =AM40 -> 0 | BM40: =AN40+AO40 -> 0
A41: 3. | B41: Ä³é³Ý·áõÃÛ³Ý Ñ»ï Ï³åí³Í Çñ³í³Ñ³ñ³µ»ñáõÃÛáõÝÝ»ñÇ í»ñ³µ»ñÛ³É ¹³ï³Ï³Ý ·áñÍ»ñ | E41: =SUM(E42:E48) -> 7 | F41: =SUM(F42:F48) -> 2 | G41: =SUM(G42:G48) -> 5 | H41: =SUM(H42:H48) -> 0 | I41: =SUM(I42:I48) -> 0 | J41: =SUM(J42:J48) -> 6 | K41: =SUM(K42:K48) -> 6 | L41: =SUM(L42:L48) -> 0 | ... BM41: =SUM(BM42:BM48) -> 2
A42: 3.1 | B42: Îï³ÏÝ ³Ýí³í»ñ ×³Ý³ã»Éáõ í»ñ³µ»ñÛ³É | E42: =SUM(Գ.Խաչատրյան:Տ.Ստեփանյան!E42) -> 1 | F42: =SUM(Գ.Խաչատրյան:Տ.Ստեփանյան!F42) -> 0 | G42: =SUM(Գ.Խաչատրյան:Տ.Ստեփանյան!G42) -> 1 | H42: =SUM(Գ.Խաչատրյան:Տ.Ստեփանյան!H42) -> 0 | I42: =SUM(Գ.Խաչատրյան:Տ.Ստեփանյան!I42) -> 0 | J42: =SUM(Գ.Խաչատրյան:Տ.Ստեփանյան!J42) -> 0 | K42: =SUM(Գ.Խաչատրյան:Տ.Ստեփանյան!K42) -> 0 | L42: =SUM(Գ.Խաչատրյան:Տ.Ստեփանյան!L42) -> 0 | ... AS42: =SUM(Գ.Խաչատրյան:Տ.Ստեփանյան!AS42) -> 0 | AT42: =E42 -> 1 | AU42: =F42+G42+H42+I42 -> 1 | AV42: =J42 -> 0 | AW42: =K42+L42+M42 -> 0 | AX42: =F42+G42+K42 -> 1 | AY42: =N42+Y42+Z42+AB42 -> 1 | AZ42: =O42 -> 1 | BA42: =P42+Q42+R42+S42+T42 -> 1 | BB42: =T42 -> 0 | BC42: =+U42+V42+W42 -> 0 | BD42: =Y42 -> 1 | BE42: =+O42+X42 -> 1 | BF42: =AF42 -> 0 | BG42: =AD42+AE42 -> 0 | BH42: =AF42 -> 0 | BI42: =AG42+AH42 -> 0 | BJ42: =AM42 -> 0 | BK42: =AK42+AL42 -> 0 | BL42: =AM42 -> 0 | BM42: =AN42+AO42 -> 0
A43: 3.2 | B43: ²Ý³ñÅ³Ý Å³é³Ý· ×³Ý³ã»Éáõ í»ñ³µ»ñÛ³É | E43: =SUM(Գ.Խաչատրյան:Տ.Ստեփանյան!E43) -> 0 | F43: =SUM(Գ.Խաչատրյան:Տ.Ստեփանյան!F43) -> 0 | G43: =SUM(Գ.Խաչատրյան:Տ.Ստեփանյան!G43) -> 0 | H43: =SUM(Գ.Խաչատրյան:Տ.Ստեփանյան!H43) -> 0 | I43: =SUM(Գ.Խաչատրյան:Տ.Ստեփանյան!I43) -> 0 | J43: =SUM(Գ.Խաչատրյան:Տ.Ստեփանյան!J43) -> 0 | K43: =SUM(Գ.Խաչատրյան:Տ.Ստեփանյան!K43) -> 0 | L43: =SUM(Գ.Խաչատրյան:Տ.Ստեփանյան!L43) -> 0 | ... AS43: =SUM(Գ.Խաչատրյան:Տ.Ստեփանյան!AS43) -> 0 | AT43: =E43 -> 0 | AU43: =F43+G43+H43+I43 -> 0 | AV43: =J43 -> 0 | AW43: =K43+L43+M43 -> 0 | AX43: =F43+G43+K43 -> 0 | AY43: =N43+Y43+Z43+AB43 -> 0 | AZ43: =O43 -> 0 | BA43: =P43+Q43+R43+S43+T43 -> 0 | BB43: =T43 -> 0 | BC43: =+U43+V43+W43 -> 0 | BD43: =Y43 -> 0 | BE43: =+O43+X43 -> 0 | BF43: =AF43 -> 0 | BG43: =AD43+AE43 -> 0 | BH43: =AF43 -> 0 | BI43: =AG43+AH43 -> 0 | BJ43: =AM43 -> 0 | BK43: =AK43+AL43 -> 0 | BL43: =AM43 -> 0 | BM43: =AN43+AO43 -> 0
A44: 3.3 | B44: Ä³é³Ý·áõÃÛáõÝÁ µ³Å³Ý»Éáõ í»ñ³µ»ñÛ³É | E44: =SUM(Գ.Խաչատրյան:Տ.Ստեփանյան!E44) -> 0 | F44: =SUM(Գ.Խաչատրյան:Տ.Ստեփանյան!F44) -> 0 | G44: =SUM(Գ.Խաչատրյան:Տ.Ստեփանյան!G44) -> 0 | H44: =SUM(Գ.Խաչատրյան:Տ.Ստեփանյան!H44) -> 0 | I44: =SUM(Գ.Խաչատրյան:Տ.Ստեփանյան!I44) -> 0 | J44: =SUM(Գ.Խաչատրյան:Տ.Ստեփանյան!J44) -> 0 | K44: =SUM(Գ.Խաչատրյան:Տ.Ստեփանյան!K44) -> 0 | L44: =SUM(Գ.Խաչատրյան:Տ.Ստեփանյան!L44) -> 0 | ... AS44: =SUM(Գ.Խաչատրյան:Տ.Ստեփանյան!AS44) -> 0 | AT44: =E44 -> 0 | AU44: =F44+G44+H44+I44 -> 0 | AV44: =J44 -> 0 | AW44: =K44+L44+M44 -> 0 | AX44: =F44+G44+K44 -> 0 | AY44: =N44+Y44+Z44+AB44 -> 0 | AZ44: =O44 -> 0 | BA44: =P44+Q44+R44+S44+T44 -> 0 | BB44: =T44 -> 0 | BC44: =+U44+V44+W44 -> 0 | BD44: =Y44 -> 0 | BE44: =+O44+X44 -> 0 | BF44: =AF44 -> 0 | BG44: =AD44+AE44 -> 0 | BH44: =AF44 -> 0 | BI44: =AG44+AH44 -> 0 | BJ44: =AM44 -> 0 | BK44: =AK44+AL44 -> 0 | BL44: =AM44 -> 0 | BM44: =AN44+AO44 -> 0
A45: 3.4 | B45: ¶áõÛùÝ ³ÝÅ³é³Ý· ×³Ý³ã»Éáõ í»ñ³µ»ñÛ³É | E45: =SUM(Գ.Խաչատրյան:Տ.Ստեփանյան!E45) -> 0 | F45: =SUM(Գ.Խաչատրյան:Տ.Ստեփանյան!F45) -> 0 | G45: =SUM(Գ.Խաչատրյան:Տ.Ստեփանյան!G45) -> 0 | H45: =SUM(Գ.Խաչատրյան:Տ.Ստեփանյան!H45) -> 0 | I45: =SUM(Գ.Խաչատրյան:Տ.Ստեփանյան!I45) -> 0 | J45: =SUM(Գ.Խաչատրյան:Տ.Ստեփանյան!J45) -> 0 | K45: =SUM(Գ.Խաչատրյան:Տ.Ստեփանյան!K45) -> 0 | L45: =SUM(Գ.Խաչատրյան:Տ.Ստեփանյան!L45) -> 0 | ... AS45: =SUM(Գ.Խաչատրյան:Տ.Ստեփանյան!AS45) -> 0 | AT45: =E45 -> 0 | AU45: =F45+G45+H45+I45 -> 0 | AV45: =J45 -> 0 | AW45: =K45+L45+M45 -> 0 | AX45: =F45+G45+K45 -> 0 | AY45: =N45+Y45+Z45+AB45 -> 0 | AZ45: =O45 -> 0 | BA45: =P45+Q45+R45+S45+T45 -> 0 | BB45: =T45 -> 0 | BC45: =+U45+V45+W45 -> 0 | BD45: =Y45 -> 0 | BE45: =+O45+X45 -> 0 | BF45: =AF45 -> 0 | BG45: =AD45+AE45 -> 0 | BH45: =AF45 -> 0 | BI45: =AG45+AH45 -> 0 | BJ45: =AM45 -> 0 | BK45: =AK45+AL45 -> 0 | BL45: =AM45 -> 0 | BM45: =AN45+AO45 -> 0
A46: 3.5 | B46: Àëï ûñ»ÝùÇ Å³é³Ý·áõÃÛ³Ý Çñ³íáõÝùÇ íÏ³Û³·ÇñÝ ³Ýí³í»ñ ×³Ý³ã»Éáõ í»ñ³µ»ñÛ³É | E46: =SUM(Գ.Խաչատրյան:Տ.Ստեփանյան!E46) -> 0 | F46: =SUM(Գ.Խաչատրյան:Տ.Ստեփանյան!F46) -> 0 | G46: =SUM(Գ.Խաչատրյան:Տ.Ստեփանյան!G46) -> 0 | H46: =SUM(Գ.Խաչատրյան:Տ.Ստեփանյան!H46) -> 0 | I46: =SUM(Գ.Խաչատրյան:Տ.Ստեփանյան!I46) -> 0 | J46: =SUM(Գ.Խաչատրյան:Տ.Ստեփանյան!J46) -> 0 | K46: =SUM(Գ.Խաչատրյան:Տ.Ստեփանյան!K46) -> 0 | L46: =SUM(Գ.Խաչատրյան:Տ.Ստեփանյան!L46) -> 0 | ... AS46: =SUM(Գ.Խաչատրյան:Տ.Ստեփանյան!AS46) -> 0 | AT46: =E46 -> 0 | AU46: =F46+G46+H46+I46 -> 0 | AV46: =J46 -> 0 | AW46: =K46+L46+M46 -> 0 | AX46: =F46+G46+K46 -> 0 | AY46: =N46+Y46+Z46+AB46 -> 0 | AZ46: =O46 -> 0 | BA46: =P46+Q46+R46+S46+T46 -> 0 | BB46: =T46 -> 0 | BC46: =+U46+V46+W46 -> 0 | BD46: =Y46 -> 0 | BE46: =+O46+X46 -> 0 | BF46: =AF46 -> 0 | BG46: =AD46+AE46 -> 0 | BH46: =AF46 -> 0 | BI46: =AG46+AH46 -> 0 | BJ46: =AM46 -> 0 | BK46: =AK46+AL46 -> 0 | BL46: =AM46 -> 0 | BM46: =AN46+AO46 -> 0
A47: 3.6 | B47: Ä³é³Ý·áõÃÛáõÝÝ ÁÝ¹áõÝ»Éáõ µ³ó ÃáÕÝí³Í Å³ÙÏ»ïÁ Ñ³ñ·»ÉÇ Ñ³Ù³ñ»Éáõ í»ñ³µ»ñÛ³É | E47: =SUM(Գ.Խաչատրյան:Տ.Ստեփանյան!E47) -> 1 | F47: =SUM(Գ.Խաչատրյան:Տ.Ստեփանյան!F47) -> 0 | G47: =SUM(Գ.Խաչատրյան:Տ.Ստեփանյան!G47) -> 1 | H47: =SUM(Գ.Խաչատրյան:Տ.Ստեփանյան!H47) -> 0 | I47: =SUM(Գ.Խաչատրյան:Տ.Ստեփանյան!I47) -> 0 | J47: =SUM(Գ.Խաչատրյան:Տ.Ստեփանյան!J47) -> 3 | K47: =SUM(Գ.Խաչատրյան:Տ.Ստեփանյան!K47) -> 3 | L47: =SUM(Գ.Խաչատրյան:Տ.Ստեփանյան!L47) -> 0 | ... AS47: =SUM(Գ.Խաչատրյան:Տ.Ստեփանյան!AS47) -> 0 | AT47: =E47 -> 1 | AU47: =F47+G47+H47+I47 -> 1 | AV47: =J47 -> 3 | AW47: =K47+L47+M47 -> 3 | AX47: =F47+G47+K47 -> 4 | AY47: =N47+Y47+Z47+AB47 -> 4 | AZ47: =O47 -> 2 | BA47: =P47+Q47+R47+S47+T47 -> 2 | BB47: =T47 -> 2 | BC47: =+U47+V47+W47 -> 2 | BD47: =Y47 -> 2 | BE47: =+O47+X47 -> 2 | BF47: =AF47 -> 1 | BG47: =AD47+AE47 -> 1 | BH47: =AF47 -> 1 | BI47: =AG47+AH47 -> 1 | BJ47: =AM47 -> 1 | BK47: =AK47+AL47 -> 1 | BL47: =AM47 -> 1 | BM47: =AN47+AO47 -> 1
A48: 3.7 | B48: ²ÛÉ í»×»ñ | E48: =SUM(Գ.Խաչատրյան:Տ.Ստեփանյան!E48) -> 5 | F48: =SUM(Գ.Խաչատրյան:Տ.Ստեփանյան!F48) -> 2 | G48: =SUM(Գ.Խաչատրյան:Տ.Ստեփանյան!G48) -> 3 | H48: =SUM(Գ.Խաչատրյան:Տ.Ստեփանյան!H48) -> 0 | I48: =SUM(Գ.Խաչատրյան:Տ.Ստեփանյան!I48) -> 0 | J48: =SUM(Գ.Խաչատրյան:Տ.Ստեփանյան!J48) -> 3 | K48: =SUM(Գ.Խաչատրյան:Տ.Ստեփանյան!K48) -> 3 | L48: =SUM(Գ.Խաչատրյան:Տ.Ստեփանյան!L48) -> 0 | ... AS48: =SUM(Գ.Խաչատրյան:Տ.Ստեփանյան!AS48) -> 0 | AT48: =E48 -> 5 | AU48: =F48+G48+H48+I48 -> 5 | AV48: =J48 -> 3 | AW48: =K48+L48+M48 -> 3 | AX48: =F48+G48+K48 -> 8 | AY48: =N48+Y48+Z48+AB48 -> 8 | AZ48: =O48 -> 3 | BA48: =P48+Q48+R48+S48+T48 -> 3 | BB48: =T48 -> 0 | BC48: =+U48+V48+W48 -> 0 | BD48: =Y48 -> 4 | BE48: =+O48+X48 -> 4 | BF48: =AF48 -> 3 | BG48: =AD48+AE48 -> 3 | BH48: =AF48 -> 3 | BI48: =AG48+AH48 -> 3 | BJ48: =AM48 -> 1 | BK48: =AK48+AL48 -> 1 | BL48: =AM48 -> 1 | BM48: =AN48+AO48 -> 1
A49: 4 | B49: ÀÝï³Ý»Ï³Ý Çñ³í³Ñ³ñ³µ»ñáõÃÛáõÝÝ»ñÇ í»ñ³µ»ñÛ³É ¹³ï³Ï³Ý ·áñÍ»ñ | E49: =SUM(E50:E62) -> 65 | F49: =SUM(F50:F62) -> 2 | G49: =SUM(G50:G62) -> 63 | H49: =SUM(H50:H62) -> 0 | I49: =SUM(I50:I62) -> 0 | J49: =SUM(J50:J62) -> 168 | K49: =SUM(K50:K62) -> 138 | L49: =SUM(L50:L62) -> 29 | ... BM49: =SUM(BM50:BM62) -> 4
A50: 4.1 | B50: ²ÙáõëÝ³ÉáõÍáõÃÛ³Ý í»ñ³µ»ñÛ³É | E50: =SUM(Գ.Խաչատրյան:Տ.Ստեփանյան!E50) -> 35 | F50: =SUM(Գ.Խաչատրյան:Տ.Ստեփանյան!F50) -> 1 | G50: =SUM(Գ.Խաչատրյան:Տ.Ստեփանյան!G50) -> 34 | H50: =SUM(Գ.Խաչատրյան:Տ.Ստեփանյան!H50) -> 0 | I50: =SUM(Գ.Խաչատրյան:Տ.Ստեփանյան!I50) -> 0 | J50: =SUM(Գ.Խաչատրյան:Տ.Ստեփանյան!J50) -> 103 | K50: =SUM(Գ.Խաչատրյան:Տ.Ստեփանյան!K50) -> 85 | L50: =SUM(Գ.Խաչատրյան:Տ.Ստեփանյան!L50) -> 18 | ... AS50: =SUM(Գ.Խաչատրյան:Տ.Ստեփանյան!AS50) -> 0 | AT50: =E50 -> 35 | AU50: =F50+G50+H50+I50 -> 35 | AV50: =J50 -> 103 | AW50: =K50+L50+M50 -> 103 | AX50: =F50+G50+K50 -> 120 | AY50: =N50+Y50+Z50+AB50 -> 120 | AZ50: =O50 -> 79 | BA50: =P50+Q50+R50+S50+T50 -> 79 | BB50: =T50 -> 15 | BC50: =+U50+V50+W50 -> 15 | BD50: =Y50 -> 79 | BE50: =+O50+X50 -> 79 | BF50: =AF50 -> 6 | BG50: =AD50+AE50 -> 6 | BH50: =AF50 -> 6 | BI50: =AG50+AH50 -> 6 | BJ50: =AM50 -> 1 | BK50: =AK50+AL50 -> 1 | BL50: =AM50 -> 1 | BM50: =AN50+AO50 -> 1
A51: 4.2 | B51: ²ÉÇÙ»ÝïÇ å³Ñ³ÝçÇ í»ñ³µ»ñÛ³É | E51: =SUM(Գ.Խաչատրյան:Տ.Ստեփանյան!E51) -> 10 | F51: =SUM(Գ.Խաչատրյան:Տ.Ստեփանյան!F51) -> 0 | G51: =SUM(Գ.Խաչատրյան:Տ.Ստեփանյան!G51) -> 10 | H51: =SUM(Գ.Խաչատրյան:Տ.Ստեփանյան!H51) -> 0 | I51: =SUM(Գ.Խաչատրյան:Տ.Ստեփանյան!I51) -> 0 | J51: =SUM(Գ.Խաչատրյան:Տ.Ստեփանյան!J51) -> 25 | K51: =SUM(Գ.Խաչատրյան:Տ.Ստեփանյան!K51) -> 24 | L51: =SUM(Գ.Խաչատրյան:Տ.Ստեփանյան!L51) -> 1 | ... AS51: =SUM(Գ.Խաչատրյան:Տ.Ստեփանյան!AS51) -> 0 | AT51: =E51 -> 10 | AU51: =F51+G51+H51+I51 -> 10 | AV51: =J51 -> 25 | AW51: =K51+L51+M51 -> 25 | AX51: =F51+G51+K51 -> 34 | AY51: =N51+Y51+Z51+AB51 -> 34 | AZ51: =O51 -> 25 | BA51: =P51+Q51+R51+S51+T51 -> 25 | BB51: =T51 -> 4 | BC51: =+U51+V51+W51 -> 4 | BD51: =Y51 -> 25 | BE51: =+O51+X51 -> 25 | BF51: =AF51 -> 2 | BG51: =AD51+AE51 -> 2 | BH51: =AF51 -> 2 | BI51: =AG51+AH51 -> 2 | BJ51: =AM51 -> 1 | BK51: =AK51+AL51 -> 1 | BL51: =AM51 -> 1 | BM51: =AN51+AO51 -> 1
A52: 4.3 | B52: ²ÉÇÙ»ÝïÇ ã³÷Á ÷á÷áË»Éáõ í»ñ³µ»ñÛ³É | E52: =SUM(Գ.Խաչատրյան:Տ.Ստեփանյան!E52) -> 2 | F52: =SUM(Գ.Խաչատրյան:Տ.Ստեփանյան!F52) -> 0 | G52: =SUM(Գ.Խաչատրյան:Տ.Ստեփանյան!G52) -> 2 | H52: =SUM(Գ.Խաչատրյան:Տ.Ստեփանյան!H52) -> 0 | I52: =SUM(Գ.Խաչատրյան:Տ.Ստեփանյան!I52) -> 0 | J52: =SUM(Գ.Խաչատրյան:Տ.Ստեփանյան!J52) -> 4 | K52: =SUM(Գ.Խաչատրյան:Տ.Ստեփանյան!K52) -> 4 | L52: =SUM(Գ.Խաչատրյան:Տ.Ստեփանյան!L52) -> 0 | ... AS52: =SUM(Գ.Խաչատրյան:Տ.Ստեփանյան!AS52) -> 0 | AT52: =E52 -> 2 | AU52: =F52+G52+H52+I52 -> 2 | AV52: =J52 -> 4 | AW52: =K52+L52+M52 -> 4 | AX52: =F52+G52+K52 -> 6 | AY52: =N52+Y52+Z52+AB52 -> 6 | AZ52: =O52 -> 4 | BA52: =P52+Q52+R52+S52+T52 -> 4 | BB52: =T52 -> 1 | BC52: =+U52+V52+W52 -> 1 | BD52: =Y52 -> 4 | BE52: =+O52+X52 -> 4 | BF52: =AF52 -> 1 | BG52: =AD52+AE52 -> 1 | BH52: =AF52 -> 1 | BI52: =AG52+AH52 -> 1 | BJ52: =AM52 -> 0 | BK52: =AK52+AL52 -> 0 | BL52: =AM52 -> 0 | BM52: =AN52+AO52 -> 0
A53: 4.4 | B53: ÌÝáÕ³Ï³Ý Çñ³íáõÝùÝ»ñÇó ½ñÏ»Éáõ í»ñ³µ»ñÛ³É | E53: =SUM(Գ.Խաչատրյան:Տ.Ստեփանյան!E53) -> 1 | F53: =SUM(Գ.Խաչատրյան:Տ.Ստեփանյան!F53) -> 0 | G53: =SUM(Գ.Խաչատրյան:Տ.Ստեփանյան!G53) -> 1 | H53: =SUM(Գ.Խաչատրյան:Տ.Ստեփանյան!H53) -> 0 | I53: =SUM(Գ.Խաչատրյան:Տ.Ստեփանյան!I53) -> 0 | J53: =SUM(Գ.Խաչատրյան:Տ.Ստեփանյան!J53) -> 4 | K53: =SUM(Գ.Խաչատրյան:Տ.Ստեփանյան!K53) -> 3 | L53: =SUM(Գ.Խաչատրյան:Տ.Ստեփանյան!L53) -> 1 | ... AS53: =SUM(Գ.Խաչատրյան:Տ.Ստեփանյան!AS53) -> 0 | AT53: =E53 -> 1 | AU53: =F53+G53+H53+I53 -> 1 | AV53: =J53 -> 4 | AW53: =K53+L53+M53 -> 4 | AX53: =F53+G53+K53 -> 4 | AY53: =N53+Y53+Z53+AB53 -> 4 | AZ53: =O53 -> 2 | BA53: =P53+Q53+R53+S53+T53 -> 2 | BB53: =T53 -> 1 | BC53: =+U53+V53+W53 -> 1 | BD53: =Y53 -> 2 | BE53: =+O53+X53 -> 2 | BF53: =AF53 -> 0 | BG53: =AD53+AE53 -> 0 | BH53: =AF53 -> 0 | BI53: =AG53+AH53 -> 0 | BJ53: =AM53 -> 0 | BK53: =AK53+AL53 -> 0 | BL53: =AM53 -> 0 | BM53: =AN53+AO53 -> 0
A54: 4.5 | B54: ÌÝáÕ³Ï³Ý Çñ³íáõÝùÝ»ñÁ í»ñ³Ï³Ý·Ý»Éáõ í»ñ³µ»ñÛ³É | E54: =SUM(Գ.Խաչատրյան:Տ.Ստեփանյան!E54) -> 0 | F54: =SUM(Գ.Խաչատրյան:Տ.Ստեփանյան!F54) -> 0 | G54: =SUM(Գ.Խաչատրյան:Տ.Ստեփանյան!G54) -> 0 | H54: =SUM(Գ.Խաչատրյան:Տ.Ստեփանյան!H54) -> 0 | I54: =SUM(Գ.Խաչատրյան:Տ.Ստեփանյան!I54) -> 0 | J54: =SUM(Գ.Խաչատրյան:Տ.Ստեփանյան!J54) -> 0 | K54: =SUM(Գ.Խաչատրյան:Տ.Ստեփանյան!K54) -> 0 | L54: =SUM(Գ.Խաչատրյան:Տ.Ստեփանյան!L54) -> 0 | ... AS54: =SUM(Գ.Խաչատրյան:Տ.Ստեփանյան!AS54) -> 0 | AT54: =E54 -> 0 | AU54: =F54+G54+H54+I54 -> 0 | AV54: =J54 -> 0 | AW54: =K54+L54+M54 -> 0 | AX54: =F54+G54+K54 -> 0 | AY54: =N54+Y54+Z54+AB54 -> 0 | AZ54: =O54 -> 0 | BA54: =P54+Q54+R54+S54+T54 -> 0 | BB54: =T54 -> 0 | BC54: =+U54+V54+W54 -> 0 | BD54: =Y54 -> 0 | BE54: =+O54+X54 -> 0 | BF54: =AF54 -> 0 | BG54: =AD54+AE54 -> 0 | BH54: =AF54 -> 0 | BI54: =AG54+AH54 -> 0 | BJ54: =AM54 -> 0 | BK54: =AK54+AL54 -> 0 | BL54: =AM54 -> 0 | BM54: =AN54+AO54 -> 0
A55: 4.6 | B55: ºñ»Ë³ÛÇ áñ¹»·ñÙ³Ý í»ñ³µ»ñÛ³É | E55: =SUM(Գ.Խաչատրյան:Տ.Ստեփանյան!E55) -> 1 | F55: =SUM(Գ.Խաչատրյան:Տ.Ստեփանյան!F55) -> 0 | G55: =SUM(Գ.Խաչատրյան:Տ.Ստեփանյան!G55) -> 1 | H55: =SUM(Գ.Խաչատրյան:Տ.Ստեփանյան!H55) -> 0 | I55: =SUM(Գ.Խաչատրյան:Տ.Ստեփանյան!I55) -> 0 | J55: =SUM(Գ.Խաչատրյան:Տ.Ստեփանյան!J55) -> 1 | K55: =SUM(Գ.Խաչատրյան:Տ.Ստեփանյան!K55) -> 1 | L55: =SUM(Գ.Խաչատրյան:Տ.Ստեփանյան!L55) -> 0 | ... AS55: =SUM(Գ.Խաչատրյան:Տ.Ստեփանյան!AS55) -> 0 | AT55: =E55 -> 1 | AU55: =F55+G55+H55+I55 -> 1 | AV55: =J55 -> 1 | AW55: =K55+L55+M55 -> 1 | AX55: =F55+G55+K55 -> 2 | AY55: =N55+Y55+Z55+AB55 -> 2 | AZ55: =O55 -> 2 | BA55: =P55+Q55+R55+S55+T55 -> 2 | BB55: =T55 -> 0 | BC55: =+U55+V55+W55 -> 0 | BD55: =Y55 -> 2 | BE55: =+O55+X55 -> 2 | BF55: =AF55 -> 0 | BG55: =AD55+AE55 -> 0 | BH55: =AF55 -> 0 | BI55: =AG55+AH55 -> 0 | BJ55: =AM55 -> 0 | BK55: =AK55+AL55 -> 0 | BL55: =AM55 -> 0 | BM55: =AN55+AO55 -> 0
A56: 4.7 | B56: ºñ»Ë³ÛÇ áñ¹»·ñáõÙÁ í»ñ³óÝ»Éáõ í»ñ³µ»ñÛ³É | E56: =SUM(Գ.Խաչատրյան:Տ.Ստեփանյան!E56) -> 0 | F56: =SUM(Գ.Խաչատրյան:Տ.Ստեփանյան!F56) -> 0 | G56: =SUM(Գ.Խաչատրյան:Տ.Ստեփանյան!G56) -> 0 | H56: =SUM(Գ.Խաչատրյան:Տ.Ստեփանյան!H56) -> 0 | I56: =SUM(Գ.Խաչատրյան:Տ.Ստեփանյան!I56) -> 0 | J56: =SUM(Գ.Խաչատրյան:Տ.Ստեփանյան!J56) -> 3 | K56: =SUM(Գ.Խաչատրյան:Տ.Ստեփանյան!K56) -> 1 | L56: =SUM(Գ.Խաչատրյան:Տ.Ստեփանյան!L56) -> 1 | ... AS56: =SUM(Գ.Խաչատրյան:Տ.Ստեփանյան!AS56) -> 0 | AT56: =E56 -> 0 | AU56: =F56+G56+H56+I56 -> 0 | AV56: =J56 -> 3 | AW56: =K56+L56+M56 -> 3 | AX56: =F56+G56+K56 -> 1 | AY56: =N56+Y56+Z56+AB56 -> 1 | AZ56: =O56 -> 1 | BA56: =P56+Q56+R56+S56+T56 -> 1 | BB56: =T56 -> 1 | BC56: =+U56+V56+W56 -> 1 | BD56: =Y56 -> 1 | BE56: =+O56+X56 -> 1 | BF56: =AF56 -> 0 | BG56: =AD56+AE56 -> 0 | BH56: =AF56 -> 0 | BI56: =AG56+AH56 -> 0 | BJ56: =AM56 -> 0 | BK56: =AK56+AL56 -> 0 | BL56: =AM56 -> 0 | BM56: =AN56+AO56 -> 0
A57: 4.8 | B57: Ð³ÛñáõÃÛáõÝÁ ×³Ý³ã»Éáõ í»ñ³µ»ñÛ³É | E57: =SUM(Գ.Խաչատրյան:Տ.Ստեփանյան!E57) -> 3 | F57: =SUM(Գ.Խաչատրյան:Տ.Ստեփանյան!F57) -> 0 | G57: =SUM(Գ.Խաչատրյան:Տ.Ստեփանյան!G57) -> 3 | H57: =SUM(Գ.Խաչատրյան:Տ.Ստեփանյան!H57) -> 0 | I57: =SUM(Գ.Խաչատրյան:Տ.Ստեփանյան!I57) -> 0 | J57: =SUM(Գ.Խաչատրյան:Տ.Ստեփանյան!J57) -> 5 | K57: =SUM(Գ.Խաչատրյան:Տ.Ստեփանյան!K57) -> 4 | L57: =SUM(Գ.Խաչատրյան:Տ.Ստեփանյան!L57) -> 1 | ... AS57: =SUM(Գ.Խաչատրյան:Տ.Ստեփանյան!AS57) -> 0 | AT57: =E57 -> 3 | AU57: =F57+G57+H57+I57 -> 3 | AV57: =J57 -> 5 | AW57: =K57+L57+M57 -> 5 | AX57: =F57+G57+K57 -> 7 | AY57: =N57+Y57+Z57+AB57 -> 7 | AZ57: =O57 -> 6 | BA57: =P57+Q57+R57+S57+T57 -> 6 | BB57: =T57 -> 2 | BC57: =+U57+V57+W57 -> 2 | BD57: =Y57 -> 6 | BE57: =+O57+X57 -> 6 | BF57: =AF57 -> 0 | BG57: =AD57+AE57 -> 0 | BH57: =AF57 -> 0 | BI57: =AG57+AH57 -> 0 | BJ57: =AM57 -> 0 | BK57: =AK57+AL57 -> 0 | BL57: =AM57 -> 0 | BM57: =AN57+AO57 -> 0
A58: 4.9 | B58: ºñ»Ë³ÛÇ µÝ³ÏáõÃÛ³Ý í³ÛñÁ áñáß»Éáõ í»ñ³µ»ñÛ³É | E58: =SUM(Գ.Խաչատրյան:Տ.Ստեփանյան!E58) -> 2 | F58: =SUM(Գ.Խաչատրյան:Տ.Ստեփանյան!F58) -> 0 | G58: =SUM(Գ.Խաչատրյան:Տ.Ստեփանյան!G58) -> 2 | H58: =SUM(Գ.Խաչատրյան:Տ.Ստեփանյան!H58) -> 0 | I58: =SUM(Գ.Խաչատրյան:Տ.Ստեփանյան!I58) -> 0 | J58: =SUM(Գ.Խաչատրյան:Տ.Ստեփանյան!J58) -> 4 | K58: =SUM(Գ.Խաչատրյան:Տ.Ստեփանյան!K58) -> 1 | L58: =SUM(Գ.Խաչատրյան:Տ.Ստեփանյան!L58) -> 3 | ... AS58: =SUM(Գ.Խաչատրյան:Տ.Ստեփանյան!AS58) -> 0 | AT58: =E58 -> 2 | AU58: =F58+G58+H58+I58 -> 2 | AV58: =J58 -> 4 | AW58: =K58+L58+M58 -> 4 | AX58: =F58+G58+K58 -> 3 | AY58: =N58+Y58+Z58+AB58 -> 3 | AZ58: =O58 -> 3 | BA58: =P58+Q58+R58+S58+T58 -> 3 | BB58: =T58 -> 0 | BC58: =+U58+V58+W58 -> 0 | BD58: =Y58 -> 3 | BE58: =+O58+X58 -> 3 | BF58: =AF58 -> 2 | BG58: =AD58+AE58 -> 2 | BH58: =AF58 -> 2 | BI58: =AG58+AH58 -> 2 | BJ58: =AM58 -> 0 | BK58: =AK58+AL58 -> 0 | BL58: =AM58 -> 0 | BM58: =AN58+AO58 -> 0
A59: 4.10 | B59: ºñ»Ë³ÛÇ Ñ»ï ï»ë³ÏóáõÃÛ³Ý Ï³ñ· ë³ÑÙ³Ý»Éáõ í»ñ³µ»ñÛ³É | E59: =SUM(Գ.Խաչատրյան:Տ.Ստեփանյան!E59) -> 9 | F59: =SUM(Գ.Խաչատրյան:Տ.Ստեփանյան!F59) -> 1 | G59: =SUM(Գ.Խաչատրյան:Տ.Ստեփանյան!G59) -> 8 | H59: =SUM(Գ.Խաչատրյան:Տ.Ստեփանյան!H59) -> 0 | I59: =SUM(Գ.Խաչատրյան:Տ.Ստեփանյան!I59) -> 0 | J59: =SUM(Գ.Խաչատրյան:Տ.Ստեփանյան!J59) -> 9 | K59: =SUM(Գ.Խաչատրյան:Տ.Ստեփանյան!K59) -> 8 | L59: =SUM(Գ.Խաչատրյան:Տ.Ստեփանյան!L59) -> 1 | ... AS59: =SUM(Գ.Խաչատրյան:Տ.Ստեփանյան!AS59) -> 0 | AT59: =E59 -> 9 | AU59: =F59+G59+H59+I59 -> 9 | AV59: =J59 -> 9 | AW59: =K59+L59+M59 -> 9 | AX59: =F59+G59+K59 -> 17 | AY59: =N59+Y59+Z59+AB59 -> 17 | AZ59: =O59 -> 12 | BA59: =P59+Q59+R59+S59+T59 -> 12 | BB59: =T59 -> 5 | BC59: =+U59+V59+W59 -> 5 | BD59: =Y59 -> 12 | BE59: =+O59+X59 -> 12 | BF59: =AF59 -> 4 | BG59: =AD59+AE59 -> 4 | BH59: =AF59 -> 4 | BI59: =AG59+AH59 -> 4 | BJ59: =AM59 -> 2 | BK59: =AK59+AL59 -> 2 | BL59: =AM59 -> 2 | BM59: =AN59+AO59 -> 2
A60: 4.11 | B60: ²ÙáõëÇÝÝ»ñÇ ÁÝ¹Ñ³Ýáõñ ·áõÛùÁ µ³Å³Ý»Éáõ í»ñ³µ»ñÛ³É | E60: =SUM(Գ.Խաչատրյան:Տ.Ստեփանյան!E60) -> 1 | F60: =SUM(Գ.Խաչատրյան:Տ.Ստեփանյան!F60) -> 0 | G60: =SUM(Գ.Խաչատրյան:Տ.Ստեփանյան!G60) -> 1 | H60: =SUM(Գ.Խաչատրյան:Տ.Ստեփանյան!H60) -> 0 | I60: =SUM(Գ.Խաչատրյան:Տ.Ստեփանյան!I60) -> 0 | J60: =SUM(Գ.Խաչատրյան:Տ.Ստեփանյան!J60) -> 1 | K60: =SUM(Գ.Խաչատրյան:Տ.Ստեփանյան!K60) -> 1 | L60: =SUM(Գ.Խաչատրյան:Տ.Ստեփանյան!L60) -> 0 | ... AS60: =SUM(Գ.Խաչատրյան:Տ.Ստեփանյան!AS60) -> 0 | AT60: =E60 -> 1 | AU60: =F60+G60+H60+I60 -> 1 | AV60: =J60 -> 1 | AW60: =K60+L60+M60 -> 1 | AX60: =F60+G60+K60 -> 2 | AY60: =N60+Y60+Z60+AB60 -> 2 | AZ60: =O60 -> 0 | BA60: =P60+Q60+R60+S60+T60 -> 0 | BB60: =T60 -> 0 | BC60: =+U60+V60+W60 -> 0 | BD60: =Y60 -> 0 | BE60: =+O60+X60 -> 0 | BF60: =AF60 -> 0 | BG60: =AD60+AE60 -> 0 | BH60: =AF60 -> 0 | BI60: =AG60+AH60 -> 0 | BJ60: =AM60 -> 0 | BK60: =AK60+AL60 -> 0 | BL60: =AM60 -> 0 | BM60: =AN60+AO60 -> 0
A61: 4.12 | B61: ²ÙáõëÝ³Ï³Ý å³ÛÙ³Ý³·ñÇ ÷á÷áËÙ³Ý Ï³Ù ÉáõÍÙ³Ý í»ñ³µ»ñÛ³É | E61: =SUM(Գ.Խաչատրյան:Տ.Ստեփանյան!E61) -> 0 | F61: =SUM(Գ.Խաչատրյան:Տ.Ստեփանյան!F61) -> 0 | G61: =SUM(Գ.Խաչատրյան:Տ.Ստեփանյան!G61) -> 0 | H61: =SUM(Գ.Խաչատրյան:Տ.Ստեփանյան!H61) -> 0 | I61: =SUM(Գ.Խաչատրյան:Տ.Ստեփանյան!I61) -> 0 | J61: =SUM(Գ.Խաչատրյան:Տ.Ստեփանյան!J61) -> 0 | K61: =SUM(Գ.Խաչատրյան:Տ.Ստեփանյան!K61) -> 0 | L61: =SUM(Գ.Խաչատրյան:Տ.Ստեփանյան!L61) -> 0 | ... AS61: =SUM(Գ.Խաչատրյան:Տ.Ստեփանյան!AS61) -> 0 | AT61: =E61 -> 0 | AU61: =F61+G61+H61+I61 -> 0 | AV61: =J61 -> 0 | AW61: =K61+L61+M61 -> 0 | AX61: =F61+G61+K61 -> 0 | AY61: =N61+Y61+Z61+AB61 -> 0 | AZ61: =O61 -> 0 | BA61: =P61+Q61+R61+S61+T61 -> 0 | BB61: =T61 -> 0 | BC61: =+U61+V61+W61 -> 0 | BD61: =Y61 -> 0 | BE61: =+O61+X61 -> 0 | BF61: =AF61 -> 0 | BG61: =AD61+AE61 -> 0 | BH61: =AF61 -> 0 | BI61: =AG61+AH61 -> 0 | BJ61: =AM61 -> 0 | BK61: =AK61+AL61 -> 0 | BL61: =AM61 -> 0 | BM61: =AN61+AO61 -> 0
A62: 4.13 | B62: ²ÛÉ í»×»ñ | E62: =SUM(Գ.Խաչատրյան:Տ.Ստեփանյան!E62) -> 1 | F62: =SUM(Գ.Խաչատրյան:Տ.Ստեփանյան!F62) -> 0 | G62: =SUM(Գ.Խաչատրյան:Տ.Ստեփանյան!G62) -> 1 | H62: =SUM(Գ.Խաչատրյան:Տ.Ստեփանյան!H62) -> 0 | I62: =SUM(Գ.Խաչատրյան:Տ.Ստեփանյան!I62) -> 0 | J62: =SUM(Գ.Խաչատրյան:Տ.Ստեփանյան!J62) -> 9 | K62: =SUM(Գ.Խաչատրյան:Տ.Ստեփանյան!K62) -> 6 | L62: =SUM(Գ.Խաչատրյան:Տ.Ստեփանյան!L62) -> 3 | ... AS62: =SUM(Գ.Խաչատրյան:Տ.Ստեփանյան!AS62) -> 0 | AT62: =E62 -> 1 | AU62: =F62+G62+H62+I62 -> 1 | AV62: =J62 -> 9 | AW62: =K62+L62+M62 -> 9 | AX62: =F62+G62+K62 -> 7 | AY62: =N62+Y62+Z62+AB62 -> 7 | AZ62: =O62 -> 3 | BA62: =P62+Q62+R62+S62+T62 -> 3 | BB62: =T62 -> 1 | BC62: =+U62+V62+W62 -> 1 | BD62: =Y62 -> 3 | BE62: =+O62+X62 -> 3 | BF62: =AF62 -> 0 | BG62: =AD62+AE62 -> 0 | BH62: =AF62 -> 0 | BI62: =AG62+AH62 -> 0 | BJ62: =AM62 -> 0 | BK62: =AK62+AL62 -> 0 | BL62: =AM62 -> 0 | BM62: =AN62+AO62 -> 0
A63: 5. | B63: Øï³íáñ ë»÷³Ï³ÝáõÃÛ³Ý Ñ»ï Ï³åí³ÍÇñ³í³Ñ³ñ³µ»ñáõÃÛáõÝÝ»ñÇ í»ñ³µ»ñÛ³É ¹³ï³Ï³Ý ·áñÍ»ñ | E63: =SUM(E64:E69) -> 0 | F63: =SUM(F64:F69) -> 0 | G63: =SUM(G64:G69) -> 0 | H63: =SUM(H64:H69) -> 0 | I63: =SUM(I64:I69) -> 0 | J63: =SUM(J64:J69) -> 0 | K63: =SUM(K64:K69) -> 0 | L63: =SUM(L64:L69) -> 0 | ... BM63: =SUM(BM64:BM69) -> 0
A64: 5.1 | B64: ÈÇó»Ý½³ÛÇÝ å³ÛÙ³Ý³·ñÇ ÉáõÍÙ³Ý, ÷á÷áËÙ³Ý ¨ ³Ýí³í»ñáõÃÛ³Ý í»ñ³µ»ñÛ³É | E64: =SUM(Գ.Խաչատրյան:Տ.Ստեփանյան!E64) -> 0 | F64: =SUM(Գ.Խաչատրյան:Տ.Ստեփանյան!F64) -> 0 | G64: =SUM(Գ.Խաչատրյան:Տ.Ստեփանյան!G64) -> 0 | H64: =SUM(Գ.Խաչատրյան:Տ.Ստեփանյան!H64) -> 0 | I64: =SUM(Գ.Խաչատրյան:Տ.Ստեփանյան!I64) -> 0 | J64: =SUM(Գ.Խաչատրյան:Տ.Ստեփանյան!J64) -> 0 | K64: =SUM(Գ.Խաչատրյան:Տ.Ստեփանյան!K64) -> 0 | L64: =SUM(Գ.Խաչատրյան:Տ.Ստեփանյան!L64) -> 0 | ... AS64: =SUM(Գ.Խաչատրյան:Տ.Ստեփանյան!AS64) -> 0 | AT64: =E64 -> 0 | AU64: =F64+G64+H64+I64 -> 0 | AV64: =J64 -> 0 | AW64: =K64+L64+M64 -> 0 | AX64: =F64+G64+K64 -> 0 | AY64: =N64+Y64+Z64+AB64 -> 0 | AZ64: =O64 -> 0 | BA64: =P64+Q64+R64+S64+T64 -> 0 | BB64: =T64 -> 0 | BC64: =+U64+V64+W64 -> 0 | BD64: =Y64 -> 0 | BE64: =+O64+X64 -> 0 | BF64: =AF64 -> 0 | BG64: =AD64+AE64 -> 0 | BH64: =AF64 -> 0 | BI64: =AG64+AH64 -> 0 | BJ64: =AM64 -> 0 | BK64: =AK64+AL64 -> 0 | BL64: =AM64 -> 0 | BM64: =AN64+AO64 -> 0
A65: 5.2 | B65: Øï³íáñ ·áñÍáõÝ»áõÃÛ³Ý ³ñ¹ÛáõÝùÝ»ñ ëï»ÕÍ»Éáõ ¨ û·ï³·áñÍ»Éáõ å³ÛÙ³Ý³·ñÇ ÉáõÍÙ³Ý, ÷á÷áËÙ³Ý áõ ³Ýí³í»ñáõÃÛ³Ý í»ñ³µ»ñÛ³É | E65: =SUM(Գ.Խաչատրյան:Տ.Ստեփանյան!E65) -> 0 | F65: =SUM(Գ.Խաչատրյան:Տ.Ստեփանյան!F65) -> 0 | G65: =SUM(Գ.Խաչատրյան:Տ.Ստեփանյան!G65) -> 0 | H65: =SUM(Գ.Խաչատրյան:Տ.Ստեփանյան!H65) -> 0 | I65: =SUM(Գ.Խաչատրյան:Տ.Ստեփանյան!I65) -> 0 | J65: =SUM(Գ.Խաչատրյան:Տ.Ստեփանյան!J65) -> 0 | K65: =SUM(Գ.Խաչատրյան:Տ.Ստեփանյան!K65) -> 0 | L65: =SUM(Գ.Խաչատրյան:Տ.Ստեփանյան!L65) -> 0 | ... AS65: =SUM(Գ.Խաչատրյան:Տ.Ստեփանյան!AS65) -> 0 | AT65: =E65 -> 0 | AU65: =F65+G65+H65+I65 -> 0 | AV65: =J65 -> 0 | AW65: =K65+L65+M65 -> 0 | AX65: =F65+G65+K65 -> 0 | AY65: =N65+Y65+Z65+AB65 -> 0 | AZ65: =O65 -> 0 | BA65: =P65+Q65+R65+S65+T65 -> 0 | BB65: =T65 -> 0 | BC65: =+U65+V65+W65 -> 0 | BD65: =Y65 -> 0 | BE65: =+O65+X65 -> 0 | BF65: =AF65 -> 0 | BG65: =AD65+AE65 -> 0 | BH65: =AF65 -> 0 | BI65: =AG65+AH65 -> 0 | BJ65: =AM65 -> 0 | BK65: =AK65+AL65 -> 0 | BL65: =AM65 -> 0 | BM65: =AN65+AO65 -> 0
A66: 5.3 | B66: Ð»ÕÇÝ³Ï³ÛÇÝ ¨ Ñ³ñ³ÏÇó Çñ³íáõÝùÝ»ñÇ í»ñ³µ»ñÛ³É | E66: =SUM(Գ.Խաչատրյան:Տ.Ստեփանյան!E66) -> 0 | F66: =SUM(Գ.Խաչատրյան:Տ.Ստեփանյան!F66) -> 0 | G66: =SUM(Գ.Խաչատրյան:Տ.Ստեփանյան!G66) -> 0 | H66: =SUM(Գ.Խաչատրյան:Տ.Ստեփանյան!H66) -> 0 | I66: =SUM(Գ.Խաչատրյան:Տ.Ստեփանյան!I66) -> 0 | J66: =SUM(Գ.Խաչատրյան:Տ.Ստեփանյան!J66) -> 0 | K66: =SUM(Գ.Խաչատրյան:Տ.Ստեփանյան!K66) -> 0 | L66: =SUM(Գ.Խաչատրյան:Տ.Ստեփանյան!L66) -> 0 | ... AS66: =SUM(Գ.Խաչատրյան:Տ.Ստեփանյան!AS66) -> 0 | AT66: =E66 -> 0 | AU66: =F66+G66+H66+I66 -> 0 | AV66: =J66 -> 0 | AW66: =K66+L66+M66 -> 0 | AX66: =F66+G66+K66 -> 0 | AY66: =N66+Y66+Z66+AB66 -> 0 | AZ66: =O66 -> 0 | BA66: =P66+Q66+R66+S66+T66 -> 0 | BB66: =T66 -> 0 | BC66: =+U66+V66+W66 -> 0 | BD66: =Y66 -> 0 | BE66: =+O66+X66 -> 0 | BF66: =AF66 -> 0 | BG66: =AD66+AE66 -> 0 | BH66: =AF66 -> 0 | BI66: =AG66+AH66 -> 0 | BJ66: =AM66 -> 0 | BK66: =AK66+AL66 -> 0 | BL66: =AM66 -> 0 | BM66: =AN66+AO66 -> 0
A67: 5.4 | B67: üÇñÙ³ÛÇÝ ³Ýí³ÝÙ³Ý í»ñ³µ»ñÛ³É | E67: =SUM(Գ.Խաչատրյան:Տ.Ստեփանյան!E67) -> 0 | F67: =SUM(Գ.Խաչատրյան:Տ.Ստեփանյան!F67) -> 0 | G67: =SUM(Գ.Խաչատրյան:Տ.Ստեփանյան!G67) -> 0 | H67: =SUM(Գ.Խաչատրյան:Տ.Ստեփանյան!H67) -> 0 | I67: =SUM(Գ.Խաչատրյան:Տ.Ստեփանյան!I67) -> 0 | J67: =SUM(Գ.Խաչատրյան:Տ.Ստեփանյան!J67) -> 0 | K67: =SUM(Գ.Խաչատրյան:Տ.Ստեփանյան!K67) -> 0 | L67: =SUM(Գ.Խաչատրյան:Տ.Ստեփանյան!L67) -> 0 | ... AS67: =SUM(Գ.Խաչատրյան:Տ.Ստեփանյան!AS67) -> 0 | AT67: =E67 -> 0 | AU67: =F67+G67+H67+I67 -> 0 | AV67: =J67 -> 0 | AW67: =K67+L67+M67 -> 0 | AX67: =F67+G67+K67 -> 0 | AY67: =N67+Y67+Z67+AB67 -> 0 | AZ67: =O67 -> 0 | BA67: =P67+Q67+R67+S67+T67 -> 0 | BB67: =T67 -> 0 | BC67: =+U67+V67+W67 -> 0 | BD67: =Y67 -> 0 | BE67: =+O67+X67 -> 0 | BF67: =AF67 -> 0 | BG67: =AD67+AE67 -> 0 | BH67: =AF67 -> 0 | BI67: =AG67+AH67 -> 0 | BJ67: =AM67 -> 0 | BK67: =AK67+AL67 -> 0 | BL67: =AM67 -> 0 | BM67: =AN67+AO67 -> 0
A68: 5.5 | B68: ²åñ³Ýù³ÛÇÝ Ýß³ÝÇ í»ñ³µ»ñÛ³É | E68: =SUM(Գ.Խաչատրյան:Տ.Ստեփանյան!E68) -> 0 | F68: =SUM(Գ.Խաչատրյան:Տ.Ստեփանյան!F68) -> 0 | G68: =SUM(Գ.Խաչատրյան:Տ.Ստեփանյան!G68) -> 0 | H68: =SUM(Գ.Խաչատրյան:Տ.Ստեփանյան!H68) -> 0 | I68: =SUM(Գ.Խաչատրյան:Տ.Ստեփանյան!I68) -> 0 | J68: =SUM(Գ.Խաչատրյան:Տ.Ստեփանյան!J68) -> 0 | K68: =SUM(Գ.Խաչատրյան:Տ.Ստեփանյան!K68) -> 0 | L68: =SUM(Գ.Խաչատրյան:Տ.Ստեփանյան!L68) -> 0 | ... AS68: =SUM(Գ.Խաչատրյան:Տ.Ստեփանյան!AS68) -> 0 | AT68: =E68 -> 0 | AU68: =F68+G68+H68+I68 -> 0 | AV68: =J68 -> 0 | AW68: =K68+L68+M68 -> 0 | AX68: =F68+G68+K68 -> 0 | AY68: =N68+Y68+Z68+AB68 -> 0 | AZ68: =O68 -> 0 | BA68: =P68+Q68+R68+S68+T68 -> 0 | BB68: =T68 -> 0 | BC68: =+U68+V68+W68 -> 0 | BD68: =Y68 -> 0 | BE68: =+O68+X68 -> 0 | BF68: =AF68 -> 0 | BG68: =AD68+AE68 -> 0 | BH68: =AF68 -> 0 | BI68: =AG68+AH68 -> 0 | BJ68: =AM68 -> 0 | BK68: =AK68+AL68 -> 0 | BL68: =AM68 -> 0 | BM68: =AN68+AO68 -> 0
A69: 5.6 | B69: ²ÛÉ í»×»ñ | E69: =SUM(Գ.Խաչատրյան:Տ.Ստեփանյան!E69) -> 0 | F69: =SUM(Գ.Խաչատրյան:Տ.Ստեփանյան!F69) -> 0 | G69: =SUM(Գ.Խաչատրյան:Տ.Ստեփանյան!G69) -> 0 | H69: =SUM(Գ.Խաչատրյան:Տ.Ստեփանյան!H69) -> 0 | I69: =SUM(Գ.Խաչատրյան:Տ.Ստեփանյան!I69) -> 0 | J69: =SUM(Գ.Խաչատրյան:Տ.Ստեփանյան!J69) -> 0 | K69: =SUM(Գ.Խաչատրյան:Տ.Ստեփանյան!K69) -> 0 | L69: =SUM(Գ.Խաչատրյան:Տ.Ստեփանյան!L69) -> 0 | ... AS69: =SUM(Գ.Խաչատրյան:Տ.Ստեփանյան!AS69) -> 0 | AT69: =E69 -> 0 | AU69: =F69+G69+H69+I69 -> 0 | AV69: =J69 -> 0 | AW69: =K69+L69+M69 -> 0 | AX69: =F69+G69+K69 -> 0 | AY69: =N69+Y69+Z69+AB69 -> 0 | AZ69: =O69 -> 0 | BA69: =P69+Q69+R69+S69+T69 -> 0 | BB69: =T69 -> 0 | BC69: =+U69+V69+W69 -> 0 | BD69: =Y69 -> 0 | BE69: =+O69+X69 -> 0 | BF69: =AF69 -> 0 | BG69: =AD69+AE69 -> 0 | BH69: =AF69 -> 0 | BI69: =AG69+AH69 -> 0 | BJ69: =AM69 -> 0 | BK69: =AK69+AL69 -> 0 | BL69: =AM69 -> 0 | BM69: =AN69+AO69 -> 0
A70: 6. | B70: ²ßË³ï³Ýù³ÛÇÝ Çñ³í³Ñ³ñ³µ»ñáõÃÛáõÝÝ»ñÇ í»ñ³µ»ñÛ³É ¹³ï³Ï³Ý ·áñÍ»ñ | E70: =SUM(E71:E76) -> 3 | F70: =SUM(F71:F76) -> 1 | G70: =SUM(G71:G76) -> 2 | H70: =SUM(H71:H76) -> 0 | I70: =SUM(I71:I76) -> 0 | J70: =SUM(J71:J76) -> 3 | K70: =SUM(K71:K76) -> 2 | L70: =SUM(L71:L76) -> 1 | ... BM70: =SUM(BM71:BM76) -> 0
A71: 6.1 | B71: ²ßË³ï³Ýù³ÛÇÝ å³ÛÙ³Ý³·ñ»ñÇ í»ñ³µ»ñÛ³É | E71: =SUM(Գ.Խաչատրյան:Տ.Ստեփանյան!E71) -> 0 | F71: =SUM(Գ.Խաչատրյան:Տ.Ստեփանյան!F71) -> 0 | G71: =SUM(Գ.Խաչատրյան:Տ.Ստեփանյան!G71) -> 0 | H71: =SUM(Գ.Խաչատրյան:Տ.Ստեփանյան!H71) -> 0 | I71: =SUM(Գ.Խաչատրյան:Տ.Ստեփանյան!I71) -> 0 | J71: =SUM(Գ.Խաչատրյան:Տ.Ստեփանյան!J71) -> 0 | K71: =SUM(Գ.Խաչատրյան:Տ.Ստեփանյան!K71) -> 0 | L71: =SUM(Գ.Խաչատրյան:Տ.Ստեփանյան!L71) -> 0 | ... AS71: =SUM(Գ.Խաչատրյան:Տ.Ստեփանյան!AS71) -> 0 | AT71: =E71 -> 0 | AU71: =F71+G71+H71+I71 -> 0 | AV71: =J71 -> 0 | AW71: =K71+L71+M71 -> 0 | AX71: =F71+G71+K71 -> 0 | AY71: =N71+Y71+Z71+AB71 -> 0 | AZ71: =O71 -> 0 | BA71: =P71+Q71+R71+S71+T71 -> 0 | BB71: =T71 -> 0 | BC71: =+U71+V71+W71 -> 0 | BD71: =Y71 -> 0 | BE71: =+O71+X71 -> 0 | BF71: =AF71 -> 0 | BG71: =AD71+AE71 -> 0 | BH71: =AF71 -> 0 | BI71: =AG71+AH71 -> 0 | BJ71: =AM71 -> 0 | BK71: =AK71+AL71 -> 0 | BL71: =AM71 -> 0 | BM71: =AN71+AO71 -> 0
A72: 6.2 | B72: ²ßË³ï³ÝùáõÙ í»ñ³Ï³Ý·Ý»Éáõ í»ñ³µ»ñÛ³É | E72: =SUM(Գ.Խաչատրյան:Տ.Ստեփանյան!E72) -> 2 | F72: =SUM(Գ.Խաչատրյան:Տ.Ստեփանյան!F72) -> 0 | G72: =SUM(Գ.Խաչատրյան:Տ.Ստեփանյան!G72) -> 2 | H72: =SUM(Գ.Խաչատրյան:Տ.Ստեփանյան!H72) -> 0 | I72: =SUM(Գ.Խաչատրյան:Տ.Ստեփանյան!I72) -> 0 | J72: =SUM(Գ.Խաչատրյան:Տ.Ստեփանյան!J72) -> 0 | K72: =SUM(Գ.Խաչատրյան:Տ.Ստեփանյան!K72) -> 0 | L72: =SUM(Գ.Խաչատրյան:Տ.Ստեփանյան!L72) -> 0 | ... AS72: =SUM(Գ.Խաչատրյան:Տ.Ստեփանյան!AS72) -> 0 | AT72: =E72 -> 2 | AU72: =F72+G72+H72+I72 -> 2 | AV72: =J72 -> 0 | AW72: =K72+L72+M72 -> 0 | AX72: =F72+G72+K72 -> 2 | AY72: =N72+Y72+Z72+AB72 -> 2 | AZ72: =O72 -> 2 | BA72: =P72+Q72+R72+S72+T72 -> 2 | BB72: =T72 -> 0 | BC72: =+U72+V72+W72 -> 0 | BD72: =Y72 -> 2 | BE72: =+O72+X72 -> 2 | BF72: =AF72 -> 1 | BG72: =AD72+AE72 -> 1 | BH72: =AF72 -> 1 | BI72: =AG72+AH72 -> 1 | BJ72: =AM72 -> 0 | BK72: =AK72+AL72 -> 0 | BL72: =AM72 -> 0 | BM72: =AN72+AO72 -> 0
A73: 6.3 | B73: ¶áñÍ³¹áõÉÝ ³ÝûñÇÝ³Ï³Ý ×³Ý³ã»Éáõ í»ñ³µ»ñÛ³É | E73: =SUM(Գ.Խաչատրյան:Տ.Ստեփանյան!E73) -> 0 | F73: =SUM(Գ.Խաչատրյան:Տ.Ստեփանյան!F73) -> 0 | G73: =SUM(Գ.Խաչատրյան:Տ.Ստեփանյան!G73) -> 0 | H73: =SUM(Գ.Խաչատրյան:Տ.Ստեփանյան!H73) -> 0 | I73: =SUM(Գ.Խաչատրյան:Տ.Ստեփանյան!I73) -> 0 | J73: =SUM(Գ.Խաչատրյան:Տ.Ստեփանյան!J73) -> 0 | K73: =SUM(Գ.Խաչատրյան:Տ.Ստեփանյան!K73) -> 0 | L73: =SUM(Գ.Խաչատրյան:Տ.Ստեփանյան!L73) -> 0 | ... AS73: =SUM(Գ.Խաչատրյան:Տ.Ստեփանյան!AS73) -> 0 | AT73: =E73 -> 0 | AU73: =F73+G73+H73+I73 -> 0 | AV73: =J73 -> 0 | AW73: =K73+L73+M73 -> 0 | AX73: =F73+G73+K73 -> 0 | AY73: =N73+Y73+Z73+AB73 -> 0 | AZ73: =O73 -> 0 | BA73: =P73+Q73+R73+S73+T73 -> 0 | BB73: =T73 -> 0 | BC73: =+U73+V73+W73 -> 0 | BD73: =Y73 -> 0 | BE73: =+O73+X73 -> 0 | BF73: =AF73 -> 0 | BG73: =AD73+AE73 -> 0 | BH73: =AF73 -> 0 | BI73: =AG73+AH73 -> 0 | BJ73: =AM73 -> 0 | BK73: =AK73+AL73 -> 0 | BL73: =AM73 -> 0 | BM73: =AN73+AO73 -> 0
A74: 6.4 | B74: Ð³ñÏ³¹Çñ å³ñ³åáõñ¹Ç Ñ³ïáõóÙ³Ý í»ñ³µ»ñÛ³É | E74: =SUM(Գ.Խաչատրյան:Տ.Ստեփանյան!E74) -> 0 | F74: =SUM(Գ.Խաչատրյան:Տ.Ստեփանյան!F74) -> 0 | G74: =SUM(Գ.Խաչատրյան:Տ.Ստեփանյան!G74) -> 0 | H74: =SUM(Գ.Խաչատրյան:Տ.Ստեփանյան!H74) -> 0 | I74: =SUM(Գ.Խաչատրյան:Տ.Ստեփանյան!I74) -> 0 | J74: =SUM(Գ.Խաչատրյան:Տ.Ստեփանյան!J74) -> 1 | K74: =SUM(Գ.Խաչատրյան:Տ.Ստեփանյան!K74) -> 1 | L74: =SUM(Գ.Խաչատրյան:Տ.Ստեփանյան!L74) -> 0 | ... AS74: =SUM(Գ.Խաչատրյան:Տ.Ստեփանյան!AS74) -> 0 | AT74: =E74 -> 0 | AU74: =F74+G74+H74+I74 -> 0 | AV74: =J74 -> 1 | AW74: =K74+L74+M74 -> 1 | AX74: =F74+G74+K74 -> 1 | AY74: =N74+Y74+Z74+AB74 -> 1 | AZ74: =O74 -> 0 | BA74: =P74+Q74+R74+S74+T74 -> 0 | BB74: =T74 -> 0 | BC74: =+U74+V74+W74 -> 0 | BD74: =Y74 -> 0 | BE74: =+O74+X74 -> 0 | BF74: =AF74 -> 0 | BG74: =AD74+AE74 -> 0 | BH74: =AF74 -> 0 | BI74: =AG74+AH74 -> 0 | BJ74: =AM74 -> 0 | BK74: =AK74+AL74 -> 0 | BL74: =AM74 -> 0 | BM74: =AN74+AO74 -> 0
A75: 6.5 | B75: âí×³ñí³Í ³ßË³ï³í³ñÓÇ ¨/Ï³Ù ³ÛÉ í×³ñÝ»ñÇ µéÝ³·³ÝÓÙ³Ý í»ñ³µ»ñÛ³É | E75: =SUM(Գ.Խաչատրյան:Տ.Ստեփանյան!E75) -> 1 | F75: =SUM(Գ.Խաչատրյան:Տ.Ստեփանյան!F75) -> 1 | G75: =SUM(Գ.Խաչատրյան:Տ.Ստեփանյան!G75) -> 0 | H75: =SUM(Գ.Խաչատրյան:Տ.Ստեփանյան!H75) -> 0 | I75: =SUM(Գ.Խաչատրյան:Տ.Ստեփանյան!I75) -> 0 | J75: =SUM(Գ.Խաչատրյան:Տ.Ստեփանյան!J75) -> 0 | K75: =SUM(Գ.Խաչատրյան:Տ.Ստեփանյան!K75) -> 0 | L75: =SUM(Գ.Խաչատրյան:Տ.Ստեփանյան!L75) -> 0 | ... AS75: =SUM(Գ.Խաչատրյան:Տ.Ստեփանյան!AS75) -> 0 | AT75: =E75 -> 1 | AU75: =F75+G75+H75+I75 -> 1 | AV75: =J75 -> 0 | AW75: =K75+L75+M75 -> 0 | AX75: =F75+G75+K75 -> 1 | AY75: =N75+Y75+Z75+AB75 -> 1 | AZ75: =O75 -> 1 | BA75: =P75+Q75+R75+S75+T75 -> 1 | BB75: =T75 -> 1 | BC75: =+U75+V75+W75 -> 1 | BD75: =Y75 -> 1 | BE75: =+O75+X75 -> 1 | BF75: =AF75 -> 0 | BG75: =AD75+AE75 -> 0 | BH75: =AF75 -> 0 | BI75: =AG75+AH75 -> 0 | BJ75: =AM75 -> 0 | BK75: =AK75+AL75 -> 0 | BL75: =AM75 -> 0 | BM75: =AN75+AO75 -> 0
A76: 6.6 | B76: ²ÛÉ í»×»ñ | E76: =SUM(Գ.Խաչատրյան:Տ.Ստեփանյան!E76) -> 0 | F76: =SUM(Գ.Խաչատրյան:Տ.Ստեփանյան!F76) -> 0 | G76: =SUM(Գ.Խաչատրյան:Տ.Ստեփանյան!G76) -> 0 | H76: =SUM(Գ.Խաչատրյան:Տ.Ստեփանյան!H76) -> 0 | I76: =SUM(Գ.Խաչատրյան:Տ.Ստեփանյան!I76) -> 0 | J76: =SUM(Գ.Խաչատրյան:Տ.Ստեփանյան!J76) -> 2 | K76: =SUM(Գ.Խաչատրյան:Տ.Ստեփանյան!K76) -> 1 | L76: =SUM(Գ.Խաչատրյան:Տ.Ստեփանյան!L76) -> 1 | ... AS76: =SUM(Գ.Խաչատրյան:Տ.Ստեփանյան!AS76) -> 0 | AT76: =E76 -> 0 | AU76: =F76+G76+H76+I76 -> 0 | AV76: =J76 -> 2 | AW76: =K76+L76+M76 -> 2 | AX76: =F76+G76+K76 -> 1 | AY76: =N76+Y76+Z76+AB76 -> 1 | AZ76: =O76 -> 0 | BA76: =P76+Q76+R76+S76+T76 -> 0 | BB76: =T76 -> 0 | BC76: =+U76+V76+W76 -> 0 | BD76: =Y76 -> 0 | BE76: =+O76+X76 -> 0 | BF76: =AF76 -> 0 | BG76: =AD76+AE76 -> 0 | BH76: =AF76 -> 0 | BI76: =AG76+AH76 -> 0 | BJ76: =AM76 -> 0 | BK76: =AK76+AL76 -> 0 | BL76: =AM76 -> 0 | BM76: =AN76+AO76 -> 0
A77: 7. | B77: Æñ³í³µ³Ý³Ï³Ý ³ÝÓÇ ·áñÍáõÝ»áõÃÛáõÝÇó µËáÕ Çñ³í³Ñ³ñ³µ»ñáõÃÛáõÝÝ»ñÇ í»ñ³µ»ñÛ³É ¹³ï³Ï³Ý ·áñÍ»ñ | E77: =SUM(E78:E79) -> 0 | F77: =SUM(F78:F79) -> 0 | G77: =SUM(G78:G79) -> 0 | H77: =SUM(H78:H79) -> 0 | I77: =SUM(I78:I79) -> 0 | J77: =SUM(J78:J79) -> 0 | K77: =SUM(K78:K79) -> 0 | L77: =SUM(L78:L79) -> 0 | ... BM77: =SUM(BM78:BM79) -> 0
A78: 7.1 | B78: Îáñåáñ³ïÇí í»×»ñ | E78: =SUM(Գ.Խաչատրյան:Տ.Ստեփանյան!E78) -> 0 | F78: =SUM(Գ.Խաչատրյան:Տ.Ստեփանյան!F78) -> 0 | G78: =SUM(Գ.Խաչատրյան:Տ.Ստեփանյան!G78) -> 0 | H78: =SUM(Գ.Խաչատրյան:Տ.Ստեփանյան!H78) -> 0 | I78: =SUM(Գ.Խաչատրյան:Տ.Ստեփանյան!I78) -> 0 | J78: =SUM(Գ.Խաչատրյան:Տ.Ստեփանյան!J78) -> 0 | K78: =SUM(Գ.Խաչատրյան:Տ.Ստեփանյան!K78) -> 0 | L78: =SUM(Գ.Խաչատրյան:Տ.Ստեփանյան!L78) -> 0 | ... AS78: =SUM(Գ.Խաչատրյան:Տ.Ստեփանյան!AS78) -> 0 | AT78: =E78 -> 0 | AU78: =F78+G78+H78+I78 -> 0 | AV78: =J78 -> 0 | AW78: =K78+L78+M78 -> 0 | AX78: =F78+G78+K78 -> 0 | AY78: =N78+Y78+Z78+AB78 -> 0 | AZ78: =O78 -> 0 | BA78: =P78+Q78+R78+S78+T78 -> 0 | BB78: =T78 -> 0 | BC78: =+U78+V78+W78 -> 0 | BD78: =Y78 -> 0 | BE78: =+O78+X78 -> 0 | BF78: =AF78 -> 0 | BG78: =AD78+AE78 -> 0 | BH78: =AF78 -> 0 | BI78: =AG78+AH78 -> 0 | BJ78: =AM78 -> 0 | BK78: =AK78+AL78 -> 0 | BL78: =AM78 -> 0 | BM78: =AN78+AO78 -> 0
A79: 7.2 | B79: ²ÛÉ í»×»ñ | E79: =SUM(Գ.Խաչատրյան:Տ.Ստեփանյան!E79) -> 0 | F79: =SUM(Գ.Խաչատրյան:Տ.Ստեփանյան!F79) -> 0 | G79: =SUM(Գ.Խաչատրյան:Տ.Ստեփանյան!G79) -> 0 | H79: =SUM(Գ.Խաչատրյան:Տ.Ստեփանյան!H79) -> 0 | I79: =SUM(Գ.Խաչատրյան:Տ.Ստեփանյան!I79) -> 0 | J79: =SUM(Գ.Խաչատրյան:Տ.Ստեփանյան!J79) -> 0 | K79: =SUM(Գ.Խաչատրյան:Տ.Ստեփանյան!K79) -> 0 | L79: =SUM(Գ.Խաչատրյան:Տ.Ստեփանյան!L79) -> 0 | ... AS79: =SUM(Գ.Խաչատրյան:Տ.Ստեփանյան!AS79) -> 0 | AT79: =E79 -> 0 | AU79: =F79+G79+H79+I79 -> 0 | AV79: =J79 -> 0 | AW79: =K79+L79+M79 -> 0 | AX79: =F79+G79+K79 -> 0 | AY79: =N79+Y79+Z79+AB79 -> 0 | AZ79: =O79 -> 0 | BA79: =P79+Q79+R79+S79+T79 -> 0 | BB79: =T79 -> 0 | BC79: =+U79+V79+W79 -> 0 | BD79: =Y79 -> 0 | BE79: =+O79+X79 -> 0 | BF79: =AF79 -> 0 | BG79: =AD79+AE79 -> 0 | BH79: =AF79 -> 0 | BI79: =AG79+AH79 -> 0 | BJ79: =AM79 -> 0 | BK79: =AK79+AL79 -> 0 | BL79: =AM79 -> 0 | BM79: =AN79+AO79 -> 0
A80: 8. | B80: Ð³ïáõÏ í³ñáõÛÃÇ ¹³ï³Ï³Ý ·áñÍ»ñ | E80: =SUM(E81:E101) -> 51 | F80: =SUM(F81:F101) -> 13 | G80: =SUM(G81:G101) -> 38 | H80: =SUM(H81:H101) -> 0 | I80: =SUM(I81:I101) -> 0 | J80: =SUM(J81:J101) -> 150 | K80: =SUM(K81:K101) -> 94 | L80: =SUM(L81:L101) -> 51 | ... BM80: =SUM(BM81:BM101) -> 6
A81: 8.1 | B81: ²Ýã³÷³Ñ³ëÇÝ ÉñÇí ·áñÍáõÝ³Ï ×³Ý³ã»Éáõ /¿Ù³ÝëÇå³óÇ³/ í»ñ³µ»ñÛ³É | E81: =SUM(Գ.Խաչատրյան:Տ.Ստեփանյան!E81) -> 0 | F81: =SUM(Գ.Խաչատրյան:Տ.Ստեփանյան!F81) -> 0 | G81: =SUM(Գ.Խաչատրյան:Տ.Ստեփանյան!G81) -> 0 | H81: =SUM(Գ.Խաչատրյան:Տ.Ստեփանյան!H81) -> 0 | I81: =SUM(Գ.Խաչատրյան:Տ.Ստեփանյան!I81) -> 0 | J81: =SUM(Գ.Խաչատրյան:Տ.Ստեփանյան!J81) -> 0 | K81: =SUM(Գ.Խաչատրյան:Տ.Ստեփանյան!K81) -> 0 | L81: =SUM(Գ.Խաչատրյան:Տ.Ստեփանյան!L81) -> 0 | ... AS81: =SUM(Գ.Խաչատրյան:Տ.Ստեփանյան!AS81) -> 0 | AT81: =E81 -> 0 | AU81: =F81+G81+H81+I81 -> 0 | AV81: =J81 -> 0 | AW81: =K81+L81+M81 -> 0 | AX81: =F81+G81+K81 -> 0 | AY81: =N81+Y81+Z81+AB81 -> 0 | AZ81: =O81 -> 0 | BA81: =P81+Q81+R81+S81+T81 -> 0 | BB81: =T81 -> 0 | BC81: =+U81+V81+W81 -> 0 | BD81: =Y81 -> 0 | BE81: =+O81+X81 -> 0 | BF81: =AF81 -> 0 | BG81: =AD81+AE81 -> 0 | BH81: =AF81 -> 0 | BI81: =AG81+AH81 -> 0 | BJ81: =AM81 -> 0 | BK81: =AK81+AL81 -> 0 | BL81: =AM81 -> 0 | BM81: =AN81+AO81 -> 0
A82: 8.2 | B82: ø³Õ³ù³óáõÝ ³Ý·áñÍáõÝ³Ï Ï³Ù ë³ÑÙ³Ý³÷³Ï ·áñÍáõÝ³Ï ×³Ý³ã»Éáõ í»ñ³µ»ñÛ³É | E82: =SUM(Գ.Խաչատրյան:Տ.Ստեփանյան!E82) -> 13 | F82: =SUM(Գ.Խաչատրյան:Տ.Ստեփանյան!F82) -> 6 | G82: =SUM(Գ.Խաչատրյան:Տ.Ստեփանյան!G82) -> 7 | H82: =SUM(Գ.Խաչատրյան:Տ.Ստեփանյան!H82) -> 0 | I82: =SUM(Գ.Խաչատրյան:Տ.Ստեփանյան!I82) -> 0 | J82: =SUM(Գ.Խաչատրյան:Տ.Ստեփանյան!J82) -> 20 | K82: =SUM(Գ.Խաչատրյան:Տ.Ստեփանյան!K82) -> 14 | L82: =SUM(Գ.Խաչատրյան:Տ.Ստեփանյան!L82) -> 5 | ... AS82: =SUM(Գ.Խաչատրյան:Տ.Ստեփանյան!AS82) -> 0 | AT82: =E82 -> 13 | AU82: =F82+G82+H82+I82 -> 13 | AV82: =J82 -> 20 | AW82: =K82+L82+M82 -> 20 | AX82: =F82+G82+K82 -> 27 | AY82: =N82+Y82+Z82+AB82 -> 27 | AZ82: =O82 -> 17 | BA82: =P82+Q82+R82+S82+T82 -> 17 | BB82: =T82 -> 4 | BC82: =+U82+V82+W82 -> 4 | BD82: =Y82 -> 17 | BE82: =+O82+X82 -> 17 | BF82: =AF82 -> 1 | BG82: =AD82+AE82 -> 1 | BH82: =AF82 -> 1 | BI82: =AG82+AH82 -> 1 | BJ82: =AM82 -> 1 | BK82: =AK82+AL82 -> 1 | BL82: =AM82 -> 1 | BM82: =AN82+AO82 -> 1
A83: 8.3 | B83: ø³Õ³ù³óáõÝ Ñá·»µáõÅ³Ï³Ý ÑÇí³Ý¹³Ýáó³ÛÇÝ Ñ³ñÏ³¹Çñ µáõÅÙ³Ý »ÝÃ³ñÏ»Éáõ í»ñ³µ»ñÛ³É | E83: =SUM(Գ.Խաչատրյան:Տ.Ստեփանյան!E83) -> 0 | F83: =SUM(Գ.Խաչատրյան:Տ.Ստեփանյան!F83) -> 0 | G83: =SUM(Գ.Խաչատրյան:Տ.Ստեփանյան!G83) -> 0 | H83: =SUM(Գ.Խաչատրյան:Տ.Ստեփանյան!H83) -> 0 | I83: =SUM(Գ.Խաչատրյան:Տ.Ստեփանյան!I83) -> 0 | J83: =SUM(Գ.Խաչատրյան:Տ.Ստեփանյան!J83) -> 6 | K83: =SUM(Գ.Խաչատրյան:Տ.Ստեփանյան!K83) -> 5 | L83: =SUM(Գ.Խաչատրյան:Տ.Ստեփանյան!L83) -> 1 | ... AS83: =SUM(Գ.Խաչատրյան:Տ.Ստեփանյան!AS83) -> 0 | AT83: =E83 -> 0 | AU83: =F83+G83+H83+I83 -> 0 | AV83: =J83 -> 6 | AW83: =K83+L83+M83 -> 6 | AX83: =F83+G83+K83 -> 5 | AY83: =N83+Y83+Z83+AB83 -> 5 | AZ83: =O83 -> 5 | BA83: =P83+Q83+R83+S83+T83 -> 5 | BB83: =T83 -> 3 | BC83: =+U83+V83+W83 -> 3 | BD83: =Y83 -> 5 | BE83: =+O83+X83 -> 5 | BF83: =AF83 -> 0 | BG83: =AD83+AE83 -> 0 | BH83: =AF83 -> 0 | BI83: =AG83+AH83 -> 0 | BJ83: =AM83 -> 0 | BK83: =AK83+AL83 -> 0 | BL83: =AM83 -> 0 | BM83: =AN83+AO83 -> 0
A84: 8.4 | B84: ø³Õ³ù³óáõÝ ³ÝÑ³Ûï µ³ó³Ï³ÛáÕ Ï³Ù Ù³Ñ³ó³Í ×³Ý³ã»Éáõ í»ñ³µ»ñÛ³É | E84: =SUM(Գ.Խաչատրյան:Տ.Ստեփանյան!E84) -> 3 | F84: =SUM(Գ.Խաչատրյան:Տ.Ստեփանյան!F84) -> 3 | G84: =SUM(Գ.Խաչատրյան:Տ.Ստեփանյան!G84) -> 0 | H84: =SUM(Գ.Խաչատրյան:Տ.Ստեփանյան!H84) -> 0 | I84: =SUM(Գ.Խաչատրյան:Տ.Ստեփանյան!I84) -> 0 | J84: =SUM(Գ.Խաչատրյան:Տ.Ստեփանյան!J84) -> 11 | K84: =SUM(Գ.Խաչատրյան:Տ.Ստեփանյան!K84) -> 6 | L84: =SUM(Գ.Խաչատրյան:Տ.Ստեփանյան!L84) -> 5 | ... AS84: =SUM(Գ.Խաչատրյան:Տ.Ստեփանյան!AS84) -> 0 | AT84: =E84 -> 3 | AU84: =F84+G84+H84+I84 -> 3 | AV84: =J84 -> 11 | AW84: =K84+L84+M84 -> 11 | AX84: =F84+G84+K84 -> 9 | AY84: =N84+Y84+Z84+AB84 -> 9 | AZ84: =O84 -> 8 | BA84: =P84+Q84+R84+S84+T84 -> 8 | BB84: =T84 -> 2 | BC84: =+U84+V84+W84 -> 2 | BD84: =Y84 -> 8 | BE84: =+O84+X84 -> 8 | BF84: =AF84 -> 0 | BG84: =AD84+AE84 -> 0 | BH84: =AF84 -> 0 | BI84: =AG84+AH84 -> 0 | BJ84: =AM84 -> 0 | BK84: =AK84+AL84 -> 0 | BL84: =AM84 -> 0 | BM84: =AN84+AO84 -> 0
A85: 8.5 | B85: ø³Õ³ù³óÇ³Ï³Ý Ï³óáõÃÛ³Ý ³Ïï»ñÇ ·ñ³éáõÙÝ»ñÇ ³Ý×ßïáõÃÛáõÝÝ»ñÁ å³ñ½»Éáõ í»ñ³µ»ñÛ³É | E85: =SUM(Գ.Խաչատրյան:Տ.Ստեփանյան!E85) -> 0 | F85: =SUM(Գ.Խաչատրյան:Տ.Ստեփանյան!F85) -> 0 | G85: =SUM(Գ.Խաչատրյան:Տ.Ստեփանյան!G85) -> 0 | H85: =SUM(Գ.Խաչատրյան:Տ.Ստեփանյան!H85) -> 0 | I85: =SUM(Գ.Խաչատրյան:Տ.Ստեփանյան!I85) -> 0 | J85: =SUM(Գ.Խաչատրյան:Տ.Ստեփանյան!J85) -> 0 | K85: =SUM(Գ.Խաչատրյան:Տ.Ստեփանյան!K85) -> 0 | L85: =SUM(Գ.Խաչատրյան:Տ.Ստեփանյան!L85) -> 0 | ... AS85: =SUM(Գ.Խաչատրյան:Տ.Ստեփանյան!AS85) -> 0 | AT85: =E85 -> 0 | AU85: =F85+G85+H85+I85 -> 0 | AV85: =J85 -> 0 | AW85: =K85+L85+M85 -> 0 | AX85: =F85+G85+K85 -> 0 | AY85: =N85+Y85+Z85+AB85 -> 0 | AZ85: =O85 -> 0 | BA85: =P85+Q85+R85+S85+T85 -> 0 | BB85: =T85 -> 0 | BC85: =+U85+V85+W85 -> 0 | BD85: =Y85 -> 0 | BE85: =+O85+X85 -> 0 | BF85: =AF85 -> 0 | BG85: =AD85+AE85 -> 0 | BH85: =AF85 -> 0 | BI85: =AG85+AH85 -> 0 | BJ85: =AM85 -> 0 | BK85: =AK85+AL85 -> 0 | BL85: =AM85 -> 0 | BM85: =AN85+AO85 -> 0
A86: 8.6 | B86: ¶áõÛùÁ ïÇñ³½áõñÏ ×³Ý³ã»Éáõ í»ñ³µ»ñÛ³É | E86: =SUM(Գ.Խաչատրյան:Տ.Ստեփանյան!E86) -> 1 | F86: =SUM(Գ.Խաչատրյան:Տ.Ստեփանյան!F86) -> 0 | G86: =SUM(Գ.Խաչատրյան:Տ.Ստեփանյան!G86) -> 1 | H86: =SUM(Գ.Խաչատրյան:Տ.Ստեփանյան!H86) -> 0 | I86: =SUM(Գ.Խաչատրյան:Տ.Ստեփանյան!I86) -> 0 | J86: =SUM(Գ.Խաչատրյան:Տ.Ստեփանյան!J86) -> 4 | K86: =SUM(Գ.Խաչատրյան:Տ.Ստեփանյան!K86) -> 4 | L86: =SUM(Գ.Խաչատրյան:Տ.Ստեփանյան!L86) -> 0 | ... AS86: =SUM(Գ.Խաչատրյան:Տ.Ստեփանյան!AS86) -> 0 | AT86: =E86 -> 1 | AU86: =F86+G86+H86+I86 -> 1 | AV86: =J86 -> 4 | AW86: =K86+L86+M86 -> 4 | AX86: =F86+G86+K86 -> 5 | AY86: =N86+Y86+Z86+AB86 -> 5 | AZ86: =O86 -> 2 | BA86: =P86+Q86+R86+S86+T86 -> 2 | BB86: =T86 -> 0 | BC86: =+U86+V86+W86 -> 0 | BD86: =Y86 -> 2 | BE86: =+O86+X86 -> 2 | BF86: =AF86 -> 1 | BG86: =AD86+AE86 -> 1 | BH86: =AF86 -> 1 | BI86: =AG86+AH86 -> 1 | BJ86: =AM86 -> 1 | BK86: =AK86+AL86 -> 1 | BL86: =AM86 -> 1 | BM86: =AN86+AO86 -> 1
A87: 8.6.1 | B87: ²Û¹ ÃíáõÙª ³Ýß³ñÅ ·áõÛùÁ | E87: =SUM(Գ.Խաչատրյան:Տ.Ստեփանյան!E87) -> 0 | F87: =SUM(Գ.Խաչատրյան:Տ.Ստեփանյան!F87) -> 0 | G87: =SUM(Գ.Խաչատրյան:Տ.Ստեփանյան!G87) -> 0 | H87: =SUM(Գ.Խաչատրյան:Տ.Ստեփանյան!H87) -> 0 | I87: =SUM(Գ.Խաչատրյան:Տ.Ստեփանյան!I87) -> 0 | J87: =SUM(Գ.Խաչատրյան:Տ.Ստեփանյան!J87) -> 2 | K87: =SUM(Գ.Խաչատրյան:Տ.Ստեփանյան!K87) -> 2 | L87: =SUM(Գ.Խաչատրյան:Տ.Ստեփանյան!L87) -> 0 | ... AS87: =SUM(Գ.Խաչատրյան:Տ.Ստեփանյան!AS87) -> 0 | AT87: =E87 -> 0 | AU87: =F87+G87+H87+I87 -> 0 | AV87: =J87 -> 2 | AW87: =K87+L87+M87 -> 2 | AX87: =F87+G87+K87 -> 2 | AY87: =N87+Y87+Z87+AB87 -> 2 | AZ87: =O87 -> 1 | BA87: =P87+Q87+R87+S87+T87 -> 1 | BB87: =T87 -> 0 | BC87: =+U87+V87+W87 -> 0 | BD87: =Y87 -> 1 | BE87: =+O87+X87 -> 1 | BF87: =AF87 -> 0 | BG87: =AD87+AE87 -> 0 | BH87: =AF87 -> 0 | BI87: =AG87+AH87 -> 0 | BJ87: =AM87 -> 0 | BK87: =AK87+AL87 -> 0 | BL87: =AM87 -> 0 | BM87: =AN87+AO87 -> 0
A88: 8.6.2 | B88: ²Û¹ ÃíáõÙª ß³ñÅ³Ï³Ý ·áõÛùÁ | E88: =SUM(Գ.Խաչատրյան:Տ.Ստեփանյան!E88) -> 0 | F88: =SUM(Գ.Խաչատրյան:Տ.Ստեփանյան!F88) -> 0 | G88: =SUM(Գ.Խաչատրյան:Տ.Ստեփանյան!G88) -> 0 | H88: =SUM(Գ.Խաչատրյան:Տ.Ստեփանյան!H88) -> 0 | I88: =SUM(Գ.Խաչատրյան:Տ.Ստեփանյան!I88) -> 0 | J88: =SUM(Գ.Խաչատրյան:Տ.Ստեփանյան!J88) -> 0 | K88: =SUM(Գ.Խաչատրյան:Տ.Ստեփանյան!K88) -> 0 | L88: =SUM(Գ.Խաչատրյան:Տ.Ստեփանյան!L88) -> 0 | ... AS88: =SUM(Գ.Խաչատրյան:Տ.Ստեփանյան!AS88) -> 0 | AT88: =E88 -> 0 | AU88: =F88+G88+H88+I88 -> 0 | AV88: =J88 -> 0 | AW88: =K88+L88+M88 -> 0 | AX88: =F88+G88+K88 -> 0 | AY88: =N88+Y88+Z88+AB88 -> 0 | AZ88: =O88 -> 0 | BA88: =P88+Q88+R88+S88+T88 -> 0 | BB88: =T88 -> 0 | BC88: =+U88+V88+W88 -> 0 | BD88: =Y88 -> 0 | BE88: =+O88+X88 -> 0 | BF88: =AF88 -> 0 | BG88: =AD88+AE88 -> 0 | BH88: =AF88 -> 0 | BI88: =AG88+AH88 -> 0 | BJ88: =AM88 -> 0 | BK88: =AK88+AL88 -> 0 | BL88: =AM88 -> 0 | BM88: =AN88+AO88 -> 0
A89: 8.7 | B89: Æñ³í³µ³Ý³Ï³Ý Ýß³Ý³ÏáõÃÛáõÝ áõÝ»óáÕ ÷³ëï»ñÇ Ñ³ëï³ïÙ³Ý í»ñ³µ»ñÛ³É | E89: =SUM(Գ.Խաչատրյան:Տ.Ստեփանյան!E89) -> 1 | F89: =SUM(Գ.Խաչատրյան:Տ.Ստեփանյան!F89) -> 0 | G89: =SUM(Գ.Խաչատրյան:Տ.Ստեփանյան!G89) -> 1 | H89: =SUM(Գ.Խաչատրյան:Տ.Ստեփանյան!H89) -> 0 | I89: =SUM(Գ.Խաչատրյան:Տ.Ստեփանյան!I89) -> 0 | J89: =SUM(Գ.Խաչատրյան:Տ.Ստեփանյան!J89) -> 4 | K89: =SUM(Գ.Խաչատրյան:Տ.Ստեփանյան!K89) -> 2 | L89: =SUM(Գ.Խաչատրյան:Տ.Ստեփանյան!L89) -> 2 | ... AS89: =SUM(Գ.Խաչատրյան:Տ.Ստեփանյան!AS89) -> 0 | AT89: =E89 -> 1 | AU89: =F89+G89+H89+I89 -> 1 | AV89: =J89 -> 4 | AW89: =K89+L89+M89 -> 4 | AX89: =F89+G89+K89 -> 3 | AY89: =N89+Y89+Z89+AB89 -> 3 | AZ89: =O89 -> 2 | BA89: =P89+Q89+R89+S89+T89 -> 2 | BB89: =T89 -> 0 | BC89: =+U89+V89+W89 -> 0 | BD89: =Y89 -> 2 | BE89: =+O89+X89 -> 2 | BF89: =AF89 -> 0 | BG89: =AD89+AE89 -> 0 | BH89: =AF89 -> 0 | BI89: =AG89+AH89 -> 0 | BJ89: =AM89 -> 0 | BK89: =AK89+AL89 -> 0 | BL89: =AM89 -> 0 | BM89: =AN89+AO89 -> 0
A90: 8.7.1 | B90: ²ÝÓ³Ýó ³½·³Ïó³Ï³Ý Ï³åÁ Ñ³ëï³ï»Éáõ í»ñ³µ»ñÛ³É | E90: =SUM(Գ.Խաչատրյան:Տ.Ստեփանյան!E90) -> 6 | F90: =SUM(Գ.Խաչատրյան:Տ.Ստեփանյան!F90) -> 0 | G90: =SUM(Գ.Խաչատրյան:Տ.Ստեփանյան!G90) -> 6 | H90: =SUM(Գ.Խաչատրյան:Տ.Ստեփանյան!H90) -> 0 | I90: =SUM(Գ.Խաչատրյան:Տ.Ստեփանյան!I90) -> 0 | J90: =SUM(Գ.Խաչատրյան:Տ.Ստեփանյան!J90) -> 36 | K90: =SUM(Գ.Խաչատրյան:Տ.Ստեփանյան!K90) -> 23 | L90: =SUM(Գ.Խաչատրյան:Տ.Ստեփանյան!L90) -> 12 | ... AS90: =SUM(Գ.Խաչատրյան:Տ.Ստեփանյան!AS90) -> 0 | AT90: =E90 -> 6 | AU90: =F90+G90+H90+I90 -> 6 | AV90: =J90 -> 36 | AW90: =K90+L90+M90 -> 36 | AX90: =F90+G90+K90 -> 29 | AY90: =N90+Y90+Z90+AB90 -> 29 | AZ90: =O90 -> 23 | BA90: =P90+Q90+R90+S90+T90 -> 23 | BB90: =T90 -> 2 | BC90: =+U90+V90+W90 -> 2 | BD90: =Y90 -> 23 | BE90: =+O90+X90 -> 23 | BF90: =AF90 -> 3 | BG90: =AD90+AE90 -> 3 | BH90: =AF90 -> 3 | BI90: =AG90+AH90 -> 3 | BJ90: =AM90 -> 2 | BK90: =AK90+AL90 -> 2 | BL90: =AM90 -> 2 | BM90: =AN90+AO90 -> 2
A91: 8.7.2 | B91: ²ÝÓÇª áõñÇßÇ ËÝ³ÙùÇ ï³Ï ·ïÝí»Éáõ í»ñ³µ»ñÛ³É | E91: =SUM(Գ.Խաչատրյան:Տ.Ստեփանյան!E91) -> 0 | F91: =SUM(Գ.Խաչատրյան:Տ.Ստեփանյան!F91) -> 0 | G91: =SUM(Գ.Խաչատրյան:Տ.Ստեփանյան!G91) -> 0 | H91: =SUM(Գ.Խաչատրյան:Տ.Ստեփանյան!H91) -> 0 | I91: =SUM(Գ.Խաչատրյան:Տ.Ստեփանյան!I91) -> 0 | J91: =SUM(Գ.Խաչատրյան:Տ.Ստեփանյան!J91) -> 0 | K91: =SUM(Գ.Խաչատրյան:Տ.Ստեփանյան!K91) -> 0 | L91: =SUM(Գ.Խաչատրյան:Տ.Ստեփանյան!L91) -> 0 | ... AS91: =SUM(Գ.Խաչատրյան:Տ.Ստեփանյան!AS91) -> 0 | AT91: =E91 -> 0 | AU91: =F91+G91+H91+I91 -> 0 | AV91: =J91 -> 0 | AW91: =K91+L91+M91 -> 0 | AX91: =F91+G91+K91 -> 0 | AY91: =N91+Y91+Z91+AB91 -> 0 | AZ91: =O91 -> 0 | BA91: =P91+Q91+R91+S91+T91 -> 0 | BB91: =T91 -> 0 | BC91: =+U91+V91+W91 -> 0 | BD91: =Y91 -> 0 | BE91: =+O91+X91 -> 0 | BF91: =AF91 -> 0 | BG91: =AD91+AE91 -> 0 | BH91: =AF91 -> 0 | BI91: =AG91+AH91 -> 0 | BJ91: =AM91 -> 0 | BK91: =AK91+AL91 -> 0 | BL91: =AM91 -> 0 | BM91: =AN91+AO91 -> 0
A92: 8.7.3 | B92: ÌÝÝ¹Û³Ý, áñ¹»·ñÙ³Ý, ³ÙáõëÝáõÃÛ³Ý, ³å³Ñ³ñ½³ÝÇ ¨ Ù³Ñí³Ý ·ñ³ÝóÙ³Ý í»ñ³µ»ñÛ³É | E92: =SUM(Գ.Խաչատրյան:Տ.Ստեփանյան!E92) -> 1 | F92: =SUM(Գ.Խաչատրյան:Տ.Ստեփանյան!F92) -> 0 | G92: =SUM(Գ.Խաչատրյան:Տ.Ստեփանյան!G92) -> 1 | H92: =SUM(Գ.Խաչատրյան:Տ.Ստեփանյան!H92) -> 0 | I92: =SUM(Գ.Խաչատրյան:Տ.Ստեփանյան!I92) -> 0 | J92: =SUM(Գ.Խաչատրյան:Տ.Ստեփանյան!J92) -> 8 | K92: =SUM(Գ.Խաչատրյան:Տ.Ստեփանյան!K92) -> 4 | L92: =SUM(Գ.Խաչատրյան:Տ.Ստեփանյան!L92) -> 3 | ... AS92: =SUM(Գ.Խաչատրյան:Տ.Ստեփանյան!AS92) -> 0 | AT92: =E92 -> 1 | AU92: =F92+G92+H92+I92 -> 1 | AV92: =J92 -> 8 | AW92: =K92+L92+M92 -> 8 | AX92: =F92+G92+K92 -> 5 | AY92: =N92+Y92+Z92+AB92 -> 5 | AZ92: =O92 -> 4 | BA92: =P92+Q92+R92+S92+T92 -> 4 | BB92: =T92 -> 0 | BC92: =+U92+V92+W92 -> 0 | BD92: =Y92 -> 4 | BE92: =+O92+X92 -> 4 | BF92: =AF92 -> 0 | BG92: =AD92+AE92 -> 0 | BH92: =AF92 -> 0 | BI92: =AG92+AH92 -> 0 | BJ92: =AM92 -> 0 | BK92: =AK92+AL92 -> 0 | BL92: =AM92 -> 0 | BM92: =AN92+AO92 -> 0
... A101: 8.10 | B101: ²ÛÉ í»×»ñ | E101: =SUM(Գ.Խաչատրյան:Տ.Ստեփանյան!E101) -> 1 | F101: =SUM(Գ.Խաչատրյան:Տ.Ստեփանյան!F101) -> 0 | G101: =SUM(Գ.Խաչատրյան:Տ.Ստեփանյան!G101) -> 1 | H101: =SUM(Գ.Խաչատրյան:Տ.Ստեփանյան!H101) -> 0 | I101: =SUM(Գ.Խաչատրյան:Տ.Ստեփանյան!I101) -> 0 | J101: =SUM(Գ.Խաչատրյան:Տ.Ստեփանյան!J101) -> 1 | K101: =SUM(Գ.Խաչատրյան:Տ.Ստեփանյան!K101) -> 1 | L101: =SUM(Գ.Խաչատրյան:Տ.Ստեփանյան!L101) -> 0 | ... AS101: =SUM(Գ.Խաչատրյան:Տ.Ստեփանյան!AS101) -> 0 | AT101: =E101 -> 1 | AU101: =F101+G101+H101+I101 -> 1 | AV101: =J101 -> 1 | AW101: =K101+L101+M101 -> 1 | AX101: =F101+G101+K101 -> 2 | AY101: =N101+Y101+Z101+AB101 -> 2 | AZ101: =O101 -> 2 | BA101: =P101+Q101+R101+S101+T101 -> 2 | BB101: =T101 -> 0 | BC101: =+U101+V101+W101 -> 0 | BD101: =Y101 -> 2 | BE101: =+O101+X101 -> 2 | BF101: =AF101 -> 0 | BG101: =AD101+AE101 -> 0 | BH101: =AF101 -> 0 | BI101: =AG101+AH101 -> 0 | BJ101: =AM101 -> 0 | BK101: =AK101+AL101 -> 0 | BL101: =AM101 -> 0 | BM101: =AN101+AO101 -> 0
A102: 9. | B102: Ð³ïáõÏ Ñ³Ûó³ÛÇÝ í³ñáõÛÃÇ ¹³ï³Ï³Ý ·áñÍ»ñ | E102: =SUM(E103:E105) -> 0 | F102: =SUM(F103:F105) -> 0 | G102: =SUM(G103:G105) -> 0 | H102: =SUM(H103:H105) -> 0 | I102: =SUM(I103:I105) -> 0 | J102: =SUM(J103:J105) -> 0 | K102: =SUM(K103:K105) -> 0 | L102: =SUM(L103:L105) -> 0 | ... BM102: =SUM(BM103:BM105) -> 0
A103: 9.1 | B103: ø³Õ³ù³óáõ ÏÛ³ÝùÇÝ Ï³Ù ³éáÕçáõÃÛ³ÝÝ ëå³éÝ³óáÕ íï³Ý·Ç í»ñ³µ»ñÛ³É | E103: =SUM(Գ.Խաչատրյան:Տ.Ստեփանյան!E103) -> 0 | F103: =SUM(Գ.Խաչատրյան:Տ.Ստեփանյան!F103) -> 0 | G103: =SUM(Գ.Խաչատրյան:Տ.Ստեփանյան!G103) -> 0 | H103: =SUM(Գ.Խաչատրյան:Տ.Ստեփանյան!H103) -> 0 | I103: =SUM(Գ.Խաչատրյան:Տ.Ստեփանյան!I103) -> 0 | J103: =SUM(Գ.Խաչատրյան:Տ.Ստեփանյան!J103) -> 0 | K103: =SUM(Գ.Խաչատրյան:Տ.Ստեփանյան!K103) -> 0 | L103: =SUM(Գ.Խաչատրյան:Տ.Ստեփանյան!L103) -> 0 | ... AS103: =SUM(Գ.Խաչատրյան:Տ.Ստեփանյան!AS103) -> 0 | AT103: =E103 -> 0 | AU103: =F103+G103+H103+I103 -> 0 | AV103: =J103 -> 0 | AW103: =K103+L103+M103 -> 0 | AX103: =F103+G103+K103 -> 0 | AY103: =N103+Y103+Z103+AB103 -> 0 | AZ103: =O103 -> 0 | BA103: =P103+Q103+R103+S103+T103 -> 0 | BB103: =T103 -> 0 | BC103: =+U103+V103+W103 -> 0 | BD103: =Y103 -> 0 | BE103: =+O103+X103 -> 0 | BF103: =AF103 -> 0 | BG103: =AD103+AE103 -> 0 | BH103: =AF103 -> 0 | BI103: =AG103+AH103 -> 0 | BJ103: =AM103 -> 0 | BK103: =AK103+AL103 -> 0 | BL103: =AM103 -> 0 | BM103: =AN103+AO103 -> 0
A104: 9.2 | B104: ÐÐ Î»ÝïñáÝ³Ï³Ý µ³ÝÏÇ ¨ ³Ýí×³ñáõÝ³Ï µ³ÝÏÇ Ï³Ù í³ñÏ³ÛÇÝ Ï³½Ù³Ï»ñåáõÃÛ³Ý Å³Ù³Ý³Ï³íáñ ³¹ÙÇÝÇëïñ³óÇ³ÛÇ áñáßáõÙÝ»ñÇ µáÕáù³ñÏÙ³Ý í»ñ³µ»ñÛ³É | E104: =SUM(Գ.Խաչատրյան:Տ.Ստեփանյան!E104) -> 0 | F104: =SUM(Գ.Խաչատրյան:Տ.Ստեփանյան!F104) -> 0 | G104: =SUM(Գ.Խաչատրյան:Տ.Ստեփանյան!G104) -> 0 | H104: =SUM(Գ.Խաչատրյան:Տ.Ստեփանյան!H104) -> 0 | I104: =SUM(Գ.Խաչատրյան:Տ.Ստեփանյան!I104) -> 0 | J104: =SUM(Գ.Խաչատրյան:Տ.Ստեփանյան!J104) -> 0 | K104: =SUM(Գ.Խաչատրյան:Տ.Ստեփանյան!K104) -> 0 | L104: =SUM(Գ.Խաչատրյան:Տ.Ստեփանյան!L104) -> 0 | ... AS104: =SUM(Գ.Խաչատրյան:Տ.Ստեփանյան!AS104) -> 0 | AT104: =E104 -> 0 | AU104: =F104+G104+H104+I104 -> 0 | AV104: =J104 -> 0 | AW104: =K104+L104+M104 -> 0 | AX104: =F104+G104+K104 -> 0 | AY104: =N104+Y104+Z104+AB104 -> 0 | AZ104: =O104 -> 0 | BA104: =P104+Q104+R104+S104+T104 -> 0 | BB104: =T104 -> 0 | BC104: =+U104+V104+W104 -> 0 | BD104: =Y104 -> 0 | BE104: =+O104+X104 -> 0 | BF104: =AF104 -> 0 | BG104: =AD104+AE104 -> 0 | BH104: =AF104 -> 0 | BI104: =AG104+AH104 -> 0 | BJ104: =AM104 -> 0 | BK104: =AK104+AL104 -> 0 | BL104: =AM104 -> 0 | BM104: =AN104+AO104 -> 0
A105: 9.3 | B105: ²ÛÉ í»×»ñ | E105: =SUM(Գ.Խաչատրյան:Տ.Ստեփանյան!E105) -> 0 | F105: =SUM(Գ.Խաչատրյան:Տ.Ստեփանյան!F105) -> 0 | G105: =SUM(Գ.Խաչատրյան:Տ.Ստեփանյան!G105) -> 0 | H105: =SUM(Գ.Խաչատրյան:Տ.Ստեփանյան!H105) -> 0 | I105: =SUM(Գ.Խաչատրյան:Տ.Ստեփանյան!I105) -> 0 | J105: =SUM(Գ.Խաչատրյան:Տ.Ստեփանյան!J105) -> 0 | K105: =SUM(Գ.Խաչատրյան:Տ.Ստեփանյան!K105) -> 0 | L105: =SUM(Գ.Խաչատրյան:Տ.Ստեփանյան!L105) -> 0 | ... AS105: =SUM(Գ.Խաչատրյան:Տ.Ստեփանյան!AS105) -> 0 | AT105: =E105 -> 0 | AU105: =F105+G105+H105+I105 -> 0 | AV105: =J105 -> 0 | AW105: =K105+L105+M105 -> 0 | AX105: =F105+G105+K105 -> 0 | AY105: =N105+Y105+Z105+AB105 -> 0 | AZ105: =O105 -> 0 | BA105: =P105+Q105+R105+S105+T105 -> 0 | BB105: =T105 -> 0 | BC105: =+U105+V105+W105 -> 0 | BD105: =Y105 -> 0 | BE105: =+O105+X105 -> 0 | BF105: =AF105 -> 0 | BG105: =AD105+AE105 -> 0 | BH105: =AF105 -> 0 | BI105: =AG105+AH105 -> 0 | BJ105: =AM105 -> 0 | BK105: =AK105+AL105 -> 0 | BL105: =AM105 -> 0 | BM105: =AN105+AO105 -> 0
A106: 11. | B106: ä³ñï³íáñ³Ï³Ý Çñ³í³Ñ³ñ³µ»ñáõÃÛáõÝÝ»ñÇ í»ñ³µ»ñÛ³É ¹³ï³Ï³Ý ·áñÍ»ñ | E106: =SUM(E107:E114) -> 1243 | F106: =SUM(F107:F114) -> 169 | G106: =SUM(G107:G114) -> 1074 | H106: =SUM(H107:H114) -> 0 | I106: =SUM(I107:I114) -> 0 | J106: =SUM(J107:J114) -> 3997 | K106: =SUM(K107:K114) -> 3699 | L106: =SUM(L107:L114) -> 293 | ... BM106: =SUM(BM107:BM114) -> 20
A107: 11.1 | B107: ¶áõÙ³ñÇ å³Ñ³ÝçÇ Ù³ëÇÝ | E107: =SUM(Գ.Խաչատրյան:Տ.Ստեփանյան!E107) -> 1221 | F107: =SUM(Գ.Խաչատրյան:Տ.Ստեփանյան!F107) -> 164 | G107: =SUM(Գ.Խաչատրյան:Տ.Ստեփանյան!G107) -> 1057 | H107: =SUM(Գ.Խաչատրյան:Տ.Ստեփանյան!H107) -> 0 | I107: =SUM(Գ.Խաչատրյան:Տ.Ստեփանյան!I107) -> 0 | J107: =SUM(Գ.Խաչատրյան:Տ.Ստեփանյան!J107) -> 3952 | K107: =SUM(Գ.Խաչատրյան:Տ.Ստեփանյան!K107) -> 3669 | L107: =SUM(Գ.Խաչատրյան:Տ.Ստեփանյան!L107) -> 279 | ... AS107: =SUM(Գ.Խաչատրյան:Տ.Ստեփանյան!AS107) -> 0 | AT107: =E107 -> 1221 | AU107: =F107+G107+H107+I107 -> 1221 | AV107: =J107 -> 3952 | AW107: =K107+L107+M107 -> 3952 | AX107: =F107+G107+K107 -> 4890 | AY107: =N107+Y107+Z107+AB107 -> 4890 | AZ107: =O107 -> 3793 | BA107: =P107+Q107+R107+S107+T107 -> 3793 | BB107: =T107 -> 267 | BC107: =+U107+V107+W107 -> 267 | BD107: =Y107 -> 3793 | BE107: =+O107+X107 -> 3793 | BF107: =AF107 -> 91 | BG107: =AD107+AE107 -> 91 | BH107: =AF107 -> 91 | BI107: =AG107+AH107 -> 91 | BJ107: =AM107 -> 16 | BK107: =AK107+AL107 -> 16 | BL107: =AM107 -> 16 | BM107: =AN107+AO107 -> 16
A108: 11.2 | B108: ä³ñï³íáñáõÃÛáõÝÁ µÝ»Õ»Ýáí Ï³ï³ñ»Éáõ å³Ñ³ÝçÇ Ù³ëÇÝ | E108: =SUM(Գ.Խաչատրյան:Տ.Ստեփանյան!E108) -> 0 | F108: =SUM(Գ.Խաչատրյան:Տ.Ստեփանյան!F108) -> 0 | G108: =SUM(Գ.Խաչատրյան:Տ.Ստեփանյան!G108) -> 0 | H108: =SUM(Գ.Խաչատրյան:Տ.Ստեփանյան!H108) -> 0 | I108: =SUM(Գ.Խաչատրյան:Տ.Ստեփանյան!I108) -> 0 | J108: =SUM(Գ.Խաչատրյան:Տ.Ստեփանյան!J108) -> 0 | K108: =SUM(Գ.Խաչատրյան:Տ.Ստեփանյան!K108) -> 0 | L108: =SUM(Գ.Խաչատրյան:Տ.Ստեփանյան!L108) -> 0 | ... AS108: =SUM(Գ.Խաչատրյան:Տ.Ստեփանյան!AS108) -> 0 | AT108: =E108 -> 0 | AU108: =F108+G108+H108+I108 -> 0 | AV108: =J108 -> 0 | AW108: =K108+L108+M108 -> 0 | AX108: =F108+G108+K108 -> 0 | AY108: =N108+Y108+Z108+AB108 -> 0 | AZ108: =O108 -> 0 | BA108: =P108+Q108+R108+S108+T108 -> 0 | BB108: =T108 -> 0 | BC108: =+U108+V108+W108 -> 0 | BD108: =Y108 -> 0 | BE108: =+O108+X108 -> 0 | BF108: =AF108 -> 0 | BG108: =AD108+AE108 -> 0 | BH108: =AF108 -> 0 | BI108: =AG108+AH108 -> 0 | BJ108: =AM108 -> 0 | BK108: =AK108+AL108 -> 0 | BL108: =AM108 -> 0 | BM108: =AN108+AO108 -> 0
A109: 11.3 | B109: ìÝ³ëÁ ¨ µ³ó ÃáÕÝí³Í û·áõïÁ Ñ³ïáõó»Éáõ å³Ñ³ÝçÇ Ù³ëÇÝ | E109: =SUM(Գ.Խաչատրյան:Տ.Ստեփանյան!E109) -> 19 | F109: =SUM(Գ.Խաչատրյան:Տ.Ստեփանյան!F109) -> 5 | G109: =SUM(Գ.Խաչատրյան:Տ.Ստեփանյան!G109) -> 14 | H109: =SUM(Գ.Խաչատրյան:Տ.Ստեփանյան!H109) -> 0 | I109: =SUM(Գ.Խաչատրյան:Տ.Ստեփանյան!I109) -> 0 | J109: =SUM(Գ.Խաչատրյան:Տ.Ստեփանյան!J109) -> 36 | K109: =SUM(Գ.Խաչատրյան:Տ.Ստեփանյան!K109) -> 23 | L109: =SUM(Գ.Խաչատրյան:Տ.Ստեփանյան!L109) -> 12 | ... AS109: =SUM(Գ.Խաչատրյան:Տ.Ստեփանյան!AS109) -> 0 | AT109: =E109 -> 19 | AU109: =F109+G109+H109+I109 -> 19 | AV109: =J109 -> 36 | AW109: =K109+L109+M109 -> 36 | AX109: =F109+G109+K109 -> 42 | AY109: =N109+Y109+Z109+AB109 -> 42 | AZ109: =O109 -> 20 | BA109: =P109+Q109+R109+S109+T109 -> 20 | BB109: =T109 -> 6 | BC109: =+U109+V109+W109 -> 6 | BD109: =Y109 -> 20 | BE109: =+O109+X109 -> 20 | BF109: =AF109 -> 7 | BG109: =AD109+AE109 -> 7 | BH109: =AF109 -> 7 | BI109: =AG109+AH109 -> 7 | BJ109: =AM109 -> 3 | BK109: =AK109+AL109 -> 3 | BL109: =AM109 -> 3 | BM109: =AN109+AO109 -> 3
...

Sheet Գ.Խաչատրյան
A1: 2015Ã. | G1: Ð²ÞìºîìàôÂÚàôÜ | AM1: Ð³í»Éí³Í Ð³Û³ëï³ÝÇ Ð³Ýñ³å»ïáõÃÛ³Ý ¸³ï³ñ³ÝÝ»ñÇ Ý³Ë³·³ÑÝ»ñÇ ËáñÑñ¹Ç 01.02.2016Ã. ÃÇí 11È áñáßÙ³Ý
A2: ºðºì²ÜÆ ¾ðº´àôÜÆ ºì Üàô´²ð²ÞºÜ ì²ðâ²Î²Ü Þðæ²ÜÜºðÆ ÀÜ¸Ð²Üàôð Æð²ì²êàôÂÚ²Ü ²è²æÆÜ ²îÚ²ÜÆ ¸²î²ð²ÜÆ ¸²î²ìàð | Z2: ¶. Ê²â²îðÚ²ÜÆ | AH2: ¶àðÌàôÜºàôÂÚ²Ü ìºð²´ºðÚ²È
A3: ø²Ô²ø²òÆ²Î²Ü ¶àðÌºðàì
A4: ºñ¨³ÝÇ ¾ñ»µáõÝÇ ¨ Üáõµ³ñ³ß»Ý í³ñã³Ï³Ý ßñç³ÝÝ»ñÇ ÁÝ¹Ñ³Ýáõñ Çñ³í³ëáõÃÛ³Ý ³é³çÇÝ ³ïÛ³ÝÇ ¹³ï³ñ³ÝÇ ù³Õ³ù³óÇ³Ï³Ý Ù³ëÝ³·Çï³óáõÙ áõÝ»óáÕ ¹³ï³íáñÝ»ñÇ Ñ³ëïÇùÝ»ñÇ ù³Ý³ÏÁ` 4
A5: êïáõ·Çã Ñ³í³ë³ñáõÙÝ»ñª 1=2+3+4+5, 6=7+8+9, 2+3+7=10+21+22+24, 11=12+13+14+15+16, 16=17+18+19, 21=11+20, 28=26+27, 28=29+30, 35=33+34, 35=36+37 | E5: Ð³ßí»ïáõ Å³Ù³Ý³Ï³Ñ³ïí³ÍáõÙ Ý³Ëáñ¹ Ñ³ßí»ïáõ Å³Ù³Ý³Ï³Ñ³ïí³ÍÇó ÷áË³Ýóí³Í ·áñÍ»ñÇ ÁÝ¹Ñ³Ýáõñ ÃÇíÁ | J5: Ð³ßí»ïáõ Å³Ù³Ý³Ï³Ñ³ïí³ÍáõÙëï³óí³Í ·áñÍ»ñÇ (³Û¹ ÃíáõÙ` Ñ³Ûó³¹ÇÙáõÙÝ»ñÇ, ¹ÇÙáõÙÝ»ñÇ) ÁÝ¹Ñ³Ýáõñ ÃÇíÁ | N5: öáË³Ýóí»É ¿ ³ÛÉ ¹³ï³íáñÇ (Ï³½ÙÇ ÷á÷áËáõÃÛáõÝ) | O5: Ð³ßí»ïáõ Å³Ù³Ý³Ï³Ñ³ïí³ÍáõÙ ³í³ñïí³Í ·áñÍ»ñÇ ÁÝ¹Ñ³Ýáõñ ÃÇíÁ | Z5: ¶áñÍÝ áõÕ³ñÏí»É ¿ Áëï ÁÝ¹¹³ïáõÃÛ³Ý | AA5: Ð³ßí»ïáõ Å³Ù³Ý³Ï³Ñ³ïí³ÍáõÙ Ï³ë»óí³Í í³ñáõÛÃÝ»ñáí ·áñÍ»ñÇ ÁÝ¹Ñ³Ýáõñ ÃÇíÁ | AB5: Ð³ßí»ïáõ Å³Ù³Ý³Ï³Ñ³ïí³ÍáõÙ ³Ý³í³ñï ·áñÍ»ñÇ ÁÝ¹Ñ³Ýáõñ ÃÇíÁ | AC5: ²Û¹ ÃíáõÙª Ï³ë»óí³Í | AD5: ´áÕáù³ñÏí³Í ¹³ï³Ï³Ý ³Ïï»ñÁ | AI5: ²í³ñïí³Í ¹³ï³Ï³Ý ·áñÍ»ñÇ µáÕáù³ñÏÙ³Ý ïáÏáëÁ (Ñ³ßí»ïáõ Å³Ù³Ý³Ï³ßñç³ÝáõÙ) | AJ5: ²Ý³í³ñï µáÕáùÝ»ñ | AK5: ´»Ï³Ýí³Í ¹³ï³Ï³Ý ³Ïï»ñÁ | AP5: µ»Ï³ÝáõÙÝ»ñÇ ïáÏáëÁ ³í³ñïí³Í ·áñÍ»ñÇó(Ñ³ßí»ïáõ Å³Ù³Ý³Ï³ßñç³ÝáõÙ) | AQ5: Î³ÛáõÝáõÃÛ³Ý ïáÏáëÁ ³í³ñïí³Í ·áñÍ»ñÇó(Ñ³ßí»ïáõ Å³Ù³Ý³Ï³ßñç³ÝáõÙ) | AR5: µ»Ï³ÝáõÙÝ»ñÇ ïáÏáëÁ µáÕáù³ñÏí³Í ·áñÍ»ñÇó(Ñ³ßí»ïáõ Å³Ù³Ý³Ï³ßñç³ÝáõÙ) | AS5: Ï³ÛáõÝáõÃÛ³Ý ïáÏáëÁ(Ñ³ßí»ïáõ Å³Ù³Ý³Ï³ßñç³ÝáõÙ)
E6: ÀÝ¹³Ù»ÝÁ | F6: ²Û¹ ÃíáõÙ`Ï³ë»óí³Í íÇ×³ÏáõÙ ÷áË³Ýóí³Í | G6: ²Û¹ ÃíáõÙª ÁÝ¹áõÝí»É ¿ í³ñáõÛÃ | H6: ²Û¹ ÃíáõÙª í»ñ³¹³ñÓí»É ¿ | I6: ²Û¹ ÃíáõÙª ÁÝ¹áõÝáõÙÁ Ù»ñÅí»É ¿ | J6: ÀÝ¹³Ù»ÝÁ | K6: ²Û¹ ÃíáõÙª ÁÝ¹áõÝí»É ¿ í³ñáõÛÃ | L6: ²Û¹ ÃíáõÙª í»ñ³¹³ñÓí»É ¿ | M6: ²Û¹ ÃíáõÙª ÁÝ¹áõÝáõÙÁ Ù»ñÅí»É ¿ | O6: ÀÝ¹³Ù»ÝÁ ³í³ñïí»É »Ý ·áñÍ»ñ ·áñÍÝ Áëï ¿áõÃÛ³Ý ÉáõÍáÕ ¹³ï³Ï³Ý ³Ïï»ñÇ (í×ÇéÝ»ñÇ) Ï³Û³óÙ³Ùµ | P6: ²Û¹ ÃíáõÙª Ñ³ÛóÇ µ³í³ñ³ñÙ³Ùµ | Q6: ²Û¹ ÃíáõÙª Ñ³ÛóÇ Ù³ëÝ³ÏÇ µ³í³ñ³ñÙ³Ùµ | R6: ²Û¹ ÃíáõÙª Ñ³ÛóÇ Ù»ñÅÙ³Ùµ | S6: Ø³ëáí Ï³ñ×í»É ¿É, Ù³ëáí Ù»ñÅí»É | T6: ²Û¹ ÃíáõÙª Ï³ñ×í»É »Ý | X6: Ð³ÛóÁ ÃáÕÝí»É ¿ ³é³Ýó ùÝÝáõÃÛ³Ý | Y6: ÀÝ¹³Ù»ÝÝ ³í³ñïí»É »Ý ·áñÍ»ñ | AD6: ²Û¹ ÃíáõÙ` ·áñÍÝ Áëï ¿áõÃÛ³Ý ÉáõÍáÕ ¹³ï³Ï³Ý ³Ïï»ñÁ | AE6: ²Û¹ ÃíáõÙ` ÙÇç³ÝÏÛ³É ¹³ï³Ï³Ý ³Ïï»ñÁ | AF6: ÀÝ¹³Ù»ÝÁ | AG6: Ü³Ëáñ¹ ï³ñÇÝ»ñÇÝ Ï³Û³óí³Í ³Ïï»ñÇ µáÕáù³ñÏáõÙÁ Ñ³ßí»ïáõ Å³Ù³Ý³Ï³ßñç³ÝáõÙ | AH6: Ð³ßí»ïáõ Å³Ù³Ý³Ï³ßñç³ÝáõÙ Ï³Û³óí³Í ³Ïï»ñÇ µáÕáù³ñÏáõÙÁ | AK6: ²Û¹ ÃíáõÙ` ·áñÍÝ Áëï ¿áõÃÛ³Ý ÉáõÍáÕ ¹³ï³Ï³Ý ³Ïï»ñÁ | AL6: ²Û¹ ÃíáõÙ` ÙÇç³ÝÏÛ³É ¹³ï³Ï³Ý ³Ïï»ñÁ | AM6: ÀÝ¹³Ù»ÝÁ | AN6: Ü³Ëáñ¹ ï³ñÇÝ»ñÇÝ Ï³Û³óí³Í ³Ïï»ñÇ µ»Ï³ÝáõÙÝ»ñÁ Ñ³ßí»ïáõ Å³Ù³Ý³Ï³ßñç³ÝáõÙ | AO6: Ð³ßí»ïáõ Å³Ù³Ý³Ï³ßñç³ÝáõÙ Ï³Û³óí³Í ³Ïï»ñÇ µ»Ï³ÝáõÙÁ
T7: ÀÝ¹³Ù»ÝÁ Ï³ñ×í»É »Ý | U7: ²Û¹ ÃíáõÙª Ñ³ëï³ïí»É ¿ ÏÝùí³Í Ñ³ßïáõÃÛ³Ý Ñ³Ù³Ó³ÛÝáõÃÛáõÝÁ | V7: ²Û¹ ÃíáõÙª Ñ³óÇó, ¹ÇÙáõÙÇó Ññ³Å³ñí»Éáõ ÑÇÙùáí | W7: ²Û¹ ÃíáõÙª ³ÛÉ ÑÇÙùáí
E8: 1 | F8: 2 | G8: 3 | H8: 4 | I8: 5 | J8: 6 | K8: 7 | L8: 8 | M8: 9 | N8: 10 | O8: 11 | P8: 12 | Q8: 13 | R8: 14 | S8: 15 | T8: 16 | U8: 17 | V8: 18 | W8: 19 | X8: 20 | Y8: 21 | Z8: 22 | AA8: 23 | AB8: 24 | AC8: 25 | AD8: 26 | AE8: 27 | AF8: 28 | AG8: 29 | AH8: 30 | AI8: 31 | AJ8: 32 | AK8: 33 | AL8: 34 | AM8: 35 | AN8: 36 | AO8: 37 | AP8: 38 | AQ8: 39 | AR8: 40 | AS8: 41 | AT8: 1=2+3+4+5 | AV8: 6=7+8+9 | AX8: 2+3+7=10+21+22+24 | AZ8: 11=12+13+14+15+16 | BB8: 16=17+18+19 | BD8: 21=11+20 | BF8: 28=26+27 | BH8: 28=29+30 | BJ8: 35=33+34 | BL8: 35=36+37
A9: 1. | B9: ¶áõÛù³ÛÇÝ Çñ³í³Ñ³ñ³µ»ñáõÃÛáõÝÝ»ñÇ í»ñ³µ»ñÛ³É ¹³ï³Ï³Ý ·áñÍ»ñ | E9: =SUM(E10:E28) -> 62 | F9: =SUM(F10:F28) -> 22 | G9: =SUM(G10:G28) -> 40 | H9: =SUM(H10:H28) -> 0 | I9: =SUM(I10:I28) -> 0 | J9: =SUM(J10:J28) -> 55 | K9: =SUM(K10:K28) -> 35 | L9: =SUM(L10:L28) -> 19 | ... BC9: =SUM(BC10:BC28) -> 24 | BD9: =Y9 -> 44 | BE9: =O9+X9 -> 44 | BF9: =SUM(BF10:BF28) -> 15 | BG9: =SUM(BG10:BG28) -> 15 | BH9: =SUM(BH10:BH28) -> 15 | BI9: =SUM(BI10:BI28) -> 15 | BJ9: =SUM(BJ10:BJ28) -> 3 | BK9: =SUM(BK10:BK28) -> 3 | BL9: =SUM(BL10:BL28) -> 3 | BM9: =SUM(BM10:BM28) -> 3
A10: 1.1 | B10: ¶áõÛùÇ ÝÏ³ïÙ³Ùµ ë»÷³Ï³ÝáõÃÛ³Ý Çñ³íáõÝùÁ ×³Ý³ã»Éáõ í»ñ³µ»ñÛ³É | E10: 6 | G10: 6 | J10: 9 | K10: 7 | L10: 2 | N10: 2 | O10: 5 | P10: 1 | R10: 1 | T10: 3 | V10: 3 | Y10: 5 | AA10: 1 | AB10: 6 | AC10: 1 | AD10: 2 | AF10: 2 | AH10: 2 | AJ10: 2 | AT10: =E10 -> 6 | AU10: =F10+G10+H10+I10 -> 6 | AV10: =J10 -> 9 | AW10: =K10+L10+M10 -> 9 | AX10: =F10+G10+K10 -> 13 | AY10: =N10+Y10+Z10+AB10 -> 13 | AZ10: =O10 -> 5 | BA10: =P10+Q10+R10+S10+T10 -> 5 | BB10: =T10 -> 3 | BC10: =+U10+V10+W10 -> 3 | BD10: =Y10 -> 5 | BE10: =O10+X10 -> 5 | BF10: =AF10 -> 2 | BG10: =AD10+AE10 -> 2 | BH10: =AF10 -> 2 | BI10: =AG10+AH10 -> 2 | BJ10: =AM10 -> 0 | BK10: =AK10+AL10 -> 0 | BL10: =AM10 -> 0 | BM10: =AN10+AO10 -> 0
A11: 1.1.1 | B11: ²Û¹ ÃíáõÙª Ó»éùµ»ñÙ³Ý í³Õ»ÙáõÃÛ³Ý áõÅáí | E11: 5 | F11: 1 | G11: 4 | J11: 8 | K11: 6 | L11: 2 | O11: 7 | R11: 3 | T11: 4 | U11: 2 | V11: 2 | Y11: 7 | AB11: 4 | AD11: 1 | AE11: 1 | AF11: 2 | AH11: 2 | AJ11: 1 | AL11: 1 | AM11: 1 | AO11: 1 | AT11: =E11 -> 5 | AU11: =F11+G11+H11+I11 -> 5 | AV11: =J11 -> 8 | AW11: =K11+L11+M11 -> 8 | AX11: =F11+G11+K11 -> 11 | AY11: =N11+Y11+Z11+AB11 -> 11 | AZ11: =O11 -> 7 | BA11: =P11+Q11+R11+S11+T11 -> 7 | BB11: =T11 -> 4 | BC11: =+U11+V11+W11 -> 4 | BD11: =Y11 -> 7 | BE11: =O11+X11 -> 7 | BF11: =AF11 -> 2 | BG11: =AD11+AE11 -> 2 | BH11: =AF11 -> 2 | BI11: =AG11+AH11 -> 2 | BJ11: =AM11 -> 1 | BK11: =AK11+AL11 -> 1 | BL11: =AM11 -> 1 | BM11: =AN11+AO11 -> 1
A12: 1.1.2 | B12: ²Û¹ ÃíáõÙª ïÇñ³½áõñÏ ·áõÛùÇ ÝÏ³ïÙ³Ùµ | AT12: =E12 -> 0 | AU12: =F12+G12+H12+I12 -> 0 | AV12: =J12 -> 0 | AW12: =K12+L12+M12 -> 0 | AX12: =F12+G12+K12 -> 0 | AY12: =N12+Y12+Z12+AB12 -> 0 | AZ12: =O12 -> 0 | BA12: =P12+Q12+R12+S12+T12 -> 0 | BB12: =T12 -> 0 | BC12: =+U12+V12+W12 -> 0 | BD12: =Y12 -> 0 | BE12: =O12+X12 -> 0 | BF12: =AF12 -> 0 | BG12: =AD12+AE12 -> 0 | BH12: =AF12 -> 0 | BI12: =AG12+AH12 -> 0 | BJ12: =AM12 -> 0 | BK12: =AK12+AL12 -> 0 | BL12: =AM12 -> 0 | BM12: =AN12+AO12 -> 0
A13: 1.1.3 | B13: ²Û¹ ÃíáõÙª ÇÝùÝ³Ï³Ù Ï³éáõÛóÇ ÝÏ³ïÙ³Ùµ | AT13: =E13 -> 0 | AU13: =F13+G13+H13+I13 -> 0 | AV13: =J13 -> 0 | AW13: =K13+L13+M13 -> 0 | AX13: =F13+G13+K13 -> 0 | AY13: =N13+Y13+Z13+AB13 -> 0 | AZ13: =O13 -> 0 | BA13: =P13+Q13+R13+S13+T13 -> 0 | BB13: =T13 -> 0 | BC13: =+U13+V13+W13 -> 0 | BD13: =Y13 -> 0 | BE13: =O13+X13 -> 0 | BF13: =AF13 -> 0 | BG13: =AD13+AE13 -> 0 | BH13: =AF13 -> 0 | BI13: =AG13+AH13 -> 0 | BJ13: =AM13 -> 0 | BK13: =AK13+AL13 -> 0 | BL13: =AM13 -> 0 | BM13: =AN13+AO13 -> 0
A14: 1.2 | B14: ê»÷³Ï³ÝáõÃÛ³Ý Çñ³íáõÝùÇ ¹³¹³ñ»óÙ³Ý í»ñ³µ»ñÛ³É | E14: 1 | F14: 1 | AB14: 1 | AC14: 1 | AT14: =E14 -> 1 | AU14: =F14+G14+H14+I14 -> 1 | AV14: =J14 -> 0 | AW14: =K14+L14+M14 -> 0 | AX14: =F14+G14+K14 -> 1 | AY14: =N14+Y14+Z14+AB14 -> 1 | AZ14: =O14 -> 0 | BA14: =P14+Q14+R14+S14+T14 -> 0 | BB14: =T14 -> 0 | BC14: =+U14+V14+W14 -> 0 | BD14: =Y14 -> 0 | BE14: =O14+X14 -> 0 | BF14: =AF14 -> 0 | BG14: =AD14+AE14 -> 0 | BH14: =AF14 -> 0 | BI14: =AG14+AH14 -> 0 | BJ14: =AM14 -> 0 | BK14: =AK14+AL14 -> 0 | BL14: =AM14 -> 0 | BM14: =AN14+AO14 -> 0
A15: 1.3 | B15: ¶áõÛùÇ ÝÏ³ïÙ³Ùµ û·ï³·áñÍÙ³Ý Çñ³íáõÝùÁ ×³Ý³ã»Éáõ í»ñ³µ»ñÛ³É | AT15: =E15 -> 0 | AU15: =F15+G15+H15+I15 -> 0 | AV15: =J15 -> 0 | AW15: =K15+L15+M15 -> 0 | AX15: =F15+G15+K15 -> 0 | AY15: =N15+Y15+Z15+AB15 -> 0 | AZ15: =O15 -> 0 | BA15: =P15+Q15+R15+S15+T15 -> 0 | BB15: =T15 -> 0 | BC15: =+U15+V15+W15 -> 0 | BD15: =Y15 -> 0 | BE15: =O15+X15 -> 0 | BF15: =AF15 -> 0 | BG15: =AD15+AE15 -> 0 | BH15: =AF15 -> 0 | BI15: =AG15+AH15 -> 0 | BJ15: =AM15 -> 0 | BK15: =AK15+AL15 -> 0 | BL15: =AM15 -> 0 | BM15: =AN15+AO15 -> 0
A16: 1.3.1 | B16: ²Û¹ ÃíáõÙª µÝ³Ïû·ï³·áñÍÙ³Ý Çñ³íáõÝùÁ ×³Ý³ã»Éáõ í»ñ³µ»ñÛ³É | AT16: =E16 -> 0 | AU16: =F16+G16+H16+I16 -> 0 | AV16: =J16 -> 0 | AW16: =K16+L16+M16 -> 0 | AX16: =F16+G16+K16 -> 0 | AY16: =N16+Y16+Z16+AB16 -> 0 | AZ16: =O16 -> 0 | BA16: =P16+Q16+R16+S16+T16 -> 0 | BB16: =T16 -> 0 | BC16: =+U16+V16+W16 -> 0 | BD16: =Y16 -> 0 | BE16: =O16+X16 -> 0 | BF16: =AF16 -> 0 | BG16: =AD16+AE16 -> 0 | BH16: =AF16 -> 0 | BI16: =AG16+AH16 -> 0 | BJ16: =AM16 -> 0 | BK16: =AK16+AL16 -> 0 | BL16: =AM16 -> 0 | BM16: =AN16+AO16 -> 0
A17: 1.3.2 | B17: ²Û¹ ÃíáõÙª ÑáÕ³Ù³ëÇ ÝÏ³ïÙ³Ùµ û·ï³·áñÍÙ³Ý Çñ³íáõÝùÁ ×³Ý³ã»Éáõ í»ñ³µ»ñÛ³É | J17: 3 | K17: 1 | L17: 2 | AB17: 1 | AT17: =E17 -> 0 | AU17: =F17+G17+H17+I17 -> 0 | AV17: =J17 -> 3 | AW17: =K17+L17+M17 -> 3 | AX17: =F17+G17+K17 -> 1 | AY17: =N17+Y17+Z17+AB17 -> 1 | AZ17: =O17 -> 0 | BA17: =P17+Q17+R17+S17+T17 -> 0 | BB17: =T17 -> 0 | BC17: =+U17+V17+W17 -> 0 | BD17: =Y17 -> 0 | BE17: =O17+X17 -> 0 | BF17: =AF17 -> 0 | BG17: =AD17+AE17 -> 0 | BH17: =AF17 -> 0 | BI17: =AG17+AH17 -> 0 | BJ17: =AM17 -> 0 | BK17: =AK17+AL17 -> 0 | BL17: =AM17 -> 0 | BM17: =AN17+AO17 -> 0
A18: 1.4 | B18: ¶áõÛùÇ ÝÏ³ïÙ³Ùµ û·ï³·áñÍÙ³Ý Çñ³íáõÝùÁ ¹³¹³ñ»óÝ»Éáõ í»ñ³µ»ñÛ³É | AT18: =E18 -> 0 | AU18: =F18+G18+H18+I18 -> 0 | AV18: =J18 -> 0 | AW18: =K18+L18+M18 -> 0 | AX18: =F18+G18+K18 -> 0 | AY18: =N18+Y18+Z18+AB18 -> 0 | AZ18: =O18 -> 0 | BA18: =P18+Q18+R18+S18+T18 -> 0 | BB18: =T18 -> 0 | BC18: =+U18+V18+W18 -> 0 | BD18: =Y18 -> 0 | BE18: =O18+X18 -> 0 | BF18: =AF18 -> 0 | BG18: =AD18+AE18 -> 0 | BH18: =AF18 -> 0 | BI18: =AG18+AH18 -> 0 | BJ18: =AM18 -> 0 | BK18: =AK18+AL18 -> 0 | BL18: =AM18 -> 0 | BM18: =AN18+AO18 -> 0
A19: 1.4.1 | B19: ²Û¹ ÃíáõÙª µÝ³Ïû·ï³·áñÍÙ³Ý Çñ³íáõÝùÁ ¹³¹³ñ»óÝ»Éáõ í»ñ³µ»ñÛ³É | AT19: =E19 -> 0 | AU19: =F19+G19+H19+I19 -> 0 | AV19: =J19 -> 0 | AW19: =K19+L19+M19 -> 0 | AX19: =F19+G19+K19 -> 0 | AY19: =N19+Y19+Z19+AB19 -> 0 | AZ19: =O19 -> 0 | BA19: =P19+Q19+R19+S19+T19 -> 0 | BB19: =T19 -> 0 | BC19: =+U19+V19+W19 -> 0 | BD19: =Y19 -> 0 | BE19: =O19+X19 -> 0 | BF19: =AF19 -> 0 | BG19: =AD19+AE19 -> 0 | BH19: =AF19 -> 0 | BI19: =AG19+AH19 -> 0 | BJ19: =AM19 -> 0 | BK19: =AK19+AL19 -> 0 | BL19: =AM19 -> 0 | BM19: =AN19+AO19 -> 0
A20: 1.4.1/1 | B20: ²Û¹ ÃíáõÙª ÷áËÑ³ïáõóÙ³Ùµ | AT20: =E20 -> 0 | AU20: =F20+G20+H20+I20 -> 0 | AV20: =J20 -> 0 | AW20: =K20+L20+M20 -> 0 | AX20: =F20+G20+K20 -> 0 | AY20: =N20+Y20+Z20+AB20 -> 0 | AZ20: =O20 -> 0 | BA20: =P20+Q20+R20+S20+T20 -> 0 | BB20: =T20 -> 0 | BC20: =+U20+V20+W20 -> 0 | BD20: =Y20 -> 0 | BE20: =O20+X20 -> 0 | BF20: =AF20 -> 0 | BG20: =AD20+AE20 -> 0 | BH20: =AF20 -> 0 | BI20: =AG20+AH20 -> 0 | BJ20: =AM20 -> 0 | BK20: =AK20+AL20 -> 0 | BL20: =AM20 -> 0 | BM20: =AN20+AO20 -> 0
A21: 1.5 | B21: ´Ý³Ï³ñ³ÝÇó/ ï³ñ³ÍùÇó/ íï³ñ»Éáõ í»ñ³µ»ñÛ³É | E21: 6 | F21: 2 | G21: 4 | J21: 15 | K21: 10 | L21: 5 | N21: 1 | O21: 7 | P21: 5 | Q21: 1 | T21: 1 | V21: 1 | Y21: 7 | AB21: 8 | AC21: 2 | AD21: 4 | AF21: 4 | AH21: 4 | AJ21: 3 | AK21: 1 | AM21: 1 | AO21: 1 | AT21: =E21 -> 6 | AU21: =F21+G21+H21+I21 -> 6 | AV21: =J21 -> 15 | AW21: =K21+L21+M21 -> 15 | AX21: =F21+G21+K21 -> 16 | AY21: =N21+Y21+Z21+AB21 -> 16 | AZ21: =O21 -> 7 | BA21: =P21+Q21+R21+S21+T21 -> 7 | BB21: =T21 -> 1 | BC21: =+U21+V21+W21 -> 1 | BD21: =Y21 -> 7 | BE21: =O21+X21 -> 7 | BF21: =AF21 -> 4 | BG21: =AD21+AE21 -> 4 | BH21: =AF21 -> 4 | BI21: =AG21+AH21 -> 4 | BJ21: =AM21 -> 1 | BK21: =AK21+AL21 -> 1 | BL21: =AM21 -> 1 | BM21: =AN21+AO21 -> 1
A22: 1.6 | B22: ¶áõÛùÝ áõñÇßÇ ³åûñÇÝÇ ïÇñ³å»ïáõÙÇó »ï í»ñ³¹³ñÓÝ»Éáõ í»ñ³µ»ñÛ³É | E22: 4 | F22: 2 | G22: 2 | J22: 2 | K22: 1 | M22: 1 | O22: 1 | P22: 1 | Y22: 1 | AA22: 1 | AB22: 4 | AC22: 2 | AT22: =E22 -> 4 | AU22: =F22+G22+H22+I22 -> 4 | AV22: =J22 -> 2 | AW22: =K22+L22+M22 -> 2 | AX22: =F22+G22+K22 -> 5 | AY22: =N22+Y22+Z22+AB22 -> 5 | AZ22: =O22 -> 1 | BA22: =P22+Q22+R22+S22+T22 -> 1 | BB22: =T22 -> 0 | BC22: =+U22+V22+W22 -> 0 | BD22: =Y22 -> 1 | BE22: =O22+X22 -> 1 | BF22: =AF22 -> 0 | BG22: =AD22+AE22 -> 0 | BH22: =AF22 -> 0 | BI22: =AG22+AH22 -> 0 | BJ22: =AM22 -> 0 | BK22: =AK22+AL22 -> 0 | BL22: =AM22 -> 0 | BM22: =AN22+AO22 -> 0
A23: 1.6.1 | B23: ´³ñ»ËÇÕ× Ó»éùµ»ñáÕÇó Çñ ·áõÛùÁ Ñ»ï å³Ñ³Ýç»Éáõ í»ñ³µ»ñÛ³É | AT23: =E23 -> 0 | AU23: =F23+G23+H23+I23 -> 0 | AV23: =J23 -> 0 | AW23: =K23+L23+M23 -> 0 | AX23: =F23+G23+K23 -> 0 | AY23: =N23+Y23+Z23+AB23 -> 0 | AZ23: =O23 -> 0 | BA23: =P23+Q23+R23+S23+T23 -> 0 | BB23: =T23 -> 0 | BC23: =+U23+V23+W23 -> 0 | BD23: =Y23 -> 0 | BE23: =O23+X23 -> 0 | BF23: =AF23 -> 0 | BG23: =AD23+AE23 -> 0 | BH23: =AF23 -> 0 | BI23: =AG23+AH23 -> 0 | BJ23: =AM23 -> 0 | BK23: =AK23+AL23 -> 0 | BL23: =AM23 -> 0 | BM23: =AN23+AO23 -> 0
A24: 1.7 | B24: îÇñ³å»ïáõÙÇó ½ñÏ»Éáõ Ñ»ï ãÏ³åí³Í Çñ³íáõÝùÝ»ñÇ Ë³ËïáõÙÁ í»ñ³óÝ»Éáõ í»ñ³µ»ñÛ³É | E24: 1 | G24: 1 | AB24: 1 | AT24: =E24 -> 1 | AU24: =F24+G24+H24+I24 -> 1 | AV24: =J24 -> 0 | AW24: =K24+L24+M24 -> 0 | AX24: =F24+G24+K24 -> 1 | AY24: =N24+Y24+Z24+AB24 -> 1 | AZ24: =O24 -> 0 | BA24: =P24+Q24+R24+S24+T24 -> 0 | BB24: =T24 -> 0 | BC24: =+U24+V24+W24 -> 0 | BD24: =Y24 -> 0 | BE24: =O24+X24 -> 0 | BF24: =AF24 -> 0 | BG24: =AD24+AE24 -> 0 | BH24: =AF24 -> 0 | BI24: =AG24+AH24 -> 0 | BJ24: =AM24 -> 0 | BK24: =AK24+AL24 -> 0 | BL24: =AM24 -> 0 | BM24: =AN24+AO24 -> 0
A25: 1.8 | B25: ÀÝ¹Ñ³Ýáõñ µ³ÅÝ³ÛÇÝ ë»÷³Ï³ÝáõÃÛáõÝÇó µ³ÅÇÝÝ ³é³ÝÓÝ³óÝ»Éáõ í»ñ³µ»ñÛ³É | E25: 24 | F25: 8 | G25: 16 | J25: 14 | K25: 8 | L25: 6 | O25: 18 | P25: 2 | R25: 1 | T25: 15 | U25: 4 | V25: 11 | Y25: 18 | AA25: 3 | AB25: 14 | AC25: 7 | AD25: 3 | AE25: 2 | AF25: 5 | AH25: 5 | AJ25: 1 | AK25: 1 | AM25: 1 | AN25: 1 | AT25: =E25 -> 24 | AU25: =F25+G25+H25+I25 -> 24 | AV25: =J25 -> 14 | AW25: =K25+L25+M25 -> 14 | AX25: =F25+G25+K25 -> 32 | AY25: =N25+Y25+Z25+AB25 -> 32 | AZ25: =O25 -> 18 | BA25: =P25+Q25+R25+S25+T25 -> 18 | BB25: =T25 -> 15 | BC25: =+U25+V25+W25 -> 15 | BD25: =Y25 -> 18 | BE25: =O25+X25 -> 18 | BF25: =AF25 -> 5 | BG25: =AD25+AE25 -> 5 | BH25: =AF25 -> 5 | BI25: =AG25+AH25 -> 5 | BJ25: =AM25 -> 1 | BK25: =AK25+AL25 -> 1 | BL25: =AM25 -> 1 | BM25: =AN25+AO25 -> 1
A26: 1.8.1 | B26: Ð³Ù³ï»Õ ë»÷³Ï³ÝáõÃÛ³Ý Ý»ñùá ·ïÝíáÕ ·áõÛùÁ µ³Å³Ý»Éáõ ¨ ¹ñ³ÝÇó µ³ÅÇÝÝ ³é³ÝÓÝ³óÝ»Éáõ í»ñ³µ»ñÛ³É | E26: 8 | F26: 5 | G26: 3 | J26: 1 | K26: 1 | O26: 2 | P26: 1 | T26: 1 | V26: 1 | Y26: 2 | AA26: 2 | AB26: 7 | AC26: 4 | AT26: =E26 -> 8 | AU26: =F26+G26+H26+I26 -> 8 | AV26: =J26 -> 1 | AW26: =K26+L26+M26 -> 1 | AX26: =F26+G26+K26 -> 9 | AY26: =N26+Y26+Z26+AB26 -> 9 | AZ26: =O26 -> 2 | BA26: =P26+Q26+R26+S26+T26 -> 2 | BB26: =T26 -> 1 | BC26: =+U26+V26+W26 -> 1 | BD26: =Y26 -> 2 | BE26: =O26+X26 -> 2 | BF26: =AF26 -> 0 | BG26: =AD26+AE26 -> 0 | BH26: =AF26 -> 0 | BI26: =AG26+AH26 -> 0 | BJ26: =AM26 -> 0 | BK26: =AK26+AL26 -> 0 | BL26: =AM26 -> 0 | BM26: =AN26+AO26 -> 0
A27: 1.8.3 | B27: ¶áõÛùÇ íñ³ µéÝ³·³ÝÓáõÙ ï³ñ³Í»Éáõ å³Ñ³ÝçÇ Ù³ëÇÝ | E27: 3 | F27: 1 | G27: 2 | O27: 2 | Q27: 2 | Y27: 2 | AA27: 1 | AB27: 1 | AC27: 1 | AD27: 1 | AF27: 1 | AH27: 1 | AJ27: 1 | AT27: =E27 -> 3 | AU27: =F27+G27+H27+I27 -> 3 | AV27: =J27 -> 0 | AW27: =K27+L27+M27 -> 0 | AX27: =F27+G27+K27 -> 3 | AY27: =N27+Y27+Z27+AB27 -> 3 | AZ27: =O27 -> 2 | BA27: =P27+Q27+R27+S27+T27 -> 2 | BB27: =T27 -> 0 | BC27: =+U27+V27+W27 -> 0 | BD27: =Y27 -> 2 | BE27: =O27+X27 -> 2 | BF27: =AF27 -> 1 | BG27: =AD27+AE27 -> 1 | BH27: =AF27 -> 1 | BI27: =AG27+AH27 -> 1 | BJ27: =AM27 -> 0 | BK27: =AK27+AL27 -> 0 | BL27: =AM27 -> 0 | BM27: =AN27+AO27 -> 0
A28: 1.9 | B28: ²ÛÉ í»×»ñ | E28: 4 | F28: 2 | G28: 2 | J28: 3 | K28: 1 | L28: 2 | O28: 2 | Q28: 2 | Y28: 2 | AB28: 3 | AD28: 1 | AF28: 1 | AH28: 1 | AJ28: 1 | AT28: =E28 -> 4 | AU28: =F28+G28+H28+I28 -> 4 | AV28: =J28 -> 3 | AW28: =K28+L28+M28 -> 3 | AX28: =F28+G28+K28 -> 5 | AY28: =N28+Y28+Z28+AB28 -> 5 | AZ28: =O28 -> 2 | BA28: =P28+Q28+R28+S28+T28 -> 2 | BB28: =T28 -> 0 | BC28: =+U28+V28+W28 -> 0 | BD28: =Y28 -> 2 | BE28: =O28+X28 -> 2 | BF28: =AF28 -> 1 | BG28: =AD28+AE28 -> 1 | BH28: =AF28 -> 1 | BI28: =AG28+AH28 -> 1 | BJ28: =AM28 -> 0 | BK28: =AK28+AL28 -> 0 | BL28: =AM28 -> 0 | BM28: =AN28+AO28 -> 0
A29: 2. | B29: ¶áñÍ³ñùÝ»ñÇ Ñ»ï Ï³åí³Í Çñ³í³Ñ³ñ³µ»ñáõÃÛáõÝÝ»ñÇ í»ñ³µ»ñÛ³É ¹³ï³Ï³Ý ·áñÍ»ñ | E29: =SUM(E30:E40) -> 12 | F29: =SUM(F30:F40) -> 3 | G29: =SUM(G30:G40) -> 9 | H29: =SUM(H30:H40) -> 0 | I29: =SUM(I30:I40) -> 0 | J29: =SUM(J30:J40) -> 12 | K29: =SUM(K30:K40) -> 8 | L29: =SUM(L30:L40) -> 4 | ... BC29: =SUM(BC30:BC40) -> 7 | BD29: =Y29 -> 10 | BE29: =O29+X29 -> 10 | BF29: =SUM(BF30:BF40) -> 1 | BG29: =SUM(BG30:BG40) -> 1 | BH29: =SUM(BH30:BH40) -> 1 | BI29: =SUM(BI30:BI40) -> 1 | BJ29: =SUM(BJ30:BJ40) -> 0 | BK29: =SUM(BK30:BK40) -> 0 | BL29: =SUM(BL30:BL40) -> 0 | BM29: =SUM(BM30:BM40) -> 0
A30: 2.1 | B30: ·áñÍ³ñùÝ»ñÇ ³Ýí³í»ñáõÃÛ³Ý Ñ»ï Ï³åí³Í í»×»ñ | E30: 5 | G30: 5 | J30: 2 | K30: 1 | L30: 1 | O30: 3 | R30: 1 | T30: 2 | V30: 2 | Y30: 3 | AB30: 3 | AC30: 1 | AD30: 1 | AF30: 1 | AH30: 1 | AJ30: 1 | AT30: =E30 -> 5 | AU30: =F30+G30+H30+I30 -> 5 | AV30: =J30 -> 2 | AW30: =K30+L30+M30 -> 2 | AX30: =F30+G30+K30 -> 6 | AY30: =N30+Y30+Z30+AB30 -> 6 | AZ30: =O30 -> 3 | BA30: =P30+Q30+R30+S30+T30 -> 3 | BB30: =T30 -> 2 | BC30: =+U30+V30+W30 -> 2 | BD30: =Y30 -> 3 | BE30: =O30+X30 -> 3 | BF30: =AF30 -> 1 | BG30: =AD30+AE30 -> 1 | BH30: =AF30 -> 1 | BI30: =AG30+AH30 -> 1 | BJ30: =AM30 -> 0 | BK30: =AK30+AL30 -> 0 | BL30: =AM30 -> 0 | BM30: =AN30+AO30 -> 0
A31: 2.1.1 | B31: ³Û¹ ÃíáõÙ` íÇ×³Ñ³ñáõÛó ·áñÍ³ñùÝ»ñÝ ³Ýí³í»ñ ×³Ý³ã»Éáõ í»ñ³µ»ñÛ³É | AT31: =E31 -> 0 | AU31: =F31+G31+H31+I31 -> 0 | AV31: =J31 -> 0 | AW31: =K31+L31+M31 -> 0 | AX31: =F31+G31+K31 -> 0 | AY31: =N31+Y31+Z31+AB31 -> 0 | AZ31: =O31 -> 0 | BA31: =P31+Q31+R31+S31+T31 -> 0 | BB31: =T31 -> 0 | BC31: =+U31+V31+W31 -> 0 | BD31: =Y31 -> 0 | BE31: =O31+X31 -> 0 | BF31: =AF31 -> 0 | BG31: =AD31+AE31 -> 0 | BH31: =AF31 -> 0 | BI31: =AG31+AH31 -> 0 | BJ31: =AM31 -> 0 | BK31: =AK31+AL31 -> 0 | BL31: =AM31 -> 0 | BM31: =AN31+AO31 -> 0
A32: 2.1.2 | B32: ³Û¹ ÃíáõÙ` ·áñÍ³ñùÇ ³éáãÝãáõÃÛ³Ý Ñ»ï¨³ÝùÝ»ñ ÏÇñ³é»Éáõ í»ñ³µ»ñÛ³É | E32: 3 | G32: 3 | J32: 2 | K32: 1 | L32: 1 | O32: 3 | R32: 1 | T32: 2 | U32: 1 | V32: 1 | Y32: 3 | AB32: 1 | AT32: =E32 -> 3 | AU32: =F32+G32+H32+I32 -> 3 | AV32: =J32 -> 2 | AW32: =K32+L32+M32 -> 2 | AX32: =F32+G32+K32 -> 4 | AY32: =N32+Y32+Z32+AB32 -> 4 | AZ32: =O32 -> 3 | BA32: =P32+Q32+R32+S32+T32 -> 3 | BB32: =T32 -> 2 | BC32: =+U32+V32+W32 -> 2 | BD32: =Y32 -> 3 | BE32: =O32+X32 -> 3 | BF32: =AF32 -> 0 | BG32: =AD32+AE32 -> 0 | BH32: =AF32 -> 0 | BI32: =AG32+AH32 -> 0 | BJ32: =AM32 -> 0 | BK32: =AK32+AL32 -> 0 | BL32: =AM32 -> 0 | BM32: =AN32+AO32 -> 0
A33: 2.2 | B33: ¶áñÍ³ñùÁ í³í»ñ ×³Ý³ã»Éáõ í»ñ³µ»ñÛ³É | AT33: =E33 -> 0 | AU33: =F33+G33+H33+I33 -> 0 | AV33: =J33 -> 0 | AW33: =K33+L33+M33 -> 0 | AX33: =F33+G33+K33 -> 0 | AY33: =N33+Y33+Z33+AB33 -> 0 | AZ33: =O33 -> 0 | BA33: =P33+Q33+R33+S33+T33 -> 0 | BB33: =T33 -> 0 | BC33: =+U33+V33+W33 -> 0 | BD33: =Y33 -> 0 | BE33: =O33+X33 -> 0 | BF33: =AF33 -> 0 | BG33: =AD33+AE33 -> 0 | BH33: =AF33 -> 0 | BI33: =AG33+AH33 -> 0 | BJ33: =AM33 -> 0 | BK33: =AK33+AL33 -> 0 | BL33: =AM33 -> 0 | BM33: =AN33+AO33 -> 0
A34: 2.3 | B34: ¶áñÍ³ñùÇó Í³·áÕ Çñ³íáõÝùÝ»ñÁ ·ñ³Ýó»Éáõ í»ñ³µ»ñÛ³É | AT34: =E34 -> 0 | AU34: =F34+G34+H34+I34 -> 0 | AV34: =J34 -> 0 | AW34: =K34+L34+M34 -> 0 | AX34: =F34+G34+K34 -> 0 | AY34: =N34+Y34+Z34+AB34 -> 0 | AZ34: =O34 -> 0 | BA34: =P34+Q34+R34+S34+T34 -> 0 | BB34: =T34 -> 0 | BC34: =+U34+V34+W34 -> 0 | BD34: =Y34 -> 0 | BE34: =O34+X34 -> 0 | BF34: =AF34 -> 0 | BG34: =AD34+AE34 -> 0 | BH34: =AF34 -> 0 | BI34: =AG34+AH34 -> 0 | BJ34: =AM34 -> 0 | BK34: =AK34+AL34 -> 0 | BL34: =AM34 -> 0 | BM34: =AN34+AO34 -> 0
A35: 2.4 | B35: ä³ÛÙ³Ý³·ÇñÝ ³Ýí³í»ñ ×³Ý³ã»Éáõ í»ñ³µ»ñÛ³É | E35: 3 | F35: 2 | G35: 1 | J35: 1 | K35: 1 | O35: 1 | T35: 1 | V35: 1 | Y35: 1 | AB35: 3 | AC35: 2 | AT35: =E35 -> 3 | AU35: =F35+G35+H35+I35 -> 3 | AV35: =J35 -> 1 | AW35: =K35+L35+M35 -> 1 | AX35: =F35+G35+K35 -> 4 | AY35: =N35+Y35+Z35+AB35 -> 4 | AZ35: =O35 -> 1 | BA35: =P35+Q35+R35+S35+T35 -> 1 | BB35: =T35 -> 1 | BC35: =+U35+V35+W35 -> 1 | BD35: =Y35 -> 1 | BE35: =O35+X35 -> 1 | BF35: =AF35 -> 0 | BG35: =AD35+AE35 -> 0 | BH35: =AF35 -> 0 | BI35: =AG35+AH35 -> 0 | BJ35: =AM35 -> 0 | BK35: =AK35+AL35 -> 0 | BL35: =AM35 -> 0 | BM35: =AN35+AO35 -> 0
A36: 2.5 | B36: ä³ÛÙ³Ý³·ñÇÁ í³í»ñ ×³Ý³ã»Éáõ í»ñ³µ»ñÛ³É | J36: 1 | K36: 1 | AB36: 1 | AT36: =E36 -> 0 | AU36: =F36+G36+H36+I36 -> 0 | AV36: =J36 -> 1 | AW36: =K36+L36+M36 -> 1 | AX36: =F36+G36+K36 -> 1 | AY36: =N36+Y36+Z36+AB36 -> 1 | AZ36: =O36 -> 0 | BA36: =P36+Q36+R36+S36+T36 -> 0 | BB36: =T36 -> 0 | BC36: =+U36+V36+W36 -> 0 | BD36: =Y36 -> 0 | BE36: =O36+X36 -> 0 | BF36: =AF36 -> 0 | BG36: =AD36+AE36 -> 0 | BH36: =AF36 -> 0 | BI36: =AG36+AH36 -> 0 | BJ36: =AM36 -> 0 | BK36: =AK36+AL36 -> 0 | BL36: =AM36 -> 0 | BM36: =AN36+AO36 -> 0
A37: 2.6 | B37: ä³ÛÙ³Ý³·ñÇó Í³·áÕ Çñ³íáõÝùÝ»ñÁ ·ñ³Ýó»Éáõ í»ñ³µ»ñÛ³É | AT37: =E37 -> 0 | AU37: =F37+G37+H37+I37 -> 0 | AV37: =J37 -> 0 | AW37: =K37+L37+M37 -> 0 | AX37: =F37+G37+K37 -> 0 | AY37: =N37+Y37+Z37+AB37 -> 0 | AZ37: =O37 -> 0 | BA37: =P37+Q37+R37+S37+T37 -> 0 | BB37: =T37 -> 0 | BC37: =+U37+V37+W37 -> 0 | BD37: =Y37 -> 0 | BE37: =O37+X37 -> 0 | BF37: =AF37 -> 0 | BG37: =AD37+AE37 -> 0 | BH37: =AF37 -> 0 | BI37: =AG37+AH37 -> 0 | BJ37: =AM37 -> 0 | BK37: =AK37+AL37 -> 0 | BL37: =AM37 -> 0 | BM37: =AN37+AO37 -> 0
A38: 2.7 | B38: ä³ÛÙ³Ý³·ÇñÁ ÷á÷áË»Éáõ ¨ ÉáõÍ»Éáõ í»ñ³µ»ñÛ³É | AT38: =E38 -> 0 | AU38: =F38+G38+H38+I38 -> 0 | AV38: =J38 -> 0 | AW38: =K38+L38+M38 -> 0 | AX38: =F38+G38+K38 -> 0 | AY38: =N38+Y38+Z38+AB38 -> 0 | AZ38: =O38 -> 0 | BA38: =P38+Q38+R38+S38+T38 -> 0 | BB38: =T38 -> 0 | BC38: =+U38+V38+W38 -> 0 | BD38: =Y38 -> 0 | BE38: =O38+X38 -> 0 | BF38: =AF38 -> 0 | BG38: =AD38+AE38 -> 0 | BH38: =AF38 -> 0 | BI38: =AG38+AH38 -> 0 | BJ38: =AM38 -> 0 | BK38: =AK38+AL38 -> 0 | BL38: =AM38 -> 0 | BM38: =AN38+AO38 -> 0
A39: 2.8 | B39: ä³ÛÙ³Ý³·Çñ ÏÝù»ÉáõÝ å³ñï³íáñ»óÝ»Éáõ í»ñ³µ»ñÛ³É | AT39: =E39 -> 0 | AU39: =F39+G39+H39+I39 -> 0 | AV39: =J39 -> 0 | AW39: =K39+L39+M39 -> 0 | AX39: =F39+G39+K39 -> 0 | AY39: =N39+Y39+Z39+AB39 -> 0 | AZ39: =O39 -> 0 | BA39: =P39+Q39+R39+S39+T39 -> 0 | BB39: =T39 -> 0 | BC39: =+U39+V39+W39 -> 0 | BD39: =Y39 -> 0 | BE39: =O39+X39 -> 0 | BF39: =AF39 -> 0 | BG39: =AD39+AE39 -> 0 | BH39: =AF39 -> 0 | BI39: =AG39+AH39 -> 0 | BJ39: =AM39 -> 0 | BK39: =AK39+AL39 -> 0 | BL39: =AM39 -> 0 | BM39: =AN39+AO39 -> 0
A40: 2.9 | B40: ²ÛÉ í»×»ñ | E40: 1 | F40: 1 | J40: 6 | K40: 4 | L40: 2 | O40: 3 | P40: 1 | T40: 2 | V40: 2 | Y40: 3 | AA40: 1 | AB40: 2 | AC40: 1 | AT40: =E40 -> 1 | AU40: =F40+G40+H40+I40 -> 1 | AV40: =J40 -> 6 | AW40: =K40+L40+M40 -> 6 | AX40: =F40+G40+K40 -> 5 | AY40: =N40+Y40+Z40+AB40 -> 5 | AZ40: =O40 -> 3 | BA40: =P40+Q40+R40+S40+T40 -> 3 | BB40: =T40 -> 2 | BC40: =+U40+V40+W40 -> 2 | BD40: =Y40 -> 3 | BE40: =O40+X40 -> 3 | BF40: =AF40 -> 0 | BG40: =AD40+AE40 -> 0 | BH40: =AF40 -> 0 | BI40: =AG40+AH40 -> 0 | BJ40: =AM40 -> 0 | BK40: =AK40+AL40 -> 0 | BL40: =AM40 -> 0 | BM40: =AN40+AO40 -> 0
A41: 3. | B41: Ä³é³Ý·áõÃÛ³Ý Ñ»ï Ï³åí³Í Çñ³í³Ñ³ñ³µ»ñáõÃÛáõÝÝ»ñÇ í»ñ³µ»ñÛ³É ¹³ï³Ï³Ý ·áñÍ»ñ | E41: =SUM(E42:E48) -> 3 | F41: =SUM(F42:F48) -> 1 | G41: =SUM(G42:G48) -> 2 | H41: =SUM(H42:H48) -> 0 | I41: =SUM(I42:I48) -> 0 | J41: =SUM(J42:J48) -> 2 | K41: =SUM(K42:K48) -> 2 | L41: =SUM(L42:L48) -> 0 | ... BC41: =SUM(BC42:BC48) -> 2 | BD41: =Y41 -> 3 | BE41: =O41+X41 -> 3 | BF41: =SUM(BF42:BF48) -> 1 | BG41: =SUM(BG42:BG48) -> 1 | BH41: =SUM(BH42:BH48) -> 1 | BI41: =SUM(BI42:BI48) -> 1 | BJ41: =SUM(BJ42:BJ48) -> 0 | BK41: =SUM(BK42:BK48) -> 0 | BL41: =SUM(BL42:BL48) -> 0 | BM41: =SUM(BM42:BM48) -> 0
A42: 3.1 | B42: Îï³ÏÝ ³Ýí³í»ñ ×³Ý³ã»Éáõ í»ñ³µ»ñÛ³É | AT42: =E42 -> 0 | AU42: =F42+G42+H42+I42 -> 0 | AV42: =J42 -> 0 | AW42: =K42+L42+M42 -> 0 | AX42: =F42+G42+K42 -> 0 | AY42: =N42+Y42+Z42+AB42 -> 0 | AZ42: =O42 -> 0 | BA42: =P42+Q42+R42+S42+T42 -> 0 | BB42: =T42 -> 0 | BC42: =+U42+V42+W42 -> 0 | BD42: =Y42 -> 0 | BE42: =O42+X42 -> 0 | BF42: =AF42 -> 0 | BG42: =AD42+AE42 -> 0 | BH42: =AF42 -> 0 | BI42: =AG42+AH42 -> 0 | BJ42: =AM42 -> 0 | BK42: =AK42+AL42 -> 0 | BL42: =AM42 -> 0 | BM42: =AN42+AO42 -> 0
A43: 3.2 | B43: ²Ý³ñÅ³Ý Å³é³Ý· ×³Ý³ã»Éáõ í»ñ³µ»ñÛ³É | AT43: =E43 -> 0 | AU43: =F43+G43+H43+I43 -> 0 | AV43: =J43 -> 0 | AW43: =K43+L43+M43 -> 0 | AX43: =F43+G43+K43 -> 0 | AY43: =N43+Y43+Z43+AB43 -> 0 | AZ43: =O43 -> 0 | BA43: =P43+Q43+R43+S43+T43 -> 0 | BB43: =T43 -> 0 | BC43: =+U43+V43+W43 -> 0 | BD43: =Y43 -> 0 | BE43: =O43+X43 -> 0 | BF43: =AF43 -> 0 | BG43: =AD43+AE43 -> 0 | BH43: =AF43 -> 0 | BI43: =AG43+AH43 -> 0 | BJ43: =AM43 -> 0 | BK43: =AK43+AL43 -> 0 | BL43: =AM43 -> 0 | BM43: =AN43+AO43 -> 0
A44: 3.3 | B44: Ä³é³Ý·áõÃÛáõÝÁ µ³Å³Ý»Éáõ í»ñ³µ»ñÛ³É | AT44: =E44 -> 0 | AU44: =F44+G44+H44+I44 -> 0 | AV44: =J44 -> 0 | AW44: =K44+L44+M44 -> 0 | AX44: =F44+G44+K44 -> 0 | AY44: =N44+Y44+Z44+AB44 -> 0 | AZ44: =O44 -> 0 | BA44: =P44+Q44+R44+S44+T44 -> 0 | BB44: =T44 -> 0 | BC44: =+U44+V44+W44 -> 0 | BD44: =Y44 -> 0 | BE44: =O44+X44 -> 0 | BF44: =AF44 -> 0 | BG44: =AD44+AE44 -> 0 | BH44: =AF44 -> 0 | BI44: =AG44+AH44 -> 0 | BJ44: =AM44 -> 0 | BK44: =AK44+AL44 -> 0 | BL44: =AM44 -> 0 | BM44: =AN44+AO44 -> 0
A45: 3.4 | B45: ¶áõÛùÝ ³ÝÅ³é³Ý· ×³Ý³ã»Éáõ í»ñ³µ»ñÛ³É | AT45: =E45 -> 0 | AU45: =F45+G45+H45+I45 -> 0 | AV45: =J45 -> 0 | AW45: =K45+L45+M45 -> 0 | AX45: =F45+G45+K45 -> 0 | AY45: =N45+Y45+Z45+AB45 -> 0 | AZ45: =O45 -> 0 | BA45: =P45+Q45+R45+S45+T45 -> 0 | BB45: =T45 -> 0 | BC45: =+U45+V45+W45 -> 0 | BD45: =Y45 -> 0 | BE45: =O45+X45 -> 0 | BF45: =AF45 -> 0 | BG45: =AD45+AE45 -> 0 | BH45: =AF45 -> 0 | BI45: =AG45+AH45 -> 0 | BJ45: =AM45 -> 0 | BK45: =AK45+AL45 -> 0 | BL45: =AM45 -> 0 | BM45: =AN45+AO45 -> 0
A46: 3.5 | B46: Àëï ûñ»ÝùÇ Å³é³Ý·áõÃÛ³Ý Çñ³íáõÝùÇ íÏ³Û³·ÇñÝ ³Ýí³í»ñ ×³Ý³ã»Éáõ í»ñ³µ»ñÛ³É | AT46: =E46 -> 0 | AU46: =F46+G46+H46+I46 -> 0 | AV46: =J46 -> 0 | AW46: =K46+L46+M46 -> 0 | AX46: =F46+G46+K46 -> 0 | AY46: =N46+Y46+Z46+AB46 -> 0 | AZ46: =O46 -> 0 | BA46: =P46+Q46+R46+S46+T46 -> 0 | BB46: =T46 -> 0 | BC46: =+U46+V46+W46 -> 0 | BD46: =Y46 -> 0 | BE46: =O46+X46 -> 0 | BF46: =AF46 -> 0 | BG46: =AD46+AE46 -> 0 | BH46: =AF46 -> 0 | BI46: =AG46+AH46 -> 0 | BJ46: =AM46 -> 0 | BK46: =AK46+AL46 -> 0 | BL46: =AM46 -> 0 | BM46: =AN46+AO46 -> 0
A47: 3.6 | B47: Ä³é³Ý·áõÃÛáõÝÝ ÁÝ¹áõÝ»Éáõ µ³ó ÃáÕÝí³Í Å³ÙÏ»ïÁ Ñ³ñ·»ÉÇ Ñ³Ù³ñ»Éáõ í»ñ³µ»ñÛ³É | E47: 1 | G47: 1 | J47: 1 | K47: 1 | O47: 2 | T47: 2 | V47: 2 | Y47: 2 | AT47: =E47 -> 1 | AU47: =F47+G47+H47+I47 -> 1 | AV47: =J47 -> 1 | AW47: =K47+L47+M47 -> 1 | AX47: =F47+G47+K47 -> 2 | AY47: =N47+Y47+Z47+AB47 -> 2 | AZ47: =O47 -> 2 | BA47: =P47+Q47+R47+S47+T47 -> 2 | BB47: =T47 -> 2 | BC47: =+U47+V47+W47 -> 2 | BD47: =Y47 -> 2 | BE47: =O47+X47 -> 2 | BF47: =AF47 -> 0 | BG47: =AD47+AE47 -> 0 | BH47: =AF47 -> 0 | BI47: =AG47+AH47 -> 0 | BJ47: =AM47 -> 0 | BK47: =AK47+AL47 -> 0 | BL47: =AM47 -> 0 | BM47: =AN47+AO47 -> 0
A48: 3.7 | B48: ²ÛÉ í»×»ñ | E48: 2 | F48: 1 | G48: 1 | J48: 1 | K48: 1 | O48: 1 | P48: 1 | Y48: 1 | AB48: 2 | AC48: 1 | AD48: 1 | AF48: 1 | AH48: 1 | AJ48: 1 | AT48: =E48 -> 2 | AU48: =F48+G48+H48+I48 -> 2 | AV48: =J48 -> 1 | AW48: =K48+L48+M48 -> 1 | AX48: =F48+G48+K48 -> 3 | AY48: =N48+Y48+Z48+AB48 -> 3 | AZ48: =O48 -> 1 | BA48: =P48+Q48+R48+S48+T48 -> 1 | BB48: =T48 -> 0 | BC48: =+U48+V48+W48 -> 0 | BD48: =Y48 -> 1 | BE48: =O48+X48 -> 1 | BF48: =AF48 -> 1 | BG48: =AD48+AE48 -> 1 | BH48: =AF48 -> 1 | BI48: =AG48+AH48 -> 1 | BJ48: =AM48 -> 0 | BK48: =AK48+AL48 -> 0 | BL48: =AM48 -> 0 | BM48: =AN48+AO48 -> 0
A49: 4 | B49: ÀÝï³Ý»Ï³Ý Çñ³í³Ñ³ñ³µ»ñáõÃÛáõÝÝ»ñÇ í»ñ³µ»ñÛ³É ¹³ï³Ï³Ý ·áñÍ»ñ | E49: =SUM(E50:E62) -> 28 | F49: =SUM(F50:F62) -> 0 | G49: =SUM(G50:G62) -> 28 | H49: =SUM(H50:H62) -> 0 | I49: =SUM(I50:I62) -> 0 | J49: =SUM(J50:J62) -> 35 | K49: =SUM(K50:K62) -> 23 | L49: =SUM(L50:L62) -> 12 | ... BM49: =SUM(BM50:BM62) -> 0
A50: 4.1 | B50: ²ÙáõëÝ³ÉáõÍáõÃÛ³Ý í»ñ³µ»ñÛ³É | E50: 15 | G50: 15 | J50: 20 | K50: 14 | L50: 6 | O50: 23 | P50: 15 | Q50: 3 | R50: 1 | T50: 4 | V50: 4 | Y50: 23 | AB50: 6 | AD50: 2 | AF50: 2 | AH50: 2 | AJ50: 1 | AT50: =E50 -> 15 | AU50: =F50+G50+H50+I50 -> 15 | AV50: =J50 -> 20 | AW50: =K50+L50+M50 -> 20 | AX50: =F50+G50+K50 -> 29 | AY50: =N50+Y50+Z50+AB50 -> 29 | AZ50: =O50 -> 23 | BA50: =P50+Q50+R50+S50+T50 -> 23 | BB50: =T50 -> 4 | BC50: =+U50+V50+W50 -> 4 | BD50: =Y50 -> 23 | BE50: =O50+X50 -> 23 | BF50: =AF50 -> 2 | BG50: =AD50+AE50 -> 2 | BH50: =AF50 -> 2 | BI50: =AG50+AH50 -> 2 | BJ50: =AM50 -> 0 | BK50: =AK50+AL50 -> 0 | BL50: =AM50 -> 0 | BM50: =AN50+AO50 -> 0
A51: 4.2 | B51: ²ÉÇÙ»ÝïÇ å³Ñ³ÝçÇ í»ñ³µ»ñÛ³É | E51: 5 | G51: 5 | J51: 6 | K51: 5 | L51: 1 | O51: 9 | P51: 2 | Q51: 4 | T51: 3 | V51: 3 | Y51: 9 | AB51: 1 | AD51: 1 | AF51: 1 | AH51: 1 | AJ51: 1 | AT51: =E51 -> 5 | AU51: =F51+G51+H51+I51 -> 5 | AV51: =J51 -> 6 | AW51: =K51+L51+M51 -> 6 | AX51: =F51+G51+K51 -> 10 | AY51: =N51+Y51+Z51+AB51 -> 10 | AZ51: =O51 -> 9 | BA51: =P51+Q51+R51+S51+T51 -> 9 | BB51: =T51 -> 3 | BC51: =+U51+V51+W51 -> 3 | BD51: =Y51 -> 9 | BE51: =O51+X51 -> 9 | BF51: =AF51 -> 1 | BG51: =AD51+AE51 -> 1 | BH51: =AF51 -> 1 | BI51: =AG51+AH51 -> 1 | BJ51: =AM51 -> 0 | BK51: =AK51+AL51 -> 0 | BL51: =AM51 -> 0 | BM51: =AN51+AO51 -> 0
A52: 4.3 | B52: ²ÉÇÙ»ÝïÇ ã³÷Á ÷á÷áË»Éáõ í»ñ³µ»ñÛ³É | E52: 1 | G52: 1 | O52: 1 | T52: 1 | V52: 1 | Y52: 1 | AT52: =E52 -> 1 | AU52: =F52+G52+H52+I52 -> 1 | AV52: =J52 -> 0 | AW52: =K52+L52+M52 -> 0 | AX52: =F52+G52+K52 -> 1 | AY52: =N52+Y52+Z52+AB52 -> 1 | AZ52: =O52 -> 1 | BA52: =P52+Q52+R52+S52+T52 -> 1 | BB52: =T52 -> 1 | BC52: =+U52+V52+W52 -> 1 | BD52: =Y52 -> 1 | BE52: =O52+X52 -> 1 | BF52: =AF52 -> 0 | BG52: =AD52+AE52 -> 0 | BH52: =AF52 -> 0 | BI52: =AG52+AH52 -> 0 | BJ52: =AM52 -> 0 | BK52: =AK52+AL52 -> 0 | BL52: =AM52 -> 0 | BM52: =AN52+AO52 -> 0
A53: 4.4 | B53: ÌÝáÕ³Ï³Ý Çñ³íáõÝùÝ»ñÇó ½ñÏ»Éáõ í»ñ³µ»ñÛ³É | J53: 2 | K53: 1 | L53: 1 | O53: 1 | P53: 1 | Y53: 1 | AT53: =E53 -> 0 | AU53: =F53+G53+H53+I53 -> 0 | AV53: =J53 -> 2 | AW53: =K53+L53+M53 -> 2 | AX53: =F53+G53+K53 -> 1 | AY53: =N53+Y53+Z53+AB53 -> 1 | AZ53: =O53 -> 1 | BA53: =P53+Q53+R53+S53+T53 -> 1 | BB53: =T53 -> 0 | BC53: =+U53+V53+W53 -> 0 | BD53: =Y53 -> 1 | BE53: =O53+X53 -> 1 | BF53: =AF53 -> 0 | BG53: =AD53+AE53 -> 0 | BH53: =AF53 -> 0 | BI53: =AG53+AH53 -> 0 | BJ53: =AM53 -> 0 | BK53: =AK53+AL53 -> 0 | BL53: =AM53 -> 0 | BM53: =AN53+AO53 -> 0
A54: 4.5 | B54: ÌÝáÕ³Ï³Ý Çñ³íáõÝùÝ»ñÁ í»ñ³Ï³Ý·Ý»Éáõ í»ñ³µ»ñÛ³É | AT54: =E54 -> 0 | AU54: =F54+G54+H54+I54 -> 0 | AV54: =J54 -> 0 | AW54: =K54+L54+M54 -> 0 | AX54: =F54+G54+K54 -> 0 | AY54: =N54+Y54+Z54+AB54 -> 0 | AZ54: =O54 -> 0 | BA54: =P54+Q54+R54+S54+T54 -> 0 | BB54: =T54 -> 0 | BC54: =+U54+V54+W54 -> 0 | BD54: =Y54 -> 0 | BE54: =O54+X54 -> 0 | BF54: =AF54 -> 0 | BG54: =AD54+AE54 -> 0 | BH54: =AF54 -> 0 | BI54: =AG54+AH54 -> 0 | BJ54: =AM54 -> 0 | BK54: =AK54+AL54 -> 0 | BL54: =AM54 -> 0 | BM54: =AN54+AO54 -> 0
A55: 4.6 | B55: ºñ»Ë³ÛÇ áñ¹»·ñÙ³Ý í»ñ³µ»ñÛ³É | E55: 1 | G55: 1 | J55: 1 | K55: 1 | O55: 2 | P55: 2 | Y55: 2 | AT55: =E55 -> 1 | AU55: =F55+G55+H55+I55 -> 1 | AV55: =J55 -> 1 | AW55: =K55+L55+M55 -> 1 | AX55: =F55+G55+K55 -> 2 | AY55: =N55+Y55+Z55+AB55 -> 2 | AZ55: =O55 -> 2 | BA55: =P55+Q55+R55+S55+T55 -> 2 | BB55: =T55 -> 0 | BC55: =+U55+V55+W55 -> 0 | BD55: =Y55 -> 2 | BE55: =O55+X55 -> 2 | BF55: =AF55 -> 0 | BG55: =AD55+AE55 -> 0 | BH55: =AF55 -> 0 | BI55: =AG55+AH55 -> 0 | BJ55: =AM55 -> 0 | BK55: =AK55+AL55 -> 0 | BL55: =AM55 -> 0 | BM55: =AN55+AO55 -> 0
A56: 4.7 | B56: ºñ»Ë³ÛÇ áñ¹»·ñáõÙÁ í»ñ³óÝ»Éáõ í»ñ³µ»ñÛ³É | J56: 1 | L56: 1 | AT56: =E56 -> 0 | AU56: =F56+G56+H56+I56 -> 0 | AV56: =J56 -> 1 | AW56: =K56+L56+M56 -> 1 | AX56: =F56+G56+K56 -> 0 | AY56: =N56+Y56+Z56+AB56 -> 0 | AZ56: =O56 -> 0 | BA56: =P56+Q56+R56+S56+T56 -> 0 | BB56: =T56 -> 0 | BC56: =+U56+V56+W56 -> 0 | BD56: =Y56 -> 0 | BE56: =O56+X56 -> 0 | BF56: =AF56 -> 0 | BG56: =AD56+AE56 -> 0 | BH56: =AF56 -> 0 | BI56: =AG56+AH56 -> 0 | BJ56: =AM56 -> 0 | BK56: =AK56+AL56 -> 0 | BL56: =AM56 -> 0 | BM56: =AN56+AO56 -> 0
A57: 4.8 | B57: Ð³ÛñáõÃÛáõÝÁ ×³Ý³ã»Éáõ í»ñ³µ»ñÛ³É | E57: 3 | G57: 3 | O57: 3 | Q57: 1 | T57: 2 | V57: 2 | Y57: 3 | AT57: =E57 -> 3 | AU57: =F57+G57+H57+I57 -> 3 | AV57: =J57 -> 0 | AW57: =K57+L57+M57 -> 0 | AX57: =F57+G57+K57 -> 3 | AY57: =N57+Y57+Z57+AB57 -> 3 | AZ57: =O57 -> 3 | BA57: =P57+Q57+R57+S57+T57 -> 3 | BB57: =T57 -> 2 | BC57: =+U57+V57+W57 -> 2 | BD57: =Y57 -> 3 | BE57: =O57+X57 -> 3 | BF57: =AF57 -> 0 | BG57: =AD57+AE57 -> 0 | BH57: =AF57 -> 0 | BI57: =AG57+AH57 -> 0 | BJ57: =AM57 -> 0 | BK57: =AK57+AL57 -> 0 | BL57: =AM57 -> 0 | BM57: =AN57+AO57 -> 0
A58: 4.9 | B58: ºñ»Ë³ÛÇ µÝ³ÏáõÃÛ³Ý í³ÛñÁ áñáß»Éáõ í»ñ³µ»ñÛ³É | E58: 1 | G58: 1 | J58: 2 | L58: 2 | O58: 1 | P58: 1 | Y58: 1 | AT58: =E58 -> 1 | AU58: =F58+G58+H58+I58 -> 1 | AV58: =J58 -> 2 | AW58: =K58+L58+M58 -> 2 | AX58: =F58+G58+K58 -> 1 | AY58: =N58+Y58+Z58+AB58 -> 1 | AZ58: =O58 -> 1 | BA58: =P58+Q58+R58+S58+T58 -> 1 | BB58: =T58 -> 0 | BC58: =+U58+V58+W58 -> 0 | BD58: =Y58 -> 1 | BE58: =O58+X58 -> 1 | BF58: =AF58 -> 0 | BG58: =AD58+AE58 -> 0 | BH58: =AF58 -> 0 | BI58: =AG58+AH58 -> 0 | BJ58: =AM58 -> 0 | BK58: =AK58+AL58 -> 0 | BL58: =AM58 -> 0 | BM58: =AN58+AO58 -> 0
A59: 4.10 | B59: ºñ»Ë³ÛÇ Ñ»ï ï»ë³ÏóáõÃÛ³Ý Ï³ñ· ë³ÑÙ³Ý»Éáõ í»ñ³µ»ñÛ³É | E59: 2 | G59: 2 | J59: 2 | K59: 1 | L59: 1 | O59: 2 | P59: 1 | T59: 1 | V59: 1 | Y59: 2 | AB59: 1 | AT59: =E59 -> 2 | AU59: =F59+G59+H59+I59 -> 2 | AV59: =J59 -> 2 | AW59: =K59+L59+M59 -> 2 | AX59: =F59+G59+K59 -> 3 | AY59: =N59+Y59+Z59+AB59 -> 3 | AZ59: =O59 -> 2 | BA59: =P59+Q59+R59+S59+T59 -> 2 | BB59: =T59 -> 1 | BC59: =+U59+V59+W59 -> 1 | BD59: =Y59 -> 2 | BE59: =O59+X59 -> 2 | BF59: =AF59 -> 0 | BG59: =AD59+AE59 -> 0 | BH59: =AF59 -> 0 | BI59: =AG59+AH59 -> 0 | BJ59: =AM59 -> 0 | BK59: =AK59+AL59 -> 0 | BL59: =AM59 -> 0 | BM59: =AN59+AO59 -> 0
A60: 4.11 | B60: ²ÙáõëÇÝÝ»ñÇ ÁÝ¹Ñ³Ýáõñ ·áõÛùÁ µ³Å³Ý»Éáõ í»ñ³µ»ñÛ³É | AT60: =E60 -> 0 | AU60: =F60+G60+H60+I60 -> 0 | AV60: =J60 -> 0 | AW60: =K60+L60+M60 -> 0 | AX60: =F60+G60+K60 -> 0 | AY60: =N60+Y60+Z60+AB60 -> 0 | AZ60: =O60 -> 0 | BA60: =P60+Q60+R60+S60+T60 -> 0 | BB60: =T60 -> 0 | BC60: =+U60+V60+W60 -> 0 | BD60: =Y60 -> 0 | BE60: =O60+X60 -> 0 | BF60: =AF60 -> 0 | BG60: =AD60+AE60 -> 0 | BH60: =AF60 -> 0 | BI60: =AG60+AH60 -> 0 | BJ60: =AM60 -> 0 | BK60: =AK60+AL60 -> 0 | BL60: =AM60 -> 0 | BM60: =AN60+AO60 -> 0
A61: 4.12 | B61: ²ÙáõëÝ³Ï³Ý å³ÛÙ³Ý³·ñÇ ÷á÷áËÙ³Ý Ï³Ù ÉáõÍÙ³Ý í»ñ³µ»ñÛ³É | AT61: =E61 -> 0 | AU61: =F61+G61+H61+I61 -> 0 | AV61: =J61 -> 0 | AW61: =K61+L61+M61 -> 0 | AX61: =F61+G61+K61 -> 0 | AY61: =N61+Y61+Z61+AB61 -> 0 | AZ61: =O61 -> 0 | BA61: =P61+Q61+R61+S61+T61 -> 0 | BB61: =T61 -> 0 | BC61: =+U61+V61+W61 -> 0 | BD61: =Y61 -> 0 | BE61: =O61+X61 -> 0 | BF61: =AF61 -> 0 | BG61: =AD61+AE61 -> 0 | BH61: =AF61 -> 0 | BI61: =AG61+AH61 -> 0 | BJ61: =AM61 -> 0 | BK61: =AK61+AL61 -> 0 | BL61: =AM61 -> 0 | BM61: =AN61+AO61 -> 0
A62: 4.13 | B62: ²ÛÉ í»×»ñ | J62: 1 | K62: 1 | AB62: 1 | AT62: =E62 -> 0 | AU62: =F62+G62+H62+I62 -> 0 | AV62: =J62 -> 1 | AW62: =K62+L62+M62 -> 1 | AX62: =F62+G62+K62 -> 1 | AY62: =N62+Y62+Z62+AB62 -> 1 | AZ62: =O62 -> 0 | BA62: =P62+Q62+R62+S62+T62 -> 0 | BB62: =T62 -> 0 | BC62: =+U62+V62+W62 -> 0 | BD62: =Y62 -> 0 | BE62: =O62+X62 -> 0 | BF62: =AF62 -> 0 | BG62: =AD62+AE62 -> 0 | BH62: =AF62 -> 0 | BI62: =AG62+AH62 -> 0 | BJ62: =AM62 -> 0 | BK62: =AK62+AL62 -> 0 | BL62: =AM62 -> 0 | BM62: =AN62+AO62 -> 0
A63: 5. | B63: Øï³íáñ ë»÷³Ï³ÝáõÃÛ³Ý Ñ»ï Ï³åí³ÍÇñ³í³Ñ³ñ³µ»ñáõÃÛáõÝÝ»ñÇ í»ñ³µ»ñÛ³É ¹³ï³Ï³Ý ·áñÍ»ñ | E63: =SUM(E64:E69) -> 0 | F63: =SUM(F64:F69) -> 0 | G63: =SUM(G64:G69) -> 0 | H63: =SUM(H64:H69) -> 0 | I63: =SUM(I64:I69) -> 0 | J63: =SUM(J64:J69) -> 0 | K63: =SUM(K64:K69) -> 0 | L63: =SUM(L64:L69) -> 0 | ... BC63: =SUM(BC64:BC69) -> 0 | BD63: =Y63 -> 0 | BE63: =O63+X63 -> 0 | BF63: =SUM(BF64:BF69) -> 0 | BG63: =SUM(BG64:BG69) -> 0 | BH63: =SUM(BH64:BH69) -> 0 | BI63: =SUM(BI64:BI69) -> 0 | BJ63: =SUM(BJ64:BJ69) -> 0 | BK63: =SUM(BK64:BK69) -> 0 | BL63: =SUM(BL64:BL69) -> 0 | BM63: =SUM(BM64:BM69) -> 0
A64: 5.1 | B64: ÈÇó»Ý½³ÛÇÝ å³ÛÙ³Ý³·ñÇ ÉáõÍÙ³Ý, ÷á÷áËÙ³Ý ¨ ³Ýí³í»ñáõÃÛ³Ý í»ñ³µ»ñÛ³É | AT64: =E64 -> 0 | AU64: =F64+G64+H64+I64 -> 0 | AV64: =J64 -> 0 | AW64: =K64+L64+M64 -> 0 | AX64: =F64+G64+K64 -> 0 | AY64: =N64+Y64+Z64+AB64 -> 0 | AZ64: =O64 -> 0 | BA64: =P64+Q64+R64+S64+T64 -> 0 | BB64: =T64 -> 0 | BC64: =+U64+V64+W64 -> 0 | BD64: =Y64 -> 0 | BE64: =O64+X64 -> 0 | BF64: =AF64 -> 0 | BG64: =AD64+AE64 -> 0 | BH64: =AF64 -> 0 | BI64: =AG64+AH64 -> 0 | BJ64: =AM64 -> 0 | BK64: =AK64+AL64 -> 0 | BL64: =AM64 -> 0 | BM64: =AN64+AO64 -> 0
A65: 5.2 | B65: Øï³íáñ ·áñÍáõÝ»áõÃÛ³Ý ³ñ¹ÛáõÝùÝ»ñ ëï»ÕÍ»Éáõ ¨ û·ï³·áñÍ»Éáõ å³ÛÙ³Ý³·ñÇ ÉáõÍÙ³Ý, ÷á÷áËÙ³Ý áõ ³Ýí³í»ñáõÃÛ³Ý í»ñ³µ»ñÛ³É | AT65: =E65 -> 0 | AU65: =F65+G65+H65+I65 -> 0 | AV65: =J65 -> 0 | AW65: =K65+L65+M65 -> 0 | AX65: =F65+G65+K65 -> 0 | AY65: =N65+Y65+Z65+AB65 -> 0 | AZ65: =O65 -> 0 | BA65: =P65+Q65+R65+S65+T65 -> 0 | BB65: =T65 -> 0 | BC65: =+U65+V65+W65 -> 0 | BD65: =Y65 -> 0 | BE65: =O65+X65 -> 0 | BF65: =AF65 -> 0 | BG65: =AD65+AE65 -> 0 | BH65: =AF65 -> 0 | BI65: =AG65+AH65 -> 0 | BJ65: =AM65 -> 0 | BK65: =AK65+AL65 -> 0 | BL65: =AM65 -> 0 | BM65: =AN65+AO65 -> 0
A66: 5.3 | B66: Ð»ÕÇÝ³Ï³ÛÇÝ ¨ Ñ³ñ³ÏÇó Çñ³íáõÝùÝ»ñÇ í»ñ³µ»ñÛ³É | AT66: =E66 -> 0 | AU66: =F66+G66+H66+I66 -> 0 | AV66: =J66 -> 0 | AW66: =K66+L66+M66 -> 0 | AX66: =F66+G66+K66 -> 0 | AY66: =N66+Y66+Z66+AB66 -> 0 | AZ66: =O66 -> 0 | BA66: =P66+Q66+R66+S66+T66 -> 0 | BB66: =T66 -> 0 | BC66: =+U66+V66+W66 -> 0 | BD66: =Y66 -> 0 | BE66: =O66+X66 -> 0 | BF66: =AF66 -> 0 | BG66: =AD66+AE66 -> 0 | BH66: =AF66 -> 0 | BI66: =AG66+AH66 -> 0 | BJ66: =AM66 -> 0 | BK66: =AK66+AL66 -> 0 | BL66: =AM66 -> 0 | BM66: =AN66+AO66 -> 0
A67: 5.4 | B67: üÇñÙ³ÛÇÝ ³Ýí³ÝÙ³Ý í»ñ³µ»ñÛ³É | AT67: =E67 -> 0 | AU67: =F67+G67+H67+I67 -> 0 | AV67: =J67 -> 0 | AW67: =K67+L67+M67 -> 0 | AX67: =F67+G67+K67 -> 0 | AY67: =N67+Y67+Z67+AB67 -> 0 | AZ67: =O67 -> 0 | BA67: =P67+Q67+R67+S67+T67 -> 0 | BB67: =T67 -> 0 | BC67: =+U67+V67+W67 -> 0 | BD67: =Y67 -> 0 | BE67: =O67+X67 -> 0 | BF67: =AF67 -> 0 | BG67: =AD67+AE67 -> 0 | BH67: =AF67 -> 0 | BI67: =AG67+AH67 -> 0 | BJ67: =AM67 -> 0 | BK67: =AK67+AL67 -> 0 | BL67: =AM67 -> 0 | BM67: =AN67+AO67 -> 0
A68: 5.5 | B68: ²åñ³Ýù³ÛÇÝ Ýß³ÝÇ í»ñ³µ»ñÛ³É | AT68: =E68 -> 0 | AU68: =F68+G68+H68+I68 -> 0 | AV68: =J68 -> 0 | AW68: =K68+L68+M68 -> 0 | AX68: =F68+G68+K68 -> 0 | AY68: =N68+Y68+Z68+AB68 -> 0 | AZ68: =O68 -> 0 | BA68: =P68+Q68+R68+S68+T68 -> 0 | BB68: =T68 -> 0 | BC68: =+U68+V68+W68 -> 0 | BD68: =Y68 -> 0 | BE68: =O68+X68 -> 0 | BF68: =AF68 -> 0 | BG68: =AD68+AE68 -> 0 | BH68: =AF68 -> 0 | BI68: =AG68+AH68 -> 0 | BJ68: =AM68 -> 0 | BK68: =AK68+AL68 -> 0 | BL68: =AM68 -> 0 | BM68: =AN68+AO68 -> 0
A69: 5.6 | B69: ²ÛÉ í»×»ñ | AT69: =E69 -> 0 | AU69: =F69+G69+H69+I69 -> 0 | AV69: =J69 -> 0 | AW69: =K69+L69+M69 -> 0 | AX69: =F69+G69+K69 -> 0 | AY69: =N69+Y69+Z69+AB69 -> 0 | AZ69: =O69 -> 0 | BA69: =P69+Q69+R69+S69+T69 -> 0 | BB69: =T69 -> 0 | BC69: =+U69+V69+W69 -> 0 | BD69: =Y69 -> 0 | BE69: =O69+X69 -> 0 | BF69: =AF69 -> 0 | BG69: =AD69+AE69 -> 0 | BH69: =AF69 -> 0 | BI69: =AG69+AH69 -> 0 | BJ69: =AM69 -> 0 | BK69: =AK69+AL69 -> 0 | BL69: =AM69 -> 0 | BM69: =AN69+AO69 -> 0
A70: 6. | B70: ²ßË³ï³Ýù³ÛÇÝ Çñ³í³Ñ³ñ³µ»ñáõÃÛáõÝÝ»ñÇ í»ñ³µ»ñÛ³É ¹³ï³Ï³Ý ·áñÍ»ñ | E70: =SUM(E71:E76) -> 0 | F70: =SUM(F71:F76) -> 0 | G70: =SUM(G71:G76) -> 0 | H70: =SUM(H71:H76) -> 0 | I70: =SUM(I71:I76) -> 0 | J70: =SUM(J71:J76) -> 0 | K70: =SUM(K71:K76) -> 0 | L70: =SUM(L71:L76) -> 0 | ... BC70: =SUM(BC71:BC76) -> 0 | BD70: =Y70 -> 0 | BE70: =O70+X70 -> 0 | BF70: =SUM(BF71:BF76) -> 0 | BG70: =SUM(BG71:BG76) -> 0 | BH70: =SUM(BH71:BH76) -> 0 | BI70: =SUM(BI71:BI76) -> 0 | BJ70: =SUM(BJ71:BJ76) -> 0 | BK70: =SUM(BK71:BK76) -> 0 | BL70: =SUM(BL71:BL76) -> 0 | BM70: =SUM(BM71:BM76) -> 0
A71: 6.1 | B71: ²ßË³ï³Ýù³ÛÇÝ å³ÛÙ³Ý³·ñ»ñÇ í»ñ³µ»ñÛ³É | AT71: =E71 -> 0 | AU71: =F71+G71+H71+I71 -> 0 | AV71: =J71 -> 0 | AW71: =K71+L71+M71 -> 0 | AX71: =F71+G71+K71 -> 0 | AY71: =N71+Y71+Z71+AB71 -> 0 | AZ71: =O71 -> 0 | BA71: =P71+Q71+R71+S71+T71 -> 0 | BB71: =T71 -> 0 | BC71: =+U71+V71+W71 -> 0 | BD71: =Y71 -> 0 | BE71: =O71+X71 -> 0 | BF71: =AF71 -> 0 | BG71: =AD71+AE71 -> 0 | BH71: =AF71 -> 0 | BI71: =AG71+AH71 -> 0 | BJ71: =AM71 -> 0 | BK71: =AK71+AL71 -> 0 | BL71: =AM71 -> 0 | BM71: =AN71+AO71 -> 0
A72: 6.2 | B72: ²ßË³ï³ÝùáõÙ í»ñ³Ï³Ý·Ý»Éáõ í»ñ³µ»ñÛ³É | AT72: =E72 -> 0 | AU72: =F72+G72+H72+I72 -> 0 | AV72: =J72 -> 0 | AW72: =K72+L72+M72 -> 0 | AX72: =F72+G72+K72 -> 0 | AY72: =N72+Y72+Z72+AB72 -> 0 | AZ72: =O72 -> 0 | BA72: =P72+Q72+R72+S72+T72 -> 0 | BB72: =T72 -> 0 | BC72: =+U72+V72+W72 -> 0 | BD72: =Y72 -> 0 | BE72: =O72+X72 -> 0 | BF72: =AF72 -> 0 | BG72: =AD72+AE72 -> 0 | BH72: =AF72 -> 0 | BI72: =AG72+AH72 -> 0 | BJ72: =AM72 -> 0 | BK72: =AK72+AL72 -> 0 | BL72: =AM72 -> 0 | BM72: =AN72+AO72 -> 0
A73: 6.3 | B73: ¶áñÍ³¹áõÉÝ ³ÝûñÇÝ³Ï³Ý ×³Ý³ã»Éáõ í»ñ³µ»ñÛ³É | AT73: =E73 -> 0 | AU73: =F73+G73+H73+I73 -> 0 | AV73: =J73 -> 0 | AW73: =K73+L73+M73 -> 0 | AX73: =F73+G73+K73 -> 0 | AY73: =N73+Y73+Z73+AB73 -> 0 | AZ73: =O73 -> 0 | BA73: =P73+Q73+R73+S73+T73 -> 0 | BB73: =T73 -> 0 | BC73: =+U73+V73+W73 -> 0 | BD73: =Y73 -> 0 | BE73: =O73+X73 -> 0 | BF73: =AF73 -> 0 | BG73: =AD73+AE73 -> 0 | BH73: =AF73 -> 0 | BI73: =AG73+AH73 -> 0 | BJ73: =AM73 -> 0 | BK73: =AK73+AL73 -> 0 | BL73: =AM73 -> 0 | BM73: =AN73+AO73 -> 0
A74: 6.4 | B74: Ð³ñÏ³¹Çñ å³ñ³åáõñ¹Ç Ñ³ïáõóÙ³Ý í»ñ³µ»ñÛ³É | AT74: =E74 -> 0 | AU74: =F74+G74+H74+I74 -> 0 | AV74: =J74 -> 0 | AW74: =K74+L74+M74 -> 0 | AX74: =F74+G74+K74 -> 0 | AY74: =N74+Y74+Z74+AB74 -> 0 | AZ74: =O74 -> 0 | BA74: =P74+Q74+R74+S74+T74 -> 0 | BB74: =T74 -> 0 | BC74: =+U74+V74+W74 -> 0 | BD74: =Y74 -> 0 | BE74: =O74+X74 -> 0 | BF74: =AF74 -> 0 | BG74: =AD74+AE74 -> 0 | BH74: =AF74 -> 0 | BI74: =AG74+AH74 -> 0 | BJ74: =AM74 -> 0 | BK74: =AK74+AL74 -> 0 | BL74: =AM74 -> 0 | BM74: =AN74+AO74 -> 0
A75: 6.5 | B75: âí×³ñí³Í ³ßË³ï³í³ñÓÇ ¨/Ï³Ù ³ÛÉ í×³ñÝ»ñÇ µéÝ³·³ÝÓÙ³Ý í»ñ³µ»ñÛ³É | AT75: =E75 -> 0 | AU75: =F75+G75+H75+I75 -> 0 | AV75: =J75 -> 0 | AW75: =K75+L75+M75 -> 0 | AX75: =F75+G75+K75 -> 0 | AY75: =N75+Y75+Z75+AB75 -> 0 | AZ75: =O75 -> 0 | BA75: =P75+Q75+R75+S75+T75 -> 0 | BB75: =T75 -> 0 | BC75: =+U75+V75+W75 -> 0 | BD75: =Y75 -> 0 | BE75: =O75+X75 -> 0 | BF75: =AF75 -> 0 | BG75: =AD75+AE75 -> 0 | BH75: =AF75 -> 0 | BI75: =AG75+AH75 -> 0 | BJ75: =AM75 -> 0 | BK75: =AK75+AL75 -> 0 | BL75: =AM75 -> 0 | BM75: =AN75+AO75 -> 0
A76: 6.6 | B76: ²ÛÉ í»×»ñ | AT76: =E76 -> 0 | AU76: =F76+G76+H76+I76 -> 0 | AV76: =J76 -> 0 | AW76: =K76+L76+M76 -> 0 | AX76: =F76+G76+K76 -> 0 | AY76: =N76+Y76+Z76+AB76 -> 0 | AZ76: =O76 -> 0 | BA76: =P76+Q76+R76+S76+T76 -> 0 | BB76: =T76 -> 0 | BC76: =+U76+V76+W76 -> 0 | BD76: =Y76 -> 0 | BE76: =O76+X76 -> 0 | BF76: =AF76 -> 0 | BG76: =AD76+AE76 -> 0 | BH76: =AF76 -> 0 | BI76: =AG76+AH76 -> 0 | BJ76: =AM76 -> 0 | BK76: =AK76+AL76 -> 0 | BL76: =AM76 -> 0 | BM76: =AN76+AO76 -> 0
A77: 7. | B77: Æñ³í³µ³Ý³Ï³Ý ³ÝÓÇ ·áñÍáõÝ»áõÃÛáõÝÇó µËáÕ Çñ³í³Ñ³ñ³µ»ñáõÃÛáõÝÝ»ñÇ í»ñ³µ»ñÛ³É ¹³ï³Ï³Ý ·áñÍ»ñ | E77: =SUM(E78:E79) -> 0 | F77: =SUM(F78:F79) -> 0 | G77: =SUM(G78:G79) -> 0 | H77: =SUM(H78:H79) -> 0 | I77: =SUM(I78:I79) -> 0 | J77: =SUM(J78:J79) -> 0 | K77: =SUM(K78:K79) -> 0 | L77: =SUM(L78:L79) -> 0 | ... BC77: =SUM(BC78:BC79) -> 0 | BD77: =Y77 -> 0 | BE77: =O77+X77 -> 0 | BF77: =SUM(BF78:BF79) -> 0 | BG77: =SUM(BG78:BG79) -> 0 | BH77: =SUM(BH78:BH79) -> 0 | BI77: =SUM(BI78:BI79) -> 0 | BJ77: =SUM(BJ78:BJ79) -> 0 | BK77: =SUM(BK78:BK79) -> 0 | BL77: =SUM(BL78:BL79) -> 0 | BM77: =SUM(BM78:BM79) -> 0
A78: 7.1 | B78: Îáñåáñ³ïÇí í»×»ñ | AT78: =E78 -> 0 | AU78: =F78+G78+H78+I78 -> 0 | AV78: =J78 -> 0 | AW78: =K78+L78+M78 -> 0 | AX78: =F78+G78+K78 -> 0 | AY78: =N78+Y78+Z78+AB78 -> 0 | AZ78: =O78 -> 0 | BA78: =P78+Q78+R78+S78+T78 -> 0 | BB78: =T78 -> 0 | BC78: =+U78+V78+W78 -> 0 | BD78: =Y78 -> 0 | BE78: =O78+X78 -> 0 | BF78: =AF78 -> 0 | BG78: =AD78+AE78 -> 0 | BH78: =AF78 -> 0 | BI78: =AG78+AH78 -> 0 | BJ78: =AM78 -> 0 | BK78: =AK78+AL78 -> 0 | BL78: =AM78 -> 0 | BM78: =AN78+AO78 -> 0
A79: 7.2 | B79: ²ÛÉ í»×»ñ | AT79: =E79 -> 0 | AU79: =F79+G79+H79+I79 -> 0 | AV79: =J79 -> 0 | AW79: =K79+L79+M79 -> 0 | AX79: =F79+G79+K79 -> 0 | AY79: =N79+Y79+Z79+AB79 -> 0 | AZ79: =O79 -> 0 | BA79: =P79+Q79+R79+S79+T79 -> 0 | BB79: =T79 -> 0 | BC79: =+U79+V79+W79 -> 0 | BD79: =Y79 -> 0 | BE79: =O79+X79 -> 0 | BF79: =AF79 -> 0 | BG79: =AD79+AE79 -> 0 | BH79: =AF79 -> 0 | BI79: =AG79+AH79 -> 0 | BJ79: =AM79 -> 0 | BK79: =AK79+AL79 -> 0 | BL79: =AM79 -> 0 | BM79: =AN79+AO79 -> 0
A80: 8. | B80: Ð³ïáõÏ í³ñáõÛÃÇ ¹³ï³Ï³Ý ·áñÍ»ñ | E80: =SUM(E81:E101) -> 25 | F80: =SUM(F81:F101) -> 4 | G80: =SUM(G81:G101) -> 21 | H80: =SUM(H81:H101) -> 0 | I80: =SUM(I81:I101) -> 0 | J80: =SUM(J81:J101) -> 41 | K80: =SUM(K81:K101) -> 25 | L80: =SUM(L81:L101) -> 15 | ... BC80: =SUM(BC81:BC101) -> 12 | BD80: =Y80 -> 32 | BE80: =O80+X80 -> 32 | BF80: =SUM(BF81:BF101) -> 3 | BG80: =SUM(BG81:BG101) -> 3 | BH80: =SUM(BH81:BH101) -> 3 | BI80: =SUM(BI81:BI101) -> 3 | BJ80: =SUM(BJ81:BJ101) -> 1 | BK80: =SUM(BK81:BK101) -> 1 | BL80: =SUM(BL81:BL101) -> 1 | BM80: =SUM(BM81:BM101) -> 1
A81: 8.1 | B81: ²Ýã³÷³Ñ³ëÇÝ ÉñÇí ·áñÍáõÝ³Ï ×³Ý³ã»Éáõ /¿Ù³ÝëÇå³óÇ³/ í»ñ³µ»ñÛ³É | AT81: =E81 -> 0 | AU81: =F81+G81+H81+I81 -> 0 | AV81: =J81 -> 0 | AW81: =K81+L81+M81 -> 0 | AX81: =F81+G81+K81 -> 0 | AY81: =N81+Y81+Z81+AB81 -> 0 | AZ81: =O81 -> 0 | BA81: =P81+Q81+R81+S81+T81 -> 0 | BB81: =T81 -> 0 | BC81: =+U81+V81+W81 -> 0 | BD81: =Y81 -> 0 | BE81: =O81+X81 -> 0 | BF81: =AF81 -> 0 | BG81: =AD81+AE81 -> 0 | BH81: =AF81 -> 0 | BI81: =AG81+AH81 -> 0 | BJ81: =AM81 -> 0 | BK81: =AK81+AL81 -> 0 | BL81: =AM81 -> 0 | BM81: =AN81+AO81 -> 0
A82: 8.2 | B82: ø³Õ³ù³óáõÝ ³Ý·áñÍáõÝ³Ï Ï³Ù ë³ÑÙ³Ý³÷³Ï ·áñÍáõÝ³Ï ×³Ý³ã»Éáõ í»ñ³µ»ñÛ³É | E82: 6 | G82: 6 | J82: 6 | K82: 3 | L82: 3 | O82: 5 | P82: 3 | T82: 2 | V82: 2 | Y82: 5 | AA82: 4 | AB82: 4 | AC82: 4 | AT82: =E82 -> 6 | AU82: =F82+G82+H82+I82 -> 6 | AV82: =J82 -> 6 | AW82: =K82+L82+M82 -> 6 | AX82: =F82+G82+K82 -> 9 | AY82: =N82+Y82+Z82+AB82 -> 9 | AZ82: =O82 -> 5 | BA82: =P82+Q82+R82+S82+T82 -> 5 | BB82: =T82 -> 2 | BC82: =+U82+V82+W82 -> 2 | BD82: =Y82 -> 5 | BE82: =O82+X82 -> 5 | BF82: =AF82 -> 0 | BG82: =AD82+AE82 -> 0 | BH82: =AF82 -> 0 | BI82: =AG82+AH82 -> 0 | BJ82: =AM82 -> 0 | BK82: =AK82+AL82 -> 0 | BL82: =AM82 -> 0 | BM82: =AN82+AO82 -> 0
A83: 8.3 | B83: ø³Õ³ù³óáõÝ Ñá·»µáõÅ³Ï³Ý ÑÇí³Ý¹³Ýáó³ÛÇÝ Ñ³ñÏ³¹Çñ µáõÅÙ³Ý »ÝÃ³ñÏ»Éáõ í»ñ³µ»ñÛ³É | J83: 2 | K83: 1 | L83: 1 | O83: 1 | T83: 1 | V83: 1 | Y83: 1 | AT83: =E83 -> 0 | AU83: =F83+G83+H83+I83 -> 0 | AV83: =J83 -> 2 | AW83: =K83+L83+M83 -> 2 | AX83: =F83+G83+K83 -> 1 | AY83: =N83+Y83+Z83+AB83 -> 1 | AZ83: =O83 -> 1 | BA83: =P83+Q83+R83+S83+T83 -> 1 | BB83: =T83 -> 1 | BC83: =+U83+V83+W83 -> 1 | BD83: =Y83 -> 1 | BE83: =O83+X83 -> 1 | BF83: =AF83 -> 0 | BG83: =AD83+AE83 -> 0 | BH83: =AF83 -> 0 | BI83: =AG83+AH83 -> 0 | BJ83: =AM83 -> 0 | BK83: =AK83+AL83 -> 0 | BL83: =AM83 -> 0 | BM83: =AN83+AO83 -> 0
A84: 8.4 | B84: ø³Õ³ù³óáõÝ ³ÝÑ³Ûï µ³ó³Ï³ÛáÕ Ï³Ù Ù³Ñ³ó³Í ×³Ý³ã»Éáõ í»ñ³µ»ñÛ³É | E84: 3 | F84: 3 | J84: 1 | K84: 1 | O84: 4 | P84: 2 | T84: 2 | V84: 2 | Y84: 4 | AT84: =E84 -> 3 | AU84: =F84+G84+H84+I84 -> 3 | AV84: =J84 -> 1 | AW84: =K84+L84+M84 -> 1 | AX84: =F84+G84+K84 -> 4 | AY84: =N84+Y84+Z84+AB84 -> 4 | AZ84: =O84 -> 4 | BA84: =P84+Q84+R84+S84+T84 -> 4 | BB84: =T84 -> 2 | BC84: =+U84+V84+W84 -> 2 | BD84: =Y84 -> 4 | BE84: =O84+X84 -> 4 | BF84: =AF84 -> 0 | BG84: =AD84+AE84 -> 0 | BH84: =AF84 -> 0 | BI84: =AG84+AH84 -> 0 | BJ84: =AM84 -> 0 | BK84: =AK84+AL84 -> 0 | BL84: =AM84 -> 0 | BM84: =AN84+AO84 -> 0
A85: 8.5 | B85: ø³Õ³ù³óÇ³Ï³Ý Ï³óáõÃÛ³Ý ³Ïï»ñÇ ·ñ³éáõÙÝ»ñÇ ³Ý×ßïáõÃÛáõÝÝ»ñÁ å³ñ½»Éáõ í»ñ³µ»ñÛ³É | AT85: =E85 -> 0 | AU85: =F85+G85+H85+I85 -> 0 | AV85: =J85 -> 0 | AW85: =K85+L85+M85 -> 0 | AX85: =F85+G85+K85 -> 0 | AY85: =N85+Y85+Z85+AB85 -> 0 | AZ85: =O85 -> 0 | BA85: =P85+Q85+R85+S85+T85 -> 0 | BB85: =T85 -> 0 | BC85: =+U85+V85+W85 -> 0 | BD85: =Y85 -> 0 | BE85: =O85+X85 -> 0 | BF85: =AF85 -> 0 | BG85: =AD85+AE85 -> 0 | BH85: =AF85 -> 0 | BI85: =AG85+AH85 -> 0 | BJ85: =AM85 -> 0 | BK85: =AK85+AL85 -> 0 | BL85: =AM85 -> 0 | BM85: =AN85+AO85 -> 0
A86: 8.6 | B86: ¶áõÛùÁ ïÇñ³½áõñÏ ×³Ý³ã»Éáõ í»ñ³µ»ñÛ³É | J86: 1 | K86: 1 | AB86: 1 | AT86: =E86 -> 0 | AU86: =F86+G86+H86+I86 -> 0 | AV86: =J86 -> 1 | AW86: =K86+L86+M86 -> 1 | AX86: =F86+G86+K86 -> 1 | AY86: =N86+Y86+Z86+AB86 -> 1 | AZ86: =O86 -> 0 | BA86: =P86+Q86+R86+S86+T86 -> 0 | BB86: =T86 -> 0 | BC86: =+U86+V86+W86 -> 0 | BD86: =Y86 -> 0 | BE86: =O86+X86 -> 0 | BF86: =AF86 -> 0 | BG86: =AD86+AE86 -> 0 | BH86: =AF86 -> 0 | BI86: =AG86+AH86 -> 0 | BJ86: =AM86 -> 0 | BK86: =AK86+AL86 -> 0 | BL86: =AM86 -> 0 | BM86: =AN86+AO86 -> 0
A87: 8.6.1 | B87: ²Û¹ ÃíáõÙª ³Ýß³ñÅ ·áõÛùÁ | AT87: =E87 -> 0 | AU87: =F87+G87+H87+I87 -> 0 | AV87: =J87 -> 0 | AW87: =K87+L87+M87 -> 0 | AX87: =F87+G87+K87 -> 0 | AY87: =N87+Y87+Z87+AB87 -> 0 | AZ87: =O87 -> 0 | BA87: =P87+Q87+R87+S87+T87 -> 0 | BB87: =T87 -> 0 | BC87: =+U87+V87+W87 -> 0 | BD87: =Y87 -> 0 | BE87: =O87+X87 -> 0 | BF87: =AF87 -> 0 | BG87: =AD87+AE87 -> 0 | BH87: =AF87 -> 0 | BI87: =AG87+AH87 -> 0 | BJ87: =AM87 -> 0 | BK87: =AK87+AL87 -> 0 | BL87: =AM87 -> 0 | BM87: =AN87+AO87 -> 0
A88: 8.6.2 | B88: ²Û¹ ÃíáõÙª ß³ñÅ³Ï³Ý ·áõÛùÁ | AT88: =E88 -> 0 | AU88: =F88+G88+H88+I88 -> 0 | AV88: =J88 -> 0 | AW88: =K88+L88+M88 -> 0 | AX88: =F88+G88+K88 -> 0 | AY88: =N88+Y88+Z88+AB88 -> 0 | AZ88: =O88 -> 0 | BA88: =P88+Q88+R88+S88+T88 -> 0 | BB88: =T88 -> 0 | BC88: =+U88+V88+W88 -> 0 | BD88: =Y88 -> 0 | BE88: =O88+X88 -> 0 | BF88: =AF88 -> 0 | BG88: =AD88+AE88 -> 0 | BH88: =AF88 -> 0 | BI88: =AG88+AH88 -> 0 | BJ88: =AM88 -> 0 | BK88: =AK88+AL88 -> 0 | BL88: =AM88 -> 0 | BM88: =AN88+AO88 -> 0
A89: 8.7 | B89: Æñ³í³µ³Ý³Ï³Ý Ýß³Ý³ÏáõÃÛáõÝ áõÝ»óáÕ ÷³ëï»ñÇ Ñ³ëï³ïÙ³Ý í»ñ³µ»ñÛ³É | AT89: =E89 -> 0 | AU89: =F89+G89+H89+I89 -> 0 | AV89: =J89 -> 0 | AW89: =K89+L89+M89 -> 0 | AX89: =F89+G89+K89 -> 0 | AY89: =N89+Y89+Z89+AB89 -> 0 | AZ89: =O89 -> 0 | BA89: =P89+Q89+R89+S89+T89 -> 0 | BB89: =T89 -> 0 | BC89: =+U89+V89+W89 -> 0 | BD89: =Y89 -> 0 | BE89: =O89+X89 -> 0 | BF89: =AF89 -> 0 | BG89: =AD89+AE89 -> 0 | BH89: =AF89 -> 0 | BI89: =AG89+AH89 -> 0 | BJ89: =AM89 -> 0 | BK89: =AK89+AL89 -> 0 | BL89: =AM89 -> 0 | BM89: =AN89+AO89 -> 0
A90: 8.7.1 | B90: ²ÝÓ³Ýó ³½·³Ïó³Ï³Ý Ï³åÁ Ñ³ëï³ï»Éáõ í»ñ³µ»ñÛ³É | E90: 4 | G90: 4 | J90: 10 | K90: 9 | L90: 1 | O90: 11 | P90: 8 | R90: 1 | T90: 2 | V90: 2 | Y90: 11 | AB90: 2 | AD90: 1 | AF90: 1 | AH90: 1 | AT90: =E90 -> 4 | AU90: =F90+G90+H90+I90 -> 4 | AV90: =J90 -> 10 | AW90: =K90+L90+M90 -> 10 | AX90: =F90+G90+K90 -> 13 | AY90: =N90+Y90+Z90+AB90 -> 13 | AZ90: =O90 -> 11 | BA90: =P90+Q90+R90+S90+T90 -> 11 | BB90: =T90 -> 2 | BC90: =+U90+V90+W90 -> 2 | BD90: =Y90 -> 11 | BE90: =O90+X90 -> 11 | BF90: =AF90 -> 1 | BG90: =AD90+AE90 -> 1 | BH90: =AF90 -> 1 | BI90: =AG90+AH90 -> 1 | BJ90: =AM90 -> 0 | BK90: =AK90+AL90 -> 0 | BL90: =AM90 -> 0 | BM90: =AN90+AO90 -> 0
A91: 8.7.2 | B91: ²ÝÓÇª áõñÇßÇ ËÝ³ÙùÇ ï³Ï ·ïÝí»Éáõ í»ñ³µ»ñÛ³É | AT91: =E91 -> 0 | AU91: =F91+G91+H91+I91 -> 0 | AV91: =J91 -> 0 | AW91: =K91+L91+M91 -> 0 | AX91: =F91+G91+K91 -> 0 | AY91: =N91+Y91+Z91+AB91 -> 0 | AZ91: =O91 -> 0 | BA91: =P91+Q91+R91+S91+T91 -> 0 | BB91: =T91 -> 0 | BC91: =+U91+V91+W91 -> 0 | BD91: =Y91 -> 0 | BE91: =O91+X91 -> 0 | BF91: =AF91 -> 0 | BG91: =AD91+AE91 -> 0 | BH91: =AF91 -> 0 | BI91: =AG91+AH91 -> 0 | BJ91: =AM91 -> 0 | BK91: =AK91+AL91 -> 0 | BL91: =AM91 -> 0 | BM91: =AN91+AO91 -> 0
A92: 8.7.3 | B92: ÌÝÝ¹Û³Ý, áñ¹»·ñÙ³Ý, ³ÙáõëÝáõÃÛ³Ý, ³å³Ñ³ñ½³ÝÇ ¨ Ù³Ñí³Ý ·ñ³ÝóÙ³Ý í»ñ³µ»ñÛ³É | J92: 3 | K92: 2 | L92: 1 | O92: 1 | P92: 1 | Y92: 1 | AB92: 1 | AT92: =E92 -> 0 | AU92: =F92+G92+H92+I92 -> 0 | AV92: =J92 -> 3 | AW92: =K92+L92+M92 -> 3 | AX92: =F92+G92+K92 -> 2 | AY92: =N92+Y92+Z92+AB92 -> 2 | AZ92: =O92 -> 1 | BA92: =P92+Q92+R92+S92+T92 -> 1 | BB92: =T92 -> 0 | BC92: =+U92+V92+W92 -> 0 | BD92: =Y92 -> 1 | BE92: =O92+X92 -> 1 | BF92: =AF92 -> 0 | BG92: =AD92+AE92 -> 0 | BH92: =AF92 -> 0 | BI92: =AG92+AH92 -> 0 | BJ92: =AM92 -> 0 | BK92: =AK92+AL92 -> 0 | BL92: =AM92 -> 0 | BM92: =AN92+AO92 -> 0
A93: 8.7.4 | B93: ²ÝÓÇª áñáß³ÏÇ Å³Ù³Ý³ÏáõÙ ¨ áñáß³ÏÇ Ñ³Ý·³Ù³ÝùÝ»ñáõÙ Ù³Ñí³Ý í»ñ³µ»ñÛ³É | J93: 2 | K93: 1 | L93: 1 | AB93: 1 | AE93: 1 | AF93: 1 | AH93: 1 | AL93: 1 | AM93: 1 | AO93: 1 | AT93: =E93 -> 0 | AU93: =F93+G93+H93+I93 -> 0 | AV93: =J93 -> 2 | AW93: =K93+L93+M93 -> 2 | AX93: =F93+G93+K93 -> 1 | AY93: =N93+Y93+Z93+AB93 -> 1 | AZ93: =O93 -> 0 | BA93: =P93+Q93+R93+S93+T93 -> 0 | BB93: =T93 -> 0 | BC93: =+U93+V93+W93 -> 0 | BD93: =Y93 -> 0 | BE93: =O93+X93 -> 0 | BF93: =AF93 -> 1 | BG93: =AD93+AE93 -> 1 | BH93: =AF93 -> 1 | BI93: =AG93+AH93 -> 1 | BJ93: =AM93 -> 1 | BK93: =AK93+AL93 -> 1 | BL93: =AM93 -> 1 | BM93: =AN93+AO93 -> 1
A94: 8.7.5 | B94: Ä³é³Ý·áõÃÛáõÝÝ ÁÝ¹áõÝ»Éáõ ¨ Å³é³Ý·áõÃÛ³Ý µ³óÙ³Ý í³ÛñÇ í»ñ³µ»ñÛ³É | E94: 6 | F94: 1 | G94: 5 | J94: 10 | K94: 5 | L94: 4 | M94: 1 | O94: 4 | P94: 1 | T94: 3 | U94: 1 | V94: 2 | Y94: 4 | AB94: 7 | AE94: 1 | AF94: 1 | AH94: 1 | AT94: =E94 -> 6 | AU94: =F94+G94+H94+I94 -> 6 | AV94: =J94 -> 10 | AW94: =K94+L94+M94 -> 10 | AX94: =F94+G94+K94 -> 11 | AY94: =N94+Y94+Z94+AB94 -> 11 | AZ94: =O94 -> 4 | BA94: =P94+Q94+R94+S94+T94 -> 4 | BB94: =T94 -> 3 | BC94: =+U94+V94+W94 -> 3 | BD94: =Y94 -> 4 | BE94: =O94+X94 -> 4 | BF94: =AF94 -> 1 | BG94: =AD94+AE94 -> 1 | BH94: =AF94 -> 1 | BI94: =AG94+AH94 -> 1 | BJ94: =AM94 -> 0 | BK94: =AK94+AL94 -> 0 | BL94: =AM94 -> 0 | BM94: =AN94+AO94 -> 0
A95: 8.7.6 | B95: ¸Åµ³Ëï å³ï³Ñ³ñÇ í»ñ³µ»ñÛ³É | AT95: =E95 -> 0 | AU95: =F95+G95+H95+I95 -> 0 | AV95: =J95 -> 0 | AW95: =K95+L95+M95 -> 0 | AX95: =F95+G95+K95 -> 0 | AY95: =N95+Y95+Z95+AB95 -> 0 | AZ95: =O95 -> 0 | BA95: =P95+Q95+R95+S95+T95 -> 0 | BB95: =T95 -> 0 | BC95: =+U95+V95+W95 -> 0 | BD95: =Y95 -> 0 | BE95: =O95+X95 -> 0 | BF95: =AF95 -> 0 | BG95: =AD95+AE95 -> 0 | BH95: =AF95 -> 0 | BI95: =AG95+AH95 -> 0 | BJ95: =AM95 -> 0 | BK95: =AK95+AL95 -> 0 | BL95: =AM95 -> 0 | BM95: =AN95+AO95 -> 0
A96: 8.7.7 | B96: Æñ³íáõÝù ë³ÑÙ³ÝáÕ ÷³ëï³ÃÕÃ»ñÇ å³ïÏ³Ý»ÉáõÃÛ³Ý í»ñ³µ»ñÛ³É | E96: 5 | G96: 5 | J96: 5 | K96: 2 | L96: 3 | O96: 5 | P96: 2 | Q96: 1 | T96: 2 | V96: 2 | Y96: 5 | AB96: 2 | AT96: =E96 -> 5 | AU96: =F96+G96+H96+I96 -> 5 | AV96: =J96 -> 5 | AW96: =K96+L96+M96 -> 5 | AX96: =F96+G96+K96 -> 7 | AY96: =N96+Y96+Z96+AB96 -> 7 | AZ96: =O96 -> 5 | BA96: =P96+Q96+R96+S96+T96 -> 5 | BB96: =T96 -> 2 | BC96: =+U96+V96+W96 -> 2 | BD96: =Y96 -> 5 | BE96: =O96+X96 -> 5 | BF96: =AF96 -> 0 | BG96: =AD96+AE96 -> 0 | BH96: =AF96 -> 0 | BI96: =AG96+AH96 -> 0 | BJ96: =AM96 -> 0 | BK96: =AK96+AL96 -> 0 | BL96: =AM96 -> 0 | BM96: =AN96+AO96 -> 0
A97: 8.7.8 | B97: ê»÷³Ï³ÝáõÃÛ³Ý Çñ³íáõÝùáí ·áõÛùÇ ïÇñ³å»ïÙ³Ý í»ñ³µ»ñÛ³É | J97: 1 | L97: 1 | AT97: =E97 -> 0 | AU97: =F97+G97+H97+I97 -> 0 | AV97: =J97 -> 1 | AW97: =K97+L97+M97 -> 1 | AX97: =F97+G97+K97 -> 0 | AY97: =N97+Y97+Z97+AB97 -> 0 | AZ97: =O97 -> 0 | BA97: =P97+Q97+R97+S97+T97 -> 0 | BB97: =T97 -> 0 | BC97: =+U97+V97+W97 -> 0 | BD97: =Y97 -> 0 | BE97: =O97+X97 -> 0 | BF97: =AF97 -> 0 | BG97: =AD97+AE97 -> 0 | BH97: =AF97 -> 0 | BI97: =AG97+AH97 -> 0 | BJ97: =AM97 -> 0 | BK97: =AK97+AL97 -> 0 | BL97: =AM97 -> 0 | BM97: =AN97+AO97 -> 0
A98: 8.7.9 | B98: ²ÝÑ³ÕÃ³Ñ³ñ»ÉÇ áõÅÇ ³éÏ³ÛáõÃÛ³Ý í»ñ³µ»ñÛ³É | AT98: =E98 -> 0 | AU98: =F98+G98+H98+I98 -> 0 | AV98: =J98 -> 0 | AW98: =K98+L98+M98 -> 0 | AX98: =F98+G98+K98 -> 0 | AY98: =N98+Y98+Z98+AB98 -> 0 | AZ98: =O98 -> 0 | BA98: =P98+Q98+R98+S98+T98 -> 0 | BB98: =T98 -> 0 | BC98: =+U98+V98+W98 -> 0 | BD98: =Y98 -> 0 | BE98: =O98+X98 -> 0 | BF98: =AF98 -> 0 | BG98: =AD98+AE98 -> 0 | BH98: =AF98 -> 0 | BI98: =AG98+AH98 -> 0 | BJ98: =AM98 -> 0 | BK98: =AK98+AL98 -> 0 | BL98: =AM98 -> 0 | BM98: =AN98+AO98 -> 0
A99: 8.7.10 | B99: úñ»Ýùáí Ý³Ë³ï»ëí³Í ³ÛÉ Çñ³í³µ³Ý³Ï³Ý ÷³ëï»ñÇ í»ñ³µ»ñÛ³É | AT99: =E99 -> 0 | AU99: =F99+G99+H99+I99 -> 0 | AV99: =J99 -> 0 | AW99: =K99+L99+M99 -> 0 | AX99: =F99+G99+K99 -> 0 | AY99: =N99+Y99+Z99+AB99 -> 0 | AZ99: =O99 -> 0 | BA99: =P99+Q99+R99+S99+T99 -> 0 | BB99: =T99 -> 0 | BC99: =+U99+V99+W99 -> 0 | BD99: =Y99 -> 0 | BE99: =O99+X99 -> 0 | BF99: =AF99 -> 0 | BG99: =AD99+AE99 -> 0 | BH99: =AF99 -> 0 | BI99: =AG99+AH99 -> 0 | BJ99: =AM99 -> 0 | BK99: =AK99+AL99 -> 0 | BL99: =AM99 -> 0 | BM99: =AN99+AO99 -> 0
A100: 8.8 | B100: Àëï Ý»ñÏ³Û³óÝáÕÇ ¨ ûñ¹»ñ³ÛÇÝ Ïáñóñ³Í ³ñÅ»ÃÕÃ»ñáí Ñ³í³ëïí³Í Çñ³íáõÝùÝ»ñÁ í»ñ³Ï³Ý·Ý»Éáõ í»ñ³µ»ñÛ³É | AT100: =E100 -> 0 | AU100: =F100+G100+H100+I100 -> 0 | AV100: =J100 -> 0 | AW100: =K100+L100+M100 -> 0 | AX100: =F100+G100+K100 -> 0 | AY100: =N100+Y100+Z100+AB100 -> 0 | AZ100: =O100 -> 0 | BA100: =P100+Q100+R100+S100+T100 -> 0 | BB100: =T100 -> 0 | BC100: =+U100+V100+W100 -> 0 | BD100: =Y100 -> 0 | BE100: =O100+X100 -> 0 | BF100: =AF100 -> 0 | BG100: =AD100+AE100 -> 0 | BH100: =AF100 -> 0 | BI100: =AG100+AH100 -> 0 | BJ100: =AM100 -> 0 | BK100: =AK100+AL100 -> 0 | BL100: =AM100 -> 0 | BM100: =AN100+AO100 -> 0
...

Sheet Լ.Գրիգորյան
A1: 2015Ã. | G1: Ð²ÞìºîìàôÂÚàôÜ | AM1: Ð³í»Éí³Í Ð³Û³ëï³ÝÇ Ð³Ýñ³å»ïáõÃÛ³Ý ¸³ï³ñ³ÝÝ»ñÇ Ý³Ë³·³ÑÝ»ñÇ ËáñÑñ¹Ç 01.02.2016Ã. ÃÇí 11È áñáßÙ³Ý
A2: ºðºì²ÜÆ ¾ðº´àôÜÆ ºì Üàô´²ð²ÞºÜ ì²ðâ²Î²Ü Þðæ²ÜÜºðÆ ÀÜ¸Ð²Üàôð Æð²ì²êàôÂÚ²Ü ²è²æÆÜ ²îÚ²ÜÆ ¸²î²ð²ÜÆ ¸²î²ìàð | Z2: È. ¶ðÆ¶àðÚ²ÜÆ | AH2: ¶àðÌàôÜºàôÂÚ²Ü ìºð²´ºðÚ²È
A3: ø²Ô²ø²òÆ²Î²Ü ¶àðÌºðàì
A4: ºñ¨³ÝÇ ¾ñ»µáõÝÇ ¨ Üáõµ³ñ³ß»Ý í³ñã³Ï³Ý ßñç³ÝÝ»ñÇ ÁÝ¹Ñ³Ýáõñ Çñ³í³ëáõÃÛ³Ý ³é³çÇÝ ³ïÛ³ÝÇ ¹³ï³ñ³ÝÇ ù³Õ³ù³óÇ³Ï³Ý Ù³ëÝ³·Çï³óáõÙ áõÝ»óáÕ ¹³ï³íáñÝ»ñÇ Ñ³ëïÇùÝ»ñÇ ù³Ý³ÏÁ` 4
A5: êïáõ·Çã Ñ³í³ë³ñáõÙÝ»ñª 1=2+3+4+5, 6=7+8+9, 2+3+7=10+21+22+24, 11=12+13+14+15+16, 16=17+18+19, 21=11+20, 28=26+27, 28=29+30, 35=33+34, 35=36+37 | E5: Ð³ßí»ïáõ Å³Ù³Ý³Ï³Ñ³ïí³ÍáõÙ Ý³Ëáñ¹ Ñ³ßí»ïáõ Å³Ù³Ý³Ï³Ñ³ïí³ÍÇó ÷áË³Ýóí³Í ·áñÍ»ñÇ ÁÝ¹Ñ³Ýáõñ ÃÇíÁ | J5: Ð³ßí»ïáõ Å³Ù³Ý³Ï³Ñ³ïí³ÍáõÙëï³óí³Í ·áñÍ»ñÇ (³Û¹ ÃíáõÙ` Ñ³Ûó³¹ÇÙáõÙÝ»ñÇ, ¹ÇÙáõÙÝ»ñÇ) ÁÝ¹Ñ³Ýáõñ ÃÇíÁ | N5: öáË³Ýóí»É ¿ ³ÛÉ ¹³ï³íáñÇ (Ï³½ÙÇ ÷á÷áËáõÃÛáõÝ) | O5: Ð³ßí»ïáõ Å³Ù³Ý³Ï³Ñ³ïí³ÍáõÙ ³í³ñïí³Í ·áñÍ»ñÇ ÁÝ¹Ñ³Ýáõñ ÃÇíÁ | Z5: ¶áñÍÝ áõÕ³ñÏí»É ¿ Áëï ÁÝ¹¹³ïáõÃÛ³Ý | AA5: Ð³ßí»ïáõ Å³Ù³Ý³Ï³Ñ³ïí³ÍáõÙ Ï³ë»óí³Í í³ñáõÛÃÝ»ñáí ·áñÍ»ñÇ ÁÝ¹Ñ³Ýáõñ ÃÇíÁ | AB5: Ð³ßí»ïáõ Å³Ù³Ý³Ï³Ñ³ïí³ÍáõÙ ³Ý³í³ñï ·áñÍ»ñÇ ÁÝ¹Ñ³Ýáõñ ÃÇíÁ | AC5: ²Û¹ ÃíáõÙª Ï³ë»óí³Í | AD5: ´áÕáù³ñÏí³Í ¹³ï³Ï³Ý ³Ïï»ñÁ | AI5: ²í³ñïí³Í ¹³ï³Ï³Ý ·áñÍ»ñÇ µáÕáù³ñÏÙ³Ý ïáÏáëÁ (Ñ³ßí»ïáõ Å³Ù³Ý³Ï³ßñç³ÝáõÙ) | AJ5: ²Ý³í³ñï µáÕáùÝ»ñ | AK5: ´»Ï³Ýí³Í ¹³ï³Ï³Ý ³Ïï»ñÁ | AP5: µ»Ï³ÝáõÙÝ»ñÇ ïáÏáëÁ ³í³ñïí³Í ·áñÍ»ñÇó(Ñ³ßí»ïáõ Å³Ù³Ý³Ï³ßñç³ÝáõÙ) | AQ5: Î³ÛáõÝáõÃÛ³Ý ïáÏáëÁ ³í³ñïí³Í ·áñÍ»ñÇó(Ñ³ßí»ïáõ Å³Ù³Ý³Ï³ßñç³ÝáõÙ) | AR5: µ»Ï³ÝáõÙÝ»ñÇ ïáÏáëÁ µáÕáù³ñÏí³Í ·áñÍ»ñÇó(Ñ³ßí»ïáõ Å³Ù³Ý³Ï³ßñç³ÝáõÙ) | AS5: Ï³ÛáõÝáõÃÛ³Ý ïáÏáëÁ(Ñ³ßí»ïáõ Å³Ù³Ý³Ï³ßñç³ÝáõÙ)
E6: ÀÝ¹³Ù»ÝÁ | F6: ²Û¹ ÃíáõÙ`Ï³ë»óí³Í íÇ×³ÏáõÙ ÷áË³Ýóí³Í | G6: ²Û¹ ÃíáõÙª ÁÝ¹áõÝí»É ¿ í³ñáõÛÃ | H6: ²Û¹ ÃíáõÙª í»ñ³¹³ñÓí»É ¿ | I6: ²Û¹ ÃíáõÙª ÁÝ¹áõÝáõÙÁ Ù»ñÅí»É ¿ | J6: ÀÝ¹³Ù»ÝÁ | K6: ²Û¹ ÃíáõÙª ÁÝ¹áõÝí»É ¿ í³ñáõÛÃ | L6: ²Û¹ ÃíáõÙª í»ñ³¹³ñÓí»É ¿ | M6: ²Û¹ ÃíáõÙª ÁÝ¹áõÝáõÙÁ Ù»ñÅí»É ¿ | O6: ÀÝ¹³Ù»ÝÁ ³í³ñïí»É »Ý ·áñÍ»ñ ·áñÍÝ Áëï ¿áõÃÛ³Ý ÉáõÍáÕ ¹³ï³Ï³Ý ³Ïï»ñÇ (í×ÇéÝ»ñÇ) Ï³Û³óÙ³Ùµ | P6: ²Û¹ ÃíáõÙª Ñ³ÛóÇ µ³í³ñ³ñÙ³Ùµ | Q6: ²Û¹ ÃíáõÙª Ñ³ÛóÇ Ù³ëÝ³ÏÇ µ³í³ñ³ñÙ³Ùµ | R6: ²Û¹ ÃíáõÙª Ñ³ÛóÇ Ù»ñÅÙ³Ùµ | S6: Ø³ëáí Ï³ñ×í»É ¿É, Ù³ëáí Ù»ñÅí»É | T6: ²Û¹ ÃíáõÙª Ï³ñ×í»É »Ý | X6: Ð³ÛóÁ ÃáÕÝí»É ¿ ³é³Ýó ùÝÝáõÃÛ³Ý | Y6: ÀÝ¹³Ù»ÝÝ ³í³ñïí»É »Ý ·áñÍ»ñ | AD6: ²Û¹ ÃíáõÙ` ·áñÍÝ Áëï ¿áõÃÛ³Ý ÉáõÍáÕ ¹³ï³Ï³Ý ³Ïï»ñÁ | AE6: ²Û¹ ÃíáõÙ` ÙÇç³ÝÏÛ³É ¹³ï³Ï³Ý ³Ïï»ñÁ | AF6: ÀÝ¹³Ù»ÝÁ | AG6: Ü³Ëáñ¹ ï³ñÇÝ»ñÇÝ Ï³Û³óí³Í ³Ïï»ñÇ µáÕáù³ñÏáõÙÁ Ñ³ßí»ïáõ Å³Ù³Ý³Ï³ßñç³ÝáõÙ | AH6: Ð³ßí»ïáõ Å³Ù³Ý³Ï³ßñç³ÝáõÙ Ï³Û³óí³Í ³Ïï»ñÇ µáÕáù³ñÏáõÙÁ | AK6: ²Û¹ ÃíáõÙ` ·áñÍÝ Áëï ¿áõÃÛ³Ý ÉáõÍáÕ ¹³ï³Ï³Ý ³Ïï»ñÁ | AL6: ²Û¹ ÃíáõÙ` ÙÇç³ÝÏÛ³É ¹³ï³Ï³Ý ³Ïï»ñÁ | AM6: ÀÝ¹³Ù»ÝÁ | AN6: Ü³Ëáñ¹ ï³ñÇÝ»ñÇÝ Ï³Û³óí³Í ³Ïï»ñÇ µ»Ï³ÝáõÙÝ»ñÁ Ñ³ßí»ïáõ Å³Ù³Ý³Ï³ßñç³ÝáõÙ | AO6: Ð³ßí»ïáõ Å³Ù³Ý³Ï³ßñç³ÝáõÙ Ï³Û³óí³Í ³Ïï»ñÇ µ»Ï³ÝáõÙÁ
T7: ÀÝ¹³Ù»ÝÁ Ï³ñ×í»É »Ý | U7: ²Û¹ ÃíáõÙª Ñ³ëï³ïí»É ¿ ÏÝùí³Í Ñ³ßïáõÃÛ³Ý Ñ³Ù³Ó³ÛÝáõÃÛáõÝÁ | V7: ²Û¹ ÃíáõÙª Ñ³óÇó, ¹ÇÙáõÙÇó Ññ³Å³ñí»Éáõ ÑÇÙùáí | W7: ²Û¹ ÃíáõÙª ³ÛÉ ÑÇÙùáí
E8: 1 | F8: 2 | G8: 3 | H8: 4 | I8: 5 | J8: 6 | K8: 7 | L8: 8 | M8: 9 | N8: 10 | O8: 11 | P8: 12 | Q8: 13 | R8: 14 | S8: 15 | T8: 16 | U8: 17 | V8: 18 | W8: 19 | X8: 20 | Y8: 21 | Z8: 22 | AA8: 23 | AB8: 24 | AC8: 25 | AD8: 26 | AE8: 27 | AF8: 28 | AG8: 29 | AH8: 30 | AI8: 31 | AJ8: 32 | AK8: 33 | AL8: 34 | AM8: 35 | AN8: 36 | AO8: 37 | AP8: 38 | AQ8: 39 | AR8: 40 | AS8: 41 | AT8: 1=2+3+4+5 | AV8: 6=7+8+9 | AX8: 2+3+7=10+21+22+24 | AZ8: 11=12+13+14+15+16 | BB8: 16=17+18+19 | BD8: 21=11+20 | BF8: 28=26+27 | BH8: 28=29+30 | BJ8: 35=33+34 | BL8: 35=36+37
A9: 1. | B9: ¶áõÛù³ÛÇÝ Çñ³í³Ñ³ñ³µ»ñáõÃÛáõÝÝ»ñÇ í»ñ³µ»ñÛ³É ¹³ï³Ï³Ý ·áñÍ»ñ | E9: =SUM(E10:E28) -> 55 | F9: =SUM(F10:F28) -> 23 | G9: =SUM(G10:G28) -> 32 | H9: =SUM(H10:H28) -> 0 | I9: =SUM(I10:I28) -> 0 | J9: =SUM(J10:J28) -> 47 | K9: =SUM(K10:K28) -> 29 | L9: =SUM(L10:L28) -> 17 | ... BC9: =SUM(BC10:BC28) -> 14 | BD9: =Y9 -> 39 | BE9: =O9+X9 -> 39 | BF9: =SUM(BF10:BF28) -> 18 | BG9: =SUM(BG10:BG28) -> 18 | BH9: =SUM(BH10:BH28) -> 18 | BI9: =SUM(BI10:BI28) -> 18 | BJ9: =SUM(BJ10:BJ28) -> 10 | BK9: =SUM(BK10:BK28) -> 10 | BL9: =SUM(BL10:BL28) -> 10 | BM9: =SUM(BM10:BM28) -> 10
A10: 1.1 | B10: ¶áõÛùÇ ÝÏ³ïÙ³Ùµ ë»÷³Ï³ÝáõÃÛ³Ý Çñ³íáõÝùÁ ×³Ý³ã»Éáõ í»ñ³µ»ñÛ³É | E10: 7 | F10: 1 | G10: 6 | J10: 4 | K10: 2 | L10: 2 | O10: 7 | P10: 2 | Q10: 1 | R10: 1 | T10: 3 | U10: 2 | V10: 1 | Y10: 7 | AB10: 2 | AC10: 1 | AD10: 2 | AF10: 2 | AH10: 2 | AK10: 2 | AM10: 2 | AO10: 2 | AT10: =E10 -> 7 | AU10: =F10+G10+H10+I10 -> 7 | AV10: =J10 -> 4 | AW10: =K10+L10+M10 -> 4 | AX10: =F10+G10+K10 -> 9 | AY10: =N10+Y10+Z10+AB10 -> 9 | AZ10: =O10 -> 7 | BA10: =P10+Q10+R10+S10+T10 -> 7 | BB10: =T10 -> 3 | BC10: =+U10+V10+W10 -> 3 | BD10: =Y10 -> 7 | BE10: =O10+X10 -> 7 | BF10: =AF10 -> 2 | BG10: =AD10+AE10 -> 2 | BH10: =AF10 -> 2 | BI10: =AG10+AH10 -> 2 | BJ10: =AM10 -> 2 | BK10: =AK10+AL10 -> 2 | BL10: =AM10 -> 2 | BM10: =AN10+AO10 -> 2
A11: 1.1.1 | B11: ²Û¹ ÃíáõÙª Ó»éùµ»ñÙ³Ý í³Õ»ÙáõÃÛ³Ý áõÅáí | E11: 2 | F11: 1 | G11: 1 | J11: 7 | K11: 5 | L11: 2 | O11: 4 | P11: 3 | T11: 1 | V11: 1 | Y11: 4 | AB11: 3 | AC11: 1 | AD11: 1 | AF11: 1 | AH11: 1 | AK11: 1 | AM11: 1 | AN11: 1 | AT11: =E11 -> 2 | AU11: =F11+G11+H11+I11 -> 2 | AV11: =J11 -> 7 | AW11: =K11+L11+M11 -> 7 | AX11: =F11+G11+K11 -> 7 | AY11: =N11+Y11+Z11+AB11 -> 7 | AZ11: =O11 -> 4 | BA11: =P11+Q11+R11+S11+T11 -> 4 | BB11: =T11 -> 1 | BC11: =+U11+V11+W11 -> 1 | BD11: =Y11 -> 4 | BE11: =O11+X11 -> 4 | BF11: =AF11 -> 1 | BG11: =AD11+AE11 -> 1 | BH11: =AF11 -> 1 | BI11: =AG11+AH11 -> 1 | BJ11: =AM11 -> 1 | BK11: =AK11+AL11 -> 1 | BL11: =AM11 -> 1 | BM11: =AN11+AO11 -> 1
A12: 1.1.2 | B12: ²Û¹ ÃíáõÙª ïÇñ³½áõñÏ ·áõÛùÇ ÝÏ³ïÙ³Ùµ | AT12: =E12 -> 0 | AU12: =F12+G12+H12+I12 -> 0 | AV12: =J12 -> 0 | AW12: =K12+L12+M12 -> 0 | AX12: =F12+G12+K12 -> 0 | AY12: =N12+Y12+Z12+AB12 -> 0 | AZ12: =O12 -> 0 | BA12: =P12+Q12+R12+S12+T12 -> 0 | BB12: =T12 -> 0 | BC12: =+U12+V12+W12 -> 0 | BD12: =Y12 -> 0 | BE12: =O12+X12 -> 0 | BF12: =AF12 -> 0 | BG12: =AD12+AE12 -> 0 | BH12: =AF12 -> 0 | BI12: =AG12+AH12 -> 0 | BJ12: =AM12 -> 0 | BK12: =AK12+AL12 -> 0 | BL12: =AM12 -> 0 | BM12: =AN12+AO12 -> 0
A13: 1.1.3 | B13: ²Û¹ ÃíáõÙª ÇÝùÝ³Ï³Ù Ï³éáõÛóÇ ÝÏ³ïÙ³Ùµ | AT13: =E13 -> 0 | AU13: =F13+G13+H13+I13 -> 0 | AV13: =J13 -> 0 | AW13: =K13+L13+M13 -> 0 | AX13: =F13+G13+K13 -> 0 | AY13: =N13+Y13+Z13+AB13 -> 0 | AZ13: =O13 -> 0 | BA13: =P13+Q13+R13+S13+T13 -> 0 | BB13: =T13 -> 0 | BC13: =+U13+V13+W13 -> 0 | BD13: =Y13 -> 0 | BE13: =O13+X13 -> 0 | BF13: =AF13 -> 0 | BG13: =AD13+AE13 -> 0 | BH13: =AF13 -> 0 | BI13: =AG13+AH13 -> 0 | BJ13: =AM13 -> 0 | BK13: =AK13+AL13 -> 0 | BL13: =AM13 -> 0 | BM13: =AN13+AO13 -> 0
A14: 1.2 | B14: ê»÷³Ï³ÝáõÃÛ³Ý Çñ³íáõÝùÇ ¹³¹³ñ»óÙ³Ý í»ñ³µ»ñÛ³É | J14: 1 | K14: 1 | AB14: 1 | AT14: =E14 -> 0 | AU14: =F14+G14+H14+I14 -> 0 | AV14: =J14 -> 1 | AW14: =K14+L14+M14 -> 1 | AX14: =F14+G14+K14 -> 1 | AY14: =N14+Y14+Z14+AB14 -> 1 | AZ14: =O14 -> 0 | BA14: =P14+Q14+R14+S14+T14 -> 0 | BB14: =T14 -> 0 | BC14: =+U14+V14+W14 -> 0 | BD14: =Y14 -> 0 | BE14: =O14+X14 -> 0 | BF14: =AF14 -> 0 | BG14: =AD14+AE14 -> 0 | BH14: =AF14 -> 0 | BI14: =AG14+AH14 -> 0 | BJ14: =AM14 -> 0 | BK14: =AK14+AL14 -> 0 | BL14: =AM14 -> 0 | BM14: =AN14+AO14 -> 0
A15: 1.3 | B15: ¶áõÛùÇ ÝÏ³ïÙ³Ùµ û·ï³·áñÍÙ³Ý Çñ³íáõÝùÁ ×³Ý³ã»Éáõ í»ñ³µ»ñÛ³É | AT15: =E15 -> 0 | AU15: =F15+G15+H15+I15 -> 0 | AV15: =J15 -> 0 | AW15: =K15+L15+M15 -> 0 | AX15: =F15+G15+K15 -> 0 | AY15: =N15+Y15+Z15+AB15 -> 0 | AZ15: =O15 -> 0 | BA15: =P15+Q15+R15+S15+T15 -> 0 | BB15: =T15 -> 0 | BC15: =+U15+V15+W15 -> 0 | BD15: =Y15 -> 0 | BE15: =O15+X15 -> 0 | BF15: =AF15 -> 0 | BG15: =AD15+AE15 -> 0 | BH15: =AF15 -> 0 | BI15: =AG15+AH15 -> 0 | BJ15: =AM15 -> 0 | BK15: =AK15+AL15 -> 0 | BL15: =AM15 -> 0 | BM15: =AN15+AO15 -> 0
A16: 1.3.1 | B16: ²Û¹ ÃíáõÙª µÝ³Ïû·ï³·áñÍÙ³Ý Çñ³íáõÝùÁ ×³Ý³ã»Éáõ í»ñ³µ»ñÛ³É | AT16: =E16 -> 0 | AU16: =F16+G16+H16+I16 -> 0 | AV16: =J16 -> 0 | AW16: =K16+L16+M16 -> 0 | AX16: =F16+G16+K16 -> 0 | AY16: =N16+Y16+Z16+AB16 -> 0 | AZ16: =O16 -> 0 | BA16: =P16+Q16+R16+S16+T16 -> 0 | BB16: =T16 -> 0 | BC16: =+U16+V16+W16 -> 0 | BD16: =Y16 -> 0 | BE16: =O16+X16 -> 0 | BF16: =AF16 -> 0 | BG16: =AD16+AE16 -> 0 | BH16: =AF16 -> 0 | BI16: =AG16+AH16 -> 0 | BJ16: =AM16 -> 0 | BK16: =AK16+AL16 -> 0 | BL16: =AM16 -> 0 | BM16: =AN16+AO16 -> 0
A17: 1.3.2 | B17: ²Û¹ ÃíáõÙª ÑáÕ³Ù³ëÇ ÝÏ³ïÙ³Ùµ û·ï³·áñÍÙ³Ý Çñ³íáõÝùÁ ×³Ý³ã»Éáõ í»ñ³µ»ñÛ³É | E17: 1 | G17: 1 | O17: 1 | T17: 1 | V17: 1 | Y17: 1 | AT17: =E17 -> 1 | AU17: =F17+G17+H17+I17 -> 1 | AV17: =J17 -> 0 | AW17: =K17+L17+M17 -> 0 | AX17: =F17+G17+K17 -> 1 | AY17: =N17+Y17+Z17+AB17 -> 1 | AZ17: =O17 -> 1 | BA17: =P17+Q17+R17+S17+T17 -> 1 | BB17: =T17 -> 1 | BC17: =+U17+V17+W17 -> 1 | BD17: =Y17 -> 1 | BE17: =O17+X17 -> 1 | BF17: =AF17 -> 0 | BG17: =AD17+AE17 -> 0 | BH17: =AF17 -> 0 | BI17: =AG17+AH17 -> 0 | BJ17: =AM17 -> 0 | BK17: =AK17+AL17 -> 0 | BL17: =AM17 -> 0 | BM17: =AN17+AO17 -> 0
A18: 1.4 | B18: ¶áõÛùÇ ÝÏ³ïÙ³Ùµ û·ï³·áñÍÙ³Ý Çñ³íáõÝùÁ ¹³¹³ñ»óÝ»Éáõ í»ñ³µ»ñÛ³É | AT18: =E18 -> 0 | AU18: =F18+G18+H18+I18 -> 0 | AV18: =J18 -> 0 | AW18: =K18+L18+M18 -> 0 | AX18: =F18+G18+K18 -> 0 | AY18: =N18+Y18+Z18+AB18 -> 0 | AZ18: =O18 -> 0 | BA18: =P18+Q18+R18+S18+T18 -> 0 | BB18: =T18 -> 0 | BC18: =+U18+V18+W18 -> 0 | BD18: =Y18 -> 0 | BE18: =O18+X18 -> 0 | BF18: =AF18 -> 0 | BG18: =AD18+AE18 -> 0 | BH18: =AF18 -> 0 | BI18: =AG18+AH18 -> 0 | BJ18: =AM18 -> 0 | BK18: =AK18+AL18 -> 0 | BL18: =AM18 -> 0 | BM18: =AN18+AO18 -> 0
A19: 1.4.1 | B19: ²Û¹ ÃíáõÙª µÝ³Ïû·ï³·áñÍÙ³Ý Çñ³íáõÝùÁ ¹³¹³ñ»óÝ»Éáõ í»ñ³µ»ñÛ³É | AT19: =E19 -> 0 | AU19: =F19+G19+H19+I19 -> 0 | AV19: =J19 -> 0 | AW19: =K19+L19+M19 -> 0 | AX19: =F19+G19+K19 -> 0 | AY19: =N19+Y19+Z19+AB19 -> 0 | AZ19: =O19 -> 0 | BA19: =P19+Q19+R19+S19+T19 -> 0 | BB19: =T19 -> 0 | BC19: =+U19+V19+W19 -> 0 | BD19: =Y19 -> 0 | BE19: =O19+X19 -> 0 | BF19: =AF19 -> 0 | BG19: =AD19+AE19 -> 0 | BH19: =AF19 -> 0 | BI19: =AG19+AH19 -> 0 | BJ19: =AM19 -> 0 | BK19: =AK19+AL19 -> 0 | BL19: =AM19 -> 0 | BM19: =AN19+AO19 -> 0
A20: 1.4.1/1 | B20: ²Û¹ ÃíáõÙª ÷áËÑ³ïáõóÙ³Ùµ | AT20: =E20 -> 0 | AU20: =F20+G20+H20+I20 -> 0 | AV20: =J20 -> 0 | AW20: =K20+L20+M20 -> 0 | AX20: =F20+G20+K20 -> 0 | AY20: =N20+Y20+Z20+AB20 -> 0 | AZ20: =O20 -> 0 | BA20: =P20+Q20+R20+S20+T20 -> 0 | BB20: =T20 -> 0 | BC20: =+U20+V20+W20 -> 0 | BD20: =Y20 -> 0 | BE20: =O20+X20 -> 0 | BF20: =AF20 -> 0 | BG20: =AD20+AE20 -> 0 | BH20: =AF20 -> 0 | BI20: =AG20+AH20 -> 0 | BJ20: =AM20 -> 0 | BK20: =AK20+AL20 -> 0 | BL20: =AM20 -> 0 | BM20: =AN20+AO20 -> 0
A21: 1.5 | B21: ´Ý³Ï³ñ³ÝÇó/ ï³ñ³ÍùÇó/ íï³ñ»Éáõ í»ñ³µ»ñÛ³É | E21: 10 | F21: 5 | G21: 5 | J21: 2 | K21: 2 | O21: 4 | P21: 2 | T21: 2 | V21: 2 | Y21: 4 | AA21: 1 | AB21: 8 | AC21: 4 | AD21: 1 | AF21: 1 | AH21: 1 | AK21: 1 | AM21: 1 | AO21: 1 | AT21: =E21 -> 10 | AU21: =F21+G21+H21+I21 -> 10 | AV21: =J21 -> 2 | AW21: =K21+L21+M21 -> 2 | AX21: =F21+G21+K21 -> 12 | AY21: =N21+Y21+Z21+AB21 -> 12 | AZ21: =O21 -> 4 | BA21: =P21+Q21+R21+S21+T21 -> 4 | BB21: =T21 -> 2 | BC21: =+U21+V21+W21 -> 2 | BD21: =Y21 -> 4 | BE21: =O21+X21 -> 4 | BF21: =AF21 -> 1 | BG21: =AD21+AE21 -> 1 | BH21: =AF21 -> 1 | BI21: =AG21+AH21 -> 1 | BJ21: =AM21 -> 1 | BK21: =AK21+AL21 -> 1 | BL21: =AM21 -> 1 | BM21: =AN21+AO21 -> 1
A22: 1.6 | B22: ¶áõÛùÝ áõñÇßÇ ³åûñÇÝÇ ïÇñ³å»ïáõÙÇó »ï í»ñ³¹³ñÓÝ»Éáõ í»ñ³µ»ñÛ³É | E22: 2 | F22: 2 | J22: 1 | L22: 1 | O22: 1 | T22: 1 | V22: 1 | Y22: 1 | AB22: 1 | AD22: 1 | AF22: 1 | AH22: 1 | AJ22: 1 | AT22: =E22 -> 2 | AU22: =F22+G22+H22+I22 -> 2 | AV22: =J22 -> 1 | AW22: =K22+L22+M22 -> 1 | AX22: =F22+G22+K22 -> 2 | AY22: =N22+Y22+Z22+AB22 -> 2 | AZ22: =O22 -> 1 | BA22: =P22+Q22+R22+S22+T22 -> 1 | BB22: =T22 -> 1 | BC22: =+U22+V22+W22 -> 1 | BD22: =Y22 -> 1 | BE22: =O22+X22 -> 1 | BF22: =AF22 -> 1 | BG22: =AD22+AE22 -> 1 | BH22: =AF22 -> 1 | BI22: =AG22+AH22 -> 1 | BJ22: =AM22 -> 0 | BK22: =AK22+AL22 -> 0 | BL22: =AM22 -> 0 | BM22: =AN22+AO22 -> 0
A23: 1.6.1 | B23: ´³ñ»ËÇÕ× Ó»éùµ»ñáÕÇó Çñ ·áõÛùÁ Ñ»ï å³Ñ³Ýç»Éáõ í»ñ³µ»ñÛ³É | AT23: =E23 -> 0 | AU23: =F23+G23+H23+I23 -> 0 | AV23: =J23 -> 0 | AW23: =K23+L23+M23 -> 0 | AX23: =F23+G23+K23 -> 0 | AY23: =N23+Y23+Z23+AB23 -> 0 | AZ23: =O23 -> 0 | BA23: =P23+Q23+R23+S23+T23 -> 0 | BB23: =T23 -> 0 | BC23: =+U23+V23+W23 -> 0 | BD23: =Y23 -> 0 | BE23: =O23+X23 -> 0 | BF23: =AF23 -> 0 | BG23: =AD23+AE23 -> 0 | BH23: =AF23 -> 0 | BI23: =AG23+AH23 -> 0 | BJ23: =AM23 -> 0 | BK23: =AK23+AL23 -> 0 | BL23: =AM23 -> 0 | BM23: =AN23+AO23 -> 0
A24: 1.7 | B24: îÇñ³å»ïáõÙÇó ½ñÏ»Éáõ Ñ»ï ãÏ³åí³Í Çñ³íáõÝùÝ»ñÇ Ë³ËïáõÙÁ í»ñ³óÝ»Éáõ í»ñ³µ»ñÛ³É | E24: 2 | F24: 1 | G24: 1 | O24: 1 | Q24: 1 | Y24: 1 | AB24: 1 | AC24: 1 | AD24: 1 | AF24: 1 | AH24: 1 | AK24: 1 | AM24: 1 | AO24: 1 | AT24: =E24 -> 2 | AU24: =F24+G24+H24+I24 -> 2 | AV24: =J24 -> 0 | AW24: =K24+L24+M24 -> 0 | AX24: =F24+G24+K24 -> 2 | AY24: =N24+Y24+Z24+AB24 -> 2 | AZ24: =O24 -> 1 | BA24: =P24+Q24+R24+S24+T24 -> 1 | BB24: =T24 -> 0 | BC24: =+U24+V24+W24 -> 0 | BD24: =Y24 -> 1 | BE24: =O24+X24 -> 1 | BF24: =AF24 -> 1 | BG24: =AD24+AE24 -> 1 | BH24: =AF24 -> 1 | BI24: =AG24+AH24 -> 1 | BJ24: =AM24 -> 1 | BK24: =AK24+AL24 -> 1 | BL24: =AM24 -> 1 | BM24: =AN24+AO24 -> 1
A25: 1.8 | B25: ÀÝ¹Ñ³Ýáõñ µ³ÅÝ³ÛÇÝ ë»÷³Ï³ÝáõÃÛáõÝÇó µ³ÅÇÝÝ ³é³ÝÓÝ³óÝ»Éáõ í»ñ³µ»ñÛ³É | E25: 20 | F25: 9 | G25: 11 | J25: 14 | K25: 11 | L25: 3 | O25: 12 | P25: 6 | Q25: 2 | R25: 1 | T25: 3 | U25: 1 | V25: 1 | W25: 1 | Y25: 12 | AA25: 6 | AB25: 19 | AC25: 14 | AD25: 8 | AE25: 2 | AF25: 10 | AH25: 10 | AJ25: 4 | AK25: 3 | AL25: 1 | AM25: 4 | AN25: 2 | AO25: 2 | AT25: =E25 -> 20 | AU25: =F25+G25+H25+I25 -> 20 | AV25: =J25 -> 14 | AW25: =K25+L25+M25 -> 14 | AX25: =F25+G25+K25 -> 31 | AY25: =N25+Y25+Z25+AB25 -> 31 | AZ25: =O25 -> 12 | BA25: =P25+Q25+R25+S25+T25 -> 12 | BB25: =T25 -> 3 | BC25: =+U25+V25+W25 -> 3 | BD25: =Y25 -> 12 | BE25: =O25+X25 -> 12 | BF25: =AF25 -> 10 | BG25: =AD25+AE25 -> 10 | BH25: =AF25 -> 10 | BI25: =AG25+AH25 -> 10 | BJ25: =AM25 -> 4 | BK25: =AK25+AL25 -> 4 | BL25: =AM25 -> 4 | BM25: =AN25+AO25 -> 4
A26: 1.8.1 | B26: Ð³Ù³ï»Õ ë»÷³Ï³ÝáõÃÛ³Ý Ý»ñùá ·ïÝíáÕ ·áõÛùÁ µ³Å³Ý»Éáõ ¨ ¹ñ³ÝÇó µ³ÅÇÝÝ ³é³ÝÓÝ³óÝ»Éáõ í»ñ³µ»ñÛ³É | E26: 9 | F26: 2 | G26: 7 | J26: 11 | K26: 4 | L26: 6 | M26: 1 | O26: 7 | R26: 4 | T26: 3 | U26: 3 | Y26: 7 | AA26: 1 | AB26: 6 | AC26: 4 | AD26: 1 | AF26: 1 | AH26: 1 | AJ26: 1 | AT26: =E26 -> 9 | AU26: =F26+G26+H26+I26 -> 9 | AV26: =J26 -> 11 | AW26: =K26+L26+M26 -> 11 | AX26: =F26+G26+K26 -> 13 | AY26: =N26+Y26+Z26+AB26 -> 13 | AZ26: =O26 -> 7 | BA26: =P26+Q26+R26+S26+T26 -> 7 | BB26: =T26 -> 3 | BC26: =+U26+V26+W26 -> 3 | BD26: =Y26 -> 7 | BE26: =O26+X26 -> 7 | BF26: =AF26 -> 1 | BG26: =AD26+AE26 -> 1 | BH26: =AF26 -> 1 | BI26: =AG26+AH26 -> 1 | BJ26: =AM26 -> 0 | BK26: =AK26+AL26 -> 0 | BL26: =AM26 -> 0 | BM26: =AN26+AO26 -> 0
A27: 1.8.3 | B27: ¶áõÛùÇ íñ³ µéÝ³·³ÝÓáõÙ ï³ñ³Í»Éáõ å³Ñ³ÝçÇ Ù³ëÇÝ | E27: 1 | F27: 1 | J27: 2 | K27: 1 | L27: 1 | O27: 2 | P27: 1 | R27: 1 | Y27: 2 | AT27: =E27 -> 1 | AU27: =F27+G27+H27+I27 -> 1 | AV27: =J27 -> 2 | AW27: =K27+L27+M27 -> 2 | AX27: =F27+G27+K27 -> 2 | AY27: =N27+Y27+Z27+AB27 -> 2 | AZ27: =O27 -> 2 | BA27: =P27+Q27+R27+S27+T27 -> 2 | BB27: =T27 -> 0 | BC27: =+U27+V27+W27 -> 0 | BD27: =Y27 -> 2 | BE27: =O27+X27 -> 2 | BF27: =AF27 -> 0 | BG27: =AD27+AE27 -> 0 | BH27: =AF27 -> 0 | BI27: =AG27+AH27 -> 0 | BJ27: =AM27 -> 0 | BK27: =AK27+AL27 -> 0 | BL27: =AM27 -> 0 | BM27: =AN27+AO27 -> 0
A28: 1.9 | B28: ²ÛÉ í»×»ñ | E28: 1 | F28: 1 | J28: 5 | K28: 3 | L28: 2 | AB28: 4 | AC28: 1 | AD28: 1 | AF28: 1 | AG28: 1 | AK28: 1 | AM28: 1 | AN28: 1 | AT28: =E28 -> 1 | AU28: =F28+G28+H28+I28 -> 1 | AV28: =J28 -> 5 | AW28: =K28+L28+M28 -> 5 | AX28: =F28+G28+K28 -> 4 | AY28: =N28+Y28+Z28+AB28 -> 4 | AZ28: =O28 -> 0 | BA28: =P28+Q28+R28+S28+T28 -> 0 | BB28: =T28 -> 0 | BC28: =+U28+V28+W28 -> 0 | BD28: =Y28 -> 0 | BE28: =O28+X28 -> 0 | BF28: =AF28 -> 1 | BG28: =AD28+AE28 -> 1 | BH28: =AF28 -> 1 | BI28: =AG28+AH28 -> 1 | BJ28: =AM28 -> 1 | BK28: =AK28+AL28 -> 1 | BL28: =AM28 -> 1 | BM28: =AN28+AO28 -> 1
A29: 2. | B29: ¶áñÍ³ñùÝ»ñÇ Ñ»ï Ï³åí³Í Çñ³í³Ñ³ñ³µ»ñáõÃÛáõÝÝ»ñÇ í»ñ³µ»ñÛ³É ¹³ï³Ï³Ý ·áñÍ»ñ | E29: =SUM(E30:E40) -> 8 | F29: =SUM(F30:F40) -> 2 | G29: =SUM(G30:G40) -> 6 | H29: =SUM(H30:H40) -> 0 | I29: =SUM(I30:I40) -> 0 | J29: =SUM(J30:J40) -> 7 | K29: =SUM(K30:K40) -> 4 | L29: =SUM(L30:L40) -> 3 | ... BC29: =SUM(BC30:BC40) -> 1 | BD29: =Y29 -> 5 | BE29: =O29+X29 -> 5 | BF29: =SUM(BF30:BF40) -> 5 | BG29: =SUM(BG30:BG40) -> 5 | BH29: =SUM(BH30:BH40) -> 5 | BI29: =SUM(BI30:BI40) -> 5 | BJ29: =SUM(BJ30:BJ40) -> 2 | BK29: =SUM(BK30:BK40) -> 2 | BL29: =SUM(BL30:BL40) -> 2 | BM29: =SUM(BM30:BM40) -> 2
A30: 2.1 | B30: ·áñÍ³ñùÝ»ñÇ ³Ýí³í»ñáõÃÛ³Ý Ñ»ï Ï³åí³Í í»×»ñ | J30: 2 | K30: 2 | AB30: 2 | AK30: 1 | AM30: 1 | AN30: 1 | AT30: =E30 -> 0 | AU30: =F30+G30+H30+I30 -> 0 | AV30: =J30 -> 2 | AW30: =K30+L30+M30 -> 2 | AX30: =F30+G30+K30 -> 2 | AY30: =N30+Y30+Z30+AB30 -> 2 | AZ30: =O30 -> 0 | BA30: =P30+Q30+R30+S30+T30 -> 0 | BB30: =T30 -> 0 | BC30: =+U30+V30+W30 -> 0 | BD30: =Y30 -> 0 | BE30: =O30+X30 -> 0 | BF30: =AF30 -> 0 | BG30: =AD30+AE30 -> 0 | BH30: =AF30 -> 0 | BI30: =AG30+AH30 -> 0 | BJ30: =AM30 -> 1 | BK30: =AK30+AL30 -> 1 | BL30: =AM30 -> 1 | BM30: =AN30+AO30 -> 1
A31: 2.1.1 | B31: ³Û¹ ÃíáõÙ` íÇ×³Ñ³ñáõÛó ·áñÍ³ñùÝ»ñÝ ³Ýí³í»ñ ×³Ý³ã»Éáõ í»ñ³µ»ñÛ³É | AT31: =E31 -> 0 | AU31: =F31+G31+H31+I31 -> 0 | AV31: =J31 -> 0 | AW31: =K31+L31+M31 -> 0 | AX31: =F31+G31+K31 -> 0 | AY31: =N31+Y31+Z31+AB31 -> 0 | AZ31: =O31 -> 0 | BA31: =P31+Q31+R31+S31+T31 -> 0 | BB31: =T31 -> 0 | BC31: =+U31+V31+W31 -> 0 | BD31: =Y31 -> 0 | BE31: =O31+X31 -> 0 | BF31: =AF31 -> 0 | BG31: =AD31+AE31 -> 0 | BH31: =AF31 -> 0 | BI31: =AG31+AH31 -> 0 | BJ31: =AM31 -> 0 | BK31: =AK31+AL31 -> 0 | BL31: =AM31 -> 0 | BM31: =AN31+AO31 -> 0
A32: 2.1.2 | B32: ³Û¹ ÃíáõÙ` ·áñÍ³ñùÇ ³éáãÝãáõÃÛ³Ý Ñ»ï¨³ÝùÝ»ñ ÏÇñ³é»Éáõ í»ñ³µ»ñÛ³É | E32: 1 | G32: 1 | J32: 2 | K32: 2 | O32: 1 | P32: 1 | Y32: 1 | Z32: 1 | AB32: 1 | AD32: 1 | AE32: 1 | AF32: 2 | AH32: 2 | AT32: =E32 -> 1 | AU32: =F32+G32+H32+I32 -> 1 | AV32: =J32 -> 2 | AW32: =K32+L32+M32 -> 2 | AX32: =F32+G32+K32 -> 3 | AY32: =N32+Y32+Z32+AB32 -> 3 | AZ32: =O32 -> 1 | BA32: =P32+Q32+R32+S32+T32 -> 1 | BB32: =T32 -> 0 | BC32: =+U32+V32+W32 -> 0 | BD32: =Y32 -> 1 | BE32: =O32+X32 -> 1 | BF32: =AF32 -> 2 | BG32: =AD32+AE32 -> 2 | BH32: =AF32 -> 2 | BI32: =AG32+AH32 -> 2 | BJ32: =AM32 -> 0 | BK32: =AK32+AL32 -> 0 | BL32: =AM32 -> 0 | BM32: =AN32+AO32 -> 0
A33: 2.2 | B33: ¶áñÍ³ñùÁ í³í»ñ ×³Ý³ã»Éáõ í»ñ³µ»ñÛ³É | E33: 2 | F33: 1 | G33: 1 | O33: 1 | R33: 1 | Y33: 1 | AB33: 1 | AC33: 1 | AD33: 1 | AF33: 1 | AH33: 1 | AT33: =E33 -> 2 | AU33: =F33+G33+H33+I33 -> 2 | AV33: =J33 -> 0 | AW33: =K33+L33+M33 -> 0 | AX33: =F33+G33+K33 -> 2 | AY33: =N33+Y33+Z33+AB33 -> 2 | AZ33: =O33 -> 1 | BA33: =P33+Q33+R33+S33+T33 -> 1 | BB33: =T33 -> 0 | BC33: =+U33+V33+W33 -> 0 | BD33: =Y33 -> 1 | BE33: =O33+X33 -> 1 | BF33: =AF33 -> 1 | BG33: =AD33+AE33 -> 1 | BH33: =AF33 -> 1 | BI33: =AG33+AH33 -> 1 | BJ33: =AM33 -> 0 | BK33: =AK33+AL33 -> 0 | BL33: =AM33 -> 0 | BM33: =AN33+AO33 -> 0
A34: 2.3 | B34: ¶áñÍ³ñùÇó Í³·áÕ Çñ³íáõÝùÝ»ñÁ ·ñ³Ýó»Éáõ í»ñ³µ»ñÛ³É | AT34: =E34 -> 0 | AU34: =F34+G34+H34+I34 -> 0 | AV34: =J34 -> 0 | AW34: =K34+L34+M34 -> 0 | AX34: =F34+G34+K34 -> 0 | AY34: =N34+Y34+Z34+AB34 -> 0 | AZ34: =O34 -> 0 | BA34: =P34+Q34+R34+S34+T34 -> 0 | BB34: =T34 -> 0 | BC34: =+U34+V34+W34 -> 0 | BD34: =Y34 -> 0 | BE34: =O34+X34 -> 0 | BF34: =AF34 -> 0 | BG34: =AD34+AE34 -> 0 | BH34: =AF34 -> 0 | BI34: =AG34+AH34 -> 0 | BJ34: =AM34 -> 0 | BK34: =AK34+AL34 -> 0 | BL34: =AM34 -> 0 | BM34: =AN34+AO34 -> 0
A35: 2.4 | B35: ä³ÛÙ³Ý³·ÇñÝ ³Ýí³í»ñ ×³Ý³ã»Éáõ í»ñ³µ»ñÛ³É | E35: 3 | F35: 1 | G35: 2 | J35: 1 | L35: 1 | O35: 1 | T35: 1 | V35: 1 | Y35: 1 | AA35: 2 | AB35: 2 | AC35: 2 | AK35: 1 | AM35: 1 | AN35: 1 | AT35: =E35 -> 3 | AU35: =F35+G35+H35+I35 -> 3 | AV35: =J35 -> 1 | AW35: =K35+L35+M35 -> 1 | AX35: =F35+G35+K35 -> 3 | AY35: =N35+Y35+Z35+AB35 -> 3 | AZ35: =O35 -> 1 | BA35: =P35+Q35+R35+S35+T35 -> 1 | BB35: =T35 -> 1 | BC35: =+U35+V35+W35 -> 1 | BD35: =Y35 -> 1 | BE35: =O35+X35 -> 1 | BF35: =AF35 -> 0 | BG35: =AD35+AE35 -> 0 | BH35: =AF35 -> 0 | BI35: =AG35+AH35 -> 0 | BJ35: =AM35 -> 1 | BK35: =AK35+AL35 -> 1 | BL35: =AM35 -> 1 | BM35: =AN35+AO35 -> 1
A36: 2.5 | B36: ä³ÛÙ³Ý³·ñÇÁ í³í»ñ ×³Ý³ã»Éáõ í»ñ³µ»ñÛ³É | J36: 1 | L36: 1 | AT36: =E36 -> 0 | AU36: =F36+G36+H36+I36 -> 0 | AV36: =J36 -> 1 | AW36: =K36+L36+M36 -> 1 | AX36: =F36+G36+K36 -> 0 | AY36: =N36+Y36+Z36+AB36 -> 0 | AZ36: =O36 -> 0 | BA36: =P36+Q36+R36+S36+T36 -> 0 | BB36: =T36 -> 0 | BC36: =+U36+V36+W36 -> 0 | BD36: =Y36 -> 0 | BE36: =O36+X36 -> 0 | BF36: =AF36 -> 0 | BG36: =AD36+AE36 -> 0 | BH36: =AF36 -> 0 | BI36: =AG36+AH36 -> 0 | BJ36: =AM36 -> 0 | BK36: =AK36+AL36 -> 0 | BL36: =AM36 -> 0 | BM36: =AN36+AO36 -> 0
A37: 2.6 | B37: ä³ÛÙ³Ý³·ñÇó Í³·áÕ Çñ³íáõÝùÝ»ñÁ ·ñ³Ýó»Éáõ í»ñ³µ»ñÛ³É | AT37: =E37 -> 0 | AU37: =F37+G37+H37+I37 -> 0 | AV37: =J37 -> 0 | AW37: =K37+L37+M37 -> 0 | AX37: =F37+G37+K37 -> 0 | AY37: =N37+Y37+Z37+AB37 -> 0 | AZ37: =O37 -> 0 | BA37: =P37+Q37+R37+S37+T37 -> 0 | BB37: =T37 -> 0 | BC37: =+U37+V37+W37 -> 0 | BD37: =Y37 -> 0 | BE37: =O37+X37 -> 0 | BF37: =AF37 -> 0 | BG37: =AD37+AE37 -> 0 | BH37: =AF37 -> 0 | BI37: =AG37+AH37 -> 0 | BJ37: =AM37 -> 0 | BK37: =AK37+AL37 -> 0 | BL37: =AM37 -> 0 | BM37: =AN37+AO37 -> 0
A38: 2.7 | B38: ä³ÛÙ³Ý³·ÇñÁ ÷á÷áË»Éáõ ¨ ÉáõÍ»Éáõ í»ñ³µ»ñÛ³É | AT38: =E38 -> 0 | AU38: =F38+G38+H38+I38 -> 0 | AV38: =J38 -> 0 | AW38: =K38+L38+M38 -> 0 | AX38: =F38+G38+K38 -> 0 | AY38: =N38+Y38+Z38+AB38 -> 0 | AZ38: =O38 -> 0 | BA38: =P38+Q38+R38+S38+T38 -> 0 | BB38: =T38 -> 0 | BC38: =+U38+V38+W38 -> 0 | BD38: =Y38 -> 0 | BE38: =O38+X38 -> 0 | BF38: =AF38 -> 0 | BG38: =AD38+AE38 -> 0 | BH38: =AF38 -> 0 | BI38: =AG38+AH38 -> 0 | BJ38: =AM38 -> 0 | BK38: =AK38+AL38 -> 0 | BL38: =AM38 -> 0 | BM38: =AN38+AO38 -> 0
A39: 2.8 | B39: ä³ÛÙ³Ý³·Çñ ÏÝù»ÉáõÝ å³ñï³íáñ»óÝ»Éáõ í»ñ³µ»ñÛ³É | AT39: =E39 -> 0 | AU39: =F39+G39+H39+I39 -> 0 | AV39: =J39 -> 0 | AW39: =K39+L39+M39 -> 0 | AX39: =F39+G39+K39 -> 0 | AY39: =N39+Y39+Z39+AB39 -> 0 | AZ39: =O39 -> 0 | BA39: =P39+Q39+R39+S39+T39 -> 0 | BB39: =T39 -> 0 | BC39: =+U39+V39+W39 -> 0 | BD39: =Y39 -> 0 | BE39: =O39+X39 -> 0 | BF39: =AF39 -> 0 | BG39: =AD39+AE39 -> 0 | BH39: =AF39 -> 0 | BI39: =AG39+AH39 -> 0 | BJ39: =AM39 -> 0 | BK39: =AK39+AL39 -> 0 | BL39: =AM39 -> 0 | BM39: =AN39+AO39 -> 0
A40: 2.9 | B40: ²ÛÉ í»×»ñ | E40: 2 | G40: 2 | J40: 1 | L40: 1 | O40: 2 | Q40: 1 | R40: 1 | Y40: 2 | AD40: 2 | AF40: 2 | AH40: 2 | AT40: =E40 -> 2 | AU40: =F40+G40+H40+I40 -> 2 | AV40: =J40 -> 1 | AW40: =K40+L40+M40 -> 1 | AX40: =F40+G40+K40 -> 2 | AY40: =N40+Y40+Z40+AB40 -> 2 | AZ40: =O40 -> 2 | BA40: =P40+Q40+R40+S40+T40 -> 2 | BB40: =T40 -> 0 | BC40: =+U40+V40+W40 -> 0 | BD40: =Y40 -> 2 | BE40: =O40+X40 -> 2 | BF40: =AF40 -> 2 | BG40: =AD40+AE40 -> 2 | BH40: =AF40 -> 2 | BI40: =AG40+AH40 -> 2 | BJ40: =AM40 -> 0 | BK40: =AK40+AL40 -> 0 | BL40: =AM40 -> 0 | BM40: =AN40+AO40 -> 0
A41: 3. | B41: Ä³é³Ý·áõÃÛ³Ý Ñ»ï Ï³åí³Í Çñ³í³Ñ³ñ³µ»ñáõÃÛáõÝÝ»ñÇ í»ñ³µ»ñÛ³É ¹³ï³Ï³Ý ·áñÍ»ñ | E41: =SUM(E42:E48) -> 4 | F41: =SUM(F42:F48) -> 1 | G41: =SUM(G42:G48) -> 3 | H41: =SUM(H42:H48) -> 0 | I41: =SUM(I42:I48) -> 0 | J41: =SUM(J42:J48) -> 1 | K41: =SUM(K42:K48) -> 1 | L41: =SUM(L42:L48) -> 0 | ... BC41: =SUM(BC42:BC48) -> 0 | BD41: =Y41 -> 3 | BE41: =O41+X41 -> 3 | BF41: =SUM(BF42:BF48) -> 1 | BG41: =SUM(BG42:BG48) -> 1 | BH41: =SUM(BH42:BH48) -> 1 | BI41: =SUM(BI42:BI48) -> 1 | BJ41: =SUM(BJ42:BJ48) -> 1 | BK41: =SUM(BK42:BK48) -> 1 | BL41: =SUM(BL42:BL48) -> 1 | BM41: =SUM(BM42:BM48) -> 1
A42: 3.1 | B42: Îï³ÏÝ ³Ýí³í»ñ ×³Ý³ã»Éáõ í»ñ³µ»ñÛ³É | E42: 1 | G42: 1 | O42: 1 | P42: 1 | Y42: 1 | AT42: =E42 -> 1 | AU42: =F42+G42+H42+I42 -> 1 | AV42: =J42 -> 0 | AW42: =K42+L42+M42 -> 0 | AX42: =F42+G42+K42 -> 1 | AY42: =N42+Y42+Z42+AB42 -> 1 | AZ42: =O42 -> 1 | BA42: =P42+Q42+R42+S42+T42 -> 1 | BB42: =T42 -> 0 | BC42: =+U42+V42+W42 -> 0 | BD42: =Y42 -> 1 | BE42: =O42+X42 -> 1 | BF42: =AF42 -> 0 | BG42: =AD42+AE42 -> 0 | BH42: =AF42 -> 0 | BI42: =AG42+AH42 -> 0 | BJ42: =AM42 -> 0 | BK42: =AK42+AL42 -> 0 | BL42: =AM42 -> 0 | BM42: =AN42+AO42 -> 0
A43: 3.2 | B43: ²Ý³ñÅ³Ý Å³é³Ý· ×³Ý³ã»Éáõ í»ñ³µ»ñÛ³É | AT43: =E43 -> 0 | AU43: =F43+G43+H43+I43 -> 0 | AV43: =J43 -> 0 | AW43: =K43+L43+M43 -> 0 | AX43: =F43+G43+K43 -> 0 | AY43: =N43+Y43+Z43+AB43 -> 0 | AZ43: =O43 -> 0 | BA43: =P43+Q43+R43+S43+T43 -> 0 | BB43: =T43 -> 0 | BC43: =+U43+V43+W43 -> 0 | BD43: =Y43 -> 0 | BE43: =O43+X43 -> 0 | BF43: =AF43 -> 0 | BG43: =AD43+AE43 -> 0 | BH43: =AF43 -> 0 | BI43: =AG43+AH43 -> 0 | BJ43: =AM43 -> 0 | BK43: =AK43+AL43 -> 0 | BL43: =AM43 -> 0 | BM43: =AN43+AO43 -> 0
A44: 3.3 | B44: Ä³é³Ý·áõÃÛáõÝÁ µ³Å³Ý»Éáõ í»ñ³µ»ñÛ³É | AT44: =E44 -> 0 | AU44: =F44+G44+H44+I44 -> 0 | AV44: =J44 -> 0 | AW44: =K44+L44+M44 -> 0 | AX44: =F44+G44+K44 -> 0 | AY44: =N44+Y44+Z44+AB44 -> 0 | AZ44: =O44 -> 0 | BA44: =P44+Q44+R44+S44+T44 -> 0 | BB44: =T44 -> 0 | BC44: =+U44+V44+W44 -> 0 | BD44: =Y44 -> 0 | BE44: =O44+X44 -> 0 | BF44: =AF44 -> 0 | BG44: =AD44+AE44 -> 0 | BH44: =AF44 -> 0 | BI44: =AG44+AH44 -> 0 | BJ44: =AM44 -> 0 | BK44: =AK44+AL44 -> 0 | BL44: =AM44 -> 0 | BM44: =AN44+AO44 -> 0
A45: 3.4 | B45: ¶áõÛùÝ ³ÝÅ³é³Ý· ×³Ý³ã»Éáõ í»ñ³µ»ñÛ³É | AT45: =E45 -> 0 | AU45: =F45+G45+H45+I45 -> 0 | AV45: =J45 -> 0 | AW45: =K45+L45+M45 -> 0 | AX45: =F45+G45+K45 -> 0 | AY45: =N45+Y45+Z45+AB45 -> 0 | AZ45: =O45 -> 0 | BA45: =P45+Q45+R45+S45+T45 -> 0 | BB45: =T45 -> 0 | BC45: =+U45+V45+W45 -> 0 | BD45: =Y45 -> 0 | BE45: =O45+X45 -> 0 | BF45: =AF45 -> 0 | BG45: =AD45+AE45 -> 0 | BH45: =AF45 -> 0 | BI45: =AG45+AH45 -> 0 | BJ45: =AM45 -> 0 | BK45: =AK45+AL45 -> 0 | BL45: =AM45 -> 0 | BM45: =AN45+AO45 -> 0
A46: 3.5 | B46: Àëï ûñ»ÝùÇ Å³é³Ý·áõÃÛ³Ý Çñ³íáõÝùÇ íÏ³Û³·ÇñÝ ³Ýí³í»ñ ×³Ý³ã»Éáõ í»ñ³µ»ñÛ³É | AT46: =E46 -> 0 | AU46: =F46+G46+H46+I46 -> 0 | AV46: =J46 -> 0 | AW46: =K46+L46+M46 -> 0 | AX46: =F46+G46+K46 -> 0 | AY46: =N46+Y46+Z46+AB46 -> 0 | AZ46: =O46 -> 0 | BA46: =P46+Q46+R46+S46+T46 -> 0 | BB46: =T46 -> 0 | BC46: =+U46+V46+W46 -> 0 | BD46: =Y46 -> 0 | BE46: =O46+X46 -> 0 | BF46: =AF46 -> 0 | BG46: =AD46+AE46 -> 0 | BH46: =AF46 -> 0 | BI46: =AG46+AH46 -> 0 | BJ46: =AM46 -> 0 | BK46: =AK46+AL46 -> 0 | BL46: =AM46 -> 0 | BM46: =AN46+AO46 -> 0
A47: 3.6 | B47: Ä³é³Ý·áõÃÛáõÝÝ ÁÝ¹áõÝ»Éáõ µ³ó ÃáÕÝí³Í Å³ÙÏ»ïÁ Ñ³ñ·»ÉÇ Ñ³Ù³ñ»Éáõ í»ñ³µ»ñÛ³É | J47: 1 | K47: 1 | AB47: 1 | AT47: =E47 -> 0 | AU47: =F47+G47+H47+I47 -> 0 | AV47: =J47 -> 1 | AW47: =K47+L47+M47 -> 1 | AX47: =F47+G47+K47 -> 1 | AY47: =N47+Y47+Z47+AB47 -> 1 | AZ47: =O47 -> 0 | BA47: =P47+Q47+R47+S47+T47 -> 0 | BB47: =T47 -> 0 | BC47: =+U47+V47+W47 -> 0 | BD47: =Y47 -> 0 | BE47: =O47+X47 -> 0 | BF47: =AF47 -> 0 | BG47: =AD47+AE47 -> 0 | BH47: =AF47 -> 0 | BI47: =AG47+AH47 -> 0 | BJ47: =AM47 -> 0 | BK47: =AK47+AL47 -> 0 | BL47: =AM47 -> 0 | BM47: =AN47+AO47 -> 0
A48: 3.7 | B48: ²ÛÉ í»×»ñ | E48: 3 | F48: 1 | G48: 2 | O48: 1 | Q48: 1 | X48: 1 | Y48: 2 | AB48: 1 | AC48: 1 | AD48: 1 | AF48: 1 | AH48: 1 | AK48: 1 | AM48: 1 | AO48: 1 | AT48: =E48 -> 3 | AU48: =F48+G48+H48+I48 -> 3 | AV48: =J48 -> 0 | AW48: =K48+L48+M48 -> 0 | AX48: =F48+G48+K48 -> 3 | AY48: =N48+Y48+Z48+AB48 -> 3 | AZ48: =O48 -> 1 | BA48: =P48+Q48+R48+S48+T48 -> 1 | BB48: =T48 -> 0 | BC48: =+U48+V48+W48 -> 0 | BD48: =Y48 -> 2 | BE48: =O48+X48 -> 2 | BF48: =AF48 -> 1 | BG48: =AD48+AE48 -> 1 | BH48: =AF48 -> 1 | BI48: =AG48+AH48 -> 1 | BJ48: =AM48 -> 1 | BK48: =AK48+AL48 -> 1 | BL48: =AM48 -> 1 | BM48: =AN48+AO48 -> 1
A49: 4 | B49: ÀÝï³Ý»Ï³Ý Çñ³í³Ñ³ñ³µ»ñáõÃÛáõÝÝ»ñÇ í»ñ³µ»ñÛ³É ¹³ï³Ï³Ý ·áñÍ»ñ | E49: =SUM(E50:E62) -> 10 | F49: =SUM(F50:F62) -> 0 | G49: =SUM(G50:G62) -> 10 | H49: =SUM(H50:H62) -> 0 | I49: =SUM(I50:I62) -> 0 | J49: =SUM(J50:J62) -> 47 | K49: =SUM(K50:K62) -> 43 | L49: =SUM(L50:L62) -> 4 | ... BM49: =SUM(BM50:BM62) -> 3
A50: 4.1 | B50: ²ÙáõëÝ³ÉáõÍáõÃÛ³Ý í»ñ³µ»ñÛ³É | E50: 6 | G50: 6 | J50: 27 | K50: 23 | L50: 4 | O50: 21 | P50: 10 | Q50: 6 | R50: 1 | T50: 4 | V50: 4 | Y50: 21 | Z50: 1 | AB50: 7 | AD50: 1 | AE50: 1 | AF50: 2 | AH50: 2 | AJ50: 1 | AL50: 1 | AM50: 1 | AO50: 1 | AT50: =E50 -> 6 | AU50: =F50+G50+H50+I50 -> 6 | AV50: =J50 -> 27 | AW50: =K50+L50+M50 -> 27 | AX50: =F50+G50+K50 -> 29 | AY50: =N50+Y50+Z50+AB50 -> 29 | AZ50: =O50 -> 21 | BA50: =P50+Q50+R50+S50+T50 -> 21 | BB50: =T50 -> 4 | BC50: =+U50+V50+W50 -> 4 | BD50: =Y50 -> 21 | BE50: =O50+X50 -> 21 | BF50: =AF50 -> 2 | BG50: =AD50+AE50 -> 2 | BH50: =AF50 -> 2 | BI50: =AG50+AH50 -> 2 | BJ50: =AM50 -> 1 | BK50: =AK50+AL50 -> 1 | BL50: =AM50 -> 1 | BM50: =AN50+AO50 -> 1
A51: 4.2 | B51: ²ÉÇÙ»ÝïÇ å³Ñ³ÝçÇ í»ñ³µ»ñÛ³É | E51: 2 | G51: 2 | J51: 10 | K51: 10 | O51: 10 | P51: 2 | Q51: 8 | Y51: 10 | AB51: 2 | AK51: 1 | AM51: 1 | AN51: 1 | AT51: =E51 -> 2 | AU51: =F51+G51+H51+I51 -> 2 | AV51: =J51 -> 10 | AW51: =K51+L51+M51 -> 10 | AX51: =F51+G51+K51 -> 12 | AY51: =N51+Y51+Z51+AB51 -> 12 | AZ51: =O51 -> 10 | BA51: =P51+Q51+R51+S51+T51 -> 10 | BB51: =T51 -> 0 | BC51: =+U51+V51+W51 -> 0 | BD51: =Y51 -> 10 | BE51: =O51+X51 -> 10 | BF51: =AF51 -> 0 | BG51: =AD51+AE51 -> 0 | BH51: =AF51 -> 0 | BI51: =AG51+AH51 -> 0 | BJ51: =AM51 -> 1 | BK51: =AK51+AL51 -> 1 | BL51: =AM51 -> 1 | BM51: =AN51+AO51 -> 1
A52: 4.3 | B52: ²ÉÇÙ»ÝïÇ ã³÷Á ÷á÷áË»Éáõ í»ñ³µ»ñÛ³É | E52: 1 | G52: 1 | O52: 1 | Q52: 1 | Y52: 1 | AD52: 1 | AF52: 1 | AH52: 1 | AT52: =E52 -> 1 | AU52: =F52+G52+H52+I52 -> 1 | AV52: =J52 -> 0 | AW52: =K52+L52+M52 -> 0 | AX52: =F52+G52+K52 -> 1 | AY52: =N52+Y52+Z52+AB52 -> 1 | AZ52: =O52 -> 1 | BA52: =P52+Q52+R52+S52+T52 -> 1 | BB52: =T52 -> 0 | BC52: =+U52+V52+W52 -> 0 | BD52: =Y52 -> 1 | BE52: =O52+X52 -> 1 | BF52: =AF52 -> 1 | BG52: =AD52+AE52 -> 1 | BH52: =AF52 -> 1 | BI52: =AG52+AH52 -> 1 | BJ52: =AM52 -> 0 | BK52: =AK52+AL52 -> 0 | BL52: =AM52 -> 0 | BM52: =AN52+AO52 -> 0
A53: 4.4 | B53: ÌÝáÕ³Ï³Ý Çñ³íáõÝùÝ»ñÇó ½ñÏ»Éáõ í»ñ³µ»ñÛ³É | J53: 1 | K53: 1 | AB53: 1 | AT53: =E53 -> 0 | AU53: =F53+G53+H53+I53 -> 0 | AV53: =J53 -> 1 | AW53: =K53+L53+M53 -> 1 | AX53: =F53+G53+K53 -> 1 | AY53: =N53+Y53+Z53+AB53 -> 1 | AZ53: =O53 -> 0 | BA53: =P53+Q53+R53+S53+T53 -> 0 | BB53: =T53 -> 0 | BC53: =+U53+V53+W53 -> 0 | BD53: =Y53 -> 0 | BE53: =O53+X53 -> 0 | BF53: =AF53 -> 0 | BG53: =AD53+AE53 -> 0 | BH53: =AF53 -> 0 | BI53: =AG53+AH53 -> 0 | BJ53: =AM53 -> 0 | BK53: =AK53+AL53 -> 0 | BL53: =AM53 -> 0 | BM53: =AN53+AO53 -> 0
A54: 4.5 | B54: ÌÝáÕ³Ï³Ý Çñ³íáõÝùÝ»ñÁ í»ñ³Ï³Ý·Ý»Éáõ í»ñ³µ»ñÛ³É | AT54: =E54 -> 0 | AU54: =F54+G54+H54+I54 -> 0 | AV54: =J54 -> 0 | AW54: =K54+L54+M54 -> 0 | AX54: =F54+G54+K54 -> 0 | AY54: =N54+Y54+Z54+AB54 -> 0 | AZ54: =O54 -> 0 | BA54: =P54+Q54+R54+S54+T54 -> 0 | BB54: =T54 -> 0 | BC54: =+U54+V54+W54 -> 0 | BD54: =Y54 -> 0 | BE54: =O54+X54 -> 0 | BF54: =AF54 -> 0 | BG54: =AD54+AE54 -> 0 | BH54: =AF54 -> 0 | BI54: =AG54+AH54 -> 0 | BJ54: =AM54 -> 0 | BK54: =AK54+AL54 -> 0 | BL54: =AM54 -> 0 | BM54: =AN54+AO54 -> 0
A55: 4.6 | B55: ºñ»Ë³ÛÇ áñ¹»·ñÙ³Ý í»ñ³µ»ñÛ³É | AT55: =E55 -> 0 | AU55: =F55+G55+H55+I55 -> 0 | AV55: =J55 -> 0 | AW55: =K55+L55+M55 -> 0 | AX55: =F55+G55+K55 -> 0 | AY55: =N55+Y55+Z55+AB55 -> 0 | AZ55: =O55 -> 0 | BA55: =P55+Q55+R55+S55+T55 -> 0 | BB55: =T55 -> 0 | BC55: =+U55+V55+W55 -> 0 | BD55: =Y55 -> 0 | BE55: =O55+X55 -> 0 | BF55: =AF55 -> 0 | BG55: =AD55+AE55 -> 0 | BH55: =AF55 -> 0 | BI55: =AG55+AH55 -> 0 | BJ55: =AM55 -> 0 | BK55: =AK55+AL55 -> 0 | BL55: =AM55 -> 0 | BM55: =AN55+AO55 -> 0
A56: 4.7 | B56: ºñ»Ë³ÛÇ áñ¹»·ñáõÙÁ í»ñ³óÝ»Éáõ í»ñ³µ»ñÛ³É | AT56: =E56 -> 0 | AU56: =F56+G56+H56+I56 -> 0 | AV56: =J56 -> 0 | AW56: =K56+L56+M56 -> 0 | AX56: =F56+G56+K56 -> 0 | AY56: =N56+Y56+Z56+AB56 -> 0 | AZ56: =O56 -> 0 | BA56: =P56+Q56+R56+S56+T56 -> 0 | BB56: =T56 -> 0 | BC56: =+U56+V56+W56 -> 0 | BD56: =Y56 -> 0 | BE56: =O56+X56 -> 0 | BF56: =AF56 -> 0 | BG56: =AD56+AE56 -> 0 | BH56: =AF56 -> 0 | BI56: =AG56+AH56 -> 0 | BJ56: =AM56 -> 0 | BK56: =AK56+AL56 -> 0 | BL56: =AM56 -> 0 | BM56: =AN56+AO56 -> 0
A57: 4.8 | B57: Ð³ÛñáõÃÛáõÝÁ ×³Ý³ã»Éáõ í»ñ³µ»ñÛ³É | J57: 2 | K57: 2 | O57: 2 | P57: 2 | Y57: 2 | AT57: =E57 -> 0 | AU57: =F57+G57+H57+I57 -> 0 | AV57: =J57 -> 2 | AW57: =K57+L57+M57 -> 2 | AX57: =F57+G57+K57 -> 2 | AY57: =N57+Y57+Z57+AB57 -> 2 | AZ57: =O57 -> 2 | BA57: =P57+Q57+R57+S57+T57 -> 2 | BB57: =T57 -> 0 | BC57: =+U57+V57+W57 -> 0 | BD57: =Y57 -> 2 | BE57: =O57+X57 -> 2 | BF57: =AF57 -> 0 | BG57: =AD57+AE57 -> 0 | BH57: =AF57 -> 0 | BI57: =AG57+AH57 -> 0 | BJ57: =AM57 -> 0 | BK57: =AK57+AL57 -> 0 | BL57: =AM57 -> 0 | BM57: =AN57+AO57 -> 0
A58: 4.9 | B58: ºñ»Ë³ÛÇ µÝ³ÏáõÃÛ³Ý í³ÛñÁ áñáß»Éáõ í»ñ³µ»ñÛ³É | J58: 1 | K58: 1 | O58: 1 | R58: 1 | Y58: 1 | AT58: =E58 -> 0 | AU58: =F58+G58+H58+I58 -> 0 | AV58: =J58 -> 1 | AW58: =K58+L58+M58 -> 1 | AX58: =F58+G58+K58 -> 1 | AY58: =N58+Y58+Z58+AB58 -> 1 | AZ58: =O58 -> 1 | BA58: =P58+Q58+R58+S58+T58 -> 1 | BB58: =T58 -> 0 | BC58: =+U58+V58+W58 -> 0 | BD58: =Y58 -> 1 | BE58: =O58+X58 -> 1 | BF58: =AF58 -> 0 | BG58: =AD58+AE58 -> 0 | BH58: =AF58 -> 0 | BI58: =AG58+AH58 -> 0 | BJ58: =AM58 -> 0 | BK58: =AK58+AL58 -> 0 | BL58: =AM58 -> 0 | BM58: =AN58+AO58 -> 0
A59: 4.10 | B59: ºñ»Ë³ÛÇ Ñ»ï ï»ë³ÏóáõÃÛ³Ý Ï³ñ· ë³ÑÙ³Ý»Éáõ í»ñ³µ»ñÛ³É | E59: 1 | G59: 1 | J59: 3 | K59: 3 | O59: 3 | Q59: 2 | T59: 1 | V59: 1 | Y59: 3 | AB59: 1 | AD59: 2 | AF59: 2 | AG59: 1 | AH59: 1 | AK59: 1 | AM59: 1 | AN59: 1 | AT59: =E59 -> 1 | AU59: =F59+G59+H59+I59 -> 1 | AV59: =J59 -> 3 | AW59: =K59+L59+M59 -> 3 | AX59: =F59+G59+K59 -> 4 | AY59: =N59+Y59+Z59+AB59 -> 4 | AZ59: =O59 -> 3 | BA59: =P59+Q59+R59+S59+T59 -> 3 | BB59: =T59 -> 1 | BC59: =+U59+V59+W59 -> 1 | BD59: =Y59 -> 3 | BE59: =O59+X59 -> 3 | BF59: =AF59 -> 2 | BG59: =AD59+AE59 -> 2 | BH59: =AF59 -> 2 | BI59: =AG59+AH59 -> 2 | BJ59: =AM59 -> 1 | BK59: =AK59+AL59 -> 1 | BL59: =AM59 -> 1 | BM59: =AN59+AO59 -> 1
A60: 4.11 | B60: ²ÙáõëÇÝÝ»ñÇ ÁÝ¹Ñ³Ýáõñ ·áõÛùÁ µ³Å³Ý»Éáõ í»ñ³µ»ñÛ³É | AT60: =E60 -> 0 | AU60: =F60+G60+H60+I60 -> 0 | AV60: =J60 -> 0 | AW60: =K60+L60+M60 -> 0 | AX60: =F60+G60+K60 -> 0 | AY60: =N60+Y60+Z60+AB60 -> 0 | AZ60: =O60 -> 0 | BA60: =P60+Q60+R60+S60+T60 -> 0 | BB60: =T60 -> 0 | BC60: =+U60+V60+W60 -> 0 | BD60: =Y60 -> 0 | BE60: =O60+X60 -> 0 | BF60: =AF60 -> 0 | BG60: =AD60+AE60 -> 0 | BH60: =AF60 -> 0 | BI60: =AG60+AH60 -> 0 | BJ60: =AM60 -> 0 | BK60: =AK60+AL60 -> 0 | BL60: =AM60 -> 0 | BM60: =AN60+AO60 -> 0
A61: 4.12 | B61: ²ÙáõëÝ³Ï³Ý å³ÛÙ³Ý³·ñÇ ÷á÷áËÙ³Ý Ï³Ù ÉáõÍÙ³Ý í»ñ³µ»ñÛ³É | AT61: =E61 -> 0 | AU61: =F61+G61+H61+I61 -> 0 | AV61: =J61 -> 0 | AW61: =K61+L61+M61 -> 0 | AX61: =F61+G61+K61 -> 0 | AY61: =N61+Y61+Z61+AB61 -> 0 | AZ61: =O61 -> 0 | BA61: =P61+Q61+R61+S61+T61 -> 0 | BB61: =T61 -> 0 | BC61: =+U61+V61+W61 -> 0 | BD61: =Y61 -> 0 | BE61: =O61+X61 -> 0 | BF61: =AF61 -> 0 | BG61: =AD61+AE61 -> 0 | BH61: =AF61 -> 0 | BI61: =AG61+AH61 -> 0 | BJ61: =AM61 -> 0 | BK61: =AK61+AL61 -> 0 | BL61: =AM61 -> 0 | BM61: =AN61+AO61 -> 0
A62: 4.13 | B62: ²ÛÉ í»×»ñ | J62: 3 | K62: 3 | O62: 2 | Q62: 1 | T62: 1 | V62: 1 | Y62: 2 | AB62: 1 | AT62: =E62 -> 0 | AU62: =F62+G62+H62+I62 -> 0 | AV62: =J62 -> 3 | AW62: =K62+L62+M62 -> 3 | AX62: =F62+G62+K62 -> 3 | AY62: =N62+Y62+Z62+AB62 -> 3 | AZ62: =O62 -> 2 | BA62: =P62+Q62+R62+S62+T62 -> 2 | BB62: =T62 -> 1 | BC62: =+U62+V62+W62 -> 1 | BD62: =Y62 -> 2 | BE62: =O62+X62 -> 2 | BF62: =AF62 -> 0 | BG62: =AD62+AE62 -> 0 | BH62: =AF62 -> 0 | BI62: =AG62+AH62 -> 0 | BJ62: =AM62 -> 0 | BK62: =AK62+AL62 -> 0 | BL62: =AM62 -> 0 | BM62: =AN62+AO62 -> 0
A63: 5. | B63: Øï³íáñ ë»÷³Ï³ÝáõÃÛ³Ý Ñ»ï Ï³åí³ÍÇñ³í³Ñ³ñ³µ»ñáõÃÛáõÝÝ»ñÇ í»ñ³µ»ñÛ³É ¹³ï³Ï³Ý ·áñÍ»ñ | E63: =SUM(E64:E69) -> 0 | F63: =SUM(F64:F69) -> 0 | G63: =SUM(G64:G69) -> 0 | H63: =SUM(H64:H69) -> 0 | I63: =SUM(I64:I69) -> 0 | J63: =SUM(J64:J69) -> 0 | K63: =SUM(K64:K69) -> 0 | L63: =SUM(L64:L69) -> 0 | ... BC63: =SUM(BC64:BC69) -> 0 | BD63: =Y63 -> 0 | BE63: =O63+X63 -> 0 | BF63: =SUM(BF64:BF69) -> 0 | BG63: =SUM(BG64:BG69) -> 0 | BH63: =SUM(BH64:BH69) -> 0 | BI63: =SUM(BI64:BI69) -> 0 | BJ63: =SUM(BJ64:BJ69) -> 0 | BK63: =SUM(BK64:BK69) -> 0 | BL63: =SUM(BL64:BL69) -> 0 | BM63: =SUM(BM64:BM69) -> 0
A64: 5.1 | B64: ÈÇó»Ý½³ÛÇÝ å³ÛÙ³Ý³·ñÇ ÉáõÍÙ³Ý, ÷á÷áËÙ³Ý ¨ ³Ýí³í»ñáõÃÛ³Ý í»ñ³µ»ñÛ³É | AT64: =E64 -> 0 | AU64: =F64+G64+H64+I64 -> 0 | AV64: =J64 -> 0 | AW64: =K64+L64+M64 -> 0 | AX64: =F64+G64+K64 -> 0 | AY64: =N64+Y64+Z64+AB64 -> 0 | AZ64: =O64 -> 0 | BA64: =P64+Q64+R64+S64+T64 -> 0 | BB64: =T64 -> 0 | BC64: =+U64+V64+W64 -> 0 | BD64: =Y64 -> 0 | BE64: =O64+X64 -> 0 | BF64: =AF64 -> 0 | BG64: =AD64+AE64 -> 0 | BH64: =AF64 -> 0 | BI64: =AG64+AH64 -> 0 | BJ64: =AM64 -> 0 | BK64: =AK64+AL64 -> 0 | BL64: =AM64 -> 0 | BM64: =AN64+AO64 -> 0
A65: 5.2 | B65: Øï³íáñ ·áñÍáõÝ»áõÃÛ³Ý ³ñ¹ÛáõÝùÝ»ñ ëï»ÕÍ»Éáõ ¨ û·ï³·áñÍ»Éáõ å³ÛÙ³Ý³·ñÇ ÉáõÍÙ³Ý, ÷á÷áËÙ³Ý áõ ³Ýí³í»ñáõÃÛ³Ý í»ñ³µ»ñÛ³É | AT65: =E65 -> 0 | AU65: =F65+G65+H65+I65 -> 0 | AV65: =J65 -> 0 | AW65: =K65+L65+M65 -> 0 | AX65: =F65+G65+K65 -> 0 | AY65: =N65+Y65+Z65+AB65 -> 0 | AZ65: =O65 -> 0 | BA65: =P65+Q65+R65+S65+T65 -> 0 | BB65: =T65 -> 0 | BC65: =+U65+V65+W65 -> 0 | BD65: =Y65 -> 0 | BE65: =O65+X65 -> 0 | BF65: =AF65 -> 0 | BG65: =AD65+AE65 -> 0 | BH65: =AF65 -> 0 | BI65: =AG65+AH65 -> 0 | BJ65: =AM65 -> 0 | BK65: =AK65+AL65 -> 0 | BL65: =AM65 -> 0 | BM65: =AN65+AO65 -> 0
A66: 5.3 | B66: Ð»ÕÇÝ³Ï³ÛÇÝ ¨ Ñ³ñ³ÏÇó Çñ³íáõÝùÝ»ñÇ í»ñ³µ»ñÛ³É | AT66: =E66 -> 0 | AU66: =F66+G66+H66+I66 -> 0 | AV66: =J66 -> 0 | AW66: =K66+L66+M66 -> 0 | AX66: =F66+G66+K66 -> 0 | AY66: =N66+Y66+Z66+AB66 -> 0 | AZ66: =O66 -> 0 | BA66: =P66+Q66+R66+S66+T66 -> 0 | BB66: =T66 -> 0 | BC66: =+U66+V66+W66 -> 0 | BD66: =Y66 -> 0 | BE66: =O66+X66 -> 0 | BF66: =AF66 -> 0 | BG66: =AD66+AE66 -> 0 | BH66: =AF66 -> 0 | BI66: =AG66+AH66 -> 0 | BJ66: =AM66 -> 0 | BK66: =AK66+AL66 -> 0 | BL66: =AM66 -> 0 | BM66: =AN66+AO66 -> 0
A67: 5.4 | B67: üÇñÙ³ÛÇÝ ³Ýí³ÝÙ³Ý í»ñ³µ»ñÛ³É | AT67: =E67 -> 0 | AU67: =F67+G67+H67+I67 -> 0 | AV67: =J67 -> 0 | AW67: =K67+L67+M67 -> 0 | AX67: =F67+G67+K67 -> 0 | AY67: =N67+Y67+Z67+AB67 -> 0 | AZ67: =O67 -> 0 | BA67: =P67+Q67+R67+S67+T67 -> 0 | BB67: =T67 -> 0 | BC67: =+U67+V67+W67 -> 0 | BD67: =Y67 -> 0 | BE67: =O67+X67 -> 0 | BF67: =AF67 -> 0 | BG67: =AD67+AE67 -> 0 | BH67: =AF67 -> 0 | BI67: =AG67+AH67 -> 0 | BJ67: =AM67 -> 0 | BK67: =AK67+AL67 -> 0 | BL67: =AM67 -> 0 | BM67: =AN67+AO67 -> 0
A68: 5.5 | B68: ²åñ³Ýù³ÛÇÝ Ýß³ÝÇ í»ñ³µ»ñÛ³É | AT68: =E68 -> 0 | AU68: =F68+G68+H68+I68 -> 0 | AV68: =J68 -> 0 | AW68: =K68+L68+M68 -> 0 | AX68: =F68+G68+K68 -> 0 | AY68: =N68+Y68+Z68+AB68 -> 0 | AZ68: =O68 -> 0 | BA68: =P68+Q68+R68+S68+T68 -> 0 | BB68: =T68 -> 0 | BC68: =+U68+V68+W68 -> 0 | BD68: =Y68 -> 0 | BE68: =O68+X68 -> 0 | BF68: =AF68 -> 0 | BG68: =AD68+AE68 -> 0 | BH68: =AF68 -> 0 | BI68: =AG68+AH68 -> 0 | BJ68: =AM68 -> 0 | BK68: =AK68+AL68 -> 0 | BL68: =AM68 -> 0 | BM68: =AN68+AO68 -> 0
A69: 5.6 | B69: ²ÛÉ í»×»ñ | AT69: =E69 -> 0 | AU69: =F69+G69+H69+I69 -> 0 | AV69: =J69 -> 0 | AW69: =K69+L69+M69 -> 0 | AX69: =F69+G69+K69 -> 0 | AY69: =N69+Y69+Z69+AB69 -> 0 | AZ69: =O69 -> 0 | BA69: =P69+Q69+R69+S69+T69 -> 0 | BB69: =T69 -> 0 | BC69: =+U69+V69+W69 -> 0 | BD69: =Y69 -> 0 | BE69: =O69+X69 -> 0 | BF69: =AF69 -> 0 | BG69: =AD69+AE69 -> 0 | BH69: =AF69 -> 0 | BI69: =AG69+AH69 -> 0 | BJ69: =AM69 -> 0 | BK69: =AK69+AL69 -> 0 | BL69: =AM69 -> 0 | BM69: =AN69+AO69 -> 0
A70: 6. | B70: ²ßË³ï³Ýù³ÛÇÝ Çñ³í³Ñ³ñ³µ»ñáõÃÛáõÝÝ»ñÇ í»ñ³µ»ñÛ³É ¹³ï³Ï³Ý ·áñÍ»ñ | E70: =SUM(E71:E76) -> 1 | F70: =SUM(F71:F76) -> 0 | G70: =SUM(G71:G76) -> 1 | H70: =SUM(H71:H76) -> 0 | I70: =SUM(I71:I76) -> 0 | J70: =SUM(J71:J76) -> 0 | K70: =SUM(K71:K76) -> 0 | L70: =SUM(L71:L76) -> 0 | ... BC70: =SUM(BC71:BC76) -> 0 | BD70: =Y70 -> 1 | BE70: =O70+X70 -> 1 | BF70: =SUM(BF71:BF76) -> 1 | BG70: =SUM(BG71:BG76) -> 1 | BH70: =SUM(BH71:BH76) -> 1 | BI70: =SUM(BI71:BI76) -> 1 | BJ70: =SUM(BJ71:BJ76) -> 0 | BK70: =SUM(BK71:BK76) -> 0 | BL70: =SUM(BL71:BL76) -> 0 | BM70: =SUM(BM71:BM76) -> 0
A71: 6.1 | B71: ²ßË³ï³Ýù³ÛÇÝ å³ÛÙ³Ý³·ñ»ñÇ í»ñ³µ»ñÛ³É | AT71: =E71 -> 0 | AU71: =F71+G71+H71+I71 -> 0 | AV71: =J71 -> 0 | AW71: =K71+L71+M71 -> 0 | AX71: =F71+G71+K71 -> 0 | AY71: =N71+Y71+Z71+AB71 -> 0 | AZ71: =O71 -> 0 | BA71: =P71+Q71+R71+S71+T71 -> 0 | BB71: =T71 -> 0 | BC71: =+U71+V71+W71 -> 0 | BD71: =Y71 -> 0 | BE71: =O71+X71 -> 0 | BF71: =AF71 -> 0 | BG71: =AD71+AE71 -> 0 | BH71: =AF71 -> 0 | BI71: =AG71+AH71 -> 0 | BJ71: =AM71 -> 0 | BK71: =AK71+AL71 -> 0 | BL71: =AM71 -> 0 | BM71: =AN71+AO71 -> 0
A72: 6.2 | B72: ²ßË³ï³ÝùáõÙ í»ñ³Ï³Ý·Ý»Éáõ í»ñ³µ»ñÛ³É | E72: 1 | G72: 1 | O72: 1 | Q72: 1 | Y72: 1 | AD72: 1 | AF72: 1 | AH72: 1 | AJ72: 1 | AT72: =E72 -> 1 | AU72: =F72+G72+H72+I72 -> 1 | AV72: =J72 -> 0 | AW72: =K72+L72+M72 -> 0 | AX72: =F72+G72+K72 -> 1 | AY72: =N72+Y72+Z72+AB72 -> 1 | AZ72: =O72 -> 1 | BA72: =P72+Q72+R72+S72+T72 -> 1 | BB72: =T72 -> 0 | BC72: =+U72+V72+W72 -> 0 | BD72: =Y72 -> 1 | BE72: =O72+X72 -> 1 | BF72: =AF72 -> 1 | BG72: =AD72+AE72 -> 1 | BH72: =AF72 -> 1 | BI72: =AG72+AH72 -> 1 | BJ72: =AM72 -> 0 | BK72: =AK72+AL72 -> 0 | BL72: =AM72 -> 0 | BM72: =AN72+AO72 -> 0
A73: 6.3 | B73: ¶áñÍ³¹áõÉÝ ³ÝûñÇÝ³Ï³Ý ×³Ý³ã»Éáõ í»ñ³µ»ñÛ³É | AT73: =E73 -> 0 | AU73: =F73+G73+H73+I73 -> 0 | AV73: =J73 -> 0 | AW73: =K73+L73+M73 -> 0 | AX73: =F73+G73+K73 -> 0 | AY73: =N73+Y73+Z73+AB73 -> 0 | AZ73: =O73 -> 0 | BA73: =P73+Q73+R73+S73+T73 -> 0 | BB73: =T73 -> 0 | BC73: =+U73+V73+W73 -> 0 | BD73: =Y73 -> 0 | BE73: =O73+X73 -> 0 | BF73: =AF73 -> 0 | BG73: =AD73+AE73 -> 0 | BH73: =AF73 -> 0 | BI73: =AG73+AH73 -> 0 | BJ73: =AM73 -> 0 | BK73: =AK73+AL73 -> 0 | BL73: =AM73 -> 0 | BM73: =AN73+AO73 -> 0
A74: 6.4 | B74: Ð³ñÏ³¹Çñ å³ñ³åáõñ¹Ç Ñ³ïáõóÙ³Ý í»ñ³µ»ñÛ³É | AT74: =E74 -> 0 | AU74: =F74+G74+H74+I74 -> 0 | AV74: =J74 -> 0 | AW74: =K74+L74+M74 -> 0 | AX74: =F74+G74+K74 -> 0 | AY74: =N74+Y74+Z74+AB74 -> 0 | AZ74: =O74 -> 0 | BA74: =P74+Q74+R74+S74+T74 -> 0 | BB74: =T74 -> 0 | BC74: =+U74+V74+W74 -> 0 | BD74: =Y74 -> 0 | BE74: =O74+X74 -> 0 | BF74: =AF74 -> 0 | BG74: =AD74+AE74 -> 0 | BH74: =AF74 -> 0 | BI74: =AG74+AH74 -> 0 | BJ74: =AM74 -> 0 | BK74: =AK74+AL74 -> 0 | BL74: =AM74 -> 0 | BM74: =AN74+AO74 -> 0
A75: 6.5 | B75: âí×³ñí³Í ³ßË³ï³í³ñÓÇ ¨/Ï³Ù ³ÛÉ í×³ñÝ»ñÇ µéÝ³·³ÝÓÙ³Ý í»ñ³µ»ñÛ³É | AT75: =E75 -> 0 | AU75: =F75+G75+H75+I75 -> 0 | AV75: =J75 -> 0 | AW75: =K75+L75+M75 -> 0 | AX75: =F75+G75+K75 -> 0 | AY75: =N75+Y75+Z75+AB75 -> 0 | AZ75: =O75 -> 0 | BA75: =P75+Q75+R75+S75+T75 -> 0 | BB75: =T75 -> 0 | BC75: =+U75+V75+W75 -> 0 | BD75: =Y75 -> 0 | BE75: =O75+X75 -> 0 | BF75: =AF75 -> 0 | BG75: =AD75+AE75 -> 0 | BH75: =AF75 -> 0 | BI75: =AG75+AH75 -> 0 | BJ75: =AM75 -> 0 | BK75: =AK75+AL75 -> 0 | BL75: =AM75 -> 0 | BM75: =AN75+AO75 -> 0
A76: 6.6 | B76: ²ÛÉ í»×»ñ | AT76: =E76 -> 0 | AU76: =F76+G76+H76+I76 -> 0 | AV76: =J76 -> 0 | AW76: =K76+L76+M76 -> 0 | AX76: =F76+G76+K76 -> 0 | AY76: =N76+Y76+Z76+AB76 -> 0 | AZ76: =O76 -> 0 | BA76: =P76+Q76+R76+S76+T76 -> 0 | BB76: =T76 -> 0 | BC76: =+U76+V76+W76 -> 0 | BD76: =Y76 -> 0 | BE76: =O76+X76 -> 0 | BF76: =AF76 -> 0 | BG76: =AD76+AE76 -> 0 | BH76: =AF76 -> 0 | BI76: =AG76+AH76 -> 0 | BJ76: =AM76 -> 0 | BK76: =AK76+AL76 -> 0 | BL76: =AM76 -> 0 | BM76: =AN76+AO76 -> 0
A77: 7. | B77: Æñ³í³µ³Ý³Ï³Ý ³ÝÓÇ ·áñÍáõÝ»áõÃÛáõÝÇó µËáÕ Çñ³í³Ñ³ñ³µ»ñáõÃÛáõÝÝ»ñÇ í»ñ³µ»ñÛ³É ¹³ï³Ï³Ý ·áñÍ»ñ | E77: =SUM(E78:E79) -> 0 | F77: =SUM(F78:F79) -> 0 | G77: =SUM(G78:G79) -> 0 | H77: =SUM(H78:H79) -> 0 | I77: =SUM(I78:I79) -> 0 | J77: =SUM(J78:J79) -> 0 | K77: =SUM(K78:K79) -> 0 | L77: =SUM(L78:L79) -> 0 | ... BC77: =SUM(BC78:BC79) -> 0 | BD77: =Y77 -> 0 | BE77: =O77+X77 -> 0 | BF77: =SUM(BF78:BF79) -> 0 | BG77: =SUM(BG78:BG79) -> 0 | BH77: =SUM(BH78:BH79) -> 0 | BI77: =SUM(BI78:BI79) -> 0 | BJ77: =SUM(BJ78:BJ79) -> 0 | BK77: =SUM(BK78:BK79) -> 0 | BL77: =SUM(BL78:BL79) -> 0 | BM77: =SUM(BM78:BM79) -> 0
A78: 7.1 | B78: Îáñåáñ³ïÇí í»×»ñ | AT78: =E78 -> 0 | AU78: =F78+G78+H78+I78 -> 0 | AV78: =J78 -> 0 | AW78: =K78+L78+M78 -> 0 | AX78: =F78+G78+K78 -> 0 | AY78: =N78+Y78+Z78+AB78 -> 0 | AZ78: =O78 -> 0 | BA78: =P78+Q78+R78+S78+T78 -> 0 | BB78: =T78 -> 0 | BC78: =+U78+V78+W78 -> 0 | BD78: =Y78 -> 0 | BE78: =O78+X78 -> 0 | BF78: =AF78 -> 0 | BG78: =AD78+AE78 -> 0 | BH78: =AF78 -> 0 | BI78: =AG78+AH78 -> 0 | BJ78: =AM78 -> 0 | BK78: =AK78+AL78 -> 0 | BL78: =AM78 -> 0 | BM78: =AN78+AO78 -> 0
A79: 7.2 | B79: ²ÛÉ í»×»ñ | AT79: =E79 -> 0 | AU79: =F79+G79+H79+I79 -> 0 | AV79: =J79 -> 0 | AW79: =K79+L79+M79 -> 0 | AX79: =F79+G79+K79 -> 0 | AY79: =N79+Y79+Z79+AB79 -> 0 | AZ79: =O79 -> 0 | BA79: =P79+Q79+R79+S79+T79 -> 0 | BB79: =T79 -> 0 | BC79: =+U79+V79+W79 -> 0 | BD79: =Y79 -> 0 | BE79: =O79+X79 -> 0 | BF79: =AF79 -> 0 | BG79: =AD79+AE79 -> 0 | BH79: =AF79 -> 0 | BI79: =AG79+AH79 -> 0 | BJ79: =AM79 -> 0 | BK79: =AK79+AL79 -> 0 | BL79: =AM79 -> 0 | BM79: =AN79+AO79 -> 0
A80: 8. | B80: Ð³ïáõÏ í³ñáõÛÃÇ ¹³ï³Ï³Ý ·áñÍ»ñ | E80: =SUM(E81:E101) -> 7 | F80: =SUM(F81:F101) -> 2 | G80: =SUM(G81:G101) -> 5 | H80: =SUM(H81:H101) -> 0 | I80: =SUM(I81:I101) -> 0 | J80: =SUM(J81:J101) -> 37 | K80: =SUM(K81:K101) -> 22 | L80: =SUM(L81:L101) -> 15 | ... BC80: =SUM(BC81:BC101) -> 2 | BD80: =Y80 -> 20 | BE80: =O80+X80 -> 20 | BF80: =SUM(BF81:BF101) -> 5 | BG80: =SUM(BG81:BG101) -> 5 | BH80: =SUM(BH81:BH101) -> 5 | BI80: =SUM(BI81:BI101) -> 5 | BJ80: =SUM(BJ81:BJ101) -> 4 | BK80: =SUM(BK81:BK101) -> 4 | BL80: =SUM(BL81:BL101) -> 4 | BM80: =SUM(BM81:BM101) -> 4
A81: 8.1 | B81: ²Ýã³÷³Ñ³ëÇÝ ÉñÇí ·áñÍáõÝ³Ï ×³Ý³ã»Éáõ /¿Ù³ÝëÇå³óÇ³/ í»ñ³µ»ñÛ³É | AT81: =E81 -> 0 | AU81: =F81+G81+H81+I81 -> 0 | AV81: =J81 -> 0 | AW81: =K81+L81+M81 -> 0 | AX81: =F81+G81+K81 -> 0 | AY81: =N81+Y81+Z81+AB81 -> 0 | AZ81: =O81 -> 0 | BA81: =P81+Q81+R81+S81+T81 -> 0 | BB81: =T81 -> 0 | BC81: =+U81+V81+W81 -> 0 | BD81: =Y81 -> 0 | BE81: =O81+X81 -> 0 | BF81: =AF81 -> 0 | BG81: =AD81+AE81 -> 0 | BH81: =AF81 -> 0 | BI81: =AG81+AH81 -> 0 | BJ81: =AM81 -> 0 | BK81: =AK81+AL81 -> 0 | BL81: =AM81 -> 0 | BM81: =AN81+AO81 -> 0
A82: 8.2 | B82: ø³Õ³ù³óáõÝ ³Ý·áñÍáõÝ³Ï Ï³Ù ë³ÑÙ³Ý³÷³Ï ·áñÍáõÝ³Ï ×³Ý³ã»Éáõ í»ñ³µ»ñÛ³É | J82: 5 | K82: 4 | L82: 1 | O82: 2 | P82: 2 | Y82: 2 | AA82: 2 | AB82: 2 | AC82: 2 | AE82: 1 | AF82: 1 | AH82: 1 | AL82: 1 | AM82: 1 | AO82: 1 | AT82: =E82 -> 0 | AU82: =F82+G82+H82+I82 -> 0 | AV82: =J82 -> 5 | AW82: =K82+L82+M82 -> 5 | AX82: =F82+G82+K82 -> 4 | AY82: =N82+Y82+Z82+AB82 -> 4 | AZ82: =O82 -> 2 | BA82: =P82+Q82+R82+S82+T82 -> 2 | BB82: =T82 -> 0 | BC82: =+U82+V82+W82 -> 0 | BD82: =Y82 -> 2 | BE82: =O82+X82 -> 2 | BF82: =AF82 -> 1 | BG82: =AD82+AE82 -> 1 | BH82: =AF82 -> 1 | BI82: =AG82+AH82 -> 1 | BJ82: =AM82 -> 1 | BK82: =AK82+AL82 -> 1 | BL82: =AM82 -> 1 | BM82: =AN82+AO82 -> 1
A83: 8.3 | B83: ø³Õ³ù³óáõÝ Ñá·»µáõÅ³Ï³Ý ÑÇí³Ý¹³Ýáó³ÛÇÝ Ñ³ñÏ³¹Çñ µáõÅÙ³Ý »ÝÃ³ñÏ»Éáõ í»ñ³µ»ñÛ³É | AT83: =E83 -> 0 | AU83: =F83+G83+H83+I83 -> 0 | AV83: =J83 -> 0 | AW83: =K83+L83+M83 -> 0 | AX83: =F83+G83+K83 -> 0 | AY83: =N83+Y83+Z83+AB83 -> 0 | AZ83: =O83 -> 0 | BA83: =P83+Q83+R83+S83+T83 -> 0 | BB83: =T83 -> 0 | BC83: =+U83+V83+W83 -> 0 | BD83: =Y83 -> 0 | BE83: =O83+X83 -> 0 | BF83: =AF83 -> 0 | BG83: =AD83+AE83 -> 0 | BH83: =AF83 -> 0 | BI83: =AG83+AH83 -> 0 | BJ83: =AM83 -> 0 | BK83: =AK83+AL83 -> 0 | BL83: =AM83 -> 0 | BM83: =AN83+AO83 -> 0
A84: 8.4 | B84: ø³Õ³ù³óáõÝ ³ÝÑ³Ûï µ³ó³Ï³ÛáÕ Ï³Ù Ù³Ñ³ó³Í ×³Ý³ã»Éáõ í»ñ³µ»ñÛ³É | J84: 7 | K84: 3 | L84: 4 | O84: 3 | P84: 2 | R84: 1 | Y84: 3 | AT84: =E84 -> 0 | AU84: =F84+G84+H84+I84 -> 0 | AV84: =J84 -> 7 | AW84: =K84+L84+M84 -> 7 | AX84: =F84+G84+K84 -> 3 | AY84: =N84+Y84+Z84+AB84 -> 3 | AZ84: =O84 -> 3 | BA84: =P84+Q84+R84+S84+T84 -> 3 | BB84: =T84 -> 0 | BC84: =+U84+V84+W84 -> 0 | BD84: =Y84 -> 3 | BE84: =O84+X84 -> 3 | BF84: =AF84 -> 0 | BG84: =AD84+AE84 -> 0 | BH84: =AF84 -> 0 | BI84: =AG84+AH84 -> 0 | BJ84: =AM84 -> 0 | BK84: =AK84+AL84 -> 0 | BL84: =AM84 -> 0 | BM84: =AN84+AO84 -> 0
A85: 8.5 | B85: ø³Õ³ù³óÇ³Ï³Ý Ï³óáõÃÛ³Ý ³Ïï»ñÇ ·ñ³éáõÙÝ»ñÇ ³Ý×ßïáõÃÛáõÝÝ»ñÁ å³ñ½»Éáõ í»ñ³µ»ñÛ³É | AT85: =E85 -> 0 | AU85: =F85+G85+H85+I85 -> 0 | AV85: =J85 -> 0 | AW85: =K85+L85+M85 -> 0 | AX85: =F85+G85+K85 -> 0 | AY85: =N85+Y85+Z85+AB85 -> 0 | AZ85: =O85 -> 0 | BA85: =P85+Q85+R85+S85+T85 -> 0 | BB85: =T85 -> 0 | BC85: =+U85+V85+W85 -> 0 | BD85: =Y85 -> 0 | BE85: =O85+X85 -> 0 | BF85: =AF85 -> 0 | BG85: =AD85+AE85 -> 0 | BH85: =AF85 -> 0 | BI85: =AG85+AH85 -> 0 | BJ85: =AM85 -> 0 | BK85: =AK85+AL85 -> 0 | BL85: =AM85 -> 0 | BM85: =AN85+AO85 -> 0
A86: 8.6 | B86: ¶áõÛùÁ ïÇñ³½áõñÏ ×³Ý³ã»Éáõ í»ñ³µ»ñÛ³É | J86: 2 | K86: 2 | O86: 2 | P86: 2 | Y86: 2 | AE86: 1 | AF86: 1 | AH86: 1 | AL86: 1 | AM86: 1 | AO86: 1 | AT86: =E86 -> 0 | AU86: =F86+G86+H86+I86 -> 0 | AV86: =J86 -> 2 | AW86: =K86+L86+M86 -> 2 | AX86: =F86+G86+K86 -> 2 | AY86: =N86+Y86+Z86+AB86 -> 2 | AZ86: =O86 -> 2 | BA86: =P86+Q86+R86+S86+T86 -> 2 | BB86: =T86 -> 0 | BC86: =+U86+V86+W86 -> 0 | BD86: =Y86 -> 2 | BE86: =O86+X86 -> 2 | BF86: =AF86 -> 1 | BG86: =AD86+AE86 -> 1 | BH86: =AF86 -> 1 | BI86: =AG86+AH86 -> 1 | BJ86: =AM86 -> 1 | BK86: =AK86+AL86 -> 1 | BL86: =AM86 -> 1 | BM86: =AN86+AO86 -> 1
A87: 8.6.1 | B87: ²Û¹ ÃíáõÙª ³Ýß³ñÅ ·áõÛùÁ | AT87: =E87 -> 0 | AU87: =F87+G87+H87+I87 -> 0 | AV87: =J87 -> 0 | AW87: =K87+L87+M87 -> 0 | AX87: =F87+G87+K87 -> 0 | AY87: =N87+Y87+Z87+AB87 -> 0 | AZ87: =O87 -> 0 | BA87: =P87+Q87+R87+S87+T87 -> 0 | BB87: =T87 -> 0 | BC87: =+U87+V87+W87 -> 0 | BD87: =Y87 -> 0 | BE87: =O87+X87 -> 0 | BF87: =AF87 -> 0 | BG87: =AD87+AE87 -> 0 | BH87: =AF87 -> 0 | BI87: =AG87+AH87 -> 0 | BJ87: =AM87 -> 0 | BK87: =AK87+AL87 -> 0 | BL87: =AM87 -> 0 | BM87: =AN87+AO87 -> 0
A88: 8.6.2 | B88: ²Û¹ ÃíáõÙª ß³ñÅ³Ï³Ý ·áõÛùÁ | AT88: =E88 -> 0 | AU88: =F88+G88+H88+I88 -> 0 | AV88: =J88 -> 0 | AW88: =K88+L88+M88 -> 0 | AX88: =F88+G88+K88 -> 0 | AY88: =N88+Y88+Z88+AB88 -> 0 | AZ88: =O88 -> 0 | BA88: =P88+Q88+R88+S88+T88 -> 0 | BB88: =T88 -> 0 | BC88: =+U88+V88+W88 -> 0 | BD88: =Y88 -> 0 | BE88: =O88+X88 -> 0 | BF88: =AF88 -> 0 | BG88: =AD88+AE88 -> 0 | BH88: =AF88 -> 0 | BI88: =AG88+AH88 -> 0 | BJ88: =AM88 -> 0 | BK88: =AK88+AL88 -> 0 | BL88: =AM88 -> 0 | BM88: =AN88+AO88 -> 0
A89: 8.7 | B89: Æñ³í³µ³Ý³Ï³Ý Ýß³Ý³ÏáõÃÛáõÝ áõÝ»óáÕ ÷³ëï»ñÇ Ñ³ëï³ïÙ³Ý í»ñ³µ»ñÛ³É | J89: 1 | K89: 1 | AB89: 1 | AT89: =E89 -> 0 | AU89: =F89+G89+H89+I89 -> 0 | AV89: =J89 -> 1 | AW89: =K89+L89+M89 -> 1 | AX89: =F89+G89+K89 -> 1 | AY89: =N89+Y89+Z89+AB89 -> 1 | AZ89: =O89 -> 0 | BA89: =P89+Q89+R89+S89+T89 -> 0 | BB89: =T89 -> 0 | BC89: =+U89+V89+W89 -> 0 | BD89: =Y89 -> 0 | BE89: =O89+X89 -> 0 | BF89: =AF89 -> 0 | BG89: =AD89+AE89 -> 0 | BH89: =AF89 -> 0 | BI89: =AG89+AH89 -> 0 | BJ89: =AM89 -> 0 | BK89: =AK89+AL89 -> 0 | BL89: =AM89 -> 0 | BM89: =AN89+AO89 -> 0
A90: 8.7.1 | B90: ²ÝÓ³Ýó ³½·³Ïó³Ï³Ý Ï³åÁ Ñ³ëï³ï»Éáõ í»ñ³µ»ñÛ³É | J90: 8 | K90: 3 | L90: 5 | O90: 2 | P90: 2 | Y90: 2 | AB90: 1 | AD90: 1 | AF90: 1 | AG90: 1 | AK90: 1 | AM90: 1 | AN90: 1 | AT90: =E90 -> 0 | AU90: =F90+G90+H90+I90 -> 0 | AV90: =J90 -> 8 | AW90: =K90+L90+M90 -> 8 | AX90: =F90+G90+K90 -> 3 | AY90: =N90+Y90+Z90+AB90 -> 3 | AZ90: =O90 -> 2 | BA90: =P90+Q90+R90+S90+T90 -> 2 | BB90: =T90 -> 0 | BC90: =+U90+V90+W90 -> 0 | BD90: =Y90 -> 2 | BE90: =O90+X90 -> 2 | BF90: =AF90 -> 1 | BG90: =AD90+AE90 -> 1 | BH90: =AF90 -> 1 | BI90: =AG90+AH90 -> 1 | BJ90: =AM90 -> 1 | BK90: =AK90+AL90 -> 1 | BL90: =AM90 -> 1 | BM90: =AN90+AO90 -> 1
A91: 8.7.2 | B91: ²ÝÓÇª áõñÇßÇ ËÝ³ÙùÇ ï³Ï ·ïÝí»Éáõ í»ñ³µ»ñÛ³É | AT91: =E91 -> 0 | AU91: =F91+G91+H91+I91 -> 0 | AV91: =J91 -> 0 | AW91: =K91+L91+M91 -> 0 | AX91: =F91+G91+K91 -> 0 | AY91: =N91+Y91+Z91+AB91 -> 0 | AZ91: =O91 -> 0 | BA91: =P91+Q91+R91+S91+T91 -> 0 | BB91: =T91 -> 0 | BC91: =+U91+V91+W91 -> 0 | BD91: =Y91 -> 0 | BE91: =O91+X91 -> 0 | BF91: =AF91 -> 0 | BG91: =AD91+AE91 -> 0 | BH91: =AF91 -> 0 | BI91: =AG91+AH91 -> 0 | BJ91: =AM91 -> 0 | BK91: =AK91+AL91 -> 0 | BL91: =AM91 -> 0 | BM91: =AN91+AO91 -> 0
A92: 8.7.3 | B92: ÌÝÝ¹Û³Ý, áñ¹»·ñÙ³Ý, ³ÙáõëÝáõÃÛ³Ý, ³å³Ñ³ñ½³ÝÇ ¨ Ù³Ñí³Ý ·ñ³ÝóÙ³Ý í»ñ³µ»ñÛ³É | AT92: =E92 -> 0 | AU92: =F92+G92+H92+I92 -> 0 | AV92: =J92 -> 0 | AW92: =K92+L92+M92 -> 0 | AX92: =F92+G92+K92 -> 0 | AY92: =N92+Y92+Z92+AB92 -> 0 | AZ92: =O92 -> 0 | BA92: =P92+Q92+R92+S92+T92 -> 0 | BB92: =T92 -> 0 | BC92: =+U92+V92+W92 -> 0 | BD92: =Y92 -> 0 | BE92: =O92+X92 -> 0 | BF92: =AF92 -> 0 | BG92: =AD92+AE92 -> 0 | BH92: =AF92 -> 0 | BI92: =AG92+AH92 -> 0 | BJ92: =AM92 -> 0 | BK92: =AK92+AL92 -> 0 | BL92: =AM92 -> 0 | BM92: =AN92+AO92 -> 0
A93: 8.7.4 | B93: ²ÝÓÇª áñáß³ÏÇ Å³Ù³Ý³ÏáõÙ ¨ áñáß³ÏÇ Ñ³Ý·³Ù³ÝùÝ»ñáõÙ Ù³Ñí³Ý í»ñ³µ»ñÛ³É | AT93: =E93 -> 0 | AU93: =F93+G93+H93+I93 -> 0 | AV93: =J93 -> 0 | AW93: =K93+L93+M93 -> 0 | AX93: =F93+G93+K93 -> 0 | AY93: =N93+Y93+Z93+AB93 -> 0 | AZ93: =O93 -> 0 | BA93: =P93+Q93+R93+S93+T93 -> 0 | BB93: =T93 -> 0 | BC93: =+U93+V93+W93 -> 0 | BD93: =Y93 -> 0 | BE93: =O93+X93 -> 0 | BF93: =AF93 -> 0 | BG93: =AD93+AE93 -> 0 | BH93: =AF93 -> 0 | BI93: =AG93+AH93 -> 0 | BJ93: =AM93 -> 0 | BK93: =AK93+AL93 -> 0 | BL93: =AM93 -> 0 | BM93: =AN93+AO93 -> 0
A94: 8.7.5 | B94: Ä³é³Ý·áõÃÛáõÝÝ ÁÝ¹áõÝ»Éáõ ¨ Å³é³Ý·áõÃÛ³Ý µ³óÙ³Ý í³ÛñÇ í»ñ³µ»ñÛ³É | E94: 6 | F94: 2 | G94: 4 | J94: 5 | K94: 2 | L94: 3 | O94: 5 | P94: 2 | R94: 1 | T94: 2 | U94: 1 | V94: 1 | Y94: 5 | AA94: 2 | AB94: 3 | AC94: 2 | AE94: 1 | AF94: 1 | AH94: 1 | AT94: =E94 -> 6 | AU94: =F94+G94+H94+I94 -> 6 | AV94: =J94 -> 5 | AW94: =K94+L94+M94 -> 5 | AX94: =F94+G94+K94 -> 8 | AY94: =N94+Y94+Z94+AB94 -> 8 | AZ94: =O94 -> 5 | BA94: =P94+Q94+R94+S94+T94 -> 5 | BB94: =T94 -> 2 | BC94: =+U94+V94+W94 -> 2 | BD94: =Y94 -> 5 | BE94: =O94+X94 -> 5 | BF94: =AF94 -> 1 | BG94: =AD94+AE94 -> 1 | BH94: =AF94 -> 1 | BI94: =AG94+AH94 -> 1 | BJ94: =AM94 -> 0 | BK94: =AK94+AL94 -> 0 | BL94: =AM94 -> 0 | BM94: =AN94+AO94 -> 0
A95: 8.7.6 | B95: ¸Åµ³Ëï å³ï³Ñ³ñÇ í»ñ³µ»ñÛ³É | AT95: =E95 -> 0 | AU95: =F95+G95+H95+I95 -> 0 | AV95: =J95 -> 0 | AW95: =K95+L95+M95 -> 0 | AX95: =F95+G95+K95 -> 0 | AY95: =N95+Y95+Z95+AB95 -> 0 | AZ95: =O95 -> 0 | BA95: =P95+Q95+R95+S95+T95 -> 0 | BB95: =T95 -> 0 | BC95: =+U95+V95+W95 -> 0 | BD95: =Y95 -> 0 | BE95: =O95+X95 -> 0 | BF95: =AF95 -> 0 | BG95: =AD95+AE95 -> 0 | BH95: =AF95 -> 0 | BI95: =AG95+AH95 -> 0 | BJ95: =AM95 -> 0 | BK95: =AK95+AL95 -> 0 | BL95: =AM95 -> 0 | BM95: =AN95+AO95 -> 0
A96: 8.7.7 | B96: Æñ³íáõÝù ë³ÑÙ³ÝáÕ ÷³ëï³ÃÕÃ»ñÇ å³ïÏ³Ý»ÉáõÃÛ³Ý í»ñ³µ»ñÛ³É | E96: 1 | G96: 1 | J96: 8 | K96: 6 | L96: 2 | O96: 5 | P96: 5 | Y96: 5 | AB96: 2 | AE96: 1 | AF96: 1 | AH96: 1 | AL96: 1 | AM96: 1 | AO96: 1 | AT96: =E96 -> 1 | AU96: =F96+G96+H96+I96 -> 1 | AV96: =J96 -> 8 | AW96: =K96+L96+M96 -> 8 | AX96: =F96+G96+K96 -> 7 | AY96: =N96+Y96+Z96+AB96 -> 7 | AZ96: =O96 -> 5 | BA96: =P96+Q96+R96+S96+T96 -> 5 | BB96: =T96 -> 0 | BC96: =+U96+V96+W96 -> 0 | BD96: =Y96 -> 5 | BE96: =O96+X96 -> 5 | BF96: =AF96 -> 1 | BG96: =AD96+AE96 -> 1 | BH96: =AF96 -> 1 | BI96: =AG96+AH96 -> 1 | BJ96: =AM96 -> 1 | BK96: =AK96+AL96 -> 1 | BL96: =AM96 -> 1 | BM96: =AN96+AO96 -> 1
A97: 8.7.8 | B97: ê»÷³Ï³ÝáõÃÛ³Ý Çñ³íáõÝùáí ·áõÛùÇ ïÇñ³å»ïÙ³Ý í»ñ³µ»ñÛ³É | AT97: =E97 -> 0 | AU97: =F97+G97+H97+I97 -> 0 | AV97: =J97 -> 0 | AW97: =K97+L97+M97 -> 0 | AX97: =F97+G97+K97 -> 0 | AY97: =N97+Y97+Z97+AB97 -> 0 | AZ97: =O97 -> 0 | BA97: =P97+Q97+R97+S97+T97 -> 0 | BB97: =T97 -> 0 | BC97: =+U97+V97+W97 -> 0 | BD97: =Y97 -> 0 | BE97: =O97+X97 -> 0 | BF97: =AF97 -> 0 | BG97: =AD97+AE97 -> 0 | BH97: =AF97 -> 0 | BI97: =AG97+AH97 -> 0 | BJ97: =AM97 -> 0 | BK97: =AK97+AL97 -> 0 | BL97: =AM97 -> 0 | BM97: =AN97+AO97 -> 0
A98: 8.7.9 | B98: ²ÝÑ³ÕÃ³Ñ³ñ»ÉÇ áõÅÇ ³éÏ³ÛáõÃÛ³Ý í»ñ³µ»ñÛ³É | AT98: =E98 -> 0 | AU98: =F98+G98+H98+I98 -> 0 | AV98: =J98 -> 0 | AW98: =K98+L98+M98 -> 0 | AX98: =F98+G98+K98 -> 0 | AY98: =N98+Y98+Z98+AB98 -> 0 | AZ98: =O98 -> 0 | BA98: =P98+Q98+R98+S98+T98 -> 0 | BB98: =T98 -> 0 | BC98: =+U98+V98+W98 -> 0 | BD98: =Y98 -> 0 | BE98: =O98+X98 -> 0 | BF98: =AF98 -> 0 | BG98: =AD98+AE98 -> 0 | BH98: =AF98 -> 0 | BI98: =AG98+AH98 -> 0 | BJ98: =AM98 -> 0 | BK98: =AK98+AL98 -> 0 | BL98: =AM98 -> 0 | BM98: =AN98+AO98 -> 0
A99: 8.7.10 | B99: úñ»Ýùáí Ý³Ë³ï»ëí³Í ³ÛÉ Çñ³í³µ³Ý³Ï³Ý ÷³ëï»ñÇ í»ñ³µ»ñÛ³É | J99: 1 | K99: 1 | O99: 1 | P99: 1 | Y99: 1 | AT99: =E99 -> 0 | AU99: =F99+G99+H99+I99 -> 0 | AV99: =J99 -> 1 | AW99: =K99+L99+M99 -> 1 | AX99: =F99+G99+K99 -> 1 | AY99: =N99+Y99+Z99+AB99 -> 1 | AZ99: =O99 -> 1 | BA99: =P99+Q99+R99+S99+T99 -> 1 | BB99: =T99 -> 0 | BC99: =+U99+V99+W99 -> 0 | BD99: =Y99 -> 1 | BE99: =O99+X99 -> 1 | BF99: =AF99 -> 0 | BG99: =AD99+AE99 -> 0 | BH99: =AF99 -> 0 | BI99: =AG99+AH99 -> 0 | BJ99: =AM99 -> 0 | BK99: =AK99+AL99 -> 0 | BL99: =AM99 -> 0 | BM99: =AN99+AO99 -> 0
A100: 8.8 | B100: Àëï Ý»ñÏ³Û³óÝáÕÇ ¨ ûñ¹»ñ³ÛÇÝ Ïáñóñ³Í ³ñÅ»ÃÕÃ»ñáí Ñ³í³ëïí³Í Çñ³íáõÝùÝ»ñÁ í»ñ³Ï³Ý·Ý»Éáõ í»ñ³µ»ñÛ³É | AT100: =E100 -> 0 | AU100: =F100+G100+H100+I100 -> 0 | AV100: =J100 -> 0 | AW100: =K100+L100+M100 -> 0 | AX100: =F100+G100+K100 -> 0 | AY100: =N100+Y100+Z100+AB100 -> 0 | AZ100: =O100 -> 0 | BA100: =P100+Q100+R100+S100+T100 -> 0 | BB100: =T100 -> 0 | BC100: =+U100+V100+W100 -> 0 | BD100: =Y100 -> 0 | BE100: =O100+X100 -> 0 | BF100: =AF100 -> 0 | BG100: =AD100+AE100 -> 0 | BH100: =AF100 -> 0 | BI100: =AG100+AH100 -> 0 | BJ100: =AM100 -> 0 | BK100: =AK100+AL100 -> 0 | BL100: =AM100 -> 0 | BM100: =AN100+AO100 -> 0
...

Sheet Ե.Եսոյան
A1: 2015Ã. | G1: Ð²ÞìºîìàôÂÚàôÜ | AM1: Ð³í»Éí³Í Ð³Û³ëï³ÝÇ Ð³Ýñ³å»ïáõÃÛ³Ý ¸³ï³ñ³ÝÝ»ñÇ Ý³Ë³·³ÑÝ»ñÇ ËáñÑñ¹Ç 01.02.2016Ã. ÃÇí 11È áñáßÙ³Ý
A2: ºðºì²ÜÆ ¾ðº´àôÜÆ ºì Üàô´²ð²ÞºÜ ì²ðâ²Î²Ü Þðæ²ÜÜºðÆ ÀÜ¸Ð²Üàôð Æð²ì²êàôÂÚ²Ü ²è²æÆÜ ²îÚ²ÜÆ ¸²î²ð²ÜÆ ¸²î²ìàð | Z2: º. ºêàÚ²ÜÆ | AH2: ¶àðÌàôÜºàôÂÚ²Ü ìºð²´ºðÚ²È
A3: ø²Ô²ø²òÆ²Î²Ü ¶àðÌºðàì
A4: ºñ¨³ÝÇ ¾ñ»µáõÝÇ ¨ Üáõµ³ñ³ß»Ý í³ñã³Ï³Ý ßñç³ÝÝ»ñÇ ÁÝ¹Ñ³Ýáõñ Çñ³í³ëáõÃÛ³Ý ³é³çÇÝ ³ïÛ³ÝÇ ¹³ï³ñ³ÝÇ ù³Õ³ù³óÇ³Ï³Ý Ù³ëÝ³·Çï³óáõÙ áõÝ»óáÕ ¹³ï³íáñÝ»ñÇ Ñ³ëïÇùÝ»ñÇ ù³Ý³ÏÁ` 4
A5: êïáõ·Çã Ñ³í³ë³ñáõÙÝ»ñª 1=2+3+4+5, 6=7+8+9, 2+3+7=10+21+22+24, 11=12+13+14+15+16, 16=17+18+19, 21=11+20, 28=26+27, 28=29+30, 35=33+34, 35=36+37 | E5: Ð³ßí»ïáõ Å³Ù³Ý³Ï³Ñ³ïí³ÍáõÙ Ý³Ëáñ¹ Ñ³ßí»ïáõ Å³Ù³Ý³Ï³Ñ³ïí³ÍÇó ÷áË³Ýóí³Í ·áñÍ»ñÇ ÁÝ¹Ñ³Ýáõñ ÃÇíÁ | J5: Ð³ßí»ïáõ Å³Ù³Ý³Ï³Ñ³ïí³ÍáõÙëï³óí³Í ·áñÍ»ñÇ (³Û¹ ÃíáõÙ` Ñ³Ûó³¹ÇÙáõÙÝ»ñÇ, ¹ÇÙáõÙÝ»ñÇ) ÁÝ¹Ñ³Ýáõñ ÃÇíÁ | N5: öáË³Ýóí»É ¿ ³ÛÉ ¹³ï³íáñÇ (Ï³½ÙÇ ÷á÷áËáõÃÛáõÝ) | O5: Ð³ßí»ïáõ Å³Ù³Ý³Ï³Ñ³ïí³ÍáõÙ ³í³ñïí³Í ·áñÍ»ñÇ ÁÝ¹Ñ³Ýáõñ ÃÇíÁ | Z5: ¶áñÍÝ áõÕ³ñÏí»É ¿ Áëï ÁÝ¹¹³ïáõÃÛ³Ý | AA5: Ð³ßí»ïáõ Å³Ù³Ý³Ï³Ñ³ïí³ÍáõÙ Ï³ë»óí³Í í³ñáõÛÃÝ»ñáí ·áñÍ»ñÇ ÁÝ¹Ñ³Ýáõñ ÃÇíÁ | AB5: Ð³ßí»ïáõ Å³Ù³Ý³Ï³Ñ³ïí³ÍáõÙ ³Ý³í³ñï ·áñÍ»ñÇ ÁÝ¹Ñ³Ýáõñ ÃÇíÁ | AC5: ²Û¹ ÃíáõÙª Ï³ë»óí³Í | AD5: ´áÕáù³ñÏí³Í ¹³ï³Ï³Ý ³Ïï»ñÁ | AI5: ²í³ñïí³Í ¹³ï³Ï³Ý ·áñÍ»ñÇ µáÕáù³ñÏÙ³Ý ïáÏáëÁ (Ñ³ßí»ïáõ Å³Ù³Ý³Ï³ßñç³ÝáõÙ) | AJ5: ²Ý³í³ñï µáÕáùÝ»ñ | AK5: ´»Ï³Ýí³Í ¹³ï³Ï³Ý ³Ïï»ñÁ | AP5: µ»Ï³ÝáõÙÝ»ñÇ ïáÏáëÁ ³í³ñïí³Í ·áñÍ»ñÇó(Ñ³ßí»ïáõ Å³Ù³Ý³Ï³ßñç³ÝáõÙ) | AQ5: Î³ÛáõÝáõÃÛ³Ý ïáÏáëÁ ³í³ñïí³Í ·áñÍ»ñÇó(Ñ³ßí»ïáõ Å³Ù³Ý³Ï³ßñç³ÝáõÙ) | AR5: µ»Ï³ÝáõÙÝ»ñÇ ïáÏáëÁ µáÕáù³ñÏí³Í ·áñÍ»ñÇó(Ñ³ßí»ïáõ Å³Ù³Ý³Ï³ßñç³ÝáõÙ) | AS5: Ï³ÛáõÝáõÃÛ³Ý ïáÏáëÁ(Ñ³ßí»ïáõ Å³Ù³Ý³Ï³ßñç³ÝáõÙ)
E6: ÀÝ¹³Ù»ÝÁ | F6: ²Û¹ ÃíáõÙ`Ï³ë»óí³Í íÇ×³ÏáõÙ ÷áË³Ýóí³Í | G6: ²Û¹ ÃíáõÙª ÁÝ¹áõÝí»É ¿ í³ñáõÛÃ | H6: ²Û¹ ÃíáõÙª í»ñ³¹³ñÓí»É ¿ | I6: ²Û¹ ÃíáõÙª ÁÝ¹áõÝáõÙÁ Ù»ñÅí»É ¿ | J6: ÀÝ¹³Ù»ÝÁ | K6: ²Û¹ ÃíáõÙª ÁÝ¹áõÝí»É ¿ í³ñáõÛÃ | L6: ²Û¹ ÃíáõÙª í»ñ³¹³ñÓí»É ¿ | M6: ²Û¹ ÃíáõÙª ÁÝ¹áõÝáõÙÁ Ù»ñÅí»É ¿ | O6: ÀÝ¹³Ù»ÝÁ ³í³ñïí»É »Ý ·áñÍ»ñ ·áñÍÝ Áëï ¿áõÃÛ³Ý ÉáõÍáÕ ¹³ï³Ï³Ý ³Ïï»ñÇ (í×ÇéÝ»ñÇ) Ï³Û³óÙ³Ùµ | P6: ²Û¹ ÃíáõÙª Ñ³ÛóÇ µ³í³ñ³ñÙ³Ùµ | Q6: ²Û¹ ÃíáõÙª Ñ³ÛóÇ Ù³ëÝ³ÏÇ µ³í³ñ³ñÙ³Ùµ | R6: ²Û¹ ÃíáõÙª Ñ³ÛóÇ Ù»ñÅÙ³Ùµ | S6: Ø³ëáí Ï³ñ×í»É ¿É, Ù³ëáí Ù»ñÅí»É | T6: ²Û¹ ÃíáõÙª Ï³ñ×í»É »Ý | X6: Ð³ÛóÁ ÃáÕÝí»É ¿ ³é³Ýó ùÝÝáõÃÛ³Ý | Y6: ÀÝ¹³Ù»ÝÝ ³í³ñïí»É »Ý ·áñÍ»ñ | AD6: ²Û¹ ÃíáõÙ` ·áñÍÝ Áëï ¿áõÃÛ³Ý ÉáõÍáÕ ¹³ï³Ï³Ý ³Ïï»ñÁ | AE6: ²Û¹ ÃíáõÙ` ÙÇç³ÝÏÛ³É ¹³ï³Ï³Ý ³Ïï»ñÁ | AF6: ÀÝ¹³Ù»ÝÁ | AG6: Ü³Ëáñ¹ ï³ñÇÝ»ñÇÝ Ï³Û³óí³Í ³Ïï»ñÇ µáÕáù³ñÏáõÙÁ Ñ³ßí»ïáõ Å³Ù³Ý³Ï³ßñç³ÝáõÙ | AH6: Ð³ßí»ïáõ Å³Ù³Ý³Ï³ßñç³ÝáõÙ Ï³Û³óí³Í ³Ïï»ñÇ µáÕáù³ñÏáõÙÁ | AK6: ²Û¹ ÃíáõÙ` ·áñÍÝ Áëï ¿áõÃÛ³Ý ÉáõÍáÕ ¹³ï³Ï³Ý ³Ïï»ñÁ | AL6: ²Û¹ ÃíáõÙ` ÙÇç³ÝÏÛ³É ¹³ï³Ï³Ý ³Ïï»ñÁ | AM6: ÀÝ¹³Ù»ÝÁ | AN6: Ü³Ëáñ¹ ï³ñÇÝ»ñÇÝ Ï³Û³óí³Í ³Ïï»ñÇ µ»Ï³ÝáõÙÝ»ñÁ Ñ³ßí»ïáõ Å³Ù³Ý³Ï³ßñç³ÝáõÙ | AO6: Ð³ßí»ïáõ Å³Ù³Ý³Ï³ßñç³ÝáõÙ Ï³Û³óí³Í ³Ïï»ñÇ µ»Ï³ÝáõÙÁ
T7: ÀÝ¹³Ù»ÝÁ Ï³ñ×í»É »Ý | U7: ²Û¹ ÃíáõÙª Ñ³ëï³ïí»É ¿ ÏÝùí³Í Ñ³ßïáõÃÛ³Ý Ñ³Ù³Ó³ÛÝáõÃÛáõÝÁ | V7: ²Û¹ ÃíáõÙª Ñ³óÇó, ¹ÇÙáõÙÇó Ññ³Å³ñí»Éáõ ÑÇÙùáí | W7: ²Û¹ ÃíáõÙª ³ÛÉ ÑÇÙùáí
