Workbook

Sheet Ընդամենը
B1: Ð²ÞìºîìàôÂÚàôÜ
B2: ÐÐ ÁÝ¹Ñ³Ýáõñ Çñ³í³ëáõÃÛ³Ý ³é³çÇÝ ³ïÛ³ÝÇ ¹³ï³ñ³ÝÝ»ñÇ ÏáÕÙÇó í×³ñÙ³Ý Ï³ñ·³¹ñáõÃÛáõÝ ³ñÓ³Ï»Éáõ í³ñáõÛÃÝ»ñÇ ÁÝÃ³óùÇ Ù³ëÇÝ
B3: 2016Ã.
A4: êïáõ·Çã Ñ³í³ë³ñáõÙ` 1+2=3+4+5+6+7, 7=8+9+10+11
A5: Ð/Ñ | C5: Ð³ßí»ïáõ Å³Ù³Ý³Ï³ßñç³ÝÇ ëÏ½µáõÙ ³Ý³í³ñï í³ñáõÛÃÝ»ñÇ ÙÝ³óáñ¹Á | D5: êï³óí»É ¿ í×³ñÙ³Ý Ï³ñ·³¹ñáõÃÛáõÝ ³ñÓ³Ï»Éáõ Ù³ëÇÝ ¹ÇÙáõÙ | E5: ëï³óí»É ¿ ¹ÇÙáõÙ ÁÝÃ³óù ãï³Éáõ Ù³ëÇÝ | F5: Ø»ñÅí»É ¿ | G5: Ø»ñÅí»É ¿ Ù³ëáí | H5: âÇ ³ñÓ³Ïí»É Ñ³ßí»ïáõ Å³Ù³Ý³Ï³ßñç³ÝáõÙ | I5: ²ñÓ³Ïí»É ¿ í×³ñÙ³Ý Ï³ñ·³¹ñáõÃÛáõÝ | J5: êï³óí»É ¿ ³é³ñÏáõÃÛáõÝ | K5: êï³ó»É ¿ ûñÇÝ³Ï³Ý áõÅ | L5: ÂáÕÝí»É ¿ ³ÝÑ»ï¨³Ýù ¨ ûñÇÝ³Ï³Ý áõÅÇ Ù»ç Ùï³Í í×éÇ Ñ»ï¨³Ýù ãÇ ³é³ç³óñ»É | M5: Ð³ßí»ïáõ Å³Ù³Ý³Ï³ßñç³ÝÇ í»ñçáõÙ ³Ý³í³ñï í³ñáõÛÃÝ»ñÇ ÙÝ³óáñ¹Á
C6: 1 | D6: 2 | E6: 3 | F6: 4 | G6: 5 | H6: 6 | I6: 7 | J6: 8 | K6: 9 | L6: 10 | M6: 11 | N6: 1+2=3+4+5+6+7 | P6: 7=8+9+10+11
B7: ÁÝ¹³Ù»ÝÁ | C7: =SUM(Ajapnyak:Tavush!C19) -> 4399 | D7: =SUM(Ajapnyak:Tavush!D19) -> 55618 | E7: =SUM(Ajapnyak:Tavush!E19) -> 147 | F7: =SUM(Ajapnyak:Tavush!F19) -> 4042 | G7: =SUM(Ajapnyak:Tavush!G19) -> 2515 | H7: =SUM(Ajapnyak:Tavush!H19) -> 3098 | I7: =SUM(Ajapnyak:Tavush!I19) -> 50215 | J7: =SUM(Ajapnyak:Tavush!J19) -> 2506 | ... M7: =SUM(Ajapnyak:Tavush!M19) -> 11701 | N7: =C7+D7 -> 60017 | O7: =E7+F7+G7+H7+I7 -> 60017 | P7: =I7 -> 50215 | Q7: =J7+K7+L7+M7 -> 50215

Sheet Ajapnyak
B1: Ð²ÞìºîìàôÂÚàôÜ
B2: Աջափնյակ և Դավթաշեն վարչական շրջանների ÁÝ¹Ñ³Ýáõñ Çñ³í³ëáõÃÛ³Ý ¹³ï³ñ³ÝÇ ÏáÕÙÇó í×³ñÙ³Ý Ï³ñ·³¹ñáõÃÛáõÝ ³ñÓ³Ï»Éáõ í³ñáõÛÃÝ»ñÇ ÁÝÃ³óùÇ Ù³ëÇÝ
B3: 2016Ã.
A4: êïáõ·Çã Ñ³í³ë³ñáõÙ` 1+2=3+4+5+6+7, 7=8+9+10+11
A5: Ð/Ñ | B5: ¸³ï³íáñÇ ³ÝáõÝ, ³½·³ÝáõÝ | C5: Ð³ßí»ïáõ Å³Ù³Ý³Ï³ßñç³ÝÇ ëÏ½µáõÙ ³Ý³í³ñï í³ñáõÛÃÝ»ñÇ ÙÝ³óáñ¹Á | D5: êï³óí»É ¿ í×³ñÙ³Ý Ï³ñ·³¹ñáõÃÛáõÝ ³ñÓ³Ï»Éáõ Ù³ëÇÝ ¹ÇÙáõÙ | E5: ëï³óí»É ¿ ¹ÇÙáõÙ ÁÝÃ³óù ãï³Éáõ Ù³ëÇÝ | F5: Ø»ñÅí»É ¿ | G5: Ø»ñÅí»É ¿ Ù³ëáí | H5: âÇ ³ñÓ³Ïí»É Ñ³ßí»ïáõ Å³Ù³Ý³Ï³ßñç³ÝáõÙ | I5: ²ñÓ³Ïí»É ¿ í×³ñÙ³Ý Ï³ñ·³¹ñáõÃÛáõÝ | J5: êï³óí»É ¿ ³é³ñÏáõÃÛáõÝ | K5: êï³ó»É ¿ ûñÇÝ³Ï³Ý áõÅ | L5: ÂáÕÝí»É ¿ ³ÝÑ»ï¨³Ýù ¨ ûñÇÝ³Ï³Ý áõÅÇ Ù»ç Ùï³Í í×éÇ Ñ»ï¨³Ýù ãÇ ³é³ç³óñ»É | M5: Ð³ßí»ïáõ Å³Ù³Ý³Ï³ßñç³ÝÇ í»ñçáõÙ ³Ý³í³ñï í³ñáõÛÃÝ»ñÇ ÙÝ³óáñ¹Á
C6: 1 | D6: 2 | E6: 3 | F6: 4 | G6: 5 | H6: 6 | I6: 7 | J6: 8 | K6: 9 | L6: 10 | M6: 11 | N6: 1+2=3+4+5+6+7 | P6: 7=8+9+10+11
A7: 1 | B7: ²ÝÇ ØËÇÃ³ñÛ³Ý | C7: 392 | D7: 803 | E7: 1 | F7: 84 | G7: 96 | H7: 73 | I7: 941 | J7: 34 | K7: 216 | L7: 288 | M7: 403 | N7: =C7+D7 -> 1195 | O7: =E7+F7+G7+H7+I7 -> 1195 | P7: =I7 -> 941 | Q7: =J7+K7+L7+M7 -> 941
A8: 2 | B8: Գոռ Թորոսյան | C8: 331 | D8: 796 | E8: 0 | F8: 161 | G8: 119 | H8: 0 | I8: 847 | J8: 41 | K8: 162 | L8: 373 | M8: 271 | N8: =C8+D8 -> 1127 | O8: =E8+F8+G8+H8+I8 -> 1127 | P8: =I8 -> 847 | Q8: =J8+K8+L8+M8 -> 847
A9: 3 | B9: Աննա Փիլոսյան | C9: 15 | D9: 82 | E9: 1 | F9: 10 | G9: 15 | H9: 20 | I9: 51 | J9: 0 | K9: 8 | L9: 12 | M9: 31 | N9: =C9+D9 -> 97 | O9: =E9+F9+G9+H9+I9 -> 97 | P9: =I9 -> 51 | Q9: =J9+K9+L9+M9 -> 51
A10: 4 | B10: Նաիրա Ավետիսյան | C10: 0 | D10: 528 | E10: 0 | F10: 29 | G10: 0 | H10: 54 | I10: 445 | J10: 13 | K10: 114 | L10: 170 | M10: 148 | N10: =C10+D10 -> 528 | O10: =E10+F10+G10+H10+I10 -> 528 | P10: =I10 -> 445 | Q10: =J10+K10+L10+M10 -> 445
A11: 5 | B11: Սարգիս Երիցյան | C11: 0 | D11: 612 | E11: 0 | F11: 367 | G11: 4 | H11: 46 | I11: 195 | J11: 11 | K11: 59 | L11: 97 | M11: 28 | N11: =C11+D11 -> 612 | O11: =E11+F11+G11+H11+I11 -> 612 | P11: =I11 -> 195 | Q11: =J11+K11+L11+M11 -> 195
A12: 6 | N12: =C12+D12 -> 0 | O12: =E12+F12+G12+H12+I12 -> 0 | P12: =I12 -> 0 | Q12: =J12+K12+L12+M12 -> 0
A13: 7 | N13: =C13+D13 -> 0 | O13: =E13+F13+G13+H13+I13 -> 0 | P13: =I13 -> 0 | Q13: =J13+K13+L13+M13 -> 0
A14: 8 | N14: =C14+D14 -> 0 | O14: =E14+F14+G14+H14+I14 -> 0 | P14: =I14 -> 0 | Q14: =J14+K14+L14+M14 -> 0
A15: 9 | N15: =C15+D15 -> 0 | O15: =E15+F15+G15+H15+I15 -> 0 | P15: =I15 -> 0 | Q15: =J15+K15+L15+M15 -> 0
A16: 10 | N16: =C16+D16 -> 0 | O16: =E16+F16+G16+H16+I16 -> 0 | P16: =I16 -> 0 | Q16: =J16+K16+L16+M16 -> 0
A17: 11 | N17: =C17+D17 -> 0 | O17: =E17+F17+G17+H17+I17 -> 0 | P17: =I17 -> 0 | Q17: =J17+K17+L17+M17 -> 0
A18: 12 | N18: =C18+D18 -> 0 | O18: =E18+F18+G18+H18+I18 -> 0 | P18: =I18 -> 0 | Q18: =J18+K18+L18+M18 -> 0
B19: ÁÝ¹³Ù»ÝÁ | C19: =SUM(C7:C18) -> 738 | D19: =SUM(D7:D18) -> 2821 | E19: =SUM(E7:E18) -> 2 | F19: =SUM(F7:F18) -> 651 | G19: =SUM(G7:G18) -> 234 | H19: =SUM(H7:H18) -> 193 | I19: =SUM(I7:I18) -> 2479 | J19: =SUM(J7:J18) -> 99 | ... M19: =SUM(M7:M18) -> 881 | N19: =C19+D19 -> 3559 | O19: =E19+F19+G19+H19+I19 -> 3559 | P19: =I19 -> 2479 | Q19: =J19+K19+L19+M19 -> 2479

Sheet Shengavit
B1: Ð²ÞìºîìàôÂÚàôÜ
B2: Շենգավիթ վարչական շրջանի ÁÝ¹Ñ³Ýáõñ Çñ³í³ëáõÃÛ³Ý ¹³ï³ñ³ÝÇ ÏáÕÙÇó í×³ñÙ³Ý Ï³ñ·³¹ñáõÃÛáõÝ ³ñÓ³Ï»Éáõ í³ñáõÛÃÝ»ñÇ ÁÝÃ³óùÇ Ù³ëÇÝ
B3: 2016Ã.
A4: êïáõ·Çã Ñ³í³ë³ñáõÙ` 1+2=3+4+5+6+7, 7=8+9+10+11
A5: Ð/Ñ | B5: ¸³ï³íáñÇ ³ÝáõÝ, ³½·³ÝáõÝ | C5: Ð³ßí»ïáõ Å³Ù³Ý³Ï³ßñç³ÝÇ ëÏ½µáõÙ ³Ý³í³ñï í³ñáõÛÃÝ»ñÇ ÙÝ³óáñ¹Á | D5: êï³óí»É ¿ í×³ñÙ³Ý Ï³ñ·³¹ñáõÃÛáõÝ ³ñÓ³Ï»Éáõ Ù³ëÇÝ ¹ÇÙáõÙ | E5: ëï³óí»É ¿ ¹ÇÙáõÙ ÁÝÃ³óù ãï³Éáõ Ù³ëÇÝ | F5: Ø»ñÅí»É ¿ | G5: Ø»ñÅí»É ¿ Ù³ëáí | H5: âÇ ³ñÓ³Ïí»É Ñ³ßí»ïáõ Å³Ù³Ý³Ï³ßñç³ÝáõÙ | I5: ²ñÓ³Ïí»É ¿ í×³ñÙ³Ý Ï³ñ·³¹ñáõÃÛáõÝ | J5: êï³óí»É ¿ ³é³ñÏáõÃÛáõÝ | K5: êï³ó»É ¿ ûñÇÝ³Ï³Ý áõÅ | L5: ÂáÕÝí»É ¿ ³ÝÑ»ï¨³Ýù ¨ ûñÇÝ³Ï³Ý áõÅÇ Ù»ç Ùï³Í í×éÇ Ñ»ï¨³Ýù ãÇ ³é³ç³óñ»É | M5: Ð³ßí»ïáõ Å³Ù³Ý³Ï³ßñç³ÝÇ í»ñçáõÙ ³Ý³í³ñï í³ñáõÛÃÝ»ñÇ ÙÝ³óáñ¹Á
C6: 1 | D6: 2 | E6: 3 | F6: 4 | G6: 5 | H6: 6 | I6: 7 | J6: 8 | K6: 9 | L6: 10 | M6: 11 | N6: 1+2=3+4+5+6+7 | P6: 7=8+9+10+11
A7: 1 | B7: Ն. Հովսեփյան | C7: 0 | D7: 554 | E7: 2 | F7: 3 | G7: 0 | H7: 0 | I7: 549 | J7: 13 | K7: 115 | L7: 157 | M7: 264 | N7: =C7+D7 -> 554 | O7: =E7+F7+G7+H7+I7 -> 554 | P7: =I7 -> 549 | Q7: =J7+K7+L7+M7 -> 549
A8: 2 | B8: Ա. Չիչոյան | C8: 0 | D8: 833 | E8: 2 | F8: 114 | G8: 0 | H8: 0 | I8: 717 | J8: 27 | K8: 269 | L8: 333 | M8: 88 | N8: =C8+D8 -> 833 | O8: =E8+F8+G8+H8+I8 -> 833 | P8: =I8 -> 717 | Q8: =J8+K8+L8+M8 -> 717
A9: 3 | B9: Ա. Կուբանյան | C9: 0 | D9: 739 | E9: 1 | F9: 122 | G9: 63 | H9: 0 | I9: 553 | J9: 18 | K9: 178 | L9: 239 | M9: 118 | N9: =C9+D9 -> 739 | O9: =E9+F9+G9+H9+I9 -> 739 | P9: =I9 -> 553 | Q9: =J9+K9+L9+M9 -> 553
A10: 4 | B10: Ի. Բարսեղյան | C10: 0 | D10: 570 | E10: 4 | F10: 0 | G10: 0 | H10: 0 | I10: 566 | J10: 25 | K10: 125 | L10: 141 | M10: 275 | N10: =C10+D10 -> 570 | O10: =E10+F10+G10+H10+I10 -> 570 | P10: =I10 -> 566 | Q10: =J10+K10+L10+M10 -> 566
A11: 5 | B11: Գ.Նարինյան | C11: 0 | D11: 83 | E11: 0 | F11: 0 | G11: 0 | H11: 83 | I11: 0 | J11: 0 | K11: 0 | L11: 0 | M11: 0 | N11: =C11+D11 -> 83 | O11: =E11+F11+G11+H11+I11 -> 83 | P11: =I11 -> 0 | Q11: =J11+K11+L11+M11 -> 0
A12: 6 | N12: =C12+D12 -> 0 | O12: =E12+F12+G12+H12+I12 -> 0 | P12: =I12 -> 0 | Q12: =J12+K12+L12+M12 -> 0
A13: 7 | N13: =C13+D13 -> 0 | O13: =E13+F13+G13+H13+I13 -> 0 | P13: =I13 -> 0 | Q13: =J13+K13+L13+M13 -> 0
A14: 8 | N14: =C14+D14 -> 0 | O14: =E14+F14+G14+H14+I14 -> 0 | P14: =I14 -> 0 | Q14: =J14+K14+L14+M14 -> 0
A15: 9 | N15: =C15+D15 -> 0 | O15: =E15+F15+G15+H15+I15 -> 0 | P15: =I15 -> 0 | Q15: =J15+K15+L15+M15 -> 0
A16: 10 | N16: =C16+D16 -> 0 | O16: =E16+F16+G16+H16+I16 -> 0 | P16: =I16 -> 0 | Q16: =J16+K16+L16+M16 -> 0
A17: 11 | N17: =C17+D17 -> 0 | O17: =E17+F17+G17+H17+I17 -> 0 | P17: =I17 -> 0 | Q17: =J17+K17+L17+M17 -> 0
A18: 12 | N18: =C18+D18 -> 0 | O18: =E18+F18+G18+H18+I18 -> 0 | P18: =I18 -> 0 | Q18: =J18+K18+L18+M18 -> 0
B19: ÁÝ¹³Ù»ÝÁ | C19: =SUM(C7:C18) -> 0 | D19: =SUM(D7:D18) -> 2779 | E19: =SUM(E7:E18) -> 9 | F19: =SUM(F7:F18) -> 239 | G19: =SUM(G7:G18) -> 63 | H19: =SUM(H7:H18) -> 83 | I19: =SUM(I7:I18) -> 2385 | J19: =SUM(J7:J18) -> 83 | ... M19: =SUM(M7:M18) -> 745 | N19: =C19+D19 -> 2779 | O19: =E19+F19+G19+H19+I19 -> 2779 | P19: =I19 -> 2385 | Q19: =J19+K19+L19+M19 -> 2385

Sheet Malatia
B1: Ð²ÞìºîìàôÂÚàôÜ
B2: Մալաթիա-Սեբաստիա վարչական շրջանի ÁÝ¹Ñ³Ýáõñ Çñ³í³ëáõÃÛ³Ý ¹³ï³ñ³ÝÇ ÏáÕÙÇó í×³ñÙ³Ý Ï³ñ·³¹ñáõÃÛáõÝ ³ñÓ³Ï»Éáõ í³ñáõÛÃÝ»ñÇ ÁÝÃ³óùÇ Ù³ëÇÝ
B3: 2016Ã.
A4: êïáõ·Çã Ñ³í³ë³ñáõÙ` 1+2=3+4+5+6+7, 7=8+9+10+11
A5: Ð/Ñ | B5: ¸³ï³íáñÇ ³ÝáõÝ, ³½·³ÝáõÝ | C5: Ð³ßí»ïáõ Å³Ù³Ý³Ï³ßñç³ÝÇ ëÏ½µáõÙ ³Ý³í³ñï í³ñáõÛÃÝ»ñÇ ÙÝ³óáñ¹Á | D5: êï³óí»É ¿ í×³ñÙ³Ý Ï³ñ·³¹ñáõÃÛáõÝ ³ñÓ³Ï»Éáõ Ù³ëÇÝ ¹ÇÙáõÙ | E5: ëï³óí»É ¿ ¹ÇÙáõÙ ÁÝÃ³óù ãï³Éáõ Ù³ëÇÝ | F5: Ø»ñÅí»É ¿ | G5: Ø»ñÅí»É ¿ Ù³ëáí | H5: âÇ ³ñÓ³Ïí»É Ñ³ßí»ïáõ Å³Ù³Ý³Ï³ßñç³ÝáõÙ | I5: ²ñÓ³Ïí»É ¿ í×³ñÙ³Ý Ï³ñ·³¹ñáõÃÛáõÝ | J5: êï³óí»É ¿ ³é³ñÏáõÃÛáõÝ | K5: êï³ó»É ¿ ûñÇÝ³Ï³Ý áõÅ | L5: ÂáÕÝí»É ¿ ³ÝÑ»ï¨³Ýù ¨ ûñÇÝ³Ï³Ý áõÅÇ Ù»ç Ùï³Í í×éÇ Ñ»ï¨³Ýù ãÇ ³é³ç³óñ»É | M5: Ð³ßí»ïáõ Å³Ù³Ý³Ï³ßñç³ÝÇ í»ñçáõÙ ³Ý³í³ñï í³ñáõÛÃÝ»ñÇ ÙÝ³óáñ¹Á
C6: 1 | D6: 2 | E6: 3 | F6: 4 | G6: 5 | H6: 6 | I6: 7 | J6: 8 | K6: 9 | L6: 10 | M6: 11 | N6: 1+2=3+4+5+6+7 | P6: 7=8+9+10+11
A7: 1 | B7: Գ. Ավագյան | D7: 42 | F7: 4 | I7: 38 | J7: 2 | K7: 13 | L7: 14 | M7: 9 | N7: =C7+D7 -> 42 | O7: =E7+F7+G7+H7+I7 -> 42 | P7: =I7 -> 38 | Q7: =J7+K7+L7+M7 -> 38
A8: 2 | B8: Լ. ՍարգսÛ³Ý | D8: 773 | F8: 99 | I8: 674 | J8: 32 | K8: 249 | L8: 321 | M8: 72 | N8: =C8+D8 -> 773 | O8: =E8+F8+G8+H8+I8 -> 773 | P8: =I8 -> 674 | Q8: =J8+K8+L8+M8 -> 674
A9: 3 | B9: Ն. Կարապետյան | D9: 883 | F9: 355 | I9: 528 | J9: 16 | K9: 120 | L9: 250 | M9: 142 | N9: =C9+D9 -> 883 | O9: =E9+F9+G9+H9+I9 -> 883 | P9: =I9 -> 528 | Q9: =J9+K9+L9+M9 -> 528
A10: 4 | B10: ².ØÏñïãÛ³Ý | D10: 881 | I10: 881 | J10: 39 | K10: 364 | L10: 454 | M10: 24 | N10: =C10+D10 -> 881 | O10: =E10+F10+G10+H10+I10 -> 881 | P10: =I10 -> 881 | Q10: =J10+K10+L10+M10 -> 881
A11: 5 | B11: Լ. Կատվալյան | D11: 641 | F11: 259 | I11: 382 | J11: 13 | K11: 68 | L11: 267 | M11: 34 | N11: =C11+D11 -> 641 | O11: =E11+F11+G11+H11+I11 -> 641 | P11: =I11 -> 382 | Q11: =J11+K11+L11+M11 -> 382
A12: 6 | N12: =C12+D12 -> 0 | O12: =E12+F12+G12+H12+I12 -> 0 | P12: =I12 -> 0 | Q12: =J12+K12+L12+M12 -> 0
A13: 7 | N13: =C13+D13 -> 0 | O13: =E13+F13+G13+H13+I13 -> 0 | P13: =I13 -> 0 | Q13: =J13+K13+L13+M13 -> 0
A14: 8 | N14: =C14+D14 -> 0 | O14: =E14+F14+G14+H14+I14 -> 0 | P14: =I14 -> 0 | Q14: =J14+K14+L14+M14 -> 0
A15: 9 | N15: =C15+D15 -> 0 | O15: =E15+F15+G15+H15+I15 -> 0 | P15: =I15 -> 0 | Q15: =J15+K15+L15+M15 -> 0
A16: 10 | N16: =C16+D16 -> 0 | O16: =E16+F16+G16+H16+I16 -> 0 | P16: =I16 -> 0 | Q16: =J16+K16+L16+M16 -> 0
A17: 11 | N17: =C17+D17 -> 0 | O17: =E17+F17+G17+H17+I17 -> 0 | P17: =I17 -> 0 | Q17: =J17+K17+L17+M17 -> 0
A18: 12 | N18: =C18+D18 -> 0 | O18: =E18+F18+G18+H18+I18 -> 0 | P18: =I18 -> 0 | Q18: =J18+K18+L18+M18 -> 0
B19: ÁÝ¹³Ù»ÝÁ | C19: =SUM(C7:C18) -> 0 | D19: =SUM(D7:D18) -> 3220 | E19: =SUM(E7:E18) -> 0 | F19: =SUM(F7:F18) -> 717 | G19: =SUM(G7:G18) -> 0 | H19: =SUM(H7:H18) -> 0 | I19: =SUM(I7:I18) -> 2503 | J19: =SUM(J7:J18) -> 102 | ... M19: =SUM(M7:M18) -> 281 | N19: =C19+D19 -> 3220 | O19: =E19+F19+G19+H19+I19 -> 3220 | P19: =I19 -> 2503 | Q19: =J19+K19+L19+M19 -> 2503

Sheet Kentron
B1: Ð²ÞìºîìàôÂÚàôÜ
B2: Կենտրոն և Նորք Մարաշ վարչական շրջանների ÁÝ¹Ñ³Ýáõñ Çñ³í³ëáõÃÛ³Ý ¹³ï³ñ³ÝÇ ÏáÕÙÇó í×³ñÙ³Ý Ï³ñ·³¹ñáõÃÛáõÝ ³ñÓ³Ï»Éáõ í³ñáõÛÃÝ»ñÇ ÁÝÃ³óùÇ Ù³ëÇÝ
B3: 2016Ã.
A4: êïáõ·Çã Ñ³í³ë³ñáõÙ` 1+2=3+4+5+6+7, 7=8+9+10+11
A5: Ð/Ñ | B5: ¸³ï³íáñÇ ³ÝáõÝ, ³½·³ÝáõÝ | C5: Ð³ßí»ïáõ Å³Ù³Ý³Ï³ßñç³ÝÇ ëÏ½µáõÙ ³Ý³í³ñï í³ñáõÛÃÝ»ñÇ ÙÝ³óáñ¹Á | D5: êï³óí»É ¿ í×³ñÙ³Ý Ï³ñ·³¹ñáõÃÛáõÝ ³ñÓ³Ï»Éáõ Ù³ëÇÝ ¹ÇÙáõÙ | E5: ëï³óí»É ¿ ¹ÇÙáõÙ ÁÝÃ³óù ãï³Éáõ Ù³ëÇÝ | F5: Ø»ñÅí»É ¿ | G5: Ø»ñÅí»É ¿ Ù³ëáí | H5: âÇ ³ñÓ³Ïí»É Ñ³ßí»ïáõ Å³Ù³Ý³Ï³ßñç³ÝáõÙ | I5: ²ñÓ³Ïí»É ¿ í×³ñÙ³Ý Ï³ñ·³¹ñáõÃÛáõÝ | J5: êï³óí»É ¿ ³é³ñÏáõÃÛáõÝ | K5: êï³ó»É ¿ ûñÇÝ³Ï³Ý áõÅ | L5: ÂáÕÝí»É ¿ ³ÝÑ»ï¨³Ýù ¨ ûñÇÝ³Ï³Ý áõÅÇ Ù»ç Ùï³Í í×éÇ Ñ»ï¨³Ýù ãÇ ³é³ç³óñ»É | M5: Ð³ßí»ïáõ Å³Ù³Ý³Ï³ßñç³ÝÇ í»ñçáõÙ ³Ý³í³ñï í³ñáõÛÃÝ»ñÇ ÙÝ³óáñ¹Á
C6: 1 | D6: 2 | E6: 3 | F6: 4 | G6: 5 | H6: 6 | I6: 7 | J6: 8 | K6: 9 | L6: 10 | M6: 11 | N6: 1+2=3+4+5+6+7 | P6: 7=8+9+10+11
A7: 1 | B7: Ա.Մելքումյան | C7: 527 | D7: 337 | E7: 0 | F7: 102 | G7: 1 | H7: 540 | I7: 221 | J7: 3 | K7: 3 | M7: 215 | N7: =C7+D7 -> 864 | O7: =E7+F7+G7+H7+I7 -> 864 | P7: =I7 -> 221 | Q7: =J7+K7+L7+M7 -> 221
A8: 2 | B8: Հ. Զարգարյան | C8: 62 | D8: 321 | E8: 1 | F8: 21 | G8: 36 | H8: 64 | I8: 261 | J8: 8 | K8: 99 | M8: 154 | N8: =C8+D8 -> 383 | O8: =E8+F8+G8+H8+I8 -> 383 | P8: =I8 -> 261 | Q8: =J8+K8+L8+M8 -> 261
A9: 3 | B9: Ռ.Ներսիսյան | C9: 60 | D9: 359 | E9: 1 | F9: 14 | G9: 1 | H9: 70 | I9: 333 | J9: 15 | K9: 98 | M9: 220 | N9: =C9+D9 -> 419 | O9: =E9+F9+G9+H9+I9 -> 419 | P9: =I9 -> 333 | Q9: =J9+K9+L9+M9 -> 333
A10: 4 | B10: Էդ.Ավետիսյան | C10: 363 | D10: 367 | E10: 1 | F10: 24 | G10: 0 | H10: 409 | I10: 296 | J10: 13 | K10: 103 | M10: 180 | N10: =C10+D10 -> 730 | O10: =E10+F10+G10+H10+I10 -> 730 | P10: =I10 -> 296 | Q10: =J10+K10+L10+M10 -> 296
A11: 5 | B11: Ռ.Ափինյան | C11: 398 | D11: 389 | E11: 3 | F11: 10 | G11: 0 | H11: 399 | I11: 375 | J11: 15 | K11: 104 | M11: 256 | N11: =C11+D11 -> 787 | O11: =E11+F11+G11+H11+I11 -> 787 | P11: =I11 -> 375 | Q11: =J11+K11+L11+M11 -> 375
A12: 6 | B12: Կ. Պետրոսյան | C12: 10 | D12: 352 | E12: 0 | F12: 1 | G12: 0 | H12: 14 | I12: 347 | J12: 0 | K12: 0 | M12: 347 | N12: =C12+D12 -> 362 | O12: =E12+F12+G12+H12+I12 -> 362 | P12: =I12 -> 347 | Q12: =J12+K12+L12+M12 -> 347
A13: 7 | B13: Գ.Մազմանյան | D13: 435 | E13: 0 | F13: 34 | G13: 42 | H13: 15 | I13: 344 | J13: 8 | K13: 109 | M13: 227 | N13: =C13+D13 -> 435 | O13: =E13+F13+G13+H13+I13 -> 435 | P13: =I13 -> 344 | Q13: =J13+K13+L13+M13 -> 344
A14: 8 | B14: Ա. Սուքոյան | C14: 12 | D14: 413 | E14: 0 | F14: 129 | G14: 3 | H14: 162 | I14: 131 | J14: 1 | K14: 4 | M14: 126 | N14: =C14+D14 -> 425 | O14: =E14+F14+G14+H14+I14 -> 425 | P14: =I14 -> 131 | Q14: =J14+K14+L14+M14 -> 131
A15: 9 | N15: =C15+D15 -> 0 | O15: =E15+F15+G15+H15+I15 -> 0 | P15: =I15 -> 0 | Q15: =J15+K15+L15+M15 -> 0
A16: 10 | N16: =C16+D16 -> 0 | O16: =E16+F16+G16+H16+I16 -> 0 | P16: =I16 -> 0 | Q16: =J16+K16+L16+M16 -> 0
A17: 11 | N17: =C17+D17 -> 0 | O17: =E17+F17+G17+H17+I17 -> 0 | P17: =I17 -> 0 | Q17: =J17+K17+L17+M17 -> 0
A18: 12 | N18: =C18+D18 -> 0 | O18: =E18+F18+G18+H18+I18 -> 0 | P18: =I18 -> 0 | Q18: =J18+K18+L18+M18 -> 0
B19: ÁÝ¹³Ù»ÝÁ | C19: =SUM(C7:C18) -> 1432 | D19: =SUM(D7:D18) -> 2973 | E19: =SUM(E7:E18) -> 6 | F19: =SUM(F7:F18) -> 335 | G19: =SUM(G7:G18) -> 83 | H19: =SUM(H7:H18) -> 1673 | I19: =SUM(I7:I18) -> 2308 | J19: =SUM(J7:J18) -> 63 | ... M19: =SUM(M7:M18) -> 1725 | N19: =C19+D19 -> 4405 | O19: =E19+F19+G19+H19+I19 -> 4405 | P19: =I19 -> 2308 | Q19: =J19+K19+L19+M19 -> 2308

Sheet Erebuni
B1: Ð²ÞìºîìàôÂÚàôÜ
B2: Էրեբունի և Նուբարաշեն վարչական շրջանի ÁÝ¹Ñ³Ýáõñ Çñ³í³ëáõÃÛ³Ý ¹³ï³ñ³ÝÇ ÏáÕÙÇó í×³ñÙ³Ý Ï³ñ·³¹ñáõÃÛáõÝ ³ñÓ³Ï»Éáõ í³ñáõÛÃÝ»ñÇ ÁÝÃ³óùÇ Ù³ëÇÝ
B3: 2016Ã.
A4: êïáõ·Çã Ñ³í³ë³ñáõÙ` 1+2=3+4+5+6+7, 7=8+9+10+11
A5: Ð/Ñ | B5: ¸³ï³íáñÇ ³ÝáõÝ, ³½·³ÝáõÝ | C5: Ð³ßí»ïáõ Å³Ù³Ý³Ï³ßñç³ÝÇ ëÏ½µáõÙ ³Ý³í³ñï í³ñáõÛÃÝ»ñÇ ÙÝ³óáñ¹Á | D5: êï³óí»É ¿ í×³ñÙ³Ý Ï³ñ·³¹ñáõÃÛáõÝ ³ñÓ³Ï»Éáõ Ù³ëÇÝ ¹ÇÙáõÙ | E5: ëï³óí»É ¿ ¹ÇÙáõÙ ÁÝÃ³óù ãï³Éáõ Ù³ëÇÝ | F5: Ø»ñÅí»É ¿ | G5: Ø»ñÅí»É ¿ Ù³ëáí | H5: âÇ ³ñÓ³Ïí»É Ñ³ßí»ïáõ Å³Ù³Ý³Ï³ßñç³ÝáõÙ | I5: ²ñÓ³Ïí»É ¿ í×³ñÙ³Ý Ï³ñ·³¹ñáõÃÛáõÝ | J5: êï³óí»É ¿ ³é³ñÏáõÃÛáõÝ | K5: êï³ó»É ¿ ûñÇÝ³Ï³Ý áõÅ | L5: ÂáÕÝí»É ¿ ³ÝÑ»ï¨³Ýù ¨ ûñÇÝ³Ï³Ý áõÅÇ Ù»ç Ùï³Í í×éÇ Ñ»ï¨³Ýù ãÇ ³é³ç³óñ»É | M5: Ð³ßí»ïáõ Å³Ù³Ý³Ï³ßñç³ÝÇ í»ñçáõÙ ³Ý³í³ñï í³ñáõÛÃÝ»ñÇ ÙÝ³óáñ¹Á
C6: 1 | D6: 2 | E6: 3 | F6: 4 | G6: 5 | H6: 6 | I6: 7 | J6: 8 | K6: 9 | L6: 10 | M6: 11 | N6: 1+2=3+4+5+6+7 | P6: 7=8+9+10+11
A7: 1 | B7: Լ. Գրիգորյան | D7: 895 | F7: 41 | G7: 78 | I7: 776 | J7: 25 | K7: 411 | L7: 260 | M7: 80 | N7: =C7+D7 -> 895 | O7: =E7+F7+G7+H7+I7 -> 895 | P7: =I7 -> 776 | Q7: =J7+K7+L7+M7 -> 776
A8: 2 | B8: Տ. Ստեփանյան | D8: 968 | F8: 95 | G8: 99 | I8: 774 | J8: 18 | K8: 174 | L8: 197 | M8: 385 | N8: =C8+D8 -> 968 | O8: =E8+F8+G8+H8+I8 -> 968 | P8: =I8 -> 774 | Q8: =J8+K8+L8+M8 -> 774
A9: 3 | B9: Ե.Եսոյան | D9: 992 | F9: 51 | I9: 941 | J9: 23 | K9: 449 | L9: 366 | M9: 103 | N9: =C9+D9 -> 992 | O9: =E9+F9+G9+H9+I9 -> 992 | P9: =I9 -> 941 | Q9: =J9+K9+L9+M9 -> 941
A10: 4 | B10: Գ.Խաչատրյան | D10: 931 | F10: 36 | I10: 895 | J10: 19 | K10: 433 | L10: 311 | M10: 132 | N10: =C10+D10 -> 931 | O10: =E10+F10+G10+H10+I10 -> 931 | P10: =I10 -> 895 | Q10: =J10+K10+L10+M10 -> 895
A11: 5 | N11: =C11+D11 -> 0 | O11: =E11+F11+G11+H11+I11 -> 0 | P11: =I11 -> 0 | Q11: =J11+K11+L11+M11 -> 0
A12: 6 | N12: =C12+D12 -> 0 | O12: =E12+F12+G12+H12+I12 -> 0 | P12: =I12 -> 0 | Q12: =J12+K12+L12+M12 -> 0
A13: 7 | N13: =C13+D13 -> 0 | O13: =E13+F13+G13+H13+I13 -> 0 | P13: =I13 -> 0 | Q13: =J13+K13+L13+M13 -> 0
A14: 8 | N14: =C14+D14 -> 0 | O14: =E14+F14+G14+H14+I14 -> 0 | P14: =I14 -> 0 | Q14: =J14+K14+L14+M14 -> 0
A15: 9 | N15: =C15+D15 -> 0 | O15: =E15+F15+G15+H15+I15 -> 0 | P15: =I15 -> 0 | Q15: =J15+K15+L15+M15 -> 0
A16: 10 | N16: =C16+D16 -> 0 | O16: =E16+F16+G16+H16+I16 -> 0 | P16: =I16 -> 0 | Q16: =J16+K16+L16+M16 -> 0
A17: 11 | N17: =C17+D17 -> 0 | O17: =E17+F17+G17+H17+I17 -> 0 | P17: =I17 -> 0 | Q17: =J17+K17+L17+M17 -> 0
A18: 12 | N18: =C18+D18 -> 0 | O18: =E18+F18+G18+H18+I18 -> 0 | P18: =I18 -> 0 | Q18: =J18+K18+L18+M18 -> 0
B19: ÁÝ¹³Ù»ÝÁ | C19: =SUM(C7:C18) -> 0 | D19: =SUM(D7:D18) -> 3786 | E19: =SUM(E7:E18) -> 0 | F19: =SUM(F7:F18) -> 223 | G19: =SUM(G7:G18) -> 177 | H19: =SUM(H7:H18) -> 0 | I19: =SUM(I7:I18) -> 3386 | J19: =SUM(J7:J18) -> 85 | ... M19: =SUM(M7:M18) -> 700 | N19: =C19+D19 -> 3786 | O19: =E19+F19+G19+H19+I19 -> 3786 | P19: =I19 -> 3386 | Q19: =J19+K19+L19+M19 -> 3386

Sheet Avan
B1: Ð²ÞìºîìàôÂÚàôÜ
B2: Ավան և Նոր Նորք վարչական շրջանների ÁÝ¹Ñ³Ýáõñ Çñ³í³ëáõÃÛ³Ý ¹³ï³ñ³ÝÇ ÏáÕÙÇó í×³ñÙ³Ý Ï³ñ·³¹ñáõÃÛáõÝ ³ñÓ³Ï»Éáõ í³ñáõÛÃÝ»ñÇ ÁÝÃ³óùÇ Ù³ëÇÝ
B3: 2016Ã.
A4: êïáõ·Çã Ñ³í³ë³ñáõÙ` 1+2=3+4+5+6+7, 7=8+9+10+11
A5: Ð/Ñ | B5: ¸³ï³íáñÇ ³ÝáõÝ, ³½·³ÝáõÝ | C5: Ð³ßí»ïáõ Å³Ù³Ý³Ï³ßñç³ÝÇ ëÏ½µáõÙ ³Ý³í³ñï í³ñáõÛÃÝ»ñÇ ÙÝ³óáñ¹Á | D5: êï³óí»É ¿ í×³ñÙ³Ý Ï³ñ·³¹ñáõÃÛáõÝ ³ñÓ³Ï»Éáõ Ù³ëÇÝ ¹ÇÙáõÙ | E5: ëï³óí»É ¿ ¹ÇÙáõÙ ÁÝÃ³óù ãï³Éáõ Ù³ëÇÝ | F5: Ø»ñÅí»É ¿ | G5: Ø»ñÅí»É ¿ Ù³ëáí | H5: âÇ ³ñÓ³Ïí»É Ñ³ßí»ïáõ Å³Ù³Ý³Ï³ßñç³ÝáõÙ | I5: ²ñÓ³Ïí»É ¿ í×³ñÙ³Ý Ï³ñ·³¹ñáõÃÛáõÝ | J5: êï³óí»É ¿ ³é³ñÏáõÃÛáõÝ | K5: êï³ó»É ¿ ûñÇÝ³Ï³Ý áõÅ | L5: ÂáÕÝí»É ¿ ³ÝÑ»ï¨³Ýù ¨ ûñÇÝ³Ï³Ý áõÅÇ Ù»ç Ùï³Í í×éÇ Ñ»ï¨³Ýù ãÇ ³é³ç³óñ»É | M5: Ð³ßí»ïáõ Å³Ù³Ý³Ï³ßñç³ÝÇ í»ñçáõÙ ³Ý³í³ñï í³ñáõÛÃÝ»ñÇ ÙÝ³óáñ¹Á
C6: 1 | D6: 2 | E6: 3 | F6: 4 | G6: 5 | H6: 6 | I6: 7 | J6: 8 | K6: 9 | L6: 10 | M6: 11 | N6: 1+2=3+4+5+6+7 | P6: 7=8+9+10+11
A7: 1 | B7: Ø³ñ·³ñÛ³Ý | D7: 474 | E7: 3 | F7: 43 | H7: 71 | I7: 357 | J7: 6 | K7: 173 | L7: 128 | M7: 50 | N7: =C7+D7 -> 474 | O7: =E7+F7+G7+H7+I7 -> 474 | P7: =I7 -> 357 | Q7: =J7+K7+L7+M7 -> 357
A8: 2 | B8: ²Ù³ÉÛ³Ý | C8: 2 | D8: 420 | E8: 1 | F8: 34 | G8: 50 | H8: 3 | I8: 334 | J8: 23 | K8: 179 | L8: 102 | M8: 30 | N8: =C8+D8 -> 422 | O8: =E8+F8+G8+H8+I8 -> 422 | P8: =I8 -> 334 | Q8: =J8+K8+L8+M8 -> 334
A9: 3 | B9: ´³¹ÇñÛ³Ý | C9: 28 | D9: 448 | E9: 1 | F9: 31 | G9: 18 | H9: 27 | I9: 399 | J9: 48 | K9: 234 | L9: 67 | M9: 50 | N9: =C9+D9 -> 476 | O9: =E9+F9+G9+H9+I9 -> 476 | P9: =I9 -> 399 | Q9: =J9+K9+L9+M9 -> 399
A10: 4 | B10: ¸³íÃÛ³Ý | C10: 31 | D10: 523 | E10: 1 | F10: 30 | G10: 79 | H10: 77 | I10: 367 | J10: 20 | K10: 262 | L10: 36 | M10: 49 | N10: =C10+D10 -> 554 | O10: =E10+F10+G10+H10+I10 -> 554 | P10: =I10 -> 367 | Q10: =J10+K10+L10+M10 -> 367
A11: 5 | B11: ´³µ³Û³Ý | D11: 207 | E11: 1 | F11: 5 | G11: 1 | I11: 200 | J11: 11 | K11: 85 | L11: 99 | M11: 5 | N11: =C11+D11 -> 207 | O11: =E11+F11+G11+H11+I11 -> 207 | P11: =I11 -> 200 | Q11: =J11+K11+L11+M11 -> 200
A12: 6 | B12: ä»ïñáëÛ³Ý | C12: 23 | D12: 463 | F12: 24 | G12: 1 | H12: 92 | I12: 369 | J12: 22 | K12: 243 | L12: 53 | M12: 51 | N12: =C12+D12 -> 486 | O12: =E12+F12+G12+H12+I12 -> 486 | P12: =I12 -> 369 | Q12: =J12+K12+L12+M12 -> 369
A13: 7 | B13: ê»¹ñ³ÏÛ³Ý | D13: 422 | E13: 1 | F13: 15 | H13: 20 | I13: 386 | J13: 17 | K13: 121 | L13: 162 | M13: 86 | N13: =C13+D13 -> 422 | O13: =E13+F13+G13+H13+I13 -> 422 | P13: =I13 -> 386 | Q13: =J13+K13+L13+M13 -> 386
A14: 8 | N14: =C14+D14 -> 0 | O14: =E14+F14+G14+H14+I14 -> 0 | P14: =I14 -> 0 | Q14: =J14+K14+L14+M14 -> 0
A15: 9 | N15: =C15+D15 -> 0 | O15: =E15+F15+G15+H15+I15 -> 0 | P15: =I15 -> 0 | Q15: =J15+K15+L15+M15 -> 0
A16: 10 | N16: =C16+D16 -> 0 | O16: =E16+F16+G16+H16+I16 -> 0 | P16: =I16 -> 0 | Q16: =J16+K16+L16+M16 -> 0
A17: 11 | N17: =C17+D17 -> 0 | O17: =E17+F17+G17+H17+I17 -> 0 | P17: =I17 -> 0 | Q17: =J17+K17+L17+M17 -> 0
A18: 12 | N18: =C18+D18 -> 0 | O18: =E18+F18+G18+H18+I18 -> 0 | P18: =I18 -> 0 | Q18: =J18+K18+L18+M18 -> 0
B19: ÁÝ¹³Ù»ÝÁ | C19: =SUM(C7:C18) -> 84 | D19: =SUM(D7:D18) -> 2957 | E19: =SUM(E7:E18) -> 8 | F19: =SUM(F7:F18) -> 182 | G19: =SUM(G7:G18) -> 149 | H19: =SUM(H7:H18) -> 290 | I19: =SUM(I7:I18) -> 2412 | J19: =SUM(J7:J18) -> 147 | ... M19: =SUM(M7:M18) -> 321 | N19: =C19+D19 -> 3041 | O19: =E19+F19+G19+H19+I19 -> 3041 | P19: =I19 -> 2412 | Q19: =J19+K19+L19+M19 -> 2412

Sheet Arabkir
B1: Ð²ÞìºîìàôÂÚàôÜ
B2: Արաբկիր և Քանաքեռ-Զեյթուն վարչական շրջանների ÁÝ¹Ñ³Ýáõñ Çñ³í³ëáõÃÛ³Ý ¹³ï³ñ³ÝÇ ÏáÕÙÇó í×³ñÙ³Ý Ï³ñ·³¹ñáõÃÛáõÝ ³ñÓ³Ï»Éáõ í³ñáõÛÃÝ»ñÇ ÁÝÃ³óùÇ Ù³ëÇÝ
B3: 2016Ã.
A4: êïáõ·Çã Ñ³í³ë³ñáõÙ` 1+2=3+4+5+6+7, 7=8+9+10+11
A5: Ð/Ñ | B5: ¸³ï³íáñÇ ³ÝáõÝ, ³½·³ÝáõÝ | C5: Ð³ßí»ïáõ Å³Ù³Ý³Ï³ßñç³ÝÇ ëÏ½µáõÙ ³Ý³í³ñï í³ñáõÛÃÝ»ñÇ ÙÝ³óáñ¹Á | D5: êï³óí»É ¿ í×³ñÙ³Ý Ï³ñ·³¹ñáõÃÛáõÝ ³ñÓ³Ï»Éáõ Ù³ëÇÝ ¹ÇÙáõÙ | E5: ëï³óí»É ¿ ¹ÇÙáõÙ ÁÝÃ³óù ãï³Éáõ Ù³ëÇÝ | F5: Ø»ñÅí»É ¿ | G5: Ø»ñÅí»É ¿ Ù³ëáí | H5: âÇ ³ñÓ³Ïí»É Ñ³ßí»ïáõ Å³Ù³Ý³Ï³ßñç³ÝáõÙ | I5: ²ñÓ³Ïí»É ¿ í×³ñÙ³Ý Ï³ñ·³¹ñáõÃÛáõÝ | J5: êï³óí»É ¿ ³é³ñÏáõÃÛáõÝ | K5: êï³ó»É ¿ ûñÇÝ³Ï³Ý áõÅ | L5: ÂáÕÝí»É ¿ ³ÝÑ»ï¨³Ýù ¨ ûñÇÝ³Ï³Ý áõÅÇ Ù»ç Ùï³Í í×éÇ Ñ»ï¨³Ýù ãÇ ³é³ç³óñ»É | M5: Ð³ßí»ïáõ Å³Ù³Ý³Ï³ßñç³ÝÇ í»ñçáõÙ ³Ý³í³ñï í³ñáõÛÃÝ»ñÇ ÙÝ³óáñ¹Á
C6: 1 | D6: 2 | E6: 3 | F6: 4 | G6: 5 | H6: 6 | I6: 7 | J6: 8 | K6: 9 | L6: 10 | M6: 11 | N6: 1+2=3+4+5+6+7 | P6: 7=8+9+10+11
A7: 1 | B7: Ա.Դանիելյան | D7: 15 | F7: 1 | G7: 1 | I7: 13 | K7: 7 | L7: 6 | N7: =C7+D7 -> 15 | O7: =E7+F7+G7+H7+I7 -> 15 | P7: =I7 -> 13 | Q7: =J7+K7+L7+M7 -> 13
A8: 2 | B8: Ռ.Բունիաթյան | D8: 795 | E8: 1 | F8: 72 | G8: 1 | I8: 721 | J8: 31 | K8: 166 | L8: 253 | M8: 271 | N8: =C8+D8 -> 795 | O8: =E8+F8+G8+H8+I8 -> 795 | P8: =I8 -> 721 | Q8: =J8+K8+L8+M8 -> 721
A9: 3 | B9: Ս.Հովսեփյան | D9: 759 | F9: 15 | I9: 744 | J9: 9 | K9: 364 | L9: 171 | M9: 200 | N9: =C9+D9 -> 759 | O9: =E9+F9+G9+H9+I9 -> 759 | P9: =I9 -> 744 | Q9: =J9+K9+L9+M9 -> 744
A10: 4 | B10: Զ.Նախշքարյան | D10: 833 | E10: 1 | F10: 53 | H10: 18 | I10: 761 | J10: 6 | K10: 244 | L10: 103 | M10: 408 | N10: =C10+D10 -> 833 | O10: =E10+F10+G10+H10+I10 -> 833 | P10: =I10 -> 761 | Q10: =J10+K10+L10+M10 -> 761
A11: 5 | B11: Ս. Թադևոսյան | C11: 25 | D11: 170 | F11: 1 | I11: 194 | J11: 5 | K11: 141 | L11: 8 | M11: 40 | N11: =C11+D11 -> 195 | O11: =E11+F11+G11+H11+I11 -> 195 | P11: =I11 -> 194 | Q11: =J11+K11+L11+M11 -> 194
A12: 6 | B12: Ա.Ստեփանյան | D12: 606 | F12: 45 | G12: 54 | I12: 507 | J12: 9 | K12: 142 | L12: 291 | M12: 65 | N12: =C12+D12 -> 606 | O12: =E12+F12+G12+H12+I12 -> 606 | P12: =I12 -> 507 | Q12: =J12+K12+L12+M12 -> 507
A13: 7 | B13: Հ.Շահնազարյան | C13: 129 | D13: 637 | F13: 97 | G13: 113 | I13: 556 | J13: 12 | K13: 148 | L13: 177 | M13: 219 | N13: =C13+D13 -> 766 | O13: =E13+F13+G13+H13+I13 -> 766 | P13: =I13 -> 556 | Q13: =J13+K13+L13+M13 -> 556
A14: 8 | N14: =C14+D14 -> 0 | O14: =E14+F14+G14+H14+I14 -> 0 | P14: =I14 -> 0 | Q14: =J14+K14+L14+M14 -> 0
A15: 9 | N15: =C15+D15 -> 0 | O15: =E15+F15+G15+H15+I15 -> 0 | P15: =I15 -> 0 | Q15: =J15+K15+L15+M15 -> 0
A16: 10 | N16: =C16+D16 -> 0 | O16: =E16+F16+G16+H16+I16 -> 0 | P16: =I16 -> 0 | Q16: =J16+K16+L16+M16 -> 0
A17: 11 | N17: =C17+D17 -> 0 | O17: =E17+F17+G17+H17+I17 -> 0 | P17: =I17 -> 0 | Q17: =J17+K17+L17+M17 -> 0
A18: 12 | N18: =C18+D18 -> 0 | O18: =E18+F18+G18+H18+I18 -> 0 | P18: =I18 -> 0 | Q18: =J18+K18+L18+M18 -> 0
B19: ÁÝ¹³Ù»ÝÁ | C19: =SUM(C7:C18) -> 154 | D19: =SUM(D7:D18) -> 3815 | E19: =SUM(E7:E18) -> 2 | F19: =SUM(F7:F18) -> 284 | G19: =SUM(G7:G18) -> 169 | H19: =SUM(H7:H18) -> 18 | I19: =SUM(I7:I18) -> 3496 | J19: =SUM(J7:J18) -> 72 | ... M19: =SUM(M7:M18) -> 1203 | N19: =C19+D19 -> 3969 | O19: =E19+F19+G19+H19+I19 -> 3969 | P19: =I19 -> 3496 | Q19: =J19+K19+L19+M19 -> 3496

Sheet Lori
B1: Ð²ÞìºîìàôÂÚàôÜ
B2: ÐÐ Լոռու մարզի ÁÝ¹Ñ³Ýáõñ Çñ³í³ëáõÃÛ³Ý ¹³ï³ñ³ÝÇ ÏáÕÙÇó í×³ñÙ³Ý Ï³ñ·³¹ñáõÃÛáõÝ ³ñÓ³Ï»Éáõ í³ñáõÛÃÝ»ñÇ ÁÝÃ³óùÇ Ù³ëÇÝ
B3: 2016Ã.
A4: êïáõ·Çã Ñ³í³ë³ñáõÙ` 1+2=3+4+5+6+7, 7=8+9+10+11
A5: Ð/Ñ | B5: ¸³ï³íáñÇ ³ÝáõÝ, ³½·³ÝáõÝ | C5: Ð³ßí»ïáõ Å³Ù³Ý³Ï³ßñç³ÝÇ ëÏ½µáõÙ ³Ý³í³ñï í³ñáõÛÃÝ»ñÇ ÙÝ³óáñ¹Á | D5: êï³óí»É ¿ í×³ñÙ³Ý Ï³ñ·³¹ñáõÃÛáõÝ ³ñÓ³Ï»Éáõ Ù³ëÇÝ ¹ÇÙáõÙ | E5: ëï³óí»É ¿ ¹ÇÙáõÙ ÁÝÃ³óù ãï³Éáõ Ù³ëÇÝ | F5: Ø»ñÅí»É ¿ | G5: Ø»ñÅí»É ¿ Ù³ëáí | H5: âÇ ³ñÓ³Ïí»É Ñ³ßí»ïáõ Å³Ù³Ý³Ï³ßñç³ÝáõÙ | I5: ²ñÓ³Ïí»É ¿ í×³ñÙ³Ý Ï³ñ·³¹ñáõÃÛáõÝ | J5: êï³óí»É ¿ ³é³ñÏáõÃÛáõÝ | K5: êï³ó»É ¿ ûñÇÝ³Ï³Ý áõÅ | L5: ÂáÕÝí»É ¿ ³ÝÑ»ï¨³Ýù ¨ ûñÇÝ³Ï³Ý áõÅÇ Ù»ç Ùï³Í í×éÇ Ñ»ï¨³Ýù ãÇ ³é³ç³óñ»É | M5: Ð³ßí»ïáõ Å³Ù³Ý³Ï³ßñç³ÝÇ í»ñçáõÙ ³Ý³í³ñï í³ñáõÛÃÝ»ñÇ ÙÝ³óáñ¹Á
C6: 1 | D6: 2 | E6: 3 | F6: 4 | G6: 5 | H6: 6 | I6: 7 | J6: 8 | K6: 9 | L6: 10 | M6: 11 | N6: 1+2=3+4+5+6+7 | P6: 7=8+9+10+11
A7: 1 | B7: Գնել Զաքարյան | C7: 2 | D7: 436 | E7: 1 | G7: 61 | H7: 14 | I7: 362 | J7: 23 | K7: 186 | L7: 85 | M7: 68 | N7: =C7+D7 -> 438 | O7: =E7+F7+G7+H7+I7 -> 438 | P7: =I7 -> 362 | Q7: =J7+K7+L7+M7 -> 362
A8: 2 | B8: ´áñÇÏ Գրիգորյան | C8: 1 | D8: 213 | F8: 21 | I8: 193 | J8: 6 | K8: 84 | L8: 77 | M8: 26 | N8: =C8+D8 -> 214 | O8: =E8+F8+G8+H8+I8 -> 214 | P8: =I8 -> 193 | Q8: =J8+K8+L8+M8 -> 193
A9: 3 | B9: ì³ñ¹áõÑÇ Հովնանյան | C9: 1 | D9: 247 | F9: 33 | G9: 38 | I9: 177 | J9: 7 | K9: 63 | L9: 62 | M9: 45 | N9: =C9+D9 -> 248 | O9: =E9+F9+G9+H9+I9 -> 248 | P9: =I9 -> 177 | Q9: =J9+K9+L9+M9 -> 177
A10: 4 | B10: Արթուր Աթաբեկյան | C10: 5 | D10: 535 | E10: 2 | F10: 73 | G10: 125 | I10: 340 | J10: 37 | K10: 146 | L10: 121 | M10: 36 | N10: =C10+D10 -> 540 | O10: =E10+F10+G10+H10+I10 -> 540 | P10: =I10 -> 340 | Q10: =J10+K10+L10+M10 -> 340
A11: 5 | B11: Աղասի Մկոյան | C11: 2 | D11: 457 | F11: 47 | G11: 110 | I11: 302 | J11: 21 | K11: 124 | L11: 50 | M11: 107 | N11: =C11+D11 -> 459 | O11: =E11+F11+G11+H11+I11 -> 459 | P11: =I11 -> 302 | Q11: =J11+K11+L11+M11 -> 302
A12: 6 | B12: ¶áõñ·»Ý Գագիկյան | D12: 410 | E12: 1 | F12: 1 | G12: 56 | I12: 352 | J12: 24 | K12: 178 | L12: 108 | M12: 42 | N12: =C12+D12 -> 410 | O12: =E12+F12+G12+H12+I12 -> 410 | P12: =I12 -> 352 | Q12: =J12+K12+L12+M12 -> 352
A13: 7 | B13: Գրիգորի Վարդանյան | D13: 248 | F13: 57 | G13: 25 | H13: 47 | I13: 119 | J13: 11 | K13: 39 | L13: 45 | M13: 24 | N13: =C13+D13 -> 248 | O13: =E13+F13+G13+H13+I13 -> 248 | P13: =I13 -> 119 | Q13: =J13+K13+L13+M13 -> 119
A14: 8 | B14: Տիգրան Գրիգորյան | D14: 337 | F14: 45 | G14: 37 | H14: 29 | I14: 226 | J14: 12 | K14: 81 | L14: 83 | M14: 50 | N14: =C14+D14 -> 337 | O14: =E14+F14+G14+H14+I14 -> 337 | P14: =I14 -> 226 | Q14: =J14+K14+L14+M14 -> 226
A15: 9 | N15: =C15+D15 -> 0 | O15: =E15+F15+G15+H15+I15 -> 0 | P15: =I15 -> 0 | Q15: =J15+K15+L15+M15 -> 0
A16: 10 | N16: =C16+D16 -> 0 | O16: =E16+F16+G16+H16+I16 -> 0 | P16: =I16 -> 0 | Q16: =J16+K16+L16+M16 -> 0
A17: 11 | N17: =C17+D17 -> 0 | O17: =E17+F17+G17+H17+I17 -> 0 | P17: =I17 -> 0 | Q17: =J17+K17+L17+M17 -> 0
A18: 12 | N18: =C18+D18 -> 0 | O18: =E18+F18+G18+H18+I18 -> 0 | P18: =I18 -> 0 | Q18: =J18+K18+L18+M18 -> 0
B19: ÁÝ¹³Ù»ÝÁ | C19: =SUM(C7:C18) -> 11 | D19: =SUM(D7:D18) -> 2883 | E19: =SUM(E7:E18) -> 4 | F19: =SUM(F7:F18) -> 277 | G19: =SUM(G7:G18) -> 452 | H19: =SUM(H7:H18) -> 90 | I19: =SUM(I7:I18) -> 2071 | J19: =SUM(J7:J18) -> 141 | ... M19: =SUM(M7:M18) -> 398 | N19: =C19+D19 -> 2894 | O19: =E19+F19+G19+H19+I19 -> 2894 | P19: =I19 -> 2071 | Q19: =J19+K19+L19+M19 -> 2071

Sheet Gexarquniq
B1: Ð²ÞìºîìàôÂÚàôÜ
B2: ÐÐ Գեղարքունիքի մարզի ÁÝ¹Ñ³Ýáõñ Çñ³í³ëáõÃÛ³Ý ¹³ï³ñ³ÝÇ ÏáÕÙÇó í×³ñÙ³Ý Ï³ñ·³¹ñáõÃÛáõÝ ³ñÓ³Ï»Éáõ í³ñáõÛÃÝ»ñÇ ÁÝÃ³óùÇ Ù³ëÇÝ
B3: 2016Ã.
A4: êïáõ·Çã Ñ³í³ë³ñáõÙ` 1+2=3+4+5+6+7, 7=8+9+10+11
A5: Ð/Ñ | B5: ¸³ï³íáñÇ ³ÝáõÝ, ³½·³ÝáõÝ | C5: Ð³ßí»ïáõ Å³Ù³Ý³Ï³ßñç³ÝÇ ëÏ½µáõÙ ³Ý³í³ñï í³ñáõÛÃÝ»ñÇ ÙÝ³óáñ¹Á | D5: êï³óí»É ¿ í×³ñÙ³Ý Ï³ñ·³¹ñáõÃÛáõÝ ³ñÓ³Ï»Éáõ Ù³ëÇÝ ¹ÇÙáõÙ | E5: ëï³óí»É ¿ ¹ÇÙáõÙ ÁÝÃ³óù ãï³Éáõ Ù³ëÇÝ | F5: Ø»ñÅí»É ¿ | G5: Ø»ñÅí»É ¿ Ù³ëáí | H5: âÇ ³ñÓ³Ïí»É Ñ³ßí»ïáõ Å³Ù³Ý³Ï³ßñç³ÝáõÙ | I5: ²ñÓ³Ïí»É ¿ í×³ñÙ³Ý Ï³ñ·³¹ñáõÃÛáõÝ | J5: êï³óí»É ¿ ³é³ñÏáõÃÛáõÝ | K5: êï³ó»É ¿ ûñÇÝ³Ï³Ý áõÅ | L5: ÂáÕÝí»É ¿ ³ÝÑ»ï¨³Ýù ¨ ûñÇÝ³Ï³Ý áõÅÇ Ù»ç Ùï³Í í×éÇ Ñ»ï¨³Ýù ãÇ ³é³ç³óñ»É | M5: Ð³ßí»ïáõ Å³Ù³Ý³Ï³ßñç³ÝÇ í»ñçáõÙ ³Ý³í³ñï í³ñáõÛÃÝ»ñÇ ÙÝ³óáñ¹Á
C6: 1 | D6: 2 | E6: 3 | F6: 4 | G6: 5 | H6: 6 | I6: 7 | J6: 8 | K6: 9 | L6: 10 | M6: 11 | N6: 1+2=3+4+5+6+7 | P6: 7=8+9+10+11
A7: 1 | B7: Արթուր Թամրազյան | C7: 23 | D7: 843 | E7: 2 | F7: 2 | I7: 862 | J7: 55 | K7: 482 | L7: 325 | N7: =C7+D7 -> 866 | O7: =E7+F7+G7+H7+I7 -> 866 | P7: =I7 -> 862 | Q7: =J7+K7+L7+M7 -> 862
A8: 2 | B8: Ավագ Գաբրիելյան | C8: 40 | D8: 997 | F8: 65 | H8: 2 | I8: 970 | J8: 22 | K8: 423 | L8: 171 | M8: 354 | N8: =C8+D8 -> 1037 | O8: =E8+F8+G8+H8+I8 -> 1037 | P8: =I8 -> 970 | Q8: =J8+K8+L8+M8 -> 970
A9: 3 | B9: Սերոբ Մանուկյան | C9: 51 | D9: 927 | E9: 2 | F9: 11 | I9: 965 | J9: 53 | K9: 537 | L9: 328 | M9: 47 | N9: =C9+D9 -> 978 | O9: =E9+F9+G9+H9+I9 -> 978 | P9: =I9 -> 965 | Q9: =J9+K9+L9+M9 -> 965
A10: 4 | B10: Վանիկ Վարդանյան | C10: 492 | D10: 1188 | E10: 1 | I10: 1679 | J10: 221 | K10: 1002 | L10: 384 | M10: 72 | N10: =C10+D10 -> 1680 | O10: =E10+F10+G10+H10+I10 -> 1680 | P10: =I10 -> 1679 | Q10: =J10+K10+L10+M10 -> 1679
A11: 5 | N11: =C11+D11 -> 0 | O11: =E11+F11+G11+H11+I11 -> 0 | P11: =I11 -> 0 | Q11: =J11+K11+L11+M11 -> 0
A12: 6 | N12: =C12+D12 -> 0 | O12: =E12+F12+G12+H12+I12 -> 0 | P12: =I12 -> 0 | Q12: =J12+K12+L12+M12 -> 0
A13: 7 | N13: =C13+D13 -> 0 | O13: =E13+F13+G13+H13+I13 -> 0 | P13: =I13 -> 0 | Q13: =J13+K13+L13+M13 -> 0
A14: 8 | N14: =C14+D14 -> 0 | O14: =E14+F14+G14+H14+I14 -> 0 | P14: =I14 -> 0 | Q14: =J14+K14+L14+M14 -> 0
A15: 9 | N15: =C15+D15 -> 0 | O15: =E15+F15+G15+H15+I15 -> 0 | P15: =I15 -> 0 | Q15: =J15+K15+L15+M15 -> 0
A16: 10 | N16: =C16+D16 -> 0 | O16: =E16+F16+G16+H16+I16 -> 0 | P16: =I16 -> 0 | Q16: =J16+K16+L16+M16 -> 0
A17: 11 | N17: =C17+D17 -> 0 | O17: =E17+F17+G17+H17+I17 -> 0 | P17: =I17 -> 0 | Q17: =J17+K17+L17+M17 -> 0
A18: 12 | N18: =C18+D18 -> 0 | O18: =E18+F18+G18+H18+I18 -> 0 | P18: =I18 -> 0 | Q18: =J18+K18+L18+M18 -> 0
B19: ÁÝ¹³Ù»ÝÁ | C19: =SUM(C7:C18) -> 606 | D19: =SUM(D7:D18) -> 3955 | E19: =SUM(E7:E18) -> 5 | F19: =SUM(F7:F18) -> 78 | G19: =SUM(G7:G18) -> 0 | H19: =SUM(H7:H18) -> 2 | I19: =SUM(I7:I18) -> 4476 | J19: =SUM(J7:J18) -> 351 | ... M19: =SUM(M7:M18) -> 473 | N19: =C19+D19 -> 4561 | O19: =E19+F19+G19+H19+I19 -> 4561 | P19: =I19 -> 4476 | Q19: =J19+K19+L19+M19 -> 4476

Sheet Ararat
B1: Ð²ÞìºîìàôÂÚàôÜ
B2: ÐÐ ²ñ³ñ³ïÇ ¨ ì³Ûáó ÓáñÇ Ù³ñ½»ñÇ ÁÝ¹Ñ³Ýáõñ Çñ³í³ëáõÃÛ³Ý ¹³ï³ñ³ÝÇ ÏáÕÙÇó í×³ñÙ³Ý Ï³ñ·³¹ñáõÃÛáõÝ ³ñÓ³Ï»Éáõ í³ñáõÛÃÝ»ñÇ ÁÝÃ³óùÇ Ù³ëÇÝ
B3: 2016Ã.
A4: êïáõ·Çã Ñ³í³ë³ñáõÙ` 1+2=3+4+5+6+7, 7=8+9+10+11
A5: Ð/Ñ | B5: ¸³ï³íáñÇ ³ÝáõÝ, ³½·³ÝáõÝ | C5: Ð³ßí»ïáõ Å³Ù³Ý³Ï³ßñç³ÝÇ ëÏ½µáõÙ ³Ý³í³ñï í³ñáõÛÃÝ»ñÇ ÙÝ³óáñ¹Á | D5: êï³óí»É ¿ í×³ñÙ³Ý Ï³ñ·³¹ñáõÃÛáõÝ ³ñÓ³Ï»Éáõ Ù³ëÇÝ ¹ÇÙáõÙ | E5: ëï³óí»É ¿ ¹ÇÙáõÙ ÁÝÃ³óù ãï³Éáõ Ù³ëÇÝ | F5: Ø»ñÅí»É ¿ | G5: Ø»ñÅí»É ¿ Ù³ëáí | H5: âÇ ³ñÓ³Ïí»É Ñ³ßí»ïáõ Å³Ù³Ý³Ï³ßñç³ÝáõÙ | I5: ²ñÓ³Ïí»É ¿ í×³ñÙ³Ý Ï³ñ·³¹ñáõÃÛáõÝ | J5: êï³óí»É ¿ ³é³ñÏáõÃÛáõÝ | K5: êï³ó»É ¿ ûñÇÝ³Ï³Ý áõÅ | L5: ÂáÕÝí»É ¿ ³ÝÑ»ï¨³Ýù ¨ ûñÇÝ³Ï³Ý áõÅÇ Ù»ç Ùï³Í í×éÇ Ñ»ï¨³Ýù ãÇ ³é³ç³óñ»É | M5: Ð³ßí»ïáõ Å³Ù³Ý³Ï³ßñç³ÝÇ í»ñçáõÙ ³Ý³í³ñï í³ñáõÛÃÝ»ñÇ ÙÝ³óáñ¹Á
C6: 1 | D6: 2 | E6: 3 | F6: 4 | G6: 5 | H6: 6 | I6: 7 | J6: 8 | K6: 9 | L6: 10 | M6: 11 | N6: 1+2=3+4+5+6+7 | P6: 7=8+9+10+11
A7: 1 | B7: Ելենա Քոչարյան | D7: 707 | E7: 11 | F7: 14 | I7: 682 | J7: 37 | K7: 353 | L7: 249 | M7: 43 | N7: =C7+D7 -> 707 | O7: =E7+F7+G7+H7+I7 -> 707 | P7: =I7 -> 682 | Q7: =J7+K7+L7+M7 -> 682
A8: 2 | B8: Սամվել Մատինյան | D8: 635 | E8: 2 | F8: 4 | I8: 629 | J8: 25 | K8: 354 | L8: 118 | M8: 132 | N8: =C8+D8 -> 635 | O8: =E8+F8+G8+H8+I8 -> 635 | P8: =I8 -> 629 | Q8: =J8+K8+L8+M8 -> 629
A9: 3 | B9: Սերգեյ Սահակյան | D9: 1116 | E9: 34 | F9: 18 | I9: 1064 | J9: 24 | K9: 541 | L9: 222 | M9: 277 | N9: =C9+D9 -> 1116 | O9: =E9+F9+G9+H9+I9 -> 1116 | P9: =I9 -> 1064 | Q9: =J9+K9+L9+M9 -> 1064
A10: 4 | B10: Գևորգ Բալյան | C10: 39 | D10: 681 | E10: 19 | F10: 2 | I10: 699 | J10: 35 | K10: 344 | L10: 203 | M10: 117 | N10: =C10+D10 -> 720 | O10: =E10+F10+G10+H10+I10 -> 720 | P10: =I10 -> 699 | Q10: =J10+K10+L10+M10 -> 699
A11: 5 | B11: Արտաշես Հովհաննիսյան | C11: 9 | D11: 818 | E11: 12 | I11: 815 | J11: 24 | K11: 90 | L11: 23 | M11: 678 | N11: =C11+D11 -> 827 | O11: =E11+F11+G11+H11+I11 -> 827 | P11: =I11 -> 815 | Q11: =J11+K11+L11+M11 -> 815
A12: 6 | B12: Հենրիկ Դարբինյան | D12: 1404 | E12: 12 | I12: 1392 | J12: 28 | K12: 522 | L12: 285 | M12: 557 | N12: =C12+D12 -> 1404 | O12: =E12+F12+G12+H12+I12 -> 1404 | P12: =I12 -> 1392 | Q12: =J12+K12+L12+M12 -> 1392
A13: 7 | N13: =C13+D13 -> 0 | O13: =E13+F13+G13+H13+I13 -> 0 | P13: =I13 -> 0 | Q13: =J13+K13+L13+M13 -> 0
A14: 8 | N14: =C14+D14 -> 0 | O14: =E14+F14+G14+H14+I14 -> 0 | P14: =I14 -> 0 | Q14: =J14+K14+L14+M14 -> 0
A15: 9 | N15: =C15+D15 -> 0 | O15: =E15+F15+G15+H15+I15 -> 0 | P15: =I15 -> 0 | Q15: =J15+K15+L15+M15 -> 0
A16: 10 | N16: =C16+D16 -> 0 | O16: =E16+F16+G16+H16+I16 -> 0 | P16: =I16 -> 0 | Q16: =J16+K16+L16+M16 -> 0
A17: 11 | N17: =C17+D17 -> 0 | O17: =E17+F17+G17+H17+I17 -> 0 | P17: =I17 -> 0 | Q17: =J17+K17+L17+M17 -> 0
A18: 12 | N18: =C18+D18 -> 0 | O18: =E18+F18+G18+H18+I18 -> 0 | P18: =I18 -> 0 | Q18: =J18+K18+L18+M18 -> 0
B19: ÁÝ¹³Ù»ÝÁ | C19: =SUM(C7:C18) -> 48 | D19: =SUM(D7:D18) -> 5361 | E19: =SUM(E7:E18) -> 90 | F19: =SUM(F7:F18) -> 38 | G19: =SUM(G7:G18) -> 0 | H19: =SUM(H7:H18) -> 0 | I19: =SUM(I7:I18) -> 5281 | J19: =SUM(J7:J18) -> 173 | ... M19: =SUM(M7:M18) -> 1804 | N19: =C19+D19 -> 5409 | O19: =E19+F19+G19+H19+I19 -> 5409 | P19: =I19 -> 5281 | Q19: =J19+K19+L19+M19 -> 5281

Sheet Aragacotn
B1: Ð²ÞìºîìàôÂÚàôÜ
B2: ÐÐ Արագածոտնի մարզի ÁÝ¹Ñ³Ýáõñ Çñ³í³ëáõÃÛ³Ý ¹³ï³ñ³ÝÇ ÏáÕÙÇó í×³ñÙ³Ý Ï³ñ·³¹ñáõÃÛáõÝ ³ñÓ³Ï»Éáõ í³ñáõÛÃÝ»ñÇ ÁÝÃ³óùÇ Ù³ëÇÝ
B3: 2016Ã.
A4: êïáõ·Çã Ñ³í³ë³ñáõÙ` 1+2=3+4+5+6+7, 7=8+9+10+11
A5: Ð/Ñ | B5: ¸³ï³íáñÇ ³ÝáõÝ, ³½·³ÝáõÝ | C5: Ð³ßí»ïáõ Å³Ù³Ý³Ï³ßñç³ÝÇ ëÏ½µáõÙ ³Ý³í³ñï í³ñáõÛÃÝ»ñÇ ÙÝ³óáñ¹Á | D5: êï³óí»É ¿ í×³ñÙ³Ý Ï³ñ·³¹ñáõÃÛáõÝ ³ñÓ³Ï»Éáõ Ù³ëÇÝ ¹ÇÙáõÙ | E5: ëï³óí»É ¿ ¹ÇÙáõÙ ÁÝÃ³óù ãï³Éáõ Ù³ëÇÝ | F5: Ø»ñÅí»É ¿ | G5: Ø»ñÅí»É ¿ Ù³ëáí | H5: âÇ ³ñÓ³Ïí»É Ñ³ßí»ïáõ Å³Ù³Ý³Ï³ßñç³ÝáõÙ | I5: ²ñÓ³Ïí»É ¿ í×³ñÙ³Ý Ï³ñ·³¹ñáõÃÛáõÝ | J5: êï³óí»É ¿ ³é³ñÏáõÃÛáõÝ | K5: êï³ó»É ¿ ûñÇÝ³Ï³Ý áõÅ | L5: ÂáÕÝí»É ¿ ³ÝÑ»ï¨³Ýù ¨ ûñÇÝ³Ï³Ý áõÅÇ Ù»ç Ùï³Í í×éÇ Ñ»ï¨³Ýù ãÇ ³é³ç³óñ»É | M5: Ð³ßí»ïáõ Å³Ù³Ý³Ï³ßñç³ÝÇ í»ñçáõÙ ³Ý³í³ñï í³ñáõÛÃÝ»ñÇ ÙÝ³óáñ¹Á
C6: 1 | D6: 2 | E6: 3 | F6: 4 | G6: 5 | H6: 6 | I6: 7 | J6: 8 | K6: 9 | L6: 10 | M6: 11 | N6: 1+2=3+4+5+6+7 | P6: 7=8+9+10+11
A7: 1 | B7: Մանուկ Մարգարյան | D7: 659 | E7: 3 | F7: 135 | G7: 94 | H7: 1 | I7: 426 | J7: 6 | K7: 264 | L7: 156 | N7: =C7+D7 -> 659 | O7: =E7+F7+G7+H7+I7 -> 659 | P7: =I7 -> 426 | Q7: =J7+K7+L7+M7 -> 426
A8: 2 | B8: Արթուր Մարգարյան | D8: 472 | F8: 29 | G8: 36 | I8: 407 | J8: 16 | K8: 255 | L8: 136 | N8: =C8+D8 -> 472 | O8: =E8+F8+G8+H8+I8 -> 472 | P8: =I8 -> 407 | Q8: =J8+K8+L8+M8 -> 407
A9: 3 | B9: Գոհարիկ Խաչատրյան | D9: 620 | E9: 8 | F9: 182 | G9: 53 | I9: 377 | J9: 15 | K9: 207 | L9: 155 | N9: =C9+D9 -> 620 | O9: =E9+F9+G9+H9+I9 -> 620 | P9: =I9 -> 377 | Q9: =J9+K9+L9+M9 -> 377
A10: 4 | B10: Գևորգ Նարինյան | D10: 516 | E10: 3 | F10: 51 | G10: 77 | I10: 385 | J10: 26 | K10: 251 | L10: 108 | N10: =C10+D10 -> 516 | O10: =E10+F10+G10+H10+I10 -> 516 | P10: =I10 -> 385 | Q10: =J10+K10+L10+M10 -> 385
A11: 5 | N11: =C11+D11 -> 0 | O11: =E11+F11+G11+H11+I11 -> 0 | P11: =I11 -> 0 | Q11: =J11+K11+L11+M11 -> 0
A12: 6 | N12: =C12+D12 -> 0 | O12: =E12+F12+G12+H12+I12 -> 0 | P12: =I12 -> 0 | Q12: =J12+K12+L12+M12 -> 0
A13: 7 | N13: =C13+D13 -> 0 | O13: =E13+F13+G13+H13+I13 -> 0 | P13: =I13 -> 0 | Q13: =J13+K13+L13+M13 -> 0
A14: 8 | N14: =C14+D14 -> 0 | O14: =E14+F14+G14+H14+I14 -> 0 | P14: =I14 -> 0 | Q14: =J14+K14+L14+M14 -> 0
A15: 9 | N15: =C15+D15 -> 0 | O15: =E15+F15+G15+H15+I15 -> 0 | P15: =I15 -> 0 | Q15: =J15+K15+L15+M15 -> 0
A16: 10 | N16: =C16+D16 -> 0 | O16: =E16+F16+G16+H16+I16 -> 0 | P16: =I16 -> 0 | Q16: =J16+K16+L16+M16 -> 0
A17: 11 | N17: =C17+D17 -> 0 | O17: =E17+F17+G17+H17+I17 -> 0 | P17: =I17 -> 0 | Q17: =J17+K17+L17+M17 -> 0
A18: 12 | N18: =C18+D18 -> 0 | O18: =E18+F18+G18+H18+I18 -> 0 | P18: =I18 -> 0 | Q18: =J18+K18+L18+M18 -> 0
B19: ÁÝ¹³Ù»ÝÁ | C19: =SUM(C7:C18) -> 0 | D19: =SUM(D7:D18) -> 2267 | E19: =SUM(E7:E18) -> 14 | F19: =SUM(F7:F18) -> 397 | G19: =SUM(G7:G18) -> 260 | H19: =SUM(H7:H18) -> 1 | I19: =SUM(I7:I18) -> 1595 | J19: =SUM(J7:J18) -> 63 | ... M19: =SUM(M7:M18) -> 0 | N19: =C19+D19 -> 2267 | O19: =E19+F19+G19+H19+I19 -> 2267 | P19: =I19 -> 1595 | Q19: =J19+K19+L19+M19 -> 1595

Sheet Shirak
B1: Ð²ÞìºîìàôÂÚàôÜ
B2: ÐÐ Շիրակի մարզի ÁÝ¹Ñ³Ýáõñ Çñ³í³ëáõÃÛ³Ý ¹³ï³ñ³ÝÇ ÏáÕÙÇó í×³ñÙ³Ý Ï³ñ·³¹ñáõÃÛáõÝ ³ñÓ³Ï»Éáõ í³ñáõÛÃÝ»ñÇ ÁÝÃ³óùÇ Ù³ëÇÝ
B3: 2016Ã.
A4: êïáõ·Çã Ñ³í³ë³ñáõÙ` 1+2=3+4+5+6+7, 7=8+9+10+11
A5: Ð/Ñ | B5: ¸³ï³íáñÇ ³ÝáõÝ, ³½·³ÝáõÝ | C5: Ð³ßí»ïáõ Å³Ù³Ý³Ï³ßñç³ÝÇ ëÏ½µáõÙ ³Ý³í³ñï í³ñáõÛÃÝ»ñÇ ÙÝ³óáñ¹Á | D5: êï³óí»É ¿ í×³ñÙ³Ý Ï³ñ·³¹ñáõÃÛáõÝ ³ñÓ³Ï»Éáõ Ù³ëÇÝ ¹ÇÙáõÙ | E5: ëï³óí»É ¿ ¹ÇÙáõÙ ÁÝÃ³óù ãï³Éáõ Ù³ëÇÝ | F5: Ø»ñÅí»É ¿ | G5: Ø»ñÅí»É ¿ Ù³ëáí | H5: âÇ ³ñÓ³Ïí»É Ñ³ßí»ïáõ Å³Ù³Ý³Ï³ßñç³ÝáõÙ | I5: ²ñÓ³Ïí»É ¿ í×³ñÙ³Ý Ï³ñ·³¹ñáõÃÛáõÝ | J5: êï³óí»É ¿ ³é³ñÏáõÃÛáõÝ | K5: êï³ó»É ¿ ûñÇÝ³Ï³Ý áõÅ | L5: ÂáÕÝí»É ¿ ³ÝÑ»ï¨³Ýù ¨ ûñÇÝ³Ï³Ý áõÅÇ Ù»ç Ùï³Í í×éÇ Ñ»ï¨³Ýù ãÇ ³é³ç³óñ»É | M5: Ð³ßí»ïáõ Å³Ù³Ý³Ï³ßñç³ÝÇ í»ñçáõÙ ³Ý³í³ñï í³ñáõÛÃÝ»ñÇ ÙÝ³óáñ¹Á
C6: 1 | D6: 2 | E6: 3 | F6: 4 | G6: 5 | H6: 6 | I6: 7 | J6: 8 | K6: 9 | L6: 10 | M6: 11 | N6: 1+2=3+4+5+6+7 | P6: 7=8+9+10+11
A7: 1 | B7: Գագիկ Հովհաննիսյան | D7: 65 | E7: 0 | F7: 0 | G7: 0 | H7: 0 | I7: 65 | J7: 6 | K7: 34 | L7: 25 | M7: 0 | N7: =C7+D7 -> 65 | O7: =E7+F7+G7+H7+I7 -> 65 | P7: =I7 -> 65 | Q7: =J7+K7+L7+M7 -> 65
A8: 2 | B8: Արմեն Խաչատրյան | C8: 0 | D8: 130 | E8: 1 | F8: 19 | G8: 0 | H8: 15 | I8: 95 | J8: 2 | K8: 46 | L8: 28 | M8: 19 | N8: =C8+D8 -> 130 | O8: =E8+F8+G8+H8+I8 -> 130 | P8: =I8 -> 95 | Q8: =J8+K8+L8+M8 -> 95
A9: 3 | B9: Հայկուշ Միքայելյան | C9: 18 | D9: 803 | F9: 33 | G9: 41 | H9: 77 | I9: 670 | J9: 28 | K9: 250 | L9: 259 | M9: 133 | N9: =C9+D9 -> 821 | O9: =E9+F9+G9+H9+I9 -> 821 | P9: =I9 -> 670 | Q9: =J9+K9+L9+M9 -> 670
A10: 4 | B10: Լիլիթ Խաչատրյան | C10: 15 | D10: 648 | E10: 0 | F10: 10 | G10: 0 | H10: 47 | I10: 606 | J10: 49 | K10: 241 | L10: 177 | M10: 139 | N10: =C10+D10 -> 663 | O10: =E10+F10+G10+H10+I10 -> 663 | P10: =I10 -> 606 | Q10: =J10+K10+L10+M10 -> 606
A11: 5 | B11: Հովհաննես Ղազարյան | D11: 686 | E11: 2 | F11: 3 | G11: 0 | H11: 0 | I11: 681 | J11: 26 | K11: 194 | L11: 130 | M11: 331 | N11: =C11+D11 -> 686 | O11: =E11+F11+G11+H11+I11 -> 686 | P11: =I11 -> 681 | Q11: =J11+K11+L11+M11 -> 681
A12: 6 | B12: Մեխակ Գևորգյան | D12: 808 | E12: 1 | H12: 69 | I12: 738 | J12: 39 | K12: 274 | L12: 133 | M12: 292 | N12: =C12+D12 -> 808 | O12: =E12+F12+G12+H12+I12 -> 808 | P12: =I12 -> 738 | Q12: =J12+K12+L12+M12 -> 738
A13: 7 | B13: Բագրատ Մկրտչյան | D13: 530 | F13: 8 | I13: 522 | J13: 17 | K13: 146 | L13: 62 | M13: 297 | N13: =C13+D13 -> 530 | O13: =E13+F13+G13+H13+I13 -> 530 | P13: =I13 -> 522 | Q13: =J13+K13+L13+M13 -> 522
A14: 8 | B14: Սուրեն Մնացյան | D14: 813 | E14: 1 | F14: 0 | G14: 0 | H14: 0 | I14: 812 | J14: 41 | K14: 470 | L14: 136 | M14: 165 | N14: =C14+D14 -> 813 | O14: =E14+F14+G14+H14+I14 -> 813 | P14: =I14 -> 812 | Q14: =J14+K14+L14+M14 -> 812
A15: 9 | B15: Միշա Մարտիրոսյան | D15: 360 | E15: 1 | F15: 1 | I15: 358 | J15: 36 | K15: 201 | L15: 121 | N15: =C15+D15 -> 360 | O15: =E15+F15+G15+H15+I15 -> 360 | P15: =I15 -> 358 | Q15: =J15+K15+L15+M15 -> 358
A16: 10 | N16: =C16+D16 -> 0 | O16: =E16+F16+G16+H16+I16 -> 0 | P16: =I16 -> 0 | Q16: =J16+K16+L16+M16 -> 0
A17: 11 | N17: =C17+D17 -> 0 | O17: =E17+F17+G17+H17+I17 -> 0 | P17: =I17 -> 0 | Q17: =J17+K17+L17+M17 -> 0
A18: 12 | N18: =C18+D18 -> 0 | O18: =E18+F18+G18+H18+I18 -> 0 | P18: =I18 -> 0 | Q18: =J18+K18+L18+M18 -> 0
B19: ÁÝ¹³Ù»ÝÁ | C19: =SUM(C7:C18) -> 33 | D19: =SUM(D7:D18) -> 4843 | E19: =SUM(E7:E18) -> 6 | F19: =SUM(F7:F18) -> 74 | G19: =SUM(G7:G18) -> 41 | H19: =SUM(H7:H18) -> 208 | I19: =SUM(I7:I18) -> 4547 | J19: =SUM(J7:J18) -> 244 | ... M19: =SUM(M7:M18) -> 1376 | N19: =C19+D19 -> 4876 | O19: =E19+F19+G19+H19+I19 -> 4876 | P19: =I19 -> 4547 | Q19: =J19+K19+L19+M19 -> 4547

Sheet Kotayq
B1: Ð²ÞìºîìàôÂÚàôÜ
B2: ÐÐ Կոտայքի մարզի ÁÝ¹Ñ³Ýáõñ Çñ³í³ëáõÃÛ³Ý ¹³ï³ñ³ÝÇ ÏáÕÙÇó í×³ñÙ³Ý Ï³ñ·³¹ñáõÃÛáõÝ ³ñÓ³Ï»Éáõ í³ñáõÛÃÝ»ñÇ ÁÝÃ³óùÇ Ù³ëÇÝ
B3: 2016Ã.
A4: êïáõ·Çã Ñ³í³ë³ñáõÙ` 1+2=3+4+5+6+7, 7=8+9+10+11
A5: Ð/Ñ | B5: ¸³ï³íáñÇ ³ÝáõÝ, ³½·³ÝáõÝ | C5: Ð³ßí»ïáõ Å³Ù³Ý³Ï³ßñç³ÝÇ ëÏ½µáõÙ ³Ý³í³ñï í³ñáõÛÃÝ»ñÇ ÙÝ³óáñ¹Á | D5: êï³óí»É ¿ í×³ñÙ³Ý Ï³ñ·³¹ñáõÃÛáõÝ ³ñÓ³Ï»Éáõ Ù³ëÇÝ ¹ÇÙáõÙ | E5: ëï³óí»É ¿ ¹ÇÙáõÙ ÁÝÃ³óù ãï³Éáõ Ù³ëÇÝ | F5: Ø»ñÅí»É ¿ | G5: Ø»ñÅí»É ¿ Ù³ëáí | H5: âÇ ³ñÓ³Ïí»É Ñ³ßí»ïáõ Å³Ù³Ý³Ï³ßñç³ÝáõÙ | I5: ²ñÓ³Ïí»É ¿ í×³ñÙ³Ý Ï³ñ·³¹ñáõÃÛáõÝ | J5: êï³óí»É ¿ ³é³ñÏáõÃÛáõÝ | K5: êï³ó»É ¿ ûñÇÝ³Ï³Ý áõÅ | L5: ÂáÕÝí»É ¿ ³ÝÑ»ï¨³Ýù ¨ ûñÇÝ³Ï³Ý áõÅÇ Ù»ç Ùï³Í í×éÇ Ñ»ï¨³Ýù ãÇ ³é³ç³óñ»É | M5: Ð³ßí»ïáõ Å³Ù³Ý³Ï³ßñç³ÝÇ í»ñçáõÙ ³Ý³í³ñï í³ñáõÛÃÝ»ñÇ ÙÝ³óáñ¹Á
C6: 1 | D6: 2 | E6: 3 | F6: 4 | G6: 5 | H6: 6 | I6: 7 | J6: 8 | K6: 9 | L6: 10 | M6: 11 | N6: 1+2=3+4+5+6+7 | P6: 7=8+9+10+11
A7: 1 | B7: Ա. Սիսակյան | C7: 6 | D7: 853 | H7: 2 | I7: 857 | J7: 62 | K7: 367 | L7: 211 | M7: 217 | N7: =C7+D7 -> 859 | O7: =E7+F7+G7+H7+I7 -> 859 | P7: =I7 -> 857 | Q7: =J7+K7+L7+M7 -> 857
A8: 2 | B8: Տ.Փոլադյան | C8: 93 | D8: 1192 | F8: 5 | H8: 93 | I8: 1187 | J8: 7 | K8: 620 | L8: 446 | M8: 114 | N8: =C8+D8 -> 1285 | O8: =E8+F8+G8+H8+I8 -> 1285 | P8: =I8 -> 1187 | Q8: =J8+K8+L8+M8 -> 1187
A9: 3 | B9: Ա.Արզումանյան | D9: 430 | F9: 188 | H9: 7 | I9: 235 | J9: 15 | K9: 71 | L9: 40 | M9: 109 | N9: =C9+D9 -> 430 | O9: =E9+F9+G9+H9+I9 -> 430 | P9: =I9 -> 235 | Q9: =J9+K9+L9+M9 -> 235
A10: 4 | B10: Ն. Գալստյան | C10: 139 | D10: 1455 | F10: 1 | I10: 1593 | J10: 137 | K10: 688 | L10: 505 | M10: 263 | N10: =C10+D10 -> 1594 | O10: =E10+F10+G10+H10+I10 -> 1594 | P10: =I10 -> 1593 | Q10: =J10+K10+L10+M10 -> 1593
A11: 5 | B11: Գ. Հեբոյան | D11: 1224 | F11: 15 | G11: 1 | H11: 0 | I11: 1208 | J11: 78 | K11: 630 | L11: 150 | M11: 350 | N11: =C11+D11 -> 1224 | O11: =E11+F11+G11+H11+I11 -> 1224 | P11: =I11 -> 1208 | Q11: =J11+K11+L11+M11 -> 1208
A12: 6 | B12: Էդ.Սեդրակյան | C12: 390 | D12: 248 | F12: 4 | I12: 634 | J12: 60 | K12: 312 | L12: 262 | N12: =C12+D12 -> 638 | O12: =E12+F12+G12+H12+I12 -> 638 | P12: =I12 -> 634 | Q12: =J12+K12+L12+M12 -> 634
A13: 7 | B13: Ա.Խաչիկյան | D13: 633 | F13: 22 | I13: 611 | J13: 50 | K13: 324 | L13: 203 | M13: 34 | N13: =C13+D13 -> 633 | O13: =E13+F13+G13+H13+I13 -> 633 | P13: =I13 -> 611 | Q13: =J13+K13+L13+M13 -> 611
A14: 8 | N14: =C14+D14 -> 0 | O14: =E14+F14+G14+H14+I14 -> 0 | P14: =I14 -> 0 | Q14: =J14+K14+L14+M14 -> 0
A15: 9 | N15: =C15+D15 -> 0 | O15: =E15+F15+G15+H15+I15 -> 0 | P15: =I15 -> 0 | Q15: =J15+K15+L15+M15 -> 0
A16: 10 | N16: =C16+D16 -> 0 | O16: =E16+F16+G16+H16+I16 -> 0 | P16: =I16 -> 0 | Q16: =J16+K16+L16+M16 -> 0
A17: 11 | N17: =C17+D17 -> 0 | O17: =E17+F17+G17+H17+I17 -> 0 | P17: =I17 -> 0 | Q17: =J17+K17+L17+M17 -> 0
A18: 12 | N18: =C18+D18 -> 0 | O18: =E18+F18+G18+H18+I18 -> 0 | P18: =I18 -> 0 | Q18: =J18+K18+L18+M18 -> 0
B19: ÁÝ¹³Ù»ÝÁ | C19: =SUM(C7:C18) -> 628 | D19: =SUM(D7:D18) -> 6035 | E19: =SUM(E7:E18) -> 0 | F19: =SUM(F7:F18) -> 235 | G19: =SUM(G7:G18) -> 1 | H19: =SUM(H7:H18) -> 102 | I19: =SUM(I7:I18) -> 6325 | J19: =SUM(J7:J18) -> 409 | ... M19: =SUM(M7:M18) -> 1087 | N19: =C19+D19 -> 6663 | O19: =E19+F19+G19+H19+I19 -> 6663 | P19: =I19 -> 6325 | Q19: =J19+K19+L19+M19 -> 6325

Sheet Syuniq
B1: Ð²ÞìºîìàôÂÚàôÜ
B2: ÐÐ êÛáõÝÇùÇ Ù³ñ½Ç ÁÝ¹Ñ³Ýáõñ Çñ³í³ëáõÃÛ³Ý ¹³ï³ñ³ÝÇ ÏáÕÙÇó í×³ñÙ³Ý Ï³ñ·³¹ñáõÃÛáõÝ ³ñÓ³Ï»Éáõ í³ñáõÛÃÝ»ñÇ ÁÝÃ³óùÇ Ù³ëÇÝ
B3: 2016Ã.
A4: êïáõ·Çã Ñ³í³ë³ñáõÙ` 1+2=3+4+5+6+7, 7=8+9+10+11
A5: Ð/Ñ | B5: ¸³ï³íáñÇ ³ÝáõÝ, ³½·³ÝáõÝ | C5: Ð³ßí»ïáõ Å³Ù³Ý³Ï³ßñç³ÝÇ ëÏ½µáõÙ ³Ý³í³ñï í³ñáõÛÃÝ»ñÇ ÙÝ³óáñ¹Á | D5: êï³óí»É ¿ í×³ñÙ³Ý Ï³ñ·³¹ñáõÃÛáõÝ ³ñÓ³Ï»Éáõ Ù³ëÇÝ ¹ÇÙáõÙ | E5: ëï³óí»É ¿ ¹ÇÙáõÙ ÁÝÃ³óù ãï³Éáõ Ù³ëÇÝ | F5: Ø»ñÅí»É ¿ | G5: Ø»ñÅí»É ¿ Ù³ëáí | H5: âÇ ³ñÓ³Ïí»É Ñ³ßí»ïáõ Å³Ù³Ý³Ï³ßñç³ÝáõÙ | I5: ²ñÓ³Ïí»É ¿ í×³ñÙ³Ý Ï³ñ·³¹ñáõÃÛáõÝ | J5: êï³óí»É ¿ ³é³ñÏáõÃÛáõÝ | K5: êï³ó»É ¿ ûñÇÝ³Ï³Ý áõÅ | L5: ÂáÕÝí»É ¿ ³ÝÑ»ï¨³Ýù ¨ ûñÇÝ³Ï³Ý áõÅÇ Ù»ç Ùï³Í í×éÇ Ñ»ï¨³Ýù ãÇ ³é³ç³óñ»É | M5: Ð³ßí»ïáõ Å³Ù³Ý³Ï³ßñç³ÝÇ í»ñçáõÙ ³Ý³í³ñï í³ñáõÛÃÝ»ñÇ ÙÝ³óáñ¹Á
C6: 1 | D6: 2 | E6: 3 | F6: 4 | G6: 5 | H6: 6 | I6: 7 | J6: 8 | K6: 9 | L6: 10 | M6: 11 | N6: 1+2=3+4+5+6+7 | P6: 7=8+9+10+11
A7: 1 | B7: Ս.Գրիգորյան | C7: 0 | D7: 82 | E7: 0 | F7: 15 | G7: 15 | H7: 0 | I7: 52 | J7: 5 | K7: 38 | L7: 9 | M7: 0 | N7: =C7+D7 -> 82 | O7: =E7+F7+G7+H7+I7 -> 82 | P7: =I7 -> 52 | Q7: =J7+K7+L7+M7 -> 52
A8: 2 | B8: Ա.Թումանյան | C8: 185 | D8: 282 | E8: 0 | F8: 25 | G8: 152 | H8: 35 | I8: 255 | J8: 22 | K8: 166 | L8: 32 | M8: 35 | N8: =C8+D8 -> 467 | O8: =E8+F8+G8+H8+I8 -> 467 | P8: =I8 -> 255 | Q8: =J8+K8+L8+M8 -> 255
A9: 3 | B9: Մ.Հովակիմյան | C9: 26 | D9: 717 | E9: 0 | F9: 6 | G9: 86 | H9: 0 | I9: 651 | J9: 21 | K9: 272 | L9: 234 | M9: 124 | N9: =C9+D9 -> 743 | O9: =E9+F9+G9+H9+I9 -> 743 | P9: =I9 -> 651 | Q9: =J9+K9+L9+M9 -> 651
A10: 4 | B10: Ի.Բեգլարյան | C10: 317 | D10: 416 | E10: 0 | F10: 3 | G10: 48 | H10: 324 | I10: 358 | J10: 37 | K10: 279 | L10: 42 | M10: 0 | N10: =C10+D10 -> 733 | O10: =E10+F10+G10+H10+I10 -> 733 | P10: =I10 -> 358 | Q10: =J10+K10+L10+M10 -> 358
A11: 5 | B11: Ժ.Ասատրյան | C11: 114 | D11: 298 | E11: 0 | F11: 10 | G11: 5 | H11: 0 | I11: 397 | J11: 23 | K11: 268 | L11: 3 | M11: 103 | N11: =C11+D11 -> 412 | O11: =E11+F11+G11+H11+I11 -> 412 | P11: =I11 -> 397 | Q11: =J11+K11+L11+M11 -> 397
A12: 6 | N12: =C12+D12 -> 0 | O12: =E12+F12+G12+H12+I12 -> 0 | P12: =I12 -> 0 | Q12: =J12+K12+L12+M12 -> 0
A13: 7 | N13: =C13+D13 -> 0 | O13: =E13+F13+G13+H13+I13 -> 0 | P13: =I13 -> 0 | Q13: =J13+K13+L13+M13 -> 0
A14: 8 | N14: =C14+D14 -> 0 | O14: =E14+F14+G14+H14+I14 -> 0 | P14: =I14 -> 0 | Q14: =J14+K14+L14+M14 -> 0
A15: 9 | N15: =C15+D15 -> 0 | O15: =E15+F15+G15+H15+I15 -> 0 | P15: =I15 -> 0 | Q15: =J15+K15+L15+M15 -> 0
A16: 10 | N16: =C16+D16 -> 0 | O16: =E16+F16+G16+H16+I16 -> 0 | P16: =I16 -> 0 | Q16: =J16+K16+L16+M16 -> 0
A17: 11 | N17: =C17+D17 -> 0 | O17: =E17+F17+G17+H17+I17 -> 0 | P17: =I17 -> 0 | Q17: =J17+K17+L17+M17 -> 0
A18: 12 | N18: =C18+D18 -> 0 | O18: =E18+F18+G18+H18+I18 -> 0 | P18: =I18 -> 0 | Q18: =J18+K18+L18+M18 -> 0
B19: ÁÝ¹³Ù»ÝÁ | C19: =SUM(C7:C18) -> 642 | D19: =SUM(D7:D18) -> 1795 | E19: =SUM(E7:E18) -> 0 | F19: =SUM(F7:F18) -> 59 | G19: =SUM(G7:G18) -> 306 | H19: =SUM(H7:H18) -> 359 | I19: =SUM(I7:I18) -> 1713 | J19: =SUM(J7:J18) -> 108 | ... M19: =SUM(M7:M18) -> 262 | N19: =C19+D19 -> 2437 | O19: =E19+F19+G19+H19+I19 -> 2437 | P19: =I19 -> 1713 | Q19: =J19+K19+L19+M19 -> 1713

Sheet Armavir
B1: Ð²ÞìºîìàôÂÚàôÜ
B2: ÐÐ Արմավիրի մարզի ÁÝ¹Ñ³Ýáõñ Çñ³í³ëáõÃÛ³Ý ¹³ï³ñ³ÝÇ ÏáÕÙÇó í×³ñÙ³Ý Ï³ñ·³¹ñáõÃÛáõÝ ³ñÓ³Ï»Éáõ í³ñáõÛÃÝ»ñÇ ÁÝÃ³óùÇ Ù³ëÇÝ
B3: 2016Ã.
A4: êïáõ·Çã Ñ³í³ë³ñáõÙ` 1+2=3+4+5+6+7, 7=8+9+10+11
A5: Ð/Ñ | B5: ¸³ï³íáñÇ ³ÝáõÝ, ³½·³ÝáõÝ | C5: Ð³ßí»ïáõ Å³Ù³Ý³Ï³ßñç³ÝÇ ëÏ½µáõÙ ³Ý³í³ñï í³ñáõÛÃÝ»ñÇ ÙÝ³óáñ¹Á | D5: êï³óí»É ¿ í×³ñÙ³Ý Ï³ñ·³¹ñáõÃÛáõÝ ³ñÓ³Ï»Éáõ Ù³ëÇÝ ¹ÇÙáõÙ | E5: ëï³óí»É ¿ ¹ÇÙáõÙ ÁÝÃ³óù ãï³Éáõ Ù³ëÇÝ | F5: Ø»ñÅí»É ¿ | G5: Ø»ñÅí»É ¿ Ù³ëáí | H5: âÇ ³ñÓ³Ïí»É Ñ³ßí»ïáõ Å³Ù³Ý³Ï³ßñç³ÝáõÙ | I5: ²ñÓ³Ïí»É ¿ í×³ñÙ³Ý Ï³ñ·³¹ñáõÃÛáõÝ | J5: êï³óí»É ¿ ³é³ñÏáõÃÛáõÝ | K5: êï³ó»É ¿ ûñÇÝ³Ï³Ý áõÅ | L5: ÂáÕÝí»É ¿ ³ÝÑ»ï¨³Ýù ¨ ûñÇÝ³Ï³Ý áõÅÇ Ù»ç Ùï³Í í×éÇ Ñ»ï¨³Ýù ãÇ ³é³ç³óñ»É | M5: Ð³ßí»ïáõ Å³Ù³Ý³Ï³ßñç³ÝÇ í»ñçáõÙ ³Ý³í³ñï í³ñáõÛÃÝ»ñÇ ÙÝ³óáñ¹Á
C6: 1 | D6: 2 | E6: 3 | F6: 4 | G6: 5 | H6: 6 | I6: 7 | J6: 8 | K6: 9 | L6: 10 | M6: 11 | N6: 1+2=3+4+5+6+7 | P6: 7=8+9+10+11
A7: 1 | B7: Սիմոնյան Մանվել | D7: 862 | F7: 53 | I7: 809 | J7: 32 | K7: 429 | L7: 171 | M7: 177 | N7: =C7+D7 -> 862 | O7: =E7+F7+G7+H7+I7 -> 862 | P7: =I7 -> 809 | Q7: =J7+K7+L7+M7 -> 809
A8: 2 | B8: Ֆիդանյան Գոհար | D8: 767 | F8: 60 | G8: 49 | I8: 658 | J8: 19 | K8: 411 | L8: 156 | M8: 72 | N8: =C8+D8 -> 767 | O8: =E8+F8+G8+H8+I8 -> 767 | P8: =I8 -> 658 | Q8: =J8+K8+L8+M8 -> 658
A9: 3 | B9: Հովհաննիսյան Էդգար | D9: 785 | F9: 25 | I9: 760 | J9: 50 | K9: 465 | L9: 179 | M9: 66 | N9: =C9+D9 -> 785 | O9: =E9+F9+G9+H9+I9 -> 785 | P9: =I9 -> 760 | Q9: =J9+K9+L9+M9 -> 760
A10: 4 | B10: Մելքոնյան Հովհաննես | D10: 1480 | F10: 19 | G10: 265 | I10: 1196 | J10: 54 | K10: 760 | L10: 357 | M10: 25 | N10: =C10+D10 -> 1480 | O10: =E10+F10+G10+H10+I10 -> 1480 | P10: =I10 -> 1196 | Q10: =J10+K10+L10+M10 -> 1196
A11: 5 | B11: Գրիգորյան Նաիրա | D11: 675 | G11: 72 | I11: 603 | J11: 48 | K11: 424 | L11: 26 | M11: 105 | N11: =C11+D10 -> 1480 | O11: =E10+F10+G10+H10+I10 -> 1480 | P11: =I11 -> 603 | Q11: =J11+K11+L11+M11 -> 603
A12: 6 | N12: =C12+D12 -> 0 | O12: =E12+F12+G12+H12+I12 -> 0 | P12: =I12 -> 0 | Q12: =J12+K12+L12+M12 -> 0
A13: 7 | N13: =C13+D13 -> 0 | O13: =E13+F13+G13+H13+I13 -> 0 | P13: =I13 -> 0 | Q13: =J13+K13+L13+M13 -> 0
A14: 8 | N14: =C14+D14 -> 0 | O14: =E14+F14+G14+H14+I14 -> 0 | P14: =I14 -> 0 | Q14: =J14+K14+L14+M14 -> 0
A15: 9 | N15: =C15+D15 -> 0 | O15: =E15+F15+G15+H15+I15 -> 0 | P15: =I15 -> 0 | Q15: =J15+K15+L15+M15 -> 0
A16: 10 | N16: =C16+D16 -> 0 | O16: =E16+F16+G16+H16+I16 -> 0 | P16: =I16 -> 0 | Q16: =J16+K16+L16+M16 -> 0
A17: 11 | N17: =C17+D17 -> 0 | O17: =E17+F17+G17+H17+I17 -> 0 | P17: =I17 -> 0 | Q17: =J17+K17+L17+M17 -> 0
A18: 12 | N18: =C18+D18 -> 0 | O18: =E18+F18+G18+H18+I18 -> 0 | P18: =I18 -> 0 | Q18: =J18+K18+L18+M18 -> 0
B19: ÁÝ¹³Ù»ÝÁ | C19: =SUM(C7:C18) -> 0 | D19: =SUM(D7:D18) -> 4569 | E19: =SUM(E7:E18) -> 0 | F19: =SUM(F7:F18) -> 157 | G19: =SUM(G7:G18) -> 386 | H19: =SUM(H7:H18) -> 0 | I19: =SUM(I7:I18) -> 4026 | J19: =SUM(J7:J18) -> 203 | ... M19: =SUM(M7:M18) -> 445 | N19: =C19+D19 -> 4569 | O19: =E19+F19+G19+H19+I19 -> 4569 | P19: =I19 -> 4026 | Q19: =J19+K19+L19+M19 -> 4026

Sheet Tavush
B1: Ð²ÞìºîìàôÂÚàôÜ
B2: ÐÐ Տավուշի մարզի ÁÝ¹Ñ³Ýáõñ Çñ³í³ëáõÃÛ³Ý ¹³ï³ñ³ÝÇ ÏáÕÙÇó í×³ñÙ³Ý Ï³ñ·³¹ñáõÃÛáõÝ ³ñÓ³Ï»Éáõ í³ñáõÛÃÝ»ñÇ ÁÝÃ³óùÇ Ù³ëÇÝ
B3: 2016Ã.
A4: êïáõ·Çã Ñ³í³ë³ñáõÙ` 1+2=3+4+5+6+7, 7=8+9+10+11
A5: Ð/Ñ | B5: ¸³ï³íáñÇ ³ÝáõÝ, ³½·³ÝáõÝ | C5: Ð³ßí»ïáõ Å³Ù³Ý³Ï³ßñç³ÝÇ ëÏ½µáõÙ ³Ý³í³ñï í³ñáõÛÃÝ»ñÇ ÙÝ³óáñ¹Á | D5: êï³óí»É ¿ í×³ñÙ³Ý Ï³ñ·³¹ñáõÃÛáõÝ ³ñÓ³Ï»Éáõ Ù³ëÇÝ ¹ÇÙáõÙ | E5: ëï³óí»É ¿ ¹ÇÙáõÙ ÁÝÃ³óù ãï³Éáõ Ù³ëÇÝ | F5: Ø»ñÅí»É ¿ | G5: Ø»ñÅí»É ¿ Ù³ëáí | H5: âÇ ³ñÓ³Ïí»É Ñ³ßí»ïáõ Å³Ù³Ý³Ï³ßñç³ÝáõÙ | I5: ²ñÓ³Ïí»É ¿ í×³ñÙ³Ý Ï³ñ·³¹ñáõÃÛáõÝ | J5: êï³óí»É ¿ ³é³ñÏáõÃÛáõÝ | K5: êï³ó»É ¿ ûñÇÝ³Ï³Ý áõÅ | L5: ÂáÕÝí»É ¿ ³ÝÑ»ï¨³Ýù ¨ ûñÇÝ³Ï³Ý áõÅÇ Ù»ç Ùï³Í í×éÇ Ñ»ï¨³Ýù ãÇ ³é³ç³óñ»É | M5: Ð³ßí»ïáõ Å³Ù³Ý³Ï³ßñç³ÝÇ í»ñçáõÙ ³Ý³í³ñï í³ñáõÛÃÝ»ñÇ ÙÝ³óáñ¹Á
C6: 1 | D6: 2 | E6: 3 | F6: 4 | G6: 5 | H6: 6 | I6: 7 | J6: 8 | K6: 9 | L6: 10 | M6: 11 | N6: 1+2=3+4+5+6+7 | P6: 7=8+9+10+11
A7: 1 | B7: Ա.Կուրեխյան | C7: 18 | D7: 940 | E7: 1 | F7: 34 | G7: 132 | H7: 78 | I7: 713 | J7: 135 | K7: 311 | L7: 267 | N7: =C7+D7 -> 958 | O7: =E7+F7+G7+H7+I7 -> 958 | P7: =I7 -> 713 | Q7: =J7+K7+L7+M7 -> 713
A8: 2 | B8: Ա.Խաչիկյան | C8: 5 | D8: 6 | I8: 11 | K8: 9 | L8: 2 | N8: =C8+D8 -> 11 | O8: =E8+F8+G8+H8+I8 -> 11 | P8: =I8 -> 11 | Q8: =J8+K8+L8+M8 -> 11
A9: 3 | B9: Ս.Իսկանդարյան | D9: 244 | F9: 16 | G9: 9 | I9: 219 | J9: 21 | K9: 117 | L9: 81 | N9: =C9+D9 -> 244 | O9: =E9+F9+G9+H9+I9 -> 244 | P9: =I9 -> 219 | Q9: =J9+K9+L9+M9 -> 219
A10: 4 | B10: Ա.Օհանյան | D10: 369 | F10: 46 | G10: 53 | H10: 1 | I10: 269 | J10: 7 | K10: 96 | L10: 166 | N10: =C10+D10 -> 369 | O10: =E10+F10+G10+H10+I10 -> 369 | P10: =I10 -> 269 | Q10: =J10+K10+L10+M10 -> 269
A11: 5 | N11: =C11+D11 -> 0 | O11: =E11+F11+G11+H11+I11 -> 0 | P11: =I11 -> 0 | Q11: =J11+K11+L11+M11 -> 0
A12: 6 | N12: =C12+D12 -> 0 | O12: =E12+F12+G12+H12+I12 -> 0 | P12: =I12 -> 0 | Q12: =J12+K12+L12+M12 -> 0
A13: 7 | N13: =C13+D13 -> 0 | O13: =E13+F13+G13+H13+I13 -> 0 | P13: =I13 -> 0 | Q13: =J13+K13+L13+M13 -> 0
A14: 8 | N14: =C14+D14 -> 0 | O14: =E14+F14+G14+H14+I14 -> 0 | P14: =I14 -> 0 | Q14: =J14+K14+L14+M14 -> 0
A15: 9 | N15: =C15+D15 -> 0 | O15: =E15+F15+G15+H15+I15 -> 0 | P15: =I15 -> 0 | Q15: =J15+K15+L15+M15 -> 0
A16: 10 | N16: =C16+D16 -> 0 | O16: =E16+F16+G16+H16+I16 -> 0 | P16: =I16 -> 0 | Q16: =J16+K16+L16+M16 -> 0
A17: 11 | N17: =C17+D17 -> 0 | O17: =E17+F17+G17+H17+I17 -> 0 | P17: =I17 -> 0 | Q17: =J17+K17+L17+M17 -> 0
A18: 12 | N18: =C18+D18 -> 0 | O18: =E18+F18+G18+H18+I18 -> 0 | P18: =I18 -> 0 | Q18: =J18+K18+L18+M18 -> 0
B19: ÁÝ¹³Ù»ÝÁ | C19: =SUM(C7:C18) -> 23 | D19: =SUM(D7:D18) -> 1559 | E19: =SUM(E7:E18) -> 1 | F19: =SUM(F7:F18) -> 96 | G19: =SUM(G7:G18) -> 194 | H19: =SUM(H7:H18) -> 79 | I19: =SUM(I7:I18) -> 1212 | J19: =SUM(J7:J18) -> 163 | ... M19: =SUM(M7:M18) -> 0 | N19: =C19+D19 -> 1582 | O19: =E19+F19+G19+H19+I19 -> 1582 | P19: =I19 -> 1212 | Q19: =J19+K19+L19+M19 -> 1212
