Workbook

Sheet Ընդհանուր
A1: 2017Ã. 1-ին ÏÇë³ÙÛ³Ï | E1: Ð²ÞìºîìàôÂÚàôÜ | AC1: Ð³í»Éí³Í Ð³Û³ëï³ÝÇ Ð³Ýñ³å»ïáõÃÛ³Ý ¸³ï³ñ³ÝÝ»ñÇ Ý³Ë³·³ÑÝ»ñÇ ËáñÑñ¹Ç 25.08.2017Ã. ÃÇí 35-È áñáßÙ³Ý
A2: ÐÐ ÀÜ¸Ð²Üàôð Æð²ì²êàôÂÚ²Ü ²è²æÆÜ ²îÚ²ÜÆ ¸²î²ð²ÜÜºðàôØ ø²Ô²ø²òÆ²Î²Ü ¶àðÌºðÆ øÜÜàôÂÚ²Ü ìºð²´ºðÚ²È
E4: Ð³ßí»ïáõ Å³Ù³Ý³Ï³Ñ³ïí³ÍáõÙ Ý³Ëáñ¹ Ñ³ßí»ïáõ Å³Ù³Ý³Ï³Ñ³ïí³ÍÇó ÷áË³Ýóí³Í ·áñÍ»ñÇ ÁÝ¹Ñ³Ýáõñ ÃÇíÁ | J4: Ð³ßí»ïáõ Å³Ù³Ý³Ï³Ñ³ïí³ÍáõÙëï³óí³Í ·áñÍ»ñÇ (³Û¹ ÃíáõÙ` Ñ³Ûó³¹ÇÙáõÙÝ»ñÇ, ¹ÇÙáõÙÝ»ñÇ) ÁÝ¹Ñ³Ýáõñ ÃÇíÁ | N4: Ð³ßí»ïáõ Å³Ù³Ý³Ï³Ñ³ïí³ÍáõÙ ³í³ñïí³Í ·áñÍ»ñÇ ÁÝ¹Ñ³Ýáõñ ÃÇíÁ | Y4: ¶áñÍÝ áõÕ³ñÏí»É ¿ Áëï ÁÝ¹¹³ïáõÃÛ³Ý | Z4: Ð³ßí»ïáõ Å³Ù³Ý³Ï³Ñ³ïí³ÍáõÙ Ï³ë»óí³Í í³ñáõÛÃÝ»ñáí ·áñÍ»ñÇ ÁÝ¹Ñ³Ýáõñ ÃÇíÁ | AA4: Ð³ßí»ïáõ Å³Ù³Ý³Ï³Ñ³ïí³ÍáõÙ ³Ý³í³ñï ·áñÍ»ñÇ ÁÝ¹Ñ³Ýáõñ ÃÇíÁ | AB4: ²Û¹ ÃíáõÙª Ï³ë»óí³Í | AC4: ´áÕáù³ñÏí³Í ¹³ï³Ï³Ý ³Ïï»ñÇ ÃÇíÁ` Áëï ï»ë³ÏÝ»ñÇ | AF4: ´»Ï³Ýí³Í ¹³ï³Ï³Ý ³Ïï»ñÇ ÃÇíÁ` Áëï ï»ë³ÏÝ»ñÇ
E7: ÀÝ¹³Ù»ÝÁ | F7: ²Û¹ ÃíáõÙ`Ï³ë»óí³Í íÇ×³ÏáõÙ ÷áË³Ýóí³Í | G7: ²Û¹ ÃíáõÙª ÁÝ¹áõÝí»É ¿ í³ñáõÛÃ | H7: ²Û¹ ÃíáõÙª í»ñ³¹³ñÓí»É ¿ | I7: ²Û¹ ÃíáõÙª ÁÝ¹áõÝáõÙÁ Ù»ñÅí»É ¿ | J7: ÀÝ¹³Ù»ÝÁ | K7: ²Û¹ ÃíáõÙª ÁÝ¹áõÝí»É ¿ í³ñáõÛÃ | L7: ²Û¹ ÃíáõÙª í»ñ³¹³ñÓí»É ¿ | M7: ²Û¹ ÃíáõÙª ÁÝ¹áõÝáõÙÁ Ù»ñÅí»É ¿ | N7: ÀÝ¹³Ù»ÝÁ ³í³ñïí»É »Ý ·áñÍ»ñ ·áñÍÝ Áëï ¿áõÃÛ³Ý ÉáõÍáÕ ¹³ï³Ï³Ý ³Ïï»ñÇ (í×ÇéÝ»ñÇ) Ï³Û³óÙ³Ùµ | O7: ²Û¹ ÃíáõÙª Ñ³ÛóÇ µ³í³ñ³ñÙ³Ùµ | P7: ²Û¹ ÃíáõÙª Ñ³ÛóÇ Ù³ëÝ³ÏÇ µ³í³ñ³ñÙ³Ùµ | Q7: ²Û¹ ÃíáõÙª Ñ³ÛóÇ Ù»ñÅÙ³Ùµ | R7: Ø³ëáí Ï³ñ×í»É ¿, Ù³ëáí Ù»ñÅí»É | S7: ²Û¹ ÃíáõÙª Ï³ñ×í»É »Ý | W7: Ð³ÛóÁ ÃáÕÝí»É ¿ ³é³Ýó ùÝÝáõÃÛ³Ý | X7: ÀÝ¹³Ù»ÝÝ ³í³ñïí»É »Ý ·áñÍ»ñ | AC7: ²Û¹ ÃíáõÙ` ·áñÍÝ Áëï ¿áõÃÛ³Ý ÉáõÍáÕ ¹³ï³Ï³Ý ³Ïï»ñ | AD7: ²Û¹ ÃíáõÙ` ÙÇç³ÝÏÛ³É ¹³ï³Ï³Ý ³Ïï»ñ | AE7: ÀÝ¹³Ù»ÝÁ | AF7: ²Û¹ ÃíáõÙ` ·áñÍÝ Áëï ¿áõÃÛ³Ý ÉáõÍáÕ ¹³ï³Ï³Ý ³Ïï»ñ | AG7: ²Û¹ ÃíáõÙ` ÙÇç³ÝÏÛ³É ¹³ï³Ï³Ý ³Ïï»ñ | AH7: ÀÝ¹³Ù»ÝÁ
S10: ÀÝ¹³Ù»ÝÁ Ï³ñ×í»É »Ý | T10: ²Û¹ ÃíáõÙª Ñ³ëï³ïí»É ¿ ÏÝùí³Í Ñ³ßïáõÃÛ³Ý Ñ³Ù³Ó³ÛÝáõÃÛáõÝÁ | U10: ²Û¹ ÃíáõÙª Ñ³óÇó, ¹ÇÙáõÙÇó Ññ³Å³ñí»Éáõ ÑÇÙùáí | V10: ²Û¹ ÃíáõÙª ³ÛÉ ÑÇÙùáí
A18: ø³Õ³ù³óÇ³Ï³Ý ·áñÍ»ñÇ ¹³ë³Ï³ñ·áõÙÁ | E18: 1 | F18: 2 | G18: 3 | H18: 4 | I18: 5 | J18: 6 | K18: 7 | L18: 8 | M18: 9 | N18: 10 | O18: 11 | P18: 12 | Q18: 13 | R18: 14 | S18: 15 | T18: 16 | U18: 17 | V18: 18 | W18: 19 | X18: 20 | Y18: 21 | Z18: 22 | AA18: 23 | AB18: 24 | AC18: 25 | AD18: 26 | AE18: 27 | AF18: 28 | AG18: 29 | AH18: 30 | AJ18: 1=2+3+4+5 | AL18: 6=7+8+9 | AN18: 2+3+7=20+21+23 | AP18: 10=11+12+13+14+15 | AR18: 15=16+17+18 | AT18: 20=10+19 | AV18: 27=25+26 | AX18: 30=28+29
A19: 1. | B19: ¶áõÛù³ÛÇÝ Çñ³í³Ñ³ñ³µ»ñáõÃÛáõÝÝ»ñÇ í»ñ³µ»ñÛ³É ¹³ï³Ï³Ý ·áñÍ»ñ | E19: =SUM(Աջափնյակ:Սյունիք!E19) -> 4090 | F19: =SUM(Աջափնյակ:Սյունիք!F19) -> 1371 | G19: =SUM(Աջափնյակ:Սյունիք!G19) -> 2718 | H19: =SUM(Աջափնյակ:Սյունիք!H19) -> 0 | I19: =SUM(Աջափնյակ:Սյունիք!I19) -> 0 | J19: =SUM(Աջափնյակ:Սյունիք!J19) -> 2122 | K19: =SUM(Աջափնյակ:Սյունիք!K19) -> 1778 | L19: =SUM(Աջափնյակ:Սյունիք!L19) -> 311 | ... AH19: =SUM(Աջափնյակ:Սյունիք!AH19) -> 27 | AJ19: =SUM(AJ20:AJ38) -> 4090 | AK19: =SUM(AK20:AK38) -> 4089 | AL19: =SUM(AL20:AL38) -> 2122 | AM19: =SUM(AM20:AM38) -> 2114 | AN19: =SUM(AN20:AN38) -> 5867 | AO19: =SUM(AO20:AO38) -> 5865 | AP19: =SUM(AP20:AP38) -> 1127 | AQ19: =SUM(AQ20:AQ38) -> 1127 | ... AY19: =SUM(AY20:AY38) -> 27
A20: 1.1 | B20: ¶áõÛùÇ ÝÏ³ïÙ³Ùµ ë»÷³Ï³ÝáõÃÛ³Ý Çñ³íáõÝùÁ ×³Ý³ã»Éáõ í»ñ³µ»ñÛ³É | E20: =SUM(Աջափնյակ:Սյունիք!E20) -> 341 | F20: =SUM(Աջափնյակ:Սյունիք!F20) -> 59 | G20: =SUM(Աջափնյակ:Սյունիք!G20) -> 282 | H20: =SUM(Աջափնյակ:Սյունիք!H20) -> 0 | I20: =SUM(Աջափնյակ:Սյունիք!I20) -> 0 | J20: =SUM(Աջափնյակ:Սյունիք!J20) -> 176 | K20: =SUM(Աջափնյակ:Սյունիք!K20) -> 133 | L20: =SUM(Աջափնյակ:Սյունիք!L20) -> 34 | ... AH20: =SUM(Աջափնյակ:Սյունիք!AH20) -> 3 | AJ20: =E20 -> 341 | AK20: =F20+G20+H20+I20 -> 341 | AL20: =J20 -> 176 | AM20: =K20+L20+M20 -> 176 | AN20: =F20+G20+K20 -> 474 | AO20: =X20+Y20+AA20 -> 473 | AP20: =N20 -> 143 | AQ20: =O20+P20+Q20+R20+S20 -> 143 | AR20: =S20 -> 37 | AS20: =T20+U20+V20 -> 37 | AT20: =X20 -> 144 | AU20: =N20+W20 -> 144 | AV20: =AE20 -> 46 | AW20: =AC20+AD20 -> 46 | AX20: =AH20 -> 3 | AY20: =AF20+AG20 -> 3
A21: 1.1.1 | B21: ²Û¹ ÃíáõÙª Ó»éùµ»ñÙ³Ý í³Õ»ÙáõÃÛ³Ý áõÅáí | E21: =SUM(Աջափնյակ:Սյունիք!E21) -> 245 | F21: =SUM(Աջափնյակ:Սյունիք!F21) -> 34 | G21: =SUM(Աջափնյակ:Սյունիք!G21) -> 211 | H21: =SUM(Աջափնյակ:Սյունիք!H21) -> 0 | I21: =SUM(Աջափնյակ:Սյունիք!I21) -> 0 | J21: =SUM(Աջափնյակ:Սյունիք!J21) -> 138 | K21: =SUM(Աջափնյակ:Սյունիք!K21) -> 113 | L21: =SUM(Աջափնյակ:Սյունիք!L21) -> 19 | ... AH21: =SUM(Աջափնյակ:Սյունիք!AH21) -> 2 | AJ21: =E21 -> 245 | AK21: =F21+G21+H21+I21 -> 245 | AL21: =J21 -> 138 | AM21: =K21+L21+M21 -> 138 | AN21: =F21+G21+K21 -> 358 | AO21: =X21+Y21+AA21 -> 358 | AP21: =N21 -> 130 | AQ21: =O21+P21+Q21+R21+S21 -> 130 | AR21: =S21 -> 23 | AS21: =T21+U21+V21 -> 23 | AT21: =X21 -> 130 | AU21: =N21+W21 -> 130 | AV21: =AE21 -> 22 | AW21: =AC21+AD21 -> 22 | AX21: =AH21 -> 2 | AY21: =AF21+AG21 -> 2
A22: 1.1.2 | B22: ²Û¹ ÃíáõÙª ïÇñ³½áõñÏ ·áõÛùÇ ÝÏ³ïÙ³Ùµ | E22: =SUM(Աջափնյակ:Սյունիք!E22) -> 13 | F22: =SUM(Աջափնյակ:Սյունիք!F22) -> 1 | G22: =SUM(Աջափնյակ:Սյունիք!G22) -> 12 | H22: =SUM(Աջափնյակ:Սյունիք!H22) -> 0 | I22: =SUM(Աջափնյակ:Սյունիք!I22) -> 0 | J22: =SUM(Աջափնյակ:Սյունիք!J22) -> 17 | K22: =SUM(Աջափնյակ:Սյունիք!K22) -> 16 | L22: =SUM(Աջափնյակ:Սյունիք!L22) -> 1 | ... AH22: =SUM(Աջափնյակ:Սյունիք!AH22) -> 0 | AJ22: =E22 -> 13 | AK22: =F22+G22+H22+I22 -> 13 | AL22: =J22 -> 17 | AM22: =K22+L22+M22 -> 17 | AN22: =F22+G22+K22 -> 29 | AO22: =X22+Y22+AA22 -> 29 | AP22: =N22 -> 13 | AQ22: =O22+P22+Q22+R22+S22 -> 13 | AR22: =S22 -> 4 | AS22: =T22+U22+V22 -> 4 | AT22: =X22 -> 13 | AU22: =N22+W22 -> 13 | AV22: =AE22 -> 0 | AW22: =AC22+AD22 -> 0 | AX22: =AH22 -> 0 | AY22: =AF22+AG22 -> 0
A23: 1.1.3 | B23: ²Û¹ ÃíáõÙª ÇÝùÝ³Ï³Ù Ï³éáõÛóÇ ÝÏ³ïÙ³Ùµ | E23: =SUM(Աջափնյակ:Սյունիք!E23) -> 2 | F23: =SUM(Աջափնյակ:Սյունիք!F23) -> 1 | G23: =SUM(Աջափնյակ:Սյունիք!G23) -> 1 | H23: =SUM(Աջափնյակ:Սյունիք!H23) -> 0 | I23: =SUM(Աջափնյակ:Սյունիք!I23) -> 0 | J23: =SUM(Աջափնյակ:Սյունիք!J23) -> 2 | K23: =SUM(Աջափնյակ:Սյունիք!K23) -> 2 | L23: =SUM(Աջափնյակ:Սյունիք!L23) -> 0 | ... AH23: =SUM(Աջափնյակ:Սյունիք!AH23) -> 0 | AJ23: =E23 -> 2 | AK23: =F23+G23+H23+I23 -> 2 | AL23: =J23 -> 2 | AM23: =K23+L23+M23 -> 2 | AN23: =F23+G23+K23 -> 4 | AO23: =X23+Y23+AA23 -> 4 | AP23: =N23 -> 0 | AQ23: =O23+P23+Q23+R23+S23 -> 0 | AR23: =S23 -> 0 | AS23: =T23+U23+V23 -> 0 | AT23: =X23 -> 0 | AU23: =N23+W23 -> 0 | AV23: =AE23 -> 0 | AW23: =AC23+AD23 -> 0 | AX23: =AH23 -> 0 | AY23: =AF23+AG23 -> 0
A24: 1.2 | B24: ê»÷³Ï³ÝáõÃÛ³Ý Çñ³íáõÝùÇ ¹³¹³ñ»óÙ³Ý í»ñ³µ»ñÛ³É | E24: =SUM(Աջափնյակ:Սյունիք!E24) -> 47 | F24: =SUM(Աջափնյակ:Սյունիք!F24) -> 7 | G24: =SUM(Աջափնյակ:Սյունիք!G24) -> 40 | H24: =SUM(Աջափնյակ:Սյունիք!H24) -> 0 | I24: =SUM(Աջափնյակ:Սյունիք!I24) -> 0 | J24: =SUM(Աջափնյակ:Սյունիք!J24) -> 15 | K24: =SUM(Աջափնյակ:Սյունիք!K24) -> 13 | L24: =SUM(Աջափնյակ:Սյունիք!L24) -> 2 | ... AH24: =SUM(Աջափնյակ:Սյունիք!AH24) -> 0 | AJ24: =E24 -> 47 | AK24: =F24+G24+H24+I24 -> 47 | AL24: =J24 -> 15 | AM24: =K24+L24+M24 -> 15 | AN24: =F24+G24+K24 -> 60 | AO24: =X24+Y24+AA24 -> 60 | AP24: =N24 -> 14 | AQ24: =O24+P24+Q24+R24+S24 -> 14 | AR24: =S24 -> 4 | AS24: =T24+U24+V24 -> 4 | AT24: =X24 -> 14 | AU24: =N24+W24 -> 14 | AV24: =AE24 -> 6 | AW24: =AC24+AD24 -> 6 | AX24: =AH24 -> 0 | AY24: =AF24+AG24 -> 0
A25: 1.3 | B25: ¶áõÛùÇ ÝÏ³ïÙ³Ùµ û·ï³·áñÍÙ³Ý Çñ³íáõÝùÁ ×³Ý³ã»Éáõ í»ñ³µ»ñÛ³É | E25: =SUM(Աջափնյակ:Սյունիք!E25) -> 9 | F25: =SUM(Աջափնյակ:Սյունիք!F25) -> 3 | G25: =SUM(Աջափնյակ:Սյունիք!G25) -> 6 | H25: =SUM(Աջափնյակ:Սյունիք!H25) -> 0 | I25: =SUM(Աջափնյակ:Սյունիք!I25) -> 0 | J25: =SUM(Աջափնյակ:Սյունիք!J25) -> 3 | K25: =SUM(Աջափնյակ:Սյունիք!K25) -> 3 | L25: =SUM(Աջափնյակ:Սյունիք!L25) -> 0 | ... AH25: =SUM(Աջափնյակ:Սյունիք!AH25) -> 0 | AJ25: =E25 -> 9 | AK25: =F25+G25+H25+I25 -> 9 | AL25: =J25 -> 3 | AM25: =K25+L25+M25 -> 3 | AN25: =F25+G25+K25 -> 12 | AO25: =X25+Y25+AA25 -> 12 | AP25: =N25 -> 2 | AQ25: =O25+P25+Q25+R25+S25 -> 2 | AR25: =S25 -> 0 | AS25: =T25+U25+V25 -> 0 | AT25: =X25 -> 2 | AU25: =N25+W25 -> 2 | AV25: =AE25 -> 1 | AW25: =AC25+AD25 -> 1 | AX25: =AH25 -> 0 | AY25: =AF25+AG25 -> 0
A26: 1.3.1 | B26: ²Û¹ ÃíáõÙª µÝ³Ïû·ï³·áñÍÙ³Ý Çñ³íáõÝùÁ ×³Ý³ã»Éáõ í»ñ³µ»ñÛ³É | E26: =SUM(Աջափնյակ:Սյունիք!E26) -> 2 | F26: =SUM(Աջափնյակ:Սյունիք!F26) -> 0 | G26: =SUM(Աջափնյակ:Սյունիք!G26) -> 2 | H26: =SUM(Աջափնյակ:Սյունիք!H26) -> 0 | I26: =SUM(Աջափնյակ:Սյունիք!I26) -> 0 | J26: =SUM(Աջափնյակ:Սյունիք!J26) -> 2 | K26: =SUM(Աջափնյակ:Սյունիք!K26) -> 0 | L26: =SUM(Աջափնյակ:Սյունիք!L26) -> 2 | ... AH26: =SUM(Աջափնյակ:Սյունիք!AH26) -> 0 | AJ26: =E26 -> 2 | AK26: =F26+G26+H26+I26 -> 2 | AL26: =J26 -> 2 | AM26: =K26+L26+M26 -> 2 | AN26: =F26+G26+K26 -> 2 | AO26: =X26+Y26+AA26 -> 2 | AP26: =N26 -> 2 | AQ26: =O26+P26+Q26+R26+S26 -> 2 | AR26: =S26 -> 0 | AS26: =T26+U26+V26 -> 0 | AT26: =X26 -> 2 | AU26: =N26+W26 -> 2 | AV26: =AE26 -> 1 | AW26: =AC26+AD26 -> 1 | AX26: =AH26 -> 0 | AY26: =AF26+AG26 -> 0
A27: 1.3.2 | B27: ²Û¹ ÃíáõÙª ÑáÕ³Ù³ëÇ ÝÏ³ïÙ³Ùµ û·ï³·áñÍÙ³Ý Çñ³íáõÝùÁ ×³Ý³ã»Éáõ í»ñ³µ»ñÛ³É | E27: =SUM(Աջափնյակ:Սյունիք!E27) -> 8 | F27: =SUM(Աջափնյակ:Սյունիք!F27) -> 2 | G27: =SUM(Աջափնյակ:Սյունիք!G27) -> 6 | H27: =SUM(Աջափնյակ:Սյունիք!H27) -> 0 | I27: =SUM(Աջափնյակ:Սյունիք!I27) -> 0 | J27: =SUM(Աջափնյակ:Սյունիք!J27) -> 3 | K27: =SUM(Աջափնյակ:Սյունիք!K27) -> 3 | L27: =SUM(Աջափնյակ:Սյունիք!L27) -> 0 | ... AH27: =SUM(Աջափնյակ:Սյունիք!AH27) -> 0 | AJ27: =E27 -> 8 | AK27: =F27+G27+H27+I27 -> 8 | AL27: =J27 -> 3 | AM27: =K27+L27+M27 -> 3 | AN27: =F27+G27+K27 -> 11 | AO27: =X27+Y27+AA27 -> 11 | AP27: =N27 -> 2 | AQ27: =O27+P27+Q27+R27+S27 -> 2 | AR27: =S27 -> 1 | AS27: =T27+U27+V27 -> 1 | AT27: =X27 -> 2 | AU27: =N27+W27 -> 2 | AV27: =AE27 -> 0 | AW27: =AC27+AD27 -> 0 | AX27: =AH27 -> 0 | AY27: =AF27+AG27 -> 0
A28: 1.4 | B28: ¶áõÛùÇ ÝÏ³ïÙ³Ùµ û·ï³·áñÍÙ³Ý Çñ³íáõÝùÁ ¹³¹³ñ»óÝ»Éáõ í»ñ³µ»ñÛ³É | E28: =SUM(Աջափնյակ:Սյունիք!E28) -> 2 | F28: =SUM(Աջափնյակ:Սյունիք!F28) -> 1 | G28: =SUM(Աջափնյակ:Սյունիք!G28) -> 1 | H28: =SUM(Աջափնյակ:Սյունիք!H28) -> 0 | I28: =SUM(Աջափնյակ:Սյունիք!I28) -> 0 | J28: =SUM(Աջափնյակ:Սյունիք!J28) -> 2 | K28: =SUM(Աջափնյակ:Սյունիք!K28) -> 1 | L28: =SUM(Աջափնյակ:Սյունիք!L28) -> 1 | ... AH28: =SUM(Աջափնյակ:Սյունիք!AH28) -> 0 | AJ28: =E28 -> 2 | AK28: =F28+G28+H28+I28 -> 2 | AL28: =J28 -> 2 | AM28: =K28+L28+M28 -> 2 | AN28: =F28+G28+K28 -> 3 | AO28: =X28+Y28+AA28 -> 3 | AP28: =N28 -> 0 | AQ28: =O28+P28+Q28+R28+S28 -> 0 | AR28: =S28 -> 0 | AS28: =T28+U28+V28 -> 0 | AT28: =X28 -> 0 | AU28: =N28+W28 -> 0 | AV28: =AE28 -> 0 | AW28: =AC28+AD28 -> 0 | AX28: =AH28 -> 0 | AY28: =AF28+AG28 -> 0
A29: 1.4.1 | B29: ²Û¹ ÃíáõÙª µÝ³Ïû·ï³·áñÍÙ³Ý Çñ³íáõÝùÁ ¹³¹³ñ»óÝ»Éáõ í»ñ³µ»ñÛ³É | E29: =SUM(Աջափնյակ:Սյունիք!E29) -> 11 | F29: =SUM(Աջափնյակ:Սյունիք!F29) -> 6 | G29: =SUM(Աջափնյակ:Սյունիք!G29) -> 5 | H29: =SUM(Աջափնյակ:Սյունիք!H29) -> 0 | I29: =SUM(Աջափնյակ:Սյունիք!I29) -> 0 | J29: =SUM(Աջափնյակ:Սյունիք!J29) -> 0 | K29: =SUM(Աջափնյակ:Սյունիք!K29) -> 0 | L29: =SUM(Աջափնյակ:Սյունիք!L29) -> 0 | ... AH29: =SUM(Աջափնյակ:Սյունիք!AH29) -> 0 | AJ29: =E29 -> 11 | AK29: =F29+G29+H29+I29 -> 11 | AL29: =J29 -> 0 | AM29: =K29+L29+M29 -> 0 | AN29: =F29+G29+K29 -> 11 | AO29: =X29+Y29+AA29 -> 11 | AP29: =N29 -> 0 | AQ29: =O29+P29+Q29+R29+S29 -> 0 | AR29: =S29 -> 0 | AS29: =T29+U29+V29 -> 0 | AT29: =X29 -> 0 | AU29: =N29+W29 -> 0 | AV29: =AE29 -> 0 | AW29: =AC29+AD29 -> 0 | AX29: =AH29 -> 0 | AY29: =AF29+AG29 -> 0
A30: 1.4.1/1 | B30: ²Û¹ ÃíáõÙª ÷áËÑ³ïáõóÙ³Ùµ | E30: =SUM(Աջափնյակ:Սյունիք!E30) -> 12 | F30: =SUM(Աջափնյակ:Սյունիք!F30) -> 6 | G30: =SUM(Աջափնյակ:Սյունիք!G30) -> 6 | H30: =SUM(Աջափնյակ:Սյունիք!H30) -> 0 | I30: =SUM(Աջափնյակ:Սյունիք!I30) -> 0 | J30: =SUM(Աջափնյակ:Սյունիք!J30) -> 8 | K30: =SUM(Աջափնյակ:Սյունիք!K30) -> 6 | L30: =SUM(Աջափնյակ:Սյունիք!L30) -> 2 | ... AH30: =SUM(Աջափնյակ:Սյունիք!AH30) -> 0 | AJ30: =E30 -> 12 | AK30: =F30+G30+H30+I30 -> 12 | AL30: =J30 -> 8 | AM30: =K30+L30+M30 -> 8 | AN30: =F30+G30+K30 -> 18 | AO30: =X30+Y30+AA30 -> 18 | AP30: =N30 -> 1 | AQ30: =O30+P30+Q30+R30+S30 -> 1 | AR30: =S30 -> 1 | AS30: =T30+U30+V30 -> 1 | AT30: =X30 -> 1 | AU30: =N30+W30 -> 1 | AV30: =AE30 -> 0 | AW30: =AC30+AD30 -> 0 | AX30: =AH30 -> 0 | AY30: =AF30+AG30 -> 0
A31: 1.5 | B31: ´Ý³Ï³ñ³ÝÇó/ ï³ñ³ÍùÇó/ íï³ñ»Éáõ í»ñ³µ»ñÛ³É | E31: =SUM(Աջափնյակ:Սյունիք!E31) -> 202 | F31: =SUM(Աջափնյակ:Սյունիք!F31) -> 73 | G31: =SUM(Աջափնյակ:Սյունիք!G31) -> 129 | H31: =SUM(Աջափնյակ:Սյունիք!H31) -> 0 | I31: =SUM(Աջափնյակ:Սյունիք!I31) -> 0 | J31: =SUM(Աջափնյակ:Սյունիք!J31) -> 72 | K31: =SUM(Աջափնյակ:Սյունիք!K31) -> 61 | L31: =SUM(Աջափնյակ:Սյունիք!L31) -> 11 | ... AH31: =SUM(Աջափնյակ:Սյունիք!AH31) -> 0 | AJ31: =E31 -> 202 | AK31: =F31+G31+H31+I31 -> 202 | AL31: =J31 -> 72 | AM31: =K31+L31+M31 -> 72 | AN31: =F31+G31+K31 -> 263 | AO31: =X31+Y31+AA31 -> 263 | AP31: =N31 -> 66 | AQ31: =O31+P31+Q31+R31+S31 -> 66 | AR31: =S31 -> 22 | AS31: =T31+U31+V31 -> 22 | AT31: =X31 -> 66 | AU31: =N31+W31 -> 66 | AV31: =AE31 -> 24 | AW31: =AC31+AD31 -> 24 | AX31: =AH31 -> 0 | AY31: =AF31+AG31 -> 0
... A38: 1.9 | B38: ²ÛÉ í»×»ñ | E38: =SUM(Աջափնյակ:Սյունիք!E38) -> 662 | F38: =SUM(Աջափնյակ:Սյունիք!F38) -> 198 | G38: =SUM(Աջափնյակ:Սյունիք!G38) -> 464 | H38: =SUM(Աջափնյակ:Սյունիք!H38) -> 0 | I38: =SUM(Աջափնյակ:Սյունիք!I38) -> 0 | J38: =SUM(Աջափնյակ:Սյունիք!J38) -> 246 | K38: =SUM(Աջափնյակ:Սյունիք!K38) -> 190 | L38: =SUM(Աջափնյակ:Սյունիք!L38) -> 49 | ... AH38: =SUM(Աջափնյակ:Սյունիք!AH38) -> 0 | AJ38: =E38 -> 662 | AK38: =F38+G38+H38+I38 -> 662 | AL38: =J38 -> 246 | AM38: =K38+L38+M38 -> 245 | AN38: =F38+G38+K38 -> 852 | AO38: =X38+Y38+AA38 -> 852 | AP38: =N38 -> 205 | AQ38: =O38+P38+Q38+R38+S38 -> 205 | AR38: =S38 -> 60 | AS38: =T38+U38+V38 -> 60 | AT38: =X38 -> 205 | AU38: =N38+W38 -> 205 | AV38: =AE38 -> 47 | AW38: =AC38+AD38 -> 47 | AX38: =AH38 -> 0 | AY38: =AF38+AG38 -> 0
A39: 2. | B39: ¶áñÍ³ñùÝ»ñÇ Ñ»ï Ï³åí³Í Çñ³í³Ñ³ñ³µ»ñáõÃÛáõÝÝ»ñÇ í»ñ³µ»ñÛ³É ¹³ï³Ï³Ý ·áñÍ»ñ | E39: =SUM(Աջափնյակ:Սյունիք!E39) -> 1199 | F39: =SUM(Աջափնյակ:Սյունիք!F39) -> 206 | G39: =SUM(Աջափնյակ:Սյունիք!G39) -> 992 | H39: =SUM(Աջափնյակ:Սյունիք!H39) -> 1 | I39: =SUM(Աջափնյակ:Սյունիք!I39) -> 0 | J39: =SUM(Աջափնյակ:Սյունիք!J39) -> 523 | K39: =SUM(Աջափնյակ:Սյունիք!K39) -> 422 | L39: =SUM(Աջափնյակ:Սյունիք!L39) -> 86 | ... AH39: =SUM(Աջափնյակ:Սյունիք!AH39) -> 20 | AJ39: =SUM(AJ40:AJ50) -> 1199 | AK39: =SUM(AK40:AK50) -> 1199 | AL39: =SUM(AL40:AL50) -> 523 | AM39: =SUM(AM40:AM50) -> 522 | AN39: =SUM(AN40:AN50) -> 1620 | AO39: =SUM(AO40:AO50) -> 1617 | AP39: =SUM(AP40:AP50) -> 391 | AQ39: =SUM(AQ40:AQ50) -> 391 | ... AY39: =SUM(AY40:AY50) -> 20
A40: 2.1 | B40: ·áñÍ³ñùÝ»ñÇ ³Ýí³í»ñáõÃÛ³Ý Ñ»ï Ï³åí³Í í»×»ñ | E40: =SUM(Աջափնյակ:Սյունիք!E40) -> 151 | F40: =SUM(Աջափնյակ:Սյունիք!F40) -> 27 | G40: =SUM(Աջափնյակ:Սյունիք!G40) -> 124 | H40: =SUM(Աջափնյակ:Սյունիք!H40) -> 0 | I40: =SUM(Աջափնյակ:Սյունիք!I40) -> 0 | J40: =SUM(Աջափնյակ:Սյունիք!J40) -> 71 | K40: =SUM(Աջափնյակ:Սյունիք!K40) -> 51 | L40: =SUM(Աջափնյակ:Սյունիք!L40) -> 16 | ... AH40: =SUM(Աջափնյակ:Սյունիք!AH40) -> 3 | AJ40: =E40 -> 151 | AK40: =F40+G40+H40+I40 -> 151 | AL40: =J40 -> 71 | AM40: =K40+L40+M40 -> 70 | AN40: =F40+G40+K40 -> 202 | AO40: =X40+Y40+AA40 -> 202 | AP40: =N40 -> 40 | AQ40: =O40+P40+Q40+R40+S40 -> 40 | AR40: =S40 -> 10 | AS40: =T40+U40+V40 -> 10 | AT40: =X40 -> 40 | AU40: =N40+W40 -> 40 | AV40: =AE40 -> 21 | AW40: =AC40+AD40 -> 21 | AX40: =AH40 -> 3 | AY40: =AF40+AG40 -> 3
A41: 2.1.1 | B41: ³Û¹ ÃíáõÙ` íÇ×³Ñ³ñáõÛó ·áñÍ³ñùÝ»ñÝ ³Ýí³í»ñ ×³Ý³ã»Éáõ í»ñ³µ»ñÛ³É | E41: =SUM(Աջափնյակ:Սյունիք!E41) -> 6 | F41: =SUM(Աջափնյակ:Սյունիք!F41) -> 2 | G41: =SUM(Աջափնյակ:Սյունիք!G41) -> 4 | H41: =SUM(Աջափնյակ:Սյունիք!H41) -> 0 | I41: =SUM(Աջափնյակ:Սյունիք!I41) -> 0 | J41: =SUM(Աջափնյակ:Սյունիք!J41) -> 4 | K41: =SUM(Աջափնյակ:Սյունիք!K41) -> 2 | L41: =SUM(Աջափնյակ:Սյունիք!L41) -> 2 | ... AH41: =SUM(Աջափնյակ:Սյունիք!AH41) -> 0 | AJ41: =E41 -> 6 | AK41: =F41+G41+H41+I41 -> 6 | AL41: =J41 -> 4 | AM41: =K41+L41+M41 -> 4 | AN41: =F41+G41+K41 -> 8 | AO41: =X41+Y41+AA41 -> 10 | AP41: =N41 -> 4 | AQ41: =O41+P41+Q41+R41+S41 -> 4 | AR41: =S41 -> 1 | AS41: =T41+U41+V41 -> 1 | AT41: =X41 -> 4 | AU41: =N41+W41 -> 4 | AV41: =AE41 -> 1 | AW41: =AC41+AD41 -> 1 | AX41: =AH41 -> 0 | AY41: =AF41+AG41 -> 0
A42: 2.1.2 | B42: ³Û¹ ÃíáõÙ` ·áñÍ³ñùÇ ³éáãÝãáõÃÛ³Ý Ñ»ï¨³ÝùÝ»ñ ÏÇñ³é»Éáõ í»ñ³µ»ñÛ³É | E42: =SUM(Աջափնյակ:Սյունիք!E42) -> 124 | F42: =SUM(Աջափնյակ:Սյունիք!F42) -> 8 | G42: =SUM(Աջափնյակ:Սյունիք!G42) -> 116 | H42: =SUM(Աջափնյակ:Սյունիք!H42) -> 0 | I42: =SUM(Աջափնյակ:Սյունիք!I42) -> 0 | J42: =SUM(Աջափնյակ:Սյունիք!J42) -> 55 | K42: =SUM(Աջափնյակ:Սյունիք!K42) -> 44 | L42: =SUM(Աջափնյակ:Սյունիք!L42) -> 9 | ... AH42: =SUM(Աջափնյակ:Սյունիք!AH42) -> 3 | AJ42: =E42 -> 124 | AK42: =F42+G42+H42+I42 -> 124 | AL42: =J42 -> 55 | AM42: =K42+L42+M42 -> 55 | AN42: =F42+G42+K42 -> 168 | AO42: =X42+Y42+AA42 -> 166 | AP42: =N42 -> 31 | AQ42: =O42+P42+Q42+R42+S42 -> 31 | AR42: =S42 -> 10 | AS42: =T42+U42+V42 -> 10 | AT42: =X42 -> 31 | AU42: =N42+W42 -> 31 | AV42: =AE42 -> 12 | AW42: =AC42+AD42 -> 12 | AX42: =AH42 -> 3 | AY42: =AF42+AG42 -> 3
A43: 2.2 | B43: ¶áñÍ³ñùÁ í³í»ñ ×³Ý³ã»Éáõ í»ñ³µ»ñÛ³É | E43: =SUM(Աջափնյակ:Սյունիք!E43) -> 47 | F43: =SUM(Աջափնյակ:Սյունիք!F43) -> 2 | G43: =SUM(Աջափնյակ:Սյունիք!G43) -> 45 | H43: =SUM(Աջափնյակ:Սյունիք!H43) -> 0 | I43: =SUM(Աջափնյակ:Սյունիք!I43) -> 0 | J43: =SUM(Աջափնյակ:Սյունիք!J43) -> 42 | K43: =SUM(Աջափնյակ:Սյունիք!K43) -> 39 | L43: =SUM(Աջափնյակ:Սյունիք!L43) -> 2 | ... AH43: =SUM(Աջափնյակ:Սյունիք!AH43) -> 1 | AJ43: =E43 -> 47 | AK43: =F43+G43+H43+I43 -> 47 | AL43: =J43 -> 42 | AM43: =K43+L43+M43 -> 42 | AN43: =F43+G43+K43 -> 86 | AO43: =X43+Y43+AA43 -> 86 | AP43: =N43 -> 40 | AQ43: =O43+P43+Q43+R43+S43 -> 40 | AR43: =S43 -> 3 | AS43: =T43+U43+V43 -> 3 | AT43: =X43 -> 40 | AU43: =N43+W43 -> 40 | AV43: =AE43 -> 6 | AW43: =AC43+AD43 -> 6 | AX43: =AH43 -> 1 | AY43: =AF43+AG43 -> 1
A44: 2.3 | B44: ¶áñÍ³ñùÇó Í³·áÕ Çñ³íáõÝùÝ»ñÁ ·ñ³Ýó»Éáõ í»ñ³µ»ñÛ³É | E44: =SUM(Աջափնյակ:Սյունիք!E44) -> 0 | F44: =SUM(Աջափնյակ:Սյունիք!F44) -> 0 | G44: =SUM(Աջափնյակ:Սյունիք!G44) -> 0 | H44: =SUM(Աջափնյակ:Սյունիք!H44) -> 0 | I44: =SUM(Աջափնյակ:Սյունիք!I44) -> 0 | J44: =SUM(Աջափնյակ:Սյունիք!J44) -> 0 | K44: =SUM(Աջափնյակ:Սյունիք!K44) -> 0 | L44: =SUM(Աջափնյակ:Սյունիք!L44) -> 0 | ... AH44: =SUM(Աջափնյակ:Սյունիք!AH44) -> 0 | AJ44: =E44 -> 0 | AK44: =F44+G44+H44+I44 -> 0 | AL44: =J44 -> 0 | AM44: =K44+L44+M44 -> 0 | AN44: =F44+G44+K44 -> 0 | AO44: =X44+Y44+AA44 -> 0 | AP44: =N44 -> 0 | AQ44: =O44+P44+Q44+R44+S44 -> 0 | AR44: =S44 -> 0 | AS44: =T44+U44+V44 -> 0 | AT44: =X44 -> 0 | AU44: =N44+W44 -> 0 | AV44: =AE44 -> 0 | AW44: =AC44+AD44 -> 0 | AX44: =AH44 -> 0 | AY44: =AF44+AG44 -> 0
A45: 2.4 | B45: ä³ÛÙ³Ý³·ÇñÝ ³Ýí³í»ñ ×³Ý³ã»Éáõ í»ñ³µ»ñÛ³É | E45: =SUM(Աջափնյակ:Սյունիք!E45) -> 383 | F45: =SUM(Աջափնյակ:Սյունիք!F45) -> 65 | G45: =SUM(Աջափնյակ:Սյունիք!G45) -> 317 | H45: =SUM(Աջափնյակ:Սյունիք!H45) -> 1 | I45: =SUM(Աջափնյակ:Սյունիք!I45) -> 0 | J45: =SUM(Աջափնյակ:Սյունիք!J45) -> 143 | K45: =SUM(Աջափնյակ:Սյունիք!K45) -> 114 | L45: =SUM(Աջափնյակ:Սյունիք!L45) -> 26 | ... AH45: =SUM(Աջափնյակ:Սյունիք!AH45) -> 12 | AJ45: =E45 -> 383 | AK45: =F45+G45+H45+I45 -> 383 | AL45: =J45 -> 143 | AM45: =K45+L45+M45 -> 143 | AN45: =F45+G45+K45 -> 496 | AO45: =X45+Y45+AA45 -> 494 | AP45: =N45 -> 118 | AQ45: =O45+P45+Q45+R45+S45 -> 118 | AR45: =S45 -> 30 | AS45: =T45+U45+V45 -> 30 | AT45: =X45 -> 118 | AU45: =N45+W45 -> 118 | AV45: =AE45 -> 66 | AW45: =AC45+AD45 -> 66 | AX45: =AH45 -> 12 | AY45: =AF45+AG45 -> 12
A46: 2.5 | B46: ä³ÛÙ³Ý³·ñÇÁ í³í»ñ ×³Ý³ã»Éáõ í»ñ³µ»ñÛ³É | E46: =SUM(Աջափնյակ:Սյունիք!E46) -> 44 | F46: =SUM(Աջափնյակ:Սյունիք!F46) -> 5 | G46: =SUM(Աջափնյակ:Սյունիք!G46) -> 39 | H46: =SUM(Աջափնյակ:Սյունիք!H46) -> 0 | I46: =SUM(Աջափնյակ:Սյունիք!I46) -> 0 | J46: =SUM(Աջափնյակ:Սյունիք!J46) -> 20 | K46: =SUM(Աջափնյակ:Սյունիք!K46) -> 15 | L46: =SUM(Աջափնյակ:Սյունիք!L46) -> 5 | ... AH46: =SUM(Աջափնյակ:Սյունիք!AH46) -> 0 | AJ46: =E46 -> 44 | AK46: =F46+G46+H46+I46 -> 44 | AL46: =J46 -> 20 | AM46: =K46+L46+M46 -> 20 | AN46: =F46+G46+K46 -> 59 | AO46: =X46+Y46+AA46 -> 59 | AP46: =N46 -> 13 | AQ46: =O46+P46+Q46+R46+S46 -> 13 | AR46: =S46 -> 7 | AS46: =T46+U46+V46 -> 7 | AT46: =X46 -> 13 | AU46: =N46+W46 -> 13 | AV46: =AE46 -> 2 | AW46: =AC46+AD46 -> 2 | AX46: =AH46 -> 0 | AY46: =AF46+AG46 -> 0
A47: 2.6 | B47: ä³ÛÙ³Ý³·ñÇó Í³·áÕ Çñ³íáõÝùÝ»ñÁ ·ñ³Ýó»Éáõ í»ñ³µ»ñÛ³É | E47: =SUM(Աջափնյակ:Սյունիք!E47) -> 0 | F47: =SUM(Աջափնյակ:Սյունիք!F47) -> 0 | G47: =SUM(Աջափնյակ:Սյունիք!G47) -> 0 | H47: =SUM(Աջափնյակ:Սյունիք!H47) -> 0 | I47: =SUM(Աջափնյակ:Սյունիք!I47) -> 0 | J47: =SUM(Աջափնյակ:Սյունիք!J47) -> 0 | K47: =SUM(Աջափնյակ:Սյունիք!K47) -> 0 | L47: =SUM(Աջափնյակ:Սյունիք!L47) -> 0 | ... AH47: =SUM(Աջափնյակ:Սյունիք!AH47) -> 0 | AJ47: =E47 -> 0 | AK47: =F47+G47+H47+I47 -> 0 | AL47: =J47 -> 0 | AM47: =K47+L47+M47 -> 0 | AN47: =F47+G47+K47 -> 0 | AO47: =X47+Y47+AA47 -> 0 | AP47: =N47 -> 0 | AQ47: =O47+P47+Q47+R47+S47 -> 0 | AR47: =S47 -> 0 | AS47: =T47+U47+V47 -> 0 | AT47: =X47 -> 0 | AU47: =N47+W47 -> 0 | AV47: =AE47 -> 0 | AW47: =AC47+AD47 -> 0 | AX47: =AH47 -> 0 | AY47: =AF47+AG47 -> 0
A48: 2.7 | B48: ä³ÛÙ³Ý³·ÇñÁ ÷á÷áË»Éáõ ¨ ÉáõÍ»Éáõ í»ñ³µ»ñÛ³É | E48: =SUM(Աջափնյակ:Սյունիք!E48) -> 97 | F48: =SUM(Աջափնյակ:Սյունիք!F48) -> 20 | G48: =SUM(Աջափնյակ:Սյունիք!G48) -> 77 | H48: =SUM(Աջափնյակ:Սյունիք!H48) -> 0 | I48: =SUM(Աջափնյակ:Սյունիք!I48) -> 0 | J48: =SUM(Աջափնյակ:Սյունիք!J48) -> 24 | K48: =SUM(Աջափնյակ:Սյունիք!K48) -> 23 | L48: =SUM(Աջափնյակ:Սյունիք!L48) -> 1 | ... AH48: =SUM(Աջափնյակ:Սյունիք!AH48) -> 0 | AJ48: =E48 -> 97 | AK48: =F48+G48+H48+I48 -> 97 | AL48: =J48 -> 24 | AM48: =K48+L48+M48 -> 24 | AN48: =F48+G48+K48 -> 120 | AO48: =X48+Y48+AA48 -> 120 | AP48: =N48 -> 36 | AQ48: =O48+P48+Q48+R48+S48 -> 36 | AR48: =S48 -> 11 | AS48: =T48+U48+V48 -> 11 | AT48: =X48 -> 36 | AU48: =N48+W48 -> 36 | AV48: =AE48 -> 5 | AW48: =AC48+AD48 -> 5 | AX48: =AH48 -> 0 | AY48: =AF48+AG48 -> 0
A49: 2.8 | B49: ä³ÛÙ³Ý³·Çñ ÏÝù»ÉáõÝ å³ñï³íáñ»óÝ»Éáõ í»ñ³µ»ñÛ³É | E49: =SUM(Աջափնյակ:Սյունիք!E49) -> 105 | F49: =SUM(Աջափնյակ:Սյունիք!F49) -> 29 | G49: =SUM(Աջափնյակ:Սյունիք!G49) -> 76 | H49: =SUM(Աջափնյակ:Սյունիք!H49) -> 0 | I49: =SUM(Աջափնյակ:Սյունիք!I49) -> 0 | J49: =SUM(Աջափնյակ:Սյունիք!J49) -> 30 | K49: =SUM(Աջափնյակ:Սյունիք!K49) -> 27 | L49: =SUM(Աջափնյակ:Սյունիք!L49) -> 3 | ... AH49: =SUM(Աջափնյակ:Սյունիք!AH49) -> 0 | AJ49: =E49 -> 105 | AK49: =F49+G49+H49+I49 -> 105 | AL49: =J49 -> 30 | AM49: =K49+L49+M49 -> 30 | AN49: =F49+G49+K49 -> 132 | AO49: =X49+Y49+AA49 -> 132 | AP49: =N49 -> 32 | AQ49: =O49+P49+Q49+R49+S49 -> 32 | AR49: =S49 -> 5 | AS49: =T49+U49+V49 -> 5 | AT49: =X49 -> 32 | AU49: =N49+W49 -> 32 | AV49: =AE49 -> 7 | AW49: =AC49+AD49 -> 7 | AX49: =AH49 -> 0 | AY49: =AF49+AG49 -> 0
A50: 2.9 | B50: ²ÛÉ í»×»ñ | E50: =SUM(Աջափնյակ:Սյունիք!E50) -> 242 | F50: =SUM(Աջափնյակ:Սյունիք!F50) -> 48 | G50: =SUM(Աջափնյակ:Սյունիք!G50) -> 194 | H50: =SUM(Աջափնյակ:Սյունիք!H50) -> 0 | I50: =SUM(Աջափնյակ:Սյունիք!I50) -> 0 | J50: =SUM(Աջափնյակ:Սյունիք!J50) -> 134 | K50: =SUM(Աջափնյակ:Սյունիք!K50) -> 107 | L50: =SUM(Աջափնյակ:Սյունիք!L50) -> 22 | ... AH50: =SUM(Աջափնյակ:Սյունիք!AH50) -> 1 | AJ50: =E50 -> 242 | AK50: =F50+G50+H50+I50 -> 242 | AL50: =J50 -> 134 | AM50: =K50+L50+M50 -> 134 | AN50: =F50+G50+K50 -> 349 | AO50: =X50+Y50+AA50 -> 348 | AP50: =N50 -> 77 | AQ50: =O50+P50+Q50+R50+S50 -> 77 | AR50: =S50 -> 27 | AS50: =T50+U50+V50 -> 27 | AT50: =X50 -> 77 | AU50: =N50+W50 -> 77 | AV50: =AE50 -> 26 | AW50: =AC50+AD50 -> 26 | AX50: =AH50 -> 1 | AY50: =AF50+AG50 -> 1
A51: 3. | B51: Ä³é³Ý·áõÃÛ³Ý Ñ»ï Ï³åí³Í Çñ³í³Ñ³ñ³µ»ñáõÃÛáõÝÝ»ñÇ í»ñ³µ»ñÛ³É ¹³ï³Ï³Ý ·áñÍ»ñ | E51: =SUM(Աջափնյակ:Սյունիք!E51) -> 323 | F51: =SUM(Աջափնյակ:Սյունիք!F51) -> 53 | G51: =SUM(Աջափնյակ:Սյունիք!G51) -> 270 | H51: =SUM(Աջափնյակ:Սյունիք!H51) -> 0 | I51: =SUM(Աջափնյակ:Սյունիք!I51) -> 0 | J51: =SUM(Աջափնյակ:Սյունիք!J51) -> 175 | K51: =SUM(Աջափնյակ:Սյունիք!K51) -> 136 | L51: =SUM(Աջափնյակ:Սյունիք!L51) -> 38 | ... AH51: =SUM(Աջափնյակ:Սյունիք!AH51) -> 3 | AJ51: =SUM(AJ52:AJ58) -> 323 | AK51: =SUM(AK52:AK58) -> 323 | AL51: =SUM(AL52:AL58) -> 175 | AM51: =SUM(AM52:AM58) -> 175 | AN51: =SUM(AN52:AN58) -> 459 | AO51: =SUM(AO52:AO58) -> 457 | AP51: =SUM(AP52:AP58) -> 136 | AQ51: =SUM(AQ52:AQ58) -> 136 | ... AY51: =SUM(AY52:AY58) -> 3
A52: 3.1 | B52: Îï³ÏÝ ³Ýí³í»ñ ×³Ý³ã»Éáõ í»ñ³µ»ñÛ³É | E52: =SUM(Աջափնյակ:Սյունիք!E52) -> 14 | F52: =SUM(Աջափնյակ:Սյունիք!F52) -> 3 | G52: =SUM(Աջափնյակ:Սյունիք!G52) -> 11 | H52: =SUM(Աջափնյակ:Սյունիք!H52) -> 0 | I52: =SUM(Աջափնյակ:Սյունիք!I52) -> 0 | J52: =SUM(Աջափնյակ:Սյունիք!J52) -> 9 | K52: =SUM(Աջափնյակ:Սյունիք!K52) -> 9 | L52: =SUM(Աջափնյակ:Սյունիք!L52) -> 0 | ... AH52: =SUM(Աջափնյակ:Սյունիք!AH52) -> 0 | AJ52: =E52 -> 14 | AK52: =F52+G52+H52+I52 -> 14 | AL52: =J52 -> 9 | AM52: =K52+L52+M52 -> 9 | AN52: =F52+G52+K52 -> 23 | AO52: =X52+Y52+AA52 -> 23 | AP52: =N52 -> 4 | AQ52: =O52+P52+Q52+R52+S52 -> 4 | AR52: =S52 -> 0 | AS52: =T52+U52+V52 -> 0 | AT52: =X52 -> 4 | AU52: =N52+W52 -> 4 | AV52: =AE52 -> 2 | AW52: =AC52+AD52 -> 2 | AX52: =AH52 -> 0 | AY52: =AF52+AG52 -> 0
A53: 3.2 | B53: ²Ý³ñÅ³Ý Å³é³Ý· ×³Ý³ã»Éáõ í»ñ³µ»ñÛ³É | E53: =SUM(Աջափնյակ:Սյունիք!E53) -> 0 | F53: =SUM(Աջափնյակ:Սյունիք!F53) -> 0 | G53: =SUM(Աջափնյակ:Սյունիք!G53) -> 0 | H53: =SUM(Աջափնյակ:Սյունիք!H53) -> 0 | I53: =SUM(Աջափնյակ:Սյունիք!I53) -> 0 | J53: =SUM(Աջափնյակ:Սյունիք!J53) -> 1 | K53: =SUM(Աջափնյակ:Սյունիք!K53) -> 0 | L53: =SUM(Աջափնյակ:Սյունիք!L53) -> 1 | ... AH53: =SUM(Աջափնյակ:Սյունիք!AH53) -> 0 | AJ53: =E53 -> 0 | AK53: =F53+G53+H53+I53 -> 0 | AL53: =J53 -> 1 | AM53: =K53+L53+M53 -> 1 | AN53: =F53+G53+K53 -> 0 | AO53: =X53+Y53+AA53 -> 0 | AP53: =N53 -> 0 | AQ53: =O53+P53+Q53+R53+S53 -> 0 | AR53: =S53 -> 0 | AS53: =T53+U53+V53 -> 0 | AT53: =X53 -> 0 | AU53: =N53+W53 -> 0 | AV53: =AE53 -> 0 | AW53: =AC53+AD53 -> 0 | AX53: =AH53 -> 0 | AY53: =AF53+AG53 -> 0
A54: 3.3 | B54: Ä³é³Ý·áõÃÛáõÝÁ µ³Å³Ý»Éáõ í»ñ³µ»ñÛ³É | E54: =SUM(Աջափնյակ:Սյունիք!E54) -> 10 | F54: =SUM(Աջափնյակ:Սյունիք!F54) -> 2 | G54: =SUM(Աջափնյակ:Սյունիք!G54) -> 8 | H54: =SUM(Աջափնյակ:Սյունիք!H54) -> 0 | I54: =SUM(Աջափնյակ:Սյունիք!I54) -> 0 | J54: =SUM(Աջափնյակ:Սյունիք!J54) -> 1 | K54: =SUM(Աջափնյակ:Սյունիք!K54) -> 1 | L54: =SUM(Աջափնյակ:Սյունիք!L54) -> 0 | ... AH54: =SUM(Աջափնյակ:Սյունիք!AH54) -> 0 | AJ54: =E54 -> 10 | AK54: =F54+G54+H54+I54 -> 10 | AL54: =J54 -> 1 | AM54: =K54+L54+M54 -> 1 | AN54: =F54+G54+K54 -> 11 | AO54: =X54+Y54+AA54 -> 11 | AP54: =N54 -> 2 | AQ54: =O54+P54+Q54+R54+S54 -> 2 | AR54: =S54 -> 1 | AS54: =T54+U54+V54 -> 1 | AT54: =X54 -> 2 | AU54: =N54+W54 -> 2 | AV54: =AE54 -> 2 | AW54: =AC54+AD54 -> 2 | AX54: =AH54 -> 0 | AY54: =AF54+AG54 -> 0
A55: 3.4 | B55: ¶áõÛùÝ ³ÝÅ³é³Ý· ×³Ý³ã»Éáõ í»ñ³µ»ñÛ³É | E55: =SUM(Աջափնյակ:Սյունիք!E55) -> 1 | F55: =SUM(Աջափնյակ:Սյունիք!F55) -> 0 | G55: =SUM(Աջափնյակ:Սյունիք!G55) -> 1 | H55: =SUM(Աջափնյակ:Սյունիք!H55) -> 0 | I55: =SUM(Աջափնյակ:Սյունիք!I55) -> 0 | J55: =SUM(Աջափնյակ:Սյունիք!J55) -> 1 | K55: =SUM(Աջափնյակ:Սյունիք!K55) -> 0 | L55: =SUM(Աջափնյակ:Սյունիք!L55) -> 1 | ... AH55: =SUM(Աջափնյակ:Սյունիք!AH55) -> 0 | AJ55: =E55 -> 1 | AK55: =F55+G55+H55+I55 -> 1 | AL55: =J55 -> 1 | AM55: =K55+L55+M55 -> 1 | AN55: =F55+G55+K55 -> 1 | AO55: =X55+Y55+AA55 -> 1 | AP55: =N55 -> 0 | AQ55: =O55+P55+Q55+R55+S55 -> 0 | AR55: =S55 -> 0 | AS55: =T55+U55+V55 -> 0 | AT55: =X55 -> 0 | AU55: =N55+W55 -> 0 | AV55: =AE55 -> 0 | AW55: =AC55+AD55 -> 0 | AX55: =AH55 -> 0 | AY55: =AF55+AG55 -> 0
A56: 3.5 | B56: Àëï ûñ»ÝùÇ Å³é³Ý·áõÃÛ³Ý Çñ³íáõÝùÇ íÏ³Û³·ÇñÝ ³Ýí³í»ñ ×³Ý³ã»Éáõ í»ñ³µ»ñÛ³É | E56: =SUM(Աջափնյակ:Սյունիք!E56) -> 15 | F56: =SUM(Աջափնյակ:Սյունիք!F56) -> 0 | G56: =SUM(Աջափնյակ:Սյունիք!G56) -> 15 | H56: =SUM(Աջափնյակ:Սյունիք!H56) -> 0 | I56: =SUM(Աջափնյակ:Սյունիք!I56) -> 0 | J56: =SUM(Աջափնյակ:Սյունիք!J56) -> 9 | K56: =SUM(Աջափնյակ:Սյունիք!K56) -> 5 | L56: =SUM(Աջափնյակ:Սյունիք!L56) -> 4 | ... AH56: =SUM(Աջափնյակ:Սյունիք!AH56) -> 0 | AJ56: =E56 -> 15 | AK56: =F56+G56+H56+I56 -> 15 | AL56: =J56 -> 9 | AM56: =K56+L56+M56 -> 9 | AN56: =F56+G56+K56 -> 20 | AO56: =X56+Y56+AA56 -> 20 | AP56: =N56 -> 1 | AQ56: =O56+P56+Q56+R56+S56 -> 1 | AR56: =S56 -> 0 | AS56: =T56+U56+V56 -> 0 | AT56: =X56 -> 1 | AU56: =N56+W56 -> 1 | AV56: =AE56 -> 0 | AW56: =AC56+AD56 -> 0 | AX56: =AH56 -> 0 | AY56: =AF56+AG56 -> 0
A57: 3.6 | B57: Ä³é³Ý·áõÃÛáõÝÝ ÁÝ¹áõÝ»Éáõ µ³ó ÃáÕÝí³Í Å³ÙÏ»ïÁ Ñ³ñ·»ÉÇ Ñ³Ù³ñ»Éáõ í»ñ³µ»ñÛ³É | E57: =SUM(Աջափնյակ:Սյունիք!E57) -> 54 | F57: =SUM(Աջափնյակ:Սյունիք!F57) -> 6 | G57: =SUM(Աջափնյակ:Սյունիք!G57) -> 48 | H57: =SUM(Աջափնյակ:Սյունիք!H57) -> 0 | I57: =SUM(Աջափնյակ:Սյունիք!I57) -> 0 | J57: =SUM(Աջափնյակ:Սյունիք!J57) -> 35 | K57: =SUM(Աջափնյակ:Սյունիք!K57) -> 25 | L57: =SUM(Աջափնյակ:Սյունիք!L57) -> 10 | ... AH57: =SUM(Աջափնյակ:Սյունիք!AH57) -> 0 | AJ57: =E57 -> 54 | AK57: =F57+G57+H57+I57 -> 54 | AL57: =J57 -> 35 | AM57: =K57+L57+M57 -> 35 | AN57: =F57+G57+K57 -> 79 | AO57: =X57+Y57+AA57 -> 79 | AP57: =N57 -> 33 | AQ57: =O57+P57+Q57+R57+S57 -> 33 | AR57: =S57 -> 10 | AS57: =T57+U57+V57 -> 10 | AT57: =X57 -> 33 | AU57: =N57+W57 -> 33 | AV57: =AE57 -> 4 | AW57: =AC57+AD57 -> 4 | AX57: =AH57 -> 0 | AY57: =AF57+AG57 -> 0
A58: 3.7 | B58: ²ÛÉ í»×»ñ | E58: =SUM(Աջափնյակ:Սյունիք!E58) -> 229 | F58: =SUM(Աջափնյակ:Սյունիք!F58) -> 42 | G58: =SUM(Աջափնյակ:Սյունիք!G58) -> 187 | H58: =SUM(Աջափնյակ:Սյունիք!H58) -> 0 | I58: =SUM(Աջափնյակ:Սյունիք!I58) -> 0 | J58: =SUM(Աջափնյակ:Սյունիք!J58) -> 119 | K58: =SUM(Աջափնյակ:Սյունիք!K58) -> 96 | L58: =SUM(Աջափնյակ:Սյունիք!L58) -> 22 | ... AH58: =SUM(Աջափնյակ:Սյունիք!AH58) -> 3 | AJ58: =E58 -> 229 | AK58: =F58+G58+H58+I58 -> 229 | AL58: =J58 -> 119 | AM58: =K58+L58+M58 -> 119 | AN58: =F58+G58+K58 -> 325 | AO58: =X58+Y58+AA58 -> 323 | AP58: =N58 -> 96 | AQ58: =O58+P58+Q58+R58+S58 -> 96 | AR58: =S58 -> 27 | AS58: =T58+U58+V58 -> 27 | AT58: =X58 -> 97 | AU58: =N58+W58 -> 97 | AV58: =AE58 -> 13 | AW58: =AC58+AD58 -> 13 | AX58: =AH58 -> 3 | AY58: =AF58+AG58 -> 3
A59: 4 | B59: ÀÝï³Ý»Ï³Ý Çñ³í³Ñ³ñ³µ»ñáõÃÛáõÝÝ»ñÇ í»ñ³µ»ñÛ³É ¹³ï³Ï³Ý ·áñÍ»ñ | E59: =SUM(Աջափնյակ:Սյունիք!E59) -> 1530 | F59: =SUM(Աջափնյակ:Սյունիք!F59) -> 123 | G59: =SUM(Աջափնյակ:Սյունիք!G59) -> 1407 | H59: =SUM(Աջափնյակ:Սյունիք!H59) -> 0 | I59: =SUM(Աջափնյակ:Սյունիք!I59) -> 0 | J59: =SUM(Աջափնյակ:Սյունիք!J59) -> 1599 | K59: =SUM(Աջափնյակ:Սյունիք!K59) -> 1408 | L59: =SUM(Աջափնյակ:Սյունիք!L59) -> 180 | ... AH59: =SUM(Աջափնյակ:Սյունիք!AH59) -> 16 | AJ59: =SUM(AJ60:AJ72) -> 1530 | AK59: =SUM(AK60:AK72) -> 1530 | AL59: =SUM(AL60:AL72) -> 1599 | AM59: =SUM(AM60:AM72) -> 1594 | AN59: =SUM(AN60:AN72) -> 2938 | AO59: =SUM(AO60:AO72) -> 2937 | AP59: =SUM(AP60:AP72) -> 1331 | AQ59: =SUM(AQ60:AQ72) -> 1331 | ... AY59: =SUM(AY60:AY72) -> 16
A60: 4.1 | B60: ²ÙáõëÝ³ÉáõÍáõÃÛ³Ý í»ñ³µ»ñÛ³É | E60: =SUM(Աջափնյակ:Սյունիք!E60) -> 719 | F60: =SUM(Աջափնյակ:Սյունիք!F60) -> 34 | G60: =SUM(Աջափնյակ:Սյունիք!G60) -> 685 | H60: =SUM(Աջափնյակ:Սյունիք!H60) -> 0 | I60: =SUM(Աջափնյակ:Սյունիք!I60) -> 0 | J60: =SUM(Աջափնյակ:Սյունիք!J60) -> 845 | K60: =SUM(Աջափնյակ:Սյունիք!K60) -> 727 | L60: =SUM(Աջափնյակ:Սյունիք!L60) -> 117 | ... AH60: =SUM(Աջափնյակ:Սյունիք!AH60) -> 5 | AJ60: =E60 -> 719 | AK60: =F60+G60+H60+I60 -> 719 | AL60: =J60 -> 845 | AM60: =K60+L60+M60 -> 844 | AN60: =F60+G60+K60 -> 1446 | AO60: =X60+Y60+AA60 -> 1446 | AP60: =N60 -> 714 | AQ60: =O60+P60+Q60+R60+S60 -> 714 | AR60: =S60 -> 111 | AS60: =T60+U60+V60 -> 111 | AT60: =X60 -> 714 | AU60: =N60+W60 -> 714 | AV60: =AE60 -> 38 | AW60: =AC60+AD60 -> 38 | AX60: =AH60 -> 5 | AY60: =AF60+AG60 -> 5
A61: 4.2 | B61: ²ÉÇÙ»ÝïÇ å³Ñ³ÝçÇ í»ñ³µ»ñÛ³É | E61: =SUM(Աջափնյակ:Սյունիք!E61) -> 305 | F61: =SUM(Աջափնյակ:Սյունիք!F61) -> 26 | G61: =SUM(Աջափնյակ:Սյունիք!G61) -> 279 | H61: =SUM(Աջափնյակ:Սյունիք!H61) -> 0 | I61: =SUM(Աջափնյակ:Սյունիք!I61) -> 0 | J61: =SUM(Աջափնյակ:Սյունիք!J61) -> 312 | K61: =SUM(Աջափնյակ:Սյունիք!K61) -> 299 | L61: =SUM(Աջափնյակ:Սյունիք!L61) -> 12 | ... AH61: =SUM(Աջափնյակ:Սյունիք!AH61) -> 7 | AJ61: =E61 -> 305 | AK61: =F61+G61+H61+I61 -> 305 | AL61: =J61 -> 312 | AM61: =K61+L61+M61 -> 311 | AN61: =F61+G61+K61 -> 604 | AO61: =X61+Y61+AA61 -> 603 | AP61: =N61 -> 270 | AQ61: =O61+P61+Q61+R61+S61 -> 270 | AR61: =S61 -> 44 | AS61: =T61+U61+V61 -> 44 | AT61: =X61 -> 270 | AU61: =N61+W61 -> 270 | AV61: =AE61 -> 29 | AW61: =AC61+AD61 -> 29 | AX61: =AH61 -> 7 | AY61: =AF61+AG61 -> 7
A62: 4.3 | B62: ²ÉÇÙ»ÝïÇ ã³÷Á ÷á÷áË»Éáõ í»ñ³µ»ñÛ³É | E62: =SUM(Աջափնյակ:Սյունիք!E62) -> 53 | F62: =SUM(Աջափնյակ:Սյունիք!F62) -> 3 | G62: =SUM(Աջափնյակ:Սյունիք!G62) -> 50 | H62: =SUM(Աջափնյակ:Սյունիք!H62) -> 0 | I62: =SUM(Աջափնյակ:Սյունիք!I62) -> 0 | J62: =SUM(Աջափնյակ:Սյունիք!J62) -> 68 | K62: =SUM(Աջափնյակ:Սյունիք!K62) -> 61 | L62: =SUM(Աջափնյակ:Սյունիք!L62) -> 6 | ... AH62: =SUM(Աջափնյակ:Սյունիք!AH62) -> 0 | AJ62: =E62 -> 53 | AK62: =F62+G62+H62+I62 -> 53 | AL62: =J62 -> 68 | AM62: =K62+L62+M62 -> 68 | AN62: =F62+G62+K62 -> 114 | AO62: =X62+Y62+AA62 -> 114 | AP62: =N62 -> 51 | AQ62: =O62+P62+Q62+R62+S62 -> 51 | AR62: =S62 -> 6 | AS62: =T62+U62+V62 -> 6 | AT62: =X62 -> 51 | AU62: =N62+W62 -> 51 | AV62: =AE62 -> 12 | AW62: =AC62+AD62 -> 12 | AX62: =AH62 -> 0 | AY62: =AF62+AG62 -> 0
A63: 4.4 | B63: ÌÝáÕ³Ï³Ý Çñ³íáõÝùÝ»ñÇó ½ñÏ»Éáõ í»ñ³µ»ñÛ³É | E63: =SUM(Աջափնյակ:Սյունիք!E63) -> 22 | F63: =SUM(Աջափնյակ:Սյունիք!F63) -> 2 | G63: =SUM(Աջափնյակ:Սյունիք!G63) -> 20 | H63: =SUM(Աջափնյակ:Սյունիք!H63) -> 0 | I63: =SUM(Աջափնյակ:Սյունիք!I63) -> 0 | J63: =SUM(Աջափնյակ:Սյունիք!J63) -> 19 | K63: =SUM(Աջափնյակ:Սյունիք!K63) -> 12 | L63: =SUM(Աջափնյակ:Սյունիք!L63) -> 7 | ... AH63: =SUM(Աջափնյակ:Սյունիք!AH63) -> 0 | AJ63: =E63 -> 22 | AK63: =F63+G63+H63+I63 -> 22 | AL63: =J63 -> 19 | AM63: =K63+L63+M63 -> 19 | AN63: =F63+G63+K63 -> 34 | AO63: =X63+Y63+AA63 -> 34 | AP63: =N63 -> 13 | AQ63: =O63+P63+Q63+R63+S63 -> 13 | AR63: =S63 -> 2 | AS63: =T63+U63+V63 -> 2 | AT63: =X63 -> 13 | AU63: =N63+W63 -> 13 | AV63: =AE63 -> 4 | AW63: =AC63+AD63 -> 4 | AX63: =AH63 -> 0 | AY63: =AF63+AG63 -> 0
A64: 4.5 | B64: ÌÝáÕ³Ï³Ý Çñ³íáõÝùÝ»ñÁ í»ñ³Ï³Ý·Ý»Éáõ í»ñ³µ»ñÛ³É | E64: =SUM(Աջափնյակ:Սյունիք!E64) -> 1 | F64: =SUM(Աջափնյակ:Սյունիք!F64) -> 1 | G64: =SUM(Աջափնյակ:Սյունիք!G64) -> 0 | H64: =SUM(Աջափնյակ:Սյունիք!H64) -> 0 | I64: =SUM(Աջափնյակ:Սյունիք!I64) -> 0 | J64: =SUM(Աջափնյակ:Սյունիք!J64) -> 0 | K64: =SUM(Աջափնյակ:Սյունիք!K64) -> 0 | L64: =SUM(Աջափնյակ:Սյունիք!L64) -> 0 | ... AH64: =SUM(Աջափնյակ:Սյունիք!AH64) -> 0 | AJ64: =E64 -> 1 | AK64: =F64+G64+H64+I64 -> 1 | AL64: =J64 -> 0 | AM64: =K64+L64+M64 -> 0 | AN64: =F64+G64+K64 -> 1 | AO64: =X64+Y64+AA64 -> 1 | AP64: =N64 -> 0 | AQ64: =O64+P64+Q64+R64+S64 -> 0 | AR64: =S64 -> 0 | AS64: =T64+U64+V64 -> 0 | AT64: =X64 -> 0 | AU64: =N64+W64 -> 0 | AV64: =AE64 -> 0 | AW64: =AC64+AD64 -> 0 | AX64: =AH64 -> 0 | AY64: =AF64+AG64 -> 0
A65: 4.6 | B65: ºñ»Ë³ÛÇ áñ¹»·ñÙ³Ý í»ñ³µ»ñÛ³É | E65: =SUM(Աջափնյակ:Սյունիք!E65) -> 12 | F65: =SUM(Աջափնյակ:Սյունիք!F65) -> 0 | G65: =SUM(Աջափնյակ:Սյունիք!G65) -> 12 | H65: =SUM(Աջափնյակ:Սյունիք!H65) -> 0 | I65: =SUM(Աջափնյակ:Սյունիք!I65) -> 0 | J65: =SUM(Աջափնյակ:Սյունիք!J65) -> 26 | K65: =SUM(Աջափնյակ:Սյունիք!K65) -> 25 | L65: =SUM(Աջափնյակ:Սյունիք!L65) -> 1 | ... AH65: =SUM(Աջափնյակ:Սյունիք!AH65) -> 0 | AJ65: =E65 -> 12 | AK65: =F65+G65+H65+I65 -> 12 | AL65: =J65 -> 26 | AM65: =K65+L65+M65 -> 26 | AN65: =F65+G65+K65 -> 37 | AO65: =X65+Y65+AA65 -> 37 | AP65: =N65 -> 19 | AQ65: =O65+P65+Q65+R65+S65 -> 19 | AR65: =S65 -> 1 | AS65: =T65+U65+V65 -> 1 | AT65: =X65 -> 19 | AU65: =N65+W65 -> 19 | AV65: =AE65 -> 0 | AW65: =AC65+AD65 -> 0 | AX65: =AH65 -> 0 | AY65: =AF65+AG65 -> 0
A66: 4.7 | B66: ºñ»Ë³ÛÇ áñ¹»·ñáõÙÁ í»ñ³óÝ»Éáõ í»ñ³µ»ñÛ³É | E66: =SUM(Աջափնյակ:Սյունիք!E66) -> 6 | F66: =SUM(Աջափնյակ:Սյունիք!F66) -> 0 | G66: =SUM(Աջափնյակ:Սյունիք!G66) -> 6 | H66: =SUM(Աջափնյակ:Սյունիք!H66) -> 0 | I66: =SUM(Աջափնյակ:Սյունիք!I66) -> 0 | J66: =SUM(Աջափնյակ:Սյունիք!J66) -> 11 | K66: =SUM(Աջափնյակ:Սյունիք!K66) -> 10 | L66: =SUM(Աջափնյակ:Սյունիք!L66) -> 1 | ... AH66: =SUM(Աջափնյակ:Սյունիք!AH66) -> 0 | AJ66: =E66 -> 6 | AK66: =F66+G66+H66+I66 -> 6 | AL66: =J66 -> 11 | AM66: =K66+L66+M66 -> 11 | AN66: =F66+G66+K66 -> 16 | AO66: =X66+Y66+AA66 -> 16 | AP66: =N66 -> 6 | AQ66: =O66+P66+Q66+R66+S66 -> 6 | AR66: =S66 -> 1 | AS66: =T66+U66+V66 -> 1 | AT66: =X66 -> 6 | AU66: =N66+W66 -> 6 | AV66: =AE66 -> 0 | AW66: =AC66+AD66 -> 0 | AX66: =AH66 -> 0 | AY66: =AF66+AG66 -> 0
A67: 4.8 | B67: Ð³ÛñáõÃÛáõÝÁ ×³Ý³ã»Éáõ í»ñ³µ»ñÛ³É | E67: =SUM(Աջափնյակ:Սյունիք!E67) -> 93 | F67: =SUM(Աջափնյակ:Սյունիք!F67) -> 30 | G67: =SUM(Աջափնյակ:Սյունիք!G67) -> 63 | H67: =SUM(Աջափնյակ:Սյունիք!H67) -> 0 | I67: =SUM(Աջափնյակ:Սյունիք!I67) -> 0 | J67: =SUM(Աջափնյակ:Սյունիք!J67) -> 64 | K67: =SUM(Աջափնյակ:Սյունիք!K67) -> 57 | L67: =SUM(Աջափնյակ:Սյունիք!L67) -> 6 | ... AH67: =SUM(Աջափնյակ:Սյունիք!AH67) -> 1 | AJ67: =E67 -> 93 | AK67: =F67+G67+H67+I67 -> 93 | AL67: =J67 -> 64 | AM67: =K67+L67+M67 -> 63 | AN67: =F67+G67+K67 -> 150 | AO67: =X67+Y67+AA67 -> 150 | AP67: =N67 -> 61 | AQ67: =O67+P67+Q67+R67+S67 -> 61 | AR67: =S67 -> 13 | AS67: =T67+U67+V67 -> 13 | AT67: =X67 -> 61 | AU67: =N67+W67 -> 61 | AV67: =AE67 -> 2 | AW67: =AC67+AD67 -> 2 | AX67: =AH67 -> 1 | AY67: =AF67+AG67 -> 1
A68: 4.9 | B68: ºñ»Ë³ÛÇ µÝ³ÏáõÃÛ³Ý í³ÛñÁ áñáß»Éáõ í»ñ³µ»ñÛ³É | E68: =SUM(Աջափնյակ:Սյունիք!E68) -> 88 | F68: =SUM(Աջափնյակ:Սյունիք!F68) -> 2 | G68: =SUM(Աջափնյակ:Սյունիք!G68) -> 86 | H68: =SUM(Աջափնյակ:Սյունիք!H68) -> 0 | I68: =SUM(Աջափնյակ:Սյունիք!I68) -> 0 | J68: =SUM(Աջափնյակ:Սյունիք!J68) -> 76 | K68: =SUM(Աջափնյակ:Սյունիք!K68) -> 66 | L68: =SUM(Աջափնյակ:Սյունիք!L68) -> 10 | ... AH68: =SUM(Աջափնյակ:Սյունիք!AH68) -> 0 | AJ68: =E68 -> 88 | AK68: =F68+G68+H68+I68 -> 88 | AL68: =J68 -> 76 | AM68: =K68+L68+M68 -> 76 | AN68: =F68+G68+K68 -> 154 | AO68: =X68+Y68+AA68 -> 154 | AP68: =N68 -> 62 | AQ68: =O68+P68+Q68+R68+S68 -> 62 | AR68: =S68 -> 24 | AS68: =T68+U68+V68 -> 24 | AT68: =X68 -> 62 | AU68: =N68+W68 -> 62 | AV68: =AE68 -> 7 | AW68: =AC68+AD68 -> 7 | AX68: =AH68 -> 0 | AY68: =AF68+AG68 -> 0
A69: 4.10 | B69: ºñ»Ë³ÛÇ Ñ»ï ï»ë³ÏóáõÃÛ³Ý Ï³ñ· ë³ÑÙ³Ý»Éáõ í»ñ³µ»ñÛ³É | E69: =SUM(Աջափնյակ:Սյունիք!E69) -> 118 | F69: =SUM(Աջափնյակ:Սյունիք!F69) -> 10 | G69: =SUM(Աջափնյակ:Սյունիք!G69) -> 108 | H69: =SUM(Աջափնյակ:Սյունիք!H69) -> 0 | I69: =SUM(Աջափնյակ:Սյունիք!I69) -> 0 | J69: =SUM(Աջափնյակ:Սյունիք!J69) -> 100 | K69: =SUM(Աջափնյակ:Սյունիք!K69) -> 89 | L69: =SUM(Աջափնյակ:Սյունիք!L69) -> 9 | ... AH69: =SUM(Աջափնյակ:Սյունիք!AH69) -> 1 | AJ69: =E69 -> 118 | AK69: =F69+G69+H69+I69 -> 118 | AL69: =J69 -> 100 | AM69: =K69+L69+M69 -> 99 | AN69: =F69+G69+K69 -> 207 | AO69: =X69+Y69+AA69 -> 207 | AP69: =N69 -> 85 | AQ69: =O69+P69+Q69+R69+S69 -> 85 | AR69: =S69 -> 29 | AS69: =T69+U69+V69 -> 29 | AT69: =X69 -> 85 | AU69: =N69+W69 -> 85 | AV69: =AE69 -> 9 | AW69: =AC69+AD69 -> 9 | AX69: =AH69 -> 1 | AY69: =AF69+AG69 -> 1
A70: 4.11 | B70: ²ÙáõëÇÝÝ»ñÇ ÁÝ¹Ñ³Ýáõñ ·áõÛùÁ µ³Å³Ý»Éáõ í»ñ³µ»ñÛ³É | E70: =SUM(Աջափնյակ:Սյունիք!E70) -> 62 | F70: =SUM(Աջափնյակ:Սյունիք!F70) -> 8 | G70: =SUM(Աջափնյակ:Սյունիք!G70) -> 54 | H70: =SUM(Աջափնյակ:Սյունիք!H70) -> 0 | I70: =SUM(Աջափնյակ:Սյունիք!I70) -> 0 | J70: =SUM(Աջափնյակ:Սյունիք!J70) -> 33 | K70: =SUM(Աջափնյակ:Սյունիք!K70) -> 27 | L70: =SUM(Աջափնյակ:Սյունիք!L70) -> 5 | ... AH70: =SUM(Աջափնյակ:Սյունիք!AH70) -> 0 | AJ70: =E70 -> 62 | AK70: =F70+G70+H70+I70 -> 62 | AL70: =J70 -> 33 | AM70: =K70+L70+M70 -> 32 | AN70: =F70+G70+K70 -> 89 | AO70: =X70+Y70+AA70 -> 89 | AP70: =N70 -> 24 | AQ70: =O70+P70+Q70+R70+S70 -> 24 | AR70: =S70 -> 11 | AS70: =T70+U70+V70 -> 11 | AT70: =X70 -> 24 | AU70: =N70+W70 -> 24 | AV70: =AE70 -> 2 | AW70: =AC70+AD70 -> 2 | AX70: =AH70 -> 0 | AY70: =AF70+AG70 -> 0
A71: 4.12 | B71: ²ÙáõëÝ³Ï³Ý å³ÛÙ³Ý³·ñÇ ÷á÷áËÙ³Ý Ï³Ù ÉáõÍÙ³Ý í»ñ³µ»ñÛ³É | E71: =SUM(Աջափնյակ:Սյունիք!E71) -> 0 | F71: =SUM(Աջափնյակ:Սյունիք!F71) -> 0 | G71: =SUM(Աջափնյակ:Սյունիք!G71) -> 0 | H71: =SUM(Աջափնյակ:Սյունիք!H71) -> 0 | I71: =SUM(Աջափնյակ:Սյունիք!I71) -> 0 | J71: =SUM(Աջափնյակ:Սյունիք!J71) -> 0 | K71: =SUM(Աջափնյակ:Սյունիք!K71) -> 0 | L71: =SUM(Աջափնյակ:Սյունիք!L71) -> 0 | ... AH71: =SUM(Աջափնյակ:Սյունիք!AH71) -> 0 | AJ71: =E71 -> 0 | AK71: =F71+G71+H71+I71 -> 0 | AL71: =J71 -> 0 | AM71: =K71+L71+M71 -> 0 | AN71: =F71+G71+K71 -> 0 | AO71: =X71+Y71+AA71 -> 0 | AP71: =N71 -> 0 | AQ71: =O71+P71+Q71+R71+S71 -> 0 | AR71: =S71 -> 0 | AS71: =T71+U71+V71 -> 0 | AT71: =X71 -> 0 | AU71: =N71+W71 -> 0 | AV71: =AE71 -> 0 | AW71: =AC71+AD71 -> 0 | AX71: =AH71 -> 0 | AY71: =AF71+AG71 -> 0
A72: 4.13 | B72: ²ÛÉ í»×»ñ | E72: =SUM(Աջափնյակ:Սյունիք!E72) -> 51 | F72: =SUM(Աջափնյակ:Սյունիք!F72) -> 7 | G72: =SUM(Աջափնյակ:Սյունիք!G72) -> 44 | H72: =SUM(Աջափնյակ:Սյունիք!H72) -> 0 | I72: =SUM(Աջափնյակ:Սյունիք!I72) -> 0 | J72: =SUM(Աջափնյակ:Սյունիք!J72) -> 45 | K72: =SUM(Աջափնյակ:Սյունիք!K72) -> 35 | L72: =SUM(Աջափնյակ:Սյունիք!L72) -> 6 | ... AH72: =SUM(Աջափնյակ:Սյունիք!AH72) -> 2 | AJ72: =E72 -> 51 | AK72: =F72+G72+H72+I72 -> 51 | AL72: =J72 -> 45 | AM72: =K72+L72+M72 -> 45 | AN72: =F72+G72+K72 -> 86 | AO72: =X72+Y72+AA72 -> 86 | AP72: =N72 -> 26 | AQ72: =O72+P72+Q72+R72+S72 -> 26 | AR72: =S72 -> 10 | AS72: =T72+U72+V72 -> 10 | AT72: =X72 -> 26 | AU72: =N72+W72 -> 26 | AV72: =AE72 -> 4 | AW72: =AC72+AD72 -> 4 | AX72: =AH72 -> 2 | AY72: =AF72+AG72 -> 2
A73: 5. | B73: Øï³íáñ ë»÷³Ï³ÝáõÃÛ³Ý Ñ»ï Ï³åí³ÍÇñ³í³Ñ³ñ³µ»ñáõÃÛáõÝÝ»ñÇ í»ñ³µ»ñÛ³É ¹³ï³Ï³Ý ·áñÍ»ñ | E73: =SUM(Աջափնյակ:Սյունիք!E73) -> 16 | F73: =SUM(Աջափնյակ:Սյունիք!F73) -> 0 | G73: =SUM(Աջափնյակ:Սյունիք!G73) -> 16 | H73: =SUM(Աջափնյակ:Սյունիք!H73) -> 0 | I73: =SUM(Աջափնյակ:Սյունիք!I73) -> 0 | J73: =SUM(Աջափնյակ:Սյունիք!J73) -> 9 | K73: =SUM(Աջափնյակ:Սյունիք!K73) -> 8 | L73: =SUM(Աջափնյակ:Սյունիք!L73) -> 1 | ... AH73: =SUM(Աջափնյակ:Սյունիք!AH73) -> 0 | AJ73: =SUM(AJ74:AJ79) -> 16 | AK73: =SUM(AK74:AK79) -> 16 | AL73: =SUM(AL74:AL79) -> 9 | AM73: =SUM(AM74:AM79) -> 9 | AN73: =SUM(AN74:AN79) -> 24 | AO73: =SUM(AO74:AO79) -> 24 | AP73: =SUM(AP74:AP79) -> 3 | AQ73: =SUM(AQ74:AQ79) -> 3 | ... AX73: =SUM(AX74:AX79) -> 0 | AY73: =AF73+AG73 -> 0
A74: 5.1 | B74: ÈÇó»Ý½³ÛÇÝ å³ÛÙ³Ý³·ñÇ ÉáõÍÙ³Ý, ÷á÷áËÙ³Ý ¨ ³Ýí³í»ñáõÃÛ³Ý í»ñ³µ»ñÛ³É | E74: =SUM(Աջափնյակ:Սյունիք!E74) -> 0 | F74: =SUM(Աջափնյակ:Սյունիք!F74) -> 0 | G74: =SUM(Աջափնյակ:Սյունիք!G74) -> 0 | H74: =SUM(Աջափնյակ:Սյունիք!H74) -> 0 | I74: =SUM(Աջափնյակ:Սյունիք!I74) -> 0 | J74: =SUM(Աջափնյակ:Սյունիք!J74) -> 0 | K74: =SUM(Աջափնյակ:Սյունիք!K74) -> 0 | L74: =SUM(Աջափնյակ:Սյունիք!L74) -> 0 | ... AH74: =SUM(Աջափնյակ:Սյունիք!AH74) -> 0 | AJ74: =E74 -> 0 | AK74: =F74+G74+H74+I74 -> 0 | AL74: =J74 -> 0 | AM74: =K74+L74+M74 -> 0 | AN74: =F74+G74+K74 -> 0 | AO74: =X74+Y74+AA74 -> 0 | AP74: =N74 -> 0 | AQ74: =O74+P74+Q74+R74+S74 -> 0 | AR74: =S74 -> 0 | AS74: =T74+U74+V74 -> 0 | AT74: =X74 -> 0 | AU74: =N74+W74 -> 0 | AV74: =AE74 -> 0 | AW74: =AC74+AD74 -> 0 | AX74: =AH74 -> 0 | AY74: =AF74+AG74 -> 0
A75: 5.2 | B75: Øï³íáñ ·áñÍáõÝ»áõÃÛ³Ý ³ñ¹ÛáõÝùÝ»ñ ëï»ÕÍ»Éáõ ¨ û·ï³·áñÍ»Éáõ å³ÛÙ³Ý³·ñÇ ÉáõÍÙ³Ý, ÷á÷áËÙ³Ý áõ ³Ýí³í»ñáõÃÛ³Ý í»ñ³µ»ñÛ³É | E75: =SUM(Աջափնյակ:Սյունիք!E75) -> 0 | F75: =SUM(Աջափնյակ:Սյունիք!F75) -> 0 | G75: =SUM(Աջափնյակ:Սյունիք!G75) -> 0 | H75: =SUM(Աջափնյակ:Սյունիք!H75) -> 0 | I75: =SUM(Աջափնյակ:Սյունիք!I75) -> 0 | J75: =SUM(Աջափնյակ:Սյունիք!J75) -> 0 | K75: =SUM(Աջափնյակ:Սյունիք!K75) -> 0 | L75: =SUM(Աջափնյակ:Սյունիք!L75) -> 0 | ... AH75: =SUM(Աջափնյակ:Սյունիք!AH75) -> 0 | AJ75: =E75 -> 0 | AK75: =F75+G75+H75+I75 -> 0 | AL75: =J75 -> 0 | AM75: =K75+L75+M75 -> 0 | AN75: =F75+G75+K75 -> 0 | AO75: =X75+Y75+AA75 -> 0 | AP75: =N75 -> 0 | AQ75: =O75+P75+Q75+R75+S75 -> 0 | AR75: =S75 -> 0 | AS75: =T75+U75+V75 -> 0 | AT75: =X75 -> 0 | AU75: =N75+W75 -> 0 | AV75: =AE75 -> 0 | AW75: =AC75+AD75 -> 0 | AX75: =AH75 -> 0 | AY75: =AF75+AG75 -> 0
A76: 5.3 | B76: Ð»ÕÇÝ³Ï³ÛÇÝ ¨ Ñ³ñ³ÏÇó Çñ³íáõÝùÝ»ñÇ í»ñ³µ»ñÛ³É | E76: =SUM(Աջափնյակ:Սյունիք!E76) -> 4 | F76: =SUM(Աջափնյակ:Սյունիք!F76) -> 0 | G76: =SUM(Աջափնյակ:Սյունիք!G76) -> 4 | H76: =SUM(Աջափնյակ:Սյունիք!H76) -> 0 | I76: =SUM(Աջափնյակ:Սյունիք!I76) -> 0 | J76: =SUM(Աջափնյակ:Սյունիք!J76) -> 1 | K76: =SUM(Աջափնյակ:Սյունիք!K76) -> 1 | L76: =SUM(Աջափնյակ:Սյունիք!L76) -> 0 | ... AH76: =SUM(Աջափնյակ:Սյունիք!AH76) -> 0 | AJ76: =E76 -> 4 | AK76: =F76+G76+H76+I76 -> 4 | AL76: =J76 -> 1 | AM76: =K76+L76+M76 -> 1 | AN76: =F76+G76+K76 -> 5 | AO76: =X76+Y76+AA76 -> 5 | AP76: =N76 -> 0 | AQ76: =O76+P76+Q76+R76+S76 -> 0 | AR76: =S76 -> 0 | AS76: =T76+U76+V76 -> 0 | AT76: =X76 -> 0 | AU76: =N76+W76 -> 0 | AV76: =AE76 -> 0 | AW76: =AC76+AD76 -> 0 | AX76: =AH76 -> 0 | AY76: =AF76+AG76 -> 0
A77: 5.4 | B77: üÇñÙ³ÛÇÝ ³Ýí³ÝÙ³Ý í»ñ³µ»ñÛ³É | E77: =SUM(Աջափնյակ:Սյունիք!E77) -> 0 | F77: =SUM(Աջափնյակ:Սյունիք!F77) -> 0 | G77: =SUM(Աջափնյակ:Սյունիք!G77) -> 0 | H77: =SUM(Աջափնյակ:Սյունիք!H77) -> 0 | I77: =SUM(Աջափնյակ:Սյունիք!I77) -> 0 | J77: =SUM(Աջափնյակ:Սյունիք!J77) -> 1 | K77: =SUM(Աջափնյակ:Սյունիք!K77) -> 1 | L77: =SUM(Աջափնյակ:Սյունիք!L77) -> 0 | ... AH77: =SUM(Աջափնյակ:Սյունիք!AH77) -> 0 | AJ77: =E77 -> 0 | AK77: =F77+G77+H77+I77 -> 0 | AL77: =J77 -> 1 | AM77: =K77+L77+M77 -> 1 | AN77: =F77+G77+K77 -> 1 | AO77: =X77+Y77+AA77 -> 1 | AP77: =N77 -> 1 | AQ77: =O77+P77+Q77+R77+S77 -> 1 | AR77: =S77 -> 0 | AS77: =T77+U77+V77 -> 0 | AT77: =X77 -> 1 | AU77: =N77+W77 -> 1 | AV77: =AE77 -> 0 | AW77: =AC77+AD77 -> 0 | AX77: =AH77 -> 0 | AY77: =AF77+AG77 -> 0
A78: 5.5 | B78: ²åñ³Ýù³ÛÇÝ Ýß³ÝÇ í»ñ³µ»ñÛ³É | E78: =SUM(Աջափնյակ:Սյունիք!E78) -> 9 | F78: =SUM(Աջափնյակ:Սյունիք!F78) -> 0 | G78: =SUM(Աջափնյակ:Սյունիք!G78) -> 9 | H78: =SUM(Աջափնյակ:Սյունիք!H78) -> 0 | I78: =SUM(Աջափնյակ:Սյունիք!I78) -> 0 | J78: =SUM(Աջափնյակ:Սյունիք!J78) -> 7 | K78: =SUM(Աջափնյակ:Սյունիք!K78) -> 6 | L78: =SUM(Աջափնյակ:Սյունիք!L78) -> 1 | ... AH78: =SUM(Աջափնյակ:Սյունիք!AH78) -> 0 | AJ78: =E78 -> 9 | AK78: =F78+G78+H78+I78 -> 9 | AL78: =J78 -> 7 | AM78: =K78+L78+M78 -> 7 | AN78: =F78+G78+K78 -> 15 | AO78: =X78+Y78+AA78 -> 15 | AP78: =N78 -> 2 | AQ78: =O78+P78+Q78+R78+S78 -> 2 | AR78: =S78 -> 0 | AS78: =T78+U78+V78 -> 0 | AT78: =X78 -> 2 | AU78: =N78+W78 -> 2 | AV78: =AE78 -> 0 | AW78: =AC78+AD78 -> 0 | AX78: =AH78 -> 0 | AY78: =AF78+AG78 -> 0
A79: 5.6 | B79: ²ÛÉ í»×»ñ | E79: =SUM(Աջափնյակ:Սյունիք!E79) -> 3 | F79: =SUM(Աջափնյակ:Սյունիք!F79) -> 0 | G79: =SUM(Աջափնյակ:Սյունիք!G79) -> 3 | H79: =SUM(Աջափնյակ:Սյունիք!H79) -> 0 | I79: =SUM(Աջափնյակ:Սյունիք!I79) -> 0 | J79: =SUM(Աջափնյակ:Սյունիք!J79) -> 0 | K79: =SUM(Աջափնյակ:Սյունիք!K79) -> 0 | L79: =SUM(Աջափնյակ:Սյունիք!L79) -> 0 | ... AH79: =SUM(Աջափնյակ:Սյունիք!AH79) -> 0 | AJ79: =E79 -> 3 | AK79: =F79+G79+H79+I79 -> 3 | AL79: =J79 -> 0 | AM79: =K79+L79+M79 -> 0 | AN79: =F79+G79+K79 -> 3 | AO79: =X79+Y79+AA79 -> 3 | AP79: =N79 -> 0 | AQ79: =O79+P79+Q79+R79+S79 -> 0 | AR79: =S79 -> 0 | AS79: =T79+U79+V79 -> 0 | AT79: =X79 -> 0 | AU79: =N79+W79 -> 0 | AV79: =AE79 -> 0 | AW79: =AC79+AD79 -> 0 | AX79: =AH79 -> 0 | AY79: =AF79+AG79 -> 0
A80: 6. | B80: ²ßË³ï³Ýù³ÛÇÝ Çñ³í³Ñ³ñ³µ»ñáõÃÛáõÝÝ»ñÇ í»ñ³µ»ñÛ³É ¹³ï³Ï³Ý ·áñÍ»ñ | E80: =SUM(Աջափնյակ:Սյունիք!E80) -> 247 | F80: =SUM(Աջափնյակ:Սյունիք!F80) -> 25 | G80: =SUM(Աջափնյակ:Սյունիք!G80) -> 222 | H80: =SUM(Աջափնյակ:Սյունիք!H80) -> 0 | I80: =SUM(Աջափնյակ:Սյունիք!I80) -> 0 | J80: =SUM(Աջափնյակ:Սյունիք!J80) -> 136 | K80: =SUM(Աջափնյակ:Սյունիք!K80) -> 121 | L80: =SUM(Աջափնյակ:Սյունիք!L80) -> 14 | ... AH80: =SUM(Աջափնյակ:Սյունիք!AH80) -> 2 | AJ80: =SUM(AJ81:AJ86) -> 247 | AK80: =SUM(AK81:AK86) -> 247 | AL80: =SUM(AL81:AL86) -> 136 | AM80: =SUM(AM81:AM86) -> 135 | AN80: =SUM(AN81:AN86) -> 368 | AO80: =SUM(AO81:AO86) -> 367 | AP80: =SUM(AP81:AP86) -> 108 | AQ80: =SUM(AQ81:AQ86) -> 108 | ... AY80: =SUM(AY81:AY86) -> 2
A81: 6.1 | B81: ²ßË³ï³Ýù³ÛÇÝ å³ÛÙ³Ý³·ñ»ñÇ í»ñ³µ»ñÛ³É | E81: =SUM(Աջափնյակ:Սյունիք!E81) -> 9 | F81: =SUM(Աջափնյակ:Սյունիք!F81) -> 1 | G81: =SUM(Աջափնյակ:Սյունիք!G81) -> 8 | H81: =SUM(Աջափնյակ:Սյունիք!H81) -> 0 | I81: =SUM(Աջափնյակ:Սյունիք!I81) -> 0 | J81: =SUM(Աջափնյակ:Սյունիք!J81) -> 6 | K81: =SUM(Աջափնյակ:Սյունիք!K81) -> 6 | L81: =SUM(Աջափնյակ:Սյունիք!L81) -> 0 | ... AH81: =SUM(Աջափնյակ:Սյունիք!AH81) -> 0 | AJ81: =E81 -> 9 | AK81: =F81+G81+H81+I81 -> 9 | AL81: =J81 -> 6 | AM81: =K81+L81+M81 -> 6 | AN81: =F81+G81+K81 -> 15 | AO81: =X81+Y81+AA81 -> 15 | AP81: =N81 -> 5 | AQ81: =O81+P81+Q81+R81+S81 -> 5 | AR81: =S81 -> 2 | AS81: =T81+U81+V81 -> 2 | AT81: =X81 -> 5 | AU81: =N81+W81 -> 5 | AV81: =AE81 -> 3 | AW81: =AC81+AD81 -> 3 | AX81: =AH81 -> 0 | AY81: =AF81+AG81 -> 0
A82: 6.2 | B82: ²ßË³ï³ÝùáõÙ í»ñ³Ï³Ý·Ý»Éáõ í»ñ³µ»ñÛ³É | E82: =SUM(Աջափնյակ:Սյունիք!E82) -> 69 | F82: =SUM(Աջափնյակ:Սյունիք!F82) -> 5 | G82: =SUM(Աջափնյակ:Սյունիք!G82) -> 64 | H82: =SUM(Աջափնյակ:Սյունիք!H82) -> 0 | I82: =SUM(Աջափնյակ:Սյունիք!I82) -> 0 | J82: =SUM(Աջափնյակ:Սյունիք!J82) -> 59 | K82: =SUM(Աջափնյակ:Սյունիք!K82) -> 49 | L82: =SUM(Աջափնյակ:Սյունիք!L82) -> 9 | ... AH82: =SUM(Աջափնյակ:Սյունիք!AH82) -> 1 | AJ82: =E82 -> 69 | AK82: =F82+G82+H82+I82 -> 69 | AL82: =J82 -> 59 | AM82: =K82+L82+M82 -> 58 | AN82: =F82+G82+K82 -> 118 | AO82: =X82+Y82+AA82 -> 117 | AP82: =N82 -> 28 | AQ82: =O82+P82+Q82+R82+S82 -> 28 | AR82: =S82 -> 8 | AS82: =T82+U82+V82 -> 8 | AT82: =X82 -> 28 | AU82: =N82+W82 -> 28 | AV82: =AE82 -> 14 | AW82: =AC82+AD82 -> 14 | AX82: =AH82 -> 1 | AY82: =AF82+AG82 -> 1
A83: 6.3 | B83: ¶áñÍ³¹áõÉÝ ³ÝûñÇÝ³Ï³Ý ×³Ý³ã»Éáõ í»ñ³µ»ñÛ³É | E83: =SUM(Աջափնյակ:Սյունիք!E83) -> 0 | F83: =SUM(Աջափնյակ:Սյունիք!F83) -> 0 | G83: =SUM(Աջափնյակ:Սյունիք!G83) -> 0 | H83: =SUM(Աջափնյակ:Սյունիք!H83) -> 0 | I83: =SUM(Աջափնյակ:Սյունիք!I83) -> 0 | J83: =SUM(Աջափնյակ:Սյունիք!J83) -> 0 | K83: =SUM(Աջափնյակ:Սյունիք!K83) -> 0 | L83: =SUM(Աջափնյակ:Սյունիք!L83) -> 0 | ... AH83: =SUM(Աջափնյակ:Սյունիք!AH83) -> 0 | AJ83: =E83 -> 0 | AK83: =F83+G83+H83+I83 -> 0 | AL83: =J83 -> 0 | AM83: =K83+L83+M83 -> 0 | AN83: =F83+G83+K83 -> 0 | AO83: =X83+Y83+AA83 -> 0 | AP83: =N83 -> 0 | AQ83: =O83+P83+Q83+R83+S83 -> 0 | AR83: =S83 -> 0 | AS83: =T83+U83+V83 -> 0 | AT83: =X83 -> 0 | AU83: =N83+W83 -> 0 | AV83: =AE83 -> 0 | AW83: =AC83+AD83 -> 0 | AX83: =AH83 -> 0 | AY83: =AF83+AG83 -> 0
A84: 6.4 | B84: Ð³ñÏ³¹Çñ å³ñ³åáõñ¹Ç Ñ³ïáõóÙ³Ý í»ñ³µ»ñÛ³É | E84: =SUM(Աջափնյակ:Սյունիք!E84) -> 7 | F84: =SUM(Աջափնյակ:Սյունիք!F84) -> 1 | G84: =SUM(Աջափնյակ:Սյունիք!G84) -> 6 | H84: =SUM(Աջափնյակ:Սյունիք!H84) -> 0 | I84: =SUM(Աջափնյակ:Սյունիք!I84) -> 0 | J84: =SUM(Աջափնյակ:Սյունիք!J84) -> 1 | K84: =SUM(Աջափնյակ:Սյունիք!K84) -> 1 | L84: =SUM(Աջափնյակ:Սյունիք!L84) -> 0 | ... AH84: =SUM(Աջափնյակ:Սյունիք!AH84) -> 0 | AJ84: =E84 -> 7 | AK84: =F84+G84+H84+I84 -> 7 | AL84: =J84 -> 1 | AM84: =K84+L84+M84 -> 1 | AN84: =F84+G84+K84 -> 8 | AO84: =X84+Y84+AA84 -> 8 | AP84: =N84 -> 0 | AQ84: =O84+P84+Q84+R84+S84 -> 0 | AR84: =S84 -> 0 | AS84: =T84+U84+V84 -> 0 | AT84: =X84 -> 0 | AU84: =N84+W84 -> 0 | AV84: =AE84 -> 0 | AW84: =AC84+AD84 -> 0 | AX84: =AH84 -> 0 | AY84: =AF84+AG84 -> 0
A85: 6.5 | B85: âí×³ñí³Í ³ßË³ï³í³ñÓÇ ¨/Ï³Ù ³ÛÉ í×³ñÝ»ñÇ µéÝ³·³ÝÓÙ³Ý í»ñ³µ»ñÛ³É | E85: =SUM(Աջափնյակ:Սյունիք!E85) -> 107 | F85: =SUM(Աջափնյակ:Սյունիք!F85) -> 16 | G85: =SUM(Աջափնյակ:Սյունիք!G85) -> 91 | H85: =SUM(Աջափնյակ:Սյունիք!H85) -> 0 | I85: =SUM(Աջափնյակ:Սյունիք!I85) -> 0 | J85: =SUM(Աջափնյակ:Սյունիք!J85) -> 50 | K85: =SUM(Աջափնյակ:Սյունիք!K85) -> 47 | L85: =SUM(Աջափնյակ:Սյունիք!L85) -> 3 | ... AH85: =SUM(Աջափնյակ:Սյունիք!AH85) -> 0 | AJ85: =E85 -> 107 | AK85: =F85+G85+H85+I85 -> 107 | AL85: =J85 -> 50 | AM85: =K85+L85+M85 -> 50 | AN85: =F85+G85+K85 -> 154 | AO85: =X85+Y85+AA85 -> 154 | AP85: =N85 -> 46 | AQ85: =O85+P85+Q85+R85+S85 -> 46 | AR85: =S85 -> 17 | AS85: =T85+U85+V85 -> 17 | AT85: =X85 -> 46 | AU85: =N85+W85 -> 46 | AV85: =AE85 -> 8 | AW85: =AC85+AD85 -> 8 | AX85: =AH85 -> 0 | AY85: =AF85+AG85 -> 0
A86: 6.6 | B86: ²ÛÉ í»×»ñ | E86: =SUM(Աջափնյակ:Սյունիք!E86) -> 55 | F86: =SUM(Աջափնյակ:Սյունիք!F86) -> 2 | G86: =SUM(Աջափնյակ:Սյունիք!G86) -> 53 | H86: =SUM(Աջափնյակ:Սյունիք!H86) -> 0 | I86: =SUM(Աջափնյակ:Սյունիք!I86) -> 0 | J86: =SUM(Աջափնյակ:Սյունիք!J86) -> 20 | K86: =SUM(Աջափնյակ:Սյունիք!K86) -> 18 | L86: =SUM(Աջափնյակ:Սյունիք!L86) -> 2 | ... AH86: =SUM(Աջափնյակ:Սյունիք!AH86) -> 1 | AJ86: =E86 -> 55 | AK86: =F86+G86+H86+I86 -> 55 | AL86: =J86 -> 20 | AM86: =K86+L86+M86 -> 20 | AN86: =F86+G86+K86 -> 73 | AO86: =X86+Y86+AA86 -> 73 | AP86: =N86 -> 29 | AQ86: =O86+P86+Q86+R86+S86 -> 29 | AR86: =S86 -> 9 | AS86: =T86+U86+V86 -> 9 | AT86: =X86 -> 29 | AU86: =N86+W86 -> 29 | AV86: =AE86 -> 6 | AW86: =AC86+AD86 -> 6 | AX86: =AH86 -> 1 | AY86: =AF86+AG86 -> 1
A87: 7. | B87: Æñ³í³µ³Ý³Ï³Ý ³ÝÓÇ ·áñÍáõÝ»áõÃÛáõÝÇó µËáÕ Çñ³í³Ñ³ñ³µ»ñáõÃÛáõÝÝ»ñÇ í»ñ³µ»ñÛ³É ¹³ï³Ï³Ý ·áñÍ»ñ | E87: =SUM(Աջափնյակ:Սյունիք!E87) -> 15 | F87: =SUM(Աջափնյակ:Սյունիք!F87) -> 3 | G87: =SUM(Աջափնյակ:Սյունիք!G87) -> 12 | H87: =SUM(Աջափնյակ:Սյունիք!H87) -> 0 | I87: =SUM(Աջափնյակ:Սյունիք!I87) -> 0 | J87: =SUM(Աջափնյակ:Սյունիք!J87) -> 7 | K87: =SUM(Աջափնյակ:Սյունիք!K87) -> 5 | L87: =SUM(Աջափնյակ:Սյունիք!L87) -> 1 | ... AH87: =SUM(Աջափնյակ:Սյունիք!AH87) -> 0 | AI87: =AI88+AI89 -> 0 | AJ87: =SUM(AJ88:AJ89) -> 15 | AK87: =SUM(AK88:AK89) -> 15 | AL87: =SUM(AL88:AL89) -> 7 | AM87: =SUM(AM88:AM89) -> 6 | AN87: =SUM(AN88:AN89) -> 20 | AO87: =SUM(AO88:AO89) -> 20 | AP87: =SUM(AP88:AP89) -> 4 | AQ87: =SUM(AQ88:AQ89) -> 4 | ... AY87: =SUM(AY88:AY89) -> 0
A88: 7.1 | B88: Îáñåáñ³ïÇí í»×»ñ | E88: =SUM(Աջափնյակ:Սյունիք!E88) -> 3 | F88: =SUM(Աջափնյակ:Սյունիք!F88) -> 2 | G88: =SUM(Աջափնյակ:Սյունիք!G88) -> 1 | H88: =SUM(Աջափնյակ:Սյունիք!H88) -> 0 | I88: =SUM(Աջափնյակ:Սյունիք!I88) -> 0 | J88: =SUM(Աջափնյակ:Սյունիք!J88) -> 3 | K88: =SUM(Աջափնյակ:Սյունիք!K88) -> 2 | L88: =SUM(Աջափնյակ:Սյունիք!L88) -> 1 | ... AH88: =SUM(Աջափնյակ:Սյունիք!AH88) -> 0 | AJ88: =E88 -> 3 | AK88: =F88+G88+H88+I88 -> 3 | AL88: =J88 -> 3 | AM88: =K88+L88+M88 -> 3 | AN88: =F88+G88+K88 -> 5 | AO88: =X88+Y88+AA88 -> 5 | AP88: =N88 -> 0 | AQ88: =O88+P88+Q88+R88+S88 -> 0 | AR88: =S88 -> 0 | AS88: =T88+U88+V88 -> 0 | AT88: =X88 -> 0 | AU88: =N88+W88 -> 0 | AV88: =AE88 -> 0 | AW88: =AC88+AD88 -> 0 | AX88: =AH88 -> 0 | AY88: =AF88+AG88 -> 0
A89: 7.2 | B89: ²ÛÉ í»×»ñ | E89: =SUM(Աջափնյակ:Սյունիք!E89) -> 12 | F89: =SUM(Աջափնյակ:Սյունիք!F89) -> 1 | G89: =SUM(Աջափնյակ:Սյունիք!G89) -> 11 | H89: =SUM(Աջափնյակ:Սյունիք!H89) -> 0 | I89: =SUM(Աջափնյակ:Սյունիք!I89) -> 0 | J89: =SUM(Աջափնյակ:Սյունիք!J89) -> 4 | K89: =SUM(Աջափնյակ:Սյունիք!K89) -> 3 | L89: =SUM(Աջափնյակ:Սյունիք!L89) -> 0 | ... AH89: =SUM(Աջափնյակ:Սյունիք!AH89) -> 0 | AJ89: =E89 -> 12 | AK89: =F89+G89+H89+I89 -> 12 | AL89: =J89 -> 4 | AM89: =K89+L89+M89 -> 3 | AN89: =F89+G89+K89 -> 15 | AO89: =X89+Y89+AA89 -> 15 | AP89: =N89 -> 4 | AQ89: =O89+P89+Q89+R89+S89 -> 4 | AR89: =S89 -> 1 | AS89: =T89+U89+V89 -> 1 | AT89: =X89 -> 4 | AU89: =N89+W89 -> 4 | AV89: =AE89 -> 0 | AW89: =AC89+AD89 -> 0 | AX89: =AH89 -> 0 | AY89: =AF89+AG89 -> 0
A90: 8. | B90: Ð³ïáõÏ í³ñáõÛÃÇ ¹³ï³Ï³Ý ·áñÍ»ñ | E90: =SUM(Աջափնյակ:Սյունիք!E90) -> 987 | F90: =SUM(Աջափնյակ:Սյունիք!F90) -> 111 | G90: =SUM(Աջափնյակ:Սյունիք!G90) -> 876 | H90: =SUM(Աջափնյակ:Սյունիք!H90) -> 0 | I90: =SUM(Աջափնյակ:Սյունիք!I90) -> 0 | J90: =SUM(Աջափնյակ:Սյունիք!J90) -> 1135 | K90: =SUM(Աջափնյակ:Սյունիք!K90) -> 941 | L90: =SUM(Աջափնյակ:Սյունիք!L90) -> 166 | ... AH90: =SUM(Աջափնյակ:Սյունիք!AH90) -> 8 | AJ90: =SUM(AJ91:AJ111) -> 987 | AK90: =SUM(AK91:AK111) -> 987 | AL90: =SUM(AL91:AL111) -> 1135 | AM90: =SUM(AM91:AM111) -> 1127 | AN90: =SUM(AN91:AN111) -> 1928 | AO90: =SUM(AO91:AO111) -> 1927 | AP90: =SUM(AP91:AP111) -> 998 | AQ90: =SUM(AQ91:AQ111) -> 998 | ... AY90: =SUM(AY91:AY111) -> 8
A91: 8.1 | B91: ²Ýã³÷³Ñ³ëÇÝ ÉñÇí ·áñÍáõÝ³Ï ×³Ý³ã»Éáõ /¿Ù³ÝëÇå³óÇ³/ í»ñ³µ»ñÛ³É | E91: =SUM(Աջափնյակ:Սյունիք!E91) -> 1 | F91: =SUM(Աջափնյակ:Սյունիք!F91) -> 0 | G91: =SUM(Աջափնյակ:Սյունիք!G91) -> 1 | H91: =SUM(Աջափնյակ:Սյունիք!H91) -> 0 | I91: =SUM(Աջափնյակ:Սյունիք!I91) -> 0 | J91: =SUM(Աջափնյակ:Սյունիք!J91) -> 0 | K91: =SUM(Աջափնյակ:Սյունիք!K91) -> 0 | L91: =SUM(Աջափնյակ:Սյունիք!L91) -> 0 | ... AH91: =SUM(Աջափնյակ:Սյունիք!AH91) -> 1 | AJ91: =E91 -> 1 | AK91: =F91+G91+H91+I91 -> 1 | AL91: =J91 -> 0 | AM91: =K91+L91+M91 -> 0 | AN91: =F91+G91+K91 -> 1 | AO91: =X91+Y91+AA91 -> 1 | AP91: =N91 -> 1 | AQ91: =O91+P91+Q91+R91+S91 -> 1 | AR91: =S91 -> 0 | AS91: =T91+U91+V91 -> 0 | AT91: =X91 -> 1 | AU91: =N91+W91 -> 1 | AV91: =AE91 -> 1 | AW91: =AC91+AD91 -> 1 | AX91: =AH91 -> 1 | AY91: =AF91+AG91 -> 1
A92: 8.2 | B92: ø³Õ³ù³óáõÝ ³Ý·áñÍáõÝ³Ï Ï³Ù ë³ÑÙ³Ý³÷³Ï ·áñÍáõÝ³Ï ×³Ý³ã»Éáõ í»ñ³µ»ñÛ³É | E92: =SUM(Աջափնյակ:Սյունիք!E92) -> 195 | F92: =SUM(Աջափնյակ:Սյունիք!F92) -> 86 | G92: =SUM(Աջափնյակ:Սյունիք!G92) -> 109 | H92: =SUM(Աջափնյակ:Սյունիք!H92) -> 0 | I92: =SUM(Աջափնյակ:Սյունիք!I92) -> 0 | J92: =SUM(Աջափնյակ:Սյունիք!J92) -> 140 | K92: =SUM(Աջափնյակ:Սյունիք!K92) -> 121 | L92: =SUM(Աջափնյակ:Սյունիք!L92) -> 17 | ... AH92: =SUM(Աջափնյակ:Սյունիք!AH92) -> 0 | AJ92: =E92 -> 195 | AK92: =F92+G92+H92+I92 -> 195 | AL92: =J92 -> 140 | AM92: =K92+L92+M92 -> 139 | AN92: =F92+G92+K92 -> 316 | AO92: =X92+Y92+AA92 -> 316 | AP92: =N92 -> 102 | AQ92: =O92+P92+Q92+R92+S92 -> 102 | AR92: =S92 -> 17 | AS92: =T92+U92+V92 -> 17 | AT92: =X92 -> 102 | AU92: =N92+W92 -> 102 | AV92: =AE92 -> 2 | AW92: =AC92+AD92 -> 2 | AX92: =AH92 -> 0 | AY92: =AF92+AG92 -> 0
A93: 8.3 | B93: ø³Õ³ù³óáõÝ Ñá·»µáõÅ³Ï³Ý ÑÇí³Ý¹³Ýáó³ÛÇÝ Ñ³ñÏ³¹Çñ µáõÅÙ³Ý »ÝÃ³ñÏ»Éáõ í»ñ³µ»ñÛ³É | E93: =SUM(Աջափնյակ:Սյունիք!E93) -> 1 | F93: =SUM(Աջափնյակ:Սյունիք!F93) -> 0 | G93: =SUM(Աջափնյակ:Սյունիք!G93) -> 1 | H93: =SUM(Աջափնյակ:Սյունիք!H93) -> 0 | I93: =SUM(Աջափնյակ:Սյունիք!I93) -> 0 | J93: =SUM(Աջափնյակ:Սյունիք!J93) -> 22 | K93: =SUM(Աջափնյակ:Սյունիք!K93) -> 19 | L93: =SUM(Աջափնյակ:Սյունիք!L93) -> 3 | ... AH93: =SUM(Աջափնյակ:Սյունիք!AH93) -> 0 | AJ93: =E93 -> 1 | AK93: =F93+G93+H93+I93 -> 1 | AL93: =J93 -> 22 | AM93: =K93+L93+M93 -> 22 | AN93: =F93+G93+K93 -> 20 | AO93: =X93+Y93+AA93 -> 20 | AP93: =N93 -> 19 | AQ93: =O93+P93+Q93+R93+S93 -> 19 | AR93: =S93 -> 1 | AS93: =T93+U93+V93 -> 1 | AT93: =X93 -> 19 | AU93: =N93+W93 -> 19 | AV93: =AE93 -> 0 | AW93: =AC93+AD93 -> 0 | AX93: =AH93 -> 0 | AY93: =AF93+AG93 -> 0
A94: 8.4 | B94: ø³Õ³ù³óáõÝ ³ÝÑ³Ûï µ³ó³Ï³ÛáÕ Ï³Ù Ù³Ñ³ó³Í ×³Ý³ã»Éáõ í»ñ³µ»ñÛ³É | E94: =SUM(Աջափնյակ:Սյունիք!E94) -> 126 | F94: =SUM(Աջափնյակ:Սյունիք!F94) -> 4 | G94: =SUM(Աջափնյակ:Սյունիք!G94) -> 122 | H94: =SUM(Աջափնյակ:Սյունիք!H94) -> 0 | I94: =SUM(Աջափնյակ:Սյունիք!I94) -> 0 | J94: =SUM(Աջափնյակ:Սյունիք!J94) -> 118 | K94: =SUM(Աջափնյակ:Սյունիք!K94) -> 95 | L94: =SUM(Աջափնյակ:Սյունիք!L94) -> 21 | ... AH94: =SUM(Աջափնյակ:Սյունիք!AH94) -> 1 | AJ94: =E94 -> 126 | AK94: =F94+G94+H94+I94 -> 126 | AL94: =J94 -> 118 | AM94: =K94+L94+M94 -> 116 | AN94: =F94+G94+K94 -> 221 | AO94: =X94+Y94+AA94 -> 221 | AP94: =N94 -> 119 | AQ94: =O94+P94+Q94+R94+S94 -> 119 | AR94: =S94 -> 14 | AS94: =T94+U94+V94 -> 14 | AT94: =X94 -> 119 | AU94: =N94+W94 -> 119 | AV94: =AE94 -> 3 | AW94: =AC94+AD94 -> 3 | AX94: =AH94 -> 1 | AY94: =AF94+AG94 -> 1
A95: 8.5 | B95: ø³Õ³ù³óÇ³Ï³Ý Ï³óáõÃÛ³Ý ³Ïï»ñÇ ·ñ³éáõÙÝ»ñÇ ³Ý×ßïáõÃÛáõÝÝ»ñÁ å³ñ½»Éáõ í»ñ³µ»ñÛ³É | E95: =SUM(Աջափնյակ:Սյունիք!E95) -> 1 | F95: =SUM(Աջափնյակ:Սյունիք!F95) -> 0 | G95: =SUM(Աջափնյակ:Սյունիք!G95) -> 1 | H95: =SUM(Աջափնյակ:Սյունիք!H95) -> 0 | I95: =SUM(Աջափնյակ:Սյունիք!I95) -> 0 | J95: =SUM(Աջափնյակ:Սյունիք!J95) -> 2 | K95: =SUM(Աջափնյակ:Սյունիք!K95) -> 0 | L95: =SUM(Աջափնյակ:Սյունիք!L95) -> 1 | ... AH95: =SUM(Աջափնյակ:Սյունիք!AH95) -> 0 | AJ95: =E95 -> 1 | AK95: =F95+G95+H95+I95 -> 1 | AL95: =J95 -> 2 | AM95: =K95+L95+M95 -> 2 | AN95: =F95+G95+K95 -> 1 | AO95: =X95+Y95+AA95 -> 1 | AP95: =N95 -> 0 | AQ95: =O95+P95+Q95+R95+S95 -> 0 | AR95: =S95 -> 0 | AS95: =T95+U95+V95 -> 0 | AT95: =X95 -> 0 | AU95: =N95+W95 -> 0 | AV95: =AE95 -> 0 | AW95: =AC95+AD95 -> 0 | AX95: =AH95 -> 0 | AY95: =AF95+AG95 -> 0
A96: 8.6 | B96: ¶áõÛùÁ ïÇñ³½áõñÏ ×³Ý³ã»Éáõ í»ñ³µ»ñÛ³É | E96: =SUM(Աջափնյակ:Սյունիք!E96) -> 18 | F96: =SUM(Աջափնյակ:Սյունիք!F96) -> 2 | G96: =SUM(Աջափնյակ:Սյունիք!G96) -> 16 | H96: =SUM(Աջափնյակ:Սյունիք!H96) -> 0 | I96: =SUM(Աջափնյակ:Սյունիք!I96) -> 0 | J96: =SUM(Աջափնյակ:Սյունիք!J96) -> 23 | K96: =SUM(Աջափնյակ:Սյունիք!K96) -> 17 | L96: =SUM(Աջափնյակ:Սյունիք!L96) -> 6 | ... AH96: =SUM(Աջափնյակ:Սյունիք!AH96) -> 0 | AJ96: =E96 -> 18 | AK96: =F96+G96+H96+I96 -> 18 | AL96: =J96 -> 23 | AM96: =K96+L96+M96 -> 23 | AN96: =F96+G96+K96 -> 35 | AO96: =X96+Y96+AA96 -> 35 | AP96: =N96 -> 13 | AQ96: =O96+P96+Q96+R96+S96 -> 13 | AR96: =S96 -> 2 | AS96: =T96+U96+V96 -> 2 | AT96: =X96 -> 15 | AU96: =N96+W96 -> 15 | AV96: =AE96 -> 0 | AW96: =AC96+AD96 -> 0 | AX96: =AH96 -> 0 | AY96: =AF96+AG96 -> 0
A97: 8.6.1 | B97: ²Û¹ ÃíáõÙª ³Ýß³ñÅ ·áõÛùÁ | E97: =SUM(Աջափնյակ:Սյունիք!E97) -> 21 | F97: =SUM(Աջափնյակ:Սյունիք!F97) -> 0 | G97: =SUM(Աջափնյակ:Սյունիք!G97) -> 21 | H97: =SUM(Աջափնյակ:Սյունիք!H97) -> 0 | I97: =SUM(Աջափնյակ:Սյունիք!I97) -> 0 | J97: =SUM(Աջափնյակ:Սյունիք!J97) -> 19 | K97: =SUM(Աջափնյակ:Սյունիք!K97) -> 17 | L97: =SUM(Աջափնյակ:Սյունիք!L97) -> 2 | ... AH97: =SUM(Աջափնյակ:Սյունիք!AH97) -> 0 | AJ97: =E97 -> 21 | AK97: =F97+G97+H97+I97 -> 21 | AL97: =J97 -> 19 | AM97: =K97+L97+M97 -> 19 | AN97: =F97+G97+K97 -> 38 | AO97: =X97+Y97+AA97 -> 36 | AP97: =N97 -> 10 | AQ97: =O97+P97+Q97+R97+S97 -> 10 | AR97: =S97 -> 0 | AS97: =T97+U97+V97 -> 0 | AT97: =X97 -> 11 | AU97: =N97+W97 -> 11 | AV97: =AE97 -> 1 | AW97: =AC97+AD97 -> 1 | AX97: =AH97 -> 0 | AY97: =AF97+AG97 -> 0
A98: 8.6.2 | B98: ²Û¹ ÃíáõÙª ß³ñÅ³Ï³Ý ·áõÛùÁ | E98: =SUM(Աջափնյակ:Սյունիք!E98) -> 16 | F98: =SUM(Աջափնյակ:Սյունիք!F98) -> 2 | G98: =SUM(Աջափնյակ:Սյունիք!G98) -> 14 | H98: =SUM(Աջափնյակ:Սյունիք!H98) -> 0 | I98: =SUM(Աջափնյակ:Սյունիք!I98) -> 0 | J98: =SUM(Աջափնյակ:Սյունիք!J98) -> 9 | K98: =SUM(Աջափնյակ:Սյունիք!K98) -> 9 | L98: =SUM(Աջափնյակ:Սյունիք!L98) -> 0 | ... AH98: =SUM(Աջափնյակ:Սյունիք!AH98) -> 0 | AJ98: =E98 -> 16 | AK98: =F98+G98+H98+I98 -> 16 | AL98: =J98 -> 9 | AM98: =K98+L98+M98 -> 9 | AN98: =F98+G98+K98 -> 25 | AO98: =X98+Y98+AA98 -> 27 | AP98: =N98 -> 7 | AQ98: =O98+P98+Q98+R98+S98 -> 7 | AR98: =S98 -> 0 | AS98: =T98+U98+V98 -> 0 | AT98: =X98 -> 8 | AU98: =N98+W98 -> 8 | AV98: =AE98 -> 0 | AW98: =AC98+AD98 -> 0 | AX98: =AH98 -> 0 | AY98: =AF98+AG98 -> 0
A99: 8.7 | B99: Æñ³í³µ³Ý³Ï³Ý Ýß³Ý³ÏáõÃÛáõÝ áõÝ»óáÕ ÷³ëï»ñÇ Ñ³ëï³ïÙ³Ý í»ñ³µ»ñÛ³É | E99: =SUM(Աջափնյակ:Սյունիք!E99) -> 92 | F99: =SUM(Աջափնյակ:Սյունիք!F99) -> 2 | G99: =SUM(Աջափնյակ:Սյունիք!G99) -> 90 | H99: =SUM(Աջափնյակ:Սյունիք!H99) -> 0 | I99: =SUM(Աջափնյակ:Սյունիք!I99) -> 0 | J99: =SUM(Աջափնյակ:Սյունիք!J99) -> 123 | K99: =SUM(Աջափնյակ:Սյունիք!K99) -> 104 | L99: =SUM(Աջափնյակ:Սյունիք!L99) -> 15 | ... AH99: =SUM(Աջափնյակ:Սյունիք!AH99) -> 1 | AJ99: =E99 -> 92 | AK99: =F99+G99+H99+I99 -> 92 | AL99: =J99 -> 123 | AM99: =K99+L99+M99 -> 123 | AN99: =F99+G99+K99 -> 196 | AO99: =X99+Y99+AA99 -> 196 | AP99: =N99 -> 105 | AQ99: =O99+P99+Q99+R99+S99 -> 105 | AR99: =S99 -> 11 | AS99: =T99+U99+V99 -> 11 | AT99: =X99 -> 105 | AU99: =N99+W99 -> 105 | AV99: =AE99 -> 10 | AW99: =AC99+AD99 -> 10 | AX99: =AH99 -> 1 | AY99: =AF99+AG99 -> 1
A100: 8.7.1 | B100: ²ÝÓ³Ýó ³½·³Ïó³Ï³Ý Ï³åÁ Ñ³ëï³ï»Éáõ í»ñ³µ»ñÛ³É | E100: =SUM(Աջափնյակ:Սյունիք!E100) -> 122 | F100: =SUM(Աջափնյակ:Սյունիք!F100) -> 2 | G100: =SUM(Աջափնյակ:Սյունիք!G100) -> 120 | H100: =SUM(Աջափնյակ:Սյունիք!H100) -> 0 | I100: =SUM(Աջափնյակ:Սյունիք!I100) -> 0 | J100: =SUM(Աջափնյակ:Սյունիք!J100) -> 133 | K100: =SUM(Աջափնյակ:Սյունիք!K100) -> 111 | L100: =SUM(Աջափնյակ:Սյունիք!L100) -> 19 | ... AH100: =SUM(Աջափնյակ:Սյունիք!AH100) -> 1 | AJ100: =E100 -> 122 | AK100: =F100+G100+H100+I100 -> 122 | AL100: =J100 -> 133 | AM100: =K100+L100+M100 -> 133 | AN100: =F100+G100+K100 -> 233 | AO100: =X100+Y100+AA100 -> 233 | AP100: =N100 -> 143 | AQ100: =O100+P100+Q100+R100+S100 -> 143 | AR100: =S100 -> 13 | AS100: =T100+U100+V100 -> 13 | AT100: =X100 -> 143 | AU100: =N100+W100 -> 143 | AV100: =AE100 -> 2 | AW100: =AC100+AD100 -> 2 | AX100: =AH100 -> 1 | AY100: =AF100+AG100 -> 1
A101: 8.7.2 | B101: ²ÝÓÇª áõñÇßÇ ËÝ³ÙùÇ ï³Ï ·ïÝí»Éáõ í»ñ³µ»ñÛ³É | E101: =SUM(Աջափնյակ:Սյունիք!E101) -> 1 | F101: =SUM(Աջափնյակ:Սյունիք!F101) -> 1 | G101: =SUM(Աջափնյակ:Սյունիք!G101) -> 0 | H101: =SUM(Աջափնյակ:Սյունիք!H101) -> 0 | I101: =SUM(Աջափնյակ:Սյունիք!I101) -> 0 | J101: =SUM(Աջափնյակ:Սյունիք!J101) -> 4 | K101: =SUM(Աջափնյակ:Սյունիք!K101) -> 3 | L101: =SUM(Աջափնյակ:Սյունիք!L101) -> 1 | ... AH101: =SUM(Աջափնյակ:Սյունիք!AH101) -> 0 | AJ101: =E101 -> 1 | AK101: =F101+G101+H101+I101 -> 1 | AL101: =J101 -> 4 | AM101: =K101+L101+M101 -> 4 | AN101: =F101+G101+K101 -> 4 | AO101: =X101+Y101+AA101 -> 4 | AP101: =N101 -> 1 | AQ101: =O101+P101+Q101+R101+S101 -> 1 | AR101: =S101 -> 0 | AS101: =T101+U101+V101 -> 0 | AT101: =X101 -> 2 | AU101: =N101+W101 -> 2 | AV101: =AE101 -> 0 | AW101: =AC101+AD101 -> 0 | AX101: =AH101 -> 0 | AY101: =AF101+AG101 -> 0
A102: 8.7.3 | B102: ÌÝÝ¹Û³Ý, áñ¹»·ñÙ³Ý, ³ÙáõëÝáõÃÛ³Ý, ³å³Ñ³ñ½³ÝÇ ¨ Ù³Ñí³Ý ·ñ³ÝóÙ³Ý í»ñ³µ»ñÛ³É | E102: =SUM(Աջափնյակ:Սյունիք!E102) -> 49 | F102: =SUM(Աջափնյակ:Սյունիք!F102) -> 1 | G102: =SUM(Աջափնյակ:Սյունիք!G102) -> 48 | H102: =SUM(Աջափնյակ:Սյունիք!H102) -> 0 | I102: =SUM(Աջափնյակ:Սյունիք!I102) -> 0 | J102: =SUM(Աջափնյակ:Սյունիք!J102) -> 81 | K102: =SUM(Աջափնյակ:Սյունիք!K102) -> 66 | L102: =SUM(Աջափնյակ:Սյունիք!L102) -> 14 | ... AH102: =SUM(Աջափնյակ:Սյունիք!AH102) -> 0 | AJ102: =E102 -> 49 | AK102: =F102+G102+H102+I102 -> 49 | AL102: =J102 -> 81 | AM102: =K102+L102+M102 -> 81 | AN102: =F102+G102+K102 -> 115 | AO102: =X102+Y102+AA102 -> 115 | AP102: =N102 -> 73 | AQ102: =O102+P102+Q102+R102+S102 -> 73 | AR102: =S102 -> 4 | AS102: =T102+U102+V102 -> 4 | AT102: =X102 -> 73 | AU102: =N102+W102 -> 73 | AV102: =AE102 -> 1 | AW102: =AC102+AD102 -> 1 | AX102: =AH102 -> 0 | AY102: =AF102+AG102 -> 0
... A111: 8.10 | B111: ²ÛÉ í»×»ñ | E111: =SUM(Աջափնյակ:Սյունիք!E111) -> 26 | F111: =SUM(Աջափնյակ:Սյունիք!F111) -> 2 | G111: =SUM(Աջափնյակ:Սյունիք!G111) -> 24 | H111: =SUM(Աջափնյակ:Սյունիք!H111) -> 0 | I111: =SUM(Աջափնյակ:Սյունիք!I111) -> 0 | J111: =SUM(Աջափնյակ:Սյունիք!J111) -> 52 | K111: =SUM(Աջափնյակ:Սյունիք!K111) -> 40 | L111: =SUM(Աջափնյակ:Սյունիք!L111) -> 8 | ... AH111: =SUM(Աջափնյակ:Սյունիք!AH111) -> 3 | AJ111: =E111 -> 26 | AK111: =F111+G111+H111+I111 -> 26 | AL111: =J111 -> 52 | AM111: =K111+L111+M111 -> 52 | AN111: =F111+G111+K111 -> 66 | AO111: =X111+Y111+AA111 -> 66 | AP111: =N111 -> 27 | AQ111: =O111+P111+Q111+R111+S111 -> 27 | AR111: =S111 -> 3 | AS111: =T111+U111+V111 -> 3 | AT111: =X111 -> 28 | AU111: =N111+W111 -> 28 | AV111: =AE111 -> 5 | AW111: =AC111+AD111 -> 5 | AX111: =AH111 -> 3 | AY111: =AF111+AG111 -> 3
A112: 9. | B112: Ð³ïáõÏ Ñ³Ûó³ÛÇÝ í³ñáõÛÃÇ ¹³ï³Ï³Ý ·áñÍ»ñ | E112: =SUM(Աջափնյակ:Սյունիք!E112) -> 3 | F112: =SUM(Աջափնյակ:Սյունիք!F112) -> 1 | G112: =SUM(Աջափնյակ:Սյունիք!G112) -> 2 | H112: =SUM(Աջափնյակ:Սյունիք!H112) -> 0 | I112: =SUM(Աջափնյակ:Սյունիք!I112) -> 0 | J112: =SUM(Աջափնյակ:Սյունիք!J112) -> 0 | K112: =SUM(Աջափնյակ:Սյունիք!K112) -> 0 | L112: =SUM(Աջափնյակ:Սյունիք!L112) -> 0 | ... AH112: =SUM(Աջափնյակ:Սյունիք!AH112) -> 0 | AJ112: =SUM(AJ113:AJ115) -> 3 | AK112: =SUM(AK113:AK115) -> 3 | AL112: =SUM(AL113:AL115) -> 0 | AM112: =SUM(AM113:AM115) -> 0 | AN112: =SUM(AN113:AN115) -> 3 | AO112: =SUM(AO113:AO115) -> 3 | AP112: =SUM(AP113:AP115) -> 1 | AQ112: =SUM(AQ113:AQ115) -> 1 | ... AY112: =SUM(AY113:AY115) -> 0
A113: 9.1 | B113: ø³Õ³ù³óáõ ÏÛ³ÝùÇÝ Ï³Ù ³éáÕçáõÃÛ³ÝÝ ëå³éÝ³óáÕ íï³Ý·Ç í»ñ³µ»ñÛ³É | E113: =SUM(Աջափնյակ:Սյունիք!E113) -> 2 | F113: =SUM(Աջափնյակ:Սյունիք!F113) -> 0 | G113: =SUM(Աջափնյակ:Սյունիք!G113) -> 2 | H113: =SUM(Աջափնյակ:Սյունիք!H113) -> 0 | I113: =SUM(Աջափնյակ:Սյունիք!I113) -> 0 | J113: =SUM(Աջափնյակ:Սյունիք!J113) -> 0 | K113: =SUM(Աջափնյակ:Սյունիք!K113) -> 0 | L113: =SUM(Աջափնյակ:Սյունիք!L113) -> 0 | ... AH113: =SUM(Աջափնյակ:Սյունիք!AH113) -> 0 | AJ113: =E113 -> 2 | AK113: =F113+G113+H113+I113 -> 2 | AL113: =J113 -> 0 | AM113: =K113+L113+M113 -> 0 | AN113: =F113+G113+K113 -> 2 | AO113: =X113+Y113+AA113 -> 2 | AP113: =N113 -> 1 | AQ113: =O113+P113+Q113+R113+S113 -> 1 | AR113: =S113 -> 0 | AS113: =T113+U113+V113 -> 0 | AT113: =X113 -> 1 | AU113: =N113+W113 -> 1 | AV113: =AE113 -> 0 | AW113: =AC113+AD113 -> 0 | AX113: =AH113 -> 0 | AY113: =AF113+AG113 -> 0
A114: 9.2 | B114: ÐÐ Î»ÝïñáÝ³Ï³Ý µ³ÝÏÇ ¨ ³Ýí×³ñáõÝ³Ï µ³ÝÏÇ Ï³Ù í³ñÏ³ÛÇÝ Ï³½Ù³Ï»ñåáõÃÛ³Ý Å³Ù³Ý³Ï³íáñ ³¹ÙÇÝÇëïñ³óÇ³ÛÇ áñáßáõÙÝ»ñÇ µáÕáù³ñÏÙ³Ý í»ñ³µ»ñÛ³É | E114: =SUM(Աջափնյակ:Սյունիք!E114) -> 0 | F114: =SUM(Աջափնյակ:Սյունիք!F114) -> 0 | G114: =SUM(Աջափնյակ:Սյունիք!G114) -> 0 | H114: =SUM(Աջափնյակ:Սյունիք!H114) -> 0 | I114: =SUM(Աջափնյակ:Սյունիք!I114) -> 0 | J114: =SUM(Աջափնյակ:Սյունիք!J114) -> 0 | K114: =SUM(Աջափնյակ:Սյունիք!K114) -> 0 | L114: =SUM(Աջափնյակ:Սյունիք!L114) -> 0 | ... AH114: =SUM(Աջափնյակ:Սյունիք!AH114) -> 0 | AJ114: =E114 -> 0 | AK114: =F114+G114+H114+I114 -> 0 | AL114: =J114 -> 0 | AM114: =K114+L114+M114 -> 0 | AN114: =F114+G114+K114 -> 0 | AO114: =X114+Y114+AA114 -> 0 | AP114: =N114 -> 0 | AQ114: =O114+P114+Q114+R114+S114 -> 0 | AR114: =S114 -> 0 | AS114: =T114+U114+V114 -> 0 | AT114: =X114 -> 0 | AU114: =N114+W114 -> 0 | AV114: =AE114 -> 0 | AW114: =AC114+AD114 -> 0 | AX114: =AH114 -> 0 | AY114: =AF114+AG114 -> 0
A115: 9.3 | B115: ²ÛÉ í»×»ñ | E115: =SUM(Աջափնյակ:Սյունիք!E115) -> 1 | F115: =SUM(Աջափնյակ:Սյունիք!F115) -> 1 | G115: =SUM(Աջափնյակ:Սյունիք!G115) -> 0 | H115: =SUM(Աջափնյակ:Սյունիք!H115) -> 0 | I115: =SUM(Աջափնյակ:Սյունիք!I115) -> 0 | J115: =SUM(Աջափնյակ:Սյունիք!J115) -> 0 | K115: =SUM(Աջափնյակ:Սյունիք!K115) -> 0 | L115: =SUM(Աջափնյակ:Սյունիք!L115) -> 0 | ... AH115: =SUM(Աջափնյակ:Սյունիք!AH115) -> 0 | AJ115: =E115 -> 1 | AK115: =F115+G115+H115+I115 -> 1 | AL115: =J115 -> 0 | AM115: =K115+L115+M115 -> 0 | AN115: =F115+G115+K115 -> 1 | AO115: =X115+Y115+AA115 -> 1 | AP115: =N115 -> 0 | AQ115: =O115+P115+Q115+R115+S115 -> 0 | AR115: =S115 -> 0 | AS115: =T115+U115+V115 -> 0 | AT115: =X115 -> 0 | AU115: =N115+W115 -> 0 | AV115: =AE115 -> 0 | AW115: =AC115+AD115 -> 0 | AX115: =AH115 -> 0 | AY115: =AF115+AG115 -> 0
A116: 11. | B116: ä³ñï³íáñ³Ï³Ý Çñ³í³Ñ³ñ³µ»ñáõÃÛáõÝÝ»ñÇ í»ñ³µ»ñÛ³É ¹³ï³Ï³Ý ·áñÍ»ñ | E116: =SUM(Աջափնյակ:Սյունիք!E116) -> 36231 | F116: =SUM(Աջափնյակ:Սյունիք!F116) -> 2021 | G116: =SUM(Աջափնյակ:Սյունիք!G116) -> 34200 | H116: =SUM(Աջափնյակ:Սյունիք!H116) -> 10 | I116: =SUM(Աջափնյակ:Սյունիք!I116) -> 0 | J116: =SUM(Աջափնյակ:Սյունիք!J116) -> 44880 | K116: =SUM(Աջափնյակ:Սյունիք!K116) -> 42085 | L116: =SUM(Աջափնյակ:Սյունիք!L116) -> 2673 | ... AH116: =SUM(Աջափնյակ:Սյունիք!AH116) -> 118 | AJ116: =SUM(AJ117:AJ124) -> 36231 | AK116: =SUM(AK117:AK124) -> 36231 | AL116: =SUM(AL117:AL124) -> 44880 | AM116: =SUM(AM117:AM124) -> 44785 | AN116: =SUM(AN117:AN124) -> 78306 | AO116: =SUM(AO117:AO124) -> 78304 | AP116: =SUM(AP117:AP124) -> 37462 | AQ116: =SUM(AQ117:AQ124) -> 37462 | ... AY116: =SUM(AY117:AY124) -> 118
A117: 11.1 | B117: ¶áõÙ³ñÇ å³Ñ³ÝçÇ Ù³ëÇÝ | E117: =SUM(Աջափնյակ:Սյունիք!E117) -> 35641 | F117: =SUM(Աջափնյակ:Սյունիք!F117) -> 1908 | G117: =SUM(Աջափնյակ:Սյունիք!G117) -> 33723 | H117: =SUM(Աջափնյակ:Սյունիք!H117) -> 10 | I117: =SUM(Աջափնյակ:Սյունիք!I117) -> 0 | J117: =SUM(Աջափնյակ:Սյունիք!J117) -> 44595 | K117: =SUM(Աջափնյակ:Սյունիք!K117) -> 41858 | L117: =SUM(Աջափնյակ:Սյունիք!L117) -> 2620 | ... AH117: =SUM(Աջափնյակ:Սյունիք!AH117) -> 110 | AJ117: =E117 -> 35641 | AK117: =F117+G117+H117+I117 -> 35641 | AL117: =J117 -> 44595 | AM117: =K117+L117+M117 -> 44501 | AN117: =F117+G117+K117 -> 77489 | AO117: =X117+Y117+AA117 -> 77487 | AP117: =N117 -> 37251 | AQ117: =O117+P117+Q117+R117+S117 -> 37251 | AR117: =S117 -> 2984 | AS117: =T117+U117+V117 -> 2984 | AT117: =X117 -> 37254 | AU117: =N117+W117 -> 37254 | AV117: =AE117 -> 690 | AW117: =AC117+AD117 -> 690 | AX117: =AH117 -> 110 | AY117: =AF117+AG117 -> 110
A118: 11.2 | B118: ä³ñï³íáñáõÃÛáõÝÁ µÝ»Õ»Ýáí Ï³ï³ñ»Éáõ å³Ñ³ÝçÇ Ù³ëÇÝ | E118: =SUM(Աջափնյակ:Սյունիք!E118) -> 11 | F118: =SUM(Աջափնյակ:Սյունիք!F118) -> 3 | G118: =SUM(Աջափնյակ:Սյունիք!G118) -> 8 | H118: =SUM(Աջափնյակ:Սյունիք!H118) -> 0 | I118: =SUM(Աջափնյակ:Սյունիք!I118) -> 0 | J118: =SUM(Աջափնյակ:Սյունիք!J118) -> 6 | K118: =SUM(Աջափնյակ:Սյունիք!K118) -> 3 | L118: =SUM(Աջափնյակ:Սյունիք!L118) -> 1 | ... AH118: =SUM(Աջափնյակ:Սյունիք!AH118) -> 0 | AJ118: =E118 -> 11 | AK118: =F118+G118+H118+I118 -> 11 | AL118: =J118 -> 6 | AM118: =K118+L118+M118 -> 6 | AN118: =F118+G118+K118 -> 14 | AO118: =X118+Y118+AA118 -> 14 | AP118: =N118 -> 1 | AQ118: =O118+P118+Q118+R118+S118 -> 1 | AR118: =S118 -> 0 | AS118: =T118+U118+V118 -> 0 | AT118: =X118 -> 1 | AU118: =N118+W118 -> 1 | AV118: =AE118 -> 0 | AW118: =AC118+AD118 -> 0 | AX118: =AH118 -> 0 | AY118: =AF118+AG118 -> 0
A119: 11.3 | B119: ìÝ³ëÁ ¨ µ³ó ÃáÕÝí³Í û·áõïÁ Ñ³ïáõó»Éáõ å³Ñ³ÝçÇ Ù³ëÇÝ | E119: =SUM(Աջափնյակ:Սյունիք!E119) -> 428 | F119: =SUM(Աջափնյակ:Սյունիք!F119) -> 80 | G119: =SUM(Աջափնյակ:Սյունիք!G119) -> 348 | H119: =SUM(Աջափնյակ:Սյունիք!H119) -> 0 | I119: =SUM(Աջափնյակ:Սյունիք!I119) -> 0 | J119: =SUM(Աջափնյակ:Սյունիք!J119) -> 197 | K119: =SUM(Աջափնյակ:Սյունիք!K119) -> 163 | L119: =SUM(Աջափնյակ:Սյունիք!L119) -> 32 | ... AH119: =SUM(Աջափնյակ:Սյունիք!AH119) -> 4 | AJ119: =E119 -> 428 | AK119: =F119+G119+H119+I119 -> 428 | AL119: =J119 -> 197 | AM119: =K119+L119+M119 -> 196 | AN119: =F119+G119+K119 -> 591 | AO119: =X119+Y119+AA119 -> 591 | AP119: =N119 -> 155 | AQ119: =O119+P119+Q119+R119+S119 -> 155 | AR119: =S119 -> 33 | AS119: =T119+U119+V119 -> 33 | AT119: =X119 -> 156 | AU119: =N119+W119 -> 156 | AV119: =AE119 -> 45 | AW119: =AC119+AD119 -> 45 | AX119: =AH119 -> 4 | AY119: =AF119+AG119 -> 4
A120: 11.4 | B120: ø³Õ³ù³óáõ ÏÛ³ÝùÇÝ Ï³Ù ³éáÕçáõÃÛ³ÝÁ å³ï×³éí³Í íÝ³ëÇ Ñ³ïáõóÙ³Ý í»ñ³µ»ñÛ³É | E120: =SUM(Աջափնյակ:Սյունիք!E120) -> 21 | F120: =SUM(Աջափնյակ:Սյունիք!F120) -> 3 | G120: =SUM(Աջափնյակ:Սյունիք!G120) -> 18 | H120: =SUM(Աջափնյակ:Սյունիք!H120) -> 0 | I120: =SUM(Աջափնյակ:Սյունիք!I120) -> 0 | J120: =SUM(Աջափնյակ:Սյունիք!J120) -> 12 | K120: =SUM(Աջափնյակ:Սյունիք!K120) -> 6 | L120: =SUM(Աջափնյակ:Սյունիք!L120) -> 6 | ... AH120: =SUM(Աջափնյակ:Սյունիք!AH120) -> 0 | AJ120: =E120 -> 21 | AK120: =F120+G120+H120+I120 -> 21 | AL120: =J120 -> 12 | AM120: =K120+L120+M120 -> 12 | AN120: =F120+G120+K120 -> 27 | AO120: =X120+Y120+AA120 -> 27 | AP120: =N120 -> 10 | AQ120: =O120+P120+Q120+R120+S120 -> 10 | AR120: =S120 -> 2 | AS120: =T120+U120+V120 -> 2 | AT120: =X120 -> 10 | AU120: =N120+W120 -> 10 | AV120: =AE120 -> 3 | AW120: =AC120+AD120 -> 3 | AX120: =AH120 -> 0 | AY120: =AF120+AG120 -> 0
A121: 11.5 | B121: ²åñ³ÝùÝ»ñÇ, ³ßË³ï³ÝùÝ»ñÇ Ï³Ù Í³é³ÛáõÃÛáõÝÝ»ñÇ Ã»ñáõÃÛáõÝÝ»ñÇ Ñ»ï¨³Ýùáí å³ï×³éí³Í íÝ³ëÝ»ñÇ Ñ³ïáõóÙ³Ý í»ñ³µ»ñÛ³É | E121: =SUM(Աջափնյակ:Սյունիք!E121) -> 7 | F121: =SUM(Աջափնյակ:Սյունիք!F121) -> 2 | G121: =SUM(Աջափնյակ:Սյունիք!G121) -> 5 | H121: =SUM(Աջափնյակ:Սյունիք!H121) -> 0 | I121: =SUM(Աջափնյակ:Սյունիք!I121) -> 0 | J121: =SUM(Աջափնյակ:Սյունիք!J121) -> 6 | K121: =SUM(Աջափնյակ:Սյունիք!K121) -> 6 | L121: =SUM(Աջափնյակ:Սյունիք!L121) -> 0 | ... AH121: =SUM(Աջափնյակ:Սյունիք!AH121) -> 0 | AJ121: =E121 -> 7 | AK121: =F121+G121+H121+I121 -> 7 | AL121: =J121 -> 6 | AM121: =K121+L121+M121 -> 6 | AN121: =F121+G121+K121 -> 13 | AO121: =X121+Y121+AA121 -> 15 | AP121: =N121 -> 5 | AQ121: =O121+P121+Q121+R121+S121 -> 5 | AR121: =S121 -> 1 | AS121: =T121+U121+V121 -> 1 | AT121: =X121 -> 5 | AU121: =N121+W121 -> 5 | AV121: =AE121 -> 2 | AW121: =AC121+AD121 -> 2 | AX121: =AH121 -> 0 | AY121: =AF121+AG121 -> 0
A122: 11.6 | B122: ²ÝÑÇÙÝ Ñ³ñëï³óÙ³Ý Ñ»ï¨³Ýùáí Í³·³Í å³ñï³íáñáõÃÛáõÝÝ»ñ | E122: =SUM(Աջափնյակ:Սյունիք!E122) -> 26 | F122: =SUM(Աջափնյակ:Սյունիք!F122) -> 3 | G122: =SUM(Աջափնյակ:Սյունիք!G122) -> 23 | H122: =SUM(Աջափնյակ:Սյունիք!H122) -> 0 | I122: =SUM(Աջափնյակ:Սյունիք!I122) -> 0 | J122: =SUM(Աջափնյակ:Սյունիք!J122) -> 12 | K122: =SUM(Աջափնյակ:Սյունիք!K122) -> 8 | L122: =SUM(Աջափնյակ:Սյունիք!L122) -> 4 | ... AH122: =SUM(Աջափնյակ:Սյունիք!AH122) -> 2 | AJ122: =E122 -> 26 | AK122: =F122+G122+H122+I122 -> 26 | AL122: =J122 -> 12 | AM122: =K122+L122+M122 -> 12 | AN122: =F122+G122+K122 -> 34 | AO122: =X122+Y122+AA122 -> 32 | AP122: =N122 -> 5 | AQ122: =O122+P122+Q122+R122+S122 -> 5 | AR122: =S122 -> 2 | AS122: =T122+U122+V122 -> 2 | AT122: =X122 -> 5 | AU122: =N122+W122 -> 5 | AV122: =AE122 -> 10 | AW122: =AC122+AD122 -> 10 | AX122: =AH122 -> 2 | AY122: =AF122+AG122 -> 2
A123: 11.7 | B123: ØÇ³ÏáÕÙ³ÝÇ ·áñÍáÕáõÛÃáõÝÝ»ñÇó Í³·áÕ å³ñï³íáñáõÃÛáõÝÝ»ñ | E123: =SUM(Աջափնյակ:Սյունիք!E123) -> 0 | F123: =SUM(Աջափնյակ:Սյունիք!F123) -> 0 | G123: =SUM(Աջափնյակ:Սյունիք!G123) -> 0 | H123: =SUM(Աջափնյակ:Սյունիք!H123) -> 0 | I123: =SUM(Աջափնյակ:Սյունիք!I123) -> 0 | J123: =SUM(Աջափնյակ:Սյունիք!J123) -> 0 | K123: =SUM(Աջափնյակ:Սյունիք!K123) -> 0 | L123: =SUM(Աջափնյակ:Սյունիք!L123) -> 0 | ... AH123: =SUM(Աջափնյակ:Սյունիք!AH123) -> 0 | AJ123: =E123 -> 0 | AK123: =F123+G123+H123+I123 -> 0 | AL123: =J123 -> 0 | AM123: =K123+L123+M123 -> 0 | AN123: =F123+G123+K123 -> 0 | AO123: =X123+Y123+AA123 -> 0 | AP123: =N123 -> 0 | AQ123: =O123+P123+Q123+R123+S123 -> 0 | AR123: =S123 -> 0 | AS123: =T123+U123+V123 -> 0 | AT123: =X123 -> 0 | AU123: =N123+W123 -> 0 | AV123: =AE123 -> 0 | AW123: =AC123+AD123 -> 0 | AX123: =AH123 -> 0 | AY123: =AF123+AG123 -> 0
A124: 11.8 | B124: ²ÛÉ í»×»ñ | E124: =SUM(Աջափնյակ:Սյունիք!E124) -> 97 | F124: =SUM(Աջափնյակ:Սյունիք!F124) -> 22 | G124: =SUM(Աջափնյակ:Սյունիք!G124) -> 75 | H124: =SUM(Աջափնյակ:Սյունիք!H124) -> 0 | I124: =SUM(Աջափնյակ:Սյունիք!I124) -> 0 | J124: =SUM(Աջափնյակ:Սյունիք!J124) -> 52 | K124: =SUM(Աջափնյակ:Սյունիք!K124) -> 41 | L124: =SUM(Աջափնյակ:Սյունիք!L124) -> 10 | ... AH124: =SUM(Աջափնյակ:Սյունիք!AH124) -> 2 | AJ124: =E124 -> 97 | AK124: =F124+G124+H124+I124 -> 97 | AL124: =J124 -> 52 | AM124: =K124+L124+M124 -> 52 | AN124: =F124+G124+K124 -> 138 | AO124: =X124+Y124+AA124 -> 138 | AP124: =N124 -> 35 | AQ124: =O124+P124+Q124+R124+S124 -> 35 | AR124: =S124 -> 14 | AS124: =T124+U124+V124 -> 14 | AT124: =X124 -> 35 | AU124: =N124+W124 -> 35 | AV124: =AE124 -> 12 | AW124: =AC124+AD124 -> 12 | AX124: =AH124 -> 2 | AY124: =AF124+AG124 -> 2
A125: 12. | B125: ²ÝÓÝ³Ï³Ý áã ·áõÛù³ÛÇÝ Çñ³í³Ñ³ñ³µ»ñáõÃÛáõÝÝ»ñÇ í»ñ³µ»ñÛ³É ¹³ï³Ï³Ý ·áñÍ»ñ | E125: =SUM(Աջափնյակ:Սյունիք!E125) -> 135 | F125: =SUM(Աջափնյակ:Սյունիք!F125) -> 26 | G125: =SUM(Աջափնյակ:Սյունիք!G125) -> 109 | H125: =SUM(Աջափնյակ:Սյունիք!H125) -> 0 | I125: =SUM(Աջափնյակ:Սյունիք!I125) -> 0 | J125: =SUM(Աջափնյակ:Սյունիք!J125) -> 117 | K125: =SUM(Աջափնյակ:Սյունիք!K125) -> 93 | L125: =SUM(Աջափնյակ:Սյունիք!L125) -> 17 | ... AH125: =SUM(Աջափնյակ:Սյունիք!AH125) -> 0 | AJ125: =SUM(AJ126:AJ129) -> 135 | AK125: =SUM(AK126:AK129) -> 135 | AL125: =SUM(AL126:AL129) -> 117 | AM125: =SUM(AM126:AM129) -> 110 | AN125: =SUM(AN126:AN129) -> 228 | AO125: =SUM(AO126:AO129) -> 227 | AP125: =SUM(AP126:AP129) -> 44 | AQ125: =SUM(AQ126:AQ129) -> 44 | ... AY125: =SUM(AY126:AY129) -> 0
A126: 12.1 | B126: ä³ïíÇ ¨ ³ñÅ³Ý³å³ïíáõÃÛ³Ý Çñ³íáõÝùÇ í»ñ³µ»ñÛ³É | E126: =SUM(Աջափնյակ:Սյունիք!E126) -> 93 | F126: =SUM(Աջափնյակ:Սյունիք!F126) -> 25 | G126: =SUM(Աջափնյակ:Սյունիք!G126) -> 68 | H126: =SUM(Աջափնյակ:Սյունիք!H126) -> 0 | I126: =SUM(Աջափնյակ:Սյունիք!I126) -> 0 | J126: =SUM(Աջափնյակ:Սյունիք!J126) -> 50 | K126: =SUM(Աջափնյակ:Սյունիք!K126) -> 37 | L126: =SUM(Աջափնյակ:Սյունիք!L126) -> 12 | ... AH126: =SUM(Աջափնյակ:Սյունիք!AH126) -> 0 | AJ126: =E126 -> 93 | AK126: =F126+G126+H126+I126 -> 93 | AL126: =J126 -> 50 | AM126: =K126+L126+M126 -> 49 | AN126: =F126+G126+K126 -> 130 | AO126: =X126+Y126+AA126 -> 130 | AP126: =N126 -> 30 | AQ126: =O126+P126+Q126+R126+S126 -> 30 | AR126: =S126 -> 4 | AS126: =T126+U126+V126 -> 4 | AT126: =X126 -> 30 | AU126: =N126+W126 -> 30 | AV126: =AE126 -> 18 | AW126: =AC126+AD126 -> 18 | AX126: =AH126 -> 0 | AY126: =AF126+AG126 -> 0
...

Sheet Աջափնյակ
A1: 2017Ã. 1-ին ÏÇë³ÙÛ³Ï | E1: Ð²ÞìºîìàôÂÚàôÜ | AC1: Ð³í»Éí³Í Ð³Û³ëï³ÝÇ Ð³Ýñ³å»ïáõÃÛ³Ý ¸³ï³ñ³ÝÝ»ñÇ Ý³Ë³·³ÑÝ»ñÇ ËáñÑñ¹Ç 25.08.2017Ã. ÃÇí 35-È áñáßÙ³Ý
A2: ºðºì²Ü ø²Ô²øÆ ²æ²öÜÚ²Î ºì ¸²ìÂ²ÞºÜ ì²ðâ²Î²Ü Þðæ²ÜÜºðÆ ÀÜ¸Ð²Üàôð Æð²ì²êàôÂÚ²Ü ²è²æÆÜ ²îÚ²ÜÆ ¸²î²ð²ÜàôØ ø²Ô²ø²òÆ²Î²Ü ¶àðÌºðÆ øÜÜàôÂÚ²Ü ìºð²´ºðÚ²È
A3: ºñ¨³Ý ù³Õ³ùÇ ²ç³÷ÝÛ³Ï ¨ ¸³íÃ³ß»Ý í³ñã³Ï³Ý ßñç³ÝÝ»ñÇ ÁÝ¹Ñ³Ýáõñ Çñ³í³ëáõÃÛ³Ý ³é³çÇÝ ³ïÛ³ÝÇ ¹³ï³ñ³ÝáõÙ ù³Õ³ù³óÇ³Ï³Ý Ù³ëÝ³·Çï³óáõÙ áõÝ»óáÕ ¹³ï³íáñÝ»ñÇ Ñ³ëïÇùÝ»ñÇ ù³Ý³ÏÁ` 5
E4: Ð³ßí»ïáõ Å³Ù³Ý³Ï³Ñ³ïí³ÍáõÙ Ý³Ëáñ¹ Ñ³ßí»ïáõ Å³Ù³Ý³Ï³Ñ³ïí³ÍÇó ÷áË³Ýóí³Í ·áñÍ»ñÇ ÁÝ¹Ñ³Ýáõñ ÃÇíÁ | J4: Ð³ßí»ïáõ Å³Ù³Ý³Ï³Ñ³ïí³ÍáõÙëï³óí³Í ·áñÍ»ñÇ (³Û¹ ÃíáõÙ` Ñ³Ûó³¹ÇÙáõÙÝ»ñÇ, ¹ÇÙáõÙÝ»ñÇ) ÁÝ¹Ñ³Ýáõñ ÃÇíÁ | N4: Ð³ßí»ïáõ Å³Ù³Ý³Ï³Ñ³ïí³ÍáõÙ ³í³ñïí³Í ·áñÍ»ñÇ ÁÝ¹Ñ³Ýáõñ ÃÇíÁ | Y4: ¶áñÍÝ áõÕ³ñÏí»É ¿ Áëï ÁÝ¹¹³ïáõÃÛ³Ý | Z4: Ð³ßí»ïáõ Å³Ù³Ý³Ï³Ñ³ïí³ÍáõÙ Ï³ë»óí³Í í³ñáõÛÃÝ»ñáí ·áñÍ»ñÇ ÁÝ¹Ñ³Ýáõñ ÃÇíÁ | AA4: Ð³ßí»ïáõ Å³Ù³Ý³Ï³Ñ³ïí³ÍáõÙ ³Ý³í³ñï ·áñÍ»ñÇ ÁÝ¹Ñ³Ýáõñ ÃÇíÁ | AB4: ²Û¹ ÃíáõÙª Ï³ë»óí³Í | AC4: ´áÕáù³ñÏí³Í ¹³ï³Ï³Ý ³Ïï»ñÇ ÃÇíÁ` Áëï ï»ë³ÏÝ»ñÇ | AF4: ´»Ï³Ýí³Í ¹³ï³Ï³Ý ³Ïï»ñÇ ÃÇíÁ` Áëï ï»ë³ÏÝ»ñÇ
E7: ÀÝ¹³Ù»ÝÁ | F7: ²Û¹ ÃíáõÙ`Ï³ë»óí³Í íÇ×³ÏáõÙ ÷áË³Ýóí³Í | G7: ²Û¹ ÃíáõÙª ÁÝ¹áõÝí»É ¿ í³ñáõÛÃ | H7: ²Û¹ ÃíáõÙª í»ñ³¹³ñÓí»É ¿ | I7: ²Û¹ ÃíáõÙª ÁÝ¹áõÝáõÙÁ Ù»ñÅí»É ¿ | J7: ÀÝ¹³Ù»ÝÁ | K7: ²Û¹ ÃíáõÙª ÁÝ¹áõÝí»É ¿ í³ñáõÛÃ | L7: ²Û¹ ÃíáõÙª í»ñ³¹³ñÓí»É ¿ | M7: ²Û¹ ÃíáõÙª ÁÝ¹áõÝáõÙÁ Ù»ñÅí»É ¿ | N7: ÀÝ¹³Ù»ÝÁ ³í³ñïí»É »Ý ·áñÍ»ñ ·áñÍÝ Áëï ¿áõÃÛ³Ý ÉáõÍáÕ ¹³ï³Ï³Ý ³Ïï»ñÇ (í×ÇéÝ»ñÇ) Ï³Û³óÙ³Ùµ | O7: ²Û¹ ÃíáõÙª Ñ³ÛóÇ µ³í³ñ³ñÙ³Ùµ | P7: ²Û¹ ÃíáõÙª Ñ³ÛóÇ Ù³ëÝ³ÏÇ µ³í³ñ³ñÙ³Ùµ | Q7: ²Û¹ ÃíáõÙª Ñ³ÛóÇ Ù»ñÅÙ³Ùµ | R7: Ø³ëáí Ï³ñ×í»É ¿, Ù³ëáí Ù»ñÅí»É | S7: ²Û¹ ÃíáõÙª Ï³ñ×í»É »Ý | W7: Ð³ÛóÁ ÃáÕÝí»É ¿ ³é³Ýó ùÝÝáõÃÛ³Ý | X7: ÀÝ¹³Ù»ÝÝ ³í³ñïí»É »Ý ·áñÍ»ñ | AC7: ²Û¹ ÃíáõÙ` ·áñÍÝ Áëï ¿áõÃÛ³Ý ÉáõÍáÕ ¹³ï³Ï³Ý ³Ïï»ñ | AD7: ²Û¹ ÃíáõÙ` ÙÇç³ÝÏÛ³É ¹³ï³Ï³Ý ³Ïï»ñ | AE7: ÀÝ¹³Ù»ÝÁ | AF7: ²Û¹ ÃíáõÙ` ·áñÍÝ Áëï ¿áõÃÛ³Ý ÉáõÍáÕ ¹³ï³Ï³Ý ³Ïï»ñ | AG7: ²Û¹ ÃíáõÙ` ÙÇç³ÝÏÛ³É ¹³ï³Ï³Ý ³Ïï»ñ | AH7: ÀÝ¹³Ù»ÝÁ
S10: ÀÝ¹³Ù»ÝÁ Ï³ñ×í»É »Ý | T10: ²Û¹ ÃíáõÙª Ñ³ëï³ïí»É ¿ ÏÝùí³Í Ñ³ßïáõÃÛ³Ý Ñ³Ù³Ó³ÛÝáõÃÛáõÝÁ | U10: ²Û¹ ÃíáõÙª Ñ³óÇó, ¹ÇÙáõÙÇó Ññ³Å³ñí»Éáõ ÑÇÙùáí | V10: ²Û¹ ÃíáõÙª ³ÛÉ ÑÇÙùáí
A18: ø³Õ³ù³óÇ³Ï³Ý ·áñÍ»ñÇ ¹³ë³Ï³ñ·áõÙÁ | E18: 1 | F18: 2 | G18: 3 | H18: 4 | I18: 5 | J18: 6 | K18: 7 | L18: 8 | M18: 9 | N18: 10 | O18: 11 | P18: 12 | Q18: 13 | R18: 14 | S18: 15 | T18: 16 | U18: 17 | V18: 18 | W18: 19 | X18: 20 | Y18: 21 | Z18: 22 | AA18: 23 | AB18: 24 | AC18: 25 | AD18: 26 | AE18: 27 | AF18: 28 | AG18: 29 | AH18: 30 | AJ18: 1=2+3+4+5 | AL18: 6=7+8+9 | AN18: 2+3+7=20+21+23 | AP18: 10=11+12+13+14+15 | AR18: 15=16+17+18 | AT18: 20=10+19 | AV18: 27=25+26 | AX18: 30=28+29
A19: 1. | B19: ¶áõÛù³ÛÇÝ Çñ³í³Ñ³ñ³µ»ñáõÃÛáõÝÝ»ñÇ í»ñ³µ»ñÛ³É ¹³ï³Ï³Ý ·áñÍ»ñ | E19: =SUM(E20:E38) -> 319 | F19: =SUM(F20:F38) -> 96 | G19: =SUM(G20:G38) -> 223 | H19: =SUM(H20:H38) -> 0 | I19: =SUM(I20:I38) -> 0 | J19: =SUM(J20:J38) -> 92 | K19: =SUM(K20:K38) -> 77 | L19: =SUM(L20:L38) -> 14 | ... AH19: =SUM(AH20:AH38) -> 0 | AJ19: =SUM(AJ20:AJ38) -> 319 | AK19: =SUM(AK20:AK38) -> 319 | AL19: =SUM(AL20:AL38) -> 92 | AM19: =SUM(AM20:AM38) -> 91 | AN19: =SUM(AN20:AN38) -> 396 | AO19: =SUM(AO20:AO38) -> 396 | AP19: =SUM(AP20:AP38) -> 73 | AQ19: =SUM(AQ20:AQ38) -> 73 | ... AY19: =SUM(AY20:AY38) -> 0
A20: 1.1 | B20: ¶áõÛùÇ ÝÏ³ïÙ³Ùµ ë»÷³Ï³ÝáõÃÛ³Ý Çñ³íáõÝùÁ ×³Ý³ã»Éáõ í»ñ³µ»ñÛ³É | E20: 29 | F20: 6 | G20: 23 | J20: 10 | K20: 7 | L20: 3 | N20: 10 | O20: 6 | Q20: 3 | S20: 1 | U20: 1 | X20: 10 | Z20: 2 | AA20: 26 | AB20: 6 | AC20: 4 | AE20: 4 | AJ20: =E20 -> 29 | AK20: =F20+G20+H20+I20 -> 29 | AL20: =J20 -> 10 | AM20: =K20+L20+M20 -> 10 | AN20: =F20+G20+K20 -> 36 | AO20: =X20+Y20+AA20 -> 36 | AP20: =N20 -> 10 | AQ20: =O20+P20+Q20+R20+S20 -> 10 | AR20: =S20 -> 1 | AS20: =T20+U20+V20 -> 1 | AT20: =X20 -> 10 | AU20: =N20+W20 -> 10 | AV20: =AE20 -> 4 | AW20: =AC20+AD20 -> 4 | AX20: =AH20 -> 0 | AY20: =AF20+AG20 -> 0
A21: 1.1.1 | B21: ²Û¹ ÃíáõÙª Ó»éùµ»ñÙ³Ý í³Õ»ÙáõÃÛ³Ý áõÅáí | E21: 23 | F21: 3 | G21: 20 | J21: 4 | K21: 4 | N21: 6 | O21: 1 | P21: 1 | Q21: 3 | S21: 1 | U21: 1 | X21: 6 | Z21: 2 | AA21: 21 | AB21: 4 | AC21: 1 | AE21: 1 | AJ21: =E21 -> 23 | AK21: =F21+G21+H21+I21 -> 23 | AL21: =J21 -> 4 | AM21: =K21+L21+M21 -> 4 | AN21: =F21+G21+K21 -> 27 | AO21: =X21+Y21+AA21 -> 27 | AP21: =N21 -> 6 | AQ21: =O21+P21+Q21+R21+S21 -> 6 | AR21: =S21 -> 1 | AS21: =T21+U21+V21 -> 1 | AT21: =X21 -> 6 | AU21: =N21+W21 -> 6 | AV21: =AE21 -> 1 | AW21: =AC21+AD21 -> 1 | AX21: =AH21 -> 0 | AY21: =AF21+AG21 -> 0
A22: 1.1.2 | B22: ²Û¹ ÃíáõÙª ïÇñ³½áõñÏ ·áõÛùÇ ÝÏ³ïÙ³Ùµ | AJ22: =E22 -> 0 | AK22: =F22+G22+H22+I22 -> 0 | AL22: =J22 -> 0 | AM22: =K22+L22+M22 -> 0 | AN22: =F22+G22+K22 -> 0 | AO22: =X22+Y22+AA22 -> 0 | AP22: =N22 -> 0 | AQ22: =O22+P22+Q22+R22+S22 -> 0 | AR22: =S22 -> 0 | AS22: =T22+U22+V22 -> 0 | AT22: =X22 -> 0 | AU22: =N22+W22 -> 0 | AV22: =AE22 -> 0 | AW22: =AC22+AD22 -> 0 | AX22: =AH22 -> 0 | AY22: =AF22+AG22 -> 0
A23: 1.1.3 | B23: ²Û¹ ÃíáõÙª ÇÝùÝ³Ï³Ù Ï³éáõÛóÇ ÝÏ³ïÙ³Ùµ | AJ23: =E23 -> 0 | AK23: =F23+G23+H23+I23 -> 0 | AL23: =J23 -> 0 | AM23: =K23+L23+M23 -> 0 | AN23: =F23+G23+K23 -> 0 | AO23: =X23+Y23+AA23 -> 0 | AP23: =N23 -> 0 | AQ23: =O23+P23+Q23+R23+S23 -> 0 | AR23: =S23 -> 0 | AS23: =T23+U23+V23 -> 0 | AT23: =X23 -> 0 | AU23: =N23+W23 -> 0 | AV23: =AE23 -> 0 | AW23: =AC23+AD23 -> 0 | AX23: =AH23 -> 0 | AY23: =AF23+AG23 -> 0
A24: 1.2 | B24: ê»÷³Ï³ÝáõÃÛ³Ý Çñ³íáõÝùÇ ¹³¹³ñ»óÙ³Ý í»ñ³µ»ñÛ³É | E24: 6 | G24: 6 | J24: 1 | K24: 1 | N24: 1 | Q24: 1 | X24: 1 | Z24: 1 | AA24: 6 | AB24: 1 | AC24: 1 | AE24: 1 | AJ24: =E24 -> 6 | AK24: =F24+G24+H24+I24 -> 6 | AL24: =J24 -> 1 | AM24: =K24+L24+M24 -> 1 | AN24: =F24+G24+K24 -> 7 | AO24: =X24+Y24+AA24 -> 7 | AP24: =N24 -> 1 | AQ24: =O24+P24+Q24+R24+S24 -> 1 | AR24: =S24 -> 0 | AS24: =T24+U24+V24 -> 0 | AT24: =X24 -> 1 | AU24: =N24+W24 -> 1 | AV24: =AE24 -> 1 | AW24: =AC24+AD24 -> 1 | AX24: =AH24 -> 0 | AY24: =AF24+AG24 -> 0
A25: 1.3 | B25: ¶áõÛùÇ ÝÏ³ïÙ³Ùµ û·ï³·áñÍÙ³Ý Çñ³íáõÝùÁ ×³Ý³ã»Éáõ í»ñ³µ»ñÛ³É | AJ25: =E25 -> 0 | AK25: =F25+G25+H25+I25 -> 0 | AL25: =J25 -> 0 | AM25: =K25+L25+M25 -> 0 | AN25: =F25+G25+K25 -> 0 | AO25: =X25+Y25+AA25 -> 0 | AP25: =N25 -> 0 | AQ25: =O25+P25+Q25+R25+S25 -> 0 | AR25: =S25 -> 0 | AS25: =T25+U25+V25 -> 0 | AT25: =X25 -> 0 | AU25: =N25+W25 -> 0 | AV25: =AE25 -> 0 | AW25: =AC25+AD25 -> 0 | AX25: =AH25 -> 0 | AY25: =AF25+AG25 -> 0
A26: 1.3.1 | B26: ²Û¹ ÃíáõÙª µÝ³Ïû·ï³·áñÍÙ³Ý Çñ³íáõÝùÁ ×³Ý³ã»Éáõ í»ñ³µ»ñÛ³É | AJ26: =E26 -> 0 | AK26: =F26+G26+H26+I26 -> 0 | AL26: =J26 -> 0 | AM26: =K26+L26+M26 -> 0 | AN26: =F26+G26+K26 -> 0 | AO26: =X26+Y26+AA26 -> 0 | AP26: =N26 -> 0 | AQ26: =O26+P26+Q26+R26+S26 -> 0 | AR26: =S26 -> 0 | AS26: =T26+U26+V26 -> 0 | AT26: =X26 -> 0 | AU26: =N26+W26 -> 0 | AV26: =AE26 -> 0 | AW26: =AC26+AD26 -> 0 | AX26: =AH26 -> 0 | AY26: =AF26+AG26 -> 0
A27: 1.3.2 | B27: ²Û¹ ÃíáõÙª ÑáÕ³Ù³ëÇ ÝÏ³ïÙ³Ùµ û·ï³·áñÍÙ³Ý Çñ³íáõÝùÁ ×³Ý³ã»Éáõ í»ñ³µ»ñÛ³É | E27: 1 | G27: 1 | AA27: 1 | AJ27: =E27 -> 1 | AK27: =F27+G27+H27+I27 -> 1 | AL27: =J27 -> 0 | AM27: =K27+L27+M27 -> 0 | AN27: =F27+G27+K27 -> 1 | AO27: =X27+Y27+AA27 -> 1 | AP27: =N27 -> 0 | AQ27: =O27+P27+Q27+R27+S27 -> 0 | AR27: =S27 -> 0 | AS27: =T27+U27+V27 -> 0 | AT27: =X27 -> 0 | AU27: =N27+W27 -> 0 | AV27: =AE27 -> 0 | AW27: =AC27+AD27 -> 0 | AX27: =AH27 -> 0 | AY27: =AF27+AG27 -> 0
A28: 1.4 | B28: ¶áõÛùÇ ÝÏ³ïÙ³Ùµ û·ï³·áñÍÙ³Ý Çñ³íáõÝùÁ ¹³¹³ñ»óÝ»Éáõ í»ñ³µ»ñÛ³É | AJ28: =E28 -> 0 | AK28: =F28+G28+H28+I28 -> 0 | AL28: =J28 -> 0 | AM28: =K28+L28+M28 -> 0 | AN28: =F28+G28+K28 -> 0 | AO28: =X28+Y28+AA28 -> 0 | AP28: =N28 -> 0 | AQ28: =O28+P28+Q28+R28+S28 -> 0 | AR28: =S28 -> 0 | AS28: =T28+U28+V28 -> 0 | AT28: =X28 -> 0 | AU28: =N28+W28 -> 0 | AV28: =AE28 -> 0 | AW28: =AC28+AD28 -> 0 | AX28: =AH28 -> 0 | AY28: =AF28+AG28 -> 0
A29: 1.4.1 | B29: ²Û¹ ÃíáõÙª µÝ³Ïû·ï³·áñÍÙ³Ý Çñ³íáõÝùÁ ¹³¹³ñ»óÝ»Éáõ í»ñ³µ»ñÛ³É | E29: 4 | F29: 2 | G29: 2 | AA29: 4 | AB29: 2 | AJ29: =E29 -> 4 | AK29: =F29+G29+H29+I29 -> 4 | AL29: =J29 -> 0 | AM29: =K29+L29+M29 -> 0 | AN29: =F29+G29+K29 -> 4 | AO29: =X29+Y29+AA29 -> 4 | AP29: =N29 -> 0 | AQ29: =O29+P29+Q29+R29+S29 -> 0 | AR29: =S29 -> 0 | AS29: =T29+U29+V29 -> 0 | AT29: =X29 -> 0 | AU29: =N29+W29 -> 0 | AV29: =AE29 -> 0 | AW29: =AC29+AD29 -> 0 | AX29: =AH29 -> 0 | AY29: =AF29+AG29 -> 0
A30: 1.4.1/1 | B30: ²Û¹ ÃíáõÙª ÷áËÑ³ïáõóÙ³Ùµ | E30: 3 | F30: 1 | G30: 2 | N30: 1 | S30: 1 | U30: 1 | X30: 1 | AA30: 2 | AB30: 1 | AJ30: =E30 -> 3 | AK30: =F30+G30+H30+I30 -> 3 | AL30: =J30 -> 0 | AM30: =K30+L30+M30 -> 0 | AN30: =F30+G30+K30 -> 3 | AO30: =X30+Y30+AA30 -> 3 | AP30: =N30 -> 1 | AQ30: =O30+P30+Q30+R30+S30 -> 1 | AR30: =S30 -> 1 | AS30: =T30+U30+V30 -> 1 | AT30: =X30 -> 1 | AU30: =N30+W30 -> 1 | AV30: =AE30 -> 0 | AW30: =AC30+AD30 -> 0 | AX30: =AH30 -> 0 | AY30: =AF30+AG30 -> 0
A31: 1.5 | B31: ´Ý³Ï³ñ³ÝÇó/ ï³ñ³ÍùÇó/ íï³ñ»Éáõ í»ñ³µ»ñÛ³É | E31: 27 | F31: 11 | G31: 16 | J31: 5 | K31: 3 | L31: 2 | N31: 4 | O31: 1 | P31: 2 | S31: 1 | T31: 1 | X31: 4 | Z31: 1 | AA31: 26 | AB31: 12 | AC31: 2 | AE31: 2 | AJ31: =E31 -> 27 | AK31: =F31+G31+H31+I31 -> 27 | AL31: =J31 -> 5 | AM31: =K31+L31+M31 -> 5 | AN31: =F31+G31+K31 -> 30 | AO31: =X31+Y31+AA31 -> 30 | AP31: =N31 -> 4 | AQ31: =O31+P31+Q31+R31+S31 -> 4 | AR31: =S31 -> 1 | AS31: =T31+U31+V31 -> 1 | AT31: =X31 -> 4 | AU31: =N31+W31 -> 4 | AV31: =AE31 -> 2 | AW31: =AC31+AD31 -> 2 | AX31: =AH31 -> 0 | AY31: =AF31+AG31 -> 0
A32: 1.6 | B32: ¶áõÛùÝ áõñÇßÇ ³åûñÇÝÇ ïÇñ³å»ïáõÙÇó »ï í»ñ³¹³ñÓÝ»Éáõ í»ñ³µ»ñÛ³É | E32: 19 | F32: 6 | G32: 13 | J32: 4 | K32: 3 | L32: 1 | N32: 1 | Q32: 1 | X32: 1 | AA32: 21 | AB32: 6 | AC32: 1 | AE32: 1 | AJ32: =E32 -> 19 | AK32: =F32+G32+H32+I32 -> 19 | AL32: =J32 -> 4 | AM32: =K32+L32+M32 -> 4 | AN32: =F32+G32+K32 -> 22 | AO32: =X32+Y32+AA32 -> 22 | AP32: =N32 -> 1 | AQ32: =O32+P32+Q32+R32+S32 -> 1 | AR32: =S32 -> 0 | AS32: =T32+U32+V32 -> 0 | AT32: =X32 -> 1 | AU32: =N32+W32 -> 1 | AV32: =AE32 -> 1 | AW32: =AC32+AD32 -> 1 | AX32: =AH32 -> 0 | AY32: =AF32+AG32 -> 0
A33: 1.6.1 | B33: ´³ñ»ËÇÕ× Ó»éùµ»ñáÕÇó Çñ ·áõÛùÁ Ñ»ï å³Ñ³Ýç»Éáõ í»ñ³µ»ñÛ³É | AJ33: =E33 -> 0 | AK33: =F33+G33+H33+I33 -> 0 | AL33: =J33 -> 0 | AM33: =K33+L33+M33 -> 0 | AN33: =F33+G33+K33 -> 0 | AO33: =X33+Y33+AA33 -> 0 | AP33: =N33 -> 0 | AQ33: =O33+P33+Q33+R33+S33 -> 0 | AR33: =S33 -> 0 | AS33: =T33+U33+V33 -> 0 | AT33: =X33 -> 0 | AU33: =N33+W33 -> 0 | AV33: =AE33 -> 0 | AW33: =AC33+AD33 -> 0 | AX33: =AH33 -> 0 | AY33: =AF33+AG33 -> 0
A34: 1.7 | B34: îÇñ³å»ïáõÙÇó ½ñÏ»Éáõ Ñ»ï ãÏ³åí³Í Çñ³íáõÝùÝ»ñÇ Ë³ËïáõÙÁ í»ñ³óÝ»Éáõ í»ñ³µ»ñÛ³É | E34: 15 | F34: 4 | G34: 11 | J34: 3 | K34: 2 | L34: 1 | N34: 4 | Q34: 4 | X34: 4 | AA34: 13 | AB34: 4 | AC34: 2 | AE34: 2 | AJ34: =E34 -> 15 | AK34: =F34+G34+H34+I34 -> 15 | AL34: =J34 -> 3 | AM34: =K34+L34+M34 -> 3 | AN34: =F34+G34+K34 -> 17 | AO34: =X34+Y34+AA34 -> 17 | AP34: =N34 -> 4 | AQ34: =O34+P34+Q34+R34+S34 -> 4 | AR34: =S34 -> 0 | AS34: =T34+U34+V34 -> 0 | AT34: =X34 -> 4 | AU34: =N34+W34 -> 4 | AV34: =AE34 -> 2 | AW34: =AC34+AD34 -> 2 | AX34: =AH34 -> 0 | AY34: =AF34+AG34 -> 0
A35: 1.8 | B35: ÀÝ¹Ñ³Ýáõñ µ³ÅÝ³ÛÇÝ ë»÷³Ï³ÝáõÃÛáõÝÇó µ³ÅÇÝÝ ³é³ÝÓÝ³óÝ»Éáõ í»ñ³µ»ñÛ³É | E35: 51 | F35: 21 | G35: 30 | J35: 13 | K35: 12 | L35: 1 | N35: 10 | O35: 4 | Q35: 1 | S35: 5 | T35: 1 | U35: 4 | X35: 10 | Z35: 9 | AA35: 53 | AB35: 21 | AJ35: =E35 -> 51 | AK35: =F35+G35+H35+I35 -> 51 | AL35: =J35 -> 13 | AM35: =K35+L35+M35 -> 13 | AN35: =F35+G35+K35 -> 63 | AO35: =X35+Y35+AA35 -> 63 | AP35: =N35 -> 10 | AQ35: =O35+P35+Q35+R35+S35 -> 10 | AR35: =S35 -> 5 | AS35: =T35+U35+V35 -> 5 | AT35: =X35 -> 10 | AU35: =N35+W35 -> 10 | AV35: =AE35 -> 0 | AW35: =AC35+AD35 -> 0 | AX35: =AH35 -> 0 | AY35: =AF35+AG35 -> 0
A36: 1.8.1 | B36: Ð³Ù³ï»Õ ë»÷³Ï³ÝáõÃÛ³Ý Ý»ñùá ·ïÝíáÕ ·áõÛùÁ µ³Å³Ý»Éáõ ¨ ¹ñ³ÝÇó µ³ÅÇÝÝ ³é³ÝÓÝ³óÝ»Éáõ í»ñ³µ»ñÛ³É | E36: 94 | F36: 31 | G36: 63 | J36: 21 | K36: 18 | L36: 3 | N36: 19 | O36: 10 | P36: 4 | Q36: 3 | S36: 2 | T36: 1 | U36: 1 | X36: 19 | Y36: 1 | Z36: 6 | AA36: 92 | AB36: 27 | AC36: 5 | AE36: 5 | AJ36: =E36 -> 94 | AK36: =F36+G36+H36+I36 -> 94 | AL36: =J36 -> 21 | AM36: =K36+L36+M36 -> 21 | AN36: =F36+G36+K36 -> 112 | AO36: =X36+Y36+AA36 -> 112 | AP36: =N36 -> 19 | AQ36: =O36+P36+Q36+R36+S36 -> 19 | AR36: =S36 -> 2 | AS36: =T36+U36+V36 -> 2 | AT36: =X36 -> 19 | AU36: =N36+W36 -> 19 | AV36: =AE36 -> 5 | AW36: =AC36+AD36 -> 5 | AX36: =AH36 -> 0 | AY36: =AF36+AG36 -> 0
A37: 1.8.3 | B37: ¶áõÛùÇ íñ³ µéÝ³·³ÝÓáõÙ ï³ñ³Í»Éáõ å³Ñ³ÝçÇ Ù³ëÇÝ | E37: 7 | F37: 3 | G37: 4 | J37: 2 | K37: 2 | N37: 3 | O37: 1 | P37: 1 | Q37: 1 | X37: 3 | AA37: 6 | AB37: 3 | AC37: 3 | AE37: 3 | AJ37: =E37 -> 7 | AK37: =F37+G37+H37+I37 -> 7 | AL37: =J37 -> 2 | AM37: =K37+L37+M37 -> 2 | AN37: =F37+G37+K37 -> 9 | AO37: =X37+Y37+AA37 -> 9 | AP37: =N37 -> 3 | AQ37: =O37+P37+Q37+R37+S37 -> 3 | AR37: =S37 -> 0 | AS37: =T37+U37+V37 -> 0 | AT37: =X37 -> 3 | AU37: =N37+W37 -> 3 | AV37: =AE37 -> 3 | AW37: =AC37+AD37 -> 3 | AX37: =AH37 -> 0 | AY37: =AF37+AG37 -> 0
A38: 1.9 | B38: ²ÛÉ í»×»ñ | E38: 40 | F38: 8 | G38: 32 | J38: 29 | K38: 25 | L38: 3 | N38: 14 | O38: 2 | P38: 1 | Q38: 7 | S38: 4 | U38: 4 | X38: 14 | Z38: 2 | AA38: 51 | AB38: 7 | AC38: 3 | AE38: 3 | AJ38: =E38 -> 40 | AK38: =F38+G38+H38+I38 -> 40 | AL38: =J38 -> 29 | AM38: =K38+L38+M38 -> 28 | AN38: =F38+G38+K38 -> 65 | AO38: =X38+Y38+AA38 -> 65 | AP38: =N38 -> 14 | AQ38: =O38+P38+Q38+R38+S38 -> 14 | AR38: =S38 -> 4 | AS38: =T38+U38+V38 -> 4 | AT38: =X38 -> 14 | AU38: =N38+W38 -> 14 | AV38: =AE38 -> 3 | AW38: =AC38+AD38 -> 3 | AX38: =AH38 -> 0 | AY38: =AF38+AG38 -> 0
A39: 2. | B39: ¶áñÍ³ñùÝ»ñÇ Ñ»ï Ï³åí³Í Çñ³í³Ñ³ñ³µ»ñáõÃÛáõÝÝ»ñÇ í»ñ³µ»ñÛ³É ¹³ï³Ï³Ý ·áñÍ»ñ | E39: =SUM(E40:E50) -> 129 | F39: =SUM(F40:F50) -> 39 | G39: 90 | H39: =SUM(H40:H50) -> 0 | I39: =SUM(I40:I50) -> 0 | J39: =SUM(J40:J50) -> 26 | K39: =SUM(K40:K50) -> 22 | L39: =SUM(L40:L50) -> 4 | M39: =SUM(M40:M50) -> 0 | N39: =SUM(N40:N50) -> 28 | O39: =SUM(O40:O50) -> 0 | ... W39: =SUM(W40:W50) -> 0 | X39: 28 | Y39: =SUM(Y40:Y50) -> 0 | Z39: =SUM(Z40:Z50) -> 3 | AA39: =SUM(AA40:AA50) -> 123 | AB39: =SUM(AB40:AB50) -> 34 | AC39: =SUM(AC40:AC50) -> 9 | AD39: =SUM(AD40:AD50) -> 0 | AE39: =SUM(AE40:AE50) -> 9 | AF39: =SUM(AF40:AF50) -> 0 | ... AH39: =SUM(AH40:AH50) -> 0 | AJ39: =SUM(AJ40:AJ50) -> 129 | AK39: =SUM(AK40:AK50) -> 129 | AL39: =SUM(AL40:AL50) -> 26 | AM39: =SUM(AM40:AM50) -> 26 | AN39: =SUM(AN40:AN50) -> 151 | AO39: =SUM(AO40:AO50) -> 151 | AP39: =SUM(AP40:AP50) -> 28 | AQ39: =SUM(AQ40:AQ50) -> 28 | ... AY39: =SUM(AY40:AY50) -> 0
A40: 2.1 | B40: ·áñÍ³ñùÝ»ñÇ ³Ýí³í»ñáõÃÛ³Ý Ñ»ï Ï³åí³Í í»×»ñ | E40: 13 | F40: 2 | G40: 11 | J40: 7 | K40: 7 | N40: 4 | Q40: 4 | X40: 4 | Z40: 1 | AA40: 16 | AB40: 3 | AC40: 1 | AE40: 1 | AJ40: =E40 -> 13 | AK40: =F40+G40+H40+I40 -> 13 | AL40: =J40 -> 7 | AM40: =K40+L40+M40 -> 7 | AN40: =F40+G40+K40 -> 20 | AO40: =X40+Y40+AA40 -> 20 | AP40: =N40 -> 4 | AQ40: =O40+P40+Q40+R40+S40 -> 4 | AR40: =S40 -> 0 | AS40: =T40+U40+V40 -> 0 | AT40: =X40 -> 4 | AU40: =N40+W40 -> 4 | AV40: =AE40 -> 1 | AW40: =AC40+AD40 -> 1 | AX40: =AH40 -> 0 | AY40: =AF40+AG40 -> 0
A41: 2.1.1 | B41: ³Û¹ ÃíáõÙ` íÇ×³Ñ³ñáõÛó ·áñÍ³ñùÝ»ñÝ ³Ýí³í»ñ ×³Ý³ã»Éáõ í»ñ³µ»ñÛ³É | AJ41: =E41 -> 0 | AK41: =F41+G41+H41+I41 -> 0 | AL41: =J41 -> 0 | AM41: =K41+L41+M41 -> 0 | AN41: =F41+G41+K41 -> 0 | AO41: =X41+Y41+AA41 -> 0 | AP41: =N41 -> 0 | AQ41: =O41+P41+Q41+R41+S41 -> 0 | AR41: =S41 -> 0 | AS41: =T41+U41+V41 -> 0 | AT41: =X41 -> 0 | AU41: =N41+W41 -> 0 | AV41: =AE41 -> 0 | AW41: =AC41+AD41 -> 0 | AX41: =AH41 -> 0 | AY41: =AF41+AG41 -> 0
A42: 2.1.2 | B42: ³Û¹ ÃíáõÙ` ·áñÍ³ñùÇ ³éáãÝãáõÃÛ³Ý Ñ»ï¨³ÝùÝ»ñ ÏÇñ³é»Éáõ í»ñ³µ»ñÛ³É | E42: 4 | F42: 1 | G42: 3 | J42: 1 | K42: 1 | AA42: 5 | AJ42: =E42 -> 4 | AK42: =F42+G42+H42+I42 -> 4 | AL42: =J42 -> 1 | AM42: =K42+L42+M42 -> 1 | AN42: =F42+G42+K42 -> 5 | AO42: =X42+Y42+AA42 -> 5 | AP42: =N42 -> 0 | AQ42: =O42+P42+Q42+R42+S42 -> 0 | AR42: =S42 -> 0 | AS42: =T42+U42+V42 -> 0 | AT42: =X42 -> 0 | AU42: =N42+W42 -> 0 | AV42: =AE42 -> 0 | AW42: =AC42+AD42 -> 0 | AX42: =AH42 -> 0 | AY42: =AF42+AG42 -> 0
A43: 2.2 | B43: ¶áñÍ³ñùÁ í³í»ñ ×³Ý³ã»Éáõ í»ñ³µ»ñÛ³É | E43: 5 | F43: 1 | G43: 4 | N43: 1 | Q43: 1 | X43: 1 | AA43: 4 | AB43: 1 | AJ43: =E43 -> 5 | AK43: =F43+G43+H43+I43 -> 5 | AL43: =J43 -> 0 | AM43: =K43+L43+M43 -> 0 | AN43: =F43+G43+K43 -> 5 | AO43: =X43+Y43+AA43 -> 5 | AP43: =N43 -> 1 | AQ43: =O43+P43+Q43+R43+S43 -> 1 | AR43: =S43 -> 0 | AS43: =T43+U43+V43 -> 0 | AT43: =X43 -> 1 | AU43: =N43+W43 -> 1 | AV43: =AE43 -> 0 | AW43: =AC43+AD43 -> 0 | AX43: =AH43 -> 0 | AY43: =AF43+AG43 -> 0
A44: 2.3 | B44: ¶áñÍ³ñùÇó Í³·áÕ Çñ³íáõÝùÝ»ñÁ ·ñ³Ýó»Éáõ í»ñ³µ»ñÛ³É | AJ44: =E44 -> 0 | AK44: =F44+G44+H44+I44 -> 0 | AL44: =J44 -> 0 | AM44: =K44+L44+M44 -> 0 | AN44: =F44+G44+K44 -> 0 | AO44: =X44+Y44+AA44 -> 0 | AP44: =N44 -> 0 | AQ44: =O44+P44+Q44+R44+S44 -> 0 | AR44: =S44 -> 0 | AS44: =T44+U44+V44 -> 0 | AT44: =X44 -> 0 | AU44: =N44+W44 -> 0 | AV44: =AE44 -> 0 | AW44: =AC44+AD44 -> 0 | AX44: =AH44 -> 0 | AY44: =AF44+AG44 -> 0
A45: 2.4 | B45: ä³ÛÙ³Ý³·ÇñÝ ³Ýí³í»ñ ×³Ý³ã»Éáõ í»ñ³µ»ñÛ³É | E45: 50 | F45: 13 | G45: 37 | J45: 7 | K45: 5 | L45: 2 | N45: 12 | P45: 2 | Q45: 8 | R45: 1 | S45: 1 | V45: 1 | X45: 12 | Z45: 2 | AA45: 43 | AB45: 12 | AC45: 6 | AE45: 6 | AJ45: =E45 -> 50 | AK45: =F45+G45+H45+I45 -> 50 | AL45: =J45 -> 7 | AM45: =K45+L45+M45 -> 7 | AN45: =F45+G45+K45 -> 55 | AO45: =X45+Y45+AA45 -> 55 | AP45: =N45 -> 12 | AQ45: =O45+P45+Q45+R45+S45 -> 12 | AR45: =S45 -> 1 | AS45: =T45+U45+V45 -> 1 | AT45: =X45 -> 12 | AU45: =N45+W45 -> 12 | AV45: =AE45 -> 6 | AW45: =AC45+AD45 -> 6 | AX45: =AH45 -> 0 | AY45: =AF45+AG45 -> 0
A46: 2.5 | B46: ä³ÛÙ³Ý³·ñÇÁ í³í»ñ ×³Ý³ã»Éáõ í»ñ³µ»ñÛ³É | E46: 5 | F46: 4 | G46: 1 | J46: 3 | K46: 3 | N46: 1 | S46: 1 | U46: 1 | X46: 1 | AA46: 7 | AB46: 3 | AJ46: =E46 -> 5 | AK46: =F46+G46+H46+I46 -> 5 | AL46: =J46 -> 3 | AM46: =K46+L46+M46 -> 3 | AN46: =F46+G46+K46 -> 8 | AO46: =X46+Y46+AA46 -> 8 | AP46: =N46 -> 1 | AQ46: =O46+P46+Q46+R46+S46 -> 1 | AR46: =S46 -> 1 | AS46: =T46+U46+V46 -> 1 | AT46: =X46 -> 1 | AU46: =N46+W46 -> 1 | AV46: =AE46 -> 0 | AW46: =AC46+AD46 -> 0 | AX46: =AH46 -> 0 | AY46: =AF46+AG46 -> 0
A47: 2.6 | B47: ä³ÛÙ³Ý³·ñÇó Í³·áÕ Çñ³íáõÝùÝ»ñÁ ·ñ³Ýó»Éáõ í»ñ³µ»ñÛ³É | AJ47: =E47 -> 0 | AK47: =F47+G47+H47+I47 -> 0 | AL47: =J47 -> 0 | AM47: =K47+L47+M47 -> 0 | AN47: =F47+G47+K47 -> 0 | AO47: =X47+Y47+AA47 -> 0 | AP47: =N47 -> 0 | AQ47: =O47+P47+Q47+R47+S47 -> 0 | AR47: =S47 -> 0 | AS47: =T47+U47+V47 -> 0 | AT47: =X47 -> 0 | AU47: =N47+W47 -> 0 | AV47: =AE47 -> 0 | AW47: =AC47+AD47 -> 0 | AX47: =AH47 -> 0 | AY47: =AF47+AG47 -> 0
A48: 2.7 | B48: ä³ÛÙ³Ý³·ÇñÁ ÷á÷áË»Éáõ ¨ ÉáõÍ»Éáõ í»ñ³µ»ñÛ³É | E48: 9 | G48: 9 | J48: 1 | K48: 1 | N48: 6 | P48: 3 | Q48: 3 | X48: 6 | AA48: 4 | AB48: 1 | AC48: 2 | AE48: 2 | AJ48: =E48 -> 9 | AK48: =F48+G48+H48+I48 -> 9 | AL48: =J48 -> 1 | AM48: =K48+L48+M48 -> 1 | AN48: =F48+G48+K48 -> 10 | AO48: =X48+Y48+AA48 -> 10 | AP48: =N48 -> 6 | AQ48: =O48+P48+Q48+R48+S48 -> 6 | AR48: =S48 -> 0 | AS48: =T48+U48+V48 -> 0 | AT48: =X48 -> 6 | AU48: =N48+W48 -> 6 | AV48: =AE48 -> 2 | AW48: =AC48+AD48 -> 2 | AX48: =AH48 -> 0 | AY48: =AF48+AG48 -> 0
A49: 2.8 | B49: ä³ÛÙ³Ý³·Çñ ÏÝù»ÉáõÝ å³ñï³íáñ»óÝ»Éáõ í»ñ³µ»ñÛ³É | E49: 11 | F49: 6 | G49: 5 | J49: 1 | K49: 1 | X49: 0 | AA49: 12 | AB49: 6 | AJ49: =E49 -> 11 | AK49: =F49+G49+H49+I49 -> 11 | AL49: =J49 -> 1 | AM49: =K49+L49+M49 -> 1 | AN49: =F49+G49+K49 -> 12 | AO49: =X49+Y49+AA49 -> 12 | AP49: =N49 -> 0 | AQ49: =O49+P49+Q49+R49+S49 -> 0 | AR49: =S49 -> 0 | AS49: =T49+U49+V49 -> 0 | AT49: =X49 -> 0 | AU49: =N49+W49 -> 0 | AV49: =AE49 -> 0 | AW49: =AC49+AD49 -> 0 | AX49: =AH49 -> 0 | AY49: =AF49+AG49 -> 0
A50: 2.9 | B50: ²ÛÉ í»×»ñ | E50: 32 | F50: 12 | G50: 20 | J50: 6 | K50: 4 | L50: 2 | N50: 4 | R50: 1 | S50: 3 | U50: 3 | X50: 4 | AA50: 32 | AB50: 8 | AJ50: =E50 -> 32 | AK50: =F50+G50+H50+I50 -> 32 | AL50: =J50 -> 6 | AM50: =K50+L50+M50 -> 6 | AN50: =F50+G50+K50 -> 36 | AO50: =X50+Y50+AA50 -> 36 | AP50: =N50 -> 4 | AQ50: =O50+P50+Q50+R50+S50 -> 4 | AR50: =S50 -> 3 | AS50: =T50+U50+V50 -> 3 | AT50: =X50 -> 4 | AU50: =N50+W50 -> 4 | AV50: =AE50 -> 0 | AW50: =AC50+AD50 -> 0 | AX50: =AH50 -> 0 | AY50: =AF50+AG50 -> 0
A51: 3. | B51: Ä³é³Ý·áõÃÛ³Ý Ñ»ï Ï³åí³Í Çñ³í³Ñ³ñ³µ»ñáõÃÛáõÝÝ»ñÇ í»ñ³µ»ñÛ³É ¹³ï³Ï³Ý ·áñÍ»ñ | E51: =SUM(E52:E58) -> 16 | F51: =SUM(F52:F58) -> 2 | G51: =SUM(G52:G58) -> 14 | H51: =SUM(H52:H58) -> 0 | I51: =SUM(I52:I58) -> 0 | J51: =SUM(J52:J58) -> 5 | K51: =SUM(K52:K58) -> 5 | L51: =SUM(L52:L58) -> 0 | ... AH51: =SUM(AH52:AH58) -> 0 | AJ51: =SUM(AJ52:AJ58) -> 16 | AK51: =SUM(AK52:AK58) -> 16 | AL51: =SUM(AL52:AL58) -> 5 | AM51: =SUM(AM52:AM58) -> 5 | AN51: =SUM(AN52:AN58) -> 21 | AO51: =SUM(AO52:AO58) -> 21 | AP51: =SUM(AP52:AP58) -> 4 | AQ51: =SUM(AQ52:AQ58) -> 4 | ... AY51: =SUM(AY52:AY58) -> 0
A52: 3.1 | B52: Îï³ÏÝ ³Ýí³í»ñ ×³Ý³ã»Éáõ í»ñ³µ»ñÛ³É | AJ52: =E52 -> 0 | AK52: =F52+G52+H52+I52 -> 0 | AL52: =J52 -> 0 | AM52: =K52+L52+M52 -> 0 | AN52: =F52+G52+K52 -> 0 | AO52: =X52+Y52+AA52 -> 0 | AP52: =N52 -> 0 | AQ52: =O52+P52+Q52+R52+S52 -> 0 | AR52: =S52 -> 0 | AS52: =T52+U52+V52 -> 0 | AT52: =X52 -> 0 | AU52: =N52+W52 -> 0 | AV52: =AE52 -> 0 | AW52: =AC52+AD52 -> 0 | AX52: =AH52 -> 0 | AY52: =AF52+AG52 -> 0
A53: 3.2 | B53: ²Ý³ñÅ³Ý Å³é³Ý· ×³Ý³ã»Éáõ í»ñ³µ»ñÛ³É | AJ53: =E53 -> 0 | AK53: =F53+G53+H53+I53 -> 0 | AL53: =J53 -> 0 | AM53: =K53+L53+M53 -> 0 | AN53: =F53+G53+K53 -> 0 | AO53: =X53+Y53+AA53 -> 0 | AP53: =N53 -> 0 | AQ53: =O53+P53+Q53+R53+S53 -> 0 | AR53: =S53 -> 0 | AS53: =T53+U53+V53 -> 0 | AT53: =X53 -> 0 | AU53: =N53+W53 -> 0 | AV53: =AE53 -> 0 | AW53: =AC53+AD53 -> 0 | AX53: =AH53 -> 0 | AY53: =AF53+AG53 -> 0
A54: 3.3 | B54: Ä³é³Ý·áõÃÛáõÝÁ µ³Å³Ý»Éáõ í»ñ³µ»ñÛ³É | E54: 1 | G54: 1 | Z54: 1 | AA54: 1 | AB54: 1 | AJ54: =E54 -> 1 | AK54: =F54+G54+H54+I54 -> 1 | AL54: =J54 -> 0 | AM54: =K54+L54+M54 -> 0 | AN54: =F54+G54+K54 -> 1 | AO54: =X54+Y54+AA54 -> 1 | AP54: =N54 -> 0 | AQ54: =O54+P54+Q54+R54+S54 -> 0 | AR54: =S54 -> 0 | AS54: =T54+U54+V54 -> 0 | AT54: =X54 -> 0 | AU54: =N54+W54 -> 0 | AV54: =AE54 -> 0 | AW54: =AC54+AD54 -> 0 | AX54: =AH54 -> 0 | AY54: =AF54+AG54 -> 0
A55: 3.4 | B55: ¶áõÛùÝ ³ÝÅ³é³Ý· ×³Ý³ã»Éáõ í»ñ³µ»ñÛ³É | AJ55: =E55 -> 0 | AK55: =F55+G55+H55+I55 -> 0 | AL55: =J55 -> 0 | AM55: =K55+L55+M55 -> 0 | AN55: =F55+G55+K55 -> 0 | AO55: =X55+Y55+AA55 -> 0 | AP55: =N55 -> 0 | AQ55: =O55+P55+Q55+R55+S55 -> 0 | AR55: =S55 -> 0 | AS55: =T55+U55+V55 -> 0 | AT55: =X55 -> 0 | AU55: =N55+W55 -> 0 | AV55: =AE55 -> 0 | AW55: =AC55+AD55 -> 0 | AX55: =AH55 -> 0 | AY55: =AF55+AG55 -> 0
A56: 3.5 | B56: Àëï ûñ»ÝùÇ Å³é³Ý·áõÃÛ³Ý Çñ³íáõÝùÇ íÏ³Û³·ÇñÝ ³Ýí³í»ñ ×³Ý³ã»Éáõ í»ñ³µ»ñÛ³É | J56: 1 | K56: 1 | AA56: 1 | AJ56: =E56 -> 0 | AK56: =F56+G56+H56+I56 -> 0 | AL56: =J56 -> 1 | AM56: =K56+L56+M56 -> 1 | AN56: =F56+G56+K56 -> 1 | AO56: =X56+Y56+AA56 -> 1 | AP56: =N56 -> 0 | AQ56: =O56+P56+Q56+R56+S56 -> 0 | AR56: =S56 -> 0 | AS56: =T56+U56+V56 -> 0 | AT56: =X56 -> 0 | AU56: =N56+W56 -> 0 | AV56: =AE56 -> 0 | AW56: =AC56+AD56 -> 0 | AX56: =AH56 -> 0 | AY56: =AF56+AG56 -> 0
A57: 3.6 | B57: Ä³é³Ý·áõÃÛáõÝÝ ÁÝ¹áõÝ»Éáõ µ³ó ÃáÕÝí³Í Å³ÙÏ»ïÁ Ñ³ñ·»ÉÇ Ñ³Ù³ñ»Éáõ í»ñ³µ»ñÛ³É | E57: 1 | G57: 1 | AA57: 1 | AJ57: =E57 -> 1 | AK57: =F57+G57+H57+I57 -> 1 | AL57: =J57 -> 0 | AM57: =K57+L57+M57 -> 0 | AN57: =F57+G57+K57 -> 1 | AO57: =X57+Y57+AA57 -> 1 | AP57: =N57 -> 0 | AQ57: =O57+P57+Q57+R57+S57 -> 0 | AR57: =S57 -> 0 | AS57: =T57+U57+V57 -> 0 | AT57: =X57 -> 0 | AU57: =N57+W57 -> 0 | AV57: =AE57 -> 0 | AW57: =AC57+AD57 -> 0 | AX57: =AH57 -> 0 | AY57: =AF57+AG57 -> 0
A58: 3.7 | B58: ²ÛÉ í»×»ñ | E58: 14 | F58: 2 | G58: 12 | J58: 4 | K58: 4 | N58: 4 | Q58: 2 | S58: 2 | U58: 2 | X58: 4 | Z58: 1 | AA58: 14 | AB58: 3 | AJ58: =E58 -> 14 | AK58: =F58+G58+H58+I58 -> 14 | AL58: =J58 -> 4 | AM58: =K58+L58+M58 -> 4 | AN58: =F58+G58+K58 -> 18 | AO58: =X58+Y58+AA58 -> 18 | AP58: =N58 -> 4 | AQ58: =O58+P58+Q58+R58+S58 -> 4 | AR58: =S58 -> 2 | AS58: =T58+U58+V58 -> 2 | AT58: =X58 -> 4 | AU58: =N58+W58 -> 4 | AV58: =AE58 -> 0 | AW58: =AC58+AD58 -> 0 | AX58: =AH58 -> 0 | AY58: =AF58+AG58 -> 0
A59: 4 | B59: ÀÝï³Ý»Ï³Ý Çñ³í³Ñ³ñ³µ»ñáõÃÛáõÝÝ»ñÇ í»ñ³µ»ñÛ³É ¹³ï³Ï³Ý ·áñÍ»ñ | E59: =SUM(E60:E72) -> 113 | F59: =SUM(F60:F72) -> 9 | G59: =SUM(G60:G72) -> 104 | H59: =SUM(H60:H72) -> 0 | I59: =SUM(I60:I72) -> 0 | J59: =SUM(J60:J72) -> 93 | K59: =SUM(K60:K72) -> 79 | L59: =SUM(L60:L72) -> 12 | ... AH59: =SUM(AH60:AH72) -> 0 | AJ59: =SUM(AJ60:AJ72) -> 113 | AK59: =SUM(AK60:AK72) -> 113 | AL59: =SUM(AL60:AL72) -> 93 | AM59: =SUM(AM60:AM72) -> 91 | AN59: =SUM(AN60:AN72) -> 192 | AO59: =SUM(AO60:AO72) -> 192 | AP59: =SUM(AP60:AP72) -> 69 | AQ59: =SUM(AQ60:AQ72) -> 69 | ... AY59: =SUM(AY60:AY72) -> 0
A60: 4.1 | B60: ²ÙáõëÝ³ÉáõÍáõÃÛ³Ý í»ñ³µ»ñÛ³É | E60: 59 | F60: 3 | G60: 56 | J60: 52 | K60: 42 | L60: 9 | N60: 44 | O60: 32 | P60: 6 | Q60: 2 | S60: 4 | U60: 4 | X60: 44 | Y60: 2 | Z60: 1 | AA60: 55 | AB60: 2 | AC60: 7 | AE60: 7 | AJ60: =E60 -> 59 | AK60: =F60+G60+H60+I60 -> 59 | AL60: =J60 -> 52 | AM60: =K60+L60+M60 -> 51 | AN60: =F60+G60+K60 -> 101 | AO60: =X60+Y60+AA60 -> 101 | AP60: =N60 -> 44 | AQ60: =O60+P60+Q60+R60+S60 -> 44 | AR60: =S60 -> 4 | AS60: =T60+U60+V60 -> 4 | AT60: =X60 -> 44 | AU60: =N60+W60 -> 44 | AV60: =AE60 -> 7 | AW60: =AC60+AD60 -> 7 | AX60: =AH60 -> 0 | AY60: =AF60+AG60 -> 0
A61: 4.2 | B61: ²ÉÇÙ»ÝïÇ å³Ñ³ÝçÇ í»ñ³µ»ñÛ³É | E61: 16 | F61: 1 | G61: 15 | J61: 21 | K61: 21 | N61: 13 | O61: 4 | P61: 8 | S61: 1 | U61: 1 | X61: 13 | Y61: 2 | Z61: 1 | AA61: 22 | AB61: 2 | AC61: 3 | AE61: 3 | AJ61: =E61 -> 16 | AK61: =F61+G61+H61+I61 -> 16 | AL61: =J61 -> 21 | AM61: =K61+L61+M61 -> 21 | AN61: =F61+G61+K61 -> 37 | AO61: =X61+Y61+AA61 -> 37 | AP61: =N61 -> 13 | AQ61: =O61+P61+Q61+R61+S61 -> 13 | AR61: =S61 -> 1 | AS61: =T61+U61+V61 -> 1 | AT61: =X61 -> 13 | AU61: =N61+W61 -> 13 | AV61: =AE61 -> 3 | AW61: =AC61+AD61 -> 3 | AX61: =AH61 -> 0 | AY61: =AF61+AG61 -> 0
A62: 4.3 | B62: ²ÉÇÙ»ÝïÇ ã³÷Á ÷á÷áË»Éáõ í»ñ³µ»ñÛ³É | E62: 7 | G62: 7 | J62: 8 | K62: 7 | L62: 1 | N62: 6 | P62: 2 | Q62: 4 | X62: 6 | AA62: 8 | AC62: 2 | AD62: 1 | AE62: 3 | AJ62: =E62 -> 7 | AK62: =F62+G62+H62+I62 -> 7 | AL62: =J62 -> 8 | AM62: =K62+L62+M62 -> 8 | AN62: =F62+G62+K62 -> 14 | AO62: =X62+Y62+AA62 -> 14 | AP62: =N62 -> 6 | AQ62: =O62+P62+Q62+R62+S62 -> 6 | AR62: =S62 -> 0 | AS62: =T62+U62+V62 -> 0 | AT62: =X62 -> 6 | AU62: =N62+W62 -> 6 | AV62: =AE62 -> 3 | AW62: =AC62+AD62 -> 3 | AX62: =AH62 -> 0 | AY62: =AF62+AG62 -> 0
A63: 4.4 | B63: ÌÝáÕ³Ï³Ý Çñ³íáõÝùÝ»ñÇó ½ñÏ»Éáõ í»ñ³µ»ñÛ³É | E63: 1 | G63: 1 | AA63: 1 | AJ63: =E63 -> 1 | AK63: =F63+G63+H63+I63 -> 1 | AL63: =J63 -> 0 | AM63: =K63+L63+M63 -> 0 | AN63: =F63+G63+K63 -> 1 | AO63: =X63+Y63+AA63 -> 1 | AP63: =N63 -> 0 | AQ63: =O63+P63+Q63+R63+S63 -> 0 | AR63: =S63 -> 0 | AS63: =T63+U63+V63 -> 0 | AT63: =X63 -> 0 | AU63: =N63+W63 -> 0 | AV63: =AE63 -> 0 | AW63: =AC63+AD63 -> 0 | AX63: =AH63 -> 0 | AY63: =AF63+AG63 -> 0
A64: 4.5 | B64: ÌÝáÕ³Ï³Ý Çñ³íáõÝùÝ»ñÁ í»ñ³Ï³Ý·Ý»Éáõ í»ñ³µ»ñÛ³É | AJ64: =E64 -> 0 | AK64: =F64+G64+H64+I64 -> 0 | AL64: =J64 -> 0 | AM64: =K64+L64+M64 -> 0 | AN64: =F64+G64+K64 -> 0 | AO64: =X64+Y64+AA64 -> 0 | AP64: =N64 -> 0 | AQ64: =O64+P64+Q64+R64+S64 -> 0 | AR64: =S64 -> 0 | AS64: =T64+U64+V64 -> 0 | AT64: =X64 -> 0 | AU64: =N64+W64 -> 0 | AV64: =AE64 -> 0 | AW64: =AC64+AD64 -> 0 | AX64: =AH64 -> 0 | AY64: =AF64+AG64 -> 0
A65: 4.6 | B65: ºñ»Ë³ÛÇ áñ¹»·ñÙ³Ý í»ñ³µ»ñÛ³É | AJ65: =E65 -> 0 | AK65: =F65+G65+H65+I65 -> 0 | AL65: =J65 -> 0 | AM65: =K65+L65+M65 -> 0 | AN65: =F65+G65+K65 -> 0 | AO65: =X65+Y65+AA65 -> 0 | AP65: =N65 -> 0 | AQ65: =O65+P65+Q65+R65+S65 -> 0 | AR65: =S65 -> 0 | AS65: =T65+U65+V65 -> 0 | AT65: =X65 -> 0 | AU65: =N65+W65 -> 0 | AV65: =AE65 -> 0 | AW65: =AC65+AD65 -> 0 | AX65: =AH65 -> 0 | AY65: =AF65+AG65 -> 0
A66: 4.7 | B66: ºñ»Ë³ÛÇ áñ¹»·ñáõÙÁ í»ñ³óÝ»Éáõ í»ñ³µ»ñÛ³É | AJ66: =E66 -> 0 | AK66: =F66+G66+H66+I66 -> 0 | AL66: =J66 -> 0 | AM66: =K66+L66+M66 -> 0 | AN66: =F66+G66+K66 -> 0 | AO66: =X66+Y66+AA66 -> 0 | AP66: =N66 -> 0 | AQ66: =O66+P66+Q66+R66+S66 -> 0 | AR66: =S66 -> 0 | AS66: =T66+U66+V66 -> 0 | AT66: =X66 -> 0 | AU66: =N66+W66 -> 0 | AV66: =AE66 -> 0 | AW66: =AC66+AD66 -> 0 | AX66: =AH66 -> 0 | AY66: =AF66+AG66 -> 0
A67: 4.8 | B67: Ð³ÛñáõÃÛáõÝÁ ×³Ý³ã»Éáõ í»ñ³µ»ñÛ³É | E67: 6 | F67: 3 | G67: 3 | J67: 3 | K67: 2 | Z67: 2 | AA67: 8 | AB67: 4 | AJ67: =E67 -> 6 | AK67: =F67+G67+H67+I67 -> 6 | AL67: =J67 -> 3 | AM67: =K67+L67+M67 -> 2 | AN67: =F67+G67+K67 -> 8 | AO67: =X67+Y67+AA67 -> 8 | AP67: =N67 -> 0 | AQ67: =O67+P67+Q67+R67+S67 -> 0 | AR67: =S67 -> 0 | AS67: =T67+U67+V67 -> 0 | AT67: =X67 -> 0 | AU67: =N67+W67 -> 0 | AV67: =AE67 -> 0 | AW67: =AC67+AD67 -> 0 | AX67: =AH67 -> 0 | AY67: =AF67+AG67 -> 0
A68: 4.9 | B68: ºñ»Ë³ÛÇ µÝ³ÏáõÃÛ³Ý í³ÛñÁ áñáß»Éáõ í»ñ³µ»ñÛ³É | E68: 6 | G68: 6 | J68: 2 | K68: 1 | L68: 1 | N68: 2 | O68: 1 | S68: 1 | T68: 1 | X68: 2 | AA68: 5 | AJ68: =E68 -> 6 | AK68: =F68+G68+H68+I68 -> 6 | AL68: =J68 -> 2 | AM68: =K68+L68+M68 -> 2 | AN68: =F68+G68+K68 -> 7 | AO68: =X68+Y68+AA68 -> 7 | AP68: =N68 -> 2 | AQ68: =O68+P68+Q68+R68+S68 -> 2 | AR68: =S68 -> 1 | AS68: =T68+U68+V68 -> 1 | AT68: =X68 -> 2 | AU68: =N68+W68 -> 2 | AV68: =AE68 -> 0 | AW68: =AC68+AD68 -> 0 | AX68: =AH68 -> 0 | AY68: =AF68+AG68 -> 0
A69: 4.10 | B69: ºñ»Ë³ÛÇ Ñ»ï ï»ë³ÏóáõÃÛ³Ý Ï³ñ· ë³ÑÙ³Ý»Éáõ í»ñ³µ»ñÛ³É | E69: 14 | G69: 14 | J69: 4 | K69: 3 | L69: 1 | N69: 3 | P69: 2 | S69: 1 | T69: 1 | X69: 3 | AA69: 14 | AJ69: =E69 -> 14 | AK69: =F69+G69+H69+I69 -> 14 | AL69: =J69 -> 4 | AM69: =K69+L69+M69 -> 4 | AN69: =F69+G69+K69 -> 17 | AO69: =X69+Y69+AA69 -> 17 | AP69: =N69 -> 3 | AQ69: =O69+P69+Q69+R69+S69 -> 3 | AR69: =S69 -> 1 | AS69: =T69+U69+V69 -> 1 | AT69: =X69 -> 3 | AU69: =N69+W69 -> 3 | AV69: =AE69 -> 0 | AW69: =AC69+AD69 -> 0 | AX69: =AH69 -> 0 | AY69: =AF69+AG69 -> 0
A70: 4.11 | B70: ²ÙáõëÇÝÝ»ñÇ ÁÝ¹Ñ³Ýáõñ ·áõÛùÁ µ³Å³Ý»Éáõ í»ñ³µ»ñÛ³É | E70: 3 | F70: 1 | G70: 2 | J70: 3 | K70: 3 | N70: 1 | S70: 1 | T70: 1 | X70: 1 | AA70: 5 | AJ70: =E70 -> 3 | AK70: =F70+G70+H70+I70 -> 3 | AL70: =J70 -> 3 | AM70: =K70+L70+M70 -> 3 | AN70: =F70+G70+K70 -> 6 | AO70: =X70+Y70+AA70 -> 6 | AP70: =N70 -> 1 | AQ70: =O70+P70+Q70+R70+S70 -> 1 | AR70: =S70 -> 1 | AS70: =T70+U70+V70 -> 1 | AT70: =X70 -> 1 | AU70: =N70+W70 -> 1 | AV70: =AE70 -> 0 | AW70: =AC70+AD70 -> 0 | AX70: =AH70 -> 0 | AY70: =AF70+AG70 -> 0
A71: 4.12 | B71: ²ÙáõëÝ³Ï³Ý å³ÛÙ³Ý³·ñÇ ÷á÷áËÙ³Ý Ï³Ù ÉáõÍÙ³Ý í»ñ³µ»ñÛ³É | AJ71: =E71 -> 0 | AK71: =F71+G71+H71+I71 -> 0 | AL71: =J71 -> 0 | AM71: =K71+L71+M71 -> 0 | AN71: =F71+G71+K71 -> 0 | AO71: =X71+Y71+AA71 -> 0 | AP71: =N71 -> 0 | AQ71: =O71+P71+Q71+R71+S71 -> 0 | AR71: =S71 -> 0 | AS71: =T71+U71+V71 -> 0 | AT71: =X71 -> 0 | AU71: =N71+W71 -> 0 | AV71: =AE71 -> 0 | AW71: =AC71+AD71 -> 0 | AX71: =AH71 -> 0 | AY71: =AF71+AG71 -> 0
A72: 4.13 | B72: ²ÛÉ í»×»ñ | E72: 1 | F72: 1 | AA72: 1 | AB72: 1 | AJ72: =E72 -> 1 | AK72: =F72+G72+H72+I72 -> 1 | AL72: =J72 -> 0 | AM72: =K72+L72+M72 -> 0 | AN72: =F72+G72+K72 -> 1 | AO72: =X72+Y72+AA72 -> 1 | AP72: =N72 -> 0 | AQ72: =O72+P72+Q72+R72+S72 -> 0 | AR72: =S72 -> 0 | AS72: =T72+U72+V72 -> 0 | AT72: =X72 -> 0 | AU72: =N72+W72 -> 0 | AV72: =AE72 -> 0 | AW72: =AC72+AD72 -> 0 | AX72: =AH72 -> 0 | AY72: =AF72+AG72 -> 0
A73: 5. | B73: Øï³íáñ ë»÷³Ï³ÝáõÃÛ³Ý Ñ»ï Ï³åí³ÍÇñ³í³Ñ³ñ³µ»ñáõÃÛáõÝÝ»ñÇ í»ñ³µ»ñÛ³É ¹³ï³Ï³Ý ·áñÍ»ñ | E73: =SUM(E74:E79) -> 0 | F73: =SUM(F74:F79) -> 0 | G73: =SUM(G74:G79) -> 0 | H73: =SUM(H74:H79) -> 0 | I73: =SUM(I74:I79) -> 0 | J73: =SUM(J74:J79) -> 2 | K73: =SUM(K74:K79) -> 1 | L73: =SUM(L74:L79) -> 1 | ... AH73: =SUM(AH74:AH79) -> 0 | AJ73: =SUM(AJ74:AJ79) -> 0 | AK73: =SUM(AK74:AK79) -> 0 | AL73: =SUM(AL74:AL79) -> 2 | AM73: =SUM(AM74:AM79) -> 2 | AN73: =SUM(AN74:AN79) -> 1 | AO73: =SUM(AO74:AO79) -> 1 | AP73: =SUM(AP74:AP79) -> 0 | AQ73: =SUM(AQ74:AQ79) -> 0 | ... AX73: =SUM(AX74:AX79) -> 0 | AY73: =AF73+AG73 -> 0
A74: 5.1 | B74: ÈÇó»Ý½³ÛÇÝ å³ÛÙ³Ý³·ñÇ ÉáõÍÙ³Ý, ÷á÷áËÙ³Ý ¨ ³Ýí³í»ñáõÃÛ³Ý í»ñ³µ»ñÛ³É | AJ74: =E74 -> 0 | AK74: =F74+G74+H74+I74 -> 0 | AL74: =J74 -> 0 | AM74: =K74+L74+M74 -> 0 | AN74: =F74+G74+K74 -> 0 | AO74: =X74+Y74+AA74 -> 0 | AP74: =N74 -> 0 | AQ74: =O74+P74+Q74+R74+S74 -> 0 | AR74: =S74 -> 0 | AS74: =T74+U74+V74 -> 0 | AT74: =X74 -> 0 | AU74: =N74+W74 -> 0 | AV74: =AE74 -> 0 | AW74: =AC74+AD74 -> 0 | AX74: =AH74 -> 0 | AY74: =AF74+AG74 -> 0
A75: 5.2 | B75: Øï³íáñ ·áñÍáõÝ»áõÃÛ³Ý ³ñ¹ÛáõÝùÝ»ñ ëï»ÕÍ»Éáõ ¨ û·ï³·áñÍ»Éáõ å³ÛÙ³Ý³·ñÇ ÉáõÍÙ³Ý, ÷á÷áËÙ³Ý áõ ³Ýí³í»ñáõÃÛ³Ý í»ñ³µ»ñÛ³É | AJ75: =E75 -> 0 | AK75: =F75+G75+H75+I75 -> 0 | AL75: =J75 -> 0 | AM75: =K75+L75+M75 -> 0 | AN75: =F75+G75+K75 -> 0 | AO75: =X75+Y75+AA75 -> 0 | AP75: =N75 -> 0 | AQ75: =O75+P75+Q75+R75+S75 -> 0 | AR75: =S75 -> 0 | AS75: =T75+U75+V75 -> 0 | AT75: =X75 -> 0 | AU75: =N75+W75 -> 0 | AV75: =AE75 -> 0 | AW75: =AC75+AD75 -> 0 | AX75: =AH75 -> 0 | AY75: =AF75+AG75 -> 0
A76: 5.3 | B76: Ð»ÕÇÝ³Ï³ÛÇÝ ¨ Ñ³ñ³ÏÇó Çñ³íáõÝùÝ»ñÇ í»ñ³µ»ñÛ³É | AJ76: =E76 -> 0 | AK76: =F76+G76+H76+I76 -> 0 | AL76: =J76 -> 0 | AM76: =K76+L76+M76 -> 0 | AN76: =F76+G76+K76 -> 0 | AO76: =X76+Y76+AA76 -> 0 | AP76: =N76 -> 0 | AQ76: =O76+P76+Q76+R76+S76 -> 0 | AR76: =S76 -> 0 | AS76: =T76+U76+V76 -> 0 | AT76: =X76 -> 0 | AU76: =N76+W76 -> 0 | AV76: =AE76 -> 0 | AW76: =AC76+AD76 -> 0 | AX76: =AH76 -> 0 | AY76: =AF76+AG76 -> 0
A77: 5.4 | B77: üÇñÙ³ÛÇÝ ³Ýí³ÝÙ³Ý í»ñ³µ»ñÛ³É | AJ77: =E77 -> 0 | AK77: =F77+G77+H77+I77 -> 0 | AL77: =J77 -> 0 | AM77: =K77+L77+M77 -> 0 | AN77: =F77+G77+K77 -> 0 | AO77: =X77+Y77+AA77 -> 0 | AP77: =N77 -> 0 | AQ77: =O77+P77+Q77+R77+S77 -> 0 | AR77: =S77 -> 0 | AS77: =T77+U77+V77 -> 0 | AT77: =X77 -> 0 | AU77: =N77+W77 -> 0 | AV77: =AE77 -> 0 | AW77: =AC77+AD77 -> 0 | AX77: =AH77 -> 0 | AY77: =AF77+AG77 -> 0
A78: 5.5 | B78: ²åñ³Ýù³ÛÇÝ Ýß³ÝÇ í»ñ³µ»ñÛ³É | J78: 2 | K78: 1 | L78: 1 | AA78: 1 | AJ78: =E78 -> 0 | AK78: =F78+G78+H78+I78 -> 0 | AL78: =J78 -> 2 | AM78: =K78+L78+M78 -> 2 | AN78: =F78+G78+K78 -> 1 | AO78: =X78+Y78+AA78 -> 1 | AP78: =N78 -> 0 | AQ78: =O78+P78+Q78+R78+S78 -> 0 | AR78: =S78 -> 0 | AS78: =T78+U78+V78 -> 0 | AT78: =X78 -> 0 | AU78: =N78+W78 -> 0 | AV78: =AE78 -> 0 | AW78: =AC78+AD78 -> 0 | AX78: =AH78 -> 0 | AY78: =AF78+AG78 -> 0
A79: 5.6 | B79: ²ÛÉ í»×»ñ | AJ79: =E79 -> 0 | AK79: =F79+G79+H79+I79 -> 0 | AL79: =J79 -> 0 | AM79: =K79+L79+M79 -> 0 | AN79: =F79+G79+K79 -> 0 | AO79: =X79+Y79+AA79 -> 0 | AP79: =N79 -> 0 | AQ79: =O79+P79+Q79+R79+S79 -> 0 | AR79: =S79 -> 0 | AS79: =T79+U79+V79 -> 0 | AT79: =X79 -> 0 | AU79: =N79+W79 -> 0 | AV79: =AE79 -> 0 | AW79: =AC79+AD79 -> 0 | AX79: =AH79 -> 0 | AY79: =AF79+AG79 -> 0
A80: 6. | B80: ²ßË³ï³Ýù³ÛÇÝ Çñ³í³Ñ³ñ³µ»ñáõÃÛáõÝÝ»ñÇ í»ñ³µ»ñÛ³É ¹³ï³Ï³Ý ·áñÍ»ñ | E80: =SUM(E81:E86) -> 2 | F80: =SUM(F81:F86) -> 0 | G80: =SUM(G81:G86) -> 2 | H80: =SUM(H81:H86) -> 0 | I80: =SUM(I81:I86) -> 0 | J80: =SUM(J81:J86) -> 15 | K80: =SUM(K81:K86) -> 14 | L80: =SUM(L81:L86) -> 1 | ... AH80: =SUM(AH81:AH86) -> 0 | AJ80: =SUM(AJ81:AJ86) -> 2 | AK80: =SUM(AK81:AK86) -> 2 | AL80: =SUM(AL81:AL86) -> 15 | AM80: =SUM(AM81:AM86) -> 15 | AN80: =SUM(AN81:AN86) -> 16 | AO80: =SUM(AO81:AO86) -> 16 | AP80: =SUM(AP81:AP86) -> 2 | AQ80: =SUM(AQ81:AQ86) -> 2 | ... AY80: =SUM(AY81:AY86) -> 0
A81: 6.1 | B81: ²ßË³ï³Ýù³ÛÇÝ å³ÛÙ³Ý³·ñ»ñÇ í»ñ³µ»ñÛ³É | AJ81: =E81 -> 0 | AK81: =F81+G81+H81+I81 -> 0 | AL81: =J81 -> 0 | AM81: =K81+L81+M81 -> 0 | AN81: =F81+G81+K81 -> 0 | AO81: =X81+Y81+AA81 -> 0 | AP81: =N81 -> 0 | AQ81: =O81+P81+Q81+R81+S81 -> 0 | AR81: =S81 -> 0 | AS81: =T81+U81+V81 -> 0 | AT81: =X81 -> 0 | AU81: =N81+W81 -> 0 | AV81: =AE81 -> 0 | AW81: =AC81+AD81 -> 0 | AX81: =AH81 -> 0 | AY81: =AF81+AG81 -> 0
A82: 6.2 | B82: ²ßË³ï³ÝùáõÙ í»ñ³Ï³Ý·Ý»Éáõ í»ñ³µ»ñÛ³É | J82: 4 | K82: 3 | L82: 1 | AA82: 3 | AJ82: =E82 -> 0 | AK82: =F82+G82+H82+I82 -> 0 | AL82: =J82 -> 4 | AM82: =K82+L82+M82 -> 4 | AN82: =F82+G82+K82 -> 3 | AO82: =X82+Y82+AA82 -> 3 | AP82: =N82 -> 0 | AQ82: =O82+P82+Q82+R82+S82 -> 0 | AR82: =S82 -> 0 | AS82: =T82+U82+V82 -> 0 | AT82: =X82 -> 0 | AU82: =N82+W82 -> 0 | AV82: =AE82 -> 0 | AW82: =AC82+AD82 -> 0 | AX82: =AH82 -> 0 | AY82: =AF82+AG82 -> 0
A83: 6.3 | B83: ¶áñÍ³¹áõÉÝ ³ÝûñÇÝ³Ï³Ý ×³Ý³ã»Éáõ í»ñ³µ»ñÛ³É | AJ83: =E83 -> 0 | AK83: =F83+G83+H83+I83 -> 0 | AL83: =J83 -> 0 | AM83: =K83+L83+M83 -> 0 | AN83: =F83+G83+K83 -> 0 | AO83: =X83+Y83+AA83 -> 0 | AP83: =N83 -> 0 | AQ83: =O83+P83+Q83+R83+S83 -> 0 | AR83: =S83 -> 0 | AS83: =T83+U83+V83 -> 0 | AT83: =X83 -> 0 | AU83: =N83+W83 -> 0 | AV83: =AE83 -> 0 | AW83: =AC83+AD83 -> 0 | AX83: =AH83 -> 0 | AY83: =AF83+AG83 -> 0
A84: 6.4 | B84: Ð³ñÏ³¹Çñ å³ñ³åáõñ¹Ç Ñ³ïáõóÙ³Ý í»ñ³µ»ñÛ³É | AJ84: =E84 -> 0 | AK84: =F84+G84+H84+I84 -> 0 | AL84: =J84 -> 0 | AM84: =K84+L84+M84 -> 0 | AN84: =F84+G84+K84 -> 0 | AO84: =X84+Y84+AA84 -> 0 | AP84: =N84 -> 0 | AQ84: =O84+P84+Q84+R84+S84 -> 0 | AR84: =S84 -> 0 | AS84: =T84+U84+V84 -> 0 | AT84: =X84 -> 0 | AU84: =N84+W84 -> 0 | AV84: =AE84 -> 0 | AW84: =AC84+AD84 -> 0 | AX84: =AH84 -> 0 | AY84: =AF84+AG84 -> 0
A85: 6.5 | B85: âí×³ñí³Í ³ßË³ï³í³ñÓÇ ¨/Ï³Ù ³ÛÉ í×³ñÝ»ñÇ µéÝ³·³ÝÓÙ³Ý í»ñ³µ»ñÛ³É | E85: 1 | G85: 1 | J85: 8 | K85: 8 | N85: 1 | P85: 1 | X85: 1 | Y85: 1 | AA85: 7 | AJ85: =E85 -> 1 | AK85: =F85+G85+H85+I85 -> 1 | AL85: =J85 -> 8 | AM85: =K85+L85+M85 -> 8 | AN85: =F85+G85+K85 -> 9 | AO85: =X85+Y85+AA85 -> 9 | AP85: =N85 -> 1 | AQ85: =O85+P85+Q85+R85+S85 -> 1 | AR85: =S85 -> 0 | AS85: =T85+U85+V85 -> 0 | AT85: =X85 -> 1 | AU85: =N85+W85 -> 1 | AV85: =AE85 -> 0 | AW85: =AC85+AD85 -> 0 | AX85: =AH85 -> 0 | AY85: =AF85+AG85 -> 0
A86: 6.6 | B86: ²ÛÉ í»×»ñ | E86: 1 | G86: 1 | J86: 3 | K86: 3 | N86: 1 | S86: 1 | U86: 1 | X86: 1 | AA86: 3 | AJ86: =E86 -> 1 | AK86: =F86+G86+H86+I86 -> 1 | AL86: =J86 -> 3 | AM86: =K86+L86+M86 -> 3 | AN86: =F86+G86+K86 -> 4 | AO86: =X86+Y86+AA86 -> 4 | AP86: =N86 -> 1 | AQ86: =O86+P86+Q86+R86+S86 -> 1 | AR86: =S86 -> 1 | AS86: =T86+U86+V86 -> 1 | AT86: =X86 -> 1 | AU86: =N86+W86 -> 1 | AV86: =AE86 -> 0 | AW86: =AC86+AD86 -> 0 | AX86: =AH86 -> 0 | AY86: =AF86+AG86 -> 0
A87: 7. | B87: Æñ³í³µ³Ý³Ï³Ý ³ÝÓÇ ·áñÍáõÝ»áõÃÛáõÝÇó µËáÕ Çñ³í³Ñ³ñ³µ»ñáõÃÛáõÝÝ»ñÇ í»ñ³µ»ñÛ³É ¹³ï³Ï³Ý ·áñÍ»ñ | E87: =SUM(E88:E89) -> 3 | F87: =SUM(F88:F89) -> 1 | G87: =SUM(G88:G89) -> 2 | H87: =SUM(H88:H89) -> 0 | I87: =SUM(I88:I89) -> 0 | J87: =SUM(J88:J89) -> 0 | K87: =SUM(K88:K89) -> 0 | L87: =SUM(L88:L89) -> 0 | ... AH87: =SUM(AH88:AH89) -> 0 | AI87: =AI88+AI89 -> 0 | AJ87: =SUM(AJ88:AJ89) -> 3 | AK87: =SUM(AK88:AK89) -> 3 | AL87: =SUM(AL88:AL89) -> 0 | AM87: =SUM(AM88:AM89) -> 0 | AN87: =SUM(AN88:AN89) -> 3 | AO87: =SUM(AO88:AO89) -> 3 | AP87: =SUM(AP88:AP89) -> 0 | AQ87: =SUM(AQ88:AQ89) -> 0 | ... AY87: =SUM(AY88:AY89) -> 0
A88: 7.1 | B88: Îáñåáñ³ïÇí í»×»ñ | AJ88: =E88 -> 0 | AK88: =F88+G88+H88+I88 -> 0 | AL88: =J88 -> 0 | AM88: =K88+L88+M88 -> 0 | AN88: =F88+G88+K88 -> 0 | AO88: =X88+Y88+AA88 -> 0 | AP88: =N88 -> 0 | AQ88: =O88+P88+Q88+R88+S88 -> 0 | AR88: =S88 -> 0 | AS88: =T88+U88+V88 -> 0 | AT88: =X88 -> 0 | AU88: =N88+W88 -> 0 | AV88: =AE88 -> 0 | AW88: =AC88+AD88 -> 0 | AX88: =AH88 -> 0 | AY88: =AF88+AG88 -> 0
A89: 7.2 | B89: ²ÛÉ í»×»ñ | E89: 3 | F89: 1 | G89: 2 | AA89: 3 | AB89: 1 | AJ89: =E89 -> 3 | AK89: =F89+G89+H89+I89 -> 3 | AL89: =J89 -> 0 | AM89: =K89+L89+M89 -> 0 | AN89: =F89+G89+K89 -> 3 | AO89: =X89+Y89+AA89 -> 3 | AP89: =N89 -> 0 | AQ89: =O89+P89+Q89+R89+S89 -> 0 | AR89: =S89 -> 0 | AS89: =T89+U89+V89 -> 0 | AT89: =X89 -> 0 | AU89: =N89+W89 -> 0 | AV89: =AE89 -> 0 | AW89: =AC89+AD89 -> 0 | AX89: =AH89 -> 0 | AY89: =AF89+AG89 -> 0
A90: 8. | B90: Ð³ïáõÏ í³ñáõÛÃÇ ¹³ï³Ï³Ý ·áñÍ»ñ | E90: =SUM(E91:E111) -> 56 | F90: =SUM(F91:F111) -> 8 | G90: =SUM(G91:G111) -> 48 | H90: =SUM(H91:H111) -> 0 | I90: =SUM(I91:I111) -> 0 | J90: =SUM(J91:J111) -> 54 | K90: =SUM(K91:K111) -> 40 | L90: =SUM(L91:L111) -> 11 | ... AH90: =SUM(AH91:AH111) -> 0 | AJ90: =SUM(AJ91:AJ111) -> 56 | AK90: =SUM(AK91:AK111) -> 56 | AL90: =SUM(AL91:AL111) -> 54 | AM90: =SUM(AM91:AM111) -> 52 | AN90: =SUM(AN91:AN111) -> 96 | AO90: =SUM(AO91:AO111) -> 96 | AP90: =SUM(AP91:AP111) -> 28 | AQ90: =SUM(AQ91:AQ111) -> 28 | ... AY90: =SUM(AY91:AY111) -> 0
A91: 8.1 | B91: ²Ýã³÷³Ñ³ëÇÝ ÉñÇí ·áñÍáõÝ³Ï ×³Ý³ã»Éáõ /¿Ù³ÝëÇå³óÇ³/ í»ñ³µ»ñÛ³É | AJ91: =E91 -> 0 | AK91: =F91+G91+H91+I91 -> 0 | AL91: =J91 -> 0 | AM91: =K91+L91+M91 -> 0 | AN91: =F91+G91+K91 -> 0 | AO91: =X91+Y91+AA91 -> 0 | AP91: =N91 -> 0 | AQ91: =O91+P91+Q91+R91+S91 -> 0 | AR91: =S91 -> 0 | AS91: =T91+U91+V91 -> 0 | AT91: =X91 -> 0 | AU91: =N91+W91 -> 0 | AV91: =AE91 -> 0 | AW91: =AC91+AD91 -> 0 | AX91: =AH91 -> 0 | AY91: =AF91+AG91 -> 0
A92: 8.2 | B92: ø³Õ³ù³óáõÝ ³Ý·áñÍáõÝ³Ï Ï³Ù ë³ÑÙ³Ý³÷³Ï ·áñÍáõÝ³Ï ×³Ý³ã»Éáõ í»ñ³µ»ñÛ³É | E92: 22 | F92: 6 | G92: 16 | J92: 13 | K92: 11 | L92: 1 | N92: 9 | O92: 6 | Q92: 1 | S92: 2 | U92: 2 | X92: 9 | Z92: 5 | AA92: 24 | AB92: 10 | AJ92: =E92 -> 22 | AK92: =F92+G92+H92+I92 -> 22 | AL92: =J92 -> 13 | AM92: =K92+L92+M92 -> 12 | AN92: =F92+G92+K92 -> 33 | AO92: =X92+Y92+AA92 -> 33 | AP92: =N92 -> 9 | AQ92: =O92+P92+Q92+R92+S92 -> 9 | AR92: =S92 -> 2 | AS92: =T92+U92+V92 -> 2 | AT92: =X92 -> 9 | AU92: =N92+W92 -> 9 | AV92: =AE92 -> 0 | AW92: =AC92+AD92 -> 0 | AX92: =AH92 -> 0 | AY92: =AF92+AG92 -> 0
A93: 8.3 | B93: ø³Õ³ù³óáõÝ Ñá·»µáõÅ³Ï³Ý ÑÇí³Ý¹³Ýáó³ÛÇÝ Ñ³ñÏ³¹Çñ µáõÅÙ³Ý »ÝÃ³ñÏ»Éáõ í»ñ³µ»ñÛ³É | AJ93: =E93 -> 0 | AK93: =F93+G93+H93+I93 -> 0 | AL93: =J93 -> 0 | AM93: =K93+L93+M93 -> 0 | AN93: =F93+G93+K93 -> 0 | AO93: =X93+Y93+AA93 -> 0 | AP93: =N93 -> 0 | AQ93: =O93+P93+Q93+R93+S93 -> 0 | AR93: =S93 -> 0 | AS93: =T93+U93+V93 -> 0 | AT93: =X93 -> 0 | AU93: =N93+W93 -> 0 | AV93: =AE93 -> 0 | AW93: =AC93+AD93 -> 0 | AX93: =AH93 -> 0 | AY93: =AF93+AG93 -> 0
A94: 8.4 | B94: ø³Õ³ù³óáõÝ ³ÝÑ³Ûï µ³ó³Ï³ÛáÕ Ï³Ù Ù³Ñ³ó³Í ×³Ý³ã»Éáõ í»ñ³µ»ñÛ³É | E94: 10 | F94: 1 | G94: 9 | J94: 9 | K94: 6 | L94: 3 | N94: 3 | O94: 3 | X94: 3 | AA94: 13 | AB94: 1 | AJ94: =E94 -> 10 | AK94: =F94+G94+H94+I94 -> 10 | AL94: =J94 -> 9 | AM94: =K94+L94+M94 -> 9 | AN94: =F94+G94+K94 -> 16 | AO94: =X94+Y94+AA94 -> 16 | AP94: =N94 -> 3 | AQ94: =O94+P94+Q94+R94+S94 -> 3 | AR94: =S94 -> 0 | AS94: =T94+U94+V94 -> 0 | AT94: =X94 -> 3 | AU94: =N94+W94 -> 3 | AV94: =AE94 -> 0 | AW94: =AC94+AD94 -> 0 | AX94: =AH94 -> 0 | AY94: =AF94+AG94 -> 0
A95: 8.5 | B95: ø³Õ³ù³óÇ³Ï³Ý Ï³óáõÃÛ³Ý ³Ïï»ñÇ ·ñ³éáõÙÝ»ñÇ ³Ý×ßïáõÃÛáõÝÝ»ñÁ å³ñ½»Éáõ í»ñ³µ»ñÛ³É | AJ95: =E95 -> 0 | AK95: =F95+G95+H95+I95 -> 0 | AL95: =J95 -> 0 | AM95: =K95+L95+M95 -> 0 | AN95: =F95+G95+K95 -> 0 | AO95: =X95+Y95+AA95 -> 0 | AP95: =N95 -> 0 | AQ95: =O95+P95+Q95+R95+S95 -> 0 | AR95: =S95 -> 0 | AS95: =T95+U95+V95 -> 0 | AT95: =X95 -> 0 | AU95: =N95+W95 -> 0 | AV95: =AE95 -> 0 | AW95: =AC95+AD95 -> 0 | AX95: =AH95 -> 0 | AY95: =AF95+AG95 -> 0
A96: 8.6 | B96: ¶áõÛùÁ ïÇñ³½áõñÏ ×³Ý³ã»Éáõ í»ñ³µ»ñÛ³É | AJ96: =E96 -> 0 | AK96: =F96+G96+H96+I96 -> 0 | AL96: =J96 -> 0 | AM96: =K96+L96+M96 -> 0 | AN96: =F96+G96+K96 -> 0 | AO96: =X96+Y96+AA96 -> 0 | AP96: =N96 -> 0 | AQ96: =O96+P96+Q96+R96+S96 -> 0 | AR96: =S96 -> 0 | AS96: =T96+U96+V96 -> 0 | AT96: =X96 -> 0 | AU96: =N96+W96 -> 0 | AV96: =AE96 -> 0 | AW96: =AC96+AD96 -> 0 | AX96: =AH96 -> 0 | AY96: =AF96+AG96 -> 0
A97: 8.6.1 | B97: ²Û¹ ÃíáõÙª ³Ýß³ñÅ ·áõÛùÁ | E97: 2 | G97: 2 | W97: 1 | X97: 1 | AA97: 1 | AD97: 1 | AE97: 1 | AJ97: =E97 -> 2 | AK97: =F97+G97+H97+I97 -> 2 | AL97: =J97 -> 0 | AM97: =K97+L97+M97 -> 0 | AN97: =F97+G97+K97 -> 2 | AO97: =X97+Y97+AA97 -> 2 | AP97: =N97 -> 0 | AQ97: =O97+P97+Q97+R97+S97 -> 0 | AR97: =S97 -> 0 | AS97: =T97+U97+V97 -> 0 | AT97: =X97 -> 1 | AU97: =N97+W97 -> 1 | AV97: =AE97 -> 1 | AW97: =AC97+AD97 -> 1 | AX97: =AH97 -> 0 | AY97: =AF97+AG97 -> 0
A98: 8.6.2 | B98: ²Û¹ ÃíáõÙª ß³ñÅ³Ï³Ý ·áõÛùÁ | E98: 1 | G98: 1 | AA98: 1 | AJ98: =E98 -> 1 | AK98: =F98+G98+H98+I98 -> 1 | AL98: =J98 -> 0 | AM98: =K98+L98+M98 -> 0 | AN98: =F98+G98+K98 -> 1 | AO98: =X98+Y98+AA98 -> 1 | AP98: =N98 -> 0 | AQ98: =O98+P98+Q98+R98+S98 -> 0 | AR98: =S98 -> 0 | AS98: =T98+U98+V98 -> 0 | AT98: =X98 -> 0 | AU98: =N98+W98 -> 0 | AV98: =AE98 -> 0 | AW98: =AC98+AD98 -> 0 | AX98: =AH98 -> 0 | AY98: =AF98+AG98 -> 0
A99: 8.7 | B99: Æñ³í³µ³Ý³Ï³Ý Ýß³Ý³ÏáõÃÛáõÝ áõÝ»óáÕ ÷³ëï»ñÇ Ñ³ëï³ïÙ³Ý í»ñ³µ»ñÛ³É | AJ99: =E99 -> 0 | AK99: =F99+G99+H99+I99 -> 0 | AL99: =J99 -> 0 | AM99: =K99+L99+M99 -> 0 | AN99: =F99+G99+K99 -> 0 | AO99: =X99+Y99+AA99 -> 0 | AP99: =N99 -> 0 | AQ99: =O99+P99+Q99+R99+S99 -> 0 | AR99: =S99 -> 0 | AS99: =T99+U99+V99 -> 0 | AT99: =X99 -> 0 | AU99: =N99+W99 -> 0 | AV99: =AE99 -> 0 | AW99: =AC99+AD99 -> 0 | AX99: =AH99 -> 0 | AY99: =AF99+AG99 -> 0
A100: 8.7.1 | B100: ²ÝÓ³Ýó ³½·³Ïó³Ï³Ý Ï³åÁ Ñ³ëï³ï»Éáõ í»ñ³µ»ñÛ³É | E100: 5 | F100: 1 | G100: 4 | J100: 10 | K100: 6 | L100: 4 | N100: 5 | O100: 4 | P100: 1 | X100: 5 | AA100: 6 | AB100: 1 | AJ100: =E100 -> 5 | AK100: =F100+G100+H100+I100 -> 5 | AL100: =J100 -> 10 | AM100: =K100+L100+M100 -> 10 | AN100: =F100+G100+K100 -> 11 | AO100: =X100+Y100+AA100 -> 11 | AP100: =N100 -> 5 | AQ100: =O100+P100+Q100+R100+S100 -> 5 | AR100: =S100 -> 0 | AS100: =T100+U100+V100 -> 0 | AT100: =X100 -> 5 | AU100: =N100+W100 -> 5 | AV100: =AE100 -> 0 | AW100: =AC100+AD100 -> 0 | AX100: =AH100 -> 0 | AY100: =AF100+AG100 -> 0
A101: 8.7.2 | B101: ²ÝÓÇª áõñÇßÇ ËÝ³ÙùÇ ï³Ï ·ïÝí»Éáõ í»ñ³µ»ñÛ³É | AJ101: =E101 -> 0 | AK101: =F101+G101+H101+I101 -> 0 | AL101: =J101 -> 0 | AM101: =K101+L101+M101 -> 0 | AN101: =F101+G101+K101 -> 0 | AO101: =X101+Y101+AA101 -> 0 | AP101: =N101 -> 0 | AQ101: =O101+P101+Q101+R101+S101 -> 0 | AR101: =S101 -> 0 | AS101: =T101+U101+V101 -> 0 | AT101: =X101 -> 0 | AU101: =N101+W101 -> 0 | AV101: =AE101 -> 0 | AW101: =AC101+AD101 -> 0 | AX101: =AH101 -> 0 | AY101: =AF101+AG101 -> 0
A102: 8.7.3 | B102: ÌÝÝ¹Û³Ý, áñ¹»·ñÙ³Ý, ³ÙáõëÝáõÃÛ³Ý, ³å³Ñ³ñ½³ÝÇ ¨ Ù³Ñí³Ý ·ñ³ÝóÙ³Ý í»ñ³µ»ñÛ³É | E102: 1 | G102: 1 | J102: 2 | L102: 2 | N102: 1 | Q102: 1 | X102: 1 | AA102: 0 | AJ102: =E102 -> 1 | AK102: =F102+G102+H102+I102 -> 1 | AL102: =J102 -> 2 | AM102: =K102+L102+M102 -> 2 | AN102: =F102+G102+K102 -> 1 | AO102: =X102+Y102+AA102 -> 1 | AP102: =N102 -> 1 | AQ102: =O102+P102+Q102+R102+S102 -> 1 | AR102: =S102 -> 0 | AS102: =T102+U102+V102 -> 0 | AT102: =X102 -> 1 | AU102: =N102+W102 -> 1 | AV102: =AE102 -> 0 | AW102: =AC102+AD102 -> 0 | AX102: =AH102 -> 0 | AY102: =AF102+AG102 -> 0
A103: 8.7.4 | B103: ²ÝÓÇª áñáß³ÏÇ Å³Ù³Ý³ÏáõÙ ¨ áñáß³ÏÇ Ñ³Ý·³Ù³ÝùÝ»ñáõÙ Ù³Ñí³Ý í»ñ³µ»ñÛ³É | AJ103: =E103 -> 0 | AK103: =F103+G103+H103+I103 -> 0 | AL103: =J103 -> 0 | AM103: =K103+L103+M103 -> 0 | AN103: =F103+G103+K103 -> 0 | AO103: =X103+Y103+AA103 -> 0 | AP103: =N103 -> 0 | AQ103: =O103+P103+Q103+R103+S103 -> 0 | AR103: =S103 -> 0 | AS103: =T103+U103+V103 -> 0 | AT103: =X103 -> 0 | AU103: =N103+W103 -> 0 | AV103: =AE103 -> 0 | AW103: =AC103+AD103 -> 0 | AX103: =AH103 -> 0 | AY103: =AF103+AG103 -> 0
A104: 8.7.5 | B104: Ä³é³Ý·áõÃÛáõÝÝ ÁÝ¹áõÝ»Éáõ ¨ Å³é³Ý·áõÃÛ³Ý µ³óÙ³Ý í³ÛñÇ í»ñ³µ»ñÛ³É | E104: 4 | G104: 4 | J104: 1 | K104: 1 | N104: 3 | O104: 2 | Q104: 1 | X104: 3 | AA104: 2 | AC104: 1 | AE104: 1 | AJ104: =E104 -> 4 | AK104: =F104+G104+H104+I104 -> 4 | AL104: =J104 -> 1 | AM104: =K104+L104+M104 -> 1 | AN104: =F104+G104+K104 -> 5 | AO104: =X104+Y104+AA104 -> 5 | AP104: =N104 -> 3 | AQ104: =O104+P104+Q104+R104+S104 -> 3 | AR104: =S104 -> 0 | AS104: =T104+U104+V104 -> 0 | AT104: =X104 -> 3 | AU104: =N104+W104 -> 3 | AV104: =AE104 -> 1 | AW104: =AC104+AD104 -> 1 | AX104: =AH104 -> 0 | AY104: =AF104+AG104 -> 0
A105: 8.7.6 | B105: ¸Åµ³Ëï å³ï³Ñ³ñÇ í»ñ³µ»ñÛ³É | AJ105: =E105 -> 0 | AK105: =F105+G105+H105+I105 -> 0 | AL105: =J105 -> 0 | AM105: =K105+L105+M105 -> 0 | AN105: =F105+G105+K105 -> 0 | AO105: =X105+Y105+AA105 -> 0 | AP105: =N105 -> 0 | AQ105: =O105+P105+Q105+R105+S105 -> 0 | AR105: =S105 -> 0 | AS105: =T105+U105+V105 -> 0 | AT105: =X105 -> 0 | AU105: =N105+W105 -> 0 | AV105: =AE105 -> 0 | AW105: =AC105+AD105 -> 0 | AX105: =AH105 -> 0 | AY105: =AF105+AG105 -> 0
A106: 8.7.7 | B106: Æñ³íáõÝù ë³ÑÙ³ÝáÕ ÷³ëï³ÃÕÃ»ñÇ å³ïÏ³Ý»ÉáõÃÛ³Ý í»ñ³µ»ñÛ³É | E106: 5 | G106: 5 | J106: 9 | K106: 7 | L106: 1 | N106: 5 | O106: 2 | P106: 1 | Q106: 1 | S106: 1 | V106: 1 | X106: 5 | AA106: 7 | AJ106: =E106 -> 5 | AK106: =F106+G106+H106+I106 -> 5 | AL106: =J106 -> 9 | AM106: =K106+L106+M106 -> 8 | AN106: =F106+G106+K106 -> 12 | AO106: =X106+Y106+AA106 -> 12 | AP106: =N106 -> 5 | AQ106: =O106+P106+Q106+R106+S106 -> 5 | AR106: =S106 -> 1 | AS106: =T106+U106+V106 -> 1 | AT106: =X106 -> 5 | AU106: =N106+W106 -> 5 | AV106: =AE106 -> 0 | AW106: =AC106+AD106 -> 0 | AX106: =AH106 -> 0 | AY106: =AF106+AG106 -> 0
A107: 8.7.8 | B107: ê»÷³Ï³ÝáõÃÛ³Ý Çñ³íáõÝùáí ·áõÛùÇ ïÇñ³å»ïÙ³Ý í»ñ³µ»ñÛ³É | E107: 1 | G107: 1 | J107: 3 | K107: 3 | AA107: 4 | AJ107: =E107 -> 1 | AK107: =F107+G107+H107+I107 -> 1 | AL107: =J107 -> 3 | AM107: =K107+L107+M107 -> 3 | AN107: =F107+G107+K107 -> 4 | AO107: =X107+Y107+AA107 -> 4 | AP107: =N107 -> 0 | AQ107: =O107+P107+Q107+R107+S107 -> 0 | AR107: =S107 -> 0 | AS107: =T107+U107+V107 -> 0 | AT107: =X107 -> 0 | AU107: =N107+W107 -> 0 | AV107: =AE107 -> 0 | AW107: =AC107+AD107 -> 0 | AX107: =AH107 -> 0 | AY107: =AF107+AG107 -> 0
A108: 8.7.9 | B108: ²ÝÑ³ÕÃ³Ñ³ñ»ÉÇ áõÅÇ ³éÏ³ÛáõÃÛ³Ý í»ñ³µ»ñÛ³É | AJ108: =E108 -> 0 | AK108: =F108+G108+H108+I108 -> 0 | AL108: =J108 -> 0 | AM108: =K108+L108+M108 -> 0 | AN108: =F108+G108+K108 -> 0 | AO108: =X108+Y108+AA108 -> 0 | AP108: =N108 -> 0 | AQ108: =O108+P108+Q108+R108+S108 -> 0 | AR108: =S108 -> 0 | AS108: =T108+U108+V108 -> 0 | AT108: =X108 -> 0 | AU108: =N108+W108 -> 0 | AV108: =AE108 -> 0 | AW108: =AC108+AD108 -> 0 | AX108: =AH108 -> 0 | AY108: =AF108+AG108 -> 0
A109: 8.7.10 | B109: úñ»Ýùáí Ý³Ë³ï»ëí³Í ³ÛÉ Çñ³í³µ³Ý³Ï³Ý ÷³ëï»ñÇ í»ñ³µ»ñÛ³É | E109: 4 | G109: 4 | J109: 5 | K109: 4 | M109: 1 | N109: 2 | O109: 1 | Q109: 1 | X109: 2 | AA109: 6 | AC109: 1 | AD109: 1 | AE109: 2 | AJ109: =E109 -> 4 | AK109: =F109+G109+H109+I109 -> 4 | AL109: =J109 -> 5 | AM109: =K109+L109+M109 -> 5 | AN109: =F109+G109+K109 -> 8 | AO109: =X109+Y109+AA109 -> 8 | AP109: =N109 -> 2 | AQ109: =O109+P109+Q109+R109+S109 -> 2 | AR109: =S109 -> 0 | AS109: =T109+U109+V109 -> 0 | AT109: =X109 -> 2 | AU109: =N109+W109 -> 2 | AV109: =AE109 -> 2 | AW109: =AC109+AD109 -> 2 | AX109: =AH109 -> 0 | AY109: =AF109+AG109 -> 0
A110: 8.8 | B110: Àëï Ý»ñÏ³Û³óÝáÕÇ ¨ ûñ¹»ñ³ÛÇÝ Ïáñóñ³Í ³ñÅ»ÃÕÃ»ñáí Ñ³í³ëïí³Í Çñ³íáõÝùÝ»ñÁ í»ñ³Ï³Ý·Ý»Éáõ í»ñ³µ»ñÛ³É | AJ110: =E110 -> 0 | AK110: =F110+G110+H110+I110 -> 0 | AL110: =J110 -> 0 | AM110: =K110+L110+M110 -> 0 | AN110: =F110+G110+K110 -> 0 | AO110: =X110+Y110+AA110 -> 0 | AP110: =N110 -> 0 | AQ110: =O110+P110+Q110+R110+S110 -> 0 | AR110: =S110 -> 0 | AS110: =T110+U110+V110 -> 0 | AT110: =X110 -> 0 | AU110: =N110+W110 -> 0 | AV110: =AE110 -> 0 | AW110: =AC110+AD110 -> 0 | AX110: =AH110 -> 0 | AY110: =AF110+AG110 -> 0
A111: 8.10 | B111: ²ÛÉ í»×»ñ | E111: 1 | G111: 1 | J111: 2 | K111: 2 | Z111: 1 | AA111: 3 | AB111: 1 | AJ111: =E111 -> 1 | AK111: =F111+G111+H111+I111 -> 1 | AL111: =J111 -> 2 | AM111: =K111+L111+M111 -> 2 | AN111: =F111+G111+K111 -> 3 | AO111: =X111+Y111+AA111 -> 3 | AP111: =N111 -> 0 | AQ111: =O111+P111+Q111+R111+S111 -> 0 | AR111: =S111 -> 0 | AS111: =T111+U111+V111 -> 0 | AT111: =X111 -> 0 | AU111: =N111+W111 -> 0 | AV111: =AE111 -> 0 | AW111: =AC111+AD111 -> 0 | AX111: =AH111 -> 0 | AY111: =AF111+AG111 -> 0
...

Sheet Կենտրոն
A1: 2017Ã. 1-ին ÏÇë³ÙÛ³Ï | E1: Ð²ÞìºîìàôÂÚàôÜ | AC1: Ð³í»Éí³Í Ð³Û³ëï³ÝÇ Ð³Ýñ³å»ïáõÃÛ³Ý ¸³ï³ñ³ÝÝ»ñÇ Ý³Ë³·³ÑÝ»ñÇ ËáñÑñ¹Ç 25.08.2017Ã. ÃÇí 35-È áñáßÙ³Ý
A2: ºðºì²Ü ø²Ô²øÆ ÎºÜîðàÜ ºì Üàðø-Ø²ð²Þ ì²ðâ²Î²Ü Þðæ²ÜÜºðÆ ÀÜ¸Ð²Üàôð Æð²ì²êàôÂÚ²Ü ²è²æÆÜ ²îÚ²ÜÆ ¸²î²ð²ÜàôØ ø²Ô²ø²òÆ²Î²Ü ¶àðÌºðÆ øÜÜàôÂÚ²Ü ìºð²´ºðÚ²È
A3: ºñ¨³Ý ù³Õ³ùÇ Î»ÝïñáÝ ¨ Üáñù- Ø³ñ³ß í³ñã³Ï³Ý ßñç³ÝÝ»ñÇ ÁÝ¹Ñ³Ýáõñ Çñ³í³ëáõÃÛ³Ý ³é³çÇÝ ³ïÛ³ÝÇ ¹³ï³ñ³ÝáõÙ ù³Õ³ù³óÇ³Ï³Ý Ù³ëÝ³·Çï³óáõÙ áõÝ»óáÕ ¹³ï³íáñÝ»ñÇ Ñ³ëïÇùÝ»ñÇ ù³Ý³ÏÁ` 9
E4: Ð³ßí»ïáõ Å³Ù³Ý³Ï³Ñ³ïí³ÍáõÙ Ý³Ëáñ¹ Ñ³ßí»ïáõ Å³Ù³Ý³Ï³Ñ³ïí³ÍÇó ÷áË³Ýóí³Í ·áñÍ»ñÇ ÁÝ¹Ñ³Ýáõñ ÃÇíÁ | J4: Ð³ßí»ïáõ Å³Ù³Ý³Ï³Ñ³ïí³ÍáõÙëï³óí³Í ·áñÍ»ñÇ (³Û¹ ÃíáõÙ` Ñ³Ûó³¹ÇÙáõÙÝ»ñÇ, ¹ÇÙáõÙÝ»ñÇ) ÁÝ¹Ñ³Ýáõñ ÃÇíÁ | N4: Ð³ßí»ïáõ Å³Ù³Ý³Ï³Ñ³ïí³ÍáõÙ ³í³ñïí³Í ·áñÍ»ñÇ ÁÝ¹Ñ³Ýáõñ ÃÇíÁ | Y4: ¶áñÍÝ áõÕ³ñÏí»É ¿ Áëï ÁÝ¹¹³ïáõÃÛ³Ý | Z4: Ð³ßí»ïáõ Å³Ù³Ý³Ï³Ñ³ïí³ÍáõÙ Ï³ë»óí³Í í³ñáõÛÃÝ»ñáí ·áñÍ»ñÇ ÁÝ¹Ñ³Ýáõñ ÃÇíÁ | AA4: Ð³ßí»ïáõ Å³Ù³Ý³Ï³Ñ³ïí³ÍáõÙ ³Ý³í³ñï ·áñÍ»ñÇ ÁÝ¹Ñ³Ýáõñ ÃÇíÁ | AB4: ²Û¹ ÃíáõÙª Ï³ë»óí³Í | AC4: ´áÕáù³ñÏí³Í ¹³ï³Ï³Ý ³Ïï»ñÇ ÃÇíÁ` Áëï ï»ë³ÏÝ»ñÇ | AF4: ´»Ï³Ýí³Í ¹³ï³Ï³Ý ³Ïï»ñÇ ÃÇíÁ` Áëï ï»ë³ÏÝ»ñÇ
E7: ÀÝ¹³Ù»ÝÁ | F7: ²Û¹ ÃíáõÙ`Ï³ë»óí³Í íÇ×³ÏáõÙ ÷áË³Ýóí³Í | G7: ²Û¹ ÃíáõÙª ÁÝ¹áõÝí»É ¿ í³ñáõÛÃ | H7: ²Û¹ ÃíáõÙª í»ñ³¹³ñÓí»É ¿ | I7: ²Û¹ ÃíáõÙª ÁÝ¹áõÝáõÙÁ Ù»ñÅí»É ¿ | J7: ÀÝ¹³Ù»ÝÁ | K7: ²Û¹ ÃíáõÙª ÁÝ¹áõÝí»É ¿ í³ñáõÛÃ | L7: ²Û¹ ÃíáõÙª í»ñ³¹³ñÓí»É ¿ | M7: ²Û¹ ÃíáõÙª ÁÝ¹áõÝáõÙÁ Ù»ñÅí»É ¿ | N7: ÀÝ¹³Ù»ÝÁ ³í³ñïí»É »Ý ·áñÍ»ñ ·áñÍÝ Áëï ¿áõÃÛ³Ý ÉáõÍáÕ ¹³ï³Ï³Ý ³Ïï»ñÇ (í×ÇéÝ»ñÇ) Ï³Û³óÙ³Ùµ | O7: ²Û¹ ÃíáõÙª Ñ³ÛóÇ µ³í³ñ³ñÙ³Ùµ | P7: ²Û¹ ÃíáõÙª Ñ³ÛóÇ Ù³ëÝ³ÏÇ µ³í³ñ³ñÙ³Ùµ | Q7: ²Û¹ ÃíáõÙª Ñ³ÛóÇ Ù»ñÅÙ³Ùµ | R7: Ø³ëáí Ï³ñ×í»É ¿, Ù³ëáí Ù»ñÅí»É | S7: ²Û¹ ÃíáõÙª Ï³ñ×í»É »Ý | W7: Ð³ÛóÁ ÃáÕÝí»É ¿ ³é³Ýó ùÝÝáõÃÛ³Ý | X7: ÀÝ¹³Ù»ÝÝ ³í³ñïí»É »Ý ·áñÍ»ñ | AC7: ²Û¹ ÃíáõÙ` ·áñÍÝ Áëï ¿áõÃÛ³Ý ÉáõÍáÕ ¹³ï³Ï³Ý ³Ïï»ñ | AD7: ²Û¹ ÃíáõÙ` ÙÇç³ÝÏÛ³É ¹³ï³Ï³Ý ³Ïï»ñ | AE7: ÀÝ¹³Ù»ÝÁ | AF7: ²Û¹ ÃíáõÙ` ·áñÍÝ Áëï ¿áõÃÛ³Ý ÉáõÍáÕ ¹³ï³Ï³Ý ³Ïï»ñ | AG7: ²Û¹ ÃíáõÙ` ÙÇç³ÝÏÛ³É ¹³ï³Ï³Ý ³Ïï»ñ | AH7: ÀÝ¹³Ù»ÝÁ
S10: ÀÝ¹³Ù»ÝÁ Ï³ñ×í»É »Ý | T10: ²Û¹ ÃíáõÙª Ñ³ëï³ïí»É ¿ ÏÝùí³Í Ñ³ßïáõÃÛ³Ý Ñ³Ù³Ó³ÛÝáõÃÛáõÝÁ | U10: ²Û¹ ÃíáõÙª Ñ³óÇó, ¹ÇÙáõÙÇó Ññ³Å³ñí»Éáõ ÑÇÙùáí | V10: ²Û¹ ÃíáõÙª ³ÛÉ ÑÇÙùáí
A18: ø³Õ³ù³óÇ³Ï³Ý ·áñÍ»ñÇ ¹³ë³Ï³ñ·áõÙÁ | E18: 1 | F18: 2 | G18: 3 | H18: 4 | I18: 5 | J18: 6 | K18: 7 | L18: 8 | M18: 9 | N18: 10 | O18: 11 | P18: 12 | Q18: 13 | R18: 14 | S18: 15 | T18: 16 | U18: 17 | V18: 18 | W18: 19 | X18: 20 | Y18: 21 | Z18: 22 | AA18: 23 | AB18: 24 | AC18: 25 | AD18: 26 | AE18: 27 | AF18: 28 | AG18: 29 | AH18: 30 | AJ18: 1=2+3+4+5 | AL18: 6=7+8+9 | AN18: 2+3+7=20+21+23 | AP18: 10=11+12+13+14+15 | AR18: 15=16+17+18 | AT18: 20=10+19 | AV18: 27=25+26 | AX18: 30=28+29
A19: 1. | B19: ¶áõÛù³ÛÇÝ Çñ³í³Ñ³ñ³µ»ñáõÃÛáõÝÝ»ñÇ í»ñ³µ»ñÛ³É ¹³ï³Ï³Ý ·áñÍ»ñ | E19: =SUM(E20:E38) -> 510 | F19: =SUM(F20:F38) -> 121 | G19: =SUM(G20:G38) -> 389 | H19: =SUM(H20:H38) -> 0 | I19: =SUM(I20:I38) -> 0 | J19: =SUM(J20:J38) -> 162 | K19: =SUM(K20:K38) -> 137 | L19: =SUM(L20:L38) -> 24 | ... AH19: =SUM(AH20:AH38) -> 0 | AJ19: =SUM(AJ20:AJ38) -> 510 | AK19: =SUM(AK20:AK38) -> 510 | AL19: =SUM(AL20:AL38) -> 162 | AM19: =SUM(AM20:AM38) -> 162 | AN19: =SUM(AN20:AN38) -> 647 | AO19: =SUM(AO20:AO38) -> 647 | AP19: =SUM(AP20:AP38) -> 113 | AQ19: =SUM(AQ20:AQ38) -> 113 | ... AY19: =SUM(AY20:AY38) -> 0
A20: 1.1 | B20: ¶áõÛùÇ ÝÏ³ïÙ³Ùµ ë»÷³Ï³ÝáõÃÛ³Ý Çñ³íáõÝùÁ ×³Ý³ã»Éáõ í»ñ³µ»ñÛ³É | E20: 74 | F20: 13 | G20: 61 | J20: 30 | K20: 26 | L20: 4 | N20: 23 | O20: 7 | P20: 2 | Q20: 7 | S20: 7 | U20: 5 | V20: 2 | W20: 1 | X20: 24 | AA20: 76 | AB20: 18 | AC20: 6 | AD20: 2 | AE20: 8 | AJ20: =E20 -> 74 | AK20: =F20+G20+H20+I20 -> 74 | AL20: =J20 -> 30 | AM20: =K20+L20+M20 -> 30 | AN20: =F20+G20+K20 -> 100 | AO20: =X20+Y20+AA20 -> 100 | AP20: =N20 -> 23 | AQ20: =O20+P20+Q20+R20+S20 -> 23 | AR20: =S20 -> 7 | AS20: =T20+U20+V20 -> 7 | AT20: =X20 -> 24 | AU20: =N20+W20 -> 24 | AV20: =AE20 -> 8 | AW20: =AC20+AD20 -> 8 | AX20: =AH20 -> 0 | AY20: =AF20+AG20 -> 0
A21: 1.1.1 | B21: ²Û¹ ÃíáõÙª Ó»éùµ»ñÙ³Ý í³Õ»ÙáõÃÛ³Ý áõÅáí | E21: 20 | F21: 4 | G21: 16 | J21: 6 | K21: 5 | L21: 1 | N21: 4 | O21: 2 | Q21: 2 | X21: 4 | AA21: 21 | AB21: 7 | AC21: 2 | AE21: 2 | AJ21: =E21 -> 20 | AK21: =F21+G21+H21+I21 -> 20 | AL21: =J21 -> 6 | AM21: =K21+L21+M21 -> 6 | AN21: =F21+G21+K21 -> 25 | AO21: =X21+Y21+AA21 -> 25 | AP21: =N21 -> 4 | AQ21: =O21+P21+Q21+R21+S21 -> 4 | AR21: =S21 -> 0 | AS21: =T21+U21+V21 -> 0 | AT21: =X21 -> 4 | AU21: =N21+W21 -> 4 | AV21: =AE21 -> 2 | AW21: =AC21+AD21 -> 2 | AX21: =AH21 -> 0 | AY21: =AF21+AG21 -> 0
A22: 1.1.2 | B22: ²Û¹ ÃíáõÙª ïÇñ³½áõñÏ ·áõÛùÇ ÝÏ³ïÙ³Ùµ | E22: 2 | G22: 2 | J22: 1 | K22: 1 | N22: 1 | O22: 1 | X22: 1 | AA22: 2 | AJ22: =E22 -> 2 | AK22: =F22+G22+H22+I22 -> 2 | AL22: =J22 -> 1 | AM22: =K22+L22+M22 -> 1 | AN22: =F22+G22+K22 -> 3 | AO22: =X22+Y22+AA22 -> 3 | AP22: =N22 -> 1 | AQ22: =O22+P22+Q22+R22+S22 -> 1 | AR22: =S22 -> 0 | AS22: =T22+U22+V22 -> 0 | AT22: =X22 -> 1 | AU22: =N22+W22 -> 1 | AV22: =AE22 -> 0 | AW22: =AC22+AD22 -> 0 | AX22: =AH22 -> 0 | AY22: =AF22+AG22 -> 0
A23: 1.1.3 | B23: ²Û¹ ÃíáõÙª ÇÝùÝ³Ï³Ù Ï³éáõÛóÇ ÝÏ³ïÙ³Ùµ | AJ23: =E23 -> 0 | AK23: =F23+G23+H23+I23 -> 0 | AL23: =J23 -> 0 | AM23: =K23+L23+M23 -> 0 | AN23: =F23+G23+K23 -> 0 | AO23: =X23+Y23+AA23 -> 0 | AP23: =N23 -> 0 | AQ23: =O23+P23+Q23+R23+S23 -> 0 | AR23: =S23 -> 0 | AS23: =T23+U23+V23 -> 0 | AT23: =X23 -> 0 | AU23: =N23+W23 -> 0 | AV23: =AE23 -> 0 | AW23: =AC23+AD23 -> 0 | AX23: =AH23 -> 0 | AY23: =AF23+AG23 -> 0
A24: 1.2 | B24: ê»÷³Ï³ÝáõÃÛ³Ý Çñ³íáõÝùÇ ¹³¹³ñ»óÙ³Ý í»ñ³µ»ñÛ³É | E24: 10 | F24: 2 | G24: 8 | J24: 5 | K24: 5 | N24: 4 | O24: 1 | R24: 1 | S24: 2 | T24: 1 | U24: 1 | X24: 4 | AA24: 11 | AB24: 3 | AC24: 1 | AE24: 1 | AJ24: =E24 -> 10 | AK24: =F24+G24+H24+I24 -> 10 | AL24: =J24 -> 5 | AM24: =K24+L24+M24 -> 5 | AN24: =F24+G24+K24 -> 15 | AO24: =X24+Y24+AA24 -> 15 | AP24: =N24 -> 4 | AQ24: =O24+P24+Q24+R24+S24 -> 4 | AR24: =S24 -> 2 | AS24: =T24+U24+V24 -> 2 | AT24: =X24 -> 4 | AU24: =N24+W24 -> 4 | AV24: =AE24 -> 1 | AW24: =AC24+AD24 -> 1 | AX24: =AH24 -> 0 | AY24: =AF24+AG24 -> 0
A25: 1.3 | B25: ¶áõÛùÇ ÝÏ³ïÙ³Ùµ û·ï³·áñÍÙ³Ý Çñ³íáõÝùÁ ×³Ý³ã»Éáõ í»ñ³µ»ñÛ³É | E25: 3 | G25: 3 | N25: 1 | Q25: 1 | X25: 1 | AA25: 2 | AB25: 1 | AJ25: =E25 -> 3 | AK25: =F25+G25+H25+I25 -> 3 | AL25: =J25 -> 0 | AM25: =K25+L25+M25 -> 0 | AN25: =F25+G25+K25 -> 3 | AO25: =X25+Y25+AA25 -> 3 | AP25: =N25 -> 1 | AQ25: =O25+P25+Q25+R25+S25 -> 1 | AR25: =S25 -> 0 | AS25: =T25+U25+V25 -> 0 | AT25: =X25 -> 1 | AU25: =N25+W25 -> 1 | AV25: =AE25 -> 0 | AW25: =AC25+AD25 -> 0 | AX25: =AH25 -> 0 | AY25: =AF25+AG25 -> 0
A26: 1.3.1 | B26: ²Û¹ ÃíáõÙª µÝ³Ïû·ï³·áñÍÙ³Ý Çñ³íáõÝùÁ ×³Ý³ã»Éáõ í»ñ³µ»ñÛ³É | E26: 1 | G26: 1 | N26: 1 | Q26: 1 | X26: 1 | AC26: 1 | AE26: 1 | AJ26: =E26 -> 1 | AK26: =F26+G26+H26+I26 -> 1 | AL26: =J26 -> 0 | AM26: =K26+L26+M26 -> 0 | AN26: =F26+G26+K26 -> 1 | AO26: =X26+Y26+AA26 -> 1 | AP26: =N26 -> 1 | AQ26: =O26+P26+Q26+R26+S26 -> 1 | AR26: =S26 -> 0 | AS26: =T26+U26+V26 -> 0 | AT26: =X26 -> 1 | AU26: =N26+W26 -> 1 | AV26: =AE26 -> 1 | AW26: =AC26+AD26 -> 1 | AX26: =AH26 -> 0 | AY26: =AF26+AG26 -> 0
A27: 1.3.2 | B27: ²Û¹ ÃíáõÙª ÑáÕ³Ù³ëÇ ÝÏ³ïÙ³Ùµ û·ï³·áñÍÙ³Ý Çñ³íáõÝùÁ ×³Ý³ã»Éáõ í»ñ³µ»ñÛ³É | E27: 1 | G27: 1 | J27: 1 | K27: 1 | AA27: 2 | AJ27: =E27 -> 1 | AK27: =F27+G27+H27+I27 -> 1 | AL27: =J27 -> 1 | AM27: =K27+L27+M27 -> 1 | AN27: =F27+G27+K27 -> 2 | AO27: =X27+Y27+AA27 -> 2 | AP27: =N27 -> 0 | AQ27: =O27+P27+Q27+R27+S27 -> 0 | AR27: =S27 -> 0 | AS27: =T27+U27+V27 -> 0 | AT27: =X27 -> 0 | AU27: =N27+W27 -> 0 | AV27: =AE27 -> 0 | AW27: =AC27+AD27 -> 0 | AX27: =AH27 -> 0 | AY27: =AF27+AG27 -> 0
A28: 1.4 | B28: ¶áõÛùÇ ÝÏ³ïÙ³Ùµ û·ï³·áñÍÙ³Ý Çñ³íáõÝùÁ ¹³¹³ñ»óÝ»Éáõ í»ñ³µ»ñÛ³É | AJ28: =E28 -> 0 | AK28: =F28+G28+H28+I28 -> 0 | AL28: =J28 -> 0 | AM28: =K28+L28+M28 -> 0 | AN28: =F28+G28+K28 -> 0 | AO28: =X28+Y28+AA28 -> 0 | AP28: =N28 -> 0 | AQ28: =O28+P28+Q28+R28+S28 -> 0 | AR28: =S28 -> 0 | AS28: =T28+U28+V28 -> 0 | AT28: =X28 -> 0 | AU28: =N28+W28 -> 0 | AV28: =AE28 -> 0 | AW28: =AC28+AD28 -> 0 | AX28: =AH28 -> 0 | AY28: =AF28+AG28 -> 0
A29: 1.4.1 | B29: ²Û¹ ÃíáõÙª µÝ³Ïû·ï³·áñÍÙ³Ý Çñ³íáõÝùÁ ¹³¹³ñ»óÝ»Éáõ í»ñ³µ»ñÛ³É | AJ29: =E29 -> 0 | AK29: =F29+G29+H29+I29 -> 0 | AL29: =J29 -> 0 | AM29: =K29+L29+M29 -> 0 | AN29: =F29+G29+K29 -> 0 | AO29: =X29+Y29+AA29 -> 0 | AP29: =N29 -> 0 | AQ29: =O29+P29+Q29+R29+S29 -> 0 | AR29: =S29 -> 0 | AS29: =T29+U29+V29 -> 0 | AT29: =X29 -> 0 | AU29: =N29+W29 -> 0 | AV29: =AE29 -> 0 | AW29: =AC29+AD29 -> 0 | AX29: =AH29 -> 0 | AY29: =AF29+AG29 -> 0
A30: 1.4.1/1 | B30: ²Û¹ ÃíáõÙª ÷áËÑ³ïáõóÙ³Ùµ | AJ30: =E30 -> 0 | AK30: =F30+G30+H30+I30 -> 0 | AL30: =J30 -> 0 | AM30: =K30+L30+M30 -> 0 | AN30: =F30+G30+K30 -> 0 | AO30: =X30+Y30+AA30 -> 0 | AP30: =N30 -> 0 | AQ30: =O30+P30+Q30+R30+S30 -> 0 | AR30: =S30 -> 0 | AS30: =T30+U30+V30 -> 0 | AT30: =X30 -> 0 | AU30: =N30+W30 -> 0 | AV30: =AE30 -> 0 | AW30: =AC30+AD30 -> 0 | AX30: =AH30 -> 0 | AY30: =AF30+AG30 -> 0
A31: 1.5 | B31: ´Ý³Ï³ñ³ÝÇó/ ï³ñ³ÍùÇó/ íï³ñ»Éáõ í»ñ³µ»ñÛ³É | E31: 19 | F31: 6 | G31: 13 | J31: 9 | K31: 9 | N31: 3 | O31: 1 | S31: 2 | T31: 1 | U31: 1 | X31: 3 | AA31: 25 | AB31: 7 | AJ31: =E31 -> 19 | AK31: =F31+G31+H31+I31 -> 19 | AL31: =J31 -> 9 | AM31: =K31+L31+M31 -> 9 | AN31: =F31+G31+K31 -> 28 | AO31: =X31+Y31+AA31 -> 28 | AP31: =N31 -> 3 | AQ31: =O31+P31+Q31+R31+S31 -> 3 | AR31: =S31 -> 2 | AS31: =T31+U31+V31 -> 2 | AT31: =X31 -> 3 | AU31: =N31+W31 -> 3 | AV31: =AE31 -> 0 | AW31: =AC31+AD31 -> 0 | AX31: =AH31 -> 0 | AY31: =AF31+AG31 -> 0
A32: 1.6 | B32: ¶áõÛùÝ áõñÇßÇ ³åûñÇÝÇ ïÇñ³å»ïáõÙÇó »ï í»ñ³¹³ñÓÝ»Éáõ í»ñ³µ»ñÛ³É | E32: 22 | F32: 7 | G32: 15 | J32: 10 | K32: 8 | L32: 2 | N32: 7 | O32: 2 | Q32: 2 | S32: 3 | U32: 3 | X32: 7 | AA32: 23 | AB32: 9 | AC32: 2 | AE32: 2 | AJ32: =E32 -> 22 | AK32: =F32+G32+H32+I32 -> 22 | AL32: =J32 -> 10 | AM32: =K32+L32+M32 -> 10 | AN32: =F32+G32+K32 -> 30 | AO32: =X32+Y32+AA32 -> 30 | AP32: =N32 -> 7 | AQ32: =O32+P32+Q32+R32+S32 -> 7 | AR32: =S32 -> 3 | AS32: =T32+U32+V32 -> 3 | AT32: =X32 -> 7 | AU32: =N32+W32 -> 7 | AV32: =AE32 -> 2 | AW32: =AC32+AD32 -> 2 | AX32: =AH32 -> 0 | AY32: =AF32+AG32 -> 0
A33: 1.6.1 | B33: ´³ñ»ËÇÕ× Ó»éùµ»ñáÕÇó Çñ ·áõÛùÁ Ñ»ï å³Ñ³Ýç»Éáõ í»ñ³µ»ñÛ³É | AJ33: =E33 -> 0 | AK33: =F33+G33+H33+I33 -> 0 | AL33: =J33 -> 0 | AM33: =K33+L33+M33 -> 0 | AN33: =F33+G33+K33 -> 0 | AO33: =X33+Y33+AA33 -> 0 | AP33: =N33 -> 0 | AQ33: =O33+P33+Q33+R33+S33 -> 0 | AR33: =S33 -> 0 | AS33: =T33+U33+V33 -> 0 | AT33: =X33 -> 0 | AU33: =N33+W33 -> 0 | AV33: =AE33 -> 0 | AW33: =AC33+AD33 -> 0 | AX33: =AH33 -> 0 | AY33: =AF33+AG33 -> 0
A34: 1.7 | B34: îÇñ³å»ïáõÙÇó ½ñÏ»Éáõ Ñ»ï ãÏ³åí³Í Çñ³íáõÝùÝ»ñÇ Ë³ËïáõÙÁ í»ñ³óÝ»Éáõ í»ñ³µ»ñÛ³É | E34: 2 | G34: 2 | AA34: 2 | AB34: 1 | AJ34: =E34 -> 2 | AK34: =F34+G34+H34+I34 -> 2 | AL34: =J34 -> 0 | AM34: =K34+L34+M34 -> 0 | AN34: =F34+G34+K34 -> 2 | AO34: =X34+Y34+AA34 -> 2 | AP34: =N34 -> 0 | AQ34: =O34+P34+Q34+R34+S34 -> 0 | AR34: =S34 -> 0 | AS34: =T34+U34+V34 -> 0 | AT34: =X34 -> 0 | AU34: =N34+W34 -> 0 | AV34: =AE34 -> 0 | AW34: =AC34+AD34 -> 0 | AX34: =AH34 -> 0 | AY34: =AF34+AG34 -> 0
A35: 1.8 | B35: ÀÝ¹Ñ³Ýáõñ µ³ÅÝ³ÛÇÝ ë»÷³Ï³ÝáõÃÛáõÝÇó µ³ÅÇÝÝ ³é³ÝÓÝ³óÝ»Éáõ í»ñ³µ»ñÛ³É | E35: 132 | F35: 32 | G35: 100 | J35: 32 | K35: 28 | L35: 4 | N35: 19 | O35: 6 | Q35: 4 | S35: 9 | T35: 5 | U35: 4 | X35: 19 | AA35: 141 | AB35: 47 | AC35: 5 | AE35: 5 | AJ35: =E35 -> 132 | AK35: =F35+G35+H35+I35 -> 132 | AL35: =J35 -> 32 | AM35: =K35+L35+M35 -> 32 | AN35: =F35+G35+K35 -> 160 | AO35: =X35+Y35+AA35 -> 160 | AP35: =N35 -> 19 | AQ35: =O35+P35+Q35+R35+S35 -> 19 | AR35: =S35 -> 9 | AS35: =T35+U35+V35 -> 9 | AT35: =X35 -> 19 | AU35: =N35+W35 -> 19 | AV35: =AE35 -> 5 | AW35: =AC35+AD35 -> 5 | AX35: =AH35 -> 0 | AY35: =AF35+AG35 -> 0
A36: 1.8.1 | B36: Ð³Ù³ï»Õ ë»÷³Ï³ÝáõÃÛ³Ý Ý»ñùá ·ïÝíáÕ ·áõÛùÁ µ³Å³Ý»Éáõ ¨ ¹ñ³ÝÇó µ³ÅÇÝÝ ³é³ÝÓÝ³óÝ»Éáõ í»ñ³µ»ñÛ³É | E36: 16 | G36: 16 | J36: 5 | K36: 5 | N36: 1 | P36: 1 | X36: 1 | AA36: 20 | AB36: 2 | AC36: 1 | AE36: 1 | AJ36: =E36 -> 16 | AK36: =F36+G36+H36+I36 -> 16 | AL36: =J36 -> 5 | AM36: =K36+L36+M36 -> 5 | AN36: =F36+G36+K36 -> 21 | AO36: =X36+Y36+AA36 -> 21 | AP36: =N36 -> 1 | AQ36: =O36+P36+Q36+R36+S36 -> 1 | AR36: =S36 -> 0 | AS36: =T36+U36+V36 -> 0 | AT36: =X36 -> 1 | AU36: =N36+W36 -> 1 | AV36: =AE36 -> 1 | AW36: =AC36+AD36 -> 1 | AX36: =AH36 -> 0 | AY36: =AF36+AG36 -> 0
A37: 1.8.3 | B37: ¶áõÛùÇ íñ³ µéÝ³·³ÝÓáõÙ ï³ñ³Í»Éáõ å³Ñ³ÝçÇ Ù³ëÇÝ | E37: 15 | F37: 2 | G37: 13 | J37: 4 | K37: 2 | L37: 1 | M37: 1 | N37: 6 | O37: 2 | P37: 2 | Q37: 1 | S37: 1 | V37: 1 | X37: 6 | AA37: 11 | AB37: 2 | AC37: 2 | AE37: 2 | AJ37: =E37 -> 15 | AK37: =F37+G37+H37+I37 -> 15 | AL37: =J37 -> 4 | AM37: =K37+L37+M37 -> 4 | AN37: =F37+G37+K37 -> 17 | AO37: =X37+Y37+AA37 -> 17 | AP37: =N37 -> 6 | AQ37: =O37+P37+Q37+R37+S37 -> 6 | AR37: =S37 -> 1 | AS37: =T37+U37+V37 -> 1 | AT37: =X37 -> 6 | AU37: =N37+W37 -> 6 | AV37: =AE37 -> 2 | AW37: =AC37+AD37 -> 2 | AX37: =AH37 -> 0 | AY37: =AF37+AG37 -> 0
A38: 1.9 | B38: ²ÛÉ í»×»ñ | E38: 193 | F38: 55 | G38: 138 | J38: 59 | K38: 47 | L38: 12 | N38: 43 | O38: 14 | P38: 4 | Q38: 15 | S38: 10 | T38: 2 | U38: 7 | V38: 1 | X38: 43 | AA38: 197 | AB38: 72 | AC38: 12 | AE38: 12 | AJ38: =E38 -> 193 | AK38: =F38+G38+H38+I38 -> 193 | AL38: =J38 -> 59 | AM38: =K38+L38+M38 -> 59 | AN38: =F38+G38+K38 -> 240 | AO38: =X38+Y38+AA38 -> 240 | AP38: =N38 -> 43 | AQ38: =O38+P38+Q38+R38+S38 -> 43 | AR38: =S38 -> 10 | AS38: =T38+U38+V38 -> 10 | AT38: =X38 -> 43 | AU38: =N38+W38 -> 43 | AV38: =AE38 -> 12 | AW38: =AC38+AD38 -> 12 | AX38: =AH38 -> 0 | AY38: =AF38+AG38 -> 0
A39: 2. | B39: ¶áñÍ³ñùÝ»ñÇ Ñ»ï Ï³åí³Í Çñ³í³Ñ³ñ³µ»ñáõÃÛáõÝÝ»ñÇ í»ñ³µ»ñÛ³É ¹³ï³Ï³Ý ·áñÍ»ñ | E39: =SUM(E40:E50) -> 435 | F39: =SUM(F40:F50) -> 68 | G39: =SUM(G40:G50) -> 367 | H39: =SUM(H40:H50) -> 0 | I39: =SUM(I40:I50) -> 0 | J39: =SUM(J40:J50) -> 131 | K39: =SUM(K40:K50) -> 116 | L39: =SUM(L40:L50) -> 14 | ... AH39: =SUM(AH40:AH50) -> 0 | AJ39: =SUM(AJ40:AJ50) -> 435 | AK39: =SUM(AK40:AK50) -> 435 | AL39: =SUM(AL40:AL50) -> 131 | AM39: =SUM(AM40:AM50) -> 131 | AN39: =SUM(AN40:AN50) -> 551 | AO39: =SUM(AO40:AO50) -> 551 | AP39: =SUM(AP40:AP50) -> 110 | AQ39: =SUM(AQ40:AQ50) -> 110 | ... AY39: =SUM(AY40:AY50) -> 0
A40: 2.1 | B40: ·áñÍ³ñùÝ»ñÇ ³Ýí³í»ñáõÃÛ³Ý Ñ»ï Ï³åí³Í í»×»ñ | E40: 30 | G40: 30 | J40: 4 | K40: 4 | N40: 9 | O40: 3 | Q40: 4 | S40: 2 | U40: 2 | X40: 9 | AA40: 25 | AB40: 2 | AC40: 2 | AE40: 2 | AJ40: =E40 -> 30 | AK40: =F40+G40+H40+I40 -> 30 | AL40: =J40 -> 4 | AM40: =K40+L40+M40 -> 4 | AN40: =F40+G40+K40 -> 34 | AO40: =X40+Y40+AA40 -> 34 | AP40: =N40 -> 9 | AQ40: =O40+P40+Q40+R40+S40 -> 9 | AR40: =S40 -> 2 | AS40: =T40+U40+V40 -> 2 | AT40: =X40 -> 9 | AU40: =N40+W40 -> 9 | AV40: =AE40 -> 2 | AW40: =AC40+AD40 -> 2 | AX40: =AH40 -> 0 | AY40: =AF40+AG40 -> 0
A41: 2.1.1 | B41: ³Û¹ ÃíáõÙ` íÇ×³Ñ³ñáõÛó ·áñÍ³ñùÝ»ñÝ ³Ýí³í»ñ ×³Ý³ã»Éáõ í»ñ³µ»ñÛ³É | AJ41: =E41 -> 0 | AK41: =F41+G41+H41+I41 -> 0 | AL41: =J41 -> 0 | AM41: =K41+L41+M41 -> 0 | AN41: =F41+G41+K41 -> 0 | AO41: =X41+Y41+AA41 -> 0 | AP41: =N41 -> 0 | AQ41: =O41+P41+Q41+R41+S41 -> 0 | AR41: =S41 -> 0 | AS41: =T41+U41+V41 -> 0 | AT41: =X41 -> 0 | AU41: =N41+W41 -> 0 | AV41: =AE41 -> 0 | AW41: =AC41+AD41 -> 0 | AX41: =AH41 -> 0 | AY41: =AF41+AG41 -> 0
A42: 2.1.2 | B42: ³Û¹ ÃíáõÙ` ·áñÍ³ñùÇ ³éáãÝãáõÃÛ³Ý Ñ»ï¨³ÝùÝ»ñ ÏÇñ³é»Éáõ í»ñ³µ»ñÛ³É | E42: 41 | F42: 1 | G42: 40 | J42: 12 | K42: 10 | L42: 2 | N42: 6 | O42: 1 | Q42: 4 | S42: 1 | V42: 1 | X42: 6 | Y42: 1 | AA42: 44 | AB42: 3 | AC42: 3 | AE42: 3 | AJ42: =E42 -> 41 | AK42: =F42+G42+H42+I42 -> 41 | AL42: =J42 -> 12 | AM42: =K42+L42+M42 -> 12 | AN42: =F42+G42+K42 -> 51 | AO42: =X42+Y42+AA42 -> 51 | AP42: =N42 -> 6 | AQ42: =O42+P42+Q42+R42+S42 -> 6 | AR42: =S42 -> 1 | AS42: =T42+U42+V42 -> 1 | AT42: =X42 -> 6 | AU42: =N42+W42 -> 6 | AV42: =AE42 -> 3 | AW42: =AC42+AD42 -> 3 | AX42: =AH42 -> 0 | AY42: =AF42+AG42 -> 0
A43: 2.2 | B43: ¶áñÍ³ñùÁ í³í»ñ ×³Ý³ã»Éáõ í»ñ³µ»ñÛ³É | J43: 1 | K43: 1 | AA43: 1 | AJ43: =E43 -> 0 | AK43: =F43+G43+H43+I43 -> 0 | AL43: =J43 -> 1 | AM43: =K43+L43+M43 -> 1 | AN43: =F43+G43+K43 -> 1 | AO43: =X43+Y43+AA43 -> 1 | AP43: =N43 -> 0 | AQ43: =O43+P43+Q43+R43+S43 -> 0 | AR43: =S43 -> 0 | AS43: =T43+U43+V43 -> 0 | AT43: =X43 -> 0 | AU43: =N43+W43 -> 0 | AV43: =AE43 -> 0 | AW43: =AC43+AD43 -> 0 | AX43: =AH43 -> 0 | AY43: =AF43+AG43 -> 0
A44: 2.3 | B44: ¶áñÍ³ñùÇó Í³·áÕ Çñ³íáõÝùÝ»ñÁ ·ñ³Ýó»Éáõ í»ñ³µ»ñÛ³É | AJ44: =E44 -> 0 | AK44: =F44+G44+H44+I44 -> 0 | AL44: =J44 -> 0 | AM44: =K44+L44+M44 -> 0 | AN44: =F44+G44+K44 -> 0 | AO44: =X44+Y44+AA44 -> 0 | AP44: =N44 -> 0 | AQ44: =O44+P44+Q44+R44+S44 -> 0 | AR44: =S44 -> 0 | AS44: =T44+U44+V44 -> 0 | AT44: =X44 -> 0 | AU44: =N44+W44 -> 0 | AV44: =AE44 -> 0 | AW44: =AC44+AD44 -> 0 | AX44: =AH44 -> 0 | AY44: =AF44+AG44 -> 0
A45: 2.4 | B45: ä³ÛÙ³Ý³·ÇñÝ ³Ýí³í»ñ ×³Ý³ã»Éáõ í»ñ³µ»ñÛ³É | E45: 153 | F45: 23 | G45: 130 | J45: 53 | K45: 45 | L45: 8 | N45: 45 | O45: 10 | Q45: 21 | R45: 1 | S45: 13 | U45: 11 | V45: 2 | X45: 45 | AA45: 153 | AB45: 24 | AC45: 15 | AD45: 2 | AE45: 17 | AJ45: =E45 -> 153 | AK45: =F45+G45+H45+I45 -> 153 | AL45: =J45 -> 53 | AM45: =K45+L45+M45 -> 53 | AN45: =F45+G45+K45 -> 198 | AO45: =X45+Y45+AA45 -> 198 | AP45: =N45 -> 45 | AQ45: =O45+P45+Q45+R45+S45 -> 45 | AR45: =S45 -> 13 | AS45: =T45+U45+V45 -> 13 | AT45: =X45 -> 45 | AU45: =N45+W45 -> 45 | AV45: =AE45 -> 17 | AW45: =AC45+AD45 -> 17 | AX45: =AH45 -> 0 | AY45: =AF45+AG45 -> 0
A46: 2.5 | B46: ä³ÛÙ³Ý³·ñÇÁ í³í»ñ ×³Ý³ã»Éáõ í»ñ³µ»ñÛ³É | E46: 29 | F46: 1 | G46: 28 | J46: 2 | K46: 2 | N46: 8 | O46: 1 | P46: 1 | Q46: 1 | S46: 5 | U46: 1 | V46: 4 | X46: 8 | AA46: 23 | AB46: 3 | AC46: 1 | AE46: 1 | AJ46: =E46 -> 29 | AK46: =F46+G46+H46+I46 -> 29 | AL46: =J46 -> 2 | AM46: =K46+L46+M46 -> 2 | AN46: =F46+G46+K46 -> 31 | AO46: =X46+Y46+AA46 -> 31 | AP46: =N46 -> 8 | AQ46: =O46+P46+Q46+R46+S46 -> 8 | AR46: =S46 -> 5 | AS46: =T46+U46+V46 -> 5 | AT46: =X46 -> 8 | AU46: =N46+W46 -> 8 | AV46: =AE46 -> 1 | AW46: =AC46+AD46 -> 1 | AX46: =AH46 -> 0 | AY46: =AF46+AG46 -> 0
A47: 2.6 | B47: ä³ÛÙ³Ý³·ñÇó Í³·áÕ Çñ³íáõÝùÝ»ñÁ ·ñ³Ýó»Éáõ í»ñ³µ»ñÛ³É | AJ47: =E47 -> 0 | AK47: =F47+G47+H47+I47 -> 0 | AL47: =J47 -> 0 | AM47: =K47+L47+M47 -> 0 | AN47: =F47+G47+K47 -> 0 | AO47: =X47+Y47+AA47 -> 0 | AP47: =N47 -> 0 | AQ47: =O47+P47+Q47+R47+S47 -> 0 | AR47: =S47 -> 0 | AS47: =T47+U47+V47 -> 0 | AT47: =X47 -> 0 | AU47: =N47+W47 -> 0 | AV47: =AE47 -> 0 | AW47: =AC47+AD47 -> 0 | AX47: =AH47 -> 0 | AY47: =AF47+AG47 -> 0
A48: 2.7 | B48: ä³ÛÙ³Ý³·ÇñÁ ÷á÷áË»Éáõ ¨ ÉáõÍ»Éáõ í»ñ³µ»ñÛ³É | E48: 33 | F48: 9 | G48: 24 | J48: 4 | K48: 4 | N48: 8 | O48: 3 | P48: 1 | Q48: 1 | R48: 1 | S48: 2 | T48: 1 | U48: 1 | X48: 8 | AA48: 29 | AB48: 10 | AJ48: =E48 -> 33 | AK48: =F48+G48+H48+I48 -> 33 | AL48: =J48 -> 4 | AM48: =K48+L48+M48 -> 4 | AN48: =F48+G48+K48 -> 37 | AO48: =X48+Y48+AA48 -> 37 | AP48: =N48 -> 8 | AQ48: =O48+P48+Q48+R48+S48 -> 8 | AR48: =S48 -> 2 | AS48: =T48+U48+V48 -> 2 | AT48: =X48 -> 8 | AU48: =N48+W48 -> 8 | AV48: =AE48 -> 0 | AW48: =AC48+AD48 -> 0 | AX48: =AH48 -> 0 | AY48: =AF48+AG48 -> 0
A49: 2.8 | B49: ä³ÛÙ³Ý³·Çñ ÏÝù»ÉáõÝ å³ñï³íáñ»óÝ»Éáõ í»ñ³µ»ñÛ³É | E49: 60 | F49: 19 | G49: 41 | J49: 24 | K49: 22 | L49: 2 | N49: 12 | P49: 1 | Q49: 8 | S49: 3 | U49: 2 | V49: 1 | X49: 12 | AA49: 70 | AB49: 19 | AC49: 2 | AD49: 3 | AE49: 5 | AJ49: =E49 -> 60 | AK49: =F49+G49+H49+I49 -> 60 | AL49: =J49 -> 24 | AM49: =K49+L49+M49 -> 24 | AN49: =F49+G49+K49 -> 82 | AO49: =X49+Y49+AA49 -> 82 | AP49: =N49 -> 12 | AQ49: =O49+P49+Q49+R49+S49 -> 12 | AR49: =S49 -> 3 | AS49: =T49+U49+V49 -> 3 | AT49: =X49 -> 12 | AU49: =N49+W49 -> 12 | AV49: =AE49 -> 5 | AW49: =AC49+AD49 -> 5 | AX49: =AH49 -> 0 | AY49: =AF49+AG49 -> 0
A50: 2.9 | B50: ²ÛÉ í»×»ñ | E50: 89 | F50: 15 | G50: 74 | J50: 31 | K50: 28 | L50: 2 | M50: 1 | N50: 22 | O50: 3 | P50: 2 | Q50: 8 | S50: 9 | T50: 2 | U50: 6 | V50: 1 | X50: 22 | AA50: 95 | AB50: 19 | AC50: 11 | AD50: 3 | AE50: 14 | AJ50: =E50 -> 89 | AK50: =F50+G50+H50+I50 -> 89 | AL50: =J50 -> 31 | AM50: =K50+L50+M50 -> 31 | AN50: =F50+G50+K50 -> 117 | AO50: =X50+Y50+AA50 -> 117 | AP50: =N50 -> 22 | AQ50: =O50+P50+Q50+R50+S50 -> 22 | AR50: =S50 -> 9 | AS50: =T50+U50+V50 -> 9 | AT50: =X50 -> 22 | AU50: =N50+W50 -> 22 | AV50: =AE50 -> 14 | AW50: =AC50+AD50 -> 14 | AX50: =AH50 -> 0 | AY50: =AF50+AG50 -> 0
A51: 3. | B51: Ä³é³Ý·áõÃÛ³Ý Ñ»ï Ï³åí³Í Çñ³í³Ñ³ñ³µ»ñáõÃÛáõÝÝ»ñÇ í»ñ³µ»ñÛ³É ¹³ï³Ï³Ý ·áñÍ»ñ | E51: =SUM(E52:E58) -> 51 | F51: =SUM(F52:F58) -> 8 | G51: =SUM(G52:G58) -> 43 | H51: =SUM(H52:H58) -> 0 | I51: =SUM(I52:I58) -> 0 | J51: =SUM(J52:J58) -> 18 | K51: =SUM(K52:K58) -> 15 | L51: =SUM(L52:L58) -> 3 | ... AH51: =SUM(AH52:AH58) -> 0 | AJ51: =SUM(AJ52:AJ58) -> 51 | AK51: =SUM(AK52:AK58) -> 51 | AL51: =SUM(AL52:AL58) -> 18 | AM51: =SUM(AM52:AM58) -> 18 | AN51: =SUM(AN52:AN58) -> 66 | AO51: =SUM(AO52:AO58) -> 66 | AP51: =SUM(AP52:AP58) -> 17 | AQ51: =SUM(AQ52:AQ58) -> 17 | ... AY51: =SUM(AY52:AY58) -> 0
A52: 3.1 | B52: Îï³ÏÝ ³Ýí³í»ñ ×³Ý³ã»Éáõ í»ñ³µ»ñÛ³É | E52: 2 | F52: 1 | G52: 1 | J52: 3 | K52: 3 | AA52: 5 | AB52: 1 | AJ52: =E52 -> 2 | AK52: =F52+G52+H52+I52 -> 2 | AL52: =J52 -> 3 | AM52: =K52+L52+M52 -> 3 | AN52: =F52+G52+K52 -> 5 | AO52: =X52+Y52+AA52 -> 5 | AP52: =N52 -> 0 | AQ52: =O52+P52+Q52+R52+S52 -> 0 | AR52: =S52 -> 0 | AS52: =T52+U52+V52 -> 0 | AT52: =X52 -> 0 | AU52: =N52+W52 -> 0 | AV52: =AE52 -> 0 | AW52: =AC52+AD52 -> 0 | AX52: =AH52 -> 0 | AY52: =AF52+AG52 -> 0
A53: 3.2 | B53: ²Ý³ñÅ³Ý Å³é³Ý· ×³Ý³ã»Éáõ í»ñ³µ»ñÛ³É | AJ53: =E53 -> 0 | AK53: =F53+G53+H53+I53 -> 0 | AL53: =J53 -> 0 | AM53: =K53+L53+M53 -> 0 | AN53: =F53+G53+K53 -> 0 | AO53: =X53+Y53+AA53 -> 0 | AP53: =N53 -> 0 | AQ53: =O53+P53+Q53+R53+S53 -> 0 | AR53: =S53 -> 0 | AS53: =T53+U53+V53 -> 0 | AT53: =X53 -> 0 | AU53: =N53+W53 -> 0 | AV53: =AE53 -> 0 | AW53: =AC53+AD53 -> 0 | AX53: =AH53 -> 0 | AY53: =AF53+AG53 -> 0
A54: 3.3 | B54: Ä³é³Ý·áõÃÛáõÝÁ µ³Å³Ý»Éáõ í»ñ³µ»ñÛ³É | AJ54: =E54 -> 0 | AK54: =F54+G54+H54+I54 -> 0 | AL54: =J54 -> 0 | AM54: =K54+L54+M54 -> 0 | AN54: =F54+G54+K54 -> 0 | AO54: =X54+Y54+AA54 -> 0 | AP54: =N54 -> 0 | AQ54: =O54+P54+Q54+R54+S54 -> 0 | AR54: =S54 -> 0 | AS54: =T54+U54+V54 -> 0 | AT54: =X54 -> 0 | AU54: =N54+W54 -> 0 | AV54: =AE54 -> 0 | AW54: =AC54+AD54 -> 0 | AX54: =AH54 -> 0 | AY54: =AF54+AG54 -> 0
A55: 3.4 | B55: ¶áõÛùÝ ³ÝÅ³é³Ý· ×³Ý³ã»Éáõ í»ñ³µ»ñÛ³É | AJ55: =E55 -> 0 | AK55: =F55+G55+H55+I55 -> 0 | AL55: =J55 -> 0 | AM55: =K55+L55+M55 -> 0 | AN55: =F55+G55+K55 -> 0 | AO55: =X55+Y55+AA55 -> 0 | AP55: =N55 -> 0 | AQ55: =O55+P55+Q55+R55+S55 -> 0 | AR55: =S55 -> 0 | AS55: =T55+U55+V55 -> 0 | AT55: =X55 -> 0 | AU55: =N55+W55 -> 0 | AV55: =AE55 -> 0 | AW55: =AC55+AD55 -> 0 | AX55: =AH55 -> 0 | AY55: =AF55+AG55 -> 0
A56: 3.5 | B56: Àëï ûñ»ÝùÇ Å³é³Ý·áõÃÛ³Ý Çñ³íáõÝùÇ íÏ³Û³·ÇñÝ ³Ýí³í»ñ ×³Ý³ã»Éáõ í»ñ³µ»ñÛ³É | E56: 4 | G56: 4 | J56: 1 | L56: 1 | AA56: 4 | AB56: 1 | AJ56: =E56 -> 4 | AK56: =F56+G56+H56+I56 -> 4 | AL56: =J56 -> 1 | AM56: =K56+L56+M56 -> 1 | AN56: =F56+G56+K56 -> 4 | AO56: =X56+Y56+AA56 -> 4 | AP56: =N56 -> 0 | AQ56: =O56+P56+Q56+R56+S56 -> 0 | AR56: =S56 -> 0 | AS56: =T56+U56+V56 -> 0 | AT56: =X56 -> 0 | AU56: =N56+W56 -> 0 | AV56: =AE56 -> 0 | AW56: =AC56+AD56 -> 0 | AX56: =AH56 -> 0 | AY56: =AF56+AG56 -> 0
A57: 3.6 | B57: Ä³é³Ý·áõÃÛáõÝÝ ÁÝ¹áõÝ»Éáõ µ³ó ÃáÕÝí³Í Å³ÙÏ»ïÁ Ñ³ñ·»ÉÇ Ñ³Ù³ñ»Éáõ í»ñ³µ»ñÛ³É | E57: 9 | F57: 1 | G57: 8 | J57: 2 | K57: 2 | N57: 5 | Q57: 3 | S57: 2 | U57: 1 | V57: 1 | X57: 5 | Y57: 1 | AA57: 5 | AB57: 1 | AC57: 1 | AE57: 1 | AJ57: =E57 -> 9 | AK57: =F57+G57+H57+I57 -> 9 | AL57: =J57 -> 2 | AM57: =K57+L57+M57 -> 2 | AN57: =F57+G57+K57 -> 11 | AO57: =X57+Y57+AA57 -> 11 | AP57: =N57 -> 5 | AQ57: =O57+P57+Q57+R57+S57 -> 5 | AR57: =S57 -> 2 | AS57: =T57+U57+V57 -> 2 | AT57: =X57 -> 5 | AU57: =N57+W57 -> 5 | AV57: =AE57 -> 1 | AW57: =AC57+AD57 -> 1 | AX57: =AH57 -> 0 | AY57: =AF57+AG57 -> 0
A58: 3.7 | B58: ²ÛÉ í»×»ñ | E58: 36 | F58: 6 | G58: 30 | J58: 12 | K58: 10 | L58: 2 | N58: 12 | O58: 7 | Q58: 4 | S58: 1 | U58: 1 | X58: 12 | AA58: 34 | AB58: 7 | AC58: 2 | AE58: 2 | AJ58: =E58 -> 36 | AK58: =F58+G58+H58+I58 -> 36 | AL58: =J58 -> 12 | AM58: =K58+L58+M58 -> 12 | AN58: =F58+G58+K58 -> 46 | AO58: =X58+Y58+AA58 -> 46 | AP58: =N58 -> 12 | AQ58: =O58+P58+Q58+R58+S58 -> 12 | AR58: =S58 -> 1 | AS58: =T58+U58+V58 -> 1 | AT58: =X58 -> 12 | AU58: =N58+W58 -> 12 | AV58: =AE58 -> 2 | AW58: =AC58+AD58 -> 2 | AX58: =AH58 -> 0 | AY58: =AF58+AG58 -> 0
A59: 4 | B59: ÀÝï³Ý»Ï³Ý Çñ³í³Ñ³ñ³µ»ñáõÃÛáõÝÝ»ñÇ í»ñ³µ»ñÛ³É ¹³ï³Ï³Ý ·áñÍ»ñ | E59: =SUM(E60:E72) -> 150 | F59: =SUM(F60:F72) -> 17 | G59: =SUM(G60:G72) -> 133 | H59: =SUM(H60:H72) -> 0 | I59: =SUM(I60:I72) -> 0 | J59: =SUM(J60:J72) -> 106 | K59: =SUM(K60:K72) -> 92 | L59: =SUM(L60:L72) -> 13 | ... AH59: =SUM(AH60:AH72) -> 0 | AJ59: =SUM(AJ60:AJ72) -> 150 | AK59: =SUM(AK60:AK72) -> 150 | AL59: =SUM(AL60:AL72) -> 106 | AM59: =SUM(AM60:AM72) -> 106 | AN59: =SUM(AN60:AN72) -> 242 | AO59: =SUM(AO60:AO72) -> 242 | AP59: =SUM(AP60:AP72) -> 87 | AQ59: =SUM(AQ60:AQ72) -> 87 | ... AY59: =SUM(AY60:AY72) -> 0
A60: 4.1 | B60: ²ÙáõëÝ³ÉáõÍáõÃÛ³Ý í»ñ³µ»ñÛ³É | E60: 67 | F60: 6 | G60: 61 | J60: 55 | K60: 46 | L60: 9 | N60: 46 | O60: 29 | P60: 2 | Q60: 2 | S60: 13 | T60: 4 | U60: 9 | X60: 46 | AA60: 67 | AB60: 6 | AC60: 3 | AD60: 1 | AE60: 4 | AJ60: =E60 -> 67 | AK60: =F60+G60+H60+I60 -> 67 | AL60: =J60 -> 55 | AM60: =K60+L60+M60 -> 55 | AN60: =F60+G60+K60 -> 113 | AO60: =X60+Y60+AA60 -> 113 | AP60: =N60 -> 46 | AQ60: =O60+P60+Q60+R60+S60 -> 46 | AR60: =S60 -> 13 | AS60: =T60+U60+V60 -> 13 | AT60: =X60 -> 46 | AU60: =N60+W60 -> 46 | AV60: =AE60 -> 4 | AW60: =AC60+AD60 -> 4 | AX60: =AH60 -> 0 | AY60: =AF60+AG60 -> 0
A61: 4.2 | B61: ²ÉÇÙ»ÝïÇ å³Ñ³ÝçÇ í»ñ³µ»ñÛ³É | E61: 29 | F61: 3 | G61: 26 | J61: 15 | K61: 14 | L61: 1 | N61: 12 | O61: 4 | P61: 8 | X61: 12 | AA61: 31 | AB61: 3 | AC61: 1 | AD61: 1 | AE61: 2 | AJ61: =E61 -> 29 | AK61: =F61+G61+H61+I61 -> 29 | AL61: =J61 -> 15 | AM61: =K61+L61+M61 -> 15 | AN61: =F61+G61+K61 -> 43 | AO61: =X61+Y61+AA61 -> 43 | AP61: =N61 -> 12 | AQ61: =O61+P61+Q61+R61+S61 -> 12 | AR61: =S61 -> 0 | AS61: =T61+U61+V61 -> 0 | AT61: =X61 -> 12 | AU61: =N61+W61 -> 12 | AV61: =AE61 -> 2 | AW61: =AC61+AD61 -> 2 | AX61: =AH61 -> 0 | AY61: =AF61+AG61 -> 0
A62: 4.3 | B62: ²ÉÇÙ»ÝïÇ ã³÷Á ÷á÷áË»Éáõ í»ñ³µ»ñÛ³É | E62: 5 | F62: 1 | G62: 4 | J62: 4 | K62: 4 | N62: 3 | P62: 1 | Q62: 2 | X62: 3 | AA62: 6 | AB62: 1 | AC62: 1 | AE62: 1 | AJ62: =E62 -> 5 | AK62: =F62+G62+H62+I62 -> 5 | AL62: =J62 -> 4 | AM62: =K62+L62+M62 -> 4 | AN62: =F62+G62+K62 -> 9 | AO62: =X62+Y62+AA62 -> 9 | AP62: =N62 -> 3 | AQ62: =O62+P62+Q62+R62+S62 -> 3 | AR62: =S62 -> 0 | AS62: =T62+U62+V62 -> 0 | AT62: =X62 -> 3 | AU62: =N62+W62 -> 3 | AV62: =AE62 -> 1 | AW62: =AC62+AD62 -> 1 | AX62: =AH62 -> 0 | AY62: =AF62+AG62 -> 0
A63: 4.4 | B63: ÌÝáÕ³Ï³Ý Çñ³íáõÝùÝ»ñÇó ½ñÏ»Éáõ í»ñ³µ»ñÛ³É | E63: 3 | G63: 3 | J63: 1 | K63: 1 | N63: 2 | O63: 1 | P63: 1 | X63: 2 | AA63: 2 | AC63: 1 | AE63: 1 | AJ63: =E63 -> 3 | AK63: =F63+G63+H63+I63 -> 3 | AL63: =J63 -> 1 | AM63: =K63+L63+M63 -> 1 | AN63: =F63+G63+K63 -> 4 | AO63: =X63+Y63+AA63 -> 4 | AP63: =N63 -> 2 | AQ63: =O63+P63+Q63+R63+S63 -> 2 | AR63: =S63 -> 0 | AS63: =T63+U63+V63 -> 0 | AT63: =X63 -> 2 | AU63: =N63+W63 -> 2 | AV63: =AE63 -> 1 | AW63: =AC63+AD63 -> 1 | AX63: =AH63 -> 0 | AY63: =AF63+AG63 -> 0
A64: 4.5 | B64: ÌÝáÕ³Ï³Ý Çñ³íáõÝùÝ»ñÁ í»ñ³Ï³Ý·Ý»Éáõ í»ñ³µ»ñÛ³É | AJ64: =E64 -> 0 | AK64: =F64+G64+H64+I64 -> 0 | AL64: =J64 -> 0 | AM64: =K64+L64+M64 -> 0 | AN64: =F64+G64+K64 -> 0 | AO64: =X64+Y64+AA64 -> 0 | AP64: =N64 -> 0 | AQ64: =O64+P64+Q64+R64+S64 -> 0 | AR64: =S64 -> 0 | AS64: =T64+U64+V64 -> 0 | AT64: =X64 -> 0 | AU64: =N64+W64 -> 0 | AV64: =AE64 -> 0 | AW64: =AC64+AD64 -> 0 | AX64: =AH64 -> 0 | AY64: =AF64+AG64 -> 0
A65: 4.6 | B65: ºñ»Ë³ÛÇ áñ¹»·ñÙ³Ý í»ñ³µ»ñÛ³É | E65: 3 | G65: 3 | J65: 9 | K65: 9 | N65: 7 | O65: 7 | X65: 7 | AA65: 5 | AJ65: =E65 -> 3 | AK65: =F65+G65+H65+I65 -> 3 | AL65: =J65 -> 9 | AM65: =K65+L65+M65 -> 9 | AN65: =F65+G65+K65 -> 12 | AO65: =X65+Y65+AA65 -> 12 | AP65: =N65 -> 7 | AQ65: =O65+P65+Q65+R65+S65 -> 7 | AR65: =S65 -> 0 | AS65: =T65+U65+V65 -> 0 | AT65: =X65 -> 7 | AU65: =N65+W65 -> 7 | AV65: =AE65 -> 0 | AW65: =AC65+AD65 -> 0 | AX65: =AH65 -> 0 | AY65: =AF65+AG65 -> 0
A66: 4.7 | B66: ºñ»Ë³ÛÇ áñ¹»·ñáõÙÁ í»ñ³óÝ»Éáõ í»ñ³µ»ñÛ³É | E66: 2 | G66: 2 | J66: 2 | K66: 1 | L66: 1 | AA66: 3 | AJ66: =E66 -> 2 | AK66: =F66+G66+H66+I66 -> 2 | AL66: =J66 -> 2 | AM66: =K66+L66+M66 -> 2 | AN66: =F66+G66+K66 -> 3 | AO66: =X66+Y66+AA66 -> 3 | AP66: =N66 -> 0 | AQ66: =O66+P66+Q66+R66+S66 -> 0 | AR66: =S66 -> 0 | AS66: =T66+U66+V66 -> 0 | AT66: =X66 -> 0 | AU66: =N66+W66 -> 0 | AV66: =AE66 -> 0 | AW66: =AC66+AD66 -> 0 | AX66: =AH66 -> 0 | AY66: =AF66+AG66 -> 0
A67: 4.8 | B67: Ð³ÛñáõÃÛáõÝÁ ×³Ý³ã»Éáõ í»ñ³µ»ñÛ³É | E67: 5 | F67: 2 | G67: 3 | J67: 1 | K67: 1 | N67: 2 | O67: 1 | Q67: 1 | X67: 2 | AA67: 4 | AB67: 3 | AJ67: =E67 -> 5 | AK67: =F67+G67+H67+I67 -> 5 | AL67: =J67 -> 1 | AM67: =K67+L67+M67 -> 1 | AN67: =F67+G67+K67 -> 6 | AO67: =X67+Y67+AA67 -> 6 | AP67: =N67 -> 2 | AQ67: =O67+P67+Q67+R67+S67 -> 2 | AR67: =S67 -> 0 | AS67: =T67+U67+V67 -> 0 | AT67: =X67 -> 2 | AU67: =N67+W67 -> 2 | AV67: =AE67 -> 0 | AW67: =AC67+AD67 -> 0 | AX67: =AH67 -> 0 | AY67: =AF67+AG67 -> 0
A68: 4.9 | B68: ºñ»Ë³ÛÇ µÝ³ÏáõÃÛ³Ý í³ÛñÁ áñáß»Éáõ í»ñ³µ»ñÛ³É | E68: 9 | G68: 9 | J68: 3 | K68: 2 | L68: 1 | N68: 5 | O68: 2 | S68: 3 | U68: 3 | X68: 5 | AA68: 6 | AJ68: =E68 -> 9 | AK68: =F68+G68+H68+I68 -> 9 | AL68: =J68 -> 3 | AM68: =K68+L68+M68 -> 3 | AN68: =F68+G68+K68 -> 11 | AO68: =X68+Y68+AA68 -> 11 | AP68: =N68 -> 5 | AQ68: =O68+P68+Q68+R68+S68 -> 5 | AR68: =S68 -> 3 | AS68: =T68+U68+V68 -> 3 | AT68: =X68 -> 5 | AU68: =N68+W68 -> 5 | AV68: =AE68 -> 0 | AW68: =AC68+AD68 -> 0 | AX68: =AH68 -> 0 | AY68: =AF68+AG68 -> 0
A69: 4.10 | B69: ºñ»Ë³ÛÇ Ñ»ï ï»ë³ÏóáõÃÛ³Ý Ï³ñ· ë³ÑÙ³Ý»Éáõ í»ñ³µ»ñÛ³É | E69: 6 | F69: 2 | G69: 4 | J69: 9 | K69: 7 | L69: 1 | M69: 1 | N69: 4 | O69: 1 | S69: 3 | T69: 1 | U69: 2 | X69: 4 | AA69: 9 | AB69: 2 | AJ69: =E69 -> 6 | AK69: =F69+G69+H69+I69 -> 6 | AL69: =J69 -> 9 | AM69: =K69+L69+M69 -> 9 | AN69: =F69+G69+K69 -> 13 | AO69: =X69+Y69+AA69 -> 13 | AP69: =N69 -> 4 | AQ69: =O69+P69+Q69+R69+S69 -> 4 | AR69: =S69 -> 3 | AS69: =T69+U69+V69 -> 3 | AT69: =X69 -> 4 | AU69: =N69+W69 -> 4 | AV69: =AE69 -> 0 | AW69: =AC69+AD69 -> 0 | AX69: =AH69 -> 0 | AY69: =AF69+AG69 -> 0
A70: 4.11 | B70: ²ÙáõëÇÝÝ»ñÇ ÁÝ¹Ñ³Ýáõñ ·áõÛùÁ µ³Å³Ý»Éáõ í»ñ³µ»ñÛ³É | E70: 11 | F70: 2 | G70: 9 | J70: 2 | K70: 2 | N70: 3 | O70: 1 | P70: 1 | S70: 1 | U70: 1 | X70: 3 | AA70: 10 | AB70: 2 | AC70: 2 | AE70: 2 | AJ70: =E70 -> 11 | AK70: =F70+G70+H70+I70 -> 11 | AL70: =J70 -> 2 | AM70: =K70+L70+M70 -> 2 | AN70: =F70+G70+K70 -> 13 | AO70: =X70+Y70+AA70 -> 13 | AP70: =N70 -> 3 | AQ70: =O70+P70+Q70+R70+S70 -> 3 | AR70: =S70 -> 1 | AS70: =T70+U70+V70 -> 1 | AT70: =X70 -> 3 | AU70: =N70+W70 -> 3 | AV70: =AE70 -> 2 | AW70: =AC70+AD70 -> 2 | AX70: =AH70 -> 0 | AY70: =AF70+AG70 -> 0
A71: 4.12 | B71: ²ÙáõëÝ³Ï³Ý å³ÛÙ³Ý³·ñÇ ÷á÷áËÙ³Ý Ï³Ù ÉáõÍÙ³Ý í»ñ³µ»ñÛ³É | AJ71: =E71 -> 0 | AK71: =F71+G71+H71+I71 -> 0 | AL71: =J71 -> 0 | AM71: =K71+L71+M71 -> 0 | AN71: =F71+G71+K71 -> 0 | AO71: =X71+Y71+AA71 -> 0 | AP71: =N71 -> 0 | AQ71: =O71+P71+Q71+R71+S71 -> 0 | AR71: =S71 -> 0 | AS71: =T71+U71+V71 -> 0 | AT71: =X71 -> 0 | AU71: =N71+W71 -> 0 | AV71: =AE71 -> 0 | AW71: =AC71+AD71 -> 0 | AX71: =AH71 -> 0 | AY71: =AF71+AG71 -> 0
A72: 4.13 | B72: ²ÛÉ í»×»ñ | E72: 10 | F72: 1 | G72: 9 | J72: 5 | K72: 5 | N72: 3 | O72: 1 | S72: 2 | T72: 1 | U72: 1 | X72: 3 | AA72: 12 | AJ72: =E72 -> 10 | AK72: =F72+G72+H72+I72 -> 10 | AL72: =J72 -> 5 | AM72: =K72+L72+M72 -> 5 | AN72: =F72+G72+K72 -> 15 | AO72: =X72+Y72+AA72 -> 15 | AP72: =N72 -> 3 | AQ72: =O72+P72+Q72+R72+S72 -> 3 | AR72: =S72 -> 2 | AS72: =T72+U72+V72 -> 2 | AT72: =X72 -> 3 | AU72: =N72+W72 -> 3 | AV72: =AE72 -> 0 | AW72: =AC72+AD72 -> 0 | AX72: =AH72 -> 0 | AY72: =AF72+AG72 -> 0
A73: 5. | B73: Øï³íáñ ë»÷³Ï³ÝáõÃÛ³Ý Ñ»ï Ï³åí³ÍÇñ³í³Ñ³ñ³µ»ñáõÃÛáõÝÝ»ñÇ í»ñ³µ»ñÛ³É ¹³ï³Ï³Ý ·áñÍ»ñ | E73: =SUM(E74:E79) -> 11 | F73: =SUM(F74:F79) -> 0 | G73: =SUM(G74:G79) -> 11 | H73: =SUM(H74:H79) -> 0 | I73: =SUM(I74:I79) -> 0 | J73: =SUM(J74:J79) -> 5 | K73: =SUM(K74:K79) -> 5 | L73: =SUM(L74:L79) -> 0 | ... AH73: =SUM(AH74:AH79) -> 0 | AJ73: =SUM(AJ74:AJ79) -> 11 | AK73: =SUM(AK74:AK79) -> 11 | AL73: =SUM(AL74:AL79) -> 5 | AM73: =SUM(AM74:AM79) -> 5 | AN73: =SUM(AN74:AN79) -> 16 | AO73: =SUM(AO74:AO79) -> 16 | AP73: =SUM(AP74:AP79) -> 2 | AQ73: =SUM(AQ74:AQ79) -> 2 | ... AX73: =SUM(AX74:AX79) -> 0 | AY73: =AF73+AG73 -> 0
A74: 5.1 | B74: ÈÇó»Ý½³ÛÇÝ å³ÛÙ³Ý³·ñÇ ÉáõÍÙ³Ý, ÷á÷áËÙ³Ý ¨ ³Ýí³í»ñáõÃÛ³Ý í»ñ³µ»ñÛ³É | AJ74: =E74 -> 0 | AK74: =F74+G74+H74+I74 -> 0 | AL74: =J74 -> 0 | AM74: =K74+L74+M74 -> 0 | AN74: =F74+G74+K74 -> 0 | AO74: =X74+Y74+AA74 -> 0 | AP74: =N74 -> 0 | AQ74: =O74+P74+Q74+R74+S74 -> 0 | AR74: =S74 -> 0 | AS74: =T74+U74+V74 -> 0 | AT74: =X74 -> 0 | AU74: =N74+W74 -> 0 | AV74: =AE74 -> 0 | AW74: =AC74+AD74 -> 0 | AX74: =AH74 -> 0 | AY74: =AF74+AG74 -> 0
A75: 5.2 | B75: Øï³íáñ ·áñÍáõÝ»áõÃÛ³Ý ³ñ¹ÛáõÝùÝ»ñ ëï»ÕÍ»Éáõ ¨ û·ï³·áñÍ»Éáõ å³ÛÙ³Ý³·ñÇ ÉáõÍÙ³Ý, ÷á÷áËÙ³Ý áõ ³Ýí³í»ñáõÃÛ³Ý í»ñ³µ»ñÛ³É | AJ75: =E75 -> 0 | AK75: =F75+G75+H75+I75 -> 0 | AL75: =J75 -> 0 | AM75: =K75+L75+M75 -> 0 | AN75: =F75+G75+K75 -> 0 | AO75: =X75+Y75+AA75 -> 0 | AP75: =N75 -> 0 | AQ75: =O75+P75+Q75+R75+S75 -> 0 | AR75: =S75 -> 0 | AS75: =T75+U75+V75 -> 0 | AT75: =X75 -> 0 | AU75: =N75+W75 -> 0 | AV75: =AE75 -> 0 | AW75: =AC75+AD75 -> 0 | AX75: =AH75 -> 0 | AY75: =AF75+AG75 -> 0
A76: 5.3 | B76: Ð»ÕÇÝ³Ï³ÛÇÝ ¨ Ñ³ñ³ÏÇó Çñ³íáõÝùÝ»ñÇ í»ñ³µ»ñÛ³É | E76: 3 | G76: 3 | J76: 1 | K76: 1 | AA76: 4 | AJ76: =E76 -> 3 | AK76: =F76+G76+H76+I76 -> 3 | AL76: =J76 -> 1 | AM76: =K76+L76+M76 -> 1 | AN76: =F76+G76+K76 -> 4 | AO76: =X76+Y76+AA76 -> 4 | AP76: =N76 -> 0 | AQ76: =O76+P76+Q76+R76+S76 -> 0 | AR76: =S76 -> 0 | AS76: =T76+U76+V76 -> 0 | AT76: =X76 -> 0 | AU76: =N76+W76 -> 0 | AV76: =AE76 -> 0 | AW76: =AC76+AD76 -> 0 | AX76: =AH76 -> 0 | AY76: =AF76+AG76 -> 0
A77: 5.4 | B77: üÇñÙ³ÛÇÝ ³Ýí³ÝÙ³Ý í»ñ³µ»ñÛ³É | AJ77: =E77 -> 0 | AK77: =F77+G77+H77+I77 -> 0 | AL77: =J77 -> 0 | AM77: =K77+L77+M77 -> 0 | AN77: =F77+G77+K77 -> 0 | AO77: =X77+Y77+AA77 -> 0 | AP77: =N77 -> 0 | AQ77: =O77+P77+Q77+R77+S77 -> 0 | AR77: =S77 -> 0 | AS77: =T77+U77+V77 -> 0 | AT77: =X77 -> 0 | AU77: =N77+W77 -> 0 | AV77: =AE77 -> 0 | AW77: =AC77+AD77 -> 0 | AX77: =AH77 -> 0 | AY77: =AF77+AG77 -> 0
A78: 5.5 | B78: ²åñ³Ýù³ÛÇÝ Ýß³ÝÇ í»ñ³µ»ñÛ³É | E78: 8 | G78: 8 | J78: 4 | K78: 4 | N78: 2 | O78: 1 | P78: 1 | X78: 2 | AA78: 10 | AJ78: =E78 -> 8 | AK78: =F78+G78+H78+I78 -> 8 | AL78: =J78 -> 4 | AM78: =K78+L78+M78 -> 4 | AN78: =F78+G78+K78 -> 12 | AO78: =X78+Y78+AA78 -> 12 | AP78: =N78 -> 2 | AQ78: =O78+P78+Q78+R78+S78 -> 2 | AR78: =S78 -> 0 | AS78: =T78+U78+V78 -> 0 | AT78: =X78 -> 2 | AU78: =N78+W78 -> 2 | AV78: =AE78 -> 0 | AW78: =AC78+AD78 -> 0 | AX78: =AH78 -> 0 | AY78: =AF78+AG78 -> 0
A79: 5.6 | B79: ²ÛÉ í»×»ñ | AJ79: =E79 -> 0 | AK79: =F79+G79+H79+I79 -> 0 | AL79: =J79 -> 0 | AM79: =K79+L79+M79 -> 0 | AN79: =F79+G79+K79 -> 0 | AO79: =X79+Y79+AA79 -> 0 | AP79: =N79 -> 0 | AQ79: =O79+P79+Q79+R79+S79 -> 0 | AR79: =S79 -> 0 | AS79: =T79+U79+V79 -> 0 | AT79: =X79 -> 0 | AU79: =N79+W79 -> 0 | AV79: =AE79 -> 0 | AW79: =AC79+AD79 -> 0 | AX79: =AH79 -> 0 | AY79: =AF79+AG79 -> 0
A80: 6. | B80: ²ßË³ï³Ýù³ÛÇÝ Çñ³í³Ñ³ñ³µ»ñáõÃÛáõÝÝ»ñÇ í»ñ³µ»ñÛ³É ¹³ï³Ï³Ý ·áñÍ»ñ | E80: =SUM(E81:E86) -> 97 | F80: =SUM(F81:F86) -> 6 | G80: =SUM(G81:G86) -> 91 | H80: =SUM(H81:H86) -> 0 | I80: =SUM(I81:I86) -> 0 | J80: =SUM(J81:J86) -> 35 | K80: =SUM(K81:K86) -> 35 | L80: =SUM(L81:L86) -> 0 | ... AH80: =SUM(AH81:AH86) -> 0 | AJ80: =SUM(AJ81:AJ86) -> 97 | AK80: =SUM(AK81:AK86) -> 97 | AL80: =SUM(AL81:AL86) -> 35 | AM80: =SUM(AM81:AM86) -> 35 | AN80: =SUM(AN81:AN86) -> 132 | AO80: =SUM(AO81:AO86) -> 131 | AP80: =SUM(AP81:AP86) -> 38 | AQ80: =SUM(AQ81:AQ86) -> 38 | ... AY80: =SUM(AY81:AY86) -> 0
A81: 6.1 | B81: ²ßË³ï³Ýù³ÛÇÝ å³ÛÙ³Ý³·ñ»ñÇ í»ñ³µ»ñÛ³É | E81: 5 | G81: 5 | J81: 4 | K81: 4 | N81: 3 | O81: 1 | S81: 2 | U81: 2 | X81: 3 | AA81: 6 | AB81: 1 | AJ81: =E81 -> 5 | AK81: =F81+G81+H81+I81 -> 5 | AL81: =J81 -> 4 | AM81: =K81+L81+M81 -> 4 | AN81: =F81+G81+K81 -> 9 | AO81: =X81+Y81+AA81 -> 9 | AP81: =N81 -> 3 | AQ81: =O81+P81+Q81+R81+S81 -> 3 | AR81: =S81 -> 2 | AS81: =T81+U81+V81 -> 2 | AT81: =X81 -> 3 | AU81: =N81+W81 -> 3 | AV81: =AE81 -> 0 | AW81: =AC81+AD81 -> 0 | AX81: =AH81 -> 0 | AY81: =AF81+AG81 -> 0
A82: 6.2 | B82: ²ßË³ï³ÝùáõÙ í»ñ³Ï³Ý·Ý»Éáõ í»ñ³µ»ñÛ³É | E82: 39 | F82: 2 | G82: 37 | J82: 11 | K82: 11 | N82: 14 | O82: 1 | P82: 1 | Q82: 7 | S82: 5 | T82: 1 | U82: 2 | V82: 2 | X82: 14 | Y82: 1 | Z82: 15 | AA82: 34 | AB82: 2 | AC82: 7 | AE82: 7 | AJ82: =E82 -> 39 | AK82: =F82+G82+H82+I82 -> 39 | AL82: =J82 -> 11 | AM82: =K82+L82+M82 -> 11 | AN82: =F82+G82+K82 -> 50 | AO82: =X82+Y82+AA82 -> 49 | AP82: =N82 -> 14 | AQ82: =O82+P82+Q82+R82+S82 -> 14 | AR82: =S82 -> 5 | AS82: =T82+U82+V82 -> 5 | AT82: =X82 -> 14 | AU82: =N82+W82 -> 14 | AV82: =AE82 -> 7 | AW82: =AC82+AD82 -> 7 | AX82: =AH82 -> 0 | AY82: =AF82+AG82 -> 0 | AZ82: 1 միացում
A83: 6.3 | B83: ¶áñÍ³¹áõÉÝ ³ÝûñÇÝ³Ï³Ý ×³Ý³ã»Éáõ í»ñ³µ»ñÛ³É | AJ83: =E83 -> 0 | AK83: =F83+G83+H83+I83 -> 0 | AL83: =J83 -> 0 | AM83: =K83+L83+M83 -> 0 | AN83: =F83+G83+K83 -> 0 | AO83: =X83+Y83+AA83 -> 0 | AP83: =N83 -> 0 | AQ83: =O83+P83+Q83+R83+S83 -> 0 | AR83: =S83 -> 0 | AS83: =T83+U83+V83 -> 0 | AT83: =X83 -> 0 | AU83: =N83+W83 -> 0 | AV83: =AE83 -> 0 | AW83: =AC83+AD83 -> 0 | AX83: =AH83 -> 0 | AY83: =AF83+AG83 -> 0
A84: 6.4 | B84: Ð³ñÏ³¹Çñ å³ñ³åáõñ¹Ç Ñ³ïáõóÙ³Ý í»ñ³µ»ñÛ³É | E84: 1 | G84: 1 | AA84: 1 | AJ84: =E84 -> 1 | AK84: =F84+G84+H84+I84 -> 1 | AL84: =J84 -> 0 | AM84: =K84+L84+M84 -> 0 | AN84: =F84+G84+K84 -> 1 | AO84: =X84+Y84+AA84 -> 1 | AP84: =N84 -> 0 | AQ84: =O84+P84+Q84+R84+S84 -> 0 | AR84: =S84 -> 0 | AS84: =T84+U84+V84 -> 0 | AT84: =X84 -> 0 | AU84: =N84+W84 -> 0 | AV84: =AE84 -> 0 | AW84: =AC84+AD84 -> 0 | AX84: =AH84 -> 0 | AY84: =AF84+AG84 -> 0
A85: 6.5 | B85: âí×³ñí³Í ³ßË³ï³í³ñÓÇ ¨/Ï³Ù ³ÛÉ í×³ñÝ»ñÇ µéÝ³·³ÝÓÙ³Ý í»ñ³µ»ñÛ³É | E85: 39 | F85: 4 | G85: 35 | J85: 16 | K85: 16 | N85: 16 | O85: 5 | P85: 2 | Q85: 3 | S85: 6 | T85: 1 | U85: 3 | V85: 2 | X85: 16 | AA85: 39 | AB85: 5 | AC85: 3 | AE85: 3 | AJ85: =E85 -> 39 | AK85: =F85+G85+H85+I85 -> 39 | AL85: =J85 -> 16 | AM85: =K85+L85+M85 -> 16 | AN85: =F85+G85+K85 -> 55 | AO85: =X85+Y85+AA85 -> 55 | AP85: =N85 -> 16 | AQ85: =O85+P85+Q85+R85+S85 -> 16 | AR85: =S85 -> 6 | AS85: =T85+U85+V85 -> 6 | AT85: =X85 -> 16 | AU85: =N85+W85 -> 16 | AV85: =AE85 -> 3 | AW85: =AC85+AD85 -> 3 | AX85: =AH85 -> 0 | AY85: =AF85+AG85 -> 0
A86: 6.6 | B86: ²ÛÉ í»×»ñ | E86: 13 | G86: 13 | J86: 4 | K86: 4 | N86: 5 | O86: 1 | Q86: 1 | S86: 3 | T86: 1 | U86: 1 | V86: 1 | X86: 5 | AA86: 12 | AJ86: =E86 -> 13 | AK86: =F86+G86+H86+I86 -> 13 | AL86: =J86 -> 4 | AM86: =K86+L86+M86 -> 4 | AN86: =F86+G86+K86 -> 17 | AO86: =X86+Y86+AA86 -> 17 | AP86: =N86 -> 5 | AQ86: =O86+P86+Q86+R86+S86 -> 5 | AR86: =S86 -> 3 | AS86: =T86+U86+V86 -> 3 | AT86: =X86 -> 5 | AU86: =N86+W86 -> 5 | AV86: =AE86 -> 0 | AW86: =AC86+AD86 -> 0 | AX86: =AH86 -> 0 | AY86: =AF86+AG86 -> 0
A87: 7. | B87: Æñ³í³µ³Ý³Ï³Ý ³ÝÓÇ ·áñÍáõÝ»áõÃÛáõÝÇó µËáÕ Çñ³í³Ñ³ñ³µ»ñáõÃÛáõÝÝ»ñÇ í»ñ³µ»ñÛ³É ¹³ï³Ï³Ý ·áñÍ»ñ | E87: =SUM(E88:E89) -> 0 | F87: =SUM(F88:F89) -> 0 | G87: =SUM(G88:G89) -> 0 | H87: =SUM(H88:H89) -> 0 | I87: =SUM(I88:I89) -> 0 | J87: =SUM(J88:J89) -> 0 | K87: =SUM(K88:K89) -> 0 | L87: =SUM(L88:L89) -> 0 | ... AH87: =SUM(AH88:AH89) -> 0 | AI87: =AI88+AI89 -> 0 | AJ87: =SUM(AJ88:AJ89) -> 0 | AK87: =SUM(AK88:AK89) -> 0 | AL87: =SUM(AL88:AL89) -> 0 | AM87: =SUM(AM88:AM89) -> 0 | AN87: =SUM(AN88:AN89) -> 0 | AO87: =SUM(AO88:AO89) -> 0 | AP87: =SUM(AP88:AP89) -> 0 | AQ87: =SUM(AQ88:AQ89) -> 0 | ... AY87: =SUM(AY88:AY89) -> 0
A88: 7.1 | B88: Îáñåáñ³ïÇí í»×»ñ | AJ88: =E88 -> 0 | AK88: =F88+G88+H88+I88 -> 0 | AL88: =J88 -> 0 | AM88: =K88+L88+M88 -> 0 | AN88: =F88+G88+K88 -> 0 | AO88: =X88+Y88+AA88 -> 0 | AP88: =N88 -> 0 | AQ88: =O88+P88+Q88+R88+S88 -> 0 | AR88: =S88 -> 0 | AS88: =T88+U88+V88 -> 0 | AT88: =X88 -> 0 | AU88: =N88+W88 -> 0 | AV88: =AE88 -> 0 | AW88: =AC88+AD88 -> 0 | AX88: =AH88 -> 0 | AY88: =AF88+AG88 -> 0
A89: 7.2 | B89: ²ÛÉ í»×»ñ | AJ89: =E89 -> 0 | AK89: =F89+G89+H89+I89 -> 0 | AL89: =J89 -> 0 | AM89: =K89+L89+M89 -> 0 | AN89: =F89+G89+K89 -> 0 | AO89: =X89+Y89+AA89 -> 0 | AP89: =N89 -> 0 | AQ89: =O89+P89+Q89+R89+S89 -> 0 | AR89: =S89 -> 0 | AS89: =T89+U89+V89 -> 0 | AT89: =X89 -> 0 | AU89: =N89+W89 -> 0 | AV89: =AE89 -> 0 | AW89: =AC89+AD89 -> 0 | AX89: =AH89 -> 0 | AY89: =AF89+AG89 -> 0
A90: 8. | B90: Ð³ïáõÏ í³ñáõÛÃÇ ¹³ï³Ï³Ý ·áñÍ»ñ | E90: =SUM(E91:E111) -> 100 | F90: =SUM(F91:F111) -> 11 | G90: =SUM(G91:G111) -> 89 | H90: =SUM(H91:H111) -> 0 | I90: =SUM(I91:I111) -> 0 | J90: =SUM(J91:J111) -> 51 | K90: =SUM(K91:K111) -> 43 | L90: =SUM(L91:L111) -> 8 | ... AH90: =SUM(AH91:AH111) -> 0 | AJ90: =SUM(AJ91:AJ111) -> 100 | AK90: =SUM(AK91:AK111) -> 100 | AL90: =SUM(AL91:AL111) -> 51 | AM90: =SUM(AM91:AM111) -> 51 | AN90: =SUM(AN91:AN111) -> 143 | AO90: =SUM(AO91:AO111) -> 143 | AP90: =SUM(AP91:AP111) -> 58 | AQ90: =SUM(AQ91:AQ111) -> 58 | ... AY90: =SUM(AY91:AY111) -> 0
A91: 8.1 | B91: ²Ýã³÷³Ñ³ëÇÝ ÉñÇí ·áñÍáõÝ³Ï ×³Ý³ã»Éáõ /¿Ù³ÝëÇå³óÇ³/ í»ñ³µ»ñÛ³É | AJ91: =E91 -> 0 | AK91: =F91+G91+H91+I91 -> 0 | AL91: =J91 -> 0 | AM91: =K91+L91+M91 -> 0 | AN91: =F91+G91+K91 -> 0 | AO91: =X91+Y91+AA91 -> 0 | AP91: =N91 -> 0 | AQ91: =O91+P91+Q91+R91+S91 -> 0 | AR91: =S91 -> 0 | AS91: =T91+U91+V91 -> 0 | AT91: =X91 -> 0 | AU91: =N91+W91 -> 0 | AV91: =AE91 -> 0 | AW91: =AC91+AD91 -> 0 | AX91: =AH91 -> 0 | AY91: =AF91+AG91 -> 0
A92: 8.2 | B92: ø³Õ³ù³óáõÝ ³Ý·áñÍáõÝ³Ï Ï³Ù ë³ÑÙ³Ý³÷³Ï ·áñÍáõÝ³Ï ×³Ý³ã»Éáõ í»ñ³µ»ñÛ³É | E92: 22 | F92: 7 | G92: 15 | J92: 7 | K92: 7 | N92: 9 | O92: 4 | P92: 1 | Q92: 1 | S92: 3 | U92: 3 | X92: 9 | AA92: 20 | AB92: 8 | AJ92: =E92 -> 22 | AK92: =F92+G92+H92+I92 -> 22 | AL92: =J92 -> 7 | AM92: =K92+L92+M92 -> 7 | AN92: =F92+G92+K92 -> 29 | AO92: =X92+Y92+AA92 -> 29 | AP92: =N92 -> 9 | AQ92: =O92+P92+Q92+R92+S92 -> 9 | AR92: =S92 -> 3 | AS92: =T92+U92+V92 -> 3 | AT92: =X92 -> 9 | AU92: =N92+W92 -> 9 | AV92: =AE92 -> 0 | AW92: =AC92+AD92 -> 0 | AX92: =AH92 -> 0 | AY92: =AF92+AG92 -> 0
A93: 8.3 | B93: ø³Õ³ù³óáõÝ Ñá·»µáõÅ³Ï³Ý ÑÇí³Ý¹³Ýáó³ÛÇÝ Ñ³ñÏ³¹Çñ µáõÅÙ³Ý »ÝÃ³ñÏ»Éáõ í»ñ³µ»ñÛ³É | J93: 5 | K93: 4 | L93: 1 | N93: 3 | O93: 3 | X93: 3 | AA93: 1 | AJ93: =E93 -> 0 | AK93: =F93+G93+H93+I93 -> 0 | AL93: =J93 -> 5 | AM93: =K93+L93+M93 -> 5 | AN93: =F93+G93+K93 -> 4 | AO93: =X93+Y93+AA93 -> 4 | AP93: =N93 -> 3 | AQ93: =O93+P93+Q93+R93+S93 -> 3 | AR93: =S93 -> 0 | AS93: =T93+U93+V93 -> 0 | AT93: =X93 -> 3 | AU93: =N93+W93 -> 3 | AV93: =AE93 -> 0 | AW93: =AC93+AD93 -> 0 | AX93: =AH93 -> 0 | AY93: =AF93+AG93 -> 0
A94: 8.4 | B94: ø³Õ³ù³óáõÝ ³ÝÑ³Ûï µ³ó³Ï³ÛáÕ Ï³Ù Ù³Ñ³ó³Í ×³Ý³ã»Éáõ í»ñ³µ»ñÛ³É | E94: 11 | F94: 1 | G94: 10 | J94: 7 | K94: 7 | N94: 10 | O94: 7 | P94: 1 | Q94: 1 | S94: 1 | U94: 1 | X94: 10 | AA94: 8 | AB94: 1 | AJ94: =E94 -> 11 | AK94: =F94+G94+H94+I94 -> 11 | AL94: =J94 -> 7 | AM94: =K94+L94+M94 -> 7 | AN94: =F94+G94+K94 -> 18 | AO94: =X94+Y94+AA94 -> 18 | AP94: =N94 -> 10 | AQ94: =O94+P94+Q94+R94+S94 -> 10 | AR94: =S94 -> 1 | AS94: =T94+U94+V94 -> 1 | AT94: =X94 -> 10 | AU94: =N94+W94 -> 10 | AV94: =AE94 -> 0 | AW94: =AC94+AD94 -> 0 | AX94: =AH94 -> 0 | AY94: =AF94+AG94 -> 0
A95: 8.5 | B95: ø³Õ³ù³óÇ³Ï³Ý Ï³óáõÃÛ³Ý ³Ïï»ñÇ ·ñ³éáõÙÝ»ñÇ ³Ý×ßïáõÃÛáõÝÝ»ñÁ å³ñ½»Éáõ í»ñ³µ»ñÛ³É | AJ95: =E95 -> 0 | AK95: =F95+G95+H95+I95 -> 0 | AL95: =J95 -> 0 | AM95: =K95+L95+M95 -> 0 | AN95: =F95+G95+K95 -> 0 | AO95: =X95+Y95+AA95 -> 0 | AP95: =N95 -> 0 | AQ95: =O95+P95+Q95+R95+S95 -> 0 | AR95: =S95 -> 0 | AS95: =T95+U95+V95 -> 0 | AT95: =X95 -> 0 | AU95: =N95+W95 -> 0 | AV95: =AE95 -> 0 | AW95: =AC95+AD95 -> 0 | AX95: =AH95 -> 0 | AY95: =AF95+AG95 -> 0
A96: 8.6 | B96: ¶áõÛùÁ ïÇñ³½áõñÏ ×³Ý³ã»Éáõ í»ñ³µ»ñÛ³É | E96: 6 | F96: 1 | G96: 5 | N96: 4 | O96: 1 | Q96: 2 | S96: 1 | U96: 1 | X96: 4 | AA96: 2 | AB96: 1 | AJ96: =E96 -> 6 | AK96: =F96+G96+H96+I96 -> 6 | AL96: =J96 -> 0 | AM96: =K96+L96+M96 -> 0 | AN96: =F96+G96+K96 -> 6 | AO96: =X96+Y96+AA96 -> 6 | AP96: =N96 -> 4 | AQ96: =O96+P96+Q96+R96+S96 -> 4 | AR96: =S96 -> 1 | AS96: =T96+U96+V96 -> 1 | AT96: =X96 -> 4 | AU96: =N96+W96 -> 4 | AV96: =AE96 -> 0 | AW96: =AC96+AD96 -> 0 | AX96: =AH96 -> 0 | AY96: =AF96+AG96 -> 0
A97: 8.6.1 | B97: ²Û¹ ÃíáõÙª ³Ýß³ñÅ ·áõÛùÁ | E97: 2 | G97: 2 | J97: 4 | K97: 3 | L97: 1 | AA97: 5 | AJ97: =E97 -> 2 | AK97: =F97+G97+H97+I97 -> 2 | AL97: =J97 -> 4 | AM97: =K97+L97+M97 -> 4 | AN97: =F97+G97+K97 -> 5 | AO97: =X97+Y97+AA97 -> 5 | AP97: =N97 -> 0 | AQ97: =O97+P97+Q97+R97+S97 -> 0 | AR97: =S97 -> 0 | AS97: =T97+U97+V97 -> 0 | AT97: =X97 -> 0 | AU97: =N97+W97 -> 0 | AV97: =AE97 -> 0 | AW97: =AC97+AD97 -> 0 | AX97: =AH97 -> 0 | AY97: =AF97+AG97 -> 0
A98: 8.6.2 | B98: ²Û¹ ÃíáõÙª ß³ñÅ³Ï³Ý ·áõÛùÁ | E98: 10 | G98: 10 | J98: 2 | K98: 2 | N98: 2 | O98: 2 | X98: 2 | AA98: 10 | AJ98: =E98 -> 10 | AK98: =F98+G98+H98+I98 -> 10 | AL98: =J98 -> 2 | AM98: =K98+L98+M98 -> 2 | AN98: =F98+G98+K98 -> 12 | AO98: =X98+Y98+AA98 -> 12 | AP98: =N98 -> 2 | AQ98: =O98+P98+Q98+R98+S98 -> 2 | AR98: =S98 -> 0 | AS98: =T98+U98+V98 -> 0 | AT98: =X98 -> 2 | AU98: =N98+W98 -> 2 | AV98: =AE98 -> 0 | AW98: =AC98+AD98 -> 0 | AX98: =AH98 -> 0 | AY98: =AF98+AG98 -> 0
A99: 8.7 | B99: Æñ³í³µ³Ý³Ï³Ý Ýß³Ý³ÏáõÃÛáõÝ áõÝ»óáÕ ÷³ëï»ñÇ Ñ³ëï³ïÙ³Ý í»ñ³µ»ñÛ³É | E99: 19 | F99: 1 | G99: 18 | J99: 4 | K99: 3 | L99: 1 | N99: 13 | O99: 7 | P99: 1 | Q99: 2 | S99: 3 | U99: 2 | V99: 1 | X99: 13 | AA99: 9 | AB99: 1 | AC99: 2 | AE99: 2 | AJ99: =E99 -> 19 | AK99: =F99+G99+H99+I99 -> 19 | AL99: =J99 -> 4 | AM99: =K99+L99+M99 -> 4 | AN99: =F99+G99+K99 -> 22 | AO99: =X99+Y99+AA99 -> 22 | AP99: =N99 -> 13 | AQ99: =O99+P99+Q99+R99+S99 -> 13 | AR99: =S99 -> 3 | AS99: =T99+U99+V99 -> 3 | AT99: =X99 -> 13 | AU99: =N99+W99 -> 13 | AV99: =AE99 -> 2 | AW99: =AC99+AD99 -> 2 | AX99: =AH99 -> 0 | AY99: =AF99+AG99 -> 0
A100: 8.7.1 | B100: ²ÝÓ³Ýó ³½·³Ïó³Ï³Ý Ï³åÁ Ñ³ëï³ï»Éáõ í»ñ³µ»ñÛ³É | E100: 7 | G100: 7 | J100: 1 | K100: 1 | N100: 5 | O100: 3 | S100: 2 | U100: 2 | X100: 5 | AA100: 3 | AJ100: =E100 -> 7 | AK100: =F100+G100+H100+I100 -> 7 | AL100: =J100 -> 1 | AM100: =K100+L100+M100 -> 1 | AN100: =F100+G100+K100 -> 8 | AO100: =X100+Y100+AA100 -> 8 | AP100: =N100 -> 5 | AQ100: =O100+P100+Q100+R100+S100 -> 5 | AR100: =S100 -> 2 | AS100: =T100+U100+V100 -> 2 | AT100: =X100 -> 5 | AU100: =N100+W100 -> 5 | AV100: =AE100 -> 0 | AW100: =AC100+AD100 -> 0 | AX100: =AH100 -> 0 | AY100: =AF100+AG100 -> 0
A101: 8.7.2 | B101: ²ÝÓÇª áõñÇßÇ ËÝ³ÙùÇ ï³Ï ·ïÝí»Éáõ í»ñ³µ»ñÛ³É | AJ101: =E101 -> 0 | AK101: =F101+G101+H101+I101 -> 0 | AL101: =J101 -> 0 | AM101: =K101+L101+M101 -> 0 | AN101: =F101+G101+K101 -> 0 | AO101: =X101+Y101+AA101 -> 0 | AP101: =N101 -> 0 | AQ101: =O101+P101+Q101+R101+S101 -> 0 | AR101: =S101 -> 0 | AS101: =T101+U101+V101 -> 0 | AT101: =X101 -> 0 | AU101: =N101+W101 -> 0 | AV101: =AE101 -> 0 | AW101: =AC101+AD101 -> 0 | AX101: =AH101 -> 0 | AY101: =AF101+AG101 -> 0
A102: 8.7.3 | B102: ÌÝÝ¹Û³Ý, áñ¹»·ñÙ³Ý, ³ÙáõëÝáõÃÛ³Ý, ³å³Ñ³ñ½³ÝÇ ¨ Ù³Ñí³Ý ·ñ³ÝóÙ³Ý í»ñ³µ»ñÛ³É | E102: 3 | G102: 3 | J102: 1 | L102: 1 | N102: 1 | S102: 1 | U102: 1 | X102: 1 | AA102: 2 | AJ102: =E102 -> 3 | AK102: =F102+G102+H102+I102 -> 3 | AL102: =J102 -> 1 | AM102: =K102+L102+M102 -> 1 | AN102: =F102+G102+K102 -> 3 | AO102: =X102+Y102+AA102 -> 3 | AP102: =N102 -> 1 | AQ102: =O102+P102+Q102+R102+S102 -> 1 | AR102: =S102 -> 1 | AS102: =T102+U102+V102 -> 1 | AT102: =X102 -> 1 | AU102: =N102+W102 -> 1 | AV102: =AE102 -> 0 | AW102: =AC102+AD102 -> 0 | AX102: =AH102 -> 0 | AY102: =AF102+AG102 -> 0
A103: 8.7.4 | B103: ²ÝÓÇª áñáß³ÏÇ Å³Ù³Ý³ÏáõÙ ¨ áñáß³ÏÇ Ñ³Ý·³Ù³ÝùÝ»ñáõÙ Ù³Ñí³Ý í»ñ³µ»ñÛ³É | AJ103: =E103 -> 0 | AK103: =F103+G103+H103+I103 -> 0 | AL103: =J103 -> 0 | AM103: =K103+L103+M103 -> 0 | AN103: =F103+G103+K103 -> 0 | AO103: =X103+Y103+AA103 -> 0 | AP103: =N103 -> 0 | AQ103: =O103+P103+Q103+R103+S103 -> 0 | AR103: =S103 -> 0 | AS103: =T103+U103+V103 -> 0 | AT103: =X103 -> 0 | AU103: =N103+W103 -> 0 | AV103: =AE103 -> 0 | AW103: =AC103+AD103 -> 0 | AX103: =AH103 -> 0 | AY103: =AF103+AG103 -> 0
A104: 8.7.5 | B104: Ä³é³Ý·áõÃÛáõÝÝ ÁÝ¹áõÝ»Éáõ ¨ Å³é³Ý·áõÃÛ³Ý µ³óÙ³Ý í³ÛñÇ í»ñ³µ»ñÛ³É | E104: 4 | G104: 4 | J104: 6 | K104: 3 | L104: 3 | N104: 3 | O104: 2 | Q104: 1 | X104: 3 | AA104: 4 | AC104: 1 | AE104: 1 | AJ104: =E104 -> 4 | AK104: =F104+G104+H104+I104 -> 4 | AL104: =J104 -> 6 | AM104: =K104+L104+M104 -> 6 | AN104: =F104+G104+K104 -> 7 | AO104: =X104+Y104+AA104 -> 7 | AP104: =N104 -> 3 | AQ104: =O104+P104+Q104+R104+S104 -> 3 | AR104: =S104 -> 0 | AS104: =T104+U104+V104 -> 0 | AT104: =X104 -> 3 | AU104: =N104+W104 -> 3 | AV104: =AE104 -> 1 | AW104: =AC104+AD104 -> 1 | AX104: =AH104 -> 0 | AY104: =AF104+AG104 -> 0
A105: 8.7.6 | B105: ¸Åµ³Ëï å³ï³Ñ³ñÇ í»ñ³µ»ñÛ³É | AJ105: =E105 -> 0 | AK105: =F105+G105+H105+I105 -> 0 | AL105: =J105 -> 0 | AM105: =K105+L105+M105 -> 0 | AN105: =F105+G105+K105 -> 0 | AO105: =X105+Y105+AA105 -> 0 | AP105: =N105 -> 0 | AQ105: =O105+P105+Q105+R105+S105 -> 0 | AR105: =S105 -> 0 | AS105: =T105+U105+V105 -> 0 | AT105: =X105 -> 0 | AU105: =N105+W105 -> 0 | AV105: =AE105 -> 0 | AW105: =AC105+AD105 -> 0 | AX105: =AH105 -> 0 | AY105: =AF105+AG105 -> 0
A106: 8.7.7 | B106: Æñ³íáõÝù ë³ÑÙ³ÝáÕ ÷³ëï³ÃÕÃ»ñÇ å³ïÏ³Ý»ÉáõÃÛ³Ý í»ñ³µ»ñÛ³É | E106: 4 | G106: 4 | J106: 9 | K106: 8 | L106: 1 | N106: 4 | O106: 2 | P106: 1 | Q106: 1 | X106: 4 | AA106: 8 | AC106: 1 | AE106: 1 | AJ106: =E106 -> 4 | AK106: =F106+G106+H106+I106 -> 4 | AL106: =J106 -> 9 | AM106: =K106+L106+M106 -> 9 | AN106: =F106+G106+K106 -> 12 | AO106: =X106+Y106+AA106 -> 12 | AP106: =N106 -> 4 | AQ106: =O106+P106+Q106+R106+S106 -> 4 | AR106: =S106 -> 0 | AS106: =T106+U106+V106 -> 0 | AT106: =X106 -> 4 | AU106: =N106+W106 -> 4 | AV106: =AE106 -> 1 | AW106: =AC106+AD106 -> 1 | AX106: =AH106 -> 0 | AY106: =AF106+AG106 -> 0
A107: 8.7.8 | B107: ê»÷³Ï³ÝáõÃÛ³Ý Çñ³íáõÝùáí ·áõÛùÇ ïÇñ³å»ïÙ³Ý í»ñ³µ»ñÛ³É | E107: 5 | G107: 5 | J107: 1 | K107: 1 | N107: 2 | O107: 2 | X107: 2 | AA107: 4 | AJ107: =E107 -> 5 | AK107: =F107+G107+H107+I107 -> 5 | AL107: =J107 -> 1 | AM107: =K107+L107+M107 -> 1 | AN107: =F107+G107+K107 -> 6 | AO107: =X107+Y107+AA107 -> 6 | AP107: =N107 -> 2 | AQ107: =O107+P107+Q107+R107+S107 -> 2 | AR107: =S107 -> 0 | AS107: =T107+U107+V107 -> 0 | AT107: =X107 -> 2 | AU107: =N107+W107 -> 2 | AV107: =AE107 -> 0 | AW107: =AC107+AD107 -> 0 | AX107: =AH107 -> 0 | AY107: =AF107+AG107 -> 0
A108: 8.7.9 | B108: ²ÝÑ³ÕÃ³Ñ³ñ»ÉÇ áõÅÇ ³éÏ³ÛáõÃÛ³Ý í»ñ³µ»ñÛ³É | AJ108: =E108 -> 0 | AK108: =F108+G108+H108+I108 -> 0 | AL108: =J108 -> 0 | AM108: =K108+L108+M108 -> 0 | AN108: =F108+G108+K108 -> 0 | AO108: =X108+Y108+AA108 -> 0 | AP108: =N108 -> 0 | AQ108: =O108+P108+Q108+R108+S108 -> 0 | AR108: =S108 -> 0 | AS108: =T108+U108+V108 -> 0 | AT108: =X108 -> 0 | AU108: =N108+W108 -> 0 | AV108: =AE108 -> 0 | AW108: =AC108+AD108 -> 0 | AX108: =AH108 -> 0 | AY108: =AF108+AG108 -> 0
A109: 8.7.10 | B109: úñ»Ýùáí Ý³Ë³ï»ëí³Í ³ÛÉ Çñ³í³µ³Ý³Ï³Ý ÷³ëï»ñÇ í»ñ³µ»ñÛ³É | AJ109: =E109 -> 0 | AK109: =F109+G109+H109+I109 -> 0 | AL109: =J109 -> 0 | AM109: =K109+L109+M109 -> 0 | AN109: =F109+G109+K109 -> 0 | AO109: =X109+Y109+AA109 -> 0 | AP109: =N109 -> 0 | AQ109: =O109+P109+Q109+R109+S109 -> 0 | AR109: =S109 -> 0 | AS109: =T109+U109+V109 -> 0 | AT109: =X109 -> 0 | AU109: =N109+W109 -> 0 | AV109: =AE109 -> 0 | AW109: =AC109+AD109 -> 0 | AX109: =AH109 -> 0 | AY109: =AF109+AG109 -> 0
A110: 8.8 | B110: Àëï Ý»ñÏ³Û³óÝáÕÇ ¨ ûñ¹»ñ³ÛÇÝ Ïáñóñ³Í ³ñÅ»ÃÕÃ»ñáí Ñ³í³ëïí³Í Çñ³íáõÝùÝ»ñÁ í»ñ³Ï³Ý·Ý»Éáõ í»ñ³µ»ñÛ³É | AJ110: =E110 -> 0 | AK110: =F110+G110+H110+I110 -> 0 | AL110: =J110 -> 0 | AM110: =K110+L110+M110 -> 0 | AN110: =F110+G110+K110 -> 0 | AO110: =X110+Y110+AA110 -> 0 | AP110: =N110 -> 0 | AQ110: =O110+P110+Q110+R110+S110 -> 0 | AR110: =S110 -> 0 | AS110: =T110+U110+V110 -> 0 | AT110: =X110 -> 0 | AU110: =N110+W110 -> 0 | AV110: =AE110 -> 0 | AW110: =AC110+AD110 -> 0 | AX110: =AH110 -> 0 | AY110: =AF110+AG110 -> 0
A111: 8.10 | B111: ²ÛÉ í»×»ñ | E111: 7 | F111: 1 | G111: 6 | J111: 4 | K111: 4 | N111: 2 | Q111: 1 | S111: 1 | V111: 1 | X111: 2 | AA111: 9 | AB111: 1 | AC111: 1 | AE111: 1 | AJ111: =E111 -> 7 | AK111: =F111+G111+H111+I111 -> 7 | AL111: =J111 -> 4 | AM111: =K111+L111+M111 -> 4 | AN111: =F111+G111+K111 -> 11 | AO111: =X111+Y111+AA111 -> 11 | AP111: =N111 -> 2 | AQ111: =O111+P111+Q111+R111+S111 -> 2 | AR111: =S111 -> 1 | AS111: =T111+U111+V111 -> 1 | AT111: =X111 -> 2 | AU111: =N111+W111 -> 2 | AV111: =AE111 -> 1 | AW111: =AC111+AD111 -> 1 | AX111: =AH111 -> 0 | AY111: =AF111+AG111 -> 0
...

Sheet Մալաթիա
A1: 2017Ã. 1-ին ÏÇë³ÙÛ³Ï | E1: Ð²ÞìºîìàôÂÚàôÜ | AC1: Ð³í»Éí³Í Ð³Û³ëï³ÝÇ Ð³Ýñ³å»ïáõÃÛ³Ý ¸³ï³ñ³ÝÝ»ñÇ Ý³Ë³·³ÑÝ»ñÇ ËáñÑñ¹Ç 25.08.2017Ã. ÃÇí 35-È áñáßÙ³Ý
A2: ºðºì²Ü ø²Ô²øÆ Ø²È²ÂÆ²-êº´²êîÆ² ì²ðâ²Î²Ü Þðæ²ÜÆ ÀÜ¸Ð²Üàôð Æð²ì²êàôÂÚ²Ü ²è²æÆÜ ²îÚ²ÜÆ ¸²î²ð²ÜàôØ ø²Ô²ø²òÆ²Î²Ü ¶àðÌºðÆ øÜÜàôÂÚ²Ü ìºð²´ºðÚ²È
A3: ºñ¨³Ý ù³Õ³ùÇ Ø³É³ÃÇ³-ê»µ³ëïÇ³ í³ñã³Ï³Ý ßñç³ÝÇ ÁÝ¹Ñ³Ýáõñ Çñ³í³ëáõÃÛ³Ý ³é³çÇÝ ³ïÛ³ÝÇ ¹³ï³ñ³ÝáõÙ ù³Õ³ù³óÇ³Ï³Ý Ù³ëÝ³·Çï³óáõÙ áõÝ»óáÕ ¹³ï³íáñÝ»ñÇ Ñ³ëïÇùÝ»ñÇ ù³Ý³ÏÁ` 5
E4: Ð³ßí»ïáõ Å³Ù³Ý³Ï³Ñ³ïí³ÍáõÙ Ý³Ëáñ¹ Ñ³ßí»ïáõ Å³Ù³Ý³Ï³Ñ³ïí³ÍÇó ÷áË³Ýóí³Í ·áñÍ»ñÇ ÁÝ¹Ñ³Ýáõñ ÃÇíÁ | J4: Ð³ßí»ïáõ Å³Ù³Ý³Ï³Ñ³ïí³ÍáõÙëï³óí³Í ·áñÍ»ñÇ (³Û¹ ÃíáõÙ` Ñ³Ûó³¹ÇÙáõÙÝ»ñÇ, ¹ÇÙáõÙÝ»ñÇ) ÁÝ¹Ñ³Ýáõñ ÃÇíÁ | N4: Ð³ßí»ïáõ Å³Ù³Ý³Ï³Ñ³ïí³ÍáõÙ ³í³ñïí³Í ·áñÍ»ñÇ ÁÝ¹Ñ³Ýáõñ ÃÇíÁ | Y4: ¶áñÍÝ áõÕ³ñÏí»É ¿ Áëï ÁÝ¹¹³ïáõÃÛ³Ý | Z4: Ð³ßí»ïáõ Å³Ù³Ý³Ï³Ñ³ïí³ÍáõÙ Ï³ë»óí³Í í³ñáõÛÃÝ»ñáí ·áñÍ»ñÇ ÁÝ¹Ñ³Ýáõñ ÃÇíÁ | AA4: Ð³ßí»ïáõ Å³Ù³Ý³Ï³Ñ³ïí³ÍáõÙ ³Ý³í³ñï ·áñÍ»ñÇ ÁÝ¹Ñ³Ýáõñ ÃÇíÁ | AB4: ²Û¹ ÃíáõÙª Ï³ë»óí³Í | AC4: ´áÕáù³ñÏí³Í ¹³ï³Ï³Ý ³Ïï»ñÇ ÃÇíÁ` Áëï ï»ë³ÏÝ»ñÇ | AF4: ´»Ï³Ýí³Í ¹³ï³Ï³Ý ³Ïï»ñÇ ÃÇíÁ` Áëï ï»ë³ÏÝ»ñÇ
E7: ÀÝ¹³Ù»ÝÁ | F7: ²Û¹ ÃíáõÙ`Ï³ë»óí³Í íÇ×³ÏáõÙ ÷áË³Ýóí³Í | G7: ²Û¹ ÃíáõÙª ÁÝ¹áõÝí»É ¿ í³ñáõÛÃ | H7: ²Û¹ ÃíáõÙª í»ñ³¹³ñÓí»É ¿ | I7: ²Û¹ ÃíáõÙª ÁÝ¹áõÝáõÙÁ Ù»ñÅí»É ¿ | J7: ÀÝ¹³Ù»ÝÁ | K7: ²Û¹ ÃíáõÙª ÁÝ¹áõÝí»É ¿ í³ñáõÛÃ | L7: ²Û¹ ÃíáõÙª í»ñ³¹³ñÓí»É ¿ | M7: ²Û¹ ÃíáõÙª ÁÝ¹áõÝáõÙÁ Ù»ñÅí»É ¿ | N7: ÀÝ¹³Ù»ÝÁ ³í³ñïí»É »Ý ·áñÍ»ñ ·áñÍÝ Áëï ¿áõÃÛ³Ý ÉáõÍáÕ ¹³ï³Ï³Ý ³Ïï»ñÇ (í×ÇéÝ»ñÇ) Ï³Û³óÙ³Ùµ | O7: ²Û¹ ÃíáõÙª Ñ³ÛóÇ µ³í³ñ³ñÙ³Ùµ | P7: ²Û¹ ÃíáõÙª Ñ³ÛóÇ Ù³ëÝ³ÏÇ µ³í³ñ³ñÙ³Ùµ | Q7: ²Û¹ ÃíáõÙª Ñ³ÛóÇ Ù»ñÅÙ³Ùµ | R7: Ø³ëáí Ï³ñ×í»É ¿, Ù³ëáí Ù»ñÅí»É | S7: ²Û¹ ÃíáõÙª Ï³ñ×í»É »Ý | W7: Ð³ÛóÁ ÃáÕÝí»É ¿ ³é³Ýó ùÝÝáõÃÛ³Ý | X7: ÀÝ¹³Ù»ÝÝ ³í³ñïí»É »Ý ·áñÍ»ñ | AC7: ²Û¹ ÃíáõÙ` ·áñÍÝ Áëï ¿áõÃÛ³Ý ÉáõÍáÕ ¹³ï³Ï³Ý ³Ïï»ñ | AD7: ²Û¹ ÃíáõÙ` ÙÇç³ÝÏÛ³É ¹³ï³Ï³Ý ³Ïï»ñ | AE7: ÀÝ¹³Ù»ÝÁ | AF7: ²Û¹ ÃíáõÙ` ·áñÍÝ Áëï ¿áõÃÛ³Ý ÉáõÍáÕ ¹³ï³Ï³Ý ³Ïï»ñ | AG7: ²Û¹ ÃíáõÙ` ÙÇç³ÝÏÛ³É ¹³ï³Ï³Ý ³Ïï»ñ | AH7: ÀÝ¹³Ù»ÝÁ
S10: ÀÝ¹³Ù»ÝÁ Ï³ñ×í»É »Ý | T10: ²Û¹ ÃíáõÙª Ñ³ëï³ïí»É ¿ ÏÝùí³Í Ñ³ßïáõÃÛ³Ý Ñ³Ù³Ó³ÛÝáõÃÛáõÝÁ | U10: ²Û¹ ÃíáõÙª Ñ³óÇó, ¹ÇÙáõÙÇó Ññ³Å³ñí»Éáõ ÑÇÙùáí | V10: ²Û¹ ÃíáõÙª ³ÛÉ ÑÇÙùáí
A18: ø³Õ³ù³óÇ³Ï³Ý ·áñÍ»ñÇ ¹³ë³Ï³ñ·áõÙÁ | E18: 1 | F18: 2 | G18: 3 | H18: 4 | I18: 5 | J18: 6 | K18: 7 | L18: 8 | M18: 9 | N18: 10 | O18: 11 | P18: 12 | Q18: 13 | R18: 14 | S18: 15 | T18: 16 | U18: 17 | V18: 18 | W18: 19 | X18: 20 | Y18: 21 | Z18: 22 | AA18: 23 | AB18: 24 | AC18: 25 | AD18: 26 | AE18: 27 | AF18: 28 | AG18: 29 | AH18: 30 | AJ18: 1=2+3+4+5 | AL18: 6=7+8+9 | AN18: 2+3+7=20+21+23 | AP18: 10=11+12+13+14+15 | AR18: 15=16+17+18 | AT18: 20=10+19 | AV18: 27=25+26 | AX18: 30=28+29
A19: 1. | B19: ¶áõÛù³ÛÇÝ Çñ³í³Ñ³ñ³µ»ñáõÃÛáõÝÝ»ñÇ í»ñ³µ»ñÛ³É ¹³ï³Ï³Ý ·áñÍ»ñ | E19: =SUM(E20:E38) -> 161 | F19: =SUM(F20:F38) -> 87 | G19: =SUM(G20:G38) -> 74 | H19: =SUM(H20:H38) -> 0 | I19: =SUM(I20:I38) -> 0 | J19: =SUM(J20:J38) -> 110 | K19: =SUM(K20:K38) -> 81 | L19: =SUM(L20:L38) -> 26 | ... AH19: =SUM(AH20:AH38) -> 0 | AJ19: =SUM(AJ20:AJ38) -> 161 | AK19: =SUM(AK20:AK38) -> 161 | AL19: =SUM(AL20:AL38) -> 110 | AM19: =SUM(AM20:AM38) -> 110 | AN19: =SUM(AN20:AN38) -> 242 | AO19: =SUM(AO20:AO38) -> 242 | AP19: =SUM(AP20:AP38) -> 61 | AQ19: =SUM(AQ20:AQ38) -> 61 | ... AY19: =SUM(AY20:AY38) -> 0
A20: 1.1 | B20: ¶áõÛùÇ ÝÏ³ïÙ³Ùµ ë»÷³Ï³ÝáõÃÛ³Ý Çñ³íáõÝùÁ ×³Ý³ã»Éáõ í»ñ³µ»ñÛ³É | E20: 12 | F20: 4 | G20: 8 | J20: 8 | K20: 5 | L20: 2 | M20: 1 | N20: 8 | O20: 2 | Q20: 3 | S20: 3 | T20: 1 | U20: 1 | V20: 1 | X20: 8 | AA20: 9 | AB20: 4 | AC20: 2 | AE20: 2 | AJ20: =E20 -> 12 | AK20: =F20+G20+H20+I20 -> 12 | AL20: =J20 -> 8 | AM20: =K20+L20+M20 -> 8 | AN20: =F20+G20+K20 -> 17 | AO20: =X20+Y20+AA20 -> 17 | AP20: =N20 -> 8 | AQ20: =O20+P20+Q20+R20+S20 -> 8 | AR20: =S20 -> 3 | AS20: =T20+U20+V20 -> 3 | AT20: =X20 -> 8 | AU20: =N20+W20 -> 8 | AV20: =AE20 -> 2 | AW20: =AC20+AD20 -> 2 | AX20: =AH20 -> 0 | AY20: =AF20+AG20 -> 0
A21: 1.1.1 | B21: ²Û¹ ÃíáõÙª Ó»éùµ»ñÙ³Ý í³Õ»ÙáõÃÛ³Ý áõÅáí | E21: 10 | F21: 2 | G21: 8 | J21: 7 | K21: 4 | L21: 1 | M21: 2 | N21: 4 | O21: 1 | Q21: 2 | S21: 1 | T21: 1 | X21: 4 | Z21: 1 | AA21: 10 | AB21: 2 | AC21: 2 | AE21: 2 | AJ21: =E21 -> 10 | AK21: =F21+G21+H21+I21 -> 10 | AL21: =J21 -> 7 | AM21: =K21+L21+M21 -> 7 | AN21: =F21+G21+K21 -> 14 | AO21: =X21+Y21+AA21 -> 14 | AP21: =N21 -> 4 | AQ21: =O21+P21+Q21+R21+S21 -> 4 | AR21: =S21 -> 1 | AS21: =T21+U21+V21 -> 1 | AT21: =X21 -> 4 | AU21: =N21+W21 -> 4 | AV21: =AE21 -> 2 | AW21: =AC21+AD21 -> 2 | AX21: =AH21 -> 0 | AY21: =AF21+AG21 -> 0
A22: 1.1.2 | B22: ²Û¹ ÃíáõÙª ïÇñ³½áõñÏ ·áõÛùÇ ÝÏ³ïÙ³Ùµ | E22: 1 | G22: 1 | J22: 3 | K22: 2 | L22: 1 | N22: 2 | S22: 2 | T22: 1 | U22: 1 | X22: 2 | AA22: 1 | AJ22: =E22 -> 1 | AK22: =F22+G22+H22+I22 -> 1 | AL22: =J22 -> 3 | AM22: =K22+L22+M22 -> 3 | AN22: =F22+G22+K22 -> 3 | AO22: =X22+Y22+AA22 -> 3 | AP22: =N22 -> 2 | AQ22: =O22+P22+Q22+R22+S22 -> 2 | AR22: =S22 -> 2 | AS22: =T22+U22+V22 -> 2 | AT22: =X22 -> 2 | AU22: =N22+W22 -> 2 | AV22: =AE22 -> 0 | AW22: =AC22+AD22 -> 0 | AX22: =AH22 -> 0 | AY22: =AF22+AG22 -> 0
A23: 1.1.3 | B23: ²Û¹ ÃíáõÙª ÇÝùÝ³Ï³Ù Ï³éáõÛóÇ ÝÏ³ïÙ³Ùµ | AJ23: =E23 -> 0 | AK23: =F23+G23+H23+I23 -> 0 | AL23: =J23 -> 0 | AM23: =K23+L23+M23 -> 0 | AN23: =F23+G23+K23 -> 0 | AO23: =X23+Y23+AA23 -> 0 | AP23: =N23 -> 0 | AQ23: =O23+P23+Q23+R23+S23 -> 0 | AR23: =S23 -> 0 | AS23: =T23+U23+V23 -> 0 | AT23: =X23 -> 0 | AU23: =N23+W23 -> 0 | AV23: =AE23 -> 0 | AW23: =AC23+AD23 -> 0 | AX23: =AH23 -> 0 | AY23: =AF23+AG23 -> 0
A24: 1.2 | B24: ê»÷³Ï³ÝáõÃÛ³Ý Çñ³íáõÝùÇ ¹³¹³ñ»óÙ³Ý í»ñ³µ»ñÛ³É | E24: 3 | G24: 3 | J24: 1 | L24: 1 | N24: 3 | Q24: 2 | S24: 1 | T24: 1 | X24: 3 | AC24: 2 | AE24: 2 | AJ24: =E24 -> 3 | AK24: =F24+G24+H24+I24 -> 3 | AL24: =J24 -> 1 | AM24: =K24+L24+M24 -> 1 | AN24: =F24+G24+K24 -> 3 | AO24: =X24+Y24+AA24 -> 3 | AP24: =N24 -> 3 | AQ24: =O24+P24+Q24+R24+S24 -> 3 | AR24: =S24 -> 1 | AS24: =T24+U24+V24 -> 1 | AT24: =X24 -> 3 | AU24: =N24+W24 -> 3 | AV24: =AE24 -> 2 | AW24: =AC24+AD24 -> 2 | AX24: =AH24 -> 0 | AY24: =AF24+AG24 -> 0
A25: 1.3 | B25: ¶áõÛùÇ ÝÏ³ïÙ³Ùµ û·ï³·áñÍÙ³Ý Çñ³íáõÝùÁ ×³Ý³ã»Éáõ í»ñ³µ»ñÛ³É | E25: 1 | F25: 1 | AA25: 1 | AB25: 1 | AJ25: =E25 -> 1 | AK25: =F25+G25+H25+I25 -> 1 | AL25: =J25 -> 0 | AM25: =K25+L25+M25 -> 0 | AN25: =F25+G25+K25 -> 1 | AO25: =X25+Y25+AA25 -> 1 | AP25: =N25 -> 0 | AQ25: =O25+P25+Q25+R25+S25 -> 0 | AR25: =S25 -> 0 | AS25: =T25+U25+V25 -> 0 | AT25: =X25 -> 0 | AU25: =N25+W25 -> 0 | AV25: =AE25 -> 0 | AW25: =AC25+AD25 -> 0 | AX25: =AH25 -> 0 | AY25: =AF25+AG25 -> 0
A26: 1.3.1 | B26: ²Û¹ ÃíáõÙª µÝ³Ïû·ï³·áñÍÙ³Ý Çñ³íáõÝùÁ ×³Ý³ã»Éáõ í»ñ³µ»ñÛ³É | AJ26: =E26 -> 0 | AK26: =F26+G26+H26+I26 -> 0 | AL26: =J26 -> 0 | AM26: =K26+L26+M26 -> 0 | AN26: =F26+G26+K26 -> 0 | AO26: =X26+Y26+AA26 -> 0 | AP26: =N26 -> 0 | AQ26: =O26+P26+Q26+R26+S26 -> 0 | AR26: =S26 -> 0 | AS26: =T26+U26+V26 -> 0 | AT26: =X26 -> 0 | AU26: =N26+W26 -> 0 | AV26: =AE26 -> 0 | AW26: =AC26+AD26 -> 0 | AX26: =AH26 -> 0 | AY26: =AF26+AG26 -> 0
A27: 1.3.2 | B27: ²Û¹ ÃíáõÙª ÑáÕ³Ù³ëÇ ÝÏ³ïÙ³Ùµ û·ï³·áñÍÙ³Ý Çñ³íáõÝùÁ ×³Ý³ã»Éáõ í»ñ³µ»ñÛ³É | E27: 1 | F27: 1 | J27: 1 | K27: 1 | AA27: 2 | AJ27: =E27 -> 1 | AK27: =F27+G27+H27+I27 -> 1 | AL27: =J27 -> 1 | AM27: =K27+L27+M27 -> 1 | AN27: =F27+G27+K27 -> 2 | AO27: =X27+Y27+AA27 -> 2 | AP27: =N27 -> 0 | AQ27: =O27+P27+Q27+R27+S27 -> 0 | AR27: =S27 -> 0 | AS27: =T27+U27+V27 -> 0 | AT27: =X27 -> 0 | AU27: =N27+W27 -> 0 | AV27: =AE27 -> 0 | AW27: =AC27+AD27 -> 0 | AX27: =AH27 -> 0 | AY27: =AF27+AG27 -> 0
A28: 1.4 | B28: ¶áõÛùÇ ÝÏ³ïÙ³Ùµ û·ï³·áñÍÙ³Ý Çñ³íáõÝùÁ ¹³¹³ñ»óÝ»Éáõ í»ñ³µ»ñÛ³É | AJ28: =E28 -> 0 | AK28: =F28+G28+H28+I28 -> 0 | AL28: =J28 -> 0 | AM28: =K28+L28+M28 -> 0 | AN28: =F28+G28+K28 -> 0 | AO28: =X28+Y28+AA28 -> 0 | AP28: =N28 -> 0 | AQ28: =O28+P28+Q28+R28+S28 -> 0 | AR28: =S28 -> 0 | AS28: =T28+U28+V28 -> 0 | AT28: =X28 -> 0 | AU28: =N28+W28 -> 0 | AV28: =AE28 -> 0 | AW28: =AC28+AD28 -> 0 | AX28: =AH28 -> 0 | AY28: =AF28+AG28 -> 0
A29: 1.4.1 | B29: ²Û¹ ÃíáõÙª µÝ³Ïû·ï³·áñÍÙ³Ý Çñ³íáõÝùÁ ¹³¹³ñ»óÝ»Éáõ í»ñ³µ»ñÛ³É | E29: 2 | F29: 2 | AA29: 2 | AB29: 2 | AJ29: =E29 -> 2 | AK29: =F29+G29+H29+I29 -> 2 | AL29: =J29 -> 0 | AM29: =K29+L29+M29 -> 0 | AN29: =F29+G29+K29 -> 2 | AO29: =X29+Y29+AA29 -> 2 | AP29: =N29 -> 0 | AQ29: =O29+P29+Q29+R29+S29 -> 0 | AR29: =S29 -> 0 | AS29: =T29+U29+V29 -> 0 | AT29: =X29 -> 0 | AU29: =N29+W29 -> 0 | AV29: =AE29 -> 0 | AW29: =AC29+AD29 -> 0 | AX29: =AH29 -> 0 | AY29: =AF29+AG29 -> 0
A30: 1.4.1/1 | B30: ²Û¹ ÃíáõÙª ÷áËÑ³ïáõóÙ³Ùµ | E30: 2 | F30: 2 | J30: 1 | K30: 1 | Z30: 1 | AA30: 3 | AB30: 3 | AJ30: =E30 -> 2 | AK30: =F30+G30+H30+I30 -> 2 | AL30: =J30 -> 1 | AM30: =K30+L30+M30 -> 1 | AN30: =F30+G30+K30 -> 3 | AO30: =X30+Y30+AA30 -> 3 | AP30: =N30 -> 0 | AQ30: =O30+P30+Q30+R30+S30 -> 0 | AR30: =S30 -> 0 | AS30: =T30+U30+V30 -> 0 | AT30: =X30 -> 0 | AU30: =N30+W30 -> 0 | AV30: =AE30 -> 0 | AW30: =AC30+AD30 -> 0 | AX30: =AH30 -> 0 | AY30: =AF30+AG30 -> 0
A31: 1.5 | B31: ´Ý³Ï³ñ³ÝÇó/ ï³ñ³ÍùÇó/ íï³ñ»Éáõ í»ñ³µ»ñÛ³É | E31: 10 | F31: 8 | G31: 2 | J31: 9 | K31: 4 | L31: 5 | N31: 3 | O31: 2 | S31: 1 | U31: 1 | X31: 3 | Z31: 2 | AA31: 11 | AB31: 10 | AC31: 2 | AD31: 1 | AE31: 3 | AJ31: =E31 -> 10 | AK31: =F31+G31+H31+I31 -> 10 | AL31: =J31 -> 9 | AM31: =K31+L31+M31 -> 9 | AN31: =F31+G31+K31 -> 14 | AO31: =X31+Y31+AA31 -> 14 | AP31: =N31 -> 3 | AQ31: =O31+P31+Q31+R31+S31 -> 3 | AR31: =S31 -> 1 | AS31: =T31+U31+V31 -> 1 | AT31: =X31 -> 3 | AU31: =N31+W31 -> 3 | AV31: =AE31 -> 3 | AW31: =AC31+AD31 -> 3 | AX31: =AH31 -> 0 | AY31: =AF31+AG31 -> 0
A32: 1.6 | B32: ¶áõÛùÝ áõñÇßÇ ³åûñÇÝÇ ïÇñ³å»ïáõÙÇó »ï í»ñ³¹³ñÓÝ»Éáõ í»ñ³µ»ñÛ³É | E32: 10 | F32: 5 | G32: 5 | J32: 7 | K32: 6 | L32: 1 | N32: 4 | O32: 2 | Q32: 1 | S32: 1 | U32: 1 | X32: 4 | Z32: 1 | AA32: 12 | AB32: 6 | AC32: 1 | AE32: 1 | AJ32: =E32 -> 10 | AK32: =F32+G32+H32+I32 -> 10 | AL32: =J32 -> 7 | AM32: =K32+L32+M32 -> 7 | AN32: =F32+G32+K32 -> 16 | AO32: =X32+Y32+AA32 -> 16 | AP32: =N32 -> 4 | AQ32: =O32+P32+Q32+R32+S32 -> 4 | AR32: =S32 -> 1 | AS32: =T32+U32+V32 -> 1 | AT32: =X32 -> 4 | AU32: =N32+W32 -> 4 | AV32: =AE32 -> 1 | AW32: =AC32+AD32 -> 1 | AX32: =AH32 -> 0 | AY32: =AF32+AG32 -> 0
A33: 1.6.1 | B33: ´³ñ»ËÇÕ× Ó»éùµ»ñáÕÇó Çñ ·áõÛùÁ Ñ»ï å³Ñ³Ýç»Éáõ í»ñ³µ»ñÛ³É | AJ33: =E33 -> 0 | AK33: =F33+G33+H33+I33 -> 0 | AL33: =J33 -> 0 | AM33: =K33+L33+M33 -> 0 | AN33: =F33+G33+K33 -> 0 | AO33: =X33+Y33+AA33 -> 0 | AP33: =N33 -> 0 | AQ33: =O33+P33+Q33+R33+S33 -> 0 | AR33: =S33 -> 0 | AS33: =T33+U33+V33 -> 0 | AT33: =X33 -> 0 | AU33: =N33+W33 -> 0 | AV33: =AE33 -> 0 | AW33: =AC33+AD33 -> 0 | AX33: =AH33 -> 0 | AY33: =AF33+AG33 -> 0
A34: 1.7 | B34: îÇñ³å»ïáõÙÇó ½ñÏ»Éáõ Ñ»ï ãÏ³åí³Í Çñ³íáõÝùÝ»ñÇ Ë³ËïáõÙÁ í»ñ³óÝ»Éáõ í»ñ³µ»ñÛ³É | E34: 1 | G34: 1 | J34: 1 | K34: 1 | AA34: 2 | AJ34: =E34 -> 1 | AK34: =F34+G34+H34+I34 -> 1 | AL34: =J34 -> 1 | AM34: =K34+L34+M34 -> 1 | AN34: =F34+G34+K34 -> 2 | AO34: =X34+Y34+AA34 -> 2 | AP34: =N34 -> 0 | AQ34: =O34+P34+Q34+R34+S34 -> 0 | AR34: =S34 -> 0 | AS34: =T34+U34+V34 -> 0 | AT34: =X34 -> 0 | AU34: =N34+W34 -> 0 | AV34: =AE34 -> 0 | AW34: =AC34+AD34 -> 0 | AX34: =AH34 -> 0 | AY34: =AF34+AG34 -> 0
A35: 1.8 | B35: ÀÝ¹Ñ³Ýáõñ µ³ÅÝ³ÛÇÝ ë»÷³Ï³ÝáõÃÛáõÝÇó µ³ÅÇÝÝ ³é³ÝÓÝ³óÝ»Éáõ í»ñ³µ»ñÛ³É | E35: 59 | F35: 35 | G35: 24 | J35: 47 | K35: 38 | L35: 9 | N35: 18 | O35: 5 | P35: 1 | S35: 12 | T35: 1 | U35: 11 | X35: 18 | Y35: 1 | Z35: 13 | AA35: 78 | AB35: 33 | AC35: 3 | AD35: 1 | AE35: 4 | AJ35: =E35 -> 59 | AK35: =F35+G35+H35+I35 -> 59 | AL35: =J35 -> 47 | AM35: =K35+L35+M35 -> 47 | AN35: =F35+G35+K35 -> 97 | AO35: =X35+Y35+AA35 -> 97 | AP35: =N35 -> 18 | AQ35: =O35+P35+Q35+R35+S35 -> 18 | AR35: =S35 -> 12 | AS35: =T35+U35+V35 -> 12 | AT35: =X35 -> 18 | AU35: =N35+W35 -> 18 | AV35: =AE35 -> 4 | AW35: =AC35+AD35 -> 4 | AX35: =AH35 -> 0 | AY35: =AF35+AG35 -> 0
A36: 1.8.1 | B36: Ð³Ù³ï»Õ ë»÷³Ï³ÝáõÃÛ³Ý Ý»ñùá ·ïÝíáÕ ·áõÛùÁ µ³Å³Ý»Éáõ ¨ ¹ñ³ÝÇó µ³ÅÇÝÝ ³é³ÝÓÝ³óÝ»Éáõ í»ñ³µ»ñÛ³É | E36: 16 | F36: 12 | G36: 4 | J36: 9 | K36: 7 | L36: 2 | N36: 5 | O36: 1 | Q36: 2 | S36: 2 | U36: 1 | V36: 1 | X36: 5 | Z36: 2 | AA36: 18 | AB36: 6 | AJ36: =E36 -> 16 | AK36: =F36+G36+H36+I36 -> 16 | AL36: =J36 -> 9 | AM36: =K36+L36+M36 -> 9 | AN36: =F36+G36+K36 -> 23 | AO36: =X36+Y36+AA36 -> 23 | AP36: =N36 -> 5 | AQ36: =O36+P36+Q36+R36+S36 -> 5 | AR36: =S36 -> 2 | AS36: =T36+U36+V36 -> 2 | AT36: =X36 -> 5 | AU36: =N36+W36 -> 5 | AV36: =AE36 -> 0 | AW36: =AC36+AD36 -> 0 | AX36: =AH36 -> 0 | AY36: =AF36+AG36 -> 0
A37: 1.8.3 | B37: ¶áõÛùÇ íñ³ µéÝ³·³ÝÓáõÙ ï³ñ³Í»Éáõ å³Ñ³ÝçÇ Ù³ëÇÝ | E37: 4 | F37: 3 | G37: 1 | J37: 3 | K37: 3 | N37: 3 | Q37: 2 | S37: 1 | U37: 1 | X37: 3 | Z37: 1 | AA37: 4 | AB37: 1 | AJ37: =E37 -> 4 | AK37: =F37+G37+H37+I37 -> 4 | AL37: =J37 -> 3 | AM37: =K37+L37+M37 -> 3 | AN37: =F37+G37+K37 -> 7 | AO37: =X37+Y37+AA37 -> 7 | AP37: =N37 -> 3 | AQ37: =O37+P37+Q37+R37+S37 -> 3 | AR37: =S37 -> 1 | AS37: =T37+U37+V37 -> 1 | AT37: =X37 -> 3 | AU37: =N37+W37 -> 3 | AV37: =AE37 -> 0 | AW37: =AC37+AD37 -> 0 | AX37: =AH37 -> 0 | AY37: =AF37+AG37 -> 0
A38: 1.9 | B38: ²ÛÉ í»×»ñ | E38: 29 | F38: 12 | G38: 17 | J38: 13 | K38: 9 | L38: 4 | N38: 11 | O38: 2 | P38: 1 | Q38: 1 | R38: 1 | S38: 6 | U38: 6 | X38: 11 | Z38: 1 | AA38: 27 | AB38: 9 | AC38: 3 | AE38: 3 | AJ38: =E38 -> 29 | AK38: =F38+G38+H38+I38 -> 29 | AL38: =J38 -> 13 | AM38: =K38+L38+M38 -> 13 | AN38: =F38+G38+K38 -> 38 | AO38: =X38+Y38+AA38 -> 38 | AP38: =N38 -> 11 | AQ38: =O38+P38+Q38+R38+S38 -> 11 | AR38: =S38 -> 6 | AS38: =T38+U38+V38 -> 6 | AT38: =X38 -> 11 | AU38: =N38+W38 -> 11 | AV38: =AE38 -> 3 | AW38: =AC38+AD38 -> 3 | AX38: =AH38 -> 0 | AY38: =AF38+AG38 -> 0
A39: 2. | B39: ¶áñÍ³ñùÝ»ñÇ Ñ»ï Ï³åí³Í Çñ³í³Ñ³ñ³µ»ñáõÃÛáõÝÝ»ñÇ í»ñ³µ»ñÛ³É ¹³ï³Ï³Ý ·áñÍ»ñ | E39: =SUM(E40:E50) -> 38 | F39: =SUM(F40:F50) -> 8 | G39: =SUM(G40:G50) -> 30 | H39: =SUM(H40:H50) -> 0 | I39: =SUM(I40:I50) -> 0 | J39: =SUM(J40:J50) -> 20 | K39: =SUM(K40:K50) -> 14 | L39: =SUM(L40:L50) -> 6 | ... AH39: =SUM(AH40:AH50) -> 0 | AJ39: =SUM(AJ40:AJ50) -> 38 | AK39: =SUM(AK40:AK50) -> 38 | AL39: =SUM(AL40:AL50) -> 20 | AM39: =SUM(AM40:AM50) -> 20 | AN39: =SUM(AN40:AN50) -> 52 | AO39: =SUM(AO40:AO50) -> 52 | AP39: =SUM(AP40:AP50) -> 16 | AQ39: =SUM(AQ40:AQ50) -> 16 | ... AY39: =SUM(AY40:AY50) -> 0
A40: 2.1 | B40: ·áñÍ³ñùÝ»ñÇ ³Ýí³í»ñáõÃÛ³Ý Ñ»ï Ï³åí³Í í»×»ñ | E40: 1 | F40: 1 | J40: 2 | K40: 1 | L40: 1 | AA40: 2 | AB40: 1 | AJ40: =E40 -> 1 | AK40: =F40+G40+H40+I40 -> 1 | AL40: =J40 -> 2 | AM40: =K40+L40+M40 -> 2 | AN40: =F40+G40+K40 -> 2 | AO40: =X40+Y40+AA40 -> 2 | AP40: =N40 -> 0 | AQ40: =O40+P40+Q40+R40+S40 -> 0 | AR40: =S40 -> 0 | AS40: =T40+U40+V40 -> 0 | AT40: =X40 -> 0 | AU40: =N40+W40 -> 0 | AV40: =AE40 -> 0 | AW40: =AC40+AD40 -> 0 | AX40: =AH40 -> 0 | AY40: =AF40+AG40 -> 0
A41: 2.1.1 | B41: ³Û¹ ÃíáõÙ` íÇ×³Ñ³ñáõÛó ·áñÍ³ñùÝ»ñÝ ³Ýí³í»ñ ×³Ý³ã»Éáõ í»ñ³µ»ñÛ³É | E41: 1 | G41: 1 | AA41: 1 | AJ41: =E41 -> 1 | AK41: =F41+G41+H41+I41 -> 1 | AL41: =J41 -> 0 | AM41: =K41+L41+M41 -> 0 | AN41: =F41+G41+K41 -> 1 | AO41: =X41+Y41+AA41 -> 1 | AP41: =N41 -> 0 | AQ41: =O41+P41+Q41+R41+S41 -> 0 | AR41: =S41 -> 0 | AS41: =T41+U41+V41 -> 0 | AT41: =X41 -> 0 | AU41: =N41+W41 -> 0 | AV41: =AE41 -> 0 | AW41: =AC41+AD41 -> 0 | AX41: =AH41 -> 0 | AY41: =AF41+AG41 -> 0
A42: 2.1.2 | B42: ³Û¹ ÃíáõÙ` ·áñÍ³ñùÇ ³éáãÝãáõÃÛ³Ý Ñ»ï¨³ÝùÝ»ñ ÏÇñ³é»Éáõ í»ñ³µ»ñÛ³É | E42: 10 | F42: 1 | G42: 9 | N42: 2 | O42: 1 | Q42: 1 | X42: 2 | Y42: 2 | Z42: 1 | AA42: 6 | AB42: 3 | AC42: 2 | AE42: 2 | AJ42: =E42 -> 10 | AK42: =F42+G42+H42+I42 -> 10 | AL42: =J42 -> 0 | AM42: =K42+L42+M42 -> 0 | AN42: =F42+G42+K42 -> 10 | AO42: =X42+Y42+AA42 -> 10 | AP42: =N42 -> 2 | AQ42: =O42+P42+Q42+R42+S42 -> 2 | AR42: =S42 -> 0 | AS42: =T42+U42+V42 -> 0 | AT42: =X42 -> 2 | AU42: =N42+W42 -> 2 | AV42: =AE42 -> 2 | AW42: =AC42+AD42 -> 2 | AX42: =AH42 -> 0 | AY42: =AF42+AG42 -> 0
A43: 2.2 | B43: ¶áñÍ³ñùÁ í³í»ñ ×³Ý³ã»Éáõ í»ñ³µ»ñÛ³É | J43: 1 | K43: 1 | AA43: 1 | AJ43: =E43 -> 0 | AK43: =F43+G43+H43+I43 -> 0 | AL43: =J43 -> 1 | AM43: =K43+L43+M43 -> 1 | AN43: =F43+G43+K43 -> 1 | AO43: =X43+Y43+AA43 -> 1 | AP43: =N43 -> 0 | AQ43: =O43+P43+Q43+R43+S43 -> 0 | AR43: =S43 -> 0 | AS43: =T43+U43+V43 -> 0 | AT43: =X43 -> 0 | AU43: =N43+W43 -> 0 | AV43: =AE43 -> 0 | AW43: =AC43+AD43 -> 0 | AX43: =AH43 -> 0 | AY43: =AF43+AG43 -> 0
A44: 2.3 | B44: ¶áñÍ³ñùÇó Í³·áÕ Çñ³íáõÝùÝ»ñÁ ·ñ³Ýó»Éáõ í»ñ³µ»ñÛ³É | AJ44: =E44 -> 0 | AK44: =F44+G44+H44+I44 -> 0 | AL44: =J44 -> 0 | AM44: =K44+L44+M44 -> 0 | AN44: =F44+G44+K44 -> 0 | AO44: =X44+Y44+AA44 -> 0 | AP44: =N44 -> 0 | AQ44: =O44+P44+Q44+R44+S44 -> 0 | AR44: =S44 -> 0 | AS44: =T44+U44+V44 -> 0 | AT44: =X44 -> 0 | AU44: =N44+W44 -> 0 | AV44: =AE44 -> 0 | AW44: =AC44+AD44 -> 0 | AX44: =AH44 -> 0 | AY44: =AF44+AG44 -> 0
A45: 2.4 | B45: ä³ÛÙ³Ý³·ÇñÝ ³Ýí³í»ñ ×³Ý³ã»Éáõ í»ñ³µ»ñÛ³É | E45: 10 | F45: 2 | G45: 8 | J45: 12 | K45: 8 | L45: 4 | N45: 8 | O45: 1 | Q45: 4 | S45: 3 | T45: 1 | U45: 2 | X45: 8 | Z45: 2 | AA45: 10 | AB45: 4 | AC45: 4 | AE45: 4 | AJ45: =E45 -> 10 | AK45: =F45+G45+H45+I45 -> 10 | AL45: =J45 -> 12 | AM45: =K45+L45+M45 -> 12 | AN45: =F45+G45+K45 -> 18 | AO45: =X45+Y45+AA45 -> 18 | AP45: =N45 -> 8 | AQ45: =O45+P45+Q45+R45+S45 -> 8 | AR45: =S45 -> 3 | AS45: =T45+U45+V45 -> 3 | AT45: =X45 -> 8 | AU45: =N45+W45 -> 8 | AV45: =AE45 -> 4 | AW45: =AC45+AD45 -> 4 | AX45: =AH45 -> 0 | AY45: =AF45+AG45 -> 0
A46: 2.5 | B46: ä³ÛÙ³Ý³·ñÇÁ í³í»ñ ×³Ý³ã»Éáõ í»ñ³µ»ñÛ³É | E46: 1 | G46: 1 | AA46: 1 | AJ46: =E46 -> 1 | AK46: =F46+G46+H46+I46 -> 1 | AL46: =J46 -> 0 | AM46: =K46+L46+M46 -> 0 | AN46: =F46+G46+K46 -> 1 | AO46: =X46+Y46+AA46 -> 1 | AP46: =N46 -> 0 | AQ46: =O46+P46+Q46+R46+S46 -> 0 | AR46: =S46 -> 0 | AS46: =T46+U46+V46 -> 0 | AT46: =X46 -> 0 | AU46: =N46+W46 -> 0 | AV46: =AE46 -> 0 | AW46: =AC46+AD46 -> 0 | AX46: =AH46 -> 0 | AY46: =AF46+AG46 -> 0
A47: 2.6 | B47: ä³ÛÙ³Ý³·ñÇó Í³·áÕ Çñ³íáõÝùÝ»ñÁ ·ñ³Ýó»Éáõ í»ñ³µ»ñÛ³É | AJ47: =E47 -> 0 | AK47: =F47+G47+H47+I47 -> 0 | AL47: =J47 -> 0 | AM47: =K47+L47+M47 -> 0 | AN47: =F47+G47+K47 -> 0 | AO47: =X47+Y47+AA47 -> 0 | AP47: =N47 -> 0 | AQ47: =O47+P47+Q47+R47+S47 -> 0 | AR47: =S47 -> 0 | AS47: =T47+U47+V47 -> 0 | AT47: =X47 -> 0 | AU47: =N47+W47 -> 0 | AV47: =AE47 -> 0 | AW47: =AC47+AD47 -> 0 | AX47: =AH47 -> 0 | AY47: =AF47+AG47 -> 0
A48: 2.7 | B48: ä³ÛÙ³Ý³·ÇñÁ ÷á÷áË»Éáõ ¨ ÉáõÍ»Éáõ í»ñ³µ»ñÛ³É | E48: 3 | F48: 3 | J48: 1 | K48: 1 | AA48: 4 | AB48: 3 | AJ48: =E48 -> 3 | AK48: =F48+G48+H48+I48 -> 3 | AL48: =J48 -> 1 | AM48: =K48+L48+M48 -> 1 | AN48: =F48+G48+K48 -> 4 | AO48: =X48+Y48+AA48 -> 4 | AP48: =N48 -> 0 | AQ48: =O48+P48+Q48+R48+S48 -> 0 | AR48: =S48 -> 0 | AS48: =T48+U48+V48 -> 0 | AT48: =X48 -> 0 | AU48: =N48+W48 -> 0 | AV48: =AE48 -> 0 | AW48: =AC48+AD48 -> 0 | AX48: =AH48 -> 0 | AY48: =AF48+AG48 -> 0
A49: 2.8 | B49: ä³ÛÙ³Ý³·Çñ ÏÝù»ÉáõÝ å³ñï³íáñ»óÝ»Éáõ í»ñ³µ»ñÛ³É | E49: 1 | G49: 1 | AA49: 1 | AJ49: =E49 -> 1 | AK49: =F49+G49+H49+I49 -> 1 | AL49: =J49 -> 0 | AM49: =K49+L49+M49 -> 0 | AN49: =F49+G49+K49 -> 1 | AO49: =X49+Y49+AA49 -> 1 | AP49: =N49 -> 0 | AQ49: =O49+P49+Q49+R49+S49 -> 0 | AR49: =S49 -> 0 | AS49: =T49+U49+V49 -> 0 | AT49: =X49 -> 0 | AU49: =N49+W49 -> 0 | AV49: =AE49 -> 0 | AW49: =AC49+AD49 -> 0 | AX49: =AH49 -> 0 | AY49: =AF49+AG49 -> 0
A50: 2.9 | B50: ²ÛÉ í»×»ñ | E50: 11 | F50: 1 | G50: 10 | J50: 4 | K50: 3 | L50: 1 | N50: 6 | O50: 3 | S50: 3 | T50: 1 | U50: 2 | X50: 6 | Y50: 1 | AA50: 7 | AB50: 1 | AJ50: =E50 -> 11 | AK50: =F50+G50+H50+I50 -> 11 | AL50: =J50 -> 4 | AM50: =K50+L50+M50 -> 4 | AN50: =F50+G50+K50 -> 14 | AO50: =X50+Y50+AA50 -> 14 | AP50: =N50 -> 6 | AQ50: =O50+P50+Q50+R50+S50 -> 6 | AR50: =S50 -> 3 | AS50: =T50+U50+V50 -> 3 | AT50: =X50 -> 6 | AU50: =N50+W50 -> 6 | AV50: =AE50 -> 0 | AW50: =AC50+AD50 -> 0 | AX50: =AH50 -> 0 | AY50: =AF50+AG50 -> 0
A51: 3. | B51: Ä³é³Ý·áõÃÛ³Ý Ñ»ï Ï³åí³Í Çñ³í³Ñ³ñ³µ»ñáõÃÛáõÝÝ»ñÇ í»ñ³µ»ñÛ³É ¹³ï³Ï³Ý ·áñÍ»ñ | E51: =SUM(E52:E58) -> 9 | F51: =SUM(F52:F58) -> 1 | G51: =SUM(G52:G58) -> 8 | H51: =SUM(H52:H58) -> 0 | I51: =SUM(I52:I58) -> 0 | J51: =SUM(J52:J58) -> 2 | K51: =SUM(K52:K58) -> 2 | L51: =SUM(L52:L58) -> 0 | ... AH51: =SUM(AH52:AH58) -> 0 | AJ51: =SUM(AJ52:AJ58) -> 9 | AK51: =SUM(AK52:AK58) -> 9 | AL51: =SUM(AL52:AL58) -> 2 | AM51: =SUM(AM52:AM58) -> 2 | AN51: =SUM(AN52:AN58) -> 11 | AO51: =SUM(AO52:AO58) -> 11 | AP51: =SUM(AP52:AP58) -> 5 | AQ51: =SUM(AQ52:AQ58) -> 5 | ... AY51: =SUM(AY52:AY58) -> 0
