Workbook

Sheet Ընդհանուր
A1: 2017Ã. 1-ին ÏÇë³ÙÛ³Ï | E1: Ð²ÞìºîìàôÂÚàôÜ | AC1: Ð³í»Éí³Í Ð³Û³ëï³ÝÇ Ð³Ýñ³å»ïáõÃÛ³Ý ¸³ï³ñ³ÝÝ»ñÇ Ý³Ë³·³ÑÝ»ñÇ ËáñÑñ¹Ç 25.08.2017Ã. ÃÇí 35-È áñáßÙ³Ý
A2: ÐÐ ÀÜ¸Ð²Üàôð Æð²ì²êàôÂÚ²Ü ²è²æÆÜ ²îÚ²ÜÆ ¸²î²ð²ÜÜºðàôØ ø²Ô²ø²òÆ²Î²Ü ¶àðÌºðÆ øÜÜàôÂÚ²Ü ìºð²´ºðÚ²È
E4: Ð³ßí»ïáõ Å³Ù³Ý³Ï³Ñ³ïí³ÍáõÙ Ý³Ëáñ¹ Ñ³ßí»ïáõ Å³Ù³Ý³Ï³Ñ³ïí³ÍÇó ÷áË³Ýóí³Í ·áñÍ»ñÇ ÁÝ¹Ñ³Ýáõñ ÃÇíÁ | J4: Ð³ßí»ïáõ Å³Ù³Ý³Ï³Ñ³ïí³ÍáõÙëï³óí³Í ·áñÍ»ñÇ (³Û¹ ÃíáõÙ` Ñ³Ûó³¹ÇÙáõÙÝ»ñÇ, ¹ÇÙáõÙÝ»ñÇ) ÁÝ¹Ñ³Ýáõñ ÃÇíÁ | N4: Ð³ßí»ïáõ Å³Ù³Ý³Ï³Ñ³ïí³ÍáõÙ ³í³ñïí³Í ·áñÍ»ñÇ ÁÝ¹Ñ³Ýáõñ ÃÇíÁ | Y4: ¶áñÍÝ áõÕ³ñÏí»É ¿ Áëï ÁÝ¹¹³ïáõÃÛ³Ý | Z4: Ð³ßí»ïáõ Å³Ù³Ý³Ï³Ñ³ïí³ÍáõÙ Ï³ë»óí³Í í³ñáõÛÃÝ»ñáí ·áñÍ»ñÇ ÁÝ¹Ñ³Ýáõñ ÃÇíÁ | AA4: Ð³ßí»ïáõ Å³Ù³Ý³Ï³Ñ³ïí³ÍáõÙ ³Ý³í³ñï ·áñÍ»ñÇ ÁÝ¹Ñ³Ýáõñ ÃÇíÁ | AB4: ²Û¹ ÃíáõÙª Ï³ë»óí³Í | AC4: ´áÕáù³ñÏí³Í ¹³ï³Ï³Ý ³Ïï»ñÇ ÃÇíÁ` Áëï ï»ë³ÏÝ»ñÇ | AF4: ´»Ï³Ýí³Í ¹³ï³Ï³Ý ³Ïï»ñÇ ÃÇíÁ` Áëï ï»ë³ÏÝ»ñÇ
E7: ÀÝ¹³Ù»ÝÁ | F7: ²Û¹ ÃíáõÙ`Ï³ë»óí³Í íÇ×³ÏáõÙ ÷áË³Ýóí³Í | G7: ²Û¹ ÃíáõÙª ÁÝ¹áõÝí»É ¿ í³ñáõÛÃ | H7: ²Û¹ ÃíáõÙª í»ñ³¹³ñÓí»É ¿ | I7: ²Û¹ ÃíáõÙª ÁÝ¹áõÝáõÙÁ Ù»ñÅí»É ¿ | J7: ÀÝ¹³Ù»ÝÁ | K7: ²Û¹ ÃíáõÙª ÁÝ¹áõÝí»É ¿ í³ñáõÛÃ | L7: ²Û¹ ÃíáõÙª í»ñ³¹³ñÓí»É ¿ | M7: ²Û¹ ÃíáõÙª ÁÝ¹áõÝáõÙÁ Ù»ñÅí»É ¿ | N7: ÀÝ¹³Ù»ÝÁ ³í³ñïí»É »Ý ·áñÍ»ñ ·áñÍÝ Áëï ¿áõÃÛ³Ý ÉáõÍáÕ ¹³ï³Ï³Ý ³Ïï»ñÇ (í×ÇéÝ»ñÇ) Ï³Û³óÙ³Ùµ | O7: ²Û¹ ÃíáõÙª Ñ³ÛóÇ µ³í³ñ³ñÙ³Ùµ | P7: ²Û¹ ÃíáõÙª Ñ³ÛóÇ Ù³ëÝ³ÏÇ µ³í³ñ³ñÙ³Ùµ | Q7: ²Û¹ ÃíáõÙª Ñ³ÛóÇ Ù»ñÅÙ³Ùµ | R7: Ø³ëáí Ï³ñ×í»É ¿, Ù³ëáí Ù»ñÅí»É | S7: ²Û¹ ÃíáõÙª Ï³ñ×í»É »Ý | W7: Ð³ÛóÁ ÃáÕÝí»É ¿ ³é³Ýó ùÝÝáõÃÛ³Ý | X7: ÀÝ¹³Ù»ÝÝ ³í³ñïí»É »Ý ·áñÍ»ñ | AC7: ²Û¹ ÃíáõÙ` ·áñÍÝ Áëï ¿áõÃÛ³Ý ÉáõÍáÕ ¹³ï³Ï³Ý ³Ïï»ñ | AD7: ²Û¹ ÃíáõÙ` ÙÇç³ÝÏÛ³É ¹³ï³Ï³Ý ³Ïï»ñ | AE7: ÀÝ¹³Ù»ÝÁ | AF7: ²Û¹ ÃíáõÙ` ·áñÍÝ Áëï ¿áõÃÛ³Ý ÉáõÍáÕ ¹³ï³Ï³Ý ³Ïï»ñ | AG7: ²Û¹ ÃíáõÙ` ÙÇç³ÝÏÛ³É ¹³ï³Ï³Ý ³Ïï»ñ | AH7: ÀÝ¹³Ù»ÝÁ
S10: ÀÝ¹³Ù»ÝÁ Ï³ñ×í»É »Ý | T10: ²Û¹ ÃíáõÙª Ñ³ëï³ïí»É ¿ ÏÝùí³Í Ñ³ßïáõÃÛ³Ý Ñ³Ù³Ó³ÛÝáõÃÛáõÝÁ | U10: ²Û¹ ÃíáõÙª Ñ³óÇó, ¹ÇÙáõÙÇó Ññ³Å³ñí»Éáõ ÑÇÙùáí | V10: ²Û¹ ÃíáõÙª ³ÛÉ ÑÇÙùáí
A18: ø³Õ³ù³óÇ³Ï³Ý ·áñÍ»ñÇ ¹³ë³Ï³ñ·áõÙÁ | E18: 1 | F18: 2 | G18: 3 | H18: 4 | I18: 5 | J18: 6 | K18: 7 | L18: 8 | M18: 9 | N18: 10 | O18: 11 | P18: 12 | Q18: 13 | R18: 14 | S18: 15 | T18: 16 | U18: 17 | V18: 18 | W18: 19 | X18: 20 | Y18: 21 | Z18: 22 | AA18: 23 | AB18: 24 | AC18: 25 | AD18: 26 | AE18: 27 | AF18: 28 | AG18: 29 | AH18: 30 | AJ18: 1=2+3+4+5 | AL18: 6=7+8+9 | AN18: 2+3+7=20+21+23 | AP18: 10=11+12+13+14+15 | AR18: 15=16+17+18 | AT18: 20=10+19 | AV18: 27=25+26 | AX18: 30=28+29
A19: 1. | B19: ¶áõÛù³ÛÇÝ Çñ³í³Ñ³ñ³µ»ñáõÃÛáõÝÝ»ñÇ í»ñ³µ»ñÛ³É ¹³ï³Ï³Ý ·áñÍ»ñ | E19: =SUM(Աջափնյակ:Սյունիք!E19) -> 4090 | F19: =SUM(Աջափնյակ:Սյունիք!F19) -> 1371 | G19: =SUM(Աջափնյակ:Սյունիք!G19) -> 2718 | H19: =SUM(Աջափնյակ:Սյունիք!H19) -> 0 | I19: =SUM(Աջափնյակ:Սյունիք!I19) -> 0 | J19: =SUM(Աջափնյակ:Սյունիք!J19) -> 2122 | K19: =SUM(Աջափնյակ:Սյունիք!K19) -> 1778 | L19: =SUM(Աջափնյակ:Սյունիք!L19) -> 311 | ... AH19: =SUM(Աջափնյակ:Սյունիք!AH19) -> 27 | AJ19: =SUM(AJ20:AJ38) -> 4090 | AK19: =SUM(AK20:AK38) -> 4089 | AL19: =SUM(AL20:AL38) -> 2122 | AM19: =SUM(AM20:AM38) -> 2114 | AN19: =SUM(AN20:AN38) -> 5867 | AO19: =SUM(AO20:AO38) -> 5865 | AP19: =SUM(AP20:AP38) -> 1127 | AQ19: =SUM(AQ20:AQ38) -> 1127 | ... AY19: =SUM(AY20:AY38) -> 27
A20: 1.1 | B20: ¶áõÛùÇ ÝÏ³ïÙ³Ùµ ë»÷³Ï³ÝáõÃÛ³Ý Çñ³íáõÝùÁ ×³Ý³ã»Éáõ í»ñ³µ»ñÛ³É | E20: =SUM(Աջափնյակ:Սյունիք!E20) -> 341 | F20: =SUM(Աջափնյակ:Սյունիք!F20) -> 59 | G20: =SUM(Աջափնյակ:Սյունիք!G20) -> 282 | H20: =SUM(Աջափնյակ:Սյունիք!H20) -> 0 | I20: =SUM(Աջափնյակ:Սյունիք!I20) -> 0 | J20: =SUM(Աջափնյակ:Սյունիք!J20) -> 176 | K20: =SUM(Աջափնյակ:Սյունիք!K20) -> 133 | L20: =SUM(Աջափնյակ:Սյունիք!L20) -> 34 | ... AH20: =SUM(Աջափնյակ:Սյունիք!AH20) -> 3 | AJ20: =E20 -> 341 | AK20: =F20+G20+H20+I20 -> 341 | AL20: =J20 -> 176 | AM20: =K20+L20+M20 -> 176 | AN20: =F20+G20+K20 -> 474 | AO20: =X20+Y20+AA20 -> 473 | AP20: =N20 -> 143 | AQ20: =O20+P20+Q20+R20+S20 -> 143 | AR20: =S20 -> 37 | AS20: =T20+U20+V20 -> 37 | AT20: =X20 -> 144 | AU20: =N20+W20 -> 144 | AV20: =AE20 -> 46 | AW20: =AC20+AD20 -> 46 | AX20: =AH20 -> 3 | AY20: =AF20+AG20 -> 3
A21: 1.1.1 | B21: ²Û¹ ÃíáõÙª Ó»éùµ»ñÙ³Ý í³Õ»ÙáõÃÛ³Ý áõÅáí | E21: =SUM(Աջափնյակ:Սյունիք!E21) -> 245 | F21: =SUM(Աջափնյակ:Սյունիք!F21) -> 34 | G21: =SUM(Աջափնյակ:Սյունիք!G21) -> 211 | H21: =SUM(Աջափնյակ:Սյունիք!H21) -> 0 | I21: =SUM(Աջափնյակ:Սյունիք!I21) -> 0 | J21: =SUM(Աջափնյակ:Սյունիք!J21) -> 138 | K21: =SUM(Աջափնյակ:Սյունիք!K21) -> 113 | L21: =SUM(Աջափնյակ:Սյունիք!L21) -> 19 | ... AH21: =SUM(Աջափնյակ:Սյունիք!AH21) -> 2 | AJ21: =E21 -> 245 | AK21: =F21+G21+H21+I21 -> 245 | AL21: =J21 -> 138 | AM21: =K21+L21+M21 -> 138 | AN21: =F21+G21+K21 -> 358 | AO21: =X21+Y21+AA21 -> 358 | AP21: =N21 -> 130 | AQ21: =O21+P21+Q21+R21+S21 -> 130 | AR21: =S21 -> 23 | AS21: =T21+U21+V21 -> 23 | AT21: =X21 -> 130 | AU21: =N21+W21 -> 130 | AV21: =AE21 -> 22 | AW21: =AC21+AD21 -> 22 | AX21: =AH21 -> 2 | AY21: =AF21+AG21 -> 2
A22: 1.1.2 | B22: ²Û¹ ÃíáõÙª ïÇñ³½áõñÏ ·áõÛùÇ ÝÏ³ïÙ³Ùµ | E22: =SUM(Աջափնյակ:Սյունիք!E22) -> 13 | F22: =SUM(Աջափնյակ:Սյունիք!F22) -> 1 | G22: =SUM(Աջափնյակ:Սյունիք!G22) -> 12 | H22: =SUM(Աջափնյակ:Սյունիք!H22) -> 0 | I22: =SUM(Աջափնյակ:Սյունիք!I22) -> 0 | J22: =SUM(Աջափնյակ:Սյունիք!J22) -> 17 | K22: =SUM(Աջափնյակ:Սյունիք!K22) -> 16 | L22: =SUM(Աջափնյակ:Սյունիք!L22) -> 1 | ... AH22: =SUM(Աջափնյակ:Սյունիք!AH22) -> 0 | AJ22: =E22 -> 13 | AK22: =F22+G22+H22+I22 -> 13 | AL22: =J22 -> 17 | AM22: =K22+L22+M22 -> 17 | AN22: =F22+G22+K22 -> 29 | AO22: =X22+Y22+AA22 -> 29 | AP22: =N22 -> 13 | AQ22: =O22+P22+Q22+R22+S22 -> 13 | AR22: =S22 -> 4 | AS22: =T22+U22+V22 -> 4 | AT22: =X22 -> 13 | AU22: =N22+W22 -> 13 | AV22: =AE22 -> 0 | AW22: =AC22+AD22 -> 0 | AX22: =AH22 -> 0 | AY22: =AF22+AG22 -> 0
A23: 1.1.3 | B23: ²Û¹ ÃíáõÙª ÇÝùÝ³Ï³Ù Ï³éáõÛóÇ ÝÏ³ïÙ³Ùµ | E23: =SUM(Աջափնյակ:Սյունիք!E23) -> 2 | F23: =SUM(Աջափնյակ:Սյունիք!F23) -> 1 | G23: =SUM(Աջափնյակ:Սյունիք!G23) -> 1 | H23: =SUM(Աջափնյակ:Սյունիք!H23) -> 0 | I23: =SUM(Աջափնյակ:Սյունիք!I23) -> 0 | J23: =SUM(Աջափնյակ:Սյունիք!J23) -> 2 | K23: =SUM(Աջափնյակ:Սյունիք!K23) -> 2 | L23: =SUM(Աջափնյակ:Սյունիք!L23) -> 0 | ... AH23: =SUM(Աջափնյակ:Սյունիք!AH23) -> 0 | AJ23: =E23 -> 2 | AK23: =F23+G23+H23+I23 -> 2 | AL23: =J23 -> 2 | AM23: =K23+L23+M23 -> 2 | AN23: =F23+G23+K23 -> 4 | AO23: =X23+Y23+AA23 -> 4 | AP23: =N23 -> 0 | AQ23: =O23+P23+Q23+R23+S23 -> 0 | AR23: =S23 -> 0 | AS23: =T23+U23+V23 -> 0 | AT23: =X23 -> 0 | AU23: =N23+W23 -> 0 | AV23: =AE23 -> 0 | AW23: =AC23+AD23 -> 0 | AX23: =AH23 -> 0 | AY23: =AF23+AG23 -> 0
A24: 1.2 | B24: ê»÷³Ï³ÝáõÃÛ³Ý Çñ³íáõÝùÇ ¹³¹³ñ»óÙ³Ý í»ñ³µ»ñÛ³É | E24: =SUM(Աջափնյակ:Սյունիք!E24) -> 47 | F24: =SUM(Աջափնյակ:Սյունիք!F24) -> 7 | G24: =SUM(Աջափնյակ:Սյունիք!G24) -> 40 | H24: =SUM(Աջափնյակ:Սյունիք!H24) -> 0 | I24: =SUM(Աջափնյակ:Սյունիք!I24) -> 0 | J24: =SUM(Աջափնյակ:Սյունիք!J24) -> 15 | K24: =SUM(Աջափնյակ:Սյունիք!K24) -> 13 | L24: =SUM(Աջափնյակ:Սյունիք!L24) -> 2 | ... AH24: =SUM(Աջափնյակ:Սյունիք!AH24) -> 0 | AJ24: =E24 -> 47 | AK24: =F24+G24+H24+I24 -> 47 | AL24: =J24 -> 15 | AM24: =K24+L24+M24 -> 15 | AN24: =F24+G24+K24 -> 60 | AO24: =X24+Y24+AA24 -> 60 | AP24: =N24 -> 14 | AQ24: =O24+P24+Q24+R24+S24 -> 14 | AR24: =S24 -> 4 | AS24: =T24+U24+V24 -> 4 | AT24: =X24 -> 14 | AU24: =N24+W24 -> 14 | AV24: =AE24 -> 6 | AW24: =AC24+AD24 -> 6 | AX24: =AH24 -> 0 | AY24: =AF24+AG24 -> 0
A25: 1.3 | B25: ¶áõÛùÇ ÝÏ³ïÙ³Ùµ û·ï³·áñÍÙ³Ý Çñ³íáõÝùÁ ×³Ý³ã»Éáõ í»ñ³µ»ñÛ³É | E25: =SUM(Աջափնյակ:Սյունիք!E25) -> 9 | F25: =SUM(Աջափնյակ:Սյունիք!F25) -> 3 | G25: =SUM(Աջափնյակ:Սյունիք!G25) -> 6 | H25: =SUM(Աջափնյակ:Սյունիք!H25) -> 0 | I25: =SUM(Աջափնյակ:Սյունիք!I25) -> 0 | J25: =SUM(Աջափնյակ:Սյունիք!J25) -> 3 | K25: =SUM(Աջափնյակ:Սյունիք!K25) -> 3 | L25: =SUM(Աջափնյակ:Սյունիք!L25) -> 0 | ... AH25: =SUM(Աջափնյակ:Սյունիք!AH25) -> 0 | AJ25: =E25 -> 9 | AK25: =F25+G25+H25+I25 -> 9 | AL25: =J25 -> 3 | AM25: =K25+L25+M25 -> 3 | AN25: =F25+G25+K25 -> 12 | AO25: =X25+Y25+AA25 -> 12 | AP25: =N25 -> 2 | AQ25: =O25+P25+Q25+R25+S25 -> 2 | AR25: =S25 -> 0 | AS25: =T25+U25+V25 -> 0 | AT25: =X25 -> 2 | AU25: =N25+W25 -> 2 | AV25: =AE25 -> 1 | AW25: =AC25+AD25 -> 1 | AX25: =AH25 -> 0 | AY25: =AF25+AG25 -> 0
A26: 1.3.1 | B26: ²Û¹ ÃíáõÙª µÝ³Ïû·ï³·áñÍÙ³Ý Çñ³íáõÝùÁ ×³Ý³ã»Éáõ í»ñ³µ»ñÛ³É | E26: =SUM(Աջափնյակ:Սյունիք!E26) -> 2 | F26: =SUM(Աջափնյակ:Սյունիք!F26) -> 0 | G26: =SUM(Աջափնյակ:Սյունիք!G26) -> 2 | H26: =SUM(Աջափնյակ:Սյունիք!H26) -> 0 | I26: =SUM(Աջափնյակ:Սյունիք!I26) -> 0 | J26: =SUM(Աջափնյակ:Սյունիք!J26) -> 2 | K26: =SUM(Աջափնյակ:Սյունիք!K26) -> 0 | L26: =SUM(Աջափնյակ:Սյունիք!L26) -> 2 | ... AH26: =SUM(Աջափնյակ:Սյունիք!AH26) -> 0 | AJ26: =E26 -> 2 | AK26: =F26+G26+H26+I26 -> 2 | AL26: =J26 -> 2 | AM26: =K26+L26+M26 -> 2 | AN26: =F26+G26+K26 -> 2 | AO26: =X26+Y26+AA26 -> 2 | AP26: =N26 -> 2 | AQ26: =O26+P26+Q26+R26+S26 -> 2 | AR26: =S26 -> 0 | AS26: =T26+U26+V26 -> 0 | AT26: =X26 -> 2 | AU26: =N26+W26 -> 2 | AV26: =AE26 -> 1 | AW26: =AC26+AD26 -> 1 | AX26: =AH26 -> 0 | AY26: =AF26+AG26 -> 0
A27: 1.3.2 | B27: ²Û¹ ÃíáõÙª ÑáÕ³Ù³ëÇ ÝÏ³ïÙ³Ùµ û·ï³·áñÍÙ³Ý Çñ³íáõÝùÁ ×³Ý³ã»Éáõ í»ñ³µ»ñÛ³É | E27: =SUM(Աջափնյակ:Սյունիք!E27) -> 8 | F27: =SUM(Աջափնյակ:Սյունիք!F27) -> 2 | G27: =SUM(Աջափնյակ:Սյունիք!G27) -> 6 | H27: =SUM(Աջափնյակ:Սյունիք!H27) -> 0 | I27: =SUM(Աջափնյակ:Սյունիք!I27) -> 0 | J27: =SUM(Աջափնյակ:Սյունիք!J27) -> 3 | K27: =SUM(Աջափնյակ:Սյունիք!K27) -> 3 | L27: =SUM(Աջափնյակ:Սյունիք!L27) -> 0 | ... AH27: =SUM(Աջափնյակ:Սյունիք!AH27) -> 0 | AJ27: =E27 -> 8 | AK27: =F27+G27+H27+I27 -> 8 | AL27: =J27 -> 3 | AM27: =K27+L27+M27 -> 3 | AN27: =F27+G27+K27 -> 11 | AO27: =X27+Y27+AA27 -> 11 | AP27: =N27 -> 2 | AQ27: =O27+P27+Q27+R27+S27 -> 2 | AR27: =S27 -> 1 | AS27: =T27+U27+V27 -> 1 | AT27: =X27 -> 2 | AU27: =N27+W27 -> 2 | AV27: =AE27 -> 0 | AW27: =AC27+AD27 -> 0 | AX27: =AH27 -> 0 | AY27: =AF27+AG27 -> 0
A28: 1.4 | B28: ¶áõÛùÇ ÝÏ³ïÙ³Ùµ û·ï³·áñÍÙ³Ý Çñ³íáõÝùÁ ¹³¹³ñ»óÝ»Éáõ í»ñ³µ»ñÛ³É | E28: =SUM(Աջափնյակ:Սյունիք!E28) -> 2 | F28: =SUM(Աջափնյակ:Սյունիք!F28) -> 1 | G28: =SUM(Աջափնյակ:Սյունիք!G28) -> 1 | H28: =SUM(Աջափնյակ:Սյունիք!H28) -> 0 | I28: =SUM(Աջափնյակ:Սյունիք!I28) -> 0 | J28: =SUM(Աջափնյակ:Սյունիք!J28) -> 2 | K28: =SUM(Աջափնյակ:Սյունիք!K28) -> 1 | L28: =SUM(Աջափնյակ:Սյունիք!L28) -> 1 | ... AH28: =SUM(Աջափնյակ:Սյունիք!AH28) -> 0 | AJ28: =E28 -> 2 | AK28: =F28+G28+H28+I28 -> 2 | AL28: =J28 -> 2 | AM28: =K28+L28+M28 -> 2 | AN28: =F28+G28+K28 -> 3 | AO28: =X28+Y28+AA28 -> 3 | AP28: =N28 -> 0 | AQ28: =O28+P28+Q28+R28+S28 -> 0 | AR28: =S28 -> 0 | AS28: =T28+U28+V28 -> 0 | AT28: =X28 -> 0 | AU28: =N28+W28 -> 0 | AV28: =AE28 -> 0 | AW28: =AC28+AD28 -> 0 | AX28: =AH28 -> 0 | AY28: =AF28+AG28 -> 0
A29: 1.4.1 | B29: ²Û¹ ÃíáõÙª µÝ³Ïû·ï³·áñÍÙ³Ý Çñ³íáõÝùÁ ¹³¹³ñ»óÝ»Éáõ í»ñ³µ»ñÛ³É | E29: =SUM(Աջափնյակ:Սյունիք!E29) -> 11 | F29: =SUM(Աջափնյակ:Սյունիք!F29) -> 6 | G29: =SUM(Աջափնյակ:Սյունիք!G29) -> 5 | H29: =SUM(Աջափնյակ:Սյունիք!H29) -> 0 | I29: =SUM(Աջափնյակ:Սյունիք!I29) -> 0 | J29: =SUM(Աջափնյակ:Սյունիք!J29) -> 0 | K29: =SUM(Աջափնյակ:Սյունիք!K29) -> 0 | L29: =SUM(Աջափնյակ:Սյունիք!L29) -> 0 | ... AH29: =SUM(Աջափնյակ:Սյունիք!AH29) -> 0 | AJ29: =E29 -> 11 | AK29: =F29+G29+H29+I29 -> 11 | AL29: =J29 -> 0 | AM29: =K29+L29+M29 -> 0 | AN29: =F29+G29+K29 -> 11 | AO29: =X29+Y29+AA29 -> 11 | AP29: =N29 -> 0 | AQ29: =O29+P29+Q29+R29+S29 -> 0 | AR29: =S29 -> 0 | AS29: =T29+U29+V29 -> 0 | AT29: =X29 -> 0 | AU29: =N29+W29 -> 0 | AV29: =AE29 -> 0 | AW29: =AC29+AD29 -> 0 | AX29: =AH29 -> 0 | AY29: =AF29+AG29 -> 0
A30: 1.4.1/1 | B30: ²Û¹ ÃíáõÙª ÷áËÑ³ïáõóÙ³Ùµ | E30: =SUM(Աջափնյակ:Սյունիք!E30) -> 12 | F30: =SUM(Աջափնյակ:Սյունիք!F30) -> 6 | G30: =SUM(Աջափնյակ:Սյունիք!G30) -> 6 | H30: =SUM(Աջափնյակ:Սյունիք!H30) -> 0 | I30: =SUM(Աջափնյակ:Սյունիք!I30) -> 0 | J30: =SUM(Աջափնյակ:Սյունիք!J30) -> 8 | K30: =SUM(Աջափնյակ:Սյունիք!K30) -> 6 | L30: =SUM(Աջափնյակ:Սյունիք!L30) -> 2 | ... AH30: =SUM(Աջափնյակ:Սյունիք!AH30) -> 0 | AJ30: =E30 -> 12 | AK30: =F30+G30+H30+I30 -> 12 | AL30: =J30 -> 8 | AM30: =K30+L30+M30 -> 8 | AN30: =F30+G30+K30 -> 18 | AO30: =X30+Y30+AA30 -> 18 | AP30: =N30 -> 1 | AQ30: =O30+P30+Q30+R30+S30 -> 1 | AR30: =S30 -> 1 | AS30: =T30+U30+V30 -> 1 | AT30: =X30 -> 1 | AU30: =N30+W30 -> 1 | AV30: =AE30 -> 0 | AW30: =AC30+AD30 -> 0 | AX30: =AH30 -> 0 | AY30: =AF30+AG30 -> 0
A31: 1.5 | B31: ´Ý³Ï³ñ³ÝÇó/ ï³ñ³ÍùÇó/ íï³ñ»Éáõ í»ñ³µ»ñÛ³É | E31: =SUM(Աջափնյակ:Սյունիք!E31) -> 202 | F31: =SUM(Աջափնյակ:Սյունիք!F31) -> 73 | G31: =SUM(Աջափնյակ:Սյունիք!G31) -> 129 | H31: =SUM(Աջափնյակ:Սյունիք!H31) -> 0 | I31: =SUM(Աջափնյակ:Սյունիք!I31) -> 0 | J31: =SUM(Աջափնյակ:Սյունիք!J31) -> 72 | K31: =SUM(Աջափնյակ:Սյունիք!K31) -> 61 | L31: =SUM(Աջափնյակ:Սյունիք!L31) -> 11 | ... AH31: =SUM(Աջափնյակ:Սյունիք!AH31) -> 0 | AJ31: =E31 -> 202 | AK31: =F31+G31+H31+I31 -> 202 | AL31: =J31 -> 72 | AM31: =K31+L31+M31 -> 72 | AN31: =F31+G31+K31 -> 263 | AO31: =X31+Y31+AA31 -> 263 | AP31: =N31 -> 66 | AQ31: =O31+P31+Q31+R31+S31 -> 66 | AR31: =S31 -> 22 | AS31: =T31+U31+V31 -> 22 | AT31: =X31 -> 66 | AU31: =N31+W31 -> 66 | AV31: =AE31 -> 24 | AW31: =AC31+AD31 -> 24 | AX31: =AH31 -> 0 | AY31: =AF31+AG31 -> 0
... A38: 1.9 | B38: ²ÛÉ í»×»ñ | E38: =SUM(Աջափնյակ:Սյունիք!E38) -> 662 | F38: =SUM(Աջափնյակ:Սյունիք!F38) -> 198 | G38: =SUM(Աջափնյակ:Սյունիք!G38) -> 464 | H38: =SUM(Աջափնյակ:Սյունիք!H38) -> 0 | I38: =SUM(Աջափնյակ:Սյունիք!I38) -> 0 | J38: =SUM(Աջափնյակ:Սյունիք!J38) -> 246 | K38: =SUM(Աջափնյակ:Սյունիք!K38) -> 190 | L38: =SUM(Աջափնյակ:Սյունիք!L38) -> 49 | ... AH38: =SUM(Աջափնյակ:Սյունիք!AH38) -> 0 | AJ38: =E38 -> 662 | AK38: =F38+G38+H38+I38 -> 662 | AL38: =J38 -> 246 | AM38: =K38+L38+M38 -> 245 | AN38: =F38+G38+K38 -> 852 | AO38: =X38+Y38+AA38 -> 852 | AP38: =N38 -> 205 | AQ38: =O38+P38+Q38+R38+S38 -> 205 | AR38: =S38 -> 60 | AS38: =T38+U38+V38 -> 60 | AT38: =X38 -> 205 | AU38: =N38+W38 -> 205 | AV38: =AE38 -> 47 | AW38: =AC38+AD38 -> 47 | AX38: =AH38 -> 0 | AY38: =AF38+AG38 -> 0
A39: 2. | B39: ¶áñÍ³ñùÝ»ñÇ Ñ»ï Ï³åí³Í Çñ³í³Ñ³ñ³µ»ñáõÃÛáõÝÝ»ñÇ í»ñ³µ»ñÛ³É ¹³ï³Ï³Ý ·áñÍ»ñ | E39: =SUM(Աջափնյակ:Սյունիք!E39) -> 1199 | F39: =SUM(Աջափնյակ:Սյունիք!F39) -> 206 | G39: =SUM(Աջափնյակ:Սյունիք!G39) -> 992 | H39: =SUM(Աջափնյակ:Սյունիք!H39) -> 1 | I39: =SUM(Աջափնյակ:Սյունիք!I39) -> 0 | J39: =SUM(Աջափնյակ:Սյունիք!J39) -> 523 | K39: =SUM(Աջափնյակ:Սյունիք!K39) -> 422 | L39: =SUM(Աջափնյակ:Սյունիք!L39) -> 86 | ... AH39: =SUM(Աջափնյակ:Սյունիք!AH39) -> 20 | AJ39: =SUM(AJ40:AJ50) -> 1199 | AK39: =SUM(AK40:AK50) -> 1199 | AL39: =SUM(AL40:AL50) -> 523 | AM39: =SUM(AM40:AM50) -> 522 | AN39: =SUM(AN40:AN50) -> 1620 | AO39: =SUM(AO40:AO50) -> 1617 | AP39: =SUM(AP40:AP50) -> 391 | AQ39: =SUM(AQ40:AQ50) -> 391 | ... AY39: =SUM(AY40:AY50) -> 20
A40: 2.1 | B40: ·áñÍ³ñùÝ»ñÇ ³Ýí³í»ñáõÃÛ³Ý Ñ»ï Ï³åí³Í í»×»ñ | E40: =SUM(Աջափնյակ:Սյունիք!E40) -> 151 | F40: =SUM(Աջափնյակ:Սյունիք!F40) -> 27 | G40: =SUM(Աջափնյակ:Սյունիք!G40) -> 124 | H40: =SUM(Աջափնյակ:Սյունիք!H40) -> 0 | I40: =SUM(Աջափնյակ:Սյունիք!I40) -> 0 | J40: =SUM(Աջափնյակ:Սյունիք!J40) -> 71 | K40: =SUM(Աջափնյակ:Սյունիք!K40) -> 51 | L40: =SUM(Աջափնյակ:Սյունիք!L40) -> 16 | ... AH40: =SUM(Աջափնյակ:Սյունիք!AH40) -> 3 | AJ40: =E40 -> 151 | AK40: =F40+G40+H40+I40 -> 151 | AL40: =J40 -> 71 | AM40: =K40+L40+M40 -> 70 | AN40: =F40+G40+K40 -> 202 | AO40: =X40+Y40+AA40 -> 202 | AP40: =N40 -> 40 | AQ40: =O40+P40+Q40+R40+S40 -> 40 | AR40: =S40 -> 10 | AS40: =T40+U40+V40 -> 10 | AT40: =X40 -> 40 | AU40: =N40+W40 -> 40 | AV40: =AE40 -> 21 | AW40: =AC40+AD40 -> 21 | AX40: =AH40 -> 3 | AY40: =AF40+AG40 -> 3
A41: 2.1.1 | B41: ³Û¹ ÃíáõÙ` íÇ×³Ñ³ñáõÛó ·áñÍ³ñùÝ»ñÝ ³Ýí³í»ñ ×³Ý³ã»Éáõ í»ñ³µ»ñÛ³É | E41: =SUM(Աջափնյակ:Սյունիք!E41) -> 6 | F41: =SUM(Աջափնյակ:Սյունիք!F41) -> 2 | G41: =SUM(Աջափնյակ:Սյունիք!G41) -> 4 | H41: =SUM(Աջափնյակ:Սյունիք!H41) -> 0 | I41: =SUM(Աջափնյակ:Սյունիք!I41) -> 0 | J41: =SUM(Աջափնյակ:Սյունիք!J41) -> 4 | K41: =SUM(Աջափնյակ:Սյունիք!K41) -> 2 | L41: =SUM(Աջափնյակ:Սյունիք!L41) -> 2 | ... AH41: =SUM(Աջափնյակ:Սյունիք!AH41) -> 0 | AJ41: =E41 -> 6 | AK41: =F41+G41+H41+I41 -> 6 | AL41: =J41 -> 4 | AM41: =K41+L41+M41 -> 4 | AN41: =F41+G41+K41 -> 8 | AO41: =X41+Y41+AA41 -> 10 | AP41: =N41 -> 4 | AQ41: =O41+P41+Q41+R41+S41 -> 4 | AR41: =S41 -> 1 | AS41: =T41+U41+V41 -> 1 | AT41: =X41 -> 4 | AU41: =N41+W41 -> 4 | AV41: =AE41 -> 1 | AW41: =AC41+AD41 -> 1 | AX41: =AH41 -> 0 | AY41: =AF41+AG41 -> 0
A42: 2.1.2 | B42: ³Û¹ ÃíáõÙ` ·áñÍ³ñùÇ ³éáãÝãáõÃÛ³Ý Ñ»ï¨³ÝùÝ»ñ ÏÇñ³é»Éáõ í»ñ³µ»ñÛ³É | E42: =SUM(Աջափնյակ:Սյունիք!E42) -> 124 | F42: =SUM(Աջափնյակ:Սյունիք!F42) -> 8 | G42: =SUM(Աջափնյակ:Սյունիք!G42) -> 116 | H42: =SUM(Աջափնյակ:Սյունիք!H42) -> 0 | I42: =SUM(Աջափնյակ:Սյունիք!I42) -> 0 | J42: =SUM(Աջափնյակ:Սյունիք!J42) -> 55 | K42: =SUM(Աջափնյակ:Սյունիք!K42) -> 44 | L42: =SUM(Աջափնյակ:Սյունիք!L42) -> 9 | ... AH42: =SUM(Աջափնյակ:Սյունիք!AH42) -> 3 | AJ42: =E42 -> 124 | AK42: =F42+G42+H42+I42 -> 124 | AL42: =J42 -> 55 | AM42: =K42+L42+M42 -> 55 | AN42: =F42+G42+K42 -> 168 | AO42: =X42+Y42+AA42 -> 166 | AP42: =N42 -> 31 | AQ42: =O42+P42+Q42+R42+S42 -> 31 | AR42: =S42 -> 10 | AS42: =T42+U42+V42 -> 10 | AT42: =X42 -> 31 | AU42: =N42+W42 -> 31 | AV42: =AE42 -> 12 | AW42: =AC42+AD42 -> 12 | AX42: =AH42 -> 3 | AY42: =AF42+AG42 -> 3
A43: 2.2 | B43: ¶áñÍ³ñùÁ í³í»ñ ×³Ý³ã»Éáõ í»ñ³µ»ñÛ³É | E43: =SUM(Աջափնյակ:Սյունիք!E43) -> 47 | F43: =SUM(Աջափնյակ:Սյունիք!F43) -> 2 | G43: =SUM(Աջափնյակ:Սյունիք!G43) -> 45 | H43: =SUM(Աջափնյակ:Սյունիք!H43) -> 0 | I43: =SUM(Աջափնյակ:Սյունիք!I43) -> 0 | J43: =SUM(Աջափնյակ:Սյունիք!J43) -> 42 | K43: =SUM(Աջափնյակ:Սյունիք!K43) -> 39 | L43: =SUM(Աջափնյակ:Սյունիք!L43) -> 2 | ... AH43: =SUM(Աջափնյակ:Սյունիք!AH43) -> 1 | AJ43: =E43 -> 47 | AK43: =F43+G43+H43+I43 -> 47 | AL43: =J43 -> 42 | AM43: =K43+L43+M43 -> 42 | AN43: =F43+G43+K43 -> 86 | AO43: =X43+Y43+AA43 -> 86 | AP43: =N43 -> 40 | AQ43: =O43+P43+Q43+R43+S43 -> 40 | AR43: =S43 -> 3 | AS43: =T43+U43+V43 -> 3 | AT43: =X43 -> 40 | AU43: =N43+W43 -> 40 | AV43: =AE43 -> 6 | AW43: =AC43+AD43 -> 6 | AX43: =AH43 -> 1 | AY43: =AF43+AG43 -> 1
A44: 2.3 | B44: ¶áñÍ³ñùÇó Í³·áÕ Çñ³íáõÝùÝ»ñÁ ·ñ³Ýó»Éáõ í»ñ³µ»ñÛ³É | E44: =SUM(Աջափնյակ:Սյունիք!E44) -> 0 | F44: =SUM(Աջափնյակ:Սյունիք!F44) -> 0 | G44: =SUM(Աջափնյակ:Սյունիք!G44) -> 0 | H44: =SUM(Աջափնյակ:Սյունիք!H44) -> 0 | I44: =SUM(Աջափնյակ:Սյունիք!I44) -> 0 | J44: =SUM(Աջափնյակ:Սյունիք!J44) -> 0 | K44: =SUM(Աջափնյակ:Սյունիք!K44) -> 0 | L44: =SUM(Աջափնյակ:Սյունիք!L44) -> 0 | ... AH44: =SUM(Աջափնյակ:Սյունիք!AH44) -> 0 | AJ44: =E44 -> 0 | AK44: =F44+G44+H44+I44 -> 0 | AL44: =J44 -> 0 | AM44: =K44+L44+M44 -> 0 | AN44: =F44+G44+K44 -> 0 | AO44: =X44+Y44+AA44 -> 0 | AP44: =N44 -> 0 | AQ44: =O44+P44+Q44+R44+S44 -> 0 | AR44: =S44 -> 0 | AS44: =T44+U44+V44 -> 0 | AT44: =X44 -> 0 | AU44: =N44+W44 -> 0 | AV44: =AE44 -> 0 | AW44: =AC44+AD44 -> 0 | AX44: =AH44 -> 0 | AY44: =AF44+AG44 -> 0
A45: 2.4 | B45: ä³ÛÙ³Ý³·ÇñÝ ³Ýí³í»ñ ×³Ý³ã»Éáõ í»ñ³µ»ñÛ³É | E45: =SUM(Աջափնյակ:Սյունիք!E45) -> 383 | F45: =SUM(Աջափնյակ:Սյունիք!F45) -> 65 | G45: =SUM(Աջափնյակ:Սյունիք!G45) -> 317 | H45: =SUM(Աջափնյակ:Սյունիք!H45) -> 1 | I45: =SUM(Աջափնյակ:Սյունիք!I45) -> 0 | J45: =SUM(Աջափնյակ:Սյունիք!J45) -> 143 | K45: =SUM(Աջափնյակ:Սյունիք!K45) -> 114 | L45: =SUM(Աջափնյակ:Սյունիք!L45) -> 26 | ... AH45: =SUM(Աջափնյակ:Սյունիք!AH45) -> 12 | AJ45: =E45 -> 383 | AK45: =F45+G45+H45+I45 -> 383 | AL45: =J45 -> 143 | AM45: =K45+L45+M45 -> 143 | AN45: =F45+G45+K45 -> 496 | AO45: =X45+Y45+AA45 -> 494 | AP45: =N45 -> 118 | AQ45: =O45+P45+Q45+R45+S45 -> 118 | AR45: =S45 -> 30 | AS45: =T45+U45+V45 -> 30 | AT45: =X45 -> 118 | AU45: =N45+W45 -> 118 | AV45: =AE45 -> 66 | AW45: =AC45+AD45 -> 66 | AX45: =AH45 -> 12 | AY45: =AF45+AG45 -> 12
A46: 2.5 | B46: ä³ÛÙ³Ý³·ñÇÁ í³í»ñ ×³Ý³ã»Éáõ í»ñ³µ»ñÛ³É | E46: =SUM(Աջափնյակ:Սյունիք!E46) -> 44 | F46: =SUM(Աջափնյակ:Սյունիք!F46) -> 5 | G46: =SUM(Աջափնյակ:Սյունիք!G46) -> 39 | H46: =SUM(Աջափնյակ:Սյունիք!H46) -> 0 | I46: =SUM(Աջափնյակ:Սյունիք!I46) -> 0 | J46: =SUM(Աջափնյակ:Սյունիք!J46) -> 20 | K46: =SUM(Աջափնյակ:Սյունիք!K46) -> 15 | L46: =SUM(Աջափնյակ:Սյունիք!L46) -> 5 | ... AH46: =SUM(Աջափնյակ:Սյունիք!AH46) -> 0 | AJ46: =E46 -> 44 | AK46: =F46+G46+H46+I46 -> 44 | AL46: =J46 -> 20 | AM46: =K46+L46+M46 -> 20 | AN46: =F46+G46+K46 -> 59 | AO46: =X46+Y46+AA46 -> 59 | AP46: =N46 -> 13 | AQ46: =O46+P46+Q46+R46+S46 -> 13 | AR46: =S46 -> 7 | AS46: =T46+U46+V46 -> 7 | AT46: =X46 -> 13 | AU46: =N46+W46 -> 13 | AV46: =AE46 -> 2 | AW46: =AC46+AD46 -> 2 | AX46: =AH46 -> 0 | AY46: =AF46+AG46 -> 0
A47: 2.6 | B47: ä³ÛÙ³Ý³·ñÇó Í³·áÕ Çñ³íáõÝùÝ»ñÁ ·ñ³Ýó»Éáõ í»ñ³µ»ñÛ³É | E47: =SUM(Աջափնյակ:Սյունիք!E47) -> 0 | F47: =SUM(Աջափնյակ:Սյունիք!F47) -> 0 | G47: =SUM(Աջափնյակ:Սյունիք!G47) -> 0 | H47: =SUM(Աջափնյակ:Սյունիք!H47) -> 0 | I47: =SUM(Աջափնյակ:Սյունիք!I47) -> 0 | J47: =SUM(Աջափնյակ:Սյունիք!J47) -> 0 | K47: =SUM(Աջափնյակ:Սյունիք!K47) -> 0 | L47: =SUM(Աջափնյակ:Սյունիք!L47) -> 0 | ... AH47: =SUM(Աջափնյակ:Սյունիք!AH47) -> 0 | AJ47: =E47 -> 0 | AK47: =F47+G47+H47+I47 -> 0 | AL47: =J47 -> 0 | AM47: =K47+L47+M47 -> 0 | AN47: =F47+G47+K47 -> 0 | AO47: =X47+Y47+AA47 -> 0 | AP47: =N47 -> 0 | AQ47: =O47+P47+Q47+R47+S47 -> 0 | AR47: =S47 -> 0 | AS47: =T47+U47+V47 -> 0 | AT47: =X47 -> 0 | AU47: =N47+W47 -> 0 | AV47: =AE47 -> 0 | AW47: =AC47+AD47 -> 0 | AX47: =AH47 -> 0 | AY47: =AF47+AG47 -> 0
A48: 2.7 | B48: ä³ÛÙ³Ý³·ÇñÁ ÷á÷áË»Éáõ ¨ ÉáõÍ»Éáõ í»ñ³µ»ñÛ³É | E48: =SUM(Աջափնյակ:Սյունիք!E48) -> 97 | F48: =SUM(Աջափնյակ:Սյունիք!F48) -> 20 | G48: =SUM(Աջափնյակ:Սյունիք!G48) -> 77 | H48: =SUM(Աջափնյակ:Սյունիք!H48) -> 0 | I48: =SUM(Աջափնյակ:Սյունիք!I48) -> 0 | J48: =SUM(Աջափնյակ:Սյունիք!J48) -> 24 | K48: =SUM(Աջափնյակ:Սյունիք!K48) -> 23 | L48: =SUM(Աջափնյակ:Սյունիք!L48) -> 1 | ... AH48: =SUM(Աջափնյակ:Սյունիք!AH48) -> 0 | AJ48: =E48 -> 97 | AK48: =F48+G48+H48+I48 -> 97 | AL48: =J48 -> 24 | AM48: =K48+L48+M48 -> 24 | AN48: =F48+G48+K48 -> 120 | AO48: =X48+Y48+AA48 -> 120 | AP48: =N48 -> 36 | AQ48: =O48+P48+Q48+R48+S48 -> 36 | AR48: =S48 -> 11 | AS48: =T48+U48+V48 -> 11 | AT48: =X48 -> 36 | AU48: =N48+W48 -> 36 | AV48: =AE48 -> 5 | AW48: =AC48+AD48 -> 5 | AX48: =AH48 -> 0 | AY48: =AF48+AG48 -> 0
A49: 2.8 | B49: ä³ÛÙ³Ý³·Çñ ÏÝù»ÉáõÝ å³ñï³íáñ»óÝ»Éáõ í»ñ³µ»ñÛ³É | E49: =SUM(Աջափնյակ:Սյունիք!E49) -> 105 | F49: =SUM(Աջափնյակ:Սյունիք!F49) -> 29 | G49: =SUM(Աջափնյակ:Սյունիք!G49) -> 76 | H49: =SUM(Աջափնյակ:Սյունիք!H49) -> 0 | I49: =SUM(Աջափնյակ:Սյունիք!I49) -> 0 | J49: =SUM(Աջափնյակ:Սյունիք!J49) -> 30 | K49: =SUM(Աջափնյակ:Սյունիք!K49) -> 27 | L49: =SUM(Աջափնյակ:Սյունիք!L49) -> 3 | ... AH49: =SUM(Աջափնյակ:Սյունիք!AH49) -> 0 | AJ49: =E49 -> 105 | AK49: =F49+G49+H49+I49 -> 105 | AL49: =J49 -> 30 | AM49: =K49+L49+M49 -> 30 | AN49: =F49+G49+K49 -> 132 | AO49: =X49+Y49+AA49 -> 132 | AP49: =N49 -> 32 | AQ49: =O49+P49+Q49+R49+S49 -> 32 | AR49: =S49 -> 5 | AS49: =T49+U49+V49 -> 5 | AT49: =X49 -> 32 | AU49: =N49+W49 -> 32 | AV49: =AE49 -> 7 | AW49: =AC49+AD49 -> 7 | AX49: =AH49 -> 0 | AY49: =AF49+AG49 -> 0
A50: 2.9 | B50: ²ÛÉ í»×»ñ | E50: =SUM(Աջափնյակ:Սյունիք!E50) -> 242 | F50: =SUM(Աջափնյակ:Սյունիք!F50) -> 48 | G50: =SUM(Աջափնյակ:Սյունիք!G50) -> 194 | H50: =SUM(Աջափնյակ:Սյունիք!H50) -> 0 | I50: =SUM(Աջափնյակ:Սյունիք!I50) -> 0 | J50: =SUM(Աջափնյակ:Սյունիք!J50) -> 134 | K50: =SUM(Աջափնյակ:Սյունիք!K50) -> 107 | L50: =SUM(Աջափնյակ:Սյունիք!L50) -> 22 | ... AH50: =SUM(Աջափնյակ:Սյունիք!AH50) -> 1 | AJ50: =E50 -> 242 | AK50: =F50+G50+H50+I50 -> 242 | AL50: =J50 -> 134 | AM50: =K50+L50+M50 -> 134 | AN50: =F50+G50+K50 -> 349 | AO50: =X50+Y50+AA50 -> 348 | AP50: =N50 -> 77 | AQ50: =O50+P50+Q50+R50+S50 -> 77 | AR50: =S50 -> 27 | AS50: =T50+U50+V50 -> 27 | AT50: =X50 -> 77 | AU50: =N50+W50 -> 77 | AV50: =AE50 -> 26 | AW50: =AC50+AD50 -> 26 | AX50: =AH50 -> 1 | AY50: =AF50+AG50 -> 1
A51: 3. | B51: Ä³é³Ý·áõÃÛ³Ý Ñ»ï Ï³åí³Í Çñ³í³Ñ³ñ³µ»ñáõÃÛáõÝÝ»ñÇ í»ñ³µ»ñÛ³É ¹³ï³Ï³Ý ·áñÍ»ñ | E51: =SUM(Աջափնյակ:Սյունիք!E51) -> 323 | F51: =SUM(Աջափնյակ:Սյունիք!F51) -> 53 | G51: =SUM(Աջափնյակ:Սյունիք!G51) -> 270 | H51: =SUM(Աջափնյակ:Սյունիք!H51) -> 0 | I51: =SUM(Աջափնյակ:Սյունիք!I51) -> 0 | J51: =SUM(Աջափնյակ:Սյունիք!J51) -> 175 | K51: =SUM(Աջափնյակ:Սյունիք!K51) -> 136 | L51: =SUM(Աջափնյակ:Սյունիք!L51) -> 38 | ... AH51: =SUM(Աջափնյակ:Սյունիք!AH51) -> 3 | AJ51: =SUM(AJ52:AJ58) -> 323 | AK51: =SUM(AK52:AK58) -> 323 | AL51: =SUM(AL52:AL58) -> 175 | AM51: =SUM(AM52:AM58) -> 175 | AN51: =SUM(AN52:AN58) -> 459 | AO51: =SUM(AO52:AO58) -> 457 | AP51: =SUM(AP52:AP58) -> 136 | AQ51: =SUM(AQ52:AQ58) -> 136 | ... AY51: =SUM(AY52:AY58) -> 3
A52: 3.1 | B52: Îï³ÏÝ ³Ýí³í»ñ ×³Ý³ã»Éáõ í»ñ³µ»ñÛ³É | E52: =SUM(Աջափնյակ:Սյունիք!E52) -> 14 | F52: =SUM(Աջափնյակ:Սյունիք!F52) -> 3 | G52: =SUM(Աջափնյակ:Սյունիք!G52) -> 11 | H52: =SUM(Աջափնյակ:Սյունիք!H52) -> 0 | I52: =SUM(Աջափնյակ:Սյունիք!I52) -> 0 | J52: =SUM(Աջափնյակ:Սյունիք!J52) -> 9 | K52: =SUM(Աջափնյակ:Սյունիք!K52) -> 9 | L52: =SUM(Աջափնյակ:Սյունիք!L52) -> 0 | ... AH52: =SUM(Աջափնյակ:Սյունիք!AH52) -> 0 | AJ52: =E52 -> 14 | AK52: =F52+G52+H52+I52 -> 14 | AL52: =J52 -> 9 | AM52: =K52+L52+M52 -> 9 | AN52: =F52+G52+K52 -> 23 | AO52: =X52+Y52+AA52 -> 23 | AP52: =N52 -> 4 | AQ52: =O52+P52+Q52+R52+S52 -> 4 | AR52: =S52 -> 0 | AS52: =T52+U52+V52 -> 0 | AT52: =X52 -> 4 | AU52: =N52+W52 -> 4 | AV52: =AE52 -> 2 | AW52: =AC52+AD52 -> 2 | AX52: =AH52 -> 0 | AY52: =AF52+AG52 -> 0
A53: 3.2 | B53: ²Ý³ñÅ³Ý Å³é³Ý· ×³Ý³ã»Éáõ í»ñ³µ»ñÛ³É | E53: =SUM(Աջափնյակ:Սյունիք!E53) -> 0 | F53: =SUM(Աջափնյակ:Սյունիք!F53) -> 0 | G53: =SUM(Աջափնյակ:Սյունիք!G53) -> 0 | H53: =SUM(Աջափնյակ:Սյունիք!H53) -> 0 | I53: =SUM(Աջափնյակ:Սյունիք!I53) -> 0 | J53: =SUM(Աջափնյակ:Սյունիք!J53) -> 1 | K53: =SUM(Աջափնյակ:Սյունիք!K53) -> 0 | L53: =SUM(Աջափնյակ:Սյունիք!L53) -> 1 | ... AH53: =SUM(Աջափնյակ:Սյունիք!AH53) -> 0 | AJ53: =E53 -> 0 | AK53: =F53+G53+H53+I53 -> 0 | AL53: =J53 -> 1 | AM53: =K53+L53+M53 -> 1 | AN53: =F53+G53+K53 -> 0 | AO53: =X53+Y53+AA53 -> 0 | AP53: =N53 -> 0 | AQ53: =O53+P53+Q53+R53+S53 -> 0 | AR53: =S53 -> 0 | AS53: =T53+U53+V53 -> 0 | AT53: =X53 -> 0 | AU53: =N53+W53 -> 0 | AV53: =AE53 -> 0 | AW53: =AC53+AD53 -> 0 | AX53: =AH53 -> 0 | AY53: =AF53+AG53 -> 0
A54: 3.3 | B54: Ä³é³Ý·áõÃÛáõÝÁ µ³Å³Ý»Éáõ í»ñ³µ»ñÛ³É | E54: =SUM(Աջափնյակ:Սյունիք!E54) -> 10 | F54: =SUM(Աջափնյակ:Սյունիք!F54) -> 2 | G54: =SUM(Աջափնյակ:Սյունիք!G54) -> 8 | H54: =SUM(Աջափնյակ:Սյունիք!H54) -> 0 | I54: =SUM(Աջափնյակ:Սյունիք!I54) -> 0 | J54: =SUM(Աջափնյակ:Սյունիք!J54) -> 1 | K54: =SUM(Աջափնյակ:Սյունիք!K54) -> 1 | L54: =SUM(Աջափնյակ:Սյունիք!L54) -> 0 | ... AH54: =SUM(Աջափնյակ:Սյունիք!AH54) -> 0 | AJ54: =E54 -> 10 | AK54: =F54+G54+H54+I54 -> 10 | AL54: =J54 -> 1 | AM54: =K54+L54+M54 -> 1 | AN54: =F54+G54+K54 -> 11 | AO54: =X54+Y54+AA54 -> 11 | AP54: =N54 -> 2 | AQ54: =O54+P54+Q54+R54+S54 -> 2 | AR54: =S54 -> 1 | AS54: =T54+U54+V54 -> 1 | AT54: =X54 -> 2 | AU54: =N54+W54 -> 2 | AV54: =AE54 -> 2 | AW54: =AC54+AD54 -> 2 | AX54: =AH54 -> 0 | AY54: =AF54+AG54 -> 0
A55: 3.4 | B55: ¶áõÛùÝ ³ÝÅ³é³Ý· ×³Ý³ã»Éáõ í»ñ³µ»ñÛ³É | E55: =SUM(Աջափնյակ:Սյունիք!E55) -> 1 | F55: =SUM(Աջափնյակ:Սյունիք!F55) -> 0 | G55: =SUM(Աջափնյակ:Սյունիք!G55) -> 1 | H55: =SUM(Աջափնյակ:Սյունիք!H55) -> 0 | I55: =SUM(Աջափնյակ:Սյունիք!I55) -> 0 | J55: =SUM(Աջափնյակ:Սյունիք!J55) -> 1 | K55: =SUM(Աջափնյակ:Սյունիք!K55) -> 0 | L55: =SUM(Աջափնյակ:Սյունիք!L55) -> 1 | ... AH55: =SUM(Աջափնյակ:Սյունիք!AH55) -> 0 | AJ55: =E55 -> 1 | AK55: =F55+G55+H55+I55 -> 1 | AL55: =J55 -> 1 | AM55: =K55+L55+M55 -> 1 | AN55: =F55+G55+K55 -> 1 | AO55: =X55+Y55+AA55 -> 1 | AP55: =N55 -> 0 | AQ55: =O55+P55+Q55+R55+S55 -> 0 | AR55: =S55 -> 0 | AS55: =T55+U55+V55 -> 0 | AT55: =X55 -> 0 | AU55: =N55+W55 -> 0 | AV55: =AE55 -> 0 | AW55: =AC55+AD55 -> 0 | AX55: =AH55 -> 0 | AY55: =AF55+AG55 -> 0
A56: 3.5 | B56: Àëï ûñ»ÝùÇ Å³é³Ý·áõÃÛ³Ý Çñ³íáõÝùÇ íÏ³Û³·ÇñÝ ³Ýí³í»ñ ×³Ý³ã»Éáõ í»ñ³µ»ñÛ³É | E56: =SUM(Աջափնյակ:Սյունիք!E56) -> 15 | F56: =SUM(Աջափնյակ:Սյունիք!F56) -> 0 | G56: =SUM(Աջափնյակ:Սյունիք!G56) -> 15 | H56: =SUM(Աջափնյակ:Սյունիք!H56) -> 0 | I56: =SUM(Աջափնյակ:Սյունիք!I56) -> 0 | J56: =SUM(Աջափնյակ:Սյունիք!J56) -> 9 | K56: =SUM(Աջափնյակ:Սյունիք!K56) -> 5 | L56: =SUM(Աջափնյակ:Սյունիք!L56) -> 4 | ... AH56: =SUM(Աջափնյակ:Սյունիք!AH56) -> 0 | AJ56: =E56 -> 15 | AK56: =F56+G56+H56+I56 -> 15 | AL56: =J56 -> 9 | AM56: =K56+L56+M56 -> 9 | AN56: =F56+G56+K56 -> 20 | AO56: =X56+Y56+AA56 -> 20 | AP56: =N56 -> 1 | AQ56: =O56+P56+Q56+R56+S56 -> 1 | AR56: =S56 -> 0 | AS56: =T56+U56+V56 -> 0 | AT56: =X56 -> 1 | AU56: =N56+W56 -> 1 | AV56: =AE56 -> 0 | AW56: =AC56+AD56 -> 0 | AX56: =AH56 -> 0 | AY56: =AF56+AG56 -> 0
A57: 3.6 | B57: Ä³é³Ý·áõÃÛáõÝÝ ÁÝ¹áõÝ»Éáõ µ³ó ÃáÕÝí³Í Å³ÙÏ»ïÁ Ñ³ñ·»ÉÇ Ñ³Ù³ñ»Éáõ í»ñ³µ»ñÛ³É | E57: =SUM(Աջափնյակ:Սյունիք!E57) -> 54 | F57: =SUM(Աջափնյակ:Սյունիք!F57) -> 6 | G57: =SUM(Աջափնյակ:Սյունիք!G57) -> 48 | H57: =SUM(Աջափնյակ:Սյունիք!H57) -> 0 | I57: =SUM(Աջափնյակ:Սյունիք!I57) -> 0 | J57: =SUM(Աջափնյակ:Սյունիք!J57) -> 35 | K57: =SUM(Աջափնյակ:Սյունիք!K57) -> 25 | L57: =SUM(Աջափնյակ:Սյունիք!L57) -> 10 | ... AH57: =SUM(Աջափնյակ:Սյունիք!AH57) -> 0 | AJ57: =E57 -> 54 | AK57: =F57+G57+H57+I57 -> 54 | AL57: =J57 -> 35 | AM57: =K57+L57+M57 -> 35 | AN57: =F57+G57+K57 -> 79 | AO57: =X57+Y57+AA57 -> 79 | AP57: =N57 -> 33 | AQ57: =O57+P57+Q57+R57+S57 -> 33 | AR57: =S57 -> 10 | AS57: =T57+U57+V57 -> 10 | AT57: =X57 -> 33 | AU57: =N57+W57 -> 33 | AV57: =AE57 -> 4 | AW57: =AC57+AD57 -> 4 | AX57: =AH57 -> 0 | AY57: =AF57+AG57 -> 0
A58: 3.7 | B58: ²ÛÉ í»×»ñ | E58: =SUM(Աջափնյակ:Սյունիք!E58) -> 229 | F58: =SUM(Աջափնյակ:Սյունիք!F58) -> 42 | G58: =SUM(Աջափնյակ:Սյունիք!G58) -> 187 | H58: =SUM(Աջափնյակ:Սյունիք!H58) -> 0 | I58: =SUM(Աջափնյակ:Սյունիք!I58) -> 0 | J58: =SUM(Աջափնյակ:Սյունիք!J58) -> 119 | K58: =SUM(Աջափնյակ:Սյունիք!K58) -> 96 | L58: =SUM(Աջափնյակ:Սյունիք!L58) -> 22 | ... AH58: =SUM(Աջափնյակ:Սյունիք!AH58) -> 3 | AJ58: =E58 -> 229 | AK58: =F58+G58+H58+I58 -> 229 | AL58: =J58 -> 119 | AM58: =K58+L58+M58 -> 119 | AN58: =F58+G58+K58 -> 325 | AO58: =X58+Y58+AA58 -> 323 | AP58: =N58 -> 96 | AQ58: =O58+P58+Q58+R58+S58 -> 96 | AR58: =S58 -> 27 | AS58: =T58+U58+V58 -> 27 | AT58: =X58 -> 97 | AU58: =N58+W58 -> 97 | AV58: =AE58 -> 13 | AW58: =AC58+AD58 -> 13 | AX58: =AH58 -> 3 | AY58: =AF58+AG58 -> 3
...

Sheet Աջափնյակ
A1: 2017Ã. 1-ին ÏÇë³ÙÛ³Ï | E1: Ð²ÞìºîìàôÂÚàôÜ | AC1: Ð³í»Éí³Í Ð³Û³ëï³ÝÇ Ð³Ýñ³å»ïáõÃÛ³Ý ¸³ï³ñ³ÝÝ»ñÇ Ý³Ë³·³ÑÝ»ñÇ ËáñÑñ¹Ç 25.08.2017Ã. ÃÇí 35-È áñáßÙ³Ý
A2: ºðºì²Ü ø²Ô²øÆ ²æ²öÜÚ²Î ºì ¸²ìÂ²ÞºÜ ì²ðâ²Î²Ü Þðæ²ÜÜºðÆ ÀÜ¸Ð²Üàôð Æð²ì²êàôÂÚ²Ü ²è²æÆÜ ²îÚ²ÜÆ ¸²î²ð²ÜàôØ ø²Ô²ø²òÆ²Î²Ü ¶àðÌºðÆ øÜÜàôÂÚ²Ü ìºð²´ºðÚ²È
A3: ºñ¨³Ý ù³Õ³ùÇ ²ç³÷ÝÛ³Ï ¨ ¸³íÃ³ß»Ý í³ñã³Ï³Ý ßñç³ÝÝ»ñÇ ÁÝ¹Ñ³Ýáõñ Çñ³í³ëáõÃÛ³Ý ³é³çÇÝ ³ïÛ³ÝÇ ¹³ï³ñ³ÝáõÙ ù³Õ³ù³óÇ³Ï³Ý Ù³ëÝ³·Çï³óáõÙ áõÝ»óáÕ ¹³ï³íáñÝ»ñÇ Ñ³ëïÇùÝ»ñÇ ù³Ý³ÏÁ` 5
E4: Ð³ßí»ïáõ Å³Ù³Ý³Ï³Ñ³ïí³ÍáõÙ Ý³Ëáñ¹ Ñ³ßí»ïáõ Å³Ù³Ý³Ï³Ñ³ïí³ÍÇó ÷áË³Ýóí³Í ·áñÍ»ñÇ ÁÝ¹Ñ³Ýáõñ ÃÇíÁ | J4: Ð³ßí»ïáõ Å³Ù³Ý³Ï³Ñ³ïí³ÍáõÙëï³óí³Í ·áñÍ»ñÇ (³Û¹ ÃíáõÙ` Ñ³Ûó³¹ÇÙáõÙÝ»ñÇ, ¹ÇÙáõÙÝ»ñÇ) ÁÝ¹Ñ³Ýáõñ ÃÇíÁ | N4: Ð³ßí»ïáõ Å³Ù³Ý³Ï³Ñ³ïí³ÍáõÙ ³í³ñïí³Í ·áñÍ»ñÇ ÁÝ¹Ñ³Ýáõñ ÃÇíÁ | Y4: ¶áñÍÝ áõÕ³ñÏí»É ¿ Áëï ÁÝ¹¹³ïáõÃÛ³Ý | Z4: Ð³ßí»ïáõ Å³Ù³Ý³Ï³Ñ³ïí³ÍáõÙ Ï³ë»óí³Í í³ñáõÛÃÝ»ñáí ·áñÍ»ñÇ ÁÝ¹Ñ³Ýáõñ ÃÇíÁ | AA4: Ð³ßí»ïáõ Å³Ù³Ý³Ï³Ñ³ïí³ÍáõÙ ³Ý³í³ñï ·áñÍ»ñÇ ÁÝ¹Ñ³Ýáõñ ÃÇíÁ | AB4: ²Û¹ ÃíáõÙª Ï³ë»óí³Í | AC4: ´áÕáù³ñÏí³Í ¹³ï³Ï³Ý ³Ïï»ñÇ ÃÇíÁ` Áëï ï»ë³ÏÝ»ñÇ | AF4: ´»Ï³Ýí³Í ¹³ï³Ï³Ý ³Ïï»ñÇ ÃÇíÁ` Áëï ï»ë³ÏÝ»ñÇ
E7: ÀÝ¹³Ù»ÝÁ | F7: ²Û¹ ÃíáõÙ`Ï³ë»óí³Í íÇ×³ÏáõÙ ÷áË³Ýóí³Í | G7: ²Û¹ ÃíáõÙª ÁÝ¹áõÝí»É ¿ í³ñáõÛÃ | H7: ²Û¹ ÃíáõÙª í»ñ³¹³ñÓí»É ¿ | I7: ²Û¹ ÃíáõÙª ÁÝ¹áõÝáõÙÁ Ù»ñÅí»É ¿ | J7: ÀÝ¹³Ù»ÝÁ | K7: ²Û¹ ÃíáõÙª ÁÝ¹áõÝí»É ¿ í³ñáõÛÃ | L7: ²Û¹ ÃíáõÙª í»ñ³¹³ñÓí»É ¿ | M7: ²Û¹ ÃíáõÙª ÁÝ¹áõÝáõÙÁ Ù»ñÅí»É ¿ | N7: ÀÝ¹³Ù»ÝÁ ³í³ñïí»É »Ý ·áñÍ»ñ ·áñÍÝ Áëï ¿áõÃÛ³Ý ÉáõÍáÕ ¹³ï³Ï³Ý ³Ïï»ñÇ (í×ÇéÝ»ñÇ) Ï³Û³óÙ³Ùµ | O7: ²Û¹ ÃíáõÙª Ñ³ÛóÇ µ³í³ñ³ñÙ³Ùµ | P7: ²Û¹ ÃíáõÙª Ñ³ÛóÇ Ù³ëÝ³ÏÇ µ³í³ñ³ñÙ³Ùµ | Q7: ²Û¹ ÃíáõÙª Ñ³ÛóÇ Ù»ñÅÙ³Ùµ | R7: Ø³ëáí Ï³ñ×í»É ¿, Ù³ëáí Ù»ñÅí»É | S7: ²Û¹ ÃíáõÙª Ï³ñ×í»É »Ý | W7: Ð³ÛóÁ ÃáÕÝí»É ¿ ³é³Ýó ùÝÝáõÃÛ³Ý | X7: ÀÝ¹³Ù»ÝÝ ³í³ñïí»É »Ý ·áñÍ»ñ | AC7: ²Û¹ ÃíáõÙ` ·áñÍÝ Áëï ¿áõÃÛ³Ý ÉáõÍáÕ ¹³ï³Ï³Ý ³Ïï»ñ | AD7: ²Û¹ ÃíáõÙ` ÙÇç³ÝÏÛ³É ¹³ï³Ï³Ý ³Ïï»ñ | AE7: ÀÝ¹³Ù»ÝÁ | AF7: ²Û¹ ÃíáõÙ` ·áñÍÝ Áëï ¿áõÃÛ³Ý ÉáõÍáÕ ¹³ï³Ï³Ý ³Ïï»ñ | AG7: ²Û¹ ÃíáõÙ` ÙÇç³ÝÏÛ³É ¹³ï³Ï³Ý ³Ïï»ñ | AH7: ÀÝ¹³Ù»ÝÁ
S10: ÀÝ¹³Ù»ÝÁ Ï³ñ×í»É »Ý | T10: ²Û¹ ÃíáõÙª Ñ³ëï³ïí»É ¿ ÏÝùí³Í Ñ³ßïáõÃÛ³Ý Ñ³Ù³Ó³ÛÝáõÃÛáõÝÁ | U10: ²Û¹ ÃíáõÙª Ñ³óÇó, ¹ÇÙáõÙÇó Ññ³Å³ñí»Éáõ ÑÇÙùáí | V10: ²Û¹ ÃíáõÙª ³ÛÉ ÑÇÙùáí
A18: ø³Õ³ù³óÇ³Ï³Ý ·áñÍ»ñÇ ¹³ë³Ï³ñ·áõÙÁ | E18: 1 | F18: 2 | G18: 3 | H18: 4 | I18: 5 | J18: 6 | K18: 7 | L18: 8 | M18: 9 | N18: 10 | O18: 11 | P18: 12 | Q18: 13 | R18: 14 | S18: 15 | T18: 16 | U18: 17 | V18: 18 | W18: 19 | X18: 20 | Y18: 21 | Z18: 22 | AA18: 23 | AB18: 24 | AC18: 25 | AD18: 26 | AE18: 27 | AF18: 28 | AG18: 29 | AH18: 30 | AJ18: 1=2+3+4+5 | AL18: 6=7+8+9 | AN18: 2+3+7=20+21+23 | AP18: 10=11+12+13+14+15 | AR18: 15=16+17+18 | AT18: 20=10+19 | AV18: 27=25+26 | AX18: 30=28+29
A19: 1. | B19: ¶áõÛù³ÛÇÝ Çñ³í³Ñ³ñ³µ»ñáõÃÛáõÝÝ»ñÇ í»ñ³µ»ñÛ³É ¹³ï³Ï³Ý ·áñÍ»ñ | E19: =SUM(E20:E38) -> 319 | F19: =SUM(F20:F38) -> 96 | G19: =SUM(G20:G38) -> 223 | H19: =SUM(H20:H38) -> 0 | I19: =SUM(I20:I38) -> 0 | J19: =SUM(J20:J38) -> 92 | K19: =SUM(K20:K38) -> 77 | L19: =SUM(L20:L38) -> 14 | ... AH19: =SUM(AH20:AH38) -> 0 | AJ19: =SUM(AJ20:AJ38) -> 319 | AK19: =SUM(AK20:AK38) -> 319 | AL19: =SUM(AL20:AL38) -> 92 | AM19: =SUM(AM20:AM38) -> 91 | AN19: =SUM(AN20:AN38) -> 396 | AO19: =SUM(AO20:AO38) -> 396 | AP19: =SUM(AP20:AP38) -> 73 | AQ19: =SUM(AQ20:AQ38) -> 73 | ... AY19: =SUM(AY20:AY38) -> 0
A20: 1.1 | B20: ¶áõÛùÇ ÝÏ³ïÙ³Ùµ ë»÷³Ï³ÝáõÃÛ³Ý Çñ³íáõÝùÁ ×³Ý³ã»Éáõ í»ñ³µ»ñÛ³É | E20: 29 | F20: 6 | G20: 23 | J20: 10 | K20: 7 | L20: 3 | N20: 10 | O20: 6 | Q20: 3 | S20: 1 | U20: 1 | X20: 10 | Z20: 2 | AA20: 26 | AB20: 6 | AC20: 4 | AE20: 4 | AJ20: =E20 -> 29 | AK20: =F20+G20+H20+I20 -> 29 | AL20: =J20 -> 10 | AM20: =K20+L20+M20 -> 10 | AN20: =F20+G20+K20 -> 36 | AO20: =X20+Y20+AA20 -> 36 | AP20: =N20 -> 10 | AQ20: =O20+P20+Q20+R20+S20 -> 10 | AR20: =S20 -> 1 | AS20: =T20+U20+V20 -> 1 | AT20: =X20 -> 10 | AU20: =N20+W20 -> 10 | AV20: =AE20 -> 4 | AW20: =AC20+AD20 -> 4 | AX20: =AH20 -> 0 | AY20: =AF20+AG20 -> 0
A21: 1.1.1 | B21: ²Û¹ ÃíáõÙª Ó»éùµ»ñÙ³Ý í³Õ»ÙáõÃÛ³Ý áõÅáí | E21: 23 | F21: 3 | G21: 20 | J21: 4 | K21: 4 | N21: 6 | O21: 1 | P21: 1 | Q21: 3 | S21: 1 | U21: 1 | X21: 6 | Z21: 2 | AA21: 21 | AB21: 4 | AC21: 1 | AE21: 1 | AJ21: =E21 -> 23 | AK21: =F21+G21+H21+I21 -> 23 | AL21: =J21 -> 4 | AM21: =K21+L21+M21 -> 4 | AN21: =F21+G21+K21 -> 27 | AO21: =X21+Y21+AA21 -> 27 | AP21: =N21 -> 6 | AQ21: =O21+P21+Q21+R21+S21 -> 6 | AR21: =S21 -> 1 | AS21: =T21+U21+V21 -> 1 | AT21: =X21 -> 6 | AU21: =N21+W21 -> 6 | AV21: =AE21 -> 1 | AW21: =AC21+AD21 -> 1 | AX21: =AH21 -> 0 | AY21: =AF21+AG21 -> 0
A22: 1.1.2 | B22: ²Û¹ ÃíáõÙª ïÇñ³½áõñÏ ·áõÛùÇ ÝÏ³ïÙ³Ùµ | AJ22: =E22 -> 0 | AK22: =F22+G22+H22+I22 -> 0 | AL22: =J22 -> 0 | AM22: =K22+L22+M22 -> 0 | AN22: =F22+G22+K22 -> 0 | AO22: =X22+Y22+AA22 -> 0 | AP22: =N22 -> 0 | AQ22: =O22+P22+Q22+R22+S22 -> 0 | AR22: =S22 -> 0 | AS22: =T22+U22+V22 -> 0 | AT22: =X22 -> 0 | AU22: =N22+W22 -> 0 | AV22: =AE22 -> 0 | AW22: =AC22+AD22 -> 0 | AX22: =AH22 -> 0 | AY22: =AF22+AG22 -> 0
A23: 1.1.3 | B23: ²Û¹ ÃíáõÙª ÇÝùÝ³Ï³Ù Ï³éáõÛóÇ ÝÏ³ïÙ³Ùµ | AJ23: =E23 -> 0 | AK23: =F23+G23+H23+I23 -> 0 | AL23: =J23 -> 0 | AM23: =K23+L23+M23 -> 0 | AN23: =F23+G23+K23 -> 0 | AO23: =X23+Y23+AA23 -> 0 | AP23: =N23 -> 0 | AQ23: =O23+P23+Q23+R23+S23 -> 0 | AR23: =S23 -> 0 | AS23: =T23+U23+V23 -> 0 | AT23: =X23 -> 0 | AU23: =N23+W23 -> 0 | AV23: =AE23 -> 0 | AW23: =AC23+AD23 -> 0 | AX23: =AH23 -> 0 | AY23: =AF23+AG23 -> 0
A24: 1.2 | B24: ê»÷³Ï³ÝáõÃÛ³Ý Çñ³íáõÝùÇ ¹³¹³ñ»óÙ³Ý í»ñ³µ»ñÛ³É | E24: 6 | G24: 6 | J24: 1 | K24: 1 | N24: 1 | Q24: 1 | X24: 1 | Z24: 1 | AA24: 6 | AB24: 1 | AC24: 1 | AE24: 1 | AJ24: =E24 -> 6 | AK24: =F24+G24+H24+I24 -> 6 | AL24: =J24 -> 1 | AM24: =K24+L24+M24 -> 1 | AN24: =F24+G24+K24 -> 7 | AO24: =X24+Y24+AA24 -> 7 | AP24: =N24 -> 1 | AQ24: =O24+P24+Q24+R24+S24 -> 1 | AR24: =S24 -> 0 | AS24: =T24+U24+V24 -> 0 | AT24: =X24 -> 1 | AU24: =N24+W24 -> 1 | AV24: =AE24 -> 1 | AW24: =AC24+AD24 -> 1 | AX24: =AH24 -> 0 | AY24: =AF24+AG24 -> 0
A25: 1.3 | B25: ¶áõÛùÇ ÝÏ³ïÙ³Ùµ û·ï³·áñÍÙ³Ý Çñ³íáõÝùÁ ×³Ý³ã»Éáõ í»ñ³µ»ñÛ³É | AJ25: =E25 -> 0 | AK25: =F25+G25+H25+I25 -> 0 | AL25: =J25 -> 0 | AM25: =K25+L25+M25 -> 0 | AN25: =F25+G25+K25 -> 0 | AO25: =X25+Y25+AA25 -> 0 | AP25: =N25 -> 0 | AQ25: =O25+P25+Q25+R25+S25 -> 0 | AR25: =S25 -> 0 | AS25: =T25+U25+V25 -> 0 | AT25: =X25 -> 0 | AU25: =N25+W25 -> 0 | AV25: =AE25 -> 0 | AW25: =AC25+AD25 -> 0 | AX25: =AH25 -> 0 | AY25: =AF25+AG25 -> 0
A26: 1.3.1 | B26: ²Û¹ ÃíáõÙª µÝ³Ïû·ï³·áñÍÙ³Ý Çñ³íáõÝùÁ ×³Ý³ã»Éáõ í»ñ³µ»ñÛ³É | AJ26: =E26 -> 0 | AK26: =F26+G26+H26+I26 -> 0 | AL26: =J26 -> 0 | AM26: =K26+L26+M26 -> 0 | AN26: =F26+G26+K26 -> 0 | AO26: =X26+Y26+AA26 -> 0 | AP26: =N26 -> 0 | AQ26: =O26+P26+Q26+R26+S26 -> 0 | AR26: =S26 -> 0 | AS26: =T26+U26+V26 -> 0 | AT26: =X26 -> 0 | AU26: =N26+W26 -> 0 | AV26: =AE26 -> 0 | AW26: =AC26+AD26 -> 0 | AX26: =AH26 -> 0 | AY26: =AF26+AG26 -> 0
A27: 1.3.2 | B27: ²Û¹ ÃíáõÙª ÑáÕ³Ù³ëÇ ÝÏ³ïÙ³Ùµ û·ï³·áñÍÙ³Ý Çñ³íáõÝùÁ ×³Ý³ã»Éáõ í»ñ³µ»ñÛ³É | E27: 1 | G27: 1 | AA27: 1 | AJ27: =E27 -> 1 | AK27: =F27+G27+H27+I27 -> 1 | AL27: =J27 -> 0 | AM27: =K27+L27+M27 -> 0 | AN27: =F27+G27+K27 -> 1 | AO27: =X27+Y27+AA27 -> 1 | AP27: =N27 -> 0 | AQ27: =O27+P27+Q27+R27+S27 -> 0 | AR27: =S27 -> 0 | AS27: =T27+U27+V27 -> 0 | AT27: =X27 -> 0 | AU27: =N27+W27 -> 0 | AV27: =AE27 -> 0 | AW27: =AC27+AD27 -> 0 | AX27: =AH27 -> 0 | AY27: =AF27+AG27 -> 0
A28: 1.4 | B28: ¶áõÛùÇ ÝÏ³ïÙ³Ùµ û·ï³·áñÍÙ³Ý Çñ³íáõÝùÁ ¹³¹³ñ»óÝ»Éáõ í»ñ³µ»ñÛ³É | AJ28: =E28 -> 0 | AK28: =F28+G28+H28+I28 -> 0 | AL28: =J28 -> 0 | AM28: =K28+L28+M28 -> 0 | AN28: =F28+G28+K28 -> 0 | AO28: =X28+Y28+AA28 -> 0 | AP28: =N28 -> 0 | AQ28: =O28+P28+Q28+R28+S28 -> 0 | AR28: =S28 -> 0 | AS28: =T28+U28+V28 -> 0 | AT28: =X28 -> 0 | AU28: =N28+W28 -> 0 | AV28: =AE28 -> 0 | AW28: =AC28+AD28 -> 0 | AX28: =AH28 -> 0 | AY28: =AF28+AG28 -> 0
A29: 1.4.1 | B29: ²Û¹ ÃíáõÙª µÝ³Ïû·ï³·áñÍÙ³Ý Çñ³íáõÝùÁ ¹³¹³ñ»óÝ»Éáõ í»ñ³µ»ñÛ³É | E29: 4 | F29: 2 | G29: 2 | AA29: 4 | AB29: 2 | AJ29: =E29 -> 4 | AK29: =F29+G29+H29+I29 -> 4 | AL29: =J29 -> 0 | AM29: =K29+L29+M29 -> 0 | AN29: =F29+G29+K29 -> 4 | AO29: =X29+Y29+AA29 -> 4 | AP29: =N29 -> 0 | AQ29: =O29+P29+Q29+R29+S29 -> 0 | AR29: =S29 -> 0 | AS29: =T29+U29+V29 -> 0 | AT29: =X29 -> 0 | AU29: =N29+W29 -> 0 | AV29: =AE29 -> 0 | AW29: =AC29+AD29 -> 0 | AX29: =AH29 -> 0 | AY29: =AF29+AG29 -> 0
A30: 1.4.1/1 | B30: ²Û¹ ÃíáõÙª ÷áËÑ³ïáõóÙ³Ùµ | E30: 3 | F30: 1 | G30: 2 | N30: 1 | S30: 1 | U30: 1 | X30: 1 | AA30: 2 | AB30: 1 | AJ30: =E30 -> 3 | AK30: =F30+G30+H30+I30 -> 3 | AL30: =J30 -> 0 | AM30: =K30+L30+M30 -> 0 | AN30: =F30+G30+K30 -> 3 | AO30: =X30+Y30+AA30 -> 3 | AP30: =N30 -> 1 | AQ30: =O30+P30+Q30+R30+S30 -> 1 | AR30: =S30 -> 1 | AS30: =T30+U30+V30 -> 1 | AT30: =X30 -> 1 | AU30: =N30+W30 -> 1 | AV30: =AE30 -> 0 | AW30: =AC30+AD30 -> 0 | AX30: =AH30 -> 0 | AY30: =AF30+AG30 -> 0
A31: 1.5 | B31: ´Ý³Ï³ñ³ÝÇó/ ï³ñ³ÍùÇó/ íï³ñ»Éáõ í»ñ³µ»ñÛ³É | E31: 27 | F31: 11 | G31: 16 | J31: 5 | K31: 3 | L31: 2 | N31: 4 | O31: 1 | P31: 2 | S31: 1 | T31: 1 | X31: 4 | Z31: 1 | AA31: 26 | AB31: 12 | AC31: 2 | AE31: 2 | AJ31: =E31 -> 27 | AK31: =F31+G31+H31+I31 -> 27 | AL31: =J31 -> 5 | AM31: =K31+L31+M31 -> 5 | AN31: =F31+G31+K31 -> 30 | AO31: =X31+Y31+AA31 -> 30 | AP31: =N31 -> 4 | AQ31: =O31+P31+Q31+R31+S31 -> 4 | AR31: =S31 -> 1 | AS31: =T31+U31+V31 -> 1 | AT31: =X31 -> 4 | AU31: =N31+W31 -> 4 | AV31: =AE31 -> 2 | AW31: =AC31+AD31 -> 2 | AX31: =AH31 -> 0 | AY31: =AF31+AG31 -> 0
A32: 1.6 | B32: ¶áõÛùÝ áõñÇßÇ ³åûñÇÝÇ ïÇñ³å»ïáõÙÇó »ï í»ñ³¹³ñÓÝ»Éáõ í»ñ³µ»ñÛ³É | E32: 19 | F32: 6 | G32: 13 | J32: 4 | K32: 3 | L32: 1 | N32: 1 | Q32: 1 | X32: 1 | AA32: 21 | AB32: 6 | AC32: 1 | AE32: 1 | AJ32: =E32 -> 19 | AK32: =F32+G32+H32+I32 -> 19 | AL32: =J32 -> 4 | AM32: =K32+L32+M32 -> 4 | AN32: =F32+G32+K32 -> 22 | AO32: =X32+Y32+AA32 -> 22 | AP32: =N32 -> 1 | AQ32: =O32+P32+Q32+R32+S32 -> 1 | AR32: =S32 -> 0 | AS32: =T32+U32+V32 -> 0 | AT32: =X32 -> 1 | AU32: =N32+W32 -> 1 | AV32: =AE32 -> 1 | AW32: =AC32+AD32 -> 1 | AX32: =AH32 -> 0 | AY32: =AF32+AG32 -> 0
A33: 1.6.1 | B33: ´³ñ»ËÇÕ× Ó»éùµ»ñáÕÇó Çñ ·áõÛùÁ Ñ»ï å³Ñ³Ýç»Éáõ í»ñ³µ»ñÛ³É | AJ33: =E33 -> 0 | AK33: =F33+G33+H33+I33 -> 0 | AL33: =J33 -> 0 | AM33: =K33+L33+M33 -> 0 | AN33: =F33+G33+K33 -> 0 | AO33: =X33+Y33+AA33 -> 0 | AP33: =N33 -> 0 | AQ33: =O33+P33+Q33+R33+S33 -> 0 | AR33: =S33 -> 0 | AS33: =T33+U33+V33 -> 0 | AT33: =X33 -> 0 | AU33: =N33+W33 -> 0 | AV33: =AE33 -> 0 | AW33: =AC33+AD33 -> 0 | AX33: =AH33 -> 0 | AY33: =AF33+AG33 -> 0
A34: 1.7 | B34: îÇñ³å»ïáõÙÇó ½ñÏ»Éáõ Ñ»ï ãÏ³åí³Í Çñ³íáõÝùÝ»ñÇ Ë³ËïáõÙÁ í»ñ³óÝ»Éáõ í»ñ³µ»ñÛ³É | E34: 15 | F34: 4 | G34: 11 | J34: 3 | K34: 2 | L34: 1 | N34: 4 | Q34: 4 | X34: 4 | AA34: 13 | AB34: 4 | AC34: 2 | AE34: 2 | AJ34: =E34 -> 15 | AK34: =F34+G34+H34+I34 -> 15 | AL34: =J34 -> 3 | AM34: =K34+L34+M34 -> 3 | AN34: =F34+G34+K34 -> 17 | AO34: =X34+Y34+AA34 -> 17 | AP34: =N34 -> 4 | AQ34: =O34+P34+Q34+R34+S34 -> 4 | AR34: =S34 -> 0 | AS34: =T34+U34+V34 -> 0 | AT34: =X34 -> 4 | AU34: =N34+W34 -> 4 | AV34: =AE34 -> 2 | AW34: =AC34+AD34 -> 2 | AX34: =AH34 -> 0 | AY34: =AF34+AG34 -> 0
A35: 1.8 | B35: ÀÝ¹Ñ³Ýáõñ µ³ÅÝ³ÛÇÝ ë»÷³Ï³ÝáõÃÛáõÝÇó µ³ÅÇÝÝ ³é³ÝÓÝ³óÝ»Éáõ í»ñ³µ»ñÛ³É | E35: 51 | F35: 21 | G35: 30 | J35: 13 | K35: 12 | L35: 1 | N35: 10 | O35: 4 | Q35: 1 | S35: 5 | T35: 1 | U35: 4 | X35: 10 | Z35: 9 | AA35: 53 | AB35: 21 | AJ35: =E35 -> 51 | AK35: =F35+G35+H35+I35 -> 51 | AL35: =J35 -> 13 | AM35: =K35+L35+M35 -> 13 | AN35: =F35+G35+K35 -> 63 | AO35: =X35+Y35+AA35 -> 63 | AP35: =N35 -> 10 | AQ35: =O35+P35+Q35+R35+S35 -> 10 | AR35: =S35 -> 5 | AS35: =T35+U35+V35 -> 5 | AT35: =X35 -> 10 | AU35: =N35+W35 -> 10 | AV35: =AE35 -> 0 | AW35: =AC35+AD35 -> 0 | AX35: =AH35 -> 0 | AY35: =AF35+AG35 -> 0
A36: 1.8.1 | B36: Ð³Ù³ï»Õ ë»÷³Ï³ÝáõÃÛ³Ý Ý»ñùá ·ïÝíáÕ ·áõÛùÁ µ³Å³Ý»Éáõ ¨ ¹ñ³ÝÇó µ³ÅÇÝÝ ³é³ÝÓÝ³óÝ»Éáõ í»ñ³µ»ñÛ³É | E36: 94 | F36: 31 | G36: 63 | J36: 21 | K36: 18 | L36: 3 | N36: 19 | O36: 10 | P36: 4 | Q36: 3 | S36: 2 | T36: 1 | U36: 1 | X36: 19 | Y36: 1 | Z36: 6 | AA36: 92 | AB36: 27 | AC36: 5 | AE36: 5 | AJ36: =E36 -> 94 | AK36: =F36+G36+H36+I36 -> 94 | AL36: =J36 -> 21 | AM36: =K36+L36+M36 -> 21 | AN36: =F36+G36+K36 -> 112 | AO36: =X36+Y36+AA36 -> 112 | AP36: =N36 -> 19 | AQ36: =O36+P36+Q36+R36+S36 -> 19 | AR36: =S36 -> 2 | AS36: =T36+U36+V36 -> 2 | AT36: =X36 -> 19 | AU36: =N36+W36 -> 19 | AV36: =AE36 -> 5 | AW36: =AC36+AD36 -> 5 | AX36: =AH36 -> 0 | AY36: =AF36+AG36 -> 0
A37: 1.8.3 | B37: ¶áõÛùÇ íñ³ µéÝ³·³ÝÓáõÙ ï³ñ³Í»Éáõ å³Ñ³ÝçÇ Ù³ëÇÝ | E37: 7 | F37: 3 | G37: 4 | J37: 2 | K37: 2 | N37: 3 | O37: 1 | P37: 1 | Q37: 1 | X37: 3 | AA37: 6 | AB37: 3 | AC37: 3 | AE37: 3 | AJ37: =E37 -> 7 | AK37: =F37+G37+H37+I37 -> 7 | AL37: =J37 -> 2 | AM37: =K37+L37+M37 -> 2 | AN37: =F37+G37+K37 -> 9 | AO37: =X37+Y37+AA37 -> 9 | AP37: =N37 -> 3 | AQ37: =O37+P37+Q37+R37+S37 -> 3 | AR37: =S37 -> 0 | AS37: =T37+U37+V37 -> 0 | AT37: =X37 -> 3 | AU37: =N37+W37 -> 3 | AV37: =AE37 -> 3 | AW37: =AC37+AD37 -> 3 | AX37: =AH37 -> 0 | AY37: =AF37+AG37 -> 0
A38: 1.9 | B38: ²ÛÉ í»×»ñ | E38: 40 | F38: 8 | G38: 32 | J38: 29 | K38: 25 | L38: 3 | N38: 14 | O38: 2 | P38: 1 | Q38: 7 | S38: 4 | U38: 4 | X38: 14 | Z38: 2 | AA38: 51 | AB38: 7 | AC38: 3 | AE38: 3 | AJ38: =E38 -> 40 | AK38: =F38+G38+H38+I38 -> 40 | AL38: =J38 -> 29 | AM38: =K38+L38+M38 -> 28 | AN38: =F38+G38+K38 -> 65 | AO38: =X38+Y38+AA38 -> 65 | AP38: =N38 -> 14 | AQ38: =O38+P38+Q38+R38+S38 -> 14 | AR38: =S38 -> 4 | AS38: =T38+U38+V38 -> 4 | AT38: =X38 -> 14 | AU38: =N38+W38 -> 14 | AV38: =AE38 -> 3 | AW38: =AC38+AD38 -> 3 | AX38: =AH38 -> 0 | AY38: =AF38+AG38 -> 0
A39: 2. | B39: ¶áñÍ³ñùÝ»ñÇ Ñ»ï Ï³åí³Í Çñ³í³Ñ³ñ³µ»ñáõÃÛáõÝÝ»ñÇ í»ñ³µ»ñÛ³É ¹³ï³Ï³Ý ·áñÍ»ñ | E39: =SUM(E40:E50) -> 129 | F39: =SUM(F40:F50) -> 39 | G39: 90 | H39: =SUM(H40:H50) -> 0 | I39: =SUM(I40:I50) -> 0 | J39: =SUM(J40:J50) -> 26 | K39: =SUM(K40:K50) -> 22 | L39: =SUM(L40:L50) -> 4 | M39: =SUM(M40:M50) -> 0 | N39: =SUM(N40:N50) -> 28 | O39: =SUM(O40:O50) -> 0 | ... W39: =SUM(W40:W50) -> 0 | X39: 28 | Y39: =SUM(Y40:Y50) -> 0 | Z39: =SUM(Z40:Z50) -> 3 | AA39: =SUM(AA40:AA50) -> 123 | AB39: =SUM(AB40:AB50) -> 34 | AC39: =SUM(AC40:AC50) -> 9 | AD39: =SUM(AD40:AD50) -> 0 | AE39: =SUM(AE40:AE50) -> 9 | AF39: =SUM(AF40:AF50) -> 0 | ... AH39: =SUM(AH40:AH50) -> 0 | AJ39: =SUM(AJ40:AJ50) -> 129 | AK39: =SUM(AK40:AK50) -> 129 | AL39: =SUM(AL40:AL50) -> 26 | AM39: =SUM(AM40:AM50) -> 26 | AN39: =SUM(AN40:AN50) -> 151 | AO39: =SUM(AO40:AO50) -> 151 | AP39: =SUM(AP40:AP50) -> 28 | AQ39: =SUM(AQ40:AQ50) -> 28 | ... AY39: =SUM(AY40:AY50) -> 0
A40: 2.1 | B40: ·áñÍ³ñùÝ»ñÇ ³Ýí³í»ñáõÃÛ³Ý Ñ»ï Ï³åí³Í í»×»ñ | E40: 13 | F40: 2 | G40: 11 | J40: 7 | K40: 7 | N40: 4 | Q40: 4 | X40: 4 | Z40: 1 | AA40: 16 | AB40: 3 | AC40: 1 | AE40: 1 | AJ40: =E40 -> 13 | AK40: =F40+G40+H40+I40 -> 13 | AL40: =J40 -> 7 | AM40: =K40+L40+M40 -> 7 | AN40: =F40+G40+K40 -> 20 | AO40: =X40+Y40+AA40 -> 20 | AP40: =N40 -> 4 | AQ40: =O40+P40+Q40+R40+S40 -> 4 | AR40: =S40 -> 0 | AS40: =T40+U40+V40 -> 0 | AT40: =X40 -> 4 | AU40: =N40+W40 -> 4 | AV40: =AE40 -> 1 | AW40: =AC40+AD40 -> 1 | AX40: =AH40 -> 0 | AY40: =AF40+AG40 -> 0
A41: 2.1.1 | B41: ³Û¹ ÃíáõÙ` íÇ×³Ñ³ñáõÛó ·áñÍ³ñùÝ»ñÝ ³Ýí³í»ñ ×³Ý³ã»Éáõ í»ñ³µ»ñÛ³É | AJ41: =E41 -> 0 | AK41: =F41+G41+H41+I41 -> 0 | AL41: =J41 -> 0 | AM41: =K41+L41+M41 -> 0 | AN41: =F41+G41+K41 -> 0 | AO41: =X41+Y41+AA41 -> 0 | AP41: =N41 -> 0 | AQ41: =O41+P41+Q41+R41+S41 -> 0 | AR41: =S41 -> 0 | AS41: =T41+U41+V41 -> 0 | AT41: =X41 -> 0 | AU41: =N41+W41 -> 0 | AV41: =AE41 -> 0 | AW41: =AC41+AD41 -> 0 | AX41: =AH41 -> 0 | AY41: =AF41+AG41 -> 0
A42: 2.1.2 | B42: ³Û¹ ÃíáõÙ` ·áñÍ³ñùÇ ³éáãÝãáõÃÛ³Ý Ñ»ï¨³ÝùÝ»ñ ÏÇñ³é»Éáõ í»ñ³µ»ñÛ³É | E42: 4 | F42: 1 | G42: 3 | J42: 1 | K42: 1 | AA42: 5 | AJ42: =E42 -> 4 | AK42: =F42+G42+H42+I42 -> 4 | AL42: =J42 -> 1 | AM42: =K42+L42+M42 -> 1 | AN42: =F42+G42+K42 -> 5 | AO42: =X42+Y42+AA42 -> 5 | AP42: =N42 -> 0 | AQ42: =O42+P42+Q42+R42+S42 -> 0 | AR42: =S42 -> 0 | AS42: =T42+U42+V42 -> 0 | AT42: =X42 -> 0 | AU42: =N42+W42 -> 0 | AV42: =AE42 -> 0 | AW42: =AC42+AD42 -> 0 | AX42: =AH42 -> 0 | AY42: =AF42+AG42 -> 0
A43: 2.2 | B43: ¶áñÍ³ñùÁ í³í»ñ ×³Ý³ã»Éáõ í»ñ³µ»ñÛ³É | E43: 5 | F43: 1 | G43: 4 | N43: 1 | Q43: 1 | X43: 1 | AA43: 4 | AB43: 1 | AJ43: =E43 -> 5 | AK43: =F43+G43+H43+I43 -> 5 | AL43: =J43 -> 0 | AM43: =K43+L43+M43 -> 0 | AN43: =F43+G43+K43 -> 5 | AO43: =X43+Y43+AA43 -> 5 | AP43: =N43 -> 1 | AQ43: =O43+P43+Q43+R43+S43 -> 1 | AR43: =S43 -> 0 | AS43: =T43+U43+V43 -> 0 | AT43: =X43 -> 1 | AU43: =N43+W43 -> 1 | AV43: =AE43 -> 0 | AW43: =AC43+AD43 -> 0 | AX43: =AH43 -> 0 | AY43: =AF43+AG43 -> 0
A44: 2.3 | B44: ¶áñÍ³ñùÇó Í³·áÕ Çñ³íáõÝùÝ»ñÁ ·ñ³Ýó»Éáõ í»ñ³µ»ñÛ³É | AJ44: =E44 -> 0 | AK44: =F44+G44+H44+I44 -> 0 | AL44: =J44 -> 0 | AM44: =K44+L44+M44 -> 0 | AN44: =F44+G44+K44 -> 0 | AO44: =X44+Y44+AA44 -> 0 | AP44: =N44 -> 0 | AQ44: =O44+P44+Q44+R44+S44 -> 0 | AR44: =S44 -> 0 | AS44: =T44+U44+V44 -> 0 | AT44: =X44 -> 0 | AU44: =N44+W44 -> 0 | AV44: =AE44 -> 0 | AW44: =AC44+AD44 -> 0 | AX44: =AH44 -> 0 | AY44: =AF44+AG44 -> 0
A45: 2.4 | B45: ä³ÛÙ³Ý³·ÇñÝ ³Ýí³í»ñ ×³Ý³ã»Éáõ í»ñ³µ»ñÛ³É | E45: 50 | F45: 13 | G45: 37 | J45: 7 | K45: 5 | L45: 2 | N45: 12 | P45: 2 | Q45: 8 | R45: 1 | S45: 1 | V45: 1 | X45: 12 | Z45: 2 | AA45: 43 | AB45: 12 | AC45: 6 | AE45: 6 | AJ45: =E45 -> 50 | AK45: =F45+G45+H45+I45 -> 50 | AL45: =J45 -> 7 | AM45: =K45+L45+M45 -> 7 | AN45: =F45+G45+K45 -> 55 | AO45: =X45+Y45+AA45 -> 55 | AP45: =N45 -> 12 | AQ45: =O45+P45+Q45+R45+S45 -> 12 | AR45: =S45 -> 1 | AS45: =T45+U45+V45 -> 1 | AT45: =X45 -> 12 | AU45: =N45+W45 -> 12 | AV45: =AE45 -> 6 | AW45: =AC45+AD45 -> 6 | AX45: =AH45 -> 0 | AY45: =AF45+AG45 -> 0
A46: 2.5 | B46: ä³ÛÙ³Ý³·ñÇÁ í³í»ñ ×³Ý³ã»Éáõ í»ñ³µ»ñÛ³É | E46: 5 | F46: 4 | G46: 1 | J46: 3 | K46: 3 | N46: 1 | S46: 1 | U46: 1 | X46: 1 | AA46: 7 | AB46: 3 | AJ46: =E46 -> 5 | AK46: =F46+G46+H46+I46 -> 5 | AL46: =J46 -> 3 | AM46: =K46+L46+M46 -> 3 | AN46: =F46+G46+K46 -> 8 | AO46: =X46+Y46+AA46 -> 8 | AP46: =N46 -> 1 | AQ46: =O46+P46+Q46+R46+S46 -> 1 | AR46: =S46 -> 1 | AS46: =T46+U46+V46 -> 1 | AT46: =X46 -> 1 | AU46: =N46+W46 -> 1 | AV46: =AE46 -> 0 | AW46: =AC46+AD46 -> 0 | AX46: =AH46 -> 0 | AY46: =AF46+AG46 -> 0
A47: 2.6 | B47: ä³ÛÙ³Ý³·ñÇó Í³·áÕ Çñ³íáõÝùÝ»ñÁ ·ñ³Ýó»Éáõ í»ñ³µ»ñÛ³É | AJ47: =E47 -> 0 | AK47: =F47+G47+H47+I47 -> 0 | AL47: =J47 -> 0 | AM47: =K47+L47+M47 -> 0 | AN47: =F47+G47+K47 -> 0 | AO47: =X47+Y47+AA47 -> 0 | AP47: =N47 -> 0 | AQ47: =O47+P47+Q47+R47+S47 -> 0 | AR47: =S47 -> 0 | AS47: =T47+U47+V47 -> 0 | AT47: =X47 -> 0 | AU47: =N47+W47 -> 0 | AV47: =AE47 -> 0 | AW47: =AC47+AD47 -> 0 | AX47: =AH47 -> 0 | AY47: =AF47+AG47 -> 0
A48: 2.7 | B48: ä³ÛÙ³Ý³·ÇñÁ ÷á÷áË»Éáõ ¨ ÉáõÍ»Éáõ í»ñ³µ»ñÛ³É | E48: 9 | G48: 9 | J48: 1 | K48: 1 | N48: 6 | P48: 3 | Q48: 3 | X48: 6 | AA48: 4 | AB48: 1 | AC48: 2 | AE48: 2 | AJ48: =E48 -> 9 | AK48: =F48+G48+H48+I48 -> 9 | AL48: =J48 -> 1 | AM48: =K48+L48+M48 -> 1 | AN48: =F48+G48+K48 -> 10 | AO48: =X48+Y48+AA48 -> 10 | AP48: =N48 -> 6 | AQ48: =O48+P48+Q48+R48+S48 -> 6 | AR48: =S48 -> 0 | AS48: =T48+U48+V48 -> 0 | AT48: =X48 -> 6 | AU48: =N48+W48 -> 6 | AV48: =AE48 -> 2 | AW48: =AC48+AD48 -> 2 | AX48: =AH48 -> 0 | AY48: =AF48+AG48 -> 0
A49: 2.8 | B49: ä³ÛÙ³Ý³·Çñ ÏÝù»ÉáõÝ å³ñï³íáñ»óÝ»Éáõ í»ñ³µ»ñÛ³É | E49: 11 | F49: 6 | G49: 5 | J49: 1 | K49: 1 | X49: 0 | AA49: 12 | AB49: 6 | AJ49: =E49 -> 11 | AK49: =F49+G49+H49+I49 -> 11 | AL49: =J49 -> 1 | AM49: =K49+L49+M49 -> 1 | AN49: =F49+G49+K49 -> 12 | AO49: =X49+Y49+AA49 -> 12 | AP49: =N49 -> 0 | AQ49: =O49+P49+Q49+R49+S49 -> 0 | AR49: =S49 -> 0 | AS49: =T49+U49+V49 -> 0 | AT49: =X49 -> 0 | AU49: =N49+W49 -> 0 | AV49: =AE49 -> 0 | AW49: =AC49+AD49 -> 0 | AX49: =AH49 -> 0 | AY49: =AF49+AG49 -> 0
A50: 2.9 | B50: ²ÛÉ í»×»ñ | E50: 32 | F50: 12 | G50: 20 | J50: 6 | K50: 4 | L50: 2 | N50: 4 | R50: 1 | S50: 3 | U50: 3 | X50: 4 | AA50: 32 | AB50: 8 | AJ50: =E50 -> 32 | AK50: =F50+G50+H50+I50 -> 32 | AL50: =J50 -> 6 | AM50: =K50+L50+M50 -> 6 | AN50: =F50+G50+K50 -> 36 | AO50: =X50+Y50+AA50 -> 36 | AP50: =N50 -> 4 | AQ50: =O50+P50+Q50+R50+S50 -> 4 | AR50: =S50 -> 3 | AS50: =T50+U50+V50 -> 3 | AT50: =X50 -> 4 | AU50: =N50+W50 -> 4 | AV50: =AE50 -> 0 | AW50: =AC50+AD50 -> 0 | AX50: =AH50 -> 0 | AY50: =AF50+AG50 -> 0
A51: 3. | B51: Ä³é³Ý·áõÃÛ³Ý Ñ»ï Ï³åí³Í Çñ³í³Ñ³ñ³µ»ñáõÃÛáõÝÝ»ñÇ í»ñ³µ»ñÛ³É ¹³ï³Ï³Ý ·áñÍ»ñ | E51: =SUM(E52:E58) -> 16 | F51: =SUM(F52:F58) -> 2 | G51: =SUM(G52:G58) -> 14 | H51: =SUM(H52:H58) -> 0 | I51: =SUM(I52:I58) -> 0 | J51: =SUM(J52:J58) -> 5 | K51: =SUM(K52:K58) -> 5 | L51: =SUM(L52:L58) -> 0 | ... AH51: =SUM(AH52:AH58) -> 0 | AJ51: =SUM(AJ52:AJ58) -> 16 | AK51: =SUM(AK52:AK58) -> 16 | AL51: =SUM(AL52:AL58) -> 5 | AM51: =SUM(AM52:AM58) -> 5 | AN51: =SUM(AN52:AN58) -> 21 | AO51: =SUM(AO52:AO58) -> 21 | AP51: =SUM(AP52:AP58) -> 4 | AQ51: =SUM(AQ52:AQ58) -> 4 | ... AY51: =SUM(AY52:AY58) -> 0
...

Sheet Կենտրոն
A1: 2017Ã. 1-ին ÏÇë³ÙÛ³Ï | E1: Ð²ÞìºîìàôÂÚàôÜ | AC1: Ð³í»Éí³Í Ð³Û³ëï³ÝÇ Ð³Ýñ³å»ïáõÃÛ³Ý ¸³ï³ñ³ÝÝ»ñÇ Ý³Ë³·³ÑÝ»ñÇ ËáñÑñ¹Ç 25.08.2017Ã. ÃÇí 35-È áñáßÙ³Ý
A2: ºðºì²Ü ø²Ô²øÆ ÎºÜîðàÜ ºì Üàðø-Ø²ð²Þ ì²ðâ²Î²Ü Þðæ²ÜÜºðÆ ÀÜ¸Ð²Üàôð Æð²ì²êàôÂÚ²Ü ²è²æÆÜ ²îÚ²ÜÆ ¸²î²ð²ÜàôØ ø²Ô²ø²òÆ²Î²Ü ¶àðÌºðÆ øÜÜàôÂÚ²Ü ìºð²´ºðÚ²È
A3: ºñ¨³Ý ù³Õ³ùÇ Î»ÝïñáÝ ¨ Üáñù- Ø³ñ³ß í³ñã³Ï³Ý ßñç³ÝÝ»ñÇ ÁÝ¹Ñ³Ýáõñ Çñ³í³ëáõÃÛ³Ý ³é³çÇÝ ³ïÛ³ÝÇ ¹³ï³ñ³ÝáõÙ ù³Õ³ù³óÇ³Ï³Ý Ù³ëÝ³·Çï³óáõÙ áõÝ»óáÕ ¹³ï³íáñÝ»ñÇ Ñ³ëïÇùÝ»ñÇ ù³Ý³ÏÁ` 9
E4: Ð³ßí»ïáõ Å³Ù³Ý³Ï³Ñ³ïí³ÍáõÙ Ý³Ëáñ¹ Ñ³ßí»ïáõ Å³Ù³Ý³Ï³Ñ³ïí³ÍÇó ÷áË³Ýóí³Í ·áñÍ»ñÇ ÁÝ¹Ñ³Ýáõñ ÃÇíÁ | J4: Ð³ßí»ïáõ Å³Ù³Ý³Ï³Ñ³ïí³ÍáõÙëï³óí³Í ·áñÍ»ñÇ (³Û¹ ÃíáõÙ` Ñ³Ûó³¹ÇÙáõÙÝ»ñÇ, ¹ÇÙáõÙÝ»ñÇ) ÁÝ¹Ñ³Ýáõñ ÃÇíÁ | N4: Ð³ßí»ïáõ Å³Ù³Ý³Ï³Ñ³ïí³ÍáõÙ ³í³ñïí³Í ·áñÍ»ñÇ ÁÝ¹Ñ³Ýáõñ ÃÇíÁ | Y4: ¶áñÍÝ áõÕ³ñÏí»É ¿ Áëï ÁÝ¹¹³ïáõÃÛ³Ý | Z4: Ð³ßí»ïáõ Å³Ù³Ý³Ï³Ñ³ïí³ÍáõÙ Ï³ë»óí³Í í³ñáõÛÃÝ»ñáí ·áñÍ»ñÇ ÁÝ¹Ñ³Ýáõñ ÃÇíÁ | AA4: Ð³ßí»ïáõ Å³Ù³Ý³Ï³Ñ³ïí³ÍáõÙ ³Ý³í³ñï ·áñÍ»ñÇ ÁÝ¹Ñ³Ýáõñ ÃÇíÁ | AB4: ²Û¹ ÃíáõÙª Ï³ë»óí³Í | AC4: ´áÕáù³ñÏí³Í ¹³ï³Ï³Ý ³Ïï»ñÇ ÃÇíÁ` Áëï ï»ë³ÏÝ»ñÇ | AF4: ´»Ï³Ýí³Í ¹³ï³Ï³Ý ³Ïï»ñÇ ÃÇíÁ` Áëï ï»ë³ÏÝ»ñÇ
E7: ÀÝ¹³Ù»ÝÁ | F7: ²Û¹ ÃíáõÙ`Ï³ë»óí³Í íÇ×³ÏáõÙ ÷áË³Ýóí³Í | G7: ²Û¹ ÃíáõÙª ÁÝ¹áõÝí»É ¿ í³ñáõÛÃ | H7: ²Û¹ ÃíáõÙª í»ñ³¹³ñÓí»É ¿ | I7: ²Û¹ ÃíáõÙª ÁÝ¹áõÝáõÙÁ Ù»ñÅí»É ¿ | J7: ÀÝ¹³Ù»ÝÁ | K7: ²Û¹ ÃíáõÙª ÁÝ¹áõÝí»É ¿ í³ñáõÛÃ | L7: ²Û¹ ÃíáõÙª í»ñ³¹³ñÓí»É ¿ | M7: ²Û¹ ÃíáõÙª ÁÝ¹áõÝáõÙÁ Ù»ñÅí»É ¿ | N7: ÀÝ¹³Ù»ÝÁ ³í³ñïí»É »Ý ·áñÍ»ñ ·áñÍÝ Áëï ¿áõÃÛ³Ý ÉáõÍáÕ ¹³ï³Ï³Ý ³Ïï»ñÇ (í×ÇéÝ»ñÇ) Ï³Û³óÙ³Ùµ | O7: ²Û¹ ÃíáõÙª Ñ³ÛóÇ µ³í³ñ³ñÙ³Ùµ | P7: ²Û¹ ÃíáõÙª Ñ³ÛóÇ Ù³ëÝ³ÏÇ µ³í³ñ³ñÙ³Ùµ | Q7: ²Û¹ ÃíáõÙª Ñ³ÛóÇ Ù»ñÅÙ³Ùµ | R7: Ø³ëáí Ï³ñ×í»É ¿, Ù³ëáí Ù»ñÅí»É | S7: ²Û¹ ÃíáõÙª Ï³ñ×í»É »Ý | W7: Ð³ÛóÁ ÃáÕÝí»É ¿ ³é³Ýó ùÝÝáõÃÛ³Ý | X7: ÀÝ¹³Ù»ÝÝ ³í³ñïí»É »Ý ·áñÍ»ñ | AC7: ²Û¹ ÃíáõÙ` ·áñÍÝ Áëï ¿áõÃÛ³Ý ÉáõÍáÕ ¹³ï³Ï³Ý ³Ïï»ñ | AD7: ²Û¹ ÃíáõÙ` ÙÇç³ÝÏÛ³É ¹³ï³Ï³Ý ³Ïï»ñ | AE7: ÀÝ¹³Ù»ÝÁ | AF7: ²Û¹ ÃíáõÙ` ·áñÍÝ Áëï ¿áõÃÛ³Ý ÉáõÍáÕ ¹³ï³Ï³Ý ³Ïï»ñ | AG7: ²Û¹ ÃíáõÙ` ÙÇç³ÝÏÛ³É ¹³ï³Ï³Ý ³Ïï»ñ | AH7: ÀÝ¹³Ù»ÝÁ
S10: ÀÝ¹³Ù»ÝÁ Ï³ñ×í»É »Ý | T10: ²Û¹ ÃíáõÙª Ñ³ëï³ïí»É ¿ ÏÝùí³Í Ñ³ßïáõÃÛ³Ý Ñ³Ù³Ó³ÛÝáõÃÛáõÝÁ | U10: ²Û¹ ÃíáõÙª Ñ³óÇó, ¹ÇÙáõÙÇó Ññ³Å³ñí»Éáõ ÑÇÙùáí | V10: ²Û¹ ÃíáõÙª ³ÛÉ ÑÇÙùáí
A18: ø³Õ³ù³óÇ³Ï³Ý ·áñÍ»ñÇ ¹³ë³Ï³ñ·áõÙÁ | E18: 1 | F18: 2 | G18: 3 | H18: 4 | I18: 5 | J18: 6 | K18: 7 | L18: 8 | M18: 9 | N18: 10 | O18: 11 | P18: 12 | Q18: 13 | R18: 14 | S18: 15 | T18: 16 | U18: 17 | V18: 18 | W18: 19 | X18: 20 | Y18: 21 | Z18: 22 | AA18: 23 | AB18: 24 | AC18: 25 | AD18: 26 | AE18: 27 | AF18: 28 | AG18: 29 | AH18: 30 | AJ18: 1=2+3+4+5 | AL18: 6=7+8+9 | AN18: 2+3+7=20+21+23 | AP18: 10=11+12+13+14+15 | AR18: 15=16+17+18 | AT18: 20=10+19 | AV18: 27=25+26 | AX18: 30=28+29
A19: 1. | B19: ¶áõÛù³ÛÇÝ Çñ³í³Ñ³ñ³µ»ñáõÃÛáõÝÝ»ñÇ í»ñ³µ»ñÛ³É ¹³ï³Ï³Ý ·áñÍ»ñ | E19: =SUM(E20:E38) -> 510 | F19: =SUM(F20:F38) -> 121 | G19: =SUM(G20:G38) -> 389 | H19: =SUM(H20:H38) -> 0 | I19: =SUM(I20:I38) -> 0 | J19: =SUM(J20:J38) -> 162 | K19: =SUM(K20:K38) -> 137 | L19: =SUM(L20:L38) -> 24 | ... AH19: =SUM(AH20:AH38) -> 0 | AJ19: =SUM(AJ20:AJ38) -> 510 | AK19: =SUM(AK20:AK38) -> 510 | AL19: =SUM(AL20:AL38) -> 162 | AM19: =SUM(AM20:AM38) -> 162 | AN19: =SUM(AN20:AN38) -> 647 | AO19: =SUM(AO20:AO38) -> 647 | AP19: =SUM(AP20:AP38) -> 113 | AQ19: =SUM(AQ20:AQ38) -> 113 | ... AY19: =SUM(AY20:AY38) -> 0
A20: 1.1 | B20: ¶áõÛùÇ ÝÏ³ïÙ³Ùµ ë»÷³Ï³ÝáõÃÛ³Ý Çñ³íáõÝùÁ ×³Ý³ã»Éáõ í»ñ³µ»ñÛ³É | E20: 74 | F20: 13 | G20: 61 | J20: 30 | K20: 26 | L20: 4 | N20: 23 | O20: 7 | P20: 2 | Q20: 7 | S20: 7 | U20: 5 | V20: 2 | W20: 1 | X20: 24 | AA20: 76 | AB20: 18 | AC20: 6 | AD20: 2 | AE20: 8 | AJ20: =E20 -> 74 | AK20: =F20+G20+H20+I20 -> 74 | AL20: =J20 -> 30 | AM20: =K20+L20+M20 -> 30 | AN20: =F20+G20+K20 -> 100 | AO20: =X20+Y20+AA20 -> 100 | AP20: =N20 -> 23 | AQ20: =O20+P20+Q20+R20+S20 -> 23 | AR20: =S20 -> 7 | AS20: =T20+U20+V20 -> 7 | AT20: =X20 -> 24 | AU20: =N20+W20 -> 24 | AV20: =AE20 -> 8 | AW20: =AC20+AD20 -> 8 | AX20: =AH20 -> 0 | AY20: =AF20+AG20 -> 0
A21: 1.1.1 | B21: ²Û¹ ÃíáõÙª Ó»éùµ»ñÙ³Ý í³Õ»ÙáõÃÛ³Ý áõÅáí | E21: 20 | F21: 4 | G21: 16 | J21: 6 | K21: 5 | L21: 1 | N21: 4 | O21: 2 | Q21: 2 | X21: 4 | AA21: 21 | AB21: 7 | AC21: 2 | AE21: 2 | AJ21: =E21 -> 20 | AK21: =F21+G21+H21+I21 -> 20 | AL21: =J21 -> 6 | AM21: =K21+L21+M21 -> 6 | AN21: =F21+G21+K21 -> 25 | AO21: =X21+Y21+AA21 -> 25 | AP21: =N21 -> 4 | AQ21: =O21+P21+Q21+R21+S21 -> 4 | AR21: =S21 -> 0 | AS21: =T21+U21+V21 -> 0 | AT21: =X21 -> 4 | AU21: =N21+W21 -> 4 | AV21: =AE21 -> 2 | AW21: =AC21+AD21 -> 2 | AX21: =AH21 -> 0 | AY21: =AF21+AG21 -> 0
A22: 1.1.2 | B22: ²Û¹ ÃíáõÙª ïÇñ³½áõñÏ ·áõÛùÇ ÝÏ³ïÙ³Ùµ | E22: 2 | G22: 2 | J22: 1 | K22: 1 | N22: 1 | O22: 1 | X22: 1 | AA22: 2 | AJ22: =E22 -> 2 | AK22: =F22+G22+H22+I22 -> 2 | AL22: =J22 -> 1 | AM22: =K22+L22+M22 -> 1 | AN22: =F22+G22+K22 -> 3 | AO22: =X22+Y22+AA22 -> 3 | AP22: =N22 -> 1 | AQ22: =O22+P22+Q22+R22+S22 -> 1 | AR22: =S22 -> 0 | AS22: =T22+U22+V22 -> 0 | AT22: =X22 -> 1 | AU22: =N22+W22 -> 1 | AV22: =AE22 -> 0 | AW22: =AC22+AD22 -> 0 | AX22: =AH22 -> 0 | AY22: =AF22+AG22 -> 0
A23: 1.1.3 | B23: ²Û¹ ÃíáõÙª ÇÝùÝ³Ï³Ù Ï³éáõÛóÇ ÝÏ³ïÙ³Ùµ | AJ23: =E23 -> 0 | AK23: =F23+G23+H23+I23 -> 0 | AL23: =J23 -> 0 | AM23: =K23+L23+M23 -> 0 | AN23: =F23+G23+K23 -> 0 | AO23: =X23+Y23+AA23 -> 0 | AP23: =N23 -> 0 | AQ23: =O23+P23+Q23+R23+S23 -> 0 | AR23: =S23 -> 0 | AS23: =T23+U23+V23 -> 0 | AT23: =X23 -> 0 | AU23: =N23+W23 -> 0 | AV23: =AE23 -> 0 | AW23: =AC23+AD23 -> 0 | AX23: =AH23 -> 0 | AY23: =AF23+AG23 -> 0
A24: 1.2 | B24: ê»÷³Ï³ÝáõÃÛ³Ý Çñ³íáõÝùÇ ¹³¹³ñ»óÙ³Ý í»ñ³µ»ñÛ³É | E24: 10 | F24: 2 | G24: 8 | J24: 5 | K24: 5 | N24: 4 | O24: 1 | R24: 1 | S24: 2 | T24: 1 | U24: 1 | X24: 4 | AA24: 11 | AB24: 3 | AC24: 1 | AE24: 1 | AJ24: =E24 -> 10 | AK24: =F24+G24+H24+I24 -> 10 | AL24: =J24 -> 5 | AM24: =K24+L24+M24 -> 5 | AN24: =F24+G24+K24 -> 15 | AO24: =X24+Y24+AA24 -> 15 | AP24: =N24 -> 4 | AQ24: =O24+P24+Q24+R24+S24 -> 4 | AR24: =S24 -> 2 | AS24: =T24+U24+V24 -> 2 | AT24: =X24 -> 4 | AU24: =N24+W24 -> 4 | AV24: =AE24 -> 1 | AW24: =AC24+AD24 -> 1 | AX24: =AH24 -> 0 | AY24: =AF24+AG24 -> 0
A25: 1.3 | B25: ¶áõÛùÇ ÝÏ³ïÙ³Ùµ û·ï³·áñÍÙ³Ý Çñ³íáõÝùÁ ×³Ý³ã»Éáõ í»ñ³µ»ñÛ³É | E25: 3 | G25: 3 | N25: 1 | Q25: 1 | X25: 1 | AA25: 2 | AB25: 1 | AJ25: =E25 -> 3 | AK25: =F25+G25+H25+I25 -> 3 | AL25: =J25 -> 0 | AM25: =K25+L25+M25 -> 0 | AN25: =F25+G25+K25 -> 3 | AO25: =X25+Y25+AA25 -> 3 | AP25: =N25 -> 1 | AQ25: =O25+P25+Q25+R25+S25 -> 1 | AR25: =S25 -> 0 | AS25: =T25+U25+V25 -> 0 | AT25: =X25 -> 1 | AU25: =N25+W25 -> 1 | AV25: =AE25 -> 0 | AW25: =AC25+AD25 -> 0 | AX25: =AH25 -> 0 | AY25: =AF25+AG25 -> 0
A26: 1.3.1 | B26: ²Û¹ ÃíáõÙª µÝ³Ïû·ï³·áñÍÙ³Ý Çñ³íáõÝùÁ ×³Ý³ã»Éáõ í»ñ³µ»ñÛ³É | E26: 1 | G26: 1 | N26: 1 | Q26: 1 | X26: 1 | AC26: 1 | AE26: 1 | AJ26: =E26 -> 1 | AK26: =F26+G26+H26+I26 -> 1 | AL26: =J26 -> 0 | AM26: =K26+L26+M26 -> 0 | AN26: =F26+G26+K26 -> 1 | AO26: =X26+Y26+AA26 -> 1 | AP26: =N26 -> 1 | AQ26: =O26+P26+Q26+R26+S26 -> 1 | AR26: =S26 -> 0 | AS26: =T26+U26+V26 -> 0 | AT26: =X26 -> 1 | AU26: =N26+W26 -> 1 | AV26: =AE26 -> 1 | AW26: =AC26+AD26 -> 1 | AX26: =AH26 -> 0 | AY26: =AF26+AG26 -> 0
A27: 1.3.2 | B27: ²Û¹ ÃíáõÙª ÑáÕ³Ù³ëÇ ÝÏ³ïÙ³Ùµ û·ï³·áñÍÙ³Ý Çñ³íáõÝùÁ ×³Ý³ã»Éáõ í»ñ³µ»ñÛ³É | E27: 1 | G27: 1 | J27: 1 | K27: 1 | AA27: 2 | AJ27: =E27 -> 1 | AK27: =F27+G27+H27+I27 -> 1 | AL27: =J27 -> 1 | AM27: =K27+L27+M27 -> 1 | AN27: =F27+G27+K27 -> 2 | AO27: =X27+Y27+AA27 -> 2 | AP27: =N27 -> 0 | AQ27: =O27+P27+Q27+R27+S27 -> 0 | AR27: =S27 -> 0 | AS27: =T27+U27+V27 -> 0 | AT27: =X27 -> 0 | AU27: =N27+W27 -> 0 | AV27: =AE27 -> 0 | AW27: =AC27+AD27 -> 0 | AX27: =AH27 -> 0 | AY27: =AF27+AG27 -> 0
A28: 1.4 | B28: ¶áõÛùÇ ÝÏ³ïÙ³Ùµ û·ï³·áñÍÙ³Ý Çñ³íáõÝùÁ ¹³¹³ñ»óÝ»Éáõ í»ñ³µ»ñÛ³É | AJ28: =E28 -> 0 | AK28: =F28+G28+H28+I28 -> 0 | AL28: =J28 -> 0 | AM28: =K28+L28+M28 -> 0 | AN28: =F28+G28+K28 -> 0 | AO28: =X28+Y28+AA28 -> 0 | AP28: =N28 -> 0 | AQ28: =O28+P28+Q28+R28+S28 -> 0 | AR28: =S28 -> 0 | AS28: =T28+U28+V28 -> 0 | AT28: =X28 -> 0 | AU28: =N28+W28 -> 0 | AV28: =AE28 -> 0 | AW28: =AC28+AD28 -> 0 | AX28: =AH28 -> 0 | AY28: =AF28+AG28 -> 0
A29: 1.4.1 | B29: ²Û¹ ÃíáõÙª µÝ³Ïû·ï³·áñÍÙ³Ý Çñ³íáõÝùÁ ¹³¹³ñ»óÝ»Éáõ í»ñ³µ»ñÛ³É | AJ29: =E29 -> 0 | AK29: =F29+G29+H29+I29 -> 0 | AL29: =J29 -> 0 | AM29: =K29+L29+M29 -> 0 | AN29: =F29+G29+K29 -> 0 | AO29: =X29+Y29+AA29 -> 0 | AP29: =N29 -> 0 | AQ29: =O29+P29+Q29+R29+S29 -> 0 | AR29: =S29 -> 0 | AS29: =T29+U29+V29 -> 0 | AT29: =X29 -> 0 | AU29: =N29+W29 -> 0 | AV29: =AE29 -> 0 | AW29: =AC29+AD29 -> 0 | AX29: =AH29 -> 0 | AY29: =AF29+AG29 -> 0
A30: 1.4.1/1 | B30: ²Û¹ ÃíáõÙª ÷áËÑ³ïáõóÙ³Ùµ | AJ30: =E30 -> 0 | AK30: =F30+G30+H30+I30 -> 0 | AL30: =J30 -> 0 | AM30: =K30+L30+M30 -> 0 | AN30: =F30+G30+K30 -> 0 | AO30: =X30+Y30+AA30 -> 0 | AP30: =N30 -> 0 | AQ30: =O30+P30+Q30+R30+S30 -> 0 | AR30: =S30 -> 0 | AS30: =T30+U30+V30 -> 0 | AT30: =X30 -> 0 | AU30: =N30+W30 -> 0 | AV30: =AE30 -> 0 | AW30: =AC30+AD30 -> 0 | AX30: =AH30 -> 0 | AY30: =AF30+AG30 -> 0
A31: 1.5 | B31: ´Ý³Ï³ñ³ÝÇó/ ï³ñ³ÍùÇó/ íï³ñ»Éáõ í»ñ³µ»ñÛ³É | E31: 19 | F31: 6 | G31: 13 | J31: 9 | K31: 9 | N31: 3 | O31: 1 | S31: 2 | T31: 1 | U31: 1 | X31: 3 | AA31: 25 | AB31: 7 | AJ31: =E31 -> 19 | AK31: =F31+G31+H31+I31 -> 19 | AL31: =J31 -> 9 | AM31: =K31+L31+M31 -> 9 | AN31: =F31+G31+K31 -> 28 | AO31: =X31+Y31+AA31 -> 28 | AP31: =N31 -> 3 | AQ31: =O31+P31+Q31+R31+S31 -> 3 | AR31: =S31 -> 2 | AS31: =T31+U31+V31 -> 2 | AT31: =X31 -> 3 | AU31: =N31+W31 -> 3 | AV31: =AE31 -> 0 | AW31: =AC31+AD31 -> 0 | AX31: =AH31 -> 0 | AY31: =AF31+AG31 -> 0
A32: 1.6 | B32: ¶áõÛùÝ áõñÇßÇ ³åûñÇÝÇ ïÇñ³å»ïáõÙÇó »ï í»ñ³¹³ñÓÝ»Éáõ í»ñ³µ»ñÛ³É | E32: 22 | F32: 7 | G32: 15 | J32: 10 | K32: 8 | L32: 2 | N32: 7 | O32: 2 | Q32: 2 | S32: 3 | U32: 3 | X32: 7 | AA32: 23 | AB32: 9 | AC32: 2 | AE32: 2 | AJ32: =E32 -> 22 | AK32: =F32+G32+H32+I32 -> 22 | AL32: =J32 -> 10 | AM32: =K32+L32+M32 -> 10 | AN32: =F32+G32+K32 -> 30 | AO32: =X32+Y32+AA32 -> 30 | AP32: =N32 -> 7 | AQ32: =O32+P32+Q32+R32+S32 -> 7 | AR32: =S32 -> 3 | AS32: =T32+U32+V32 -> 3 | AT32: =X32 -> 7 | AU32: =N32+W32 -> 7 | AV32: =AE32 -> 2 | AW32: =AC32+AD32 -> 2 | AX32: =AH32 -> 0 | AY32: =AF32+AG32 -> 0
