Workbook

Sheet Քաղ  all 
A1: 2015Ã. 1-ÇÝ ÏÇë³ÙÛ³Ï | E1: Ð²ÞìºîìàôÂÚàôÜ | AC1: Ï³½Ùí³Í` ÐÐ Ï³é³í³ñáõÃÛ³Ý 19.03.2015Ã. ÃÇí 306-Ü áñáßÙ³Ý ÑÇÙ³Ý íñ³
A2: ÐÐ ÀÜ¸Ð²Üàôð Æð²ì²êàôÂÚ²Ü ²è²æÆÜ ²îÚ²ÜÆ ¸²î²ð²ÜÜºðàôØ ø²Ô²ø²òÆ²Î²Ü ¶àðÌºðÆ øÜÜàôÂÚ²Ü ìºð²´ºðÚ²È
A3: ÐÐ ÁÝ¹Ñ³Ýáõñ Çñ³í³ëáõÃÛ³Ý ³é³çÇÝ ³ïÛ³ÝÇ ¹³ï³ñ³ÝÝ»ñáõÙ ù³Õ³ù³óÇ³Ï³Ý Ù³ëÝ³·Çï³óáõÙ áõÝ»óáÕ ¹³ï³íáñÝ»ñÇ Ñ³ëïÇùÝ»ñÇ ù³Ý³ÏÁ`
A4: êïáõ·Çã Ñ³í³ë³ñáõÙÝ»ñª 1=2+3+4+5, 6=7+8+9, 2+3+7=20+21+23, 10=11+12+13+14+15, 15=16+17+18, 20=10+19, 27=25+26, 30=28+29 | E4: Ð³ßí»ïáõ Å³Ù³Ý³Ï³Ñ³ïí³ÍáõÙ Ý³Ëáñ¹ Ñ³ßí»ïáõ Å³Ù³Ý³Ï³Ñ³ïí³ÍÇó ÷áË³Ýóí³Í ·áñÍ»ñÇ ÁÝ¹Ñ³Ýáõñ ÃÇíÁ | J4: Ð³ßí»ïáõ Å³Ù³Ý³Ï³Ñ³ïí³ÍáõÙëï³óí³Í ·áñÍ»ñÇ (³Û¹ ÃíáõÙ` Ñ³Ûó³¹ÇÙáõÙÝ»ñÇ, ¹ÇÙáõÙÝ»ñÇ) ÁÝ¹Ñ³Ýáõñ ÃÇíÁ | N4: Ð³ßí»ïáõ Å³Ù³Ý³Ï³Ñ³ïí³ÍáõÙ ³í³ñïí³Í ·áñÍ»ñÇ ÁÝ¹Ñ³Ýáõñ ÃÇíÁ | Y4: ¶áñÍÝ áõÕ³ñÏí»É ¿ Áëï ÁÝ¹¹³ïáõÃÛ³Ý | Z4: Ð³ßí»ïáõ Å³Ù³Ý³Ï³Ñ³ïí³ÍáõÙ Ï³ë»óí³Í í³ñáõÛÃÝ»ñáí ·áñÍ»ñÇ ÁÝ¹Ñ³Ýáõñ ÃÇíÁ | AA4: Ð³ßí»ïáõ Å³Ù³Ý³Ï³Ñ³ïí³ÍáõÙ ³Ý³í³ñï ·áñÍ»ñÇ ÁÝ¹Ñ³Ýáõñ ÃÇíÁ | AB4: ²Û¹ ÃíáõÙª Ï³ë»óí³Í | AC4: ´áÕáù³ñÏí³Í ¹³ï³Ï³Ý ³Ïï»ñÇ ÃÇíÁ` Áëï ï»ë³ÏÝ»ñÇ | AF4: ´»Ï³Ýí³Í ¹³ï³Ï³Ý ³Ïï»ñÇ ÃÇíÁ` Áëï ï»ë³ÏÝ»ñÇ
E7: ÀÝ¹³Ù»ÝÁ | F7: ²Û¹ ÃíáõÙ`Ï³ë»óí³Í íÇ×³ÏáõÙ ÷áË³Ýóí³Í | G7: ²Û¹ ÃíáõÙª ÁÝ¹áõÝí»É ¿ í³ñáõÛÃ | H7: ²Û¹ ÃíáõÙª í»ñ³¹³ñÓí»É ¿ | I7: ²Û¹ ÃíáõÙª ÁÝ¹áõÝáõÙÁ Ù»ñÅí»É ¿ | J7: ÀÝ¹³Ù»ÝÁ | K7: ²Û¹ ÃíáõÙª ÁÝ¹áõÝí»É ¿ í³ñáõÛÃ | L7: ²Û¹ ÃíáõÙª í»ñ³¹³ñÓí»É ¿ | M7: ²Û¹ ÃíáõÙª ÁÝ¹áõÝáõÙÁ Ù»ñÅí»É ¿ | N7: ÀÝ¹³Ù»ÝÁ ³í³ñïí»É »Ý ·áñÍ»ñ ·áñÍÝ Áëï ¿áõÃÛ³Ý ÉáõÍáÕ ¹³ï³Ï³Ý ³Ïï»ñÇ (í×ÇéÝ»ñÇ) Ï³Û³óÙ³Ùµ | O7: ²Û¹ ÃíáõÙª Ñ³ÛóÇ µ³í³ñ³ñÙ³Ùµ | P7: ²Û¹ ÃíáõÙª Ñ³ÛóÇ Ù³ëÝ³ÏÇ µ³í³ñ³ñÙ³Ùµ | Q7: ²Û¹ ÃíáõÙª Ñ³ÛóÇ Ù»ñÅÙ³Ùµ | R7: Ø³ëáí Ï³ñ×í»É ¿, Ù³ëáí Ù»ñÅí»É | S7: ²Û¹ ÃíáõÙª Ï³ñ×í»É »Ý | W7: Ð³ÛóÁ ÃáÕÝí»É ¿ ³é³Ýó ùÝÝáõÃÛ³Ý | X7: ÀÝ¹³Ù»ÝÝ ³í³ñïí»É »Ý ·áñÍ»ñ | AC7: ²Û¹ ÃíáõÙ` ·áñÍÝ Áëï ¿áõÃÛ³Ý ÉáõÍáÕ ¹³ï³Ï³Ý ³Ïï»ñ | AD7: ²Û¹ ÃíáõÙ` ÙÇç³ÝÏÛ³É ¹³ï³Ï³Ý ³Ïï»ñ | AE7: ÀÝ¹³Ù»ÝÁ | AF7: ²Û¹ ÃíáõÙ` ·áñÍÝ Áëï ¿áõÃÛ³Ý ÉáõÍáÕ ¹³ï³Ï³Ý ³Ïï»ñ | AG7: ²Û¹ ÃíáõÙ` ÙÇç³ÝÏÛ³É ¹³ï³Ï³Ý ³Ïï»ñ | AH7: ÀÝ¹³Ù»ÝÁ
S10: ÀÝ¹³Ù»ÝÁ Ï³ñ×í»É »Ý | T10: ²Û¹ ÃíáõÙª Ñ³ëï³ïí»É ¿ ÏÝùí³Í Ñ³ßïáõÃÛ³Ý Ñ³Ù³Ó³ÛÝáõÃÛáõÝÁ | U10: ²Û¹ ÃíáõÙª Ñ³óÇó, ¹ÇÙáõÙÇó Ññ³Å³ñí»Éáõ ÑÇÙùáí | V10: ²Û¹ ÃíáõÙª ³ÛÉ ÑÇÙùáí
A18: ø³Õ³ù³óÇ³Ï³Ý ·áñÍ»ñÇ ¹³ë³Ï³ñ·áõÙÁ | E18: 1 | F18: 2 | G18: 3 | H18: 4 | I18: 5 | J18: 6 | K18: 7 | L18: 8 | M18: 9 | N18: 10 | O18: 11 | P18: 12 | Q18: 13 | R18: 14 | S18: 15 | T18: 16 | U18: 17 | V18: 18 | W18: 19 | X18: 20 | Y18: 21 | Z18: 22 | AA18: 23 | AB18: 24 | AC18: 25 | AD18: 26 | AE18: 27 | AF18: 28 | AG18: 29 | AH18: 30
A19: 1. | B19: ¶áõÛù³ÛÇÝ Çñ³í³Ñ³ñ³µ»ñáõÃÛáõÝÝ»ñÇ í»ñ³µ»ñÛ³É ¹³ï³Ï³Ý ·áñÍ»ñ | E19: =SUM(E20:E38) -> 3463 | F19: =SUM(F20:F38) -> 1330 | G19: =SUM(G20:G38) -> 2132 | H19: =SUM(H20:H38) -> 1 | I19: =SUM(I20:I38) -> 0 | J19: =SUM(J20:J38) -> 1569 | K19: =SUM(K20:K38) -> 1341 | L19: =SUM(L20:L38) -> 205 | ... AI19: =SUM(AI20:AI38) -> 0
A20: 1.1 | B20: ¶áõÛùÇ ÝÏ³ïÙ³Ùµ ë»÷³Ï³ÝáõÃÛ³Ý Çñ³íáõÝùÁ ×³Ý³ã»Éáõ í»ñ³µ»ñÛ³É | E20: =Erebuni!E20+Kentron!E20+Ajapnyak!E20+Shengavit!E20+Avan!E20+Arabkir!E20+Malatia!E20+Kotayq!E20+Armavir!E20+Ararat!E20+Aragacotn!E20+Shirak!E20+Lori!E20+Tavush!E20+Gexarquniq!E20+Syuniq!E20 -> 293 | F20: =Erebuni!F20+Kentron!F20+Ajapnyak!F20+Shengavit!F20+Avan!F20+Arabkir!F20+Malatia!F20+Kotayq!F20+Armavir!F20+Ararat!F20+Aragacotn!F20+Shirak!F20+Lori!F20+Tavush!F20+Gexarquniq!F20+Syuniq!F20 -> 57 | G20: =Erebuni!G20+Kentron!G20+Ajapnyak!G20+Shengavit!G20+Avan!G20+Arabkir!G20+Malatia!G20+Kotayq!G20+Armavir!G20+Ararat!G20+Aragacotn!G20+Shirak!G20+Lori!G20+Tavush!G20+Gexarquniq!G20+Syuniq!G20 -> 236 | H20: =Erebuni!H20+Kentron!H20+Ajapnyak!H20+Shengavit!H20+Avan!H20+Arabkir!H20+Malatia!H20+Kotayq!H20+Armavir!H20+Ararat!H20+Aragacotn!H20+Shirak!H20+Lori!H20+Tavush!H20+Gexarquniq!H20+Syuniq!H20 -> 0 | I20: =Erebuni!I20+Kentron!I20+Ajapnyak!I20+Shengavit!I20+Avan!I20+Arabkir!I20+Malatia!I20+Kotayq!I20+Armavir!I20+Ararat!I20+Aragacotn!I20+Shirak!I20+Lori!I20+Tavush!I20+Gexarquniq!I20+Syuniq!I20 -> 0 | J20: =Erebuni!J20+Kentron!J20+Ajapnyak!J20+Shengavit!J20+Avan!J20+Arabkir!J20+Malatia!J20+Kotayq!J20+Armavir!J20+Ararat!J20+Aragacotn!J20+Shirak!J20+Lori!J20+Tavush!J20+Gexarquniq!J20+Syuniq!J20 -> 209 | K20: =Erebuni!K20+Kentron!K20+Ajapnyak!K20+Shengavit!K20+Avan!K20+Arabkir!K20+Malatia!K20+Kotayq!K20+Armavir!K20+Ararat!K20+Aragacotn!K20+Shirak!K20+Lori!K20+Tavush!K20+Gexarquniq!K20+Syuniq!K20 -> 177 | L20: =Erebuni!L20+Kentron!L20+Ajapnyak!L20+Shengavit!L20+Avan!L20+Arabkir!L20+Malatia!L20+Kotayq!L20+Armavir!L20+Ararat!L20+Aragacotn!L20+Shirak!L20+Lori!L20+Tavush!L20+Gexarquniq!L20+Syuniq!L20 -> 25 | ... AH20: =Erebuni!AH20+Kentron!AH20+Ajapnyak!AH20+Shengavit!AH20+Avan!AH20+Arabkir!AH20+Malatia!AH20+Kotayq!AH20+Armavir!AH20+Ararat!AH20+Aragacotn!AH20+Shirak!AH20+Lori!AH20+Tavush!AH20+Gexarquniq!AH20+Syuniq!AH20 -> 4
A21: 1.1.1 | B21: ²Û¹ ÃíáõÙª Ó»éùµ»ñÙ³Ý í³Õ»ÙáõÃÛ³Ý áõÅáí | E21: =Erebuni!E21+Kentron!E21+Ajapnyak!E21+Shengavit!E21+Avan!E21+Arabkir!E21+Malatia!E21+Kotayq!E21+Armavir!E21+Ararat!E21+Aragacotn!E21+Shirak!E21+Lori!E21+Tavush!E21+Gexarquniq!E21+Syuniq!E21 -> 203 | F21: =Erebuni!F21+Kentron!F21+Ajapnyak!F21+Shengavit!F21+Avan!F21+Arabkir!F21+Malatia!F21+Kotayq!F21+Armavir!F21+Ararat!F21+Aragacotn!F21+Shirak!F21+Lori!F21+Tavush!F21+Gexarquniq!F21+Syuniq!F21 -> 39 | G21: =Erebuni!G21+Kentron!G21+Ajapnyak!G21+Shengavit!G21+Avan!G21+Arabkir!G21+Malatia!G21+Kotayq!G21+Armavir!G21+Ararat!G21+Aragacotn!G21+Shirak!G21+Lori!G21+Tavush!G21+Gexarquniq!G21+Syuniq!G21 -> 163 | H21: =Erebuni!H21+Kentron!H21+Ajapnyak!H21+Shengavit!H21+Avan!H21+Arabkir!H21+Malatia!H21+Kotayq!H21+Armavir!H21+Ararat!H21+Aragacotn!H21+Shirak!H21+Lori!H21+Tavush!H21+Gexarquniq!H21+Syuniq!H21 -> 1 | I21: =Erebuni!I21+Kentron!I21+Ajapnyak!I21+Shengavit!I21+Avan!I21+Arabkir!I21+Malatia!I21+Kotayq!I21+Armavir!I21+Ararat!I21+Aragacotn!I21+Shirak!I21+Lori!I21+Tavush!I21+Gexarquniq!I21+Syuniq!I21 -> 0 | J21: =Erebuni!J21+Kentron!J21+Ajapnyak!J21+Shengavit!J21+Avan!J21+Arabkir!J21+Malatia!J21+Kotayq!J21+Armavir!J21+Ararat!J21+Aragacotn!J21+Shirak!J21+Lori!J21+Tavush!J21+Gexarquniq!J21+Syuniq!J21 -> 170 | K21: =Erebuni!K21+Kentron!K21+Ajapnyak!K21+Shengavit!K21+Avan!K21+Arabkir!K21+Malatia!K21+Kotayq!K21+Armavir!K21+Ararat!K21+Aragacotn!K21+Shirak!K21+Lori!K21+Tavush!K21+Gexarquniq!K21+Syuniq!K21 -> 158 | L21: =Erebuni!L21+Kentron!L21+Ajapnyak!L21+Shengavit!L21+Avan!L21+Arabkir!L21+Malatia!L21+Kotayq!L21+Armavir!L21+Ararat!L21+Aragacotn!L21+Shirak!L21+Lori!L21+Tavush!L21+Gexarquniq!L21+Syuniq!L21 -> 12 | ... AH21: =Erebuni!AH21+Kentron!AH21+Ajapnyak!AH21+Shengavit!AH21+Avan!AH21+Arabkir!AH21+Malatia!AH21+Kotayq!AH21+Armavir!AH21+Ararat!AH21+Aragacotn!AH21+Shirak!AH21+Lori!AH21+Tavush!AH21+Gexarquniq!AH21+Syuniq!AH21 -> 5
A22: 1.1.2 | B22: ²Û¹ ÃíáõÙª ïÇñ³½áõñÏ ·áõÛùÇ ÝÏ³ïÙ³Ùµ | E22: =Erebuni!E22+Kentron!E22+Ajapnyak!E22+Shengavit!E22+Avan!E22+Arabkir!E22+Malatia!E22+Kotayq!E22+Armavir!E22+Ararat!E22+Aragacotn!E22+Shirak!E22+Lori!E22+Tavush!E22+Gexarquniq!E22+Syuniq!E22 -> 1 | F22: =Erebuni!F22+Kentron!F22+Ajapnyak!F22+Shengavit!F22+Avan!F22+Arabkir!F22+Malatia!F22+Kotayq!F22+Armavir!F22+Ararat!F22+Aragacotn!F22+Shirak!F22+Lori!F22+Tavush!F22+Gexarquniq!F22+Syuniq!F22 -> 1 | G22: =Erebuni!G22+Kentron!G22+Ajapnyak!G22+Shengavit!G22+Avan!G22+Arabkir!G22+Malatia!G22+Kotayq!G22+Armavir!G22+Ararat!G22+Aragacotn!G22+Shirak!G22+Lori!G22+Tavush!G22+Gexarquniq!G22+Syuniq!G22 -> 0 | H22: =Erebuni!H22+Kentron!H22+Ajapnyak!H22+Shengavit!H22+Avan!H22+Arabkir!H22+Malatia!H22+Kotayq!H22+Armavir!H22+Ararat!H22+Aragacotn!H22+Shirak!H22+Lori!H22+Tavush!H22+Gexarquniq!H22+Syuniq!H22 -> 0 | I22: =Erebuni!I22+Kentron!I22+Ajapnyak!I22+Shengavit!I22+Avan!I22+Arabkir!I22+Malatia!I22+Kotayq!I22+Armavir!I22+Ararat!I22+Aragacotn!I22+Shirak!I22+Lori!I22+Tavush!I22+Gexarquniq!I22+Syuniq!I22 -> 0 | J22: =Erebuni!J22+Kentron!J22+Ajapnyak!J22+Shengavit!J22+Avan!J22+Arabkir!J22+Malatia!J22+Kotayq!J22+Armavir!J22+Ararat!J22+Aragacotn!J22+Shirak!J22+Lori!J22+Tavush!J22+Gexarquniq!J22+Syuniq!J22 -> 1 | K22: =Erebuni!K22+Kentron!K22+Ajapnyak!K22+Shengavit!K22+Avan!K22+Arabkir!K22+Malatia!K22+Kotayq!K22+Armavir!K22+Ararat!K22+Aragacotn!K22+Shirak!K22+Lori!K22+Tavush!K22+Gexarquniq!K22+Syuniq!K22 -> 1 | L22: =Erebuni!L22+Kentron!L22+Ajapnyak!L22+Shengavit!L22+Avan!L22+Arabkir!L22+Malatia!L22+Kotayq!L22+Armavir!L22+Ararat!L22+Aragacotn!L22+Shirak!L22+Lori!L22+Tavush!L22+Gexarquniq!L22+Syuniq!L22 -> 0 | ... AH22: =Erebuni!AH22+Kentron!AH22+Ajapnyak!AH22+Shengavit!AH22+Avan!AH22+Arabkir!AH22+Malatia!AH22+Kotayq!AH22+Armavir!AH22+Ararat!AH22+Aragacotn!AH22+Shirak!AH22+Lori!AH22+Tavush!AH22+Gexarquniq!AH22+Syuniq!AH22 -> 0
A23: 1.1.3 | B23: ²Û¹ ÃíáõÙª ÇÝùÝ³Ï³Ù Ï³éáõÛóÇ ÝÏ³ïÙ³Ùµ | E23: =Erebuni!E23+Kentron!E23+Ajapnyak!E23+Shengavit!E23+Avan!E23+Arabkir!E23+Malatia!E23+Kotayq!E23+Armavir!E23+Ararat!E23+Aragacotn!E23+Shirak!E23+Lori!E23+Tavush!E23+Gexarquniq!E23+Syuniq!E23 -> 1 | F23: =Erebuni!F23+Kentron!F23+Ajapnyak!F23+Shengavit!F23+Avan!F23+Arabkir!F23+Malatia!F23+Kotayq!F23+Armavir!F23+Ararat!F23+Aragacotn!F23+Shirak!F23+Lori!F23+Tavush!F23+Gexarquniq!F23+Syuniq!F23 -> 1 | G23: =Erebuni!G23+Kentron!G23+Ajapnyak!G23+Shengavit!G23+Avan!G23+Arabkir!G23+Malatia!G23+Kotayq!G23+Armavir!G23+Ararat!G23+Aragacotn!G23+Shirak!G23+Lori!G23+Tavush!G23+Gexarquniq!G23+Syuniq!G23 -> 0 | H23: =Erebuni!H23+Kentron!H23+Ajapnyak!H23+Shengavit!H23+Avan!H23+Arabkir!H23+Malatia!H23+Kotayq!H23+Armavir!H23+Ararat!H23+Aragacotn!H23+Shirak!H23+Lori!H23+Tavush!H23+Gexarquniq!H23+Syuniq!H23 -> 0 | I23: =Erebuni!I23+Kentron!I23+Ajapnyak!I23+Shengavit!I23+Avan!I23+Arabkir!I23+Malatia!I23+Kotayq!I23+Armavir!I23+Ararat!I23+Aragacotn!I23+Shirak!I23+Lori!I23+Tavush!I23+Gexarquniq!I23+Syuniq!I23 -> 0 | J23: =Erebuni!J23+Kentron!J23+Ajapnyak!J23+Shengavit!J23+Avan!J23+Arabkir!J23+Malatia!J23+Kotayq!J23+Armavir!J23+Ararat!J23+Aragacotn!J23+Shirak!J23+Lori!J23+Tavush!J23+Gexarquniq!J23+Syuniq!J23 -> 0 | K23: =Erebuni!K23+Kentron!K23+Ajapnyak!K23+Shengavit!K23+Avan!K23+Arabkir!K23+Malatia!K23+Kotayq!K23+Armavir!K23+Ararat!K23+Aragacotn!K23+Shirak!K23+Lori!K23+Tavush!K23+Gexarquniq!K23+Syuniq!K23 -> 0 | L23: =Erebuni!L23+Kentron!L23+Ajapnyak!L23+Shengavit!L23+Avan!L23+Arabkir!L23+Malatia!L23+Kotayq!L23+Armavir!L23+Ararat!L23+Aragacotn!L23+Shirak!L23+Lori!L23+Tavush!L23+Gexarquniq!L23+Syuniq!L23 -> 0 | ... AH23: =Erebuni!AH23+Kentron!AH23+Ajapnyak!AH23+Shengavit!AH23+Avan!AH23+Arabkir!AH23+Malatia!AH23+Kotayq!AH23+Armavir!AH23+Ararat!AH23+Aragacotn!AH23+Shirak!AH23+Lori!AH23+Tavush!AH23+Gexarquniq!AH23+Syuniq!AH23 -> 0
A24: 1.2 | B24: ê»÷³Ï³ÝáõÃÛ³Ý Çñ³íáõÝùÇ ¹³¹³ñ»óÙ³Ý í»ñ³µ»ñÛ³É | E24: =Erebuni!E24+Kentron!E24+Ajapnyak!E24+Shengavit!E24+Avan!E24+Arabkir!E24+Malatia!E24+Kotayq!E24+Armavir!E24+Ararat!E24+Aragacotn!E24+Shirak!E24+Lori!E24+Tavush!E24+Gexarquniq!E24+Syuniq!E24 -> 26 | F24: =Erebuni!F24+Kentron!F24+Ajapnyak!F24+Shengavit!F24+Avan!F24+Arabkir!F24+Malatia!F24+Kotayq!F24+Armavir!F24+Ararat!F24+Aragacotn!F24+Shirak!F24+Lori!F24+Tavush!F24+Gexarquniq!F24+Syuniq!F24 -> 8 | G24: =Erebuni!G24+Kentron!G24+Ajapnyak!G24+Shengavit!G24+Avan!G24+Arabkir!G24+Malatia!G24+Kotayq!G24+Armavir!G24+Ararat!G24+Aragacotn!G24+Shirak!G24+Lori!G24+Tavush!G24+Gexarquniq!G24+Syuniq!G24 -> 18 | H24: =Erebuni!H24+Kentron!H24+Ajapnyak!H24+Shengavit!H24+Avan!H24+Arabkir!H24+Malatia!H24+Kotayq!H24+Armavir!H24+Ararat!H24+Aragacotn!H24+Shirak!H24+Lori!H24+Tavush!H24+Gexarquniq!H24+Syuniq!H24 -> 0 | I24: =Erebuni!I24+Kentron!I24+Ajapnyak!I24+Shengavit!I24+Avan!I24+Arabkir!I24+Malatia!I24+Kotayq!I24+Armavir!I24+Ararat!I24+Aragacotn!I24+Shirak!I24+Lori!I24+Tavush!I24+Gexarquniq!I24+Syuniq!I24 -> 0 | J24: =Erebuni!J24+Kentron!J24+Ajapnyak!J24+Shengavit!J24+Avan!J24+Arabkir!J24+Malatia!J24+Kotayq!J24+Armavir!J24+Ararat!J24+Aragacotn!J24+Shirak!J24+Lori!J24+Tavush!J24+Gexarquniq!J24+Syuniq!J24 -> 9 | K24: =Erebuni!K24+Kentron!K24+Ajapnyak!K24+Shengavit!K24+Avan!K24+Arabkir!K24+Malatia!K24+Kotayq!K24+Armavir!K24+Ararat!K24+Aragacotn!K24+Shirak!K24+Lori!K24+Tavush!K24+Gexarquniq!K24+Syuniq!K24 -> 8 | L24: =Erebuni!L24+Kentron!L24+Ajapnyak!L24+Shengavit!L24+Avan!L24+Arabkir!L24+Malatia!L24+Kotayq!L24+Armavir!L24+Ararat!L24+Aragacotn!L24+Shirak!L24+Lori!L24+Tavush!L24+Gexarquniq!L24+Syuniq!L24 -> 1 | ... AH24: =Erebuni!AH24+Kentron!AH24+Ajapnyak!AH24+Shengavit!AH24+Avan!AH24+Arabkir!AH24+Malatia!AH24+Kotayq!AH24+Armavir!AH24+Ararat!AH24+Aragacotn!AH24+Shirak!AH24+Lori!AH24+Tavush!AH24+Gexarquniq!AH24+Syuniq!AH24 -> 1
A25: 1.3 | B25: ¶áõÛùÇ ÝÏ³ïÙ³Ùµ û·ï³·áñÍÙ³Ý Çñ³íáõÝùÁ ×³Ý³ã»Éáõ í»ñ³µ»ñÛ³É | E25: =Erebuni!E25+Kentron!E25+Ajapnyak!E25+Shengavit!E25+Avan!E25+Arabkir!E25+Malatia!E25+Kotayq!E25+Armavir!E25+Ararat!E25+Aragacotn!E25+Shirak!E25+Lori!E25+Tavush!E25+Gexarquniq!E25+Syuniq!E25 -> 5 | F25: =Erebuni!F25+Kentron!F25+Ajapnyak!F25+Shengavit!F25+Avan!F25+Arabkir!F25+Malatia!F25+Kotayq!F25+Armavir!F25+Ararat!F25+Aragacotn!F25+Shirak!F25+Lori!F25+Tavush!F25+Gexarquniq!F25+Syuniq!F25 -> 2 | G25: =Erebuni!G25+Kentron!G25+Ajapnyak!G25+Shengavit!G25+Avan!G25+Arabkir!G25+Malatia!G25+Kotayq!G25+Armavir!G25+Ararat!G25+Aragacotn!G25+Shirak!G25+Lori!G25+Tavush!G25+Gexarquniq!G25+Syuniq!G25 -> 3 | H25: =Erebuni!H25+Kentron!H25+Ajapnyak!H25+Shengavit!H25+Avan!H25+Arabkir!H25+Malatia!H25+Kotayq!H25+Armavir!H25+Ararat!H25+Aragacotn!H25+Shirak!H25+Lori!H25+Tavush!H25+Gexarquniq!H25+Syuniq!H25 -> 0 | I25: =Erebuni!I25+Kentron!I25+Ajapnyak!I25+Shengavit!I25+Avan!I25+Arabkir!I25+Malatia!I25+Kotayq!I25+Armavir!I25+Ararat!I25+Aragacotn!I25+Shirak!I25+Lori!I25+Tavush!I25+Gexarquniq!I25+Syuniq!I25 -> 0 | J25: =Erebuni!J25+Kentron!J25+Ajapnyak!J25+Shengavit!J25+Avan!J25+Arabkir!J25+Malatia!J25+Kotayq!J25+Armavir!J25+Ararat!J25+Aragacotn!J25+Shirak!J25+Lori!J25+Tavush!J25+Gexarquniq!J25+Syuniq!J25 -> 6 | K25: =Erebuni!K25+Kentron!K25+Ajapnyak!K25+Shengavit!K25+Avan!K25+Arabkir!K25+Malatia!K25+Kotayq!K25+Armavir!K25+Ararat!K25+Aragacotn!K25+Shirak!K25+Lori!K25+Tavush!K25+Gexarquniq!K25+Syuniq!K25 -> 4 | L25: =Erebuni!L25+Kentron!L25+Ajapnyak!L25+Shengavit!L25+Avan!L25+Arabkir!L25+Malatia!L25+Kotayq!L25+Armavir!L25+Ararat!L25+Aragacotn!L25+Shirak!L25+Lori!L25+Tavush!L25+Gexarquniq!L25+Syuniq!L25 -> 2 | ... AH25: =Erebuni!AH25+Kentron!AH25+Ajapnyak!AH25+Shengavit!AH25+Avan!AH25+Arabkir!AH25+Malatia!AH25+Kotayq!AH25+Armavir!AH25+Ararat!AH25+Aragacotn!AH25+Shirak!AH25+Lori!AH25+Tavush!AH25+Gexarquniq!AH25+Syuniq!AH25 -> 0
A26: 1.3.1 | B26: ²Û¹ ÃíáõÙª µÝ³Ïû·ï³·áñÍÙ³Ý Çñ³íáõÝùÁ ×³Ý³ã»Éáõ í»ñ³µ»ñÛ³É | E26: =Erebuni!E26+Kentron!E26+Ajapnyak!E26+Shengavit!E26+Avan!E26+Arabkir!E26+Malatia!E26+Kotayq!E26+Armavir!E26+Ararat!E26+Aragacotn!E26+Shirak!E26+Lori!E26+Tavush!E26+Gexarquniq!E26+Syuniq!E26 -> 5 | F26: =Erebuni!F26+Kentron!F26+Ajapnyak!F26+Shengavit!F26+Avan!F26+Arabkir!F26+Malatia!F26+Kotayq!F26+Armavir!F26+Ararat!F26+Aragacotn!F26+Shirak!F26+Lori!F26+Tavush!F26+Gexarquniq!F26+Syuniq!F26 -> 0 | G26: =Erebuni!G26+Kentron!G26+Ajapnyak!G26+Shengavit!G26+Avan!G26+Arabkir!G26+Malatia!G26+Kotayq!G26+Armavir!G26+Ararat!G26+Aragacotn!G26+Shirak!G26+Lori!G26+Tavush!G26+Gexarquniq!G26+Syuniq!G26 -> 5 | H26: =Erebuni!H26+Kentron!H26+Ajapnyak!H26+Shengavit!H26+Avan!H26+Arabkir!H26+Malatia!H26+Kotayq!H26+Armavir!H26+Ararat!H26+Aragacotn!H26+Shirak!H26+Lori!H26+Tavush!H26+Gexarquniq!H26+Syuniq!H26 -> 0 | I26: =Erebuni!I26+Kentron!I26+Ajapnyak!I26+Shengavit!I26+Avan!I26+Arabkir!I26+Malatia!I26+Kotayq!I26+Armavir!I26+Ararat!I26+Aragacotn!I26+Shirak!I26+Lori!I26+Tavush!I26+Gexarquniq!I26+Syuniq!I26 -> 0 | J26: =Erebuni!J26+Kentron!J26+Ajapnyak!J26+Shengavit!J26+Avan!J26+Arabkir!J26+Malatia!J26+Kotayq!J26+Armavir!J26+Ararat!J26+Aragacotn!J26+Shirak!J26+Lori!J26+Tavush!J26+Gexarquniq!J26+Syuniq!J26 -> 7 | K26: =Erebuni!K26+Kentron!K26+Ajapnyak!K26+Shengavit!K26+Avan!K26+Arabkir!K26+Malatia!K26+Kotayq!K26+Armavir!K26+Ararat!K26+Aragacotn!K26+Shirak!K26+Lori!K26+Tavush!K26+Gexarquniq!K26+Syuniq!K26 -> 4 | L26: =Erebuni!L26+Kentron!L26+Ajapnyak!L26+Shengavit!L26+Avan!L26+Arabkir!L26+Malatia!L26+Kotayq!L26+Armavir!L26+Ararat!L26+Aragacotn!L26+Shirak!L26+Lori!L26+Tavush!L26+Gexarquniq!L26+Syuniq!L26 -> 2 | ... AH26: =Erebuni!AH26+Kentron!AH26+Ajapnyak!AH26+Shengavit!AH26+Avan!AH26+Arabkir!AH26+Malatia!AH26+Kotayq!AH26+Armavir!AH26+Ararat!AH26+Aragacotn!AH26+Shirak!AH26+Lori!AH26+Tavush!AH26+Gexarquniq!AH26+Syuniq!AH26 -> 0
A27: 1.3.2 | B27: ²Û¹ ÃíáõÙª ÑáÕ³Ù³ëÇ ÝÏ³ïÙ³Ùµ û·ï³·áñÍÙ³Ý Çñ³íáõÝùÁ ×³Ý³ã»Éáõ í»ñ³µ»ñÛ³É | E27: =Erebuni!E27+Kentron!E27+Ajapnyak!E27+Shengavit!E27+Avan!E27+Arabkir!E27+Malatia!E27+Kotayq!E27+Armavir!E27+Ararat!E27+Aragacotn!E27+Shirak!E27+Lori!E27+Tavush!E27+Gexarquniq!E27+Syuniq!E27 -> 9 | F27: =Erebuni!F27+Kentron!F27+Ajapnyak!F27+Shengavit!F27+Avan!F27+Arabkir!F27+Malatia!F27+Kotayq!F27+Armavir!F27+Ararat!F27+Aragacotn!F27+Shirak!F27+Lori!F27+Tavush!F27+Gexarquniq!F27+Syuniq!F27 -> 2 | G27: =Erebuni!G27+Kentron!G27+Ajapnyak!G27+Shengavit!G27+Avan!G27+Arabkir!G27+Malatia!G27+Kotayq!G27+Armavir!G27+Ararat!G27+Aragacotn!G27+Shirak!G27+Lori!G27+Tavush!G27+Gexarquniq!G27+Syuniq!G27 -> 7 | H27: =Erebuni!H27+Kentron!H27+Ajapnyak!H27+Shengavit!H27+Avan!H27+Arabkir!H27+Malatia!H27+Kotayq!H27+Armavir!H27+Ararat!H27+Aragacotn!H27+Shirak!H27+Lori!H27+Tavush!H27+Gexarquniq!H27+Syuniq!H27 -> 0 | I27: =Erebuni!I27+Kentron!I27+Ajapnyak!I27+Shengavit!I27+Avan!I27+Arabkir!I27+Malatia!I27+Kotayq!I27+Armavir!I27+Ararat!I27+Aragacotn!I27+Shirak!I27+Lori!I27+Tavush!I27+Gexarquniq!I27+Syuniq!I27 -> 0 | J27: =Erebuni!J27+Kentron!J27+Ajapnyak!J27+Shengavit!J27+Avan!J27+Arabkir!J27+Malatia!J27+Kotayq!J27+Armavir!J27+Ararat!J27+Aragacotn!J27+Shirak!J27+Lori!J27+Tavush!J27+Gexarquniq!J27+Syuniq!J27 -> 3 | K27: =Erebuni!K27+Kentron!K27+Ajapnyak!K27+Shengavit!K27+Avan!K27+Arabkir!K27+Malatia!K27+Kotayq!K27+Armavir!K27+Ararat!K27+Aragacotn!K27+Shirak!K27+Lori!K27+Tavush!K27+Gexarquniq!K27+Syuniq!K27 -> 1 | L27: =Erebuni!L27+Kentron!L27+Ajapnyak!L27+Shengavit!L27+Avan!L27+Arabkir!L27+Malatia!L27+Kotayq!L27+Armavir!L27+Ararat!L27+Aragacotn!L27+Shirak!L27+Lori!L27+Tavush!L27+Gexarquniq!L27+Syuniq!L27 -> 2 | ... AH27: =Erebuni!AH27+Kentron!AH27+Ajapnyak!AH27+Shengavit!AH27+Avan!AH27+Arabkir!AH27+Malatia!AH27+Kotayq!AH27+Armavir!AH27+Ararat!AH27+Aragacotn!AH27+Shirak!AH27+Lori!AH27+Tavush!AH27+Gexarquniq!AH27+Syuniq!AH27 -> 0
A28: 1.4 | B28: ¶áõÛùÇ ÝÏ³ïÙ³Ùµ û·ï³·áñÍÙ³Ý Çñ³íáõÝùÁ ¹³¹³ñ»óÝ»Éáõ í»ñ³µ»ñÛ³É | E28: =Erebuni!E28+Kentron!E28+Ajapnyak!E28+Shengavit!E28+Avan!E28+Arabkir!E28+Malatia!E28+Kotayq!E28+Armavir!E28+Ararat!E28+Aragacotn!E28+Shirak!E28+Lori!E28+Tavush!E28+Gexarquniq!E28+Syuniq!E28 -> 6 | F28: =Erebuni!F28+Kentron!F28+Ajapnyak!F28+Shengavit!F28+Avan!F28+Arabkir!F28+Malatia!F28+Kotayq!F28+Armavir!F28+Ararat!F28+Aragacotn!F28+Shirak!F28+Lori!F28+Tavush!F28+Gexarquniq!F28+Syuniq!F28 -> 2 | G28: =Erebuni!G28+Kentron!G28+Ajapnyak!G28+Shengavit!G28+Avan!G28+Arabkir!G28+Malatia!G28+Kotayq!G28+Armavir!G28+Ararat!G28+Aragacotn!G28+Shirak!G28+Lori!G28+Tavush!G28+Gexarquniq!G28+Syuniq!G28 -> 4 | H28: =Erebuni!H28+Kentron!H28+Ajapnyak!H28+Shengavit!H28+Avan!H28+Arabkir!H28+Malatia!H28+Kotayq!H28+Armavir!H28+Ararat!H28+Aragacotn!H28+Shirak!H28+Lori!H28+Tavush!H28+Gexarquniq!H28+Syuniq!H28 -> 0 | I28: =Erebuni!I28+Kentron!I28+Ajapnyak!I28+Shengavit!I28+Avan!I28+Arabkir!I28+Malatia!I28+Kotayq!I28+Armavir!I28+Ararat!I28+Aragacotn!I28+Shirak!I28+Lori!I28+Tavush!I28+Gexarquniq!I28+Syuniq!I28 -> 0 | J28: =Erebuni!J28+Kentron!J28+Ajapnyak!J28+Shengavit!J28+Avan!J28+Arabkir!J28+Malatia!J28+Kotayq!J28+Armavir!J28+Ararat!J28+Aragacotn!J28+Shirak!J28+Lori!J28+Tavush!J28+Gexarquniq!J28+Syuniq!J28 -> 1 | K28: =Erebuni!K28+Kentron!K28+Ajapnyak!K28+Shengavit!K28+Avan!K28+Arabkir!K28+Malatia!K28+Kotayq!K28+Armavir!K28+Ararat!K28+Aragacotn!K28+Shirak!K28+Lori!K28+Tavush!K28+Gexarquniq!K28+Syuniq!K28 -> 1 | L28: =Erebuni!L28+Kentron!L28+Ajapnyak!L28+Shengavit!L28+Avan!L28+Arabkir!L28+Malatia!L28+Kotayq!L28+Armavir!L28+Ararat!L28+Aragacotn!L28+Shirak!L28+Lori!L28+Tavush!L28+Gexarquniq!L28+Syuniq!L28 -> 0 | ... AH28: =Erebuni!AH28+Kentron!AH28+Ajapnyak!AH28+Shengavit!AH28+Avan!AH28+Arabkir!AH28+Malatia!AH28+Kotayq!AH28+Armavir!AH28+Ararat!AH28+Aragacotn!AH28+Shirak!AH28+Lori!AH28+Tavush!AH28+Gexarquniq!AH28+Syuniq!AH28 -> 0
A29: 1.4.1 | B29: ²Û¹ ÃíáõÙª µÝ³Ïû·ï³·áñÍÙ³Ý Çñ³íáõÝùÁ ¹³¹³ñ»óÝ»Éáõ í»ñ³µ»ñÛ³É | E29: =Erebuni!E29+Kentron!E29+Ajapnyak!E29+Shengavit!E29+Avan!E29+Arabkir!E29+Malatia!E29+Kotayq!E29+Armavir!E29+Ararat!E29+Aragacotn!E29+Shirak!E29+Lori!E29+Tavush!E29+Gexarquniq!E29+Syuniq!E29 -> 18 | F29: =Erebuni!F29+Kentron!F29+Ajapnyak!F29+Shengavit!F29+Avan!F29+Arabkir!F29+Malatia!F29+Kotayq!F29+Armavir!F29+Ararat!F29+Aragacotn!F29+Shirak!F29+Lori!F29+Tavush!F29+Gexarquniq!F29+Syuniq!F29 -> 8 | G29: =Erebuni!G29+Kentron!G29+Ajapnyak!G29+Shengavit!G29+Avan!G29+Arabkir!G29+Malatia!G29+Kotayq!G29+Armavir!G29+Ararat!G29+Aragacotn!G29+Shirak!G29+Lori!G29+Tavush!G29+Gexarquniq!G29+Syuniq!G29 -> 10 | H29: =Erebuni!H29+Kentron!H29+Ajapnyak!H29+Shengavit!H29+Avan!H29+Arabkir!H29+Malatia!H29+Kotayq!H29+Armavir!H29+Ararat!H29+Aragacotn!H29+Shirak!H29+Lori!H29+Tavush!H29+Gexarquniq!H29+Syuniq!H29 -> 0 | I29: =Erebuni!I29+Kentron!I29+Ajapnyak!I29+Shengavit!I29+Avan!I29+Arabkir!I29+Malatia!I29+Kotayq!I29+Armavir!I29+Ararat!I29+Aragacotn!I29+Shirak!I29+Lori!I29+Tavush!I29+Gexarquniq!I29+Syuniq!I29 -> 0 | J29: =Erebuni!J29+Kentron!J29+Ajapnyak!J29+Shengavit!J29+Avan!J29+Arabkir!J29+Malatia!J29+Kotayq!J29+Armavir!J29+Ararat!J29+Aragacotn!J29+Shirak!J29+Lori!J29+Tavush!J29+Gexarquniq!J29+Syuniq!J29 -> 2 | K29: =Erebuni!K29+Kentron!K29+Ajapnyak!K29+Shengavit!K29+Avan!K29+Arabkir!K29+Malatia!K29+Kotayq!K29+Armavir!K29+Ararat!K29+Aragacotn!K29+Shirak!K29+Lori!K29+Tavush!K29+Gexarquniq!K29+Syuniq!K29 -> 2 | L29: =Erebuni!L29+Kentron!L29+Ajapnyak!L29+Shengavit!L29+Avan!L29+Arabkir!L29+Malatia!L29+Kotayq!L29+Armavir!L29+Ararat!L29+Aragacotn!L29+Shirak!L29+Lori!L29+Tavush!L29+Gexarquniq!L29+Syuniq!L29 -> 0 | ... AH29: =Erebuni!AH29+Kentron!AH29+Ajapnyak!AH29+Shengavit!AH29+Avan!AH29+Arabkir!AH29+Malatia!AH29+Kotayq!AH29+Armavir!AH29+Ararat!AH29+Aragacotn!AH29+Shirak!AH29+Lori!AH29+Tavush!AH29+Gexarquniq!AH29+Syuniq!AH29 -> 0
A30: 1.4.1/1 | B30: ²Û¹ ÃíáõÙª ÷áËÑ³ïáõóÙ³Ùµ | E30: =Erebuni!E30+Kentron!E30+Ajapnyak!E30+Shengavit!E30+Avan!E30+Arabkir!E30+Malatia!E30+Kotayq!E30+Armavir!E30+Ararat!E30+Aragacotn!E30+Shirak!E30+Lori!E30+Tavush!E30+Gexarquniq!E30+Syuniq!E30 -> 15 | F30: =Erebuni!F30+Kentron!F30+Ajapnyak!F30+Shengavit!F30+Avan!F30+Arabkir!F30+Malatia!F30+Kotayq!F30+Armavir!F30+Ararat!F30+Aragacotn!F30+Shirak!F30+Lori!F30+Tavush!F30+Gexarquniq!F30+Syuniq!F30 -> 7 | G30: =Erebuni!G30+Kentron!G30+Ajapnyak!G30+Shengavit!G30+Avan!G30+Arabkir!G30+Malatia!G30+Kotayq!G30+Armavir!G30+Ararat!G30+Aragacotn!G30+Shirak!G30+Lori!G30+Tavush!G30+Gexarquniq!G30+Syuniq!G30 -> 8 | H30: =Erebuni!H30+Kentron!H30+Ajapnyak!H30+Shengavit!H30+Avan!H30+Arabkir!H30+Malatia!H30+Kotayq!H30+Armavir!H30+Ararat!H30+Aragacotn!H30+Shirak!H30+Lori!H30+Tavush!H30+Gexarquniq!H30+Syuniq!H30 -> 0 | I30: =Erebuni!I30+Kentron!I30+Ajapnyak!I30+Shengavit!I30+Avan!I30+Arabkir!I30+Malatia!I30+Kotayq!I30+Armavir!I30+Ararat!I30+Aragacotn!I30+Shirak!I30+Lori!I30+Tavush!I30+Gexarquniq!I30+Syuniq!I30 -> 0 | J30: =Erebuni!J30+Kentron!J30+Ajapnyak!J30+Shengavit!J30+Avan!J30+Arabkir!J30+Malatia!J30+Kotayq!J30+Armavir!J30+Ararat!J30+Aragacotn!J30+Shirak!J30+Lori!J30+Tavush!J30+Gexarquniq!J30+Syuniq!J30 -> 2 | K30: =Erebuni!K30+Kentron!K30+Ajapnyak!K30+Shengavit!K30+Avan!K30+Arabkir!K30+Malatia!K30+Kotayq!K30+Armavir!K30+Ararat!K30+Aragacotn!K30+Shirak!K30+Lori!K30+Tavush!K30+Gexarquniq!K30+Syuniq!K30 -> 2 | L30: =Erebuni!L30+Kentron!L30+Ajapnyak!L30+Shengavit!L30+Avan!L30+Arabkir!L30+Malatia!L30+Kotayq!L30+Armavir!L30+Ararat!L30+Aragacotn!L30+Shirak!L30+Lori!L30+Tavush!L30+Gexarquniq!L30+Syuniq!L30 -> 0 | ... AH30: =Erebuni!AH30+Kentron!AH30+Ajapnyak!AH30+Shengavit!AH30+Avan!AH30+Arabkir!AH30+Malatia!AH30+Kotayq!AH30+Armavir!AH30+Ararat!AH30+Aragacotn!AH30+Shirak!AH30+Lori!AH30+Tavush!AH30+Gexarquniq!AH30+Syuniq!AH30 -> 0
A31: 1.5 | B31: ´Ý³Ï³ñ³ÝÇó/ ï³ñ³ÍùÇó/ íï³ñ»Éáõ í»ñ³µ»ñÛ³É | E31: =Erebuni!E31+Kentron!E31+Ajapnyak!E31+Shengavit!E31+Avan!E31+Arabkir!E31+Malatia!E31+Kotayq!E31+Armavir!E31+Ararat!E31+Aragacotn!E31+Shirak!E31+Lori!E31+Tavush!E31+Gexarquniq!E31+Syuniq!E31 -> 220 | F31: =Erebuni!F31+Kentron!F31+Ajapnyak!F31+Shengavit!F31+Avan!F31+Arabkir!F31+Malatia!F31+Kotayq!F31+Armavir!F31+Ararat!F31+Aragacotn!F31+Shirak!F31+Lori!F31+Tavush!F31+Gexarquniq!F31+Syuniq!F31 -> 70 | G31: =Erebuni!G31+Kentron!G31+Ajapnyak!G31+Shengavit!G31+Avan!G31+Arabkir!G31+Malatia!G31+Kotayq!G31+Armavir!G31+Ararat!G31+Aragacotn!G31+Shirak!G31+Lori!G31+Tavush!G31+Gexarquniq!G31+Syuniq!G31 -> 150 | H31: =Erebuni!H31+Kentron!H31+Ajapnyak!H31+Shengavit!H31+Avan!H31+Arabkir!H31+Malatia!H31+Kotayq!H31+Armavir!H31+Ararat!H31+Aragacotn!H31+Shirak!H31+Lori!H31+Tavush!H31+Gexarquniq!H31+Syuniq!H31 -> 0 | I31: =Erebuni!I31+Kentron!I31+Ajapnyak!I31+Shengavit!I31+Avan!I31+Arabkir!I31+Malatia!I31+Kotayq!I31+Armavir!I31+Ararat!I31+Aragacotn!I31+Shirak!I31+Lori!I31+Tavush!I31+Gexarquniq!I31+Syuniq!I31 -> 0 | J31: =Erebuni!J31+Kentron!J31+Ajapnyak!J31+Shengavit!J31+Avan!J31+Arabkir!J31+Malatia!J31+Kotayq!J31+Armavir!J31+Ararat!J31+Aragacotn!J31+Shirak!J31+Lori!J31+Tavush!J31+Gexarquniq!J31+Syuniq!J31 -> 80 | K31: =Erebuni!K31+Kentron!K31+Ajapnyak!K31+Shengavit!K31+Avan!K31+Arabkir!K31+Malatia!K31+Kotayq!K31+Armavir!K31+Ararat!K31+Aragacotn!K31+Shirak!K31+Lori!K31+Tavush!K31+Gexarquniq!K31+Syuniq!K31 -> 73 | L31: =Erebuni!L31+Kentron!L31+Ajapnyak!L31+Shengavit!L31+Avan!L31+Arabkir!L31+Malatia!L31+Kotayq!L31+Armavir!L31+Ararat!L31+Aragacotn!L31+Shirak!L31+Lori!L31+Tavush!L31+Gexarquniq!L31+Syuniq!L31 -> 7 | ... AH31: =Erebuni!AH31+Kentron!AH31+Ajapnyak!AH31+Shengavit!AH31+Avan!AH31+Arabkir!AH31+Malatia!AH31+Kotayq!AH31+Armavir!AH31+Ararat!AH31+Aragacotn!AH31+Shirak!AH31+Lori!AH31+Tavush!AH31+Gexarquniq!AH31+Syuniq!AH31 -> 2
A32: 1.6 | B32: ¶áõÛùÝ áõñÇßÇ ³åûñÇÝÇ ïÇñ³å»ïáõÙÇó »ï í»ñ³¹³ñÓÝ»Éáõ í»ñ³µ»ñÛ³É | E32: =Erebuni!E32+Kentron!E32+Ajapnyak!E32+Shengavit!E32+Avan!E32+Arabkir!E32+Malatia!E32+Kotayq!E32+Armavir!E32+Ararat!E32+Aragacotn!E32+Shirak!E32+Lori!E32+Tavush!E32+Gexarquniq!E32+Syuniq!E32 -> 229 | F32: =Erebuni!F32+Kentron!F32+Ajapnyak!F32+Shengavit!F32+Avan!F32+Arabkir!F32+Malatia!F32+Kotayq!F32+Armavir!F32+Ararat!F32+Aragacotn!F32+Shirak!F32+Lori!F32+Tavush!F32+Gexarquniq!F32+Syuniq!F32 -> 82 | G32: =Erebuni!G32+Kentron!G32+Ajapnyak!G32+Shengavit!G32+Avan!G32+Arabkir!G32+Malatia!G32+Kotayq!G32+Armavir!G32+Ararat!G32+Aragacotn!G32+Shirak!G32+Lori!G32+Tavush!G32+Gexarquniq!G32+Syuniq!G32 -> 147 | H32: =Erebuni!H32+Kentron!H32+Ajapnyak!H32+Shengavit!H32+Avan!H32+Arabkir!H32+Malatia!H32+Kotayq!H32+Armavir!H32+Ararat!H32+Aragacotn!H32+Shirak!H32+Lori!H32+Tavush!H32+Gexarquniq!H32+Syuniq!H32 -> 0 | I32: =Erebuni!I32+Kentron!I32+Ajapnyak!I32+Shengavit!I32+Avan!I32+Arabkir!I32+Malatia!I32+Kotayq!I32+Armavir!I32+Ararat!I32+Aragacotn!I32+Shirak!I32+Lori!I32+Tavush!I32+Gexarquniq!I32+Syuniq!I32 -> 0 | J32: =Erebuni!J32+Kentron!J32+Ajapnyak!J32+Shengavit!J32+Avan!J32+Arabkir!J32+Malatia!J32+Kotayq!J32+Armavir!J32+Ararat!J32+Aragacotn!J32+Shirak!J32+Lori!J32+Tavush!J32+Gexarquniq!J32+Syuniq!J32 -> 101 | K32: =Erebuni!K32+Kentron!K32+Ajapnyak!K32+Shengavit!K32+Avan!K32+Arabkir!K32+Malatia!K32+Kotayq!K32+Armavir!K32+Ararat!K32+Aragacotn!K32+Shirak!K32+Lori!K32+Tavush!K32+Gexarquniq!K32+Syuniq!K32 -> 90 | L32: =Erebuni!L32+Kentron!L32+Ajapnyak!L32+Shengavit!L32+Avan!L32+Arabkir!L32+Malatia!L32+Kotayq!L32+Armavir!L32+Ararat!L32+Aragacotn!L32+Shirak!L32+Lori!L32+Tavush!L32+Gexarquniq!L32+Syuniq!L32 -> 10 | ... AH32: =Erebuni!AH32+Kentron!AH32+Ajapnyak!AH32+Shengavit!AH32+Avan!AH32+Arabkir!AH32+Malatia!AH32+Kotayq!AH32+Armavir!AH32+Ararat!AH32+Aragacotn!AH32+Shirak!AH32+Lori!AH32+Tavush!AH32+Gexarquniq!AH32+Syuniq!AH32 -> 3
A33: 1.6.1 | B33: ´³ñ»ËÇÕ× Ó»éùµ»ñáÕÇó Çñ ·áõÛùÁ Ñ»ï å³Ñ³Ýç»Éáõ í»ñ³µ»ñÛ³É | E33: =Erebuni!E33+Kentron!E33+Ajapnyak!E33+Shengavit!E33+Avan!E33+Arabkir!E33+Malatia!E33+Kotayq!E33+Armavir!E33+Ararat!E33+Aragacotn!E33+Shirak!E33+Lori!E33+Tavush!E33+Gexarquniq!E33+Syuniq!E33 -> 0 | F33: =Erebuni!F33+Kentron!F33+Ajapnyak!F33+Shengavit!F33+Avan!F33+Arabkir!F33+Malatia!F33+Kotayq!F33+Armavir!F33+Ararat!F33+Aragacotn!F33+Shirak!F33+Lori!F33+Tavush!F33+Gexarquniq!F33+Syuniq!F33 -> 0 | G33: =Erebuni!G33+Kentron!G33+Ajapnyak!G33+Shengavit!G33+Avan!G33+Arabkir!G33+Malatia!G33+Kotayq!G33+Armavir!G33+Ararat!G33+Aragacotn!G33+Shirak!G33+Lori!G33+Tavush!G33+Gexarquniq!G33+Syuniq!G33 -> 0 | H33: =Erebuni!H33+Kentron!H33+Ajapnyak!H33+Shengavit!H33+Avan!H33+Arabkir!H33+Malatia!H33+Kotayq!H33+Armavir!H33+Ararat!H33+Aragacotn!H33+Shirak!H33+Lori!H33+Tavush!H33+Gexarquniq!H33+Syuniq!H33 -> 0 | I33: =Erebuni!I33+Kentron!I33+Ajapnyak!I33+Shengavit!I33+Avan!I33+Arabkir!I33+Malatia!I33+Kotayq!I33+Armavir!I33+Ararat!I33+Aragacotn!I33+Shirak!I33+Lori!I33+Tavush!I33+Gexarquniq!I33+Syuniq!I33 -> 0 | J33: =Erebuni!J33+Kentron!J33+Ajapnyak!J33+Shengavit!J33+Avan!J33+Arabkir!J33+Malatia!J33+Kotayq!J33+Armavir!J33+Ararat!J33+Aragacotn!J33+Shirak!J33+Lori!J33+Tavush!J33+Gexarquniq!J33+Syuniq!J33 -> 1 | K33: =Erebuni!K33+Kentron!K33+Ajapnyak!K33+Shengavit!K33+Avan!K33+Arabkir!K33+Malatia!K33+Kotayq!K33+Armavir!K33+Ararat!K33+Aragacotn!K33+Shirak!K33+Lori!K33+Tavush!K33+Gexarquniq!K33+Syuniq!K33 -> 1 | L33: =Erebuni!L33+Kentron!L33+Ajapnyak!L33+Shengavit!L33+Avan!L33+Arabkir!L33+Malatia!L33+Kotayq!L33+Armavir!L33+Ararat!L33+Aragacotn!L33+Shirak!L33+Lori!L33+Tavush!L33+Gexarquniq!L33+Syuniq!L33 -> 0 | ... AH33: =Erebuni!AH33+Kentron!AH33+Ajapnyak!AH33+Shengavit!AH33+Avan!AH33+Arabkir!AH33+Malatia!AH33+Kotayq!AH33+Armavir!AH33+Ararat!AH33+Aragacotn!AH33+Shirak!AH33+Lori!AH33+Tavush!AH33+Gexarquniq!AH33+Syuniq!AH33 -> 0
A34: 1.7 | B34: îÇñ³å»ïáõÙÇó ½ñÏ»Éáõ Ñ»ï ãÏ³åí³Í Çñ³íáõÝùÝ»ñÇ Ë³ËïáõÙÁ í»ñ³óÝ»Éáõ í»ñ³µ»ñÛ³É | E34: =Erebuni!E34+Kentron!E34+Ajapnyak!E34+Shengavit!E34+Avan!E34+Arabkir!E34+Malatia!E34+Kotayq!E34+Armavir!E34+Ararat!E34+Aragacotn!E34+Shirak!E34+Lori!E34+Tavush!E34+Gexarquniq!E34+Syuniq!E34 -> 58 | F34: =Erebuni!F34+Kentron!F34+Ajapnyak!F34+Shengavit!F34+Avan!F34+Arabkir!F34+Malatia!F34+Kotayq!F34+Armavir!F34+Ararat!F34+Aragacotn!F34+Shirak!F34+Lori!F34+Tavush!F34+Gexarquniq!F34+Syuniq!F34 -> 21 | G34: =Erebuni!G34+Kentron!G34+Ajapnyak!G34+Shengavit!G34+Avan!G34+Arabkir!G34+Malatia!G34+Kotayq!G34+Armavir!G34+Ararat!G34+Aragacotn!G34+Shirak!G34+Lori!G34+Tavush!G34+Gexarquniq!G34+Syuniq!G34 -> 37 | H34: =Erebuni!H34+Kentron!H34+Ajapnyak!H34+Shengavit!H34+Avan!H34+Arabkir!H34+Malatia!H34+Kotayq!H34+Armavir!H34+Ararat!H34+Aragacotn!H34+Shirak!H34+Lori!H34+Tavush!H34+Gexarquniq!H34+Syuniq!H34 -> 0 | I34: =Erebuni!I34+Kentron!I34+Ajapnyak!I34+Shengavit!I34+Avan!I34+Arabkir!I34+Malatia!I34+Kotayq!I34+Armavir!I34+Ararat!I34+Aragacotn!I34+Shirak!I34+Lori!I34+Tavush!I34+Gexarquniq!I34+Syuniq!I34 -> 0 | J34: =Erebuni!J34+Kentron!J34+Ajapnyak!J34+Shengavit!J34+Avan!J34+Arabkir!J34+Malatia!J34+Kotayq!J34+Armavir!J34+Ararat!J34+Aragacotn!J34+Shirak!J34+Lori!J34+Tavush!J34+Gexarquniq!J34+Syuniq!J34 -> 10 | K34: =Erebuni!K34+Kentron!K34+Ajapnyak!K34+Shengavit!K34+Avan!K34+Arabkir!K34+Malatia!K34+Kotayq!K34+Armavir!K34+Ararat!K34+Aragacotn!K34+Shirak!K34+Lori!K34+Tavush!K34+Gexarquniq!K34+Syuniq!K34 -> 9 | L34: =Erebuni!L34+Kentron!L34+Ajapnyak!L34+Shengavit!L34+Avan!L34+Arabkir!L34+Malatia!L34+Kotayq!L34+Armavir!L34+Ararat!L34+Aragacotn!L34+Shirak!L34+Lori!L34+Tavush!L34+Gexarquniq!L34+Syuniq!L34 -> 1 | ... AH34: =Erebuni!AH34+Kentron!AH34+Ajapnyak!AH34+Shengavit!AH34+Avan!AH34+Arabkir!AH34+Malatia!AH34+Kotayq!AH34+Armavir!AH34+Ararat!AH34+Aragacotn!AH34+Shirak!AH34+Lori!AH34+Tavush!AH34+Gexarquniq!AH34+Syuniq!AH34 -> 0
A35: 1.8 | B35: ÀÝ¹Ñ³Ýáõñ µ³ÅÝ³ÛÇÝ ë»÷³Ï³ÝáõÃÛáõÝÇó µ³ÅÇÝÝ ³é³ÝÓÝ³óÝ»Éáõ í»ñ³µ»ñÛ³É | E35: =Erebuni!E35+Kentron!E35+Ajapnyak!E35+Shengavit!E35+Avan!E35+Arabkir!E35+Malatia!E35+Kotayq!E35+Armavir!E35+Ararat!E35+Aragacotn!E35+Shirak!E35+Lori!E35+Tavush!E35+Gexarquniq!E35+Syuniq!E35 -> 1143 | F35: =Erebuni!F35+Kentron!F35+Ajapnyak!F35+Shengavit!F35+Avan!F35+Arabkir!F35+Malatia!F35+Kotayq!F35+Armavir!F35+Ararat!F35+Aragacotn!F35+Shirak!F35+Lori!F35+Tavush!F35+Gexarquniq!F35+Syuniq!F35 -> 572 | G35: =Erebuni!G35+Kentron!G35+Ajapnyak!G35+Shengavit!G35+Avan!G35+Arabkir!G35+Malatia!G35+Kotayq!G35+Armavir!G35+Ararat!G35+Aragacotn!G35+Shirak!G35+Lori!G35+Tavush!G35+Gexarquniq!G35+Syuniq!G35 -> 571 | H35: =Erebuni!H35+Kentron!H35+Ajapnyak!H35+Shengavit!H35+Avan!H35+Arabkir!H35+Malatia!H35+Kotayq!H35+Armavir!H35+Ararat!H35+Aragacotn!H35+Shirak!H35+Lori!H35+Tavush!H35+Gexarquniq!H35+Syuniq!H35 -> 0 | I35: =Erebuni!I35+Kentron!I35+Ajapnyak!I35+Shengavit!I35+Avan!I35+Arabkir!I35+Malatia!I35+Kotayq!I35+Armavir!I35+Ararat!I35+Aragacotn!I35+Shirak!I35+Lori!I35+Tavush!I35+Gexarquniq!I35+Syuniq!I35 -> 0 | J35: =Erebuni!J35+Kentron!J35+Ajapnyak!J35+Shengavit!J35+Avan!J35+Arabkir!J35+Malatia!J35+Kotayq!J35+Armavir!J35+Ararat!J35+Aragacotn!J35+Shirak!J35+Lori!J35+Tavush!J35+Gexarquniq!J35+Syuniq!J35 -> 398 | K35: =Erebuni!K35+Kentron!K35+Ajapnyak!K35+Shengavit!K35+Avan!K35+Arabkir!K35+Malatia!K35+Kotayq!K35+Armavir!K35+Ararat!K35+Aragacotn!K35+Shirak!K35+Lori!K35+Tavush!K35+Gexarquniq!K35+Syuniq!K35 -> 353 | L35: =Erebuni!L35+Kentron!L35+Ajapnyak!L35+Shengavit!L35+Avan!L35+Arabkir!L35+Malatia!L35+Kotayq!L35+Armavir!L35+Ararat!L35+Aragacotn!L35+Shirak!L35+Lori!L35+Tavush!L35+Gexarquniq!L35+Syuniq!L35 -> 44 | ... AH35: =Erebuni!AH35+Kentron!AH35+Ajapnyak!AH35+Shengavit!AH35+Avan!AH35+Arabkir!AH35+Malatia!AH35+Kotayq!AH35+Armavir!AH35+Ararat!AH35+Aragacotn!AH35+Shirak!AH35+Lori!AH35+Tavush!AH35+Gexarquniq!AH35+Syuniq!AH35 -> 5
A36: 1.8.1 | B36: Ð³Ù³ï»Õ ë»÷³Ï³ÝáõÃÛ³Ý Ý»ñùá ·ïÝíáÕ ·áõÛùÁ µ³Å³Ý»Éáõ ¨ ¹ñ³ÝÇó µ³ÅÇÝÝ ³é³ÝÓÝ³óÝ»Éáõ í»ñ³µ»ñÛ³É | E36: =Erebuni!E36+Kentron!E36+Ajapnyak!E36+Shengavit!E36+Avan!E36+Arabkir!E36+Malatia!E36+Kotayq!E36+Armavir!E36+Ararat!E36+Aragacotn!E36+Shirak!E36+Lori!E36+Tavush!E36+Gexarquniq!E36+Syuniq!E36 -> 485 | F36: =Erebuni!F36+Kentron!F36+Ajapnyak!F36+Shengavit!F36+Avan!F36+Arabkir!F36+Malatia!F36+Kotayq!F36+Armavir!F36+Ararat!F36+Aragacotn!F36+Shirak!F36+Lori!F36+Tavush!F36+Gexarquniq!F36+Syuniq!F36 -> 198 | G36: =Erebuni!G36+Kentron!G36+Ajapnyak!G36+Shengavit!G36+Avan!G36+Arabkir!G36+Malatia!G36+Kotayq!G36+Armavir!G36+Ararat!G36+Aragacotn!G36+Shirak!G36+Lori!G36+Tavush!G36+Gexarquniq!G36+Syuniq!G36 -> 287 | H36: =Erebuni!H36+Kentron!H36+Ajapnyak!H36+Shengavit!H36+Avan!H36+Arabkir!H36+Malatia!H36+Kotayq!H36+Armavir!H36+Ararat!H36+Aragacotn!H36+Shirak!H36+Lori!H36+Tavush!H36+Gexarquniq!H36+Syuniq!H36 -> 0 | I36: =Erebuni!I36+Kentron!I36+Ajapnyak!I36+Shengavit!I36+Avan!I36+Arabkir!I36+Malatia!I36+Kotayq!I36+Armavir!I36+Ararat!I36+Aragacotn!I36+Shirak!I36+Lori!I36+Tavush!I36+Gexarquniq!I36+Syuniq!I36 -> 0 | J36: =Erebuni!J36+Kentron!J36+Ajapnyak!J36+Shengavit!J36+Avan!J36+Arabkir!J36+Malatia!J36+Kotayq!J36+Armavir!J36+Ararat!J36+Aragacotn!J36+Shirak!J36+Lori!J36+Tavush!J36+Gexarquniq!J36+Syuniq!J36 -> 174 | K36: =Erebuni!K36+Kentron!K36+Ajapnyak!K36+Shengavit!K36+Avan!K36+Arabkir!K36+Malatia!K36+Kotayq!K36+Armavir!K36+Ararat!K36+Aragacotn!K36+Shirak!K36+Lori!K36+Tavush!K36+Gexarquniq!K36+Syuniq!K36 -> 145 | L36: =Erebuni!L36+Kentron!L36+Ajapnyak!L36+Shengavit!L36+Avan!L36+Arabkir!L36+Malatia!L36+Kotayq!L36+Armavir!L36+Ararat!L36+Aragacotn!L36+Shirak!L36+Lori!L36+Tavush!L36+Gexarquniq!L36+Syuniq!L36 -> 25 | ... AH36: =Erebuni!AH36+Kentron!AH36+Ajapnyak!AH36+Shengavit!AH36+Avan!AH36+Arabkir!AH36+Malatia!AH36+Kotayq!AH36+Armavir!AH36+Ararat!AH36+Aragacotn!AH36+Shirak!AH36+Lori!AH36+Tavush!AH36+Gexarquniq!AH36+Syuniq!AH36 -> 1
... A38: 1.9 | B38: ²ÛÉ í»×»ñ | E38: =Erebuni!E38+Kentron!E38+Ajapnyak!E38+Shengavit!E38+Avan!E38+Arabkir!E38+Malatia!E38+Kotayq!E38+Armavir!E38+Ararat!E38+Aragacotn!E38+Shirak!E38+Lori!E38+Tavush!E38+Gexarquniq!E38+Syuniq!E38 -> 575 | F38: =Erebuni!F38+Kentron!F38+Ajapnyak!F38+Shengavit!F38+Avan!F38+Arabkir!F38+Malatia!F38+Kotayq!F38+Armavir!F38+Ararat!F38+Aragacotn!F38+Shirak!F38+Lori!F38+Tavush!F38+Gexarquniq!F38+Syuniq!F38 -> 192 | G38: =Erebuni!G38+Kentron!G38+Ajapnyak!G38+Shengavit!G38+Avan!G38+Arabkir!G38+Malatia!G38+Kotayq!G38+Armavir!G38+Ararat!G38+Aragacotn!G38+Shirak!G38+Lori!G38+Tavush!G38+Gexarquniq!G38+Syuniq!G38 -> 383 | H38: =Erebuni!H38+Kentron!H38+Ajapnyak!H38+Shengavit!H38+Avan!H38+Arabkir!H38+Malatia!H38+Kotayq!H38+Armavir!H38+Ararat!H38+Aragacotn!H38+Shirak!H38+Lori!H38+Tavush!H38+Gexarquniq!H38+Syuniq!H38 -> 0 | I38: =Erebuni!I38+Kentron!I38+Ajapnyak!I38+Shengavit!I38+Avan!I38+Arabkir!I38+Malatia!I38+Kotayq!I38+Armavir!I38+Ararat!I38+Aragacotn!I38+Shirak!I38+Lori!I38+Tavush!I38+Gexarquniq!I38+Syuniq!I38 -> 0 | J38: =Erebuni!J38+Kentron!J38+Ajapnyak!J38+Shengavit!J38+Avan!J38+Arabkir!J38+Malatia!J38+Kotayq!J38+Armavir!J38+Ararat!J38+Aragacotn!J38+Shirak!J38+Lori!J38+Tavush!J38+Gexarquniq!J38+Syuniq!J38 -> 359 | K38: =Erebuni!K38+Kentron!K38+Ajapnyak!K38+Shengavit!K38+Avan!K38+Arabkir!K38+Malatia!K38+Kotayq!K38+Armavir!K38+Ararat!K38+Aragacotn!K38+Shirak!K38+Lori!K38+Tavush!K38+Gexarquniq!K38+Syuniq!K38 -> 282 | L38: =Erebuni!L38+Kentron!L38+Ajapnyak!L38+Shengavit!L38+Avan!L38+Arabkir!L38+Malatia!L38+Kotayq!L38+Armavir!L38+Ararat!L38+Aragacotn!L38+Shirak!L38+Lori!L38+Tavush!L38+Gexarquniq!L38+Syuniq!L38 -> 68 | ... AH38: =Erebuni!AH38+Kentron!AH38+Ajapnyak!AH38+Shengavit!AH38+Avan!AH38+Arabkir!AH38+Malatia!AH38+Kotayq!AH38+Armavir!AH38+Ararat!AH38+Aragacotn!AH38+Shirak!AH38+Lori!AH38+Tavush!AH38+Gexarquniq!AH38+Syuniq!AH38 -> 6
A39: 2. | B39: ¶áñÍ³ñùÝ»ñÇ Ñ»ï Ï³åí³Í Çñ³í³Ñ³ñ³µ»ñáõÃÛáõÝÝ»ñÇ í»ñ³µ»ñÛ³É ¹³ï³Ï³Ý ·áñÍ»ñ | E39: =SUM(E40:E50) -> 1180 | F39: =SUM(F40:F50) -> 318 | G39: =SUM(G40:G50) -> 862 | H39: =SUM(H40:H50) -> 0 | I39: =SUM(I40:I50) -> 0 | J39: =SUM(J40:J50) -> 1055 | K39: =SUM(K40:K50) -> 948 | L39: =SUM(L40:L50) -> 98 | ... AI39: =SUM(AI40:AI50) -> 0
A40: 2.1 | B40: ·áñÍ³ñùÝ»ñÇ ³Ýí³í»ñáõÃÛ³Ý Ñ»ï Ï³åí³Í í»×»ñ | E40: =Erebuni!E40+Kentron!E40+Ajapnyak!E40+Shengavit!E40+Avan!E40+Arabkir!E40+Malatia!E40+Kotayq!E40+Armavir!E40+Ararat!E40+Aragacotn!E40+Shirak!E40+Lori!E40+Tavush!E40+Gexarquniq!E40+Syuniq!E40 -> 121 | F40: =Erebuni!F40+Kentron!F40+Ajapnyak!F40+Shengavit!F40+Avan!F40+Arabkir!F40+Malatia!F40+Kotayq!F40+Armavir!F40+Ararat!F40+Aragacotn!F40+Shirak!F40+Lori!F40+Tavush!F40+Gexarquniq!F40+Syuniq!F40 -> 24 | G40: =Erebuni!G40+Kentron!G40+Ajapnyak!G40+Shengavit!G40+Avan!G40+Arabkir!G40+Malatia!G40+Kotayq!G40+Armavir!G40+Ararat!G40+Aragacotn!G40+Shirak!G40+Lori!G40+Tavush!G40+Gexarquniq!G40+Syuniq!G40 -> 97 | H40: =Erebuni!H40+Kentron!H40+Ajapnyak!H40+Shengavit!H40+Avan!H40+Arabkir!H40+Malatia!H40+Kotayq!H40+Armavir!H40+Ararat!H40+Aragacotn!H40+Shirak!H40+Lori!H40+Tavush!H40+Gexarquniq!H40+Syuniq!H40 -> 0 | I40: =Erebuni!I40+Kentron!I40+Ajapnyak!I40+Shengavit!I40+Avan!I40+Arabkir!I40+Malatia!I40+Kotayq!I40+Armavir!I40+Ararat!I40+Aragacotn!I40+Shirak!I40+Lori!I40+Tavush!I40+Gexarquniq!I40+Syuniq!I40 -> 0 | J40: =Erebuni!J40+Kentron!J40+Ajapnyak!J40+Shengavit!J40+Avan!J40+Arabkir!J40+Malatia!J40+Kotayq!J40+Armavir!J40+Ararat!J40+Aragacotn!J40+Shirak!J40+Lori!J40+Tavush!J40+Gexarquniq!J40+Syuniq!J40 -> 64 | K40: =Erebuni!K40+Kentron!K40+Ajapnyak!K40+Shengavit!K40+Avan!K40+Arabkir!K40+Malatia!K40+Kotayq!K40+Armavir!K40+Ararat!K40+Aragacotn!K40+Shirak!K40+Lori!K40+Tavush!K40+Gexarquniq!K40+Syuniq!K40 -> 46 | L40: =Erebuni!L40+Kentron!L40+Ajapnyak!L40+Shengavit!L40+Avan!L40+Arabkir!L40+Malatia!L40+Kotayq!L40+Armavir!L40+Ararat!L40+Aragacotn!L40+Shirak!L40+Lori!L40+Tavush!L40+Gexarquniq!L40+Syuniq!L40 -> 18 | ... AH40: =Erebuni!AH40+Kentron!AH40+Ajapnyak!AH40+Shengavit!AH40+Avan!AH40+Arabkir!AH40+Malatia!AH40+Kotayq!AH40+Armavir!AH40+Ararat!AH40+Aragacotn!AH40+Shirak!AH40+Lori!AH40+Tavush!AH40+Gexarquniq!AH40+Syuniq!AH40 -> 0
A41: 2.1.1 | B41: ³Û¹ ÃíáõÙ` íÇ×³Ñ³ñáõÛó ·áñÍ³ñùÝ»ñÝ ³Ýí³í»ñ ×³Ý³ã»Éáõ í»ñ³µ»ñÛ³É | E41: =Erebuni!E41+Kentron!E41+Ajapnyak!E41+Shengavit!E41+Avan!E41+Arabkir!E41+Malatia!E41+Kotayq!E41+Armavir!E41+Ararat!E41+Aragacotn!E41+Shirak!E41+Lori!E41+Tavush!E41+Gexarquniq!E41+Syuniq!E41 -> 2 | F41: =Erebuni!F41+Kentron!F41+Ajapnyak!F41+Shengavit!F41+Avan!F41+Arabkir!F41+Malatia!F41+Kotayq!F41+Armavir!F41+Ararat!F41+Aragacotn!F41+Shirak!F41+Lori!F41+Tavush!F41+Gexarquniq!F41+Syuniq!F41 -> 0 | G41: =Erebuni!G41+Kentron!G41+Ajapnyak!G41+Shengavit!G41+Avan!G41+Arabkir!G41+Malatia!G41+Kotayq!G41+Armavir!G41+Ararat!G41+Aragacotn!G41+Shirak!G41+Lori!G41+Tavush!G41+Gexarquniq!G41+Syuniq!G41 -> 2 | H41: =Erebuni!H41+Kentron!H41+Ajapnyak!H41+Shengavit!H41+Avan!H41+Arabkir!H41+Malatia!H41+Kotayq!H41+Armavir!H41+Ararat!H41+Aragacotn!H41+Shirak!H41+Lori!H41+Tavush!H41+Gexarquniq!H41+Syuniq!H41 -> 0 | I41: =Erebuni!I41+Kentron!I41+Ajapnyak!I41+Shengavit!I41+Avan!I41+Arabkir!I41+Malatia!I41+Kotayq!I41+Armavir!I41+Ararat!I41+Aragacotn!I41+Shirak!I41+Lori!I41+Tavush!I41+Gexarquniq!I41+Syuniq!I41 -> 0 | J41: =Erebuni!J41+Kentron!J41+Ajapnyak!J41+Shengavit!J41+Avan!J41+Arabkir!J41+Malatia!J41+Kotayq!J41+Armavir!J41+Ararat!J41+Aragacotn!J41+Shirak!J41+Lori!J41+Tavush!J41+Gexarquniq!J41+Syuniq!J41 -> 2 | K41: =Erebuni!K41+Kentron!K41+Ajapnyak!K41+Shengavit!K41+Avan!K41+Arabkir!K41+Malatia!K41+Kotayq!K41+Armavir!K41+Ararat!K41+Aragacotn!K41+Shirak!K41+Lori!K41+Tavush!K41+Gexarquniq!K41+Syuniq!K41 -> 2 | L41: =Erebuni!L41+Kentron!L41+Ajapnyak!L41+Shengavit!L41+Avan!L41+Arabkir!L41+Malatia!L41+Kotayq!L41+Armavir!L41+Ararat!L41+Aragacotn!L41+Shirak!L41+Lori!L41+Tavush!L41+Gexarquniq!L41+Syuniq!L41 -> 0 | ... AH41: =Erebuni!AH41+Kentron!AH41+Ajapnyak!AH41+Shengavit!AH41+Avan!AH41+Arabkir!AH41+Malatia!AH41+Kotayq!AH41+Armavir!AH41+Ararat!AH41+Aragacotn!AH41+Shirak!AH41+Lori!AH41+Tavush!AH41+Gexarquniq!AH41+Syuniq!AH41 -> 0
A42: 2.1.2 | B42: ³Û¹ ÃíáõÙ` ·áñÍ³ñùÇ ³éáãÝãáõÃÛ³Ý Ñ»ï¨³ÝùÝ»ñ ÏÇñ³é»Éáõ í»ñ³µ»ñÛ³É | E42: =Erebuni!E42+Kentron!E42+Ajapnyak!E42+Shengavit!E42+Avan!E42+Arabkir!E42+Malatia!E42+Kotayq!E42+Armavir!E42+Ararat!E42+Aragacotn!E42+Shirak!E42+Lori!E42+Tavush!E42+Gexarquniq!E42+Syuniq!E42 -> 99 | F42: =Erebuni!F42+Kentron!F42+Ajapnyak!F42+Shengavit!F42+Avan!F42+Arabkir!F42+Malatia!F42+Kotayq!F42+Armavir!F42+Ararat!F42+Aragacotn!F42+Shirak!F42+Lori!F42+Tavush!F42+Gexarquniq!F42+Syuniq!F42 -> 22 | G42: =Erebuni!G42+Kentron!G42+Ajapnyak!G42+Shengavit!G42+Avan!G42+Arabkir!G42+Malatia!G42+Kotayq!G42+Armavir!G42+Ararat!G42+Aragacotn!G42+Shirak!G42+Lori!G42+Tavush!G42+Gexarquniq!G42+Syuniq!G42 -> 77 | H42: =Erebuni!H42+Kentron!H42+Ajapnyak!H42+Shengavit!H42+Avan!H42+Arabkir!H42+Malatia!H42+Kotayq!H42+Armavir!H42+Ararat!H42+Aragacotn!H42+Shirak!H42+Lori!H42+Tavush!H42+Gexarquniq!H42+Syuniq!H42 -> 0 | I42: =Erebuni!I42+Kentron!I42+Ajapnyak!I42+Shengavit!I42+Avan!I42+Arabkir!I42+Malatia!I42+Kotayq!I42+Armavir!I42+Ararat!I42+Aragacotn!I42+Shirak!I42+Lori!I42+Tavush!I42+Gexarquniq!I42+Syuniq!I42 -> 0 | J42: =Erebuni!J42+Kentron!J42+Ajapnyak!J42+Shengavit!J42+Avan!J42+Arabkir!J42+Malatia!J42+Kotayq!J42+Armavir!J42+Ararat!J42+Aragacotn!J42+Shirak!J42+Lori!J42+Tavush!J42+Gexarquniq!J42+Syuniq!J42 -> 49 | K42: =Erebuni!K42+Kentron!K42+Ajapnyak!K42+Shengavit!K42+Avan!K42+Arabkir!K42+Malatia!K42+Kotayq!K42+Armavir!K42+Ararat!K42+Aragacotn!K42+Shirak!K42+Lori!K42+Tavush!K42+Gexarquniq!K42+Syuniq!K42 -> 37 | L42: =Erebuni!L42+Kentron!L42+Ajapnyak!L42+Shengavit!L42+Avan!L42+Arabkir!L42+Malatia!L42+Kotayq!L42+Armavir!L42+Ararat!L42+Aragacotn!L42+Shirak!L42+Lori!L42+Tavush!L42+Gexarquniq!L42+Syuniq!L42 -> 11 | ... AH42: =Erebuni!AH42+Kentron!AH42+Ajapnyak!AH42+Shengavit!AH42+Avan!AH42+Arabkir!AH42+Malatia!AH42+Kotayq!AH42+Armavir!AH42+Ararat!AH42+Aragacotn!AH42+Shirak!AH42+Lori!AH42+Tavush!AH42+Gexarquniq!AH42+Syuniq!AH42 -> 0
A43: 2.2 | B43: ¶áñÍ³ñùÁ í³í»ñ ×³Ý³ã»Éáõ í»ñ³µ»ñÛ³É | E43: =Erebuni!E43+Kentron!E43+Ajapnyak!E43+Shengavit!E43+Avan!E43+Arabkir!E43+Malatia!E43+Kotayq!E43+Armavir!E43+Ararat!E43+Aragacotn!E43+Shirak!E43+Lori!E43+Tavush!E43+Gexarquniq!E43+Syuniq!E43 -> 37 | F43: =Erebuni!F43+Kentron!F43+Ajapnyak!F43+Shengavit!F43+Avan!F43+Arabkir!F43+Malatia!F43+Kotayq!F43+Armavir!F43+Ararat!F43+Aragacotn!F43+Shirak!F43+Lori!F43+Tavush!F43+Gexarquniq!F43+Syuniq!F43 -> 10 | G43: =Erebuni!G43+Kentron!G43+Ajapnyak!G43+Shengavit!G43+Avan!G43+Arabkir!G43+Malatia!G43+Kotayq!G43+Armavir!G43+Ararat!G43+Aragacotn!G43+Shirak!G43+Lori!G43+Tavush!G43+Gexarquniq!G43+Syuniq!G43 -> 27 | H43: =Erebuni!H43+Kentron!H43+Ajapnyak!H43+Shengavit!H43+Avan!H43+Arabkir!H43+Malatia!H43+Kotayq!H43+Armavir!H43+Ararat!H43+Aragacotn!H43+Shirak!H43+Lori!H43+Tavush!H43+Gexarquniq!H43+Syuniq!H43 -> 0 | I43: =Erebuni!I43+Kentron!I43+Ajapnyak!I43+Shengavit!I43+Avan!I43+Arabkir!I43+Malatia!I43+Kotayq!I43+Armavir!I43+Ararat!I43+Aragacotn!I43+Shirak!I43+Lori!I43+Tavush!I43+Gexarquniq!I43+Syuniq!I43 -> 0 | J43: =Erebuni!J43+Kentron!J43+Ajapnyak!J43+Shengavit!J43+Avan!J43+Arabkir!J43+Malatia!J43+Kotayq!J43+Armavir!J43+Ararat!J43+Aragacotn!J43+Shirak!J43+Lori!J43+Tavush!J43+Gexarquniq!J43+Syuniq!J43 -> 107 | K43: =Erebuni!K43+Kentron!K43+Ajapnyak!K43+Shengavit!K43+Avan!K43+Arabkir!K43+Malatia!K43+Kotayq!K43+Armavir!K43+Ararat!K43+Aragacotn!K43+Shirak!K43+Lori!K43+Tavush!K43+Gexarquniq!K43+Syuniq!K43 -> 104 | L43: =Erebuni!L43+Kentron!L43+Ajapnyak!L43+Shengavit!L43+Avan!L43+Arabkir!L43+Malatia!L43+Kotayq!L43+Armavir!L43+Ararat!L43+Aragacotn!L43+Shirak!L43+Lori!L43+Tavush!L43+Gexarquniq!L43+Syuniq!L43 -> 2 | ... AH43: =Erebuni!AH43+Kentron!AH43+Ajapnyak!AH43+Shengavit!AH43+Avan!AH43+Arabkir!AH43+Malatia!AH43+Kotayq!AH43+Armavir!AH43+Ararat!AH43+Aragacotn!AH43+Shirak!AH43+Lori!AH43+Tavush!AH43+Gexarquniq!AH43+Syuniq!AH43 -> 0
A44: 2.3 | B44: ¶áñÍ³ñùÇó Í³·áÕ Çñ³íáõÝùÝ»ñÁ ·ñ³Ýó»Éáõ í»ñ³µ»ñÛ³É | E44: =Erebuni!E44+Kentron!E44+Ajapnyak!E44+Shengavit!E44+Avan!E44+Arabkir!E44+Malatia!E44+Kotayq!E44+Armavir!E44+Ararat!E44+Aragacotn!E44+Shirak!E44+Lori!E44+Tavush!E44+Gexarquniq!E44+Syuniq!E44 -> 2 | F44: =Erebuni!F44+Kentron!F44+Ajapnyak!F44+Shengavit!F44+Avan!F44+Arabkir!F44+Malatia!F44+Kotayq!F44+Armavir!F44+Ararat!F44+Aragacotn!F44+Shirak!F44+Lori!F44+Tavush!F44+Gexarquniq!F44+Syuniq!F44 -> 0 | G44: =Erebuni!G44+Kentron!G44+Ajapnyak!G44+Shengavit!G44+Avan!G44+Arabkir!G44+Malatia!G44+Kotayq!G44+Armavir!G44+Ararat!G44+Aragacotn!G44+Shirak!G44+Lori!G44+Tavush!G44+Gexarquniq!G44+Syuniq!G44 -> 2 | H44: =Erebuni!H44+Kentron!H44+Ajapnyak!H44+Shengavit!H44+Avan!H44+Arabkir!H44+Malatia!H44+Kotayq!H44+Armavir!H44+Ararat!H44+Aragacotn!H44+Shirak!H44+Lori!H44+Tavush!H44+Gexarquniq!H44+Syuniq!H44 -> 0 | I44: =Erebuni!I44+Kentron!I44+Ajapnyak!I44+Shengavit!I44+Avan!I44+Arabkir!I44+Malatia!I44+Kotayq!I44+Armavir!I44+Ararat!I44+Aragacotn!I44+Shirak!I44+Lori!I44+Tavush!I44+Gexarquniq!I44+Syuniq!I44 -> 0 | J44: =Erebuni!J44+Kentron!J44+Ajapnyak!J44+Shengavit!J44+Avan!J44+Arabkir!J44+Malatia!J44+Kotayq!J44+Armavir!J44+Ararat!J44+Aragacotn!J44+Shirak!J44+Lori!J44+Tavush!J44+Gexarquniq!J44+Syuniq!J44 -> 1 | K44: =Erebuni!K44+Kentron!K44+Ajapnyak!K44+Shengavit!K44+Avan!K44+Arabkir!K44+Malatia!K44+Kotayq!K44+Armavir!K44+Ararat!K44+Aragacotn!K44+Shirak!K44+Lori!K44+Tavush!K44+Gexarquniq!K44+Syuniq!K44 -> 0 | L44: =Erebuni!L44+Kentron!L44+Ajapnyak!L44+Shengavit!L44+Avan!L44+Arabkir!L44+Malatia!L44+Kotayq!L44+Armavir!L44+Ararat!L44+Aragacotn!L44+Shirak!L44+Lori!L44+Tavush!L44+Gexarquniq!L44+Syuniq!L44 -> 1 | ... AH44: =Erebuni!AH44+Kentron!AH44+Ajapnyak!AH44+Shengavit!AH44+Avan!AH44+Arabkir!AH44+Malatia!AH44+Kotayq!AH44+Armavir!AH44+Ararat!AH44+Aragacotn!AH44+Shirak!AH44+Lori!AH44+Tavush!AH44+Gexarquniq!AH44+Syuniq!AH44 -> 0
A45: 2.4 | B45: ä³ÛÙ³Ý³·ÇñÝ ³Ýí³í»ñ ×³Ý³ã»Éáõ í»ñ³µ»ñÛ³É | E45: =Erebuni!E45+Kentron!E45+Ajapnyak!E45+Shengavit!E45+Avan!E45+Arabkir!E45+Malatia!E45+Kotayq!E45+Armavir!E45+Ararat!E45+Aragacotn!E45+Shirak!E45+Lori!E45+Tavush!E45+Gexarquniq!E45+Syuniq!E45 -> 274 | F45: =Erebuni!F45+Kentron!F45+Ajapnyak!F45+Shengavit!F45+Avan!F45+Arabkir!F45+Malatia!F45+Kotayq!F45+Armavir!F45+Ararat!F45+Aragacotn!F45+Shirak!F45+Lori!F45+Tavush!F45+Gexarquniq!F45+Syuniq!F45 -> 88 | G45: =Erebuni!G45+Kentron!G45+Ajapnyak!G45+Shengavit!G45+Avan!G45+Arabkir!G45+Malatia!G45+Kotayq!G45+Armavir!G45+Ararat!G45+Aragacotn!G45+Shirak!G45+Lori!G45+Tavush!G45+Gexarquniq!G45+Syuniq!G45 -> 186 | H45: =Erebuni!H45+Kentron!H45+Ajapnyak!H45+Shengavit!H45+Avan!H45+Arabkir!H45+Malatia!H45+Kotayq!H45+Armavir!H45+Ararat!H45+Aragacotn!H45+Shirak!H45+Lori!H45+Tavush!H45+Gexarquniq!H45+Syuniq!H45 -> 0 | I45: =Erebuni!I45+Kentron!I45+Ajapnyak!I45+Shengavit!I45+Avan!I45+Arabkir!I45+Malatia!I45+Kotayq!I45+Armavir!I45+Ararat!I45+Aragacotn!I45+Shirak!I45+Lori!I45+Tavush!I45+Gexarquniq!I45+Syuniq!I45 -> 0 | J45: =Erebuni!J45+Kentron!J45+Ajapnyak!J45+Shengavit!J45+Avan!J45+Arabkir!J45+Malatia!J45+Kotayq!J45+Armavir!J45+Ararat!J45+Aragacotn!J45+Shirak!J45+Lori!J45+Tavush!J45+Gexarquniq!J45+Syuniq!J45 -> 150 | K45: =Erebuni!K45+Kentron!K45+Ajapnyak!K45+Shengavit!K45+Avan!K45+Arabkir!K45+Malatia!K45+Kotayq!K45+Armavir!K45+Ararat!K45+Aragacotn!K45+Shirak!K45+Lori!K45+Tavush!K45+Gexarquniq!K45+Syuniq!K45 -> 122 | L45: =Erebuni!L45+Kentron!L45+Ajapnyak!L45+Shengavit!L45+Avan!L45+Arabkir!L45+Malatia!L45+Kotayq!L45+Armavir!L45+Ararat!L45+Aragacotn!L45+Shirak!L45+Lori!L45+Tavush!L45+Gexarquniq!L45+Syuniq!L45 -> 27 | ... AH45: =Erebuni!AH45+Kentron!AH45+Ajapnyak!AH45+Shengavit!AH45+Avan!AH45+Arabkir!AH45+Malatia!AH45+Kotayq!AH45+Armavir!AH45+Ararat!AH45+Aragacotn!AH45+Shirak!AH45+Lori!AH45+Tavush!AH45+Gexarquniq!AH45+Syuniq!AH45 -> 3
A46: 2.5 | B46: ä³ÛÙ³Ý³·ñÇÁ í³í»ñ ×³Ý³ã»Éáõ í»ñ³µ»ñÛ³É | E46: =Erebuni!E46+Kentron!E46+Ajapnyak!E46+Shengavit!E46+Avan!E46+Arabkir!E46+Malatia!E46+Kotayq!E46+Armavir!E46+Ararat!E46+Aragacotn!E46+Shirak!E46+Lori!E46+Tavush!E46+Gexarquniq!E46+Syuniq!E46 -> 38 | F46: =Erebuni!F46+Kentron!F46+Ajapnyak!F46+Shengavit!F46+Avan!F46+Arabkir!F46+Malatia!F46+Kotayq!F46+Armavir!F46+Ararat!F46+Aragacotn!F46+Shirak!F46+Lori!F46+Tavush!F46+Gexarquniq!F46+Syuniq!F46 -> 11 | G46: =Erebuni!G46+Kentron!G46+Ajapnyak!G46+Shengavit!G46+Avan!G46+Arabkir!G46+Malatia!G46+Kotayq!G46+Armavir!G46+Ararat!G46+Aragacotn!G46+Shirak!G46+Lori!G46+Tavush!G46+Gexarquniq!G46+Syuniq!G46 -> 27 | H46: =Erebuni!H46+Kentron!H46+Ajapnyak!H46+Shengavit!H46+Avan!H46+Arabkir!H46+Malatia!H46+Kotayq!H46+Armavir!H46+Ararat!H46+Aragacotn!H46+Shirak!H46+Lori!H46+Tavush!H46+Gexarquniq!H46+Syuniq!H46 -> 0 | I46: =Erebuni!I46+Kentron!I46+Ajapnyak!I46+Shengavit!I46+Avan!I46+Arabkir!I46+Malatia!I46+Kotayq!I46+Armavir!I46+Ararat!I46+Aragacotn!I46+Shirak!I46+Lori!I46+Tavush!I46+Gexarquniq!I46+Syuniq!I46 -> 0 | J46: =Erebuni!J46+Kentron!J46+Ajapnyak!J46+Shengavit!J46+Avan!J46+Arabkir!J46+Malatia!J46+Kotayq!J46+Armavir!J46+Ararat!J46+Aragacotn!J46+Shirak!J46+Lori!J46+Tavush!J46+Gexarquniq!J46+Syuniq!J46 -> 23 | K46: =Erebuni!K46+Kentron!K46+Ajapnyak!K46+Shengavit!K46+Avan!K46+Arabkir!K46+Malatia!K46+Kotayq!K46+Armavir!K46+Ararat!K46+Aragacotn!K46+Shirak!K46+Lori!K46+Tavush!K46+Gexarquniq!K46+Syuniq!K46 -> 20 | L46: =Erebuni!L46+Kentron!L46+Ajapnyak!L46+Shengavit!L46+Avan!L46+Arabkir!L46+Malatia!L46+Kotayq!L46+Armavir!L46+Ararat!L46+Aragacotn!L46+Shirak!L46+Lori!L46+Tavush!L46+Gexarquniq!L46+Syuniq!L46 -> 3 | ... AH46: =Erebuni!AH46+Kentron!AH46+Ajapnyak!AH46+Shengavit!AH46+Avan!AH46+Arabkir!AH46+Malatia!AH46+Kotayq!AH46+Armavir!AH46+Ararat!AH46+Aragacotn!AH46+Shirak!AH46+Lori!AH46+Tavush!AH46+Gexarquniq!AH46+Syuniq!AH46 -> 0
A47: 2.6 | B47: ä³ÛÙ³Ý³·ñÇó Í³·áÕ Çñ³íáõÝùÝ»ñÁ ·ñ³Ýó»Éáõ í»ñ³µ»ñÛ³É | E47: =Erebuni!E47+Kentron!E47+Ajapnyak!E47+Shengavit!E47+Avan!E47+Arabkir!E47+Malatia!E47+Kotayq!E47+Armavir!E47+Ararat!E47+Aragacotn!E47+Shirak!E47+Lori!E47+Tavush!E47+Gexarquniq!E47+Syuniq!E47 -> 0 | F47: =Erebuni!F47+Kentron!F47+Ajapnyak!F47+Shengavit!F47+Avan!F47+Arabkir!F47+Malatia!F47+Kotayq!F47+Armavir!F47+Ararat!F47+Aragacotn!F47+Shirak!F47+Lori!F47+Tavush!F47+Gexarquniq!F47+Syuniq!F47 -> 0 | G47: =Erebuni!G47+Kentron!G47+Ajapnyak!G47+Shengavit!G47+Avan!G47+Arabkir!G47+Malatia!G47+Kotayq!G47+Armavir!G47+Ararat!G47+Aragacotn!G47+Shirak!G47+Lori!G47+Tavush!G47+Gexarquniq!G47+Syuniq!G47 -> 0 | H47: =Erebuni!H47+Kentron!H47+Ajapnyak!H47+Shengavit!H47+Avan!H47+Arabkir!H47+Malatia!H47+Kotayq!H47+Armavir!H47+Ararat!H47+Aragacotn!H47+Shirak!H47+Lori!H47+Tavush!H47+Gexarquniq!H47+Syuniq!H47 -> 0 | I47: =Erebuni!I47+Kentron!I47+Ajapnyak!I47+Shengavit!I47+Avan!I47+Arabkir!I47+Malatia!I47+Kotayq!I47+Armavir!I47+Ararat!I47+Aragacotn!I47+Shirak!I47+Lori!I47+Tavush!I47+Gexarquniq!I47+Syuniq!I47 -> 0 | J47: =Erebuni!J47+Kentron!J47+Ajapnyak!J47+Shengavit!J47+Avan!J47+Arabkir!J47+Malatia!J47+Kotayq!J47+Armavir!J47+Ararat!J47+Aragacotn!J47+Shirak!J47+Lori!J47+Tavush!J47+Gexarquniq!J47+Syuniq!J47 -> 1 | K47: =Erebuni!K47+Kentron!K47+Ajapnyak!K47+Shengavit!K47+Avan!K47+Arabkir!K47+Malatia!K47+Kotayq!K47+Armavir!K47+Ararat!K47+Aragacotn!K47+Shirak!K47+Lori!K47+Tavush!K47+Gexarquniq!K47+Syuniq!K47 -> 1 | L47: =Erebuni!L47+Kentron!L47+Ajapnyak!L47+Shengavit!L47+Avan!L47+Arabkir!L47+Malatia!L47+Kotayq!L47+Armavir!L47+Ararat!L47+Aragacotn!L47+Shirak!L47+Lori!L47+Tavush!L47+Gexarquniq!L47+Syuniq!L47 -> 0 | ... AH47: =Erebuni!AH47+Kentron!AH47+Ajapnyak!AH47+Shengavit!AH47+Avan!AH47+Arabkir!AH47+Malatia!AH47+Kotayq!AH47+Armavir!AH47+Ararat!AH47+Aragacotn!AH47+Shirak!AH47+Lori!AH47+Tavush!AH47+Gexarquniq!AH47+Syuniq!AH47 -> 0
A48: 2.7 | B48: ä³ÛÙ³Ý³·ÇñÁ ÷á÷áË»Éáõ ¨ ÉáõÍ»Éáõ í»ñ³µ»ñÛ³É | E48: =Erebuni!E48+Kentron!E48+Ajapnyak!E48+Shengavit!E48+Avan!E48+Arabkir!E48+Malatia!E48+Kotayq!E48+Armavir!E48+Ararat!E48+Aragacotn!E48+Shirak!E48+Lori!E48+Tavush!E48+Gexarquniq!E48+Syuniq!E48 -> 121 | F48: =Erebuni!F48+Kentron!F48+Ajapnyak!F48+Shengavit!F48+Avan!F48+Arabkir!F48+Malatia!F48+Kotayq!F48+Armavir!F48+Ararat!F48+Aragacotn!F48+Shirak!F48+Lori!F48+Tavush!F48+Gexarquniq!F48+Syuniq!F48 -> 26 | G48: =Erebuni!G48+Kentron!G48+Ajapnyak!G48+Shengavit!G48+Avan!G48+Arabkir!G48+Malatia!G48+Kotayq!G48+Armavir!G48+Ararat!G48+Aragacotn!G48+Shirak!G48+Lori!G48+Tavush!G48+Gexarquniq!G48+Syuniq!G48 -> 95 | H48: =Erebuni!H48+Kentron!H48+Ajapnyak!H48+Shengavit!H48+Avan!H48+Arabkir!H48+Malatia!H48+Kotayq!H48+Armavir!H48+Ararat!H48+Aragacotn!H48+Shirak!H48+Lori!H48+Tavush!H48+Gexarquniq!H48+Syuniq!H48 -> 0 | I48: =Erebuni!I48+Kentron!I48+Ajapnyak!I48+Shengavit!I48+Avan!I48+Arabkir!I48+Malatia!I48+Kotayq!I48+Armavir!I48+Ararat!I48+Aragacotn!I48+Shirak!I48+Lori!I48+Tavush!I48+Gexarquniq!I48+Syuniq!I48 -> 0 | J48: =Erebuni!J48+Kentron!J48+Ajapnyak!J48+Shengavit!J48+Avan!J48+Arabkir!J48+Malatia!J48+Kotayq!J48+Armavir!J48+Ararat!J48+Aragacotn!J48+Shirak!J48+Lori!J48+Tavush!J48+Gexarquniq!J48+Syuniq!J48 -> 49 | K48: =Erebuni!K48+Kentron!K48+Ajapnyak!K48+Shengavit!K48+Avan!K48+Arabkir!K48+Malatia!K48+Kotayq!K48+Armavir!K48+Ararat!K48+Aragacotn!K48+Shirak!K48+Lori!K48+Tavush!K48+Gexarquniq!K48+Syuniq!K48 -> 39 | L48: =Erebuni!L48+Kentron!L48+Ajapnyak!L48+Shengavit!L48+Avan!L48+Arabkir!L48+Malatia!L48+Kotayq!L48+Armavir!L48+Ararat!L48+Aragacotn!L48+Shirak!L48+Lori!L48+Tavush!L48+Gexarquniq!L48+Syuniq!L48 -> 9 | ... AH48: =Erebuni!AH48+Kentron!AH48+Ajapnyak!AH48+Shengavit!AH48+Avan!AH48+Arabkir!AH48+Malatia!AH48+Kotayq!AH48+Armavir!AH48+Ararat!AH48+Aragacotn!AH48+Shirak!AH48+Lori!AH48+Tavush!AH48+Gexarquniq!AH48+Syuniq!AH48 -> 0
A49: 2.8 | B49: ä³ÛÙ³Ý³·Çñ ÏÝù»ÉáõÝ å³ñï³íáñ»óÝ»Éáõ í»ñ³µ»ñÛ³É | E49: =Erebuni!E49+Kentron!E49+Ajapnyak!E49+Shengavit!E49+Avan!E49+Arabkir!E49+Malatia!E49+Kotayq!E49+Armavir!E49+Ararat!E49+Aragacotn!E49+Shirak!E49+Lori!E49+Tavush!E49+Gexarquniq!E49+Syuniq!E49 -> 93 | F49: =Erebuni!F49+Kentron!F49+Ajapnyak!F49+Shengavit!F49+Avan!F49+Arabkir!F49+Malatia!F49+Kotayq!F49+Armavir!F49+Ararat!F49+Aragacotn!F49+Shirak!F49+Lori!F49+Tavush!F49+Gexarquniq!F49+Syuniq!F49 -> 69 | G49: =Erebuni!G49+Kentron!G49+Ajapnyak!G49+Shengavit!G49+Avan!G49+Arabkir!G49+Malatia!G49+Kotayq!G49+Armavir!G49+Ararat!G49+Aragacotn!G49+Shirak!G49+Lori!G49+Tavush!G49+Gexarquniq!G49+Syuniq!G49 -> 24 | H49: =Erebuni!H49+Kentron!H49+Ajapnyak!H49+Shengavit!H49+Avan!H49+Arabkir!H49+Malatia!H49+Kotayq!H49+Armavir!H49+Ararat!H49+Aragacotn!H49+Shirak!H49+Lori!H49+Tavush!H49+Gexarquniq!H49+Syuniq!H49 -> 0 | I49: =Erebuni!I49+Kentron!I49+Ajapnyak!I49+Shengavit!I49+Avan!I49+Arabkir!I49+Malatia!I49+Kotayq!I49+Armavir!I49+Ararat!I49+Aragacotn!I49+Shirak!I49+Lori!I49+Tavush!I49+Gexarquniq!I49+Syuniq!I49 -> 0 | J49: =Erebuni!J49+Kentron!J49+Ajapnyak!J49+Shengavit!J49+Avan!J49+Arabkir!J49+Malatia!J49+Kotayq!J49+Armavir!J49+Ararat!J49+Aragacotn!J49+Shirak!J49+Lori!J49+Tavush!J49+Gexarquniq!J49+Syuniq!J49 -> 27 | K49: =Erebuni!K49+Kentron!K49+Ajapnyak!K49+Shengavit!K49+Avan!K49+Arabkir!K49+Malatia!K49+Kotayq!K49+Armavir!K49+Ararat!K49+Aragacotn!K49+Shirak!K49+Lori!K49+Tavush!K49+Gexarquniq!K49+Syuniq!K49 -> 25 | L49: =Erebuni!L49+Kentron!L49+Ajapnyak!L49+Shengavit!L49+Avan!L49+Arabkir!L49+Malatia!L49+Kotayq!L49+Armavir!L49+Ararat!L49+Aragacotn!L49+Shirak!L49+Lori!L49+Tavush!L49+Gexarquniq!L49+Syuniq!L49 -> 2 | ... AH49: =Erebuni!AH49+Kentron!AH49+Ajapnyak!AH49+Shengavit!AH49+Avan!AH49+Arabkir!AH49+Malatia!AH49+Kotayq!AH49+Armavir!AH49+Ararat!AH49+Aragacotn!AH49+Shirak!AH49+Lori!AH49+Tavush!AH49+Gexarquniq!AH49+Syuniq!AH49 -> 0
A50: 2.9 | B50: ²ÛÉ í»×»ñ | E50: =Erebuni!E50+Kentron!E50+Ajapnyak!E50+Shengavit!E50+Avan!E50+Arabkir!E50+Malatia!E50+Kotayq!E50+Armavir!E50+Ararat!E50+Aragacotn!E50+Shirak!E50+Lori!E50+Tavush!E50+Gexarquniq!E50+Syuniq!E50 -> 393 | F50: =Erebuni!F50+Kentron!F50+Ajapnyak!F50+Shengavit!F50+Avan!F50+Arabkir!F50+Malatia!F50+Kotayq!F50+Armavir!F50+Ararat!F50+Aragacotn!F50+Shirak!F50+Lori!F50+Tavush!F50+Gexarquniq!F50+Syuniq!F50 -> 68 | G50: =Erebuni!G50+Kentron!G50+Ajapnyak!G50+Shengavit!G50+Avan!G50+Arabkir!G50+Malatia!G50+Kotayq!G50+Armavir!G50+Ararat!G50+Aragacotn!G50+Shirak!G50+Lori!G50+Tavush!G50+Gexarquniq!G50+Syuniq!G50 -> 325 | H50: =Erebuni!H50+Kentron!H50+Ajapnyak!H50+Shengavit!H50+Avan!H50+Arabkir!H50+Malatia!H50+Kotayq!H50+Armavir!H50+Ararat!H50+Aragacotn!H50+Shirak!H50+Lori!H50+Tavush!H50+Gexarquniq!H50+Syuniq!H50 -> 0 | I50: =Erebuni!I50+Kentron!I50+Ajapnyak!I50+Shengavit!I50+Avan!I50+Arabkir!I50+Malatia!I50+Kotayq!I50+Armavir!I50+Ararat!I50+Aragacotn!I50+Shirak!I50+Lori!I50+Tavush!I50+Gexarquniq!I50+Syuniq!I50 -> 0 | J50: =Erebuni!J50+Kentron!J50+Ajapnyak!J50+Shengavit!J50+Avan!J50+Arabkir!J50+Malatia!J50+Kotayq!J50+Armavir!J50+Ararat!J50+Aragacotn!J50+Shirak!J50+Lori!J50+Tavush!J50+Gexarquniq!J50+Syuniq!J50 -> 582 | K50: =Erebuni!K50+Kentron!K50+Ajapnyak!K50+Shengavit!K50+Avan!K50+Arabkir!K50+Malatia!K50+Kotayq!K50+Armavir!K50+Ararat!K50+Aragacotn!K50+Shirak!K50+Lori!K50+Tavush!K50+Gexarquniq!K50+Syuniq!K50 -> 552 | L50: =Erebuni!L50+Kentron!L50+Ajapnyak!L50+Shengavit!L50+Avan!L50+Arabkir!L50+Malatia!L50+Kotayq!L50+Armavir!L50+Ararat!L50+Aragacotn!L50+Shirak!L50+Lori!L50+Tavush!L50+Gexarquniq!L50+Syuniq!L50 -> 25 | ... AH50: =Erebuni!AH50+Kentron!AH50+Ajapnyak!AH50+Shengavit!AH50+Avan!AH50+Arabkir!AH50+Malatia!AH50+Kotayq!AH50+Armavir!AH50+Ararat!AH50+Aragacotn!AH50+Shirak!AH50+Lori!AH50+Tavush!AH50+Gexarquniq!AH50+Syuniq!AH50 -> 4
A51: 3. | B51: Ä³é³Ý·áõÃÛ³Ý Ñ»ï Ï³åí³Í Çñ³í³Ñ³ñ³µ»ñáõÃÛáõÝÝ»ñÇ í»ñ³µ»ñÛ³É ¹³ï³Ï³Ý ·áñÍ»ñ | E51: =SUM(E52:E58) -> 260 | F51: =SUM(F52:F58) -> 45 | G51: =SUM(G52:G58) -> 215 | H51: =SUM(H52:H58) -> 0 | I51: =SUM(I52:I58) -> 0 | J51: =SUM(J52:J58) -> 191 | K51: =SUM(K52:K58) -> 147 | L51: =SUM(L52:L58) -> 43 | ... AI51: =SUM(AI52:AI58) -> 0
