Workbook

Sheet Քաղ  all 
A1: 2015Ã. 1-ÇÝ ÏÇë³ÙÛ³Ï | E1: Ð²ÞìºîìàôÂÚàôÜ | AC1: Ï³½Ùí³Í` ÐÐ Ï³é³í³ñáõÃÛ³Ý 19.03.2015Ã. ÃÇí 306-Ü áñáßÙ³Ý ÑÇÙ³Ý íñ³
A2: ÐÐ ÀÜ¸Ð²Üàôð Æð²ì²êàôÂÚ²Ü ²è²æÆÜ ²îÚ²ÜÆ ¸²î²ð²ÜÜºðàôØ ø²Ô²ø²òÆ²Î²Ü ¶àðÌºðÆ øÜÜàôÂÚ²Ü ìºð²´ºðÚ²È
A3: ÐÐ ÁÝ¹Ñ³Ýáõñ Çñ³í³ëáõÃÛ³Ý ³é³çÇÝ ³ïÛ³ÝÇ ¹³ï³ñ³ÝÝ»ñáõÙ ù³Õ³ù³óÇ³Ï³Ý Ù³ëÝ³·Çï³óáõÙ áõÝ»óáÕ ¹³ï³íáñÝ»ñÇ Ñ³ëïÇùÝ»ñÇ ù³Ý³ÏÁ`
A4: êïáõ·Çã Ñ³í³ë³ñáõÙÝ»ñª 1=2+3+4+5, 6=7+8+9, 2+3+7=20+21+23, 10=11+12+13+14+15, 15=16+17+18, 20=10+19, 27=25+26, 30=28+29 | E4: Ð³ßí»ïáõ Å³Ù³Ý³Ï³Ñ³ïí³ÍáõÙ Ý³Ëáñ¹ Ñ³ßí»ïáõ Å³Ù³Ý³Ï³Ñ³ïí³ÍÇó ÷áË³Ýóí³Í ·áñÍ»ñÇ ÁÝ¹Ñ³Ýáõñ ÃÇíÁ | J4: Ð³ßí»ïáõ Å³Ù³Ý³Ï³Ñ³ïí³ÍáõÙëï³óí³Í ·áñÍ»ñÇ (³Û¹ ÃíáõÙ` Ñ³Ûó³¹ÇÙáõÙÝ»ñÇ, ¹ÇÙáõÙÝ»ñÇ) ÁÝ¹Ñ³Ýáõñ ÃÇíÁ | N4: Ð³ßí»ïáõ Å³Ù³Ý³Ï³Ñ³ïí³ÍáõÙ ³í³ñïí³Í ·áñÍ»ñÇ ÁÝ¹Ñ³Ýáõñ ÃÇíÁ | Y4: ¶áñÍÝ áõÕ³ñÏí»É ¿ Áëï ÁÝ¹¹³ïáõÃÛ³Ý | Z4: Ð³ßí»ïáõ Å³Ù³Ý³Ï³Ñ³ïí³ÍáõÙ Ï³ë»óí³Í í³ñáõÛÃÝ»ñáí ·áñÍ»ñÇ ÁÝ¹Ñ³Ýáõñ ÃÇíÁ | AA4: Ð³ßí»ïáõ Å³Ù³Ý³Ï³Ñ³ïí³ÍáõÙ ³Ý³í³ñï ·áñÍ»ñÇ ÁÝ¹Ñ³Ýáõñ ÃÇíÁ | AB4: ²Û¹ ÃíáõÙª Ï³ë»óí³Í | AC4: ´áÕáù³ñÏí³Í ¹³ï³Ï³Ý ³Ïï»ñÇ ÃÇíÁ` Áëï ï»ë³ÏÝ»ñÇ | AF4: ´»Ï³Ýí³Í ¹³ï³Ï³Ý ³Ïï»ñÇ ÃÇíÁ` Áëï ï»ë³ÏÝ»ñÇ
E7: ÀÝ¹³Ù»ÝÁ | F7: ²Û¹ ÃíáõÙ`Ï³ë»óí³Í íÇ×³ÏáõÙ ÷áË³Ýóí³Í | G7: ²Û¹ ÃíáõÙª ÁÝ¹áõÝí»É ¿ í³ñáõÛÃ | H7: ²Û¹ ÃíáõÙª í»ñ³¹³ñÓí»É ¿ | I7: ²Û¹ ÃíáõÙª ÁÝ¹áõÝáõÙÁ Ù»ñÅí»É ¿ | J7: ÀÝ¹³Ù»ÝÁ | K7: ²Û¹ ÃíáõÙª ÁÝ¹áõÝí»É ¿ í³ñáõÛÃ | L7: ²Û¹ ÃíáõÙª í»ñ³¹³ñÓí»É ¿ | M7: ²Û¹ ÃíáõÙª ÁÝ¹áõÝáõÙÁ Ù»ñÅí»É ¿ | N7: ÀÝ¹³Ù»ÝÁ ³í³ñïí»É »Ý ·áñÍ»ñ ·áñÍÝ Áëï ¿áõÃÛ³Ý ÉáõÍáÕ ¹³ï³Ï³Ý ³Ïï»ñÇ (í×ÇéÝ»ñÇ) Ï³Û³óÙ³Ùµ | O7: ²Û¹ ÃíáõÙª Ñ³ÛóÇ µ³í³ñ³ñÙ³Ùµ | P7: ²Û¹ ÃíáõÙª Ñ³ÛóÇ Ù³ëÝ³ÏÇ µ³í³ñ³ñÙ³Ùµ | Q7: ²Û¹ ÃíáõÙª Ñ³ÛóÇ Ù»ñÅÙ³Ùµ | R7: Ø³ëáí Ï³ñ×í»É ¿, Ù³ëáí Ù»ñÅí»É | S7: ²Û¹ ÃíáõÙª Ï³ñ×í»É »Ý | W7: Ð³ÛóÁ ÃáÕÝí»É ¿ ³é³Ýó ùÝÝáõÃÛ³Ý | X7: ÀÝ¹³Ù»ÝÝ ³í³ñïí»É »Ý ·áñÍ»ñ | AC7: ²Û¹ ÃíáõÙ` ·áñÍÝ Áëï ¿áõÃÛ³Ý ÉáõÍáÕ ¹³ï³Ï³Ý ³Ïï»ñ | AD7: ²Û¹ ÃíáõÙ` ÙÇç³ÝÏÛ³É ¹³ï³Ï³Ý ³Ïï»ñ | AE7: ÀÝ¹³Ù»ÝÁ | AF7: ²Û¹ ÃíáõÙ` ·áñÍÝ Áëï ¿áõÃÛ³Ý ÉáõÍáÕ ¹³ï³Ï³Ý ³Ïï»ñ | AG7: ²Û¹ ÃíáõÙ` ÙÇç³ÝÏÛ³É ¹³ï³Ï³Ý ³Ïï»ñ | AH7: ÀÝ¹³Ù»ÝÁ
S10: ÀÝ¹³Ù»ÝÁ Ï³ñ×í»É »Ý | T10: ²Û¹ ÃíáõÙª Ñ³ëï³ïí»É ¿ ÏÝùí³Í Ñ³ßïáõÃÛ³Ý Ñ³Ù³Ó³ÛÝáõÃÛáõÝÁ | U10: ²Û¹ ÃíáõÙª Ñ³óÇó, ¹ÇÙáõÙÇó Ññ³Å³ñí»Éáõ ÑÇÙùáí | V10: ²Û¹ ÃíáõÙª ³ÛÉ ÑÇÙùáí
A18: ø³Õ³ù³óÇ³Ï³Ý ·áñÍ»ñÇ ¹³ë³Ï³ñ·áõÙÁ | E18: 1 | F18: 2 | G18: 3 | H18: 4 | I18: 5 | J18: 6 | K18: 7 | L18: 8 | M18: 9 | N18: 10 | O18: 11 | P18: 12 | Q18: 13 | R18: 14 | S18: 15 | T18: 16 | U18: 17 | V18: 18 | W18: 19 | X18: 20 | Y18: 21 | Z18: 22 | AA18: 23 | AB18: 24 | AC18: 25 | AD18: 26 | AE18: 27 | AF18: 28 | AG18: 29 | AH18: 30
A19: 1. | B19: ¶áõÛù³ÛÇÝ Çñ³í³Ñ³ñ³µ»ñáõÃÛáõÝÝ»ñÇ í»ñ³µ»ñÛ³É ¹³ï³Ï³Ý ·áñÍ»ñ | E19: =SUM(E20:E38) -> 3463 | F19: =SUM(F20:F38) -> 1330 | G19: =SUM(G20:G38) -> 2132 | H19: =SUM(H20:H38) -> 1 | I19: =SUM(I20:I38) -> 0 | J19: =SUM(J20:J38) -> 1569 | K19: =SUM(K20:K38) -> 1341 | L19: =SUM(L20:L38) -> 205 | ... AI19: =SUM(AI20:AI38) -> 0
A20: 1.1 | B20: ¶áõÛùÇ ÝÏ³ïÙ³Ùµ ë»÷³Ï³ÝáõÃÛ³Ý Çñ³íáõÝùÁ ×³Ý³ã»Éáõ í»ñ³µ»ñÛ³É | E20: =Erebuni!E20+Kentron!E20+Ajapnyak!E20+Shengavit!E20+Avan!E20+Arabkir!E20+Malatia!E20+Kotayq!E20+Armavir!E20+Ararat!E20+Aragacotn!E20+Shirak!E20+Lori!E20+Tavush!E20+Gexarquniq!E20+Syuniq!E20 -> 293 | F20: =Erebuni!F20+Kentron!F20+Ajapnyak!F20+Shengavit!F20+Avan!F20+Arabkir!F20+Malatia!F20+Kotayq!F20+Armavir!F20+Ararat!F20+Aragacotn!F20+Shirak!F20+Lori!F20+Tavush!F20+Gexarquniq!F20+Syuniq!F20 -> 57 | G20: =Erebuni!G20+Kentron!G20+Ajapnyak!G20+Shengavit!G20+Avan!G20+Arabkir!G20+Malatia!G20+Kotayq!G20+Armavir!G20+Ararat!G20+Aragacotn!G20+Shirak!G20+Lori!G20+Tavush!G20+Gexarquniq!G20+Syuniq!G20 -> 236 | H20: =Erebuni!H20+Kentron!H20+Ajapnyak!H20+Shengavit!H20+Avan!H20+Arabkir!H20+Malatia!H20+Kotayq!H20+Armavir!H20+Ararat!H20+Aragacotn!H20+Shirak!H20+Lori!H20+Tavush!H20+Gexarquniq!H20+Syuniq!H20 -> 0 | I20: =Erebuni!I20+Kentron!I20+Ajapnyak!I20+Shengavit!I20+Avan!I20+Arabkir!I20+Malatia!I20+Kotayq!I20+Armavir!I20+Ararat!I20+Aragacotn!I20+Shirak!I20+Lori!I20+Tavush!I20+Gexarquniq!I20+Syuniq!I20 -> 0 | J20: =Erebuni!J20+Kentron!J20+Ajapnyak!J20+Shengavit!J20+Avan!J20+Arabkir!J20+Malatia!J20+Kotayq!J20+Armavir!J20+Ararat!J20+Aragacotn!J20+Shirak!J20+Lori!J20+Tavush!J20+Gexarquniq!J20+Syuniq!J20 -> 209 | K20: =Erebuni!K20+Kentron!K20+Ajapnyak!K20+Shengavit!K20+Avan!K20+Arabkir!K20+Malatia!K20+Kotayq!K20+Armavir!K20+Ararat!K20+Aragacotn!K20+Shirak!K20+Lori!K20+Tavush!K20+Gexarquniq!K20+Syuniq!K20 -> 177 | L20: =Erebuni!L20+Kentron!L20+Ajapnyak!L20+Shengavit!L20+Avan!L20+Arabkir!L20+Malatia!L20+Kotayq!L20+Armavir!L20+Ararat!L20+Aragacotn!L20+Shirak!L20+Lori!L20+Tavush!L20+Gexarquniq!L20+Syuniq!L20 -> 25 | ... AH20: =Erebuni!AH20+Kentron!AH20+Ajapnyak!AH20+Shengavit!AH20+Avan!AH20+Arabkir!AH20+Malatia!AH20+Kotayq!AH20+Armavir!AH20+Ararat!AH20+Aragacotn!AH20+Shirak!AH20+Lori!AH20+Tavush!AH20+Gexarquniq!AH20+Syuniq!AH20 -> 4
A21: 1.1.1 | B21: ²Û¹ ÃíáõÙª Ó»éùµ»ñÙ³Ý í³Õ»ÙáõÃÛ³Ý áõÅáí | E21: =Erebuni!E21+Kentron!E21+Ajapnyak!E21+Shengavit!E21+Avan!E21+Arabkir!E21+Malatia!E21+Kotayq!E21+Armavir!E21+Ararat!E21+Aragacotn!E21+Shirak!E21+Lori!E21+Tavush!E21+Gexarquniq!E21+Syuniq!E21 -> 203 | F21: =Erebuni!F21+Kentron!F21+Ajapnyak!F21+Shengavit!F21+Avan!F21+Arabkir!F21+Malatia!F21+Kotayq!F21+Armavir!F21+Ararat!F21+Aragacotn!F21+Shirak!F21+Lori!F21+Tavush!F21+Gexarquniq!F21+Syuniq!F21 -> 39 | G21: =Erebuni!G21+Kentron!G21+Ajapnyak!G21+Shengavit!G21+Avan!G21+Arabkir!G21+Malatia!G21+Kotayq!G21+Armavir!G21+Ararat!G21+Aragacotn!G21+Shirak!G21+Lori!G21+Tavush!G21+Gexarquniq!G21+Syuniq!G21 -> 163 | H21: =Erebuni!H21+Kentron!H21+Ajapnyak!H21+Shengavit!H21+Avan!H21+Arabkir!H21+Malatia!H21+Kotayq!H21+Armavir!H21+Ararat!H21+Aragacotn!H21+Shirak!H21+Lori!H21+Tavush!H21+Gexarquniq!H21+Syuniq!H21 -> 1 | I21: =Erebuni!I21+Kentron!I21+Ajapnyak!I21+Shengavit!I21+Avan!I21+Arabkir!I21+Malatia!I21+Kotayq!I21+Armavir!I21+Ararat!I21+Aragacotn!I21+Shirak!I21+Lori!I21+Tavush!I21+Gexarquniq!I21+Syuniq!I21 -> 0 | J21: =Erebuni!J21+Kentron!J21+Ajapnyak!J21+Shengavit!J21+Avan!J21+Arabkir!J21+Malatia!J21+Kotayq!J21+Armavir!J21+Ararat!J21+Aragacotn!J21+Shirak!J21+Lori!J21+Tavush!J21+Gexarquniq!J21+Syuniq!J21 -> 170 | K21: =Erebuni!K21+Kentron!K21+Ajapnyak!K21+Shengavit!K21+Avan!K21+Arabkir!K21+Malatia!K21+Kotayq!K21+Armavir!K21+Ararat!K21+Aragacotn!K21+Shirak!K21+Lori!K21+Tavush!K21+Gexarquniq!K21+Syuniq!K21 -> 158 | L21: =Erebuni!L21+Kentron!L21+Ajapnyak!L21+Shengavit!L21+Avan!L21+Arabkir!L21+Malatia!L21+Kotayq!L21+Armavir!L21+Ararat!L21+Aragacotn!L21+Shirak!L21+Lori!L21+Tavush!L21+Gexarquniq!L21+Syuniq!L21 -> 12 | ... AH21: =Erebuni!AH21+Kentron!AH21+Ajapnyak!AH21+Shengavit!AH21+Avan!AH21+Arabkir!AH21+Malatia!AH21+Kotayq!AH21+Armavir!AH21+Ararat!AH21+Aragacotn!AH21+Shirak!AH21+Lori!AH21+Tavush!AH21+Gexarquniq!AH21+Syuniq!AH21 -> 5
A22: 1.1.2 | B22: ²Û¹ ÃíáõÙª ïÇñ³½áõñÏ ·áõÛùÇ ÝÏ³ïÙ³Ùµ | E22: =Erebuni!E22+Kentron!E22+Ajapnyak!E22+Shengavit!E22+Avan!E22+Arabkir!E22+Malatia!E22+Kotayq!E22+Armavir!E22+Ararat!E22+Aragacotn!E22+Shirak!E22+Lori!E22+Tavush!E22+Gexarquniq!E22+Syuniq!E22 -> 1 | F22: =Erebuni!F22+Kentron!F22+Ajapnyak!F22+Shengavit!F22+Avan!F22+Arabkir!F22+Malatia!F22+Kotayq!F22+Armavir!F22+Ararat!F22+Aragacotn!F22+Shirak!F22+Lori!F22+Tavush!F22+Gexarquniq!F22+Syuniq!F22 -> 1 | G22: =Erebuni!G22+Kentron!G22+Ajapnyak!G22+Shengavit!G22+Avan!G22+Arabkir!G22+Malatia!G22+Kotayq!G22+Armavir!G22+Ararat!G22+Aragacotn!G22+Shirak!G22+Lori!G22+Tavush!G22+Gexarquniq!G22+Syuniq!G22 -> 0 | H22: =Erebuni!H22+Kentron!H22+Ajapnyak!H22+Shengavit!H22+Avan!H22+Arabkir!H22+Malatia!H22+Kotayq!H22+Armavir!H22+Ararat!H22+Aragacotn!H22+Shirak!H22+Lori!H22+Tavush!H22+Gexarquniq!H22+Syuniq!H22 -> 0 | I22: =Erebuni!I22+Kentron!I22+Ajapnyak!I22+Shengavit!I22+Avan!I22+Arabkir!I22+Malatia!I22+Kotayq!I22+Armavir!I22+Ararat!I22+Aragacotn!I22+Shirak!I22+Lori!I22+Tavush!I22+Gexarquniq!I22+Syuniq!I22 -> 0 | J22: =Erebuni!J22+Kentron!J22+Ajapnyak!J22+Shengavit!J22+Avan!J22+Arabkir!J22+Malatia!J22+Kotayq!J22+Armavir!J22+Ararat!J22+Aragacotn!J22+Shirak!J22+Lori!J22+Tavush!J22+Gexarquniq!J22+Syuniq!J22 -> 1 | K22: =Erebuni!K22+Kentron!K22+Ajapnyak!K22+Shengavit!K22+Avan!K22+Arabkir!K22+Malatia!K22+Kotayq!K22+Armavir!K22+Ararat!K22+Aragacotn!K22+Shirak!K22+Lori!K22+Tavush!K22+Gexarquniq!K22+Syuniq!K22 -> 1 | L22: =Erebuni!L22+Kentron!L22+Ajapnyak!L22+Shengavit!L22+Avan!L22+Arabkir!L22+Malatia!L22+Kotayq!L22+Armavir!L22+Ararat!L22+Aragacotn!L22+Shirak!L22+Lori!L22+Tavush!L22+Gexarquniq!L22+Syuniq!L22 -> 0 | ... AH22: =Erebuni!AH22+Kentron!AH22+Ajapnyak!AH22+Shengavit!AH22+Avan!AH22+Arabkir!AH22+Malatia!AH22+Kotayq!AH22+Armavir!AH22+Ararat!AH22+Aragacotn!AH22+Shirak!AH22+Lori!AH22+Tavush!AH22+Gexarquniq!AH22+Syuniq!AH22 -> 0
A23: 1.1.3 | B23: ²Û¹ ÃíáõÙª ÇÝùÝ³Ï³Ù Ï³éáõÛóÇ ÝÏ³ïÙ³Ùµ | E23: =Erebuni!E23+Kentron!E23+Ajapnyak!E23+Shengavit!E23+Avan!E23+Arabkir!E23+Malatia!E23+Kotayq!E23+Armavir!E23+Ararat!E23+Aragacotn!E23+Shirak!E23+Lori!E23+Tavush!E23+Gexarquniq!E23+Syuniq!E23 -> 1 | F23: =Erebuni!F23+Kentron!F23+Ajapnyak!F23+Shengavit!F23+Avan!F23+Arabkir!F23+Malatia!F23+Kotayq!F23+Armavir!F23+Ararat!F23+Aragacotn!F23+Shirak!F23+Lori!F23+Tavush!F23+Gexarquniq!F23+Syuniq!F23 -> 1 | G23: =Erebuni!G23+Kentron!G23+Ajapnyak!G23+Shengavit!G23+Avan!G23+Arabkir!G23+Malatia!G23+Kotayq!G23+Armavir!G23+Ararat!G23+Aragacotn!G23+Shirak!G23+Lori!G23+Tavush!G23+Gexarquniq!G23+Syuniq!G23 -> 0 | H23: =Erebuni!H23+Kentron!H23+Ajapnyak!H23+Shengavit!H23+Avan!H23+Arabkir!H23+Malatia!H23+Kotayq!H23+Armavir!H23+Ararat!H23+Aragacotn!H23+Shirak!H23+Lori!H23+Tavush!H23+Gexarquniq!H23+Syuniq!H23 -> 0 | I23: =Erebuni!I23+Kentron!I23+Ajapnyak!I23+Shengavit!I23+Avan!I23+Arabkir!I23+Malatia!I23+Kotayq!I23+Armavir!I23+Ararat!I23+Aragacotn!I23+Shirak!I23+Lori!I23+Tavush!I23+Gexarquniq!I23+Syuniq!I23 -> 0 | J23: =Erebuni!J23+Kentron!J23+Ajapnyak!J23+Shengavit!J23+Avan!J23+Arabkir!J23+Malatia!J23+Kotayq!J23+Armavir!J23+Ararat!J23+Aragacotn!J23+Shirak!J23+Lori!J23+Tavush!J23+Gexarquniq!J23+Syuniq!J23 -> 0 | K23: =Erebuni!K23+Kentron!K23+Ajapnyak!K23+Shengavit!K23+Avan!K23+Arabkir!K23+Malatia!K23+Kotayq!K23+Armavir!K23+Ararat!K23+Aragacotn!K23+Shirak!K23+Lori!K23+Tavush!K23+Gexarquniq!K23+Syuniq!K23 -> 0 | L23: =Erebuni!L23+Kentron!L23+Ajapnyak!L23+Shengavit!L23+Avan!L23+Arabkir!L23+Malatia!L23+Kotayq!L23+Armavir!L23+Ararat!L23+Aragacotn!L23+Shirak!L23+Lori!L23+Tavush!L23+Gexarquniq!L23+Syuniq!L23 -> 0 | ... AH23: =Erebuni!AH23+Kentron!AH23+Ajapnyak!AH23+Shengavit!AH23+Avan!AH23+Arabkir!AH23+Malatia!AH23+Kotayq!AH23+Armavir!AH23+Ararat!AH23+Aragacotn!AH23+Shirak!AH23+Lori!AH23+Tavush!AH23+Gexarquniq!AH23+Syuniq!AH23 -> 0
A24: 1.2 | B24: ê»÷³Ï³ÝáõÃÛ³Ý Çñ³íáõÝùÇ ¹³¹³ñ»óÙ³Ý í»ñ³µ»ñÛ³É | E24: =Erebuni!E24+Kentron!E24+Ajapnyak!E24+Shengavit!E24+Avan!E24+Arabkir!E24+Malatia!E24+Kotayq!E24+Armavir!E24+Ararat!E24+Aragacotn!E24+Shirak!E24+Lori!E24+Tavush!E24+Gexarquniq!E24+Syuniq!E24 -> 26 | F24: =Erebuni!F24+Kentron!F24+Ajapnyak!F24+Shengavit!F24+Avan!F24+Arabkir!F24+Malatia!F24+Kotayq!F24+Armavir!F24+Ararat!F24+Aragacotn!F24+Shirak!F24+Lori!F24+Tavush!F24+Gexarquniq!F24+Syuniq!F24 -> 8 | G24: =Erebuni!G24+Kentron!G24+Ajapnyak!G24+Shengavit!G24+Avan!G24+Arabkir!G24+Malatia!G24+Kotayq!G24+Armavir!G24+Ararat!G24+Aragacotn!G24+Shirak!G24+Lori!G24+Tavush!G24+Gexarquniq!G24+Syuniq!G24 -> 18 | H24: =Erebuni!H24+Kentron!H24+Ajapnyak!H24+Shengavit!H24+Avan!H24+Arabkir!H24+Malatia!H24+Kotayq!H24+Armavir!H24+Ararat!H24+Aragacotn!H24+Shirak!H24+Lori!H24+Tavush!H24+Gexarquniq!H24+Syuniq!H24 -> 0 | I24: =Erebuni!I24+Kentron!I24+Ajapnyak!I24+Shengavit!I24+Avan!I24+Arabkir!I24+Malatia!I24+Kotayq!I24+Armavir!I24+Ararat!I24+Aragacotn!I24+Shirak!I24+Lori!I24+Tavush!I24+Gexarquniq!I24+Syuniq!I24 -> 0 | J24: =Erebuni!J24+Kentron!J24+Ajapnyak!J24+Shengavit!J24+Avan!J24+Arabkir!J24+Malatia!J24+Kotayq!J24+Armavir!J24+Ararat!J24+Aragacotn!J24+Shirak!J24+Lori!J24+Tavush!J24+Gexarquniq!J24+Syuniq!J24 -> 9 | K24: =Erebuni!K24+Kentron!K24+Ajapnyak!K24+Shengavit!K24+Avan!K24+Arabkir!K24+Malatia!K24+Kotayq!K24+Armavir!K24+Ararat!K24+Aragacotn!K24+Shirak!K24+Lori!K24+Tavush!K24+Gexarquniq!K24+Syuniq!K24 -> 8 | L24: =Erebuni!L24+Kentron!L24+Ajapnyak!L24+Shengavit!L24+Avan!L24+Arabkir!L24+Malatia!L24+Kotayq!L24+Armavir!L24+Ararat!L24+Aragacotn!L24+Shirak!L24+Lori!L24+Tavush!L24+Gexarquniq!L24+Syuniq!L24 -> 1 | ... AH24: =Erebuni!AH24+Kentron!AH24+Ajapnyak!AH24+Shengavit!AH24+Avan!AH24+Arabkir!AH24+Malatia!AH24+Kotayq!AH24+Armavir!AH24+Ararat!AH24+Aragacotn!AH24+Shirak!AH24+Lori!AH24+Tavush!AH24+Gexarquniq!AH24+Syuniq!AH24 -> 1
A25: 1.3 | B25: ¶áõÛùÇ ÝÏ³ïÙ³Ùµ û·ï³·áñÍÙ³Ý Çñ³íáõÝùÁ ×³Ý³ã»Éáõ í»ñ³µ»ñÛ³É | E25: =Erebuni!E25+Kentron!E25+Ajapnyak!E25+Shengavit!E25+Avan!E25+Arabkir!E25+Malatia!E25+Kotayq!E25+Armavir!E25+Ararat!E25+Aragacotn!E25+Shirak!E25+Lori!E25+Tavush!E25+Gexarquniq!E25+Syuniq!E25 -> 5 | F25: =Erebuni!F25+Kentron!F25+Ajapnyak!F25+Shengavit!F25+Avan!F25+Arabkir!F25+Malatia!F25+Kotayq!F25+Armavir!F25+Ararat!F25+Aragacotn!F25+Shirak!F25+Lori!F25+Tavush!F25+Gexarquniq!F25+Syuniq!F25 -> 2 | G25: =Erebuni!G25+Kentron!G25+Ajapnyak!G25+Shengavit!G25+Avan!G25+Arabkir!G25+Malatia!G25+Kotayq!G25+Armavir!G25+Ararat!G25+Aragacotn!G25+Shirak!G25+Lori!G25+Tavush!G25+Gexarquniq!G25+Syuniq!G25 -> 3 | H25: =Erebuni!H25+Kentron!H25+Ajapnyak!H25+Shengavit!H25+Avan!H25+Arabkir!H25+Malatia!H25+Kotayq!H25+Armavir!H25+Ararat!H25+Aragacotn!H25+Shirak!H25+Lori!H25+Tavush!H25+Gexarquniq!H25+Syuniq!H25 -> 0 | I25: =Erebuni!I25+Kentron!I25+Ajapnyak!I25+Shengavit!I25+Avan!I25+Arabkir!I25+Malatia!I25+Kotayq!I25+Armavir!I25+Ararat!I25+Aragacotn!I25+Shirak!I25+Lori!I25+Tavush!I25+Gexarquniq!I25+Syuniq!I25 -> 0 | J25: =Erebuni!J25+Kentron!J25+Ajapnyak!J25+Shengavit!J25+Avan!J25+Arabkir!J25+Malatia!J25+Kotayq!J25+Armavir!J25+Ararat!J25+Aragacotn!J25+Shirak!J25+Lori!J25+Tavush!J25+Gexarquniq!J25+Syuniq!J25 -> 6 | K25: =Erebuni!K25+Kentron!K25+Ajapnyak!K25+Shengavit!K25+Avan!K25+Arabkir!K25+Malatia!K25+Kotayq!K25+Armavir!K25+Ararat!K25+Aragacotn!K25+Shirak!K25+Lori!K25+Tavush!K25+Gexarquniq!K25+Syuniq!K25 -> 4 | L25: =Erebuni!L25+Kentron!L25+Ajapnyak!L25+Shengavit!L25+Avan!L25+Arabkir!L25+Malatia!L25+Kotayq!L25+Armavir!L25+Ararat!L25+Aragacotn!L25+Shirak!L25+Lori!L25+Tavush!L25+Gexarquniq!L25+Syuniq!L25 -> 2 | ... AH25: =Erebuni!AH25+Kentron!AH25+Ajapnyak!AH25+Shengavit!AH25+Avan!AH25+Arabkir!AH25+Malatia!AH25+Kotayq!AH25+Armavir!AH25+Ararat!AH25+Aragacotn!AH25+Shirak!AH25+Lori!AH25+Tavush!AH25+Gexarquniq!AH25+Syuniq!AH25 -> 0
A26: 1.3.1 | B26: ²Û¹ ÃíáõÙª µÝ³Ïû·ï³·áñÍÙ³Ý Çñ³íáõÝùÁ ×³Ý³ã»Éáõ í»ñ³µ»ñÛ³É | E26: =Erebuni!E26+Kentron!E26+Ajapnyak!E26+Shengavit!E26+Avan!E26+Arabkir!E26+Malatia!E26+Kotayq!E26+Armavir!E26+Ararat!E26+Aragacotn!E26+Shirak!E26+Lori!E26+Tavush!E26+Gexarquniq!E26+Syuniq!E26 -> 5 | F26: =Erebuni!F26+Kentron!F26+Ajapnyak!F26+Shengavit!F26+Avan!F26+Arabkir!F26+Malatia!F26+Kotayq!F26+Armavir!F26+Ararat!F26+Aragacotn!F26+Shirak!F26+Lori!F26+Tavush!F26+Gexarquniq!F26+Syuniq!F26 -> 0 | G26: =Erebuni!G26+Kentron!G26+Ajapnyak!G26+Shengavit!G26+Avan!G26+Arabkir!G26+Malatia!G26+Kotayq!G26+Armavir!G26+Ararat!G26+Aragacotn!G26+Shirak!G26+Lori!G26+Tavush!G26+Gexarquniq!G26+Syuniq!G26 -> 5 | H26: =Erebuni!H26+Kentron!H26+Ajapnyak!H26+Shengavit!H26+Avan!H26+Arabkir!H26+Malatia!H26+Kotayq!H26+Armavir!H26+Ararat!H26+Aragacotn!H26+Shirak!H26+Lori!H26+Tavush!H26+Gexarquniq!H26+Syuniq!H26 -> 0 | I26: =Erebuni!I26+Kentron!I26+Ajapnyak!I26+Shengavit!I26+Avan!I26+Arabkir!I26+Malatia!I26+Kotayq!I26+Armavir!I26+Ararat!I26+Aragacotn!I26+Shirak!I26+Lori!I26+Tavush!I26+Gexarquniq!I26+Syuniq!I26 -> 0 | J26: =Erebuni!J26+Kentron!J26+Ajapnyak!J26+Shengavit!J26+Avan!J26+Arabkir!J26+Malatia!J26+Kotayq!J26+Armavir!J26+Ararat!J26+Aragacotn!J26+Shirak!J26+Lori!J26+Tavush!J26+Gexarquniq!J26+Syuniq!J26 -> 7 | K26: =Erebuni!K26+Kentron!K26+Ajapnyak!K26+Shengavit!K26+Avan!K26+Arabkir!K26+Malatia!K26+Kotayq!K26+Armavir!K26+Ararat!K26+Aragacotn!K26+Shirak!K26+Lori!K26+Tavush!K26+Gexarquniq!K26+Syuniq!K26 -> 4 | L26: =Erebuni!L26+Kentron!L26+Ajapnyak!L26+Shengavit!L26+Avan!L26+Arabkir!L26+Malatia!L26+Kotayq!L26+Armavir!L26+Ararat!L26+Aragacotn!L26+Shirak!L26+Lori!L26+Tavush!L26+Gexarquniq!L26+Syuniq!L26 -> 2 | ... AH26: =Erebuni!AH26+Kentron!AH26+Ajapnyak!AH26+Shengavit!AH26+Avan!AH26+Arabkir!AH26+Malatia!AH26+Kotayq!AH26+Armavir!AH26+Ararat!AH26+Aragacotn!AH26+Shirak!AH26+Lori!AH26+Tavush!AH26+Gexarquniq!AH26+Syuniq!AH26 -> 0
A27: 1.3.2 | B27: ²Û¹ ÃíáõÙª ÑáÕ³Ù³ëÇ ÝÏ³ïÙ³Ùµ û·ï³·áñÍÙ³Ý Çñ³íáõÝùÁ ×³Ý³ã»Éáõ í»ñ³µ»ñÛ³É | E27: =Erebuni!E27+Kentron!E27+Ajapnyak!E27+Shengavit!E27+Avan!E27+Arabkir!E27+Malatia!E27+Kotayq!E27+Armavir!E27+Ararat!E27+Aragacotn!E27+Shirak!E27+Lori!E27+Tavush!E27+Gexarquniq!E27+Syuniq!E27 -> 9 | F27: =Erebuni!F27+Kentron!F27+Ajapnyak!F27+Shengavit!F27+Avan!F27+Arabkir!F27+Malatia!F27+Kotayq!F27+Armavir!F27+Ararat!F27+Aragacotn!F27+Shirak!F27+Lori!F27+Tavush!F27+Gexarquniq!F27+Syuniq!F27 -> 2 | G27: =Erebuni!G27+Kentron!G27+Ajapnyak!G27+Shengavit!G27+Avan!G27+Arabkir!G27+Malatia!G27+Kotayq!G27+Armavir!G27+Ararat!G27+Aragacotn!G27+Shirak!G27+Lori!G27+Tavush!G27+Gexarquniq!G27+Syuniq!G27 -> 7 | H27: =Erebuni!H27+Kentron!H27+Ajapnyak!H27+Shengavit!H27+Avan!H27+Arabkir!H27+Malatia!H27+Kotayq!H27+Armavir!H27+Ararat!H27+Aragacotn!H27+Shirak!H27+Lori!H27+Tavush!H27+Gexarquniq!H27+Syuniq!H27 -> 0 | I27: =Erebuni!I27+Kentron!I27+Ajapnyak!I27+Shengavit!I27+Avan!I27+Arabkir!I27+Malatia!I27+Kotayq!I27+Armavir!I27+Ararat!I27+Aragacotn!I27+Shirak!I27+Lori!I27+Tavush!I27+Gexarquniq!I27+Syuniq!I27 -> 0 | J27: =Erebuni!J27+Kentron!J27+Ajapnyak!J27+Shengavit!J27+Avan!J27+Arabkir!J27+Malatia!J27+Kotayq!J27+Armavir!J27+Ararat!J27+Aragacotn!J27+Shirak!J27+Lori!J27+Tavush!J27+Gexarquniq!J27+Syuniq!J27 -> 3 | K27: =Erebuni!K27+Kentron!K27+Ajapnyak!K27+Shengavit!K27+Avan!K27+Arabkir!K27+Malatia!K27+Kotayq!K27+Armavir!K27+Ararat!K27+Aragacotn!K27+Shirak!K27+Lori!K27+Tavush!K27+Gexarquniq!K27+Syuniq!K27 -> 1 | L27: =Erebuni!L27+Kentron!L27+Ajapnyak!L27+Shengavit!L27+Avan!L27+Arabkir!L27+Malatia!L27+Kotayq!L27+Armavir!L27+Ararat!L27+Aragacotn!L27+Shirak!L27+Lori!L27+Tavush!L27+Gexarquniq!L27+Syuniq!L27 -> 2 | ... AH27: =Erebuni!AH27+Kentron!AH27+Ajapnyak!AH27+Shengavit!AH27+Avan!AH27+Arabkir!AH27+Malatia!AH27+Kotayq!AH27+Armavir!AH27+Ararat!AH27+Aragacotn!AH27+Shirak!AH27+Lori!AH27+Tavush!AH27+Gexarquniq!AH27+Syuniq!AH27 -> 0
A28: 1.4 | B28: ¶áõÛùÇ ÝÏ³ïÙ³Ùµ û·ï³·áñÍÙ³Ý Çñ³íáõÝùÁ ¹³¹³ñ»óÝ»Éáõ í»ñ³µ»ñÛ³É | E28: =Erebuni!E28+Kentron!E28+Ajapnyak!E28+Shengavit!E28+Avan!E28+Arabkir!E28+Malatia!E28+Kotayq!E28+Armavir!E28+Ararat!E28+Aragacotn!E28+Shirak!E28+Lori!E28+Tavush!E28+Gexarquniq!E28+Syuniq!E28 -> 6 | F28: =Erebuni!F28+Kentron!F28+Ajapnyak!F28+Shengavit!F28+Avan!F28+Arabkir!F28+Malatia!F28+Kotayq!F28+Armavir!F28+Ararat!F28+Aragacotn!F28+Shirak!F28+Lori!F28+Tavush!F28+Gexarquniq!F28+Syuniq!F28 -> 2 | G28: =Erebuni!G28+Kentron!G28+Ajapnyak!G28+Shengavit!G28+Avan!G28+Arabkir!G28+Malatia!G28+Kotayq!G28+Armavir!G28+Ararat!G28+Aragacotn!G28+Shirak!G28+Lori!G28+Tavush!G28+Gexarquniq!G28+Syuniq!G28 -> 4 | H28: =Erebuni!H28+Kentron!H28+Ajapnyak!H28+Shengavit!H28+Avan!H28+Arabkir!H28+Malatia!H28+Kotayq!H28+Armavir!H28+Ararat!H28+Aragacotn!H28+Shirak!H28+Lori!H28+Tavush!H28+Gexarquniq!H28+Syuniq!H28 -> 0 | I28: =Erebuni!I28+Kentron!I28+Ajapnyak!I28+Shengavit!I28+Avan!I28+Arabkir!I28+Malatia!I28+Kotayq!I28+Armavir!I28+Ararat!I28+Aragacotn!I28+Shirak!I28+Lori!I28+Tavush!I28+Gexarquniq!I28+Syuniq!I28 -> 0 | J28: =Erebuni!J28+Kentron!J28+Ajapnyak!J28+Shengavit!J28+Avan!J28+Arabkir!J28+Malatia!J28+Kotayq!J28+Armavir!J28+Ararat!J28+Aragacotn!J28+Shirak!J28+Lori!J28+Tavush!J28+Gexarquniq!J28+Syuniq!J28 -> 1 | K28: =Erebuni!K28+Kentron!K28+Ajapnyak!K28+Shengavit!K28+Avan!K28+Arabkir!K28+Malatia!K28+Kotayq!K28+Armavir!K28+Ararat!K28+Aragacotn!K28+Shirak!K28+Lori!K28+Tavush!K28+Gexarquniq!K28+Syuniq!K28 -> 1 | L28: =Erebuni!L28+Kentron!L28+Ajapnyak!L28+Shengavit!L28+Avan!L28+Arabkir!L28+Malatia!L28+Kotayq!L28+Armavir!L28+Ararat!L28+Aragacotn!L28+Shirak!L28+Lori!L28+Tavush!L28+Gexarquniq!L28+Syuniq!L28 -> 0 | ... AH28: =Erebuni!AH28+Kentron!AH28+Ajapnyak!AH28+Shengavit!AH28+Avan!AH28+Arabkir!AH28+Malatia!AH28+Kotayq!AH28+Armavir!AH28+Ararat!AH28+Aragacotn!AH28+Shirak!AH28+Lori!AH28+Tavush!AH28+Gexarquniq!AH28+Syuniq!AH28 -> 0
A29: 1.4.1 | B29: ²Û¹ ÃíáõÙª µÝ³Ïû·ï³·áñÍÙ³Ý Çñ³íáõÝùÁ ¹³¹³ñ»óÝ»Éáõ í»ñ³µ»ñÛ³É | E29: =Erebuni!E29+Kentron!E29+Ajapnyak!E29+Shengavit!E29+Avan!E29+Arabkir!E29+Malatia!E29+Kotayq!E29+Armavir!E29+Ararat!E29+Aragacotn!E29+Shirak!E29+Lori!E29+Tavush!E29+Gexarquniq!E29+Syuniq!E29 -> 18 | F29: =Erebuni!F29+Kentron!F29+Ajapnyak!F29+Shengavit!F29+Avan!F29+Arabkir!F29+Malatia!F29+Kotayq!F29+Armavir!F29+Ararat!F29+Aragacotn!F29+Shirak!F29+Lori!F29+Tavush!F29+Gexarquniq!F29+Syuniq!F29 -> 8 | G29: =Erebuni!G29+Kentron!G29+Ajapnyak!G29+Shengavit!G29+Avan!G29+Arabkir!G29+Malatia!G29+Kotayq!G29+Armavir!G29+Ararat!G29+Aragacotn!G29+Shirak!G29+Lori!G29+Tavush!G29+Gexarquniq!G29+Syuniq!G29 -> 10 | H29: =Erebuni!H29+Kentron!H29+Ajapnyak!H29+Shengavit!H29+Avan!H29+Arabkir!H29+Malatia!H29+Kotayq!H29+Armavir!H29+Ararat!H29+Aragacotn!H29+Shirak!H29+Lori!H29+Tavush!H29+Gexarquniq!H29+Syuniq!H29 -> 0 | I29: =Erebuni!I29+Kentron!I29+Ajapnyak!I29+Shengavit!I29+Avan!I29+Arabkir!I29+Malatia!I29+Kotayq!I29+Armavir!I29+Ararat!I29+Aragacotn!I29+Shirak!I29+Lori!I29+Tavush!I29+Gexarquniq!I29+Syuniq!I29 -> 0 | J29: =Erebuni!J29+Kentron!J29+Ajapnyak!J29+Shengavit!J29+Avan!J29+Arabkir!J29+Malatia!J29+Kotayq!J29+Armavir!J29+Ararat!J29+Aragacotn!J29+Shirak!J29+Lori!J29+Tavush!J29+Gexarquniq!J29+Syuniq!J29 -> 2 | K29: =Erebuni!K29+Kentron!K29+Ajapnyak!K29+Shengavit!K29+Avan!K29+Arabkir!K29+Malatia!K29+Kotayq!K29+Armavir!K29+Ararat!K29+Aragacotn!K29+Shirak!K29+Lori!K29+Tavush!K29+Gexarquniq!K29+Syuniq!K29 -> 2 | L29: =Erebuni!L29+Kentron!L29+Ajapnyak!L29+Shengavit!L29+Avan!L29+Arabkir!L29+Malatia!L29+Kotayq!L29+Armavir!L29+Ararat!L29+Aragacotn!L29+Shirak!L29+Lori!L29+Tavush!L29+Gexarquniq!L29+Syuniq!L29 -> 0 | ... AH29: =Erebuni!AH29+Kentron!AH29+Ajapnyak!AH29+Shengavit!AH29+Avan!AH29+Arabkir!AH29+Malatia!AH29+Kotayq!AH29+Armavir!AH29+Ararat!AH29+Aragacotn!AH29+Shirak!AH29+Lori!AH29+Tavush!AH29+Gexarquniq!AH29+Syuniq!AH29 -> 0
A30: 1.4.1/1 | B30: ²Û¹ ÃíáõÙª ÷áËÑ³ïáõóÙ³Ùµ | E30: =Erebuni!E30+Kentron!E30+Ajapnyak!E30+Shengavit!E30+Avan!E30+Arabkir!E30+Malatia!E30+Kotayq!E30+Armavir!E30+Ararat!E30+Aragacotn!E30+Shirak!E30+Lori!E30+Tavush!E30+Gexarquniq!E30+Syuniq!E30 -> 15 | F30: =Erebuni!F30+Kentron!F30+Ajapnyak!F30+Shengavit!F30+Avan!F30+Arabkir!F30+Malatia!F30+Kotayq!F30+Armavir!F30+Ararat!F30+Aragacotn!F30+Shirak!F30+Lori!F30+Tavush!F30+Gexarquniq!F30+Syuniq!F30 -> 7 | G30: =Erebuni!G30+Kentron!G30+Ajapnyak!G30+Shengavit!G30+Avan!G30+Arabkir!G30+Malatia!G30+Kotayq!G30+Armavir!G30+Ararat!G30+Aragacotn!G30+Shirak!G30+Lori!G30+Tavush!G30+Gexarquniq!G30+Syuniq!G30 -> 8 | H30: =Erebuni!H30+Kentron!H30+Ajapnyak!H30+Shengavit!H30+Avan!H30+Arabkir!H30+Malatia!H30+Kotayq!H30+Armavir!H30+Ararat!H30+Aragacotn!H30+Shirak!H30+Lori!H30+Tavush!H30+Gexarquniq!H30+Syuniq!H30 -> 0 | I30: =Erebuni!I30+Kentron!I30+Ajapnyak!I30+Shengavit!I30+Avan!I30+Arabkir!I30+Malatia!I30+Kotayq!I30+Armavir!I30+Ararat!I30+Aragacotn!I30+Shirak!I30+Lori!I30+Tavush!I30+Gexarquniq!I30+Syuniq!I30 -> 0 | J30: =Erebuni!J30+Kentron!J30+Ajapnyak!J30+Shengavit!J30+Avan!J30+Arabkir!J30+Malatia!J30+Kotayq!J30+Armavir!J30+Ararat!J30+Aragacotn!J30+Shirak!J30+Lori!J30+Tavush!J30+Gexarquniq!J30+Syuniq!J30 -> 2 | K30: =Erebuni!K30+Kentron!K30+Ajapnyak!K30+Shengavit!K30+Avan!K30+Arabkir!K30+Malatia!K30+Kotayq!K30+Armavir!K30+Ararat!K30+Aragacotn!K30+Shirak!K30+Lori!K30+Tavush!K30+Gexarquniq!K30+Syuniq!K30 -> 2 | L30: =Erebuni!L30+Kentron!L30+Ajapnyak!L30+Shengavit!L30+Avan!L30+Arabkir!L30+Malatia!L30+Kotayq!L30+Armavir!L30+Ararat!L30+Aragacotn!L30+Shirak!L30+Lori!L30+Tavush!L30+Gexarquniq!L30+Syuniq!L30 -> 0 | ... AH30: =Erebuni!AH30+Kentron!AH30+Ajapnyak!AH30+Shengavit!AH30+Avan!AH30+Arabkir!AH30+Malatia!AH30+Kotayq!AH30+Armavir!AH30+Ararat!AH30+Aragacotn!AH30+Shirak!AH30+Lori!AH30+Tavush!AH30+Gexarquniq!AH30+Syuniq!AH30 -> 0
A31: 1.5 | B31: ´Ý³Ï³ñ³ÝÇó/ ï³ñ³ÍùÇó/ íï³ñ»Éáõ í»ñ³µ»ñÛ³É | E31: =Erebuni!E31+Kentron!E31+Ajapnyak!E31+Shengavit!E31+Avan!E31+Arabkir!E31+Malatia!E31+Kotayq!E31+Armavir!E31+Ararat!E31+Aragacotn!E31+Shirak!E31+Lori!E31+Tavush!E31+Gexarquniq!E31+Syuniq!E31 -> 220 | F31: =Erebuni!F31+Kentron!F31+Ajapnyak!F31+Shengavit!F31+Avan!F31+Arabkir!F31+Malatia!F31+Kotayq!F31+Armavir!F31+Ararat!F31+Aragacotn!F31+Shirak!F31+Lori!F31+Tavush!F31+Gexarquniq!F31+Syuniq!F31 -> 70 | G31: =Erebuni!G31+Kentron!G31+Ajapnyak!G31+Shengavit!G31+Avan!G31+Arabkir!G31+Malatia!G31+Kotayq!G31+Armavir!G31+Ararat!G31+Aragacotn!G31+Shirak!G31+Lori!G31+Tavush!G31+Gexarquniq!G31+Syuniq!G31 -> 150 | H31: =Erebuni!H31+Kentron!H31+Ajapnyak!H31+Shengavit!H31+Avan!H31+Arabkir!H31+Malatia!H31+Kotayq!H31+Armavir!H31+Ararat!H31+Aragacotn!H31+Shirak!H31+Lori!H31+Tavush!H31+Gexarquniq!H31+Syuniq!H31 -> 0 | I31: =Erebuni!I31+Kentron!I31+Ajapnyak!I31+Shengavit!I31+Avan!I31+Arabkir!I31+Malatia!I31+Kotayq!I31+Armavir!I31+Ararat!I31+Aragacotn!I31+Shirak!I31+Lori!I31+Tavush!I31+Gexarquniq!I31+Syuniq!I31 -> 0 | J31: =Erebuni!J31+Kentron!J31+Ajapnyak!J31+Shengavit!J31+Avan!J31+Arabkir!J31+Malatia!J31+Kotayq!J31+Armavir!J31+Ararat!J31+Aragacotn!J31+Shirak!J31+Lori!J31+Tavush!J31+Gexarquniq!J31+Syuniq!J31 -> 80 | K31: =Erebuni!K31+Kentron!K31+Ajapnyak!K31+Shengavit!K31+Avan!K31+Arabkir!K31+Malatia!K31+Kotayq!K31+Armavir!K31+Ararat!K31+Aragacotn!K31+Shirak!K31+Lori!K31+Tavush!K31+Gexarquniq!K31+Syuniq!K31 -> 73 | L31: =Erebuni!L31+Kentron!L31+Ajapnyak!L31+Shengavit!L31+Avan!L31+Arabkir!L31+Malatia!L31+Kotayq!L31+Armavir!L31+Ararat!L31+Aragacotn!L31+Shirak!L31+Lori!L31+Tavush!L31+Gexarquniq!L31+Syuniq!L31 -> 7 | ... AH31: =Erebuni!AH31+Kentron!AH31+Ajapnyak!AH31+Shengavit!AH31+Avan!AH31+Arabkir!AH31+Malatia!AH31+Kotayq!AH31+Armavir!AH31+Ararat!AH31+Aragacotn!AH31+Shirak!AH31+Lori!AH31+Tavush!AH31+Gexarquniq!AH31+Syuniq!AH31 -> 2
A32: 1.6 | B32: ¶áõÛùÝ áõñÇßÇ ³åûñÇÝÇ ïÇñ³å»ïáõÙÇó »ï í»ñ³¹³ñÓÝ»Éáõ í»ñ³µ»ñÛ³É | E32: =Erebuni!E32+Kentron!E32+Ajapnyak!E32+Shengavit!E32+Avan!E32+Arabkir!E32+Malatia!E32+Kotayq!E32+Armavir!E32+Ararat!E32+Aragacotn!E32+Shirak!E32+Lori!E32+Tavush!E32+Gexarquniq!E32+Syuniq!E32 -> 229 | F32: =Erebuni!F32+Kentron!F32+Ajapnyak!F32+Shengavit!F32+Avan!F32+Arabkir!F32+Malatia!F32+Kotayq!F32+Armavir!F32+Ararat!F32+Aragacotn!F32+Shirak!F32+Lori!F32+Tavush!F32+Gexarquniq!F32+Syuniq!F32 -> 82 | G32: =Erebuni!G32+Kentron!G32+Ajapnyak!G32+Shengavit!G32+Avan!G32+Arabkir!G32+Malatia!G32+Kotayq!G32+Armavir!G32+Ararat!G32+Aragacotn!G32+Shirak!G32+Lori!G32+Tavush!G32+Gexarquniq!G32+Syuniq!G32 -> 147 | H32: =Erebuni!H32+Kentron!H32+Ajapnyak!H32+Shengavit!H32+Avan!H32+Arabkir!H32+Malatia!H32+Kotayq!H32+Armavir!H32+Ararat!H32+Aragacotn!H32+Shirak!H32+Lori!H32+Tavush!H32+Gexarquniq!H32+Syuniq!H32 -> 0 | I32: =Erebuni!I32+Kentron!I32+Ajapnyak!I32+Shengavit!I32+Avan!I32+Arabkir!I32+Malatia!I32+Kotayq!I32+Armavir!I32+Ararat!I32+Aragacotn!I32+Shirak!I32+Lori!I32+Tavush!I32+Gexarquniq!I32+Syuniq!I32 -> 0 | J32: =Erebuni!J32+Kentron!J32+Ajapnyak!J32+Shengavit!J32+Avan!J32+Arabkir!J32+Malatia!J32+Kotayq!J32+Armavir!J32+Ararat!J32+Aragacotn!J32+Shirak!J32+Lori!J32+Tavush!J32+Gexarquniq!J32+Syuniq!J32 -> 101 | K32: =Erebuni!K32+Kentron!K32+Ajapnyak!K32+Shengavit!K32+Avan!K32+Arabkir!K32+Malatia!K32+Kotayq!K32+Armavir!K32+Ararat!K32+Aragacotn!K32+Shirak!K32+Lori!K32+Tavush!K32+Gexarquniq!K32+Syuniq!K32 -> 90 | L32: =Erebuni!L32+Kentron!L32+Ajapnyak!L32+Shengavit!L32+Avan!L32+Arabkir!L32+Malatia!L32+Kotayq!L32+Armavir!L32+Ararat!L32+Aragacotn!L32+Shirak!L32+Lori!L32+Tavush!L32+Gexarquniq!L32+Syuniq!L32 -> 10 | ... AH32: =Erebuni!AH32+Kentron!AH32+Ajapnyak!AH32+Shengavit!AH32+Avan!AH32+Arabkir!AH32+Malatia!AH32+Kotayq!AH32+Armavir!AH32+Ararat!AH32+Aragacotn!AH32+Shirak!AH32+Lori!AH32+Tavush!AH32+Gexarquniq!AH32+Syuniq!AH32 -> 3
A33: 1.6.1 | B33: ´³ñ»ËÇÕ× Ó»éùµ»ñáÕÇó Çñ ·áõÛùÁ Ñ»ï å³Ñ³Ýç»Éáõ í»ñ³µ»ñÛ³É | E33: =Erebuni!E33+Kentron!E33+Ajapnyak!E33+Shengavit!E33+Avan!E33+Arabkir!E33+Malatia!E33+Kotayq!E33+Armavir!E33+Ararat!E33+Aragacotn!E33+Shirak!E33+Lori!E33+Tavush!E33+Gexarquniq!E33+Syuniq!E33 -> 0 | F33: =Erebuni!F33+Kentron!F33+Ajapnyak!F33+Shengavit!F33+Avan!F33+Arabkir!F33+Malatia!F33+Kotayq!F33+Armavir!F33+Ararat!F33+Aragacotn!F33+Shirak!F33+Lori!F33+Tavush!F33+Gexarquniq!F33+Syuniq!F33 -> 0 | G33: =Erebuni!G33+Kentron!G33+Ajapnyak!G33+Shengavit!G33+Avan!G33+Arabkir!G33+Malatia!G33+Kotayq!G33+Armavir!G33+Ararat!G33+Aragacotn!G33+Shirak!G33+Lori!G33+Tavush!G33+Gexarquniq!G33+Syuniq!G33 -> 0 | H33: =Erebuni!H33+Kentron!H33+Ajapnyak!H33+Shengavit!H33+Avan!H33+Arabkir!H33+Malatia!H33+Kotayq!H33+Armavir!H33+Ararat!H33+Aragacotn!H33+Shirak!H33+Lori!H33+Tavush!H33+Gexarquniq!H33+Syuniq!H33 -> 0 | I33: =Erebuni!I33+Kentron!I33+Ajapnyak!I33+Shengavit!I33+Avan!I33+Arabkir!I33+Malatia!I33+Kotayq!I33+Armavir!I33+Ararat!I33+Aragacotn!I33+Shirak!I33+Lori!I33+Tavush!I33+Gexarquniq!I33+Syuniq!I33 -> 0 | J33: =Erebuni!J33+Kentron!J33+Ajapnyak!J33+Shengavit!J33+Avan!J33+Arabkir!J33+Malatia!J33+Kotayq!J33+Armavir!J33+Ararat!J33+Aragacotn!J33+Shirak!J33+Lori!J33+Tavush!J33+Gexarquniq!J33+Syuniq!J33 -> 1 | K33: =Erebuni!K33+Kentron!K33+Ajapnyak!K33+Shengavit!K33+Avan!K33+Arabkir!K33+Malatia!K33+Kotayq!K33+Armavir!K33+Ararat!K33+Aragacotn!K33+Shirak!K33+Lori!K33+Tavush!K33+Gexarquniq!K33+Syuniq!K33 -> 1 | L33: =Erebuni!L33+Kentron!L33+Ajapnyak!L33+Shengavit!L33+Avan!L33+Arabkir!L33+Malatia!L33+Kotayq!L33+Armavir!L33+Ararat!L33+Aragacotn!L33+Shirak!L33+Lori!L33+Tavush!L33+Gexarquniq!L33+Syuniq!L33 -> 0 | ... AH33: =Erebuni!AH33+Kentron!AH33+Ajapnyak!AH33+Shengavit!AH33+Avan!AH33+Arabkir!AH33+Malatia!AH33+Kotayq!AH33+Armavir!AH33+Ararat!AH33+Aragacotn!AH33+Shirak!AH33+Lori!AH33+Tavush!AH33+Gexarquniq!AH33+Syuniq!AH33 -> 0
A34: 1.7 | B34: îÇñ³å»ïáõÙÇó ½ñÏ»Éáõ Ñ»ï ãÏ³åí³Í Çñ³íáõÝùÝ»ñÇ Ë³ËïáõÙÁ í»ñ³óÝ»Éáõ í»ñ³µ»ñÛ³É | E34: =Erebuni!E34+Kentron!E34+Ajapnyak!E34+Shengavit!E34+Avan!E34+Arabkir!E34+Malatia!E34+Kotayq!E34+Armavir!E34+Ararat!E34+Aragacotn!E34+Shirak!E34+Lori!E34+Tavush!E34+Gexarquniq!E34+Syuniq!E34 -> 58 | F34: =Erebuni!F34+Kentron!F34+Ajapnyak!F34+Shengavit!F34+Avan!F34+Arabkir!F34+Malatia!F34+Kotayq!F34+Armavir!F34+Ararat!F34+Aragacotn!F34+Shirak!F34+Lori!F34+Tavush!F34+Gexarquniq!F34+Syuniq!F34 -> 21 | G34: =Erebuni!G34+Kentron!G34+Ajapnyak!G34+Shengavit!G34+Avan!G34+Arabkir!G34+Malatia!G34+Kotayq!G34+Armavir!G34+Ararat!G34+Aragacotn!G34+Shirak!G34+Lori!G34+Tavush!G34+Gexarquniq!G34+Syuniq!G34 -> 37 | H34: =Erebuni!H34+Kentron!H34+Ajapnyak!H34+Shengavit!H34+Avan!H34+Arabkir!H34+Malatia!H34+Kotayq!H34+Armavir!H34+Ararat!H34+Aragacotn!H34+Shirak!H34+Lori!H34+Tavush!H34+Gexarquniq!H34+Syuniq!H34 -> 0 | I34: =Erebuni!I34+Kentron!I34+Ajapnyak!I34+Shengavit!I34+Avan!I34+Arabkir!I34+Malatia!I34+Kotayq!I34+Armavir!I34+Ararat!I34+Aragacotn!I34+Shirak!I34+Lori!I34+Tavush!I34+Gexarquniq!I34+Syuniq!I34 -> 0 | J34: =Erebuni!J34+Kentron!J34+Ajapnyak!J34+Shengavit!J34+Avan!J34+Arabkir!J34+Malatia!J34+Kotayq!J34+Armavir!J34+Ararat!J34+Aragacotn!J34+Shirak!J34+Lori!J34+Tavush!J34+Gexarquniq!J34+Syuniq!J34 -> 10 | K34: =Erebuni!K34+Kentron!K34+Ajapnyak!K34+Shengavit!K34+Avan!K34+Arabkir!K34+Malatia!K34+Kotayq!K34+Armavir!K34+Ararat!K34+Aragacotn!K34+Shirak!K34+Lori!K34+Tavush!K34+Gexarquniq!K34+Syuniq!K34 -> 9 | L34: =Erebuni!L34+Kentron!L34+Ajapnyak!L34+Shengavit!L34+Avan!L34+Arabkir!L34+Malatia!L34+Kotayq!L34+Armavir!L34+Ararat!L34+Aragacotn!L34+Shirak!L34+Lori!L34+Tavush!L34+Gexarquniq!L34+Syuniq!L34 -> 1 | ... AH34: =Erebuni!AH34+Kentron!AH34+Ajapnyak!AH34+Shengavit!AH34+Avan!AH34+Arabkir!AH34+Malatia!AH34+Kotayq!AH34+Armavir!AH34+Ararat!AH34+Aragacotn!AH34+Shirak!AH34+Lori!AH34+Tavush!AH34+Gexarquniq!AH34+Syuniq!AH34 -> 0
A35: 1.8 | B35: ÀÝ¹Ñ³Ýáõñ µ³ÅÝ³ÛÇÝ ë»÷³Ï³ÝáõÃÛáõÝÇó µ³ÅÇÝÝ ³é³ÝÓÝ³óÝ»Éáõ í»ñ³µ»ñÛ³É | E35: =Erebuni!E35+Kentron!E35+Ajapnyak!E35+Shengavit!E35+Avan!E35+Arabkir!E35+Malatia!E35+Kotayq!E35+Armavir!E35+Ararat!E35+Aragacotn!E35+Shirak!E35+Lori!E35+Tavush!E35+Gexarquniq!E35+Syuniq!E35 -> 1143 | F35: =Erebuni!F35+Kentron!F35+Ajapnyak!F35+Shengavit!F35+Avan!F35+Arabkir!F35+Malatia!F35+Kotayq!F35+Armavir!F35+Ararat!F35+Aragacotn!F35+Shirak!F35+Lori!F35+Tavush!F35+Gexarquniq!F35+Syuniq!F35 -> 572 | G35: =Erebuni!G35+Kentron!G35+Ajapnyak!G35+Shengavit!G35+Avan!G35+Arabkir!G35+Malatia!G35+Kotayq!G35+Armavir!G35+Ararat!G35+Aragacotn!G35+Shirak!G35+Lori!G35+Tavush!G35+Gexarquniq!G35+Syuniq!G35 -> 571 | H35: =Erebuni!H35+Kentron!H35+Ajapnyak!H35+Shengavit!H35+Avan!H35+Arabkir!H35+Malatia!H35+Kotayq!H35+Armavir!H35+Ararat!H35+Aragacotn!H35+Shirak!H35+Lori!H35+Tavush!H35+Gexarquniq!H35+Syuniq!H35 -> 0 | I35: =Erebuni!I35+Kentron!I35+Ajapnyak!I35+Shengavit!I35+Avan!I35+Arabkir!I35+Malatia!I35+Kotayq!I35+Armavir!I35+Ararat!I35+Aragacotn!I35+Shirak!I35+Lori!I35+Tavush!I35+Gexarquniq!I35+Syuniq!I35 -> 0 | J35: =Erebuni!J35+Kentron!J35+Ajapnyak!J35+Shengavit!J35+Avan!J35+Arabkir!J35+Malatia!J35+Kotayq!J35+Armavir!J35+Ararat!J35+Aragacotn!J35+Shirak!J35+Lori!J35+Tavush!J35+Gexarquniq!J35+Syuniq!J35 -> 398 | K35: =Erebuni!K35+Kentron!K35+Ajapnyak!K35+Shengavit!K35+Avan!K35+Arabkir!K35+Malatia!K35+Kotayq!K35+Armavir!K35+Ararat!K35+Aragacotn!K35+Shirak!K35+Lori!K35+Tavush!K35+Gexarquniq!K35+Syuniq!K35 -> 353 | L35: =Erebuni!L35+Kentron!L35+Ajapnyak!L35+Shengavit!L35+Avan!L35+Arabkir!L35+Malatia!L35+Kotayq!L35+Armavir!L35+Ararat!L35+Aragacotn!L35+Shirak!L35+Lori!L35+Tavush!L35+Gexarquniq!L35+Syuniq!L35 -> 44 | ... AH35: =Erebuni!AH35+Kentron!AH35+Ajapnyak!AH35+Shengavit!AH35+Avan!AH35+Arabkir!AH35+Malatia!AH35+Kotayq!AH35+Armavir!AH35+Ararat!AH35+Aragacotn!AH35+Shirak!AH35+Lori!AH35+Tavush!AH35+Gexarquniq!AH35+Syuniq!AH35 -> 5
A36: 1.8.1 | B36: Ð³Ù³ï»Õ ë»÷³Ï³ÝáõÃÛ³Ý Ý»ñùá ·ïÝíáÕ ·áõÛùÁ µ³Å³Ý»Éáõ ¨ ¹ñ³ÝÇó µ³ÅÇÝÝ ³é³ÝÓÝ³óÝ»Éáõ í»ñ³µ»ñÛ³É | E36: =Erebuni!E36+Kentron!E36+Ajapnyak!E36+Shengavit!E36+Avan!E36+Arabkir!E36+Malatia!E36+Kotayq!E36+Armavir!E36+Ararat!E36+Aragacotn!E36+Shirak!E36+Lori!E36+Tavush!E36+Gexarquniq!E36+Syuniq!E36 -> 485 | F36: =Erebuni!F36+Kentron!F36+Ajapnyak!F36+Shengavit!F36+Avan!F36+Arabkir!F36+Malatia!F36+Kotayq!F36+Armavir!F36+Ararat!F36+Aragacotn!F36+Shirak!F36+Lori!F36+Tavush!F36+Gexarquniq!F36+Syuniq!F36 -> 198 | G36: =Erebuni!G36+Kentron!G36+Ajapnyak!G36+Shengavit!G36+Avan!G36+Arabkir!G36+Malatia!G36+Kotayq!G36+Armavir!G36+Ararat!G36+Aragacotn!G36+Shirak!G36+Lori!G36+Tavush!G36+Gexarquniq!G36+Syuniq!G36 -> 287 | H36: =Erebuni!H36+Kentron!H36+Ajapnyak!H36+Shengavit!H36+Avan!H36+Arabkir!H36+Malatia!H36+Kotayq!H36+Armavir!H36+Ararat!H36+Aragacotn!H36+Shirak!H36+Lori!H36+Tavush!H36+Gexarquniq!H36+Syuniq!H36 -> 0 | I36: =Erebuni!I36+Kentron!I36+Ajapnyak!I36+Shengavit!I36+Avan!I36+Arabkir!I36+Malatia!I36+Kotayq!I36+Armavir!I36+Ararat!I36+Aragacotn!I36+Shirak!I36+Lori!I36+Tavush!I36+Gexarquniq!I36+Syuniq!I36 -> 0 | J36: =Erebuni!J36+Kentron!J36+Ajapnyak!J36+Shengavit!J36+Avan!J36+Arabkir!J36+Malatia!J36+Kotayq!J36+Armavir!J36+Ararat!J36+Aragacotn!J36+Shirak!J36+Lori!J36+Tavush!J36+Gexarquniq!J36+Syuniq!J36 -> 174 | K36: =Erebuni!K36+Kentron!K36+Ajapnyak!K36+Shengavit!K36+Avan!K36+Arabkir!K36+Malatia!K36+Kotayq!K36+Armavir!K36+Ararat!K36+Aragacotn!K36+Shirak!K36+Lori!K36+Tavush!K36+Gexarquniq!K36+Syuniq!K36 -> 145 | L36: =Erebuni!L36+Kentron!L36+Ajapnyak!L36+Shengavit!L36+Avan!L36+Arabkir!L36+Malatia!L36+Kotayq!L36+Armavir!L36+Ararat!L36+Aragacotn!L36+Shirak!L36+Lori!L36+Tavush!L36+Gexarquniq!L36+Syuniq!L36 -> 25 | ... AH36: =Erebuni!AH36+Kentron!AH36+Ajapnyak!AH36+Shengavit!AH36+Avan!AH36+Arabkir!AH36+Malatia!AH36+Kotayq!AH36+Armavir!AH36+Ararat!AH36+Aragacotn!AH36+Shirak!AH36+Lori!AH36+Tavush!AH36+Gexarquniq!AH36+Syuniq!AH36 -> 1
... A38: 1.9 | B38: ²ÛÉ í»×»ñ | E38: =Erebuni!E38+Kentron!E38+Ajapnyak!E38+Shengavit!E38+Avan!E38+Arabkir!E38+Malatia!E38+Kotayq!E38+Armavir!E38+Ararat!E38+Aragacotn!E38+Shirak!E38+Lori!E38+Tavush!E38+Gexarquniq!E38+Syuniq!E38 -> 575 | F38: =Erebuni!F38+Kentron!F38+Ajapnyak!F38+Shengavit!F38+Avan!F38+Arabkir!F38+Malatia!F38+Kotayq!F38+Armavir!F38+Ararat!F38+Aragacotn!F38+Shirak!F38+Lori!F38+Tavush!F38+Gexarquniq!F38+Syuniq!F38 -> 192 | G38: =Erebuni!G38+Kentron!G38+Ajapnyak!G38+Shengavit!G38+Avan!G38+Arabkir!G38+Malatia!G38+Kotayq!G38+Armavir!G38+Ararat!G38+Aragacotn!G38+Shirak!G38+Lori!G38+Tavush!G38+Gexarquniq!G38+Syuniq!G38 -> 383 | H38: =Erebuni!H38+Kentron!H38+Ajapnyak!H38+Shengavit!H38+Avan!H38+Arabkir!H38+Malatia!H38+Kotayq!H38+Armavir!H38+Ararat!H38+Aragacotn!H38+Shirak!H38+Lori!H38+Tavush!H38+Gexarquniq!H38+Syuniq!H38 -> 0 | I38: =Erebuni!I38+Kentron!I38+Ajapnyak!I38+Shengavit!I38+Avan!I38+Arabkir!I38+Malatia!I38+Kotayq!I38+Armavir!I38+Ararat!I38+Aragacotn!I38+Shirak!I38+Lori!I38+Tavush!I38+Gexarquniq!I38+Syuniq!I38 -> 0 | J38: =Erebuni!J38+Kentron!J38+Ajapnyak!J38+Shengavit!J38+Avan!J38+Arabkir!J38+Malatia!J38+Kotayq!J38+Armavir!J38+Ararat!J38+Aragacotn!J38+Shirak!J38+Lori!J38+Tavush!J38+Gexarquniq!J38+Syuniq!J38 -> 359 | K38: =Erebuni!K38+Kentron!K38+Ajapnyak!K38+Shengavit!K38+Avan!K38+Arabkir!K38+Malatia!K38+Kotayq!K38+Armavir!K38+Ararat!K38+Aragacotn!K38+Shirak!K38+Lori!K38+Tavush!K38+Gexarquniq!K38+Syuniq!K38 -> 282 | L38: =Erebuni!L38+Kentron!L38+Ajapnyak!L38+Shengavit!L38+Avan!L38+Arabkir!L38+Malatia!L38+Kotayq!L38+Armavir!L38+Ararat!L38+Aragacotn!L38+Shirak!L38+Lori!L38+Tavush!L38+Gexarquniq!L38+Syuniq!L38 -> 68 | ... AH38: =Erebuni!AH38+Kentron!AH38+Ajapnyak!AH38+Shengavit!AH38+Avan!AH38+Arabkir!AH38+Malatia!AH38+Kotayq!AH38+Armavir!AH38+Ararat!AH38+Aragacotn!AH38+Shirak!AH38+Lori!AH38+Tavush!AH38+Gexarquniq!AH38+Syuniq!AH38 -> 6
A39: 2. | B39: ¶áñÍ³ñùÝ»ñÇ Ñ»ï Ï³åí³Í Çñ³í³Ñ³ñ³µ»ñáõÃÛáõÝÝ»ñÇ í»ñ³µ»ñÛ³É ¹³ï³Ï³Ý ·áñÍ»ñ | E39: =SUM(E40:E50) -> 1180 | F39: =SUM(F40:F50) -> 318 | G39: =SUM(G40:G50) -> 862 | H39: =SUM(H40:H50) -> 0 | I39: =SUM(I40:I50) -> 0 | J39: =SUM(J40:J50) -> 1055 | K39: =SUM(K40:K50) -> 948 | L39: =SUM(L40:L50) -> 98 | ... AI39: =SUM(AI40:AI50) -> 0
A40: 2.1 | B40: ·áñÍ³ñùÝ»ñÇ ³Ýí³í»ñáõÃÛ³Ý Ñ»ï Ï³åí³Í í»×»ñ | E40: =Erebuni!E40+Kentron!E40+Ajapnyak!E40+Shengavit!E40+Avan!E40+Arabkir!E40+Malatia!E40+Kotayq!E40+Armavir!E40+Ararat!E40+Aragacotn!E40+Shirak!E40+Lori!E40+Tavush!E40+Gexarquniq!E40+Syuniq!E40 -> 121 | F40: =Erebuni!F40+Kentron!F40+Ajapnyak!F40+Shengavit!F40+Avan!F40+Arabkir!F40+Malatia!F40+Kotayq!F40+Armavir!F40+Ararat!F40+Aragacotn!F40+Shirak!F40+Lori!F40+Tavush!F40+Gexarquniq!F40+Syuniq!F40 -> 24 | G40: =Erebuni!G40+Kentron!G40+Ajapnyak!G40+Shengavit!G40+Avan!G40+Arabkir!G40+Malatia!G40+Kotayq!G40+Armavir!G40+Ararat!G40+Aragacotn!G40+Shirak!G40+Lori!G40+Tavush!G40+Gexarquniq!G40+Syuniq!G40 -> 97 | H40: =Erebuni!H40+Kentron!H40+Ajapnyak!H40+Shengavit!H40+Avan!H40+Arabkir!H40+Malatia!H40+Kotayq!H40+Armavir!H40+Ararat!H40+Aragacotn!H40+Shirak!H40+Lori!H40+Tavush!H40+Gexarquniq!H40+Syuniq!H40 -> 0 | I40: =Erebuni!I40+Kentron!I40+Ajapnyak!I40+Shengavit!I40+Avan!I40+Arabkir!I40+Malatia!I40+Kotayq!I40+Armavir!I40+Ararat!I40+Aragacotn!I40+Shirak!I40+Lori!I40+Tavush!I40+Gexarquniq!I40+Syuniq!I40 -> 0 | J40: =Erebuni!J40+Kentron!J40+Ajapnyak!J40+Shengavit!J40+Avan!J40+Arabkir!J40+Malatia!J40+Kotayq!J40+Armavir!J40+Ararat!J40+Aragacotn!J40+Shirak!J40+Lori!J40+Tavush!J40+Gexarquniq!J40+Syuniq!J40 -> 64 | K40: =Erebuni!K40+Kentron!K40+Ajapnyak!K40+Shengavit!K40+Avan!K40+Arabkir!K40+Malatia!K40+Kotayq!K40+Armavir!K40+Ararat!K40+Aragacotn!K40+Shirak!K40+Lori!K40+Tavush!K40+Gexarquniq!K40+Syuniq!K40 -> 46 | L40: =Erebuni!L40+Kentron!L40+Ajapnyak!L40+Shengavit!L40+Avan!L40+Arabkir!L40+Malatia!L40+Kotayq!L40+Armavir!L40+Ararat!L40+Aragacotn!L40+Shirak!L40+Lori!L40+Tavush!L40+Gexarquniq!L40+Syuniq!L40 -> 18 | ... AH40: =Erebuni!AH40+Kentron!AH40+Ajapnyak!AH40+Shengavit!AH40+Avan!AH40+Arabkir!AH40+Malatia!AH40+Kotayq!AH40+Armavir!AH40+Ararat!AH40+Aragacotn!AH40+Shirak!AH40+Lori!AH40+Tavush!AH40+Gexarquniq!AH40+Syuniq!AH40 -> 0
A41: 2.1.1 | B41: ³Û¹ ÃíáõÙ` íÇ×³Ñ³ñáõÛó ·áñÍ³ñùÝ»ñÝ ³Ýí³í»ñ ×³Ý³ã»Éáõ í»ñ³µ»ñÛ³É | E41: =Erebuni!E41+Kentron!E41+Ajapnyak!E41+Shengavit!E41+Avan!E41+Arabkir!E41+Malatia!E41+Kotayq!E41+Armavir!E41+Ararat!E41+Aragacotn!E41+Shirak!E41+Lori!E41+Tavush!E41+Gexarquniq!E41+Syuniq!E41 -> 2 | F41: =Erebuni!F41+Kentron!F41+Ajapnyak!F41+Shengavit!F41+Avan!F41+Arabkir!F41+Malatia!F41+Kotayq!F41+Armavir!F41+Ararat!F41+Aragacotn!F41+Shirak!F41+Lori!F41+Tavush!F41+Gexarquniq!F41+Syuniq!F41 -> 0 | G41: =Erebuni!G41+Kentron!G41+Ajapnyak!G41+Shengavit!G41+Avan!G41+Arabkir!G41+Malatia!G41+Kotayq!G41+Armavir!G41+Ararat!G41+Aragacotn!G41+Shirak!G41+Lori!G41+Tavush!G41+Gexarquniq!G41+Syuniq!G41 -> 2 | H41: =Erebuni!H41+Kentron!H41+Ajapnyak!H41+Shengavit!H41+Avan!H41+Arabkir!H41+Malatia!H41+Kotayq!H41+Armavir!H41+Ararat!H41+Aragacotn!H41+Shirak!H41+Lori!H41+Tavush!H41+Gexarquniq!H41+Syuniq!H41 -> 0 | I41: =Erebuni!I41+Kentron!I41+Ajapnyak!I41+Shengavit!I41+Avan!I41+Arabkir!I41+Malatia!I41+Kotayq!I41+Armavir!I41+Ararat!I41+Aragacotn!I41+Shirak!I41+Lori!I41+Tavush!I41+Gexarquniq!I41+Syuniq!I41 -> 0 | J41: =Erebuni!J41+Kentron!J41+Ajapnyak!J41+Shengavit!J41+Avan!J41+Arabkir!J41+Malatia!J41+Kotayq!J41+Armavir!J41+Ararat!J41+Aragacotn!J41+Shirak!J41+Lori!J41+Tavush!J41+Gexarquniq!J41+Syuniq!J41 -> 2 | K41: =Erebuni!K41+Kentron!K41+Ajapnyak!K41+Shengavit!K41+Avan!K41+Arabkir!K41+Malatia!K41+Kotayq!K41+Armavir!K41+Ararat!K41+Aragacotn!K41+Shirak!K41+Lori!K41+Tavush!K41+Gexarquniq!K41+Syuniq!K41 -> 2 | L41: =Erebuni!L41+Kentron!L41+Ajapnyak!L41+Shengavit!L41+Avan!L41+Arabkir!L41+Malatia!L41+Kotayq!L41+Armavir!L41+Ararat!L41+Aragacotn!L41+Shirak!L41+Lori!L41+Tavush!L41+Gexarquniq!L41+Syuniq!L41 -> 0 | ... AH41: =Erebuni!AH41+Kentron!AH41+Ajapnyak!AH41+Shengavit!AH41+Avan!AH41+Arabkir!AH41+Malatia!AH41+Kotayq!AH41+Armavir!AH41+Ararat!AH41+Aragacotn!AH41+Shirak!AH41+Lori!AH41+Tavush!AH41+Gexarquniq!AH41+Syuniq!AH41 -> 0
A42: 2.1.2 | B42: ³Û¹ ÃíáõÙ` ·áñÍ³ñùÇ ³éáãÝãáõÃÛ³Ý Ñ»ï¨³ÝùÝ»ñ ÏÇñ³é»Éáõ í»ñ³µ»ñÛ³É | E42: =Erebuni!E42+Kentron!E42+Ajapnyak!E42+Shengavit!E42+Avan!E42+Arabkir!E42+Malatia!E42+Kotayq!E42+Armavir!E42+Ararat!E42+Aragacotn!E42+Shirak!E42+Lori!E42+Tavush!E42+Gexarquniq!E42+Syuniq!E42 -> 99 | F42: =Erebuni!F42+Kentron!F42+Ajapnyak!F42+Shengavit!F42+Avan!F42+Arabkir!F42+Malatia!F42+Kotayq!F42+Armavir!F42+Ararat!F42+Aragacotn!F42+Shirak!F42+Lori!F42+Tavush!F42+Gexarquniq!F42+Syuniq!F42 -> 22 | G42: =Erebuni!G42+Kentron!G42+Ajapnyak!G42+Shengavit!G42+Avan!G42+Arabkir!G42+Malatia!G42+Kotayq!G42+Armavir!G42+Ararat!G42+Aragacotn!G42+Shirak!G42+Lori!G42+Tavush!G42+Gexarquniq!G42+Syuniq!G42 -> 77 | H42: =Erebuni!H42+Kentron!H42+Ajapnyak!H42+Shengavit!H42+Avan!H42+Arabkir!H42+Malatia!H42+Kotayq!H42+Armavir!H42+Ararat!H42+Aragacotn!H42+Shirak!H42+Lori!H42+Tavush!H42+Gexarquniq!H42+Syuniq!H42 -> 0 | I42: =Erebuni!I42+Kentron!I42+Ajapnyak!I42+Shengavit!I42+Avan!I42+Arabkir!I42+Malatia!I42+Kotayq!I42+Armavir!I42+Ararat!I42+Aragacotn!I42+Shirak!I42+Lori!I42+Tavush!I42+Gexarquniq!I42+Syuniq!I42 -> 0 | J42: =Erebuni!J42+Kentron!J42+Ajapnyak!J42+Shengavit!J42+Avan!J42+Arabkir!J42+Malatia!J42+Kotayq!J42+Armavir!J42+Ararat!J42+Aragacotn!J42+Shirak!J42+Lori!J42+Tavush!J42+Gexarquniq!J42+Syuniq!J42 -> 49 | K42: =Erebuni!K42+Kentron!K42+Ajapnyak!K42+Shengavit!K42+Avan!K42+Arabkir!K42+Malatia!K42+Kotayq!K42+Armavir!K42+Ararat!K42+Aragacotn!K42+Shirak!K42+Lori!K42+Tavush!K42+Gexarquniq!K42+Syuniq!K42 -> 37 | L42: =Erebuni!L42+Kentron!L42+Ajapnyak!L42+Shengavit!L42+Avan!L42+Arabkir!L42+Malatia!L42+Kotayq!L42+Armavir!L42+Ararat!L42+Aragacotn!L42+Shirak!L42+Lori!L42+Tavush!L42+Gexarquniq!L42+Syuniq!L42 -> 11 | ... AH42: =Erebuni!AH42+Kentron!AH42+Ajapnyak!AH42+Shengavit!AH42+Avan!AH42+Arabkir!AH42+Malatia!AH42+Kotayq!AH42+Armavir!AH42+Ararat!AH42+Aragacotn!AH42+Shirak!AH42+Lori!AH42+Tavush!AH42+Gexarquniq!AH42+Syuniq!AH42 -> 0
A43: 2.2 | B43: ¶áñÍ³ñùÁ í³í»ñ ×³Ý³ã»Éáõ í»ñ³µ»ñÛ³É | E43: =Erebuni!E43+Kentron!E43+Ajapnyak!E43+Shengavit!E43+Avan!E43+Arabkir!E43+Malatia!E43+Kotayq!E43+Armavir!E43+Ararat!E43+Aragacotn!E43+Shirak!E43+Lori!E43+Tavush!E43+Gexarquniq!E43+Syuniq!E43 -> 37 | F43: =Erebuni!F43+Kentron!F43+Ajapnyak!F43+Shengavit!F43+Avan!F43+Arabkir!F43+Malatia!F43+Kotayq!F43+Armavir!F43+Ararat!F43+Aragacotn!F43+Shirak!F43+Lori!F43+Tavush!F43+Gexarquniq!F43+Syuniq!F43 -> 10 | G43: =Erebuni!G43+Kentron!G43+Ajapnyak!G43+Shengavit!G43+Avan!G43+Arabkir!G43+Malatia!G43+Kotayq!G43+Armavir!G43+Ararat!G43+Aragacotn!G43+Shirak!G43+Lori!G43+Tavush!G43+Gexarquniq!G43+Syuniq!G43 -> 27 | H43: =Erebuni!H43+Kentron!H43+Ajapnyak!H43+Shengavit!H43+Avan!H43+Arabkir!H43+Malatia!H43+Kotayq!H43+Armavir!H43+Ararat!H43+Aragacotn!H43+Shirak!H43+Lori!H43+Tavush!H43+Gexarquniq!H43+Syuniq!H43 -> 0 | I43: =Erebuni!I43+Kentron!I43+Ajapnyak!I43+Shengavit!I43+Avan!I43+Arabkir!I43+Malatia!I43+Kotayq!I43+Armavir!I43+Ararat!I43+Aragacotn!I43+Shirak!I43+Lori!I43+Tavush!I43+Gexarquniq!I43+Syuniq!I43 -> 0 | J43: =Erebuni!J43+Kentron!J43+Ajapnyak!J43+Shengavit!J43+Avan!J43+Arabkir!J43+Malatia!J43+Kotayq!J43+Armavir!J43+Ararat!J43+Aragacotn!J43+Shirak!J43+Lori!J43+Tavush!J43+Gexarquniq!J43+Syuniq!J43 -> 107 | K43: =Erebuni!K43+Kentron!K43+Ajapnyak!K43+Shengavit!K43+Avan!K43+Arabkir!K43+Malatia!K43+Kotayq!K43+Armavir!K43+Ararat!K43+Aragacotn!K43+Shirak!K43+Lori!K43+Tavush!K43+Gexarquniq!K43+Syuniq!K43 -> 104 | L43: =Erebuni!L43+Kentron!L43+Ajapnyak!L43+Shengavit!L43+Avan!L43+Arabkir!L43+Malatia!L43+Kotayq!L43+Armavir!L43+Ararat!L43+Aragacotn!L43+Shirak!L43+Lori!L43+Tavush!L43+Gexarquniq!L43+Syuniq!L43 -> 2 | ... AH43: =Erebuni!AH43+Kentron!AH43+Ajapnyak!AH43+Shengavit!AH43+Avan!AH43+Arabkir!AH43+Malatia!AH43+Kotayq!AH43+Armavir!AH43+Ararat!AH43+Aragacotn!AH43+Shirak!AH43+Lori!AH43+Tavush!AH43+Gexarquniq!AH43+Syuniq!AH43 -> 0
A44: 2.3 | B44: ¶áñÍ³ñùÇó Í³·áÕ Çñ³íáõÝùÝ»ñÁ ·ñ³Ýó»Éáõ í»ñ³µ»ñÛ³É | E44: =Erebuni!E44+Kentron!E44+Ajapnyak!E44+Shengavit!E44+Avan!E44+Arabkir!E44+Malatia!E44+Kotayq!E44+Armavir!E44+Ararat!E44+Aragacotn!E44+Shirak!E44+Lori!E44+Tavush!E44+Gexarquniq!E44+Syuniq!E44 -> 2 | F44: =Erebuni!F44+Kentron!F44+Ajapnyak!F44+Shengavit!F44+Avan!F44+Arabkir!F44+Malatia!F44+Kotayq!F44+Armavir!F44+Ararat!F44+Aragacotn!F44+Shirak!F44+Lori!F44+Tavush!F44+Gexarquniq!F44+Syuniq!F44 -> 0 | G44: =Erebuni!G44+Kentron!G44+Ajapnyak!G44+Shengavit!G44+Avan!G44+Arabkir!G44+Malatia!G44+Kotayq!G44+Armavir!G44+Ararat!G44+Aragacotn!G44+Shirak!G44+Lori!G44+Tavush!G44+Gexarquniq!G44+Syuniq!G44 -> 2 | H44: =Erebuni!H44+Kentron!H44+Ajapnyak!H44+Shengavit!H44+Avan!H44+Arabkir!H44+Malatia!H44+Kotayq!H44+Armavir!H44+Ararat!H44+Aragacotn!H44+Shirak!H44+Lori!H44+Tavush!H44+Gexarquniq!H44+Syuniq!H44 -> 0 | I44: =Erebuni!I44+Kentron!I44+Ajapnyak!I44+Shengavit!I44+Avan!I44+Arabkir!I44+Malatia!I44+Kotayq!I44+Armavir!I44+Ararat!I44+Aragacotn!I44+Shirak!I44+Lori!I44+Tavush!I44+Gexarquniq!I44+Syuniq!I44 -> 0 | J44: =Erebuni!J44+Kentron!J44+Ajapnyak!J44+Shengavit!J44+Avan!J44+Arabkir!J44+Malatia!J44+Kotayq!J44+Armavir!J44+Ararat!J44+Aragacotn!J44+Shirak!J44+Lori!J44+Tavush!J44+Gexarquniq!J44+Syuniq!J44 -> 1 | K44: =Erebuni!K44+Kentron!K44+Ajapnyak!K44+Shengavit!K44+Avan!K44+Arabkir!K44+Malatia!K44+Kotayq!K44+Armavir!K44+Ararat!K44+Aragacotn!K44+Shirak!K44+Lori!K44+Tavush!K44+Gexarquniq!K44+Syuniq!K44 -> 0 | L44: =Erebuni!L44+Kentron!L44+Ajapnyak!L44+Shengavit!L44+Avan!L44+Arabkir!L44+Malatia!L44+Kotayq!L44+Armavir!L44+Ararat!L44+Aragacotn!L44+Shirak!L44+Lori!L44+Tavush!L44+Gexarquniq!L44+Syuniq!L44 -> 1 | ... AH44: =Erebuni!AH44+Kentron!AH44+Ajapnyak!AH44+Shengavit!AH44+Avan!AH44+Arabkir!AH44+Malatia!AH44+Kotayq!AH44+Armavir!AH44+Ararat!AH44+Aragacotn!AH44+Shirak!AH44+Lori!AH44+Tavush!AH44+Gexarquniq!AH44+Syuniq!AH44 -> 0
A45: 2.4 | B45: ä³ÛÙ³Ý³·ÇñÝ ³Ýí³í»ñ ×³Ý³ã»Éáõ í»ñ³µ»ñÛ³É | E45: =Erebuni!E45+Kentron!E45+Ajapnyak!E45+Shengavit!E45+Avan!E45+Arabkir!E45+Malatia!E45+Kotayq!E45+Armavir!E45+Ararat!E45+Aragacotn!E45+Shirak!E45+Lori!E45+Tavush!E45+Gexarquniq!E45+Syuniq!E45 -> 274 | F45: =Erebuni!F45+Kentron!F45+Ajapnyak!F45+Shengavit!F45+Avan!F45+Arabkir!F45+Malatia!F45+Kotayq!F45+Armavir!F45+Ararat!F45+Aragacotn!F45+Shirak!F45+Lori!F45+Tavush!F45+Gexarquniq!F45+Syuniq!F45 -> 88 | G45: =Erebuni!G45+Kentron!G45+Ajapnyak!G45+Shengavit!G45+Avan!G45+Arabkir!G45+Malatia!G45+Kotayq!G45+Armavir!G45+Ararat!G45+Aragacotn!G45+Shirak!G45+Lori!G45+Tavush!G45+Gexarquniq!G45+Syuniq!G45 -> 186 | H45: =Erebuni!H45+Kentron!H45+Ajapnyak!H45+Shengavit!H45+Avan!H45+Arabkir!H45+Malatia!H45+Kotayq!H45+Armavir!H45+Ararat!H45+Aragacotn!H45+Shirak!H45+Lori!H45+Tavush!H45+Gexarquniq!H45+Syuniq!H45 -> 0 | I45: =Erebuni!I45+Kentron!I45+Ajapnyak!I45+Shengavit!I45+Avan!I45+Arabkir!I45+Malatia!I45+Kotayq!I45+Armavir!I45+Ararat!I45+Aragacotn!I45+Shirak!I45+Lori!I45+Tavush!I45+Gexarquniq!I45+Syuniq!I45 -> 0 | J45: =Erebuni!J45+Kentron!J45+Ajapnyak!J45+Shengavit!J45+Avan!J45+Arabkir!J45+Malatia!J45+Kotayq!J45+Armavir!J45+Ararat!J45+Aragacotn!J45+Shirak!J45+Lori!J45+Tavush!J45+Gexarquniq!J45+Syuniq!J45 -> 150 | K45: =Erebuni!K45+Kentron!K45+Ajapnyak!K45+Shengavit!K45+Avan!K45+Arabkir!K45+Malatia!K45+Kotayq!K45+Armavir!K45+Ararat!K45+Aragacotn!K45+Shirak!K45+Lori!K45+Tavush!K45+Gexarquniq!K45+Syuniq!K45 -> 122 | L45: =Erebuni!L45+Kentron!L45+Ajapnyak!L45+Shengavit!L45+Avan!L45+Arabkir!L45+Malatia!L45+Kotayq!L45+Armavir!L45+Ararat!L45+Aragacotn!L45+Shirak!L45+Lori!L45+Tavush!L45+Gexarquniq!L45+Syuniq!L45 -> 27 | ... AH45: =Erebuni!AH45+Kentron!AH45+Ajapnyak!AH45+Shengavit!AH45+Avan!AH45+Arabkir!AH45+Malatia!AH45+Kotayq!AH45+Armavir!AH45+Ararat!AH45+Aragacotn!AH45+Shirak!AH45+Lori!AH45+Tavush!AH45+Gexarquniq!AH45+Syuniq!AH45 -> 3
A46: 2.5 | B46: ä³ÛÙ³Ý³·ñÇÁ í³í»ñ ×³Ý³ã»Éáõ í»ñ³µ»ñÛ³É | E46: =Erebuni!E46+Kentron!E46+Ajapnyak!E46+Shengavit!E46+Avan!E46+Arabkir!E46+Malatia!E46+Kotayq!E46+Armavir!E46+Ararat!E46+Aragacotn!E46+Shirak!E46+Lori!E46+Tavush!E46+Gexarquniq!E46+Syuniq!E46 -> 38 | F46: =Erebuni!F46+Kentron!F46+Ajapnyak!F46+Shengavit!F46+Avan!F46+Arabkir!F46+Malatia!F46+Kotayq!F46+Armavir!F46+Ararat!F46+Aragacotn!F46+Shirak!F46+Lori!F46+Tavush!F46+Gexarquniq!F46+Syuniq!F46 -> 11 | G46: =Erebuni!G46+Kentron!G46+Ajapnyak!G46+Shengavit!G46+Avan!G46+Arabkir!G46+Malatia!G46+Kotayq!G46+Armavir!G46+Ararat!G46+Aragacotn!G46+Shirak!G46+Lori!G46+Tavush!G46+Gexarquniq!G46+Syuniq!G46 -> 27 | H46: =Erebuni!H46+Kentron!H46+Ajapnyak!H46+Shengavit!H46+Avan!H46+Arabkir!H46+Malatia!H46+Kotayq!H46+Armavir!H46+Ararat!H46+Aragacotn!H46+Shirak!H46+Lori!H46+Tavush!H46+Gexarquniq!H46+Syuniq!H46 -> 0 | I46: =Erebuni!I46+Kentron!I46+Ajapnyak!I46+Shengavit!I46+Avan!I46+Arabkir!I46+Malatia!I46+Kotayq!I46+Armavir!I46+Ararat!I46+Aragacotn!I46+Shirak!I46+Lori!I46+Tavush!I46+Gexarquniq!I46+Syuniq!I46 -> 0 | J46: =Erebuni!J46+Kentron!J46+Ajapnyak!J46+Shengavit!J46+Avan!J46+Arabkir!J46+Malatia!J46+Kotayq!J46+Armavir!J46+Ararat!J46+Aragacotn!J46+Shirak!J46+Lori!J46+Tavush!J46+Gexarquniq!J46+Syuniq!J46 -> 23 | K46: =Erebuni!K46+Kentron!K46+Ajapnyak!K46+Shengavit!K46+Avan!K46+Arabkir!K46+Malatia!K46+Kotayq!K46+Armavir!K46+Ararat!K46+Aragacotn!K46+Shirak!K46+Lori!K46+Tavush!K46+Gexarquniq!K46+Syuniq!K46 -> 20 | L46: =Erebuni!L46+Kentron!L46+Ajapnyak!L46+Shengavit!L46+Avan!L46+Arabkir!L46+Malatia!L46+Kotayq!L46+Armavir!L46+Ararat!L46+Aragacotn!L46+Shirak!L46+Lori!L46+Tavush!L46+Gexarquniq!L46+Syuniq!L46 -> 3 | ... AH46: =Erebuni!AH46+Kentron!AH46+Ajapnyak!AH46+Shengavit!AH46+Avan!AH46+Arabkir!AH46+Malatia!AH46+Kotayq!AH46+Armavir!AH46+Ararat!AH46+Aragacotn!AH46+Shirak!AH46+Lori!AH46+Tavush!AH46+Gexarquniq!AH46+Syuniq!AH46 -> 0
A47: 2.6 | B47: ä³ÛÙ³Ý³·ñÇó Í³·áÕ Çñ³íáõÝùÝ»ñÁ ·ñ³Ýó»Éáõ í»ñ³µ»ñÛ³É | E47: =Erebuni!E47+Kentron!E47+Ajapnyak!E47+Shengavit!E47+Avan!E47+Arabkir!E47+Malatia!E47+Kotayq!E47+Armavir!E47+Ararat!E47+Aragacotn!E47+Shirak!E47+Lori!E47+Tavush!E47+Gexarquniq!E47+Syuniq!E47 -> 0 | F47: =Erebuni!F47+Kentron!F47+Ajapnyak!F47+Shengavit!F47+Avan!F47+Arabkir!F47+Malatia!F47+Kotayq!F47+Armavir!F47+Ararat!F47+Aragacotn!F47+Shirak!F47+Lori!F47+Tavush!F47+Gexarquniq!F47+Syuniq!F47 -> 0 | G47: =Erebuni!G47+Kentron!G47+Ajapnyak!G47+Shengavit!G47+Avan!G47+Arabkir!G47+Malatia!G47+Kotayq!G47+Armavir!G47+Ararat!G47+Aragacotn!G47+Shirak!G47+Lori!G47+Tavush!G47+Gexarquniq!G47+Syuniq!G47 -> 0 | H47: =Erebuni!H47+Kentron!H47+Ajapnyak!H47+Shengavit!H47+Avan!H47+Arabkir!H47+Malatia!H47+Kotayq!H47+Armavir!H47+Ararat!H47+Aragacotn!H47+Shirak!H47+Lori!H47+Tavush!H47+Gexarquniq!H47+Syuniq!H47 -> 0 | I47: =Erebuni!I47+Kentron!I47+Ajapnyak!I47+Shengavit!I47+Avan!I47+Arabkir!I47+Malatia!I47+Kotayq!I47+Armavir!I47+Ararat!I47+Aragacotn!I47+Shirak!I47+Lori!I47+Tavush!I47+Gexarquniq!I47+Syuniq!I47 -> 0 | J47: =Erebuni!J47+Kentron!J47+Ajapnyak!J47+Shengavit!J47+Avan!J47+Arabkir!J47+Malatia!J47+Kotayq!J47+Armavir!J47+Ararat!J47+Aragacotn!J47+Shirak!J47+Lori!J47+Tavush!J47+Gexarquniq!J47+Syuniq!J47 -> 1 | K47: =Erebuni!K47+Kentron!K47+Ajapnyak!K47+Shengavit!K47+Avan!K47+Arabkir!K47+Malatia!K47+Kotayq!K47+Armavir!K47+Ararat!K47+Aragacotn!K47+Shirak!K47+Lori!K47+Tavush!K47+Gexarquniq!K47+Syuniq!K47 -> 1 | L47: =Erebuni!L47+Kentron!L47+Ajapnyak!L47+Shengavit!L47+Avan!L47+Arabkir!L47+Malatia!L47+Kotayq!L47+Armavir!L47+Ararat!L47+Aragacotn!L47+Shirak!L47+Lori!L47+Tavush!L47+Gexarquniq!L47+Syuniq!L47 -> 0 | ... AH47: =Erebuni!AH47+Kentron!AH47+Ajapnyak!AH47+Shengavit!AH47+Avan!AH47+Arabkir!AH47+Malatia!AH47+Kotayq!AH47+Armavir!AH47+Ararat!AH47+Aragacotn!AH47+Shirak!AH47+Lori!AH47+Tavush!AH47+Gexarquniq!AH47+Syuniq!AH47 -> 0
A48: 2.7 | B48: ä³ÛÙ³Ý³·ÇñÁ ÷á÷áË»Éáõ ¨ ÉáõÍ»Éáõ í»ñ³µ»ñÛ³É | E48: =Erebuni!E48+Kentron!E48+Ajapnyak!E48+Shengavit!E48+Avan!E48+Arabkir!E48+Malatia!E48+Kotayq!E48+Armavir!E48+Ararat!E48+Aragacotn!E48+Shirak!E48+Lori!E48+Tavush!E48+Gexarquniq!E48+Syuniq!E48 -> 121 | F48: =Erebuni!F48+Kentron!F48+Ajapnyak!F48+Shengavit!F48+Avan!F48+Arabkir!F48+Malatia!F48+Kotayq!F48+Armavir!F48+Ararat!F48+Aragacotn!F48+Shirak!F48+Lori!F48+Tavush!F48+Gexarquniq!F48+Syuniq!F48 -> 26 | G48: =Erebuni!G48+Kentron!G48+Ajapnyak!G48+Shengavit!G48+Avan!G48+Arabkir!G48+Malatia!G48+Kotayq!G48+Armavir!G48+Ararat!G48+Aragacotn!G48+Shirak!G48+Lori!G48+Tavush!G48+Gexarquniq!G48+Syuniq!G48 -> 95 | H48: =Erebuni!H48+Kentron!H48+Ajapnyak!H48+Shengavit!H48+Avan!H48+Arabkir!H48+Malatia!H48+Kotayq!H48+Armavir!H48+Ararat!H48+Aragacotn!H48+Shirak!H48+Lori!H48+Tavush!H48+Gexarquniq!H48+Syuniq!H48 -> 0 | I48: =Erebuni!I48+Kentron!I48+Ajapnyak!I48+Shengavit!I48+Avan!I48+Arabkir!I48+Malatia!I48+Kotayq!I48+Armavir!I48+Ararat!I48+Aragacotn!I48+Shirak!I48+Lori!I48+Tavush!I48+Gexarquniq!I48+Syuniq!I48 -> 0 | J48: =Erebuni!J48+Kentron!J48+Ajapnyak!J48+Shengavit!J48+Avan!J48+Arabkir!J48+Malatia!J48+Kotayq!J48+Armavir!J48+Ararat!J48+Aragacotn!J48+Shirak!J48+Lori!J48+Tavush!J48+Gexarquniq!J48+Syuniq!J48 -> 49 | K48: =Erebuni!K48+Kentron!K48+Ajapnyak!K48+Shengavit!K48+Avan!K48+Arabkir!K48+Malatia!K48+Kotayq!K48+Armavir!K48+Ararat!K48+Aragacotn!K48+Shirak!K48+Lori!K48+Tavush!K48+Gexarquniq!K48+Syuniq!K48 -> 39 | L48: =Erebuni!L48+Kentron!L48+Ajapnyak!L48+Shengavit!L48+Avan!L48+Arabkir!L48+Malatia!L48+Kotayq!L48+Armavir!L48+Ararat!L48+Aragacotn!L48+Shirak!L48+Lori!L48+Tavush!L48+Gexarquniq!L48+Syuniq!L48 -> 9 | ... AH48: =Erebuni!AH48+Kentron!AH48+Ajapnyak!AH48+Shengavit!AH48+Avan!AH48+Arabkir!AH48+Malatia!AH48+Kotayq!AH48+Armavir!AH48+Ararat!AH48+Aragacotn!AH48+Shirak!AH48+Lori!AH48+Tavush!AH48+Gexarquniq!AH48+Syuniq!AH48 -> 0
A49: 2.8 | B49: ä³ÛÙ³Ý³·Çñ ÏÝù»ÉáõÝ å³ñï³íáñ»óÝ»Éáõ í»ñ³µ»ñÛ³É | E49: =Erebuni!E49+Kentron!E49+Ajapnyak!E49+Shengavit!E49+Avan!E49+Arabkir!E49+Malatia!E49+Kotayq!E49+Armavir!E49+Ararat!E49+Aragacotn!E49+Shirak!E49+Lori!E49+Tavush!E49+Gexarquniq!E49+Syuniq!E49 -> 93 | F49: =Erebuni!F49+Kentron!F49+Ajapnyak!F49+Shengavit!F49+Avan!F49+Arabkir!F49+Malatia!F49+Kotayq!F49+Armavir!F49+Ararat!F49+Aragacotn!F49+Shirak!F49+Lori!F49+Tavush!F49+Gexarquniq!F49+Syuniq!F49 -> 69 | G49: =Erebuni!G49+Kentron!G49+Ajapnyak!G49+Shengavit!G49+Avan!G49+Arabkir!G49+Malatia!G49+Kotayq!G49+Armavir!G49+Ararat!G49+Aragacotn!G49+Shirak!G49+Lori!G49+Tavush!G49+Gexarquniq!G49+Syuniq!G49 -> 24 | H49: =Erebuni!H49+Kentron!H49+Ajapnyak!H49+Shengavit!H49+Avan!H49+Arabkir!H49+Malatia!H49+Kotayq!H49+Armavir!H49+Ararat!H49+Aragacotn!H49+Shirak!H49+Lori!H49+Tavush!H49+Gexarquniq!H49+Syuniq!H49 -> 0 | I49: =Erebuni!I49+Kentron!I49+Ajapnyak!I49+Shengavit!I49+Avan!I49+Arabkir!I49+Malatia!I49+Kotayq!I49+Armavir!I49+Ararat!I49+Aragacotn!I49+Shirak!I49+Lori!I49+Tavush!I49+Gexarquniq!I49+Syuniq!I49 -> 0 | J49: =Erebuni!J49+Kentron!J49+Ajapnyak!J49+Shengavit!J49+Avan!J49+Arabkir!J49+Malatia!J49+Kotayq!J49+Armavir!J49+Ararat!J49+Aragacotn!J49+Shirak!J49+Lori!J49+Tavush!J49+Gexarquniq!J49+Syuniq!J49 -> 27 | K49: =Erebuni!K49+Kentron!K49+Ajapnyak!K49+Shengavit!K49+Avan!K49+Arabkir!K49+Malatia!K49+Kotayq!K49+Armavir!K49+Ararat!K49+Aragacotn!K49+Shirak!K49+Lori!K49+Tavush!K49+Gexarquniq!K49+Syuniq!K49 -> 25 | L49: =Erebuni!L49+Kentron!L49+Ajapnyak!L49+Shengavit!L49+Avan!L49+Arabkir!L49+Malatia!L49+Kotayq!L49+Armavir!L49+Ararat!L49+Aragacotn!L49+Shirak!L49+Lori!L49+Tavush!L49+Gexarquniq!L49+Syuniq!L49 -> 2 | ... AH49: =Erebuni!AH49+Kentron!AH49+Ajapnyak!AH49+Shengavit!AH49+Avan!AH49+Arabkir!AH49+Malatia!AH49+Kotayq!AH49+Armavir!AH49+Ararat!AH49+Aragacotn!AH49+Shirak!AH49+Lori!AH49+Tavush!AH49+Gexarquniq!AH49+Syuniq!AH49 -> 0
A50: 2.9 | B50: ²ÛÉ í»×»ñ | E50: =Erebuni!E50+Kentron!E50+Ajapnyak!E50+Shengavit!E50+Avan!E50+Arabkir!E50+Malatia!E50+Kotayq!E50+Armavir!E50+Ararat!E50+Aragacotn!E50+Shirak!E50+Lori!E50+Tavush!E50+Gexarquniq!E50+Syuniq!E50 -> 393 | F50: =Erebuni!F50+Kentron!F50+Ajapnyak!F50+Shengavit!F50+Avan!F50+Arabkir!F50+Malatia!F50+Kotayq!F50+Armavir!F50+Ararat!F50+Aragacotn!F50+Shirak!F50+Lori!F50+Tavush!F50+Gexarquniq!F50+Syuniq!F50 -> 68 | G50: =Erebuni!G50+Kentron!G50+Ajapnyak!G50+Shengavit!G50+Avan!G50+Arabkir!G50+Malatia!G50+Kotayq!G50+Armavir!G50+Ararat!G50+Aragacotn!G50+Shirak!G50+Lori!G50+Tavush!G50+Gexarquniq!G50+Syuniq!G50 -> 325 | H50: =Erebuni!H50+Kentron!H50+Ajapnyak!H50+Shengavit!H50+Avan!H50+Arabkir!H50+Malatia!H50+Kotayq!H50+Armavir!H50+Ararat!H50+Aragacotn!H50+Shirak!H50+Lori!H50+Tavush!H50+Gexarquniq!H50+Syuniq!H50 -> 0 | I50: =Erebuni!I50+Kentron!I50+Ajapnyak!I50+Shengavit!I50+Avan!I50+Arabkir!I50+Malatia!I50+Kotayq!I50+Armavir!I50+Ararat!I50+Aragacotn!I50+Shirak!I50+Lori!I50+Tavush!I50+Gexarquniq!I50+Syuniq!I50 -> 0 | J50: =Erebuni!J50+Kentron!J50+Ajapnyak!J50+Shengavit!J50+Avan!J50+Arabkir!J50+Malatia!J50+Kotayq!J50+Armavir!J50+Ararat!J50+Aragacotn!J50+Shirak!J50+Lori!J50+Tavush!J50+Gexarquniq!J50+Syuniq!J50 -> 582 | K50: =Erebuni!K50+Kentron!K50+Ajapnyak!K50+Shengavit!K50+Avan!K50+Arabkir!K50+Malatia!K50+Kotayq!K50+Armavir!K50+Ararat!K50+Aragacotn!K50+Shirak!K50+Lori!K50+Tavush!K50+Gexarquniq!K50+Syuniq!K50 -> 552 | L50: =Erebuni!L50+Kentron!L50+Ajapnyak!L50+Shengavit!L50+Avan!L50+Arabkir!L50+Malatia!L50+Kotayq!L50+Armavir!L50+Ararat!L50+Aragacotn!L50+Shirak!L50+Lori!L50+Tavush!L50+Gexarquniq!L50+Syuniq!L50 -> 25 | ... AH50: =Erebuni!AH50+Kentron!AH50+Ajapnyak!AH50+Shengavit!AH50+Avan!AH50+Arabkir!AH50+Malatia!AH50+Kotayq!AH50+Armavir!AH50+Ararat!AH50+Aragacotn!AH50+Shirak!AH50+Lori!AH50+Tavush!AH50+Gexarquniq!AH50+Syuniq!AH50 -> 4
A51: 3. | B51: Ä³é³Ý·áõÃÛ³Ý Ñ»ï Ï³åí³Í Çñ³í³Ñ³ñ³µ»ñáõÃÛáõÝÝ»ñÇ í»ñ³µ»ñÛ³É ¹³ï³Ï³Ý ·áñÍ»ñ | E51: =SUM(E52:E58) -> 260 | F51: =SUM(F52:F58) -> 45 | G51: =SUM(G52:G58) -> 215 | H51: =SUM(H52:H58) -> 0 | I51: =SUM(I52:I58) -> 0 | J51: =SUM(J52:J58) -> 191 | K51: =SUM(K52:K58) -> 147 | L51: =SUM(L52:L58) -> 43 | ... AI51: =SUM(AI52:AI58) -> 0
A52: 3.1 | B52: Îï³ÏÝ ³Ýí³í»ñ ×³Ý³ã»Éáõ í»ñ³µ»ñÛ³É | E52: =Erebuni!E52+Kentron!E52+Ajapnyak!E52+Shengavit!E52+Avan!E52+Arabkir!E52+Malatia!E52+Kotayq!E52+Armavir!E52+Ararat!E52+Aragacotn!E52+Shirak!E52+Lori!E52+Tavush!E52+Gexarquniq!E52+Syuniq!E52 -> 15 | F52: =Erebuni!F52+Kentron!F52+Ajapnyak!F52+Shengavit!F52+Avan!F52+Arabkir!F52+Malatia!F52+Kotayq!F52+Armavir!F52+Ararat!F52+Aragacotn!F52+Shirak!F52+Lori!F52+Tavush!F52+Gexarquniq!F52+Syuniq!F52 -> 7 | G52: =Erebuni!G52+Kentron!G52+Ajapnyak!G52+Shengavit!G52+Avan!G52+Arabkir!G52+Malatia!G52+Kotayq!G52+Armavir!G52+Ararat!G52+Aragacotn!G52+Shirak!G52+Lori!G52+Tavush!G52+Gexarquniq!G52+Syuniq!G52 -> 8 | H52: =Erebuni!H52+Kentron!H52+Ajapnyak!H52+Shengavit!H52+Avan!H52+Arabkir!H52+Malatia!H52+Kotayq!H52+Armavir!H52+Ararat!H52+Aragacotn!H52+Shirak!H52+Lori!H52+Tavush!H52+Gexarquniq!H52+Syuniq!H52 -> 0 | I52: =Erebuni!I52+Kentron!I52+Ajapnyak!I52+Shengavit!I52+Avan!I52+Arabkir!I52+Malatia!I52+Kotayq!I52+Armavir!I52+Ararat!I52+Aragacotn!I52+Shirak!I52+Lori!I52+Tavush!I52+Gexarquniq!I52+Syuniq!I52 -> 0 | J52: =Erebuni!J52+Kentron!J52+Ajapnyak!J52+Shengavit!J52+Avan!J52+Arabkir!J52+Malatia!J52+Kotayq!J52+Armavir!J52+Ararat!J52+Aragacotn!J52+Shirak!J52+Lori!J52+Tavush!J52+Gexarquniq!J52+Syuniq!J52 -> 8 | K52: =Erebuni!K52+Kentron!K52+Ajapnyak!K52+Shengavit!K52+Avan!K52+Arabkir!K52+Malatia!K52+Kotayq!K52+Armavir!K52+Ararat!K52+Aragacotn!K52+Shirak!K52+Lori!K52+Tavush!K52+Gexarquniq!K52+Syuniq!K52 -> 6 | L52: =Erebuni!L52+Kentron!L52+Ajapnyak!L52+Shengavit!L52+Avan!L52+Arabkir!L52+Malatia!L52+Kotayq!L52+Armavir!L52+Ararat!L52+Aragacotn!L52+Shirak!L52+Lori!L52+Tavush!L52+Gexarquniq!L52+Syuniq!L52 -> 2 | ... AH52: =Erebuni!AH52+Kentron!AH52+Ajapnyak!AH52+Shengavit!AH52+Avan!AH52+Arabkir!AH52+Malatia!AH52+Kotayq!AH52+Armavir!AH52+Ararat!AH52+Aragacotn!AH52+Shirak!AH52+Lori!AH52+Tavush!AH52+Gexarquniq!AH52+Syuniq!AH52 -> 0
A53: 3.2 | B53: ²Ý³ñÅ³Ý Å³é³Ý· ×³Ý³ã»Éáõ í»ñ³µ»ñÛ³É | E53: =Erebuni!E53+Kentron!E53+Ajapnyak!E53+Shengavit!E53+Avan!E53+Arabkir!E53+Malatia!E53+Kotayq!E53+Armavir!E53+Ararat!E53+Aragacotn!E53+Shirak!E53+Lori!E53+Tavush!E53+Gexarquniq!E53+Syuniq!E53 -> 0 | F53: =Erebuni!F53+Kentron!F53+Ajapnyak!F53+Shengavit!F53+Avan!F53+Arabkir!F53+Malatia!F53+Kotayq!F53+Armavir!F53+Ararat!F53+Aragacotn!F53+Shirak!F53+Lori!F53+Tavush!F53+Gexarquniq!F53+Syuniq!F53 -> 0 | G53: =Erebuni!G53+Kentron!G53+Ajapnyak!G53+Shengavit!G53+Avan!G53+Arabkir!G53+Malatia!G53+Kotayq!G53+Armavir!G53+Ararat!G53+Aragacotn!G53+Shirak!G53+Lori!G53+Tavush!G53+Gexarquniq!G53+Syuniq!G53 -> 0 | H53: =Erebuni!H53+Kentron!H53+Ajapnyak!H53+Shengavit!H53+Avan!H53+Arabkir!H53+Malatia!H53+Kotayq!H53+Armavir!H53+Ararat!H53+Aragacotn!H53+Shirak!H53+Lori!H53+Tavush!H53+Gexarquniq!H53+Syuniq!H53 -> 0 | I53: =Erebuni!I53+Kentron!I53+Ajapnyak!I53+Shengavit!I53+Avan!I53+Arabkir!I53+Malatia!I53+Kotayq!I53+Armavir!I53+Ararat!I53+Aragacotn!I53+Shirak!I53+Lori!I53+Tavush!I53+Gexarquniq!I53+Syuniq!I53 -> 0 | J53: =Erebuni!J53+Kentron!J53+Ajapnyak!J53+Shengavit!J53+Avan!J53+Arabkir!J53+Malatia!J53+Kotayq!J53+Armavir!J53+Ararat!J53+Aragacotn!J53+Shirak!J53+Lori!J53+Tavush!J53+Gexarquniq!J53+Syuniq!J53 -> 0 | K53: =Erebuni!K53+Kentron!K53+Ajapnyak!K53+Shengavit!K53+Avan!K53+Arabkir!K53+Malatia!K53+Kotayq!K53+Armavir!K53+Ararat!K53+Aragacotn!K53+Shirak!K53+Lori!K53+Tavush!K53+Gexarquniq!K53+Syuniq!K53 -> 0 | L53: =Erebuni!L53+Kentron!L53+Ajapnyak!L53+Shengavit!L53+Avan!L53+Arabkir!L53+Malatia!L53+Kotayq!L53+Armavir!L53+Ararat!L53+Aragacotn!L53+Shirak!L53+Lori!L53+Tavush!L53+Gexarquniq!L53+Syuniq!L53 -> 0 | ... AH53: =Erebuni!AH53+Kentron!AH53+Ajapnyak!AH53+Shengavit!AH53+Avan!AH53+Arabkir!AH53+Malatia!AH53+Kotayq!AH53+Armavir!AH53+Ararat!AH53+Aragacotn!AH53+Shirak!AH53+Lori!AH53+Tavush!AH53+Gexarquniq!AH53+Syuniq!AH53 -> 0
A54: 3.3 | B54: Ä³é³Ý·áõÃÛáõÝÁ µ³Å³Ý»Éáõ í»ñ³µ»ñÛ³É | E54: =Erebuni!E54+Kentron!E54+Ajapnyak!E54+Shengavit!E54+Avan!E54+Arabkir!E54+Malatia!E54+Kotayq!E54+Armavir!E54+Ararat!E54+Aragacotn!E54+Shirak!E54+Lori!E54+Tavush!E54+Gexarquniq!E54+Syuniq!E54 -> 9 | F54: =Erebuni!F54+Kentron!F54+Ajapnyak!F54+Shengavit!F54+Avan!F54+Arabkir!F54+Malatia!F54+Kotayq!F54+Armavir!F54+Ararat!F54+Aragacotn!F54+Shirak!F54+Lori!F54+Tavush!F54+Gexarquniq!F54+Syuniq!F54 -> 4 | G54: =Erebuni!G54+Kentron!G54+Ajapnyak!G54+Shengavit!G54+Avan!G54+Arabkir!G54+Malatia!G54+Kotayq!G54+Armavir!G54+Ararat!G54+Aragacotn!G54+Shirak!G54+Lori!G54+Tavush!G54+Gexarquniq!G54+Syuniq!G54 -> 5 | H54: =Erebuni!H54+Kentron!H54+Ajapnyak!H54+Shengavit!H54+Avan!H54+Arabkir!H54+Malatia!H54+Kotayq!H54+Armavir!H54+Ararat!H54+Aragacotn!H54+Shirak!H54+Lori!H54+Tavush!H54+Gexarquniq!H54+Syuniq!H54 -> 0 | I54: =Erebuni!I54+Kentron!I54+Ajapnyak!I54+Shengavit!I54+Avan!I54+Arabkir!I54+Malatia!I54+Kotayq!I54+Armavir!I54+Ararat!I54+Aragacotn!I54+Shirak!I54+Lori!I54+Tavush!I54+Gexarquniq!I54+Syuniq!I54 -> 0 | J54: =Erebuni!J54+Kentron!J54+Ajapnyak!J54+Shengavit!J54+Avan!J54+Arabkir!J54+Malatia!J54+Kotayq!J54+Armavir!J54+Ararat!J54+Aragacotn!J54+Shirak!J54+Lori!J54+Tavush!J54+Gexarquniq!J54+Syuniq!J54 -> 5 | K54: =Erebuni!K54+Kentron!K54+Ajapnyak!K54+Shengavit!K54+Avan!K54+Arabkir!K54+Malatia!K54+Kotayq!K54+Armavir!K54+Ararat!K54+Aragacotn!K54+Shirak!K54+Lori!K54+Tavush!K54+Gexarquniq!K54+Syuniq!K54 -> 4 | L54: =Erebuni!L54+Kentron!L54+Ajapnyak!L54+Shengavit!L54+Avan!L54+Arabkir!L54+Malatia!L54+Kotayq!L54+Armavir!L54+Ararat!L54+Aragacotn!L54+Shirak!L54+Lori!L54+Tavush!L54+Gexarquniq!L54+Syuniq!L54 -> 1 | ... AH54: =Erebuni!AH54+Kentron!AH54+Ajapnyak!AH54+Shengavit!AH54+Avan!AH54+Arabkir!AH54+Malatia!AH54+Kotayq!AH54+Armavir!AH54+Ararat!AH54+Aragacotn!AH54+Shirak!AH54+Lori!AH54+Tavush!AH54+Gexarquniq!AH54+Syuniq!AH54 -> 0
A55: 3.4 | B55: ¶áõÛùÝ ³ÝÅ³é³Ý· ×³Ý³ã»Éáõ í»ñ³µ»ñÛ³É | E55: =Erebuni!E55+Kentron!E55+Ajapnyak!E55+Shengavit!E55+Avan!E55+Arabkir!E55+Malatia!E55+Kotayq!E55+Armavir!E55+Ararat!E55+Aragacotn!E55+Shirak!E55+Lori!E55+Tavush!E55+Gexarquniq!E55+Syuniq!E55 -> 3 | F55: =Erebuni!F55+Kentron!F55+Ajapnyak!F55+Shengavit!F55+Avan!F55+Arabkir!F55+Malatia!F55+Kotayq!F55+Armavir!F55+Ararat!F55+Aragacotn!F55+Shirak!F55+Lori!F55+Tavush!F55+Gexarquniq!F55+Syuniq!F55 -> 0 | G55: =Erebuni!G55+Kentron!G55+Ajapnyak!G55+Shengavit!G55+Avan!G55+Arabkir!G55+Malatia!G55+Kotayq!G55+Armavir!G55+Ararat!G55+Aragacotn!G55+Shirak!G55+Lori!G55+Tavush!G55+Gexarquniq!G55+Syuniq!G55 -> 3 | H55: =Erebuni!H55+Kentron!H55+Ajapnyak!H55+Shengavit!H55+Avan!H55+Arabkir!H55+Malatia!H55+Kotayq!H55+Armavir!H55+Ararat!H55+Aragacotn!H55+Shirak!H55+Lori!H55+Tavush!H55+Gexarquniq!H55+Syuniq!H55 -> 0 | I55: =Erebuni!I55+Kentron!I55+Ajapnyak!I55+Shengavit!I55+Avan!I55+Arabkir!I55+Malatia!I55+Kotayq!I55+Armavir!I55+Ararat!I55+Aragacotn!I55+Shirak!I55+Lori!I55+Tavush!I55+Gexarquniq!I55+Syuniq!I55 -> 0 | J55: =Erebuni!J55+Kentron!J55+Ajapnyak!J55+Shengavit!J55+Avan!J55+Arabkir!J55+Malatia!J55+Kotayq!J55+Armavir!J55+Ararat!J55+Aragacotn!J55+Shirak!J55+Lori!J55+Tavush!J55+Gexarquniq!J55+Syuniq!J55 -> 0 | K55: =Erebuni!K55+Kentron!K55+Ajapnyak!K55+Shengavit!K55+Avan!K55+Arabkir!K55+Malatia!K55+Kotayq!K55+Armavir!K55+Ararat!K55+Aragacotn!K55+Shirak!K55+Lori!K55+Tavush!K55+Gexarquniq!K55+Syuniq!K55 -> 0 | L55: =Erebuni!L55+Kentron!L55+Ajapnyak!L55+Shengavit!L55+Avan!L55+Arabkir!L55+Malatia!L55+Kotayq!L55+Armavir!L55+Ararat!L55+Aragacotn!L55+Shirak!L55+Lori!L55+Tavush!L55+Gexarquniq!L55+Syuniq!L55 -> 0 | ... AH55: =Erebuni!AH55+Kentron!AH55+Ajapnyak!AH55+Shengavit!AH55+Avan!AH55+Arabkir!AH55+Malatia!AH55+Kotayq!AH55+Armavir!AH55+Ararat!AH55+Aragacotn!AH55+Shirak!AH55+Lori!AH55+Tavush!AH55+Gexarquniq!AH55+Syuniq!AH55 -> 0
A56: 3.5 | B56: Àëï ûñ»ÝùÇ Å³é³Ý·áõÃÛ³Ý Çñ³íáõÝùÇ íÏ³Û³·ÇñÝ ³Ýí³í»ñ ×³Ý³ã»Éáõ í»ñ³µ»ñÛ³É | E56: =Erebuni!E56+Kentron!E56+Ajapnyak!E56+Shengavit!E56+Avan!E56+Arabkir!E56+Malatia!E56+Kotayq!E56+Armavir!E56+Ararat!E56+Aragacotn!E56+Shirak!E56+Lori!E56+Tavush!E56+Gexarquniq!E56+Syuniq!E56 -> 2 | F56: =Erebuni!F56+Kentron!F56+Ajapnyak!F56+Shengavit!F56+Avan!F56+Arabkir!F56+Malatia!F56+Kotayq!F56+Armavir!F56+Ararat!F56+Aragacotn!F56+Shirak!F56+Lori!F56+Tavush!F56+Gexarquniq!F56+Syuniq!F56 -> 0 | G56: =Erebuni!G56+Kentron!G56+Ajapnyak!G56+Shengavit!G56+Avan!G56+Arabkir!G56+Malatia!G56+Kotayq!G56+Armavir!G56+Ararat!G56+Aragacotn!G56+Shirak!G56+Lori!G56+Tavush!G56+Gexarquniq!G56+Syuniq!G56 -> 2 | H56: =Erebuni!H56+Kentron!H56+Ajapnyak!H56+Shengavit!H56+Avan!H56+Arabkir!H56+Malatia!H56+Kotayq!H56+Armavir!H56+Ararat!H56+Aragacotn!H56+Shirak!H56+Lori!H56+Tavush!H56+Gexarquniq!H56+Syuniq!H56 -> 0 | I56: =Erebuni!I56+Kentron!I56+Ajapnyak!I56+Shengavit!I56+Avan!I56+Arabkir!I56+Malatia!I56+Kotayq!I56+Armavir!I56+Ararat!I56+Aragacotn!I56+Shirak!I56+Lori!I56+Tavush!I56+Gexarquniq!I56+Syuniq!I56 -> 0 | J56: =Erebuni!J56+Kentron!J56+Ajapnyak!J56+Shengavit!J56+Avan!J56+Arabkir!J56+Malatia!J56+Kotayq!J56+Armavir!J56+Ararat!J56+Aragacotn!J56+Shirak!J56+Lori!J56+Tavush!J56+Gexarquniq!J56+Syuniq!J56 -> 0 | K56: =Erebuni!K56+Kentron!K56+Ajapnyak!K56+Shengavit!K56+Avan!K56+Arabkir!K56+Malatia!K56+Kotayq!K56+Armavir!K56+Ararat!K56+Aragacotn!K56+Shirak!K56+Lori!K56+Tavush!K56+Gexarquniq!K56+Syuniq!K56 -> 0 | L56: =Erebuni!L56+Kentron!L56+Ajapnyak!L56+Shengavit!L56+Avan!L56+Arabkir!L56+Malatia!L56+Kotayq!L56+Armavir!L56+Ararat!L56+Aragacotn!L56+Shirak!L56+Lori!L56+Tavush!L56+Gexarquniq!L56+Syuniq!L56 -> 0 | ... AH56: =Erebuni!AH56+Kentron!AH56+Ajapnyak!AH56+Shengavit!AH56+Avan!AH56+Arabkir!AH56+Malatia!AH56+Kotayq!AH56+Armavir!AH56+Ararat!AH56+Aragacotn!AH56+Shirak!AH56+Lori!AH56+Tavush!AH56+Gexarquniq!AH56+Syuniq!AH56 -> 0
A57: 3.6 | B57: Ä³é³Ý·áõÃÛáõÝÝ ÁÝ¹áõÝ»Éáõ µ³ó ÃáÕÝí³Í Å³ÙÏ»ïÁ Ñ³ñ·»ÉÇ Ñ³Ù³ñ»Éáõ í»ñ³µ»ñÛ³É | E57: =Erebuni!E57+Kentron!E57+Ajapnyak!E57+Shengavit!E57+Avan!E57+Arabkir!E57+Malatia!E57+Kotayq!E57+Armavir!E57+Ararat!E57+Aragacotn!E57+Shirak!E57+Lori!E57+Tavush!E57+Gexarquniq!E57+Syuniq!E57 -> 27 | F57: =Erebuni!F57+Kentron!F57+Ajapnyak!F57+Shengavit!F57+Avan!F57+Arabkir!F57+Malatia!F57+Kotayq!F57+Armavir!F57+Ararat!F57+Aragacotn!F57+Shirak!F57+Lori!F57+Tavush!F57+Gexarquniq!F57+Syuniq!F57 -> 1 | G57: =Erebuni!G57+Kentron!G57+Ajapnyak!G57+Shengavit!G57+Avan!G57+Arabkir!G57+Malatia!G57+Kotayq!G57+Armavir!G57+Ararat!G57+Aragacotn!G57+Shirak!G57+Lori!G57+Tavush!G57+Gexarquniq!G57+Syuniq!G57 -> 26 | H57: =Erebuni!H57+Kentron!H57+Ajapnyak!H57+Shengavit!H57+Avan!H57+Arabkir!H57+Malatia!H57+Kotayq!H57+Armavir!H57+Ararat!H57+Aragacotn!H57+Shirak!H57+Lori!H57+Tavush!H57+Gexarquniq!H57+Syuniq!H57 -> 0 | I57: =Erebuni!I57+Kentron!I57+Ajapnyak!I57+Shengavit!I57+Avan!I57+Arabkir!I57+Malatia!I57+Kotayq!I57+Armavir!I57+Ararat!I57+Aragacotn!I57+Shirak!I57+Lori!I57+Tavush!I57+Gexarquniq!I57+Syuniq!I57 -> 0 | J57: =Erebuni!J57+Kentron!J57+Ajapnyak!J57+Shengavit!J57+Avan!J57+Arabkir!J57+Malatia!J57+Kotayq!J57+Armavir!J57+Ararat!J57+Aragacotn!J57+Shirak!J57+Lori!J57+Tavush!J57+Gexarquniq!J57+Syuniq!J57 -> 32 | K57: =Erebuni!K57+Kentron!K57+Ajapnyak!K57+Shengavit!K57+Avan!K57+Arabkir!K57+Malatia!K57+Kotayq!K57+Armavir!K57+Ararat!K57+Aragacotn!K57+Shirak!K57+Lori!K57+Tavush!K57+Gexarquniq!K57+Syuniq!K57 -> 27 | L57: =Erebuni!L57+Kentron!L57+Ajapnyak!L57+Shengavit!L57+Avan!L57+Arabkir!L57+Malatia!L57+Kotayq!L57+Armavir!L57+Ararat!L57+Aragacotn!L57+Shirak!L57+Lori!L57+Tavush!L57+Gexarquniq!L57+Syuniq!L57 -> 5 | ... AH57: =Erebuni!AH57+Kentron!AH57+Ajapnyak!AH57+Shengavit!AH57+Avan!AH57+Arabkir!AH57+Malatia!AH57+Kotayq!AH57+Armavir!AH57+Ararat!AH57+Aragacotn!AH57+Shirak!AH57+Lori!AH57+Tavush!AH57+Gexarquniq!AH57+Syuniq!AH57 -> 2
A58: 3.7 | B58: ²ÛÉ í»×»ñ | E58: =Erebuni!E58+Kentron!E58+Ajapnyak!E58+Shengavit!E58+Avan!E58+Arabkir!E58+Malatia!E58+Kotayq!E58+Armavir!E58+Ararat!E58+Aragacotn!E58+Shirak!E58+Lori!E58+Tavush!E58+Gexarquniq!E58+Syuniq!E58 -> 204 | F58: =Erebuni!F58+Kentron!F58+Ajapnyak!F58+Shengavit!F58+Avan!F58+Arabkir!F58+Malatia!F58+Kotayq!F58+Armavir!F58+Ararat!F58+Aragacotn!F58+Shirak!F58+Lori!F58+Tavush!F58+Gexarquniq!F58+Syuniq!F58 -> 33 | G58: =Erebuni!G58+Kentron!G58+Ajapnyak!G58+Shengavit!G58+Avan!G58+Arabkir!G58+Malatia!G58+Kotayq!G58+Armavir!G58+Ararat!G58+Aragacotn!G58+Shirak!G58+Lori!G58+Tavush!G58+Gexarquniq!G58+Syuniq!G58 -> 171 | H58: =Erebuni!H58+Kentron!H58+Ajapnyak!H58+Shengavit!H58+Avan!H58+Arabkir!H58+Malatia!H58+Kotayq!H58+Armavir!H58+Ararat!H58+Aragacotn!H58+Shirak!H58+Lori!H58+Tavush!H58+Gexarquniq!H58+Syuniq!H58 -> 0 | I58: =Erebuni!I58+Kentron!I58+Ajapnyak!I58+Shengavit!I58+Avan!I58+Arabkir!I58+Malatia!I58+Kotayq!I58+Armavir!I58+Ararat!I58+Aragacotn!I58+Shirak!I58+Lori!I58+Tavush!I58+Gexarquniq!I58+Syuniq!I58 -> 0 | J58: =Erebuni!J58+Kentron!J58+Ajapnyak!J58+Shengavit!J58+Avan!J58+Arabkir!J58+Malatia!J58+Kotayq!J58+Armavir!J58+Ararat!J58+Aragacotn!J58+Shirak!J58+Lori!J58+Tavush!J58+Gexarquniq!J58+Syuniq!J58 -> 146 | K58: =Erebuni!K58+Kentron!K58+Ajapnyak!K58+Shengavit!K58+Avan!K58+Arabkir!K58+Malatia!K58+Kotayq!K58+Armavir!K58+Ararat!K58+Aragacotn!K58+Shirak!K58+Lori!K58+Tavush!K58+Gexarquniq!K58+Syuniq!K58 -> 110 | L58: =Erebuni!L58+Kentron!L58+Ajapnyak!L58+Shengavit!L58+Avan!L58+Arabkir!L58+Malatia!L58+Kotayq!L58+Armavir!L58+Ararat!L58+Aragacotn!L58+Shirak!L58+Lori!L58+Tavush!L58+Gexarquniq!L58+Syuniq!L58 -> 35 | ... AH58: =Erebuni!AH58+Kentron!AH58+Ajapnyak!AH58+Shengavit!AH58+Avan!AH58+Arabkir!AH58+Malatia!AH58+Kotayq!AH58+Armavir!AH58+Ararat!AH58+Aragacotn!AH58+Shirak!AH58+Lori!AH58+Tavush!AH58+Gexarquniq!AH58+Syuniq!AH58 -> 1
A59: 4 | B59: ÀÝï³Ý»Ï³Ý Çñ³í³Ñ³ñ³µ»ñáõÃÛáõÝÝ»ñÇ í»ñ³µ»ñÛ³É ¹³ï³Ï³Ý ·áñÍ»ñ | E59: =SUM(E61:E72) -> 693 | F59: =SUM(F61:F72) -> 87 | G59: =SUM(G61:G72) -> 605 | H59: =SUM(H61:H72) -> 1 | I59: =SUM(I61:I72) -> 0 | J59: =SUM(J61:J72) -> 751 | K59: =SUM(K61:K72) -> 679 | L59: =SUM(L61:L72) -> 66 | ... AH59: =SUM(AH61:AH72) -> 6 | AI59: =SUM(AI60:AI72) -> 0
A60: 4.1 | B60: ²ÙáõëÝ³ÉáõÍáõÃÛ³Ý í»ñ³µ»ñÛ³É | E60: =Erebuni!E60+Kentron!E60+Ajapnyak!E60+Shengavit!E60+Avan!E60+Arabkir!E60+Malatia!E60+Kotayq!E60+Armavir!E60+Ararat!E60+Aragacotn!E60+Shirak!E60+Lori!E60+Tavush!E60+Gexarquniq!E60+Syuniq!E60 -> 644 | F60: =Erebuni!F60+Kentron!F60+Ajapnyak!F60+Shengavit!F60+Avan!F60+Arabkir!F60+Malatia!F60+Kotayq!F60+Armavir!F60+Ararat!F60+Aragacotn!F60+Shirak!F60+Lori!F60+Tavush!F60+Gexarquniq!F60+Syuniq!F60 -> 26 | G60: =Erebuni!G60+Kentron!G60+Ajapnyak!G60+Shengavit!G60+Avan!G60+Arabkir!G60+Malatia!G60+Kotayq!G60+Armavir!G60+Ararat!G60+Aragacotn!G60+Shirak!G60+Lori!G60+Tavush!G60+Gexarquniq!G60+Syuniq!G60 -> 618 | H60: =Erebuni!H60+Kentron!H60+Ajapnyak!H60+Shengavit!H60+Avan!H60+Arabkir!H60+Malatia!H60+Kotayq!H60+Armavir!H60+Ararat!H60+Aragacotn!H60+Shirak!H60+Lori!H60+Tavush!H60+Gexarquniq!H60+Syuniq!H60 -> 0 | I60: =Erebuni!I60+Kentron!I60+Ajapnyak!I60+Shengavit!I60+Avan!I60+Arabkir!I60+Malatia!I60+Kotayq!I60+Armavir!I60+Ararat!I60+Aragacotn!I60+Shirak!I60+Lori!I60+Tavush!I60+Gexarquniq!I60+Syuniq!I60 -> 0 | J60: =Erebuni!J60+Kentron!J60+Ajapnyak!J60+Shengavit!J60+Avan!J60+Arabkir!J60+Malatia!J60+Kotayq!J60+Armavir!J60+Ararat!J60+Aragacotn!J60+Shirak!J60+Lori!J60+Tavush!J60+Gexarquniq!J60+Syuniq!J60 -> 797 | K60: =Erebuni!K60+Kentron!K60+Ajapnyak!K60+Shengavit!K60+Avan!K60+Arabkir!K60+Malatia!K60+Kotayq!K60+Armavir!K60+Ararat!K60+Aragacotn!K60+Shirak!K60+Lori!K60+Tavush!K60+Gexarquniq!K60+Syuniq!K60 -> 713 | L60: =Erebuni!L60+Kentron!L60+Ajapnyak!L60+Shengavit!L60+Avan!L60+Arabkir!L60+Malatia!L60+Kotayq!L60+Armavir!L60+Ararat!L60+Aragacotn!L60+Shirak!L60+Lori!L60+Tavush!L60+Gexarquniq!L60+Syuniq!L60 -> 81 | ... AH60: =Erebuni!AH60+Kentron!AH60+Ajapnyak!AH60+Shengavit!AH60+Avan!AH60+Arabkir!AH60+Malatia!AH60+Kotayq!AH60+Armavir!AH60+Ararat!AH60+Aragacotn!AH60+Shirak!AH60+Lori!AH60+Tavush!AH60+Gexarquniq!AH60+Syuniq!AH60 -> 4
A61: 4.2 | B61: ²ÉÇÙ»ÝïÇ å³Ñ³ÝçÇ í»ñ³µ»ñÛ³É | E61: =Erebuni!E61+Kentron!E61+Ajapnyak!E61+Shengavit!E61+Avan!E61+Arabkir!E61+Malatia!E61+Kotayq!E61+Armavir!E61+Ararat!E61+Aragacotn!E61+Shirak!E61+Lori!E61+Tavush!E61+Gexarquniq!E61+Syuniq!E61 -> 275 | F61: =Erebuni!F61+Kentron!F61+Ajapnyak!F61+Shengavit!F61+Avan!F61+Arabkir!F61+Malatia!F61+Kotayq!F61+Armavir!F61+Ararat!F61+Aragacotn!F61+Shirak!F61+Lori!F61+Tavush!F61+Gexarquniq!F61+Syuniq!F61 -> 36 | G61: =Erebuni!G61+Kentron!G61+Ajapnyak!G61+Shengavit!G61+Avan!G61+Arabkir!G61+Malatia!G61+Kotayq!G61+Armavir!G61+Ararat!G61+Aragacotn!G61+Shirak!G61+Lori!G61+Tavush!G61+Gexarquniq!G61+Syuniq!G61 -> 239 | H61: =Erebuni!H61+Kentron!H61+Ajapnyak!H61+Shengavit!H61+Avan!H61+Arabkir!H61+Malatia!H61+Kotayq!H61+Armavir!H61+Ararat!H61+Aragacotn!H61+Shirak!H61+Lori!H61+Tavush!H61+Gexarquniq!H61+Syuniq!H61 -> 0 | I61: =Erebuni!I61+Kentron!I61+Ajapnyak!I61+Shengavit!I61+Avan!I61+Arabkir!I61+Malatia!I61+Kotayq!I61+Armavir!I61+Ararat!I61+Aragacotn!I61+Shirak!I61+Lori!I61+Tavush!I61+Gexarquniq!I61+Syuniq!I61 -> 0 | J61: =Erebuni!J61+Kentron!J61+Ajapnyak!J61+Shengavit!J61+Avan!J61+Arabkir!J61+Malatia!J61+Kotayq!J61+Armavir!J61+Ararat!J61+Aragacotn!J61+Shirak!J61+Lori!J61+Tavush!J61+Gexarquniq!J61+Syuniq!J61 -> 333 | K61: =Erebuni!K61+Kentron!K61+Ajapnyak!K61+Shengavit!K61+Avan!K61+Arabkir!K61+Malatia!K61+Kotayq!K61+Armavir!K61+Ararat!K61+Aragacotn!K61+Shirak!K61+Lori!K61+Tavush!K61+Gexarquniq!K61+Syuniq!K61 -> 314 | L61: =Erebuni!L61+Kentron!L61+Ajapnyak!L61+Shengavit!L61+Avan!L61+Arabkir!L61+Malatia!L61+Kotayq!L61+Armavir!L61+Ararat!L61+Aragacotn!L61+Shirak!L61+Lori!L61+Tavush!L61+Gexarquniq!L61+Syuniq!L61 -> 18 | ... AH61: =Erebuni!AH61+Kentron!AH61+Ajapnyak!AH61+Shengavit!AH61+Avan!AH61+Arabkir!AH61+Malatia!AH61+Kotayq!AH61+Armavir!AH61+Ararat!AH61+Aragacotn!AH61+Shirak!AH61+Lori!AH61+Tavush!AH61+Gexarquniq!AH61+Syuniq!AH61 -> 1
A62: 4.3 | B62: ²ÉÇÙ»ÝïÇ ã³÷Á ÷á÷áË»Éáõ í»ñ³µ»ñÛ³É | E62: =Erebuni!E62+Kentron!E62+Ajapnyak!E62+Shengavit!E62+Avan!E62+Arabkir!E62+Malatia!E62+Kotayq!E62+Armavir!E62+Ararat!E62+Aragacotn!E62+Shirak!E62+Lori!E62+Tavush!E62+Gexarquniq!E62+Syuniq!E62 -> 47 | F62: =Erebuni!F62+Kentron!F62+Ajapnyak!F62+Shengavit!F62+Avan!F62+Arabkir!F62+Malatia!F62+Kotayq!F62+Armavir!F62+Ararat!F62+Aragacotn!F62+Shirak!F62+Lori!F62+Tavush!F62+Gexarquniq!F62+Syuniq!F62 -> 4 | G62: =Erebuni!G62+Kentron!G62+Ajapnyak!G62+Shengavit!G62+Avan!G62+Arabkir!G62+Malatia!G62+Kotayq!G62+Armavir!G62+Ararat!G62+Aragacotn!G62+Shirak!G62+Lori!G62+Tavush!G62+Gexarquniq!G62+Syuniq!G62 -> 43 | H62: =Erebuni!H62+Kentron!H62+Ajapnyak!H62+Shengavit!H62+Avan!H62+Arabkir!H62+Malatia!H62+Kotayq!H62+Armavir!H62+Ararat!H62+Aragacotn!H62+Shirak!H62+Lori!H62+Tavush!H62+Gexarquniq!H62+Syuniq!H62 -> 0 | I62: =Erebuni!I62+Kentron!I62+Ajapnyak!I62+Shengavit!I62+Avan!I62+Arabkir!I62+Malatia!I62+Kotayq!I62+Armavir!I62+Ararat!I62+Aragacotn!I62+Shirak!I62+Lori!I62+Tavush!I62+Gexarquniq!I62+Syuniq!I62 -> 0 | J62: =Erebuni!J62+Kentron!J62+Ajapnyak!J62+Shengavit!J62+Avan!J62+Arabkir!J62+Malatia!J62+Kotayq!J62+Armavir!J62+Ararat!J62+Aragacotn!J62+Shirak!J62+Lori!J62+Tavush!J62+Gexarquniq!J62+Syuniq!J62 -> 60 | K62: =Erebuni!K62+Kentron!K62+Ajapnyak!K62+Shengavit!K62+Avan!K62+Arabkir!K62+Malatia!K62+Kotayq!K62+Armavir!K62+Ararat!K62+Aragacotn!K62+Shirak!K62+Lori!K62+Tavush!K62+Gexarquniq!K62+Syuniq!K62 -> 52 | L62: =Erebuni!L62+Kentron!L62+Ajapnyak!L62+Shengavit!L62+Avan!L62+Arabkir!L62+Malatia!L62+Kotayq!L62+Armavir!L62+Ararat!L62+Aragacotn!L62+Shirak!L62+Lori!L62+Tavush!L62+Gexarquniq!L62+Syuniq!L62 -> 7 | ... AH62: =Erebuni!AH62+Kentron!AH62+Ajapnyak!AH62+Shengavit!AH62+Avan!AH62+Arabkir!AH62+Malatia!AH62+Kotayq!AH62+Armavir!AH62+Ararat!AH62+Aragacotn!AH62+Shirak!AH62+Lori!AH62+Tavush!AH62+Gexarquniq!AH62+Syuniq!AH62 -> 0
A63: 4.4 | B63: ÌÝáÕ³Ï³Ý Çñ³íáõÝùÝ»ñÇó ½ñÏ»Éáõ í»ñ³µ»ñÛ³É | E63: =Erebuni!E63+Kentron!E63+Ajapnyak!E63+Shengavit!E63+Avan!E63+Arabkir!E63+Malatia!E63+Kotayq!E63+Armavir!E63+Ararat!E63+Aragacotn!E63+Shirak!E63+Lori!E63+Tavush!E63+Gexarquniq!E63+Syuniq!E63 -> 17 | F63: =Erebuni!F63+Kentron!F63+Ajapnyak!F63+Shengavit!F63+Avan!F63+Arabkir!F63+Malatia!F63+Kotayq!F63+Armavir!F63+Ararat!F63+Aragacotn!F63+Shirak!F63+Lori!F63+Tavush!F63+Gexarquniq!F63+Syuniq!F63 -> 3 | G63: =Erebuni!G63+Kentron!G63+Ajapnyak!G63+Shengavit!G63+Avan!G63+Arabkir!G63+Malatia!G63+Kotayq!G63+Armavir!G63+Ararat!G63+Aragacotn!G63+Shirak!G63+Lori!G63+Tavush!G63+Gexarquniq!G63+Syuniq!G63 -> 14 | H63: =Erebuni!H63+Kentron!H63+Ajapnyak!H63+Shengavit!H63+Avan!H63+Arabkir!H63+Malatia!H63+Kotayq!H63+Armavir!H63+Ararat!H63+Aragacotn!H63+Shirak!H63+Lori!H63+Tavush!H63+Gexarquniq!H63+Syuniq!H63 -> 0 | I63: =Erebuni!I63+Kentron!I63+Ajapnyak!I63+Shengavit!I63+Avan!I63+Arabkir!I63+Malatia!I63+Kotayq!I63+Armavir!I63+Ararat!I63+Aragacotn!I63+Shirak!I63+Lori!I63+Tavush!I63+Gexarquniq!I63+Syuniq!I63 -> 0 | J63: =Erebuni!J63+Kentron!J63+Ajapnyak!J63+Shengavit!J63+Avan!J63+Arabkir!J63+Malatia!J63+Kotayq!J63+Armavir!J63+Ararat!J63+Aragacotn!J63+Shirak!J63+Lori!J63+Tavush!J63+Gexarquniq!J63+Syuniq!J63 -> 16 | K63: =Erebuni!K63+Kentron!K63+Ajapnyak!K63+Shengavit!K63+Avan!K63+Arabkir!K63+Malatia!K63+Kotayq!K63+Armavir!K63+Ararat!K63+Aragacotn!K63+Shirak!K63+Lori!K63+Tavush!K63+Gexarquniq!K63+Syuniq!K63 -> 11 | L63: =Erebuni!L63+Kentron!L63+Ajapnyak!L63+Shengavit!L63+Avan!L63+Arabkir!L63+Malatia!L63+Kotayq!L63+Armavir!L63+Ararat!L63+Aragacotn!L63+Shirak!L63+Lori!L63+Tavush!L63+Gexarquniq!L63+Syuniq!L63 -> 4 | ... AH63: =Erebuni!AH63+Kentron!AH63+Ajapnyak!AH63+Shengavit!AH63+Avan!AH63+Arabkir!AH63+Malatia!AH63+Kotayq!AH63+Armavir!AH63+Ararat!AH63+Aragacotn!AH63+Shirak!AH63+Lori!AH63+Tavush!AH63+Gexarquniq!AH63+Syuniq!AH63 -> 1
A64: 4.5 | B64: ÌÝáÕ³Ï³Ý Çñ³íáõÝùÝ»ñÁ í»ñ³Ï³Ý·Ý»Éáõ í»ñ³µ»ñÛ³É | E64: =Erebuni!E64+Kentron!E64+Ajapnyak!E64+Shengavit!E64+Avan!E64+Arabkir!E64+Malatia!E64+Kotayq!E64+Armavir!E64+Ararat!E64+Aragacotn!E64+Shirak!E64+Lori!E64+Tavush!E64+Gexarquniq!E64+Syuniq!E64 -> 1 | F64: =Erebuni!F64+Kentron!F64+Ajapnyak!F64+Shengavit!F64+Avan!F64+Arabkir!F64+Malatia!F64+Kotayq!F64+Armavir!F64+Ararat!F64+Aragacotn!F64+Shirak!F64+Lori!F64+Tavush!F64+Gexarquniq!F64+Syuniq!F64 -> 1 | G64: =Erebuni!G64+Kentron!G64+Ajapnyak!G64+Shengavit!G64+Avan!G64+Arabkir!G64+Malatia!G64+Kotayq!G64+Armavir!G64+Ararat!G64+Aragacotn!G64+Shirak!G64+Lori!G64+Tavush!G64+Gexarquniq!G64+Syuniq!G64 -> 0 | H64: =Erebuni!H64+Kentron!H64+Ajapnyak!H64+Shengavit!H64+Avan!H64+Arabkir!H64+Malatia!H64+Kotayq!H64+Armavir!H64+Ararat!H64+Aragacotn!H64+Shirak!H64+Lori!H64+Tavush!H64+Gexarquniq!H64+Syuniq!H64 -> 0 | I64: =Erebuni!I64+Kentron!I64+Ajapnyak!I64+Shengavit!I64+Avan!I64+Arabkir!I64+Malatia!I64+Kotayq!I64+Armavir!I64+Ararat!I64+Aragacotn!I64+Shirak!I64+Lori!I64+Tavush!I64+Gexarquniq!I64+Syuniq!I64 -> 0 | J64: =Erebuni!J64+Kentron!J64+Ajapnyak!J64+Shengavit!J64+Avan!J64+Arabkir!J64+Malatia!J64+Kotayq!J64+Armavir!J64+Ararat!J64+Aragacotn!J64+Shirak!J64+Lori!J64+Tavush!J64+Gexarquniq!J64+Syuniq!J64 -> 0 | K64: =Erebuni!K64+Kentron!K64+Ajapnyak!K64+Shengavit!K64+Avan!K64+Arabkir!K64+Malatia!K64+Kotayq!K64+Armavir!K64+Ararat!K64+Aragacotn!K64+Shirak!K64+Lori!K64+Tavush!K64+Gexarquniq!K64+Syuniq!K64 -> 0 | L64: =Erebuni!L64+Kentron!L64+Ajapnyak!L64+Shengavit!L64+Avan!L64+Arabkir!L64+Malatia!L64+Kotayq!L64+Armavir!L64+Ararat!L64+Aragacotn!L64+Shirak!L64+Lori!L64+Tavush!L64+Gexarquniq!L64+Syuniq!L64 -> 0 | ... AH64: =Erebuni!AH64+Kentron!AH64+Ajapnyak!AH64+Shengavit!AH64+Avan!AH64+Arabkir!AH64+Malatia!AH64+Kotayq!AH64+Armavir!AH64+Ararat!AH64+Aragacotn!AH64+Shirak!AH64+Lori!AH64+Tavush!AH64+Gexarquniq!AH64+Syuniq!AH64 -> 0
A65: 4.6 | B65: ºñ»Ë³ÛÇ áñ¹»·ñÙ³Ý í»ñ³µ»ñÛ³É | E65: =Erebuni!E65+Kentron!E65+Ajapnyak!E65+Shengavit!E65+Avan!E65+Arabkir!E65+Malatia!E65+Kotayq!E65+Armavir!E65+Ararat!E65+Aragacotn!E65+Shirak!E65+Lori!E65+Tavush!E65+Gexarquniq!E65+Syuniq!E65 -> 14 | F65: =Erebuni!F65+Kentron!F65+Ajapnyak!F65+Shengavit!F65+Avan!F65+Arabkir!F65+Malatia!F65+Kotayq!F65+Armavir!F65+Ararat!F65+Aragacotn!F65+Shirak!F65+Lori!F65+Tavush!F65+Gexarquniq!F65+Syuniq!F65 -> 0 | G65: =Erebuni!G65+Kentron!G65+Ajapnyak!G65+Shengavit!G65+Avan!G65+Arabkir!G65+Malatia!G65+Kotayq!G65+Armavir!G65+Ararat!G65+Aragacotn!G65+Shirak!G65+Lori!G65+Tavush!G65+Gexarquniq!G65+Syuniq!G65 -> 14 | H65: =Erebuni!H65+Kentron!H65+Ajapnyak!H65+Shengavit!H65+Avan!H65+Arabkir!H65+Malatia!H65+Kotayq!H65+Armavir!H65+Ararat!H65+Aragacotn!H65+Shirak!H65+Lori!H65+Tavush!H65+Gexarquniq!H65+Syuniq!H65 -> 0 | I65: =Erebuni!I65+Kentron!I65+Ajapnyak!I65+Shengavit!I65+Avan!I65+Arabkir!I65+Malatia!I65+Kotayq!I65+Armavir!I65+Ararat!I65+Aragacotn!I65+Shirak!I65+Lori!I65+Tavush!I65+Gexarquniq!I65+Syuniq!I65 -> 0 | J65: =Erebuni!J65+Kentron!J65+Ajapnyak!J65+Shengavit!J65+Avan!J65+Arabkir!J65+Malatia!J65+Kotayq!J65+Armavir!J65+Ararat!J65+Aragacotn!J65+Shirak!J65+Lori!J65+Tavush!J65+Gexarquniq!J65+Syuniq!J65 -> 56 | K65: =Erebuni!K65+Kentron!K65+Ajapnyak!K65+Shengavit!K65+Avan!K65+Arabkir!K65+Malatia!K65+Kotayq!K65+Armavir!K65+Ararat!K65+Aragacotn!K65+Shirak!K65+Lori!K65+Tavush!K65+Gexarquniq!K65+Syuniq!K65 -> 54 | L65: =Erebuni!L65+Kentron!L65+Ajapnyak!L65+Shengavit!L65+Avan!L65+Arabkir!L65+Malatia!L65+Kotayq!L65+Armavir!L65+Ararat!L65+Aragacotn!L65+Shirak!L65+Lori!L65+Tavush!L65+Gexarquniq!L65+Syuniq!L65 -> 2 | ... AH65: =Erebuni!AH65+Kentron!AH65+Ajapnyak!AH65+Shengavit!AH65+Avan!AH65+Arabkir!AH65+Malatia!AH65+Kotayq!AH65+Armavir!AH65+Ararat!AH65+Aragacotn!AH65+Shirak!AH65+Lori!AH65+Tavush!AH65+Gexarquniq!AH65+Syuniq!AH65 -> 1
A66: 4.7 | B66: ºñ»Ë³ÛÇ áñ¹»·ñáõÙÁ í»ñ³óÝ»Éáõ í»ñ³µ»ñÛ³É | E66: =Erebuni!E66+Kentron!E66+Ajapnyak!E66+Shengavit!E66+Avan!E66+Arabkir!E66+Malatia!E66+Kotayq!E66+Armavir!E66+Ararat!E66+Aragacotn!E66+Shirak!E66+Lori!E66+Tavush!E66+Gexarquniq!E66+Syuniq!E66 -> 7 | F66: =Erebuni!F66+Kentron!F66+Ajapnyak!F66+Shengavit!F66+Avan!F66+Arabkir!F66+Malatia!F66+Kotayq!F66+Armavir!F66+Ararat!F66+Aragacotn!F66+Shirak!F66+Lori!F66+Tavush!F66+Gexarquniq!F66+Syuniq!F66 -> 0 | G66: =Erebuni!G66+Kentron!G66+Ajapnyak!G66+Shengavit!G66+Avan!G66+Arabkir!G66+Malatia!G66+Kotayq!G66+Armavir!G66+Ararat!G66+Aragacotn!G66+Shirak!G66+Lori!G66+Tavush!G66+Gexarquniq!G66+Syuniq!G66 -> 7 | H66: =Erebuni!H66+Kentron!H66+Ajapnyak!H66+Shengavit!H66+Avan!H66+Arabkir!H66+Malatia!H66+Kotayq!H66+Armavir!H66+Ararat!H66+Aragacotn!H66+Shirak!H66+Lori!H66+Tavush!H66+Gexarquniq!H66+Syuniq!H66 -> 0 | I66: =Erebuni!I66+Kentron!I66+Ajapnyak!I66+Shengavit!I66+Avan!I66+Arabkir!I66+Malatia!I66+Kotayq!I66+Armavir!I66+Ararat!I66+Aragacotn!I66+Shirak!I66+Lori!I66+Tavush!I66+Gexarquniq!I66+Syuniq!I66 -> 0 | J66: =Erebuni!J66+Kentron!J66+Ajapnyak!J66+Shengavit!J66+Avan!J66+Arabkir!J66+Malatia!J66+Kotayq!J66+Armavir!J66+Ararat!J66+Aragacotn!J66+Shirak!J66+Lori!J66+Tavush!J66+Gexarquniq!J66+Syuniq!J66 -> 6 | K66: =Erebuni!K66+Kentron!K66+Ajapnyak!K66+Shengavit!K66+Avan!K66+Arabkir!K66+Malatia!K66+Kotayq!K66+Armavir!K66+Ararat!K66+Aragacotn!K66+Shirak!K66+Lori!K66+Tavush!K66+Gexarquniq!K66+Syuniq!K66 -> 4 | L66: =Erebuni!L66+Kentron!L66+Ajapnyak!L66+Shengavit!L66+Avan!L66+Arabkir!L66+Malatia!L66+Kotayq!L66+Armavir!L66+Ararat!L66+Aragacotn!L66+Shirak!L66+Lori!L66+Tavush!L66+Gexarquniq!L66+Syuniq!L66 -> 1 | ... AH66: =Erebuni!AH66+Kentron!AH66+Ajapnyak!AH66+Shengavit!AH66+Avan!AH66+Arabkir!AH66+Malatia!AH66+Kotayq!AH66+Armavir!AH66+Ararat!AH66+Aragacotn!AH66+Shirak!AH66+Lori!AH66+Tavush!AH66+Gexarquniq!AH66+Syuniq!AH66 -> 0
A67: 4.8 | B67: Ð³ÛñáõÃÛáõÝÁ ×³Ý³ã»Éáõ í»ñ³µ»ñÛ³É | E67: =Erebuni!E67+Kentron!E67+Ajapnyak!E67+Shengavit!E67+Avan!E67+Arabkir!E67+Malatia!E67+Kotayq!E67+Armavir!E67+Ararat!E67+Aragacotn!E67+Shirak!E67+Lori!E67+Tavush!E67+Gexarquniq!E67+Syuniq!E67 -> 73 | F67: =Erebuni!F67+Kentron!F67+Ajapnyak!F67+Shengavit!F67+Avan!F67+Arabkir!F67+Malatia!F67+Kotayq!F67+Armavir!F67+Ararat!F67+Aragacotn!F67+Shirak!F67+Lori!F67+Tavush!F67+Gexarquniq!F67+Syuniq!F67 -> 20 | G67: =Erebuni!G67+Kentron!G67+Ajapnyak!G67+Shengavit!G67+Avan!G67+Arabkir!G67+Malatia!G67+Kotayq!G67+Armavir!G67+Ararat!G67+Aragacotn!G67+Shirak!G67+Lori!G67+Tavush!G67+Gexarquniq!G67+Syuniq!G67 -> 53 | H67: =Erebuni!H67+Kentron!H67+Ajapnyak!H67+Shengavit!H67+Avan!H67+Arabkir!H67+Malatia!H67+Kotayq!H67+Armavir!H67+Ararat!H67+Aragacotn!H67+Shirak!H67+Lori!H67+Tavush!H67+Gexarquniq!H67+Syuniq!H67 -> 0 | I67: =Erebuni!I67+Kentron!I67+Ajapnyak!I67+Shengavit!I67+Avan!I67+Arabkir!I67+Malatia!I67+Kotayq!I67+Armavir!I67+Ararat!I67+Aragacotn!I67+Shirak!I67+Lori!I67+Tavush!I67+Gexarquniq!I67+Syuniq!I67 -> 0 | J67: =Erebuni!J67+Kentron!J67+Ajapnyak!J67+Shengavit!J67+Avan!J67+Arabkir!J67+Malatia!J67+Kotayq!J67+Armavir!J67+Ararat!J67+Aragacotn!J67+Shirak!J67+Lori!J67+Tavush!J67+Gexarquniq!J67+Syuniq!J67 -> 59 | K67: =Erebuni!K67+Kentron!K67+Ajapnyak!K67+Shengavit!K67+Avan!K67+Arabkir!K67+Malatia!K67+Kotayq!K67+Armavir!K67+Ararat!K67+Aragacotn!K67+Shirak!K67+Lori!K67+Tavush!K67+Gexarquniq!K67+Syuniq!K67 -> 55 | L67: =Erebuni!L67+Kentron!L67+Ajapnyak!L67+Shengavit!L67+Avan!L67+Arabkir!L67+Malatia!L67+Kotayq!L67+Armavir!L67+Ararat!L67+Aragacotn!L67+Shirak!L67+Lori!L67+Tavush!L67+Gexarquniq!L67+Syuniq!L67 -> 4 | ... AH67: =Erebuni!AH67+Kentron!AH67+Ajapnyak!AH67+Shengavit!AH67+Avan!AH67+Arabkir!AH67+Malatia!AH67+Kotayq!AH67+Armavir!AH67+Ararat!AH67+Aragacotn!AH67+Shirak!AH67+Lori!AH67+Tavush!AH67+Gexarquniq!AH67+Syuniq!AH67 -> 0
A68: 4.9 | B68: ºñ»Ë³ÛÇ µÝ³ÏáõÃÛ³Ý í³ÛñÁ áñáß»Éáõ í»ñ³µ»ñÛ³É | E68: =Erebuni!E68+Kentron!E68+Ajapnyak!E68+Shengavit!E68+Avan!E68+Arabkir!E68+Malatia!E68+Kotayq!E68+Armavir!E68+Ararat!E68+Aragacotn!E68+Shirak!E68+Lori!E68+Tavush!E68+Gexarquniq!E68+Syuniq!E68 -> 44 | F68: =Erebuni!F68+Kentron!F68+Ajapnyak!F68+Shengavit!F68+Avan!F68+Arabkir!F68+Malatia!F68+Kotayq!F68+Armavir!F68+Ararat!F68+Aragacotn!F68+Shirak!F68+Lori!F68+Tavush!F68+Gexarquniq!F68+Syuniq!F68 -> 0 | G68: =Erebuni!G68+Kentron!G68+Ajapnyak!G68+Shengavit!G68+Avan!G68+Arabkir!G68+Malatia!G68+Kotayq!G68+Armavir!G68+Ararat!G68+Aragacotn!G68+Shirak!G68+Lori!G68+Tavush!G68+Gexarquniq!G68+Syuniq!G68 -> 44 | H68: =Erebuni!H68+Kentron!H68+Ajapnyak!H68+Shengavit!H68+Avan!H68+Arabkir!H68+Malatia!H68+Kotayq!H68+Armavir!H68+Ararat!H68+Aragacotn!H68+Shirak!H68+Lori!H68+Tavush!H68+Gexarquniq!H68+Syuniq!H68 -> 0 | I68: =Erebuni!I68+Kentron!I68+Ajapnyak!I68+Shengavit!I68+Avan!I68+Arabkir!I68+Malatia!I68+Kotayq!I68+Armavir!I68+Ararat!I68+Aragacotn!I68+Shirak!I68+Lori!I68+Tavush!I68+Gexarquniq!I68+Syuniq!I68 -> 0 | J68: =Erebuni!J68+Kentron!J68+Ajapnyak!J68+Shengavit!J68+Avan!J68+Arabkir!J68+Malatia!J68+Kotayq!J68+Armavir!J68+Ararat!J68+Aragacotn!J68+Shirak!J68+Lori!J68+Tavush!J68+Gexarquniq!J68+Syuniq!J68 -> 57 | K68: =Erebuni!K68+Kentron!K68+Ajapnyak!K68+Shengavit!K68+Avan!K68+Arabkir!K68+Malatia!K68+Kotayq!K68+Armavir!K68+Ararat!K68+Aragacotn!K68+Shirak!K68+Lori!K68+Tavush!K68+Gexarquniq!K68+Syuniq!K68 -> 48 | L68: =Erebuni!L68+Kentron!L68+Ajapnyak!L68+Shengavit!L68+Avan!L68+Arabkir!L68+Malatia!L68+Kotayq!L68+Armavir!L68+Ararat!L68+Aragacotn!L68+Shirak!L68+Lori!L68+Tavush!L68+Gexarquniq!L68+Syuniq!L68 -> 9 | ... AH68: =Erebuni!AH68+Kentron!AH68+Ajapnyak!AH68+Shengavit!AH68+Avan!AH68+Arabkir!AH68+Malatia!AH68+Kotayq!AH68+Armavir!AH68+Ararat!AH68+Aragacotn!AH68+Shirak!AH68+Lori!AH68+Tavush!AH68+Gexarquniq!AH68+Syuniq!AH68 -> 0
A69: 4.10 | B69: ºñ»Ë³ÛÇ Ñ»ï ï»ë³ÏóáõÃÛ³Ý Ï³ñ· ë³ÑÙ³Ý»Éáõ í»ñ³µ»ñÛ³É | E69: =Erebuni!E69+Kentron!E69+Ajapnyak!E69+Shengavit!E69+Avan!E69+Arabkir!E69+Malatia!E69+Kotayq!E69+Armavir!E69+Ararat!E69+Aragacotn!E69+Shirak!E69+Lori!E69+Tavush!E69+Gexarquniq!E69+Syuniq!E69 -> 108 | F69: =Erebuni!F69+Kentron!F69+Ajapnyak!F69+Shengavit!F69+Avan!F69+Arabkir!F69+Malatia!F69+Kotayq!F69+Armavir!F69+Ararat!F69+Aragacotn!F69+Shirak!F69+Lori!F69+Tavush!F69+Gexarquniq!F69+Syuniq!F69 -> 6 | G69: =Erebuni!G69+Kentron!G69+Ajapnyak!G69+Shengavit!G69+Avan!G69+Arabkir!G69+Malatia!G69+Kotayq!G69+Armavir!G69+Ararat!G69+Aragacotn!G69+Shirak!G69+Lori!G69+Tavush!G69+Gexarquniq!G69+Syuniq!G69 -> 101 | H69: =Erebuni!H69+Kentron!H69+Ajapnyak!H69+Shengavit!H69+Avan!H69+Arabkir!H69+Malatia!H69+Kotayq!H69+Armavir!H69+Ararat!H69+Aragacotn!H69+Shirak!H69+Lori!H69+Tavush!H69+Gexarquniq!H69+Syuniq!H69 -> 1 | I69: =Erebuni!I69+Kentron!I69+Ajapnyak!I69+Shengavit!I69+Avan!I69+Arabkir!I69+Malatia!I69+Kotayq!I69+Armavir!I69+Ararat!I69+Aragacotn!I69+Shirak!I69+Lori!I69+Tavush!I69+Gexarquniq!I69+Syuniq!I69 -> 0 | J69: =Erebuni!J69+Kentron!J69+Ajapnyak!J69+Shengavit!J69+Avan!J69+Arabkir!J69+Malatia!J69+Kotayq!J69+Armavir!J69+Ararat!J69+Aragacotn!J69+Shirak!J69+Lori!J69+Tavush!J69+Gexarquniq!J69+Syuniq!J69 -> 100 | K69: =Erebuni!K69+Kentron!K69+Ajapnyak!K69+Shengavit!K69+Avan!K69+Arabkir!K69+Malatia!K69+Kotayq!K69+Armavir!K69+Ararat!K69+Aragacotn!K69+Shirak!K69+Lori!K69+Tavush!K69+Gexarquniq!K69+Syuniq!K69 -> 88 | L69: =Erebuni!L69+Kentron!L69+Ajapnyak!L69+Shengavit!L69+Avan!L69+Arabkir!L69+Malatia!L69+Kotayq!L69+Armavir!L69+Ararat!L69+Aragacotn!L69+Shirak!L69+Lori!L69+Tavush!L69+Gexarquniq!L69+Syuniq!L69 -> 12 | ... AH69: =Erebuni!AH69+Kentron!AH69+Ajapnyak!AH69+Shengavit!AH69+Avan!AH69+Arabkir!AH69+Malatia!AH69+Kotayq!AH69+Armavir!AH69+Ararat!AH69+Aragacotn!AH69+Shirak!AH69+Lori!AH69+Tavush!AH69+Gexarquniq!AH69+Syuniq!AH69 -> 3
A70: 4.11 | B70: ²ÙáõëÇÝÝ»ñÇ ÁÝ¹Ñ³Ýáõñ ·áõÛùÁ µ³Å³Ý»Éáõ í»ñ³µ»ñÛ³É | E70: =Erebuni!E70+Kentron!E70+Ajapnyak!E70+Shengavit!E70+Avan!E70+Arabkir!E70+Malatia!E70+Kotayq!E70+Armavir!E70+Ararat!E70+Aragacotn!E70+Shirak!E70+Lori!E70+Tavush!E70+Gexarquniq!E70+Syuniq!E70 -> 48 | F70: =Erebuni!F70+Kentron!F70+Ajapnyak!F70+Shengavit!F70+Avan!F70+Arabkir!F70+Malatia!F70+Kotayq!F70+Armavir!F70+Ararat!F70+Aragacotn!F70+Shirak!F70+Lori!F70+Tavush!F70+Gexarquniq!F70+Syuniq!F70 -> 7 | G70: =Erebuni!G70+Kentron!G70+Ajapnyak!G70+Shengavit!G70+Avan!G70+Arabkir!G70+Malatia!G70+Kotayq!G70+Armavir!G70+Ararat!G70+Aragacotn!G70+Shirak!G70+Lori!G70+Tavush!G70+Gexarquniq!G70+Syuniq!G70 -> 41 | H70: =Erebuni!H70+Kentron!H70+Ajapnyak!H70+Shengavit!H70+Avan!H70+Arabkir!H70+Malatia!H70+Kotayq!H70+Armavir!H70+Ararat!H70+Aragacotn!H70+Shirak!H70+Lori!H70+Tavush!H70+Gexarquniq!H70+Syuniq!H70 -> 0 | I70: =Erebuni!I70+Kentron!I70+Ajapnyak!I70+Shengavit!I70+Avan!I70+Arabkir!I70+Malatia!I70+Kotayq!I70+Armavir!I70+Ararat!I70+Aragacotn!I70+Shirak!I70+Lori!I70+Tavush!I70+Gexarquniq!I70+Syuniq!I70 -> 0 | J70: =Erebuni!J70+Kentron!J70+Ajapnyak!J70+Shengavit!J70+Avan!J70+Arabkir!J70+Malatia!J70+Kotayq!J70+Armavir!J70+Ararat!J70+Aragacotn!J70+Shirak!J70+Lori!J70+Tavush!J70+Gexarquniq!J70+Syuniq!J70 -> 24 | K70: =Erebuni!K70+Kentron!K70+Ajapnyak!K70+Shengavit!K70+Avan!K70+Arabkir!K70+Malatia!K70+Kotayq!K70+Armavir!K70+Ararat!K70+Aragacotn!K70+Shirak!K70+Lori!K70+Tavush!K70+Gexarquniq!K70+Syuniq!K70 -> 22 | L70: =Erebuni!L70+Kentron!L70+Ajapnyak!L70+Shengavit!L70+Avan!L70+Arabkir!L70+Malatia!L70+Kotayq!L70+Armavir!L70+Ararat!L70+Aragacotn!L70+Shirak!L70+Lori!L70+Tavush!L70+Gexarquniq!L70+Syuniq!L70 -> 2 | ... AH70: =Erebuni!AH70+Kentron!AH70+Ajapnyak!AH70+Shengavit!AH70+Avan!AH70+Arabkir!AH70+Malatia!AH70+Kotayq!AH70+Armavir!AH70+Ararat!AH70+Aragacotn!AH70+Shirak!AH70+Lori!AH70+Tavush!AH70+Gexarquniq!AH70+Syuniq!AH70 -> 0
A71: 4.12 | B71: ²ÙáõëÝ³Ï³Ý å³ÛÙ³Ý³·ñÇ ÷á÷áËÙ³Ý Ï³Ù ÉáõÍÙ³Ý í»ñ³µ»ñÛ³É | E71: =Erebuni!E71+Kentron!E71+Ajapnyak!E71+Shengavit!E71+Avan!E71+Arabkir!E71+Malatia!E71+Kotayq!E71+Armavir!E71+Ararat!E71+Aragacotn!E71+Shirak!E71+Lori!E71+Tavush!E71+Gexarquniq!E71+Syuniq!E71 -> 1 | F71: =Erebuni!F71+Kentron!F71+Ajapnyak!F71+Shengavit!F71+Avan!F71+Arabkir!F71+Malatia!F71+Kotayq!F71+Armavir!F71+Ararat!F71+Aragacotn!F71+Shirak!F71+Lori!F71+Tavush!F71+Gexarquniq!F71+Syuniq!F71 -> 1 | G71: =Erebuni!G71+Kentron!G71+Ajapnyak!G71+Shengavit!G71+Avan!G71+Arabkir!G71+Malatia!G71+Kotayq!G71+Armavir!G71+Ararat!G71+Aragacotn!G71+Shirak!G71+Lori!G71+Tavush!G71+Gexarquniq!G71+Syuniq!G71 -> 0 | H71: =Erebuni!H71+Kentron!H71+Ajapnyak!H71+Shengavit!H71+Avan!H71+Arabkir!H71+Malatia!H71+Kotayq!H71+Armavir!H71+Ararat!H71+Aragacotn!H71+Shirak!H71+Lori!H71+Tavush!H71+Gexarquniq!H71+Syuniq!H71 -> 0 | I71: =Erebuni!I71+Kentron!I71+Ajapnyak!I71+Shengavit!I71+Avan!I71+Arabkir!I71+Malatia!I71+Kotayq!I71+Armavir!I71+Ararat!I71+Aragacotn!I71+Shirak!I71+Lori!I71+Tavush!I71+Gexarquniq!I71+Syuniq!I71 -> 0 | J71: =Erebuni!J71+Kentron!J71+Ajapnyak!J71+Shengavit!J71+Avan!J71+Arabkir!J71+Malatia!J71+Kotayq!J71+Armavir!J71+Ararat!J71+Aragacotn!J71+Shirak!J71+Lori!J71+Tavush!J71+Gexarquniq!J71+Syuniq!J71 -> 0 | K71: =Erebuni!K71+Kentron!K71+Ajapnyak!K71+Shengavit!K71+Avan!K71+Arabkir!K71+Malatia!K71+Kotayq!K71+Armavir!K71+Ararat!K71+Aragacotn!K71+Shirak!K71+Lori!K71+Tavush!K71+Gexarquniq!K71+Syuniq!K71 -> 0 | L71: =Erebuni!L71+Kentron!L71+Ajapnyak!L71+Shengavit!L71+Avan!L71+Arabkir!L71+Malatia!L71+Kotayq!L71+Armavir!L71+Ararat!L71+Aragacotn!L71+Shirak!L71+Lori!L71+Tavush!L71+Gexarquniq!L71+Syuniq!L71 -> 0 | ... AH71: =Erebuni!AH71+Kentron!AH71+Ajapnyak!AH71+Shengavit!AH71+Avan!AH71+Arabkir!AH71+Malatia!AH71+Kotayq!AH71+Armavir!AH71+Ararat!AH71+Aragacotn!AH71+Shirak!AH71+Lori!AH71+Tavush!AH71+Gexarquniq!AH71+Syuniq!AH71 -> 0
A72: 4.13 | B72: ²ÛÉ í»×»ñ | E72: =Erebuni!E72+Kentron!E72+Ajapnyak!E72+Shengavit!E72+Avan!E72+Arabkir!E72+Malatia!E72+Kotayq!E72+Armavir!E72+Ararat!E72+Aragacotn!E72+Shirak!E72+Lori!E72+Tavush!E72+Gexarquniq!E72+Syuniq!E72 -> 58 | F72: =Erebuni!F72+Kentron!F72+Ajapnyak!F72+Shengavit!F72+Avan!F72+Arabkir!F72+Malatia!F72+Kotayq!F72+Armavir!F72+Ararat!F72+Aragacotn!F72+Shirak!F72+Lori!F72+Tavush!F72+Gexarquniq!F72+Syuniq!F72 -> 9 | G72: =Erebuni!G72+Kentron!G72+Ajapnyak!G72+Shengavit!G72+Avan!G72+Arabkir!G72+Malatia!G72+Kotayq!G72+Armavir!G72+Ararat!G72+Aragacotn!G72+Shirak!G72+Lori!G72+Tavush!G72+Gexarquniq!G72+Syuniq!G72 -> 49 | H72: =Erebuni!H72+Kentron!H72+Ajapnyak!H72+Shengavit!H72+Avan!H72+Arabkir!H72+Malatia!H72+Kotayq!H72+Armavir!H72+Ararat!H72+Aragacotn!H72+Shirak!H72+Lori!H72+Tavush!H72+Gexarquniq!H72+Syuniq!H72 -> 0 | I72: =Erebuni!I72+Kentron!I72+Ajapnyak!I72+Shengavit!I72+Avan!I72+Arabkir!I72+Malatia!I72+Kotayq!I72+Armavir!I72+Ararat!I72+Aragacotn!I72+Shirak!I72+Lori!I72+Tavush!I72+Gexarquniq!I72+Syuniq!I72 -> 0 | J72: =Erebuni!J72+Kentron!J72+Ajapnyak!J72+Shengavit!J72+Avan!J72+Arabkir!J72+Malatia!J72+Kotayq!J72+Armavir!J72+Ararat!J72+Aragacotn!J72+Shirak!J72+Lori!J72+Tavush!J72+Gexarquniq!J72+Syuniq!J72 -> 40 | K72: =Erebuni!K72+Kentron!K72+Ajapnyak!K72+Shengavit!K72+Avan!K72+Arabkir!K72+Malatia!K72+Kotayq!K72+Armavir!K72+Ararat!K72+Aragacotn!K72+Shirak!K72+Lori!K72+Tavush!K72+Gexarquniq!K72+Syuniq!K72 -> 31 | L72: =Erebuni!L72+Kentron!L72+Ajapnyak!L72+Shengavit!L72+Avan!L72+Arabkir!L72+Malatia!L72+Kotayq!L72+Armavir!L72+Ararat!L72+Aragacotn!L72+Shirak!L72+Lori!L72+Tavush!L72+Gexarquniq!L72+Syuniq!L72 -> 7 | ... AH72: =Erebuni!AH72+Kentron!AH72+Ajapnyak!AH72+Shengavit!AH72+Avan!AH72+Arabkir!AH72+Malatia!AH72+Kotayq!AH72+Armavir!AH72+Ararat!AH72+Aragacotn!AH72+Shirak!AH72+Lori!AH72+Tavush!AH72+Gexarquniq!AH72+Syuniq!AH72 -> 0
A73: 5. | B73: Øï³íáñ ë»÷³Ï³ÝáõÃÛ³Ý Ñ»ï Ï³åí³ÍÇñ³í³Ñ³ñ³µ»ñáõÃÛáõÝÝ»ñÇ í»ñ³µ»ñÛ³É ¹³ï³Ï³Ý ·áñÍ»ñ | E73: =SUM(E74:E79) -> 15 | F73: =SUM(F74:F79) -> 2 | G73: =SUM(G74:G79) -> 13 | H73: =SUM(H74:H79) -> 0 | I73: =SUM(I74:I79) -> 0 | J73: =SUM(J74:J79) -> 6 | K73: =SUM(K74:K79) -> 5 | L73: =SUM(L74:L79) -> 1 | ... AI73: =SUM(AI74:AI79) -> 0
A74: 5.1 | B74: ÈÇó»Ý½³ÛÇÝ å³ÛÙ³Ý³·ñÇ ÉáõÍÙ³Ý, ÷á÷áËÙ³Ý ¨ ³Ýí³í»ñáõÃÛ³Ý í»ñ³µ»ñÛ³É | E74: =Erebuni!E74+Kentron!E74+Ajapnyak!E74+Shengavit!E74+Avan!E74+Arabkir!E74+Malatia!E74+Kotayq!E74+Armavir!E74+Ararat!E74+Aragacotn!E74+Shirak!E74+Lori!E74+Tavush!E74+Gexarquniq!E74+Syuniq!E74 -> 0 | F74: =Erebuni!F74+Kentron!F74+Ajapnyak!F74+Shengavit!F74+Avan!F74+Arabkir!F74+Malatia!F74+Kotayq!F74+Armavir!F74+Ararat!F74+Aragacotn!F74+Shirak!F74+Lori!F74+Tavush!F74+Gexarquniq!F74+Syuniq!F74 -> 0 | G74: =Erebuni!G74+Kentron!G74+Ajapnyak!G74+Shengavit!G74+Avan!G74+Arabkir!G74+Malatia!G74+Kotayq!G74+Armavir!G74+Ararat!G74+Aragacotn!G74+Shirak!G74+Lori!G74+Tavush!G74+Gexarquniq!G74+Syuniq!G74 -> 0 | H74: =Erebuni!H74+Kentron!H74+Ajapnyak!H74+Shengavit!H74+Avan!H74+Arabkir!H74+Malatia!H74+Kotayq!H74+Armavir!H74+Ararat!H74+Aragacotn!H74+Shirak!H74+Lori!H74+Tavush!H74+Gexarquniq!H74+Syuniq!H74 -> 0 | I74: =Erebuni!I74+Kentron!I74+Ajapnyak!I74+Shengavit!I74+Avan!I74+Arabkir!I74+Malatia!I74+Kotayq!I74+Armavir!I74+Ararat!I74+Aragacotn!I74+Shirak!I74+Lori!I74+Tavush!I74+Gexarquniq!I74+Syuniq!I74 -> 0 | J74: =Erebuni!J74+Kentron!J74+Ajapnyak!J74+Shengavit!J74+Avan!J74+Arabkir!J74+Malatia!J74+Kotayq!J74+Armavir!J74+Ararat!J74+Aragacotn!J74+Shirak!J74+Lori!J74+Tavush!J74+Gexarquniq!J74+Syuniq!J74 -> 0 | K74: =Erebuni!K74+Kentron!K74+Ajapnyak!K74+Shengavit!K74+Avan!K74+Arabkir!K74+Malatia!K74+Kotayq!K74+Armavir!K74+Ararat!K74+Aragacotn!K74+Shirak!K74+Lori!K74+Tavush!K74+Gexarquniq!K74+Syuniq!K74 -> 0 | L74: =Erebuni!L74+Kentron!L74+Ajapnyak!L74+Shengavit!L74+Avan!L74+Arabkir!L74+Malatia!L74+Kotayq!L74+Armavir!L74+Ararat!L74+Aragacotn!L74+Shirak!L74+Lori!L74+Tavush!L74+Gexarquniq!L74+Syuniq!L74 -> 0 | ... AH74: =Erebuni!AH74+Kentron!AH74+Ajapnyak!AH74+Shengavit!AH74+Avan!AH74+Arabkir!AH74+Malatia!AH74+Kotayq!AH74+Armavir!AH74+Ararat!AH74+Aragacotn!AH74+Shirak!AH74+Lori!AH74+Tavush!AH74+Gexarquniq!AH74+Syuniq!AH74 -> 0
A75: 5.2 | B75: Øï³íáñ ·áñÍáõÝ»áõÃÛ³Ý ³ñ¹ÛáõÝùÝ»ñ ëï»ÕÍ»Éáõ ¨ û·ï³·áñÍ»Éáõ å³ÛÙ³Ý³·ñÇ ÉáõÍÙ³Ý, ÷á÷áËÙ³Ý áõ ³Ýí³í»ñáõÃÛ³Ý í»ñ³µ»ñÛ³É | E75: =Erebuni!E75+Kentron!E75+Ajapnyak!E75+Shengavit!E75+Avan!E75+Arabkir!E75+Malatia!E75+Kotayq!E75+Armavir!E75+Ararat!E75+Aragacotn!E75+Shirak!E75+Lori!E75+Tavush!E75+Gexarquniq!E75+Syuniq!E75 -> 0 | F75: =Erebuni!F75+Kentron!F75+Ajapnyak!F75+Shengavit!F75+Avan!F75+Arabkir!F75+Malatia!F75+Kotayq!F75+Armavir!F75+Ararat!F75+Aragacotn!F75+Shirak!F75+Lori!F75+Tavush!F75+Gexarquniq!F75+Syuniq!F75 -> 0 | G75: =Erebuni!G75+Kentron!G75+Ajapnyak!G75+Shengavit!G75+Avan!G75+Arabkir!G75+Malatia!G75+Kotayq!G75+Armavir!G75+Ararat!G75+Aragacotn!G75+Shirak!G75+Lori!G75+Tavush!G75+Gexarquniq!G75+Syuniq!G75 -> 0 | H75: =Erebuni!H75+Kentron!H75+Ajapnyak!H75+Shengavit!H75+Avan!H75+Arabkir!H75+Malatia!H75+Kotayq!H75+Armavir!H75+Ararat!H75+Aragacotn!H75+Shirak!H75+Lori!H75+Tavush!H75+Gexarquniq!H75+Syuniq!H75 -> 0 | I75: =Erebuni!I75+Kentron!I75+Ajapnyak!I75+Shengavit!I75+Avan!I75+Arabkir!I75+Malatia!I75+Kotayq!I75+Armavir!I75+Ararat!I75+Aragacotn!I75+Shirak!I75+Lori!I75+Tavush!I75+Gexarquniq!I75+Syuniq!I75 -> 0 | J75: =Erebuni!J75+Kentron!J75+Ajapnyak!J75+Shengavit!J75+Avan!J75+Arabkir!J75+Malatia!J75+Kotayq!J75+Armavir!J75+Ararat!J75+Aragacotn!J75+Shirak!J75+Lori!J75+Tavush!J75+Gexarquniq!J75+Syuniq!J75 -> 0 | K75: =Erebuni!K75+Kentron!K75+Ajapnyak!K75+Shengavit!K75+Avan!K75+Arabkir!K75+Malatia!K75+Kotayq!K75+Armavir!K75+Ararat!K75+Aragacotn!K75+Shirak!K75+Lori!K75+Tavush!K75+Gexarquniq!K75+Syuniq!K75 -> 0 | L75: =Erebuni!L75+Kentron!L75+Ajapnyak!L75+Shengavit!L75+Avan!L75+Arabkir!L75+Malatia!L75+Kotayq!L75+Armavir!L75+Ararat!L75+Aragacotn!L75+Shirak!L75+Lori!L75+Tavush!L75+Gexarquniq!L75+Syuniq!L75 -> 0 | ... AH75: =Erebuni!AH75+Kentron!AH75+Ajapnyak!AH75+Shengavit!AH75+Avan!AH75+Arabkir!AH75+Malatia!AH75+Kotayq!AH75+Armavir!AH75+Ararat!AH75+Aragacotn!AH75+Shirak!AH75+Lori!AH75+Tavush!AH75+Gexarquniq!AH75+Syuniq!AH75 -> 0
A76: 5.3 | B76: Ð»ÕÇÝ³Ï³ÛÇÝ ¨ Ñ³ñ³ÏÇó Çñ³íáõÝùÝ»ñÇ í»ñ³µ»ñÛ³É | E76: =Erebuni!E76+Kentron!E76+Ajapnyak!E76+Shengavit!E76+Avan!E76+Arabkir!E76+Malatia!E76+Kotayq!E76+Armavir!E76+Ararat!E76+Aragacotn!E76+Shirak!E76+Lori!E76+Tavush!E76+Gexarquniq!E76+Syuniq!E76 -> 7 | F76: =Erebuni!F76+Kentron!F76+Ajapnyak!F76+Shengavit!F76+Avan!F76+Arabkir!F76+Malatia!F76+Kotayq!F76+Armavir!F76+Ararat!F76+Aragacotn!F76+Shirak!F76+Lori!F76+Tavush!F76+Gexarquniq!F76+Syuniq!F76 -> 0 | G76: =Erebuni!G76+Kentron!G76+Ajapnyak!G76+Shengavit!G76+Avan!G76+Arabkir!G76+Malatia!G76+Kotayq!G76+Armavir!G76+Ararat!G76+Aragacotn!G76+Shirak!G76+Lori!G76+Tavush!G76+Gexarquniq!G76+Syuniq!G76 -> 7 | H76: =Erebuni!H76+Kentron!H76+Ajapnyak!H76+Shengavit!H76+Avan!H76+Arabkir!H76+Malatia!H76+Kotayq!H76+Armavir!H76+Ararat!H76+Aragacotn!H76+Shirak!H76+Lori!H76+Tavush!H76+Gexarquniq!H76+Syuniq!H76 -> 0 | I76: =Erebuni!I76+Kentron!I76+Ajapnyak!I76+Shengavit!I76+Avan!I76+Arabkir!I76+Malatia!I76+Kotayq!I76+Armavir!I76+Ararat!I76+Aragacotn!I76+Shirak!I76+Lori!I76+Tavush!I76+Gexarquniq!I76+Syuniq!I76 -> 0 | J76: =Erebuni!J76+Kentron!J76+Ajapnyak!J76+Shengavit!J76+Avan!J76+Arabkir!J76+Malatia!J76+Kotayq!J76+Armavir!J76+Ararat!J76+Aragacotn!J76+Shirak!J76+Lori!J76+Tavush!J76+Gexarquniq!J76+Syuniq!J76 -> 5 | K76: =Erebuni!K76+Kentron!K76+Ajapnyak!K76+Shengavit!K76+Avan!K76+Arabkir!K76+Malatia!K76+Kotayq!K76+Armavir!K76+Ararat!K76+Aragacotn!K76+Shirak!K76+Lori!K76+Tavush!K76+Gexarquniq!K76+Syuniq!K76 -> 4 | L76: =Erebuni!L76+Kentron!L76+Ajapnyak!L76+Shengavit!L76+Avan!L76+Arabkir!L76+Malatia!L76+Kotayq!L76+Armavir!L76+Ararat!L76+Aragacotn!L76+Shirak!L76+Lori!L76+Tavush!L76+Gexarquniq!L76+Syuniq!L76 -> 1 | ... AH76: =Erebuni!AH76+Kentron!AH76+Ajapnyak!AH76+Shengavit!AH76+Avan!AH76+Arabkir!AH76+Malatia!AH76+Kotayq!AH76+Armavir!AH76+Ararat!AH76+Aragacotn!AH76+Shirak!AH76+Lori!AH76+Tavush!AH76+Gexarquniq!AH76+Syuniq!AH76 -> 0
A77: 5.4 | B77: üÇñÙ³ÛÇÝ ³Ýí³ÝÙ³Ý í»ñ³µ»ñÛ³É | E77: =Erebuni!E77+Kentron!E77+Ajapnyak!E77+Shengavit!E77+Avan!E77+Arabkir!E77+Malatia!E77+Kotayq!E77+Armavir!E77+Ararat!E77+Aragacotn!E77+Shirak!E77+Lori!E77+Tavush!E77+Gexarquniq!E77+Syuniq!E77 -> 0 | F77: =Erebuni!F77+Kentron!F77+Ajapnyak!F77+Shengavit!F77+Avan!F77+Arabkir!F77+Malatia!F77+Kotayq!F77+Armavir!F77+Ararat!F77+Aragacotn!F77+Shirak!F77+Lori!F77+Tavush!F77+Gexarquniq!F77+Syuniq!F77 -> 0 | G77: =Erebuni!G77+Kentron!G77+Ajapnyak!G77+Shengavit!G77+Avan!G77+Arabkir!G77+Malatia!G77+Kotayq!G77+Armavir!G77+Ararat!G77+Aragacotn!G77+Shirak!G77+Lori!G77+Tavush!G77+Gexarquniq!G77+Syuniq!G77 -> 0 | H77: =Erebuni!H77+Kentron!H77+Ajapnyak!H77+Shengavit!H77+Avan!H77+Arabkir!H77+Malatia!H77+Kotayq!H77+Armavir!H77+Ararat!H77+Aragacotn!H77+Shirak!H77+Lori!H77+Tavush!H77+Gexarquniq!H77+Syuniq!H77 -> 0 | I77: =Erebuni!I77+Kentron!I77+Ajapnyak!I77+Shengavit!I77+Avan!I77+Arabkir!I77+Malatia!I77+Kotayq!I77+Armavir!I77+Ararat!I77+Aragacotn!I77+Shirak!I77+Lori!I77+Tavush!I77+Gexarquniq!I77+Syuniq!I77 -> 0 | J77: =Erebuni!J77+Kentron!J77+Ajapnyak!J77+Shengavit!J77+Avan!J77+Arabkir!J77+Malatia!J77+Kotayq!J77+Armavir!J77+Ararat!J77+Aragacotn!J77+Shirak!J77+Lori!J77+Tavush!J77+Gexarquniq!J77+Syuniq!J77 -> 0 | K77: =Erebuni!K77+Kentron!K77+Ajapnyak!K77+Shengavit!K77+Avan!K77+Arabkir!K77+Malatia!K77+Kotayq!K77+Armavir!K77+Ararat!K77+Aragacotn!K77+Shirak!K77+Lori!K77+Tavush!K77+Gexarquniq!K77+Syuniq!K77 -> 0 | L77: =Erebuni!L77+Kentron!L77+Ajapnyak!L77+Shengavit!L77+Avan!L77+Arabkir!L77+Malatia!L77+Kotayq!L77+Armavir!L77+Ararat!L77+Aragacotn!L77+Shirak!L77+Lori!L77+Tavush!L77+Gexarquniq!L77+Syuniq!L77 -> 0 | ... AH77: =Erebuni!AH77+Kentron!AH77+Ajapnyak!AH77+Shengavit!AH77+Avan!AH77+Arabkir!AH77+Malatia!AH77+Kotayq!AH77+Armavir!AH77+Ararat!AH77+Aragacotn!AH77+Shirak!AH77+Lori!AH77+Tavush!AH77+Gexarquniq!AH77+Syuniq!AH77 -> 0
A78: 5.5 | B78: ²åñ³Ýù³ÛÇÝ Ýß³ÝÇ í»ñ³µ»ñÛ³É | E78: =Erebuni!E78+Kentron!E78+Ajapnyak!E78+Shengavit!E78+Avan!E78+Arabkir!E78+Malatia!E78+Kotayq!E78+Armavir!E78+Ararat!E78+Aragacotn!E78+Shirak!E78+Lori!E78+Tavush!E78+Gexarquniq!E78+Syuniq!E78 -> 7 | F78: =Erebuni!F78+Kentron!F78+Ajapnyak!F78+Shengavit!F78+Avan!F78+Arabkir!F78+Malatia!F78+Kotayq!F78+Armavir!F78+Ararat!F78+Aragacotn!F78+Shirak!F78+Lori!F78+Tavush!F78+Gexarquniq!F78+Syuniq!F78 -> 2 | G78: =Erebuni!G78+Kentron!G78+Ajapnyak!G78+Shengavit!G78+Avan!G78+Arabkir!G78+Malatia!G78+Kotayq!G78+Armavir!G78+Ararat!G78+Aragacotn!G78+Shirak!G78+Lori!G78+Tavush!G78+Gexarquniq!G78+Syuniq!G78 -> 5 | H78: =Erebuni!H78+Kentron!H78+Ajapnyak!H78+Shengavit!H78+Avan!H78+Arabkir!H78+Malatia!H78+Kotayq!H78+Armavir!H78+Ararat!H78+Aragacotn!H78+Shirak!H78+Lori!H78+Tavush!H78+Gexarquniq!H78+Syuniq!H78 -> 0 | I78: =Erebuni!I78+Kentron!I78+Ajapnyak!I78+Shengavit!I78+Avan!I78+Arabkir!I78+Malatia!I78+Kotayq!I78+Armavir!I78+Ararat!I78+Aragacotn!I78+Shirak!I78+Lori!I78+Tavush!I78+Gexarquniq!I78+Syuniq!I78 -> 0 | J78: =Erebuni!J78+Kentron!J78+Ajapnyak!J78+Shengavit!J78+Avan!J78+Arabkir!J78+Malatia!J78+Kotayq!J78+Armavir!J78+Ararat!J78+Aragacotn!J78+Shirak!J78+Lori!J78+Tavush!J78+Gexarquniq!J78+Syuniq!J78 -> 1 | K78: =Erebuni!K78+Kentron!K78+Ajapnyak!K78+Shengavit!K78+Avan!K78+Arabkir!K78+Malatia!K78+Kotayq!K78+Armavir!K78+Ararat!K78+Aragacotn!K78+Shirak!K78+Lori!K78+Tavush!K78+Gexarquniq!K78+Syuniq!K78 -> 1 | L78: =Erebuni!L78+Kentron!L78+Ajapnyak!L78+Shengavit!L78+Avan!L78+Arabkir!L78+Malatia!L78+Kotayq!L78+Armavir!L78+Ararat!L78+Aragacotn!L78+Shirak!L78+Lori!L78+Tavush!L78+Gexarquniq!L78+Syuniq!L78 -> 0 | ... AH78: =Erebuni!AH78+Kentron!AH78+Ajapnyak!AH78+Shengavit!AH78+Avan!AH78+Arabkir!AH78+Malatia!AH78+Kotayq!AH78+Armavir!AH78+Ararat!AH78+Aragacotn!AH78+Shirak!AH78+Lori!AH78+Tavush!AH78+Gexarquniq!AH78+Syuniq!AH78 -> 0
A79: 5.6 | B79: ²ÛÉ í»×»ñ | E79: =Erebuni!E79+Kentron!E79+Ajapnyak!E79+Shengavit!E79+Avan!E79+Arabkir!E79+Malatia!E79+Kotayq!E79+Armavir!E79+Ararat!E79+Aragacotn!E79+Shirak!E79+Lori!E79+Tavush!E79+Gexarquniq!E79+Syuniq!E79 -> 1 | F79: =Erebuni!F79+Kentron!F79+Ajapnyak!F79+Shengavit!F79+Avan!F79+Arabkir!F79+Malatia!F79+Kotayq!F79+Armavir!F79+Ararat!F79+Aragacotn!F79+Shirak!F79+Lori!F79+Tavush!F79+Gexarquniq!F79+Syuniq!F79 -> 0 | G79: =Erebuni!G79+Kentron!G79+Ajapnyak!G79+Shengavit!G79+Avan!G79+Arabkir!G79+Malatia!G79+Kotayq!G79+Armavir!G79+Ararat!G79+Aragacotn!G79+Shirak!G79+Lori!G79+Tavush!G79+Gexarquniq!G79+Syuniq!G79 -> 1 | H79: =Erebuni!H79+Kentron!H79+Ajapnyak!H79+Shengavit!H79+Avan!H79+Arabkir!H79+Malatia!H79+Kotayq!H79+Armavir!H79+Ararat!H79+Aragacotn!H79+Shirak!H79+Lori!H79+Tavush!H79+Gexarquniq!H79+Syuniq!H79 -> 0 | I79: =Erebuni!I79+Kentron!I79+Ajapnyak!I79+Shengavit!I79+Avan!I79+Arabkir!I79+Malatia!I79+Kotayq!I79+Armavir!I79+Ararat!I79+Aragacotn!I79+Shirak!I79+Lori!I79+Tavush!I79+Gexarquniq!I79+Syuniq!I79 -> 0 | J79: =Erebuni!J79+Kentron!J79+Ajapnyak!J79+Shengavit!J79+Avan!J79+Arabkir!J79+Malatia!J79+Kotayq!J79+Armavir!J79+Ararat!J79+Aragacotn!J79+Shirak!J79+Lori!J79+Tavush!J79+Gexarquniq!J79+Syuniq!J79 -> 0 | K79: =Erebuni!K79+Kentron!K79+Ajapnyak!K79+Shengavit!K79+Avan!K79+Arabkir!K79+Malatia!K79+Kotayq!K79+Armavir!K79+Ararat!K79+Aragacotn!K79+Shirak!K79+Lori!K79+Tavush!K79+Gexarquniq!K79+Syuniq!K79 -> 0 | L79: =Erebuni!L79+Kentron!L79+Ajapnyak!L79+Shengavit!L79+Avan!L79+Arabkir!L79+Malatia!L79+Kotayq!L79+Armavir!L79+Ararat!L79+Aragacotn!L79+Shirak!L79+Lori!L79+Tavush!L79+Gexarquniq!L79+Syuniq!L79 -> 0 | ... AH79: =Erebuni!AH79+Kentron!AH79+Ajapnyak!AH79+Shengavit!AH79+Avan!AH79+Arabkir!AH79+Malatia!AH79+Kotayq!AH79+Armavir!AH79+Ararat!AH79+Aragacotn!AH79+Shirak!AH79+Lori!AH79+Tavush!AH79+Gexarquniq!AH79+Syuniq!AH79 -> 0
A80: 6. | B80: ²ßË³ï³Ýù³ÛÇÝ Çñ³í³Ñ³ñ³µ»ñáõÃÛáõÝÝ»ñÇ í»ñ³µ»ñÛ³É ¹³ï³Ï³Ý ·áñÍ»ñ | E80: =SUM(E81:E86) -> 170 | F80: =SUM(F81:F86) -> 19 | G80: =SUM(G81:G86) -> 150 | H80: =SUM(H81:H86) -> 1 | I80: =SUM(I81:I86) -> 0 | J80: =SUM(J81:J86) -> 294 | K80: =SUM(K81:K86) -> 277 | L80: =SUM(L81:L86) -> 15 | ... AI80: =SUM(AI81:AI86) -> 0
A81: 6.1 | B81: ²ßË³ï³Ýù³ÛÇÝ å³ÛÙ³Ý³·ñ»ñÇ í»ñ³µ»ñÛ³É | E81: =Erebuni!E81+Kentron!E81+Ajapnyak!E81+Shengavit!E81+Avan!E81+Arabkir!E81+Malatia!E81+Kotayq!E81+Armavir!E81+Ararat!E81+Aragacotn!E81+Shirak!E81+Lori!E81+Tavush!E81+Gexarquniq!E81+Syuniq!E81 -> 14 | F81: =Erebuni!F81+Kentron!F81+Ajapnyak!F81+Shengavit!F81+Avan!F81+Arabkir!F81+Malatia!F81+Kotayq!F81+Armavir!F81+Ararat!F81+Aragacotn!F81+Shirak!F81+Lori!F81+Tavush!F81+Gexarquniq!F81+Syuniq!F81 -> 0 | G81: =Erebuni!G81+Kentron!G81+Ajapnyak!G81+Shengavit!G81+Avan!G81+Arabkir!G81+Malatia!G81+Kotayq!G81+Armavir!G81+Ararat!G81+Aragacotn!G81+Shirak!G81+Lori!G81+Tavush!G81+Gexarquniq!G81+Syuniq!G81 -> 14 | H81: =Erebuni!H81+Kentron!H81+Ajapnyak!H81+Shengavit!H81+Avan!H81+Arabkir!H81+Malatia!H81+Kotayq!H81+Armavir!H81+Ararat!H81+Aragacotn!H81+Shirak!H81+Lori!H81+Tavush!H81+Gexarquniq!H81+Syuniq!H81 -> 0 | I81: =Erebuni!I81+Kentron!I81+Ajapnyak!I81+Shengavit!I81+Avan!I81+Arabkir!I81+Malatia!I81+Kotayq!I81+Armavir!I81+Ararat!I81+Aragacotn!I81+Shirak!I81+Lori!I81+Tavush!I81+Gexarquniq!I81+Syuniq!I81 -> 0 | J81: =Erebuni!J81+Kentron!J81+Ajapnyak!J81+Shengavit!J81+Avan!J81+Arabkir!J81+Malatia!J81+Kotayq!J81+Armavir!J81+Ararat!J81+Aragacotn!J81+Shirak!J81+Lori!J81+Tavush!J81+Gexarquniq!J81+Syuniq!J81 -> 5 | K81: =Erebuni!K81+Kentron!K81+Ajapnyak!K81+Shengavit!K81+Avan!K81+Arabkir!K81+Malatia!K81+Kotayq!K81+Armavir!K81+Ararat!K81+Aragacotn!K81+Shirak!K81+Lori!K81+Tavush!K81+Gexarquniq!K81+Syuniq!K81 -> 5 | L81: =Erebuni!L81+Kentron!L81+Ajapnyak!L81+Shengavit!L81+Avan!L81+Arabkir!L81+Malatia!L81+Kotayq!L81+Armavir!L81+Ararat!L81+Aragacotn!L81+Shirak!L81+Lori!L81+Tavush!L81+Gexarquniq!L81+Syuniq!L81 -> 0 | ... AH81: =Erebuni!AH81+Kentron!AH81+Ajapnyak!AH81+Shengavit!AH81+Avan!AH81+Arabkir!AH81+Malatia!AH81+Kotayq!AH81+Armavir!AH81+Ararat!AH81+Aragacotn!AH81+Shirak!AH81+Lori!AH81+Tavush!AH81+Gexarquniq!AH81+Syuniq!AH81 -> 0
A82: 6.2 | B82: ²ßË³ï³ÝùáõÙ í»ñ³Ï³Ý·Ý»Éáõ í»ñ³µ»ñÛ³É | E82: =Erebuni!E82+Kentron!E82+Ajapnyak!E82+Shengavit!E82+Avan!E82+Arabkir!E82+Malatia!E82+Kotayq!E82+Armavir!E82+Ararat!E82+Aragacotn!E82+Shirak!E82+Lori!E82+Tavush!E82+Gexarquniq!E82+Syuniq!E82 -> 58 | F82: =Erebuni!F82+Kentron!F82+Ajapnyak!F82+Shengavit!F82+Avan!F82+Arabkir!F82+Malatia!F82+Kotayq!F82+Armavir!F82+Ararat!F82+Aragacotn!F82+Shirak!F82+Lori!F82+Tavush!F82+Gexarquniq!F82+Syuniq!F82 -> 5 | G82: =Erebuni!G82+Kentron!G82+Ajapnyak!G82+Shengavit!G82+Avan!G82+Arabkir!G82+Malatia!G82+Kotayq!G82+Armavir!G82+Ararat!G82+Aragacotn!G82+Shirak!G82+Lori!G82+Tavush!G82+Gexarquniq!G82+Syuniq!G82 -> 53 | H82: =Erebuni!H82+Kentron!H82+Ajapnyak!H82+Shengavit!H82+Avan!H82+Arabkir!H82+Malatia!H82+Kotayq!H82+Armavir!H82+Ararat!H82+Aragacotn!H82+Shirak!H82+Lori!H82+Tavush!H82+Gexarquniq!H82+Syuniq!H82 -> 0 | I82: =Erebuni!I82+Kentron!I82+Ajapnyak!I82+Shengavit!I82+Avan!I82+Arabkir!I82+Malatia!I82+Kotayq!I82+Armavir!I82+Ararat!I82+Aragacotn!I82+Shirak!I82+Lori!I82+Tavush!I82+Gexarquniq!I82+Syuniq!I82 -> 0 | J82: =Erebuni!J82+Kentron!J82+Ajapnyak!J82+Shengavit!J82+Avan!J82+Arabkir!J82+Malatia!J82+Kotayq!J82+Armavir!J82+Ararat!J82+Aragacotn!J82+Shirak!J82+Lori!J82+Tavush!J82+Gexarquniq!J82+Syuniq!J82 -> 45 | K82: =Erebuni!K82+Kentron!K82+Ajapnyak!K82+Shengavit!K82+Avan!K82+Arabkir!K82+Malatia!K82+Kotayq!K82+Armavir!K82+Ararat!K82+Aragacotn!K82+Shirak!K82+Lori!K82+Tavush!K82+Gexarquniq!K82+Syuniq!K82 -> 40 | L82: =Erebuni!L82+Kentron!L82+Ajapnyak!L82+Shengavit!L82+Avan!L82+Arabkir!L82+Malatia!L82+Kotayq!L82+Armavir!L82+Ararat!L82+Aragacotn!L82+Shirak!L82+Lori!L82+Tavush!L82+Gexarquniq!L82+Syuniq!L82 -> 4 | ... AH82: =Erebuni!AH82+Kentron!AH82+Ajapnyak!AH82+Shengavit!AH82+Avan!AH82+Arabkir!AH82+Malatia!AH82+Kotayq!AH82+Armavir!AH82+Ararat!AH82+Aragacotn!AH82+Shirak!AH82+Lori!AH82+Tavush!AH82+Gexarquniq!AH82+Syuniq!AH82 -> 1
A83: 6.3 | B83: ¶áñÍ³¹áõÉÝ ³ÝûñÇÝ³Ï³Ý ×³Ý³ã»Éáõ í»ñ³µ»ñÛ³É | E83: =Erebuni!E83+Kentron!E83+Ajapnyak!E83+Shengavit!E83+Avan!E83+Arabkir!E83+Malatia!E83+Kotayq!E83+Armavir!E83+Ararat!E83+Aragacotn!E83+Shirak!E83+Lori!E83+Tavush!E83+Gexarquniq!E83+Syuniq!E83 -> 0 | F83: =Erebuni!F83+Kentron!F83+Ajapnyak!F83+Shengavit!F83+Avan!F83+Arabkir!F83+Malatia!F83+Kotayq!F83+Armavir!F83+Ararat!F83+Aragacotn!F83+Shirak!F83+Lori!F83+Tavush!F83+Gexarquniq!F83+Syuniq!F83 -> 0 | G83: =Erebuni!G83+Kentron!G83+Ajapnyak!G83+Shengavit!G83+Avan!G83+Arabkir!G83+Malatia!G83+Kotayq!G83+Armavir!G83+Ararat!G83+Aragacotn!G83+Shirak!G83+Lori!G83+Tavush!G83+Gexarquniq!G83+Syuniq!G83 -> 0 | H83: =Erebuni!H83+Kentron!H83+Ajapnyak!H83+Shengavit!H83+Avan!H83+Arabkir!H83+Malatia!H83+Kotayq!H83+Armavir!H83+Ararat!H83+Aragacotn!H83+Shirak!H83+Lori!H83+Tavush!H83+Gexarquniq!H83+Syuniq!H83 -> 0 | I83: =Erebuni!I83+Kentron!I83+Ajapnyak!I83+Shengavit!I83+Avan!I83+Arabkir!I83+Malatia!I83+Kotayq!I83+Armavir!I83+Ararat!I83+Aragacotn!I83+Shirak!I83+Lori!I83+Tavush!I83+Gexarquniq!I83+Syuniq!I83 -> 0 | J83: =Erebuni!J83+Kentron!J83+Ajapnyak!J83+Shengavit!J83+Avan!J83+Arabkir!J83+Malatia!J83+Kotayq!J83+Armavir!J83+Ararat!J83+Aragacotn!J83+Shirak!J83+Lori!J83+Tavush!J83+Gexarquniq!J83+Syuniq!J83 -> 0 | K83: =Erebuni!K83+Kentron!K83+Ajapnyak!K83+Shengavit!K83+Avan!K83+Arabkir!K83+Malatia!K83+Kotayq!K83+Armavir!K83+Ararat!K83+Aragacotn!K83+Shirak!K83+Lori!K83+Tavush!K83+Gexarquniq!K83+Syuniq!K83 -> 0 | L83: =Erebuni!L83+Kentron!L83+Ajapnyak!L83+Shengavit!L83+Avan!L83+Arabkir!L83+Malatia!L83+Kotayq!L83+Armavir!L83+Ararat!L83+Aragacotn!L83+Shirak!L83+Lori!L83+Tavush!L83+Gexarquniq!L83+Syuniq!L83 -> 0 | ... AH83: =Erebuni!AH83+Kentron!AH83+Ajapnyak!AH83+Shengavit!AH83+Avan!AH83+Arabkir!AH83+Malatia!AH83+Kotayq!AH83+Armavir!AH83+Ararat!AH83+Aragacotn!AH83+Shirak!AH83+Lori!AH83+Tavush!AH83+Gexarquniq!AH83+Syuniq!AH83 -> 0
A84: 6.4 | B84: Ð³ñÏ³¹Çñ å³ñ³åáõñ¹Ç Ñ³ïáõóÙ³Ý í»ñ³µ»ñÛ³É | E84: =Erebuni!E84+Kentron!E84+Ajapnyak!E84+Shengavit!E84+Avan!E84+Arabkir!E84+Malatia!E84+Kotayq!E84+Armavir!E84+Ararat!E84+Aragacotn!E84+Shirak!E84+Lori!E84+Tavush!E84+Gexarquniq!E84+Syuniq!E84 -> 1 | F84: =Erebuni!F84+Kentron!F84+Ajapnyak!F84+Shengavit!F84+Avan!F84+Arabkir!F84+Malatia!F84+Kotayq!F84+Armavir!F84+Ararat!F84+Aragacotn!F84+Shirak!F84+Lori!F84+Tavush!F84+Gexarquniq!F84+Syuniq!F84 -> 1 | G84: =Erebuni!G84+Kentron!G84+Ajapnyak!G84+Shengavit!G84+Avan!G84+Arabkir!G84+Malatia!G84+Kotayq!G84+Armavir!G84+Ararat!G84+Aragacotn!G84+Shirak!G84+Lori!G84+Tavush!G84+Gexarquniq!G84+Syuniq!G84 -> 0 | H84: =Erebuni!H84+Kentron!H84+Ajapnyak!H84+Shengavit!H84+Avan!H84+Arabkir!H84+Malatia!H84+Kotayq!H84+Armavir!H84+Ararat!H84+Aragacotn!H84+Shirak!H84+Lori!H84+Tavush!H84+Gexarquniq!H84+Syuniq!H84 -> 0 | I84: =Erebuni!I84+Kentron!I84+Ajapnyak!I84+Shengavit!I84+Avan!I84+Arabkir!I84+Malatia!I84+Kotayq!I84+Armavir!I84+Ararat!I84+Aragacotn!I84+Shirak!I84+Lori!I84+Tavush!I84+Gexarquniq!I84+Syuniq!I84 -> 0 | J84: =Erebuni!J84+Kentron!J84+Ajapnyak!J84+Shengavit!J84+Avan!J84+Arabkir!J84+Malatia!J84+Kotayq!J84+Armavir!J84+Ararat!J84+Aragacotn!J84+Shirak!J84+Lori!J84+Tavush!J84+Gexarquniq!J84+Syuniq!J84 -> 1 | K84: =Erebuni!K84+Kentron!K84+Ajapnyak!K84+Shengavit!K84+Avan!K84+Arabkir!K84+Malatia!K84+Kotayq!K84+Armavir!K84+Ararat!K84+Aragacotn!K84+Shirak!K84+Lori!K84+Tavush!K84+Gexarquniq!K84+Syuniq!K84 -> 1 | L84: =Erebuni!L84+Kentron!L84+Ajapnyak!L84+Shengavit!L84+Avan!L84+Arabkir!L84+Malatia!L84+Kotayq!L84+Armavir!L84+Ararat!L84+Aragacotn!L84+Shirak!L84+Lori!L84+Tavush!L84+Gexarquniq!L84+Syuniq!L84 -> 0 | ... AH84: =Erebuni!AH84+Kentron!AH84+Ajapnyak!AH84+Shengavit!AH84+Avan!AH84+Arabkir!AH84+Malatia!AH84+Kotayq!AH84+Armavir!AH84+Ararat!AH84+Aragacotn!AH84+Shirak!AH84+Lori!AH84+Tavush!AH84+Gexarquniq!AH84+Syuniq!AH84 -> 0
A85: 6.5 | B85: âí×³ñí³Í ³ßË³ï³í³ñÓÇ ¨/Ï³Ù ³ÛÉ í×³ñÝ»ñÇ µéÝ³·³ÝÓÙ³Ý í»ñ³µ»ñÛ³É | E85: =Erebuni!E85+Kentron!E85+Ajapnyak!E85+Shengavit!E85+Avan!E85+Arabkir!E85+Malatia!E85+Kotayq!E85+Armavir!E85+Ararat!E85+Aragacotn!E85+Shirak!E85+Lori!E85+Tavush!E85+Gexarquniq!E85+Syuniq!E85 -> 75 | F85: =Erebuni!F85+Kentron!F85+Ajapnyak!F85+Shengavit!F85+Avan!F85+Arabkir!F85+Malatia!F85+Kotayq!F85+Armavir!F85+Ararat!F85+Aragacotn!F85+Shirak!F85+Lori!F85+Tavush!F85+Gexarquniq!F85+Syuniq!F85 -> 12 | G85: =Erebuni!G85+Kentron!G85+Ajapnyak!G85+Shengavit!G85+Avan!G85+Arabkir!G85+Malatia!G85+Kotayq!G85+Armavir!G85+Ararat!G85+Aragacotn!G85+Shirak!G85+Lori!G85+Tavush!G85+Gexarquniq!G85+Syuniq!G85 -> 62 | H85: =Erebuni!H85+Kentron!H85+Ajapnyak!H85+Shengavit!H85+Avan!H85+Arabkir!H85+Malatia!H85+Kotayq!H85+Armavir!H85+Ararat!H85+Aragacotn!H85+Shirak!H85+Lori!H85+Tavush!H85+Gexarquniq!H85+Syuniq!H85 -> 1 | I85: =Erebuni!I85+Kentron!I85+Ajapnyak!I85+Shengavit!I85+Avan!I85+Arabkir!I85+Malatia!I85+Kotayq!I85+Armavir!I85+Ararat!I85+Aragacotn!I85+Shirak!I85+Lori!I85+Tavush!I85+Gexarquniq!I85+Syuniq!I85 -> 0 | J85: =Erebuni!J85+Kentron!J85+Ajapnyak!J85+Shengavit!J85+Avan!J85+Arabkir!J85+Malatia!J85+Kotayq!J85+Armavir!J85+Ararat!J85+Aragacotn!J85+Shirak!J85+Lori!J85+Tavush!J85+Gexarquniq!J85+Syuniq!J85 -> 221 | K85: =Erebuni!K85+Kentron!K85+Ajapnyak!K85+Shengavit!K85+Avan!K85+Arabkir!K85+Malatia!K85+Kotayq!K85+Armavir!K85+Ararat!K85+Aragacotn!K85+Shirak!K85+Lori!K85+Tavush!K85+Gexarquniq!K85+Syuniq!K85 -> 213 | L85: =Erebuni!L85+Kentron!L85+Ajapnyak!L85+Shengavit!L85+Avan!L85+Arabkir!L85+Malatia!L85+Kotayq!L85+Armavir!L85+Ararat!L85+Aragacotn!L85+Shirak!L85+Lori!L85+Tavush!L85+Gexarquniq!L85+Syuniq!L85 -> 7 | ... AH85: =Erebuni!AH85+Kentron!AH85+Ajapnyak!AH85+Shengavit!AH85+Avan!AH85+Arabkir!AH85+Malatia!AH85+Kotayq!AH85+Armavir!AH85+Ararat!AH85+Aragacotn!AH85+Shirak!AH85+Lori!AH85+Tavush!AH85+Gexarquniq!AH85+Syuniq!AH85 -> 1
A86: 6.6 | B86: ²ÛÉ í»×»ñ | E86: =Erebuni!E86+Kentron!E86+Ajapnyak!E86+Shengavit!E86+Avan!E86+Arabkir!E86+Malatia!E86+Kotayq!E86+Armavir!E86+Ararat!E86+Aragacotn!E86+Shirak!E86+Lori!E86+Tavush!E86+Gexarquniq!E86+Syuniq!E86 -> 22 | F86: =Erebuni!F86+Kentron!F86+Ajapnyak!F86+Shengavit!F86+Avan!F86+Arabkir!F86+Malatia!F86+Kotayq!F86+Armavir!F86+Ararat!F86+Aragacotn!F86+Shirak!F86+Lori!F86+Tavush!F86+Gexarquniq!F86+Syuniq!F86 -> 1 | G86: =Erebuni!G86+Kentron!G86+Ajapnyak!G86+Shengavit!G86+Avan!G86+Arabkir!G86+Malatia!G86+Kotayq!G86+Armavir!G86+Ararat!G86+Aragacotn!G86+Shirak!G86+Lori!G86+Tavush!G86+Gexarquniq!G86+Syuniq!G86 -> 21 | H86: =Erebuni!H86+Kentron!H86+Ajapnyak!H86+Shengavit!H86+Avan!H86+Arabkir!H86+Malatia!H86+Kotayq!H86+Armavir!H86+Ararat!H86+Aragacotn!H86+Shirak!H86+Lori!H86+Tavush!H86+Gexarquniq!H86+Syuniq!H86 -> 0 | I86: =Erebuni!I86+Kentron!I86+Ajapnyak!I86+Shengavit!I86+Avan!I86+Arabkir!I86+Malatia!I86+Kotayq!I86+Armavir!I86+Ararat!I86+Aragacotn!I86+Shirak!I86+Lori!I86+Tavush!I86+Gexarquniq!I86+Syuniq!I86 -> 0 | J86: =Erebuni!J86+Kentron!J86+Ajapnyak!J86+Shengavit!J86+Avan!J86+Arabkir!J86+Malatia!J86+Kotayq!J86+Armavir!J86+Ararat!J86+Aragacotn!J86+Shirak!J86+Lori!J86+Tavush!J86+Gexarquniq!J86+Syuniq!J86 -> 22 | K86: =Erebuni!K86+Kentron!K86+Ajapnyak!K86+Shengavit!K86+Avan!K86+Arabkir!K86+Malatia!K86+Kotayq!K86+Armavir!K86+Ararat!K86+Aragacotn!K86+Shirak!K86+Lori!K86+Tavush!K86+Gexarquniq!K86+Syuniq!K86 -> 18 | L86: =Erebuni!L86+Kentron!L86+Ajapnyak!L86+Shengavit!L86+Avan!L86+Arabkir!L86+Malatia!L86+Kotayq!L86+Armavir!L86+Ararat!L86+Aragacotn!L86+Shirak!L86+Lori!L86+Tavush!L86+Gexarquniq!L86+Syuniq!L86 -> 4 | ... AH86: =Erebuni!AH86+Kentron!AH86+Ajapnyak!AH86+Shengavit!AH86+Avan!AH86+Arabkir!AH86+Malatia!AH86+Kotayq!AH86+Armavir!AH86+Ararat!AH86+Aragacotn!AH86+Shirak!AH86+Lori!AH86+Tavush!AH86+Gexarquniq!AH86+Syuniq!AH86 -> 1
A87: 7. | B87: Æñ³í³µ³Ý³Ï³Ý ³ÝÓÇ ·áñÍáõÝ»áõÃÛáõÝÇó µËáÕ Çñ³í³Ñ³ñ³µ»ñáõÃÛáõÝÝ»ñÇ í»ñ³µ»ñÛ³É ¹³ï³Ï³Ý ·áñÍ»ñ | E87: =SUM(E88:E89) -> 7 | F87: =SUM(F88:F89) -> 2 | G87: =SUM(G88:G89) -> 5 | H87: =SUM(H88:H89) -> 0 | I87: =SUM(I88:I89) -> 0 | J87: =SUM(J88:J89) -> 4 | K87: =SUM(K88:K89) -> 4 | L87: =SUM(L88:L89) -> 0 | ... AI87: =SUM(AI88:AI89) -> 0
A88: 7.1 | B88: Îáñåáñ³ïÇí í»×»ñ | E88: =Erebuni!E88+Kentron!E88+Ajapnyak!E88+Shengavit!E88+Avan!E88+Arabkir!E88+Malatia!E88+Kotayq!E88+Armavir!E88+Ararat!E88+Aragacotn!E88+Shirak!E88+Lori!E88+Tavush!E88+Gexarquniq!E88+Syuniq!E88 -> 0 | F88: =Erebuni!F88+Kentron!F88+Ajapnyak!F88+Shengavit!F88+Avan!F88+Arabkir!F88+Malatia!F88+Kotayq!F88+Armavir!F88+Ararat!F88+Aragacotn!F88+Shirak!F88+Lori!F88+Tavush!F88+Gexarquniq!F88+Syuniq!F88 -> 0 | G88: =Erebuni!G88+Kentron!G88+Ajapnyak!G88+Shengavit!G88+Avan!G88+Arabkir!G88+Malatia!G88+Kotayq!G88+Armavir!G88+Ararat!G88+Aragacotn!G88+Shirak!G88+Lori!G88+Tavush!G88+Gexarquniq!G88+Syuniq!G88 -> 0 | H88: =Erebuni!H88+Kentron!H88+Ajapnyak!H88+Shengavit!H88+Avan!H88+Arabkir!H88+Malatia!H88+Kotayq!H88+Armavir!H88+Ararat!H88+Aragacotn!H88+Shirak!H88+Lori!H88+Tavush!H88+Gexarquniq!H88+Syuniq!H88 -> 0 | I88: =Erebuni!I88+Kentron!I88+Ajapnyak!I88+Shengavit!I88+Avan!I88+Arabkir!I88+Malatia!I88+Kotayq!I88+Armavir!I88+Ararat!I88+Aragacotn!I88+Shirak!I88+Lori!I88+Tavush!I88+Gexarquniq!I88+Syuniq!I88 -> 0 | J88: =Erebuni!J88+Kentron!J88+Ajapnyak!J88+Shengavit!J88+Avan!J88+Arabkir!J88+Malatia!J88+Kotayq!J88+Armavir!J88+Ararat!J88+Aragacotn!J88+Shirak!J88+Lori!J88+Tavush!J88+Gexarquniq!J88+Syuniq!J88 -> 1 | K88: =Erebuni!K88+Kentron!K88+Ajapnyak!K88+Shengavit!K88+Avan!K88+Arabkir!K88+Malatia!K88+Kotayq!K88+Armavir!K88+Ararat!K88+Aragacotn!K88+Shirak!K88+Lori!K88+Tavush!K88+Gexarquniq!K88+Syuniq!K88 -> 1 | L88: =Erebuni!L88+Kentron!L88+Ajapnyak!L88+Shengavit!L88+Avan!L88+Arabkir!L88+Malatia!L88+Kotayq!L88+Armavir!L88+Ararat!L88+Aragacotn!L88+Shirak!L88+Lori!L88+Tavush!L88+Gexarquniq!L88+Syuniq!L88 -> 0 | ... AH88: =Erebuni!AH88+Kentron!AH88+Ajapnyak!AH88+Shengavit!AH88+Avan!AH88+Arabkir!AH88+Malatia!AH88+Kotayq!AH88+Armavir!AH88+Ararat!AH88+Aragacotn!AH88+Shirak!AH88+Lori!AH88+Tavush!AH88+Gexarquniq!AH88+Syuniq!AH88 -> 0
A89: 7.2 | B89: ²ÛÉ í»×»ñ | E89: =Erebuni!E89+Kentron!E89+Ajapnyak!E89+Shengavit!E89+Avan!E89+Arabkir!E89+Malatia!E89+Kotayq!E89+Armavir!E89+Ararat!E89+Aragacotn!E89+Shirak!E89+Lori!E89+Tavush!E89+Gexarquniq!E89+Syuniq!E89 -> 7 | F89: =Erebuni!F89+Kentron!F89+Ajapnyak!F89+Shengavit!F89+Avan!F89+Arabkir!F89+Malatia!F89+Kotayq!F89+Armavir!F89+Ararat!F89+Aragacotn!F89+Shirak!F89+Lori!F89+Tavush!F89+Gexarquniq!F89+Syuniq!F89 -> 2 | G89: =Erebuni!G89+Kentron!G89+Ajapnyak!G89+Shengavit!G89+Avan!G89+Arabkir!G89+Malatia!G89+Kotayq!G89+Armavir!G89+Ararat!G89+Aragacotn!G89+Shirak!G89+Lori!G89+Tavush!G89+Gexarquniq!G89+Syuniq!G89 -> 5 | H89: =Erebuni!H89+Kentron!H89+Ajapnyak!H89+Shengavit!H89+Avan!H89+Arabkir!H89+Malatia!H89+Kotayq!H89+Armavir!H89+Ararat!H89+Aragacotn!H89+Shirak!H89+Lori!H89+Tavush!H89+Gexarquniq!H89+Syuniq!H89 -> 0 | I89: =Erebuni!I89+Kentron!I89+Ajapnyak!I89+Shengavit!I89+Avan!I89+Arabkir!I89+Malatia!I89+Kotayq!I89+Armavir!I89+Ararat!I89+Aragacotn!I89+Shirak!I89+Lori!I89+Tavush!I89+Gexarquniq!I89+Syuniq!I89 -> 0 | J89: =Erebuni!J89+Kentron!J89+Ajapnyak!J89+Shengavit!J89+Avan!J89+Arabkir!J89+Malatia!J89+Kotayq!J89+Armavir!J89+Ararat!J89+Aragacotn!J89+Shirak!J89+Lori!J89+Tavush!J89+Gexarquniq!J89+Syuniq!J89 -> 3 | K89: =Erebuni!K89+Kentron!K89+Ajapnyak!K89+Shengavit!K89+Avan!K89+Arabkir!K89+Malatia!K89+Kotayq!K89+Armavir!K89+Ararat!K89+Aragacotn!K89+Shirak!K89+Lori!K89+Tavush!K89+Gexarquniq!K89+Syuniq!K89 -> 3 | L89: =Erebuni!L89+Kentron!L89+Ajapnyak!L89+Shengavit!L89+Avan!L89+Arabkir!L89+Malatia!L89+Kotayq!L89+Armavir!L89+Ararat!L89+Aragacotn!L89+Shirak!L89+Lori!L89+Tavush!L89+Gexarquniq!L89+Syuniq!L89 -> 0 | ... AH89: =Erebuni!AH89+Kentron!AH89+Ajapnyak!AH89+Shengavit!AH89+Avan!AH89+Arabkir!AH89+Malatia!AH89+Kotayq!AH89+Armavir!AH89+Ararat!AH89+Aragacotn!AH89+Shirak!AH89+Lori!AH89+Tavush!AH89+Gexarquniq!AH89+Syuniq!AH89 -> 0
A90: 8. | B90: Ð³ïáõÏ í³ñáõÛÃÇ ¹³ï³Ï³Ý ·áñÍ»ñ | E90: =SUM(E91:E111) -> 912 | F90: =SUM(F91:F111) -> 161 | G90: =SUM(G91:G111) -> 751 | H90: =SUM(H91:H111) -> 0 | I90: =SUM(I91:I111) -> 0 | J90: =SUM(J91:J111) -> 1807 | K90: =SUM(K91:K111) -> 1558 | L90: =SUM(L91:L111) -> 222 | ... AI90: =SUM(AI91:AI111) -> 0
A91: 8.1 | B91: ²Ýã³÷³Ñ³ëÇÝ ÉñÇí ·áñÍáõÝ³Ï ×³Ý³ã»Éáõ /¿Ù³ÝëÇå³óÇ³/ í»ñ³µ»ñÛ³É | E91: =Erebuni!E91+Kentron!E91+Ajapnyak!E91+Shengavit!E91+Avan!E91+Arabkir!E91+Malatia!E91+Kotayq!E91+Armavir!E91+Ararat!E91+Aragacotn!E91+Shirak!E91+Lori!E91+Tavush!E91+Gexarquniq!E91+Syuniq!E91 -> 1 | F91: =Erebuni!F91+Kentron!F91+Ajapnyak!F91+Shengavit!F91+Avan!F91+Arabkir!F91+Malatia!F91+Kotayq!F91+Armavir!F91+Ararat!F91+Aragacotn!F91+Shirak!F91+Lori!F91+Tavush!F91+Gexarquniq!F91+Syuniq!F91 -> 1 | G91: =Erebuni!G91+Kentron!G91+Ajapnyak!G91+Shengavit!G91+Avan!G91+Arabkir!G91+Malatia!G91+Kotayq!G91+Armavir!G91+Ararat!G91+Aragacotn!G91+Shirak!G91+Lori!G91+Tavush!G91+Gexarquniq!G91+Syuniq!G91 -> 0 | H91: =Erebuni!H91+Kentron!H91+Ajapnyak!H91+Shengavit!H91+Avan!H91+Arabkir!H91+Malatia!H91+Kotayq!H91+Armavir!H91+Ararat!H91+Aragacotn!H91+Shirak!H91+Lori!H91+Tavush!H91+Gexarquniq!H91+Syuniq!H91 -> 0 | I91: =Erebuni!I91+Kentron!I91+Ajapnyak!I91+Shengavit!I91+Avan!I91+Arabkir!I91+Malatia!I91+Kotayq!I91+Armavir!I91+Ararat!I91+Aragacotn!I91+Shirak!I91+Lori!I91+Tavush!I91+Gexarquniq!I91+Syuniq!I91 -> 0 | J91: =Erebuni!J91+Kentron!J91+Ajapnyak!J91+Shengavit!J91+Avan!J91+Arabkir!J91+Malatia!J91+Kotayq!J91+Armavir!J91+Ararat!J91+Aragacotn!J91+Shirak!J91+Lori!J91+Tavush!J91+Gexarquniq!J91+Syuniq!J91 -> 0 | K91: =Erebuni!K91+Kentron!K91+Ajapnyak!K91+Shengavit!K91+Avan!K91+Arabkir!K91+Malatia!K91+Kotayq!K91+Armavir!K91+Ararat!K91+Aragacotn!K91+Shirak!K91+Lori!K91+Tavush!K91+Gexarquniq!K91+Syuniq!K91 -> 0 | L91: =Erebuni!L91+Kentron!L91+Ajapnyak!L91+Shengavit!L91+Avan!L91+Arabkir!L91+Malatia!L91+Kotayq!L91+Armavir!L91+Ararat!L91+Aragacotn!L91+Shirak!L91+Lori!L91+Tavush!L91+Gexarquniq!L91+Syuniq!L91 -> 0 | ... AH91: =Erebuni!AH91+Kentron!AH91+Ajapnyak!AH91+Shengavit!AH91+Avan!AH91+Arabkir!AH91+Malatia!AH91+Kotayq!AH91+Armavir!AH91+Ararat!AH91+Aragacotn!AH91+Shirak!AH91+Lori!AH91+Tavush!AH91+Gexarquniq!AH91+Syuniq!AH91 -> 0
A92: 8.2 | B92: ø³Õ³ù³óáõÝ ³Ý·áñÍáõÝ³Ï Ï³Ù ë³ÑÙ³Ý³÷³Ï ·áñÍáõÝ³Ï ×³Ý³ã»Éáõ í»ñ³µ»ñÛ³É | E92: =Erebuni!E92+Kentron!E92+Ajapnyak!E92+Shengavit!E92+Avan!E92+Arabkir!E92+Malatia!E92+Kotayq!E92+Armavir!E92+Ararat!E92+Aragacotn!E92+Shirak!E92+Lori!E92+Tavush!E92+Gexarquniq!E92+Syuniq!E92 -> 220 | F92: =Erebuni!F92+Kentron!F92+Ajapnyak!F92+Shengavit!F92+Avan!F92+Arabkir!F92+Malatia!F92+Kotayq!F92+Armavir!F92+Ararat!F92+Aragacotn!F92+Shirak!F92+Lori!F92+Tavush!F92+Gexarquniq!F92+Syuniq!F92 -> 132 | G92: =Erebuni!G92+Kentron!G92+Ajapnyak!G92+Shengavit!G92+Avan!G92+Arabkir!G92+Malatia!G92+Kotayq!G92+Armavir!G92+Ararat!G92+Aragacotn!G92+Shirak!G92+Lori!G92+Tavush!G92+Gexarquniq!G92+Syuniq!G92 -> 88 | H92: =Erebuni!H92+Kentron!H92+Ajapnyak!H92+Shengavit!H92+Avan!H92+Arabkir!H92+Malatia!H92+Kotayq!H92+Armavir!H92+Ararat!H92+Aragacotn!H92+Shirak!H92+Lori!H92+Tavush!H92+Gexarquniq!H92+Syuniq!H92 -> 0 | I92: =Erebuni!I92+Kentron!I92+Ajapnyak!I92+Shengavit!I92+Avan!I92+Arabkir!I92+Malatia!I92+Kotayq!I92+Armavir!I92+Ararat!I92+Aragacotn!I92+Shirak!I92+Lori!I92+Tavush!I92+Gexarquniq!I92+Syuniq!I92 -> 0 | J92: =Erebuni!J92+Kentron!J92+Ajapnyak!J92+Shengavit!J92+Avan!J92+Arabkir!J92+Malatia!J92+Kotayq!J92+Armavir!J92+Ararat!J92+Aragacotn!J92+Shirak!J92+Lori!J92+Tavush!J92+Gexarquniq!J92+Syuniq!J92 -> 134 | K92: =Erebuni!K92+Kentron!K92+Ajapnyak!K92+Shengavit!K92+Avan!K92+Arabkir!K92+Malatia!K92+Kotayq!K92+Armavir!K92+Ararat!K92+Aragacotn!K92+Shirak!K92+Lori!K92+Tavush!K92+Gexarquniq!K92+Syuniq!K92 -> 123 | L92: =Erebuni!L92+Kentron!L92+Ajapnyak!L92+Shengavit!L92+Avan!L92+Arabkir!L92+Malatia!L92+Kotayq!L92+Armavir!L92+Ararat!L92+Aragacotn!L92+Shirak!L92+Lori!L92+Tavush!L92+Gexarquniq!L92+Syuniq!L92 -> 10 | ... AH92: =Erebuni!AH92+Kentron!AH92+Ajapnyak!AH92+Shengavit!AH92+Avan!AH92+Arabkir!AH92+Malatia!AH92+Kotayq!AH92+Armavir!AH92+Ararat!AH92+Aragacotn!AH92+Shirak!AH92+Lori!AH92+Tavush!AH92+Gexarquniq!AH92+Syuniq!AH92 -> 1
A93: 8.3 | B93: ø³Õ³ù³óáõÝ Ñá·»µáõÅ³Ï³Ý ÑÇí³Ý¹³Ýáó³ÛÇÝ Ñ³ñÏ³¹Çñ µáõÅÙ³Ý »ÝÃ³ñÏ»Éáõ í»ñ³µ»ñÛ³É | E93: =Erebuni!E93+Kentron!E93+Ajapnyak!E93+Shengavit!E93+Avan!E93+Arabkir!E93+Malatia!E93+Kotayq!E93+Armavir!E93+Ararat!E93+Aragacotn!E93+Shirak!E93+Lori!E93+Tavush!E93+Gexarquniq!E93+Syuniq!E93 -> 0 | F93: =Erebuni!F93+Kentron!F93+Ajapnyak!F93+Shengavit!F93+Avan!F93+Arabkir!F93+Malatia!F93+Kotayq!F93+Armavir!F93+Ararat!F93+Aragacotn!F93+Shirak!F93+Lori!F93+Tavush!F93+Gexarquniq!F93+Syuniq!F93 -> 0 | G93: =Erebuni!G93+Kentron!G93+Ajapnyak!G93+Shengavit!G93+Avan!G93+Arabkir!G93+Malatia!G93+Kotayq!G93+Armavir!G93+Ararat!G93+Aragacotn!G93+Shirak!G93+Lori!G93+Tavush!G93+Gexarquniq!G93+Syuniq!G93 -> 0 | H93: =Erebuni!H93+Kentron!H93+Ajapnyak!H93+Shengavit!H93+Avan!H93+Arabkir!H93+Malatia!H93+Kotayq!H93+Armavir!H93+Ararat!H93+Aragacotn!H93+Shirak!H93+Lori!H93+Tavush!H93+Gexarquniq!H93+Syuniq!H93 -> 0 | I93: =Erebuni!I93+Kentron!I93+Ajapnyak!I93+Shengavit!I93+Avan!I93+Arabkir!I93+Malatia!I93+Kotayq!I93+Armavir!I93+Ararat!I93+Aragacotn!I93+Shirak!I93+Lori!I93+Tavush!I93+Gexarquniq!I93+Syuniq!I93 -> 0 | J93: =Erebuni!J93+Kentron!J93+Ajapnyak!J93+Shengavit!J93+Avan!J93+Arabkir!J93+Malatia!J93+Kotayq!J93+Armavir!J93+Ararat!J93+Aragacotn!J93+Shirak!J93+Lori!J93+Tavush!J93+Gexarquniq!J93+Syuniq!J93 -> 30 | K93: =Erebuni!K93+Kentron!K93+Ajapnyak!K93+Shengavit!K93+Avan!K93+Arabkir!K93+Malatia!K93+Kotayq!K93+Armavir!K93+Ararat!K93+Aragacotn!K93+Shirak!K93+Lori!K93+Tavush!K93+Gexarquniq!K93+Syuniq!K93 -> 30 | L93: =Erebuni!L93+Kentron!L93+Ajapnyak!L93+Shengavit!L93+Avan!L93+Arabkir!L93+Malatia!L93+Kotayq!L93+Armavir!L93+Ararat!L93+Aragacotn!L93+Shirak!L93+Lori!L93+Tavush!L93+Gexarquniq!L93+Syuniq!L93 -> 0 | ... AH93: =Erebuni!AH93+Kentron!AH93+Ajapnyak!AH93+Shengavit!AH93+Avan!AH93+Arabkir!AH93+Malatia!AH93+Kotayq!AH93+Armavir!AH93+Ararat!AH93+Aragacotn!AH93+Shirak!AH93+Lori!AH93+Tavush!AH93+Gexarquniq!AH93+Syuniq!AH93 -> 0
A94: 8.4 | B94: ø³Õ³ù³óáõÝ ³ÝÑ³Ûï µ³ó³Ï³ÛáÕ Ï³Ù Ù³Ñ³ó³Í ×³Ý³ã»Éáõ í»ñ³µ»ñÛ³É | E94: =Erebuni!E94+Kentron!E94+Ajapnyak!E94+Shengavit!E94+Avan!E94+Arabkir!E94+Malatia!E94+Kotayq!E94+Armavir!E94+Ararat!E94+Aragacotn!E94+Shirak!E94+Lori!E94+Tavush!E94+Gexarquniq!E94+Syuniq!E94 -> 104 | F94: =Erebuni!F94+Kentron!F94+Ajapnyak!F94+Shengavit!F94+Avan!F94+Arabkir!F94+Malatia!F94+Kotayq!F94+Armavir!F94+Ararat!F94+Aragacotn!F94+Shirak!F94+Lori!F94+Tavush!F94+Gexarquniq!F94+Syuniq!F94 -> 4 | G94: =Erebuni!G94+Kentron!G94+Ajapnyak!G94+Shengavit!G94+Avan!G94+Arabkir!G94+Malatia!G94+Kotayq!G94+Armavir!G94+Ararat!G94+Aragacotn!G94+Shirak!G94+Lori!G94+Tavush!G94+Gexarquniq!G94+Syuniq!G94 -> 100 | H94: =Erebuni!H94+Kentron!H94+Ajapnyak!H94+Shengavit!H94+Avan!H94+Arabkir!H94+Malatia!H94+Kotayq!H94+Armavir!H94+Ararat!H94+Aragacotn!H94+Shirak!H94+Lori!H94+Tavush!H94+Gexarquniq!H94+Syuniq!H94 -> 0 | I94: =Erebuni!I94+Kentron!I94+Ajapnyak!I94+Shengavit!I94+Avan!I94+Arabkir!I94+Malatia!I94+Kotayq!I94+Armavir!I94+Ararat!I94+Aragacotn!I94+Shirak!I94+Lori!I94+Tavush!I94+Gexarquniq!I94+Syuniq!I94 -> 0 | J94: =Erebuni!J94+Kentron!J94+Ajapnyak!J94+Shengavit!J94+Avan!J94+Arabkir!J94+Malatia!J94+Kotayq!J94+Armavir!J94+Ararat!J94+Aragacotn!J94+Shirak!J94+Lori!J94+Tavush!J94+Gexarquniq!J94+Syuniq!J94 -> 137 | K94: =Erebuni!K94+Kentron!K94+Ajapnyak!K94+Shengavit!K94+Avan!K94+Arabkir!K94+Malatia!K94+Kotayq!K94+Armavir!K94+Ararat!K94+Aragacotn!K94+Shirak!K94+Lori!K94+Tavush!K94+Gexarquniq!K94+Syuniq!K94 -> 125 | L94: =Erebuni!L94+Kentron!L94+Ajapnyak!L94+Shengavit!L94+Avan!L94+Arabkir!L94+Malatia!L94+Kotayq!L94+Armavir!L94+Ararat!L94+Aragacotn!L94+Shirak!L94+Lori!L94+Tavush!L94+Gexarquniq!L94+Syuniq!L94 -> 12 | ... AH94: =Erebuni!AH94+Kentron!AH94+Ajapnyak!AH94+Shengavit!AH94+Avan!AH94+Arabkir!AH94+Malatia!AH94+Kotayq!AH94+Armavir!AH94+Ararat!AH94+Aragacotn!AH94+Shirak!AH94+Lori!AH94+Tavush!AH94+Gexarquniq!AH94+Syuniq!AH94 -> 1
A95: 8.5 | B95: ø³Õ³ù³óÇ³Ï³Ý Ï³óáõÃÛ³Ý ³Ïï»ñÇ ·ñ³éáõÙÝ»ñÇ ³Ý×ßïáõÃÛáõÝÝ»ñÁ å³ñ½»Éáõ í»ñ³µ»ñÛ³É | E95: =Erebuni!E95+Kentron!E95+Ajapnyak!E95+Shengavit!E95+Avan!E95+Arabkir!E95+Malatia!E95+Kotayq!E95+Armavir!E95+Ararat!E95+Aragacotn!E95+Shirak!E95+Lori!E95+Tavush!E95+Gexarquniq!E95+Syuniq!E95 -> 1 | F95: =Erebuni!F95+Kentron!F95+Ajapnyak!F95+Shengavit!F95+Avan!F95+Arabkir!F95+Malatia!F95+Kotayq!F95+Armavir!F95+Ararat!F95+Aragacotn!F95+Shirak!F95+Lori!F95+Tavush!F95+Gexarquniq!F95+Syuniq!F95 -> 0 | G95: =Erebuni!G95+Kentron!G95+Ajapnyak!G95+Shengavit!G95+Avan!G95+Arabkir!G95+Malatia!G95+Kotayq!G95+Armavir!G95+Ararat!G95+Aragacotn!G95+Shirak!G95+Lori!G95+Tavush!G95+Gexarquniq!G95+Syuniq!G95 -> 1 | H95: =Erebuni!H95+Kentron!H95+Ajapnyak!H95+Shengavit!H95+Avan!H95+Arabkir!H95+Malatia!H95+Kotayq!H95+Armavir!H95+Ararat!H95+Aragacotn!H95+Shirak!H95+Lori!H95+Tavush!H95+Gexarquniq!H95+Syuniq!H95 -> 0 | I95: =Erebuni!I95+Kentron!I95+Ajapnyak!I95+Shengavit!I95+Avan!I95+Arabkir!I95+Malatia!I95+Kotayq!I95+Armavir!I95+Ararat!I95+Aragacotn!I95+Shirak!I95+Lori!I95+Tavush!I95+Gexarquniq!I95+Syuniq!I95 -> 0 | J95: =Erebuni!J95+Kentron!J95+Ajapnyak!J95+Shengavit!J95+Avan!J95+Arabkir!J95+Malatia!J95+Kotayq!J95+Armavir!J95+Ararat!J95+Aragacotn!J95+Shirak!J95+Lori!J95+Tavush!J95+Gexarquniq!J95+Syuniq!J95 -> 4 | K95: =Erebuni!K95+Kentron!K95+Ajapnyak!K95+Shengavit!K95+Avan!K95+Arabkir!K95+Malatia!K95+Kotayq!K95+Armavir!K95+Ararat!K95+Aragacotn!K95+Shirak!K95+Lori!K95+Tavush!K95+Gexarquniq!K95+Syuniq!K95 -> 4 | L95: =Erebuni!L95+Kentron!L95+Ajapnyak!L95+Shengavit!L95+Avan!L95+Arabkir!L95+Malatia!L95+Kotayq!L95+Armavir!L95+Ararat!L95+Aragacotn!L95+Shirak!L95+Lori!L95+Tavush!L95+Gexarquniq!L95+Syuniq!L95 -> 0 | ... AH95: =Erebuni!AH95+Kentron!AH95+Ajapnyak!AH95+Shengavit!AH95+Avan!AH95+Arabkir!AH95+Malatia!AH95+Kotayq!AH95+Armavir!AH95+Ararat!AH95+Aragacotn!AH95+Shirak!AH95+Lori!AH95+Tavush!AH95+Gexarquniq!AH95+Syuniq!AH95 -> 0
A96: 8.6 | B96: ¶áõÛùÁ ïÇñ³½áõñÏ ×³Ý³ã»Éáõ í»ñ³µ»ñÛ³É | E96: =Erebuni!E96+Kentron!E96+Ajapnyak!E96+Shengavit!E96+Avan!E96+Arabkir!E96+Malatia!E96+Kotayq!E96+Armavir!E96+Ararat!E96+Aragacotn!E96+Shirak!E96+Lori!E96+Tavush!E96+Gexarquniq!E96+Syuniq!E96 -> 38 | F96: =Erebuni!F96+Kentron!F96+Ajapnyak!F96+Shengavit!F96+Avan!F96+Arabkir!F96+Malatia!F96+Kotayq!F96+Armavir!F96+Ararat!F96+Aragacotn!F96+Shirak!F96+Lori!F96+Tavush!F96+Gexarquniq!F96+Syuniq!F96 -> 1 | G96: =Erebuni!G96+Kentron!G96+Ajapnyak!G96+Shengavit!G96+Avan!G96+Arabkir!G96+Malatia!G96+Kotayq!G96+Armavir!G96+Ararat!G96+Aragacotn!G96+Shirak!G96+Lori!G96+Tavush!G96+Gexarquniq!G96+Syuniq!G96 -> 37 | H96: =Erebuni!H96+Kentron!H96+Ajapnyak!H96+Shengavit!H96+Avan!H96+Arabkir!H96+Malatia!H96+Kotayq!H96+Armavir!H96+Ararat!H96+Aragacotn!H96+Shirak!H96+Lori!H96+Tavush!H96+Gexarquniq!H96+Syuniq!H96 -> 0 | I96: =Erebuni!I96+Kentron!I96+Ajapnyak!I96+Shengavit!I96+Avan!I96+Arabkir!I96+Malatia!I96+Kotayq!I96+Armavir!I96+Ararat!I96+Aragacotn!I96+Shirak!I96+Lori!I96+Tavush!I96+Gexarquniq!I96+Syuniq!I96 -> 0 | J96: =Erebuni!J96+Kentron!J96+Ajapnyak!J96+Shengavit!J96+Avan!J96+Arabkir!J96+Malatia!J96+Kotayq!J96+Armavir!J96+Ararat!J96+Aragacotn!J96+Shirak!J96+Lori!J96+Tavush!J96+Gexarquniq!J96+Syuniq!J96 -> 38 | K96: =Erebuni!K96+Kentron!K96+Ajapnyak!K96+Shengavit!K96+Avan!K96+Arabkir!K96+Malatia!K96+Kotayq!K96+Armavir!K96+Ararat!K96+Aragacotn!K96+Shirak!K96+Lori!K96+Tavush!K96+Gexarquniq!K96+Syuniq!K96 -> 33 | L96: =Erebuni!L96+Kentron!L96+Ajapnyak!L96+Shengavit!L96+Avan!L96+Arabkir!L96+Malatia!L96+Kotayq!L96+Armavir!L96+Ararat!L96+Aragacotn!L96+Shirak!L96+Lori!L96+Tavush!L96+Gexarquniq!L96+Syuniq!L96 -> 5 | ... AH96: =Erebuni!AH96+Kentron!AH96+Ajapnyak!AH96+Shengavit!AH96+Avan!AH96+Arabkir!AH96+Malatia!AH96+Kotayq!AH96+Armavir!AH96+Ararat!AH96+Aragacotn!AH96+Shirak!AH96+Lori!AH96+Tavush!AH96+Gexarquniq!AH96+Syuniq!AH96 -> 0
A97: 8.6.1 | B97: ²Û¹ ÃíáõÙª ³Ýß³ñÅ ·áõÛùÁ | E97: =Erebuni!E97+Kentron!E97+Ajapnyak!E97+Shengavit!E97+Avan!E97+Arabkir!E97+Malatia!E97+Kotayq!E97+Armavir!E97+Ararat!E97+Aragacotn!E97+Shirak!E97+Lori!E97+Tavush!E97+Gexarquniq!E97+Syuniq!E97 -> 22 | F97: =Erebuni!F97+Kentron!F97+Ajapnyak!F97+Shengavit!F97+Avan!F97+Arabkir!F97+Malatia!F97+Kotayq!F97+Armavir!F97+Ararat!F97+Aragacotn!F97+Shirak!F97+Lori!F97+Tavush!F97+Gexarquniq!F97+Syuniq!F97 -> 1 | G97: =Erebuni!G97+Kentron!G97+Ajapnyak!G97+Shengavit!G97+Avan!G97+Arabkir!G97+Malatia!G97+Kotayq!G97+Armavir!G97+Ararat!G97+Aragacotn!G97+Shirak!G97+Lori!G97+Tavush!G97+Gexarquniq!G97+Syuniq!G97 -> 21 | H97: =Erebuni!H97+Kentron!H97+Ajapnyak!H97+Shengavit!H97+Avan!H97+Arabkir!H97+Malatia!H97+Kotayq!H97+Armavir!H97+Ararat!H97+Aragacotn!H97+Shirak!H97+Lori!H97+Tavush!H97+Gexarquniq!H97+Syuniq!H97 -> 0 | I97: =Erebuni!I97+Kentron!I97+Ajapnyak!I97+Shengavit!I97+Avan!I97+Arabkir!I97+Malatia!I97+Kotayq!I97+Armavir!I97+Ararat!I97+Aragacotn!I97+Shirak!I97+Lori!I97+Tavush!I97+Gexarquniq!I97+Syuniq!I97 -> 0 | J97: =Erebuni!J97+Kentron!J97+Ajapnyak!J97+Shengavit!J97+Avan!J97+Arabkir!J97+Malatia!J97+Kotayq!J97+Armavir!J97+Ararat!J97+Aragacotn!J97+Shirak!J97+Lori!J97+Tavush!J97+Gexarquniq!J97+Syuniq!J97 -> 8 | K97: =Erebuni!K97+Kentron!K97+Ajapnyak!K97+Shengavit!K97+Avan!K97+Arabkir!K97+Malatia!K97+Kotayq!K97+Armavir!K97+Ararat!K97+Aragacotn!K97+Shirak!K97+Lori!K97+Tavush!K97+Gexarquniq!K97+Syuniq!K97 -> 8 | L97: =Erebuni!L97+Kentron!L97+Ajapnyak!L97+Shengavit!L97+Avan!L97+Arabkir!L97+Malatia!L97+Kotayq!L97+Armavir!L97+Ararat!L97+Aragacotn!L97+Shirak!L97+Lori!L97+Tavush!L97+Gexarquniq!L97+Syuniq!L97 -> 0 | ... AH97: =Erebuni!AH97+Kentron!AH97+Ajapnyak!AH97+Shengavit!AH97+Avan!AH97+Arabkir!AH97+Malatia!AH97+Kotayq!AH97+Armavir!AH97+Ararat!AH97+Aragacotn!AH97+Shirak!AH97+Lori!AH97+Tavush!AH97+Gexarquniq!AH97+Syuniq!AH97 -> 0
A98: 8.6.2 | B98: ²Û¹ ÃíáõÙª ß³ñÅ³Ï³Ý ·áõÛùÁ | E98: =Erebuni!E98+Kentron!E98+Ajapnyak!E98+Shengavit!E98+Avan!E98+Arabkir!E98+Malatia!E98+Kotayq!E98+Armavir!E98+Ararat!E98+Aragacotn!E98+Shirak!E98+Lori!E98+Tavush!E98+Gexarquniq!E98+Syuniq!E98 -> 1 | F98: =Erebuni!F98+Kentron!F98+Ajapnyak!F98+Shengavit!F98+Avan!F98+Arabkir!F98+Malatia!F98+Kotayq!F98+Armavir!F98+Ararat!F98+Aragacotn!F98+Shirak!F98+Lori!F98+Tavush!F98+Gexarquniq!F98+Syuniq!F98 -> 1 | G98: =Erebuni!G98+Kentron!G98+Ajapnyak!G98+Shengavit!G98+Avan!G98+Arabkir!G98+Malatia!G98+Kotayq!G98+Armavir!G98+Ararat!G98+Aragacotn!G98+Shirak!G98+Lori!G98+Tavush!G98+Gexarquniq!G98+Syuniq!G98 -> 0 | H98: =Erebuni!H98+Kentron!H98+Ajapnyak!H98+Shengavit!H98+Avan!H98+Arabkir!H98+Malatia!H98+Kotayq!H98+Armavir!H98+Ararat!H98+Aragacotn!H98+Shirak!H98+Lori!H98+Tavush!H98+Gexarquniq!H98+Syuniq!H98 -> 0 | I98: =Erebuni!I98+Kentron!I98+Ajapnyak!I98+Shengavit!I98+Avan!I98+Arabkir!I98+Malatia!I98+Kotayq!I98+Armavir!I98+Ararat!I98+Aragacotn!I98+Shirak!I98+Lori!I98+Tavush!I98+Gexarquniq!I98+Syuniq!I98 -> 0 | J98: =Erebuni!J98+Kentron!J98+Ajapnyak!J98+Shengavit!J98+Avan!J98+Arabkir!J98+Malatia!J98+Kotayq!J98+Armavir!J98+Ararat!J98+Aragacotn!J98+Shirak!J98+Lori!J98+Tavush!J98+Gexarquniq!J98+Syuniq!J98 -> 5 | K98: =Erebuni!K98+Kentron!K98+Ajapnyak!K98+Shengavit!K98+Avan!K98+Arabkir!K98+Malatia!K98+Kotayq!K98+Armavir!K98+Ararat!K98+Aragacotn!K98+Shirak!K98+Lori!K98+Tavush!K98+Gexarquniq!K98+Syuniq!K98 -> 2 | L98: =Erebuni!L98+Kentron!L98+Ajapnyak!L98+Shengavit!L98+Avan!L98+Arabkir!L98+Malatia!L98+Kotayq!L98+Armavir!L98+Ararat!L98+Aragacotn!L98+Shirak!L98+Lori!L98+Tavush!L98+Gexarquniq!L98+Syuniq!L98 -> 3 | ... AH98: =Erebuni!AH98+Kentron!AH98+Ajapnyak!AH98+Shengavit!AH98+Avan!AH98+Arabkir!AH98+Malatia!AH98+Kotayq!AH98+Armavir!AH98+Ararat!AH98+Aragacotn!AH98+Shirak!AH98+Lori!AH98+Tavush!AH98+Gexarquniq!AH98+Syuniq!AH98 -> 1
A99: 8.7 | B99: Æñ³í³µ³Ý³Ï³Ý Ýß³Ý³ÏáõÃÛáõÝ áõÝ»óáÕ ÷³ëï»ñÇ Ñ³ëï³ïÙ³Ý í»ñ³µ»ñÛ³É | E99: =Erebuni!E99+Kentron!E99+Ajapnyak!E99+Shengavit!E99+Avan!E99+Arabkir!E99+Malatia!E99+Kotayq!E99+Armavir!E99+Ararat!E99+Aragacotn!E99+Shirak!E99+Lori!E99+Tavush!E99+Gexarquniq!E99+Syuniq!E99 -> 127 | F99: =Erebuni!F99+Kentron!F99+Ajapnyak!F99+Shengavit!F99+Avan!F99+Arabkir!F99+Malatia!F99+Kotayq!F99+Armavir!F99+Ararat!F99+Aragacotn!F99+Shirak!F99+Lori!F99+Tavush!F99+Gexarquniq!F99+Syuniq!F99 -> 6 | G99: =Erebuni!G99+Kentron!G99+Ajapnyak!G99+Shengavit!G99+Avan!G99+Arabkir!G99+Malatia!G99+Kotayq!G99+Armavir!G99+Ararat!G99+Aragacotn!G99+Shirak!G99+Lori!G99+Tavush!G99+Gexarquniq!G99+Syuniq!G99 -> 121 | H99: =Erebuni!H99+Kentron!H99+Ajapnyak!H99+Shengavit!H99+Avan!H99+Arabkir!H99+Malatia!H99+Kotayq!H99+Armavir!H99+Ararat!H99+Aragacotn!H99+Shirak!H99+Lori!H99+Tavush!H99+Gexarquniq!H99+Syuniq!H99 -> 0 | I99: =Erebuni!I99+Kentron!I99+Ajapnyak!I99+Shengavit!I99+Avan!I99+Arabkir!I99+Malatia!I99+Kotayq!I99+Armavir!I99+Ararat!I99+Aragacotn!I99+Shirak!I99+Lori!I99+Tavush!I99+Gexarquniq!I99+Syuniq!I99 -> 0 | J99: =Erebuni!J99+Kentron!J99+Ajapnyak!J99+Shengavit!J99+Avan!J99+Arabkir!J99+Malatia!J99+Kotayq!J99+Armavir!J99+Ararat!J99+Aragacotn!J99+Shirak!J99+Lori!J99+Tavush!J99+Gexarquniq!J99+Syuniq!J99 -> 212 | K99: =Erebuni!K99+Kentron!K99+Ajapnyak!K99+Shengavit!K99+Avan!K99+Arabkir!K99+Malatia!K99+Kotayq!K99+Armavir!K99+Ararat!K99+Aragacotn!K99+Shirak!K99+Lori!K99+Tavush!K99+Gexarquniq!K99+Syuniq!K99 -> 176 | L99: =Erebuni!L99+Kentron!L99+Ajapnyak!L99+Shengavit!L99+Avan!L99+Arabkir!L99+Malatia!L99+Kotayq!L99+Armavir!L99+Ararat!L99+Aragacotn!L99+Shirak!L99+Lori!L99+Tavush!L99+Gexarquniq!L99+Syuniq!L99 -> 27 | ... AH99: =Erebuni!AH99+Kentron!AH99+Ajapnyak!AH99+Shengavit!AH99+Avan!AH99+Arabkir!AH99+Malatia!AH99+Kotayq!AH99+Armavir!AH99+Ararat!AH99+Aragacotn!AH99+Shirak!AH99+Lori!AH99+Tavush!AH99+Gexarquniq!AH99+Syuniq!AH99 -> 0
A100: 8.7.1 | B100: ²ÝÓ³Ýó ³½·³Ïó³Ï³Ý Ï³åÁ Ñ³ëï³ï»Éáõ í»ñ³µ»ñÛ³É | E100: =Erebuni!E100+Kentron!E100+Ajapnyak!E100+Shengavit!E100+Avan!E100+Arabkir!E100+Malatia!E100+Kotayq!E100+Armavir!E100+Ararat!E100+Aragacotn!E100+Shirak!E100+Lori!E100+Tavush!E100+Gexarquniq!E100+Syuniq!E100 -> 69 | F100: =Erebuni!F100+Kentron!F100+Ajapnyak!F100+Shengavit!F100+Avan!F100+Arabkir!F100+Malatia!F100+Kotayq!F100+Armavir!F100+Ararat!F100+Aragacotn!F100+Shirak!F100+Lori!F100+Tavush!F100+Gexarquniq!F100+Syuniq!F100 -> 1 | G100: =Erebuni!G100+Kentron!G100+Ajapnyak!G100+Shengavit!G100+Avan!G100+Arabkir!G100+Malatia!G100+Kotayq!G100+Armavir!G100+Ararat!G100+Aragacotn!G100+Shirak!G100+Lori!G100+Tavush!G100+Gexarquniq!G100+Syuniq!G100 -> 68 | H100: =Erebuni!H100+Kentron!H100+Ajapnyak!H100+Shengavit!H100+Avan!H100+Arabkir!H100+Malatia!H100+Kotayq!H100+Armavir!H100+Ararat!H100+Aragacotn!H100+Shirak!H100+Lori!H100+Tavush!H100+Gexarquniq!H100+Syuniq!H100 -> 0 | I100: =Erebuni!I100+Kentron!I100+Ajapnyak!I100+Shengavit!I100+Avan!I100+Arabkir!I100+Malatia!I100+Kotayq!I100+Armavir!I100+Ararat!I100+Aragacotn!I100+Shirak!I100+Lori!I100+Tavush!I100+Gexarquniq!I100+Syuniq!I100 -> 0 | J100: =Erebuni!J100+Kentron!J100+Ajapnyak!J100+Shengavit!J100+Avan!J100+Arabkir!J100+Malatia!J100+Kotayq!J100+Armavir!J100+Ararat!J100+Aragacotn!J100+Shirak!J100+Lori!J100+Tavush!J100+Gexarquniq!J100+Syuniq!J100 -> 239 | K100: =Erebuni!K100+Kentron!K100+Ajapnyak!K100+Shengavit!K100+Avan!K100+Arabkir!K100+Malatia!K100+Kotayq!K100+Armavir!K100+Ararat!K100+Aragacotn!K100+Shirak!K100+Lori!K100+Tavush!K100+Gexarquniq!K100+Syuniq!K100 -> 202 | L100: =Erebuni!L100+Kentron!L100+Ajapnyak!L100+Shengavit!L100+Avan!L100+Arabkir!L100+Malatia!L100+Kotayq!L100+Armavir!L100+Ararat!L100+Aragacotn!L100+Shirak!L100+Lori!L100+Tavush!L100+Gexarquniq!L100+Syuniq!L100 -> 37 | ... AH100: =Erebuni!AH100+Kentron!AH100+Ajapnyak!AH100+Shengavit!AH100+Avan!AH100+Arabkir!AH100+Malatia!AH100+Kotayq!AH100+Armavir!AH100+Ararat!AH100+Aragacotn!AH100+Shirak!AH100+Lori!AH100+Tavush!AH100+Gexarquniq!AH100+Syuniq!AH100 -> 1
A101: 8.7.2 | B101: ²ÝÓÇª áõñÇßÇ ËÝ³ÙùÇ ï³Ï ·ïÝí»Éáõ í»ñ³µ»ñÛ³É | E101: =Erebuni!E101+Kentron!E101+Ajapnyak!E101+Shengavit!E101+Avan!E101+Arabkir!E101+Malatia!E101+Kotayq!E101+Armavir!E101+Ararat!E101+Aragacotn!E101+Shirak!E101+Lori!E101+Tavush!E101+Gexarquniq!E101+Syuniq!E101 -> 2 | F101: =Erebuni!F101+Kentron!F101+Ajapnyak!F101+Shengavit!F101+Avan!F101+Arabkir!F101+Malatia!F101+Kotayq!F101+Armavir!F101+Ararat!F101+Aragacotn!F101+Shirak!F101+Lori!F101+Tavush!F101+Gexarquniq!F101+Syuniq!F101 -> 0 | G101: =Erebuni!G101+Kentron!G101+Ajapnyak!G101+Shengavit!G101+Avan!G101+Arabkir!G101+Malatia!G101+Kotayq!G101+Armavir!G101+Ararat!G101+Aragacotn!G101+Shirak!G101+Lori!G101+Tavush!G101+Gexarquniq!G101+Syuniq!G101 -> 2 | H101: =Erebuni!H101+Kentron!H101+Ajapnyak!H101+Shengavit!H101+Avan!H101+Arabkir!H101+Malatia!H101+Kotayq!H101+Armavir!H101+Ararat!H101+Aragacotn!H101+Shirak!H101+Lori!H101+Tavush!H101+Gexarquniq!H101+Syuniq!H101 -> 0 | I101: =Erebuni!I101+Kentron!I101+Ajapnyak!I101+Shengavit!I101+Avan!I101+Arabkir!I101+Malatia!I101+Kotayq!I101+Armavir!I101+Ararat!I101+Aragacotn!I101+Shirak!I101+Lori!I101+Tavush!I101+Gexarquniq!I101+Syuniq!I101 -> 0 | J101: =Erebuni!J101+Kentron!J101+Ajapnyak!J101+Shengavit!J101+Avan!J101+Arabkir!J101+Malatia!J101+Kotayq!J101+Armavir!J101+Ararat!J101+Aragacotn!J101+Shirak!J101+Lori!J101+Tavush!J101+Gexarquniq!J101+Syuniq!J101 -> 3 | K101: =Erebuni!K101+Kentron!K101+Ajapnyak!K101+Shengavit!K101+Avan!K101+Arabkir!K101+Malatia!K101+Kotayq!K101+Armavir!K101+Ararat!K101+Aragacotn!K101+Shirak!K101+Lori!K101+Tavush!K101+Gexarquniq!K101+Syuniq!K101 -> 2 | L101: =Erebuni!L101+Kentron!L101+Ajapnyak!L101+Shengavit!L101+Avan!L101+Arabkir!L101+Malatia!L101+Kotayq!L101+Armavir!L101+Ararat!L101+Aragacotn!L101+Shirak!L101+Lori!L101+Tavush!L101+Gexarquniq!L101+Syuniq!L101 -> 1 | ... AH101: =Erebuni!AH101+Kentron!AH101+Ajapnyak!AH101+Shengavit!AH101+Avan!AH101+Arabkir!AH101+Malatia!AH101+Kotayq!AH101+Armavir!AH101+Ararat!AH101+Aragacotn!AH101+Shirak!AH101+Lori!AH101+Tavush!AH101+Gexarquniq!AH101+Syuniq!AH101 -> 0
A102: 8.7.3 | B102: ÌÝÝ¹Û³Ý, áñ¹»·ñÙ³Ý, ³ÙáõëÝáõÃÛ³Ý, ³å³Ñ³ñ½³ÝÇ ¨ Ù³Ñí³Ý ·ñ³ÝóÙ³Ý í»ñ³µ»ñÛ³É | E102: =Erebuni!E102+Kentron!E102+Ajapnyak!E102+Shengavit!E102+Avan!E102+Arabkir!E102+Malatia!E102+Kotayq!E102+Armavir!E102+Ararat!E102+Aragacotn!E102+Shirak!E102+Lori!E102+Tavush!E102+Gexarquniq!E102+Syuniq!E102 -> 45 | F102: =Erebuni!F102+Kentron!F102+Ajapnyak!F102+Shengavit!F102+Avan!F102+Arabkir!F102+Malatia!F102+Kotayq!F102+Armavir!F102+Ararat!F102+Aragacotn!F102+Shirak!F102+Lori!F102+Tavush!F102+Gexarquniq!F102+Syuniq!F102 -> 0 | G102: =Erebuni!G102+Kentron!G102+Ajapnyak!G102+Shengavit!G102+Avan!G102+Arabkir!G102+Malatia!G102+Kotayq!G102+Armavir!G102+Ararat!G102+Aragacotn!G102+Shirak!G102+Lori!G102+Tavush!G102+Gexarquniq!G102+Syuniq!G102 -> 45 | H102: =Erebuni!H102+Kentron!H102+Ajapnyak!H102+Shengavit!H102+Avan!H102+Arabkir!H102+Malatia!H102+Kotayq!H102+Armavir!H102+Ararat!H102+Aragacotn!H102+Shirak!H102+Lori!H102+Tavush!H102+Gexarquniq!H102+Syuniq!H102 -> 0 | I102: =Erebuni!I102+Kentron!I102+Ajapnyak!I102+Shengavit!I102+Avan!I102+Arabkir!I102+Malatia!I102+Kotayq!I102+Armavir!I102+Ararat!I102+Aragacotn!I102+Shirak!I102+Lori!I102+Tavush!I102+Gexarquniq!I102+Syuniq!I102 -> 0 | J102: =Erebuni!J102+Kentron!J102+Ajapnyak!J102+Shengavit!J102+Avan!J102+Arabkir!J102+Malatia!J102+Kotayq!J102+Armavir!J102+Ararat!J102+Aragacotn!J102+Shirak!J102+Lori!J102+Tavush!J102+Gexarquniq!J102+Syuniq!J102 -> 127 | K102: =Erebuni!K102+Kentron!K102+Ajapnyak!K102+Shengavit!K102+Avan!K102+Arabkir!K102+Malatia!K102+Kotayq!K102+Armavir!K102+Ararat!K102+Aragacotn!K102+Shirak!K102+Lori!K102+Tavush!K102+Gexarquniq!K102+Syuniq!K102 -> 115 | L102: =Erebuni!L102+Kentron!L102+Ajapnyak!L102+Shengavit!L102+Avan!L102+Arabkir!L102+Malatia!L102+Kotayq!L102+Armavir!L102+Ararat!L102+Aragacotn!L102+Shirak!L102+Lori!L102+Tavush!L102+Gexarquniq!L102+Syuniq!L102 -> 10 | ... AH102: =Erebuni!AH102+Kentron!AH102+Ajapnyak!AH102+Shengavit!AH102+Avan!AH102+Arabkir!AH102+Malatia!AH102+Kotayq!AH102+Armavir!AH102+Ararat!AH102+Aragacotn!AH102+Shirak!AH102+Lori!AH102+Tavush!AH102+Gexarquniq!AH102+Syuniq!AH102 -> 1
... A111: 8.10 | B111: ²ÛÉ í»×»ñ | E111: =Erebuni!E111+Kentron!E111+Ajapnyak!E111+Shengavit!E111+Avan!E111+Arabkir!E111+Malatia!E111+Kotayq!E111+Armavir!E111+Ararat!E111+Aragacotn!E111+Shirak!E111+Lori!E111+Tavush!E111+Gexarquniq!E111+Syuniq!E111 -> 11 | F111: =Erebuni!F111+Kentron!F111+Ajapnyak!F111+Shengavit!F111+Avan!F111+Arabkir!F111+Malatia!F111+Kotayq!F111+Armavir!F111+Ararat!F111+Aragacotn!F111+Shirak!F111+Lori!F111+Tavush!F111+Gexarquniq!F111+Syuniq!F111 -> 1 | G111: =Erebuni!G111+Kentron!G111+Ajapnyak!G111+Shengavit!G111+Avan!G111+Arabkir!G111+Malatia!G111+Kotayq!G111+Armavir!G111+Ararat!G111+Aragacotn!G111+Shirak!G111+Lori!G111+Tavush!G111+Gexarquniq!G111+Syuniq!G111 -> 10 | H111: =Erebuni!H111+Kentron!H111+Ajapnyak!H111+Shengavit!H111+Avan!H111+Arabkir!H111+Malatia!H111+Kotayq!H111+Armavir!H111+Ararat!H111+Aragacotn!H111+Shirak!H111+Lori!H111+Tavush!H111+Gexarquniq!H111+Syuniq!H111 -> 0 | I111: =Erebuni!I111+Kentron!I111+Ajapnyak!I111+Shengavit!I111+Avan!I111+Arabkir!I111+Malatia!I111+Kotayq!I111+Armavir!I111+Ararat!I111+Aragacotn!I111+Shirak!I111+Lori!I111+Tavush!I111+Gexarquniq!I111+Syuniq!I111 -> 0 | J111: =Erebuni!J111+Kentron!J111+Ajapnyak!J111+Shengavit!J111+Avan!J111+Arabkir!J111+Malatia!J111+Kotayq!J111+Armavir!J111+Ararat!J111+Aragacotn!J111+Shirak!J111+Lori!J111+Tavush!J111+Gexarquniq!J111+Syuniq!J111 -> 62 | K111: =Erebuni!K111+Kentron!K111+Ajapnyak!K111+Shengavit!K111+Avan!K111+Arabkir!K111+Malatia!K111+Kotayq!K111+Armavir!K111+Ararat!K111+Aragacotn!K111+Shirak!K111+Lori!K111+Tavush!K111+Gexarquniq!K111+Syuniq!K111 -> 51 | L111: =Erebuni!L111+Kentron!L111+Ajapnyak!L111+Shengavit!L111+Avan!L111+Arabkir!L111+Malatia!L111+Kotayq!L111+Armavir!L111+Ararat!L111+Aragacotn!L111+Shirak!L111+Lori!L111+Tavush!L111+Gexarquniq!L111+Syuniq!L111 -> 10 | ... AH111: =Erebuni!AH111+Kentron!AH111+Ajapnyak!AH111+Shengavit!AH111+Avan!AH111+Arabkir!AH111+Malatia!AH111+Kotayq!AH111+Armavir!AH111+Ararat!AH111+Aragacotn!AH111+Shirak!AH111+Lori!AH111+Tavush!AH111+Gexarquniq!AH111+Syuniq!AH111 -> 1
A112: 9. | B112: Ð³ïáõÏ Ñ³Ûó³ÛÇÝ í³ñáõÛÃÇ ¹³ï³Ï³Ý ·áñÍ»ñ | E112: =SUM(E113:E115) -> 3 | F112: =SUM(F113:F115) -> 2 | G112: =SUM(G113:G115) -> 1 | H112: =SUM(H113:H115) -> 0 | I112: =SUM(I113:I115) -> 0 | J112: =SUM(J113:J115) -> 3 | K112: =SUM(K113:K115) -> 1 | L112: =SUM(L113:L115) -> 1 | ... AI112: =SUM(AI113:AI115) -> 0
A113: 9.1 | B113: ø³Õ³ù³óáõ ÏÛ³ÝùÇÝ Ï³Ù ³éáÕçáõÃÛ³ÝÝ ëå³éÝ³óáÕ íï³Ý·Ç í»ñ³µ»ñÛ³É | E113: =Erebuni!E113+Kentron!E113+Ajapnyak!E113+Shengavit!E113+Avan!E113+Arabkir!E113+Malatia!E113+Kotayq!E113+Armavir!E113+Ararat!E113+Aragacotn!E113+Shirak!E113+Lori!E113+Tavush!E113+Gexarquniq!E113+Syuniq!E113 -> 2 | F113: =Erebuni!F113+Kentron!F113+Ajapnyak!F113+Shengavit!F113+Avan!F113+Arabkir!F113+Malatia!F113+Kotayq!F113+Armavir!F113+Ararat!F113+Aragacotn!F113+Shirak!F113+Lori!F113+Tavush!F113+Gexarquniq!F113+Syuniq!F113 -> 1 | G113: =Erebuni!G113+Kentron!G113+Ajapnyak!G113+Shengavit!G113+Avan!G113+Arabkir!G113+Malatia!G113+Kotayq!G113+Armavir!G113+Ararat!G113+Aragacotn!G113+Shirak!G113+Lori!G113+Tavush!G113+Gexarquniq!G113+Syuniq!G113 -> 1 | H113: =Erebuni!H113+Kentron!H113+Ajapnyak!H113+Shengavit!H113+Avan!H113+Arabkir!H113+Malatia!H113+Kotayq!H113+Armavir!H113+Ararat!H113+Aragacotn!H113+Shirak!H113+Lori!H113+Tavush!H113+Gexarquniq!H113+Syuniq!H113 -> 0 | I113: =Erebuni!I113+Kentron!I113+Ajapnyak!I113+Shengavit!I113+Avan!I113+Arabkir!I113+Malatia!I113+Kotayq!I113+Armavir!I113+Ararat!I113+Aragacotn!I113+Shirak!I113+Lori!I113+Tavush!I113+Gexarquniq!I113+Syuniq!I113 -> 0 | J113: =Erebuni!J113+Kentron!J113+Ajapnyak!J113+Shengavit!J113+Avan!J113+Arabkir!J113+Malatia!J113+Kotayq!J113+Armavir!J113+Ararat!J113+Aragacotn!J113+Shirak!J113+Lori!J113+Tavush!J113+Gexarquniq!J113+Syuniq!J113 -> 2 | K113: =Erebuni!K113+Kentron!K113+Ajapnyak!K113+Shengavit!K113+Avan!K113+Arabkir!K113+Malatia!K113+Kotayq!K113+Armavir!K113+Ararat!K113+Aragacotn!K113+Shirak!K113+Lori!K113+Tavush!K113+Gexarquniq!K113+Syuniq!K113 -> 0 | L113: =Erebuni!L113+Kentron!L113+Ajapnyak!L113+Shengavit!L113+Avan!L113+Arabkir!L113+Malatia!L113+Kotayq!L113+Armavir!L113+Ararat!L113+Aragacotn!L113+Shirak!L113+Lori!L113+Tavush!L113+Gexarquniq!L113+Syuniq!L113 -> 1 | ... AH113: =Erebuni!AH113+Kentron!AH113+Ajapnyak!AH113+Shengavit!AH113+Avan!AH113+Arabkir!AH113+Malatia!AH113+Kotayq!AH113+Armavir!AH113+Ararat!AH113+Aragacotn!AH113+Shirak!AH113+Lori!AH113+Tavush!AH113+Gexarquniq!AH113+Syuniq!AH113 -> 0
A114: 9.2 | B114: ÐÐ Î»ÝïñáÝ³Ï³Ý µ³ÝÏÇ ¨ ³Ýí×³ñáõÝ³Ï µ³ÝÏÇ Ï³Ù í³ñÏ³ÛÇÝ Ï³½Ù³Ï»ñåáõÃÛ³Ý Å³Ù³Ý³Ï³íáñ ³¹ÙÇÝÇëïñ³óÇ³ÛÇ áñáßáõÙÝ»ñÇ µáÕáù³ñÏÙ³Ý í»ñ³µ»ñÛ³É | E114: =Erebuni!E114+Kentron!E114+Ajapnyak!E114+Shengavit!E114+Avan!E114+Arabkir!E114+Malatia!E114+Kotayq!E114+Armavir!E114+Ararat!E114+Aragacotn!E114+Shirak!E114+Lori!E114+Tavush!E114+Gexarquniq!E114+Syuniq!E114 -> 0 | F114: =Erebuni!F114+Kentron!F114+Ajapnyak!F114+Shengavit!F114+Avan!F114+Arabkir!F114+Malatia!F114+Kotayq!F114+Armavir!F114+Ararat!F114+Aragacotn!F114+Shirak!F114+Lori!F114+Tavush!F114+Gexarquniq!F114+Syuniq!F114 -> 0 | G114: =Erebuni!G114+Kentron!G114+Ajapnyak!G114+Shengavit!G114+Avan!G114+Arabkir!G114+Malatia!G114+Kotayq!G114+Armavir!G114+Ararat!G114+Aragacotn!G114+Shirak!G114+Lori!G114+Tavush!G114+Gexarquniq!G114+Syuniq!G114 -> 0 | H114: =Erebuni!H114+Kentron!H114+Ajapnyak!H114+Shengavit!H114+Avan!H114+Arabkir!H114+Malatia!H114+Kotayq!H114+Armavir!H114+Ararat!H114+Aragacotn!H114+Shirak!H114+Lori!H114+Tavush!H114+Gexarquniq!H114+Syuniq!H114 -> 0 | I114: =Erebuni!I114+Kentron!I114+Ajapnyak!I114+Shengavit!I114+Avan!I114+Arabkir!I114+Malatia!I114+Kotayq!I114+Armavir!I114+Ararat!I114+Aragacotn!I114+Shirak!I114+Lori!I114+Tavush!I114+Gexarquniq!I114+Syuniq!I114 -> 0 | J114: =Erebuni!J114+Kentron!J114+Ajapnyak!J114+Shengavit!J114+Avan!J114+Arabkir!J114+Malatia!J114+Kotayq!J114+Armavir!J114+Ararat!J114+Aragacotn!J114+Shirak!J114+Lori!J114+Tavush!J114+Gexarquniq!J114+Syuniq!J114 -> 0 | K114: =Erebuni!K114+Kentron!K114+Ajapnyak!K114+Shengavit!K114+Avan!K114+Arabkir!K114+Malatia!K114+Kotayq!K114+Armavir!K114+Ararat!K114+Aragacotn!K114+Shirak!K114+Lori!K114+Tavush!K114+Gexarquniq!K114+Syuniq!K114 -> 0 | L114: =Erebuni!L114+Kentron!L114+Ajapnyak!L114+Shengavit!L114+Avan!L114+Arabkir!L114+Malatia!L114+Kotayq!L114+Armavir!L114+Ararat!L114+Aragacotn!L114+Shirak!L114+Lori!L114+Tavush!L114+Gexarquniq!L114+Syuniq!L114 -> 0 | ... AH114: =Erebuni!AH114+Kentron!AH114+Ajapnyak!AH114+Shengavit!AH114+Avan!AH114+Arabkir!AH114+Malatia!AH114+Kotayq!AH114+Armavir!AH114+Ararat!AH114+Aragacotn!AH114+Shirak!AH114+Lori!AH114+Tavush!AH114+Gexarquniq!AH114+Syuniq!AH114 -> 0
A115: 9.3 | B115: ²ÛÉ í»×»ñ | E115: =Erebuni!E115+Kentron!E115+Ajapnyak!E115+Shengavit!E115+Avan!E115+Arabkir!E115+Malatia!E115+Kotayq!E115+Armavir!E115+Ararat!E115+Aragacotn!E115+Shirak!E115+Lori!E115+Tavush!E115+Gexarquniq!E115+Syuniq!E115 -> 1 | F115: =Erebuni!F115+Kentron!F115+Ajapnyak!F115+Shengavit!F115+Avan!F115+Arabkir!F115+Malatia!F115+Kotayq!F115+Armavir!F115+Ararat!F115+Aragacotn!F115+Shirak!F115+Lori!F115+Tavush!F115+Gexarquniq!F115+Syuniq!F115 -> 1 | G115: =Erebuni!G115+Kentron!G115+Ajapnyak!G115+Shengavit!G115+Avan!G115+Arabkir!G115+Malatia!G115+Kotayq!G115+Armavir!G115+Ararat!G115+Aragacotn!G115+Shirak!G115+Lori!G115+Tavush!G115+Gexarquniq!G115+Syuniq!G115 -> 0 | H115: =Erebuni!H115+Kentron!H115+Ajapnyak!H115+Shengavit!H115+Avan!H115+Arabkir!H115+Malatia!H115+Kotayq!H115+Armavir!H115+Ararat!H115+Aragacotn!H115+Shirak!H115+Lori!H115+Tavush!H115+Gexarquniq!H115+Syuniq!H115 -> 0 | I115: =Erebuni!I115+Kentron!I115+Ajapnyak!I115+Shengavit!I115+Avan!I115+Arabkir!I115+Malatia!I115+Kotayq!I115+Armavir!I115+Ararat!I115+Aragacotn!I115+Shirak!I115+Lori!I115+Tavush!I115+Gexarquniq!I115+Syuniq!I115 -> 0 | J115: =Erebuni!J115+Kentron!J115+Ajapnyak!J115+Shengavit!J115+Avan!J115+Arabkir!J115+Malatia!J115+Kotayq!J115+Armavir!J115+Ararat!J115+Aragacotn!J115+Shirak!J115+Lori!J115+Tavush!J115+Gexarquniq!J115+Syuniq!J115 -> 1 | K115: =Erebuni!K115+Kentron!K115+Ajapnyak!K115+Shengavit!K115+Avan!K115+Arabkir!K115+Malatia!K115+Kotayq!K115+Armavir!K115+Ararat!K115+Aragacotn!K115+Shirak!K115+Lori!K115+Tavush!K115+Gexarquniq!K115+Syuniq!K115 -> 1 | L115: =Erebuni!L115+Kentron!L115+Ajapnyak!L115+Shengavit!L115+Avan!L115+Arabkir!L115+Malatia!L115+Kotayq!L115+Armavir!L115+Ararat!L115+Aragacotn!L115+Shirak!L115+Lori!L115+Tavush!L115+Gexarquniq!L115+Syuniq!L115 -> 0 | ... AH115: =Erebuni!AH115+Kentron!AH115+Ajapnyak!AH115+Shengavit!AH115+Avan!AH115+Arabkir!AH115+Malatia!AH115+Kotayq!AH115+Armavir!AH115+Ararat!AH115+Aragacotn!AH115+Shirak!AH115+Lori!AH115+Tavush!AH115+Gexarquniq!AH115+Syuniq!AH115 -> 0
A116: 11. | B116: ä³ñï³íáñ³Ï³Ý Çñ³í³Ñ³ñ³µ»ñáõÃÛáõÝÝ»ñÇ í»ñ³µ»ñÛ³É ¹³ï³Ï³Ý ·áñÍ»ñ | E116: =SUM(E117:E124) -> 25450 | F116: =SUM(F117:F124) -> 2555 | G116: =SUM(G117:G124) -> 22893 | H116: =SUM(H117:H124) -> 2 | I116: =SUM(I117:I124) -> 0 | J116: =SUM(J117:J124) -> 35149 | K116: =SUM(K117:K124) -> 32766 | L116: =SUM(L117:L124) -> 2262 | ... AI116: =SUM(AI117:AI124) -> 0
A117: 11.1 | B117: ¶áõÙ³ñÇ å³Ñ³ÝçÇ Ù³ëÇÝ | E117: =Erebuni!E117+Kentron!E117+Ajapnyak!E117+Shengavit!E117+Avan!E117+Arabkir!E117+Malatia!E117+Kotayq!E117+Armavir!E117+Ararat!E117+Aragacotn!E117+Shirak!E117+Lori!E117+Tavush!E117+Gexarquniq!E117+Syuniq!E117 -> 24975 | F117: =Erebuni!F117+Kentron!F117+Ajapnyak!F117+Shengavit!F117+Avan!F117+Arabkir!F117+Malatia!F117+Kotayq!F117+Armavir!F117+Ararat!F117+Aragacotn!F117+Shirak!F117+Lori!F117+Tavush!F117+Gexarquniq!F117+Syuniq!F117 -> 2468 | G117: =Erebuni!G117+Kentron!G117+Ajapnyak!G117+Shengavit!G117+Avan!G117+Arabkir!G117+Malatia!G117+Kotayq!G117+Armavir!G117+Ararat!G117+Aragacotn!G117+Shirak!G117+Lori!G117+Tavush!G117+Gexarquniq!G117+Syuniq!G117 -> 22505 | H117: =Erebuni!H117+Kentron!H117+Ajapnyak!H117+Shengavit!H117+Avan!H117+Arabkir!H117+Malatia!H117+Kotayq!H117+Armavir!H117+Ararat!H117+Aragacotn!H117+Shirak!H117+Lori!H117+Tavush!H117+Gexarquniq!H117+Syuniq!H117 -> 2 | I117: =Erebuni!I117+Kentron!I117+Ajapnyak!I117+Shengavit!I117+Avan!I117+Arabkir!I117+Malatia!I117+Kotayq!I117+Armavir!I117+Ararat!I117+Aragacotn!I117+Shirak!I117+Lori!I117+Tavush!I117+Gexarquniq!I117+Syuniq!I117 -> 0 | J117: =Erebuni!J117+Kentron!J117+Ajapnyak!J117+Shengavit!J117+Avan!J117+Arabkir!J117+Malatia!J117+Kotayq!J117+Armavir!J117+Ararat!J117+Aragacotn!J117+Shirak!J117+Lori!J117+Tavush!J117+Gexarquniq!J117+Syuniq!J117 -> 34832 | K117: =Erebuni!K117+Kentron!K117+Ajapnyak!K117+Shengavit!K117+Avan!K117+Arabkir!K117+Malatia!K117+Kotayq!K117+Armavir!K117+Ararat!K117+Aragacotn!K117+Shirak!K117+Lori!K117+Tavush!K117+Gexarquniq!K117+Syuniq!K117 -> 32519 | L117: =Erebuni!L117+Kentron!L117+Ajapnyak!L117+Shengavit!L117+Avan!L117+Arabkir!L117+Malatia!L117+Kotayq!L117+Armavir!L117+Ararat!L117+Aragacotn!L117+Shirak!L117+Lori!L117+Tavush!L117+Gexarquniq!L117+Syuniq!L117 -> 2196 | ... AH117: =Erebuni!AH117+Kentron!AH117+Ajapnyak!AH117+Shengavit!AH117+Avan!AH117+Arabkir!AH117+Malatia!AH117+Kotayq!AH117+Armavir!AH117+Ararat!AH117+Aragacotn!AH117+Shirak!AH117+Lori!AH117+Tavush!AH117+Gexarquniq!AH117+Syuniq!AH117 -> 14918
A118: 11.2 | B118: ä³ñï³íáñáõÃÛáõÝÁ µÝ»Õ»Ýáí Ï³ï³ñ»Éáõ å³Ñ³ÝçÇ Ù³ëÇÝ | E118: =Erebuni!E118+Kentron!E118+Ajapnyak!E118+Shengavit!E118+Avan!E118+Arabkir!E118+Malatia!E118+Kotayq!E118+Armavir!E118+Ararat!E118+Aragacotn!E118+Shirak!E118+Lori!E118+Tavush!E118+Gexarquniq!E118+Syuniq!E118 -> 9 | F118: =Erebuni!F118+Kentron!F118+Ajapnyak!F118+Shengavit!F118+Avan!F118+Arabkir!F118+Malatia!F118+Kotayq!F118+Armavir!F118+Ararat!F118+Aragacotn!F118+Shirak!F118+Lori!F118+Tavush!F118+Gexarquniq!F118+Syuniq!F118 -> 0 | G118: =Erebuni!G118+Kentron!G118+Ajapnyak!G118+Shengavit!G118+Avan!G118+Arabkir!G118+Malatia!G118+Kotayq!G118+Armavir!G118+Ararat!G118+Aragacotn!G118+Shirak!G118+Lori!G118+Tavush!G118+Gexarquniq!G118+Syuniq!G118 -> 9 | H118: =Erebuni!H118+Kentron!H118+Ajapnyak!H118+Shengavit!H118+Avan!H118+Arabkir!H118+Malatia!H118+Kotayq!H118+Armavir!H118+Ararat!H118+Aragacotn!H118+Shirak!H118+Lori!H118+Tavush!H118+Gexarquniq!H118+Syuniq!H118 -> 0 | I118: =Erebuni!I118+Kentron!I118+Ajapnyak!I118+Shengavit!I118+Avan!I118+Arabkir!I118+Malatia!I118+Kotayq!I118+Armavir!I118+Ararat!I118+Aragacotn!I118+Shirak!I118+Lori!I118+Tavush!I118+Gexarquniq!I118+Syuniq!I118 -> 0 | J118: =Erebuni!J118+Kentron!J118+Ajapnyak!J118+Shengavit!J118+Avan!J118+Arabkir!J118+Malatia!J118+Kotayq!J118+Armavir!J118+Ararat!J118+Aragacotn!J118+Shirak!J118+Lori!J118+Tavush!J118+Gexarquniq!J118+Syuniq!J118 -> 6 | K118: =Erebuni!K118+Kentron!K118+Ajapnyak!K118+Shengavit!K118+Avan!K118+Arabkir!K118+Malatia!K118+Kotayq!K118+Armavir!K118+Ararat!K118+Aragacotn!K118+Shirak!K118+Lori!K118+Tavush!K118+Gexarquniq!K118+Syuniq!K118 -> 5 | L118: =Erebuni!L118+Kentron!L118+Ajapnyak!L118+Shengavit!L118+Avan!L118+Arabkir!L118+Malatia!L118+Kotayq!L118+Armavir!L118+Ararat!L118+Aragacotn!L118+Shirak!L118+Lori!L118+Tavush!L118+Gexarquniq!L118+Syuniq!L118 -> 1 | ... AH118: =Erebuni!AH118+Kentron!AH118+Ajapnyak!AH118+Shengavit!AH118+Avan!AH118+Arabkir!AH118+Malatia!AH118+Kotayq!AH118+Armavir!AH118+Ararat!AH118+Aragacotn!AH118+Shirak!AH118+Lori!AH118+Tavush!AH118+Gexarquniq!AH118+Syuniq!AH118 -> 0
A119: 11.3 | B119: ìÝ³ëÁ ¨ µ³ó ÃáÕÝí³Í û·áõïÁ Ñ³ïáõó»Éáõ å³Ñ³ÝçÇ Ù³ëÇÝ | E119: =Erebuni!E119+Kentron!E119+Ajapnyak!E119+Shengavit!E119+Avan!E119+Arabkir!E119+Malatia!E119+Kotayq!E119+Armavir!E119+Ararat!E119+Aragacotn!E119+Shirak!E119+Lori!E119+Tavush!E119+Gexarquniq!E119+Syuniq!E119 -> 340 | F119: =Erebuni!F119+Kentron!F119+Ajapnyak!F119+Shengavit!F119+Avan!F119+Arabkir!F119+Malatia!F119+Kotayq!F119+Armavir!F119+Ararat!F119+Aragacotn!F119+Shirak!F119+Lori!F119+Tavush!F119+Gexarquniq!F119+Syuniq!F119 -> 60 | G119: =Erebuni!G119+Kentron!G119+Ajapnyak!G119+Shengavit!G119+Avan!G119+Arabkir!G119+Malatia!G119+Kotayq!G119+Armavir!G119+Ararat!G119+Aragacotn!G119+Shirak!G119+Lori!G119+Tavush!G119+Gexarquniq!G119+Syuniq!G119 -> 280 | H119: =Erebuni!H119+Kentron!H119+Ajapnyak!H119+Shengavit!H119+Avan!H119+Arabkir!H119+Malatia!H119+Kotayq!H119+Armavir!H119+Ararat!H119+Aragacotn!H119+Shirak!H119+Lori!H119+Tavush!H119+Gexarquniq!H119+Syuniq!H119 -> 0 | I119: =Erebuni!I119+Kentron!I119+Ajapnyak!I119+Shengavit!I119+Avan!I119+Arabkir!I119+Malatia!I119+Kotayq!I119+Armavir!I119+Ararat!I119+Aragacotn!I119+Shirak!I119+Lori!I119+Tavush!I119+Gexarquniq!I119+Syuniq!I119 -> 0 | J119: =Erebuni!J119+Kentron!J119+Ajapnyak!J119+Shengavit!J119+Avan!J119+Arabkir!J119+Malatia!J119+Kotayq!J119+Armavir!J119+Ararat!J119+Aragacotn!J119+Shirak!J119+Lori!J119+Tavush!J119+Gexarquniq!J119+Syuniq!J119 -> 221 | K119: =Erebuni!K119+Kentron!K119+Ajapnyak!K119+Shengavit!K119+Avan!K119+Arabkir!K119+Malatia!K119+Kotayq!K119+Armavir!K119+Ararat!K119+Aragacotn!K119+Shirak!K119+Lori!K119+Tavush!K119+Gexarquniq!K119+Syuniq!K119 -> 171 | L119: =Erebuni!L119+Kentron!L119+Ajapnyak!L119+Shengavit!L119+Avan!L119+Arabkir!L119+Malatia!L119+Kotayq!L119+Armavir!L119+Ararat!L119+Aragacotn!L119+Shirak!L119+Lori!L119+Tavush!L119+Gexarquniq!L119+Syuniq!L119 -> 48 | ... AH119: =Erebuni!AH119+Kentron!AH119+Ajapnyak!AH119+Shengavit!AH119+Avan!AH119+Arabkir!AH119+Malatia!AH119+Kotayq!AH119+Armavir!AH119+Ararat!AH119+Aragacotn!AH119+Shirak!AH119+Lori!AH119+Tavush!AH119+Gexarquniq!AH119+Syuniq!AH119 -> 3
A120: 11.4 | B120: ø³Õ³ù³óáõ ÏÛ³ÝùÇÝ Ï³Ù ³éáÕçáõÃÛ³ÝÁ å³ï×³éí³Í íÝ³ëÇ Ñ³ïáõóÙ³Ý í»ñ³µ»ñÛ³É | E120: =Erebuni!E120+Kentron!E120+Ajapnyak!E120+Shengavit!E120+Avan!E120+Arabkir!E120+Malatia!E120+Kotayq!E120+Armavir!E120+Ararat!E120+Aragacotn!E120+Shirak!E120+Lori!E120+Tavush!E120+Gexarquniq!E120+Syuniq!E120 -> 19 | F120: =Erebuni!F120+Kentron!F120+Ajapnyak!F120+Shengavit!F120+Avan!F120+Arabkir!F120+Malatia!F120+Kotayq!F120+Armavir!F120+Ararat!F120+Aragacotn!F120+Shirak!F120+Lori!F120+Tavush!F120+Gexarquniq!F120+Syuniq!F120 -> 3 | G120: =Erebuni!G120+Kentron!G120+Ajapnyak!G120+Shengavit!G120+Avan!G120+Arabkir!G120+Malatia!G120+Kotayq!G120+Armavir!G120+Ararat!G120+Aragacotn!G120+Shirak!G120+Lori!G120+Tavush!G120+Gexarquniq!G120+Syuniq!G120 -> 16 | H120: =Erebuni!H120+Kentron!H120+Ajapnyak!H120+Shengavit!H120+Avan!H120+Arabkir!H120+Malatia!H120+Kotayq!H120+Armavir!H120+Ararat!H120+Aragacotn!H120+Shirak!H120+Lori!H120+Tavush!H120+Gexarquniq!H120+Syuniq!H120 -> 0 | I120: =Erebuni!I120+Kentron!I120+Ajapnyak!I120+Shengavit!I120+Avan!I120+Arabkir!I120+Malatia!I120+Kotayq!I120+Armavir!I120+Ararat!I120+Aragacotn!I120+Shirak!I120+Lori!I120+Tavush!I120+Gexarquniq!I120+Syuniq!I120 -> 0 | J120: =Erebuni!J120+Kentron!J120+Ajapnyak!J120+Shengavit!J120+Avan!J120+Arabkir!J120+Malatia!J120+Kotayq!J120+Armavir!J120+Ararat!J120+Aragacotn!J120+Shirak!J120+Lori!J120+Tavush!J120+Gexarquniq!J120+Syuniq!J120 -> 13 | K120: =Erebuni!K120+Kentron!K120+Ajapnyak!K120+Shengavit!K120+Avan!K120+Arabkir!K120+Malatia!K120+Kotayq!K120+Armavir!K120+Ararat!K120+Aragacotn!K120+Shirak!K120+Lori!K120+Tavush!K120+Gexarquniq!K120+Syuniq!K120 -> 8 | L120: =Erebuni!L120+Kentron!L120+Ajapnyak!L120+Shengavit!L120+Avan!L120+Arabkir!L120+Malatia!L120+Kotayq!L120+Armavir!L120+Ararat!L120+Aragacotn!L120+Shirak!L120+Lori!L120+Tavush!L120+Gexarquniq!L120+Syuniq!L120 -> 5 | ... AH120: =Erebuni!AH120+Kentron!AH120+Ajapnyak!AH120+Shengavit!AH120+Avan!AH120+Arabkir!AH120+Malatia!AH120+Kotayq!AH120+Armavir!AH120+Ararat!AH120+Aragacotn!AH120+Shirak!AH120+Lori!AH120+Tavush!AH120+Gexarquniq!AH120+Syuniq!AH120 -> 0
...

Sheet Erebuni
A1: 2015Ã. 1-ÇÝ ÏÇë³ÙÛ³Ï | E1: Ð²ÞìºîìàôÂÚàôÜ | AC1: Ï³½Ùí³Í` ÐÐ Ï³é³í³ñáõÃÛ³Ý 19.03.2015Ã. ÃÇí 306-Ü áñáßÙ³Ý ÑÇÙ³Ý íñ³
A2: ºðºì²Ü ø²Ô²øÆ ¾ðº´àôÜÆ ºì Üàô´²ð²ÞºÜ ì²ðâ²Î²Ü Þðæ²ÜÜºðÆ ÀÜ¸Ð²Üàôð Æð²ì²êàôÂÚ²Ü ²è²æÆÜ ²îÚ²ÜÆ ¸²î²ð²ÜàôØ ø²Ô²ø²òÆ²Î²Ü ¶àðÌºðÆ øÜÜàôÂÚ²Ü ìºð²´ºðÚ²È
A3: ºñ¨³Ý ù³Õ³ùÇ ¾ñ»µáõÝÇ ¨ Üáõµ³ñ³ß»Ý í³ñã³Ï³Ý ßñç³ÝÝ»ñÇ ÁÝ¹Ñ³Ýáõñ Çñ³í³ëáõÃÛ³Ý ³é³çÇÝ ³ïÛ³ÝÇ ¹³ï³ñ³ÝáõÙ ù³Õ³ù³óÇ³Ï³Ý Ù³ëÝ³·Çï³óáõÙ áõÝ»óáÕ ¹³ï³íáñÝ»ñÇ Ñ³ëïÇùÝ»ñÇ ù³Ý³ÏÁ` 4
A4: êïáõ·Çã Ñ³í³ë³ñáõÙÝ»ñª 1=2+3+4+5, 6=7+8+9, 2+3+7=20+21+23, 10=11+12+13+14+15, 15=16+17+18, 20=10+19, 27=25+26, 30=28+29 | E4: Ð³ßí»ïáõ Å³Ù³Ý³Ï³Ñ³ïí³ÍáõÙ Ý³Ëáñ¹ Ñ³ßí»ïáõ Å³Ù³Ý³Ï³Ñ³ïí³ÍÇó ÷áË³Ýóí³Í ·áñÍ»ñÇ ÁÝ¹Ñ³Ýáõñ ÃÇíÁ | J4: Ð³ßí»ïáõ Å³Ù³Ý³Ï³Ñ³ïí³ÍáõÙëï³óí³Í ·áñÍ»ñÇ (³Û¹ ÃíáõÙ` Ñ³Ûó³¹ÇÙáõÙÝ»ñÇ, ¹ÇÙáõÙÝ»ñÇ) ÁÝ¹Ñ³Ýáõñ ÃÇíÁ | N4: Ð³ßí»ïáõ Å³Ù³Ý³Ï³Ñ³ïí³ÍáõÙ ³í³ñïí³Í ·áñÍ»ñÇ ÁÝ¹Ñ³Ýáõñ ÃÇíÁ | Y4: ¶áñÍÝ áõÕ³ñÏí»É ¿ Áëï ÁÝ¹¹³ïáõÃÛ³Ý | Z4: Ð³ßí»ïáõ Å³Ù³Ý³Ï³Ñ³ïí³ÍáõÙ Ï³ë»óí³Í í³ñáõÛÃÝ»ñáí ·áñÍ»ñÇ ÁÝ¹Ñ³Ýáõñ ÃÇíÁ | AA4: Ð³ßí»ïáõ Å³Ù³Ý³Ï³Ñ³ïí³ÍáõÙ ³Ý³í³ñï ·áñÍ»ñÇ ÁÝ¹Ñ³Ýáõñ ÃÇíÁ | AB4: ²Û¹ ÃíáõÙª Ï³ë»óí³Í | AC4: ´áÕáù³ñÏí³Í ¹³ï³Ï³Ý ³Ïï»ñÇ ÃÇíÁ` Áëï ï»ë³ÏÝ»ñÇ | AF4: ´»Ï³Ýí³Í ¹³ï³Ï³Ý ³Ïï»ñÇ ÃÇíÁ` Áëï ï»ë³ÏÝ»ñÇ
E7: ÀÝ¹³Ù»ÝÁ | F7: ²Û¹ ÃíáõÙ`Ï³ë»óí³Í íÇ×³ÏáõÙ ÷áË³Ýóí³Í | G7: ²Û¹ ÃíáõÙª ÁÝ¹áõÝí»É ¿ í³ñáõÛÃ | H7: ²Û¹ ÃíáõÙª í»ñ³¹³ñÓí»É ¿ | I7: ²Û¹ ÃíáõÙª ÁÝ¹áõÝáõÙÁ Ù»ñÅí»É ¿ | J7: ÀÝ¹³Ù»ÝÁ | K7: ²Û¹ ÃíáõÙª ÁÝ¹áõÝí»É ¿ í³ñáõÛÃ | L7: ²Û¹ ÃíáõÙª í»ñ³¹³ñÓí»É ¿ | M7: ²Û¹ ÃíáõÙª ÁÝ¹áõÝáõÙÁ Ù»ñÅí»É ¿ | N7: ÀÝ¹³Ù»ÝÁ ³í³ñïí»É »Ý ·áñÍ»ñ ·áñÍÝ Áëï ¿áõÃÛ³Ý ÉáõÍáÕ ¹³ï³Ï³Ý ³Ïï»ñÇ (í×ÇéÝ»ñÇ) Ï³Û³óÙ³Ùµ | O7: ²Û¹ ÃíáõÙª Ñ³ÛóÇ µ³í³ñ³ñÙ³Ùµ | P7: ²Û¹ ÃíáõÙª Ñ³ÛóÇ Ù³ëÝ³ÏÇ µ³í³ñ³ñÙ³Ùµ | Q7: ²Û¹ ÃíáõÙª Ñ³ÛóÇ Ù»ñÅÙ³Ùµ | R7: Ø³ëáí Ï³ñ×í»É ¿, Ù³ëáí Ù»ñÅí»É | S7: ²Û¹ ÃíáõÙª Ï³ñ×í»É »Ý | W7: Ð³ÛóÁ ÃáÕÝí»É ¿ ³é³Ýó ùÝÝáõÃÛ³Ý | X7: ÀÝ¹³Ù»ÝÝ ³í³ñïí»É »Ý ·áñÍ»ñ | AC7: ²Û¹ ÃíáõÙ` ·áñÍÝ Áëï ¿áõÃÛ³Ý ÉáõÍáÕ ¹³ï³Ï³Ý ³Ïï»ñ | AD7: ²Û¹ ÃíáõÙ` ÙÇç³ÝÏÛ³É ¹³ï³Ï³Ý ³Ïï»ñ | AE7: ÀÝ¹³Ù»ÝÁ | AF7: ²Û¹ ÃíáõÙ` ·áñÍÝ Áëï ¿áõÃÛ³Ý ÉáõÍáÕ ¹³ï³Ï³Ý ³Ïï»ñ | AG7: ²Û¹ ÃíáõÙ` ÙÇç³ÝÏÛ³É ¹³ï³Ï³Ý ³Ïï»ñ | AH7: ÀÝ¹³Ù»ÝÁ
S10: ÀÝ¹³Ù»ÝÁ Ï³ñ×í»É »Ý | T10: ²Û¹ ÃíáõÙª Ñ³ëï³ïí»É ¿ ÏÝùí³Í Ñ³ßïáõÃÛ³Ý Ñ³Ù³Ó³ÛÝáõÃÛáõÝÁ | U10: ²Û¹ ÃíáõÙª Ñ³óÇó, ¹ÇÙáõÙÇó Ññ³Å³ñí»Éáõ ÑÇÙùáí | V10: ²Û¹ ÃíáõÙª ³ÛÉ ÑÇÙùáí
A18: ø³Õ³ù³óÇ³Ï³Ý ·áñÍ»ñÇ ¹³ë³Ï³ñ·áõÙÁ | E18: 1 | F18: 2 | G18: 3 | H18: 4 | I18: 5 | J18: 6 | K18: 7 | L18: 8 | M18: 9 | N18: 10 | O18: 11 | P18: 12 | Q18: 13 | R18: 14 | S18: 15 | T18: 16 | U18: 17 | V18: 18 | W18: 19 | X18: 20 | Y18: 21 | Z18: 22 | AA18: 23 | AB18: 24 | AC18: 25 | AD18: 26 | AE18: 27 | AF18: 28 | AG18: 29 | AH18: 30
A19: 1. | B19: ¶áõÛù³ÛÇÝ Çñ³í³Ñ³ñ³µ»ñáõÃÛáõÝÝ»ñÇ í»ñ³µ»ñÛ³É ¹³ï³Ï³Ý ·áñÍ»ñ | E19: =SUM(E20:E38) -> 179 | F19: =SUM(F20:F38) -> 69 | G19: =SUM(G20:G38) -> 110 | H19: =SUM(H20:H38) -> 0 | I19: =SUM(I20:I38) -> 0 | J19: =SUM(J20:J38) -> 93 | K19: =SUM(K20:K38) -> 63 | L19: =SUM(L20:L38) -> 30 | ... AH19: =SUM(AH20:AH38) -> 6
A20: 1.1 | B20: ¶áõÛùÇ ÝÏ³ïÙ³Ùµ ë»÷³Ï³ÝáõÃÛ³Ý Çñ³íáõÝùÁ ×³Ý³ã»Éáõ í»ñ³µ»ñÛ³É | E20: 13 | F20: 1 | G20: 12 | H20: 0 | I20: 0 | J20: 16 | K20: 10 | L20: 6 | M20: 0 | N20: 10 | O20: 2 | P20: 1 | Q20: 2 | R20: 0 | S20: 5 | T20: 2 | U20: 3 | V20: 0 | W20: 0 | X20: 10 | Y20: 0 | Z20: 2 | AA20: 13 | AB20: 3 | AC20: 3 | AD20: 0 | AE20: 3 | AF20: 1 | AG20: 0 | AH20: 1
A21: 1.1.1 | B21: ²Û¹ ÃíáõÙª Ó»éùµ»ñÙ³Ý í³Õ»ÙáõÃÛ³Ý áõÅáí | E21: 13 | F21: 2 | G21: 11 | H21: 0 | I21: 0 | J21: 12 | K21: 9 | L21: 3 | M21: 0 | N21: 8 | O21: 2 | P21: 2 | Q21: 1 | R21: 0 | S21: 3 | T21: 1 | U21: 2 | V21: 0 | W21: 0 | X21: 8 | Y21: 0 | Z21: 1 | AA21: 14 | AB21: 3 | AC21: 0 | AD21: 1 | AE21: 1 | AF21: 0 | AG21: 1 | AH21: 1
A22: 1.1.2 | B22: ²Û¹ ÃíáõÙª ïÇñ³½áõñÏ ·áõÛùÇ ÝÏ³ïÙ³Ùµ | E22: 0 | F22: 0 | G22: 0 | H22: 0 | I22: 0 | J22: 0 | K22: 0 | L22: 0 | M22: 0 | N22: 0 | O22: 0 | P22: 0 | Q22: 0 | R22: 0 | S22: 0 | T22: 0 | U22: 0 | V22: 0 | W22: 0 | X22: 0 | Y22: 0 | Z22: 0 | AA22: 0 | AB22: 0 | AC22: 0 | AD22: 0 | AE22: 0 | AF22: 0 | AG22: 0 | AH22: 0
A23: 1.1.3 | B23: ²Û¹ ÃíáõÙª ÇÝùÝ³Ï³Ù Ï³éáõÛóÇ ÝÏ³ïÙ³Ùµ | E23: 0 | F23: 0 | G23: 0 | H23: 0 | I23: 0 | J23: 0 | K23: 0 | L23: 0 | M23: 0 | N23: 0 | O23: 0 | P23: 0 | Q23: 0 | R23: 0 | S23: 0 | T23: 0 | U23: 0 | V23: 0 | W23: 0 | X23: 0 | Y23: 0 | Z23: 0 | AA23: 0 | AB23: 0 | AC23: 0 | AD23: 0 | AE23: 0 | AF23: 0 | AG23: 0 | AH23: 0
A24: 1.2 | B24: ê»÷³Ï³ÝáõÃÛ³Ý Çñ³íáõÝùÇ ¹³¹³ñ»óÙ³Ý í»ñ³µ»ñÛ³É | E24: 2 | F24: 2 | G24: 0 | H24: 0 | I24: 0 | J24: 0 | K24: 0 | L24: 0 | M24: 0 | N24: 0 | O24: 0 | P24: 0 | Q24: 0 | R24: 0 | S24: 0 | T24: 0 | U24: 0 | V24: 0 | W24: 0 | X24: 0 | Y24: 0 | Z24: 0 | AA24: 2 | AB24: 1 | AC24: 0 | AD24: 0 | AE24: 0 | AF24: 0 | AG24: 0 | AH24: 0
A25: 1.3 | B25: ¶áõÛùÇ ÝÏ³ïÙ³Ùµ û·ï³·áñÍÙ³Ý Çñ³íáõÝùÁ ×³Ý³ã»Éáõ í»ñ³µ»ñÛ³É | E25: 1 | F25: 1 | G25: 0 | H25: 0 | I25: 0 | J25: 0 | K25: 0 | L25: 0 | M25: 0 | N25: 0 | O25: 0 | P25: 0 | Q25: 0 | R25: 0 | S25: 0 | T25: 0 | U25: 0 | V25: 0 | W25: 0 | X25: 0 | Y25: 0 | Z25: 1 | AA25: 1 | AB25: 1 | AC25: 0 | AD25: 0 | AE25: 0 | AF25: 0 | AG25: 0 | AH25: 0
A26: 1.3.1 | B26: ²Û¹ ÃíáõÙª µÝ³Ïû·ï³·áñÍÙ³Ý Çñ³íáõÝùÁ ×³Ý³ã»Éáõ í»ñ³µ»ñÛ³É | E26: 0 | F26: 0 | G26: 0 | H26: 0 | I26: 0 | J26: 0 | K26: 0 | L26: 0 | M26: 0 | N26: 0 | O26: 0 | P26: 0 | Q26: 0 | R26: 0 | S26: 0 | T26: 0 | U26: 0 | V26: 0 | W26: 0 | X26: 0 | Y26: 0 | Z26: 0 | AA26: 0 | AB26: 0 | AC26: 0 | AD26: 0 | AE26: 0 | AF26: 0 | AG26: 0 | AH26: 0
A27: 1.3.2 | B27: ²Û¹ ÃíáõÙª ÑáÕ³Ù³ëÇ ÝÏ³ïÙ³Ùµ û·ï³·áñÍÙ³Ý Çñ³íáõÝùÁ ×³Ý³ã»Éáõ í»ñ³µ»ñÛ³É | E27: 1 | F27: 0 | G27: 1 | H27: 0 | I27: 0 | J27: 3 | K27: 1 | L27: 2 | M27: 0 | N27: 1 | O27: 0 | P27: 0 | Q27: 0 | R27: 0 | S27: 1 | T27: 0 | U27: 1 | V27: 0 | W27: 0 | X27: 1 | Y27: 0 | Z27: 0 | AA27: 1 | AB27: 0 | AC27: 0 | AD27: 0 | AE27: 0 | AF27: 0 | AG27: 0 | AH27: 0
A28: 1.4 | B28: ¶áõÛùÇ ÝÏ³ïÙ³Ùµ û·ï³·áñÍÙ³Ý Çñ³íáõÝùÁ ¹³¹³ñ»óÝ»Éáõ í»ñ³µ»ñÛ³É | E28: 0 | F28: 0 | G28: 0 | H28: 0 | I28: 0 | J28: 0 | K28: 0 | L28: 0 | M28: 0 | N28: 0 | O28: 0 | P28: 0 | Q28: 0 | R28: 0 | S28: 0 | T28: 0 | U28: 0 | V28: 0 | W28: 0 | X28: 0 | Y28: 0 | Z28: 0 | AA28: 0 | AB28: 0 | AC28: 0 | AD28: 0 | AE28: 0 | AF28: 0 | AG28: 0 | AH28: 0
A29: 1.4.1 | B29: ²Û¹ ÃíáõÙª µÝ³Ïû·ï³·áñÍÙ³Ý Çñ³íáõÝùÁ ¹³¹³ñ»óÝ»Éáõ í»ñ³µ»ñÛ³É | E29: 0 | F29: 0 | G29: 0 | H29: 0 | I29: 0 | J29: 0 | K29: 0 | L29: 0 | M29: 0 | N29: 0 | O29: 0 | P29: 0 | Q29: 0 | R29: 0 | S29: 0 | T29: 0 | U29: 0 | V29: 0 | W29: 0 | X29: 0 | Y29: 0 | Z29: 0 | AA29: 0 | AB29: 0 | AC29: 0 | AD29: 0 | AE29: 0 | AF29: 0 | AG29: 0 | AH29: 0
A30: 1.4.1/1 | B30: ²Û¹ ÃíáõÙª ÷áËÑ³ïáõóÙ³Ùµ | E30: 0 | F30: 0 | G30: 0 | H30: 0 | I30: 0 | J30: 0 | K30: 0 | L30: 0 | M30: 0 | N30: 0 | O30: 0 | P30: 0 | Q30: 0 | R30: 0 | S30: 0 | T30: 0 | U30: 0 | V30: 0 | W30: 0 | X30: 0 | Y30: 0 | Z30: 0 | AA30: 0 | AB30: 0 | AC30: 0 | AD30: 0 | AE30: 0 | AF30: 0 | AG30: 0 | AH30: 0
A31: 1.5 | B31: ´Ý³Ï³ñ³ÝÇó/ ï³ñ³ÍùÇó/ íï³ñ»Éáõ í»ñ³µ»ñÛ³É | E31: 21 | F31: 8 | G31: 13 | H31: 0 | I31: 0 | J31: 11 | K31: 8 | L31: 3 | M31: 0 | N31: 9 | O31: 4 | P31: 0 | Q31: 0 | R31: 0 | S31: 5 | T31: 0 | U31: 5 | V31: 0 | W31: 0 | X31: 9 | Y31: 0 | Z31: 2 | AA31: 20 | AB31: 9 | AC31: 3 | AD31: 0 | AE31: 3 | AF31: 1 | AG31: 0 | AH31: 1
A32: 1.6 | B32: ¶áõÛùÝ áõñÇßÇ ³åûñÇÝÇ ïÇñ³å»ïáõÙÇó »ï í»ñ³¹³ñÓÝ»Éáõ í»ñ³µ»ñÛ³É | E32: 10 | F32: 6 | G32: 4 | H32: 0 | I32: 0 | J32: 2 | K32: 1 | L32: 1 | M32: 0 | N32: 1 | O32: 1 | P32: 0 | Q32: 0 | R32: 0 | S32: 0 | T32: 0 | U32: 0 | V32: 0 | W32: 0 | X32: 1 | Y32: 0 | Z32: 2 | AA32: 10 | AB32: 4 | AC32: 0 | AD32: 0 | AE32: 0 | AF32: 0 | AG32: 0 | AH32: 0
A33: 1.6.1 | B33: ´³ñ»ËÇÕ× Ó»éùµ»ñáÕÇó Çñ ·áõÛùÁ Ñ»ï å³Ñ³Ýç»Éáõ í»ñ³µ»ñÛ³É | E33: 0 | F33: 0 | G33: 0 | H33: 0 | I33: 0 | J33: 0 | K33: 0 | L33: 0 | M33: 0 | N33: 0 | O33: 0 | P33: 0 | Q33: 0 | R33: 0 | S33: 0 | T33: 0 | U33: 0 | V33: 0 | W33: 0 | X33: 0 | Y33: 0 | Z33: 0 | AA33: 0 | AB33: 0 | AC33: 0 | AD33: 0 | AE33: 0 | AF33: 0 | AG33: 0 | AH33: 0
A34: 1.7 | B34: îÇñ³å»ïáõÙÇó ½ñÏ»Éáõ Ñ»ï ãÏ³åí³Í Çñ³íáõÝùÝ»ñÇ Ë³ËïáõÙÁ í»ñ³óÝ»Éáõ í»ñ³µ»ñÛ³É | E34: 5 | F34: 2 | G34: 3 | H34: 0 | I34: 0 | J34: 0 | K34: 0 | L34: 0 | M34: 0 | N34: 1 | O34: 0 | P34: 1 | Q34: 0 | R34: 0 | S34: 0 | T34: 0 | U34: 0 | V34: 0 | W34: 0 | X34: 1 | Y34: 0 | Z34: 1 | AA34: 4 | AB34: 2 | AC34: 1 | AD34: 0 | AE34: 1 | AF34: 0 | AG34: 0 | AH34: 0
A35: 1.8 | B35: ÀÝ¹Ñ³Ýáõñ µ³ÅÝ³ÛÇÝ ë»÷³Ï³ÝáõÃÛáõÝÇó µ³ÅÇÝÝ ³é³ÝÓÝ³óÝ»Éáõ í»ñ³µ»ñÛ³É | E35: 77 | F35: 30 | G35: 47 | H35: 0 | I35: 0 | J35: 30 | K35: 24 | L35: 6 | M35: 0 | N35: 19 | O35: 6 | P35: 0 | Q35: 3 | R35: 0 | S35: 10 | T35: 3 | U35: 7 | V35: 0 | W35: 0 | X35: 19 | Y35: 0 | Z35: 18 | AA35: 82 | AB35: 42 | AC35: 4 | AD35: 4 | AE35: 8 | AF35: 1 | AG35: 1 | AH35: 2
A36: 1.8.1 | B36: Ð³Ù³ï»Õ ë»÷³Ï³ÝáõÃÛ³Ý Ý»ñùá ·ïÝíáÕ ·áõÛùÁ µ³Å³Ý»Éáõ ¨ ¹ñ³ÝÇó µ³ÅÇÝÝ ³é³ÝÓÝ³óÝ»Éáõ í»ñ³µ»ñÛ³É | E36: 22 | F36: 10 | G36: 12 | H36: 0 | I36: 0 | J36: 12 | K36: 7 | L36: 5 | M36: 0 | N36: 5 | O36: 0 | P36: 0 | Q36: 3 | R36: 0 | S36: 2 | T36: 1 | U36: 1 | V36: 0 | W36: 0 | X36: 5 | Y36: 0 | Z36: 5 | AA36: 24 | AB36: 9 | AC36: 1 | AD36: 0 | AE36: 1 | AF36: 0 | AG36: 0 | AH36: 0
... A38: 1.9 | B38: ²ÛÉ í»×»ñ | E38: 7 | F38: 4 | G38: 3 | H38: 0 | I38: 0 | J38: 5 | K38: 2 | L38: 3 | M38: 0 | N38: 3 | O38: 1 | P38: 1 | Q38: 0 | R38: 1 | S38: 0 | T38: 0 | U38: 0 | V38: 0 | W38: 0 | X38: 3 | Y38: 0 | Z38: 3 | AA38: 6 | AB38: 3 | AC38: 2 | AD38: 0 | AE38: 2 | AF38: 1 | AG38: 0 | AH38: 1
A39: 2. | B39: ¶áñÍ³ñùÝ»ñÇ Ñ»ï Ï³åí³Í Çñ³í³Ñ³ñ³µ»ñáõÃÛáõÝÝ»ñÇ í»ñ³µ»ñÛ³É ¹³ï³Ï³Ý ·áñÍ»ñ | E39: =SUM(E40:E50) -> 34 | F39: =SUM(F40:F50) -> 10 | G39: =SUM(G40:G50) -> 24 | H39: =SUM(H40:H50) -> 0 | I39: =SUM(I40:I50) -> 0 | J39: =SUM(J40:J50) -> 22 | K39: =SUM(K40:K50) -> 15 | L39: =SUM(L40:L50) -> 6 | ... AH39: =SUM(AH40:AH50) -> 1
A40: 2.1 | B40: ·áñÍ³ñùÝ»ñÇ ³Ýí³í»ñáõÃÛ³Ý Ñ»ï Ï³åí³Í í»×»ñ | E40: 10 | F40: 0 | G40: 10 | H40: 0 | I40: 0 | J40: 4 | K40: 3 | L40: 1 | M40: 0 | N40: 4 | O40: 0 | P40: 0 | Q40: 1 | R40: 0 | S40: 3 | T40: 0 | U40: 3 | V40: 0 | W40: 0 | X40: 4 | Y40: 0 | Z40: 4 | AA40: 9 | AB40: 5 | AC40: 2 | AD40: 0 | AE40: 2 | AF40: 0 | AG40: 0 | AH40: 0
A41: 2.1.1 | B41: ³Û¹ ÃíáõÙ` íÇ×³Ñ³ñáõÛó ·áñÍ³ñùÝ»ñÝ ³Ýí³í»ñ ×³Ý³ã»Éáõ í»ñ³µ»ñÛ³É | E41: 0 | F41: 0 | G41: 0 | H41: 0 | I41: 0 | J41: 0 | K41: 0 | L41: 0 | M41: 0 | N41: 0 | O41: 0 | P41: 0 | Q41: 0 | R41: 0 | S41: 0 | T41: 0 | U41: 0 | V41: 0 | W41: 0 | X41: 0 | Y41: 0 | Z41: 0 | AA41: 0 | AB41: 0 | AC41: 0 | AD41: 0 | AE41: 0 | AF41: 0 | AG41: 0 | AH41: 0
A42: 2.1.2 | B42: ³Û¹ ÃíáõÙ` ·áñÍ³ñùÇ ³éáãÝãáõÃÛ³Ý Ñ»ï¨³ÝùÝ»ñ ÏÇñ³é»Éáõ í»ñ³µ»ñÛ³É | E42: 5 | F42: 1 | G42: 4 | H42: 0 | I42: 0 | J42: 5 | K42: 3 | L42: 2 | M42: 0 | N42: 3 | O42: 0 | P42: 0 | Q42: 1 | R42: 0 | S42: 2 | T42: 1 | U42: 1 | V42: 0 | W42: 0 | X42: 3 | Y42: 1 | Z42: 0 | AA42: 4 | AB42: 1 | AC42: 0 | AD42: 0 | AE42: 0 | AF42: 0 | AG42: 0 | AH42: 0
A43: 2.2 | B43: ¶áñÍ³ñùÁ í³í»ñ ×³Ý³ã»Éáõ í»ñ³µ»ñÛ³É | E43: 2 | F43: 1 | G43: 1 | H43: 0 | I43: 0 | J43: 0 | K43: 0 | L43: 0 | M43: 0 | N43: 1 | O43: 0 | P43: 0 | Q43: 1 | R43: 0 | S43: 0 | T43: 0 | U43: 0 | V43: 0 | W43: 0 | X43: 1 | Y43: 0 | Z43: 0 | AA43: 1 | AB43: 1 | AC43: 1 | AD43: 0 | AE43: 1 | AF43: 0 | AG43: 0 | AH43: 0
A44: 2.3 | B44: ¶áñÍ³ñùÇó Í³·áÕ Çñ³íáõÝùÝ»ñÁ ·ñ³Ýó»Éáõ í»ñ³µ»ñÛ³É | E44: 0 | F44: 0 | G44: 0 | H44: 0 | I44: 0 | J44: 0 | K44: 0 | L44: 0 | M44: 0 | N44: 0 | O44: 0 | P44: 0 | Q44: 0 | R44: 0 | S44: 0 | T44: 0 | U44: 0 | V44: 0 | W44: 0 | X44: 0 | Y44: 0 | Z44: 0 | AA44: 0 | AB44: 0 | AC44: 0 | AD44: 0 | AE44: 0 | AF44: 0 | AG44: 0 | AH44: 0
A45: 2.4 | B45: ä³ÛÙ³Ý³·ÇñÝ ³Ýí³í»ñ ×³Ý³ã»Éáõ í»ñ³µ»ñÛ³É | E45: 12 | F45: 6 | G45: 6 | H45: 0 | I45: 0 | J45: 3 | K45: 3 | L45: 0 | M45: 0 | N45: 3 | O45: 0 | P45: 1 | Q45: 1 | R45: 0 | S45: 1 | T45: 0 | U45: 1 | V45: 0 | W45: 0 | X45: 3 | Y45: 0 | Z45: 4 | AA45: 12 | AB45: 7 | AC45: 0 | AD45: 0 | AE45: 0 | AF45: 1 | AG45: 0 | AH45: 1
A46: 2.5 | B46: ä³ÛÙ³Ý³·ñÇÁ í³í»ñ ×³Ý³ã»Éáõ í»ñ³µ»ñÛ³É | E46: 0 | F46: 0 | G46: 0 | H46: 0 | I46: 0 | J46: 2 | K46: 1 | L46: 1 | M46: 0 | N46: 0 | O46: 0 | P46: 0 | Q46: 0 | R46: 0 | S46: 0 | T46: 0 | U46: 0 | V46: 0 | W46: 0 | X46: 0 | Y46: 0 | Z46: 0 | AA46: 1 | AB46: 0 | AC46: 0 | AD46: 0 | AE46: 0 | AF46: 0 | AG46: 0 | AH46: 0
A47: 2.6 | B47: ä³ÛÙ³Ý³·ñÇó Í³·áÕ Çñ³íáõÝùÝ»ñÁ ·ñ³Ýó»Éáõ í»ñ³µ»ñÛ³É | E47: 0 | F47: 0 | G47: 0 | H47: 0 | I47: 0 | J47: 0 | K47: 0 | L47: 0 | M47: 0 | N47: 0 | O47: 0 | P47: 0 | Q47: 0 | R47: 0 | S47: 0 | T47: 0 | U47: 0 | V47: 0 | W47: 0 | X47: 0 | Y47: 0 | Z47: 0 | AA47: 0 | AB47: 0 | AC47: 0 | AD47: 0 | AE47: 0 | AF47: 0 | AG47: 0 | AH47: 0
A48: 2.7 | B48: ä³ÛÙ³Ý³·ÇñÁ ÷á÷áË»Éáõ ¨ ÉáõÍ»Éáõ í»ñ³µ»ñÛ³É | E48: 1 | F48: 0 | G48: 1 | H48: 0 | I48: 0 | J48: 0 | K48: 0 | L48: 0 | M48: 0 | N48: 1 | O48: 1 | P48: 0 | Q48: 0 | R48: 0 | S48: 0 | T48: 0 | U48: 0 | V48: 0 | W48: 0 | X48: 1 | Y48: 0 | Z48: 0 | AA48: 0 | AB48: 0 | AC48: 0 | AD48: 0 | AE48: 0 | AF48: 0 | AG48: 0 | AH48: 0
A49: 2.8 | B49: ä³ÛÙ³Ý³·Çñ ÏÝù»ÉáõÝ å³ñï³íáñ»óÝ»Éáõ í»ñ³µ»ñÛ³É | E49: 0 | F49: 0 | G49: 0 | H49: 0 | I49: 0 | J49: 1 | K49: 1 | L49: 0 | M49: 0 | N49: 0 | O49: 0 | P49: 0 | Q49: 0 | R49: 0 | S49: 0 | T49: 0 | U49: 0 | V49: 0 | W49: 0 | X49: 0 | Y49: 0 | Z49: 0 | AA49: 1 | AB49: 0 | AC49: 0 | AD49: 0 | AE49: 0 | AF49: 0 | AG49: 0 | AH49: 0
A50: 2.9 | B50: ²ÛÉ í»×»ñ | E50: 4 | F50: 2 | G50: 2 | H50: 0 | I50: 0 | J50: 7 | K50: 4 | L50: 2 | M50: 1 | N50: 2 | O50: 0 | P50: 1 | Q50: 1 | R50: 0 | S50: 0 | T50: 0 | U50: 0 | V50: 0 | W50: 0 | X50: 2 | Y50: 0 | Z50: 0 | AA50: 6 | AB50: 0 | AC50: 2 | AD50: 0 | AE50: 2 | AF50: 0 | AG50: 0 | AH50: 0
A51: 3. | B51: Ä³é³Ý·áõÃÛ³Ý Ñ»ï Ï³åí³Í Çñ³í³Ñ³ñ³µ»ñáõÃÛáõÝÝ»ñÇ í»ñ³µ»ñÛ³É ¹³ï³Ï³Ý ·áñÍ»ñ | E51: =SUM(E52:E58) -> 7 | F51: =SUM(F52:F58) -> 2 | G51: =SUM(G52:G58) -> 5 | H51: =SUM(H52:H58) -> 0 | I51: =SUM(I52:I58) -> 0 | J51: =SUM(J52:J58) -> 2 | K51: =SUM(K52:K58) -> 2 | L51: =SUM(L52:L58) -> 0 | ... AH51: =SUM(AH52:AH58) -> 1
A52: 3.1 | B52: Îï³ÏÝ ³Ýí³í»ñ ×³Ý³ã»Éáõ í»ñ³µ»ñÛ³É | E52: 1 | F52: 0 | G52: 1 | H52: 0 | I52: 0 | J52: 0 | K52: 0 | L52: 0 | M52: 0 | N52: 0 | O52: 0 | P52: 0 | Q52: 0 | R52: 0 | S52: 0 | T52: 0 | U52: 0 | V52: 0 | W52: 0 | X52: 0 | Y52: 0 | Z52: 0 | AA52: 1 | AB52: 0 | AC52: 0 | AD52: 0 | AE52: 0 | AF52: 0 | AG52: 0 | AH52: 0
A53: 3.2 | B53: ²Ý³ñÅ³Ý Å³é³Ý· ×³Ý³ã»Éáõ í»ñ³µ»ñÛ³É | E53: 0 | F53: 0 | G53: 0 | H53: 0 | I53: 0 | J53: 0 | K53: 0 | L53: 0 | M53: 0 | N53: 0 | O53: 0 | P53: 0 | Q53: 0 | R53: 0 | S53: 0 | T53: 0 | U53: 0 | V53: 0 | W53: 0 | X53: 0 | Y53: 0 | Z53: 0 | AA53: 0 | AB53: 0 | AC53: 0 | AD53: 0 | AE53: 0 | AF53: 0 | AG53: 0 | AH53: 0
A54: 3.3 | B54: Ä³é³Ý·áõÃÛáõÝÁ µ³Å³Ý»Éáõ í»ñ³µ»ñÛ³É | E54: 0 | F54: 0 | G54: 0 | H54: 0 | I54: 0 | J54: 0 | K54: 0 | L54: 0 | M54: 0 | N54: 0 | O54: 0 | P54: 0 | Q54: 0 | R54: 0 | S54: 0 | T54: 0 | U54: 0 | V54: 0 | W54: 0 | X54: 0 | Y54: 0 | Z54: 0 | AA54: 0 | AB54: 0 | AC54: 0 | AD54: 0 | AE54: 0 | AF54: 0 | AG54: 0 | AH54: 0
A55: 3.4 | B55: ¶áõÛùÝ ³ÝÅ³é³Ý· ×³Ý³ã»Éáõ í»ñ³µ»ñÛ³É | E55: 0 | F55: 0 | G55: 0 | H55: 0 | I55: 0 | J55: 0 | K55: 0 | L55: 0 | M55: 0 | N55: 0 | O55: 0 | P55: 0 | Q55: 0 | R55: 0 | S55: 0 | T55: 0 | U55: 0 | V55: 0 | W55: 0 | X55: 0 | Y55: 0 | Z55: 0 | AA55: 0 | AB55: 0 | AC55: 0 | AD55: 0 | AE55: 0 | AF55: 0 | AG55: 0 | AH55: 0
A56: 3.5 | B56: Àëï ûñ»ÝùÇ Å³é³Ý·áõÃÛ³Ý Çñ³íáõÝùÇ íÏ³Û³·ÇñÝ ³Ýí³í»ñ ×³Ý³ã»Éáõ í»ñ³µ»ñÛ³É | E56: 0 | F56: 0 | G56: 0 | H56: 0 | I56: 0 | J56: 0 | K56: 0 | L56: 0 | M56: 0 | N56: 0 | O56: 0 | P56: 0 | Q56: 0 | R56: 0 | S56: 0 | T56: 0 | U56: 0 | V56: 0 | W56: 0 | X56: 0 | Y56: 0 | Z56: 0 | AA56: 0 | AB56: 0 | AC56: 0 | AD56: 0 | AE56: 0 | AF56: 0 | AG56: 0 | AH56: 0
A57: 3.6 | B57: Ä³é³Ý·áõÃÛáõÝÝ ÁÝ¹áõÝ»Éáõ µ³ó ÃáÕÝí³Í Å³ÙÏ»ïÁ Ñ³ñ·»ÉÇ Ñ³Ù³ñ»Éáõ í»ñ³µ»ñÛ³É | E57: 1 | F57: 0 | G57: 1 | H57: 0 | I57: 0 | J57: 1 | K57: 1 | L57: 0 | M57: 0 | N57: 1 | O57: 0 | P57: 0 | Q57: 0 | R57: 0 | S57: 1 | T57: 0 | U57: 1 | V57: 0 | W57: 0 | X57: 1 | Y57: 0 | Z57: 0 | AA57: 1 | AB57: 0 | AC57: 0 | AD57: 0 | AE57: 0 | AF57: 1 | AG57: 0 | AH57: 1
A58: 3.7 | B58: ²ÛÉ í»×»ñ | E58: 5 | F58: 2 | G58: 3 | H58: 0 | I58: 0 | J58: 1 | K58: 1 | L58: 0 | M58: 0 | N58: 1 | O58: 1 | P58: 0 | Q58: 0 | R58: 0 | S58: 0 | T58: 0 | U58: 0 | V58: 0 | W58: 1 | X58: 2 | Y58: 0 | Z58: 0 | AA58: 4 | AB58: 2 | AC58: 1 | AD58: 0 | AE58: 1 | AF58: 0 | AG58: 0 | AH58: 0
A59: 4 | B59: ÀÝï³Ý»Ï³Ý Çñ³í³Ñ³ñ³µ»ñáõÃÛáõÝÝ»ñÇ í»ñ³µ»ñÛ³É ¹³ï³Ï³Ý ·áñÍ»ñ | E59: =SUM(E60:E72) -> 65 | F59: =SUM(F60:F72) -> 2 | G59: =SUM(G60:G72) -> 63 | H59: =SUM(H60:H72) -> 0 | I59: =SUM(I60:I72) -> 0 | J59: =SUM(J60:J72) -> 71 | K59: =SUM(K60:K72) -> 57 | L59: =SUM(L60:L72) -> 13 | ... AH59: =SUM(AH60:AH72) -> 1
A60: 4.1 | B60: ²ÙáõëÝ³ÉáõÍáõÃÛ³Ý í»ñ³µ»ñÛ³É | E60: 35 | F60: 1 | G60: 34 | H60: 0 | I60: 0 | J60: 41 | K60: 32 | L60: 9 | M60: 0 | N60: 45 | O60: 26 | P60: 9 | Q60: 1 | R60: 0 | S60: 9 | T60: 0 | U60: 9 | V60: 0 | W60: 0 | X60: 45 | Y60: 0 | Z60: 0 | AA60: 22 | AB60: 0 | AC60: 1 | AD60: 1 | AE60: 2 | AF60: 0 | AG60: 0 | AH60: 0
A61: 4.2 | B61: ²ÉÇÙ»ÝïÇ å³Ñ³ÝçÇ í»ñ³µ»ñÛ³É | E61: 10 | F61: 0 | G61: 10 | H61: 0 | I61: 0 | J61: 12 | K61: 11 | L61: 1 | M61: 0 | N61: 10 | O61: 1 | P61: 5 | Q61: 0 | R61: 0 | S61: 4 | T61: 0 | U61: 4 | V61: 0 | W61: 0 | X61: 10 | Y61: 0 | Z61: 0 | AA61: 11 | AB61: 0 | AC61: 1 | AD61: 0 | AE61: 1 | AF61: 0 | AG61: 0 | AH61: 0
A62: 4.3 | B62: ²ÉÇÙ»ÝïÇ ã³÷Á ÷á÷áË»Éáõ í»ñ³µ»ñÛ³É | E62: 2 | F62: 0 | G62: 2 | H62: 0 | I62: 0 | J62: 1 | K62: 1 | L62: 0 | M62: 0 | N62: 2 | O62: 0 | P62: 0 | Q62: 1 | R62: 1 | S62: 0 | T62: 0 | U62: 0 | V62: 0 | W62: 0 | X62: 2 | Y62: 0 | Z62: 0 | AA62: 1 | AB62: 0 | AC62: 1 | AD62: 0 | AE62: 1 | AF62: 0 | AG62: 0 | AH62: 0
A63: 4.4 | B63: ÌÝáÕ³Ï³Ý Çñ³íáõÝùÝ»ñÇó ½ñÏ»Éáõ í»ñ³µ»ñÛ³É | E63: 1 | F63: 0 | G63: 1 | H63: 0 | I63: 0 | J63: 1 | K63: 1 | L63: 0 | M63: 0 | N63: 1 | O63: 0 | P63: 0 | Q63: 0 | R63: 0 | S63: 1 | T63: 0 | U63: 1 | V63: 0 | W63: 0 | X63: 1 | Y63: 0 | Z63: 0 | AA63: 1 | AB63: 0 | AC63: 0 | AD63: 0 | AE63: 0 | AF63: 0 | AG63: 0 | AH63: 0
A64: 4.5 | B64: ÌÝáÕ³Ï³Ý Çñ³íáõÝùÝ»ñÁ í»ñ³Ï³Ý·Ý»Éáõ í»ñ³µ»ñÛ³É | E64: 0 | F64: 0 | G64: 0 | H64: 0 | I64: 0 | J64: 0 | K64: 0 | L64: 0 | M64: 0 | N64: 0 | O64: 0 | P64: 0 | Q64: 0 | R64: 0 | S64: 0 | T64: 0 | U64: 0 | V64: 0 | W64: 0 | X64: 0 | Y64: 0 | Z64: 0 | AA64: 0 | AB64: 0 | AC64: 0 | AD64: 0 | AE64: 0 | AF64: 0 | AG64: 0 | AH64: 0
A65: 4.6 | B65: ºñ»Ë³ÛÇ áñ¹»·ñÙ³Ý í»ñ³µ»ñÛ³É | E65: 1 | F65: 0 | G65: 1 | H65: 0 | I65: 0 | J65: 1 | K65: 1 | L65: 0 | M65: 0 | N65: 1 | O65: 1 | P65: 0 | Q65: 0 | R65: 0 | S65: 0 | T65: 0 | U65: 0 | V65: 0 | W65: 0 | X65: 1 | Y65: 0 | Z65: 0 | AA65: 1 | AB65: 0 | AC65: 0 | AD65: 0 | AE65: 0 | AF65: 0 | AG65: 0 | AH65: 0
A66: 4.7 | B66: ºñ»Ë³ÛÇ áñ¹»·ñáõÙÁ í»ñ³óÝ»Éáõ í»ñ³µ»ñÛ³É | E66: 0 | F66: 0 | G66: 0 | H66: 0 | I66: 0 | J66: 2 | K66: 1 | L66: 0 | M66: 1 | N66: 0 | O66: 0 | P66: 0 | Q66: 0 | R66: 0 | S66: 0 | T66: 0 | U66: 0 | V66: 0 | W66: 0 | X66: 0 | Y66: 0 | Z66: 0 | AA66: 1 | AB66: 0 | AC66: 0 | AD66: 0 | AE66: 0 | AF66: 0 | AG66: 0 | AH66: 0
A67: 4.8 | B67: Ð³ÛñáõÃÛáõÝÁ ×³Ý³ã»Éáõ í»ñ³µ»ñÛ³É | E67: 3 | F67: 0 | G67: 3 | H67: 0 | I67: 0 | J67: 1 | K67: 1 | L67: 0 | M67: 0 | N67: 3 | O67: 1 | P67: 1 | Q67: 0 | R67: 0 | S67: 1 | T67: 0 | U67: 1 | V67: 0 | W67: 0 | X67: 3 | Y67: 0 | Z67: 1 | AA67: 1 | AB67: 1 | AC67: 0 | AD67: 0 | AE67: 0 | AF67: 0 | AG67: 0 | AH67: 0
A68: 4.9 | B68: ºñ»Ë³ÛÇ µÝ³ÏáõÃÛ³Ý í³ÛñÁ áñáß»Éáõ í»ñ³µ»ñÛ³É | E68: 2 | F68: 0 | G68: 2 | H68: 0 | I68: 0 | J68: 2 | K68: 1 | L68: 1 | M68: 0 | N68: 1 | O68: 0 | P68: 0 | Q68: 1 | R68: 0 | S68: 0 | T68: 0 | U68: 0 | V68: 0 | W68: 0 | X68: 1 | Y68: 0 | Z68: 0 | AA68: 2 | AB68: 0 | AC68: 0 | AD68: 0 | AE68: 0 | AF68: 0 | AG68: 0 | AH68: 0
A69: 4.10 | B69: ºñ»Ë³ÛÇ Ñ»ï ï»ë³ÏóáõÃÛ³Ý Ï³ñ· ë³ÑÙ³Ý»Éáõ í»ñ³µ»ñÛ³É | E69: 9 | F69: 1 | G69: 8 | H69: 0 | I69: 0 | J69: 4 | K69: 4 | L69: 0 | M69: 0 | N69: 10 | O69: 1 | P69: 5 | Q69: 0 | R69: 0 | S69: 4 | T69: 2 | U69: 2 | V69: 0 | W69: 0 | X69: 10 | Y69: 0 | Z69: 1 | AA69: 3 | AB69: 1 | AC69: 2 | AD69: 1 | AE69: 3 | AF69: 0 | AG69: 1 | AH69: 1
A70: 4.11 | B70: ²ÙáõëÇÝÝ»ñÇ ÁÝ¹Ñ³Ýáõñ ·áõÛùÁ µ³Å³Ý»Éáõ í»ñ³µ»ñÛ³É | E70: 1 | F70: 0 | G70: 1 | H70: 0 | I70: 0 | J70: 1 | K70: 1 | L70: 0 | M70: 0 | N70: 0 | O70: 0 | P70: 0 | Q70: 0 | R70: 0 | S70: 0 | T70: 0 | U70: 0 | V70: 0 | W70: 0 | X70: 0 | Y70: 1 | Z70: 0 | AA70: 1 | AB70: 0 | AC70: 0 | AD70: 0 | AE70: 0 | AF70: 0 | AG70: 0 | AH70: 0
A71: 4.12 | B71: ²ÙáõëÝ³Ï³Ý å³ÛÙ³Ý³·ñÇ ÷á÷áËÙ³Ý Ï³Ù ÉáõÍÙ³Ý í»ñ³µ»ñÛ³É | E71: 0 | F71: 0 | G71: 0 | H71: 0 | I71: 0 | J71: 0 | K71: 0 | L71: 0 | M71: 0 | N71: 0 | O71: 0 | P71: 0 | Q71: 0 | R71: 0 | S71: 0 | T71: 0 | U71: 0 | V71: 0 | W71: 0 | X71: 0 | Y71: 0 | Z71: 0 | AA71: 0 | AB71: 0 | AC71: 0 | AD71: 0 | AE71: 0 | AF71: 0 | AG71: 0 | AH71: 0
A72: 4.13 | B72: ²ÛÉ í»×»ñ | E72: 1 | F72: 0 | G72: 1 | H72: 0 | I72: 0 | J72: 5 | K72: 3 | L72: 2 | M72: 0 | N72: 2 | O72: 0 | P72: 1 | Q72: 0 | R72: 0 | S72: 1 | T72: 0 | U72: 1 | V72: 0 | W72: 0 | X72: 2 | Y72: 0 | Z72: 0 | AA72: 2 | AB72: 0 | AC72: 0 | AD72: 0 | AE72: 0 | AF72: 0 | AG72: 0 | AH72: 0
A73: 5. | B73: Øï³íáñ ë»÷³Ï³ÝáõÃÛ³Ý Ñ»ï Ï³åí³ÍÇñ³í³Ñ³ñ³µ»ñáõÃÛáõÝÝ»ñÇ í»ñ³µ»ñÛ³É ¹³ï³Ï³Ý ·áñÍ»ñ | E73: =SUM(E74:E79) -> 0 | F73: =SUM(F74:F79) -> 0 | G73: =SUM(G74:G79) -> 0 | H73: =SUM(H74:H79) -> 0 | I73: =SUM(I74:I79) -> 0 | J73: =SUM(J74:J79) -> 0 | K73: =SUM(K74:K79) -> 0 | L73: =SUM(L74:L79) -> 0 | ... AH73: =SUM(AH74:AH79) -> 0
A74: 5.1 | B74: ÈÇó»Ý½³ÛÇÝ å³ÛÙ³Ý³·ñÇ ÉáõÍÙ³Ý, ÷á÷áËÙ³Ý ¨ ³Ýí³í»ñáõÃÛ³Ý í»ñ³µ»ñÛ³É | E74: 0 | F74: 0 | G74: 0 | H74: 0 | I74: 0 | J74: 0 | K74: 0 | L74: 0 | M74: 0 | N74: 0 | O74: 0 | P74: 0 | Q74: 0 | R74: 0 | S74: 0 | T74: 0 | U74: 0 | V74: 0 | W74: 0 | X74: 0 | Y74: 0 | Z74: 0 | AA74: 0 | AB74: 0 | AC74: 0 | AD74: 0 | AE74: 0 | AF74: 0 | AG74: 0 | AH74: 0
A75: 5.2 | B75: Øï³íáñ ·áñÍáõÝ»áõÃÛ³Ý ³ñ¹ÛáõÝùÝ»ñ ëï»ÕÍ»Éáõ ¨ û·ï³·áñÍ»Éáõ å³ÛÙ³Ý³·ñÇ ÉáõÍÙ³Ý, ÷á÷áËÙ³Ý áõ ³Ýí³í»ñáõÃÛ³Ý í»ñ³µ»ñÛ³É | E75: 0 | F75: 0 | G75: 0 | H75: 0 | I75: 0 | J75: 0 | K75: 0 | L75: 0 | M75: 0 | N75: 0 | O75: 0 | P75: 0 | Q75: 0 | R75: 0 | S75: 0 | T75: 0 | U75: 0 | V75: 0 | W75: 0 | X75: 0 | Y75: 0 | Z75: 0 | AA75: 0 | AB75: 0 | AC75: 0 | AD75: 0 | AE75: 0 | AF75: 0 | AG75: 0 | AH75: 0
A76: 5.3 | B76: Ð»ÕÇÝ³Ï³ÛÇÝ ¨ Ñ³ñ³ÏÇó Çñ³íáõÝùÝ»ñÇ í»ñ³µ»ñÛ³É | E76: 0 | F76: 0 | G76: 0 | H76: 0 | I76: 0 | J76: 0 | K76: 0 | L76: 0 | M76: 0 | N76: 0 | O76: 0 | P76: 0 | Q76: 0 | R76: 0 | S76: 0 | T76: 0 | U76: 0 | V76: 0 | W76: 0 | X76: 0 | Y76: 0 | Z76: 0 | AA76: 0 | AB76: 0 | AC76: 0 | AD76: 0 | AE76: 0 | AF76: 0 | AG76: 0 | AH76: 0
A77: 5.4 | B77: üÇñÙ³ÛÇÝ ³Ýí³ÝÙ³Ý í»ñ³µ»ñÛ³É | E77: 0 | F77: 0 | G77: 0 | H77: 0 | I77: 0 | J77: 0 | K77: 0 | L77: 0 | M77: 0 | N77: 0 | O77: 0 | P77: 0 | Q77: 0 | R77: 0 | S77: 0 | T77: 0 | U77: 0 | V77: 0 | W77: 0 | X77: 0 | Y77: 0 | Z77: 0 | AA77: 0 | AB77: 0 | AC77: 0 | AD77: 0 | AE77: 0 | AF77: 0 | AG77: 0 | AH77: 0
A78: 5.5 | B78: ²åñ³Ýù³ÛÇÝ Ýß³ÝÇ í»ñ³µ»ñÛ³É | E78: 0 | F78: 0 | G78: 0 | H78: 0 | I78: 0 | J78: 0 | K78: 0 | L78: 0 | M78: 0 | N78: 0 | O78: 0 | P78: 0 | Q78: 0 | R78: 0 | S78: 0 | T78: 0 | U78: 0 | V78: 0 | W78: 0 | X78: 0 | Y78: 0 | Z78: 0 | AA78: 0 | AB78: 0 | AC78: 0 | AD78: 0 | AE78: 0 | AF78: 0 | AG78: 0 | AH78: 0
A79: 5.6 | B79: ²ÛÉ í»×»ñ | E79: 0 | F79: 0 | G79: 0 | H79: 0 | I79: 0 | J79: 0 | K79: 0 | L79: 0 | M79: 0 | N79: 0 | O79: 0 | P79: 0 | Q79: 0 | R79: 0 | S79: 0 | T79: 0 | U79: 0 | V79: 0 | W79: 0 | X79: 0 | Y79: 0 | Z79: 0 | AA79: 0 | AB79: 0 | AC79: 0 | AD79: 0 | AE79: 0 | AF79: 0 | AG79: 0 | AH79: 0
A80: 6. | B80: ²ßË³ï³Ýù³ÛÇÝ Çñ³í³Ñ³ñ³µ»ñáõÃÛáõÝÝ»ñÇ í»ñ³µ»ñÛ³É ¹³ï³Ï³Ý ·áñÍ»ñ | E80: =SUM(E81:E86) -> 3 | F80: =SUM(F81:F86) -> 1 | G80: =SUM(G81:G86) -> 2 | H80: =SUM(H81:H86) -> 0 | I80: =SUM(I81:I86) -> 0 | J80: =SUM(J81:J86) -> 0 | K80: =SUM(K81:K86) -> 0 | L80: =SUM(L81:L86) -> 0 | ... AH80: =SUM(AH81:AH86) -> 0
A81: 6.1 | B81: ²ßË³ï³Ýù³ÛÇÝ å³ÛÙ³Ý³·ñ»ñÇ í»ñ³µ»ñÛ³É | E81: 0 | F81: 0 | G81: 0 | H81: 0 | I81: 0 | J81: 0 | K81: 0 | L81: 0 | M81: 0 | N81: 0 | O81: 0 | P81: 0 | Q81: 0 | R81: 0 | S81: 0 | T81: 0 | U81: 0 | V81: 0 | W81: 0 | X81: 0 | Y81: 0 | Z81: 0 | AA81: 0 | AB81: 0 | AC81: 0 | AD81: 0 | AE81: 0 | AF81: 0 | AG81: 0 | AH81: 0
A82: 6.2 | B82: ²ßË³ï³ÝùáõÙ í»ñ³Ï³Ý·Ý»Éáõ í»ñ³µ»ñÛ³É | E82: 2 | F82: 0 | G82: 2 | H82: 0 | I82: 0 | J82: 0 | K82: 0 | L82: 0 | M82: 0 | N82: 0 | O82: 0 | P82: 0 | Q82: 0 | R82: 0 | S82: 0 | T82: 0 | U82: 0 | V82: 0 | W82: 0 | X82: 0 | Y82: 0 | Z82: 0 | AA82: 2 | AB82: 0 | AC82: 0 | AD82: 0 | AE82: 0 | AF82: 0 | AG82: 0 | AH82: 0
A83: 6.3 | B83: ¶áñÍ³¹áõÉÝ ³ÝûñÇÝ³Ï³Ý ×³Ý³ã»Éáõ í»ñ³µ»ñÛ³É | E83: 0 | F83: 0 | G83: 0 | H83: 0 | I83: 0 | J83: 0 | K83: 0 | L83: 0 | M83: 0 | N83: 0 | O83: 0 | P83: 0 | Q83: 0 | R83: 0 | S83: 0 | T83: 0 | U83: 0 | V83: 0 | W83: 0 | X83: 0 | Y83: 0 | Z83: 0 | AA83: 0 | AB83: 0 | AC83: 0 | AD83: 0 | AE83: 0 | AF83: 0 | AG83: 0 | AH83: 0
A84: 6.4 | B84: Ð³ñÏ³¹Çñ å³ñ³åáõñ¹Ç Ñ³ïáõóÙ³Ý í»ñ³µ»ñÛ³É | E84: 0 | F84: 0 | G84: 0 | H84: 0 | I84: 0 | J84: 0 | K84: 0 | L84: 0 | M84: 0 | N84: 0 | O84: 0 | P84: 0 | Q84: 0 | R84: 0 | S84: 0 | T84: 0 | U84: 0 | V84: 0 | W84: 0 | X84: 0 | Y84: 0 | Z84: 0 | AA84: 0 | AB84: 0 | AC84: 0 | AD84: 0 | AE84: 0 | AF84: 0 | AG84: 0 | AH84: 0
A85: 6.5 | B85: âí×³ñí³Í ³ßË³ï³í³ñÓÇ ¨/Ï³Ù ³ÛÉ í×³ñÝ»ñÇ µéÝ³·³ÝÓÙ³Ý í»ñ³µ»ñÛ³É | E85: 1 | F85: 1 | G85: 0 | H85: 0 | I85: 0 | J85: 0 | K85: 0 | L85: 0 | M85: 0 | N85: 0 | O85: 0 | P85: 0 | Q85: 0 | R85: 0 | S85: 0 | T85: 0 | U85: 0 | V85: 0 | W85: 0 | X85: 0 | Y85: 0 | Z85: 0 | AA85: 1 | AB85: 1 | AC85: 0 | AD85: 0 | AE85: 0 | AF85: 0 | AG85: 0 | AH85: 0
A86: 6.6 | B86: ²ÛÉ í»×»ñ | E86: 0 | F86: 0 | G86: 0 | H86: 0 | I86: 0 | J86: 0 | K86: 0 | L86: 0 | M86: 0 | N86: 0 | O86: 0 | P86: 0 | Q86: 0 | R86: 0 | S86: 0 | T86: 0 | U86: 0 | V86: 0 | W86: 0 | X86: 0 | Y86: 0 | Z86: 0 | AA86: 0 | AB86: 0 | AC86: 0 | AD86: 0 | AE86: 0 | AF86: 0 | AG86: 0 | AH86: 0
A87: 7. | B87: Æñ³í³µ³Ý³Ï³Ý ³ÝÓÇ ·áñÍáõÝ»áõÃÛáõÝÇó µËáÕ Çñ³í³Ñ³ñ³µ»ñáõÃÛáõÝÝ»ñÇ í»ñ³µ»ñÛ³É ¹³ï³Ï³Ý ·áñÍ»ñ | E87: =SUM(E88:E89) -> 0 | F87: =SUM(F88:F89) -> 0 | G87: =SUM(G88:G89) -> 0 | H87: =SUM(H88:H89) -> 0 | I87: =SUM(I88:I89) -> 0 | J87: =SUM(J88:J89) -> 0 | K87: =SUM(K88:K89) -> 0 | L87: =SUM(L88:L89) -> 0 | ... AH87: =SUM(AH88:AH89) -> 0 | AI87: =AI88+AI89 -> 0
A88: 7.1 | B88: Îáñåáñ³ïÇí í»×»ñ | E88: 0 | F88: 0 | G88: 0 | H88: 0 | I88: 0 | J88: 0 | K88: 0 | L88: 0 | M88: 0 | N88: 0 | O88: 0 | P88: 0 | Q88: 0 | R88: 0 | S88: 0 | T88: 0 | U88: 0 | V88: 0 | W88: 0 | X88: 0 | Y88: 0 | Z88: 0 | AA88: 0 | AB88: 0 | AC88: 0 | AD88: 0 | AE88: 0 | AF88: 0 | AG88: 0 | AH88: 0
A89: 7.2 | B89: ²ÛÉ í»×»ñ | E89: 0 | F89: 0 | G89: 0 | H89: 0 | I89: 0 | J89: 0 | K89: 0 | L89: 0 | M89: 0 | N89: 0 | O89: 0 | P89: 0 | Q89: 0 | R89: 0 | S89: 0 | T89: 0 | U89: 0 | V89: 0 | W89: 0 | X89: 0 | Y89: 0 | Z89: 0 | AA89: 0 | AB89: 0 | AC89: 0 | AD89: 0 | AE89: 0 | AF89: 0 | AG89: 0 | AH89: 0
A90: 8. | B90: Ð³ïáõÏ í³ñáõÛÃÇ ¹³ï³Ï³Ý ·áñÍ»ñ | E90: =SUM(E91:E111) -> 51 | F90: =SUM(F91:F111) -> 10 | G90: =SUM(G91:G111) -> 41 | H90: =SUM(H91:H111) -> 0 | I90: =SUM(I91:I111) -> 0 | J90: =SUM(J91:J111) -> 82 | K90: =SUM(K91:K111) -> 44 | L90: =SUM(L91:L111) -> 34 | ... AH90: =SUM(AH91:AH111) -> 3
A91: 8.1 | B91: ²Ýã³÷³Ñ³ëÇÝ ÉñÇí ·áñÍáõÝ³Ï ×³Ý³ã»Éáõ /¿Ù³ÝëÇå³óÇ³/ í»ñ³µ»ñÛ³É | E91: 0 | F91: 0 | G91: 0 | H91: 0 | I91: 0 | J91: 0 | K91: 0 | L91: 0 | M91: 0 | N91: 0 | O91: 0 | P91: 0 | Q91: 0 | R91: 0 | S91: 0 | T91: 0 | U91: 0 | V91: 0 | W91: 0 | X91: 0 | Y91: 0 | Z91: 0 | AA91: 0 | AB91: 0 | AC91: 0 | AD91: 0 | AE91: 0 | AF91: 0 | AG91: 0 | AH91: 0
A92: 8.2 | B92: ø³Õ³ù³óáõÝ ³Ý·áñÍáõÝ³Ï Ï³Ù ë³ÑÙ³Ý³÷³Ï ·áñÍáõÝ³Ï ×³Ý³ã»Éáõ í»ñ³µ»ñÛ³É | E92: 13 | F92: 6 | G92: 7 | H92: 0 | I92: 0 | J92: 11 | K92: 7 | L92: 3 | M92: 1 | N92: 9 | O92: 7 | P92: 0 | Q92: 0 | R92: 0 | S92: 2 | T92: 0 | U92: 2 | V92: 0 | W92: 0 | X92: 9 | Y92: 0 | Z92: 8 | AA92: 11 | AB92: 8 | AC92: 0 | AD92: 1 | AE92: 1 | AF92: 0 | AG92: 1 | AH92: 1
A93: 8.3 | B93: ø³Õ³ù³óáõÝ Ñá·»µáõÅ³Ï³Ý ÑÇí³Ý¹³Ýáó³ÛÇÝ Ñ³ñÏ³¹Çñ µáõÅÙ³Ý »ÝÃ³ñÏ»Éáõ í»ñ³µ»ñÛ³É | E93: 0 | F93: 0 | G93: 0 | H93: 0 | I93: 0 | J93: 1 | K93: 1 | L93: 0 | M93: 0 | N93: 0 | O93: 0 | P93: 0 | Q93: 0 | R93: 0 | S93: 0 | T93: 0 | U93: 0 | V93: 0 | W93: 0 | X93: 0 | Y93: 0 | Z93: 0 | AA93: 1 | AB93: 0 | AC93: 0 | AD93: 0 | AE93: 0 | AF93: 0 | AG93: 0 | AH93: 0
A94: 8.4 | B94: ø³Õ³ù³óáõÝ ³ÝÑ³Ûï µ³ó³Ï³ÛáÕ Ï³Ù Ù³Ñ³ó³Í ×³Ý³ã»Éáõ í»ñ³µ»ñÛ³É | E94: 3 | F94: 0 | G94: 3 | H94: 0 | I94: 0 | J94: 8 | K94: 4 | L94: 4 | M94: 0 | N94: 4 | O94: 3 | P94: 0 | Q94: 0 | R94: 0 | S94: 1 | T94: 0 | U94: 1 | V94: 0 | W94: 0 | X94: 4 | Y94: 0 | Z94: 0 | AA94: 3 | AB94: 0 | AC94: 0 | AD94: 0 | AE94: 0 | AF94: 0 | AG94: 0 | AH94: 0
A95: 8.5 | B95: ø³Õ³ù³óÇ³Ï³Ý Ï³óáõÃÛ³Ý ³Ïï»ñÇ ·ñ³éáõÙÝ»ñÇ ³Ý×ßïáõÃÛáõÝÝ»ñÁ å³ñ½»Éáõ í»ñ³µ»ñÛ³É | E95: 0 | F95: 0 | G95: 0 | H95: 0 | I95: 0 | J95: 0 | K95: 0 | L95: 0 | M95: 0 | N95: 0 | O95: 0 | P95: 0 | Q95: 0 | R95: 0 | S95: 0 | T95: 0 | U95: 0 | V95: 0 | W95: 0 | X95: 0 | Y95: 0 | Z95: 0 | AA95: 0 | AB95: 0 | AC95: 0 | AD95: 0 | AE95: 0 | AF95: 0 | AG95: 0 | AH95: 0
A96: 8.6 | B96: ¶áõÛùÁ ïÇñ³½áõñÏ ×³Ý³ã»Éáõ í»ñ³µ»ñÛ³É | E96: 1 | F96: 0 | G96: 1 | H96: 0 | I96: 0 | J96: 1 | K96: 1 | L96: 0 | M96: 0 | N96: 0 | O96: 0 | P96: 0 | Q96: 0 | R96: 0 | S96: 0 | T96: 0 | U96: 0 | V96: 0 | W96: 0 | X96: 0 | Y96: 0 | Z96: 0 | AA96: 2 | AB96: 0 | AC96: 0 | AD96: 1 | AE96: 1 | AF96: 0 | AG96: 0 | AH96: 0
A97: 8.6.1 | B97: ²Û¹ ÃíáõÙª ³Ýß³ñÅ ·áõÛùÁ | E97: 0 | F97: 0 | G97: 0 | H97: 0 | I97: 0 | J97: 0 | K97: 0 | L97: 0 | M97: 0 | N97: 0 | O97: 0 | P97: 0 | Q97: 0 | R97: 0 | S97: 0 | T97: 0 | U97: 0 | V97: 0 | W97: 0 | X97: 0 | Y97: 0 | Z97: 0 | AA97: 0 | AB97: 0 | AC97: 0 | AD97: 0 | AE97: 0 | AF97: 0 | AG97: 0 | AH97: 0
A98: 8.6.2 | B98: ²Û¹ ÃíáõÙª ß³ñÅ³Ï³Ý ·áõÛùÁ | E98: 0 | F98: 0 | G98: 0 | H98: 0 | I98: 0 | J98: 0 | K98: 0 | L98: 0 | M98: 0 | N98: 0 | O98: 0 | P98: 0 | Q98: 0 | R98: 0 | S98: 0 | T98: 0 | U98: 0 | V98: 0 | W98: 0 | X98: 0 | Y98: 0 | Z98: 0 | AA98: 0 | AB98: 0 | AC98: 0 | AD98: 0 | AE98: 0 | AF98: 0 | AG98: 0 | AH98: 0
A99: 8.7 | B99: Æñ³í³µ³Ý³Ï³Ý Ýß³Ý³ÏáõÃÛáõÝ áõÝ»óáÕ ÷³ëï»ñÇ Ñ³ëï³ïÙ³Ý í»ñ³µ»ñÛ³É | E99: 1 | F99: 0 | G99: 1 | H99: 0 | I99: 0 | J99: 2 | K99: 1 | L99: 1 | M99: 0 | N99: 2 | O99: 2 | P99: 0 | Q99: 0 | R99: 0 | S99: 0 | T99: 0 | U99: 0 | V99: 0 | W99: 0 | X99: 2 | Y99: 0 | Z99: 0 | AA99: 0 | AB99: 0 | AC99: 0 | AD99: 0 | AE99: 0 | AF99: 0 | AG99: 0 | AH99: 0
A100: 8.7.1 | B100: ²ÝÓ³Ýó ³½·³Ïó³Ï³Ý Ï³åÁ Ñ³ëï³ï»Éáõ í»ñ³µ»ñÛ³É | E100: 6 | F100: 0 | G100: 6 | H100: 0 | I100: 0 | J100: 19 | K100: 12 | L100: 7 | M100: 0 | N100: 9 | O100: 7 | P100: 0 | Q100: 1 | R100: 0 | S100: 1 | T100: 0 | U100: 1 | V100: 0 | W100: 0 | X100: 9 | Y100: 0 | Z100: 0 | AA100: 9 | AB100: 0 | AC100: 1 | AD100: 0 | AE100: 1 | AF100: 1 | AG100: 0 | AH100: 1
A101: 8.7.2 | B101: ²ÝÓÇª áõñÇßÇ ËÝ³ÙùÇ ï³Ï ·ïÝí»Éáõ í»ñ³µ»ñÛ³É | E101: 0 | F101: 0 | G101: 0 | H101: 0 | I101: 0 | J101: 0 | K101: 0 | L101: 0 | M101: 0 | N101: 0 | O101: 0 | P101: 0 | Q101: 0 | R101: 0 | S101: 0 | T101: 0 | U101: 0 | V101: 0 | W101: 0 | X101: 0 | Y101: 0 | Z101: 0 | AA101: 0 | AB101: 0 | AC101: 0 | AD101: 0 | AE101: 0 | AF101: 0 | AG101: 0 | AH101: 0
A102: 8.7.3 | B102: ÌÝÝ¹Û³Ý, áñ¹»·ñÙ³Ý, ³ÙáõëÝáõÃÛ³Ý, ³å³Ñ³ñ½³ÝÇ ¨ Ù³Ñí³Ý ·ñ³ÝóÙ³Ý í»ñ³µ»ñÛ³É | E102: 1 | F102: 0 | G102: 1 | H102: 0 | I102: 0 | J102: 5 | K102: 3 | L102: 1 | M102: 1 | N102: 3 | O102: 2 | P102: 0 | Q102: 1 | R102: 0 | S102: 0 | T102: 0 | U102: 0 | V102: 0 | W102: 0 | X102: 3 | Y102: 0 | Z102: 0 | AA102: 1 | AB102: 0 | AC102: 0 | AD102: 0 | AE102: 0 | AF102: 0 | AG102: 0 | AH102: 0
... A111: 8.10 | B111: ²ÛÉ í»×»ñ | E111: 1 | F111: 0 | G111: 1 | H111: 0 | I111: 0 | J111: 1 | K111: 1 | L111: 0 | M111: 0 | N111: 1 | O111: 1 | P111: 0 | Q111: 0 | R111: 0 | S111: 0 | T111: 0 | U111: 0 | V111: 0 | W111: 0 | X111: 1 | Y111: 0 | Z111: 0 | AA111: 1 | AB111: 0 | AC111: 0 | AD111: 0 | AE111: 0 | AF111: 0 | AG111: 0 | AH111: 0
A112: 9. | B112: Ð³ïáõÏ Ñ³Ûó³ÛÇÝ í³ñáõÛÃÇ ¹³ï³Ï³Ý ·áñÍ»ñ | E112: =SUM(E113:E115) -> 0 | F112: =SUM(F113:F115) -> 0 | G112: =SUM(G113:G115) -> 0 | H112: =SUM(H113:H115) -> 0 | I112: =SUM(I113:I115) -> 0 | J112: =SUM(J113:J115) -> 0 | K112: =SUM(K113:K115) -> 0 | L112: =SUM(L113:L115) -> 0 | ... AH112: =SUM(AH113:AH115) -> 0
A113: 9.1 | B113: ø³Õ³ù³óáõ ÏÛ³ÝùÇÝ Ï³Ù ³éáÕçáõÃÛ³ÝÝ ëå³éÝ³óáÕ íï³Ý·Ç í»ñ³µ»ñÛ³É | E113: 0 | F113: 0 | G113: 0 | H113: 0 | I113: 0 | J113: 0 | K113: 0 | L113: 0 | M113: 0 | N113: 0 | O113: 0 | P113: 0 | Q113: 0 | R113: 0 | S113: 0 | T113: 0 | U113: 0 | V113: 0 | W113: 0 | X113: 0 | Y113: 0 | Z113: 0 | AA113: 0 | AB113: 0 | AC113: 0 | AD113: 0 | AE113: 0 | AF113: 0 | AG113: 0 | AH113: 0
A114: 9.2 | B114: ÐÐ Î»ÝïñáÝ³Ï³Ý µ³ÝÏÇ ¨ ³Ýí×³ñáõÝ³Ï µ³ÝÏÇ Ï³Ù í³ñÏ³ÛÇÝ Ï³½Ù³Ï»ñåáõÃÛ³Ý Å³Ù³Ý³Ï³íáñ ³¹ÙÇÝÇëïñ³óÇ³ÛÇ áñáßáõÙÝ»ñÇ µáÕáù³ñÏÙ³Ý í»ñ³µ»ñÛ³É | E114: 0 | F114: 0 | G114: 0 | H114: 0 | I114: 0 | J114: 0 | K114: 0 | L114: 0 | M114: 0 | N114: 0 | O114: 0 | P114: 0 | Q114: 0 | R114: 0 | S114: 0 | T114: 0 | U114: 0 | V114: 0 | W114: 0 | X114: 0 | Y114: 0 | Z114: 0 | AA114: 0 | AB114: 0 | AC114: 0 | AD114: 0 | AE114: 0 | AF114: 0 | AG114: 0 | AH114: 0
A115: 9.3 | B115: ²ÛÉ í»×»ñ | E115: 0 | F115: 0 | G115: 0 | H115: 0 | I115: 0 | J115: 0 | K115: 0 | L115: 0 | M115: 0 | N115: 0 | O115: 0 | P115: 0 | Q115: 0 | R115: 0 | S115: 0 | T115: 0 | U115: 0 | V115: 0 | W115: 0 | X115: 0 | Y115: 0 | Z115: 0 | AA115: 0 | AB115: 0 | AC115: 0 | AD115: 0 | AE115: 0 | AF115: 0 | AG115: 0 | AH115: 0
A116: 11. | B116: ä³ñï³íáñ³Ï³Ý Çñ³í³Ñ³ñ³µ»ñáõÃÛáõÝÝ»ñÇ í»ñ³µ»ñÛ³É ¹³ï³Ï³Ý ·áñÍ»ñ | E116: =SUM(E117:E124) -> 1243 | F116: =SUM(F117:F124) -> 170 | G116: =SUM(G117:G124) -> 1073 | H116: =SUM(H117:H124) -> 0 | I116: =SUM(I117:I124) -> 0 | J116: =SUM(J117:J124) -> 1829 | K116: =SUM(K117:K124) -> 1710 | L116: =SUM(L117:L124) -> 117 | ... AH116: =SUM(AH117:AH124) -> 5
A117: 11.1 | B117: ¶áõÙ³ñÇ å³Ñ³ÝçÇ Ù³ëÇÝ | E117: 1221 | F117: 165 | G117: 1056 | H117: 0 | I117: 0 | J117: 1812 | K117: 1699 | L117: 111 | M117: 2 | N117: 1792 | O117: 1551 | P117: 67 | Q117: 53 | R117: 1 | S117: 120 | T117: 11 | U117: 104 | V117: 5 | W117: 0 | X117: 1792 | Y117: 13 | Z117: 70 | AA117: 1115 | AB117: 180 | AC117: 32 | AD117: 2 | AE117: 34 | AF117: 3 | AG117: 1 | AH117: 4
A118: 11.2 | B118: ä³ñï³íáñáõÃÛáõÝÁ µÝ»Õ»Ýáí Ï³ï³ñ»Éáõ å³Ñ³ÝçÇ Ù³ëÇÝ | E118: 0 | F118: 0 | G118: 0 | H118: 0 | I118: 0 | J118: 0 | K118: 0 | L118: 0 | M118: 0 | N118: 0 | O118: 0 | P118: 0 | Q118: 0 | R118: 0 | S118: 0 | T118: 0 | U118: 0 | V118: 0 | W118: 0 | X118: 0 | Y118: 0 | Z118: 0 | AA118: 0 | AB118: 0 | AC118: 0 | AD118: 0 | AE118: 0 | AF118: 0 | AG118: 0 | AH118: 0
