Workbook

Sheet Ընդամենը
A1: 2017Ã. 1-ÇÝ ÏÇë³ÙÛ³Ï | D1: Ð²ÞìºîìàôÂÚàôÜ | P1: Ð³í»Éí³Í Ð³Û³ëï³ÝÇ Ð³Ýñ³å»ïáõÃÛ³Ý ¸³ï³ñ³ÝÝ»ñÇ Ý³Ë³·³ÑÝ»ñÇ ËáñÑñ¹Ç 25.08.2017Ã. ÃÇí 35-È áñáßÙ³Ý
A2: ØÇÝã¹³ï³Ï³Ý í³ñáõÛÃÇ ÝÏ³ïÙ³Ùµ ¹³ï³Ï³Ý í»ñ³ÑëÏáÕáõÃÛ³ÝÁ, ¹³ï³Ï³Ý ³Ïï»ñÇ ¨ ¹³ï³Ï³Ý Ñ³ÝÓÝ³ñ³ñáõÃÛáõÝÝ»ñÇ Ï³ï³ñÙ³Ý Ñ»ï Ï³åí³Í ÙÇçÝáñ¹áõÃÛáõÝÝ»ñÇ í»ñ³µ»ñÛ³É ¹³ï³Ï³Ý ·áñÍ»ñáí ºñ¨³Ý ù³Õ³ùÇ Ø³É³ÃÇ³-ê»µ³ëïÇ³ í³ñã³Ï³Ý ßñç³ÝÇ ÁÝ¹Ñ³Ýáõñ Çñ³í³ëáõÃÛ³Ý ³é³çÇÝ ³ïÛ³ÝÇ ¹³ï³ñ³ÝÇ ·áñÍáõÝ»áõÃÛ³Ý í»ñ³µ»ñÛ³É
A3: êïáõ·Çã Ñ³í³ë³ñáõÙ` 1+2=3+8+9, 8=4+5+6+7, | D3: Ð³ßí»ïáõ Å³Ù³Ý³Ï³Ñ³ïí³ÍÇ ëÏ½µáõÙ Ý³Ëáñ¹ Ñ³ßí»ïáõ Å³Ù³Ý³Ï³Ñ³ïí³ÍÇó ÷áË³Ýóí³Í ·áñÍ»ñÇ ÁÝ¹Ñ³Ýáõñ ÃÇíÁ | E3: Ð³ßí»ïáõ Å³Ù³Ý³Ï³Ñ³ïí³ÍáõÙ ëï³óí³Í ·áñÍ»ñÇ ÁÝ¹Ñ³Ýáõñ ÃÇíÁ | F3: öáË³Ýóí»É ¿ ³ÛÉ ¹³ï³íáñÇ Ï³Ù ³ÛÉ ¹³ï³ñ³Ý (Ï³½ÙÇ ÷á÷áËáõÃÛáõÝ, ÁÝ¹¹³ïáõÃÛáõÝ) | G3: Ð³ßí»ïáõ Å³Ù³Ý³Ï³Ñ³ïí³ÍáõÙ ³í³ñïí³Í ·áñÍ»ñÇ ÁÝ¹Ñ³Ýáõñ ÃÇíÁ | L3: Ð³ßí»ïáõ Å³Ù³Ý³Ï³Ñ³ïí³ÍáõÙ ³Ý³í³ñï ·áñÍ»ñÇ ÁÝ¹Ñ³Ýáõñ ÃÇíÁ | M3: ØÇçÝáñ¹áõÃÛáõÝÝ»ñáí Ï³Û³óí³Í ¹³ï³Ï³Ý ³Ïï»ñÇó µáÕáù³ñÏí³ÍÝ»ñÇ ù³Ý³ÏÁ | O3: ²Ý³í³ñï µáÕáùÝ»ñ | P3: ØÇçÝáñ¹áõÃÛáõÝÝ»ñáí Ï³Û³óí³Í ¨ µáÕáù³ñÏí³Í ¹³ï³Ï³Ý ³Ïï»ñÇó µ»Ï³Ýí³ÍÝ»ñÇ ù³Ý³ÏÁ | R3: ÙÇçÝáñ¹áõÃÛáõÝÝ»ñáí Ï³Û³óí³Í ¨ µáÕáù³ñÏí³Í ¹³ï³Ï³Ý ³Ïï»ñÇó ³Ý÷á÷áË ÃáÕÝí³ÍÝ»ñÇ ù³Ý³ÏÁ
G4: Ù»ñÅí»É ¿ | H4: µ³í³ñ³ñí»É ¿ | I4: µ³í³ñ³ñí»É ¿ Ù³ëÝ³ÏÇ | J4: ÃáÕÝí»É ¿ ³é³Ýó ùÝÝáõÃÛ³Ý | K4: ÀÝ¹³Ù»ÝÁ
M5: Ý³Ëáñ¹ ï³ñÇÝ»ñÇÝ Ï³Û³óí³Í ³Ïï»ñÇ ¹»Ù | N5: Ñ³ßí»ïáõ Å³Ù³Ý³Ï³ßñç³ÝáõÙ Ï³Û³óí³Í ³Ïï»ñÇ ¹»Ù | P5: Ý³Ëáñ¹ ï³ñÇÝ»ñÇÝ Ï³Û³óí³Í ³Ïï»ñÇ µ»Ï³ÝáõÙÝ»ñÁ | Q5: Ñ³ßí»ïáõ Å³Ù³Ý³Ï³ßñç³ÝáõÙ Ï³Û³óí³Í ³Ïï»ñÇ µ»Ï³ÝáõÙÝ»ñÁ
A6: 1. ØÇÝã¹³ï³Ï³Ý í³ñáõÛÃÇ ÝÏ³ïÙ³Ùµ ¹³ï³Ï³Ý í»ñ³ÑëÏáÕáõÃÛ³Ý áÉáñï | D6: 1 | E6: 2 | F6: 3 | G6: 4 | H6: 5 | I6: 6 | J6: 7 | K6: 8 | L6: 9 | M6: 10 | N6: 11 | O6: 12 | P6: 13 | Q6: 14 | R6: 15 | T6: 1+2=3+8+9 | V6: 8=4+5+6+7
A7: 1 | B7: Ï³É³ÝùÁ áñå»ë Ë³÷³ÝÙ³Ý ÙÇçáó ÏÇñ³é»Éáõ Ù³ëÇÝ ÙÇçÝáñ¹áõÃÛáõÝÝ»ñ | D7: =SUM('Ռ. Պապոյան:Ն. Կարապետյան'!D7) -> 0 | E7: =SUM('Ռ. Պապոյան:Ն. Կարապետյան'!E7) -> 10 | F7: =SUM('Ռ. Պապոյան:Ն. Կարապետյան'!F7) -> 0 | G7: =SUM('Ռ. Պապոյան:Ն. Կարապետյան'!G7) -> 0 | H7: =SUM('Ռ. Պապոյան:Ն. Կարապետյան'!H7) -> 10 | I7: =SUM('Ռ. Պապոյան:Ն. Կարապետյան'!I7) -> 0 | J7: =SUM('Ռ. Պապոյան:Ն. Կարապետյան'!J7) -> 0 | K7: =SUM('Ռ. Պապոյան:Ն. Կարապետյան'!K7) -> 10 | ... R7: =SUM('Ռ. Պապոյան:Ն. Կարապետյան'!R7) -> 2 | T7: =D7+E7 -> 10 | U7: =F7+K7+L7 -> 10 | V7: =K7 -> 10 | W7: =G7+H7+I7+J7 -> 10
A8: 2 | B8: Ï³É³ÝùÇ Å³ÙÏ»ïÁ »ñÏ³ñ³óÝ»Éáõ Ù³ëÇÝ ÙÇçÝáñ¹áõÃÛáõÝÝ»ñ | D8: =SUM('Ռ. Պապոյան:Ն. Կարապետյան'!D8) -> 0 | E8: =SUM('Ռ. Պապոյան:Ն. Կարապետյան'!E8) -> 20 | F8: =SUM('Ռ. Պապոյան:Ն. Կարապետյան'!F8) -> 0 | G8: =SUM('Ռ. Պապոյան:Ն. Կարապետյան'!G8) -> 1 | H8: =SUM('Ռ. Պապոյան:Ն. Կարապետյան'!H8) -> 18 | I8: =SUM('Ռ. Պապոյան:Ն. Կարապետյան'!I8) -> 1 | J8: =SUM('Ռ. Պապոյան:Ն. Կարապետյան'!J8) -> 0 | K8: =SUM('Ռ. Պապոյան:Ն. Կարապետյան'!K8) -> 20 | ... R8: =SUM('Ռ. Պապոյան:Ն. Կարապետյան'!R8) -> 3 | T8: =D8+E8 -> 20 | U8: =F8+K8+L8 -> 20 | V8: =K8 -> 20 | W8: =G8+H8+I8+J8 -> 20
A9: 3 | B9: Ï³É³ÝùÇ í»ñ³Ñ³ëï³ïÙ³Ý Ù³ëÇÝ ÙÇçÝáñ¹áõÃÛáõÝÝ»ñ | D9: =SUM('Ռ. Պապոյան:Ն. Կարապետյան'!D9) -> 0 | E9: =SUM('Ռ. Պապոյան:Ն. Կարապետյան'!E9) -> 2 | F9: =SUM('Ռ. Պապոյան:Ն. Կարապետյան'!F9) -> 0 | G9: =SUM('Ռ. Պապոյան:Ն. Կարապետյան'!G9) -> 0 | H9: =SUM('Ռ. Պապոյան:Ն. Կարապետյան'!H9) -> 2 | I9: =SUM('Ռ. Պապոյան:Ն. Կարապետյան'!I9) -> 0 | J9: =SUM('Ռ. Պապոյան:Ն. Կարապետյան'!J9) -> 0 | K9: =SUM('Ռ. Պապոյան:Ն. Կարապետյան'!K9) -> 2 | ... R9: =SUM('Ռ. Պապոյան:Ն. Կարապետյան'!R9) -> 0 | T9: =D9+E9 -> 2 | U9: =F9+K9+L9 -> 2 | V9: =K9 -> 2 | W9: =G9+H9+I9+J9 -> 2
A10: 4 | B10: ·ñ³íÁ áñå»ë Ï³É³Ý³íáñÙ³Ý ³ÛÉÁÝïñ³Ýù³ÛÇÝ Ë³÷³ÝÙ³Ý ÙÇçáó ÏÇñ³é»Éáõ Ù³ëÇÝ ÙÇçÝáñ¹áõÃÛáõÝÝ»ñ | D10: =SUM('Ռ. Պապոյան:Ն. Կարապետյան'!D10) -> 1 | E10: =SUM('Ռ. Պապոյան:Ն. Կարապետյան'!E10) -> 18 | F10: =SUM('Ռ. Պապոյան:Ն. Կարապետյան'!F10) -> 0 | G10: =SUM('Ռ. Պապոյան:Ն. Կարապետյան'!G10) -> 19 | H10: =SUM('Ռ. Պապոյան:Ն. Կարապետյան'!H10) -> 0 | I10: =SUM('Ռ. Պապոյան:Ն. Կարապետյան'!I10) -> 0 | J10: =SUM('Ռ. Պապոյան:Ն. Կարապետյան'!J10) -> 0 | K10: =SUM('Ռ. Պապոյան:Ն. Կարապետյան'!K10) -> 19 | ... R10: =SUM('Ռ. Պապոյան:Ն. Կարապետյան'!R10) -> 5 | T10: =D10+E10 -> 19 | U10: =F10+K10+L10 -> 19 | V10: =K10 -> 19 | W10: =G10+H10+I10+J10 -> 19
A11: 5 | B11: Ëáõ½³ñÏáõÃÛ³Ý Ï³ï³ñÙ³Ý Ù³ëÇÝ ÙÇçÝáñ¹áõÃÛáõÝÝ»ñ | D11: =SUM('Ռ. Պապոյան:Ն. Կարապետյան'!D11) -> 0 | E11: =SUM('Ռ. Պապոյան:Ն. Կարապետյան'!E11) -> 54 | F11: =SUM('Ռ. Պապոյան:Ն. Կարապետյան'!F11) -> 1 | G11: =SUM('Ռ. Պապոյան:Ն. Կարապետյան'!G11) -> 2 | H11: =SUM('Ռ. Պապոյան:Ն. Կարապետյան'!H11) -> 51 | I11: =SUM('Ռ. Պապոյան:Ն. Կարապետյան'!I11) -> 0 | J11: =SUM('Ռ. Պապոյան:Ն. Կարապետյան'!J11) -> 0 | K11: =SUM('Ռ. Պապոյան:Ն. Կարապետյան'!K11) -> 53 | ... R11: =SUM('Ռ. Պապոյան:Ն. Կարապետյան'!R11) -> 0 | T11: =D11+E11 -> 54 | U11: =F11+K11+L11 -> 54 | V11: =K11 -> 53 | W11: =G11+H11+I11+J11 -> 53
A12: 6 | B12: µ³ÝÏ³ÛÇÝ, ³å³Ñáí³·ñ³Ï³Ý, Ýáï³ñ³Ï³Ý ·³ÕïÝÇù Ï³½ÙáÕ ï»Õ»ÏáõÃÛáõÝÝ»ñÇ ëï³óÙ³Ý Ñ³Ù³ñ Ëáõ½³ñÏáõÃÛ³Ý Ï³Ù ³é·ñ³íÙ³Ý Ï³ï³ñÙ³Ý Ù³ëÇÝ ÙÇçÝáñ¹áõÃÛáõÝÝ»ñ | D12: =SUM('Ռ. Պապոյան:Ն. Կարապետյան'!D12) -> 0 | E12: =SUM('Ռ. Պապոյան:Ն. Կարապետյան'!E12) -> 2 | F12: =SUM('Ռ. Պապոյան:Ն. Կարապետյան'!F12) -> 0 | G12: =SUM('Ռ. Պապոյան:Ն. Կարապետյան'!G12) -> 0 | H12: =SUM('Ռ. Պապոյան:Ն. Կարապետյան'!H12) -> 2 | I12: =SUM('Ռ. Պապոյան:Ն. Կարապետյան'!I12) -> 0 | J12: =SUM('Ռ. Պապոյան:Ն. Կարապետյան'!J12) -> 0 | K12: =SUM('Ռ. Պապոյան:Ն. Կարապետյան'!K12) -> 2 | ... R12: =SUM('Ռ. Պապոյան:Ն. Կարապետյան'!R12) -> 0 | T12: =D12+E12 -> 2 | U12: =F12+K12+L12 -> 2 | V12: =K12 -> 2 | W12: =G12+H12+I12+J12 -> 2
A13: 7 | B13: Ý³Ù³Ï³·ñáõÃÛ³Ý, Ñ»é³·ñ³Ï³Ý, ÷áuï³ÛÇÝ Ñ³Õáñ¹áõÙÝ»ñÇ ÑëÏáÕáõÃÛ³Ý Ù³ëÇÝ ÙÇçÝáñ¹áõÃÛáõÝÝ»ñ | D13: =SUM('Ռ. Պապոյան:Ն. Կարապետյան'!D13) -> 0 | E13: =SUM('Ռ. Պապոյան:Ն. Կարապետյան'!E13) -> 2 | F13: =SUM('Ռ. Պապոյան:Ն. Կարապետյան'!F13) -> 0 | G13: =SUM('Ռ. Պապոյան:Ն. Կարապետյան'!G13) -> 1 | H13: =SUM('Ռ. Պապոյան:Ն. Կարապետյան'!H13) -> 1 | I13: =SUM('Ռ. Պապոյան:Ն. Կարապետյան'!I13) -> 0 | J13: =SUM('Ռ. Պապոյան:Ն. Կարապետյան'!J13) -> 0 | K13: =SUM('Ռ. Պապոյան:Ն. Կարապետյան'!K13) -> 2 | ... R13: =SUM('Ռ. Պապոյան:Ն. Կարապետյան'!R13) -> 0 | T13: =D13+E13 -> 2 | U13: =F13+K13+L13 -> 2 | V13: =K13 -> 2 | W13: =G13+H13+I13+J13 -> 2
A14: 8 | B14: Ñ»é³Ëáu³ÛÇÝ Ï³Ù Ï³åÇ ³ÛÉ ÙÇçáóÝ»ñáí ï³ñíáÕ Ëáu³ÏóáõÃÛáõÝÝ»ñÇ ÉuÙ³Ý ¨ Ó³ÛÝ³·ñ³éÙ³Ý Ù³ëÇÝ ÙÇçÝáñ¹áõÃÛáõÝÝ»ñ | D14: =SUM('Ռ. Պապոյան:Ն. Կարապետյան'!D14) -> 0 | E14: =SUM('Ռ. Պապոյան:Ն. Կարապետյան'!E14) -> 6 | F14: =SUM('Ռ. Պապոյան:Ն. Կարապետյան'!F14) -> 0 | G14: =SUM('Ռ. Պապոյան:Ն. Կարապետյան'!G14) -> 1 | H14: =SUM('Ռ. Պապոյան:Ն. Կարապետյան'!H14) -> 5 | I14: =SUM('Ռ. Պապոյան:Ն. Կարապետյան'!I14) -> 0 | J14: =SUM('Ռ. Պապոյան:Ն. Կարապետյան'!J14) -> 0 | K14: =SUM('Ռ. Պապոյան:Ն. Կարապետյան'!K14) -> 6 | ... R14: =SUM('Ռ. Պապոյան:Ն. Կարապետյան'!R14) -> 0 | T14: =D14+E14 -> 6 | U14: =F14+K14+L14 -> 6 | V14: =K14 -> 6 | W14: =G14+H14+I14+J14 -> 6
A15: 9 | B15: Ñ»é³ËáëÝ»ñÇ Ùáõïù³ÛÇÝ ¨ »Éù³ÛÇÝ í»ñÍ³ÝÙ³Ý ÃáõÛÉïíáõÃÛáõÝ ëï³Ý³Éáõ Ù³ëÇÝ ÙÇçÝáñ¹áõÃÛáõÝÝ»ñ | D15: =SUM('Ռ. Պապոյան:Ն. Կարապետյան'!D15) -> 0 | E15: =SUM('Ռ. Պապոյան:Ն. Կարապետյան'!E15) -> 80 | F15: =SUM('Ռ. Պապոյան:Ն. Կարապետյան'!F15) -> 0 | G15: =SUM('Ռ. Պապոյան:Ն. Կարապետյան'!G15) -> 1 | H15: =SUM('Ռ. Պապոյան:Ն. Կարապետյան'!H15) -> 79 | I15: =SUM('Ռ. Պապոյան:Ն. Կարապետյան'!I15) -> 0 | J15: =SUM('Ռ. Պապոյան:Ն. Կարապետյան'!J15) -> 0 | K15: =SUM('Ռ. Պապոյան:Ն. Կարապետյան'!K15) -> 80 | ... R15: =SUM('Ռ. Պապոյան:Ն. Կարապետյան'!R15) -> 0 | T15: =D15+E15 -> 80 | U15: =F15+K15+L15 -> 80 | V15: =K15 -> 80 | W15: =G15+H15+I15+J15 -> 80
A16: 10 | B16: Ñ»ï³ùÝÝáõÃÛ³Ý Ù³ñÙÝÇ ³ßË³ïáÕÇ, ùÝÝÇãÇ, ¹³ï³Ë³½Ç oå»ñ³ïÇí-Ñ»ï³Ëáõ½³Ï³Ý ·áñÍáÕáõÃÛáõÝÝ»ñ Çñ³Ï³Ý³óÝáÕ Ù³ñÙÇÝÝ»ñÇ ³ÝoñÇÝ³Ï³Ý ¨ ³ÝÑÇÙÝ áñáßáõÙÝ»ñÇ ¨ ·áñÍáÕáõÃÛáõÝÝ»ñÇ ¹»Ù µáÕáùÝ»ñ | D16: =SUM('Ռ. Պապոյան:Ն. Կարապետյան'!D16) -> 6 | E16: =SUM('Ռ. Պապոյան:Ն. Կարապետյան'!E16) -> 14 | F16: =SUM('Ռ. Պապոյան:Ն. Կարապետյան'!F16) -> 0 | G16: =SUM('Ռ. Պապոյան:Ն. Կարապետյան'!G16) -> 13 | H16: =SUM('Ռ. Պապոյան:Ն. Կարապետյան'!H16) -> 2 | I16: =SUM('Ռ. Պապոյան:Ն. Կարապետյան'!I16) -> 0 | J16: =SUM('Ռ. Պապոյան:Ն. Կարապետյան'!J16) -> 1 | K16: =SUM('Ռ. Պապոյան:Ն. Կարապետյան'!K16) -> 16 | ... R16: =SUM('Ռ. Պապոյան:Ն. Կարապետյան'!R16) -> 2 | T16: =D16+E16 -> 20 | U16: =F16+K16+L16 -> 20 | V16: =K16 -> 16 | W16: =G16+H16+I16+J16 -> 16
A17: 11 | B17: ²½³ïáõÃÛáõÝÇó ½ñÏ»Éáõ Çñ³í³ã³÷áõÃÛ³Ý í»ñ³µ»ñÛ³É µáÕáùÝ»ñáí ·áñÍ»ñ | D17: =SUM('Ռ. Պապոյան:Ն. Կարապետյան'!D17) -> 0 | E17: =SUM('Ռ. Պապոյան:Ն. Կարապետյան'!E17) -> 2 | F17: =SUM('Ռ. Պապոյան:Ն. Կարապետյան'!F17) -> 0 | G17: =SUM('Ռ. Պապոյան:Ն. Կարապետյան'!G17) -> 2 | H17: =SUM('Ռ. Պապոյան:Ն. Կարապետյան'!H17) -> 0 | I17: =SUM('Ռ. Պապոյան:Ն. Կարապետյան'!I17) -> 0 | J17: =SUM('Ռ. Պապոյան:Ն. Կարապետյան'!J17) -> 0 | K17: =SUM('Ռ. Պապոյան:Ն. Կարապետյան'!K17) -> 2 | ... R17: =SUM('Ռ. Պապոյան:Ն. Կարապետյան'!R17) -> 1 | T17: =D17+E17 -> 2 | U17: =F17+K17+L17 -> 2 | V17: =K17 -> 2 | W17: =G17+H17+I17+J17 -> 2
A18: 2. ¸³ï³Ï³Ý ³Ïï»ñÇ ¨ ¹³ï³Ï³Ý Ñ³ÝÓÝ³ñ³ñáõÃÛáõÝÝ»ñÇ Ï³ï³ñÙ³Ý Ñ»ï Ï³åí³Í Ñ³ñó»ñÇ ÉáõÍÙ³Ý áÉáñï
A19: 1 | B19: å³ïÅÇó å³ÛÙ³Ý³Ï³Ý í³Õ³Å³ÙÏ»ï ³½³ï»Éáõ Ù³ëÇÝ ÙÇçÝáñ¹áõÃÛáõÝÝ»ñ | D19: =SUM('Ռ. Պապոյան:Ն. Կարապետյան'!D19) -> 0 | E19: =SUM('Ռ. Պապոյան:Ն. Կարապետյան'!E19) -> 0 | F19: =SUM('Ռ. Պապոյան:Ն. Կարապետյան'!F19) -> 0 | G19: =SUM('Ռ. Պապոյան:Ն. Կարապետյան'!G19) -> 0 | H19: =SUM('Ռ. Պապոյան:Ն. Կարապետյան'!H19) -> 0 | I19: =SUM('Ռ. Պապոյան:Ն. Կարապետյան'!I19) -> 0 | J19: =SUM('Ռ. Պապոյան:Ն. Կարապետյան'!J19) -> 0 | K19: =SUM('Ռ. Պապոյան:Ն. Կարապետյան'!K19) -> 0 | ... R19: =SUM('Ռ. Պապոյան:Ն. Կարապետյան'!R19) -> 0 | T19: =D19+E19 -> 0 | U19: =F19+K19+L19 -> 0 | V19: =K19 -> 0 | W19: =G19+H19+I19+J19 -> 0
A20: 2 | B20: å³ïÇÅÁ ÷á÷áË»Éáõ, Ñ»ï³Ó·»Éáõ ¨ å³ïÅÇó ³½³ï»Éáõ Ù³uÇÝ ÙÇçÝáñ¹áõÃÛáõÝÝ»ñ | D20: =SUM('Ռ. Պապոյան:Ն. Կարապետյան'!D20) -> 8 | E20: =SUM('Ռ. Պապոյան:Ն. Կարապետյան'!E20) -> 26 | F20: =SUM('Ռ. Պապոյան:Ն. Կարապետյան'!F20) -> 0 | G20: =SUM('Ռ. Պապոյան:Ն. Կարապետյան'!G20) -> 9 | H20: =SUM('Ռ. Պապոյան:Ն. Կարապետյան'!H20) -> 20 | I20: =SUM('Ռ. Պապոյան:Ն. Կարապետյան'!I20) -> 0 | J20: =SUM('Ռ. Պապոյան:Ն. Կարապետյան'!J20) -> 0 | K20: =SUM('Ռ. Պապոյան:Ն. Կարապետյան'!K20) -> 29 | ... R20: =SUM('Ռ. Պապոյան:Ն. Կարապետյան'!R20) -> 0 | T20: =D20+E20 -> 34 | U20: =F20+K20+L20 -> 34 | V20: =K20 -> 29 | W20: =G20+H20+I20+J20 -> 29
A21: 3 | B21: Ñ³ñÏ³¹Çñ µáõÅÙ³Ý ï»ë³ÏÇ ÷á÷áËáõÃÛ³Ý Ù³ëÇÝ ÙÇçÝáñ¹áõÃÛáõÝÝ»ñ | D21: =SUM('Ռ. Պապոյան:Ն. Կարապետյան'!D21) -> 0 | E21: =SUM('Ռ. Պապոյան:Ն. Կարապետյան'!E21) -> 0 | F21: =SUM('Ռ. Պապոյան:Ն. Կարապետյան'!F21) -> 0 | G21: =SUM('Ռ. Պապոյան:Ն. Կարապետյան'!G21) -> 0 | H21: =SUM('Ռ. Պապոյան:Ն. Կարապետյան'!H21) -> 0 | I21: =SUM('Ռ. Պապոյան:Ն. Կարապետյան'!I21) -> 0 | J21: =SUM('Ռ. Պապոյան:Ն. Կարապետյան'!J21) -> 0 | K21: =SUM('Ռ. Պապոյան:Ն. Կարապետյան'!K21) -> 0 | ... R21: =SUM('Ռ. Պապոյան:Ն. Կարապետյան'!R21) -> 0 | T21: =D21+E21 -> 0 | U21: =F21+K21+L21 -> 0 | V21: =K21 -> 0 | W21: =G21+H21+I21+J21 -> 0
A22: 4 | B22: ³ÛÉ ÙÇçÝáñ¹áõÃÛáõÝÝ»ñ | D22: =SUM('Ռ. Պապոյան:Ն. Կարապետյան'!D22) -> 0 | E22: =SUM('Ռ. Պապոյան:Ն. Կարապետյան'!E22) -> 5 | F22: =SUM('Ռ. Պապոյան:Ն. Կարապետյան'!F22) -> 0 | G22: =SUM('Ռ. Պապոյան:Ն. Կարապետյան'!G22) -> 1 | H22: =SUM('Ռ. Պապոյան:Ն. Կարապետյան'!H22) -> 3 | I22: =SUM('Ռ. Պապոյան:Ն. Կարապետյան'!I22) -> 0 | J22: =SUM('Ռ. Պապոյան:Ն. Կարապետյան'!J22) -> 1 | K22: =SUM('Ռ. Պապոյան:Ն. Կարապետյան'!K22) -> 5 | ... R22: =SUM('Ռ. Պապոյան:Ն. Կարապետյան'!R22) -> 0 | T22: =D22+E22 -> 5 | U22: =F22+K22+L22 -> 5 | V22: =K22 -> 5 | W22: =G22+H22+I22+J22 -> 5
A23: 5 | B23: ¹³ï³Ï³Ý Ñ³ÝÓÝ³ñ³ñáõÃÛáõÝÝ»ñ | D23: =SUM('Ռ. Պապոյան:Ն. Կարապետյան'!D23) -> 13 | E23: =SUM('Ռ. Պապոյան:Ն. Կարապետյան'!E23) -> 1 | F23: =SUM('Ռ. Պապոյան:Ն. Կարապետյան'!F23) -> 0 | G23: =SUM('Ռ. Պապոյան:Ն. Կարապետյան'!G23) -> 0 | H23: =SUM('Ռ. Պապոյան:Ն. Կարապետյան'!H23) -> 3 | I23: =SUM('Ռ. Պապոյան:Ն. Կարապետյան'!I23) -> 0 | J23: =SUM('Ռ. Պապոյան:Ն. Կարապետյան'!J23) -> 0 | K23: =SUM('Ռ. Պապոյան:Ն. Կարապետյան'!K23) -> 3 | ... R23: =SUM('Ռ. Պապոյան:Ն. Կարապետյան'!R23) -> 0 | T23: =D23+E23 -> 14 | U23: =F23+K23+L23 -> 14 | V23: =K23 -> 3 | W23: =G23+H23+I23+J23 -> 3
A24: ÀÜ¸²ØºÜÀ | D24: =D7+D8+D9+D10+D11+D12+D13+D14+D16+D15+D17+D19+D20+D21+D22+D23 -> 28 | E24: =E7+E8+E9+E10+E11+E12+E13+E14+E16+E15+E17+E19+E20+E21+E22+E23 -> 242 | F24: =F7+F8+F9+F10+F11+F12+F13+F14+F16+F15+F17+F19+F20+F21+F22+F23 -> 1 | G24: =G7+G8+G9+G10+G11+G12+G13+G14+G16+G15+G17+G19+G20+G21+G22+G23 -> 50 | H24: =H7+H8+H9+H10+H11+H12+H13+H14+H16+H15+H17+H19+H20+H21+H22+H23 -> 196 | I24: =I7+I8+I9+I10+I11+I12+I13+I14+I16+I15+I17+I19+I20+I21+I22+I23 -> 1 | J24: =J7+J8+J9+J10+J11+J12+J13+J14+J16+J15+J17+J19+J20+J21+J22+J23 -> 2 | K24: =K7+K8+K9+K10+K11+K12+K13+K14+K16+K15+K17+K19+K20+K21+K22+K23 -> 249 | ... R24: =R7+R8+R9+R10+R11+R12+R13+R14+R16+R15+R17+R19+R20+R21+R22+R23 -> 13 | T24: =D24+E24 -> 270 | U24: =F24+K24+L24 -> 270 | V24: =K24 -> 249 | W24: =G24+H24+I24+J24 -> 249

Sheet Ռ. Պապոյան
A1: 2017Ã. 1-ÇÝ ÏÇë³ÙÛ³Ï | D1: Ð²ÞìºîìàôÂÚàôÜ | P1: Ð³í»Éí³Í Ð³Û³ëï³ÝÇ Ð³Ýñ³å»ïáõÃÛ³Ý ¸³ï³ñ³ÝÝ»ñÇ Ý³Ë³·³ÑÝ»ñÇ ËáñÑñ¹Ç 25.08.2017Ã. ÃÇí 35-È áñáßÙ³Ý
A2: ØÇÝã¹³ï³Ï³Ý í³ñáõÛÃÇ ÝÏ³ïÙ³Ùµ ¹³ï³Ï³Ý í»ñ³ÑëÏáÕáõÃÛ³ÝÁ, ¹³ï³Ï³Ý ³Ïï»ñÇ ¨ ¹³ï³Ï³Ý Ñ³ÝÓÝ³ñ³ñáõÃÛáõÝÝ»ñÇ Ï³ï³ñÙ³Ý Ñ»ï Ï³åí³Í ÙÇçÝáñ¹áõÃÛáõÝÝ»ñÇ í»ñ³µ»ñÛ³É ¹³ï³Ï³Ý ·áñÍ»ñáí ºñ¨³Ý ù³Õ³ùÇ Ø³É³ÃÇ³-ê»µ³ëïÇ³ í³ñã³Ï³Ý ßñç³ÝÇ ÁÝ¹Ñ³Ýáõñ Çñ³í³ëáõÃÛ³Ý ³é³çÇÝ ³ïÛ³ÝÇ ¹³ï³ñ³ÝÇ ¹³ï³íáñ Ռ. Պապոյանի ·áñÍáõÝ»áõÃÛ³Ý í»ñ³µ»ñÛ³É
A3: êïáõ·Çã Ñ³í³ë³ñáõÙ` 1+2=3+8+9, 8=4+5+6+7, | D3: Ð³ßí»ïáõ Å³Ù³Ý³Ï³Ñ³ïí³ÍÇ ëÏ½µáõÙ Ý³Ëáñ¹ Ñ³ßí»ïáõ Å³Ù³Ý³Ï³Ñ³ïí³ÍÇó ÷áË³Ýóí³Í ·áñÍ»ñÇ ÁÝ¹Ñ³Ýáõñ ÃÇíÁ | E3: Ð³ßí»ïáõ Å³Ù³Ý³Ï³Ñ³ïí³ÍáõÙ ëï³óí³Í ·áñÍ»ñÇ ÁÝ¹Ñ³Ýáõñ ÃÇíÁ | F3: öáË³Ýóí»É ¿ ³ÛÉ ¹³ï³íáñÇ Ï³Ù ³ÛÉ ¹³ï³ñ³Ý (Ï³½ÙÇ ÷á÷áËáõÃÛáõÝ, ÁÝ¹¹³ïáõÃÛáõÝ) | G3: Ð³ßí»ïáõ Å³Ù³Ý³Ï³Ñ³ïí³ÍáõÙ ³í³ñïí³Í ·áñÍ»ñÇ ÁÝ¹Ñ³Ýáõñ ÃÇíÁ | L3: Ð³ßí»ïáõ Å³Ù³Ý³Ï³Ñ³ïí³ÍáõÙ ³Ý³í³ñï ·áñÍ»ñÇ ÁÝ¹Ñ³Ýáõñ ÃÇíÁ | M3: ØÇçÝáñ¹áõÃÛáõÝÝ»ñáí Ï³Û³óí³Í ¹³ï³Ï³Ý ³Ïï»ñÇó µáÕáù³ñÏí³ÍÝ»ñÇ ù³Ý³ÏÁ | O3: ²Ý³í³ñï µáÕáùÝ»ñ | P3: ØÇçÝáñ¹áõÃÛáõÝÝ»ñáí Ï³Û³óí³Í ¨ µáÕáù³ñÏí³Í ¹³ï³Ï³Ý ³Ïï»ñÇó µ»Ï³Ýí³ÍÝ»ñÇ ù³Ý³ÏÁ | R3: ÙÇçÝáñ¹áõÃÛáõÝÝ»ñáí Ï³Û³óí³Í ¨ µáÕáù³ñÏí³Í ¹³ï³Ï³Ý ³Ïï»ñÇó ³Ý÷á÷áË ÃáÕÝí³ÍÝ»ñÇ ù³Ý³ÏÁ
G4: Ù»ñÅí»É ¿ | H4: µ³í³ñ³ñí»É ¿ | I4: µ³í³ñ³ñí»É ¿ Ù³ëÝ³ÏÇ | J4: ÃáÕÝí»É ¿ ³é³Ýó ùÝÝáõÃÛ³Ý | K4: ÀÝ¹³Ù»ÝÁ
M5: Ý³Ëáñ¹ ï³ñÇÝ»ñÇÝ Ï³Û³óí³Í ³Ïï»ñÇ ¹»Ù | N5: Ñ³ßí»ïáõ Å³Ù³Ý³Ï³ßñç³ÝáõÙ Ï³Û³óí³Í ³Ïï»ñÇ ¹»Ù | P5: Ý³Ëáñ¹ ï³ñÇÝ»ñÇÝ Ï³Û³óí³Í ³Ïï»ñÇ µ»Ï³ÝáõÙÝ»ñÁ | Q5: Ñ³ßí»ïáõ Å³Ù³Ý³Ï³ßñç³ÝáõÙ Ï³Û³óí³Í ³Ïï»ñÇ µ»Ï³ÝáõÙÝ»ñÁ
A6: 1. ØÇÝã¹³ï³Ï³Ý í³ñáõÛÃÇ ÝÏ³ïÙ³Ùµ ¹³ï³Ï³Ý í»ñ³ÑëÏáÕáõÃÛ³Ý áÉáñï | D6: 1 | E6: 2 | F6: 3 | G6: 4 | H6: 5 | I6: 6 | J6: 7 | K6: 8 | L6: 9 | M6: 10 | N6: 11 | O6: 12 | P6: 13 | Q6: 14 | R6: 15 | T6: 1+2=3+8+9 | V6: 8=4+5+6+7
A7: 1 | B7: Ï³É³ÝùÁ áñå»ë Ë³÷³ÝÙ³Ý ÙÇçáó ÏÇñ³é»Éáõ Ù³ëÇÝ ÙÇçÝáñ¹áõÃÛáõÝÝ»ñ | E7: 2 | H7: 2 | K7: 2 | N7: 1 | R7: 1 | T7: =D7+E7 -> 2 | U7: =F7+K7+L7 -> 2 | V7: =K7 -> 2 | W7: =G7+H7+I7+J7 -> 2
A8: 2 | B8: Ï³É³ÝùÇ Å³ÙÏ»ïÁ »ñÏ³ñ³óÝ»Éáõ Ù³ëÇÝ ÙÇçÝáñ¹áõÃÛáõÝÝ»ñ | E8: 6 | H8: 6 | K8: 6 | N8: 2 | O8: 1 | R8: 1 | T8: =D8+E8 -> 6 | U8: =F8+K8+L8 -> 6 | V8: =K8 -> 6 | W8: =G8+H8+I8+J8 -> 6
A9: 3 | B9: Ï³É³ÝùÇ í»ñ³Ñ³ëï³ïÙ³Ý Ù³ëÇÝ ÙÇçÝáñ¹áõÃÛáõÝÝ»ñ | T9: =D9+E9 -> 0 | U9: =F9+K9+L9 -> 0 | V9: =K9 -> 0 | W9: =G9+H9+I9+J9 -> 0
A10: 4 | B10: ·ñ³íÁ áñå»ë Ï³É³Ý³íáñÙ³Ý ³ÛÉÁÝïñ³Ýù³ÛÇÝ Ë³÷³ÝÙ³Ý ÙÇçáó ÏÇñ³é»Éáõ Ù³ëÇÝ ÙÇçÝáñ¹áõÃÛáõÝÝ»ñ | D10: 1 | E10: 2 | G10: 3 | K10: 3 | T10: =D10+E10 -> 3 | U10: =F10+K10+L10 -> 3 | V10: =K10 -> 3 | W10: =G10+H10+I10+J10 -> 3
A11: 5 | B11: Ëáõ½³ñÏáõÃÛ³Ý Ï³ï³ñÙ³Ý Ù³ëÇÝ ÙÇçÝáñ¹áõÃÛáõÝÝ»ñ | E11: 16 | F11: 1 | G11: 2 | H11: 13 | K11: 15 | T11: =D11+E11 -> 16 | U11: =F11+K11+L11 -> 16 | V11: =K11 -> 15 | W11: =G11+H11+I11+J11 -> 15
A12: 6 | B12: µ³ÝÏ³ÛÇÝ, ³å³Ñáí³·ñ³Ï³Ý, Ýáï³ñ³Ï³Ý ·³ÕïÝÇù Ï³½ÙáÕ ï»Õ»ÏáõÃÛáõÝÝ»ñÇ ëï³óÙ³Ý Ñ³Ù³ñ Ëáõ½³ñÏáõÃÛ³Ý Ï³Ù ³é·ñ³íÙ³Ý Ï³ï³ñÙ³Ý Ù³ëÇÝ ÙÇçÝáñ¹áõÃÛáõÝÝ»ñ | T12: =D12+E12 -> 0 | U12: =F12+K12+L12 -> 0 | V12: =K12 -> 0 | W12: =G12+H12+I12+J12 -> 0
A13: 7 | B13: Ý³Ù³Ï³·ñáõÃÛ³Ý, Ñ»é³·ñ³Ï³Ý, ÷áuï³ÛÇÝ Ñ³Õáñ¹áõÙÝ»ñÇ ÑëÏáÕáõÃÛ³Ý Ù³ëÇÝ ÙÇçÝáñ¹áõÃÛáõÝÝ»ñ | T13: =D13+E13 -> 0 | U13: =F13+K13+L13 -> 0 | V13: =K13 -> 0 | W13: =G13+H13+I13+J13 -> 0
A14: 8 | B14: Ñ»é³Ëáu³ÛÇÝ Ï³Ù Ï³åÇ ³ÛÉ ÙÇçáóÝ»ñáí ï³ñíáÕ Ëáu³ÏóáõÃÛáõÝÝ»ñÇ ÉuÙ³Ý ¨ Ó³ÛÝ³·ñ³éÙ³Ý Ù³ëÇÝ ÙÇçÝáñ¹áõÃÛáõÝÝ»ñ | E14: 2 | H14: 2 | K14: 2 | T14: =D14+E14 -> 2 | U14: =F14+K14+L14 -> 2 | V14: =K14 -> 2 | W14: =G14+H14+I14+J14 -> 2
A15: 9 | B15: Ñ»é³ËáëÝ»ñÇ Ùáõïù³ÛÇÝ ¨ »Éù³ÛÇÝ í»ñÍ³ÝÙ³Ý ÃáõÛÉïíáõÃÛáõÝ ëï³Ý³Éáõ Ù³ëÇÝ ÙÇçÝáñ¹áõÃÛáõÝÝ»ñ | E15: 31 | G15: 1 | H15: 30 | K15: 31 | T15: =D15+E15 -> 31 | U15: =F15+K15+L15 -> 31 | V15: =K15 -> 31 | W15: =G15+H15+I15+J15 -> 31
A16: 10 | B16: Ñ»ï³ùÝÝáõÃÛ³Ý Ù³ñÙÝÇ ³ßË³ïáÕÇ, ùÝÝÇãÇ, ¹³ï³Ë³½Ç oå»ñ³ïÇí-Ñ»ï³Ëáõ½³Ï³Ý ·áñÍáÕáõÃÛáõÝÝ»ñ Çñ³Ï³Ý³óÝáÕ Ù³ñÙÇÝÝ»ñÇ ³ÝoñÇÝ³Ï³Ý ¨ ³ÝÑÇÙÝ áñáßáõÙÝ»ñÇ ¨ ·áñÍáÕáõÃÛáõÝÝ»ñÇ ¹»Ù µáÕáùÝ»ñ | D16: 1 | E16: 7 | G16: 5 | H16: 1 | K16: 6 | L16: 2 | N16: 4 | O16: 4 | T16: =D16+E16 -> 8 | U16: =F16+K16+L16 -> 8 | V16: =K16 -> 6 | W16: =G16+H16+I16+J16 -> 6
A17: 11 | B17: ²½³ïáõÃÛáõÝÇó ½ñÏ»Éáõ Çñ³í³ã³÷áõÃÛ³Ý í»ñ³µ»ñÛ³É µáÕáùÝ»ñáí ·áñÍ»ñ | E17: 2 | G17: 2 | K17: 2 | N17: 1 | R17: 1 | T17: =D17+E17 -> 2 | U17: =F17+K17+L17 -> 2 | V17: =K17 -> 2 | W17: =G17+H17+I17+J17 -> 2
A18: 2. ¸³ï³Ï³Ý ³Ïï»ñÇ ¨ ¹³ï³Ï³Ý Ñ³ÝÓÝ³ñ³ñáõÃÛáõÝÝ»ñÇ Ï³ï³ñÙ³Ý Ñ»ï Ï³åí³Í Ñ³ñó»ñÇ ÉáõÍÙ³Ý áÉáñï
A19: 1 | B19: å³ïÅÇó å³ÛÙ³Ý³Ï³Ý í³Õ³Å³ÙÏ»ï ³½³ï»Éáõ Ù³ëÇÝ ÙÇçÝáñ¹áõÃÛáõÝÝ»ñ | T19: =D19+E19 -> 0 | U19: =F19+K19+L19 -> 0 | V19: =K19 -> 0 | W19: =G19+H19+I19+J19 -> 0
A20: 2 | B20: å³ïÇÅÁ ÷á÷áË»Éáõ, Ñ»ï³Ó·»Éáõ ¨ å³ïÅÇó ³½³ï»Éáõ Ù³uÇÝ ÙÇçÝáñ¹áõÃÛáõÝÝ»ñ | D20: 8 | E20: 13 | G20: 5 | H20: 13 | K20: 18 | L20: 3 | T20: =D20+E20 -> 21 | U20: =F20+K20+L20 -> 21 | V20: =K20 -> 18 | W20: =G20+H20+I20+J20 -> 18
A21: 3 | B21: Ñ³ñÏ³¹Çñ µáõÅÙ³Ý ï»ë³ÏÇ ÷á÷áËáõÃÛ³Ý Ù³ëÇÝ ÙÇçÝáñ¹áõÃÛáõÝÝ»ñ | T21: =D21+E21 -> 0 | U21: =F21+K21+L21 -> 0 | V21: =K21 -> 0 | W21: =G21+H21+I21+J21 -> 0
A22: 4 | B22: ³ÛÉ ÙÇçÝáñ¹áõÃÛáõÝÝ»ñ | T22: =D22+E22 -> 0 | U22: =F22+K22+L22 -> 0 | V22: =K22 -> 0 | W22: =G22+H22+I22+J22 -> 0
A23: 5 | B23: ¹³ï³Ï³Ý Ñ³ÝÓÝ³ñ³ñáõÃÛáõÝÝ»ñ | T23: =D23+E23 -> 0 | U23: =F23+K23+L23 -> 0 | V23: =K23 -> 0 | W23: =G23+H23+I23+J23 -> 0
A24: ÀÜ¸²ØºÜÀ | D24: =D7+D8+D9+D10+D11+D12+D13+D14+D15+D16+D17+D19+D20+D21+D22+D23 -> 10 | E24: =E7+E8+E9+E10+E11+E12+E13+E14+E15+E16+E17+E19+E20+E21+E22+E23 -> 81 | F24: =F7+F8+F9+F10+F11+F12+F13+F14+F15+F16+F17+F19+F20+F21+F22+F23 -> 1 | G24: =G7+G8+G9+G10+G11+G12+G13+G14+G15+G16+G17+G19+G20+G21+G22+G23 -> 18 | H24: =H7+H8+H9+H10+H11+H12+H13+H14+H15+H16+H17+H19+H20+H21+H22+H23 -> 67 | I24: =I7+I8+I9+I10+I11+I12+I13+I14+I15+I16+I17+I19+I20+I21+I22+I23 -> 0 | J24: =J7+J8+J9+J10+J11+J12+J13+J14+J15+J16+J17+J19+J20+J21+J22+J23 -> 0 | K24: =K7+K8+K9+K10+K11+K12+K13+K14+K15+K16+K17+K19+K20+K21+K22+K23 -> 85 | ... S24: =S7+S8+S9+S10+S11+S12+S13+S14+S15+S16+S17+S19+S20+S21+S22+S23 -> 0 | T24: =D24+E24 -> 91 | U24: =F24+K24+L24 -> 91 | V24: =K24 -> 85 | W24: =G24+H24+I24+J24 -> 85

Sheet Կ. Ֆարխոյան
A1: 2017Ã. 1-ÇÝ ÏÇë³ÙÛ³Ï | D1: Ð²ÞìºîìàôÂÚàôÜ | P1: Ð³í»Éí³Í Ð³Û³ëï³ÝÇ Ð³Ýñ³å»ïáõÃÛ³Ý ¸³ï³ñ³ÝÝ»ñÇ Ý³Ë³·³ÑÝ»ñÇ ËáñÑñ¹Ç 25.08.2017Ã. ÃÇí 35-È áñáßÙ³Ý
A2: ØÇÝã¹³ï³Ï³Ý í³ñáõÛÃÇ ÝÏ³ïÙ³Ùµ ¹³ï³Ï³Ý í»ñ³ÑëÏáÕáõÃÛ³ÝÁ, ¹³ï³Ï³Ý ³Ïï»ñÇ ¨ ¹³ï³Ï³Ý Ñ³ÝÓÝ³ñ³ñáõÃÛáõÝÝ»ñÇ Ï³ï³ñÙ³Ý Ñ»ï Ï³åí³Í ÙÇçÝáñ¹áõÃÛáõÝÝ»ñÇ í»ñ³µ»ñÛ³É ¹³ï³Ï³Ý ·áñÍ»ñáí ºñ¨³Ý ù³Õ³ùÇ Ø³É³ÃÇ³-ê»µ³ëïÇ³ í³ñã³Ï³Ý ßñç³ÝÇ ÁÝ¹Ñ³Ýáõñ Çñ³í³ëáõÃÛ³Ý ³é³çÇÝ ³ïÛ³ÝÇ ¹³ï³ñ³ÝÇ ¹³ï³íáñ Î. ü³ñËáÛ³ÝÇ ·áñÍáõÝ»áõÃÛ³Ý í»ñ³µ»ñÛ³É
A3: êïáõ·Çã Ñ³í³ë³ñáõÙ` 1+2=3+8+9, 8=4+5+6+7, | D3: Ð³ßí»ïáõ Å³Ù³Ý³Ï³Ñ³ïí³ÍÇ ëÏ½µáõÙ Ý³Ëáñ¹ Ñ³ßí»ïáõ Å³Ù³Ý³Ï³Ñ³ïí³ÍÇó ÷áË³Ýóí³Í ·áñÍ»ñÇ ÁÝ¹Ñ³Ýáõñ ÃÇíÁ | E3: Ð³ßí»ïáõ Å³Ù³Ý³Ï³Ñ³ïí³ÍáõÙ ëï³óí³Í ·áñÍ»ñÇ ÁÝ¹Ñ³Ýáõñ ÃÇíÁ | F3: öáË³Ýóí»É ¿ ³ÛÉ ¹³ï³íáñÇ Ï³Ù ³ÛÉ ¹³ï³ñ³Ý (Ï³½ÙÇ ÷á÷áËáõÃÛáõÝ, ÁÝ¹¹³ïáõÃÛáõÝ) | G3: Ð³ßí»ïáõ Å³Ù³Ý³Ï³Ñ³ïí³ÍáõÙ ³í³ñïí³Í ·áñÍ»ñÇ ÁÝ¹Ñ³Ýáõñ ÃÇíÁ | L3: Ð³ßí»ïáõ Å³Ù³Ý³Ï³Ñ³ïí³ÍáõÙ ³Ý³í³ñï ·áñÍ»ñÇ ÁÝ¹Ñ³Ýáõñ ÃÇíÁ | M3: ØÇçÝáñ¹áõÃÛáõÝÝ»ñáí Ï³Û³óí³Í ¹³ï³Ï³Ý ³Ïï»ñÇó µáÕáù³ñÏí³ÍÝ»ñÇ ù³Ý³ÏÁ | O3: ²Ý³í³ñï µáÕáùÝ»ñ | P3: ØÇçÝáñ¹áõÃÛáõÝÝ»ñáí Ï³Û³óí³Í ¨ µáÕáù³ñÏí³Í ¹³ï³Ï³Ý ³Ïï»ñÇó µ»Ï³Ýí³ÍÝ»ñÇ ù³Ý³ÏÁ | R3: ÙÇçÝáñ¹áõÃÛáõÝÝ»ñáí Ï³Û³óí³Í ¨ µáÕáù³ñÏí³Í ¹³ï³Ï³Ý ³Ïï»ñÇó ³Ý÷á÷áË ÃáÕÝí³ÍÝ»ñÇ ù³Ý³ÏÁ
G4: Ù»ñÅí»É ¿ | H4: µ³í³ñ³ñí»É ¿ | I4: µ³í³ñ³ñí»É ¿ Ù³ëÝ³ÏÇ | J4: ÃáÕÝí»É ¿ ³é³Ýó ùÝÝáõÃÛ³Ý | K4: ÀÝ¹³Ù»ÝÁ
M5: Ý³Ëáñ¹ ï³ñÇÝ»ñÇÝ Ï³Û³óí³Í ³Ïï»ñÇ ¹»Ù | N5: Ñ³ßí»ïáõ Å³Ù³Ý³Ï³ßñç³ÝáõÙ Ï³Û³óí³Í ³Ïï»ñÇ ¹»Ù | P5: Ý³Ëáñ¹ ï³ñÇÝ»ñÇÝ Ï³Û³óí³Í ³Ïï»ñÇ µ»Ï³ÝáõÙÝ»ñÁ | Q5: Ñ³ßí»ïáõ Å³Ù³Ý³Ï³ßñç³ÝáõÙ Ï³Û³óí³Í ³Ïï»ñÇ µ»Ï³ÝáõÙÝ»ñÁ
A6: 1. ØÇÝã¹³ï³Ï³Ý í³ñáõÛÃÇ ÝÏ³ïÙ³Ùµ ¹³ï³Ï³Ý í»ñ³ÑëÏáÕáõÃÛ³Ý áÉáñï | D6: 1 | E6: 2 | F6: 3 | G6: 4 | H6: 5 | I6: 6 | J6: 7 | K6: 8 | L6: 9 | M6: 10 | N6: 11 | O6: 12 | P6: 13 | Q6: 14 | R6: 15 | T6: 1+2=3+8+9 | V6: 8=4+5+6+7
A7: 1 | B7: Ï³É³ÝùÁ áñå»ë Ë³÷³ÝÙ³Ý ÙÇçáó ÏÇñ³é»Éáõ Ù³ëÇÝ ÙÇçÝáñ¹áõÃÛáõÝÝ»ñ | E7: 6 | H7: 6 | K7: 6 | N7: 1 | R7: 1 | T7: =D7+E7 -> 6 | U7: =F7+K7+L7 -> 6 | V7: =K7 -> 6 | W7: =G7+H7+I7+J7 -> 6
A8: 2 | B8: Ï³É³ÝùÇ Å³ÙÏ»ïÁ »ñÏ³ñ³óÝ»Éáõ Ù³ëÇÝ ÙÇçÝáñ¹áõÃÛáõÝÝ»ñ | E8: 12 | G8: 1 | H8: 10 | I8: 1 | K8: 12 | N8: 2 | R8: 2 | T8: =D8+E8 -> 12 | U8: =F8+K8+L8 -> 12 | V8: =K8 -> 12 | W8: =G8+H8+I8+J8 -> 12
A9: 3 | B9: Ï³É³ÝùÇ í»ñ³Ñ³ëï³ïÙ³Ý Ù³ëÇÝ ÙÇçÝáñ¹áõÃÛáõÝÝ»ñ | E9: 2 | H9: 2 | K9: 2 | T9: =D9+E9 -> 2 | U9: =F9+K9+L9 -> 2 | V9: =K9 -> 2 | W9: =G9+H9+I9+J9 -> 2
A10: 4 | B10: ·ñ³íÁ áñå»ë Ï³É³Ý³íáñÙ³Ý ³ÛÉÁÝïñ³Ýù³ÛÇÝ Ë³÷³ÝÙ³Ý ÙÇçáó ÏÇñ³é»Éáõ Ù³ëÇÝ ÙÇçÝáñ¹áõÃÛáõÝÝ»ñ | E10: 13 | G10: 13 | K10: 13 | M10: 1 | N10: 8 | O10: 4 | R10: 5 | T10: =D10+E10 -> 13 | U10: =F10+K10+L10 -> 13 | V10: =K10 -> 13 | W10: =G10+H10+I10+J10 -> 13
A11: 5 | B11: Ëáõ½³ñÏáõÃÛ³Ý Ï³ï³ñÙ³Ý Ù³ëÇÝ ÙÇçÝáñ¹áõÃÛáõÝÝ»ñ | E11: 24 | H11: 24 | K11: 24 | T11: =D11+E11 -> 24 | U11: =F11+K11+L11 -> 24 | V11: =K11 -> 24 | W11: =G11+H11+I11+J11 -> 24
A12: 6 | B12: µ³ÝÏ³ÛÇÝ, ³å³Ñáí³·ñ³Ï³Ý, Ýáï³ñ³Ï³Ý ·³ÕïÝÇù Ï³½ÙáÕ ï»Õ»ÏáõÃÛáõÝÝ»ñÇ ëï³óÙ³Ý Ñ³Ù³ñ Ëáõ½³ñÏáõÃÛ³Ý Ï³Ù ³é·ñ³íÙ³Ý Ï³ï³ñÙ³Ý Ù³ëÇÝ ÙÇçÝáñ¹áõÃÛáõÝÝ»ñ | E12: 2 | H12: 2 | K12: 2 | T12: =D12+E12 -> 2 | U12: =F12+K12+L12 -> 2 | V12: =K12 -> 2 | W12: =G12+H12+I12+J12 -> 2
A13: 7 | B13: Ý³Ù³Ï³·ñáõÃÛ³Ý, Ñ»é³·ñ³Ï³Ý, ÷áuï³ÛÇÝ Ñ³Õáñ¹áõÙÝ»ñÇ ÑëÏáÕáõÃÛ³Ý Ù³ëÇÝ ÙÇçÝáñ¹áõÃÛáõÝÝ»ñ | E13: 2 | G13: 1 | H13: 1 | K13: 2 | T13: =D13+E13 -> 2 | U13: =F13+K13+L13 -> 2 | V13: =K13 -> 2 | W13: =G13+H13+I13+J13 -> 2
A14: 8 | B14: Ñ»é³Ëáu³ÛÇÝ Ï³Ù Ï³åÇ ³ÛÉ ÙÇçáóÝ»ñáí ï³ñíáÕ Ëáu³ÏóáõÃÛáõÝÝ»ñÇ ÉuÙ³Ý ¨ Ó³ÛÝ³·ñ³éÙ³Ý Ù³ëÇÝ ÙÇçÝáñ¹áõÃÛáõÝÝ»ñ | E14: 4 | G14: 1 | H14: 3 | K14: 4 | T14: =D14+E14 -> 4 | U14: =F14+K14+L14 -> 4 | V14: =K14 -> 4 | W14: =G14+H14+I14+J14 -> 4
A15: 9 | B15: Ñ»é³ËáëÝ»ñÇ Ùáõïù³ÛÇÝ ¨ »Éù³ÛÇÝ í»ñÍ³ÝÙ³Ý ÃáõÛÉïíáõÃÛáõÝ ëï³Ý³Éáõ Ù³ëÇÝ ÙÇçÝáñ¹áõÃÛáõÝÝ»ñ | E15: 44 | H15: 44 | K15: 44 | T15: =D15+E15 -> 44 | U15: =F15+K15+L15 -> 44 | V15: =K15 -> 44 | W15: =G15+H15+I15+J15 -> 44
A16: 10 | B16: Ñ»ï³ùÝÝáõÃÛ³Ý Ù³ñÙÝÇ ³ßË³ïáÕÇ, ùÝÝÇãÇ, ¹³ï³Ë³½Ç oå»ñ³ïÇí-Ñ»ï³Ëáõ½³Ï³Ý ·áñÍáÕáõÃÛáõÝÝ»ñ Çñ³Ï³Ý³óÝáÕ Ù³ñÙÇÝÝ»ñÇ ³ÝoñÇÝ³Ï³Ý ¨ ³ÝÑÇÙÝ áñáßáõÙÝ»ñÇ ¨ ·áñÍáÕáõÃÛáõÝÝ»ñÇ ¹»Ù µáÕáùÝ»ñ | D16: 5 | E16: 7 | G16: 8 | H16: 1 | J16: 1 | K16: 10 | L16: 2 | N16: 4 | O16: 2 | R16: 2 | T16: =D16+E16 -> 12 | U16: =F16+K16+L16 -> 12 | V16: =K16 -> 10 | W16: =G16+H16+I16+J16 -> 10
A17: 11 | B17: ²½³ïáõÃÛáõÝÇó ½ñÏ»Éáõ Çñ³í³ã³÷áõÃÛ³Ý í»ñ³µ»ñÛ³É µáÕáùÝ»ñáí ·áñÍ»ñ | M17: 1 | P17: 1 | T17: =D17+E17 -> 0 | U17: =F17+K17+L17 -> 0 | V17: =K17 -> 0 | W17: =G17+H17+I17+J17 -> 0
A18: 2. ¸³ï³Ï³Ý ³Ïï»ñÇ ¨ ¹³ï³Ï³Ý Ñ³ÝÓÝ³ñ³ñáõÃÛáõÝÝ»ñÇ Ï³ï³ñÙ³Ý Ñ»ï Ï³åí³Í Ñ³ñó»ñÇ ÉáõÍÙ³Ý áÉáñï
A19: 1 | B19: å³ïÅÇó å³ÛÙ³Ý³Ï³Ý í³Õ³Å³ÙÏ»ï ³½³ï»Éáõ Ù³ëÇÝ ÙÇçÝáñ¹áõÃÛáõÝÝ»ñ | T19: =D19+E19 -> 0 | U19: =F19+K19+L19 -> 0 | V19: =K19 -> 0 | W19: =G19+H19+I19+J19 -> 0
A20: 2 | B20: å³ïÇÅÁ ÷á÷áË»Éáõ, Ñ»ï³Ó·»Éáõ ¨ å³ïÅÇó ³½³ï»Éáõ Ù³uÇÝ ÙÇçÝáñ¹áõÃÛáõÝÝ»ñ | E20: 13 | G20: 4 | H20: 7 | K20: 11 | L20: 2 | N20: 1 | O20: 1 | T20: =D20+E20 -> 13 | U20: =F20+K20+L20 -> 13 | V20: =K20 -> 11 | W20: =G20+H20+I20+J20 -> 11
A21: 3 | B21: Ñ³ñÏ³¹Çñ µáõÅÙ³Ý ï»ë³ÏÇ ÷á÷áËáõÃÛ³Ý Ù³ëÇÝ ÙÇçÝáñ¹áõÃÛáõÝÝ»ñ | T21: =D21+E21 -> 0 | U21: =F21+K21+L21 -> 0 | V21: =K21 -> 0 | W21: =G21+H21+I21+J21 -> 0
A22: 4 | B22: ³ÛÉ ÙÇçÝáñ¹áõÃÛáõÝÝ»ñ | E22: 5 | G22: 1 | H22: 3 | J22: 1 | K22: 5 | T22: =D22+E22 -> 5 | U22: =F22+K22+L22 -> 5 | V22: =K22 -> 5 | W22: =G22+H22+I22+J22 -> 5
A23: 5 | B23: ¹³ï³Ï³Ý Ñ³ÝÓÝ³ñ³ñáõÃÛáõÝÝ»ñ | D23: 1 | H23: 1 | K23: 1 | T23: =D23+E23 -> 1 | U23: =F23+K23+L23 -> 1 | V23: =K23 -> 1 | W23: =G23+H23+I23+J23 -> 1
A24: ÀÜ¸²ØºÜÀ | D24: =D7+D8+D9+D10+D11+D12+D13+D14+D15+D16+D17+D19+D20+D21+D22+D23 -> 6 | E24: =E7+E8+E9+E10+E11+E12+E13+E14+E15+E16+E17+E19+E20+E21+E22+E23 -> 134 | F24: =F7+F8+F9+F10+F11+F12+F13+F14+F15+F16+F17+F19+F20+F21+F22+F23 -> 0 | G24: =G7+G8+G9+G10+G11+G12+G13+G14+G15+G16+G17+G19+G20+G21+G22+G23 -> 29 | H24: =H7+H8+H9+H10+H11+H12+H13+H14+H15+H16+H17+H19+H20+H21+H22+H23 -> 104 | I24: =I7+I8+I9+I10+I11+I12+I13+I14+I15+I16+I17+I19+I20+I21+I22+I23 -> 1 | J24: =J7+J8+J9+J10+J11+J12+J13+J14+J15+J16+J17+J19+J20+J21+J22+J23 -> 2 | K24: =K7+K8+K9+K10+K11+K12+K13+K14+K15+K16+K17+K19+K20+K21+K22+K23 -> 136 | ... S24: =S7+S8+S9+S10+S11+S12+S13+S14+S15+S16+S17+S19+S20+S21+S22+S23 -> 0 | T24: =D24+E24 -> 140 | U24: =F24+K24+L24 -> 140 | V24: =K24 -> 136 | W24: =G24+H24+I24+J24 -> 136

Sheet Լ. Սարգսյան
A1: 2017Ã. 1-ÇÝ ÏÇë³ÙÛ³Ï | D1: Ð²ÞìºîìàôÂÚàôÜ | P1: Ð³í»Éí³Í Ð³Û³ëï³ÝÇ Ð³Ýñ³å»ïáõÃÛ³Ý ¸³ï³ñ³ÝÝ»ñÇ Ý³Ë³·³ÑÝ»ñÇ ËáñÑñ¹Ç 25.08.2017Ã. ÃÇí 35-È áñáßÙ³Ý
A2: ØÇÝã¹³ï³Ï³Ý í³ñáõÛÃÇ ÝÏ³ïÙ³Ùµ ¹³ï³Ï³Ý í»ñ³ÑëÏáÕáõÃÛ³ÝÁ, ¹³ï³Ï³Ý ³Ïï»ñÇ ¨ ¹³ï³Ï³Ý Ñ³ÝÓÝ³ñ³ñáõÃÛáõÝÝ»ñÇ Ï³ï³ñÙ³Ý Ñ»ï Ï³åí³Í ÙÇçÝáñ¹áõÃÛáõÝÝ»ñÇ í»ñ³µ»ñÛ³É ¹³ï³Ï³Ý ·áñÍ»ñáí ºñ¨³Ý ù³Õ³ùÇ Ø³É³ÃÇ³-ê»µ³ëïÇ³ í³ñã³Ï³Ý ßñç³ÝÇ ÁÝ¹Ñ³Ýáõñ Çñ³í³ëáõÃÛ³Ý ³é³çÇÝ ³ïÛ³ÝÇ ¹³ï³ñ³ÝÇ ¹³ï³íáñ Լ.Սարգսյանի ·áñÍáõÝ»áõÃÛ³Ý í»ñ³µ»ñÛ³É
A3: êïáõ·Çã Ñ³í³ë³ñáõÙ` 1+2=3+8+9, 8=4+5+6+7, | D3: Ð³ßí»ïáõ Å³Ù³Ý³Ï³Ñ³ïí³ÍÇ ëÏ½µáõÙ Ý³Ëáñ¹ Ñ³ßí»ïáõ Å³Ù³Ý³Ï³Ñ³ïí³ÍÇó ÷áË³Ýóí³Í ·áñÍ»ñÇ ÁÝ¹Ñ³Ýáõñ ÃÇíÁ | E3: Ð³ßí»ïáõ Å³Ù³Ý³Ï³Ñ³ïí³ÍáõÙ ëï³óí³Í ·áñÍ»ñÇ ÁÝ¹Ñ³Ýáõñ ÃÇíÁ | F3: öáË³Ýóí»É ¿ ³ÛÉ ¹³ï³íáñÇ Ï³Ù ³ÛÉ ¹³ï³ñ³Ý (Ï³½ÙÇ ÷á÷áËáõÃÛáõÝ, ÁÝ¹¹³ïáõÃÛáõÝ) | G3: Ð³ßí»ïáõ Å³Ù³Ý³Ï³Ñ³ïí³ÍáõÙ ³í³ñïí³Í ·áñÍ»ñÇ ÁÝ¹Ñ³Ýáõñ ÃÇíÁ | L3: Ð³ßí»ïáõ Å³Ù³Ý³Ï³Ñ³ïí³ÍáõÙ ³Ý³í³ñï ·áñÍ»ñÇ ÁÝ¹Ñ³Ýáõñ ÃÇíÁ | M3: ØÇçÝáñ¹áõÃÛáõÝÝ»ñáí Ï³Û³óí³Í ¹³ï³Ï³Ý ³Ïï»ñÇó µáÕáù³ñÏí³ÍÝ»ñÇ ù³Ý³ÏÁ | O3: ²Ý³í³ñï µáÕáùÝ»ñ | P3: ØÇçÝáñ¹áõÃÛáõÝÝ»ñáí Ï³Û³óí³Í ¨ µáÕáù³ñÏí³Í ¹³ï³Ï³Ý ³Ïï»ñÇó µ»Ï³Ýí³ÍÝ»ñÇ ù³Ý³ÏÁ | R3: ÙÇçÝáñ¹áõÃÛáõÝÝ»ñáí Ï³Û³óí³Í ¨ µáÕáù³ñÏí³Í ¹³ï³Ï³Ý ³Ïï»ñÇó ³Ý÷á÷áË ÃáÕÝí³ÍÝ»ñÇ ù³Ý³ÏÁ
G4: Ù»ñÅí»É ¿ | H4: µ³í³ñ³ñí»É ¿ | I4: µ³í³ñ³ñí»É ¿ Ù³ëÝ³ÏÇ | J4: ÃáÕÝí»É ¿ ³é³Ýó ùÝÝáõÃÛ³Ý | K4: ÀÝ¹³Ù»ÝÁ
M5: Ý³Ëáñ¹ ï³ñÇÝ»ñÇÝ Ï³Û³óí³Í ³Ïï»ñÇ ¹»Ù | N5: Ñ³ßí»ïáõ Å³Ù³Ý³Ï³ßñç³ÝáõÙ Ï³Û³óí³Í ³Ïï»ñÇ ¹»Ù | P5: Ý³Ëáñ¹ ï³ñÇÝ»ñÇÝ Ï³Û³óí³Í ³Ïï»ñÇ µ»Ï³ÝáõÙÝ»ñÁ | Q5: Ñ³ßí»ïáõ Å³Ù³Ý³Ï³ßñç³ÝáõÙ Ï³Û³óí³Í ³Ïï»ñÇ µ»Ï³ÝáõÙÝ»ñÁ
A6: 1. ØÇÝã¹³ï³Ï³Ý í³ñáõÛÃÇ ÝÏ³ïÙ³Ùµ ¹³ï³Ï³Ý í»ñ³ÑëÏáÕáõÃÛ³Ý áÉáñï | D6: 1 | E6: 2 | F6: 3 | G6: 4 | H6: 5 | I6: 6 | J6: 7 | K6: 8 | L6: 9 | M6: 10 | N6: 11 | O6: 12 | P6: 13 | Q6: 14 | R6: 15 | T6: 1+2=3+8+9 | V6: 8=4+5+6+7
A7: 1 | B7: Ï³É³ÝùÁ áñå»ë Ë³÷³ÝÙ³Ý ÙÇçáó ÏÇñ³é»Éáõ Ù³ëÇÝ ÙÇçÝáñ¹áõÃÛáõÝÝ»ñ | T7: =D7+E7 -> 0 | U7: =F7+K7+L7 -> 0 | V7: =K7 -> 0 | W7: =G7+H7+I7+J7 -> 0
A8: 2 | B8: Ï³É³ÝùÇ Å³ÙÏ»ïÁ »ñÏ³ñ³óÝ»Éáõ Ù³ëÇÝ ÙÇçÝáñ¹áõÃÛáõÝÝ»ñ | T8: =D8+E8 -> 0 | U8: =F8+K8+L8 -> 0 | V8: =K8 -> 0 | W8: =G8+H8+I8+J8 -> 0
A9: 3 | B9: Ï³É³ÝùÇ í»ñ³Ñ³ëï³ïÙ³Ý Ù³ëÇÝ ÙÇçÝáñ¹áõÃÛáõÝÝ»ñ | T9: =D9+E9 -> 0 | U9: =F9+K9+L9 -> 0 | V9: =K9 -> 0 | W9: =G9+H9+I9+J9 -> 0
A10: 4 | B10: ·ñ³íÁ áñå»ë Ï³É³Ý³íáñÙ³Ý ³ÛÉÁÝïñ³Ýù³ÛÇÝ Ë³÷³ÝÙ³Ý ÙÇçáó ÏÇñ³é»Éáõ Ù³ëÇÝ ÙÇçÝáñ¹áõÃÛáõÝÝ»ñ | T10: =D10+E10 -> 0 | U10: =F10+K10+L10 -> 0 | V10: =K10 -> 0 | W10: =G10+H10+I10+J10 -> 0
A11: 5 | B11: Ëáõ½³ñÏáõÃÛ³Ý Ï³ï³ñÙ³Ý Ù³ëÇÝ ÙÇçÝáñ¹áõÃÛáõÝÝ»ñ | T11: =D11+E11 -> 0 | U11: =F11+K11+L11 -> 0 | V11: =K11 -> 0 | W11: =G11+H11+I11+J11 -> 0
A12: 6 | B12: µ³ÝÏ³ÛÇÝ, ³å³Ñáí³·ñ³Ï³Ý, Ýáï³ñ³Ï³Ý ·³ÕïÝÇù Ï³½ÙáÕ ï»Õ»ÏáõÃÛáõÝÝ»ñÇ ëï³óÙ³Ý Ñ³Ù³ñ Ëáõ½³ñÏáõÃÛ³Ý Ï³Ù ³é·ñ³íÙ³Ý Ï³ï³ñÙ³Ý Ù³ëÇÝ ÙÇçÝáñ¹áõÃÛáõÝÝ»ñ | T12: =D12+E12 -> 0 | U12: =F12+K12+L12 -> 0 | V12: =K12 -> 0 | W12: =G12+H12+I12+J12 -> 0
A13: 7 | B13: Ý³Ù³Ï³·ñáõÃÛ³Ý, Ñ»é³·ñ³Ï³Ý, ÷áuï³ÛÇÝ Ñ³Õáñ¹áõÙÝ»ñÇ ÑëÏáÕáõÃÛ³Ý Ù³ëÇÝ ÙÇçÝáñ¹áõÃÛáõÝÝ»ñ | T13: =D13+E13 -> 0 | U13: =F13+K13+L13 -> 0 | V13: =K13 -> 0 | W13: =G13+H13+I13+J13 -> 0
A14: 8 | B14: Ñ»é³Ëáu³ÛÇÝ Ï³Ù Ï³åÇ ³ÛÉ ÙÇçáóÝ»ñáí ï³ñíáÕ Ëáu³ÏóáõÃÛáõÝÝ»ñÇ ÉuÙ³Ý ¨ Ó³ÛÝ³·ñ³éÙ³Ý Ù³ëÇÝ ÙÇçÝáñ¹áõÃÛáõÝÝ»ñ | T14: =D14+E14 -> 0 | U14: =F14+K14+L14 -> 0 | V14: =K14 -> 0 | W14: =G14+H14+I14+J14 -> 0
A15: 9 | B15: Ñ»é³ËáëÝ»ñÇ Ùáõïù³ÛÇÝ ¨ »Éù³ÛÇÝ í»ñÍ³ÝÙ³Ý ÃáõÛÉïíáõÃÛáõÝ ëï³Ý³Éáõ Ù³ëÇÝ ÙÇçÝáñ¹áõÃÛáõÝÝ»ñ | T15: =D15+E15 -> 0 | U15: =F15+K15+L15 -> 0 | V15: =K15 -> 0 | W15: =G15+H15+I15+J15 -> 0
A16: 10 | B16: Ñ»ï³ùÝÝáõÃÛ³Ý Ù³ñÙÝÇ ³ßË³ïáÕÇ, ùÝÝÇãÇ, ¹³ï³Ë³½Ç oå»ñ³ïÇí-Ñ»ï³Ëáõ½³Ï³Ý ·áñÍáÕáõÃÛáõÝÝ»ñ Çñ³Ï³Ý³óÝáÕ Ù³ñÙÇÝÝ»ñÇ ³ÝoñÇÝ³Ï³Ý ¨ ³ÝÑÇÙÝ áñáßáõÙÝ»ñÇ ¨ ·áñÍáÕáõÃÛáõÝÝ»ñÇ ¹»Ù µáÕáùÝ»ñ | T16: =D16+E16 -> 0 | U16: =F16+K16+L16 -> 0 | V16: =K16 -> 0 | W16: =G16+H16+I16+J16 -> 0
A17: 11 | B17: ²½³ïáõÃÛáõÝÇó ½ñÏ»Éáõ Çñ³í³ã³÷áõÃÛ³Ý í»ñ³µ»ñÛ³É µáÕáùÝ»ñáí ·áñÍ»ñ | T17: =D17+E17 -> 0 | U17: =F17+K17+L17 -> 0 | V17: =K17 -> 0 | W17: =G17+H17+I17+J17 -> 0
A18: 2. ¸³ï³Ï³Ý ³Ïï»ñÇ ¨ ¹³ï³Ï³Ý Ñ³ÝÓÝ³ñ³ñáõÃÛáõÝÝ»ñÇ Ï³ï³ñÙ³Ý Ñ»ï Ï³åí³Í Ñ³ñó»ñÇ ÉáõÍÙ³Ý áÉáñï
A19: 1 | B19: å³ïÅÇó å³ÛÙ³Ý³Ï³Ý í³Õ³Å³ÙÏ»ï ³½³ï»Éáõ Ù³ëÇÝ ÙÇçÝáñ¹áõÃÛáõÝÝ»ñ | T19: =D19+E19 -> 0 | U19: =F19+K19+L19 -> 0 | V19: =K19 -> 0 | W19: =G19+H19+I19+J19 -> 0
A20: 2 | B20: å³ïÇÅÁ ÷á÷áË»Éáõ, Ñ»ï³Ó·»Éáõ ¨ å³ïÅÇó ³½³ï»Éáõ Ù³uÇÝ ÙÇçÝáñ¹áõÃÛáõÝÝ»ñ | T20: =D20+E20 -> 0 | U20: =F20+K20+L20 -> 0 | V20: =K20 -> 0 | W20: =G20+H20+I20+J20 -> 0
A21: 3 | B21: Ñ³ñÏ³¹Çñ µáõÅÙ³Ý ï»ë³ÏÇ ÷á÷áËáõÃÛ³Ý Ù³ëÇÝ ÙÇçÝáñ¹áõÃÛáõÝÝ»ñ | T21: =D21+E21 -> 0 | U21: =F21+K21+L21 -> 0 | V21: =K21 -> 0 | W21: =G21+H21+I21+J21 -> 0
A22: 4 | B22: ³ÛÉ ÙÇçÝáñ¹áõÃÛáõÝÝ»ñ | T22: =D22+E22 -> 0 | U22: =F22+K22+L22 -> 0 | V22: =K22 -> 0 | W22: =G22+H22+I22+J22 -> 0
A23: 5 | B23: ¹³ï³Ï³Ý Ñ³ÝÓÝ³ñ³ñáõÃÛáõÝÝ»ñ | D23: 3 | H23: 1 | K23: 1 | L23: 2 | T23: =D23+E23 -> 3 | U23: =F23+K23+L23 -> 3 | V23: =K23 -> 1 | W23: =G23+H23+I23+J23 -> 1
A24: ÀÜ¸²ØºÜÀ | D24: =D7+D8+D9+D10+D11+D12+D13+D14+D15+D17+D19+D20+D21+D22+D23 -> 3 | E24: =E7+E8+E9+E10+E11+E12+E13+E14+E15+E17+E19+E20+E21+E22+E23 -> 0 | F24: =F7+F8+F9+F10+F11+F12+F13+F14+F15+F17+F19+F20+F21+F22+F23 -> 0 | G24: =G7+G8+G9+G10+G11+G12+G13+G14+G15+G17+G19+G20+G21+G22+G23 -> 0 | H24: =H7+H8+H9+H10+H11+H12+H13+H14+H15+H17+H19+H20+H21+H22+H23 -> 1 | I24: =I7+I8+I9+I10+I11+I12+I13+I14+I15+I17+I19+I20+I21+I22+I23 -> 0 | J24: =J7+J8+J9+J10+J11+J12+J13+J14+J15+J17+J19+J20+J21+J22+J23 -> 0 | K24: =K7+K8+K9+K10+K11+K12+K13+K14+K15+K17+K19+K20+K21+K22+K23 -> 1 | ... R24: =R7+R8+R9+R10+R11+R12+R13+R14+R15+R17+R19+R20+R21+R22+R23 -> 0 | T24: =D24+E24 -> 3 | U24: =F24+K24+L24 -> 3 | V24: =K24 -> 1 | W24: =G24+H24+I24+J24 -> 1

Sheet Լ. Կատվալյան
A1: 2017Ã. 1-ÇÝ ÏÇë³ÙÛ³Ï | D1: Ð²ÞìºîìàôÂÚàôÜ | P1: Ð³í»Éí³Í Ð³Û³ëï³ÝÇ Ð³Ýñ³å»ïáõÃÛ³Ý ¸³ï³ñ³ÝÝ»ñÇ Ý³Ë³·³ÑÝ»ñÇ ËáñÑñ¹Ç 25.08.2017Ã. ÃÇí 35-È áñáßÙ³Ý
A2: ØÇÝã¹³ï³Ï³Ý í³ñáõÛÃÇ ÝÏ³ïÙ³Ùµ ¹³ï³Ï³Ý í»ñ³ÑëÏáÕáõÃÛ³ÝÁ, ¹³ï³Ï³Ý ³Ïï»ñÇ ¨ ¹³ï³Ï³Ý Ñ³ÝÓÝ³ñ³ñáõÃÛáõÝÝ»ñÇ Ï³ï³ñÙ³Ý Ñ»ï Ï³åí³Í ÙÇçÝáñ¹áõÃÛáõÝÝ»ñÇ í»ñ³µ»ñÛ³É ¹³ï³Ï³Ý ·áñÍ»ñáí ºñ¨³Ý ù³Õ³ùÇ Ø³É³ÃÇ³-ê»µ³ëïÇ³ í³ñã³Ï³Ý ßñç³ÝÇ ÁÝ¹Ñ³Ýáõñ Çñ³í³ëáõÃÛ³Ý ³é³çÇÝ ³ïÛ³ÝÇ ¹³ï³ñ³ÝÇ ¹³ï³íáñ Լ. Կատվալյանի ·áñÍáõÝ»áõÃÛ³Ý í»ñ³µ»ñÛ³É
A3: êïáõ·Çã Ñ³í³ë³ñáõÙ` 1+2=3+8+9, 8=4+5+6+7, | D3: Ð³ßí»ïáõ Å³Ù³Ý³Ï³Ñ³ïí³ÍÇ ëÏ½µáõÙ Ý³Ëáñ¹ Ñ³ßí»ïáõ Å³Ù³Ý³Ï³Ñ³ïí³ÍÇó ÷áË³Ýóí³Í ·áñÍ»ñÇ ÁÝ¹Ñ³Ýáõñ ÃÇíÁ | E3: Ð³ßí»ïáõ Å³Ù³Ý³Ï³Ñ³ïí³ÍáõÙ ëï³óí³Í ·áñÍ»ñÇ ÁÝ¹Ñ³Ýáõñ ÃÇíÁ | F3: öáË³Ýóí»É ¿ ³ÛÉ ¹³ï³íáñÇ Ï³Ù ³ÛÉ ¹³ï³ñ³Ý (Ï³½ÙÇ ÷á÷áËáõÃÛáõÝ, ÁÝ¹¹³ïáõÃÛáõÝ) | G3: Ð³ßí»ïáõ Å³Ù³Ý³Ï³Ñ³ïí³ÍáõÙ ³í³ñïí³Í ·áñÍ»ñÇ ÁÝ¹Ñ³Ýáõñ ÃÇíÁ | L3: Ð³ßí»ïáõ Å³Ù³Ý³Ï³Ñ³ïí³ÍáõÙ ³Ý³í³ñï ·áñÍ»ñÇ ÁÝ¹Ñ³Ýáõñ ÃÇíÁ | M3: ØÇçÝáñ¹áõÃÛáõÝÝ»ñáí Ï³Û³óí³Í ¹³ï³Ï³Ý ³Ïï»ñÇó µáÕáù³ñÏí³ÍÝ»ñÇ ù³Ý³ÏÁ | O3: ²Ý³í³ñï µáÕáùÝ»ñ | P3: ØÇçÝáñ¹áõÃÛáõÝÝ»ñáí Ï³Û³óí³Í ¨ µáÕáù³ñÏí³Í ¹³ï³Ï³Ý ³Ïï»ñÇó µ»Ï³Ýí³ÍÝ»ñÇ ù³Ý³ÏÁ | R3: ÙÇçÝáñ¹áõÃÛáõÝÝ»ñáí Ï³Û³óí³Í ¨ µáÕáù³ñÏí³Í ¹³ï³Ï³Ý ³Ïï»ñÇó ³Ý÷á÷áË ÃáÕÝí³ÍÝ»ñÇ ù³Ý³ÏÁ
G4: Ù»ñÅí»É ¿ | H4: µ³í³ñ³ñí»É ¿ | I4: µ³í³ñ³ñí»É ¿ Ù³ëÝ³ÏÇ | J4: ÃáÕÝí»É ¿ ³é³Ýó ùÝÝáõÃÛ³Ý | K4: ÀÝ¹³Ù»ÝÁ
M5: Ý³Ëáñ¹ ï³ñÇÝ»ñÇÝ Ï³Û³óí³Í ³Ïï»ñÇ ¹»Ù | N5: Ñ³ßí»ïáõ Å³Ù³Ý³Ï³ßñç³ÝáõÙ Ï³Û³óí³Í ³Ïï»ñÇ ¹»Ù | P5: Ý³Ëáñ¹ ï³ñÇÝ»ñÇÝ Ï³Û³óí³Í ³Ïï»ñÇ µ»Ï³ÝáõÙÝ»ñÁ | Q5: Ñ³ßí»ïáõ Å³Ù³Ý³Ï³ßñç³ÝáõÙ Ï³Û³óí³Í ³Ïï»ñÇ µ»Ï³ÝáõÙÝ»ñÁ
A6: 1. ØÇÝã¹³ï³Ï³Ý í³ñáõÛÃÇ ÝÏ³ïÙ³Ùµ ¹³ï³Ï³Ý í»ñ³ÑëÏáÕáõÃÛ³Ý áÉáñï | D6: 1 | E6: 2 | F6: 3 | G6: 4 | H6: 5 | I6: 6 | J6: 7 | K6: 8 | L6: 9 | M6: 10 | N6: 11 | O6: 12 | P6: 13 | Q6: 14 | R6: 15 | T6: 1+2=3+8+9 | V6: 8=4+5+6+7
A7: 1 | B7: Ï³É³ÝùÁ áñå»ë Ë³÷³ÝÙ³Ý ÙÇçáó ÏÇñ³é»Éáõ Ù³ëÇÝ ÙÇçÝáñ¹áõÃÛáõÝÝ»ñ | T7: =D7+E7 -> 0 | U7: =F7+K7+L7 -> 0 | V7: =K7 -> 0 | W7: =G7+H7+I7+J7 -> 0
A8: 2 | B8: Ï³É³ÝùÇ Å³ÙÏ»ïÁ »ñÏ³ñ³óÝ»Éáõ Ù³ëÇÝ ÙÇçÝáñ¹áõÃÛáõÝÝ»ñ | T8: =D8+E8 -> 0 | U8: =F8+K8+L8 -> 0 | V8: =K8 -> 0 | W8: =G8+H8+I8+J8 -> 0
A9: 3 | B9: Ï³É³ÝùÇ í»ñ³Ñ³ëï³ïÙ³Ý Ù³ëÇÝ ÙÇçÝáñ¹áõÃÛáõÝÝ»ñ | T9: =D9+E9 -> 0 | U9: =F9+K9+L9 -> 0 | V9: =K9 -> 0 | W9: =G9+H9+I9+J9 -> 0
A10: 4 | B10: ·ñ³íÁ áñå»ë Ï³É³Ý³íáñÙ³Ý ³ÛÉÁÝïñ³Ýù³ÛÇÝ Ë³÷³ÝÙ³Ý ÙÇçáó ÏÇñ³é»Éáõ Ù³ëÇÝ ÙÇçÝáñ¹áõÃÛáõÝÝ»ñ | T10: =D10+E10 -> 0 | U10: =F10+K10+L10 -> 0 | V10: =K10 -> 0 | W10: =G10+H10+I10+J10 -> 0
A11: 5 | B11: Ëáõ½³ñÏáõÃÛ³Ý Ï³ï³ñÙ³Ý Ù³ëÇÝ ÙÇçÝáñ¹áõÃÛáõÝÝ»ñ | T11: =D11+E11 -> 0 | U11: =F11+K11+L11 -> 0 | V11: =K11 -> 0 | W11: =G11+H11+I11+J11 -> 0
A12: 6 | B12: µ³ÝÏ³ÛÇÝ, ³å³Ñáí³·ñ³Ï³Ý, Ýáï³ñ³Ï³Ý ·³ÕïÝÇù Ï³½ÙáÕ ï»Õ»ÏáõÃÛáõÝÝ»ñÇ ëï³óÙ³Ý Ñ³Ù³ñ Ëáõ½³ñÏáõÃÛ³Ý Ï³Ù ³é·ñ³íÙ³Ý Ï³ï³ñÙ³Ý Ù³ëÇÝ ÙÇçÝáñ¹áõÃÛáõÝÝ»ñ | T12: =D12+E12 -> 0 | U12: =F12+K12+L12 -> 0 | V12: =K12 -> 0 | W12: =G12+H12+I12+J12 -> 0
A13: 7 | B13: Ý³Ù³Ï³·ñáõÃÛ³Ý, Ñ»é³·ñ³Ï³Ý, ÷áuï³ÛÇÝ Ñ³Õáñ¹áõÙÝ»ñÇ ÑëÏáÕáõÃÛ³Ý Ù³ëÇÝ ÙÇçÝáñ¹áõÃÛáõÝÝ»ñ | T13: =D13+E13 -> 0 | U13: =F13+K13+L13 -> 0 | V13: =K13 -> 0 | W13: =G13+H13+I13+J13 -> 0
A14: 8 | B14: Ñ»é³Ëáu³ÛÇÝ Ï³Ù Ï³åÇ ³ÛÉ ÙÇçáóÝ»ñáí ï³ñíáÕ Ëáu³ÏóáõÃÛáõÝÝ»ñÇ ÉuÙ³Ý ¨ Ó³ÛÝ³·ñ³éÙ³Ý Ù³ëÇÝ ÙÇçÝáñ¹áõÃÛáõÝÝ»ñ | T14: =D14+E14 -> 0 | U14: =F14+K14+L14 -> 0 | V14: =K14 -> 0 | W14: =G14+H14+I14+J14 -> 0
A15: 9 | B15: Ñ»é³ËáëÝ»ñÇ Ùáõïù³ÛÇÝ ¨ »Éù³ÛÇÝ í»ñÍ³ÝÙ³Ý ÃáõÛÉïíáõÃÛáõÝ ëï³Ý³Éáõ Ù³ëÇÝ ÙÇçÝáñ¹áõÃÛáõÝÝ»ñ | T15: =D15+E15 -> 0 | U15: =F15+K15+L15 -> 0 | V15: =K15 -> 0 | W15: =G15+H15+I15+J15 -> 0
A16: 10 | B16: Ñ»ï³ùÝÝáõÃÛ³Ý Ù³ñÙÝÇ ³ßË³ïáÕÇ, ùÝÝÇãÇ, ¹³ï³Ë³½Ç oå»ñ³ïÇí-Ñ»ï³Ëáõ½³Ï³Ý ·áñÍáÕáõÃÛáõÝÝ»ñ Çñ³Ï³Ý³óÝáÕ Ù³ñÙÇÝÝ»ñÇ ³ÝoñÇÝ³Ï³Ý ¨ ³ÝÑÇÙÝ áñáßáõÙÝ»ñÇ ¨ ·áñÍáÕáõÃÛáõÝÝ»ñÇ ¹»Ù µáÕáùÝ»ñ | T16: =D16+E16 -> 0 | U16: =F16+K16+L16 -> 0 | V16: =K16 -> 0 | W16: =G16+H16+I16+J16 -> 0
A17: 11 | B17: ²½³ïáõÃÛáõÝÇó ½ñÏ»Éáõ Çñ³í³ã³÷áõÃÛ³Ý í»ñ³µ»ñÛ³É µáÕáùÝ»ñáí ·áñÍ»ñ | T17: =D17+E17 -> 0 | U17: =F17+K17+L17 -> 0 | V17: =K17 -> 0 | W17: =G17+H17+I17+J17 -> 0
A18: 2. ¸³ï³Ï³Ý ³Ïï»ñÇ ¨ ¹³ï³Ï³Ý Ñ³ÝÓÝ³ñ³ñáõÃÛáõÝÝ»ñÇ Ï³ï³ñÙ³Ý Ñ»ï Ï³åí³Í Ñ³ñó»ñÇ ÉáõÍÙ³Ý áÉáñï
A19: 1 | B19: å³ïÅÇó å³ÛÙ³Ý³Ï³Ý í³Õ³Å³ÙÏ»ï ³½³ï»Éáõ Ù³ëÇÝ ÙÇçÝáñ¹áõÃÛáõÝÝ»ñ | T19: =D19+E19 -> 0 | U19: =F19+K19+L19 -> 0 | V19: =K19 -> 0 | W19: =G19+H19+I19+J19 -> 0
A20: 2 | B20: å³ïÇÅÁ ÷á÷áË»Éáõ, Ñ»ï³Ó·»Éáõ ¨ å³ïÅÇó ³½³ï»Éáõ Ù³uÇÝ ÙÇçÝáñ¹áõÃÛáõÝÝ»ñ | T20: =D20+E20 -> 0 | U20: =F20+K20+L20 -> 0 | V20: =K20 -> 0 | W20: =G20+H20+I20+J20 -> 0
A21: 3 | B21: Ñ³ñÏ³¹Çñ µáõÅÙ³Ý ï»ë³ÏÇ ÷á÷áËáõÃÛ³Ý Ù³ëÇÝ ÙÇçÝáñ¹áõÃÛáõÝÝ»ñ | T21: =D21+E21 -> 0 | U21: =F21+K21+L21 -> 0 | V21: =K21 -> 0 | W21: =G21+H21+I21+J21 -> 0
A22: 4 | B22: ³ÛÉ ÙÇçÝáñ¹áõÃÛáõÝÝ»ñ | T22: =D22+E22 -> 0 | U22: =F22+K22+L22 -> 0 | V22: =K22 -> 0 | W22: =G22+H22+I22+J22 -> 0
A23: 5 | B23: ¹³ï³Ï³Ý Ñ³ÝÓÝ³ñ³ñáõÃÛáõÝÝ»ñ | D23: 2 | L23: 2 | T23: =D23+E23 -> 2 | U23: =F23+K23+L23 -> 2 | V23: =K23 -> 0 | W23: =G23+H23+I23+J23 -> 0
A24: ÀÜ¸²ØºÜÀ | D24: =D7+D8+D9+D10+D11+D12+D13+D14+D15+D17+D19+D20+D21+D22+D23 -> 2 | E24: =E7+E8+E9+E10+E11+E12+E13+E14+E15+E17+E19+E20+E21+E22+E23 -> 0 | F24: =F7+F8+F9+F10+F11+F12+F13+F14+F15+F17+F19+F20+F21+F22+F23 -> 0 | G24: =G7+G8+G9+G10+G11+G12+G13+G14+G15+G17+G19+G20+G21+G22+G23 -> 0 | H24: =H7+H8+H9+H10+H11+H12+H13+H14+H15+H17+H19+H20+H21+H22+H23 -> 0 | I24: =I7+I8+I9+I10+I11+I12+I13+I14+I15+I17+I19+I20+I21+I22+I23 -> 0 | J24: =J7+J8+J9+J10+J11+J12+J13+J14+J15+J17+J19+J20+J21+J22+J23 -> 0 | K24: =K7+K8+K9+K10+K11+K12+K13+K14+K15+K17+K19+K20+K21+K22+K23 -> 0 | ... R24: =R7+R8+R9+R10+R11+R12+R13+R14+R15+R17+R19+R20+R21+R22+R23 -> 0 | T24: =D24+E24 -> 2 | U24: =F24+K24+L24 -> 2 | V24: =K24 -> 0 | W24: =G24+H24+I24+J24 -> 0

Sheet Ա. Մկրտչյան
A1: 2017Ã. 1-ÇÝ ÏÇë³ÙÛ³Ï | D1: Ð²ÞìºîìàôÂÚàôÜ | P1: Ð³í»Éí³Í Ð³Û³ëï³ÝÇ Ð³Ýñ³å»ïáõÃÛ³Ý ¸³ï³ñ³ÝÝ»ñÇ Ý³Ë³·³ÑÝ»ñÇ ËáñÑñ¹Ç 25.08.2017Ã. ÃÇí 35-È áñáßÙ³Ý
A2: ØÇÝã¹³ï³Ï³Ý í³ñáõÛÃÇ ÝÏ³ïÙ³Ùµ ¹³ï³Ï³Ý í»ñ³ÑëÏáÕáõÃÛ³ÝÁ, ¹³ï³Ï³Ý ³Ïï»ñÇ ¨ ¹³ï³Ï³Ý Ñ³ÝÓÝ³ñ³ñáõÃÛáõÝÝ»ñÇ Ï³ï³ñÙ³Ý Ñ»ï Ï³åí³Í ÙÇçÝáñ¹áõÃÛáõÝÝ»ñÇ í»ñ³µ»ñÛ³É ¹³ï³Ï³Ý ·áñÍ»ñáí ºñ¨³Ý ù³Õ³ùÇ Ø³É³ÃÇ³-ê»µ³ëïÇ³ í³ñã³Ï³Ý ßñç³ÝÇ ÁÝ¹Ñ³Ýáõñ Çñ³í³ëáõÃÛ³Ý ³é³çÇÝ ³ïÛ³ÝÇ ¹³ï³ñ³ÝÇ ¹³ï³íáñ Ա. Մկրտչյանի ·áñÍáõÝ»áõÃÛ³Ý í»ñ³µ»ñÛ³É
A3: êïáõ·Çã Ñ³í³ë³ñáõÙ` 1+2=3+8+9, 8=4+5+6+7, | D3: Ð³ßí»ïáõ Å³Ù³Ý³Ï³Ñ³ïí³ÍÇ ëÏ½µáõÙ Ý³Ëáñ¹ Ñ³ßí»ïáõ Å³Ù³Ý³Ï³Ñ³ïí³ÍÇó ÷áË³Ýóí³Í ·áñÍ»ñÇ ÁÝ¹Ñ³Ýáõñ ÃÇíÁ | E3: Ð³ßí»ïáõ Å³Ù³Ý³Ï³Ñ³ïí³ÍáõÙ ëï³óí³Í ·áñÍ»ñÇ ÁÝ¹Ñ³Ýáõñ ÃÇíÁ | F3: öáË³Ýóí»É ¿ ³ÛÉ ¹³ï³íáñÇ Ï³Ù ³ÛÉ ¹³ï³ñ³Ý (Ï³½ÙÇ ÷á÷áËáõÃÛáõÝ, ÁÝ¹¹³ïáõÃÛáõÝ) | G3: Ð³ßí»ïáõ Å³Ù³Ý³Ï³Ñ³ïí³ÍáõÙ ³í³ñïí³Í ·áñÍ»ñÇ ÁÝ¹Ñ³Ýáõñ ÃÇíÁ | L3: Ð³ßí»ïáõ Å³Ù³Ý³Ï³Ñ³ïí³ÍáõÙ ³Ý³í³ñï ·áñÍ»ñÇ ÁÝ¹Ñ³Ýáõñ ÃÇíÁ | M3: ØÇçÝáñ¹áõÃÛáõÝÝ»ñáí Ï³Û³óí³Í ¹³ï³Ï³Ý ³Ïï»ñÇó µáÕáù³ñÏí³ÍÝ»ñÇ ù³Ý³ÏÁ | O3: ²Ý³í³ñï µáÕáùÝ»ñ | P3: ØÇçÝáñ¹áõÃÛáõÝÝ»ñáí Ï³Û³óí³Í ¨ µáÕáù³ñÏí³Í ¹³ï³Ï³Ý ³Ïï»ñÇó µ»Ï³Ýí³ÍÝ»ñÇ ù³Ý³ÏÁ | R3: ÙÇçÝáñ¹áõÃÛáõÝÝ»ñáí Ï³Û³óí³Í ¨ µáÕáù³ñÏí³Í ¹³ï³Ï³Ý ³Ïï»ñÇó ³Ý÷á÷áË ÃáÕÝí³ÍÝ»ñÇ ù³Ý³ÏÁ
G4: Ù»ñÅí»É ¿ | H4: µ³í³ñ³ñí»É ¿ | I4: µ³í³ñ³ñí»É ¿ Ù³ëÝ³ÏÇ | J4: ÃáÕÝí»É ¿ ³é³Ýó ùÝÝáõÃÛ³Ý | K4: ÀÝ¹³Ù»ÝÁ
M5: Ý³Ëáñ¹ ï³ñÇÝ»ñÇÝ Ï³Û³óí³Í ³Ïï»ñÇ ¹»Ù | N5: Ñ³ßí»ïáõ Å³Ù³Ý³Ï³ßñç³ÝáõÙ Ï³Û³óí³Í ³Ïï»ñÇ ¹»Ù | P5: Ý³Ëáñ¹ ï³ñÇÝ»ñÇÝ Ï³Û³óí³Í ³Ïï»ñÇ µ»Ï³ÝáõÙÝ»ñÁ | Q5: Ñ³ßí»ïáõ Å³Ù³Ý³Ï³ßñç³ÝáõÙ Ï³Û³óí³Í ³Ïï»ñÇ µ»Ï³ÝáõÙÝ»ñÁ
A6: 1. ØÇÝã¹³ï³Ï³Ý í³ñáõÛÃÇ ÝÏ³ïÙ³Ùµ ¹³ï³Ï³Ý í»ñ³ÑëÏáÕáõÃÛ³Ý áÉáñï | D6: 1 | E6: 2 | F6: 3 | G6: 4 | H6: 5 | I6: 6 | J6: 7 | K6: 8 | L6: 9 | M6: 10 | N6: 11 | O6: 12 | P6: 13 | Q6: 14 | R6: 15 | T6: 1+2=3+8+9 | V6: 8=4+5+6+7
A7: 1 | B7: Ï³É³ÝùÁ áñå»ë Ë³÷³ÝÙ³Ý ÙÇçáó ÏÇñ³é»Éáõ Ù³ëÇÝ ÙÇçÝáñ¹áõÃÛáõÝÝ»ñ | E7: 2 | H7: 2 | K7: 2 | T7: =D7+E7 -> 2 | U7: =F7+K7+L7 -> 2 | V7: =K7 -> 2 | W7: =G7+H7+I7+J7 -> 2
A8: 2 | B8: Ï³É³ÝùÇ Å³ÙÏ»ïÁ »ñÏ³ñ³óÝ»Éáõ Ù³ëÇÝ ÙÇçÝáñ¹áõÃÛáõÝÝ»ñ | E8: 2 | H8: 2 | K8: 2 | T8: =D8+E8 -> 2 | U8: =F8+K8+L8 -> 2 | V8: =K8 -> 2 | W8: =G8+H8+I8+J8 -> 2
A9: 3 | B9: Ï³É³ÝùÇ í»ñ³Ñ³ëï³ïÙ³Ý Ù³ëÇÝ ÙÇçÝáñ¹áõÃÛáõÝÝ»ñ | T9: =D9+E9 -> 0 | U9: =F9+K9+L9 -> 0 | V9: =K9 -> 0 | W9: =G9+H9+I9+J9 -> 0
A10: 4 | B10: ·ñ³íÁ áñå»ë Ï³É³Ý³íáñÙ³Ý ³ÛÉÁÝïñ³Ýù³ÛÇÝ Ë³÷³ÝÙ³Ý ÙÇçáó ÏÇñ³é»Éáõ Ù³ëÇÝ ÙÇçÝáñ¹áõÃÛáõÝÝ»ñ | E10: 3 | G10: 3 | K10: 3 | N10: 1 | O10: 1 | T10: =D10+E10 -> 3 | U10: =F10+K10+L10 -> 3 | V10: =K10 -> 3 | W10: =G10+H10+I10+J10 -> 3
A11: 5 | B11: Ëáõ½³ñÏáõÃÛ³Ý Ï³ï³ñÙ³Ý Ù³ëÇÝ ÙÇçÝáñ¹áõÃÛáõÝÝ»ñ | E11: 14 | H11: 14 | K11: 14 | T11: =D11+E11 -> 14 | U11: =F11+K11+L11 -> 14 | V11: =K11 -> 14 | W11: =G11+H11+I11+J11 -> 14
A12: 6 | B12: µ³ÝÏ³ÛÇÝ, ³å³Ñáí³·ñ³Ï³Ý, Ýáï³ñ³Ï³Ý ·³ÕïÝÇù Ï³½ÙáÕ ï»Õ»ÏáõÃÛáõÝÝ»ñÇ ëï³óÙ³Ý Ñ³Ù³ñ Ëáõ½³ñÏáõÃÛ³Ý Ï³Ù ³é·ñ³íÙ³Ý Ï³ï³ñÙ³Ý Ù³ëÇÝ ÙÇçÝáñ¹áõÃÛáõÝÝ»ñ | T12: =D12+E12 -> 0 | U12: =F12+K12+L12 -> 0 | V12: =K12 -> 0 | W12: =G12+H12+I12+J12 -> 0
A13: 7 | B13: Ý³Ù³Ï³·ñáõÃÛ³Ý, Ñ»é³·ñ³Ï³Ý, ÷áuï³ÛÇÝ Ñ³Õáñ¹áõÙÝ»ñÇ ÑëÏáÕáõÃÛ³Ý Ù³ëÇÝ ÙÇçÝáñ¹áõÃÛáõÝÝ»ñ | T13: =D13+E13 -> 0 | U13: =F13+K13+L13 -> 0 | V13: =K13 -> 0 | W13: =G13+H13+I13+J13 -> 0
A14: 8 | B14: Ñ»é³Ëáu³ÛÇÝ Ï³Ù Ï³åÇ ³ÛÉ ÙÇçáóÝ»ñáí ï³ñíáÕ Ëáu³ÏóáõÃÛáõÝÝ»ñÇ ÉuÙ³Ý ¨ Ó³ÛÝ³·ñ³éÙ³Ý Ù³ëÇÝ ÙÇçÝáñ¹áõÃÛáõÝÝ»ñ | T14: =D14+E14 -> 0 | U14: =F14+K14+L14 -> 0 | V14: =K14 -> 0 | W14: =G14+H14+I14+J14 -> 0
A15: 9 | B15: Ñ»é³ËáëÝ»ñÇ Ùáõïù³ÛÇÝ ¨ »Éù³ÛÇÝ í»ñÍ³ÝÙ³Ý ÃáõÛÉïíáõÃÛáõÝ ëï³Ý³Éáõ Ù³ëÇÝ ÙÇçÝáñ¹áõÃÛáõÝÝ»ñ | E15: 5 | H15: 5 | K15: 5 | T15: =D15+E15 -> 5 | U15: =F15+K15+L15 -> 5 | V15: =K15 -> 5 | W15: =G15+H15+I15+J15 -> 5
A16: 10 | B16: Ñ»ï³ùÝÝáõÃÛ³Ý Ù³ñÙÝÇ ³ßË³ïáÕÇ, ùÝÝÇãÇ, ¹³ï³Ë³½Ç oå»ñ³ïÇí-Ñ»ï³Ëáõ½³Ï³Ý ·áñÍáÕáõÃÛáõÝÝ»ñ Çñ³Ï³Ý³óÝáÕ Ù³ñÙÇÝÝ»ñÇ ³ÝoñÇÝ³Ï³Ý ¨ ³ÝÑÇÙÝ áñáßáõÙÝ»ñÇ ¨ ·áñÍáÕáõÃÛáõÝÝ»ñÇ ¹»Ù µáÕáùÝ»ñ | T16: =D16+E16 -> 0 | U16: =F16+K16+L16 -> 0 | V16: =K16 -> 0 | W16: =G16+H16+I16+J16 -> 0
A17: 11 | B17: ²½³ïáõÃÛáõÝÇó ½ñÏ»Éáõ Çñ³í³ã³÷áõÃÛ³Ý í»ñ³µ»ñÛ³É µáÕáùÝ»ñáí ·áñÍ»ñ | T17: =D17+E17 -> 0 | U17: =F17+K17+L17 -> 0 | V17: =K17 -> 0 | W17: =G17+H17+I17+J17 -> 0
A18: 2. ¸³ï³Ï³Ý ³Ïï»ñÇ ¨ ¹³ï³Ï³Ý Ñ³ÝÓÝ³ñ³ñáõÃÛáõÝÝ»ñÇ Ï³ï³ñÙ³Ý Ñ»ï Ï³åí³Í Ñ³ñó»ñÇ ÉáõÍÙ³Ý áÉáñï
A19: 1 | B19: å³ïÅÇó å³ÛÙ³Ý³Ï³Ý í³Õ³Å³ÙÏ»ï ³½³ï»Éáõ Ù³ëÇÝ ÙÇçÝáñ¹áõÃÛáõÝÝ»ñ | T19: =D19+E19 -> 0 | U19: =F19+K19+L19 -> 0 | V19: =K19 -> 0 | W19: =G19+H19+I19+J19 -> 0
A20: 2 | B20: å³ïÇÅÁ ÷á÷áË»Éáõ, Ñ»ï³Ó·»Éáõ ¨ å³ïÅÇó ³½³ï»Éáõ Ù³uÇÝ ÙÇçÝáñ¹áõÃÛáõÝÝ»ñ | T20: =D20+E20 -> 0 | U20: =F20+K20+L20 -> 0 | V20: =K20 -> 0 | W20: =G20+H20+I20+J20 -> 0
A21: 3 | B21: Ñ³ñÏ³¹Çñ µáõÅÙ³Ý ï»ë³ÏÇ ÷á÷áËáõÃÛ³Ý Ù³ëÇÝ ÙÇçÝáñ¹áõÃÛáõÝÝ»ñ | T21: =D21+E21 -> 0 | U21: =F21+K21+L21 -> 0 | V21: =K21 -> 0 | W21: =G21+H21+I21+J21 -> 0
A22: 4 | B22: ³ÛÉ ÙÇçÝáñ¹áõÃÛáõÝÝ»ñ | T22: =D22+E22 -> 0 | U22: =F22+K22+L22 -> 0 | V22: =K22 -> 0 | W22: =G22+H22+I22+J22 -> 0
A23: 5 | B23: ¹³ï³Ï³Ý Ñ³ÝÓÝ³ñ³ñáõÃÛáõÝÝ»ñ | D23: 3 | E23: 1 | L23: 4 | T23: =D23+E23 -> 4 | U23: =F23+K23+L23 -> 4 | V23: =K23 -> 0 | W23: =G23+H23+I23+J23 -> 0
A24: ÀÜ¸²ØºÜÀ | D24: =D7+D8+D9+D10+D11+D12+D13+D14+D15+D17+D19+D20+D21+D22+D23 -> 3 | E24: =E7+E8+E9+E10+E11+E12+E13+E14+E15+E17+E19+E20+E21+E22+E23 -> 27 | F24: =F7+F8+F9+F10+F11+F12+F13+F14+F15+F17+F19+F20+F21+F22+F23 -> 0 | G24: =G7+G8+G9+G10+G11+G12+G13+G14+G15+G17+G19+G20+G21+G22+G23 -> 3 | H24: =H7+H8+H9+H10+H11+H12+H13+H14+H15+H17+H19+H20+H21+H22+H23 -> 23 | I24: =I7+I8+I9+I10+I11+I12+I13+I14+I15+I17+I19+I20+I21+I22+I23 -> 0 | J24: =J7+J8+J9+J10+J11+J12+J13+J14+J15+J17+J19+J20+J21+J22+J23 -> 0 | K24: =K7+K8+K9+K10+K11+K12+K13+K14+K15+K17+K19+K20+K21+K22+K23 -> 26 | ... R24: =R7+R8+R9+R10+R11+R12+R13+R14+R15+R17+R19+R20+R21+R22+R23 -> 0 | T24: =D24+E24 -> 30 | U24: =F24+K24+L24 -> 30 | V24: =K24 -> 26 | W24: =G24+H24+I24+J24 -> 26

Sheet Ն. Կարապետյան
A1: 2017Ã. 1-ÇÝ ÏÇë³ÙÛ³Ï | D1: Ð²ÞìºîìàôÂÚàôÜ | P1: Ð³í»Éí³Í Ð³Û³ëï³ÝÇ Ð³Ýñ³å»ïáõÃÛ³Ý ¸³ï³ñ³ÝÝ»ñÇ Ý³Ë³·³ÑÝ»ñÇ ËáñÑñ¹Ç 25.08.2017Ã. ÃÇí 35-È áñáßÙ³Ý
A2: ØÇÝã¹³ï³Ï³Ý í³ñáõÛÃÇ ÝÏ³ïÙ³Ùµ ¹³ï³Ï³Ý í»ñ³ÑëÏáÕáõÃÛ³ÝÁ, ¹³ï³Ï³Ý ³Ïï»ñÇ ¨ ¹³ï³Ï³Ý Ñ³ÝÓÝ³ñ³ñáõÃÛáõÝÝ»ñÇ Ï³ï³ñÙ³Ý Ñ»ï Ï³åí³Í ÙÇçÝáñ¹áõÃÛáõÝÝ»ñÇ í»ñ³µ»ñÛ³É ¹³ï³Ï³Ý ·áñÍ»ñáí ºñ¨³Ý ù³Õ³ùÇ Ø³É³ÃÇ³-ê»µ³ëïÇ³ í³ñã³Ï³Ý ßñç³ÝÇ ÁÝ¹Ñ³Ýáõñ Çñ³í³ëáõÃÛ³Ý ³é³çÇÝ ³ïÛ³ÝÇ ¹³ï³ñ³ÝÇ ¹³ï³íáñ Ն. Կարապետյանի ·áñÍáõÝ»áõÃÛ³Ý í»ñ³µ»ñÛ³É
A3: êïáõ·Çã Ñ³í³ë³ñáõÙ` 1+2=3+8+9, 8=4+5+6+7, | D3: Ð³ßí»ïáõ Å³Ù³Ý³Ï³Ñ³ïí³ÍÇ ëÏ½µáõÙ Ý³Ëáñ¹ Ñ³ßí»ïáõ Å³Ù³Ý³Ï³Ñ³ïí³ÍÇó ÷áË³Ýóí³Í ·áñÍ»ñÇ ÁÝ¹Ñ³Ýáõñ ÃÇíÁ | E3: Ð³ßí»ïáõ Å³Ù³Ý³Ï³Ñ³ïí³ÍáõÙ ëï³óí³Í ·áñÍ»ñÇ ÁÝ¹Ñ³Ýáõñ ÃÇíÁ | F3: öáË³Ýóí»É ¿ ³ÛÉ ¹³ï³íáñÇ Ï³Ù ³ÛÉ ¹³ï³ñ³Ý (Ï³½ÙÇ ÷á÷áËáõÃÛáõÝ, ÁÝ¹¹³ïáõÃÛáõÝ) | G3: Ð³ßí»ïáõ Å³Ù³Ý³Ï³Ñ³ïí³ÍáõÙ ³í³ñïí³Í ·áñÍ»ñÇ ÁÝ¹Ñ³Ýáõñ ÃÇíÁ | L3: Ð³ßí»ïáõ Å³Ù³Ý³Ï³Ñ³ïí³ÍáõÙ ³Ý³í³ñï ·áñÍ»ñÇ ÁÝ¹Ñ³Ýáõñ ÃÇíÁ | M3: ØÇçÝáñ¹áõÃÛáõÝÝ»ñáí Ï³Û³óí³Í ¹³ï³Ï³Ý ³Ïï»ñÇó µáÕáù³ñÏí³ÍÝ»ñÇ ù³Ý³ÏÁ | O3: ²Ý³í³ñï µáÕáùÝ»ñ | P3: ØÇçÝáñ¹áõÃÛáõÝÝ»ñáí Ï³Û³óí³Í ¨ µáÕáù³ñÏí³Í ¹³ï³Ï³Ý ³Ïï»ñÇó µ»Ï³Ýí³ÍÝ»ñÇ ù³Ý³ÏÁ | R3: ÙÇçÝáñ¹áõÃÛáõÝÝ»ñáí Ï³Û³óí³Í ¨ µáÕáù³ñÏí³Í ¹³ï³Ï³Ý ³Ïï»ñÇó ³Ý÷á÷áË ÃáÕÝí³ÍÝ»ñÇ ù³Ý³ÏÁ
G4: Ù»ñÅí»É ¿ | H4: µ³í³ñ³ñí»É ¿ | I4: µ³í³ñ³ñí»É ¿ Ù³ëÝ³ÏÇ | J4: ÃáÕÝí»É ¿ ³é³Ýó ùÝÝáõÃÛ³Ý | K4: ÀÝ¹³Ù»ÝÁ
M5: Ý³Ëáñ¹ ï³ñÇÝ»ñÇÝ Ï³Û³óí³Í ³Ïï»ñÇ ¹»Ù | N5: Ñ³ßí»ïáõ Å³Ù³Ý³Ï³ßñç³ÝáõÙ Ï³Û³óí³Í ³Ïï»ñÇ ¹»Ù | P5: Ý³Ëáñ¹ ï³ñÇÝ»ñÇÝ Ï³Û³óí³Í ³Ïï»ñÇ µ»Ï³ÝáõÙÝ»ñÁ | Q5: Ñ³ßí»ïáõ Å³Ù³Ý³Ï³ßñç³ÝáõÙ Ï³Û³óí³Í ³Ïï»ñÇ µ»Ï³ÝáõÙÝ»ñÁ
A6: 1. ØÇÝã¹³ï³Ï³Ý í³ñáõÛÃÇ ÝÏ³ïÙ³Ùµ ¹³ï³Ï³Ý í»ñ³ÑëÏáÕáõÃÛ³Ý áÉáñï | D6: 1 | E6: 2 | F6: 3 | G6: 4 | H6: 5 | I6: 6 | J6: 7 | K6: 8 | L6: 9 | M6: 10 | N6: 11 | O6: 12 | P6: 13 | Q6: 14 | R6: 15 | T6: 1+2=3+8+9 | V6: 8=4+5+6+7
A7: 1 | B7: Ï³É³ÝùÁ áñå»ë Ë³÷³ÝÙ³Ý ÙÇçáó ÏÇñ³é»Éáõ Ù³ëÇÝ ÙÇçÝáñ¹áõÃÛáõÝÝ»ñ | T7: =D7+E7 -> 0 | U7: =F7+K7+L7 -> 0 | V7: =K7 -> 0 | W7: =G7+H7+I7+J7 -> 0
A8: 2 | B8: Ï³É³ÝùÇ Å³ÙÏ»ïÁ »ñÏ³ñ³óÝ»Éáõ Ù³ëÇÝ ÙÇçÝáñ¹áõÃÛáõÝÝ»ñ | T8: =D8+E8 -> 0 | U8: =F8+K8+L8 -> 0 | V8: =K8 -> 0 | W8: =G8+H8+I8+J8 -> 0
A9: 3 | B9: Ï³É³ÝùÇ í»ñ³Ñ³ëï³ïÙ³Ý Ù³ëÇÝ ÙÇçÝáñ¹áõÃÛáõÝÝ»ñ | T9: =D9+E9 -> 0 | U9: =F9+K9+L9 -> 0 | V9: =K9 -> 0 | W9: =G9+H9+I9+J9 -> 0
A10: 4 | B10: ·ñ³íÁ áñå»ë Ï³É³Ý³íáñÙ³Ý ³ÛÉÁÝïñ³Ýù³ÛÇÝ Ë³÷³ÝÙ³Ý ÙÇçáó ÏÇñ³é»Éáõ Ù³ëÇÝ ÙÇçÝáñ¹áõÃÛáõÝÝ»ñ | T10: =D10+E10 -> 0 | U10: =F10+K10+L10 -> 0 | V10: =K10 -> 0 | W10: =G10+H10+I10+J10 -> 0
A11: 5 | B11: Ëáõ½³ñÏáõÃÛ³Ý Ï³ï³ñÙ³Ý Ù³ëÇÝ ÙÇçÝáñ¹áõÃÛáõÝÝ»ñ | T11: =D11+E11 -> 0 | U11: =F11+K11+L11 -> 0 | V11: =K11 -> 0 | W11: =G11+H11+I11+J11 -> 0
A12: 6 | B12: µ³ÝÏ³ÛÇÝ, ³å³Ñáí³·ñ³Ï³Ý, Ýáï³ñ³Ï³Ý ·³ÕïÝÇù Ï³½ÙáÕ ï»Õ»ÏáõÃÛáõÝÝ»ñÇ ëï³óÙ³Ý Ñ³Ù³ñ Ëáõ½³ñÏáõÃÛ³Ý Ï³Ù ³é·ñ³íÙ³Ý Ï³ï³ñÙ³Ý Ù³ëÇÝ ÙÇçÝáñ¹áõÃÛáõÝÝ»ñ | T12: =D12+E12 -> 0 | U12: =F12+K12+L12 -> 0 | V12: =K12 -> 0 | W12: =G12+H12+I12+J12 -> 0
A13: 7 | B13: Ý³Ù³Ï³·ñáõÃÛ³Ý, Ñ»é³·ñ³Ï³Ý, ÷áuï³ÛÇÝ Ñ³Õáñ¹áõÙÝ»ñÇ ÑëÏáÕáõÃÛ³Ý Ù³ëÇÝ ÙÇçÝáñ¹áõÃÛáõÝÝ»ñ | T13: =D13+E13 -> 0 | U13: =F13+K13+L13 -> 0 | V13: =K13 -> 0 | W13: =G13+H13+I13+J13 -> 0
A14: 8 | B14: Ñ»é³Ëáu³ÛÇÝ Ï³Ù Ï³åÇ ³ÛÉ ÙÇçáóÝ»ñáí ï³ñíáÕ Ëáu³ÏóáõÃÛáõÝÝ»ñÇ ÉuÙ³Ý ¨ Ó³ÛÝ³·ñ³éÙ³Ý Ù³ëÇÝ ÙÇçÝáñ¹áõÃÛáõÝÝ»ñ | T14: =D14+E14 -> 0 | U14: =F14+K14+L14 -> 0 | V14: =K14 -> 0 | W14: =G14+H14+I14+J14 -> 0
A15: 9 | B15: Ñ»é³ËáëÝ»ñÇ Ùáõïù³ÛÇÝ ¨ »Éù³ÛÇÝ í»ñÍ³ÝÙ³Ý ÃáõÛÉïíáõÃÛáõÝ ëï³Ý³Éáõ Ù³ëÇÝ ÙÇçÝáñ¹áõÃÛáõÝÝ»ñ | T15: =D15+E15 -> 0 | U15: =F15+K15+L15 -> 0 | V15: =K15 -> 0 | W15: =G15+H15+I15+J15 -> 0
A16: 10 | B16: Ñ»ï³ùÝÝáõÃÛ³Ý Ù³ñÙÝÇ ³ßË³ïáÕÇ, ùÝÝÇãÇ, ¹³ï³Ë³½Ç oå»ñ³ïÇí-Ñ»ï³Ëáõ½³Ï³Ý ·áñÍáÕáõÃÛáõÝÝ»ñ Çñ³Ï³Ý³óÝáÕ Ù³ñÙÇÝÝ»ñÇ ³ÝoñÇÝ³Ï³Ý ¨ ³ÝÑÇÙÝ áñáßáõÙÝ»ñÇ ¨ ·áñÍáÕáõÃÛáõÝÝ»ñÇ ¹»Ù µáÕáùÝ»ñ | T16: =D16+E16 -> 0 | U16: =F16+K16+L16 -> 0 | V16: =K16 -> 0 | W16: =G16+H16+I16+J16 -> 0
A17: 11 | B17: ²½³ïáõÃÛáõÝÇó ½ñÏ»Éáõ Çñ³í³ã³÷áõÃÛ³Ý í»ñ³µ»ñÛ³É µáÕáùÝ»ñáí ·áñÍ»ñ | T17: =D17+E17 -> 0 | U17: =F17+K17+L17 -> 0 | V17: =K17 -> 0 | W17: =G17+H17+I17+J17 -> 0
A18: 2. ¸³ï³Ï³Ý ³Ïï»ñÇ ¨ ¹³ï³Ï³Ý Ñ³ÝÓÝ³ñ³ñáõÃÛáõÝÝ»ñÇ Ï³ï³ñÙ³Ý Ñ»ï Ï³åí³Í Ñ³ñó»ñÇ ÉáõÍÙ³Ý áÉáñï
A19: 1 | B19: å³ïÅÇó å³ÛÙ³Ý³Ï³Ý í³Õ³Å³ÙÏ»ï ³½³ï»Éáõ Ù³ëÇÝ ÙÇçÝáñ¹áõÃÛáõÝÝ»ñ | T19: =D19+E19 -> 0 | U19: =F19+K19+L19 -> 0 | V19: =K19 -> 0 | W19: =G19+H19+I19+J19 -> 0
A20: 2 | B20: å³ïÇÅÁ ÷á÷áË»Éáõ, Ñ»ï³Ó·»Éáõ ¨ å³ïÅÇó ³½³ï»Éáõ Ù³uÇÝ ÙÇçÝáñ¹áõÃÛáõÝÝ»ñ | T20: =D20+E20 -> 0 | U20: =F20+K20+L20 -> 0 | V20: =K20 -> 0 | W20: =G20+H20+I20+J20 -> 0
A21: 3 | B21: Ñ³ñÏ³¹Çñ µáõÅÙ³Ý ï»ë³ÏÇ ÷á÷áËáõÃÛ³Ý Ù³ëÇÝ ÙÇçÝáñ¹áõÃÛáõÝÝ»ñ | T21: =D21+E21 -> 0 | U21: =F21+K21+L21 -> 0 | V21: =K21 -> 0 | W21: =G21+H21+I21+J21 -> 0
A22: 4 | B22: ³ÛÉ ÙÇçÝáñ¹áõÃÛáõÝÝ»ñ | T22: =D22+E22 -> 0 | U22: =F22+K22+L22 -> 0 | V22: =K22 -> 0 | W22: =G22+H22+I22+J22 -> 0
A23: 5 | B23: ¹³ï³Ï³Ý Ñ³ÝÓÝ³ñ³ñáõÃÛáõÝÝ»ñ | D23: 4 | H23: 1 | K23: 1 | L23: 3 | T23: =D23+E23 -> 4 | U23: =F23+K23+L23 -> 4 | V23: =K23 -> 1 | W23: =G23+H23+I23+J23 -> 1
A24: ÀÜ¸²ØºÜÀ | D24: =D7+D8+D9+D10+D11+D12+D13+D14+D15+D17+D19+D20+D21+D22+D23 -> 4 | E24: =E7+E8+E9+E10+E11+E12+E13+E14+E15+E17+E19+E20+E21+E22+E23 -> 0 | F24: =F7+F8+F9+F10+F11+F12+F13+F14+F15+F17+F19+F20+F21+F22+F23 -> 0 | G24: =G7+G8+G9+G10+G11+G12+G13+G14+G15+G17+G19+G20+G21+G22+G23 -> 0 | H24: =H7+H8+H9+H10+H11+H12+H13+H14+H15+H17+H19+H20+H21+H22+H23 -> 1 | I24: =I7+I8+I9+I10+I11+I12+I13+I14+I15+I17+I19+I20+I21+I22+I23 -> 0 | J24: =J7+J8+J9+J10+J11+J12+J13+J14+J15+J17+J19+J20+J21+J22+J23 -> 0 | K24: =K7+K8+K9+K10+K11+K12+K13+K14+K15+K17+K19+K20+K21+K22+K23 -> 1 | ... R24: =R7+R8+R9+R10+R11+R12+R13+R14+R15+R17+R19+R20+R21+R22+R23 -> 0 | T24: =D24+E24 -> 4 | U24: =F24+K24+L24 -> 4 | V24: =K24 -> 1 | W24: =G24+H24+I24+J24 -> 1
