Workbook

Sheet Ընդհամենը
A1: Ð²ÞìºîìàôÂÚàôÜ
A2: ÞÆð²ÎÆ Ø²ð¼Æ ÀÜ¸Ð²Üàôð Æð²ì²êàôÂÚ²Ü ²è²æÆÜ ²îÚ²ÜÆ ¸²î²ð²ÜÆ
H3: ¶àðÌàôÜºàôÂÚ²Ü ìºð²´ºðÚ²È êÜ²ÜÎàôÂÚ²Ü ¶àðÌºðՈՎ 2015թ.
A4: ìÇ×³Ï³·ñ³Ï³Ý ïáÕÇ Ñ³Ù³ñÁ | B4: êïáõ·Çã Ñ³í³ë³ñáõÙÝ»ñ` 1+7=8+16+17, 2=3+4, 2=5+6+7, 7=9+10+11+12 | E4: ²Ý³í³ñï ·áñÍ»ñÇ ÙÝ³óáñ¹Á Ñ³ßí»ïáõ Å³Ù³Ý³Ï³ßñç³ÝÇ ëÏ½µáõÙ | F4: êï³óí³Í ¹ÇÙáõÙÝ»ñÇ (·áñÍ»ñ) ù³Ý³ÏÁ | L4: öáË³Ýóí»É ¿ ³ÛÉ ¹³ï³íáñÇ (Ï³½ÙÇ ÷á÷áËáõÃÛáõÝ) | M4: ì³ñáõÛÃ ÁÝ¹áõÝí³Í ¹ÇÙáõÙÝ»ñáí Ï³Û³óí³Í ¹³ï³Ï³Ý ³Ïï»ñ | Q4: Ü»ñÏ³Û³óí»É ¿ ýÇÝ³Ýë³Ï³Ý ³éáÕç³óÙ³Ý Íñ³·Çñ | T4: ²í³ñïí»É »Ý ·áñÍ»ñ Ñ³ßí»ïáõ Å³Ù³Ý³Ï³ßñç³ÝáõÙ | U4: ²Ý³í³ñï ·áñÍ»ñÇ ÙÝ³óáñ¹Á Ñ³ßí»ïáõ Å³Ù³Ý³Ï³ßñç³ÝÇ í»ñçáõÙ | V4: ´áÕáù³ñÏí»É »Ý í»ñ³ùÝÝÇã ¹³ï³ñ³Ý
F6: ÀÝ¹³Ù»ÝÁ | G6: ³Û¹ ÃíáõÙ Ñ³ñÏ³¹ñí³Í ëÝ³ÝÏáõÃÛáõÝ | H6: ³Û¹ ÃíáõÙ Ï³Ù³íáñ ëÝ³ÝÏáõÃÛáõÝ | I6: ëï³óí³Í ¹ÇÙáõÙÝ»ñÇ ÁÝÃ³óùÁ | M6: Ï³Û³óí»É ¿ å³ñï³å³ÝÇÝ ëÝ³ÝÏ ×³Ý³ã»Éáõ Ù³ëÇÝ í×Çé | N6: å³ñï³å³ÝÇÝ ëÝ³ÝÏ ×³Ý³ã»Éáõ ¹ÇÙáõÙÁ Ù»ñÅí»É ¿ | O6: ¹ÇÙáõÙÁ ÃáÕÝí»É ¿ ³é³Ýó ùÝÝáõÃÛ³Ý | P6: ³Ý³í³ñï (³Û¹ ÃíáõÙ Ï³ë»óí³Í) | Q6: ÀÝ¹³Ù»ÝÁ | R6: ÃáÕÝí»É ¿ ³é³Ýó ùÝÝ³ñÏÙ³Ý | S6: Ñ³ëï³ïí»É ¿
I8: ¸ÇÙáõÙÇ ÁÝ¹áõÝáõÙÁ Ù»ñÅí»É ¿ | J8: ¸ÇÙáõÙÁ í»ñ³¹³ñÓí»É ¿ | K8: ÀÝ¹áõÝí»É ¿ í³ñáõÛÃ
E18: 1 | F18: 2 | G18: 3 | H18: 4 | I18: 5 | J18: 6 | K18: 7 | L18: 8 | M18: 9 | N18: 10 | O18: 11 | P18: 12 | Q18: 13 | R18: 14 | S18: 15 | T18: 16 | U18: 17 | V18: 18 | W18: 1+7=8+16+17 | Y18: 2=3+4 | AA18: 2=5+6+7 | AC18: 7=9+10+11+12
A19: 1 | B19: Æñ³í³µ³Ý³Ï³Ý ³ÝÓÇ ëÝ³ÝÏáõÃÛ³Ý í»ñ³µ»ñÛ³É | E19: =#REF!+Ա.Խաչատրյան!E19+Բ.Մկրտչյան!E19 -> #REF! | F19: =#REF!+Ա.Խաչատրյան!F19+Բ.Մկրտչյան!F19 -> #REF! | G19: =#REF!+Ա.Խաչատրյան!G19+Բ.Մկրտչյան!G19 -> #REF! | H19: =#REF!+Ա.Խաչատրյան!H19+Բ.Մկրտչյան!H19 -> #REF! | I19: =#REF!+Ա.Խաչատրյան!I19+Բ.Մկրտչյան!I19 -> #REF! | J19: =#REF!+Ա.Խաչատրյան!J19+Բ.Մկրտչյան!J19 -> #REF! | K19: =#REF!+Ա.Խաչատրյան!K19+Բ.Մկրտչյան!K19 -> #REF! | L19: =#REF!+Ա.Խաչատրյան!L19+Բ.Մկրտչյան!L19 -> #REF! | ... Y19: =#REF!+Ա.Խաչատրյան!Y19+Բ.Մկրտչյան!Y19 -> #REF! | Z19: =G19+H19 -> #REF! | AA19: =#REF!+Ա.Խաչատրյան!AA19+Բ.Մկրտչյան!AA19 -> #REF! | AB19: =#REF!+Ա.Խաչատրյան!AB19+Բ.Մկրտչյան!AB19 -> #REF! | AC19: =#REF!+Ա.Խաչատրյան!AC19+Բ.Մկրտչյան!AC19 -> #REF! | AD19: =#REF!+Ա.Խաչատրյան!AD19+Բ.Մկրտչյան!AD19 -> #REF!
A20: 2 | B20: ²ÝÑ³ï Ó»éÝ»ñ»óÇ ëÝ³ÝÏáõÃÛ³Ý í»ñ³µ»ñÛ³É | E20: =#REF!+Ա.Խաչատրյան!E20+Բ.Մկրտչյան!E20 -> #REF! | F20: =#REF!+Ա.Խաչատրյան!F20+Բ.Մկրտչյան!F20 -> #REF! | G20: =#REF!+Ա.Խաչատրյան!G20+Բ.Մկրտչյան!G20 -> #REF! | H20: =#REF!+Ա.Խաչատրյան!H20+Բ.Մկրտչյան!H20 -> #REF! | I20: =#REF!+Ա.Խաչատրյան!I20+Բ.Մկրտչյան!I20 -> #REF! | J20: =#REF!+Ա.Խաչատրյան!J20+Բ.Մկրտչյան!J20 -> #REF! | K20: =#REF!+Ա.Խաչատրյան!K20+Բ.Մկրտչյան!K20 -> #REF! | L20: =#REF!+Ա.Խաչատրյան!L20+Բ.Մկրտչյան!L20 -> #REF! | ... Y20: =#REF!+Ա.Խաչատրյան!Y20+Բ.Մկրտչյան!Y20 -> #REF! | Z20: =G20+H20 -> #REF! | AA20: =#REF!+Ա.Խաչատրյան!AA20+Բ.Մկրտչյան!AA20 -> #REF! | AB20: =#REF!+Ա.Խաչատրյան!AB20+Բ.Մկրտչյան!AB20 -> #REF! | AC20: =#REF!+Ա.Խաչատրյան!AC20+Բ.Մկրտչյան!AC20 -> #REF! | AD20: =#REF!+Ա.Խաչատրյան!AD20+Բ.Մկրտչյան!AD20 -> #REF!
A21: 3 | B21: üÇ½ÇÏ³Ï³Ý ³ÝÓ³Ýó ëÝ³ÝÏáõÃÛ³Ý í»ñ³µ»ñÛ³É | E21: =#REF!+Ա.Խաչատրյան!E21+Բ.Մկրտչյան!E21 -> #REF! | F21: =#REF!+Ա.Խաչատրյան!F21+Բ.Մկրտչյան!F21 -> #REF! | G21: =#REF!+Ա.Խաչատրյան!G21+Բ.Մկրտչյան!G21 -> #REF! | H21: =#REF!+Ա.Խաչատրյան!H21+Բ.Մկրտչյան!H21 -> #REF! | I21: =#REF!+Ա.Խաչատրյան!I21+Բ.Մկրտչյան!I21 -> #REF! | J21: =#REF!+Ա.Խաչատրյան!J21+Բ.Մկրտչյան!J21 -> #REF! | K21: =#REF!+Ա.Խաչատրյան!K21+Բ.Մկրտչյան!K21 -> #REF! | L21: =#REF!+Ա.Խաչատրյան!L21+Բ.Մկրտչյան!L21 -> #REF! | ... Y21: =#REF!+Ա.Խաչատրյան!Y21+Բ.Մկրտչյան!Y21 -> #REF! | Z21: =G21+H21 -> #REF! | AA21: =#REF!+Ա.Խաչատրյան!AA21+Բ.Մկրտչյան!AA21 -> #REF! | AB21: =#REF!+Ա.Խաչատրյան!AB21+Բ.Մկրտչյան!AB21 -> #REF! | AC21: =#REF!+Ա.Խաչատրյան!AC21+Բ.Մկրտչյան!AC21 -> #REF! | AD21: =#REF!+Ա.Խաչատրյան!AD21+Բ.Մկրտչյան!AD21 -> #REF!
A22: 4 | B22: ԸՆԴՀԱՄԵՆԸ | E22: =#REF!+Ա.Խաչատրյան!E22+Բ.Մկրտչյան!E22 -> #REF! | F22: =#REF!+Ա.Խաչատրյան!F22+Բ.Մկրտչյան!F22 -> #REF! | G22: =#REF!+Ա.Խաչատրյան!G22+Բ.Մկրտչյան!G22 -> #REF! | H22: =#REF!+Ա.Խաչատրյան!H22+Բ.Մկրտչյան!H22 -> #REF! | I22: =#REF!+Ա.Խաչատրյան!I22+Բ.Մկրտչյան!I22 -> #REF! | J22: =#REF!+Ա.Խաչատրյան!J22+Բ.Մկրտչյան!J22 -> #REF! | K22: =#REF!+Ա.Խաչատրյան!K22+Բ.Մկրտչյան!K22 -> #REF! | L22: =#REF!+Ա.Խաչատրյան!L22+Բ.Մկրտչյան!L22 -> #REF! | ... Y22: =#REF!+Ա.Խաչատրյան!Y22+Բ.Մկրտչյան!Y22 -> #REF! | Z22: =G22+H22 -> #REF! | AA22: =#REF!+Ա.Խաչատրյան!AA22+Բ.Մկրտչյան!AA22 -> #REF! | AB22: =#REF!+Ա.Խաչատրյան!AB22+Բ.Մկրտչյան!AB22 -> #REF! | AC22: =#REF!+Ա.Խաչատրյան!AC22+Բ.Մկրտչյան!AC22 -> #REF! | AD22: =#REF!+Ա.Խաչատրյան!AD22+Բ.Մկրտչյան!AD22 -> #REF!

Sheet Ա.Խաչատրյան
A1: Ð²ÞìºîìàôÂÚàôÜ
A2: ÞÆð²ÎÆ Ø²ð¼Æ ÀÜ¸Ð²Üàôð Æð²ì²êàôÂÚ²Ü ²è²æÆÜ ²îÚ²ÜÆ ¸²î²ð²ÜÆ ¸²î²ìàð
A3: ².Ê²â²îðÚ²ÜÆ | H3: ¶àðÌàôÜºàôÂÚ²Ü ìºð²´ºðÚ²È êÜ²ÜÎàôÂÚ²Ü ¶àðÌºðàì 2015թ.
A4: ìÇ×³Ï³·ñ³Ï³Ý ïáÕÇ Ñ³Ù³ñÁ | E4: ²Ý³í³ñï ·áñÍ»ñÇ ÙÝ³óáñ¹Á Ñ³ßí»ïáõ Å³Ù³Ý³Ï³ßñç³ÝÇ ëÏ½µáõÙ | F4: êï³óí³Í ¹ÇÙáõÙÝ»ñÇ (·áñÍ»ñ) ù³Ý³ÏÁ | L4: öáË³Ýóí»É ¿ ³ÛÉ ¹³ï³íáñÇ (Ï³½ÙÇ ÷á÷áËáõÃÛáõÝ) | M4: ì³ñáõÛÃ ÁÝ¹áõÝí³Í ¹ÇÙáõÙÝ»ñáí Ï³Û³óí³Í ¹³ï³Ï³Ý ³Ïï»ñ | Q4: Ü»ñÏ³Û³óí»É ¿ ýÇÝ³Ýë³Ï³Ý ³éáÕç³óÙ³Ý Íñ³·Çñ | T4: ²í³ñïí»É »Ý ·áñÍ»ñ Ñ³ßí»ïáõ Å³Ù³Ý³Ï³ßñç³ÝáõÙ | U4: ²Ý³í³ñï ·áñÍ»ñÇ ÙÝ³óáñ¹Á Ñ³ßí»ïáõ Å³Ù³Ý³Ï³ßñç³ÝÇ í»ñçáõÙ | V4: ´áÕáù³ñÏí»É »Ý í»ñ³ùÝÝÇã ¹³ï³ñ³Ý
F6: ÀÝ¹³Ù»ÝÁ | G6: ³Û¹ ÃíáõÙ Ñ³ñÏ³¹ñí³Í ëÝ³ÝÏáõÃÛáõÝ | H6: ³Û¹ ÃíáõÙ Ï³Ù³íáñ ëÝ³ÝÏáõÃÛáõÝ | I6: ëï³óí³Í ¹ÇÙáõÙÝ»ñÇ ÁÝÃ³óùÁ | M6: Ï³Û³óí»É ¿ å³ñï³å³ÝÇÝ ëÝ³ÝÏ ×³Ý³ã»Éáõ Ù³ëÇÝ í×Çé | N6: å³ñï³å³ÝÇÝ ëÝ³ÝÏ ×³Ý³ã»Éáõ ¹ÇÙáõÙÁ Ù»ñÅí»É ¿ | O6: ¹ÇÙáõÙÁ ÃáÕÝí»É ¿ ³é³Ýó ùÝÝáõÃÛ³Ý | P6: ³Ý³í³ñï (³Û¹ ÃíáõÙ Ï³ë»óí³Í) | Q6: ÀÝ¹³Ù»ÝÁ | R6: ÃáÕÝí»É ¿ ³é³Ýó ùÝÝ³ñÏÙ³Ý | S6: Ñ³ëï³ïí»É ¿
I8: ¸ÇÙáõÙÇ ÁÝ¹áõÝáõÙÁ Ù»ñÅí»É ¿ | J8: ¸ÇÙáõÙÁ í»ñ³¹³ñÓí»É ¿ | K8: ÀÝ¹áõÝí»É ¿ í³ñáõÛÃ
E18: 1 | F18: 2 | G18: 3 | H18: 4 | I18: 5 | J18: 6 | K18: 7 | L18: 8 | M18: 9 | N18: 10 | O18: 11 | P18: 12 | Q18: 13 | R18: 14 | S18: 15 | T18: 16 | U18: 17 | V18: 18 | W18: 1+7=8+16+17 | Y18: 2=3+4 | AA18: 2=5+6+7 | AC18: 7=9+10+11+12
A19: 1 | B19: Æñ³í³µ³Ý³Ï³Ý ³ÝÓÇ ëÝ³ÝÏáõÃÛ³Ý í»ñ³µ»ñÛ³É | E19: 48 | F19: 17 | G19: 17 | K19: 17 | M19: 12 | P19: 5 | T19: 2 | U19: 63 | W19: =E19+K19 -> 65 | X19: =L19+T19+U19 -> 65 | Y19: =F19 -> 17 | Z19: =G19+H19 -> 17 | AA19: =F19 -> 17 | AB19: =I19+J19+K19 -> 17 | AC19: =K19 -> 17 | AD19: =M19+N19+O19+P19 -> 17
A20: 2 | B20: ²ÝÑ³ï Ó»éÝ»ñ»óÇ ëÝ³ÝÏáõÃÛ³Ý í»ñ³µ»ñÛ³É | E20: 23 | F20: 13 | G20: 11 | H20: 2 | I20: 1 | J20: 2 | K20: 10 | M20: 7 | P20: 3 | T20: 1 | U20: 32 | W20: =E20+K20 -> 33 | X20: =L20+T20+U20 -> 33 | Y20: =F20 -> 13 | Z20: =G20+H20 -> 13 | AA20: =F20 -> 13 | AB20: =I20+J20+K20 -> 13 | AC20: =K20 -> 10 | AD20: =M20+N20+O20+P20 -> 10
A21: 3 | B21: üÇ½ÇÏ³Ï³Ý ³ÝÓ³Ýó ëÝ³ÝÏáõÃÛ³Ý í»ñ³µ»ñÛ³É | E21: 66 | F21: 30 | G21: 19 | H21: 11 | J21: 8 | K21: 22 | M21: 18 | P21: 4 | T21: 1 | U21: 87 | W21: =E21+K21 -> 88 | X21: =L21+T21+U21 -> 88 | Y21: =F21 -> 30 | Z21: =G21+H21 -> 30 | AA21: =F21 -> 30 | AB21: =I21+J21+K21 -> 30 | AC21: =K21 -> 22 | AD21: =M21+N21+O21+P21 -> 22
A22: 4 | B22: ԸՆԴՀԱՄԵՆԸ | E22: =SUM(E19:E21) -> 137 | F22: =SUM(F19:F21) -> 60 | G22: =SUM(G19:G21) -> 47 | H22: =SUM(H19:H21) -> 13 | I22: =SUM(I19:I21) -> 1 | J22: =SUM(J19:J21) -> 10 | K22: =SUM(K19:K21) -> 49 | L22: =SUM(L19:L21) -> 0 | ... V22: =SUM(V19:V21) -> 0 | W22: =E22+K22 -> 186 | X22: =L22+T22+U22 -> 186 | Y22: =F22 -> 60 | Z22: =G22+H22 -> 60 | AA22: =F22 -> 60 | AB22: =I22+J22+K22 -> 60 | AC22: =K22 -> 49 | AD22: =M22+N22+O22+P22 -> 49

Sheet Բ.Մկրտչյան
A1: Ð²ÞìºîìàôÂÚàôÜ
A2: ÞÆð²ÎÆ Ø²ð¼Æ ÀÜ¸Ð²Üàôð Æð²ì²êàôÂÚ²Ü ²è²æÆÜ ²îÚ²ÜÆ ¸²î²ð²ÜÆ ¸²î²ìàð
A3: ´. ØÎðîâÚ²ÜÆ | H3: ¶àðÌàôÜºàôÂÚ²Ü ìºð²´ºðÚ²È êÜ²ÜÎàôÂÚ²Ü ¶àðÌºðՈՎ 2015թ.
A4: ìÇ×³Ï³·ñ³Ï³Ý ïáÕÇ Ñ³Ù³ñÁ | E4: ²Ý³í³ñï ·áñÍ»ñÇ ÙÝ³óáñ¹Á Ñ³ßí»ïáõ Å³Ù³Ý³Ï³ßñç³ÝÇ ëÏ½µáõÙ | F4: êï³óí³Í ¹ÇÙáõÙÝ»ñÇ (·áñÍ»ñ) ù³Ý³ÏÁ | L4: öáË³Ýóí»É ¿ ³ÛÉ ¹³ï³íáñÇ (Ï³½ÙÇ ÷á÷áËáõÃÛáõÝ) | M4: ì³ñáõÛÃ ÁÝ¹áõÝí³Í ¹ÇÙáõÙÝ»ñáí Ï³Û³óí³Í ¹³ï³Ï³Ý ³Ïï»ñ | Q4: Ü»ñÏ³Û³óí»É ¿ ýÇÝ³Ýë³Ï³Ý ³éáÕç³óÙ³Ý Íñ³·Çñ | T4: ²í³ñïí»É »Ý ·áñÍ»ñ Ñ³ßí»ïáõ Å³Ù³Ý³Ï³ßñç³ÝáõÙ | U4: ²Ý³í³ñï ·áñÍ»ñÇ ÙÝ³óáñ¹Á Ñ³ßí»ïáõ Å³Ù³Ý³Ï³ßñç³ÝÇ í»ñçáõÙ | V4: ´áÕáù³ñÏí»É »Ý í»ñ³ùÝÝÇã ¹³ï³ñ³Ý
F6: ÀÝ¹³Ù»ÝÁ | G6: ³Û¹ ÃíáõÙ Ñ³ñÏ³¹ñí³Í ëÝ³ÝÏáõÃÛáõÝ | H6: ³Û¹ ÃíáõÙ Ï³Ù³íáñ ëÝ³ÝÏáõÃÛáõÝ | I6: ëï³óí³Í ¹ÇÙáõÙÝ»ñÇ ÁÝÃ³óùÁ | M6: Ï³Û³óí»É ¿ å³ñï³å³ÝÇÝ ëÝ³ÝÏ ×³Ý³ã»Éáõ Ù³ëÇÝ í×Çé | N6: å³ñï³å³ÝÇÝ ëÝ³ÝÏ ×³Ý³ã»Éáõ ¹ÇÙáõÙÁ Ù»ñÅí»É ¿ | O6: ¹ÇÙáõÙÁ ÃáÕÝí»É ¿ ³é³Ýó ùÝÝáõÃÛ³Ý | P6: ³Ý³í³ñï (³Û¹ ÃíáõÙ Ï³ë»óí³Í) | Q6: ÀÝ¹³Ù»ÝÁ | R6: ÃáÕÝí»É ¿ ³é³Ýó ùÝÝ³ñÏÙ³Ý | S6: Ñ³ëï³ïí»É ¿
I8: ¸ÇÙáõÙÇ ÁÝ¹áõÝáõÙÁ Ù»ñÅí»É ¿ | J8: ¸ÇÙáõÙÁ í»ñ³¹³ñÓí»É ¿ | K8: ÀÝ¹áõÝí»É ¿ í³ñáõÛÃ
E18: 1 | F18: 2 | G18: 3 | H18: 4 | I18: 5 | J18: 6 | K18: 7 | L18: 8 | M18: 9 | N18: 10 | O18: 11 | P18: 12 | Q18: 13 | R18: 14 | S18: 15 | T18: 16 | U18: 17 | V18: 18 | W18: 1+7=8+16+17 | Y18: 2=3+4 | AA18: 2=5+6+7 | AC18: 7=9+10+11+12
A19: 1 | B19: Æñ³í³µ³Ý³Ï³Ý ³ÝÓÇ ëÝ³ÝÏáõÃÛ³Ý í»ñ³µ»ñÛ³É | E19: 51 | F19: 19 | G19: 17 | H19: 2 | J19: 1 | K19: 18 | M19: 7 | P19: 10 | T19: 1 | U19: 68 | W19: =E19+K19 -> 69 | X19: =L19+T19+U19 -> 69 | Y19: =F19 -> 19 | Z19: =G19+H19 -> 19 | AA19: =F19 -> 19 | AB19: =I19+J19+K19 -> 19 | AC19: =K19 -> 18 | AD19: =M19+N19+O19+P19 -> 17
A20: 2 | B20: ²ÝÑ³ï Ó»éÝ»ñ»óÇ ëÝ³ÝÏáõÃÛ³Ý í»ñ³µ»ñÛ³É | E20: 22 | F20: 4 | G20: 4 | K20: 4 | M20: 3 | P20: 1 | U20: 26 | W20: =E20+K20 -> 26 | X20: =L20+T20+U20 -> 26 | Y20: =F20 -> 4 | Z20: =G20+H20 -> 4 | AA20: =F20 -> 4 | AB20: =I20+J20+K20 -> 4 | AC20: =K20 -> 4 | AD20: =M20+N20+O20+P20 -> 4
A21: 3 | B21: üÇ½ÇÏ³Ï³Ý ³ÝÓ³Ýó ëÝ³ÝÏáõÃÛ³Ý í»ñ³µ»ñÛ³É | E21: 43 | F21: 25 | G21: 19 | H21: 6 | J21: 2 | K21: 23 | M21: 11 | N21: 3 | P21: 9 | T21: 5 | U21: 61 | W21: =E21+K21 -> 66 | X21: =L21+T21+U21 -> 66 | Y21: =F21 -> 25 | Z21: =G21+H21 -> 25 | AA21: =F21 -> 25 | AB21: =I21+J21+K21 -> 25 | AC21: =K21 -> 23 | AD21: =M21+N21+O21+P21 -> 23
A22: 4 | B22: ԸՆԴՀԱՄԵՆԸ | E22: =SUM(E19:E21) -> 116 | F22: =SUM(F19:F21) -> 48 | G22: =SUM(G19:G21) -> 40 | H22: =SUM(H19:H21) -> 8 | I22: =SUM(I19:I21) -> 0 | J22: =SUM(J19:J21) -> 3 | K22: =SUM(K19:K21) -> 45 | L22: =SUM(L19:L21) -> 0 | ... V22: =SUM(V19:V21) -> 0 | W22: =E22+K22 -> 161 | X22: =L22+T22+U22 -> 161 | Y22: =F22 -> 48 | Z22: =G22+H22 -> 48 | AA22: =F22 -> 48 | AB22: =I22+J22+K22 -> 48 | AC22: =K22 -> 45 | AD22: =M22+N22+O22+P22 -> 44
W23: =+W22-X22 -> 0 | Y23: =+Y22-Z22 -> 0 | AA23: =+AA22-AB22 -> 0 | AC23: =+AC22-AD22 -> 1
