Workbook

Sheet AJAPNYAK
A1: Ð²ÞìºîìàôÂÚàôÜ 2010 Âì²Î²ÜÆ Ð²Ø²ð
A2: ²æ²öÜÚ²Î ºì ¸²ìÂ²ÞºÜ ì²ðâ²Î²Ü Þðæ²ÜÜºðÆ ÀÜ¸Ð²Üàôð Æð²ì²êàôÂÚ²Ü ¸²î²ð²ÜàôØ
A3: êÜ²ÜÎàôÂÚ²Ü ìºð²´ºðÚ²È ¶àðÌºðÆ øÜÜàôÂÚ²Ü Ø²êÆÜ
A4: Հավելված 2 Հայաստանի Հանրապետության Դատարանների նախագահների խորհրդի 2007թ. ¹»Ïï»Ùµ»ñÇ 21-ի թիվ 23Լ որոշման
A6: ìÇ×³Ï³·ñ³Ï³Ý ïáÕÇ Ñ³Ù³ñÁ | B6: êïáõ·Çã Ñ³í³ë³ñáõÙÝ»ñ` 1+2=15+16,2=3+4, 2=5+6+7, 7=8+9+10 | E6: ²Ý³í³ñï ·áñÍ»ñÇ ÙÝ³óáñ¹Á Ñ³ßí»ïáõ Å³Ù³Ý³Ï³ßñç³ÝÇ ëÏ½µáõÙ | F6: êï³óí³Í ¹ÇÙáõÙÝ»ñÇ (·áñÍ»ñ) ù³Ý³ÏÁ | L6: ì³ñáõÛÃ ÁÝ¹áõÝí³Í ¹ÇÙáõÙÝ»ñáí Ï³Û³óí³Í ¹³ï³Ï³Ý ³Ïï»ñ | P6: Ü»ñÏ³Û³óí»É ¿ ýÇÝ³Ýë³Ï³Ý ³éáÕç³óÙ³Ý Íñ³·Çñ | S6: ²í³ñïí»É »Ý ·áñÍ»ñ Ñ³ßí»ïáõ Å³Ù³Ý³Ï³ßñç³ÝáõÙ | T6: ²Ý³í³ñï ·áñÍ»ñÇ ÙÝ³óáñ¹Á Ñ³ßí»ïáõ Å³Ù³Ý³Ï³ßñç³ÝÇ í»ñçáõÙ | U6: ´áÕáù³ñÏí»É »Ý í»ñ³ùÝÝÇã ¹³ï³ñ³Ý
F8: ÀÝ¹³Ù»ÝÁ | G8: ³Û¹ ÃíáõÙ Ñ³ñÏ³¹ñí³Í ëÝ³ÝÏáõÃÛáõÝ | H8: ³Û¹ ÃíáõÙ Ï³Ù³íáñ ëÝ³ÝÏáõÃÛáõÝ | I8: ëï³óí³Í ¹ÇÙáõÙÝ»ñÇ ÁÝÃ³óùÁ | L8: Ï³Û³óí»É ¿ å³ñï³å³ÝÇÝ ëÝ³ÝÏ ×³Ý³ã»Éáõ Ù³ëÇÝ í×Çé | M8: å³ñï³å³ÝÇÝ ëÝ³ÝÏ ×³Ý³ã»Éáõ ¹ÇÙáõÙÁ Ù»ñÅí»É ¿ | N8: ¹ÇÙáõÙÁ ÃáÕÝí»É ¿ ³é³Ýó ùÝÝáõÃÛ³Ý | O8: ³Ý³í³ñï (³Û¹ ÃíáõÙ Ï³ë»óí³Í) | P8: ÀÝ¹³Ù»ÝÁ | Q8: ÃáÕÝí»É ¿ ³é³Ýó ùÝÝ³ñÏÙ³Ý | R8: Ñ³ëï³ïí»É ¿
I10: ¸ÇÙáõÙÇ ÁÝ¹áõÝáõÙÁ Ù»ñÅí»É ¿ | J10: ¸ÇÙáõÙÁ í»ñ³¹³ñÓí»É ¿ | K10: ÀÝ¹áõÝí»É ¿ í³ñáõÛÃ
E20: 1 | F20: 2 | G20: 3 | H20: 4 | I20: 5 | J20: 6 | K20: 7 | L20: 8 | M20: 9 | N20: 10 | O20: 11 | P20: 12 | Q20: 13 | R20: 14 | S20: 15 | T20: 16 | U20: 17
A21: 1 | B21: Æñ³í³µ³Ý³Ï³Ý ³ÝÓÇ ëÝ³ÝÏáõÃÛ³Ý í»ñ³µ»ñÛ³É | E21: 19 | F21: 18 | G21: 15 | H21: 3 | I21: 0 | J21: 8 | K21: 10 | L21: 9 | M21: 1 | N21: 0 | O21: 9 | P21: 1 | Q21: 0 | R21: 1 | S21: 17 | T21: 20 | U21: 1
A22: 2 | B22: ²ÝÑ³ï Ó»éÝ»ñ»óÇ ëÝ³ÝÏáõÃÛ³Ý í»ñ³µ»ñÛ³É | E22: 3 | F22: 0 | G22: 0 | H22: 0 | I22: 0 | J22: 0 | K22: 0 | L22: 0 | M22: 0 | N22: 0 | O22: 0 | P22: 0 | Q22: 0 | R22: 0 | S22: 1 | T22: 2 | U22: 0
A23: 3 | B23: üÇ½ÇÏ³Ï³Ý ³ÝÓ³Ýó ëÝ³ÝÏáõÃÛ³Ý í»ñ³µ»ñÛ³É | E23: 13 | F23: 6 | G23: 6 | H23: 0 | I23: 0 | J23: 4 | K23: 2 | L23: 2 | M23: 0 | N23: 0 | O23: 0 | P23: 0 | Q23: 0 | R23: 0 | S23: 11 | T23: 8 | U23: 3

Sheet Kentron
A1: Ð²ÞìºîìàôÂÚàôÜ
A2: ÀÜ¸Ð²Üàôð Æð²ì²êàôÂÚ²Ü ¸²î²ð²ÜàôØ
A3: êÜ²ÜÎàôÂÚ²Ü ìºð²´ºðÚ²È ¶àðÌºðÆ øÜÜàôÂÚ²Ü Ø²êÆÜ
A4: 2010Ã. տարվա Ñ³Ù³ñ
A6: ìÇ×³Ï³·ñ³Ï³Ý ïáÕÇ Ñ³Ù³ñÁ | B6: êïáõ·Çã Ñ³í³ë³ñáõÙÝ»ñ` 1+2=15+16,2=3+4, 2=5+6+7, 7=8+9+10+11 | E6: ²Ý³í³ñï ·áñÍ»ñÇ ÙÝ³óáñ¹Á Ñ³ßí»ïáõ Å³Ù³Ý³Ï³ßñç³ÝÇ ëÏ½µáõÙ | F6: êï³óí³Í ¹ÇÙáõÙÝ»ñÇ (·áñÍ»ñ) ù³Ý³ÏÁ | L6: ì³ñáõÛÃ ÁÝ¹áõÝí³Í ¹ÇÙáõÙÝ»ñáí Ï³Û³óí³Í ¹³ï³Ï³Ý ³Ïï»ñ | P6: Ü»ñÏ³Û³óí»É ¿ ýÇÝ³Ýë³Ï³Ý ³éáÕç³óÙ³Ý Íñ³·Çñ | S6: ²í³ñïí»É »Ý ·áñÍ»ñ Ñ³ßí»ïáõ Å³Ù³Ý³Ï³ßñç³ÝáõÙ | T6: ²Ý³í³ñï ·áñÍ»ñÇ ÙÝ³óáñ¹Á Ñ³ßí»ïáõ Å³Ù³Ý³Ï³ßñç³ÝÇ í»ñçáõÙ | U6: ´áÕáù³ñÏí»É »Ý í»ñ³ùÝÝÇã ¹³ï³ñ³Ý
F8: ÀÝ¹³Ù»ÝÁ | G8: ³Û¹ ÃíáõÙ Ñ³ñÏ³¹ñí³Í ëÝ³ÝÏáõÃÛáõÝ | H8: ³Û¹ ÃíáõÙ Ï³Ù³íáñ ëÝ³ÝÏáõÃÛáõÝ | I8: ëï³óí³Í ¹ÇÙáõÙÝ»ñÇ ÁÝÃ³óùÁ | L8: Ï³Û³óí»É ¿ å³ñï³å³ÝÇÝ ëÝ³ÝÏ ×³Ý³ã»Éáõ Ù³ëÇÝ í×Çé | M8: å³ñï³å³ÝÇÝ ëÝ³ÝÏ ×³Ý³ã»Éáõ ¹ÇÙáõÙÁ Ù»ñÅí»É ¿ | N8: ¹ÇÙáõÙÁ ÃáÕÝí»É ¿ ³é³Ýó ùÝÝáõÃÛ³Ý | O8: ³Ý³í³ñï (³Û¹ ÃíáõÙ Ï³ë»óí³Í) | P8: ÀÝ¹³Ù»ÝÁ | Q8: ÃáÕÝí»É ¿ ³é³Ýó ùÝÝ³ñÏÙ³Ý | R8: Ñ³ëï³ïí»É ¿
I10: ¸ÇÙáõÙÇ ÁÝ¹áõÝáõÙÁ Ù»ñÅí»É ¿ | J10: ¸ÇÙáõÙÁ í»ñ³¹³ñÓí»É ¿ | K10: ÀÝ¹áõÝí»É ¿ í³ñáõÛÃ
E20: 1 | F20: 2 | G20: 3 | H20: 4 | I20: 5 | J20: 6 | K20: 7 | L20: 8 | M20: 9 | N20: 10 | O20: 11 | P20: 12 | Q20: 13 | R20: 14 | S20: 15 | T20: 16 | U20: 17
A21: 1 | B21: Æñ³í³µ³Ý³Ï³Ý ³ÝÓÇ ëÝ³ÝÏáõÃÛ³Ý í»ñ³µ»ñÛ³É | E21: 116 | F21: 58 | G21: 53 | H21: 5 | I21: 1 | J21: 7 | K21: 50 | L21: 21 | M21: 0 | N21: 0 | O21: 29 | P21: 0 | Q21: 0 | R21: 1 | S21: 18 | T21: 156 | U21: 9
A22: 2 | B22: ²ÝÑ³ï Ó»éÝ»ñ»óÇ ëÝ³ÝÏáõÃÛ³Ý í»ñ³µ»ñÛ³É | E22: 0 | F22: 0 | G22: 0 | H22: 0 | I22: 0 | J22: 0 | K22: 0 | L22: 0 | M22: 0 | N22: 0 | O22: 0 | P22: 0 | Q22: 0 | R22: 0 | S22: 0 | T22: 0 | U22: 0
A23: 3 | B23: üÇ½ÇÏ³Ï³Ý ³ÝÓ³Ýó ëÝ³ÝÏáõÃÛ³Ý í»ñ³µ»ñÛ³É | E23: 43 | F23: 38 | G23: 27 | H23: 11 | I23: 2 | J23: 10 | K23: 26 | L23: 17 | M23: 0 | N23: 0 | O23: 9 | P23: 0 | Q23: 0 | R23: 0 | S23: 12 | T23: 69 | U23: 4

Sheet Shengavit
A1: Ð²ÞìºîìàôÂÚàôÜ
A2: ՀՀ ԵՐԵՎԱՆԻ ՇԵՆԳԱՎԻԹ ՎԱՐՉԱԿԱՆ ՇՐՋԱՆԻ ÀÜ¸Ð²Üàôð Æð²ì²êàôÂÚ²Ü ¸²î²ð²ÜàôØ
A3: 2010թ.-ի êÜ²ÜÎàôÂÚ²Ü ìºð²´ºðÚ²È ¶àðÌºðÆ øÜÜàôÂÚ²Ü Ø²êÆÜ
A4: Հավելված 2 Հայաստանի Հանրապետության Դատարանների նախագահների խորհրդի 2007թ. ¹»Ïï»Ùµ»ñÇ 21-ի թիվ 23Լ որոշման
A6: ìÇ×³Ï³·ñ³Ï³Ý ïáÕÇ Ñ³Ù³ñÁ | B6: êïáõ·Çã Ñ³í³ë³ñáõÙÝ»ñ` 1+2=15+16,2=3+4, 2=5+6+7, 7=8+9+10+11 | E6: ²Ý³í³ñï ·áñÍ»ñÇ ÙÝ³óáñ¹Á Ñ³ßí»ïáõ Å³Ù³Ý³Ï³ßñç³ÝÇ ëÏ½µáõÙ | F6: êï³óí³Í ¹ÇÙáõÙÝ»ñÇ (·áñÍ»ñ) ù³Ý³ÏÁ | L6: ì³ñáõÛÃ ÁÝ¹áõÝí³Í ¹ÇÙáõÙÝ»ñáí Ï³Û³óí³Í ¹³ï³Ï³Ý ³Ïï»ñ | P6: Ü»ñÏ³Û³óí»É ¿ ýÇÝ³Ýë³Ï³Ý ³éáÕç³óÙ³Ý Íñ³·Çñ | S6: ²í³ñïí»É »Ý ·áñÍ»ñ Ñ³ßí»ïáõ Å³Ù³Ý³Ï³ßñç³ÝáõÙ | T6: ²Ý³í³ñï ·áñÍ»ñÇ ÙÝ³óáñ¹Á Ñ³ßí»ïáõ Å³Ù³Ý³Ï³ßñç³ÝÇ í»ñçáõÙ | U6: ´áÕáù³ñÏí»É »Ý í»ñ³ùÝÝÇã ¹³ï³ñ³Ý
F8: ÀÝ¹³Ù»ÝÁ | G8: ³Û¹ ÃíáõÙ Ñ³ñÏ³¹ñí³Í ëÝ³ÝÏáõÃÛáõÝ | H8: ³Û¹ ÃíáõÙ Ï³Ù³íáñ ëÝ³ÝÏáõÃÛáõÝ | I8: ëï³óí³Í ¹ÇÙáõÙÝ»ñÇ ÁÝÃ³óùÁ | L8: Ï³Û³óí»É ¿ å³ñï³å³ÝÇÝ ëÝ³ÝÏ ×³Ý³ã»Éáõ Ù³ëÇÝ í×Çé | M8: å³ñï³å³ÝÇÝ ëÝ³ÝÏ ×³Ý³ã»Éáõ ¹ÇÙáõÙÁ Ù»ñÅí»É ¿ | N8: ¹ÇÙáõÙÁ ÃáÕÝí»É ¿ ³é³Ýó ùÝÝáõÃÛ³Ý | O8: ³Ý³í³ñï (³Û¹ ÃíáõÙ Ï³ë»óí³Í) | P8: ÀÝ¹³Ù»ÝÁ | Q8: ÃáÕÝí»É ¿ ³é³Ýó ùÝÝ³ñÏÙ³Ý | R8: Ñ³ëï³ïí»É ¿
I10: ¸ÇÙáõÙÇ ÁÝ¹áõÝáõÙÁ Ù»ñÅí»É ¿ | J10: ¸ÇÙáõÙÁ í»ñ³¹³ñÓí»É ¿ | K10: ÀÝ¹áõÝí»É ¿ í³ñáõÛÃ
E20: 1 | F20: 2 | G20: 3 | H20: 4 | I20: 5 | J20: 6 | K20: 7 | L20: 8 | M20: 9 | N20: 10 | O20: 11 | P20: 12 | Q20: 13 | R20: 14 | S20: 15 | T20: 16 | U20: 17
A21: 1 | B21: Æñ³í³µ³Ý³Ï³Ý ³ÝÓÇ ëÝ³ÝÏáõÃÛ³Ý í»ñ³µ»ñÛ³É | E21: 37 | F21: 16 | G21: 16 | H21: 0 | I21: 0 | J21: 0 | K21: 16 | L21: 10 | M21: 0 | N21: 0 | O21: 6 | P21: 0 | Q21: 0 | R21: 0 | S21: 11 | T21: 42 | U21: 0
A22: 2 | B22: ²ÝÑ³ï Ó»éÝ»ñ»óÇ ëÝ³ÝÏáõÃÛ³Ý í»ñ³µ»ñÛ³É | E22: 5 | F22: 1 | G22: 0 | H22: 1 | I22: 0 | J22: 0 | K22: 1 | L22: 1 | M22: 0 | N22: 0 | O22: 0 | P22: 0 | Q22: 0 | R22: 0 | S22: 3 | T22: 3 | U22: 0
A23: 3 | B23: üÇ½ÇÏ³Ï³Ý ³ÝÓ³Ýó ëÝ³ÝÏáõÃÛ³Ý í»ñ³µ»ñÛ³É | E23: 24 | F23: 35 | G23: 33 | H23: 2 | I23: 0 | J23: 6 | K23: 29 | L23: 25 | M23: 0 | N23: 0 | O23: 4 | P23: 0 | Q23: 0 | R23: 0 | S23: 23 | T23: 36 | U23: 2

Sheet Arabkir
A1: Ð²ÞìºîìàôÂÚàôÜ
A2: ÀÜ¸Ð²Üàôð Æð²ì²êàôÂÚ²Ü ¸²î²ð²ÜàôØ
A3: êÜ²ÜÎàôÂÚ²Ü ìºð²´ºðÚ²È ¶àðÌºðÆ øÜÜàôÂÚ²Ü Ø²êÆÜ
A4: Հավելված 2 Հայաստանի Հանրապետության Դատարանների նախագահների խորհրդի 2007թ. ¹»Ïï»Ùµ»ñÇ 21-ի թիվ 23Լ որոշման
A6: ìÇ×³Ï³·ñ³Ï³Ý ïáÕÇ Ñ³Ù³ñÁ | B6: êïáõ·Çã Ñ³í³ë³ñáõÙÝ»ñ` 1+2=15+16,2=3+4, 2=5+6+7, 7=8+9+10+11 | E6: ²Ý³í³ñï ·áñÍ»ñÇ ÙÝ³óáñ¹Á Ñ³ßí»ïáõ Å³Ù³Ý³Ï³ßñç³ÝÇ ëÏ½µáõÙ | F6: êï³óí³Í ¹ÇÙáõÙÝ»ñÇ (·áñÍ»ñ) ù³Ý³ÏÁ | L6: ì³ñáõÛÃ ÁÝ¹áõÝí³Í ¹ÇÙáõÙÝ»ñáí Ï³Û³óí³Í ¹³ï³Ï³Ý ³Ïï»ñ | P6: Ü»ñÏ³Û³óí»É ¿ ýÇÝ³Ýë³Ï³Ý ³éáÕç³óÙ³Ý Íñ³·Çñ | S6: ²í³ñïí»É »Ý ·áñÍ»ñ Ñ³ßí»ïáõ Å³Ù³Ý³Ï³ßñç³ÝáõÙ | T6: ²Ý³í³ñï ·áñÍ»ñÇ ÙÝ³óáñ¹Á Ñ³ßí»ïáõ Å³Ù³Ý³Ï³ßñç³ÝÇ í»ñçáõÙ | U6: ´áÕáù³ñÏí»É »Ý í»ñ³ùÝÝÇã ¹³ï³ñ³Ý
F8: ÀÝ¹³Ù»ÝÁ | G8: ³Û¹ ÃíáõÙ Ñ³ñÏ³¹ñí³Í ëÝ³ÝÏáõÃÛáõÝ | H8: ³Û¹ ÃíáõÙ Ï³Ù³íáñ ëÝ³ÝÏáõÃÛáõÝ | I8: ëï³óí³Í ¹ÇÙáõÙÝ»ñÇ ÁÝÃ³óùÁ | L8: Ï³Û³óí»É ¿ å³ñï³å³ÝÇÝ ëÝ³ÝÏ ×³Ý³ã»Éáõ Ù³ëÇÝ í×Çé | M8: å³ñï³å³ÝÇÝ ëÝ³ÝÏ ×³Ý³ã»Éáõ ¹ÇÙáõÙÁ Ù»ñÅí»É ¿ | N8: ¹ÇÙáõÙÁ ÃáÕÝí»É ¿ ³é³Ýó ùÝÝáõÃÛ³Ý | O8: ³Ý³í³ñï (³Û¹ ÃíáõÙ Ï³ë»óí³Í) | P8: ÀÝ¹³Ù»ÝÁ | Q8: ÃáÕÝí»É ¿ ³é³Ýó ùÝÝ³ñÏÙ³Ý | R8: Ñ³ëï³ïí»É ¿
I10: ¸ÇÙáõÙÇ ÁÝ¹áõÝáõÙÁ Ù»ñÅí»É ¿ | J10: ¸ÇÙáõÙÁ í»ñ³¹³ñÓí»É ¿ | K10: ÀÝ¹áõÝí»É ¿ í³ñáõÛÃ
E20: 1 | F20: 2 | G20: 3 | H20: 4 | I20: 5 | J20: 6 | K20: 7 | L20: 8 | M20: 9 | N20: 10 | O20: 11 | P20: 12 | Q20: 13 | R20: 14 | S20: 15 | T20: 16 | U20: 17
A21: 1 | B21: Æñ³í³µ³Ý³Ï³Ý ³ÝÓÇ ëÝ³ÝÏáõÃÛ³Ý í»ñ³µ»ñÛ³É | E21: 77 | F21: 41 | G21: 38 | H21: 3 | I21: 0 | J21: 9 | K21: 32 | L21: 12 | M21: 0 | N21: 0 | O21: 20 | P21: 0 | Q21: 0 | R21: 0 | S21: 41 | T21: 77 | U21: 2
A22: 2 | B22: ²ÝÑ³ï Ó»éÝ»ñ»óÇ ëÝ³ÝÏáõÃÛ³Ý í»ñ³µ»ñÛ³É | E22: 6 | F22: 1 | G22: 0 | H22: 1 | I22: 1 | J22: 0 | K22: 0 | L22: 0 | M22: 0 | N22: 0 | O22: 0 | P22: 0 | Q22: 0 | R22: 0 | S22: 1 | T22: 6 | U22: 0
A23: 3 | B23: üÇ½ÇÏ³Ï³Ý ³ÝÓ³Ýó ëÝ³ÝÏáõÃÛ³Ý í»ñ³µ»ñÛ³É | E23: 45 | F23: 10 | G23: 0 | H23: 10 | I23: 0 | J23: 3 | K23: 7 | L23: 0 | M23: 5 | N23: 0 | O23: 2 | P23: 0 | Q23: 0 | R23: 0 | S23: 7 | T23: 48 | U23: 4

Sheet Erebuni
A1: Ð²ÞìºîìàôÂÚàôÜ
A2: ԷՐԵԲՈՒՆԻ և ՆՈՒԲԱՐԱՇԵՆ ՎԱՐՉ. ՇՐՋ. ÀÜ¸Ð²Üàôð Æð²ì²êàôÂÚ²Ü ¸²î²ð²ÜàôØ 2010թ
A3: êÜ²ÜÎàôÂÚ²Ü ìºð²´ºðÚ²È ¶àðÌºðÆ øÜÜàôÂÚ²Ü Ø²êÆÜ
A4: Հավելված 2 Հայաստանի Հանրապետության Դատարանների նախագահների խորհրդի 2007թ. ¹»Ïï»Ùµ»ñÇ 21-ի թիվ 23Լ որոշման
A6: ìÇ×³Ï³·ñ³Ï³Ý ïáÕÇ Ñ³Ù³ñÁ | B6: êïáõ·Çã Ñ³í³ë³ñáõÙÝ»ñ` 1+2=15+16,2=3+4, 2=5+6+7, 7=8+9+10+11 | E6: ²Ý³í³ñï ·áñÍ»ñÇ ÙÝ³óáñ¹Á Ñ³ßí»ïáõ Å³Ù³Ý³Ï³ßñç³ÝÇ ëÏ½µáõÙ | F6: êï³óí³Í ¹ÇÙáõÙÝ»ñÇ (·áñÍ»ñ) ù³Ý³ÏÁ | L6: ì³ñáõÛÃ ÁÝ¹áõÝí³Í ¹ÇÙáõÙÝ»ñáí Ï³Û³óí³Í ¹³ï³Ï³Ý ³Ïï»ñ | P6: Ü»ñÏ³Û³óí»É ¿ ýÇÝ³Ýë³Ï³Ý ³éáÕç³óÙ³Ý Íñ³·Çñ | S6: ²í³ñïí»É »Ý ·áñÍ»ñ Ñ³ßí»ïáõ Å³Ù³Ý³Ï³ßñç³ÝáõÙ | T6: ²Ý³í³ñï ·áñÍ»ñÇ ÙÝ³óáñ¹Á Ñ³ßí»ïáõ Å³Ù³Ý³Ï³ßñç³ÝÇ í»ñçáõÙ | U6: ´áÕáù³ñÏí»É »Ý í»ñ³ùÝÝÇã ¹³ï³ñ³Ý
F8: ÀÝ¹³Ù»ÝÁ | G8: ³Û¹ ÃíáõÙ Ñ³ñÏ³¹ñí³Í ëÝ³ÝÏáõÃÛáõÝ | H8: ³Û¹ ÃíáõÙ Ï³Ù³íáñ ëÝ³ÝÏáõÃÛáõÝ | I8: ëï³óí³Í ¹ÇÙáõÙÝ»ñÇ ÁÝÃ³óùÁ | L8: Ï³Û³óí»É ¿ å³ñï³å³ÝÇÝ ëÝ³ÝÏ ×³Ý³ã»Éáõ Ù³ëÇÝ í×Çé | M8: å³ñï³å³ÝÇÝ ëÝ³ÝÏ ×³Ý³ã»Éáõ ¹ÇÙáõÙÁ Ù»ñÅí»É ¿ | N8: ¹ÇÙáõÙÁ ÃáÕÝí»É ¿ ³é³Ýó ùÝÝáõÃÛ³Ý | O8: ³Ý³í³ñï (³Û¹ ÃíáõÙ Ï³ë»óí³Í) | P8: ÀÝ¹³Ù»ÝÁ | Q8: ÃáÕÝí»É ¿ ³é³Ýó ùÝÝ³ñÏÙ³Ý | R8: Ñ³ëï³ïí»É ¿
I10: ¸ÇÙáõÙÇ ÁÝ¹áõÝáõÙÁ Ù»ñÅí»É ¿ | J10: ¸ÇÙáõÙÁ í»ñ³¹³ñÓí»É ¿ | K10: ÀÝ¹áõÝí»É ¿ í³ñáõÛÃ
E20: 1 | F20: 2 | G20: 3 | H20: 4 | I20: 5 | J20: 6 | K20: 7 | L20: 8 | M20: 9 | N20: 10 | O20: 11 | P20: 12 | Q20: 13 | R20: 14 | S20: 15 | T20: 16 | U20: 17
A21: 1 | B21: Æñ³í³µ³Ý³Ï³Ý ³ÝÓÇ ëÝ³ÝÏáõÃÛ³Ý í»ñ³µ»ñÛ³É | E21: 25 | F21: 5 | G21: 5 | H21: 0 | I21: 0 | J21: 0 | K21: 5 | L21: 3 | M21: 0 | N21: 0 | O21: 2 | P21: 0 | Q21: 0 | R21: 0 | S21: 7 | T21: 23 | U21: 1
A22: 2 | B22: ²ÝÑ³ï Ó»éÝ»ñ»óÇ ëÝ³ÝÏáõÃÛ³Ý í»ñ³µ»ñÛ³É | E22: 2 | F22: 0 | G22: 0 | H22: 0 | I22: 0 | J22: 0 | K22: 0 | L22: 0 | M22: 0 | N22: 0 | O22: 0 | P22: 0 | Q22: 0 | R22: 0 | S22: 1 | T22: 1 | U22: 0
A23: 3 | B23: üÇ½ÇÏ³Ï³Ý ³ÝÓ³Ýó ëÝ³ÝÏáõÃÛ³Ý í»ñ³µ»ñÛ³É | E23: 34 | F23: 26 | G23: 19 | H23: 7 | I23: 0 | J23: 11 | K23: 15 | L23: 12 | M23: 0 | N23: 0 | O23: 3 | P23: 0 | Q23: 0 | R23: 0 | S23: 23 | T23: 37 | U23: 2

Sheet Malatya
A1: Ð²ÞìºîìàôÂÚàôÜ
A2: ÀÜ¸Ð²Üàôð Æð²ì²êàôÂÚ²Ü ¸²î²ð²ÜàôØ
A3: êÜ²ÜÎàôÂÚ²Ü ìºð²´ºðÚ²È ¶àðÌºðÆ øÜÜàôÂÚ²Ü Ø²êÆÜ
A4: Հավելված 2 Հայաստանի Հանրապետության Դատարանների նախագահների խորհրդի 2007թ. ¹»Ïï»Ùµ»ñÇ 21-ի թիվ 23Լ որոշման
A6: ìÇ×³Ï³·ñ³Ï³Ý ïáÕÇ Ñ³Ù³ñÁ | B6: êïáõ·Çã Ñ³í³ë³ñáõÙÝ»ñ` 1+2=15+16,2=3+4, 2=5+6+7, 7=8+9+10+11 | E6: ²Ý³í³ñï ·áñÍ»ñÇ ÙÝ³óáñ¹Á Ñ³ßí»ïáõ Å³Ù³Ý³Ï³ßñç³ÝÇ ëÏ½µáõÙ | F6: êï³óí³Í ¹ÇÙáõÙÝ»ñÇ (·áñÍ»ñ) ù³Ý³ÏÁ | L6: ì³ñáõÛÃ ÁÝ¹áõÝí³Í ¹ÇÙáõÙÝ»ñáí Ï³Û³óí³Í ¹³ï³Ï³Ý ³Ïï»ñ | P6: Ü»ñÏ³Û³óí»É ¿ ýÇÝ³Ýë³Ï³Ý ³éáÕç³óÙ³Ý Íñ³·Çñ | S6: ²í³ñïí»É »Ý ·áñÍ»ñ Ñ³ßí»ïáõ Å³Ù³Ý³Ï³ßñç³ÝáõÙ | T6: ²Ý³í³ñï ·áñÍ»ñÇ ÙÝ³óáñ¹Á Ñ³ßí»ïáõ Å³Ù³Ý³Ï³ßñç³ÝÇ í»ñçáõÙ | U6: ´áÕáù³ñÏí»É »Ý í»ñ³ùÝÝÇã ¹³ï³ñ³Ý
F8: ÀÝ¹³Ù»ÝÁ | G8: ³Û¹ ÃíáõÙ Ñ³ñÏ³¹ñí³Í ëÝ³ÝÏáõÃÛáõÝ | H8: ³Û¹ ÃíáõÙ Ï³Ù³íáñ ëÝ³ÝÏáõÃÛáõÝ | I8: ëï³óí³Í ¹ÇÙáõÙÝ»ñÇ ÁÝÃ³óùÁ | L8: Ï³Û³óí»É ¿ å³ñï³å³ÝÇÝ ëÝ³ÝÏ ×³Ý³ã»Éáõ Ù³ëÇÝ í×Çé | M8: å³ñï³å³ÝÇÝ ëÝ³ÝÏ ×³Ý³ã»Éáõ ¹ÇÙáõÙÁ Ù»ñÅí»É ¿ | N8: ¹ÇÙáõÙÁ ÃáÕÝí»É ¿ ³é³Ýó ùÝÝáõÃÛ³Ý | O8: ³Ý³í³ñï (³Û¹ ÃíáõÙ Ï³ë»óí³Í) | P8: ÀÝ¹³Ù»ÝÁ | Q8: ÃáÕÝí»É ¿ ³é³Ýó ùÝÝ³ñÏÙ³Ý | R8: Ñ³ëï³ïí»É ¿
I10: ¸ÇÙáõÙÇ ÁÝ¹áõÝáõÙÁ Ù»ñÅí»É ¿ | J10: ¸ÇÙáõÙÁ í»ñ³¹³ñÓí»É ¿ | K10: ÀÝ¹áõÝí»É ¿ í³ñáõÛÃ
E20: 1 | F20: 2 | G20: 3 | H20: 4 | I20: 5 | J20: 6 | K20: 7 | L20: 8 | M20: 9 | N20: 10 | O20: 11 | P20: 12 | Q20: 13 | R20: 14 | S20: 15 | T20: 16 | U20: 17
A21: 1 | B21: Æñ³í³µ³Ý³Ï³Ý ³ÝÓÇ ëÝ³ÝÏáõÃÛ³Ý í»ñ³µ»ñÛ³É | E21: 10 | F21: 7 | G21: 5 | H21: 2 | I21: =-I21 -> 0 | J21: 1 | K21: 6 | L21: 6 | M21: 0 | N21: 0 | O21: 0 | P21: 0 | Q21: 0 | R21: 0 | S21: 3 | T21: 14 | U21: 0
A22: 2 | B22: ²ÝÑ³ï Ó»éÝ»ñ»óÇ ëÝ³ÝÏáõÃÛ³Ý í»ñ³µ»ñÛ³É | E22: 2 | F22: 5 | G22: 5 | H22: 0 | I22: 0 | J22: 1 | K22: 4 | L22: 3 | M22: 1 | N22: 0 | O22: 0 | P22: 0 | Q22: 0 | R22: 0 | S22: 2 | T22: 5 | U22: 0
A23: 3 | B23: üÇ½ÇÏ³Ï³Ý ³ÝÓ³Ýó ëÝ³ÝÏáõÃÛ³Ý í»ñ³µ»ñÛ³É | E23: 8 | F23: 12 | G23: 11 | H23: 1 | I23: 0 | J23: 1 | K23: 11 | L23: 9 | M23: 1 | N23: 0 | O23: 1 | P23: 0 | Q23: 0 | R23: 0 | S23: 8 | T23: 12 | U23: 1

Sheet Avan
A4: ºðºì²Ü ø²Ô²øÆ ²ì²Ü ºì Üàð Üàð ì²ðâ²Î²Ü Þðæ²ÜÜºðÆ ÀÜ¸Ð²Üàôð Æð²ì²êàôÂÚ²Ü ¸²î²ð²ÜÆ
A5: êÜ²ÜÎàôÂÚ²Ü ìºð²´ºðÚ²È î²ðºÎ²Ü ¶àðÌºðÆ øÜÜàôÂÚ²Ü Ø²êÆÜ
A7: ìÇ×³Ï³·ñ³Ï³Ý ïáÕÇ Ñ³Ù³ñÁ | B7: êïáõ·Çã Ñ³í³ë³ñáõÙÝ»ñ` 1+2=15+16,2=3+4, 2=5+6+7, 7=8+9+10+11 | E7: ²Ý³í³ñï ·áñÍ»ñÇ ÙÝ³óáñ¹Á Ñ³ßí»ïáõ Å³Ù³Ý³Ï³ßñç³ÝÇ ëÏ½µáõÙ | F7: êï³óí³Í ¹ÇÙáõÙÝ»ñÇ (·áñÍ»ñ) ù³Ý³ÏÁ | L7: ì³ñáõÛÃ ÁÝ¹áõÝí³Í ¹ÇÙáõÙÝ»ñáí Ï³Û³óí³Í ¹³ï³Ï³Ý ³Ïï»ñ | P7: Ü»ñÏ³Û³óí»É ¿ ýÇÝ³Ýë³Ï³Ý ³éáÕç³óÙ³Ý Íñ³·Çñ | S7: ²í³ñïí»É »Ý ·áñÍ»ñ Ñ³ßí»ïáõ Å³Ù³Ý³Ï³ßñç³ÝáõÙ | T7: ²Ý³í³ñï ·áñÍ»ñÇ ÙÝ³óáñ¹Á Ñ³ßí»ïáõ Å³Ù³Ý³Ï³ßñç³ÝÇ í»ñçáõÙ | U7: ´áÕáù³ñÏí»É »Ý í»ñ³ùÝÝÇã ¹³ï³ñ³Ý
F9: ÀÝ¹³Ù»ÝÁ | G9: ³Û¹ ÃíáõÙ Ñ³ñÏ³¹ñí³Í ëÝ³ÝÏáõÃÛáõÝ | H9: ³Û¹ ÃíáõÙ Ï³Ù³íáñ ëÝ³ÝÏáõÃÛáõÝ | I9: ëï³óí³Í ¹ÇÙáõÙÝ»ñÇ ÁÝÃ³óùÁ | L9: Ï³Û³óí»É ¿ å³ñï³å³ÝÇÝ ëÝ³ÝÏ ×³Ý³ã»Éáõ Ù³ëÇÝ í×Çé | M9: å³ñï³å³ÝÇÝ ëÝ³ÝÏ ×³Ý³ã»Éáõ ¹ÇÙáõÙÁ Ù»ñÅí»É ¿ | N9: ¹ÇÙáõÙÁ ÃáÕÝí»É ¿ ³é³Ýó ùÝÝáõÃÛ³Ý | O9: ³Ý³í³ñï (³Û¹ ÃíáõÙ Ï³ë»óí³Í) | P9: ÀÝ¹³Ù»ÝÁ | Q9: ÃáÕÝí»É ¿ ³é³Ýó ùÝÝ³ñÏÙ³Ý | R9: Ñ³ëï³ïí»É ¿
I11: ¸ÇÙáõÙÇ ÁÝ¹áõÝáõÙÁ Ù»ñÅí»É ¿ | J11: ¸ÇÙáõÙÁ í»ñ³¹³ñÓí»É ¿ | K11: ÀÝ¹áõÝí»É ¿ í³ñáõÛÃ
E20: 1 | F20: 2 | G20: 3 | H20: 4 | I20: 5 | J20: 6 | K20: 7 | L20: 8 | M20: 9 | N20: 10 | O20: 11 | P20: 12 | Q20: 13 | R20: 14 | S20: 15 | T20: 16 | U20: 17
A21: 1 | B21: Æñ³í³µ³Ý³Ï³Ý ³ÝÓÇ ëÝ³ÝÏáõÃÛ³Ý í»ñ³µ»ñÛ³É | E21: 12 | F21: 11 | G21: 11 | H21: 0 | I21: 0 | J21: 3 | K21: 8 | L21: 6 | M21: 2 | N21: 0 | O21: 0 | P21: 8 | Q21: 0 | R21: 0 | S21: 15 | T21: 8 | U21: 2
A22: 2 | B22: ²ÝÑ³ï Ó»éÝ»ñ»óÇ ëÝ³ÝÏáõÃÛ³Ý í»ñ³µ»ñÛ³É | E22: 2 | F22: 0 | G22: 0 | H22: 0 | I22: 0 | J22: 0 | K22: 0 | L22: 1 | M22: 0 | N22: 0 | O22: 0 | P22: 1 | Q22: 0 | R22: 0 | S22: 1 | T22: 1 | U22: 1
A23: 3 | B23: üÇ½ÇÏ³Ï³Ý ³ÝÓ³Ýó ëÝ³ÝÏáõÃÛ³Ý í»ñ³µ»ñÛ³É | E23: 38 | F23: 29 | G23: 29 | H23: 0 | I23: 0 | J23: 4 | K23: 25 | L23: 22 | M23: 3 | N23: 0 | O23: 0 | P23: 27 | Q23: 0 | R23: 0 | S23: 30 | T23: 37 | U23: 0

Sheet Armvir
A1: Ð²ÞìºîìàôÂÚàôÜ
A2: ÀÜ¸Ð²Üàôð Æð²ì²êàôÂÚ²Ü ¸²î²ð²ÜàôØ
A3: 2010Ã.տարեկան հաշվետվություն
A5: ìÇ×³Ï³·ñ³Ï³Ý ïáÕÇ Ñ³Ù³ñÁ | B5: êïáõ·Çã Ñ³í³ë³ñáõÙÝ»ñ` 1+2=15+16,2=3+4, 2=5+6+7, 7=8+9+10+11 | E5: ²Ý³í³ñï ·áñÍ»ñÇ ÙÝ³óáñ¹Á Ñ³ßí»ïáõ Å³Ù³Ý³Ï³ßñç³ÝÇ ëÏ½µáõÙ | F5: êï³óí³Í ¹ÇÙáõÙÝ»ñÇ (·áñÍ»ñ) ù³Ý³ÏÁ | L5: ì³ñáõÛÃ ÁÝ¹áõÝí³Í ¹ÇÙáõÙÝ»ñáí Ï³Û³óí³Í ¹³ï³Ï³Ý ³Ïï»ñ | P5: Ü»ñÏ³Û³óí»É ¿ ýÇÝ³Ýë³Ï³Ý ³éáÕç³óÙ³Ý Íñ³·Çñ | S5: ²í³ñïí»É »Ý ·áñÍ»ñ Ñ³ßí»ïáõ Å³Ù³Ý³Ï³ßñç³ÝáõÙ | T5: ²Ý³í³ñï ·áñÍ»ñÇ ÙÝ³óáñ¹Á Ñ³ßí»ïáõ Å³Ù³Ý³Ï³ßñç³ÝÇ í»ñçáõÙ | U5: ´áÕáù³ñÏí»É »Ý í»ñ³ùÝÝÇã ¹³ï³ñ³Ý
F7: ÀÝ¹³Ù»ÝÁ | G7: ³Û¹ ÃíáõÙ Ñ³ñÏ³¹ñí³Í ëÝ³ÝÏáõÃÛáõÝ | H7: ³Û¹ ÃíáõÙ Ï³Ù³íáñ ëÝ³ÝÏáõÃÛáõÝ | I7: ëï³óí³Í ¹ÇÙáõÙÝ»ñÇ ÁÝÃ³óùÁ | L7: Ï³Û³óí»É ¿ å³ñï³å³ÝÇÝ ëÝ³ÝÏ ×³Ý³ã»Éáõ Ù³ëÇÝ í×Çé | M7: å³ñï³å³ÝÇÝ ëÝ³ÝÏ ×³Ý³ã»Éáõ ¹ÇÙáõÙÁ Ù»ñÅí»É ¿ | N7: ¹ÇÙáõÙÁ ÃáÕÝí»É ¿ ³é³Ýó ùÝÝáõÃÛ³Ý | O7: ³Ý³í³ñï (³Û¹ ÃíáõÙ Ï³ë»óí³Í) | P7: ÀÝ¹³Ù»ÝÁ | Q7: ÃáÕÝí»É ¿ ³é³Ýó ùÝÝ³ñÏÙ³Ý | R7: Ñ³ëï³ïí»É ¿
I9: ¸ÇÙáõÙÇ ÁÝ¹áõÝáõÙÁ Ù»ñÅí»É ¿ | J9: ¸ÇÙáõÙÁ í»ñ³¹³ñÓí»É ¿ | K9: ÀÝ¹áõÝí»É ¿ í³ñáõÛÃ
E20: 1 | F20: 2 | G20: 3 | H20: 4 | I20: 5 | J20: 6 | K20: 7 | L20: 8 | M20: 9 | N20: 10 | O20: 11 | P20: 12 | Q20: 13 | R20: 14 | S20: 15 | T20: 16 | U20: 17
A21: 1 | B21: Æñ³í³µ³Ý³Ï³Ý ³ÝÓÇ ëÝ³ÝÏáõÃÛ³Ý í»ñ³µ»ñÛ³É | E21: 18 | F21: 14 | G21: 13 | H21: 1 | I21: 0 | J21: 0 | K21: 14 | L21: 12 | M21: 1 | N21: 0 | O21: 1 | P21: 0 | Q21: 0 | R21: 0 | S21: 8 | T21: 24 | U21: 1
A22: 2 | B22: ²ÝÑ³ï Ó»éÝ»ñ»óÇ ëÝ³ÝÏáõÃÛ³Ý í»ñ³µ»ñÛ³É | E22: 7 | F22: 1 | G22: 1 | H22: 0 | I22: 0 | J22: 0 | K22: 1 | L22: 0 | M22: 0 | N22: 0 | O22: 1 | P22: 0 | Q22: 0 | R22: 0 | S22: 2 | T22: 6 | U22: 0
A23: 3 | B23: üÇ½ÇÏ³Ï³Ý ³ÝÓ³Ýó ëÝ³ÝÏáõÃÛ³Ý í»ñ³µ»ñÛ³É | E23: 22 | F23: 10 | G23: 9 | H23: 1 | I23: 0 | J23: 1 | K23: 9 | L23: 7 | M23: 1 | N23: 0 | O23: 1 | P23: 0 | Q23: 0 | R23: 0 | S23: 16 | T23: 16 | U23: 0

Sheet Kotayk
A1: Ð²ÞìºîìàôÂÚàôÜ
A2: ÀÜ¸Ð²Üàôð Æð²ì²êàôÂÚ²Ü ¸²î²ð²ÜàôØ
A3: êÜ²ÜÎàôÂÚ²Ü ìºð²´ºðÚ²È ¶àðÌºðÆ øÜÜàôÂÚ²Ü Ø²êÆÜ
A4: Հավելված 2 Հայաստանի Հանրապետության Դատարանների նախագահների խորհրդի 2007թ. ¹»Ïï»Ùµ»ñÇ 21-ի թիվ 23Լ որոշման
A6: ìÇ×³Ï³·ñ³Ï³Ý ïáÕÇ Ñ³Ù³ñÁ | B6: êïáõ·Çã Ñ³í³ë³ñáõÙÝ»ñ` 1+2=15+16,2=3+4, 2=5+6+7, 7=8+9+10+11 | E6: ²Ý³í³ñï ·áñÍ»ñÇ ÙÝ³óáñ¹Á Ñ³ßí»ïáõ Å³Ù³Ý³Ï³ßñç³ÝÇ ëÏ½µáõÙ | F6: êï³óí³Í ¹ÇÙáõÙÝ»ñÇ (·áñÍ»ñ) ù³Ý³ÏÁ | L6: ì³ñáõÛÃ ÁÝ¹áõÝí³Í ¹ÇÙáõÙÝ»ñáí Ï³Û³óí³Í ¹³ï³Ï³Ý ³Ïï»ñ | P6: Ü»ñÏ³Û³óí»É ¿ ýÇÝ³Ýë³Ï³Ý ³éáÕç³óÙ³Ý Íñ³·Çñ | S6: ²í³ñïí»É »Ý ·áñÍ»ñ Ñ³ßí»ïáõ Å³Ù³Ý³Ï³ßñç³ÝáõÙ | T6: ²Ý³í³ñï ·áñÍ»ñÇ ÙÝ³óáñ¹Á Ñ³ßí»ïáõ Å³Ù³Ý³Ï³ßñç³ÝÇ í»ñçáõÙ | U6: ´áÕáù³ñÏí»É »Ý í»ñ³ùÝÝÇã ¹³ï³ñ³Ý
F8: ÀÝ¹³Ù»ÝÁ | G8: ³Û¹ ÃíáõÙ Ñ³ñÏ³¹ñí³Í ëÝ³ÝÏáõÃÛáõÝ | H8: ³Û¹ ÃíáõÙ Ï³Ù³íáñ ëÝ³ÝÏáõÃÛáõÝ | I8: ëï³óí³Í ¹ÇÙáõÙÝ»ñÇ ÁÝÃ³óùÁ | L8: Ï³Û³óí»É ¿ å³ñï³å³ÝÇÝ ëÝ³ÝÏ ×³Ý³ã»Éáõ Ù³ëÇÝ í×Çé | M8: å³ñï³å³ÝÇÝ ëÝ³ÝÏ ×³Ý³ã»Éáõ ¹ÇÙáõÙÁ Ù»ñÅí»É ¿ | N8: ¹ÇÙáõÙÁ ÃáÕÝí»É ¿ ³é³Ýó ùÝÝáõÃÛ³Ý | O8: ³Ý³í³ñï (³Û¹ ÃíáõÙ Ï³ë»óí³Í) | P8: ÀÝ¹³Ù»ÝÁ | Q8: ÃáÕÝí»É ¿ ³é³Ýó ùÝÝ³ñÏÙ³Ý | R8: Ñ³ëï³ïí»É ¿
I10: ¸ÇÙáõÙÇ ÁÝ¹áõÝáõÙÁ Ù»ñÅí»É ¿ | J10: ¸ÇÙáõÙÁ í»ñ³¹³ñÓí»É ¿ | K10: ÀÝ¹áõÝí»É ¿ í³ñáõÛÃ
E20: 1 | F20: 2 | G20: 3 | H20: 4 | I20: 5 | J20: 6 | K20: 7 | L20: 8 | M20: 9 | N20: 10 | O20: 11 | P20: 12 | Q20: 13 | R20: 14 | S20: 15 | T20: 16 | U20: 17
A21: 1 | B21: Æñ³í³µ³Ý³Ï³Ý ³ÝÓÇ ëÝ³ÝÏáõÃÛ³Ý í»ñ³µ»ñÛ³É | E21: 38 | F21: 38 | G21: 36 | H21: 2 | I21: 0 | J21: 1 | K21: 37 | L21: 29 | M21: 0 | N21: 1 | O21: 7 | P21: 3 | Q21: 2 | R21: 1 | S21: 13 | T21: 63 | U21: 2
A22: 2 | B22: ²ÝÑ³ï Ó»éÝ»ñ»óÇ ëÝ³ÝÏáõÃÛ³Ý í»ñ³µ»ñÛ³É | E22: 20 | F22: 4 | G22: 4 | H22: 0 | I22: 0 | J22: 0 | K22: 4 | L22: 2 | M22: 0 | N22: 0 | O22: 2 | P22: 0 | Q22: 0 | R22: 0 | S22: 3 | T22: 21 | U22: 0
A23: 3 | B23: üÇ½ÇÏ³Ï³Ý ³ÝÓ³Ýó ëÝ³ÝÏáõÃÛ³Ý í»ñ³µ»ñÛ³É | E23: 24 | F23: 30 | G23: 23 | H23: 7 | I23: 0 | J23: 17 | K23: 13 | L23: 6 | M23: 3 | N23: 0 | O23: 4 | P23: 0 | Q23: 0 | R23: 0 | S23: 26 | T23: 28 | U23: 2

Sheet Shirak
A1: Ð²ÞìºîìàôÂÚàôÜ
A2: ÀÜ¸Ð²Üàôð Æð²ì²êàôÂÚ²Ü ¸²î²ð²ÜàôØ
A3: êÜ²ÜÎàôÂÚ²Ü ìºð²´ºðÚ²È ¶àðÌºðÆ øÜÜàôÂÚ²Ü Ø²êÆÜ
A4: Հավելված 2 Հայաստանի Հանրապետության Դատարանների նախագահների խորհրդի 2007թ. ¹»Ïï»Ùµ»ñÇ 21-ի թիվ 23Լ որոշման
A6: ìÇ×³Ï³·ñ³Ï³Ý ïáÕÇ Ñ³Ù³ñÁ | B6: êïáõ·Çã Ñ³í³ë³ñáõÙÝ»ñ` 1+2=15+16,2=3+4, 2=5+6+7, 7=8+9+10+11 | E6: ²Ý³í³ñï ·áñÍ»ñÇ ÙÝ³óáñ¹Á Ñ³ßí»ïáõ Å³Ù³Ý³Ï³ßñç³ÝÇ ëÏ½µáõÙ | F6: êï³óí³Í ¹ÇÙáõÙÝ»ñÇ (·áñÍ»ñ) ù³Ý³ÏÁ | L6: ì³ñáõÛÃ ÁÝ¹áõÝí³Í ¹ÇÙáõÙÝ»ñáí Ï³Û³óí³Í ¹³ï³Ï³Ý ³Ïï»ñ | P6: Ü»ñÏ³Û³óí»É ¿ ýÇÝ³Ýë³Ï³Ý ³éáÕç³óÙ³Ý Íñ³·Çñ | S6: ²í³ñïí»É »Ý ·áñÍ»ñ Ñ³ßí»ïáõ Å³Ù³Ý³Ï³ßñç³ÝáõÙ | T6: ²Ý³í³ñï ·áñÍ»ñÇ ÙÝ³óáñ¹Á Ñ³ßí»ïáõ Å³Ù³Ý³Ï³ßñç³ÝÇ í»ñçáõÙ | U6: ´áÕáù³ñÏí»É »Ý í»ñ³ùÝÝÇã ¹³ï³ñ³Ý
F8: ÀÝ¹³Ù»ÝÁ | G8: ³Û¹ ÃíáõÙ Ñ³ñÏ³¹ñí³Í ëÝ³ÝÏáõÃÛáõÝ | H8: ³Û¹ ÃíáõÙ Ï³Ù³íáñ ëÝ³ÝÏáõÃÛáõÝ | I8: ëï³óí³Í ¹ÇÙáõÙÝ»ñÇ ÁÝÃ³óùÁ | L8: Ï³Û³óí»É ¿ å³ñï³å³ÝÇÝ ëÝ³ÝÏ ×³Ý³ã»Éáõ Ù³ëÇÝ í×Çé | M8: å³ñï³å³ÝÇÝ ëÝ³ÝÏ ×³Ý³ã»Éáõ ¹ÇÙáõÙÁ Ù»ñÅí»É ¿ | N8: ¹ÇÙáõÙÁ ÃáÕÝí»É ¿ ³é³Ýó ùÝÝáõÃÛ³Ý | O8: ³Ý³í³ñï (³Û¹ ÃíáõÙ Ï³ë»óí³Í) | P8: ÀÝ¹³Ù»ÝÁ | Q8: ÃáÕÝí»É ¿ ³é³Ýó ùÝÝ³ñÏÙ³Ý | R8: Ñ³ëï³ïí»É ¿
I10: ¸ÇÙáõÙÇ ÁÝ¹áõÝáõÙÁ Ù»ñÅí»É ¿ | J10: ¸ÇÙáõÙÁ í»ñ³¹³ñÓí»É ¿ | K10: ÀÝ¹áõÝí»É ¿ í³ñáõÛÃ
E20: 1 | F20: 2 | G20: 3 | H20: 4 | I20: 5 | J20: 6 | K20: 7 | L20: 8 | M20: 9 | N20: 10 | O20: 11 | P20: 12 | Q20: 13 | R20: 14 | S20: 15 | T20: 16 | U20: 17
A21: 1 | B21: Æñ³í³µ³Ý³Ï³Ý ³ÝÓÇ ëÝ³ÝÏáõÃÛ³Ý í»ñ³µ»ñÛ³É | E21: 87 | F21: 6 | G21: 6 | H21: 0 | I21: 1 | J21: 2 | K21: 3 | L21: 2 | M21: 0 | N21: 0 | O21: 1 | P21: 0 | Q21: 0 | R21: 0 | S21: 12 | T21: 81 | U21: 0
A22: 2 | B22: ²ÝÑ³ï Ó»éÝ»ñ»óÇ ëÝ³ÝÏáõÃÛ³Ý í»ñ³µ»ñÛ³É | E22: 5 | F22: 0 | G22: 0 | H22: 0 | I22: 0 | J22: 0 | K22: 0 | L22: 0 | M22: 0 | N22: 0 | O22: 0 | P22: 0 | Q22: 0 | R22: 0 | S22: 0 | T22: 5 | U22: 0
A23: 3 | B23: üÇ½ÇÏ³Ï³Ý ³ÝÓ³Ýó ëÝ³ÝÏáõÃÛ³Ý í»ñ³µ»ñÛ³É | E23: 66 | F23: 13 | G23: 13 | H23: 0 | I23: 0 | J23: 6 | K23: 7 | L23: 5 | M23: 2 | N23: 0 | O23: 0 | P23: 0 | Q23: 0 | R23: 0 | S23: 30 | T23: 49 | U23: 0

Sheet Aragacotn
A1: Ð²ÞìºîìàôÂÚàôÜ
A2: ՀՀ ԱՐԱԳԱԾՈՏՆԻ ՄԱՐԶԻ ÀÜ¸Ð²Üàôð Æð²ì²êàôÂÚ²Ü ¸²î²ð²ÜàôØ
A3: êÜ²ÜÎàôÂÚ²Ü ìºð²´ºðÚ²È ¶àðÌºðÆ øÜÜàôÂÚ²Ü Ø²êÆÜ
A4: 2010Ã.ï³ñí³ Ñ³Ù³ñ
A6: ìÇ×³Ï³·ñ³Ï³Ý ïáÕÇ Ñ³Ù³ñÁ | B6: êïáõ·Çã Ñ³í³ë³ñáõÙÝ»ñ` 1+2=15+16,2=3+4, 2=5+6+7, 7=8+9+10+11 | E6: ²Ý³í³ñï ·áñÍ»ñÇ ÙÝ³óáñ¹Á Ñ³ßí»ïáõ Å³Ù³Ý³Ï³ßñç³ÝÇ ëÏ½µáõÙ | F6: êï³óí³Í ¹ÇÙáõÙÝ»ñÇ (·áñÍ»ñ) ù³Ý³ÏÁ | L6: ì³ñáõÛÃ ÁÝ¹áõÝí³Í ¹ÇÙáõÙÝ»ñáí Ï³Û³óí³Í ¹³ï³Ï³Ý ³Ïï»ñ | P6: Ü»ñÏ³Û³óí»É ¿ ýÇÝ³Ýë³Ï³Ý ³éáÕç³óÙ³Ý Íñ³·Çñ | S6: ²í³ñïí»É »Ý ·áñÍ»ñ Ñ³ßí»ïáõ Å³Ù³Ý³Ï³ßñç³ÝáõÙ | T6: ²Ý³í³ñï ·áñÍ»ñÇ ÙÝ³óáñ¹Á Ñ³ßí»ïáõ Å³Ù³Ý³Ï³ßñç³ÝÇ í»ñçáõÙ | U6: ´áÕáù³ñÏí»É »Ý í»ñ³ùÝÝÇã ¹³ï³ñ³Ý
F8: ÀÝ¹³Ù»ÝÁ | G8: ³Û¹ ÃíáõÙ Ñ³ñÏ³¹ñí³Í ëÝ³ÝÏáõÃÛáõÝ | H8: ³Û¹ ÃíáõÙ Ï³Ù³íáñ ëÝ³ÝÏáõÃÛáõÝ | I8: ëï³óí³Í ¹ÇÙáõÙÝ»ñÇ ÁÝÃ³óùÁ | L8: Ï³Û³óí»É ¿ å³ñï³å³ÝÇÝ ëÝ³ÝÏ ×³Ý³ã»Éáõ Ù³ëÇÝ í×Çé | M8: å³ñï³å³ÝÇÝ ëÝ³ÝÏ ×³Ý³ã»Éáõ ¹ÇÙáõÙÁ Ù»ñÅí»É ¿ | N8: ¹ÇÙáõÙÁ ÃáÕÝí»É ¿ ³é³Ýó ùÝÝáõÃÛ³Ý | O8: ³Ý³í³ñï (³Û¹ ÃíáõÙ Ï³ë»óí³Í) | P8: ÀÝ¹³Ù»ÝÁ | Q8: ÃáÕÝí»É ¿ ³é³Ýó ùÝÝ³ñÏÙ³Ý | R8: Ñ³ëï³ïí»É ¿
I10: ¸ÇÙáõÙÇ ÁÝ¹áõÝáõÙÁ Ù»ñÅí»É ¿ | J10: ¸ÇÙáõÙÁ í»ñ³¹³ñÓí»É ¿ | K10: ÀÝ¹áõÝí»É ¿ í³ñáõÛÃ
E20: 1 | F20: 2 | G20: 3 | H20: 4 | I20: 5 | J20: 6 | K20: 7 | L20: 8 | M20: 9 | N20: 10 | O20: 11 | P20: 12 | Q20: 13 | R20: 14 | S20: 15 | T20: 16 | U20: 17
A21: 1 | B21: Æñ³í³µ³Ý³Ï³Ý ³ÝÓÇ ëÝ³ÝÏáõÃÛ³Ý í»ñ³µ»ñÛ³É | E21: 37 | F21: 3 | G21: 3 | H21: 0 | I21: 0 | J21: 0 | K21: 3 | L21: 2 | M21: 0 | N21: 0 | O21: 1 | P21: 0 | Q21: 0 | R21: 0 | S21: 9 | T21: 31 | U21: 1
A22: 2 | B22: ²ÝÑ³ï Ó»éÝ»ñ»óÇ ëÝ³ÝÏáõÃÛ³Ý í»ñ³µ»ñÛ³É | E22: 4 | F22: 0 | G22: 0 | H22: 0 | I22: 0 | J22: 0 | K22: 0 | L22: 0 | M22: 0 | N22: 0 | O22: 0 | P22: 0 | Q22: 0 | R22: 0 | S22: 0 | T22: 4 | U22: 0
A23: 3 | B23: üÇ½ÇÏ³Ï³Ý ³ÝÓ³Ýó ëÝ³ÝÏáõÃÛ³Ý í»ñ³µ»ñÛ³É | E23: 16 | F23: 9 | G23: 6 | H23: 3 | I23: 0 | J23: 4 | K23: 5 | L23: 3 | M23: 1 | N23: 0 | O23: 1 | P23: 0 | Q23: 0 | R23: 0 | S23: 7 | T23: 18 | U23: 1

Sheet Syuniq
A1: Ð²ÞìºîìàôÂÚàôÜ
A2: ՍՅՈՒՆԻՔԻ ՄԱՐԶԻ ÀÜ¸Ð²Üàôð Æð²ì²êàôÂÚ²Ü ¸²î²ð²ÜàôØ
A3: 2010թ-ի êÜ²ÜÎàôÂÚ²Ü ìºð²´ºðÚ²È ¶àðÌºðÆ øÜÜàôÂÚ²Ü Ø²êÆÜ
A4: Հավելված 2 Հայաստանի Հանրապետության Դատարանների նախագահների խորհրդի 2007թ. ¹»Ïï»Ùµ»ñÇ 21-ի թիվ 23Լ որոշման
A6: ìÇ×³Ï³·ñ³Ï³Ý ïáÕÇ Ñ³Ù³ñÁ | B6: êïáõ·Çã Ñ³í³ë³ñáõÙÝ»ñ` 1+2=15+16,2=3+4, 2=5+6+7, 7=8+9+10+11 | E6: ²Ý³í³ñï ·áñÍ»ñÇ ÙÝ³óáñ¹Á Ñ³ßí»ïáõ Å³Ù³Ý³Ï³ßñç³ÝÇ ëÏ½µáõÙ | F6: êï³óí³Í ¹ÇÙáõÙÝ»ñÇ (·áñÍ»ñ) ù³Ý³ÏÁ | L6: ì³ñáõÛÃ ÁÝ¹áõÝí³Í ¹ÇÙáõÙÝ»ñáí Ï³Û³óí³Í ¹³ï³Ï³Ý ³Ïï»ñ | P6: Ü»ñÏ³Û³óí»É ¿ ýÇÝ³Ýë³Ï³Ý ³éáÕç³óÙ³Ý Íñ³·Çñ | S6: ²í³ñïí»É »Ý ·áñÍ»ñ Ñ³ßí»ïáõ Å³Ù³Ý³Ï³ßñç³ÝáõÙ | T6: ²Ý³í³ñï ·áñÍ»ñÇ ÙÝ³óáñ¹Á Ñ³ßí»ïáõ Å³Ù³Ý³Ï³ßñç³ÝÇ í»ñçáõÙ | U6: ´áÕáù³ñÏí»É »Ý í»ñ³ùÝÝÇã ¹³ï³ñ³Ý
F8: ÀÝ¹³Ù»ÝÁ | G8: ³Û¹ ÃíáõÙ Ñ³ñÏ³¹ñí³Í ëÝ³ÝÏáõÃÛáõÝ | H8: ³Û¹ ÃíáõÙ Ï³Ù³íáñ ëÝ³ÝÏáõÃÛáõÝ | I8: ëï³óí³Í ¹ÇÙáõÙÝ»ñÇ ÁÝÃ³óùÁ | L8: Ï³Û³óí»É ¿ å³ñï³å³ÝÇÝ ëÝ³ÝÏ ×³Ý³ã»Éáõ Ù³ëÇÝ í×Çé | M8: å³ñï³å³ÝÇÝ ëÝ³ÝÏ ×³Ý³ã»Éáõ ¹ÇÙáõÙÁ Ù»ñÅí»É ¿ | N8: ¹ÇÙáõÙÁ ÃáÕÝí»É ¿ ³é³Ýó ùÝÝáõÃÛ³Ý | O8: ³Ý³í³ñï (³Û¹ ÃíáõÙ Ï³ë»óí³Í) | P8: ÀÝ¹³Ù»ÝÁ | Q8: ÃáÕÝí»É ¿ ³é³Ýó ùÝÝ³ñÏÙ³Ý | R8: Ñ³ëï³ïí»É ¿
I10: ¸ÇÙáõÙÇ ÁÝ¹áõÝáõÙÁ Ù»ñÅí»É ¿ | J10: ¸ÇÙáõÙÁ í»ñ³¹³ñÓí»É ¿ | K10: ÀÝ¹áõÝí»É ¿ í³ñáõÛÃ
E20: 1 | F20: 2 | G20: 3 | H20: 4 | I20: 5 | J20: 6 | K20: 7 | L20: 8 | M20: 9 | N20: 10 | O20: 11 | P20: 12 | Q20: 13 | R20: 14 | S20: 15 | T20: 16 | U20: 17
A21: 1 | B21: Æñ³í³µ³Ý³Ï³Ý ³ÝÓÇ ëÝ³ÝÏáõÃÛ³Ý í»ñ³µ»ñÛ³É | E21: 54 | F21: 2 | G21: 2 | H21: 0 | I21: 0 | J21: 0 | K21: 2 | L21: 2 | M21: 0 | N21: 0 | O21: 0 | P21: 0 | Q21: 0 | R21: 0 | S21: 4 | T21: 52 | U21: 0
A22: 2 | B22: ²ÝÑ³ï Ó»éÝ»ñ»óÇ ëÝ³ÝÏáõÃÛ³Ý í»ñ³µ»ñÛ³É | E22: 42 | F22: 1 | G22: 1 | H22: 0 | I22: 0 | J22: 1 | K22: 0 | L22: 0 | M22: 0 | N22: 0 | O22: 0 | P22: 0 | Q22: 0 | R22: 0 | S22: 1 | T22: 42 | U22: 0
A23: 3 | B23: üÇ½ÇÏ³Ï³Ý ³ÝÓ³Ýó ëÝ³ÝÏáõÃÛ³Ý í»ñ³µ»ñÛ³É | E23: 80 | F23: 10 | G23: 10 | H23: 0 | I23: 0 | J23: 4 | K23: 6 | L23: 4 | M23: 1 | N23: 0 | O23: 1 | P23: 0 | Q23: 0 | R23: 0 | S23: 13 | T23: 77 | U23: 2

Sheet Ararat
A1: Ð²ÞìºîìàôÂÚàôÜ
A2: ԱՐԱՐԱՏԻ ԵՎ ՎԱՅՈՑ ՁՈՐԻ ՄԱՐԶԵՐԻ ÀÜ¸Ð²Üàôð Æð²ì²êàôÂÚ²Ü ¸²î²ð²ÜàôØ
A3: êÜ²ÜÎàôÂÚ²Ü ìºð²´ºðÚ²È ¶àðÌºðÆ øÜÜàôÂÚ²Ü Ø²êÆÜ
A4: 2010Ã.
A6: ìÇ×³Ï³·ñ³Ï³Ý ïáÕÇ Ñ³Ù³ñÁ | B6: êïáõ·Çã Ñ³í³ë³ñáõÙÝ»ñ` 1+2=15+16,2=3+4, 2=5+6+7, 7=8+9+10+11 | E6: ²Ý³í³ñï ·áñÍ»ñÇ ÙÝ³óáñ¹Á Ñ³ßí»ïáõ Å³Ù³Ý³Ï³ßñç³ÝÇ ëÏ½µáõÙ | F6: êï³óí³Í ¹ÇÙáõÙÝ»ñÇ (·áñÍ»ñ) ù³Ý³ÏÁ | L6: ì³ñáõÛÃ ÁÝ¹áõÝí³Í ¹ÇÙáõÙÝ»ñáí Ï³Û³óí³Í ¹³ï³Ï³Ý ³Ïï»ñ | P6: Ü»ñÏ³Û³óí»É ¿ ýÇÝ³Ýë³Ï³Ý ³éáÕç³óÙ³Ý Íñ³·Çñ | S6: ²í³ñïí»É »Ý ·áñÍ»ñ Ñ³ßí»ïáõ Å³Ù³Ý³Ï³ßñç³ÝáõÙ | T6: ²Ý³í³ñï ·áñÍ»ñÇ ÙÝ³óáñ¹Á Ñ³ßí»ïáõ Å³Ù³Ý³Ï³ßñç³ÝÇ í»ñçáõÙ | U6: ´áÕáù³ñÏí»É »Ý í»ñ³ùÝÝÇã ¹³ï³ñ³Ý
F8: ÀÝ¹³Ù»ÝÁ | G8: ³Û¹ ÃíáõÙ Ñ³ñÏ³¹ñí³Í ëÝ³ÝÏáõÃÛáõÝ | H8: ³Û¹ ÃíáõÙ Ï³Ù³íáñ ëÝ³ÝÏáõÃÛáõÝ | I8: ëï³óí³Í ¹ÇÙáõÙÝ»ñÇ ÁÝÃ³óùÁ | L8: Ï³Û³óí»É ¿ å³ñï³å³ÝÇÝ ëÝ³ÝÏ ×³Ý³ã»Éáõ Ù³ëÇÝ í×Çé | M8: å³ñï³å³ÝÇÝ ëÝ³ÝÏ ×³Ý³ã»Éáõ ¹ÇÙáõÙÁ Ù»ñÅí»É ¿ | N8: ¹ÇÙáõÙÁ ÃáÕÝí»É ¿ ³é³Ýó ùÝÝáõÃÛ³Ý | O8: ³Ý³í³ñï (³Û¹ ÃíáõÙ Ï³ë»óí³Í) | P8: ÀÝ¹³Ù»ÝÁ | Q8: ÃáÕÝí»É ¿ ³é³Ýó ùÝÝ³ñÏÙ³Ý | R8: Ñ³ëï³ïí»É ¿
I10: ¸ÇÙáõÙÇ ÁÝ¹áõÝáõÙÁ Ù»ñÅí»É ¿ | J10: ¸ÇÙáõÙÁ í»ñ³¹³ñÓí»É ¿ | K10: ÀÝ¹áõÝí»É ¿ í³ñáõÛÃ
E20: 1 | F20: 2 | G20: 3 | H20: 4 | I20: 5 | J20: 6 | K20: 7 | L20: 8 | M20: 9 | N20: 10 | O20: 11 | P20: 12 | Q20: 13 | R20: 14 | S20: 15 | T20: 16 | U20: 17
A21: 1 | B21: Æñ³í³µ³Ý³Ï³Ý ³ÝÓÇ ëÝ³ÝÏáõÃÛ³Ý í»ñ³µ»ñÛ³É | E21: 39 | F21: 12 | G21: 10 | H21: 2 | I21: 1 | J21: 0 | K21: 11 | L21: 8 | M21: 0 | N21: 0 | O21: 3 | P21: 0 | Q21: 0 | R21: 0 | S21: 11 | T21: 40 | U21: 2
A22: 2 | B22: ²ÝÑ³ï Ó»éÝ»ñ»óÇ ëÝ³ÝÏáõÃÛ³Ý í»ñ³µ»ñÛ³É | E22: 23 | F22: 0 | G22: 0 | H22: 0 | I22: 0 | J22: 0 | K22: 0 | L22: 0 | M22: 0 | N22: 0 | O22: 0 | P22: 0 | Q22: 0 | R22: 0 | S22: 4 | T22: 19 | U22: 0
A23: 3 | B23: üÇ½ÇÏ³Ï³Ý ³ÝÓ³Ýó ëÝ³ÝÏáõÃÛ³Ý í»ñ³µ»ñÛ³É | E23: 43 | F23: 8 | G23: 7 | H23: 1 | I23: 1 | J23: 0 | K23: 7 | L23: 6 | M23: 0 | N23: 0 | O23: 1 | P23: 0 | Q23: 0 | R23: 0 | S23: 24 | T23: 27 | U23: 1

Sheet Gexarquniq
A1: Ð²ÞìºîìàôÂÚàôÜ
A2: ÀÜ¸Ð²Üàôð Æð²ì²êàôÂÚ²Ü ¸²î²ð²ÜàôØ
A3: êÜ²ÜÎàôÂÚ²Ü ìºð²´ºðÚ²È ¶àðÌºðÆ øÜÜàôÂÚ²Ü Ø²êÆÜ
A4: Հավելված 2 Հայաստանի Հանրապետության Դատարանների նախագահների խորհրդի 2007թ. ¹»Ïï»Ùµ»ñÇ 21-ի թիվ 23Լ որոշման
A6: ìÇ×³Ï³·ñ³Ï³Ý ïáÕÇ Ñ³Ù³ñÁ | B6: êïáõ·Çã Ñ³í³ë³ñáõÙÝ»ñ` 1+2=15+16,2=3+4, 2=5+6+7, 7=8+9+10+11 | E6: ²Ý³í³ñï ·áñÍ»ñÇ ÙÝ³óáñ¹Á Ñ³ßí»ïáõ Å³Ù³Ý³Ï³ßñç³ÝÇ ëÏ½µáõÙ | F6: êï³óí³Í ¹ÇÙáõÙÝ»ñÇ (·áñÍ»ñ) ù³Ý³ÏÁ | L6: ì³ñáõÛÃ ÁÝ¹áõÝí³Í ¹ÇÙáõÙÝ»ñáí Ï³Û³óí³Í ¹³ï³Ï³Ý ³Ïï»ñ | P6: Ü»ñÏ³Û³óí»É ¿ ýÇÝ³Ýë³Ï³Ý ³éáÕç³óÙ³Ý Íñ³·Çñ | S6: ²í³ñïí»É »Ý ·áñÍ»ñ Ñ³ßí»ïáõ Å³Ù³Ý³Ï³ßñç³ÝáõÙ | T6: ²Ý³í³ñï ·áñÍ»ñÇ ÙÝ³óáñ¹Á Ñ³ßí»ïáõ Å³Ù³Ý³Ï³ßñç³ÝÇ í»ñçáõÙ | U6: ´áÕáù³ñÏí»É »Ý í»ñ³ùÝÝÇã ¹³ï³ñ³Ý
F8: ÀÝ¹³Ù»ÝÁ | G8: ³Û¹ ÃíáõÙ Ñ³ñÏ³¹ñí³Í ëÝ³ÝÏáõÃÛáõÝ | H8: ³Û¹ ÃíáõÙ Ï³Ù³íáñ ëÝ³ÝÏáõÃÛáõÝ | I8: ëï³óí³Í ¹ÇÙáõÙÝ»ñÇ ÁÝÃ³óùÁ | L8: Ï³Û³óí»É ¿ å³ñï³å³ÝÇÝ ëÝ³ÝÏ ×³Ý³ã»Éáõ Ù³ëÇÝ í×Çé | M8: å³ñï³å³ÝÇÝ ëÝ³ÝÏ ×³Ý³ã»Éáõ ¹ÇÙáõÙÁ Ù»ñÅí»É ¿ | N8: ¹ÇÙáõÙÁ ÃáÕÝí»É ¿ ³é³Ýó ùÝÝáõÃÛ³Ý | O8: ³Ý³í³ñï (³Û¹ ÃíáõÙ Ï³ë»óí³Í) | P8: ÀÝ¹³Ù»ÝÁ | Q8: ÃáÕÝí»É ¿ ³é³Ýó ùÝÝ³ñÏÙ³Ý | R8: Ñ³ëï³ïí»É ¿
I10: ¸ÇÙáõÙÇ ÁÝ¹áõÝáõÙÁ Ù»ñÅí»É ¿ | J10: ¸ÇÙáõÙÁ í»ñ³¹³ñÓí»É ¿ | K10: ÀÝ¹áõÝí»É ¿ í³ñáõÛÃ
E20: 1 | F20: 2 | G20: 3 | H20: 4 | I20: 5 | J20: 6 | K20: 7 | L20: 8 | M20: 9 | N20: 10 | O20: 11 | P20: 12 | Q20: 13 | R20: 14 | S20: 15 | T20: 16 | U20: 17
A21: 1 | B21: Æñ³í³µ³Ý³Ï³Ý ³ÝÓÇ ëÝ³ÝÏáõÃÛ³Ý í»ñ³µ»ñÛ³É | E21: 38 | F21: 9 | G21: 8 | H21: 1 | I21: 0 | J21: 0 | K21: 9 | L21: 8 | M21: 0 | N21: 0 | O21: 1 | P21: 0 | Q21: 0 | R21: 0 | S21: 12 | T21: 35 | U21: 1
A22: 2 | B22: ²ÝÑ³ï Ó»éÝ»ñ»óÇ ëÝ³ÝÏáõÃÛ³Ý í»ñ³µ»ñÛ³É | E22: 1 | F22: 2 | G22: 2 | H22: 0 | I22: 0 | J22: 0 | K22: 2 | L22: 2 | M22: 0 | N22: 0 | O22: 0 | P22: 0 | Q22: 0 | R22: 0 | S22: 1 | T22: 2 | U22: 0
A23: 3 | B23: üÇ½ÇÏ³Ï³Ý ³ÝÓ³Ýó ëÝ³ÝÏáõÃÛ³Ý í»ñ³µ»ñÛ³É | E23: 13 | F23: 7 | G23: 7 | H23: 0 | I23: 0 | J23: 0 | K23: 7 | L23: 5 | M23: 0 | N23: 0 | O23: 2 | P23: 0 | Q23: 0 | R23: 0 | S23: 3 | T23: 17 | U23: 0

Sheet Tavush
A1: Ð²ÞìºîìàôÂÚàôÜ
A2: ՏԱՎՈՒՇԻ ՄԱՐԶԻ ÀÜ¸Ð²Üàôð Æð²ì²êàôÂÚ²Ü ¸²î²ð²ÜàôØ
A3: êÜ²ÜÎàôÂÚ²Ü ìºð²´ºðÚ²È ¶àðÌºðÆ øÜÜàôÂÚ²Ü Ø²êÆÜ 2010Ã. ï³ñ»Ï³Ý
A4: Հավելված 2 Հայաստանի Հանրապետության Դատարանների նախագահների խորհրդի 2007թ. ¹»Ïï»Ùµ»ñÇ 21-ի թիվ 23Լ որոշման
A6: ìÇ×³Ï³·ñ³Ï³Ý ïáÕÇ Ñ³Ù³ñÁ | B6: êïáõ·Çã Ñ³í³ë³ñáõÙÝ»ñ` 1+2=15+16,2=3+4, 2=5+6+7, 7=8+9+10+11 | E6: ²Ý³í³ñï ·áñÍ»ñÇ ÙÝ³óáñ¹Á Ñ³ßí»ïáõ Å³Ù³Ý³Ï³ßñç³ÝÇ ëÏ½µáõÙ | F6: êï³óí³Í ¹ÇÙáõÙÝ»ñÇ (·áñÍ»ñ) ù³Ý³ÏÁ | L6: ì³ñáõÛÃ ÁÝ¹áõÝí³Í ¹ÇÙáõÙÝ»ñáí Ï³Û³óí³Í ¹³ï³Ï³Ý ³Ïï»ñ | P6: Ü»ñÏ³Û³óí»É ¿ ýÇÝ³Ýë³Ï³Ý ³éáÕç³óÙ³Ý Íñ³·Çñ | S6: ²í³ñïí»É »Ý ·áñÍ»ñ Ñ³ßí»ïáõ Å³Ù³Ý³Ï³ßñç³ÝáõÙ | T6: ²Ý³í³ñï ·áñÍ»ñÇ ÙÝ³óáñ¹Á Ñ³ßí»ïáõ Å³Ù³Ý³Ï³ßñç³ÝÇ í»ñçáõÙ | U6: ´áÕáù³ñÏí»É »Ý í»ñ³ùÝÝÇã ¹³ï³ñ³Ý
F8: ÀÝ¹³Ù»ÝÁ | G8: ³Û¹ ÃíáõÙ Ñ³ñÏ³¹ñí³Í ëÝ³ÝÏáõÃÛáõÝ | H8: ³Û¹ ÃíáõÙ Ï³Ù³íáñ ëÝ³ÝÏáõÃÛáõÝ | I8: ëï³óí³Í ¹ÇÙáõÙÝ»ñÇ ÁÝÃ³óùÁ | L8: Ï³Û³óí»É ¿ å³ñï³å³ÝÇÝ ëÝ³ÝÏ ×³Ý³ã»Éáõ Ù³ëÇÝ í×Çé | M8: å³ñï³å³ÝÇÝ ëÝ³ÝÏ ×³Ý³ã»Éáõ ¹ÇÙáõÙÁ Ù»ñÅí»É ¿ | N8: ¹ÇÙáõÙÁ ÃáÕÝí»É ¿ ³é³Ýó ùÝÝáõÃÛ³Ý | O8: ³Ý³í³ñï (³Û¹ ÃíáõÙ Ï³ë»óí³Í) | P8: ÀÝ¹³Ù»ÝÁ | Q8: ÃáÕÝí»É ¿ ³é³Ýó ùÝÝ³ñÏÙ³Ý | R8: Ñ³ëï³ïí»É ¿
I10: ¸ÇÙáõÙÇ ÁÝ¹áõÝáõÙÁ Ù»ñÅí»É ¿ | J10: ¸ÇÙáõÙÁ í»ñ³¹³ñÓí»É ¿ | K10: ÀÝ¹áõÝí»É ¿ í³ñáõÛÃ
E20: 1 | F20: 2 | G20: 3 | H20: 4 | I20: 5 | J20: 6 | K20: 7 | L20: 8 | M20: 9 | N20: 10 | O20: 11 | P20: 12 | Q20: 13 | R20: 14 | S20: 15 | T20: 16 | U20: 17
A21: 1 | B21: Æñ³í³µ³Ý³Ï³Ý ³ÝÓÇ ëÝ³ÝÏáõÃÛ³Ý í»ñ³µ»ñÛ³É | E21: 22 | F21: 6 | G21: 6 | H21: 0 | I21: 0 | J21: 1 | K21: 5 | L21: 4 | M21: 1 | N21: 0 | O21: 0 | P21: 0 | Q21: 0 | R21: 0 | S21: 8 | T21: 20 | U21: 0
A22: 2 | B22: ²ÝÑ³ï Ó»éÝ»ñ»óÇ ëÝ³ÝÏáõÃÛ³Ý í»ñ³µ»ñÛ³É | E22: 8 | F22: 0 | G22: 0 | H22: 0 | I22: 0 | J22: 0 | K22: 0 | L22: 0 | M22: 0 | N22: 0 | O22: 0 | P22: 0 | Q22: 0 | R22: 0 | S22: 3 | T22: 5 | U22: 0
A23: 3 | B23: üÇ½ÇÏ³Ï³Ý ³ÝÓ³Ýó ëÝ³ÝÏáõÃÛ³Ý í»ñ³µ»ñÛ³É | E23: 14 | F23: 0 | G23: 0 | H23: 0 | I23: 0 | J23: 0 | K23: 0 | L23: 0 | M23: 0 | N23: 0 | O23: 0 | P23: 0 | Q23: 0 | R23: 0 | S23: 4 | T23: 10 | U23: 0

Sheet Lori
A1: Ð²ÞìºîìàôÂÚàôÜ
A2: ÈàèàôՄԱՐԶԻ ÀÜ¸Ð²Üàôð Æð²ì²êàôÂÚ²Ü ¸²î²ð²ÜàôØ
A3: 2010թ-ի êÜ²ÜÎàôÂÚ²Ü ìºð²´ºðÚ²È ¶àðÌºðÆ øÜÜàôÂÚ²Ü Ø²êÆÜ
A4: Հավելված 2 Հայաստանի Հանրապետության Դատարանների նախագահների խորհրդի 2007թ. ¹»Ïï»Ùµ»ñÇ 21-ի թիվ 23Լ որոշման
A6: ìÇ×³Ï³·ñ³Ï³Ý ïáÕÇ Ñ³Ù³ñÁ | B6: êïáõ·Çã Ñ³í³ë³ñáõÙÝ»ñ` 1+2=15+16,2=3+4, 2=5+6+7, 7=8+9+10+11 | E6: ²Ý³í³ñï ·áñÍ»ñÇ ÙÝ³óáñ¹Á Ñ³ßí»ïáõ Å³Ù³Ý³Ï³ßñç³ÝÇ ëÏ½µáõÙ | F6: êï³óí³Í ¹ÇÙáõÙÝ»ñÇ (·áñÍ»ñ) ù³Ý³ÏÁ | L6: ì³ñáõÛÃ ÁÝ¹áõÝí³Í ¹ÇÙáõÙÝ»ñáí Ï³Û³óí³Í ¹³ï³Ï³Ý ³Ïï»ñ | P6: Ü»ñÏ³Û³óí»É ¿ ýÇÝ³Ýë³Ï³Ý ³éáÕç³óÙ³Ý Íñ³·Çñ | S6: ²í³ñïí»É »Ý ·áñÍ»ñ Ñ³ßí»ïáõ Å³Ù³Ý³Ï³ßñç³ÝáõÙ | T6: ²Ý³í³ñï ·áñÍ»ñÇ ÙÝ³óáñ¹Á Ñ³ßí»ïáõ Å³Ù³Ý³Ï³ßñç³ÝÇ í»ñçáõÙ | U6: ´áÕáù³ñÏí»É »Ý í»ñ³ùÝÝÇã ¹³ï³ñ³Ý
F8: ÀÝ¹³Ù»ÝÁ | G8: ³Û¹ ÃíáõÙ Ñ³ñÏ³¹ñí³Í ëÝ³ÝÏáõÃÛáõÝ | H8: ³Û¹ ÃíáõÙ Ï³Ù³íáñ ëÝ³ÝÏáõÃÛáõÝ | I8: ëï³óí³Í ¹ÇÙáõÙÝ»ñÇ ÁÝÃ³óùÁ | L8: Ï³Û³óí»É ¿ å³ñï³å³ÝÇÝ ëÝ³ÝÏ ×³Ý³ã»Éáõ Ù³ëÇÝ í×Çé | M8: å³ñï³å³ÝÇÝ ëÝ³ÝÏ ×³Ý³ã»Éáõ ¹ÇÙáõÙÁ Ù»ñÅí»É ¿ | N8: ¹ÇÙáõÙÁ ÃáÕÝí»É ¿ ³é³Ýó ùÝÝáõÃÛ³Ý | O8: ³Ý³í³ñï (³Û¹ ÃíáõÙ Ï³ë»óí³Í) | P8: ÀÝ¹³Ù»ÝÁ | Q8: ÃáÕÝí»É ¿ ³é³Ýó ùÝÝ³ñÏÙ³Ý | R8: Ñ³ëï³ïí»É ¿
I10: ¸ÇÙáõÙÇ ÁÝ¹áõÝáõÙÁ Ù»ñÅí»É ¿ | J10: ¸ÇÙáõÙÁ í»ñ³¹³ñÓí»É ¿ | K10: ÀÝ¹áõÝí»É ¿ í³ñáõÛÃ
E20: 1 | F20: 2 | G20: 3 | H20: 4 | I20: 5 | J20: 6 | K20: 7 | L20: 8 | M20: 9 | N20: 10 | O20: 11 | P20: 12 | Q20: 13 | R20: 14 | S20: 15 | T20: 16 | U20: 17
A21: 1 | B21: Æñ³í³µ³Ý³Ï³Ý ³ÝÓÇ ëÝ³ÝÏáõÃÛ³Ý í»ñ³µ»ñÛ³É | E21: 106 | F21: 33 | G21: 29 | H21: 4 | I21: 0 | J21: 5 | K21: 28 | L21: 12 | M21: 3 | N21: 1 | O21: 12 | P21: 1 | Q21: 0 | R21: 1 | S21: 55 | T21: 84 | U21: 4
A22: 2 | B22: ²ÝÑ³ï Ó»éÝ»ñ»óÇ ëÝ³ÝÏáõÃÛ³Ý í»ñ³µ»ñÛ³É | E22: 8 | F22: 1 | G22: 0 | H22: 1 | I22: 0 | J22: 0 | K22: 1 | L22: 1 | M22: 0 | N22: 0 | O22: 0 | P22: 0 | Q22: 0 | R22: 0 | S22: 0 | T22: 9 | U22: 0
A23: 3 | B23: üÇ½ÇÏ³Ï³Ý ³ÝÓ³Ýó ëÝ³ÝÏáõÃÛ³Ý í»ñ³µ»ñÛ³É | E23: 62 | F23: 14 | G23: 13 | H23: 1 | I23: 0 | J23: 2 | K23: 12 | L23: 11 | M23: 0 | N23: 1 | O23: 0 | P23: 2 | Q23: 0 | R23: 2 | S23: 37 | T23: 39 | U23: 2

Sheet YNDHANUR
A1: Ð²ÞìºîìàôÂÚàôÜ 2010 Âì²Î²ÜÆ Ð²Ø²ð
A3: êÜ²ÜÎàôÂÚ²Ü ìºð²´ºðÚ²È ¶àðÌºðÆ øÜÜàôÂÚ²Ü Ø²êÆÜ
A4: Հավելված 2 Հայաստանի Հանրապետության Դատարանների նախագահների խորհրդի 2007թ. ¹»Ïï»Ùµ»ñÇ 21-ի թիվ 23Լ որոշման
A6: ìÇ×³Ï³·ñ³Ï³Ý ïáÕÇ Ñ³Ù³ñÁ | B6: êïáõ·Çã Ñ³í³ë³ñáõÙÝ»ñ` 1+2=15+16,2=3+4, 2=5+6+7, 7=8+9+10+11 | E6: ²Ý³í³ñï ·áñÍ»ñÇ ÙÝ³óáñ¹Á Ñ³ßí»ïáõ Å³Ù³Ý³Ï³ßñç³ÝÇ ëÏ½µáõÙ | F6: êï³óí³Í ¹ÇÙáõÙÝ»ñÇ (·áñÍ»ñ) ù³Ý³ÏÁ | L6: ì³ñáõÛÃ ÁÝ¹áõÝí³Í ¹ÇÙáõÙÝ»ñáí Ï³Û³óí³Í ¹³ï³Ï³Ý ³Ïï»ñ | P6: Ü»ñÏ³Û³óí»É ¿ ýÇÝ³Ýë³Ï³Ý ³éáÕç³óÙ³Ý Íñ³·Çñ | S6: ²í³ñïí»É »Ý ·áñÍ»ñ Ñ³ßí»ïáõ Å³Ù³Ý³Ï³ßñç³ÝáõÙ | T6: ²Ý³í³ñï ·áñÍ»ñÇ ÙÝ³óáñ¹Á Ñ³ßí»ïáõ Å³Ù³Ý³Ï³ßñç³ÝÇ í»ñçáõÙ | U6: ´áÕáù³ñÏí»É »Ý í»ñ³ùÝÝÇã ¹³ï³ñ³Ý
F8: ÀÝ¹³Ù»ÝÁ | G8: ³Û¹ ÃíáõÙ Ñ³ñÏ³¹ñí³Í ëÝ³ÝÏáõÃÛáõÝ | H8: ³Û¹ ÃíáõÙ Ï³Ù³íáñ ëÝ³ÝÏáõÃÛáõÝ | I8: ëï³óí³Í ¹ÇÙáõÙÝ»ñÇ ÁÝÃ³óùÁ | L8: Ï³Û³óí»É ¿ å³ñï³å³ÝÇÝ ëÝ³ÝÏ ×³Ý³ã»Éáõ Ù³ëÇÝ í×Çé | M8: å³ñï³å³ÝÇÝ ëÝ³ÝÏ ×³Ý³ã»Éáõ ¹ÇÙáõÙÁ Ù»ñÅí»É ¿ | N8: ¹ÇÙáõÙÁ ÃáÕÝí»É ¿ ³é³Ýó ùÝÝáõÃÛ³Ý | O8: ³Ý³í³ñï (³Û¹ ÃíáõÙ Ï³ë»óí³Í) | P8: ÀÝ¹³Ù»ÝÁ | Q8: ÃáÕÝí»É ¿ ³é³Ýó ùÝÝ³ñÏÙ³Ý | R8: Ñ³ëï³ïí»É ¿
I10: ¸ÇÙáõÙÇ ÁÝ¹áõÝáõÙÁ Ù»ñÅí»É ¿ | J10: ¸ÇÙáõÙÁ í»ñ³¹³ñÓí»É ¿ | K10: ÀÝ¹áõÝí»É ¿ í³ñáõÛÃ
E20: 1 | F20: 2 | G20: 3 | H20: 4 | I20: 5 | J20: 6 | K20: 7 | L20: 8 | M20: 9 | N20: 10 | O20: 11 | P20: 12 | Q20: 13 | R20: 14 | S20: 15 | T20: 16 | U20: 17
A21: 1 | B21: Æñ³í³µ³Ý³Ï³Ý ³ÝÓÇ ëÝ³ÝÏáõÃÛ³Ý í»ñ³µ»ñÛ³É | E21: =SUM(AJAPNYAK!E21+Kentron!E21+Shengavit!E21+Arabkir!E21+Erebuni!E21+Malatya!E21+Avan!E21+Armvir!E21+Kotayk!E21+Shirak!E21+Aragacotn!E21+Syuniq!E21+Ararat!E21+Gexarquniq!E21+Tavush!E21+Lori!E21) -> 735 | F21: =SUM(AJAPNYAK!F21+Kentron!F21+Shengavit!F21+Arabkir!F21+Erebuni!F21+Malatya!F21+Avan!F21+Armvir!F21+Kotayk!F21+Shirak!F21+Aragacotn!F21+Syuniq!F21+Ararat!F21+Gexarquniq!F21+Tavush!F21+Lori!F21) -> 279 | G21: =SUM(AJAPNYAK!G21+Kentron!G21+Shengavit!G21+Arabkir!G21+Erebuni!G21+Malatya!G21+Avan!G21+Armvir!G21+Kotayk!G21+Shirak!G21+Aragacotn!G21+Syuniq!G21+Ararat!G21+Gexarquniq!G21+Tavush!G21+Lori!G21) -> 256 | H21: =SUM(AJAPNYAK!H21+Kentron!H21+Shengavit!H21+Arabkir!H21+Erebuni!H21+Malatya!H21+Avan!H21+Armvir!H21+Kotayk!H21+Shirak!H21+Aragacotn!H21+Syuniq!H21+Ararat!H21+Gexarquniq!H21+Tavush!H21+Lori!H21) -> 23 | I21: 2 | J21: 38 | K21: =SUM(AJAPNYAK!K21+Kentron!K21+Shengavit!K21+Arabkir!K21+Erebuni!K21+Malatya!K21+Avan!K21+Armvir!K21+Kotayk!K21+Shirak!K21+Aragacotn!K21+Syuniq!K21+Ararat!K21+Gexarquniq!K21+Tavush!K21+Lori!K21) -> 239 | L21: 137 | M21: =SUM(AJAPNYAK!M21+Kentron!M21+Shengavit!M21+Arabkir!M21+Erebuni!M21+Malatya!M21+Avan!M21+Armvir!M21+Kotayk!M21+Shirak!M21+Aragacotn!M21+Syuniq!M21+Ararat!M21+Gexarquniq!M21+Tavush!M21+Lori!M21) -> 8 | N21: =SUM(AJAPNYAK!N21+Kentron!N21+Shengavit!N21+Arabkir!N21+Erebuni!N21+Malatya!N21+Avan!N21+Armvir!N21+Kotayk!N21+Shirak!N21+Aragacotn!N21+Syuniq!N21+Ararat!N21+Gexarquniq!N21+Tavush!N21+Lori!N21) -> 2 | O21: =SUM(AJAPNYAK!O21+Kentron!O21+Shengavit!O21+Arabkir!O21+Erebuni!O21+Malatya!O21+Avan!O21+Armvir!O21+Kotayk!O21+Shirak!O21+Aragacotn!O21+Syuniq!O21+Ararat!O21+Gexarquniq!O21+Tavush!O21+Lori!O21) -> 92 | P21: =SUM(AJAPNYAK!P21+Kentron!P21+Shengavit!P21+Arabkir!P21+Erebuni!P21+Malatya!P21+Avan!P21+Armvir!P21+Kotayk!P21+Shirak!P21+Aragacotn!P21+Syuniq!P21+Ararat!P21+Gexarquniq!P21+Tavush!P21+Lori!P21) -> 13 | Q21: =SUM(AJAPNYAK!Q21+Kentron!Q21+Shengavit!Q21+Arabkir!Q21+Erebuni!Q21+Malatya!Q21+Avan!Q21+Armvir!Q21+Kotayk!Q21+Shirak!Q21+Aragacotn!Q21+Syuniq!Q21+Ararat!Q21+Gexarquniq!Q21+Tavush!Q21+Lori!Q21) -> 2 | R21: =SUM(AJAPNYAK!R21+Kentron!R21+Shengavit!R21+Arabkir!R21+Erebuni!R21+Malatya!R21+Avan!R21+Armvir!R21+Kotayk!R21+Shirak!R21+Aragacotn!R21+Syuniq!R21+Ararat!R21+Gexarquniq!R21+Tavush!R21+Lori!R21) -> 4 | S21: =SUM(AJAPNYAK!S21+Kentron!S21+Shengavit!S21+Arabkir!S21+Erebuni!S21+Malatya!S21+Avan!S21+Armvir!S21+Kotayk!S21+Shirak!S21+Aragacotn!S21+Syuniq!S21+Ararat!S21+Gexarquniq!S21+Tavush!S21+Lori!S21) -> 244 | T21: =SUM(AJAPNYAK!T21+Kentron!T21+Shengavit!T21+Arabkir!T21+Erebuni!T21+Malatya!T21+Avan!T21+Armvir!T21+Kotayk!T21+Shirak!T21+Aragacotn!T21+Syuniq!T21+Ararat!T21+Gexarquniq!T21+Tavush!T21+Lori!T21) -> 770 | U21: =SUM(AJAPNYAK!U21+Kentron!U21+Shengavit!U21+Arabkir!U21+Erebuni!U21+Malatya!U21+Avan!U21+Armvir!U21+Kotayk!U21+Shirak!U21+Aragacotn!U21+Syuniq!U21+Ararat!U21+Gexarquniq!U21+Tavush!U21+Lori!U21) -> 26
A22: 2 | B22: ²ÝÑ³ï Ó»éÝ»ñ»óÇ ëÝ³ÝÏáõÃÛ³Ý í»ñ³µ»ñÛ³É | E22: =SUM(AJAPNYAK!E22+Kentron!E22+Shengavit!E22+Arabkir!E22+Erebuni!E22+Malatya!E22+Avan!E22+Armvir!E22+Kotayk!E22+Shirak!E22+Aragacotn!E22+Syuniq!E22+Ararat!E22+Gexarquniq!E22+Tavush!E22+Lori!E22) -> 138 | F22: =SUM(AJAPNYAK!F22+Kentron!F22+Shengavit!F22+Arabkir!F22+Erebuni!F22+Malatya!F22+Avan!F22+Armvir!F22+Kotayk!F22+Shirak!F22+Aragacotn!F22+Syuniq!F22+Ararat!F22+Gexarquniq!F22+Tavush!F22+Lori!F22) -> 16 | G22: =SUM(AJAPNYAK!G22+Kentron!G22+Shengavit!G22+Arabkir!G22+Erebuni!G22+Malatya!G22+Avan!G22+Armvir!G22+Kotayk!G22+Shirak!G22+Aragacotn!G22+Syuniq!G22+Ararat!G22+Gexarquniq!G22+Tavush!G22+Lori!G22) -> 13 | H22: =SUM(AJAPNYAK!H22+Kentron!H22+Shengavit!H22+Arabkir!H22+Erebuni!H22+Malatya!H22+Avan!H22+Armvir!H22+Kotayk!H22+Shirak!H22+Aragacotn!H22+Syuniq!H22+Ararat!H22+Gexarquniq!H22+Tavush!H22+Lori!H22) -> 3 | I22: =SUM(AJAPNYAK!I22+Kentron!I22+Shengavit!I22+Arabkir!I22+Erebuni!I22+Malatya!I22+Avan!I22+Armvir!I22+Kotayk!I22+Shirak!I22+Aragacotn!I22+Syuniq!I22+Ararat!I22+Gexarquniq!I22+Tavush!I22+Lori!I22) -> 1 | J22: =SUM(AJAPNYAK!J22+Kentron!J22+Shengavit!J22+Arabkir!J22+Erebuni!J22+Malatya!J22+Avan!J22+Armvir!J22+Kotayk!J22+Shirak!J22+Aragacotn!J22+Syuniq!J22+Ararat!J22+Gexarquniq!J22+Tavush!J22+Lori!J22) -> 2 | K22: =SUM(AJAPNYAK!K22+Kentron!K22+Shengavit!K22+Arabkir!K22+Erebuni!K22+Malatya!K22+Avan!K22+Armvir!K22+Kotayk!K22+Shirak!K22+Aragacotn!K22+Syuniq!K22+Ararat!K22+Gexarquniq!K22+Tavush!K22+Lori!K22) -> 13 | L22: 9 | M22: =SUM(AJAPNYAK!M22+Kentron!M22+Shengavit!M22+Arabkir!M22+Erebuni!M22+Malatya!M22+Avan!M22+Armvir!M22+Kotayk!M22+Shirak!M22+Aragacotn!M22+Syuniq!M22+Ararat!M22+Gexarquniq!M22+Tavush!M22+Lori!M22) -> 1 | N22: =SUM(AJAPNYAK!N22+Kentron!N22+Shengavit!N22+Arabkir!N22+Erebuni!N22+Malatya!N22+Avan!N22+Armvir!N22+Kotayk!N22+Shirak!N22+Aragacotn!N22+Syuniq!N22+Ararat!N22+Gexarquniq!N22+Tavush!N22+Lori!N22) -> 0 | O22: =SUM(AJAPNYAK!O22+Kentron!O22+Shengavit!O22+Arabkir!O22+Erebuni!O22+Malatya!O22+Avan!O22+Armvir!O22+Kotayk!O22+Shirak!O22+Aragacotn!O22+Syuniq!O22+Ararat!O22+Gexarquniq!O22+Tavush!O22+Lori!O22) -> 3 | P22: =SUM(AJAPNYAK!P22+Kentron!P22+Shengavit!P22+Arabkir!P22+Erebuni!P22+Malatya!P22+Avan!P22+Armvir!P22+Kotayk!P22+Shirak!P22+Aragacotn!P22+Syuniq!P22+Ararat!P22+Gexarquniq!P22+Tavush!P22+Lori!P22) -> 1 | Q22: =SUM(AJAPNYAK!Q22+Kentron!Q22+Shengavit!Q22+Arabkir!Q22+Erebuni!Q22+Malatya!Q22+Avan!Q22+Armvir!Q22+Kotayk!Q22+Shirak!Q22+Aragacotn!Q22+Syuniq!Q22+Ararat!Q22+Gexarquniq!Q22+Tavush!Q22+Lori!Q22) -> 0 | R22: =SUM(AJAPNYAK!R22+Kentron!R22+Shengavit!R22+Arabkir!R22+Erebuni!R22+Malatya!R22+Avan!R22+Armvir!R22+Kotayk!R22+Shirak!R22+Aragacotn!R22+Syuniq!R22+Ararat!R22+Gexarquniq!R22+Tavush!R22+Lori!R22) -> 0 | S22: =SUM(AJAPNYAK!S22+Kentron!S22+Shengavit!S22+Arabkir!S22+Erebuni!S22+Malatya!S22+Avan!S22+Armvir!S22+Kotayk!S22+Shirak!S22+Aragacotn!S22+Syuniq!S22+Ararat!S22+Gexarquniq!S22+Tavush!S22+Lori!S22) -> 23 | T22: =SUM(AJAPNYAK!T22+Kentron!T22+Shengavit!T22+Arabkir!T22+Erebuni!T22+Malatya!T22+Avan!T22+Armvir!T22+Kotayk!T22+Shirak!T22+Aragacotn!T22+Syuniq!T22+Ararat!T22+Gexarquniq!T22+Tavush!T22+Lori!T22) -> 131 | U22: =SUM(AJAPNYAK!U22+Kentron!U22+Shengavit!U22+Arabkir!U22+Erebuni!U22+Malatya!U22+Avan!U22+Armvir!U22+Kotayk!U22+Shirak!U22+Aragacotn!U22+Syuniq!U22+Ararat!U22+Gexarquniq!U22+Tavush!U22+Lori!U22) -> 1
A23: 3 | B23: üÇ½ÇÏ³Ï³Ý ³ÝÓ³Ýó ëÝ³ÝÏáõÃÛ³Ý í»ñ³µ»ñÛ³É | E23: =SUM(AJAPNYAK!E23+Kentron!E23+Shengavit!E23+Arabkir!E23+Erebuni!E23+Malatya!E23+Avan!E23+Armvir!E23+Kotayk!E23+Shirak!E23+Aragacotn!E23+Syuniq!E23+Ararat!E23+Gexarquniq!E23+Tavush!E23+Lori!E23) -> 545 | F23: =SUM(AJAPNYAK!F23+Kentron!F23+Shengavit!F23+Arabkir!F23+Erebuni!F23+Malatya!F23+Avan!F23+Armvir!F23+Kotayk!F23+Shirak!F23+Aragacotn!F23+Syuniq!F23+Ararat!F23+Gexarquniq!F23+Tavush!F23+Lori!F23) -> 257 | G23: =SUM(AJAPNYAK!G23+Kentron!G23+Shengavit!G23+Arabkir!G23+Erebuni!G23+Malatya!G23+Avan!G23+Armvir!G23+Kotayk!G23+Shirak!G23+Aragacotn!G23+Syuniq!G23+Ararat!G23+Gexarquniq!G23+Tavush!G23+Lori!G23) -> 213 | H23: =SUM(AJAPNYAK!H23+Kentron!H23+Shengavit!H23+Arabkir!H23+Erebuni!H23+Malatya!H23+Avan!H23+Armvir!H23+Kotayk!H23+Shirak!H23+Aragacotn!H23+Syuniq!H23+Ararat!H23+Gexarquniq!H23+Tavush!H23+Lori!H23) -> 44 | I23: 1 | J23: 75 | K23: =SUM(AJAPNYAK!K23+Kentron!K23+Shengavit!K23+Arabkir!K23+Erebuni!K23+Malatya!K23+Avan!K23+Armvir!K23+Kotayk!K23+Shirak!K23+Aragacotn!K23+Syuniq!K23+Ararat!K23+Gexarquniq!K23+Tavush!K23+Lori!K23) -> 181 | L23: =SUM(AJAPNYAK!L23+Kentron!L23+Shengavit!L23+Arabkir!L23+Erebuni!L23+Malatya!L23+Avan!L23+Armvir!L23+Kotayk!L23+Shirak!L23+Aragacotn!L23+Syuniq!L23+Ararat!L23+Gexarquniq!L23+Tavush!L23+Lori!L23) -> 134 | M23: =SUM(AJAPNYAK!M23+Kentron!M23+Shengavit!M23+Arabkir!M23+Erebuni!M23+Malatya!M23+Avan!M23+Armvir!M23+Kotayk!M23+Shirak!M23+Aragacotn!M23+Syuniq!M23+Ararat!M23+Gexarquniq!M23+Tavush!M23+Lori!M23) -> 17 | N23: =SUM(AJAPNYAK!N23+Kentron!N23+Shengavit!N23+Arabkir!N23+Erebuni!N23+Malatya!N23+Avan!N23+Armvir!N23+Kotayk!N23+Shirak!N23+Aragacotn!N23+Syuniq!N23+Ararat!N23+Gexarquniq!N23+Tavush!N23+Lori!N23) -> 1 | O23: =SUM(AJAPNYAK!O23+Kentron!O23+Shengavit!O23+Arabkir!O23+Erebuni!O23+Malatya!O23+Avan!O23+Armvir!O23+Kotayk!O23+Shirak!O23+Aragacotn!O23+Syuniq!O23+Ararat!O23+Gexarquniq!O23+Tavush!O23+Lori!O23) -> 29 | P23: =SUM(AJAPNYAK!P23+Kentron!P23+Shengavit!P23+Arabkir!P23+Erebuni!P23+Malatya!P23+Avan!P23+Armvir!P23+Kotayk!P23+Shirak!P23+Aragacotn!P23+Syuniq!P23+Ararat!P23+Gexarquniq!P23+Tavush!P23+Lori!P23) -> 29 | Q23: =SUM(AJAPNYAK!Q23+Kentron!Q23+Shengavit!Q23+Arabkir!Q23+Erebuni!Q23+Malatya!Q23+Avan!Q23+Armvir!Q23+Kotayk!Q23+Shirak!Q23+Aragacotn!Q23+Syuniq!Q23+Ararat!Q23+Gexarquniq!Q23+Tavush!Q23+Lori!Q23) -> 0 | R23: =SUM(AJAPNYAK!R23+Kentron!R23+Shengavit!R23+Arabkir!R23+Erebuni!R23+Malatya!R23+Avan!R23+Armvir!R23+Kotayk!R23+Shirak!R23+Aragacotn!R23+Syuniq!R23+Ararat!R23+Gexarquniq!R23+Tavush!R23+Lori!R23) -> 2 | ... U23: =SUM(AJAPNYAK!U23+Kentron!U23+Shengavit!U23+Arabkir!U23+Erebuni!U23+Malatya!U23+Avan!U23+Armvir!U23+Kotayk!U23+Shirak!U23+Aragacotn!U23+Syuniq!U23+Ararat!U23+Gexarquniq!U23+Tavush!U23+Lori!U23) -> 24
B24: ÀÜ¸²ØºÜÀ | E24: =SUM(E21:E23) -> 1418 | F24: =SUM(F21:F23) -> 552 | G24: =SUM(G21:G23) -> 482 | H24: =SUM(H21:H23) -> 70 | I24: =SUM(I21:I23) -> 4 | J24: =SUM(J21:J23) -> 115 | K24: =SUM(K21:K23) -> 433 | L24: =SUM(L21:L23) -> 280 | ... U24: =SUM(U21:U23) -> 51
