Workbook

Sheet HANRAPET
A1: Ð³ßí»ïíáõÃÛáõÝ
A2: ÐÐ ³é³çÇÝ ³ïÛ³ÝÇ ¹³ï³ñ³ÝÝ»ñÇ ùñ»³Ï³Ý ·áñÍ»ñÇ ùÝÝáõÃÛ³Ý í»ñ³µ»ñÛ³É 2007Ã.1-ÇÝ ÏÇë³ÙÛ³ÏÇ Ñ³Ù³ñ
A3: êïáõ·Çã Ñ³í³ë³ñáõÙÝ»ñ 1 ¨ 2 ëÛáõÝ³ÏÝ»ñÇ Ãí»ñÇ ·áõÙ³ñÁ Ñ³í³ë³ñ ¿ 9 ¨ 10 ëÛáõÝ³ÏÝ»ñÇ Ãí»ñÇ ·áõÙ³ñÇÝ | C3: ÐÐ ùñ»³Ï³Ý ûñ»Ýë·ñùÇ Ñá¹í³ÍÝ»ñ | D3: ²Ý³í³ñï ·áñÍ»ñÇ ÙÝ³óáñ¹Á Ñ³ßí»ïáõ Å³Ù³Ý³Ï³ßñç³ÝÇ ëÏ½µáõÙ | E3: êï³óí»É »Ý ·áñÍ»ñ Ñ³ßí»ïáõ Å³Ù³Ý³Ï³ßñç³ÝáõÙ | F3: øñ»³Ï³Ý ·áñÍ»ñÇ ß³ñÅÁ | O3: Ð³ßí»ïáõ Å³Ù³Ý³Ï³ßñç³ÝáõÙ ·áñÍ»ñáí »Õ»É »Ý (3, 5, 6, 7 ëÛáõÝ³Ï)
F4: ²í³ñïí»É »Ý ·áñÍ»ñ Ñ³ßí»ïáõ Å³Ù³Ý³Ï³ßñç³ÝáõÙ | M4: ²Ý³í³ñï ·áñÍ»ñÇ ÙÝ³óáñ¹Á Ñ³ßí»ïáõ Å³Ù³Ý³Ï³ßñç³ÝÇ í»ñçáõÙ | N4: ³Û¹ ÃíáõÙ ·ïÝíáõÙ »Ý í³ñáõÛÃáõÙ 3 ³ÙëÇó ³í»ÉÇ (Ï³ë»óí³Í ·áñÍ»ñÇ Ñ»ï Ù»Ïï»Õ) | O4: ¹³ï³å³ñïí³ÍÝ»ñ | P4: ³ñ¹³ñ³óí³ÍÝ»ñ | Q4: ³ÝÓÇÝù, áñáÝó í»ñ³µ»ñÛ³É ·áñÍ»ñÁ Ï³ñ×í»É »Ý | S4: ³ÝÙ»ÕëáõÝ³ÏÝ»ñ, áñáÝó ÝÏ³ïÙ³Ùµ ÏÇñ³éí»É »Ý µÅßÏ³Ï³Ý µÝáõÛÃÇ Ñ³ñÏ³¹ñ³Ï³Ý ÙÇçáóÝ»ñ | T4: ³ÝÓÇÝù, áñáÝó í»ñ³µ»ñÛ³É ·áñÍ»ñÁ Ñ³ÝÓÝí»É »Ý Éñ³óáõóÇã ùÝÝáõÃÛ³Ý
F5: ùÝÝ³ñÏí»É »Ý Áëï ¿áõÃÛ³Ý ¨ ¹³ï³í×Çé Ï³Û³óí»É | G5: ³Û¹ ÃíáõÙ 1 ³ÙëÇó ³í»ÉÇ Å³ÙÏ»ïáõÙ | H5: Ï³ñ×í»É ¿ | I5: ³ÝÙ»ÕëáõÝ³ÏÝ»ñÇ ÝÏ³ïÙ³Ùµ ÏÇñ³é»É »Ý µÅßÏ³Ï³Ý µÝáõÛÃÇ Ñ³ñÏ³¹ñ³Ï³Ý ÙÇçáóÝ»ñ | J5: Ñ³ÝÓÝí»É »Ý Éñ³óáõóÇã ùÝÝáõÃÛ³Ý | K5: Ñ³ÝÓÝí»É »Ý Áëï ÁÝ¹¹³ïáõÃÛ³Ý | L5: ÁÝ¹³Ù»ÝÁ ³í³ñïí»É »Ý ·áñÍ»ñ (3, 5-8 ëÛáõÝ³ÏÝ»ñÇ ·áõÙ³ñÁ) | Q5: ÁÝ¹³Ù»ÝÁ | R5: ³Û¹ ÃíáõÙ Ñ³Ýó³¹»åÇ Ï³Ù Ñ³Ýó³Ï³½ÙÇ µ³ó³Ï³ÛáõÃÛ³Ý ¨ Ù»Õ³¹ñ³ÝùÁ ã³å³óáõóí³Í ÉÇÝ»Éáõ å³ï×³éáí
D6: 1 | E6: 2 | F6: 3 | G6: 4 | H6: 5 | I6: 6 | J6: 7 | K6: 8 | L6: 9 | M6: 10 | N6: 11 | O6: 12 | P6: 13 | Q6: 14 | R6: 15 | S6: 16 | T6: 17
A7: 1, ²½·³ÛÇÝ ¨ é³ë³Û³Ï³Ý Çñ³í³Ñ³í³ë³ñáõÃÛáõÝÁ Ë³Ëï»ÉÁ | D7: =SUM(Marzer!D7+Erevan!D7) -> 0 | E7: =SUM(Marzer!E7+Erevan!E7) -> 0 | F7: =SUM(Marzer!F7+Erevan!F7) -> 0 | G7: =SUM(Marzer!G7+Erevan!G7) -> 0 | H7: =SUM(Marzer!H7+Erevan!H7) -> 0 | I7: =SUM(Marzer!I7+Erevan!I7) -> 0 | J7: =SUM(Marzer!J7+Erevan!J7) -> 0 | K7: =SUM(Marzer!K7+Erevan!K7) -> 0 | ... T7: =SUM(Marzer!T7+Erevan!T7) -> 0
A8: ¶áõÛùÇ Ñ³÷ßï³ÏáõÙ Ï³ï³ñí³Í | B8: 1, ¶áÕáõÃÛ³Ý ÙÇçáóáí | C8: 177 | D8: =SUM(Marzer!D8+Erevan!D8) -> 87 | E8: =SUM(Marzer!E8+Erevan!E8) -> 292 | F8: =SUM(Marzer!F8+Erevan!F8) -> 288 | G8: =SUM(Marzer!G8+Erevan!G8) -> 5 | H8: =SUM(Marzer!H8+Erevan!H8) -> 14 | I8: =SUM(Marzer!I8+Erevan!I8) -> 2 | J8: =SUM(Marzer!J8+Erevan!J8) -> 2 | K8: =SUM(Marzer!K8+Erevan!K8) -> 4 | ... T8: =SUM(Marzer!T8+Erevan!T8) -> 3
B9: 2, ÎáÕáåáõïÇ ÙÇçáóáí | C9: 176 | D9: =SUM(Marzer!D9+Erevan!D9) -> 16 | E9: =SUM(Marzer!E9+Erevan!E9) -> 22 | F9: =SUM(Marzer!F9+Erevan!F9) -> 30 | G9: =SUM(Marzer!G9+Erevan!G9) -> 1 | H9: =SUM(Marzer!H9+Erevan!H9) -> 0 | I9: =SUM(Marzer!I9+Erevan!I9) -> 0 | J9: =SUM(Marzer!J9+Erevan!J9) -> 0 | K9: =SUM(Marzer!K9+Erevan!K9) -> 0 | ... T9: =SUM(Marzer!T9+Erevan!T9) -> 0
B10: 3, ²í³½³ÏáõÃÛ³Ý ÙÇçáóáí | C10: 175 | D10: =SUM(Marzer!D10+Erevan!D10) -> 9 | E10: =SUM(Marzer!E10+Erevan!E10) -> 21 | F10: =SUM(Marzer!F10+Erevan!F10) -> 22 | G10: =SUM(Marzer!G10+Erevan!G10) -> 2 | H10: =SUM(Marzer!H10+Erevan!H10) -> 0 | I10: =SUM(Marzer!I10+Erevan!I10) -> 0 | J10: =SUM(Marzer!J10+Erevan!J10) -> 0 | K10: =SUM(Marzer!K10+Erevan!K10) -> 0 | ... T10: =SUM(Marzer!T10+Erevan!T10) -> 0
B11: 4, Ê³ñ¹³ËáõÃÛ³Ý ÙÇçáóáí | C11: 178 | D11: =SUM(Marzer!D11+Erevan!D11) -> 36 | E11: =SUM(Marzer!E11+Erevan!E11) -> 67 | F11: =SUM(Marzer!F11+Erevan!F11) -> 68 | G11: =SUM(Marzer!G11+Erevan!G11) -> 3 | H11: =SUM(Marzer!H11+Erevan!H11) -> 1 | I11: =SUM(Marzer!I11+Erevan!I11) -> 0 | J11: =SUM(Marzer!J11+Erevan!J11) -> 1 | K11: =SUM(Marzer!K11+Erevan!K11) -> 1 | ... T11: =SUM(Marzer!T11+Erevan!T11) -> 1
B12: 5, Úáõñ³óÝ»Éáõ, í³ïÝ»Éáõ Ï³Ù å³ßïáÝ³Ï³Ý ¹ÇñùÁ ã³ñ³ß³Ñ»Éáõ ÙÇçáóáí | C12: 179 | D12: =SUM(Marzer!D12+Erevan!D12) -> 18 | E12: =SUM(Marzer!E12+Erevan!E12) -> 25 | F12: =SUM(Marzer!F12+Erevan!F12) -> 27 | G12: =SUM(Marzer!G12+Erevan!G12) -> 1 | H12: =SUM(Marzer!H12+Erevan!H12) -> 5 | I12: =SUM(Marzer!I12+Erevan!I12) -> 0 | J12: =SUM(Marzer!J12+Erevan!J12) -> 0 | K12: =SUM(Marzer!K12+Erevan!K12) -> 0 | ... T12: =SUM(Marzer!T12+Erevan!T12) -> 0
A13: 7, ÞáñÃáõÙ | C13: 182 | D13: =SUM(Marzer!D13+Erevan!D13) -> 3 | E13: =SUM(Marzer!E13+Erevan!E13) -> 3 | F13: =SUM(Marzer!F13+Erevan!F13) -> 3 | G13: =SUM(Marzer!G13+Erevan!G13) -> 0 | H13: =SUM(Marzer!H13+Erevan!H13) -> 0 | I13: =SUM(Marzer!I13+Erevan!I13) -> 0 | J13: =SUM(Marzer!J13+Erevan!J13) -> 0 | K13: =SUM(Marzer!K13+Erevan!K13) -> 0 | ... T13: =SUM(Marzer!T13+Erevan!T13) -> 0
A14: 8, ¶áõÛùÁ ¹Çï³íáñáõÃÛ³Ùµ áãÝã³óÝ»ÉÁ Ï³Ù íÝ³ë»ÉÁ | C14: 185 | D14: =SUM(Marzer!D14+Erevan!D14) -> 3 | E14: =SUM(Marzer!E14+Erevan!E14) -> 8 | F14: =SUM(Marzer!F14+Erevan!F14) -> 6 | G14: =SUM(Marzer!G14+Erevan!G14) -> 1 | H14: =SUM(Marzer!H14+Erevan!H14) -> 2 | I14: =SUM(Marzer!I14+Erevan!I14) -> 2 | J14: =SUM(Marzer!J14+Erevan!J14) -> 0 | K14: =SUM(Marzer!K14+Erevan!K14) -> 0 | ... T14: =SUM(Marzer!T14+Erevan!T14) -> 0
A15: 9,¸Çï³íáñÛ³É ëå³ÝáõÃÛáõÝ | C15: 104 | D15: =SUM(Marzer!D15+Erevan!D15) -> 28 | E15: =SUM(Marzer!E15+Erevan!E15) -> 51 | F15: =SUM(Marzer!F15+Erevan!F15) -> 36 | G15: =SUM(Marzer!G15+Erevan!G15) -> 3 | H15: =SUM(Marzer!H15+Erevan!H15) -> 0 | I15: =SUM(Marzer!I15+Erevan!I15) -> 9 | J15: =SUM(Marzer!J15+Erevan!J15) -> 1 | K15: =SUM(Marzer!K15+Erevan!K15) -> 2 | ... T15: =SUM(Marzer!T15+Erevan!T15) -> 2
A16: 10,¸Çï³íáñÛ³É Í³Ýñ Ù³ñÙÝ³Ï³Ý íÝ³ëí³Íù | C16: 112 | D16: =SUM(Marzer!D16+Erevan!D16) -> 27 | E16: =SUM(Marzer!E16+Erevan!E16) -> 53 | F16: =SUM(Marzer!F16+Erevan!F16) -> 49 | G16: =SUM(Marzer!G16+Erevan!G16) -> 0 | H16: =SUM(Marzer!H16+Erevan!H16) -> 1 | I16: =SUM(Marzer!I16+Erevan!I16) -> 5 | J16: =SUM(Marzer!J16+Erevan!J16) -> 3 | K16: =SUM(Marzer!K16+Erevan!K16) -> 0 | ... T16: =SUM(Marzer!T16+Erevan!T16) -> 4
A17: 11, ´éÝ³µ³ñáõÃÛáõÝ | C17: 138 | D17: =SUM(Marzer!D17+Erevan!D17) -> 4 | E17: =SUM(Marzer!E17+Erevan!E17) -> 6 | F17: =SUM(Marzer!F17+Erevan!F17) -> 8 | G17: =SUM(Marzer!G17+Erevan!G17) -> 1 | H17: =SUM(Marzer!H17+Erevan!H17) -> 0 | I17: =SUM(Marzer!I17+Erevan!I17) -> 0 | J17: =SUM(Marzer!J17+Erevan!J17) -> 0 | K17: =SUM(Marzer!K17+Erevan!K17) -> 0 | ... T17: =SUM(Marzer!T17+Erevan!T17) -> 0
A18: 12,Î³ß³é³Ï»ñáõÃÛáõÝ, Ï³ß³é³ïíáõÃÛáõÝ, Ï³ß³é³ïíáõÃÛ³Ý ÙÇçÝáñ¹áõÃÛáõÝ | C18: 311,312,313 | D18: =SUM(Marzer!D18+Erevan!D18) -> 3 | E18: =SUM(Marzer!E18+Erevan!E18) -> 9 | F18: =SUM(Marzer!F18+Erevan!F18) -> 6 | G18: =SUM(Marzer!G18+Erevan!G18) -> 0 | H18: =SUM(Marzer!H18+Erevan!H18) -> 3 | I18: =SUM(Marzer!I18+Erevan!I18) -> 0 | J18: =SUM(Marzer!J18+Erevan!J18) -> 0 | K18: =SUM(Marzer!K18+Erevan!K18) -> 0 | ... T18: =SUM(Marzer!T18+Erevan!T18) -> 0
A19: 13,ÊáõÉÇ·³ÝáõÃÛáõÝ | C19: 258 I | D19: =SUM(Marzer!D19+Erevan!D19) -> 8 | E19: =SUM(Marzer!E19+Erevan!E19) -> 15 | F19: =SUM(Marzer!F19+Erevan!F19) -> 18 | G19: =SUM(Marzer!G19+Erevan!G19) -> 0 | H19: =SUM(Marzer!H19+Erevan!H19) -> 2 | I19: =SUM(Marzer!I19+Erevan!I19) -> 0 | J19: =SUM(Marzer!J19+Erevan!J19) -> 0 | K19: =SUM(Marzer!K19+Erevan!K19) -> 0 | ... T19: =SUM(Marzer!T19+Erevan!T19) -> 0
A20: 14,â³ñ³ÙÇï ËáõÉÇ·³ÝáõÃÛáõÝ | C20: 258 II | D20: =SUM(Marzer!D20+Erevan!D20) -> 12 | E20: =SUM(Marzer!E20+Erevan!E20) -> 25 | F20: =SUM(Marzer!F20+Erevan!F20) -> 30 | G20: =SUM(Marzer!G20+Erevan!G20) -> 1 | H20: =SUM(Marzer!H20+Erevan!H20) -> 0 | I20: =SUM(Marzer!I20+Erevan!I20) -> 1 | J20: =SUM(Marzer!J20+Erevan!J20) -> 1 | K20: =SUM(Marzer!K20+Erevan!K20) -> 0 | ... T20: =SUM(Marzer!T20+Erevan!T20) -> 0
A21: 15, ²é³ÝÓÝ³å»ë ã³ñ³ÙÇï ËáõÉÇ·³ÝáõÃÛáõÝ | C21: 258 III | D21: =SUM(Marzer!D21+Erevan!D21) -> 12 | E21: =SUM(Marzer!E21+Erevan!E21) -> 25 | F21: =SUM(Marzer!F21+Erevan!F21) -> 26 | G21: =SUM(Marzer!G21+Erevan!G21) -> 0 | H21: =SUM(Marzer!H21+Erevan!H21) -> 1 | I21: =SUM(Marzer!I21+Erevan!I21) -> 0 | J21: =SUM(Marzer!J21+Erevan!J21) -> 0 | K21: =SUM(Marzer!K21+Erevan!K21) -> 0 | ... T21: =SUM(Marzer!T21+Erevan!T21) -> 0
A22: 16,¼»Ýù ·áñÍ³¹ñ»Éáõ Ï³Ù ³ÛÝ ·áñÍ³¹ñ»Éáõ ÷áñÓáí ËáõÉÇ·³Ý | C22: 258 IV | D22: =SUM(Marzer!D22+Erevan!D22) -> 10 | E22: =SUM(Marzer!E22+Erevan!E22) -> 16 | F22: =SUM(Marzer!F22+Erevan!F22) -> 17 | G22: =SUM(Marzer!G22+Erevan!G22) -> 0 | H22: =SUM(Marzer!H22+Erevan!H22) -> 0 | I22: =SUM(Marzer!I22+Erevan!I22) -> 0 | J22: =SUM(Marzer!J22+Erevan!J22) -> 0 | K22: =SUM(Marzer!K22+Erevan!K22) -> 0 | ... T22: =SUM(Marzer!T22+Erevan!T22) -> 0
A23: 17,îñ³Ýëåáñï³ÛÇÝ ÙÇçáóÝ»ñÇ »ñÃ¨»ÏáõÃÛ³Ý ³Ýíï³Ý·áõÃÛ³Ý ¨ ß³Ñ³·áñßÙ³Ý Ï³ÝáÝÝ»ñÇ Ë³ËïáõÙ | C23: 242 | D23: =SUM(Marzer!D23+Erevan!D23) -> 43 | E23: =SUM(Marzer!E23+Erevan!E23) -> 86 | F23: =SUM(Marzer!F23+Erevan!F23) -> 96 | G23: =SUM(Marzer!G23+Erevan!G23) -> 2 | H23: =SUM(Marzer!H23+Erevan!H23) -> 13 | I23: =SUM(Marzer!I23+Erevan!I23) -> 0 | J23: =SUM(Marzer!J23+Erevan!J23) -> 0 | K23: =SUM(Marzer!K23+Erevan!K23) -> 0 | ... T23: =SUM(Marzer!T23+Erevan!T23) -> 0
A24: 18, ÂÙñ³¹»Õ»ñÇ Ñ»ï Ï³åí³Í Ñ³Ýó³·áñÍáõÃÛáõÝÝ»ñ | C24: 266, 268, 269,271, 272, 273, 276 | D24: =SUM(Marzer!D24+Erevan!D24) -> 34 | E24: =SUM(Marzer!E24+Erevan!E24) -> 82 | F24: =SUM(Marzer!F24+Erevan!F24) -> 86 | G24: =SUM(Marzer!G24+Erevan!G24) -> 1 | H24: =SUM(Marzer!H24+Erevan!H24) -> 2 | I24: =SUM(Marzer!I24+Erevan!I24) -> 0 | J24: =SUM(Marzer!J24+Erevan!J24) -> 1 | K24: =SUM(Marzer!K24+Erevan!K24) -> 1 | ... T24: =SUM(Marzer!T24+Erevan!T24) -> 2
A25: 19,²åûñÇÝÇ Ï»ñåáí é³½Ù³ÙÃ»ñù Ï³Ù å³ÛÃáõóÇÏ ÝÛáõÃ»ñ Ïñ»ÉÁ | C25: 235 | D25: =SUM(Marzer!D25+Erevan!D25) -> 7 | E25: =SUM(Marzer!E25+Erevan!E25) -> 25 | F25: =SUM(Marzer!F25+Erevan!F25) -> 23 | G25: =SUM(Marzer!G25+Erevan!G25) -> 1 | H25: =SUM(Marzer!H25+Erevan!H25) -> 0 | I25: =SUM(Marzer!I25+Erevan!I25) -> 0 | J25: =SUM(Marzer!J25+Erevan!J25) -> 0 | K25: =SUM(Marzer!K25+Erevan!K25) -> 0 | ... T25: =SUM(Marzer!T25+Erevan!T25) -> 0
A26: 20, ²ÛÉ Ñ³Ýó³·áñÍáõÃÛáõÝÝ»ñ | D26: =SUM(Marzer!D26+Erevan!D26) -> 176 | E26: =SUM(Marzer!E26+Erevan!E26) -> 451 | F26: =SUM(Marzer!F26+Erevan!F26) -> 456 | G26: =SUM(Marzer!G26+Erevan!G26) -> 10 | H26: =SUM(Marzer!H26+Erevan!H26) -> 37 | I26: =SUM(Marzer!I26+Erevan!I26) -> 6 | J26: =SUM(Marzer!J26+Erevan!J26) -> 4 | K26: =SUM(Marzer!K26+Erevan!K26) -> 3 | ... T26: =SUM(Marzer!T26+Erevan!T26) -> 5
A27: 21, ÀÜ¸²ØºÜÀ | D27: =SUM(Marzer!D27+Erevan!D27) -> 536 | E27: =SUM(Marzer!E27+Erevan!E27) -> 1282 | F27: =SUM(Marzer!F27+Erevan!F27) -> 1295 | G27: =SUM(Marzer!G27+Erevan!G27) -> 32 | H27: =SUM(Marzer!H27+Erevan!H27) -> 81 | I27: =SUM(Marzer!I27+Erevan!I27) -> 25 | J27: =SUM(Marzer!J27+Erevan!J27) -> 13 | K27: =SUM(Marzer!K27+Erevan!K27) -> 11 | ... T27: =SUM(Marzer!T27+Erevan!T27) -> 17
A28: 22, ²Û¹ ÃíáõÙ` ³Ýã³÷³Ñ³ëÝ»ñÇ í»ñ³µ»ñÛ³É ·áñÍ»ñáí | D28: =SUM(Marzer!D28+Erevan!D28) -> 18 | E28: =SUM(Marzer!E28+Erevan!E28) -> 87 | F28: =SUM(Marzer!F28+Erevan!F28) -> 84 | G28: =SUM(Marzer!G28+Erevan!G28) -> 3 | H28: =SUM(Marzer!H28+Erevan!H28) -> 4 | I28: =SUM(Marzer!I28+Erevan!I28) -> 0 | J28: =SUM(Marzer!J28+Erevan!J28) -> 1 | K28: =SUM(Marzer!K28+Erevan!K28) -> 0 | ... T28: =SUM(Marzer!T28+Erevan!T28) -> 1

Sheet Erevan
A1: Ð³ßí»ïíáõÃÛáõÝ
A2: ºñ¨³Ý ù³Õ³ùÇ ³é³çÇÝ ³ïÛ³ÝÇ ¹³ï³ñ³ÝÝ»ñÇ ùñ»³Ï³Ý ·áñÍ»ñÇ ùÝÝáõÃÛ³Ý í»ñ³µ»ñÛ³É 2007Ã. Ñ³Ù³ñ
A3: êïáõ·Çã Ñ³í³ë³ñáõÙÝ»ñ §²¦ µ³ÅÝÇ í»ñ³µ»ñÛ³É 1 ¨ 2 ëÛáõÝ³ÏÝ»ñÇ Ãí»ñÇ ·áõÙ³ñÁ Ñ³í³ë³ñ ¿ 9 ¨ 10 ëÛáõÝ³ÏÝ»ñÇ Ãí»ñÇ ·áõÙ³ñÇÝ | C3: ÐÐ ùñ»³Ï³Ý ûñ»Ýë·ñùÇ Ñá¹í³ÍÝ»ñ | D3: ²Ý³í³ñï ·áñÍ»ñÇ ÙÝ³óáñ¹Á Ñ³ßí»ïáõ Å³Ù³Ý³Ï³ßñç³ÝÇ ëÏ½µáõÙ | E3: êï³óí»É »Ý ·áñÍ»ñ Ñ³ßí»ïáõ Å³Ù³Ý³Ï³ßñç³ÝáõÙ | F3: ² øñ»³Ï³Ý ·áñÍ»ñÇ ß³ñÅÁ | O3: Ð³ßí»ïáõ Å³Ù³Ý³Ï³ßñç³ÝáõÙ ·áñÍ»ñáí »Õ»É »Ý (3, 5, 6, 7 ëÛáõÝ³Ï)
F4: ²í³ñïí»É »Ý ·áñÍ»ñ Ñ³ßí»ïáõ Å³Ù³Ý³Ï³ßñç³ÝáõÙ | M4: ²Ý³í³ñï ·áñÍ»ñÇ ÙÝ³óáñ¹Á Ñ³ßí»ïáõ Å³Ù³Ý³Ï³ßñç³ÝÇ í»ñçáõÙ | N4: ³Û¹ ÃíáõÙ ·ïÝíáõÙ »Ý í³ñáõÛÃáõÙ 3 ³ÙëÇó ³í»ÉÇ (Ï³ë»óí³Í ·áñÍ»ñÇ Ñ»ï Ù»Ïï»Õ) | O4: ¹³ï³å³ñïí³ÍÝ»ñ | P4: ³ñ¹³ñ³óí³ÍÝ»ñ | Q4: ³ÝÓÇÝù, áñáÝó í»ñ³µ»ñÛ³É ·áñÍ»ñÁ Ï³ñ×í»É »Ý | S4: ³ÝÙ»ÕëáõÝ³ÏÝ»ñ, áñáÝó ÝÏ³ïÙ³Ùµ ÏÇñ³éí»É »Ý µÅßÏ³Ï³Ý µÝáõÛÃÇ Ñ³ñÏ³¹ñ³Ï³Ý ÙÇçáóÝ»ñ | T4: ³ÝÓÇÝù, áñáÝó í»ñ³µ»ñÛ³É ·áñÍ»ñÁ Ñ³ÝÓÝí»É »Ý Éñ³óáõóÇã ùÝÝáõÃÛ³Ý
F5: ùÝÝ³ñÏí»É »Ý Áëï ¿áõÃÛ³Ý ¨ ¹³ï³í×Çé Ï³Û³óí»É | G5: ³Û¹ ÃíáõÙ 1 ³ÙëÇó ³í»ÉÇ Å³ÙÏ»ïáõÙ | H5: Ï³ñ×»É »Ý ³ÝûñÇÝ³Ï³Ý ¹³ï³Ï³Ý ÝÇëï»ñáõÙ | I5: ³ÝÙ»ÕëáõÝ³ÏÝ»ñÇ ÝÏ³ïÙ³Ùµ ÏÇñ³é»É »Ý µÅßÏ³Ï³Ý µÝáõÛÃÇ Ñ³ñÏ³¹ñ³Ï³Ý ÙÇçáóÝ»ñ | J5: Ñ³ÝÓÝí»É »Ý Éñ³óáõóÇã ùÝÝáõÃÛ³Ý ³ÝûñÇÝ³ Ï³Ý ¨ ¹³ï³Ï³Ý ÝÇëï | K5: Ñ³ÝÓÝí»É »Ý Áëï ÁÝ¹¹³ïáõÃÛ³Ý | L5: ÁÝ¹³Ù»ÝÁ ³í³ñïí»É »Ý ·áñÍ»ñ (3, 5-8 ëÛáõÝ³ÏÝ»ñÇ ·áõÙ³ñÁ) | Q5: ÁÝ¹³Ù»ÝÁ | R5: ³Û¹ ÃíáõÙ Ñ³Ýó³¹»åÇ Ï³Ù Ñ³Ýó³Ï³½ÙÇ µ³ó³Ï³ÛáõÃÛ³Ý ¨ Ù»Õ³¹ñ³ÝùÁ ã³å³óáõóí³Í ÉÇÝ»Éáõ å³ï×³éáí
D6: 1 | E6: 2 | F6: 3 | G6: 4 | H6: 5 | I6: 6 | J6: 7 | K6: 8 | L6: 9 | M6: 10 | N6: 11 | O6: 12 | P6: 13 | Q6: 14 | R6: 15 | S6: 16 | T6: 17
A7: 1, ²½·³ÛÇÝ ¨ é³ë³Û³Ï³Ý Çñ³í³Ñ³í³ë³ñáõÃÛáõÝÁ Ë³Ëï»ÉÁ | D7: =SUM(Adjapniak!D7+Shengavit!D7+Kentron!D7+Arabkir!D7+Erebuni!D7+Avan!D7+Malatia!D7) -> 0 | E7: =SUM(Adjapniak!E7+Shengavit!E7+Kentron!E7+Arabkir!E7+Erebuni!E7+Avan!E7+Malatia!E7) -> 0 | F7: =SUM(Adjapniak!F7+Shengavit!F7+Kentron!F7+Arabkir!F7+Erebuni!F7+Avan!F7+Malatia!F7) -> 0 | G7: =SUM(Adjapniak!G7+Shengavit!G7+Kentron!G7+Arabkir!G7+Erebuni!G7+Avan!G7+Malatia!G7) -> 0 | H7: =SUM(Adjapniak!H7+Shengavit!H7+Kentron!H7+Arabkir!H7+Erebuni!H7+Avan!H7+Malatia!H7) -> 0 | I7: =SUM(Adjapniak!I7+Shengavit!I7+Kentron!I7+Arabkir!I7+Erebuni!I7+Avan!I7+Malatia!I7) -> 0 | J7: =SUM(Adjapniak!J7+Shengavit!J7+Kentron!J7+Arabkir!J7+Erebuni!J7+Avan!J7+Malatia!J7) -> 0 | K7: =SUM(Adjapniak!K7+Shengavit!K7+Kentron!K7+Arabkir!K7+Erebuni!K7+Avan!K7+Malatia!K7) -> 0 | ... T7: =SUM(Adjapniak!T7+Shengavit!T7+Kentron!T7+Arabkir!T7+Erebuni!T7+Avan!T7+Malatia!T7) -> 0
A8: ¶áõÛùÇ Ñ³÷ßï³ÏáõÙ Ï³ï³ñí³Í | B8: 1, ¶áÕáõÃÛ³Ý ÙÇçáóáí | C8: 177 | D8: =SUM(Adjapniak!D8+Shengavit!D8+Kentron!D8+Arabkir!D8+Erebuni!D8+Avan!D8+Malatia!D8) -> 40 | E8: =SUM(Adjapniak!E8+Shengavit!E8+Kentron!E8+Arabkir!E8+Erebuni!E8+Avan!E8+Malatia!E8) -> 93 | F8: =SUM(Adjapniak!F8+Shengavit!F8+Kentron!F8+Arabkir!F8+Erebuni!F8+Avan!F8+Malatia!F8) -> 105 | G8: =SUM(Adjapniak!G8+Shengavit!G8+Kentron!G8+Arabkir!G8+Erebuni!G8+Avan!G8+Malatia!G8) -> 1 | H8: =SUM(Adjapniak!H8+Shengavit!H8+Kentron!H8+Arabkir!H8+Erebuni!H8+Avan!H8+Malatia!H8) -> 6 | I8: =SUM(Adjapniak!I8+Shengavit!I8+Kentron!I8+Arabkir!I8+Erebuni!I8+Avan!I8+Malatia!I8) -> 1 | J8: =SUM(Adjapniak!J8+Shengavit!J8+Kentron!J8+Arabkir!J8+Erebuni!J8+Avan!J8+Malatia!J8) -> 1 | K8: =SUM(Adjapniak!K8+Shengavit!K8+Kentron!K8+Arabkir!K8+Erebuni!K8+Avan!K8+Malatia!K8) -> 1 | ... T8: =SUM(Adjapniak!T8+Shengavit!T8+Kentron!T8+Arabkir!T8+Erebuni!T8+Avan!T8+Malatia!T8) -> 1
B9: 2, ÎáÕáåáõïÇ ÙÇçáóáí | C9: 176 | D9: =SUM(Adjapniak!D9+Shengavit!D9+Kentron!D9+Arabkir!D9+Erebuni!D9+Avan!D9+Malatia!D9) -> 12 | E9: =SUM(Adjapniak!E9+Shengavit!E9+Kentron!E9+Arabkir!E9+Erebuni!E9+Avan!E9+Malatia!E9) -> 9 | F9: =SUM(Adjapniak!F9+Shengavit!F9+Kentron!F9+Arabkir!F9+Erebuni!F9+Avan!F9+Malatia!F9) -> 16 | G9: =SUM(Adjapniak!G9+Shengavit!G9+Kentron!G9+Arabkir!G9+Erebuni!G9+Avan!G9+Malatia!G9) -> 0 | H9: =SUM(Adjapniak!H9+Shengavit!H9+Kentron!H9+Arabkir!H9+Erebuni!H9+Avan!H9+Malatia!H9) -> 0 | I9: =SUM(Adjapniak!I9+Shengavit!I9+Kentron!I9+Arabkir!I9+Erebuni!I9+Avan!I9+Malatia!I9) -> 0 | J9: =SUM(Adjapniak!J9+Shengavit!J9+Kentron!J9+Arabkir!J9+Erebuni!J9+Avan!J9+Malatia!J9) -> 0 | K9: =SUM(Adjapniak!K9+Shengavit!K9+Kentron!K9+Arabkir!K9+Erebuni!K9+Avan!K9+Malatia!K9) -> 0 | ... T9: =SUM(Adjapniak!T9+Shengavit!T9+Kentron!T9+Arabkir!T9+Erebuni!T9+Avan!T9+Malatia!T9) -> 0
B10: 3, ²í³½³ÏáõÃÛ³Ý ÙÇçáóáí | C10: 175 | D10: =SUM(Adjapniak!D10+Shengavit!D10+Kentron!D10+Arabkir!D10+Erebuni!D10+Avan!D10+Malatia!D10) -> 4 | E10: =SUM(Adjapniak!E10+Shengavit!E10+Kentron!E10+Arabkir!E10+Erebuni!E10+Avan!E10+Malatia!E10) -> 16 | F10: =SUM(Adjapniak!F10+Shengavit!F10+Kentron!F10+Arabkir!F10+Erebuni!F10+Avan!F10+Malatia!F10) -> 14 | G10: =SUM(Adjapniak!G10+Shengavit!G10+Kentron!G10+Arabkir!G10+Erebuni!G10+Avan!G10+Malatia!G10) -> 1 | H10: =SUM(Adjapniak!H10+Shengavit!H10+Kentron!H10+Arabkir!H10+Erebuni!H10+Avan!H10+Malatia!H10) -> 0 | I10: =SUM(Adjapniak!I10+Shengavit!I10+Kentron!I10+Arabkir!I10+Erebuni!I10+Avan!I10+Malatia!I10) -> 0 | J10: =SUM(Adjapniak!J10+Shengavit!J10+Kentron!J10+Arabkir!J10+Erebuni!J10+Avan!J10+Malatia!J10) -> 0 | K10: =SUM(Adjapniak!K10+Shengavit!K10+Kentron!K10+Arabkir!K10+Erebuni!K10+Avan!K10+Malatia!K10) -> 0 | ... T10: =SUM(Adjapniak!T10+Shengavit!T10+Kentron!T10+Arabkir!T10+Erebuni!T10+Avan!T10+Malatia!T10) -> 0
B11: 4, Ê³ñ¹³ËáõÃÛ³Ý ÙÇçáóáí | C11: 178 | D11: =SUM(Adjapniak!D11+Shengavit!D11+Kentron!D11+Arabkir!D11+Erebuni!D11+Avan!D11+Malatia!D11) -> 25 | E11: =SUM(Adjapniak!E11+Shengavit!E11+Kentron!E11+Arabkir!E11+Erebuni!E11+Avan!E11+Malatia!E11) -> 46 | F11: =SUM(Adjapniak!F11+Shengavit!F11+Kentron!F11+Arabkir!F11+Erebuni!F11+Avan!F11+Malatia!F11) -> 45 | G11: =SUM(Adjapniak!G11+Shengavit!G11+Kentron!G11+Arabkir!G11+Erebuni!G11+Avan!G11+Malatia!G11) -> 2 | H11: =SUM(Adjapniak!H11+Shengavit!H11+Kentron!H11+Arabkir!H11+Erebuni!H11+Avan!H11+Malatia!H11) -> 1 | I11: =SUM(Adjapniak!I11+Shengavit!I11+Kentron!I11+Arabkir!I11+Erebuni!I11+Avan!I11+Malatia!I11) -> 0 | J11: =SUM(Adjapniak!J11+Shengavit!J11+Kentron!J11+Arabkir!J11+Erebuni!J11+Avan!J11+Malatia!J11) -> 1 | K11: =SUM(Adjapniak!K11+Shengavit!K11+Kentron!K11+Arabkir!K11+Erebuni!K11+Avan!K11+Malatia!K11) -> 0 | ... T11: =SUM(Adjapniak!T11+Shengavit!T11+Kentron!T11+Arabkir!T11+Erebuni!T11+Avan!T11+Malatia!T11) -> 1
B12: 5, Úáõñ³óÝ»Éáõ, í³ïÝ»Éáõ Ï³Ù å³ßïáÝ³Ï³Ý ¹ÇñùÁ ã³ñ³ß³Ñ»Éáõ ÙÇçáóáí | C12: 179 | D12: =SUM(Adjapniak!D12+Shengavit!D12+Kentron!D12+Arabkir!D12+Erebuni!D12+Avan!D12+Malatia!D12) -> 8 | E12: =SUM(Adjapniak!E12+Shengavit!E12+Kentron!E12+Arabkir!E12+Erebuni!E12+Avan!E12+Malatia!E12) -> 9 | F12: =SUM(Adjapniak!F12+Shengavit!F12+Kentron!F12+Arabkir!F12+Erebuni!F12+Avan!F12+Malatia!F12) -> 8 | G12: =SUM(Adjapniak!G12+Shengavit!G12+Kentron!G12+Arabkir!G12+Erebuni!G12+Avan!G12+Malatia!G12) -> 0 | H12: =SUM(Adjapniak!H12+Shengavit!H12+Kentron!H12+Arabkir!H12+Erebuni!H12+Avan!H12+Malatia!H12) -> 1 | I12: =SUM(Adjapniak!I12+Shengavit!I12+Kentron!I12+Arabkir!I12+Erebuni!I12+Avan!I12+Malatia!I12) -> 0 | J12: =SUM(Adjapniak!J12+Shengavit!J12+Kentron!J12+Arabkir!J12+Erebuni!J12+Avan!J12+Malatia!J12) -> 0 | K12: =SUM(Adjapniak!K12+Shengavit!K12+Kentron!K12+Arabkir!K12+Erebuni!K12+Avan!K12+Malatia!K12) -> 0 | ... T12: =SUM(Adjapniak!T12+Shengavit!T12+Kentron!T12+Arabkir!T12+Erebuni!T12+Avan!T12+Malatia!T12) -> 0
A13: 7, ÞáñÃáõÙ | C13: 182 | D13: =SUM(Adjapniak!D13+Shengavit!D13+Kentron!D13+Arabkir!D13+Erebuni!D13+Avan!D13+Malatia!D13) -> 3 | E13: =SUM(Adjapniak!E13+Shengavit!E13+Kentron!E13+Arabkir!E13+Erebuni!E13+Avan!E13+Malatia!E13) -> 2 | F13: =SUM(Adjapniak!F13+Shengavit!F13+Kentron!F13+Arabkir!F13+Erebuni!F13+Avan!F13+Malatia!F13) -> 2 | G13: =SUM(Adjapniak!G13+Shengavit!G13+Kentron!G13+Arabkir!G13+Erebuni!G13+Avan!G13+Malatia!G13) -> 0 | H13: =SUM(Adjapniak!H13+Shengavit!H13+Kentron!H13+Arabkir!H13+Erebuni!H13+Avan!H13+Malatia!H13) -> 0 | I13: =SUM(Adjapniak!I13+Shengavit!I13+Kentron!I13+Arabkir!I13+Erebuni!I13+Avan!I13+Malatia!I13) -> 0 | J13: =SUM(Adjapniak!J13+Shengavit!J13+Kentron!J13+Arabkir!J13+Erebuni!J13+Avan!J13+Malatia!J13) -> 0 | K13: =SUM(Adjapniak!K13+Shengavit!K13+Kentron!K13+Arabkir!K13+Erebuni!K13+Avan!K13+Malatia!K13) -> 0 | ... T13: =SUM(Adjapniak!T13+Shengavit!T13+Kentron!T13+Arabkir!T13+Erebuni!T13+Avan!T13+Malatia!T13) -> 0
A14: 8, ¶áõÛùÁ ¹Çï³íáñáõÃÛ³Ùµ áãÝã³óÝ»ÉÁ Ï³Ù íÝ³ë»ÉÁ | C14: 185 | D14: =SUM(Adjapniak!D14+Shengavit!D14+Kentron!D14+Arabkir!D14+Erebuni!D14+Avan!D14+Malatia!D14) -> 0 | E14: =SUM(Adjapniak!E14+Shengavit!E14+Kentron!E14+Arabkir!E14+Erebuni!E14+Avan!E14+Malatia!E14) -> 3 | F14: =SUM(Adjapniak!F14+Shengavit!F14+Kentron!F14+Arabkir!F14+Erebuni!F14+Avan!F14+Malatia!F14) -> 2 | G14: =SUM(Adjapniak!G14+Shengavit!G14+Kentron!G14+Arabkir!G14+Erebuni!G14+Avan!G14+Malatia!G14) -> 1 | H14: =SUM(Adjapniak!H14+Shengavit!H14+Kentron!H14+Arabkir!H14+Erebuni!H14+Avan!H14+Malatia!H14) -> 1 | I14: =SUM(Adjapniak!I14+Shengavit!I14+Kentron!I14+Arabkir!I14+Erebuni!I14+Avan!I14+Malatia!I14) -> 0 | J14: =SUM(Adjapniak!J14+Shengavit!J14+Kentron!J14+Arabkir!J14+Erebuni!J14+Avan!J14+Malatia!J14) -> 0 | K14: =SUM(Adjapniak!K14+Shengavit!K14+Kentron!K14+Arabkir!K14+Erebuni!K14+Avan!K14+Malatia!K14) -> 0 | ... T14: =SUM(Adjapniak!T14+Shengavit!T14+Kentron!T14+Arabkir!T14+Erebuni!T14+Avan!T14+Malatia!T14) -> 0
A15: 9,¸Çï³íáñÛ³É ëå³ÝáõÃÛáõÝ | C15: 104 | D15: =SUM(Adjapniak!D15+Shengavit!D15+Kentron!D15+Arabkir!D15+Erebuni!D15+Avan!D15+Malatia!D15) -> 13 | E15: =SUM(Adjapniak!E15+Shengavit!E15+Kentron!E15+Arabkir!E15+Erebuni!E15+Avan!E15+Malatia!E15) -> 18 | F15: =SUM(Adjapniak!F15+Shengavit!F15+Kentron!F15+Arabkir!F15+Erebuni!F15+Avan!F15+Malatia!F15) -> 14 | G15: =SUM(Adjapniak!G15+Shengavit!G15+Kentron!G15+Arabkir!G15+Erebuni!G15+Avan!G15+Malatia!G15) -> 2 | H15: =SUM(Adjapniak!H15+Shengavit!H15+Kentron!H15+Arabkir!H15+Erebuni!H15+Avan!H15+Malatia!H15) -> 0 | I15: =SUM(Adjapniak!I15+Shengavit!I15+Kentron!I15+Arabkir!I15+Erebuni!I15+Avan!I15+Malatia!I15) -> 3 | J15: =SUM(Adjapniak!J15+Shengavit!J15+Kentron!J15+Arabkir!J15+Erebuni!J15+Avan!J15+Malatia!J15) -> 0 | K15: =SUM(Adjapniak!K15+Shengavit!K15+Kentron!K15+Arabkir!K15+Erebuni!K15+Avan!K15+Malatia!K15) -> 1 | ... T15: =SUM(Adjapniak!T15+Shengavit!T15+Kentron!T15+Arabkir!T15+Erebuni!T15+Avan!T15+Malatia!T15) -> 0
A16: 10,¸Çï³íáñÛ³É Í³Ýñ Ù³ñÙÝ³Ï³Ý íÝ³ëí³Íù | C16: 112 | D16: =SUM(Adjapniak!D16+Shengavit!D16+Kentron!D16+Arabkir!D16+Erebuni!D16+Avan!D16+Malatia!D16) -> 13 | E16: =SUM(Adjapniak!E16+Shengavit!E16+Kentron!E16+Arabkir!E16+Erebuni!E16+Avan!E16+Malatia!E16) -> 28 | F16: =SUM(Adjapniak!F16+Shengavit!F16+Kentron!F16+Arabkir!F16+Erebuni!F16+Avan!F16+Malatia!F16) -> 25 | G16: =SUM(Adjapniak!G16+Shengavit!G16+Kentron!G16+Arabkir!G16+Erebuni!G16+Avan!G16+Malatia!G16) -> 0 | H16: =SUM(Adjapniak!H16+Shengavit!H16+Kentron!H16+Arabkir!H16+Erebuni!H16+Avan!H16+Malatia!H16) -> 0 | I16: =SUM(Adjapniak!I16+Shengavit!I16+Kentron!I16+Arabkir!I16+Erebuni!I16+Avan!I16+Malatia!I16) -> 0 | J16: =SUM(Adjapniak!J16+Shengavit!J16+Kentron!J16+Arabkir!J16+Erebuni!J16+Avan!J16+Malatia!J16) -> 3 | K16: =SUM(Adjapniak!K16+Shengavit!K16+Kentron!K16+Arabkir!K16+Erebuni!K16+Avan!K16+Malatia!K16) -> 0 | ... T16: =SUM(Adjapniak!T16+Shengavit!T16+Kentron!T16+Arabkir!T16+Erebuni!T16+Avan!T16+Malatia!T16) -> 4
A17: 11, ´éÝ³µ³ñáõÃÛáõÝ | C17: 138 | D17: =SUM(Adjapniak!D17+Shengavit!D17+Kentron!D17+Arabkir!D17+Erebuni!D17+Avan!D17+Malatia!D17) -> 0 | E17: =SUM(Adjapniak!E17+Shengavit!E17+Kentron!E17+Arabkir!E17+Erebuni!E17+Avan!E17+Malatia!E17) -> 2 | F17: =SUM(Adjapniak!F17+Shengavit!F17+Kentron!F17+Arabkir!F17+Erebuni!F17+Avan!F17+Malatia!F17) -> 2 | G17: =SUM(Adjapniak!G17+Shengavit!G17+Kentron!G17+Arabkir!G17+Erebuni!G17+Avan!G17+Malatia!G17) -> 0 | H17: =SUM(Adjapniak!H17+Shengavit!H17+Kentron!H17+Arabkir!H17+Erebuni!H17+Avan!H17+Malatia!H17) -> 0 | I17: =SUM(Adjapniak!I17+Shengavit!I17+Kentron!I17+Arabkir!I17+Erebuni!I17+Avan!I17+Malatia!I17) -> 0 | J17: =SUM(Adjapniak!J17+Shengavit!J17+Kentron!J17+Arabkir!J17+Erebuni!J17+Avan!J17+Malatia!J17) -> 0 | K17: =SUM(Adjapniak!K17+Shengavit!K17+Kentron!K17+Arabkir!K17+Erebuni!K17+Avan!K17+Malatia!K17) -> 0 | ... T17: =SUM(Adjapniak!T17+Shengavit!T17+Kentron!T17+Arabkir!T17+Erebuni!T17+Avan!T17+Malatia!T17) -> 0
A18: 12,Î³ß³é³Ï»ñáõÃÛáõÝ, Ï³ß³é³ïíáõÃÛáõÝ, Ï³ß³é³ïíáõÃÛ³Ý ÙÇçÝáñ¹áõÃÛáõÝ | C18: 311,312,313 | D18: =SUM(Adjapniak!D18+Shengavit!D18+Kentron!D18+Arabkir!D18+Erebuni!D18+Avan!D18+Malatia!D18) -> 1 | E18: =SUM(Adjapniak!E18+Shengavit!E18+Kentron!E18+Arabkir!E18+Erebuni!E18+Avan!E18+Malatia!E18) -> 1 | F18: =SUM(Adjapniak!F18+Shengavit!F18+Kentron!F18+Arabkir!F18+Erebuni!F18+Avan!F18+Malatia!F18) -> 1 | G18: =SUM(Adjapniak!G18+Shengavit!G18+Kentron!G18+Arabkir!G18+Erebuni!G18+Avan!G18+Malatia!G18) -> 0 | H18: =SUM(Adjapniak!H18+Shengavit!H18+Kentron!H18+Arabkir!H18+Erebuni!H18+Avan!H18+Malatia!H18) -> 0 | I18: =SUM(Adjapniak!I18+Shengavit!I18+Kentron!I18+Arabkir!I18+Erebuni!I18+Avan!I18+Malatia!I18) -> 0 | J18: =SUM(Adjapniak!J18+Shengavit!J18+Kentron!J18+Arabkir!J18+Erebuni!J18+Avan!J18+Malatia!J18) -> 0 | K18: =SUM(Adjapniak!K18+Shengavit!K18+Kentron!K18+Arabkir!K18+Erebuni!K18+Avan!K18+Malatia!K18) -> 0 | ... T18: =SUM(Adjapniak!T18+Shengavit!T18+Kentron!T18+Arabkir!T18+Erebuni!T18+Avan!T18+Malatia!T18) -> 0
A19: 13,ÊáõÉÇ·³ÝáõÃÛáõÝ | C19: 258 I | D19: =SUM(Adjapniak!D19+Shengavit!D19+Kentron!D19+Arabkir!D19+Erebuni!D19+Avan!D19+Malatia!D19) -> 4 | E19: =SUM(Adjapniak!E19+Shengavit!E19+Kentron!E19+Arabkir!E19+Erebuni!E19+Avan!E19+Malatia!E19) -> 2 | F19: =SUM(Adjapniak!F19+Shengavit!F19+Kentron!F19+Arabkir!F19+Erebuni!F19+Avan!F19+Malatia!F19) -> 4 | G19: =SUM(Adjapniak!G19+Shengavit!G19+Kentron!G19+Arabkir!G19+Erebuni!G19+Avan!G19+Malatia!G19) -> 0 | H19: =SUM(Adjapniak!H19+Shengavit!H19+Kentron!H19+Arabkir!H19+Erebuni!H19+Avan!H19+Malatia!H19) -> 1 | I19: =SUM(Adjapniak!I19+Shengavit!I19+Kentron!I19+Arabkir!I19+Erebuni!I19+Avan!I19+Malatia!I19) -> 0 | J19: =SUM(Adjapniak!J19+Shengavit!J19+Kentron!J19+Arabkir!J19+Erebuni!J19+Avan!J19+Malatia!J19) -> 0 | K19: =SUM(Adjapniak!K19+Shengavit!K19+Kentron!K19+Arabkir!K19+Erebuni!K19+Avan!K19+Malatia!K19) -> 0 | ... T19: =SUM(Adjapniak!T19+Shengavit!T19+Kentron!T19+Arabkir!T19+Erebuni!T19+Avan!T19+Malatia!T19) -> 0
A20: 14,â³ñ³ÙÇï ËáõÉÇ·³ÝáõÃÛáõÝ | C20: 258 II | D20: =SUM(Adjapniak!D20+Shengavit!D20+Kentron!D20+Arabkir!D20+Erebuni!D20+Avan!D20+Malatia!D20) -> 2 | E20: =SUM(Adjapniak!E20+Shengavit!E20+Kentron!E20+Arabkir!E20+Erebuni!E20+Avan!E20+Malatia!E20) -> 10 | F20: =SUM(Adjapniak!F20+Shengavit!F20+Kentron!F20+Arabkir!F20+Erebuni!F20+Avan!F20+Malatia!F20) -> 8 | G20: =SUM(Adjapniak!G20+Shengavit!G20+Kentron!G20+Arabkir!G20+Erebuni!G20+Avan!G20+Malatia!G20) -> 0 | H20: =SUM(Adjapniak!H20+Shengavit!H20+Kentron!H20+Arabkir!H20+Erebuni!H20+Avan!H20+Malatia!H20) -> 0 | I20: =SUM(Adjapniak!I20+Shengavit!I20+Kentron!I20+Arabkir!I20+Erebuni!I20+Avan!I20+Malatia!I20) -> 1 | J20: =SUM(Adjapniak!J20+Shengavit!J20+Kentron!J20+Arabkir!J20+Erebuni!J20+Avan!J20+Malatia!J20) -> 0 | K20: =SUM(Adjapniak!K20+Shengavit!K20+Kentron!K20+Arabkir!K20+Erebuni!K20+Avan!K20+Malatia!K20) -> 0 | ... T20: =SUM(Adjapniak!T20+Shengavit!T20+Kentron!T20+Arabkir!T20+Erebuni!T20+Avan!T20+Malatia!T20) -> 0
A21: 15, ²é³ÝÓÝ³å»ë ã³ñ³ÙÇï ËáõÉÇ·³ÝáõÃÛáõÝ | C21: 258 III | D21: =SUM(Adjapniak!D21+Shengavit!D21+Kentron!D21+Arabkir!D21+Erebuni!D21+Avan!D21+Malatia!D21) -> 7 | E21: =SUM(Adjapniak!E21+Shengavit!E21+Kentron!E21+Arabkir!E21+Erebuni!E21+Avan!E21+Malatia!E21) -> 9 | F21: =SUM(Adjapniak!F21+Shengavit!F21+Kentron!F21+Arabkir!F21+Erebuni!F21+Avan!F21+Malatia!F21) -> 12 | G21: =SUM(Adjapniak!G21+Shengavit!G21+Kentron!G21+Arabkir!G21+Erebuni!G21+Avan!G21+Malatia!G21) -> 0 | H21: =SUM(Adjapniak!H21+Shengavit!H21+Kentron!H21+Arabkir!H21+Erebuni!H21+Avan!H21+Malatia!H21) -> 1 | I21: =SUM(Adjapniak!I21+Shengavit!I21+Kentron!I21+Arabkir!I21+Erebuni!I21+Avan!I21+Malatia!I21) -> 0 | J21: =SUM(Adjapniak!J21+Shengavit!J21+Kentron!J21+Arabkir!J21+Erebuni!J21+Avan!J21+Malatia!J21) -> 0 | K21: =SUM(Adjapniak!K21+Shengavit!K21+Kentron!K21+Arabkir!K21+Erebuni!K21+Avan!K21+Malatia!K21) -> 0 | ... T21: =SUM(Adjapniak!T21+Shengavit!T21+Kentron!T21+Arabkir!T21+Erebuni!T21+Avan!T21+Malatia!T21) -> 0
A22: 16,¼»Ýù ·áñÍ³¹ñ»Éáõ Ï³Ù ³ÛÝ ·áñÍ³¹ñ»Éáõ ÷áñÓáí ËáõÉÇ·³Ý | C22: 258 IV | D22: =SUM(Adjapniak!D22+Shengavit!D22+Kentron!D22+Arabkir!D22+Erebuni!D22+Avan!D22+Malatia!D22) -> 6 | E22: =SUM(Adjapniak!E22+Shengavit!E22+Kentron!E22+Arabkir!E22+Erebuni!E22+Avan!E22+Malatia!E22) -> 6 | F22: =SUM(Adjapniak!F22+Shengavit!F22+Kentron!F22+Arabkir!F22+Erebuni!F22+Avan!F22+Malatia!F22) -> 7 | G22: =SUM(Adjapniak!G22+Shengavit!G22+Kentron!G22+Arabkir!G22+Erebuni!G22+Avan!G22+Malatia!G22) -> 0 | H22: =SUM(Adjapniak!H22+Shengavit!H22+Kentron!H22+Arabkir!H22+Erebuni!H22+Avan!H22+Malatia!H22) -> 0 | I22: =SUM(Adjapniak!I22+Shengavit!I22+Kentron!I22+Arabkir!I22+Erebuni!I22+Avan!I22+Malatia!I22) -> 0 | J22: =SUM(Adjapniak!J22+Shengavit!J22+Kentron!J22+Arabkir!J22+Erebuni!J22+Avan!J22+Malatia!J22) -> 0 | K22: =SUM(Adjapniak!K22+Shengavit!K22+Kentron!K22+Arabkir!K22+Erebuni!K22+Avan!K22+Malatia!K22) -> 0 | ... T22: =SUM(Adjapniak!T22+Shengavit!T22+Kentron!T22+Arabkir!T22+Erebuni!T22+Avan!T22+Malatia!T22) -> 0
A23: 17,îñ³Ýëåáñï³ÛÇÝ ÙÇçáóÝ»ñÇ »ñÃ¨»ÏáõÃÛ³Ý ³Ýíï³Ý·áõÃÛ³Ý ¨ ß³Ñ³·áñßÙ³Ý Ï³ÝáÝÝ»ñÇ Ë³ËïáõÙ | C23: 242 | D23: =SUM(Adjapniak!D23+Shengavit!D23+Kentron!D23+Arabkir!D23+Erebuni!D23+Avan!D23+Malatia!D23) -> 8 | E23: =SUM(Adjapniak!E23+Shengavit!E23+Kentron!E23+Arabkir!E23+Erebuni!E23+Avan!E23+Malatia!E23) -> 34 | F23: =SUM(Adjapniak!F23+Shengavit!F23+Kentron!F23+Arabkir!F23+Erebuni!F23+Avan!F23+Malatia!F23) -> 32 | G23: =SUM(Adjapniak!G23+Shengavit!G23+Kentron!G23+Arabkir!G23+Erebuni!G23+Avan!G23+Malatia!G23) -> 1 | H23: =SUM(Adjapniak!H23+Shengavit!H23+Kentron!H23+Arabkir!H23+Erebuni!H23+Avan!H23+Malatia!H23) -> 3 | I23: =SUM(Adjapniak!I23+Shengavit!I23+Kentron!I23+Arabkir!I23+Erebuni!I23+Avan!I23+Malatia!I23) -> 0 | J23: =SUM(Adjapniak!J23+Shengavit!J23+Kentron!J23+Arabkir!J23+Erebuni!J23+Avan!J23+Malatia!J23) -> 0 | K23: =SUM(Adjapniak!K23+Shengavit!K23+Kentron!K23+Arabkir!K23+Erebuni!K23+Avan!K23+Malatia!K23) -> 0 | ... T23: =SUM(Adjapniak!T23+Shengavit!T23+Kentron!T23+Arabkir!T23+Erebuni!T23+Avan!T23+Malatia!T23) -> 0
A24: 18, ÂÙñ³¹»Õ»ñÇ Ñ»ï Ï³åí³Í Ñ³Ýó³·áñÍáõÃÛáõÝÝ»ñ | C24: 266, 268, 269,271, 272, 273, 276 | D24: =SUM(Adjapniak!D24+Shengavit!D24+Kentron!D24+Arabkir!D24+Erebuni!D24+Avan!D24+Malatia!D24) -> 21 | E24: =SUM(Adjapniak!E24+Shengavit!E24+Kentron!E24+Arabkir!E24+Erebuni!E24+Avan!E24+Malatia!E24) -> 51 | F24: =SUM(Adjapniak!F24+Shengavit!F24+Kentron!F24+Arabkir!F24+Erebuni!F24+Avan!F24+Malatia!F24) -> 51 | G24: =SUM(Adjapniak!G24+Shengavit!G24+Kentron!G24+Arabkir!G24+Erebuni!G24+Avan!G24+Malatia!G24) -> 0 | H24: =SUM(Adjapniak!H24+Shengavit!H24+Kentron!H24+Arabkir!H24+Erebuni!H24+Avan!H24+Malatia!H24) -> 1 | I24: =SUM(Adjapniak!I24+Shengavit!I24+Kentron!I24+Arabkir!I24+Erebuni!I24+Avan!I24+Malatia!I24) -> 0 | J24: =SUM(Adjapniak!J24+Shengavit!J24+Kentron!J24+Arabkir!J24+Erebuni!J24+Avan!J24+Malatia!J24) -> 1 | K24: =SUM(Adjapniak!K24+Shengavit!K24+Kentron!K24+Arabkir!K24+Erebuni!K24+Avan!K24+Malatia!K24) -> 1 | ... T24: =SUM(Adjapniak!T24+Shengavit!T24+Kentron!T24+Arabkir!T24+Erebuni!T24+Avan!T24+Malatia!T24) -> 2
A25: 19,²åûñÇÝÇ Ï»ñåáí é³½Ù³ÙÃ»ñù Ï³Ù å³ÛÃáõóÇÏ ÝÛáõÃ»ñ Ïñ»ÉÁ | C25: 235 | D25: =SUM(Adjapniak!D25+Shengavit!D25+Kentron!D25+Arabkir!D25+Erebuni!D25+Avan!D25+Malatia!D25) -> 2 | E25: =SUM(Adjapniak!E25+Shengavit!E25+Kentron!E25+Arabkir!E25+Erebuni!E25+Avan!E25+Malatia!E25) -> 9 | F25: =SUM(Adjapniak!F25+Shengavit!F25+Kentron!F25+Arabkir!F25+Erebuni!F25+Avan!F25+Malatia!F25) -> 7 | G25: =SUM(Adjapniak!G25+Shengavit!G25+Kentron!G25+Arabkir!G25+Erebuni!G25+Avan!G25+Malatia!G25) -> 0 | H25: =SUM(Adjapniak!H25+Shengavit!H25+Kentron!H25+Arabkir!H25+Erebuni!H25+Avan!H25+Malatia!H25) -> 0 | I25: =SUM(Adjapniak!I25+Shengavit!I25+Kentron!I25+Arabkir!I25+Erebuni!I25+Avan!I25+Malatia!I25) -> 0 | J25: =SUM(Adjapniak!J25+Shengavit!J25+Kentron!J25+Arabkir!J25+Erebuni!J25+Avan!J25+Malatia!J25) -> 0 | K25: =SUM(Adjapniak!K25+Shengavit!K25+Kentron!K25+Arabkir!K25+Erebuni!K25+Avan!K25+Malatia!K25) -> 0 | ... T25: =SUM(Adjapniak!T25+Shengavit!T25+Kentron!T25+Arabkir!T25+Erebuni!T25+Avan!T25+Malatia!T25) -> 0
A26: 20, ²ÛÉ Ñ³Ýó³·áñÍáõÃÛáõÝÝ»ñ | D26: =SUM(Adjapniak!D26+Shengavit!D26+Kentron!D26+Arabkir!D26+Erebuni!D26+Avan!D26+Malatia!D26) -> 56 | E26: =SUM(Adjapniak!E26+Shengavit!E26+Kentron!E26+Arabkir!E26+Erebuni!E26+Avan!E26+Malatia!E26) -> 113 | F26: =SUM(Adjapniak!F26+Shengavit!F26+Kentron!F26+Arabkir!F26+Erebuni!F26+Avan!F26+Malatia!F26) -> 120 | G26: =SUM(Adjapniak!G26+Shengavit!G26+Kentron!G26+Arabkir!G26+Erebuni!G26+Avan!G26+Malatia!G26) -> 2 | H26: =SUM(Adjapniak!H26+Shengavit!H26+Kentron!H26+Arabkir!H26+Erebuni!H26+Avan!H26+Malatia!H26) -> 13 | I26: =SUM(Adjapniak!I26+Shengavit!I26+Kentron!I26+Arabkir!I26+Erebuni!I26+Avan!I26+Malatia!I26) -> 2 | J26: =SUM(Adjapniak!J26+Shengavit!J26+Kentron!J26+Arabkir!J26+Erebuni!J26+Avan!J26+Malatia!J26) -> 0 | K26: =SUM(Adjapniak!K26+Shengavit!K26+Kentron!K26+Arabkir!K26+Erebuni!K26+Avan!K26+Malatia!K26) -> 1 | ... T26: =SUM(Adjapniak!T26+Shengavit!T26+Kentron!T26+Arabkir!T26+Erebuni!T26+Avan!T26+Malatia!T26) -> 1
A27: 21, ÀÜ¸²ØºÜÀ | D27: =SUM(Adjapniak!D27+Shengavit!D27+Kentron!D27+Arabkir!D27+Erebuni!D27+Avan!D27+Malatia!D27) -> 225 | E27: =SUM(Adjapniak!E27+Shengavit!E27+Kentron!E27+Arabkir!E27+Erebuni!E27+Avan!E27+Malatia!E27) -> 461 | F27: =SUM(Adjapniak!F27+Shengavit!F27+Kentron!F27+Arabkir!F27+Erebuni!F27+Avan!F27+Malatia!F27) -> 475 | G27: =SUM(Adjapniak!G27+Shengavit!G27+Kentron!G27+Arabkir!G27+Erebuni!G27+Avan!G27+Malatia!G27) -> 10 | H27: =SUM(Adjapniak!H27+Shengavit!H27+Kentron!H27+Arabkir!H27+Erebuni!H27+Avan!H27+Malatia!H27) -> 28 | I27: =SUM(Adjapniak!I27+Shengavit!I27+Kentron!I27+Arabkir!I27+Erebuni!I27+Avan!I27+Malatia!I27) -> 7 | J27: =SUM(Adjapniak!J27+Shengavit!J27+Kentron!J27+Arabkir!J27+Erebuni!J27+Avan!J27+Malatia!J27) -> 6 | K27: =SUM(Adjapniak!K27+Shengavit!K27+Kentron!K27+Arabkir!K27+Erebuni!K27+Avan!K27+Malatia!K27) -> 4 | ... T27: =SUM(Adjapniak!T27+Shengavit!T27+Kentron!T27+Arabkir!T27+Erebuni!T27+Avan!T27+Malatia!T27) -> 9
A28: 22, ²Û¹ ÃíáõÙ` ³Ýã³÷³Ñ³ëÝ»ñÇ í»ñ³µ»ñÛ³É ·áñÍ»ñáí | D28: =SUM(Adjapniak!D28+Shengavit!D28+Kentron!D28+Arabkir!D28+Erebuni!D28+Avan!D28+Malatia!D28) -> 10 | E28: =SUM(Adjapniak!E28+Shengavit!E28+Kentron!E28+Arabkir!E28+Erebuni!E28+Avan!E28+Malatia!E28) -> 34 | F28: =SUM(Adjapniak!F28+Shengavit!F28+Kentron!F28+Arabkir!F28+Erebuni!F28+Avan!F28+Malatia!F28) -> 32 | G28: =SUM(Adjapniak!G28+Shengavit!G28+Kentron!G28+Arabkir!G28+Erebuni!G28+Avan!G28+Malatia!G28) -> 1 | H28: =SUM(Adjapniak!H28+Shengavit!H28+Kentron!H28+Arabkir!H28+Erebuni!H28+Avan!H28+Malatia!H28) -> 2 | I28: =SUM(Adjapniak!I28+Shengavit!I28+Kentron!I28+Arabkir!I28+Erebuni!I28+Avan!I28+Malatia!I28) -> 0 | J28: =SUM(Adjapniak!J28+Shengavit!J28+Kentron!J28+Arabkir!J28+Erebuni!J28+Avan!J28+Malatia!J28) -> 1 | K28: =SUM(Adjapniak!K28+Shengavit!K28+Kentron!K28+Arabkir!K28+Erebuni!K28+Avan!K28+Malatia!K28) -> 0 | ... T28: =SUM(Adjapniak!T28+Shengavit!T28+Kentron!T28+Arabkir!T28+Erebuni!T28+Avan!T28+Malatia!T28) -> 1

Sheet Adjapniak
A1: Ð³ßí»ïíáõÃÛáõÝ
A2: ºñ¨³Ý ù³Õ³ùÇ ²ç³÷ÝÛ³Ï ¨ ¸³íÃ³ß»Ý Ñ³Ù³ÛÝùÝ»ñÇ ³é³çÇÝ ³ïÛ³ÝÇ ¹³ï³ñ³ÝÇ ùñ»³Ï³Ý ·áñÍ»ñÇ ùÝÝáõÃÛ³Ý í»ñ³µ»ñÛ³É 2007Ã -Ç 1-ÇÝ ÏÇë³ÙÛ³ÏÇ Ñ³Ù³ñ
A3: êïáõ·Çã Ñ³í³ë³ñáõÙÝ»ñ §²¦ µ³ÅÝÇ í»ñ³µ»ñÛ³É 1 ¨ 2 ëÛáõÝ³ÏÝ»ñÇ Ãí»ñÇ ·áõÙ³ñÁ Ñ³í³ë³ñ ¿ 9 ¨ 10 ëÛáõÝ³ÏÝ»ñÇ Ãí»ñÇ ·áõÙ³ñÇÝ | C3: ÐÐ ùñ»³Ï³Ý ûñ»Ýë·ñùÇ Ñá¹í³ÍÝ»ñ | D3: ²Ý³í³ñï ·áñÍ»ñÇ ÙÝ³óáñ¹Á Ñ³ßí»ïáõ Å³Ù³Ý³Ï³ßñç³ÝÇ ëÏ½µáõÙ | E3: êï³óí»É »Ý ·áñÍ»ñ Ñ³ßí»ïáõ Å³Ù³Ý³Ï³ßñç³ÝáõÙ | F3: ² øñ»³Ï³Ý ·áñÍ»ñÇ ß³ñÅÁ | O3: Ð³ßí»ïáõ Å³Ù³Ý³Ï³ßñç³ÝáõÙ ·áñÍ»ñáí »Õ»É »Ý (3, 5, 6, 7 ëÛáõÝ³Ï)
F4: ²í³ñïí»É »Ý ·áñÍ»ñ Ñ³ßí»ïáõ Å³Ù³Ý³Ï³ßñç³ÝáõÙ | M4: ²Ý³í³ñï ·áñÍ»ñÇ ÙÝ³óáñ¹Á Ñ³ßí»ïáõ Å³Ù³Ý³Ï³ßñç³ÝÇ í»ñçáõÙ | N4: ³Û¹ ÃíáõÙ ·ïÝíáõÙ »Ý í³ñáõÛÃáõÙ 3 ³ÙëÇó ³í»ÉÇ (Ï³ë»óí³Í ·áñÍ»ñÇ Ñ»ï Ù»Ïï»Õ) | O4: ¹³ï³å³ñïí³ÍÝ»ñ | P4: ³ñ¹³ñ³óí³ÍÝ»ñ | Q4: ³ÝÓÇÝù, áñáÝó í»ñ³µ»ñÛ³É ·áñÍ»ñÁ Ï³ñ×í»É »Ý | S4: ³ÝÙ»ÕëáõÝ³ÏÝ»ñ, áñáÝó ÝÏ³ïÙ³Ùµ ÏÇñ³éí»É »Ý µÅßÏ³Ï³Ý µÝáõÛÃÇ Ñ³ñÏ³¹ñ³Ï³Ý ÙÇçáóÝ»ñ | T4: ³ÝÓÇÝù, áñáÝó í»ñ³µ»ñÛ³É ·áñÍ»ñÁ Ñ³ÝÓÝí»É »Ý Éñ³óáõóÇã ùÝÝáõÃÛ³Ý
F5: ùÝÝ³ñÏí»É »Ý Áëï ¿áõÃÛ³Ý ¨ ¹³ï³í×Çé Ï³Û³óí»É | G5: ³Û¹ ÃíáõÙ 1 ³ÙëÇó ³í»ÉÇ Å³ÙÏ»ïáõÙ | H5: Ï³ñ×»É »Ý ³ÝûñÇÝ³Ï³Ý ¹³ï³Ï³Ý ÝÇëï»ñáõÙ | I5: ³ÝÙ»ÕëáõÝ³ÏÝ»ñÇ ÝÏ³ïÙ³Ùµ ÏÇñ³é»É »Ý µÅßÏ³Ï³Ý µÝáõÛÃÇ Ñ³ñÏ³¹ñ³Ï³Ý ÙÇçáóÝ»ñ | J5: Ñ³ÝÓÝí»É »Ý Éñ³óáõóÇã ùÝÝáõÃÛ³Ý ³ÝûñÇÝ³ Ï³Ý ¨ ¹³ï³Ï³Ý ÝÇëï | K5: Ñ³ÝÓÝí»É »Ý Áëï ÁÝ¹¹³ïáõÃÛ³Ý | L5: ÁÝ¹³Ù»ÝÁ ³í³ñïí»É »Ý ·áñÍ»ñ (3, 5-8 ëÛáõÝ³ÏÝ»ñÇ ·áõÙ³ñÁ) | Q5: ÁÝ¹³Ù»ÝÁ | R5: ³Û¹ ÃíáõÙ Ñ³Ýó³¹»åÇ Ï³Ù Ñ³Ýó³Ï³½ÙÇ µ³ó³Ï³ÛáõÃÛ³Ý ¨ Ù»Õ³¹ñ³ÝùÁ ã³å³óáõóí³Í ÉÇÝ»Éáõ å³ï×³éáí
D6: 1 | E6: 2 | F6: 3 | G6: 4 | H6: 5 | I6: 6 | J6: 7 | K6: 8 | L6: 9 | M6: 10 | N6: 11 | O6: 12 | P6: 13 | Q6: 14 | R6: 15 | S6: 16 | T6: 17
A7: 1, ²½·³ÛÇÝ ¨ é³ë³Û³Ï³Ý Çñ³í³Ñ³í³ë³ñáõÃÛáõÝÁ Ë³Ëï»ÉÁ
A8: ¶áõÛùÇ Ñ³÷ßï³ÏáõÙ Ï³ï³ñí³Í | B8: 1, ¶áÕáõÃÛ³Ý ÙÇçáóáí | C8: 177 | D8: 2 | E8: 5 | F8: 5 | G8: 1 | J8: 1 | L8: 6 | M8: 1 | O8: 8 | Q8: 8 | T8: 1
B9: 2, ÎáÕáåáõïÇ ÙÇçáóáí | C9: 176
B10: 3, ²í³½³ÏáõÃÛ³Ý ÙÇçáóáí | C10: 175 | E10: 4 | F10: 3 | G10: 1 | L10: 3 | M10: 1 | O10: 5 | Q10: 5
B11: 4, Ê³ñ¹³ËáõÃÛ³Ý ÙÇçáóáí | C11: 178 | D11: 2 | E11: 4 | F11: 4 | G11: 2 | L11: 4 | M11: 2 | O11: 5 | Q11: 5
B12: 5, Úáõñ³óÝ»Éáõ, í³ïÝ»Éáõ Ï³Ù å³ßïáÝ³Ï³Ý ¹ÇñùÁ ã³ñ³ß³Ñ»Éáõ ÙÇçáóáí | C12: 179 | E12: 1 | H12: 1 | L12: 1
A13: 7, ÞáñÃáõÙ | C13: 182
A14: 8, ¶áõÛùÁ ¹Çï³íáñáõÃÛ³Ùµ áãÝã³óÝ»ÉÁ Ï³Ù íÝ³ë»ÉÁ | C14: 185 | E14: 1 | F14: 1 | G14: 1 | L14: 1 | O14: 1 | Q14: 1
A15: 9,¸Çï³íáñÛ³É ëå³ÝáõÃÛáõÝ | C15: 104 | D15: 1 | E15: 3 | F15: 3 | G15: 2 | I15: 1 | L15: 4 | O15: 3 | Q15: 3 | S15: 1
A16: 10,¸Çï³íáñÛ³É Í³Ýñ Ù³ñÙÝ³Ï³Ý íÝ³ëí³Íù | C16: 112 | E16: 8 | F16: 4 | J16: 1 | L16: 5 | M16: 3 | O16: 4 | Q16: 4 | T16: 1
A17: 11, ´éÝ³µ³ñáõÃÛáõÝ | C17: 138
A18: 12,Î³ß³é³Ï»ñáõÃÛáõÝ, Ï³ß³é³ïíáõÃÛáõÝ, Ï³ß³é³ïíáõÃÛ³Ý ÙÇçÝáñ¹áõÃÛáõÝ | C18: 311,312,313 | E18: 1 | M18: 1
A19: 13,ÊáõÉÇ·³ÝáõÃÛáõÝ | C19: 258 I
A20: 14,â³ñ³ÙÇï ËáõÉÇ·³ÝáõÃÛáõÝ | C20: 258 II
A21: 15, ²é³ÝÓÝ³å»ë ã³ñ³ÙÇï ËáõÉÇ·³ÝáõÃÛáõÝ | C21: 258 III
A22: 16,¼»Ýù ·áñÍ³¹ñ»Éáõ Ï³Ù ³ÛÝ ·áñÍ³¹ñ»Éáõ ÷áñÓáí ËáõÉÇ·³Ý | C22: 258 IV
A23: 17,îñ³Ýëåáñï³ÛÇÝ ÙÇçáóÝ»ñÇ »ñÃ¨»ÏáõÃÛ³Ý ³Ýíï³Ý·áõÃÛ³Ý ¨ ß³Ñ³·áñßÙ³Ý Ï³ÝáÝÝ»ñÇ Ë³ËïáõÙ | C23: 242 | E23: 8 | F23: 7 | G23: 1 | L23: 7 | M23: 1 | O23: 7 | Q23: 7
A24: 18, ÂÙñ³¹»Õ»ñÇ Ñ»ï Ï³åí³Í Ñ³Ýó³·áñÍáõÃÛáõÝÝ»ñ | C24: 266, 268, 269,271, 272, 273, 276 | E24: 5 | F24: 4 | L24: 4 | M24: 1 | O24: 6 | Q24: 6
A25: 19,²åûñÇÝÇ Ï»ñåáí é³½Ù³ÙÃ»ñù Ï³Ù å³ÛÃáõóÇÏ ÝÛáõÃ»ñ Ïñ»ÉÁ | C25: 235
A26: 20, ²ÛÉ Ñ³Ýó³·áñÍáõÃÛáõÝÝ»ñ | D26: 2 | E26: 22 | F26: 17 | G26: 2 | H26: 4 | L26: 21 | M26: 3 | O26: 23 | Q26: 23
A27: 21, ÀÜ¸²ØºÜÀ | D27: =SUM(D7:D26) -> 7 | E27: =SUM(E7:E26) -> 62 | F27: =SUM(F7:F26) -> 48 | G27: =SUM(G8:G26) -> 10 | H27: =SUM(H7:H26) -> 5 | I27: =SUM(I7:I26) -> 1 | J27: =SUM(J7:J26) -> 2 | L27: =SUM(L8:L26) -> 56 | M27: =SUM(M7:M26) -> 13 | O27: =SUM(O7:O26) -> 62 | Q27: =SUM(Q8:Q26) -> 62 | S27: =SUM(S8:S26) -> 1 | T27: =SUM(T7:T26) -> 2
A28: 22, ²Û¹ ÃíáõÙ` ³Ýã³÷³Ñ³ëÝ»ñÇ í»ñ³µ»ñÛ³É ·áñÍ»ñáí | E28: 3 | F28: 1 | G28: 1 | J28: 1 | L28: 2 | M28: 1 | O28: 2 | Q28: 2 | T28: 1

Sheet Shengavit
A1: Ð³ßí»ïíáõÃÛáõÝ
A2: ºñ¨³Ý ù³Õ³ùÇ Þ»Ý·³íÇÃ Ñ³Ù³ÛÝùÇ ³é³çÇÝ ³ïÛ³ÝÇ ¹³ï³ñ³ÝÇ ùñ»³Ï³Ý ·áñÍ»ñÇ ùÝÝáõÃÛ³Ý í»ñ³µ»ñÛ³É 2007Ã.1-ÇÝ ÏÇë³ÙÛ³ÏÇ Ñ³Ù³ñ
A3: êïáõ·Çã Ñ³í³ë³ñáõÙÝ»ñ §²¦ µ³ÅÝÇ í»ñ³µ»ñÛ³É 1 ¨ 2 ëÛáõÝ³ÏÝ»ñÇ Ãí»ñÇ ·áõÙ³ñÁ Ñ³í³ë³ñ ¿ 9 ¨ 10 ëÛáõÝ³ÏÝ»ñÇ Ãí»ñÇ ·áõÙ³ñÇÝ | C3: ÐÐ ùñ»³Ï³Ý ûñ»Ýë·ñùÇ Ñá¹í³ÍÝ»ñ | D3: ²Ý³í³ñï ·áñÍ»ñÇ ÙÝ³óáñ¹Á Ñ³ßí»ïáõ Å³Ù³Ý³Ï³ßñç³ÝÇ ëÏ½µáõÙ | E3: êï³óí»É »Ý ·áñÍ»ñ Ñ³ßí»ïáõ Å³Ù³Ý³Ï³ßñç³ÝáõÙ | F3: ² øñ»³Ï³Ý ·áñÍ»ñÇ ß³ñÅÁ | O3: Ð³ßí»ïáõ Å³Ù³Ý³Ï³ßñç³ÝáõÙ ·áñÍ»ñáí »Õ»É »Ý (3, 5, 6, 7 ëÛáõÝ³Ï)
F4: ²í³ñïí»É »Ý ·áñÍ»ñ Ñ³ßí»ïáõ Å³Ù³Ý³Ï³ßñç³ÝáõÙ | M4: ²Ý³í³ñï ·áñÍ»ñÇ ÙÝ³óáñ¹Á Ñ³ßí»ïáõ Å³Ù³Ý³Ï³ßñç³ÝÇ í»ñçáõÙ | N4: ³Û¹ ÃíáõÙ ·ïÝíáõÙ »Ý í³ñáõÛÃáõÙ 3 ³ÙëÇó ³í»ÉÇ (Ï³ë»óí³Í ·áñÍ»ñÇ Ñ»ï Ù»Ïï»Õ) | O4: ¹³ï³å³ñïí³ÍÝ»ñ | P4: ³ñ¹³ñ³óí³ÍÝ»ñ | Q4: ³ÝÓÇÝù, áñáÝó í»ñ³µ»ñÛ³É ·áñÍ»ñÁ Ï³ñ×í»É »Ý | S4: ³ÝÙ»ÕëáõÝ³ÏÝ»ñ, áñáÝó ÝÏ³ïÙ³Ùµ ÏÇñ³éí»É »Ý µÅßÏ³Ï³Ý µÝáõÛÃÇ Ñ³ñÏ³¹ñ³Ï³Ý ÙÇçáóÝ»ñ | T4: ³ÝÓÇÝù, áñáÝó í»ñ³µ»ñÛ³É ·áñÍ»ñÁ Ñ³ÝÓÝí»É »Ý Éñ³óáõóÇã ùÝÝáõÃÛ³Ý
F5: ùÝÝ³ñÏí»É »Ý Áëï ¿áõÃÛ³Ý ¨ ¹³ï³í×Çé Ï³Û³óí»É | G5: ³Û¹ ÃíáõÙ 1 ³ÙëÇó ³í»ÉÇ Å³ÙÏ»ïáõÙ | H5: Ï³ñ×»É »Ý ³ÝûñÇÝ³Ï³Ý ¹³ï³Ï³Ý ÝÇëï»ñáõÙ | I5: ³ÝÙ»ÕëáõÝ³ÏÝ»ñÇ ÝÏ³ïÙ³Ùµ ÏÇñ³é»É »Ý µÅßÏ³Ï³Ý µÝáõÛÃÇ Ñ³ñÏ³¹ñ³Ï³Ý ÙÇçáóÝ»ñ | J5: Ñ³ÝÓÝí»É »Ý Éñ³óáõóÇã ùÝÝáõÃÛ³Ý ³ÝûñÇÝ³ Ï³Ý ¨ ¹³ï³Ï³Ý ÝÇëï | K5: Ñ³ÝÓÝí»É »Ý Áëï ÁÝ¹¹³ïáõÃÛ³Ý | L5: ÁÝ¹³Ù»ÝÁ ³í³ñïí»É »Ý ·áñÍ»ñ (3, 5-8 ëÛáõÝ³ÏÝ»ñÇ ·áõÙ³ñÁ) | Q5: ÁÝ¹³Ù»ÝÁ | R5: ³Û¹ ÃíáõÙ Ñ³Ýó³¹»åÇ Ï³Ù Ñ³Ýó³Ï³½ÙÇ µ³ó³Ï³ÛáõÃÛ³Ý ¨ Ù»Õ³¹ñ³ÝùÁ ã³å³óáõóí³Í ÉÇÝ»Éáõ å³ï×³éáí
D6: 1 | E6: 2 | F6: 3 | G6: 4 | H6: 5 | I6: 6 | J6: 7 | K6: 8 | L6: 9 | M6: 10 | N6: 11 | O6: 12 | P6: 13 | Q6: 14 | R6: 15 | S6: 16 | T6: 17
A7: 1, ²½·³ÛÇÝ ¨ é³ë³Û³Ï³Ý Çñ³í³Ñ³í³ë³ñáõÃÛáõÝÁ Ë³Ëï»ÉÁ
A8: ¶áõÛùÇ Ñ³÷ßï³ÏáõÙ Ï³ï³ñí³Í | B8: 1, ¶áÕáõÃÛ³Ý ÙÇçáóáí | C8: 177 | D8: 2 | E8: 7 | F8: 6 | H8: 2 | L8: 8 | M8: 1 | O8: 10
B9: 2, ÎáÕáåáõïÇ ÙÇçáóáí | C9: 176 | D9: 1 | M9: 1
B10: 3, ²í³½³ÏáõÃÛ³Ý ÙÇçáóáí | C10: 175 | E10: 2 | F10: 1 | L10: 1 | M10: 1 | O10: 1
B11: 4, Ê³ñ¹³ËáõÃÛ³Ý ÙÇçáóáí | C11: 178 | D11: 2 | E11: 7 | F11: 7 | L11: 7 | M11: 2 | O11: 9
B12: 5, Úáõñ³óÝ»Éáõ, í³ïÝ»Éáõ Ï³Ù å³ßïáÝ³Ï³Ý ¹ÇñùÁ ã³ñ³ß³Ñ»Éáõ ÙÇçáóáí | C12: 179 | D12: 1 | M12: 1
A13: 7, ÞáñÃáõÙ | C13: 182
A14: 8, ¶áõÛùÁ ¹Çï³íáñáõÃÛ³Ùµ áãÝã³óÝ»ÉÁ Ï³Ù íÝ³ë»ÉÁ | C14: 185
A15: 9,¸Çï³íáñÛ³É ëå³ÝáõÃÛáõÝ | C15: 104 | D15: 1 | E15: 1 | F15: 1 | L15: 1 | M15: 1 | O15: 1
A16: 10,¸Çï³íáñÛ³É Í³Ýñ Ù³ñÙÝ³Ï³Ý íÝ³ëí³Íù | C16: 112 | D16: 3 | E16: 3 | F16: 5 | L16: 5 | M16: 1 | O16: 6
A17: 11, ´éÝ³µ³ñáõÃÛáõÝ | C17: 138 | E17: 1 | F17: 1 | L17: 1 | O17: 1
A18: 12,Î³ß³é³Ï»ñáõÃÛáõÝ, Ï³ß³é³ïíáõÃÛáõÝ, Ï³ß³é³ïíáõÃÛ³Ý ÙÇçÝáñ¹áõÃÛáõÝ | C18: 311,312,313
A19: 13,ÊáõÉÇ·³ÝáõÃÛáõÝ | C19: 258 I | D19: 1 | H19: 1 | L19: 1 | O19: 1
A20: 14,â³ñ³ÙÇï ËáõÉÇ·³ÝáõÃÛáõÝ | C20: 258 II
A21: 15, ²é³ÝÓÝ³å»ë ã³ñ³ÙÇï ËáõÉÇ·³ÝáõÃÛáõÝ | C21: 258 III | E21: 1 | F21: 1 | L21: 1 | O21: 3
A22: 16,¼»Ýù ·áñÍ³¹ñ»Éáõ Ï³Ù ³ÛÝ ·áñÍ³¹ñ»Éáõ ÷áñÓáí ËáõÉÇ·³Ý | C22: 258 IV
A23: 17,îñ³Ýëåáñï³ÛÇÝ ÙÇçáóÝ»ñÇ »ñÃ¨»ÏáõÃÛ³Ý ³Ýíï³Ý·áõÃÛ³Ý ¨ ß³Ñ³·áñßÙ³Ý Ï³ÝáÝÝ»ñÇ Ë³ËïáõÙ | C23: 242 | D23: 2 | E23: 6 | F23: 4 | H23: 1 | L23: 5 | M23: 3 | O23: 5
A24: 18, ÂÙñ³¹»Õ»ñÇ Ñ»ï Ï³åí³Í Ñ³Ýó³·áñÍáõÃÛáõÝÝ»ñ | C24: 266, 268, 269,271, 272, 273, 276 | E24: 5 | F24: 4 | L24: 4 | M24: 1 | O24: 5
A25: 19,²åûñÇÝÇ Ï»ñåáí é³½Ù³ÙÃ»ñù Ï³Ù å³ÛÃáõóÇÏ ÝÛáõÃ»ñ Ïñ»ÉÁ | C25: 235
A26: 20, ²ÛÉ Ñ³Ýó³·áñÍáõÃÛáõÝÝ»ñ | D26: 4 | E26: 8 | F26: 11 | H26: 1 | L26: 12 | O26: 17
A27: 21, ÀÜ¸²ØºÜÀ | D27: =SUM(D8:D26) -> 17 | E27: =SUM(E8:E26) -> 41 | F27: =SUM(F7:F26) -> 41 | H27: =SUM(H8:H26) -> 5 | L27: =SUM(L8:L26) -> 46 | M27: =SUM(M8:M26) -> 12 | O27: =SUM(O8:O26) -> 59
A28: 22, ²Û¹ ÃíáõÙ` ³Ýã³÷³Ñ³ëÝ»ñÇ í»ñ³µ»ñÛ³É ·áñÍ»ñáí | D28: 1 | E28: 8 | F28: 4 | L28: 4 | M28: 5 | O28: 4

Sheet Kentron
A1: Ð³ßí»ïíáõÃÛáõÝ
A2: ºñ¨³Ý ù³Õ³ùÇ Î»ÝïñáÝ ¨ Üáñù-Ø³ñ³ß Ñ³Ù³ÛÝùÝ»ñÇ ³é³çÇÝ ³ïÛ³ÝÇ ¹³ï³ñ³ÝÇ ùñ»³Ï³Ý ·áñÍ»ñÇ ùÝÝáõÃÛ³Ý í»ñ³µ»ñÛ³É 2007Ã 1-ÇÝ ÏÇë³ÙÛ³ÏÇ. Ñ³Ù³ñ
A3: êïáõ·Çã Ñ³í³ë³ñáõÙÝ»ñ §²¦ µ³ÅÝÇ í»ñ³µ»ñÛ³É 1 ¨ 2 ëÛáõÝ³ÏÝ»ñÇ Ãí»ñÇ ·áõÙ³ñÁ Ñ³í³ë³ñ ¿ 9 ¨ 10 ëÛáõÝ³ÏÝ»ñÇ Ãí»ñÇ ·áõÙ³ñÇÝ | C3: ÐÐ ùñ»³Ï³Ý ûñ»Ýë·ñùÇ Ñá¹í³ÍÝ»ñ | D3: ²Ý³í³ñï ·áñÍ»ñÇ ÙÝ³óáñ¹Á Ñ³ßí»ïáõ Å³Ù³Ý³Ï³ßñç³ÝÇ ëÏ½µáõÙ | E3: êï³óí»É »Ý ·áñÍ»ñ Ñ³ßí»ïáõ Å³Ù³Ý³Ï³ßñç³ÝáõÙ | F3: ² øñ»³Ï³Ý ·áñÍ»ñÇ ß³ñÅÁ | O3: Ð³ßí»ïáõ Å³Ù³Ý³Ï³ßñç³ÝáõÙ ·áñÍ»ñáí »Õ»É »Ý (3, 5, 6, 7 ëÛáõÝ³Ï)
F4: ²í³ñïí»É »Ý ·áñÍ»ñ Ñ³ßí»ïáõ Å³Ù³Ý³Ï³ßñç³ÝáõÙ | M4: ²Ý³í³ñï ·áñÍ»ñÇ ÙÝ³óáñ¹Á Ñ³ßí»ïáõ Å³Ù³Ý³Ï³ßñç³ÝÇ í»ñçáõÙ | N4: ³Û¹ ÃíáõÙ ·ïÝíáõÙ »Ý í³ñáõÛÃáõÙ 3 ³ÙëÇó ³í»ÉÇ (Ï³ë»óí³Í ·áñÍ»ñÇ Ñ»ï Ù»Ïï»Õ) | O4: ¹³ï³å³ñïí³ÍÝ»ñ | P4: ³ñ¹³ñ³óí³ÍÝ»ñ | Q4: ³ÝÓÇÝù, áñáÝó í»ñ³µ»ñÛ³É ·áñÍ»ñÁ Ï³ñ×í»É »Ý | S4: ³ÝÙ»ÕëáõÝ³ÏÝ»ñ, áñáÝó ÝÏ³ïÙ³Ùµ ÏÇñ³éí»É »Ý µÅßÏ³Ï³Ý µÝáõÛÃÇ Ñ³ñÏ³¹ñ³Ï³Ý ÙÇçáóÝ»ñ | T4: ³ÝÓÇÝù, áñáÝó í»ñ³µ»ñÛ³É ·áñÍ»ñÁ Ñ³ÝÓÝí»É »Ý Éñ³óáõóÇã ùÝÝáõÃÛ³Ý
F5: ùÝÝ³ñÏí»É »Ý Áëï ¿áõÃÛ³Ý ¨ ¹³ï³í×Çé Ï³Û³óí»É | G5: ³Û¹ ÃíáõÙ 1 ³ÙëÇó ³í»ÉÇ Å³ÙÏ»ïáõÙ | H5: Ï³ñ×»É »Ý ³ÝûñÇÝ³Ï³Ý ¹³ï³Ï³Ý ÝÇëï»ñáõÙ | I5: ³ÝÙ»ÕëáõÝ³ÏÝ»ñÇ ÝÏ³ïÙ³Ùµ ÏÇñ³é»É »Ý µÅßÏ³Ï³Ý µÝáõÛÃÇ Ñ³ñÏ³¹ñ³Ï³Ý ÙÇçáóÝ»ñ | J5: Ñ³ÝÓÝí»É »Ý Éñ³óáõóÇã ùÝÝáõÃÛ³Ý ³ÝûñÇÝ³ Ï³Ý ¨ ¹³ï³Ï³Ý ÝÇëï | K5: Ñ³ÝÓÝí»É »Ý Áëï ÁÝ¹¹³ïáõÃÛ³Ý | L5: ÁÝ¹³Ù»ÝÁ ³í³ñïí»É »Ý ·áñÍ»ñ (3, 5-8 ëÛáõÝ³ÏÝ»ñÇ ·áõÙ³ñÁ) | Q5: ÁÝ¹³Ù»ÝÁ | R5: ³Û¹ ÃíáõÙ Ñ³Ýó³¹»åÇ Ï³Ù Ñ³Ýó³Ï³½ÙÇ µ³ó³Ï³ÛáõÃÛ³Ý ¨ Ù»Õ³¹ñ³ÝùÁ ã³å³óáõóí³Í ÉÇÝ»Éáõ å³ï×³éáí
D6: 1 | E6: 2 | F6: 3 | G6: 4 | H6: 5 | I6: 6 | J6: 7 | K6: 8 | L6: 9 | M6: 10 | N6: 11 | O6: 12 | P6: 13 | Q6: 14 | R6: 15 | S6: 16 | T6: 17
A7: 1, ²½·³ÛÇÝ ¨ é³ë³Û³Ï³Ý Çñ³í³Ñ³í³ë³ñáõÃÛáõÝÁ Ë³Ëï»ÉÁ
A8: ¶áõÛùÇ Ñ³÷ßï³ÏáõÙ Ï³ï³ñí³Í | B8: 1, ¶áÕáõÃÛ³Ý ÙÇçáóáí | C8: 177 | D8: 18 | E8: 20 | F8: 28 | H8: 1 | I8: 1 | L8: 30 | M8: 8 | N8: 1 | O8: 36 | Q8: 1 | S8: 1
B9: 2, ÎáÕáåáõïÇ ÙÇçáóáí | C9: 176 | D9: 4 | E9: 1 | F9: 2 | L9: 2 | M9: 3 | N9: 2 | O9: 3
B10: 3, ²í³½³ÏáõÃÛ³Ý ÙÇçáóáí | C10: 175 | E10: 5 | F10: 3 | L10: 3 | M10: 2 | O10: 3
B11: 4, Ê³ñ¹³ËáõÃÛ³Ý ÙÇçáóáí | C11: 178 | D11: 4 | E11: 13 | F11: 8 | H11: 1 | L11: 9 | M11: 8 | O11: 11 | Q11: 1
B12: 5, Úáõñ³óÝ»Éáõ, í³ïÝ»Éáõ Ï³Ù å³ßïáÝ³Ï³Ý ¹ÇñùÁ ã³ñ³ß³Ñ»Éáõ ÙÇçáóáí | C12: 179 | D12: 5 | E12: 4 | F12: 4 | L12: 4 | M12: 5 | N12: 4 | O12: 6 | P12: 1
A13: 7, ÞáñÃáõÙ | C13: 182 | D13: 1 | E13: 2 | M13: 3 | N13: 1
A14: 8, ¶áõÛùÁ ¹Çï³íáñáõÃÛ³Ùµ áãÝã³óÝ»ÉÁ Ï³Ù íÝ³ë»ÉÁ | C14: 185 | E14: 1 | H14: 1 | L14: 1 | Q14: 1
A15: 9,¸Çï³íáñÛ³É ëå³ÝáõÃÛáõÝ | C15: 104 | D15: 3 | E15: 5 | F15: 2 | I15: 1 | L15: 3 | M15: 5 | O15: 3 | S15: 1
A16: 10,¸Çï³íáñÛ³É Í³Ýñ Ù³ñÙÝ³Ï³Ý íÝ³ëí³Íù | C16: 112 | D16: 3 | E16: 7 | F16: 8 | L16: 8 | M16: 2 | O16: 8
A17: 11, ´éÝ³µ³ñáõÃÛáõÝ | C17: 138
A18: 12,Î³ß³é³Ï»ñáõÃÛáõÝ, Ï³ß³é³ïíáõÃÛáõÝ, Ï³ß³é³ïíáõÃÛ³Ý ÙÇçÝáñ¹áõÃÛáõÝ | C18: 311,312,313 | D18: 1 | F18: 1 | L18: 1 | O18: 5
A19: 13,ÊáõÉÇ·³ÝáõÃÛáõÝ | C19: 258 I | D19: 1 | E19: 1 | F19: 1 | L19: 1 | M19: 1 | O19: 1
A20: 14,â³ñ³ÙÇï ËáõÉÇ·³ÝáõÃÛáõÝ | C20: 258 II | D20: 1 | E20: 9 | F20: 6 | I20: 1 | L20: 7 | M20: 3 | O20: 7 | S20: 1
A21: 15, ²é³ÝÓÝ³å»ë ã³ñ³ÙÇï ËáõÉÇ·³ÝáõÃÛáõÝ | C21: 258 III | D21: 3 | E21: 4 | F21: 6 | L21: 6 | M21: 1 | O21: 10
A22: 16,¼»Ýù ·áñÍ³¹ñ»Éáõ Ï³Ù ³ÛÝ ·áñÍ³¹ñ»Éáõ ÷áñÓáí ËáõÉÇ·³Ý | C22: 258 IV | D22: 3 | E22: 3 | F22: 2 | L22: 2 | M22: 4 | N22: 2 | O22: 2
A23: 17,îñ³Ýëåáñï³ÛÇÝ ÙÇçáóÝ»ñÇ »ñÃ¨»ÏáõÃÛ³Ý ³Ýíï³Ý·áõÃÛ³Ý ¨ ß³Ñ³·áñßÙ³Ý Ï³ÝáÝÝ»ñÇ Ë³ËïáõÙ | C23: 242 | D23: 3 | E23: 4 | F23: 5 | L23: 5 | M23: 2 | O23: 5
A24: 18, ÂÙñ³¹»Õ»ñÇ Ñ»ï Ï³åí³Í Ñ³Ýó³·áñÍáõÃÛáõÝÝ»ñ | C24: 266, 268, 269,271, 272, 273, 276 | D24: 5 | E24: 8 | F24: 8 | L24: 8 | M24: 5 | O24: 14
A25: 19,²åûñÇÝÇ Ï»ñåáí é³½Ù³ÙÃ»ñù Ï³Ù å³ÛÃáõóÇÏ ÝÛáõÃ»ñ Ïñ»ÉÁ | C25: 235 | D25: 1 | E25: 3 | F25: 2 | L25: 2 | M25: 2 | N25: 1 | O25: 2 | Q25: 2
A26: 20, ²ÛÉ Ñ³Ýó³·áñÍáõÃÛáõÝÝ»ñ | D26: 20 | E26: 31 | F26: 32 | H26: 1 | I26: 1 | L26: 34 | M26: 17 | N26: 9 | O26: 57 | Q26: 1 | S26: 1
A27: 21, ÀÜ¸²ØºÜÀ | D27: =SUM(D8:D26) -> 76 | E27: =SUM(E8:E26) -> 121 | F27: =SUM(F8:F26) -> 118 | H27: =SUM(H8:H26) -> 4 | I27: =SUM(I8:I26) -> 4 | L27: =SUM(L8:L26) -> 126 | M27: =SUM(M8:M26) -> 71 | N27: =SUM(N8:N26) -> 20 | O27: =SUM(O8:O26) -> 173 | P27: =SUM(P8:P26) -> 1 | Q27: =SUM(Q8:Q26) -> 6 | S27: =SUM(S8:S26) -> 4
A28: 22, ²Û¹ ÃíáõÙ` ³Ýã³÷³Ñ³ëÝ»ñÇ í»ñ³µ»ñÛ³É ·áñÍ»ñáí | D28: 6 | E28: 3 | F28: 6 | L28: 6 | M28: 3 | N28: 1 | O28: 7

Sheet Arabkir
A1: Ð³ßí»ïíáõÃÛáõÝ
A2: ºñ¨³Ý ù³Õ³ùÇ ²ñ³µÏÇñ ¨ ø³Ý³ù»é-¼»ÛÃáõÝ Ñ³Ù³ÛÝùÝ»ñÇ ³é³çÇÝ ³ïÛ³ÝÇ ¹³ï³ñ³ÝÇ ùñ»³Ï³Ý ·áñÍ»ñÇ ùÝÝáõÃÛ³Ý í»ñ³µ»ñÛ³É 2007Ã .1-ÇÝ ÏÇë³ÙÛ³ÏÇ Ñ³Ù³ñ
A3: êïáõ·Çã Ñ³í³ë³ñáõÙÝ»ñ §²¦ µ³ÅÝÇ í»ñ³µ»ñÛ³É 1 ¨ 2 ëÛáõÝ³ÏÝ»ñÇ Ãí»ñÇ ·áõÙ³ñÁ Ñ³í³ë³ñ ¿ 9 ¨ 10 ëÛáõÝ³ÏÝ»ñÇ Ãí»ñÇ ·áõÙ³ñÇÝ | C3: ÐÐ ùñ»³Ï³Ý ûñ»Ýë·ñùÇ Ñá¹í³ÍÝ»ñ | D3: ²Ý³í³ñï ·áñÍ»ñÇ ÙÝ³óáñ¹Á Ñ³ßí»ïáõ Å³Ù³Ý³Ï³ßñç³ÝÇ ëÏ½µáõÙ | E3: êï³óí»É »Ý ·áñÍ»ñ Ñ³ßí»ïáõ Å³Ù³Ý³Ï³ßñç³ÝáõÙ | F3: ² øñ»³Ï³Ý ·áñÍ»ñÇ ß³ñÅÁ | O3: Ð³ßí»ïáõ Å³Ù³Ý³Ï³ßñç³ÝáõÙ ·áñÍ»ñáí »Õ»É »Ý (3, 5, 6, 7 ëÛáõÝ³Ï)
F4: ²í³ñïí»É »Ý ·áñÍ»ñ Ñ³ßí»ïáõ Å³Ù³Ý³Ï³ßñç³ÝáõÙ | M4: ²Ý³í³ñï ·áñÍ»ñÇ ÙÝ³óáñ¹Á Ñ³ßí»ïáõ Å³Ù³Ý³Ï³ßñç³ÝÇ í»ñçáõÙ | N4: ³Û¹ ÃíáõÙ ·ïÝíáõÙ »Ý í³ñáõÛÃáõÙ 3 ³ÙëÇó ³í»ÉÇ (Ï³ë»óí³Í ·áñÍ»ñÇ Ñ»ï Ù»Ïï»Õ) | O4: ¹³ï³å³ñïí³ÍÝ»ñ | P4: ³ñ¹³ñ³óí³ÍÝ»ñ | Q4: ³ÝÓÇÝù, áñáÝó í»ñ³µ»ñÛ³É ·áñÍ»ñÁ Ï³ñ×í»É »Ý | S4: ³ÝÙ»ÕëáõÝ³ÏÝ»ñ, áñáÝó ÝÏ³ïÙ³Ùµ ÏÇñ³éí»É »Ý µÅßÏ³Ï³Ý µÝáõÛÃÇ Ñ³ñÏ³¹ñ³Ï³Ý ÙÇçáóÝ»ñ | T4: ³ÝÓÇÝù, áñáÝó í»ñ³µ»ñÛ³É ·áñÍ»ñÁ Ñ³ÝÓÝí»É »Ý Éñ³óáõóÇã ùÝÝáõÃÛ³Ý
F5: ùÝÝ³ñÏí»É »Ý Áëï ¿áõÃÛ³Ý ¨ ¹³ï³í×Çé Ï³Û³óí»É | G5: ³Û¹ ÃíáõÙ 1 ³ÙëÇó ³í»ÉÇ Å³ÙÏ»ïáõÙ | H5: Ï³ñ×»É »Ý ³ÝûñÇÝ³Ï³Ý ¹³ï³Ï³Ý ÝÇëï»ñáõÙ | I5: ³ÝÙ»ÕëáõÝ³ÏÝ»ñÇ ÝÏ³ïÙ³Ùµ ÏÇñ³é»É »Ý µÅßÏ³Ï³Ý µÝáõÛÃÇ Ñ³ñÏ³¹ñ³Ï³Ý ÙÇçáóÝ»ñ | J5: Ñ³ÝÓÝí»É »Ý Éñ³óáõóÇã ùÝÝáõÃÛ³Ý ³ÝûñÇÝ³ Ï³Ý ¨ ¹³ï³Ï³Ý ÝÇëï | K5: Ñ³ÝÓÝí»É »Ý Áëï ÁÝ¹¹³ïáõÃÛ³Ý | L5: ÁÝ¹³Ù»ÝÁ ³í³ñïí»É »Ý ·áñÍ»ñ (3, 5-8 ëÛáõÝ³ÏÝ»ñÇ ·áõÙ³ñÁ) | Q5: ÁÝ¹³Ù»ÝÁ | R5: ³Û¹ ÃíáõÙ Ñ³Ýó³¹»åÇ Ï³Ù Ñ³Ýó³Ï³½ÙÇ µ³ó³Ï³ÛáõÃÛ³Ý ¨ Ù»Õ³¹ñ³ÝùÁ ã³å³óáõóí³Í ÉÇÝ»Éáõ å³ï×³éáí
D6: 1 | E6: 2 | F6: 3 | G6: 4 | H6: 5 | I6: 6 | J6: 7 | K6: 8 | L6: 9 | M6: 10 | N6: 11 | O6: 12 | P6: 13 | Q6: 14 | R6: 15 | S6: 16 | T6: 17
A7: 1, ²½·³ÛÇÝ ¨ é³ë³Û³Ï³Ý Çñ³í³Ñ³í³ë³ñáõÃÛáõÝÁ Ë³Ëï»ÉÁ
A8: ¶áõÛùÇ Ñ³÷ßï³ÏáõÙ Ï³ï³ñí³Í | B8: 1, ¶áÕáõÃÛ³Ý ÙÇçáóáí | C8: 177 | D8: 2 | E8: 21 | F8: 16 | H8: 1 | L8: 17 | M8: 6 | O8: 24 | R8: 1
B9: 2, ÎáÕáåáõïÇ ÙÇçáóáí | C9: 176 | D9: 3 | E9: 4 | F9: 6 | L9: 6 | M9: 1 | O9: 13
B10: 3, ²í³½³ÏáõÃÛ³Ý ÙÇçáóáí | C10: 175 | E10: 2 | M10: 2
B11: 4, Ê³ñ¹³ËáõÃÛ³Ý ÙÇçáóáí | C11: 178 | D11: 11 | E11: 12 | F11: 17 | L11: 17 | M11: 6 | O11: 22
B12: 5, Úáõñ³óÝ»Éáõ, í³ïÝ»Éáõ Ï³Ù å³ßïáÝ³Ï³Ý ¹ÇñùÁ ã³ñ³ß³Ñ»Éáõ ÙÇçáóáí | C12: 179 | D12: 1 | F12: 1 | L12: 1 | O12: 1
A13: 7, ÞáñÃáõÙ | C13: 182
A14: 8, ¶áõÛùÁ ¹Çï³íáñáõÃÛ³Ùµ áãÝã³óÝ»ÉÁ Ï³Ù íÝ³ë»ÉÁ | C14: 185
A15: 9,¸Çï³íáñÛ³É ëå³ÝáõÃÛáõÝ | C15: 104 | D15: 3 | E15: 2 | F15: 3 | L15: 3 | M15: 2 | O15: 3
A16: 10,¸Çï³íáñÛ³É Í³Ýñ Ù³ñÙÝ³Ï³Ý íÝ³ëí³Íù | C16: 112 | D16: 2 | E16: 3 | F16: 3 | L16: 3 | M16: 2 | O16: 3
A17: 11, ´éÝ³µ³ñáõÃÛáõÝ | C17: 138
A18: 12,Î³ß³é³Ï»ñáõÃÛáõÝ, Ï³ß³é³ïíáõÃÛáõÝ, Ï³ß³é³ïíáõÃÛ³Ý ÙÇçÝáñ¹áõÃÛáõÝ | C18: 311,312,313
A19: 13,ÊáõÉÇ·³ÝáõÃÛáõÝ | C19: 258 I | D19: 1 | F19: 1 | L19: 1 | O19: 1 | R19: 1
A20: 14,â³ñ³ÙÇï ËáõÉÇ·³ÝáõÃÛáõÝ | C20: 258 II | D20: 1 | E20: 1 | F20: 2 | L20: 2 | O20: 3
A21: 15, ²é³ÝÓÝ³å»ë ã³ñ³ÙÇï ËáõÉÇ·³ÝáõÃÛáõÝ | C21: 258 III | D21: 2 | E21: 1 | F21: 1 | H21: 1 | L21: 2 | M21: 1 | O21: 2 | R21: 2
A22: 16,¼»Ýù ·áñÍ³¹ñ»Éáõ Ï³Ù ³ÛÝ ·áñÍ³¹ñ»Éáõ ÷áñÓáí ËáõÉÇ·³Ý | C22: 258 IV | D22: 2 | E22: 1 | F22: 2 | L22: 2 | M22: 1 | O22: 2
A23: 17,îñ³Ýëåáñï³ÛÇÝ ÙÇçáóÝ»ñÇ »ñÃ¨»ÏáõÃÛ³Ý ³Ýíï³Ý·áõÃÛ³Ý ¨ ß³Ñ³·áñßÙ³Ý Ï³ÝáÝÝ»ñÇ Ë³ËïáõÙ | C23: 242 | E23: 2 | F23: 2 | L23: 2 | O23: 2
A24: 18, ÂÙñ³¹»Õ»ñÇ Ñ»ï Ï³åí³Í Ñ³Ýó³·áñÍáõÃÛáõÝÝ»ñ | C24: 266, 268, 269,271, 272, 273, 276 | D24: 4 | E24: 15 | F24: 18 | L24: 18 | M24: 1 | O24: 23
A25: 19,²åûñÇÝÇ Ï»ñåáí é³½Ù³ÙÃ»ñù Ï³Ù å³ÛÃáõóÇÏ ÝÛáõÃ»ñ Ïñ»ÉÁ | C25: 235 | D25: 1 | M25: 1
A26: 20, ²ÛÉ Ñ³Ýó³·áñÍáõÃÛáõÝÝ»ñ | D26: 12 | E26: 15 | F26: 17 | H26: 4 | I26: 1 | L26: 22 | M26: 5 | O26: 23 | R26: 7 | S26: 1 | T26: 1
A27: 21, ÀÜ¸²ØºÜÀ | D27: =SUM(D8:D26) -> 45 | E27: =SUM(E8:E26) -> 79 | F27: =SUM(F8:F26) -> 89 | H27: =SUM(H8:H26) -> 6 | I27: =SUM(I8:I26) -> 1 | L27: =SUM(L8:L26) -> 96 | M27: =SUM(M8:M26) -> 28 | O27: =SUM(O8:O26) -> 122 | R27: =SUM(R8:R26) -> 11 | S27: =SUM(S8:S26) -> 1 | T27: =SUM(T8:T26) -> 1
A28: 22, ²Û¹ ÃíáõÙ` ³Ýã³÷³Ñ³ëÝ»ñÇ í»ñ³µ»ñÛ³É ·áñÍ»ñáí | E28: 6 | F28: 5 | H28: 1 | L28: 6 | O28: 14 | R28: 2

Sheet Erebuni
A1: Ð³ßí»ïíáõÃÛáõÝ
A2: ºñ¨³Ý ù³Õ³ùÇ ¾ñ»µáõÝÇ-Üáõµ³ñ³ß»Ý Ñ³Ù³ÛÝùÝ»ñÇ ³é³çÇÝ ³ïÛ³ÝÇ ¹³ï³ñ³ÝÇ ùñ»³Ï³Ý ·áñÍ»ñÇ ùÝÝáõÃÛ³Ý í»ñ³µ»ñÛ³É 2007Ã. 1-ÇÝ ÏÇë³ÙÛ³ÏÇ Ñ³Ù³ñ
A3: êïáõ·Çã Ñ³í³ë³ñáõÙÝ»ñ §²¦ µ³ÅÝÇ í»ñ³µ»ñÛ³É 1 ¨ 2 ëÛáõÝ³ÏÝ»ñÇ Ãí»ñÇ ·áõÙ³ñÁ Ñ³í³ë³ñ ¿ 9 ¨ 10 ëÛáõÝ³ÏÝ»ñÇ Ãí»ñÇ ·áõÙ³ñÇÝ | C3: ÐÐ ùñ»³Ï³Ý ûñ»Ýë·ñùÇ Ñá¹í³ÍÝ»ñ | D3: ²Ý³í³ñï ·áñÍ»ñÇ ÙÝ³óáñ¹Á Ñ³ßí»ïáõ Å³Ù³Ý³Ï³ßñç³ÝÇ ëÏ½µáõÙ | E3: êï³óí»É »Ý ·áñÍ»ñ Ñ³ßí»ïáõ Å³Ù³Ý³Ï³ßñç³ÝáõÙ | F3: ² øñ»³Ï³Ý ·áñÍ»ñÇ ß³ñÅÁ | O3: Ð³ßí»ïáõ Å³Ù³Ý³Ï³ßñç³ÝáõÙ ·áñÍ»ñáí »Õ»É »Ý (3, 5, 6, 7 ëÛáõÝ³Ï)
F4: ²í³ñïí»É »Ý ·áñÍ»ñ Ñ³ßí»ïáõ Å³Ù³Ý³Ï³ßñç³ÝáõÙ | M4: ²Ý³í³ñï ·áñÍ»ñÇ ÙÝ³óáñ¹Á Ñ³ßí»ïáõ Å³Ù³Ý³Ï³ßñç³ÝÇ í»ñçáõÙ | N4: ³Û¹ ÃíáõÙ ·ïÝíáõÙ »Ý í³ñáõÛÃáõÙ 3 ³ÙëÇó ³í»ÉÇ (Ï³ë»óí³Í ·áñÍ»ñÇ Ñ»ï Ù»Ïï»Õ) | O4: ¹³ï³å³ñïí³ÍÝ»ñ | P4: ³ñ¹³ñ³óí³ÍÝ»ñ | Q4: ³ÝÓÇÝù, áñáÝó í»ñ³µ»ñÛ³É ·áñÍ»ñÁ Ï³ñ×í»É »Ý | S4: ³ÝÙ»ÕëáõÝ³ÏÝ»ñ, áñáÝó ÝÏ³ïÙ³Ùµ ÏÇñ³éí»É »Ý µÅßÏ³Ï³Ý µÝáõÛÃÇ Ñ³ñÏ³¹ñ³Ï³Ý ÙÇçáóÝ»ñ | T4: ³ÝÓÇÝù, áñáÝó í»ñ³µ»ñÛ³É ·áñÍ»ñÁ Ñ³ÝÓÝí»É »Ý Éñ³óáõóÇã ùÝÝáõÃÛ³Ý
F5: ùÝÝ³ñÏí»É »Ý Áëï ¿áõÃÛ³Ý ¨ ¹³ï³í×Çé Ï³Û³óí»É | G5: ³Û¹ ÃíáõÙ 1 ³ÙëÇó ³í»ÉÇ Å³ÙÏ»ïáõÙ | H5: Ï³ñ×»É »Ý ³ÝûñÇÝ³Ï³Ý ¹³ï³Ï³Ý ÝÇëï»ñáõÙ | I5: ³ÝÙ»ÕëáõÝ³ÏÝ»ñÇ ÝÏ³ïÙ³Ùµ ÏÇñ³é»É »Ý µÅßÏ³Ï³Ý µÝáõÛÃÇ Ñ³ñÏ³¹ñ³Ï³Ý ÙÇçáóÝ»ñ | J5: Ñ³ÝÓÝí»É »Ý Éñ³óáõóÇã ùÝÝáõÃÛ³Ý ³ÝûñÇÝ³ Ï³Ý ¨ ¹³ï³Ï³Ý ÝÇëï | K5: Ñ³ÝÓÝí»É »Ý Áëï ÁÝ¹¹³ïáõÃÛ³Ý | L5: ÁÝ¹³Ù»ÝÁ ³í³ñïí»É »Ý ·áñÍ»ñ (3, 5-8 ëÛáõÝ³ÏÝ»ñÇ ·áõÙ³ñÁ) | Q5: ÁÝ¹³Ù»ÝÁ | R5: ³Û¹ ÃíáõÙ Ñ³Ýó³¹»åÇ Ï³Ù Ñ³Ýó³Ï³½ÙÇ µ³ó³Ï³ÛáõÃÛ³Ý ¨ Ù»Õ³¹ñ³ÝùÁ ã³å³óáõóí³Í ÉÇÝ»Éáõ å³ï×³éáí
D6: 1 | E6: 2 | F6: 3 | G6: 4 | H6: 5 | I6: 6 | J6: 7 | K6: 8 | L6: 9 | M6: 10 | N6: 11 | O6: 12 | P6: 13 | Q6: 14 | R6: 15 | S6: 16 | T6: 17
A7: 1, ²½·³ÛÇÝ ¨ é³ë³Û³Ï³Ý Çñ³í³Ñ³í³ë³ñáõÃÛáõÝÁ Ë³Ëï»ÉÁ
A8: ¶áõÛùÇ Ñ³÷ßï³ÏáõÙ Ï³ï³ñí³Í | B8: 1, ¶áÕáõÃÛ³Ý ÙÇçáóáí | C8: 177 | D8: 5 | E8: 16 | F8: 20 | K8: 1 | L8: 21 | O8: 31
B9: 2, ÎáÕáåáõïÇ ÙÇçáóáí | C9: 176
B10: 3, ²í³½³ÏáõÃÛ³Ý ÙÇçáóáí | C10: 175
B11: 4, Ê³ñ¹³ËáõÃÛ³Ý ÙÇçáóáí | C11: 178 | D11: 3 | E11: 4 | F11: 4 | J11: 1 | L11: 5 | M11: 2 | N11: 1 | O11: 6 | T11: 1
B12: 5, Úáõñ³óÝ»Éáõ, í³ïÝ»Éáõ Ï³Ù å³ßïáÝ³Ï³Ý ¹ÇñùÁ ã³ñ³ß³Ñ»Éáõ ÙÇçáóáí | C12: 179 | D12: 1 | E12: 2 | F12: 2 | L12: 2 | M12: 1 | O12: 3
A13: 7, ÞáñÃáõÙ | C13: 182 | D13: 2 | F13: 2 | L13: 2 | O13: 2
A14: 8, ¶áõÛùÁ ¹Çï³íáñáõÃÛ³Ùµ áãÝã³óÝ»ÉÁ Ï³Ù íÝ³ë»ÉÁ | C14: 185
A15: 9,¸Çï³íáñÛ³É ëå³ÝáõÃÛáõÝ | C15: 104 | D15: 2 | E15: 4 | F15: 3 | I15: 1 | K15: 1 | L15: 5 | M15: 1 | O15: 3 | S15: 1
A16: 10,¸Çï³íáñÛ³É Í³Ýñ Ù³ñÙÝ³Ï³Ý íÝ³ëí³Íù | C16: 112 | D16: 2 | E16: 3 | F16: 3 | J16: 1 | L16: 4 | M16: 1 | O16: 4 | T16: 1
A17: 11, ´éÝ³µ³ñáõÃÛáõÝ | C17: 138
A18: 12,Î³ß³é³Ï»ñáõÃÛáõÝ, Ï³ß³é³ïíáõÃÛáõÝ, Ï³ß³é³ïíáõÃÛ³Ý ÙÇçÝáñ¹áõÃÛáõÝ | C18: 311,312,313
A19: 13,ÊáõÉÇ·³ÝáõÃÛáõÝ | C19: 258 I | D19: 1 | F19: 1 | L19: 1 | O19: 1
A20: 14,â³ñ³ÙÇï ËáõÉÇ·³ÝáõÃÛáõÝ | C20: 258 II
A21: 15, ²é³ÝÓÝ³å»ë ã³ñ³ÙÇï ËáõÉÇ·³ÝáõÃÛáõÝ | C21: 258 III | E21: 1 | M21: 1
A22: 16,¼»Ýù ·áñÍ³¹ñ»Éáõ Ï³Ù ³ÛÝ ·áñÍ³¹ñ»Éáõ ÷áñÓáí ËáõÉÇ·³Ý | C22: 258 IV | E22: 1 | F22: 1 | L22: 1 | O22: 1
A23: 17,îñ³Ýëåáñï³ÛÇÝ ÙÇçáóÝ»ñÇ »ñÃ¨»ÏáõÃÛ³Ý ³Ýíï³Ý·áõÃÛ³Ý ¨ ß³Ñ³·áñßÙ³Ý Ï³ÝáÝÝ»ñÇ Ë³ËïáõÙ | C23: 242 | D23: 1 | E23: 2 | F23: 3 | L23: 3 | O23: 3
A24: 18, ÂÙñ³¹»Õ»ñÇ Ñ»ï Ï³åí³Í Ñ³Ýó³·áñÍáõÃÛáõÝÝ»ñ | C24: 266, 268, 269,271, 272, 273, 276 | D24: 5 | E24: 8 | F24: 7 | H24: 1 | K24: 1 | L24: 9 | M24: 4 | N24: 1 | O24: 11 | Q24: 1
A25: 19,²åûñÇÝÇ Ï»ñåáí é³½Ù³ÙÃ»ñù Ï³Ù å³ÛÃáõóÇÏ ÝÛáõÃ»ñ Ïñ»ÉÁ | C25: 235 | E25: 3 | F25: 2 | L25: 2 | M25: 1 | O25: 2
A26: 20, ²ÛÉ Ñ³Ýó³·áñÍáõÃÛáõÝÝ»ñ | D26: 4 | E26: 10 | F26: 8 | H26: 2 | K26: 1 | L26: 11 | M26: 3 | N26: 2 | O26: 8 | Q26: 2
A27: 21, ÀÜ¸²ØºÜÀ | D27: =SUM(D8:D26) -> 26 | E27: =SUM(E8:E26) -> 54 | F27: =SUM(F8:F26) -> 56 | H27: =SUM(H8:H26) -> 3 | I27: =SUM(I8:I26) -> 1 | J27: =SUM(J8:J26) -> 2 | K27: =SUM(K8:K26) -> 4 | L27: =SUM(L8:L26) -> 66 | M27: =SUM(M8:M26) -> 14 | N27: =SUM(N8:N26) -> 4 | O27: =SUM(O8:O26) -> 75 | Q27: =SUM(Q8:Q26) -> 3 | S27: =SUM(S8:S26) -> 1 | T27: =SUM(T8:T26) -> 2
A28: 22, ²Û¹ ÃíáõÙ` ³Ýã³÷³Ñ³ëÝ»ñÇ í»ñ³µ»ñÛ³É ·áñÍ»ñáí | E28: 4 | F28: 4 | L28: 4 | O28: 4

Sheet Avan
A1: Ð³ßí»ïíáõÃÛáõÝ
A2: ºñ¨³Ý ù³Õ³ùÇ ²í³Ý ¨ Üáñù-Ø³ñ³ß Ñ³Ù³ÛÝùÝ»ñÇ ³é³çÇÝ ³ïÛ³ÝÇ ¹³ï³ñ³ÝÇ ùñ»³Ï³Ý ·áñÍ»ñÇ ùÝÝáõÃÛ³Ý í»ñ³µ»ñÛ³É 2007Ã 1-ÇÝ ÏÇë³ÙÛ³ÏÇ Ñ³Ù³ñ
A3: êïáõ·Çã Ñ³í³ë³ñáõÙÝ»ñ §²¦ µ³ÅÝÇ í»ñ³µ»ñÛ³É 1 ¨ 2 ëÛáõÝ³ÏÝ»ñÇ Ãí»ñÇ ·áõÙ³ñÁ Ñ³í³ë³ñ ¿ 9 ¨ 10 ëÛáõÝ³ÏÝ»ñÇ Ãí»ñÇ ·áõÙ³ñÇÝ | C3: ÐÐ ùñ»³Ï³Ý ûñ»Ýë·ñùÇ Ñá¹í³ÍÝ»ñ | D3: ²Ý³í³ñï ·áñÍ»ñÇ ÙÝ³óáñ¹Á Ñ³ßí»ïáõ Å³Ù³Ý³Ï³ßñç³ÝÇ ëÏ½µáõÙ | E3: êï³óí»É »Ý ·áñÍ»ñ Ñ³ßí»ïáõ Å³Ù³Ý³Ï³ßñç³ÝáõÙ | F3: ² øñ»³Ï³Ý ·áñÍ»ñÇ ß³ñÅÁ | O3: Ð³ßí»ïáõ Å³Ù³Ý³Ï³ßñç³ÝáõÙ ·áñÍ»ñáí »Õ»É »Ý (3, 5, 6, 7 ëÛáõÝ³Ï)
F4: ²í³ñïí»É »Ý ·áñÍ»ñ Ñ³ßí»ïáõ Å³Ù³Ý³Ï³ßñç³ÝáõÙ | M4: ²Ý³í³ñï ·áñÍ»ñÇ ÙÝ³óáñ¹Á Ñ³ßí»ïáõ Å³Ù³Ý³Ï³ßñç³ÝÇ í»ñçáõÙ | N4: ³Û¹ ÃíáõÙ ·ïÝíáõÙ »Ý í³ñáõÛÃáõÙ 3 ³ÙëÇó ³í»ÉÇ (Ï³ë»óí³Í ·áñÍ»ñÇ Ñ»ï Ù»Ïï»Õ) | O4: ¹³ï³å³ñïí³ÍÝ»ñ | P4: ³ñ¹³ñ³óí³ÍÝ»ñ | Q4: ³ÝÓÇÝù, áñáÝó í»ñ³µ»ñÛ³É ·áñÍ»ñÁ Ï³ñ×í»É »Ý | S4: ³ÝÙ»ÕëáõÝ³ÏÝ»ñ, áñáÝó ÝÏ³ïÙ³Ùµ ÏÇñ³éí»É »Ý µÅßÏ³Ï³Ý µÝáõÛÃÇ Ñ³ñÏ³¹ñ³Ï³Ý ÙÇçáóÝ»ñ | T4: ³ÝÓÇÝù, áñáÝó í»ñ³µ»ñÛ³É ·áñÍ»ñÁ Ñ³ÝÓÝí»É »Ý Éñ³óáõóÇã ùÝÝáõÃÛ³Ý
F5: ùÝÝ³ñÏí»É »Ý Áëï ¿áõÃÛ³Ý ¨ ¹³ï³í×Çé Ï³Û³óí»É | G5: ³Û¹ ÃíáõÙ 1 ³ÙëÇó ³í»ÉÇ Å³ÙÏ»ïáõÙ | H5: Ï³ñ×»É »Ý ³ÝûñÇÝ³Ï³Ý ¹³ï³Ï³Ý ÝÇëï»ñáõÙ | I5: ³ÝÙ»ÕëáõÝ³ÏÝ»ñÇ ÝÏ³ïÙ³Ùµ ÏÇñ³é»É »Ý µÅßÏ³Ï³Ý µÝáõÛÃÇ Ñ³ñÏ³¹ñ³Ï³Ý ÙÇçáóÝ»ñ | J5: Ñ³ÝÓÝí»É »Ý Éñ³óáõóÇã ùÝÝáõÃÛ³Ý ³ÝûñÇÝ³ Ï³Ý ¨ ¹³ï³Ï³Ý ÝÇëï | K5: Ñ³ÝÓÝí»É »Ý Áëï ÁÝ¹¹³ïáõÃÛ³Ý | L5: ÁÝ¹³Ù»ÝÁ ³í³ñïí»É »Ý ·áñÍ»ñ (3, 5-8 ëÛáõÝ³ÏÝ»ñÇ ·áõÙ³ñÁ) | Q5: ÁÝ¹³Ù»ÝÁ | R5: ³Û¹ ÃíáõÙ Ñ³Ýó³¹»åÇ Ï³Ù Ñ³Ýó³Ï³½ÙÇ µ³ó³Ï³ÛáõÃÛ³Ý ¨ Ù»Õ³¹ñ³ÝùÁ ã³å³óáõóí³Í ÉÇÝ»Éáõ å³ï×³éáí
D6: 1 | E6: 2 | F6: 3 | G6: 4 | H6: 5 | I6: 6 | J6: 7 | K6: 8 | L6: 9 | M6: 10 | N6: 11 | O6: 12 | P6: 13 | Q6: 14 | R6: 15 | S6: 16 | T6: 17
A7: 1, ²½·³ÛÇÝ ¨ é³ë³Û³Ï³Ý Çñ³í³Ñ³í³ë³ñáõÃÛáõÝÁ Ë³Ëï»ÉÁ
A8: ¶áõÛùÇ Ñ³÷ßï³ÏáõÙ Ï³ï³ñí³Í | B8: 1, ¶áÕáõÃÛ³Ý ÙÇçáóáí | C8: 177 | D8: 4 | E8: 9 | F8: 9 | H8: 1 | L8: 10 | M8: 3 | O8: 14 | Q8: 1 | R8: 1
B9: 2, ÎáÕáåáõïÇ ÙÇçáóáí | C9: 176 | D9: 3 | E9: 4 | F9: 7 | L9: 7 | O9: 8
B10: 3, ²í³½³ÏáõÃÛ³Ý ÙÇçáóáí | C10: 175 | D10: 2 | E10: 1 | F10: 3 | L10: 3 | O10: 3
B11: 4, Ê³ñ¹³ËáõÃÛ³Ý ÙÇçáóáí | C11: 178 | D11: 1 | E11: 2 | F11: 2 | L11: 2 | M11: 1 | O11: 2
B12: 5, Úáõñ³óÝ»Éáõ, í³ïÝ»Éáõ Ï³Ù å³ßïáÝ³Ï³Ý ¹ÇñùÁ ã³ñ³ß³Ñ»Éáõ ÙÇçáóáí | C12: 179
A13: 7, ÞáñÃáõÙ | C13: 182
A14: 8, ¶áõÛùÁ ¹Çï³íáñáõÃÛ³Ùµ áãÝã³óÝ»ÉÁ Ï³Ù íÝ³ë»ÉÁ | C14: 185 | E14: 1 | F14: 1 | L14: 1 | O14: 1
A15: 9,¸Çï³íáñÛ³É ëå³ÝáõÃÛáõÝ | C15: 104 | D15: 2 | E15: 1 | M15: 3
A16: 10,¸Çï³íáñÛ³É Í³Ýñ Ù³ñÙÝ³Ï³Ý íÝ³ëí³Íù | C16: 112 | D16: 3 | E16: 2 | F16: 1 | J16: 1 | L16: 2 | M16: 3 | O16: 1 | Q16: 2 | T16: 2
A17: 11, ´éÝ³µ³ñáõÃÛáõÝ | C17: 138 | E17: 1 | F17: 1 | L17: 1 | O17: 1
A18: 12,Î³ß³é³Ï»ñáõÃÛáõÝ, Ï³ß³é³ïíáõÃÛáõÝ, Ï³ß³é³ïíáõÃÛ³Ý ÙÇçÝáñ¹áõÃÛáõÝ | C18: 311,312,313
A19: 13,ÊáõÉÇ·³ÝáõÃÛáõÝ | C19: 258 I
A20: 14,â³ñ³ÙÇï ËáõÉÇ·³ÝáõÃÛáõÝ | C20: 258 II
A21: 15, ²é³ÝÓÝ³å»ë ã³ñ³ÙÇï ËáõÉÇ·³ÝáõÃÛáõÝ | C21: 258 III | D21: 2 | E21: 2 | F21: 4 | L21: 4 | O21: 8
A22: 16,¼»Ýù ·áñÍ³¹ñ»Éáõ Ï³Ù ³ÛÝ ·áñÍ³¹ñ»Éáõ ÷áñÓáí ËáõÉÇ·³Ý | C22: 258 IV
A23: 17,îñ³Ýëåáñï³ÛÇÝ ÙÇçáóÝ»ñÇ »ñÃ¨»ÏáõÃÛ³Ý ³Ýíï³Ý·áõÃÛ³Ý ¨ ß³Ñ³·áñßÙ³Ý Ï³ÝáÝÝ»ñÇ Ë³ËïáõÙ | C23: 242 | E23: 7 | F23: 5 | H23: 2 | L23: 7 | O23: 5 | Q23: 2 | R23: 2
A24: 18, ÂÙñ³¹»Õ»ñÇ Ñ»ï Ï³åí³Í Ñ³Ýó³·áñÍáõÃÛáõÝÝ»ñ | C24: 266, 268, 269,271, 272, 273, 276 | D24: 4 | E24: 7 | F24: 6 | J24: 1 | L24: 7 | M24: 4 | O24: 9 | Q24: 2 | T24: 2
A25: 19,²åûñÇÝÇ Ï»ñåáí é³½Ù³ÙÃ»ñù Ï³Ù å³ÛÃáõóÇÏ ÝÛáõÃ»ñ Ïñ»ÉÁ | C25: 235 | E25: 3 | F25: 3 | L25: 3 | O25: 3
A26: 20, ²ÛÉ Ñ³Ýó³·áñÍáõÃÛáõÝÝ»ñ | D26: 4 | E26: 9 | F26: 9 | L26: 9 | M26: 4 | O26: 12
A27: 21, ÀÜ¸²ØºÜÀ | D27: =SUM(D8:D26) -> 25 | E27: =SUM(E8:E26) -> 49 | F27: =SUM(F8:F26) -> 51 | H27: =SUM(H8:H26) -> 3 | J27: =SUM(J8:J26) -> 2 | L27: =SUM(L8:L26) -> 56 | M27: =SUM(M8:M26) -> 18 | O27: =SUM(O8:O26) -> 67 | Q27: =SUM(Q8:Q26) -> 7 | R27: =SUM(R8:R26) -> 3 | T27: =SUM(T8:T26) -> 4
A28: 22, ²Û¹ ÃíáõÙ` ³Ýã³÷³Ñ³ëÝ»ñÇ í»ñ³µ»ñÛ³É ·áñÍ»ñáí | D28: 2 | E28: 4 | F28: 6 | L28: 6 | O28: 7

Sheet Malatia
A1: Ð³ßí»ïíáõÃÛáõÝ
A2: ºñ¨³Ý ù³Õ³ùÇ Ø³É³ÃÇ³-ê»µ³ëïÇ³ Ñ³Ù³ÛÝùÇ ³é³çÇÝ ³ïÛ³ÝÇ ¹³ï³ñ³ÝÇ ùñ»³Ï³Ý ·áñÍ»ñÇ ùÝÝáõÃÛ³Ý í»ñ³µ»ñÛ³É 2007Ã.1-ÇÝ ÏÇë³ÙÛ³ÏÇ Ñ³Ù³ñ
A3: êïáõ·Çã Ñ³í³ë³ñáõÙÝ»ñ §²¦ µ³ÅÝÇ í»ñ³µ»ñÛ³É 1 ¨ 2 ëÛáõÝ³ÏÝ»ñÇ Ãí»ñÇ ·áõÙ³ñÁ Ñ³í³ë³ñ ¿ 9 ¨ 10 ëÛáõÝ³ÏÝ»ñÇ Ãí»ñÇ ·áõÙ³ñÇÝ | C3: ÐÐ ùñ»³Ï³Ý ûñ»Ýë·ñùÇ Ñá¹í³ÍÝ»ñ | D3: ²Ý³í³ñï ·áñÍ»ñÇ ÙÝ³óáñ¹Á Ñ³ßí»ïáõ Å³Ù³Ý³Ï³ßñç³ÝÇ ëÏ½µáõÙ | E3: êï³óí»É »Ý ·áñÍ»ñ Ñ³ßí»ïáõ Å³Ù³Ý³Ï³ßñç³ÝáõÙ | F3: ² øñ»³Ï³Ý ·áñÍ»ñÇ ß³ñÅÁ | O3: Ð³ßí»ïáõ Å³Ù³Ý³Ï³ßñç³ÝáõÙ ·áñÍ»ñáí »Õ»É »Ý (3, 5, 6, 7 ëÛáõÝ³Ï)
F4: ²í³ñïí»É »Ý ·áñÍ»ñ Ñ³ßí»ïáõ Å³Ù³Ý³Ï³ßñç³ÝáõÙ | M4: ²Ý³í³ñï ·áñÍ»ñÇ ÙÝ³óáñ¹Á Ñ³ßí»ïáõ Å³Ù³Ý³Ï³ßñç³ÝÇ í»ñçáõÙ | N4: ³Û¹ ÃíáõÙ ·ïÝíáõÙ »Ý í³ñáõÛÃáõÙ 3 ³ÙëÇó ³í»ÉÇ (Ï³ë»óí³Í ·áñÍ»ñÇ Ñ»ï Ù»Ïï»Õ) | O4: ¹³ï³å³ñïí³ÍÝ»ñ | P4: ³ñ¹³ñ³óí³ÍÝ»ñ | Q4: ³ÝÓÇÝù, áñáÝó í»ñ³µ»ñÛ³É ·áñÍ»ñÁ Ï³ñ×í»É »Ý | S4: ³ÝÙ»ÕëáõÝ³ÏÝ»ñ, áñáÝó ÝÏ³ïÙ³Ùµ ÏÇñ³éí»É »Ý µÅßÏ³Ï³Ý µÝáõÛÃÇ Ñ³ñÏ³¹ñ³Ï³Ý ÙÇçáóÝ»ñ | T4: ³ÝÓÇÝù, áñáÝó í»ñ³µ»ñÛ³É ·áñÍ»ñÁ Ñ³ÝÓÝí»É »Ý Éñ³óáõóÇã ùÝÝáõÃÛ³Ý
F5: ùÝÝ³ñÏí»É »Ý Áëï ¿áõÃÛ³Ý ¨ ¹³ï³í×Çé Ï³Û³óí»É | G5: ³Û¹ ÃíáõÙ 1 ³ÙëÇó ³í»ÉÇ Å³ÙÏ»ïáõÙ | H5: Ï³ñ×»É »Ý ³ÝûñÇÝ³Ï³Ý ¹³ï³Ï³Ý ÝÇëï»ñáõÙ | I5: ³ÝÙ»ÕëáõÝ³ÏÝ»ñÇ ÝÏ³ïÙ³Ùµ ÏÇñ³é»É »Ý µÅßÏ³Ï³Ý µÝáõÛÃÇ Ñ³ñÏ³¹ñ³Ï³Ý ÙÇçáóÝ»ñ | J5: Ñ³ÝÓÝí»É »Ý Éñ³óáõóÇã ùÝÝáõÃÛ³Ý ³ÝûñÇÝ³ Ï³Ý ¨ ¹³ï³Ï³Ý ÝÇëï | K5: Ñ³ÝÓÝí»É »Ý Áëï ÁÝ¹¹³ïáõÃÛ³Ý | L5: ÁÝ¹³Ù»ÝÁ ³í³ñïí»É »Ý ·áñÍ»ñ (3, 5-8 ëÛáõÝ³ÏÝ»ñÇ ·áõÙ³ñÁ) | Q5: ÁÝ¹³Ù»ÝÁ | R5: ³Û¹ ÃíáõÙ Ñ³Ýó³¹»åÇ Ï³Ù Ñ³Ýó³Ï³½ÙÇ µ³ó³Ï³ÛáõÃÛ³Ý ¨ Ù»Õ³¹ñ³ÝùÁ ã³å³óáõóí³Í ÉÇÝ»Éáõ å³ï×³éáí
D6: 1 | E6: 2 | F6: 3 | G6: 4 | H6: 5 | I6: 6 | J6: 7 | K6: 8 | L6: 9 | M6: 10 | N6: 11 | O6: 12 | P6: 13 | Q6: 14 | R6: 15 | S6: 16 | T6: 17
A7: 1, ²½·³ÛÇÝ ¨ é³ë³Û³Ï³Ý Çñ³í³Ñ³í³ë³ñáõÃÛáõÝÁ Ë³Ëï»ÉÁ
A8: ¶áõÛùÇ Ñ³÷ßï³ÏáõÙ Ï³ï³ñí³Í | B8: 1, ¶áÕáõÃÛ³Ý ÙÇçáóáí | C8: 177 | D8: 7 | E8: 15 | F8: 21 | H8: 1 | L8: 22 | O8: 37 | Q8: 1
B9: 2, ÎáÕáåáõïÇ ÙÇçáóáí | C9: 176 | D9: 1 | F9: 1 | L9: 1 | O9: 1
B10: 3, ²í³½³ÏáõÃÛ³Ý ÙÇçáóáí | C10: 175 | D10: 2 | E10: 2 | F10: 4 | L10: 4 | O10: 10
B11: 4, Ê³ñ¹³ËáõÃÛ³Ý ÙÇçáóáí | C11: 178 | D11: 2 | E11: 4 | F11: 3 | L11: 3 | M11: 3 | N11: 1 | O11: 3
B12: 5, Úáõñ³óÝ»Éáõ, í³ïÝ»Éáõ Ï³Ù å³ßïáÝ³Ï³Ý ¹ÇñùÁ ã³ñ³ß³Ñ»Éáõ ÙÇçáóáí | C12: 179 | E12: 2 | F12: 1 | L12: 1 | M12: 1 | O12: 1
A13: 7, ÞáñÃáõÙ | C13: 182
A14: 8, ¶áõÛùÁ ¹Çï³íáñáõÃÛ³Ùµ áãÝã³óÝ»ÉÁ Ï³Ù íÝ³ë»ÉÁ | C14: 185
A15: 9,¸Çï³íáñÛ³É ëå³ÝáõÃÛáõÝ | C15: 104 | D15: 1 | E15: 2 | F15: 2 | L15: 2 | M15: 1 | N15: 1 | O15: 2
A16: 10,¸Çï³íáñÛ³É Í³Ýñ Ù³ñÙÝ³Ï³Ý íÝ³ëí³Íù | C16: 112 | E16: 2 | F16: 1 | L16: 1 | M16: 1 | O16: 1
A17: 11, ´éÝ³µ³ñáõÃÛáõÝ | C17: 138
