Workbook

Sheet HANRAPET
A1: Ð³ßí»ïíáõÃÛáõÝ
A2: ÐÐ ³é³çÇÝ ³ïÛ³ÝÇ ¹³ï³ñ³ÝÝ»ñÇ ùñ»³Ï³Ý ·áñÍ»ñÇ ùÝÝáõÃÛ³Ý í»ñ³µ»ñÛ³É 2007Ã.1-ÇÝ ÏÇë³ÙÛ³ÏÇ Ñ³Ù³ñ
A3: êïáõ·Çã Ñ³í³ë³ñáõÙÝ»ñ 1 ¨ 2 ëÛáõÝ³ÏÝ»ñÇ Ãí»ñÇ ·áõÙ³ñÁ Ñ³í³ë³ñ ¿ 9 ¨ 10 ëÛáõÝ³ÏÝ»ñÇ Ãí»ñÇ ·áõÙ³ñÇÝ | C3: ÐÐ ùñ»³Ï³Ý ûñ»Ýë·ñùÇ Ñá¹í³ÍÝ»ñ | D3: ²Ý³í³ñï ·áñÍ»ñÇ ÙÝ³óáñ¹Á Ñ³ßí»ïáõ Å³Ù³Ý³Ï³ßñç³ÝÇ ëÏ½µáõÙ | E3: êï³óí»É »Ý ·áñÍ»ñ Ñ³ßí»ïáõ Å³Ù³Ý³Ï³ßñç³ÝáõÙ | F3: øñ»³Ï³Ý ·áñÍ»ñÇ ß³ñÅÁ | O3: Ð³ßí»ïáõ Å³Ù³Ý³Ï³ßñç³ÝáõÙ ·áñÍ»ñáí »Õ»É »Ý (3, 5, 6, 7 ëÛáõÝ³Ï)
F4: ²í³ñïí»É »Ý ·áñÍ»ñ Ñ³ßí»ïáõ Å³Ù³Ý³Ï³ßñç³ÝáõÙ | M4: ²Ý³í³ñï ·áñÍ»ñÇ ÙÝ³óáñ¹Á Ñ³ßí»ïáõ Å³Ù³Ý³Ï³ßñç³ÝÇ í»ñçáõÙ | N4: ³Û¹ ÃíáõÙ ·ïÝíáõÙ »Ý í³ñáõÛÃáõÙ 3 ³ÙëÇó ³í»ÉÇ (Ï³ë»óí³Í ·áñÍ»ñÇ Ñ»ï Ù»Ïï»Õ) | O4: ¹³ï³å³ñïí³ÍÝ»ñ | P4: ³ñ¹³ñ³óí³ÍÝ»ñ | Q4: ³ÝÓÇÝù, áñáÝó í»ñ³µ»ñÛ³É ·áñÍ»ñÁ Ï³ñ×í»É »Ý | S4: ³ÝÙ»ÕëáõÝ³ÏÝ»ñ, áñáÝó ÝÏ³ïÙ³Ùµ ÏÇñ³éí»É »Ý µÅßÏ³Ï³Ý µÝáõÛÃÇ Ñ³ñÏ³¹ñ³Ï³Ý ÙÇçáóÝ»ñ | T4: ³ÝÓÇÝù, áñáÝó í»ñ³µ»ñÛ³É ·áñÍ»ñÁ Ñ³ÝÓÝí»É »Ý Éñ³óáõóÇã ùÝÝáõÃÛ³Ý
F5: ùÝÝ³ñÏí»É »Ý Áëï ¿áõÃÛ³Ý ¨ ¹³ï³í×Çé Ï³Û³óí»É | G5: ³Û¹ ÃíáõÙ 1 ³ÙëÇó ³í»ÉÇ Å³ÙÏ»ïáõÙ | H5: Ï³ñ×í»É ¿ | I5: ³ÝÙ»ÕëáõÝ³ÏÝ»ñÇ ÝÏ³ïÙ³Ùµ ÏÇñ³é»É »Ý µÅßÏ³Ï³Ý µÝáõÛÃÇ Ñ³ñÏ³¹ñ³Ï³Ý ÙÇçáóÝ»ñ | J5: Ñ³ÝÓÝí»É »Ý Éñ³óáõóÇã ùÝÝáõÃÛ³Ý | K5: Ñ³ÝÓÝí»É »Ý Áëï ÁÝ¹¹³ïáõÃÛ³Ý | L5: ÁÝ¹³Ù»ÝÁ ³í³ñïí»É »Ý ·áñÍ»ñ (3, 5-8 ëÛáõÝ³ÏÝ»ñÇ ·áõÙ³ñÁ) | Q5: ÁÝ¹³Ù»ÝÁ | R5: ³Û¹ ÃíáõÙ Ñ³Ýó³¹»åÇ Ï³Ù Ñ³Ýó³Ï³½ÙÇ µ³ó³Ï³ÛáõÃÛ³Ý ¨ Ù»Õ³¹ñ³ÝùÁ ã³å³óáõóí³Í ÉÇÝ»Éáõ å³ï×³éáí
D6: 1 | E6: 2 | F6: 3 | G6: 4 | H6: 5 | I6: 6 | J6: 7 | K6: 8 | L6: 9 | M6: 10 | N6: 11 | O6: 12 | P6: 13 | Q6: 14 | R6: 15 | S6: 16 | T6: 17
A7: 1, ²½·³ÛÇÝ ¨ é³ë³Û³Ï³Ý Çñ³í³Ñ³í³ë³ñáõÃÛáõÝÁ Ë³Ëï»ÉÁ | D7: =SUM(Marzer!D7+Erevan!D7) -> 0 | E7: =SUM(Marzer!E7+Erevan!E7) -> 0 | F7: =SUM(Marzer!F7+Erevan!F7) -> 0 | G7: =SUM(Marzer!G7+Erevan!G7) -> 0 | H7: =SUM(Marzer!H7+Erevan!H7) -> 0 | I7: =SUM(Marzer!I7+Erevan!I7) -> 0 | J7: =SUM(Marzer!J7+Erevan!J7) -> 0 | K7: =SUM(Marzer!K7+Erevan!K7) -> 0 | ... T7: =SUM(Marzer!T7+Erevan!T7) -> 0
A8: ¶áõÛùÇ Ñ³÷ßï³ÏáõÙ Ï³ï³ñí³Í | B8: 1, ¶áÕáõÃÛ³Ý ÙÇçáóáí | C8: 177 | D8: =SUM(Marzer!D8+Erevan!D8) -> 87 | E8: =SUM(Marzer!E8+Erevan!E8) -> 292 | F8: =SUM(Marzer!F8+Erevan!F8) -> 288 | G8: =SUM(Marzer!G8+Erevan!G8) -> 5 | H8: =SUM(Marzer!H8+Erevan!H8) -> 14 | I8: =SUM(Marzer!I8+Erevan!I8) -> 2 | J8: =SUM(Marzer!J8+Erevan!J8) -> 2 | K8: =SUM(Marzer!K8+Erevan!K8) -> 4 | ... T8: =SUM(Marzer!T8+Erevan!T8) -> 3
B9: 2, ÎáÕáåáõïÇ ÙÇçáóáí | C9: 176 | D9: =SUM(Marzer!D9+Erevan!D9) -> 16 | E9: =SUM(Marzer!E9+Erevan!E9) -> 22 | F9: =SUM(Marzer!F9+Erevan!F9) -> 30 | G9: =SUM(Marzer!G9+Erevan!G9) -> 1 | H9: =SUM(Marzer!H9+Erevan!H9) -> 0 | I9: =SUM(Marzer!I9+Erevan!I9) -> 0 | J9: =SUM(Marzer!J9+Erevan!J9) -> 0 | K9: =SUM(Marzer!K9+Erevan!K9) -> 0 | ... T9: =SUM(Marzer!T9+Erevan!T9) -> 0
B10: 3, ²í³½³ÏáõÃÛ³Ý ÙÇçáóáí | C10: 175 | D10: =SUM(Marzer!D10+Erevan!D10) -> 9 | E10: =SUM(Marzer!E10+Erevan!E10) -> 21 | F10: =SUM(Marzer!F10+Erevan!F10) -> 22 | G10: =SUM(Marzer!G10+Erevan!G10) -> 2 | H10: =SUM(Marzer!H10+Erevan!H10) -> 0 | I10: =SUM(Marzer!I10+Erevan!I10) -> 0 | J10: =SUM(Marzer!J10+Erevan!J10) -> 0 | K10: =SUM(Marzer!K10+Erevan!K10) -> 0 | ... T10: =SUM(Marzer!T10+Erevan!T10) -> 0
B11: 4, Ê³ñ¹³ËáõÃÛ³Ý ÙÇçáóáí | C11: 178 | D11: =SUM(Marzer!D11+Erevan!D11) -> 36 | E11: =SUM(Marzer!E11+Erevan!E11) -> 67 | F11: =SUM(Marzer!F11+Erevan!F11) -> 68 | G11: =SUM(Marzer!G11+Erevan!G11) -> 3 | H11: =SUM(Marzer!H11+Erevan!H11) -> 1 | I11: =SUM(Marzer!I11+Erevan!I11) -> 0 | J11: =SUM(Marzer!J11+Erevan!J11) -> 1 | K11: =SUM(Marzer!K11+Erevan!K11) -> 1 | ... T11: =SUM(Marzer!T11+Erevan!T11) -> 1
B12: 5, Úáõñ³óÝ»Éáõ, í³ïÝ»Éáõ Ï³Ù å³ßïáÝ³Ï³Ý ¹ÇñùÁ ã³ñ³ß³Ñ»Éáõ ÙÇçáóáí | C12: 179 | D12: =SUM(Marzer!D12+Erevan!D12) -> 18 | E12: =SUM(Marzer!E12+Erevan!E12) -> 25 | F12: =SUM(Marzer!F12+Erevan!F12) -> 27 | G12: =SUM(Marzer!G12+Erevan!G12) -> 1 | H12: =SUM(Marzer!H12+Erevan!H12) -> 5 | I12: =SUM(Marzer!I12+Erevan!I12) -> 0 | J12: =SUM(Marzer!J12+Erevan!J12) -> 0 | K12: =SUM(Marzer!K12+Erevan!K12) -> 0 | ... T12: =SUM(Marzer!T12+Erevan!T12) -> 0
A13: 7, ÞáñÃáõÙ | C13: 182 | D13: =SUM(Marzer!D13+Erevan!D13) -> 3 | E13: =SUM(Marzer!E13+Erevan!E13) -> 3 | F13: =SUM(Marzer!F13+Erevan!F13) -> 3 | G13: =SUM(Marzer!G13+Erevan!G13) -> 0 | H13: =SUM(Marzer!H13+Erevan!H13) -> 0 | I13: =SUM(Marzer!I13+Erevan!I13) -> 0 | J13: =SUM(Marzer!J13+Erevan!J13) -> 0 | K13: =SUM(Marzer!K13+Erevan!K13) -> 0 | ... T13: =SUM(Marzer!T13+Erevan!T13) -> 0
A14: 8, ¶áõÛùÁ ¹Çï³íáñáõÃÛ³Ùµ áãÝã³óÝ»ÉÁ Ï³Ù íÝ³ë»ÉÁ | C14: 185 | D14: =SUM(Marzer!D14+Erevan!D14) -> 3 | E14: =SUM(Marzer!E14+Erevan!E14) -> 8 | F14: =SUM(Marzer!F14+Erevan!F14) -> 6 | G14: =SUM(Marzer!G14+Erevan!G14) -> 1 | H14: =SUM(Marzer!H14+Erevan!H14) -> 2 | I14: =SUM(Marzer!I14+Erevan!I14) -> 2 | J14: =SUM(Marzer!J14+Erevan!J14) -> 0 | K14: =SUM(Marzer!K14+Erevan!K14) -> 0 | ... T14: =SUM(Marzer!T14+Erevan!T14) -> 0
A15: 9,¸Çï³íáñÛ³É ëå³ÝáõÃÛáõÝ | C15: 104 | D15: =SUM(Marzer!D15+Erevan!D15) -> 28 | E15: =SUM(Marzer!E15+Erevan!E15) -> 51 | F15: =SUM(Marzer!F15+Erevan!F15) -> 36 | G15: =SUM(Marzer!G15+Erevan!G15) -> 3 | H15: =SUM(Marzer!H15+Erevan!H15) -> 0 | I15: =SUM(Marzer!I15+Erevan!I15) -> 9 | J15: =SUM(Marzer!J15+Erevan!J15) -> 1 | K15: =SUM(Marzer!K15+Erevan!K15) -> 2 | ... T15: =SUM(Marzer!T15+Erevan!T15) -> 2
A16: 10,¸Çï³íáñÛ³É Í³Ýñ Ù³ñÙÝ³Ï³Ý íÝ³ëí³Íù | C16: 112 | D16: =SUM(Marzer!D16+Erevan!D16) -> 27 | E16: =SUM(Marzer!E16+Erevan!E16) -> 53 | F16: =SUM(Marzer!F16+Erevan!F16) -> 49 | G16: =SUM(Marzer!G16+Erevan!G16) -> 0 | H16: =SUM(Marzer!H16+Erevan!H16) -> 1 | I16: =SUM(Marzer!I16+Erevan!I16) -> 5 | J16: =SUM(Marzer!J16+Erevan!J16) -> 3 | K16: =SUM(Marzer!K16+Erevan!K16) -> 0 | ... T16: =SUM(Marzer!T16+Erevan!T16) -> 4
A17: 11, ´éÝ³µ³ñáõÃÛáõÝ | C17: 138 | D17: =SUM(Marzer!D17+Erevan!D17) -> 4 | E17: =SUM(Marzer!E17+Erevan!E17) -> 6 | F17: =SUM(Marzer!F17+Erevan!F17) -> 8 | G17: =SUM(Marzer!G17+Erevan!G17) -> 1 | H17: =SUM(Marzer!H17+Erevan!H17) -> 0 | I17: =SUM(Marzer!I17+Erevan!I17) -> 0 | J17: =SUM(Marzer!J17+Erevan!J17) -> 0 | K17: =SUM(Marzer!K17+Erevan!K17) -> 0 | ... T17: =SUM(Marzer!T17+Erevan!T17) -> 0
A18: 12,Î³ß³é³Ï»ñáõÃÛáõÝ, Ï³ß³é³ïíáõÃÛáõÝ, Ï³ß³é³ïíáõÃÛ³Ý ÙÇçÝáñ¹áõÃÛáõÝ | C18: 311,312,313 | D18: =SUM(Marzer!D18+Erevan!D18) -> 3 | E18: =SUM(Marzer!E18+Erevan!E18) -> 9 | F18: =SUM(Marzer!F18+Erevan!F18) -> 6 | G18: =SUM(Marzer!G18+Erevan!G18) -> 0 | H18: =SUM(Marzer!H18+Erevan!H18) -> 3 | I18: =SUM(Marzer!I18+Erevan!I18) -> 0 | J18: =SUM(Marzer!J18+Erevan!J18) -> 0 | K18: =SUM(Marzer!K18+Erevan!K18) -> 0 | ... T18: =SUM(Marzer!T18+Erevan!T18) -> 0
A19: 13,ÊáõÉÇ·³ÝáõÃÛáõÝ | C19: 258 I | D19: =SUM(Marzer!D19+Erevan!D19) -> 8 | E19: =SUM(Marzer!E19+Erevan!E19) -> 15 | F19: =SUM(Marzer!F19+Erevan!F19) -> 18 | G19: =SUM(Marzer!G19+Erevan!G19) -> 0 | H19: =SUM(Marzer!H19+Erevan!H19) -> 2 | I19: =SUM(Marzer!I19+Erevan!I19) -> 0 | J19: =SUM(Marzer!J19+Erevan!J19) -> 0 | K19: =SUM(Marzer!K19+Erevan!K19) -> 0 | ... T19: =SUM(Marzer!T19+Erevan!T19) -> 0
A20: 14,â³ñ³ÙÇï ËáõÉÇ·³ÝáõÃÛáõÝ | C20: 258 II | D20: =SUM(Marzer!D20+Erevan!D20) -> 12 | E20: =SUM(Marzer!E20+Erevan!E20) -> 25 | F20: =SUM(Marzer!F20+Erevan!F20) -> 30 | G20: =SUM(Marzer!G20+Erevan!G20) -> 1 | H20: =SUM(Marzer!H20+Erevan!H20) -> 0 | I20: =SUM(Marzer!I20+Erevan!I20) -> 1 | J20: =SUM(Marzer!J20+Erevan!J20) -> 1 | K20: =SUM(Marzer!K20+Erevan!K20) -> 0 | ... T20: =SUM(Marzer!T20+Erevan!T20) -> 0
A21: 15, ²é³ÝÓÝ³å»ë ã³ñ³ÙÇï ËáõÉÇ·³ÝáõÃÛáõÝ | C21: 258 III | D21: =SUM(Marzer!D21+Erevan!D21) -> 12 | E21: =SUM(Marzer!E21+Erevan!E21) -> 25 | F21: =SUM(Marzer!F21+Erevan!F21) -> 26 | G21: =SUM(Marzer!G21+Erevan!G21) -> 0 | H21: =SUM(Marzer!H21+Erevan!H21) -> 1 | I21: =SUM(Marzer!I21+Erevan!I21) -> 0 | J21: =SUM(Marzer!J21+Erevan!J21) -> 0 | K21: =SUM(Marzer!K21+Erevan!K21) -> 0 | ... T21: =SUM(Marzer!T21+Erevan!T21) -> 0
A22: 16,¼»Ýù ·áñÍ³¹ñ»Éáõ Ï³Ù ³ÛÝ ·áñÍ³¹ñ»Éáõ ÷áñÓáí ËáõÉÇ·³Ý | C22: 258 IV | D22: =SUM(Marzer!D22+Erevan!D22) -> 10 | E22: =SUM(Marzer!E22+Erevan!E22) -> 16 | F22: =SUM(Marzer!F22+Erevan!F22) -> 17 | G22: =SUM(Marzer!G22+Erevan!G22) -> 0 | H22: =SUM(Marzer!H22+Erevan!H22) -> 0 | I22: =SUM(Marzer!I22+Erevan!I22) -> 0 | J22: =SUM(Marzer!J22+Erevan!J22) -> 0 | K22: =SUM(Marzer!K22+Erevan!K22) -> 0 | ... T22: =SUM(Marzer!T22+Erevan!T22) -> 0
A23: 17,îñ³Ýëåáñï³ÛÇÝ ÙÇçáóÝ»ñÇ »ñÃ¨»ÏáõÃÛ³Ý ³Ýíï³Ý·áõÃÛ³Ý ¨ ß³Ñ³·áñßÙ³Ý Ï³ÝáÝÝ»ñÇ Ë³ËïáõÙ | C23: 242 | D23: =SUM(Marzer!D23+Erevan!D23) -> 43 | E23: =SUM(Marzer!E23+Erevan!E23) -> 86 | F23: =SUM(Marzer!F23+Erevan!F23) -> 96 | G23: =SUM(Marzer!G23+Erevan!G23) -> 2 | H23: =SUM(Marzer!H23+Erevan!H23) -> 13 | I23: =SUM(Marzer!I23+Erevan!I23) -> 0 | J23: =SUM(Marzer!J23+Erevan!J23) -> 0 | K23: =SUM(Marzer!K23+Erevan!K23) -> 0 | ... T23: =SUM(Marzer!T23+Erevan!T23) -> 0
A24: 18, ÂÙñ³¹»Õ»ñÇ Ñ»ï Ï³åí³Í Ñ³Ýó³·áñÍáõÃÛáõÝÝ»ñ | C24: 266, 268, 269,271, 272, 273, 276 | D24: =SUM(Marzer!D24+Erevan!D24) -> 34 | E24: =SUM(Marzer!E24+Erevan!E24) -> 82 | F24: =SUM(Marzer!F24+Erevan!F24) -> 86 | G24: =SUM(Marzer!G24+Erevan!G24) -> 1 | H24: =SUM(Marzer!H24+Erevan!H24) -> 2 | I24: =SUM(Marzer!I24+Erevan!I24) -> 0 | J24: =SUM(Marzer!J24+Erevan!J24) -> 1 | K24: =SUM(Marzer!K24+Erevan!K24) -> 1 | ... T24: =SUM(Marzer!T24+Erevan!T24) -> 2
A25: 19,²åûñÇÝÇ Ï»ñåáí é³½Ù³ÙÃ»ñù Ï³Ù å³ÛÃáõóÇÏ ÝÛáõÃ»ñ Ïñ»ÉÁ | C25: 235 | D25: =SUM(Marzer!D25+Erevan!D25) -> 7 | E25: =SUM(Marzer!E25+Erevan!E25) -> 25 | F25: =SUM(Marzer!F25+Erevan!F25) -> 23 | G25: =SUM(Marzer!G25+Erevan!G25) -> 1 | H25: =SUM(Marzer!H25+Erevan!H25) -> 0 | I25: =SUM(Marzer!I25+Erevan!I25) -> 0 | J25: =SUM(Marzer!J25+Erevan!J25) -> 0 | K25: =SUM(Marzer!K25+Erevan!K25) -> 0 | ... T25: =SUM(Marzer!T25+Erevan!T25) -> 0
A26: 20, ²ÛÉ Ñ³Ýó³·áñÍáõÃÛáõÝÝ»ñ | D26: =SUM(Marzer!D26+Erevan!D26) -> 176 | E26: =SUM(Marzer!E26+Erevan!E26) -> 451 | F26: =SUM(Marzer!F26+Erevan!F26) -> 456 | G26: =SUM(Marzer!G26+Erevan!G26) -> 10 | H26: =SUM(Marzer!H26+Erevan!H26) -> 37 | I26: =SUM(Marzer!I26+Erevan!I26) -> 6 | J26: =SUM(Marzer!J26+Erevan!J26) -> 4 | K26: =SUM(Marzer!K26+Erevan!K26) -> 3 | ... T26: =SUM(Marzer!T26+Erevan!T26) -> 5
A27: 21, ÀÜ¸²ØºÜÀ | D27: =SUM(Marzer!D27+Erevan!D27) -> 536 | E27: =SUM(Marzer!E27+Erevan!E27) -> 1282 | F27: =SUM(Marzer!F27+Erevan!F27) -> 1295 | G27: =SUM(Marzer!G27+Erevan!G27) -> 32 | H27: =SUM(Marzer!H27+Erevan!H27) -> 81 | I27: =SUM(Marzer!I27+Erevan!I27) -> 25 | J27: =SUM(Marzer!J27+Erevan!J27) -> 13 | K27: =SUM(Marzer!K27+Erevan!K27) -> 11 | ... T27: =SUM(Marzer!T27+Erevan!T27) -> 17
A28: 22, ²Û¹ ÃíáõÙ` ³Ýã³÷³Ñ³ëÝ»ñÇ í»ñ³µ»ñÛ³É ·áñÍ»ñáí | D28: =SUM(Marzer!D28+Erevan!D28) -> 18 | E28: =SUM(Marzer!E28+Erevan!E28) -> 87 | F28: =SUM(Marzer!F28+Erevan!F28) -> 84 | G28: =SUM(Marzer!G28+Erevan!G28) -> 3 | H28: =SUM(Marzer!H28+Erevan!H28) -> 4 | I28: =SUM(Marzer!I28+Erevan!I28) -> 0 | J28: =SUM(Marzer!J28+Erevan!J28) -> 1 | K28: =SUM(Marzer!K28+Erevan!K28) -> 0 | ... T28: =SUM(Marzer!T28+Erevan!T28) -> 1

Sheet Erevan
A1: Ð³ßí»ïíáõÃÛáõÝ
A2: ºñ¨³Ý ù³Õ³ùÇ ³é³çÇÝ ³ïÛ³ÝÇ ¹³ï³ñ³ÝÝ»ñÇ ùñ»³Ï³Ý ·áñÍ»ñÇ ùÝÝáõÃÛ³Ý í»ñ³µ»ñÛ³É 2007Ã. Ñ³Ù³ñ
A3: êïáõ·Çã Ñ³í³ë³ñáõÙÝ»ñ §²¦ µ³ÅÝÇ í»ñ³µ»ñÛ³É 1 ¨ 2 ëÛáõÝ³ÏÝ»ñÇ Ãí»ñÇ ·áõÙ³ñÁ Ñ³í³ë³ñ ¿ 9 ¨ 10 ëÛáõÝ³ÏÝ»ñÇ Ãí»ñÇ ·áõÙ³ñÇÝ | C3: ÐÐ ùñ»³Ï³Ý ûñ»Ýë·ñùÇ Ñá¹í³ÍÝ»ñ | D3: ²Ý³í³ñï ·áñÍ»ñÇ ÙÝ³óáñ¹Á Ñ³ßí»ïáõ Å³Ù³Ý³Ï³ßñç³ÝÇ ëÏ½µáõÙ | E3: êï³óí»É »Ý ·áñÍ»ñ Ñ³ßí»ïáõ Å³Ù³Ý³Ï³ßñç³ÝáõÙ | F3: ² øñ»³Ï³Ý ·áñÍ»ñÇ ß³ñÅÁ | O3: Ð³ßí»ïáõ Å³Ù³Ý³Ï³ßñç³ÝáõÙ ·áñÍ»ñáí »Õ»É »Ý (3, 5, 6, 7 ëÛáõÝ³Ï)
F4: ²í³ñïí»É »Ý ·áñÍ»ñ Ñ³ßí»ïáõ Å³Ù³Ý³Ï³ßñç³ÝáõÙ | M4: ²Ý³í³ñï ·áñÍ»ñÇ ÙÝ³óáñ¹Á Ñ³ßí»ïáõ Å³Ù³Ý³Ï³ßñç³ÝÇ í»ñçáõÙ | N4: ³Û¹ ÃíáõÙ ·ïÝíáõÙ »Ý í³ñáõÛÃáõÙ 3 ³ÙëÇó ³í»ÉÇ (Ï³ë»óí³Í ·áñÍ»ñÇ Ñ»ï Ù»Ïï»Õ) | O4: ¹³ï³å³ñïí³ÍÝ»ñ | P4: ³ñ¹³ñ³óí³ÍÝ»ñ | Q4: ³ÝÓÇÝù, áñáÝó í»ñ³µ»ñÛ³É ·áñÍ»ñÁ Ï³ñ×í»É »Ý | S4: ³ÝÙ»ÕëáõÝ³ÏÝ»ñ, áñáÝó ÝÏ³ïÙ³Ùµ ÏÇñ³éí»É »Ý µÅßÏ³Ï³Ý µÝáõÛÃÇ Ñ³ñÏ³¹ñ³Ï³Ý ÙÇçáóÝ»ñ | T4: ³ÝÓÇÝù, áñáÝó í»ñ³µ»ñÛ³É ·áñÍ»ñÁ Ñ³ÝÓÝí»É »Ý Éñ³óáõóÇã ùÝÝáõÃÛ³Ý
F5: ùÝÝ³ñÏí»É »Ý Áëï ¿áõÃÛ³Ý ¨ ¹³ï³í×Çé Ï³Û³óí»É | G5: ³Û¹ ÃíáõÙ 1 ³ÙëÇó ³í»ÉÇ Å³ÙÏ»ïáõÙ | H5: Ï³ñ×»É »Ý ³ÝûñÇÝ³Ï³Ý ¹³ï³Ï³Ý ÝÇëï»ñáõÙ | I5: ³ÝÙ»ÕëáõÝ³ÏÝ»ñÇ ÝÏ³ïÙ³Ùµ ÏÇñ³é»É »Ý µÅßÏ³Ï³Ý µÝáõÛÃÇ Ñ³ñÏ³¹ñ³Ï³Ý ÙÇçáóÝ»ñ | J5: Ñ³ÝÓÝí»É »Ý Éñ³óáõóÇã ùÝÝáõÃÛ³Ý ³ÝûñÇÝ³ Ï³Ý ¨ ¹³ï³Ï³Ý ÝÇëï | K5: Ñ³ÝÓÝí»É »Ý Áëï ÁÝ¹¹³ïáõÃÛ³Ý | L5: ÁÝ¹³Ù»ÝÁ ³í³ñïí»É »Ý ·áñÍ»ñ (3, 5-8 ëÛáõÝ³ÏÝ»ñÇ ·áõÙ³ñÁ) | Q5: ÁÝ¹³Ù»ÝÁ | R5: ³Û¹ ÃíáõÙ Ñ³Ýó³¹»åÇ Ï³Ù Ñ³Ýó³Ï³½ÙÇ µ³ó³Ï³ÛáõÃÛ³Ý ¨ Ù»Õ³¹ñ³ÝùÁ ã³å³óáõóí³Í ÉÇÝ»Éáõ å³ï×³éáí
D6: 1 | E6: 2 | F6: 3 | G6: 4 | H6: 5 | I6: 6 | J6: 7 | K6: 8 | L6: 9 | M6: 10 | N6: 11 | O6: 12 | P6: 13 | Q6: 14 | R6: 15 | S6: 16 | T6: 17
A7: 1, ²½·³ÛÇÝ ¨ é³ë³Û³Ï³Ý Çñ³í³Ñ³í³ë³ñáõÃÛáõÝÁ Ë³Ëï»ÉÁ | D7: =SUM(Adjapniak!D7+Shengavit!D7+Kentron!D7+Arabkir!D7+Erebuni!D7+Avan!D7+Malatia!D7) -> 0 | E7: =SUM(Adjapniak!E7+Shengavit!E7+Kentron!E7+Arabkir!E7+Erebuni!E7+Avan!E7+Malatia!E7) -> 0 | F7: =SUM(Adjapniak!F7+Shengavit!F7+Kentron!F7+Arabkir!F7+Erebuni!F7+Avan!F7+Malatia!F7) -> 0 | G7: =SUM(Adjapniak!G7+Shengavit!G7+Kentron!G7+Arabkir!G7+Erebuni!G7+Avan!G7+Malatia!G7) -> 0 | H7: =SUM(Adjapniak!H7+Shengavit!H7+Kentron!H7+Arabkir!H7+Erebuni!H7+Avan!H7+Malatia!H7) -> 0 | I7: =SUM(Adjapniak!I7+Shengavit!I7+Kentron!I7+Arabkir!I7+Erebuni!I7+Avan!I7+Malatia!I7) -> 0 | J7: =SUM(Adjapniak!J7+Shengavit!J7+Kentron!J7+Arabkir!J7+Erebuni!J7+Avan!J7+Malatia!J7) -> 0 | K7: =SUM(Adjapniak!K7+Shengavit!K7+Kentron!K7+Arabkir!K7+Erebuni!K7+Avan!K7+Malatia!K7) -> 0 | ... T7: =SUM(Adjapniak!T7+Shengavit!T7+Kentron!T7+Arabkir!T7+Erebuni!T7+Avan!T7+Malatia!T7) -> 0
A8: ¶áõÛùÇ Ñ³÷ßï³ÏáõÙ Ï³ï³ñí³Í | B8: 1, ¶áÕáõÃÛ³Ý ÙÇçáóáí | C8: 177 | D8: =SUM(Adjapniak!D8+Shengavit!D8+Kentron!D8+Arabkir!D8+Erebuni!D8+Avan!D8+Malatia!D8) -> 40 | E8: =SUM(Adjapniak!E8+Shengavit!E8+Kentron!E8+Arabkir!E8+Erebuni!E8+Avan!E8+Malatia!E8) -> 93 | F8: =SUM(Adjapniak!F8+Shengavit!F8+Kentron!F8+Arabkir!F8+Erebuni!F8+Avan!F8+Malatia!F8) -> 105 | G8: =SUM(Adjapniak!G8+Shengavit!G8+Kentron!G8+Arabkir!G8+Erebuni!G8+Avan!G8+Malatia!G8) -> 1 | H8: =SUM(Adjapniak!H8+Shengavit!H8+Kentron!H8+Arabkir!H8+Erebuni!H8+Avan!H8+Malatia!H8) -> 6 | I8: =SUM(Adjapniak!I8+Shengavit!I8+Kentron!I8+Arabkir!I8+Erebuni!I8+Avan!I8+Malatia!I8) -> 1 | J8: =SUM(Adjapniak!J8+Shengavit!J8+Kentron!J8+Arabkir!J8+Erebuni!J8+Avan!J8+Malatia!J8) -> 1 | K8: =SUM(Adjapniak!K8+Shengavit!K8+Kentron!K8+Arabkir!K8+Erebuni!K8+Avan!K8+Malatia!K8) -> 1 | ... T8: =SUM(Adjapniak!T8+Shengavit!T8+Kentron!T8+Arabkir!T8+Erebuni!T8+Avan!T8+Malatia!T8) -> 1
B9: 2, ÎáÕáåáõïÇ ÙÇçáóáí | C9: 176 | D9: =SUM(Adjapniak!D9+Shengavit!D9+Kentron!D9+Arabkir!D9+Erebuni!D9+Avan!D9+Malatia!D9) -> 12 | E9: =SUM(Adjapniak!E9+Shengavit!E9+Kentron!E9+Arabkir!E9+Erebuni!E9+Avan!E9+Malatia!E9) -> 9 | F9: =SUM(Adjapniak!F9+Shengavit!F9+Kentron!F9+Arabkir!F9+Erebuni!F9+Avan!F9+Malatia!F9) -> 16 | G9: =SUM(Adjapniak!G9+Shengavit!G9+Kentron!G9+Arabkir!G9+Erebuni!G9+Avan!G9+Malatia!G9) -> 0 | H9: =SUM(Adjapniak!H9+Shengavit!H9+Kentron!H9+Arabkir!H9+Erebuni!H9+Avan!H9+Malatia!H9) -> 0 | I9: =SUM(Adjapniak!I9+Shengavit!I9+Kentron!I9+Arabkir!I9+Erebuni!I9+Avan!I9+Malatia!I9) -> 0 | J9: =SUM(Adjapniak!J9+Shengavit!J9+Kentron!J9+Arabkir!J9+Erebuni!J9+Avan!J9+Malatia!J9) -> 0 | K9: =SUM(Adjapniak!K9+Shengavit!K9+Kentron!K9+Arabkir!K9+Erebuni!K9+Avan!K9+Malatia!K9) -> 0 | ... T9: =SUM(Adjapniak!T9+Shengavit!T9+Kentron!T9+Arabkir!T9+Erebuni!T9+Avan!T9+Malatia!T9) -> 0
B10: 3, ²í³½³ÏáõÃÛ³Ý ÙÇçáóáí | C10: 175 | D10: =SUM(Adjapniak!D10+Shengavit!D10+Kentron!D10+Arabkir!D10+Erebuni!D10+Avan!D10+Malatia!D10) -> 4 | E10: =SUM(Adjapniak!E10+Shengavit!E10+Kentron!E10+Arabkir!E10+Erebuni!E10+Avan!E10+Malatia!E10) -> 16 | F10: =SUM(Adjapniak!F10+Shengavit!F10+Kentron!F10+Arabkir!F10+Erebuni!F10+Avan!F10+Malatia!F10) -> 14 | G10: =SUM(Adjapniak!G10+Shengavit!G10+Kentron!G10+Arabkir!G10+Erebuni!G10+Avan!G10+Malatia!G10) -> 1 | H10: =SUM(Adjapniak!H10+Shengavit!H10+Kentron!H10+Arabkir!H10+Erebuni!H10+Avan!H10+Malatia!H10) -> 0 | I10: =SUM(Adjapniak!I10+Shengavit!I10+Kentron!I10+Arabkir!I10+Erebuni!I10+Avan!I10+Malatia!I10) -> 0 | J10: =SUM(Adjapniak!J10+Shengavit!J10+Kentron!J10+Arabkir!J10+Erebuni!J10+Avan!J10+Malatia!J10) -> 0 | K10: =SUM(Adjapniak!K10+Shengavit!K10+Kentron!K10+Arabkir!K10+Erebuni!K10+Avan!K10+Malatia!K10) -> 0 | ... T10: =SUM(Adjapniak!T10+Shengavit!T10+Kentron!T10+Arabkir!T10+Erebuni!T10+Avan!T10+Malatia!T10) -> 0
B11: 4, Ê³ñ¹³ËáõÃÛ³Ý ÙÇçáóáí | C11: 178 | D11: =SUM(Adjapniak!D11+Shengavit!D11+Kentron!D11+Arabkir!D11+Erebuni!D11+Avan!D11+Malatia!D11) -> 25 | E11: =SUM(Adjapniak!E11+Shengavit!E11+Kentron!E11+Arabkir!E11+Erebuni!E11+Avan!E11+Malatia!E11) -> 46 | F11: =SUM(Adjapniak!F11+Shengavit!F11+Kentron!F11+Arabkir!F11+Erebuni!F11+Avan!F11+Malatia!F11) -> 45 | G11: =SUM(Adjapniak!G11+Shengavit!G11+Kentron!G11+Arabkir!G11+Erebuni!G11+Avan!G11+Malatia!G11) -> 2 | H11: =SUM(Adjapniak!H11+Shengavit!H11+Kentron!H11+Arabkir!H11+Erebuni!H11+Avan!H11+Malatia!H11) -> 1 | I11: =SUM(Adjapniak!I11+Shengavit!I11+Kentron!I11+Arabkir!I11+Erebuni!I11+Avan!I11+Malatia!I11) -> 0 | J11: =SUM(Adjapniak!J11+Shengavit!J11+Kentron!J11+Arabkir!J11+Erebuni!J11+Avan!J11+Malatia!J11) -> 1 | K11: =SUM(Adjapniak!K11+Shengavit!K11+Kentron!K11+Arabkir!K11+Erebuni!K11+Avan!K11+Malatia!K11) -> 0 | ... T11: =SUM(Adjapniak!T11+Shengavit!T11+Kentron!T11+Arabkir!T11+Erebuni!T11+Avan!T11+Malatia!T11) -> 1
B12: 5, Úáõñ³óÝ»Éáõ, í³ïÝ»Éáõ Ï³Ù å³ßïáÝ³Ï³Ý ¹ÇñùÁ ã³ñ³ß³Ñ»Éáõ ÙÇçáóáí | C12: 179 | D12: =SUM(Adjapniak!D12+Shengavit!D12+Kentron!D12+Arabkir!D12+Erebuni!D12+Avan!D12+Malatia!D12) -> 8 | E12: =SUM(Adjapniak!E12+Shengavit!E12+Kentron!E12+Arabkir!E12+Erebuni!E12+Avan!E12+Malatia!E12) -> 9 | F12: =SUM(Adjapniak!F12+Shengavit!F12+Kentron!F12+Arabkir!F12+Erebuni!F12+Avan!F12+Malatia!F12) -> 8 | G12: =SUM(Adjapniak!G12+Shengavit!G12+Kentron!G12+Arabkir!G12+Erebuni!G12+Avan!G12+Malatia!G12) -> 0 | H12: =SUM(Adjapniak!H12+Shengavit!H12+Kentron!H12+Arabkir!H12+Erebuni!H12+Avan!H12+Malatia!H12) -> 1 | I12: =SUM(Adjapniak!I12+Shengavit!I12+Kentron!I12+Arabkir!I12+Erebuni!I12+Avan!I12+Malatia!I12) -> 0 | J12: =SUM(Adjapniak!J12+Shengavit!J12+Kentron!J12+Arabkir!J12+Erebuni!J12+Avan!J12+Malatia!J12) -> 0 | K12: =SUM(Adjapniak!K12+Shengavit!K12+Kentron!K12+Arabkir!K12+Erebuni!K12+Avan!K12+Malatia!K12) -> 0 | ... T12: =SUM(Adjapniak!T12+Shengavit!T12+Kentron!T12+Arabkir!T12+Erebuni!T12+Avan!T12+Malatia!T12) -> 0
A13: 7, ÞáñÃáõÙ | C13: 182 | D13: =SUM(Adjapniak!D13+Shengavit!D13+Kentron!D13+Arabkir!D13+Erebuni!D13+Avan!D13+Malatia!D13) -> 3 | E13: =SUM(Adjapniak!E13+Shengavit!E13+Kentron!E13+Arabkir!E13+Erebuni!E13+Avan!E13+Malatia!E13) -> 2 | F13: =SUM(Adjapniak!F13+Shengavit!F13+Kentron!F13+Arabkir!F13+Erebuni!F13+Avan!F13+Malatia!F13) -> 2 | G13: =SUM(Adjapniak!G13+Shengavit!G13+Kentron!G13+Arabkir!G13+Erebuni!G13+Avan!G13+Malatia!G13) -> 0 | H13: =SUM(Adjapniak!H13+Shengavit!H13+Kentron!H13+Arabkir!H13+Erebuni!H13+Avan!H13+Malatia!H13) -> 0 | I13: =SUM(Adjapniak!I13+Shengavit!I13+Kentron!I13+Arabkir!I13+Erebuni!I13+Avan!I13+Malatia!I13) -> 0 | J13: =SUM(Adjapniak!J13+Shengavit!J13+Kentron!J13+Arabkir!J13+Erebuni!J13+Avan!J13+Malatia!J13) -> 0 | K13: =SUM(Adjapniak!K13+Shengavit!K13+Kentron!K13+Arabkir!K13+Erebuni!K13+Avan!K13+Malatia!K13) -> 0 | ... T13: =SUM(Adjapniak!T13+Shengavit!T13+Kentron!T13+Arabkir!T13+Erebuni!T13+Avan!T13+Malatia!T13) -> 0
A14: 8, ¶áõÛùÁ ¹Çï³íáñáõÃÛ³Ùµ áãÝã³óÝ»ÉÁ Ï³Ù íÝ³ë»ÉÁ | C14: 185 | D14: =SUM(Adjapniak!D14+Shengavit!D14+Kentron!D14+Arabkir!D14+Erebuni!D14+Avan!D14+Malatia!D14) -> 0 | E14: =SUM(Adjapniak!E14+Shengavit!E14+Kentron!E14+Arabkir!E14+Erebuni!E14+Avan!E14+Malatia!E14) -> 3 | F14: =SUM(Adjapniak!F14+Shengavit!F14+Kentron!F14+Arabkir!F14+Erebuni!F14+Avan!F14+Malatia!F14) -> 2 | G14: =SUM(Adjapniak!G14+Shengavit!G14+Kentron!G14+Arabkir!G14+Erebuni!G14+Avan!G14+Malatia!G14) -> 1 | H14: =SUM(Adjapniak!H14+Shengavit!H14+Kentron!H14+Arabkir!H14+Erebuni!H14+Avan!H14+Malatia!H14) -> 1 | I14: =SUM(Adjapniak!I14+Shengavit!I14+Kentron!I14+Arabkir!I14+Erebuni!I14+Avan!I14+Malatia!I14) -> 0 | J14: =SUM(Adjapniak!J14+Shengavit!J14+Kentron!J14+Arabkir!J14+Erebuni!J14+Avan!J14+Malatia!J14) -> 0 | K14: =SUM(Adjapniak!K14+Shengavit!K14+Kentron!K14+Arabkir!K14+Erebuni!K14+Avan!K14+Malatia!K14) -> 0 | ... T14: =SUM(Adjapniak!T14+Shengavit!T14+Kentron!T14+Arabkir!T14+Erebuni!T14+Avan!T14+Malatia!T14) -> 0
A15: 9,¸Çï³íáñÛ³É ëå³ÝáõÃÛáõÝ | C15: 104 | D15: =SUM(Adjapniak!D15+Shengavit!D15+Kentron!D15+Arabkir!D15+Erebuni!D15+Avan!D15+Malatia!D15) -> 13 | E15: =SUM(Adjapniak!E15+Shengavit!E15+Kentron!E15+Arabkir!E15+Erebuni!E15+Avan!E15+Malatia!E15) -> 18 | F15: =SUM(Adjapniak!F15+Shengavit!F15+Kentron!F15+Arabkir!F15+Erebuni!F15+Avan!F15+Malatia!F15) -> 14 | G15: =SUM(Adjapniak!G15+Shengavit!G15+Kentron!G15+Arabkir!G15+Erebuni!G15+Avan!G15+Malatia!G15) -> 2 | H15: =SUM(Adjapniak!H15+Shengavit!H15+Kentron!H15+Arabkir!H15+Erebuni!H15+Avan!H15+Malatia!H15) -> 0 | I15: =SUM(Adjapniak!I15+Shengavit!I15+Kentron!I15+Arabkir!I15+Erebuni!I15+Avan!I15+Malatia!I15) -> 3 | J15: =SUM(Adjapniak!J15+Shengavit!J15+Kentron!J15+Arabkir!J15+Erebuni!J15+Avan!J15+Malatia!J15) -> 0 | K15: =SUM(Adjapniak!K15+Shengavit!K15+Kentron!K15+Arabkir!K15+Erebuni!K15+Avan!K15+Malatia!K15) -> 1 | ... T15: =SUM(Adjapniak!T15+Shengavit!T15+Kentron!T15+Arabkir!T15+Erebuni!T15+Avan!T15+Malatia!T15) -> 0
A16: 10,¸Çï³íáñÛ³É Í³Ýñ Ù³ñÙÝ³Ï³Ý íÝ³ëí³Íù | C16: 112 | D16: =SUM(Adjapniak!D16+Shengavit!D16+Kentron!D16+Arabkir!D16+Erebuni!D16+Avan!D16+Malatia!D16) -> 13 | E16: =SUM(Adjapniak!E16+Shengavit!E16+Kentron!E16+Arabkir!E16+Erebuni!E16+Avan!E16+Malatia!E16) -> 28 | F16: =SUM(Adjapniak!F16+Shengavit!F16+Kentron!F16+Arabkir!F16+Erebuni!F16+Avan!F16+Malatia!F16) -> 25 | G16: =SUM(Adjapniak!G16+Shengavit!G16+Kentron!G16+Arabkir!G16+Erebuni!G16+Avan!G16+Malatia!G16) -> 0 | H16: =SUM(Adjapniak!H16+Shengavit!H16+Kentron!H16+Arabkir!H16+Erebuni!H16+Avan!H16+Malatia!H16) -> 0 | I16: =SUM(Adjapniak!I16+Shengavit!I16+Kentron!I16+Arabkir!I16+Erebuni!I16+Avan!I16+Malatia!I16) -> 0 | J16: =SUM(Adjapniak!J16+Shengavit!J16+Kentron!J16+Arabkir!J16+Erebuni!J16+Avan!J16+Malatia!J16) -> 3 | K16: =SUM(Adjapniak!K16+Shengavit!K16+Kentron!K16+Arabkir!K16+Erebuni!K16+Avan!K16+Malatia!K16) -> 0 | ... T16: =SUM(Adjapniak!T16+Shengavit!T16+Kentron!T16+Arabkir!T16+Erebuni!T16+Avan!T16+Malatia!T16) -> 4
A17: 11, ´éÝ³µ³ñáõÃÛáõÝ | C17: 138 | D17: =SUM(Adjapniak!D17+Shengavit!D17+Kentron!D17+Arabkir!D17+Erebuni!D17+Avan!D17+Malatia!D17) -> 0 | E17: =SUM(Adjapniak!E17+Shengavit!E17+Kentron!E17+Arabkir!E17+Erebuni!E17+Avan!E17+Malatia!E17) -> 2 | F17: =SUM(Adjapniak!F17+Shengavit!F17+Kentron!F17+Arabkir!F17+Erebuni!F17+Avan!F17+Malatia!F17) -> 2 | G17: =SUM(Adjapniak!G17+Shengavit!G17+Kentron!G17+Arabkir!G17+Erebuni!G17+Avan!G17+Malatia!G17) -> 0 | H17: =SUM(Adjapniak!H17+Shengavit!H17+Kentron!H17+Arabkir!H17+Erebuni!H17+Avan!H17+Malatia!H17) -> 0 | I17: =SUM(Adjapniak!I17+Shengavit!I17+Kentron!I17+Arabkir!I17+Erebuni!I17+Avan!I17+Malatia!I17) -> 0 | J17: =SUM(Adjapniak!J17+Shengavit!J17+Kentron!J17+Arabkir!J17+Erebuni!J17+Avan!J17+Malatia!J17) -> 0 | K17: =SUM(Adjapniak!K17+Shengavit!K17+Kentron!K17+Arabkir!K17+Erebuni!K17+Avan!K17+Malatia!K17) -> 0 | ... T17: =SUM(Adjapniak!T17+Shengavit!T17+Kentron!T17+Arabkir!T17+Erebuni!T17+Avan!T17+Malatia!T17) -> 0
A18: 12,Î³ß³é³Ï»ñáõÃÛáõÝ, Ï³ß³é³ïíáõÃÛáõÝ, Ï³ß³é³ïíáõÃÛ³Ý ÙÇçÝáñ¹áõÃÛáõÝ | C18: 311,312,313 | D18: =SUM(Adjapniak!D18+Shengavit!D18+Kentron!D18+Arabkir!D18+Erebuni!D18+Avan!D18+Malatia!D18) -> 1 | E18: =SUM(Adjapniak!E18+Shengavit!E18+Kentron!E18+Arabkir!E18+Erebuni!E18+Avan!E18+Malatia!E18) -> 1 | F18: =SUM(Adjapniak!F18+Shengavit!F18+Kentron!F18+Arabkir!F18+Erebuni!F18+Avan!F18+Malatia!F18) -> 1 | G18: =SUM(Adjapniak!G18+Shengavit!G18+Kentron!G18+Arabkir!G18+Erebuni!G18+Avan!G18+Malatia!G18) -> 0 | H18: =SUM(Adjapniak!H18+Shengavit!H18+Kentron!H18+Arabkir!H18+Erebuni!H18+Avan!H18+Malatia!H18) -> 0 | I18: =SUM(Adjapniak!I18+Shengavit!I18+Kentron!I18+Arabkir!I18+Erebuni!I18+Avan!I18+Malatia!I18) -> 0 | J18: =SUM(Adjapniak!J18+Shengavit!J18+Kentron!J18+Arabkir!J18+Erebuni!J18+Avan!J18+Malatia!J18) -> 0 | K18: =SUM(Adjapniak!K18+Shengavit!K18+Kentron!K18+Arabkir!K18+Erebuni!K18+Avan!K18+Malatia!K18) -> 0 | ... T18: =SUM(Adjapniak!T18+Shengavit!T18+Kentron!T18+Arabkir!T18+Erebuni!T18+Avan!T18+Malatia!T18) -> 0
A19: 13,ÊáõÉÇ·³ÝáõÃÛáõÝ | C19: 258 I | D19: =SUM(Adjapniak!D19+Shengavit!D19+Kentron!D19+Arabkir!D19+Erebuni!D19+Avan!D19+Malatia!D19) -> 4 | E19: =SUM(Adjapniak!E19+Shengavit!E19+Kentron!E19+Arabkir!E19+Erebuni!E19+Avan!E19+Malatia!E19) -> 2 | F19: =SUM(Adjapniak!F19+Shengavit!F19+Kentron!F19+Arabkir!F19+Erebuni!F19+Avan!F19+Malatia!F19) -> 4 | G19: =SUM(Adjapniak!G19+Shengavit!G19+Kentron!G19+Arabkir!G19+Erebuni!G19+Avan!G19+Malatia!G19) -> 0 | H19: =SUM(Adjapniak!H19+Shengavit!H19+Kentron!H19+Arabkir!H19+Erebuni!H19+Avan!H19+Malatia!H19) -> 1 | I19: =SUM(Adjapniak!I19+Shengavit!I19+Kentron!I19+Arabkir!I19+Erebuni!I19+Avan!I19+Malatia!I19) -> 0 | J19: =SUM(Adjapniak!J19+Shengavit!J19+Kentron!J19+Arabkir!J19+Erebuni!J19+Avan!J19+Malatia!J19) -> 0 | K19: =SUM(Adjapniak!K19+Shengavit!K19+Kentron!K19+Arabkir!K19+Erebuni!K19+Avan!K19+Malatia!K19) -> 0 | ... T19: =SUM(Adjapniak!T19+Shengavit!T19+Kentron!T19+Arabkir!T19+Erebuni!T19+Avan!T19+Malatia!T19) -> 0
A20: 14,â³ñ³ÙÇï ËáõÉÇ·³ÝáõÃÛáõÝ | C20: 258 II | D20: =SUM(Adjapniak!D20+Shengavit!D20+Kentron!D20+Arabkir!D20+Erebuni!D20+Avan!D20+Malatia!D20) -> 2 | E20: =SUM(Adjapniak!E20+Shengavit!E20+Kentron!E20+Arabkir!E20+Erebuni!E20+Avan!E20+Malatia!E20) -> 10 | F20: =SUM(Adjapniak!F20+Shengavit!F20+Kentron!F20+Arabkir!F20+Erebuni!F20+Avan!F20+Malatia!F20) -> 8 | G20: =SUM(Adjapniak!G20+Shengavit!G20+Kentron!G20+Arabkir!G20+Erebuni!G20+Avan!G20+Malatia!G20) -> 0 | H20: =SUM(Adjapniak!H20+Shengavit!H20+Kentron!H20+Arabkir!H20+Erebuni!H20+Avan!H20+Malatia!H20) -> 0 | I20: =SUM(Adjapniak!I20+Shengavit!I20+Kentron!I20+Arabkir!I20+Erebuni!I20+Avan!I20+Malatia!I20) -> 1 | J20: =SUM(Adjapniak!J20+Shengavit!J20+Kentron!J20+Arabkir!J20+Erebuni!J20+Avan!J20+Malatia!J20) -> 0 | K20: =SUM(Adjapniak!K20+Shengavit!K20+Kentron!K20+Arabkir!K20+Erebuni!K20+Avan!K20+Malatia!K20) -> 0 | ... T20: =SUM(Adjapniak!T20+Shengavit!T20+Kentron!T20+Arabkir!T20+Erebuni!T20+Avan!T20+Malatia!T20) -> 0
A21: 15, ²é³ÝÓÝ³å»ë ã³ñ³ÙÇï ËáõÉÇ·³ÝáõÃÛáõÝ | C21: 258 III | D21: =SUM(Adjapniak!D21+Shengavit!D21+Kentron!D21+Arabkir!D21+Erebuni!D21+Avan!D21+Malatia!D21) -> 7 | E21: =SUM(Adjapniak!E21+Shengavit!E21+Kentron!E21+Arabkir!E21+Erebuni!E21+Avan!E21+Malatia!E21) -> 9 | F21: =SUM(Adjapniak!F21+Shengavit!F21+Kentron!F21+Arabkir!F21+Erebuni!F21+Avan!F21+Malatia!F21) -> 12 | G21: =SUM(Adjapniak!G21+Shengavit!G21+Kentron!G21+Arabkir!G21+Erebuni!G21+Avan!G21+Malatia!G21) -> 0 | H21: =SUM(Adjapniak!H21+Shengavit!H21+Kentron!H21+Arabkir!H21+Erebuni!H21+Avan!H21+Malatia!H21) -> 1 | I21: =SUM(Adjapniak!I21+Shengavit!I21+Kentron!I21+Arabkir!I21+Erebuni!I21+Avan!I21+Malatia!I21) -> 0 | J21: =SUM(Adjapniak!J21+Shengavit!J21+Kentron!J21+Arabkir!J21+Erebuni!J21+Avan!J21+Malatia!J21) -> 0 | K21: =SUM(Adjapniak!K21+Shengavit!K21+Kentron!K21+Arabkir!K21+Erebuni!K21+Avan!K21+Malatia!K21) -> 0 | ... T21: =SUM(Adjapniak!T21+Shengavit!T21+Kentron!T21+Arabkir!T21+Erebuni!T21+Avan!T21+Malatia!T21) -> 0
A22: 16,¼»Ýù ·áñÍ³¹ñ»Éáõ Ï³Ù ³ÛÝ ·áñÍ³¹ñ»Éáõ ÷áñÓáí ËáõÉÇ·³Ý | C22: 258 IV | D22: =SUM(Adjapniak!D22+Shengavit!D22+Kentron!D22+Arabkir!D22+Erebuni!D22+Avan!D22+Malatia!D22) -> 6 | E22: =SUM(Adjapniak!E22+Shengavit!E22+Kentron!E22+Arabkir!E22+Erebuni!E22+Avan!E22+Malatia!E22) -> 6 | F22: =SUM(Adjapniak!F22+Shengavit!F22+Kentron!F22+Arabkir!F22+Erebuni!F22+Avan!F22+Malatia!F22) -> 7 | G22: =SUM(Adjapniak!G22+Shengavit!G22+Kentron!G22+Arabkir!G22+Erebuni!G22+Avan!G22+Malatia!G22) -> 0 | H22: =SUM(Adjapniak!H22+Shengavit!H22+Kentron!H22+Arabkir!H22+Erebuni!H22+Avan!H22+Malatia!H22) -> 0 | I22: =SUM(Adjapniak!I22+Shengavit!I22+Kentron!I22+Arabkir!I22+Erebuni!I22+Avan!I22+Malatia!I22) -> 0 | J22: =SUM(Adjapniak!J22+Shengavit!J22+Kentron!J22+Arabkir!J22+Erebuni!J22+Avan!J22+Malatia!J22) -> 0 | K22: =SUM(Adjapniak!K22+Shengavit!K22+Kentron!K22+Arabkir!K22+Erebuni!K22+Avan!K22+Malatia!K22) -> 0 | ... T22: =SUM(Adjapniak!T22+Shengavit!T22+Kentron!T22+Arabkir!T22+Erebuni!T22+Avan!T22+Malatia!T22) -> 0
A23: 17,îñ³Ýëåáñï³ÛÇÝ ÙÇçáóÝ»ñÇ »ñÃ¨»ÏáõÃÛ³Ý ³Ýíï³Ý·áõÃÛ³Ý ¨ ß³Ñ³·áñßÙ³Ý Ï³ÝáÝÝ»ñÇ Ë³ËïáõÙ | C23: 242 | D23: =SUM(Adjapniak!D23+Shengavit!D23+Kentron!D23+Arabkir!D23+Erebuni!D23+Avan!D23+Malatia!D23) -> 8 | E23: =SUM(Adjapniak!E23+Shengavit!E23+Kentron!E23+Arabkir!E23+Erebuni!E23+Avan!E23+Malatia!E23) -> 34 | F23: =SUM(Adjapniak!F23+Shengavit!F23+Kentron!F23+Arabkir!F23+Erebuni!F23+Avan!F23+Malatia!F23) -> 32 | G23: =SUM(Adjapniak!G23+Shengavit!G23+Kentron!G23+Arabkir!G23+Erebuni!G23+Avan!G23+Malatia!G23) -> 1 | H23: =SUM(Adjapniak!H23+Shengavit!H23+Kentron!H23+Arabkir!H23+Erebuni!H23+Avan!H23+Malatia!H23) -> 3 | I23: =SUM(Adjapniak!I23+Shengavit!I23+Kentron!I23+Arabkir!I23+Erebuni!I23+Avan!I23+Malatia!I23) -> 0 | J23: =SUM(Adjapniak!J23+Shengavit!J23+Kentron!J23+Arabkir!J23+Erebuni!J23+Avan!J23+Malatia!J23) -> 0 | K23: =SUM(Adjapniak!K23+Shengavit!K23+Kentron!K23+Arabkir!K23+Erebuni!K23+Avan!K23+Malatia!K23) -> 0 | ... T23: =SUM(Adjapniak!T23+Shengavit!T23+Kentron!T23+Arabkir!T23+Erebuni!T23+Avan!T23+Malatia!T23) -> 0
A24: 18, ÂÙñ³¹»Õ»ñÇ Ñ»ï Ï³åí³Í Ñ³Ýó³·áñÍáõÃÛáõÝÝ»ñ | C24: 266, 268, 269,271, 272, 273, 276 | D24: =SUM(Adjapniak!D24+Shengavit!D24+Kentron!D24+Arabkir!D24+Erebuni!D24+Avan!D24+Malatia!D24) -> 21 | E24: =SUM(Adjapniak!E24+Shengavit!E24+Kentron!E24+Arabkir!E24+Erebuni!E24+Avan!E24+Malatia!E24) -> 51 | F24: =SUM(Adjapniak!F24+Shengavit!F24+Kentron!F24+Arabkir!F24+Erebuni!F24+Avan!F24+Malatia!F24) -> 51 | G24: =SUM(Adjapniak!G24+Shengavit!G24+Kentron!G24+Arabkir!G24+Erebuni!G24+Avan!G24+Malatia!G24) -> 0 | H24: =SUM(Adjapniak!H24+Shengavit!H24+Kentron!H24+Arabkir!H24+Erebuni!H24+Avan!H24+Malatia!H24) -> 1 | I24: =SUM(Adjapniak!I24+Shengavit!I24+Kentron!I24+Arabkir!I24+Erebuni!I24+Avan!I24+Malatia!I24) -> 0 | J24: =SUM(Adjapniak!J24+Shengavit!J24+Kentron!J24+Arabkir!J24+Erebuni!J24+Avan!J24+Malatia!J24) -> 1 | K24: =SUM(Adjapniak!K24+Shengavit!K24+Kentron!K24+Arabkir!K24+Erebuni!K24+Avan!K24+Malatia!K24) -> 1 | ... T24: =SUM(Adjapniak!T24+Shengavit!T24+Kentron!T24+Arabkir!T24+Erebuni!T24+Avan!T24+Malatia!T24) -> 2
A25: 19,²åûñÇÝÇ Ï»ñåáí é³½Ù³ÙÃ»ñù Ï³Ù å³ÛÃáõóÇÏ ÝÛáõÃ»ñ Ïñ»ÉÁ | C25: 235 | D25: =SUM(Adjapniak!D25+Shengavit!D25+Kentron!D25+Arabkir!D25+Erebuni!D25+Avan!D25+Malatia!D25) -> 2 | E25: =SUM(Adjapniak!E25+Shengavit!E25+Kentron!E25+Arabkir!E25+Erebuni!E25+Avan!E25+Malatia!E25) -> 9 | F25: =SUM(Adjapniak!F25+Shengavit!F25+Kentron!F25+Arabkir!F25+Erebuni!F25+Avan!F25+Malatia!F25) -> 7 | G25: =SUM(Adjapniak!G25+Shengavit!G25+Kentron!G25+Arabkir!G25+Erebuni!G25+Avan!G25+Malatia!G25) -> 0 | H25: =SUM(Adjapniak!H25+Shengavit!H25+Kentron!H25+Arabkir!H25+Erebuni!H25+Avan!H25+Malatia!H25) -> 0 | I25: =SUM(Adjapniak!I25+Shengavit!I25+Kentron!I25+Arabkir!I25+Erebuni!I25+Avan!I25+Malatia!I25) -> 0 | J25: =SUM(Adjapniak!J25+Shengavit!J25+Kentron!J25+Arabkir!J25+Erebuni!J25+Avan!J25+Malatia!J25) -> 0 | K25: =SUM(Adjapniak!K25+Shengavit!K25+Kentron!K25+Arabkir!K25+Erebuni!K25+Avan!K25+Malatia!K25) -> 0 | ... T25: =SUM(Adjapniak!T25+Shengavit!T25+Kentron!T25+Arabkir!T25+Erebuni!T25+Avan!T25+Malatia!T25) -> 0
A26: 20, ²ÛÉ Ñ³Ýó³·áñÍáõÃÛáõÝÝ»ñ | D26: =SUM(Adjapniak!D26+Shengavit!D26+Kentron!D26+Arabkir!D26+Erebuni!D26+Avan!D26+Malatia!D26) -> 56 | E26: =SUM(Adjapniak!E26+Shengavit!E26+Kentron!E26+Arabkir!E26+Erebuni!E26+Avan!E26+Malatia!E26) -> 113 | F26: =SUM(Adjapniak!F26+Shengavit!F26+Kentron!F26+Arabkir!F26+Erebuni!F26+Avan!F26+Malatia!F26) -> 120 | G26: =SUM(Adjapniak!G26+Shengavit!G26+Kentron!G26+Arabkir!G26+Erebuni!G26+Avan!G26+Malatia!G26) -> 2 | H26: =SUM(Adjapniak!H26+Shengavit!H26+Kentron!H26+Arabkir!H26+Erebuni!H26+Avan!H26+Malatia!H26) -> 13 | I26: =SUM(Adjapniak!I26+Shengavit!I26+Kentron!I26+Arabkir!I26+Erebuni!I26+Avan!I26+Malatia!I26) -> 2 | J26: =SUM(Adjapniak!J26+Shengavit!J26+Kentron!J26+Arabkir!J26+Erebuni!J26+Avan!J26+Malatia!J26) -> 0 | K26: =SUM(Adjapniak!K26+Shengavit!K26+Kentron!K26+Arabkir!K26+Erebuni!K26+Avan!K26+Malatia!K26) -> 1 | ... T26: =SUM(Adjapniak!T26+Shengavit!T26+Kentron!T26+Arabkir!T26+Erebuni!T26+Avan!T26+Malatia!T26) -> 1
A27: 21, ÀÜ¸²ØºÜÀ | D27: =SUM(Adjapniak!D27+Shengavit!D27+Kentron!D27+Arabkir!D27+Erebuni!D27+Avan!D27+Malatia!D27) -> 225 | E27: =SUM(Adjapniak!E27+Shengavit!E27+Kentron!E27+Arabkir!E27+Erebuni!E27+Avan!E27+Malatia!E27) -> 461 | F27: =SUM(Adjapniak!F27+Shengavit!F27+Kentron!F27+Arabkir!F27+Erebuni!F27+Avan!F27+Malatia!F27) -> 475 | G27: =SUM(Adjapniak!G27+Shengavit!G27+Kentron!G27+Arabkir!G27+Erebuni!G27+Avan!G27+Malatia!G27) -> 10 | H27: =SUM(Adjapniak!H27+Shengavit!H27+Kentron!H27+Arabkir!H27+Erebuni!H27+Avan!H27+Malatia!H27) -> 28 | I27: =SUM(Adjapniak!I27+Shengavit!I27+Kentron!I27+Arabkir!I27+Erebuni!I27+Avan!I27+Malatia!I27) -> 7 | J27: =SUM(Adjapniak!J27+Shengavit!J27+Kentron!J27+Arabkir!J27+Erebuni!J27+Avan!J27+Malatia!J27) -> 6 | K27: =SUM(Adjapniak!K27+Shengavit!K27+Kentron!K27+Arabkir!K27+Erebuni!K27+Avan!K27+Malatia!K27) -> 4 | ... T27: =SUM(Adjapniak!T27+Shengavit!T27+Kentron!T27+Arabkir!T27+Erebuni!T27+Avan!T27+Malatia!T27) -> 9
A28: 22, ²Û¹ ÃíáõÙ` ³Ýã³÷³Ñ³ëÝ»ñÇ í»ñ³µ»ñÛ³É ·áñÍ»ñáí | D28: =SUM(Adjapniak!D28+Shengavit!D28+Kentron!D28+Arabkir!D28+Erebuni!D28+Avan!D28+Malatia!D28) -> 10 | E28: =SUM(Adjapniak!E28+Shengavit!E28+Kentron!E28+Arabkir!E28+Erebuni!E28+Avan!E28+Malatia!E28) -> 34 | F28: =SUM(Adjapniak!F28+Shengavit!F28+Kentron!F28+Arabkir!F28+Erebuni!F28+Avan!F28+Malatia!F28) -> 32 | G28: =SUM(Adjapniak!G28+Shengavit!G28+Kentron!G28+Arabkir!G28+Erebuni!G28+Avan!G28+Malatia!G28) -> 1 | H28: =SUM(Adjapniak!H28+Shengavit!H28+Kentron!H28+Arabkir!H28+Erebuni!H28+Avan!H28+Malatia!H28) -> 2 | I28: =SUM(Adjapniak!I28+Shengavit!I28+Kentron!I28+Arabkir!I28+Erebuni!I28+Avan!I28+Malatia!I28) -> 0 | J28: =SUM(Adjapniak!J28+Shengavit!J28+Kentron!J28+Arabkir!J28+Erebuni!J28+Avan!J28+Malatia!J28) -> 1 | K28: =SUM(Adjapniak!K28+Shengavit!K28+Kentron!K28+Arabkir!K28+Erebuni!K28+Avan!K28+Malatia!K28) -> 0 | ... T28: =SUM(Adjapniak!T28+Shengavit!T28+Kentron!T28+Arabkir!T28+Erebuni!T28+Avan!T28+Malatia!T28) -> 1

Sheet Adjapniak
A1: Ð³ßí»ïíáõÃÛáõÝ
A2: ºñ¨³Ý ù³Õ³ùÇ ²ç³÷ÝÛ³Ï ¨ ¸³íÃ³ß»Ý Ñ³Ù³ÛÝùÝ»ñÇ ³é³çÇÝ ³ïÛ³ÝÇ ¹³ï³ñ³ÝÇ ùñ»³Ï³Ý ·áñÍ»ñÇ ùÝÝáõÃÛ³Ý í»ñ³µ»ñÛ³É 2007Ã -Ç 1-ÇÝ ÏÇë³ÙÛ³ÏÇ Ñ³Ù³ñ
A3: êïáõ·Çã Ñ³í³ë³ñáõÙÝ»ñ §²¦ µ³ÅÝÇ í»ñ³µ»ñÛ³É 1 ¨ 2 ëÛáõÝ³ÏÝ»ñÇ Ãí»ñÇ ·áõÙ³ñÁ Ñ³í³ë³ñ ¿ 9 ¨ 10 ëÛáõÝ³ÏÝ»ñÇ Ãí»ñÇ ·áõÙ³ñÇÝ | C3: ÐÐ ùñ»³Ï³Ý ûñ»Ýë·ñùÇ Ñá¹í³ÍÝ»ñ | D3: ²Ý³í³ñï ·áñÍ»ñÇ ÙÝ³óáñ¹Á Ñ³ßí»ïáõ Å³Ù³Ý³Ï³ßñç³ÝÇ ëÏ½µáõÙ | E3: êï³óí»É »Ý ·áñÍ»ñ Ñ³ßí»ïáõ Å³Ù³Ý³Ï³ßñç³ÝáõÙ | F3: ² øñ»³Ï³Ý ·áñÍ»ñÇ ß³ñÅÁ | O3: Ð³ßí»ïáõ Å³Ù³Ý³Ï³ßñç³ÝáõÙ ·áñÍ»ñáí »Õ»É »Ý (3, 5, 6, 7 ëÛáõÝ³Ï)
F4: ²í³ñïí»É »Ý ·áñÍ»ñ Ñ³ßí»ïáõ Å³Ù³Ý³Ï³ßñç³ÝáõÙ | M4: ²Ý³í³ñï ·áñÍ»ñÇ ÙÝ³óáñ¹Á Ñ³ßí»ïáõ Å³Ù³Ý³Ï³ßñç³ÝÇ í»ñçáõÙ | N4: ³Û¹ ÃíáõÙ ·ïÝíáõÙ »Ý í³ñáõÛÃáõÙ 3 ³ÙëÇó ³í»ÉÇ (Ï³ë»óí³Í ·áñÍ»ñÇ Ñ»ï Ù»Ïï»Õ) | O4: ¹³ï³å³ñïí³ÍÝ»ñ | P4: ³ñ¹³ñ³óí³ÍÝ»ñ | Q4: ³ÝÓÇÝù, áñáÝó í»ñ³µ»ñÛ³É ·áñÍ»ñÁ Ï³ñ×í»É »Ý | S4: ³ÝÙ»ÕëáõÝ³ÏÝ»ñ, áñáÝó ÝÏ³ïÙ³Ùµ ÏÇñ³éí»É »Ý µÅßÏ³Ï³Ý µÝáõÛÃÇ Ñ³ñÏ³¹ñ³Ï³Ý ÙÇçáóÝ»ñ | T4: ³ÝÓÇÝù, áñáÝó í»ñ³µ»ñÛ³É ·áñÍ»ñÁ Ñ³ÝÓÝí»É »Ý Éñ³óáõóÇã ùÝÝáõÃÛ³Ý
F5: ùÝÝ³ñÏí»É »Ý Áëï ¿áõÃÛ³Ý ¨ ¹³ï³í×Çé Ï³Û³óí»É | G5: ³Û¹ ÃíáõÙ 1 ³ÙëÇó ³í»ÉÇ Å³ÙÏ»ïáõÙ | H5: Ï³ñ×»É »Ý ³ÝûñÇÝ³Ï³Ý ¹³ï³Ï³Ý ÝÇëï»ñáõÙ | I5: ³ÝÙ»ÕëáõÝ³ÏÝ»ñÇ ÝÏ³ïÙ³Ùµ ÏÇñ³é»É »Ý µÅßÏ³Ï³Ý µÝáõÛÃÇ Ñ³ñÏ³¹ñ³Ï³Ý ÙÇçáóÝ»ñ | J5: Ñ³ÝÓÝí»É »Ý Éñ³óáõóÇã ùÝÝáõÃÛ³Ý ³ÝûñÇÝ³ Ï³Ý ¨ ¹³ï³Ï³Ý ÝÇëï | K5: Ñ³ÝÓÝí»É »Ý Áëï ÁÝ¹¹³ïáõÃÛ³Ý | L5: ÁÝ¹³Ù»ÝÁ ³í³ñïí»É »Ý ·áñÍ»ñ (3, 5-8 ëÛáõÝ³ÏÝ»ñÇ ·áõÙ³ñÁ) | Q5: ÁÝ¹³Ù»ÝÁ | R5: ³Û¹ ÃíáõÙ Ñ³Ýó³¹»åÇ Ï³Ù Ñ³Ýó³Ï³½ÙÇ µ³ó³Ï³ÛáõÃÛ³Ý ¨ Ù»Õ³¹ñ³ÝùÁ ã³å³óáõóí³Í ÉÇÝ»Éáõ å³ï×³éáí
D6: 1 | E6: 2 | F6: 3 | G6: 4 | H6: 5 | I6: 6 | J6: 7 | K6: 8 | L6: 9 | M6: 10 | N6: 11 | O6: 12 | P6: 13 | Q6: 14 | R6: 15 | S6: 16 | T6: 17
A7: 1, ²½·³ÛÇÝ ¨ é³ë³Û³Ï³Ý Çñ³í³Ñ³í³ë³ñáõÃÛáõÝÁ Ë³Ëï»ÉÁ
A8: ¶áõÛùÇ Ñ³÷ßï³ÏáõÙ Ï³ï³ñí³Í | B8: 1, ¶áÕáõÃÛ³Ý ÙÇçáóáí | C8: 177 | D8: 2 | E8: 5 | F8: 5 | G8: 1 | J8: 1 | L8: 6 | M8: 1 | O8: 8 | Q8: 8 | T8: 1
B9: 2, ÎáÕáåáõïÇ ÙÇçáóáí | C9: 176
B10: 3, ²í³½³ÏáõÃÛ³Ý ÙÇçáóáí | C10: 175 | E10: 4 | F10: 3 | G10: 1 | L10: 3 | M10: 1 | O10: 5 | Q10: 5
B11: 4, Ê³ñ¹³ËáõÃÛ³Ý ÙÇçáóáí | C11: 178 | D11: 2 | E11: 4 | F11: 4 | G11: 2 | L11: 4 | M11: 2 | O11: 5 | Q11: 5
B12: 5, Úáõñ³óÝ»Éáõ, í³ïÝ»Éáõ Ï³Ù å³ßïáÝ³Ï³Ý ¹ÇñùÁ ã³ñ³ß³Ñ»Éáõ ÙÇçáóáí | C12: 179 | E12: 1 | H12: 1 | L12: 1
A13: 7, ÞáñÃáõÙ | C13: 182
A14: 8, ¶áõÛùÁ ¹Çï³íáñáõÃÛ³Ùµ áãÝã³óÝ»ÉÁ Ï³Ù íÝ³ë»ÉÁ | C14: 185 | E14: 1 | F14: 1 | G14: 1 | L14: 1 | O14: 1 | Q14: 1
A15: 9,¸Çï³íáñÛ³É ëå³ÝáõÃÛáõÝ | C15: 104 | D15: 1 | E15: 3 | F15: 3 | G15: 2 | I15: 1 | L15: 4 | O15: 3 | Q15: 3 | S15: 1
A16: 10,¸Çï³íáñÛ³É Í³Ýñ Ù³ñÙÝ³Ï³Ý íÝ³ëí³Íù | C16: 112 | E16: 8 | F16: 4 | J16: 1 | L16: 5 | M16: 3 | O16: 4 | Q16: 4 | T16: 1
A17: 11, ´éÝ³µ³ñáõÃÛáõÝ | C17: 138
A18: 12,Î³ß³é³Ï»ñáõÃÛáõÝ, Ï³ß³é³ïíáõÃÛáõÝ, Ï³ß³é³ïíáõÃÛ³Ý ÙÇçÝáñ¹áõÃÛáõÝ | C18: 311,312,313 | E18: 1 | M18: 1
A19: 13,ÊáõÉÇ·³ÝáõÃÛáõÝ | C19: 258 I
A20: 14,â³ñ³ÙÇï ËáõÉÇ·³ÝáõÃÛáõÝ | C20: 258 II
A21: 15, ²é³ÝÓÝ³å»ë ã³ñ³ÙÇï ËáõÉÇ·³ÝáõÃÛáõÝ | C21: 258 III
A22: 16,¼»Ýù ·áñÍ³¹ñ»Éáõ Ï³Ù ³ÛÝ ·áñÍ³¹ñ»Éáõ ÷áñÓáí ËáõÉÇ·³Ý | C22: 258 IV
A23: 17,îñ³Ýëåáñï³ÛÇÝ ÙÇçáóÝ»ñÇ »ñÃ¨»ÏáõÃÛ³Ý ³Ýíï³Ý·áõÃÛ³Ý ¨ ß³Ñ³·áñßÙ³Ý Ï³ÝáÝÝ»ñÇ Ë³ËïáõÙ | C23: 242 | E23: 8 | F23: 7 | G23: 1 | L23: 7 | M23: 1 | O23: 7 | Q23: 7
A24: 18, ÂÙñ³¹»Õ»ñÇ Ñ»ï Ï³åí³Í Ñ³Ýó³·áñÍáõÃÛáõÝÝ»ñ | C24: 266, 268, 269,271, 272, 273, 276 | E24: 5 | F24: 4 | L24: 4 | M24: 1 | O24: 6 | Q24: 6
A25: 19,²åûñÇÝÇ Ï»ñåáí é³½Ù³ÙÃ»ñù Ï³Ù å³ÛÃáõóÇÏ ÝÛáõÃ»ñ Ïñ»ÉÁ | C25: 235
A26: 20, ²ÛÉ Ñ³Ýó³·áñÍáõÃÛáõÝÝ»ñ | D26: 2 | E26: 22 | F26: 17 | G26: 2 | H26: 4 | L26: 21 | M26: 3 | O26: 23 | Q26: 23
A27: 21, ÀÜ¸²ØºÜÀ | D27: =SUM(D7:D26) -> 7 | E27: =SUM(E7:E26) -> 62 | F27: =SUM(F7:F26) -> 48 | G27: =SUM(G8:G26) -> 10 | H27: =SUM(H7:H26) -> 5 | I27: =SUM(I7:I26) -> 1 | J27: =SUM(J7:J26) -> 2 | L27: =SUM(L8:L26) -> 56 | M27: =SUM(M7:M26) -> 13 | O27: =SUM(O7:O26) -> 62 | Q27: =SUM(Q8:Q26) -> 62 | S27: =SUM(S8:S26) -> 1 | T27: =SUM(T7:T26) -> 2
A28: 22, ²Û¹ ÃíáõÙ` ³Ýã³÷³Ñ³ëÝ»ñÇ í»ñ³µ»ñÛ³É ·áñÍ»ñáí | E28: 3 | F28: 1 | G28: 1 | J28: 1 | L28: 2 | M28: 1 | O28: 2 | Q28: 2 | T28: 1

Sheet Shengavit
A1: Ð³ßí»ïíáõÃÛáõÝ
A2: ºñ¨³Ý ù³Õ³ùÇ Þ»Ý·³íÇÃ Ñ³Ù³ÛÝùÇ ³é³çÇÝ ³ïÛ³ÝÇ ¹³ï³ñ³ÝÇ ùñ»³Ï³Ý ·áñÍ»ñÇ ùÝÝáõÃÛ³Ý í»ñ³µ»ñÛ³É 2007Ã.1-ÇÝ ÏÇë³ÙÛ³ÏÇ Ñ³Ù³ñ
A3: êïáõ·Çã Ñ³í³ë³ñáõÙÝ»ñ §²¦ µ³ÅÝÇ í»ñ³µ»ñÛ³É 1 ¨ 2 ëÛáõÝ³ÏÝ»ñÇ Ãí»ñÇ ·áõÙ³ñÁ Ñ³í³ë³ñ ¿ 9 ¨ 10 ëÛáõÝ³ÏÝ»ñÇ Ãí»ñÇ ·áõÙ³ñÇÝ | C3: ÐÐ ùñ»³Ï³Ý ûñ»Ýë·ñùÇ Ñá¹í³ÍÝ»ñ | D3: ²Ý³í³ñï ·áñÍ»ñÇ ÙÝ³óáñ¹Á Ñ³ßí»ïáõ Å³Ù³Ý³Ï³ßñç³ÝÇ ëÏ½µáõÙ | E3: êï³óí»É »Ý ·áñÍ»ñ Ñ³ßí»ïáõ Å³Ù³Ý³Ï³ßñç³ÝáõÙ | F3: ² øñ»³Ï³Ý ·áñÍ»ñÇ ß³ñÅÁ | O3: Ð³ßí»ïáõ Å³Ù³Ý³Ï³ßñç³ÝáõÙ ·áñÍ»ñáí »Õ»É »Ý (3, 5, 6, 7 ëÛáõÝ³Ï)
F4: ²í³ñïí»É »Ý ·áñÍ»ñ Ñ³ßí»ïáõ Å³Ù³Ý³Ï³ßñç³ÝáõÙ | M4: ²Ý³í³ñï ·áñÍ»ñÇ ÙÝ³óáñ¹Á Ñ³ßí»ïáõ Å³Ù³Ý³Ï³ßñç³ÝÇ í»ñçáõÙ | N4: ³Û¹ ÃíáõÙ ·ïÝíáõÙ »Ý í³ñáõÛÃáõÙ 3 ³ÙëÇó ³í»ÉÇ (Ï³ë»óí³Í ·áñÍ»ñÇ Ñ»ï Ù»Ïï»Õ) | O4: ¹³ï³å³ñïí³ÍÝ»ñ | P4: ³ñ¹³ñ³óí³ÍÝ»ñ | Q4: ³ÝÓÇÝù, áñáÝó í»ñ³µ»ñÛ³É ·áñÍ»ñÁ Ï³ñ×í»É »Ý | S4: ³ÝÙ»ÕëáõÝ³ÏÝ»ñ, áñáÝó ÝÏ³ïÙ³Ùµ ÏÇñ³éí»É »Ý µÅßÏ³Ï³Ý µÝáõÛÃÇ Ñ³ñÏ³¹ñ³Ï³Ý ÙÇçáóÝ»ñ | T4: ³ÝÓÇÝù, áñáÝó í»ñ³µ»ñÛ³É ·áñÍ»ñÁ Ñ³ÝÓÝí»É »Ý Éñ³óáõóÇã ùÝÝáõÃÛ³Ý
F5: ùÝÝ³ñÏí»É »Ý Áëï ¿áõÃÛ³Ý ¨ ¹³ï³í×Çé Ï³Û³óí»É | G5: ³Û¹ ÃíáõÙ 1 ³ÙëÇó ³í»ÉÇ Å³ÙÏ»ïáõÙ | H5: Ï³ñ×»É »Ý ³ÝûñÇÝ³Ï³Ý ¹³ï³Ï³Ý ÝÇëï»ñáõÙ | I5: ³ÝÙ»ÕëáõÝ³ÏÝ»ñÇ ÝÏ³ïÙ³Ùµ ÏÇñ³é»É »Ý µÅßÏ³Ï³Ý µÝáõÛÃÇ Ñ³ñÏ³¹ñ³Ï³Ý ÙÇçáóÝ»ñ | J5: Ñ³ÝÓÝí»É »Ý Éñ³óáõóÇã ùÝÝáõÃÛ³Ý ³ÝûñÇÝ³ Ï³Ý ¨ ¹³ï³Ï³Ý ÝÇëï | K5: Ñ³ÝÓÝí»É »Ý Áëï ÁÝ¹¹³ïáõÃÛ³Ý | L5: ÁÝ¹³Ù»ÝÁ ³í³ñïí»É »Ý ·áñÍ»ñ (3, 5-8 ëÛáõÝ³ÏÝ»ñÇ ·áõÙ³ñÁ) | Q5: ÁÝ¹³Ù»ÝÁ | R5: ³Û¹ ÃíáõÙ Ñ³Ýó³¹»åÇ Ï³Ù Ñ³Ýó³Ï³½ÙÇ µ³ó³Ï³ÛáõÃÛ³Ý ¨ Ù»Õ³¹ñ³ÝùÁ ã³å³óáõóí³Í ÉÇÝ»Éáõ å³ï×³éáí
D6: 1 | E6: 2 | F6: 3 | G6: 4 | H6: 5 | I6: 6 | J6: 7 | K6: 8 | L6: 9 | M6: 10 | N6: 11 | O6: 12 | P6: 13 | Q6: 14 | R6: 15 | S6: 16 | T6: 17
A7: 1, ²½·³ÛÇÝ ¨ é³ë³Û³Ï³Ý Çñ³í³Ñ³í³ë³ñáõÃÛáõÝÁ Ë³Ëï»ÉÁ
A8: ¶áõÛùÇ Ñ³÷ßï³ÏáõÙ Ï³ï³ñí³Í | B8: 1, ¶áÕáõÃÛ³Ý ÙÇçáóáí | C8: 177 | D8: 2 | E8: 7 | F8: 6 | H8: 2 | L8: 8 | M8: 1 | O8: 10
B9: 2, ÎáÕáåáõïÇ ÙÇçáóáí | C9: 176 | D9: 1 | M9: 1
B10: 3, ²í³½³ÏáõÃÛ³Ý ÙÇçáóáí | C10: 175 | E10: 2 | F10: 1 | L10: 1 | M10: 1 | O10: 1
B11: 4, Ê³ñ¹³ËáõÃÛ³Ý ÙÇçáóáí | C11: 178 | D11: 2 | E11: 7 | F11: 7 | L11: 7 | M11: 2 | O11: 9
B12: 5, Úáõñ³óÝ»Éáõ, í³ïÝ»Éáõ Ï³Ù å³ßïáÝ³Ï³Ý ¹ÇñùÁ ã³ñ³ß³Ñ»Éáõ ÙÇçáóáí | C12: 179 | D12: 1 | M12: 1
A13: 7, ÞáñÃáõÙ | C13: 182
A14: 8, ¶áõÛùÁ ¹Çï³íáñáõÃÛ³Ùµ áãÝã³óÝ»ÉÁ Ï³Ù íÝ³ë»ÉÁ | C14: 185
A15: 9,¸Çï³íáñÛ³É ëå³ÝáõÃÛáõÝ | C15: 104 | D15: 1 | E15: 1 | F15: 1 | L15: 1 | M15: 1 | O15: 1
A16: 10,¸Çï³íáñÛ³É Í³Ýñ Ù³ñÙÝ³Ï³Ý íÝ³ëí³Íù | C16: 112 | D16: 3 | E16: 3 | F16: 5 | L16: 5 | M16: 1 | O16: 6
A17: 11, ´éÝ³µ³ñáõÃÛáõÝ | C17: 138 | E17: 1 | F17: 1 | L17: 1 | O17: 1
A18: 12,Î³ß³é³Ï»ñáõÃÛáõÝ, Ï³ß³é³ïíáõÃÛáõÝ, Ï³ß³é³ïíáõÃÛ³Ý ÙÇçÝáñ¹áõÃÛáõÝ | C18: 311,312,313
A19: 13,ÊáõÉÇ·³ÝáõÃÛáõÝ | C19: 258 I | D19: 1 | H19: 1 | L19: 1 | O19: 1
A20: 14,â³ñ³ÙÇï ËáõÉÇ·³ÝáõÃÛáõÝ | C20: 258 II
A21: 15, ²é³ÝÓÝ³å»ë ã³ñ³ÙÇï ËáõÉÇ·³ÝáõÃÛáõÝ | C21: 258 III | E21: 1 | F21: 1 | L21: 1 | O21: 3
A22: 16,¼»Ýù ·áñÍ³¹ñ»Éáõ Ï³Ù ³ÛÝ ·áñÍ³¹ñ»Éáõ ÷áñÓáí ËáõÉÇ·³Ý | C22: 258 IV
A23: 17,îñ³Ýëåáñï³ÛÇÝ ÙÇçáóÝ»ñÇ »ñÃ¨»ÏáõÃÛ³Ý ³Ýíï³Ý·áõÃÛ³Ý ¨ ß³Ñ³·áñßÙ³Ý Ï³ÝáÝÝ»ñÇ Ë³ËïáõÙ | C23: 242 | D23: 2 | E23: 6 | F23: 4 | H23: 1 | L23: 5 | M23: 3 | O23: 5
A24: 18, ÂÙñ³¹»Õ»ñÇ Ñ»ï Ï³åí³Í Ñ³Ýó³·áñÍáõÃÛáõÝÝ»ñ | C24: 266, 268, 269,271, 272, 273, 276 | E24: 5 | F24: 4 | L24: 4 | M24: 1 | O24: 5
A25: 19,²åûñÇÝÇ Ï»ñåáí é³½Ù³ÙÃ»ñù Ï³Ù å³ÛÃáõóÇÏ ÝÛáõÃ»ñ Ïñ»ÉÁ | C25: 235
A26: 20, ²ÛÉ Ñ³Ýó³·áñÍáõÃÛáõÝÝ»ñ | D26: 4 | E26: 8 | F26: 11 | H26: 1 | L26: 12 | O26: 17
A27: 21, ÀÜ¸²ØºÜÀ | D27: =SUM(D8:D26) -> 17 | E27: =SUM(E8:E26) -> 41 | F27: =SUM(F7:F26) -> 41 | H27: =SUM(H8:H26) -> 5 | L27: =SUM(L8:L26) -> 46 | M27: =SUM(M8:M26) -> 12 | O27: =SUM(O8:O26) -> 59
A28: 22, ²Û¹ ÃíáõÙ` ³Ýã³÷³Ñ³ëÝ»ñÇ í»ñ³µ»ñÛ³É ·áñÍ»ñáí | D28: 1 | E28: 8 | F28: 4 | L28: 4 | M28: 5 | O28: 4

Sheet Kentron
A1: Ð³ßí»ïíáõÃÛáõÝ
A2: ºñ¨³Ý ù³Õ³ùÇ Î»ÝïñáÝ ¨ Üáñù-Ø³ñ³ß Ñ³Ù³ÛÝùÝ»ñÇ ³é³çÇÝ ³ïÛ³ÝÇ ¹³ï³ñ³ÝÇ ùñ»³Ï³Ý ·áñÍ»ñÇ ùÝÝáõÃÛ³Ý í»ñ³µ»ñÛ³É 2007Ã 1-ÇÝ ÏÇë³ÙÛ³ÏÇ. Ñ³Ù³ñ
A3: êïáõ·Çã Ñ³í³ë³ñáõÙÝ»ñ §²¦ µ³ÅÝÇ í»ñ³µ»ñÛ³É 1 ¨ 2 ëÛáõÝ³ÏÝ»ñÇ Ãí»ñÇ ·áõÙ³ñÁ Ñ³í³ë³ñ ¿ 9 ¨ 10 ëÛáõÝ³ÏÝ»ñÇ Ãí»ñÇ ·áõÙ³ñÇÝ | C3: ÐÐ ùñ»³Ï³Ý ûñ»Ýë·ñùÇ Ñá¹í³ÍÝ»ñ | D3: ²Ý³í³ñï ·áñÍ»ñÇ ÙÝ³óáñ¹Á Ñ³ßí»ïáõ Å³Ù³Ý³Ï³ßñç³ÝÇ ëÏ½µáõÙ | E3: êï³óí»É »Ý ·áñÍ»ñ Ñ³ßí»ïáõ Å³Ù³Ý³Ï³ßñç³ÝáõÙ | F3: ² øñ»³Ï³Ý ·áñÍ»ñÇ ß³ñÅÁ | O3: Ð³ßí»ïáõ Å³Ù³Ý³Ï³ßñç³ÝáõÙ ·áñÍ»ñáí »Õ»É »Ý (3, 5, 6, 7 ëÛáõÝ³Ï)
F4: ²í³ñïí»É »Ý ·áñÍ»ñ Ñ³ßí»ïáõ Å³Ù³Ý³Ï³ßñç³ÝáõÙ | M4: ²Ý³í³ñï ·áñÍ»ñÇ ÙÝ³óáñ¹Á Ñ³ßí»ïáõ Å³Ù³Ý³Ï³ßñç³ÝÇ í»ñçáõÙ | N4: ³Û¹ ÃíáõÙ ·ïÝíáõÙ »Ý í³ñáõÛÃáõÙ 3 ³ÙëÇó ³í»ÉÇ (Ï³ë»óí³Í ·áñÍ»ñÇ Ñ»ï Ù»Ïï»Õ) | O4: ¹³ï³å³ñïí³ÍÝ»ñ | P4: ³ñ¹³ñ³óí³ÍÝ»ñ | Q4: ³ÝÓÇÝù, áñáÝó í»ñ³µ»ñÛ³É ·áñÍ»ñÁ Ï³ñ×í»É »Ý | S4: ³ÝÙ»ÕëáõÝ³ÏÝ»ñ, áñáÝó ÝÏ³ïÙ³Ùµ ÏÇñ³éí»É »Ý µÅßÏ³Ï³Ý µÝáõÛÃÇ Ñ³ñÏ³¹ñ³Ï³Ý ÙÇçáóÝ»ñ | T4: ³ÝÓÇÝù, áñáÝó í»ñ³µ»ñÛ³É ·áñÍ»ñÁ Ñ³ÝÓÝí»É »Ý Éñ³óáõóÇã ùÝÝáõÃÛ³Ý
F5: ùÝÝ³ñÏí»É »Ý Áëï ¿áõÃÛ³Ý ¨ ¹³ï³í×Çé Ï³Û³óí»É | G5: ³Û¹ ÃíáõÙ 1 ³ÙëÇó ³í»ÉÇ Å³ÙÏ»ïáõÙ | H5: Ï³ñ×»É »Ý ³ÝûñÇÝ³Ï³Ý ¹³ï³Ï³Ý ÝÇëï»ñáõÙ | I5: ³ÝÙ»ÕëáõÝ³ÏÝ»ñÇ ÝÏ³ïÙ³Ùµ ÏÇñ³é»É »Ý µÅßÏ³Ï³Ý µÝáõÛÃÇ Ñ³ñÏ³¹ñ³Ï³Ý ÙÇçáóÝ»ñ | J5: Ñ³ÝÓÝí»É »Ý Éñ³óáõóÇã ùÝÝáõÃÛ³Ý ³ÝûñÇÝ³ Ï³Ý ¨ ¹³ï³Ï³Ý ÝÇëï | K5: Ñ³ÝÓÝí»É »Ý Áëï ÁÝ¹¹³ïáõÃÛ³Ý | L5: ÁÝ¹³Ù»ÝÁ ³í³ñïí»É »Ý ·áñÍ»ñ (3, 5-8 ëÛáõÝ³ÏÝ»ñÇ ·áõÙ³ñÁ) | Q5: ÁÝ¹³Ù»ÝÁ | R5: ³Û¹ ÃíáõÙ Ñ³Ýó³¹»åÇ Ï³Ù Ñ³Ýó³Ï³½ÙÇ µ³ó³Ï³ÛáõÃÛ³Ý ¨ Ù»Õ³¹ñ³ÝùÁ ã³å³óáõóí³Í ÉÇÝ»Éáõ å³ï×³éáí
D6: 1 | E6: 2 | F6: 3 | G6: 4 | H6: 5 | I6: 6 | J6: 7 | K6: 8 | L6: 9 | M6: 10 | N6: 11 | O6: 12 | P6: 13 | Q6: 14 | R6: 15 | S6: 16 | T6: 17
A7: 1, ²½·³ÛÇÝ ¨ é³ë³Û³Ï³Ý Çñ³í³Ñ³í³ë³ñáõÃÛáõÝÁ Ë³Ëï»ÉÁ
A8: ¶áõÛùÇ Ñ³÷ßï³ÏáõÙ Ï³ï³ñí³Í | B8: 1, ¶áÕáõÃÛ³Ý ÙÇçáóáí | C8: 177 | D8: 18 | E8: 20 | F8: 28 | H8: 1 | I8: 1 | L8: 30 | M8: 8 | N8: 1 | O8: 36 | Q8: 1 | S8: 1
B9: 2, ÎáÕáåáõïÇ ÙÇçáóáí | C9: 176 | D9: 4 | E9: 1 | F9: 2 | L9: 2 | M9: 3 | N9: 2 | O9: 3
B10: 3, ²í³½³ÏáõÃÛ³Ý ÙÇçáóáí | C10: 175 | E10: 5 | F10: 3 | L10: 3 | M10: 2 | O10: 3
B11: 4, Ê³ñ¹³ËáõÃÛ³Ý ÙÇçáóáí | C11: 178 | D11: 4 | E11: 13 | F11: 8 | H11: 1 | L11: 9 | M11: 8 | O11: 11 | Q11: 1
B12: 5, Úáõñ³óÝ»Éáõ, í³ïÝ»Éáõ Ï³Ù å³ßïáÝ³Ï³Ý ¹ÇñùÁ ã³ñ³ß³Ñ»Éáõ ÙÇçáóáí | C12: 179 | D12: 5 | E12: 4 | F12: 4 | L12: 4 | M12: 5 | N12: 4 | O12: 6 | P12: 1
A13: 7, ÞáñÃáõÙ | C13: 182 | D13: 1 | E13: 2 | M13: 3 | N13: 1
A14: 8, ¶áõÛùÁ ¹Çï³íáñáõÃÛ³Ùµ áãÝã³óÝ»ÉÁ Ï³Ù íÝ³ë»ÉÁ | C14: 185 | E14: 1 | H14: 1 | L14: 1 | Q14: 1
A15: 9,¸Çï³íáñÛ³É ëå³ÝáõÃÛáõÝ | C15: 104 | D15: 3 | E15: 5 | F15: 2 | I15: 1 | L15: 3 | M15: 5 | O15: 3 | S15: 1
A16: 10,¸Çï³íáñÛ³É Í³Ýñ Ù³ñÙÝ³Ï³Ý íÝ³ëí³Íù | C16: 112 | D16: 3 | E16: 7 | F16: 8 | L16: 8 | M16: 2 | O16: 8
A17: 11, ´éÝ³µ³ñáõÃÛáõÝ | C17: 138
A18: 12,Î³ß³é³Ï»ñáõÃÛáõÝ, Ï³ß³é³ïíáõÃÛáõÝ, Ï³ß³é³ïíáõÃÛ³Ý ÙÇçÝáñ¹áõÃÛáõÝ | C18: 311,312,313 | D18: 1 | F18: 1 | L18: 1 | O18: 5
A19: 13,ÊáõÉÇ·³ÝáõÃÛáõÝ | C19: 258 I | D19: 1 | E19: 1 | F19: 1 | L19: 1 | M19: 1 | O19: 1
A20: 14,â³ñ³ÙÇï ËáõÉÇ·³ÝáõÃÛáõÝ | C20: 258 II | D20: 1 | E20: 9 | F20: 6 | I20: 1 | L20: 7 | M20: 3 | O20: 7 | S20: 1
A21: 15, ²é³ÝÓÝ³å»ë ã³ñ³ÙÇï ËáõÉÇ·³ÝáõÃÛáõÝ | C21: 258 III | D21: 3 | E21: 4 | F21: 6 | L21: 6 | M21: 1 | O21: 10
A22: 16,¼»Ýù ·áñÍ³¹ñ»Éáõ Ï³Ù ³ÛÝ ·áñÍ³¹ñ»Éáõ ÷áñÓáí ËáõÉÇ·³Ý | C22: 258 IV | D22: 3 | E22: 3 | F22: 2 | L22: 2 | M22: 4 | N22: 2 | O22: 2
A23: 17,îñ³Ýëåáñï³ÛÇÝ ÙÇçáóÝ»ñÇ »ñÃ¨»ÏáõÃÛ³Ý ³Ýíï³Ý·áõÃÛ³Ý ¨ ß³Ñ³·áñßÙ³Ý Ï³ÝáÝÝ»ñÇ Ë³ËïáõÙ | C23: 242 | D23: 3 | E23: 4 | F23: 5 | L23: 5 | M23: 2 | O23: 5
A24: 18, ÂÙñ³¹»Õ»ñÇ Ñ»ï Ï³åí³Í Ñ³Ýó³·áñÍáõÃÛáõÝÝ»ñ | C24: 266, 268, 269,271, 272, 273, 276 | D24: 5 | E24: 8 | F24: 8 | L24: 8 | M24: 5 | O24: 14
A25: 19,²åûñÇÝÇ Ï»ñåáí é³½Ù³ÙÃ»ñù Ï³Ù å³ÛÃáõóÇÏ ÝÛáõÃ»ñ Ïñ»ÉÁ | C25: 235 | D25: 1 | E25: 3 | F25: 2 | L25: 2 | M25: 2 | N25: 1 | O25: 2 | Q25: 2
A26: 20, ²ÛÉ Ñ³Ýó³·áñÍáõÃÛáõÝÝ»ñ | D26: 20 | E26: 31 | F26: 32 | H26: 1 | I26: 1 | L26: 34 | M26: 17 | N26: 9 | O26: 57 | Q26: 1 | S26: 1
A27: 21, ÀÜ¸²ØºÜÀ | D27: =SUM(D8:D26) -> 76 | E27: =SUM(E8:E26) -> 121 | F27: =SUM(F8:F26) -> 118 | H27: =SUM(H8:H26) -> 4 | I27: =SUM(I8:I26) -> 4 | L27: =SUM(L8:L26) -> 126 | M27: =SUM(M8:M26) -> 71 | N27: =SUM(N8:N26) -> 20 | O27: =SUM(O8:O26) -> 173 | P27: =SUM(P8:P26) -> 1 | Q27: =SUM(Q8:Q26) -> 6 | S27: =SUM(S8:S26) -> 4
A28: 22, ²Û¹ ÃíáõÙ` ³Ýã³÷³Ñ³ëÝ»ñÇ í»ñ³µ»ñÛ³É ·áñÍ»ñáí | D28: 6 | E28: 3 | F28: 6 | L28: 6 | M28: 3 | N28: 1 | O28: 7

Sheet Arabkir
A1: Ð³ßí»ïíáõÃÛáõÝ
A2: ºñ¨³Ý ù³Õ³ùÇ ²ñ³µÏÇñ ¨ ø³Ý³ù»é-¼»ÛÃáõÝ Ñ³Ù³ÛÝùÝ»ñÇ ³é³çÇÝ ³ïÛ³ÝÇ ¹³ï³ñ³ÝÇ ùñ»³Ï³Ý ·áñÍ»ñÇ ùÝÝáõÃÛ³Ý í»ñ³µ»ñÛ³É 2007Ã .1-ÇÝ ÏÇë³ÙÛ³ÏÇ Ñ³Ù³ñ
A3: êïáõ·Çã Ñ³í³ë³ñáõÙÝ»ñ §²¦ µ³ÅÝÇ í»ñ³µ»ñÛ³É 1 ¨ 2 ëÛáõÝ³ÏÝ»ñÇ Ãí»ñÇ ·áõÙ³ñÁ Ñ³í³ë³ñ ¿ 9 ¨ 10 ëÛáõÝ³ÏÝ»ñÇ Ãí»ñÇ ·áõÙ³ñÇÝ | C3: ÐÐ ùñ»³Ï³Ý ûñ»Ýë·ñùÇ Ñá¹í³ÍÝ»ñ | D3: ²Ý³í³ñï ·áñÍ»ñÇ ÙÝ³óáñ¹Á Ñ³ßí»ïáõ Å³Ù³Ý³Ï³ßñç³ÝÇ ëÏ½µáõÙ | E3: êï³óí»É »Ý ·áñÍ»ñ Ñ³ßí»ïáõ Å³Ù³Ý³Ï³ßñç³ÝáõÙ | F3: ² øñ»³Ï³Ý ·áñÍ»ñÇ ß³ñÅÁ | O3: Ð³ßí»ïáõ Å³Ù³Ý³Ï³ßñç³ÝáõÙ ·áñÍ»ñáí »Õ»É »Ý (3, 5, 6, 7 ëÛáõÝ³Ï)
F4: ²í³ñïí»É »Ý ·áñÍ»ñ Ñ³ßí»ïáõ Å³Ù³Ý³Ï³ßñç³ÝáõÙ | M4: ²Ý³í³ñï ·áñÍ»ñÇ ÙÝ³óáñ¹Á Ñ³ßí»ïáõ Å³Ù³Ý³Ï³ßñç³ÝÇ í»ñçáõÙ | N4: ³Û¹ ÃíáõÙ ·ïÝíáõÙ »Ý í³ñáõÛÃáõÙ 3 ³ÙëÇó ³í»ÉÇ (Ï³ë»óí³Í ·áñÍ»ñÇ Ñ»ï Ù»Ïï»Õ) | O4: ¹³ï³å³ñïí³ÍÝ»ñ | P4: ³ñ¹³ñ³óí³ÍÝ»ñ | Q4: ³ÝÓÇÝù, áñáÝó í»ñ³µ»ñÛ³É ·áñÍ»ñÁ Ï³ñ×í»É »Ý | S4: ³ÝÙ»ÕëáõÝ³ÏÝ»ñ, áñáÝó ÝÏ³ïÙ³Ùµ ÏÇñ³éí»É »Ý µÅßÏ³Ï³Ý µÝáõÛÃÇ Ñ³ñÏ³¹ñ³Ï³Ý ÙÇçáóÝ»ñ | T4: ³ÝÓÇÝù, áñáÝó í»ñ³µ»ñÛ³É ·áñÍ»ñÁ Ñ³ÝÓÝí»É »Ý Éñ³óáõóÇã ùÝÝáõÃÛ³Ý
F5: ùÝÝ³ñÏí»É »Ý Áëï ¿áõÃÛ³Ý ¨ ¹³ï³í×Çé Ï³Û³óí»É | G5: ³Û¹ ÃíáõÙ 1 ³ÙëÇó ³í»ÉÇ Å³ÙÏ»ïáõÙ | H5: Ï³ñ×»É »Ý ³ÝûñÇÝ³Ï³Ý ¹³ï³Ï³Ý ÝÇëï»ñáõÙ | I5: ³ÝÙ»ÕëáõÝ³ÏÝ»ñÇ ÝÏ³ïÙ³Ùµ ÏÇñ³é»É »Ý µÅßÏ³Ï³Ý µÝáõÛÃÇ Ñ³ñÏ³¹ñ³Ï³Ý ÙÇçáóÝ»ñ | J5: Ñ³ÝÓÝí»É »Ý Éñ³óáõóÇã ùÝÝáõÃÛ³Ý ³ÝûñÇÝ³ Ï³Ý ¨ ¹³ï³Ï³Ý ÝÇëï | K5: Ñ³ÝÓÝí»É »Ý Áëï ÁÝ¹¹³ïáõÃÛ³Ý | L5: ÁÝ¹³Ù»ÝÁ ³í³ñïí»É »Ý ·áñÍ»ñ (3, 5-8 ëÛáõÝ³ÏÝ»ñÇ ·áõÙ³ñÁ) | Q5: ÁÝ¹³Ù»ÝÁ | R5: ³Û¹ ÃíáõÙ Ñ³Ýó³¹»åÇ Ï³Ù Ñ³Ýó³Ï³½ÙÇ µ³ó³Ï³ÛáõÃÛ³Ý ¨ Ù»Õ³¹ñ³ÝùÁ ã³å³óáõóí³Í ÉÇÝ»Éáõ å³ï×³éáí
D6: 1 | E6: 2 | F6: 3 | G6: 4 | H6: 5 | I6: 6 | J6: 7 | K6: 8 | L6: 9 | M6: 10 | N6: 11 | O6: 12 | P6: 13 | Q6: 14 | R6: 15 | S6: 16 | T6: 17
A7: 1, ²½·³ÛÇÝ ¨ é³ë³Û³Ï³Ý Çñ³í³Ñ³í³ë³ñáõÃÛáõÝÁ Ë³Ëï»ÉÁ
A8: ¶áõÛùÇ Ñ³÷ßï³ÏáõÙ Ï³ï³ñí³Í | B8: 1, ¶áÕáõÃÛ³Ý ÙÇçáóáí | C8: 177 | D8: 2 | E8: 21 | F8: 16 | H8: 1 | L8: 17 | M8: 6 | O8: 24 | R8: 1
B9: 2, ÎáÕáåáõïÇ ÙÇçáóáí | C9: 176 | D9: 3 | E9: 4 | F9: 6 | L9: 6 | M9: 1 | O9: 13
B10: 3, ²í³½³ÏáõÃÛ³Ý ÙÇçáóáí | C10: 175 | E10: 2 | M10: 2
B11: 4, Ê³ñ¹³ËáõÃÛ³Ý ÙÇçáóáí | C11: 178 | D11: 11 | E11: 12 | F11: 17 | L11: 17 | M11: 6 | O11: 22
B12: 5, Úáõñ³óÝ»Éáõ, í³ïÝ»Éáõ Ï³Ù å³ßïáÝ³Ï³Ý ¹ÇñùÁ ã³ñ³ß³Ñ»Éáõ ÙÇçáóáí | C12: 179 | D12: 1 | F12: 1 | L12: 1 | O12: 1
A13: 7, ÞáñÃáõÙ | C13: 182
A14: 8, ¶áõÛùÁ ¹Çï³íáñáõÃÛ³Ùµ áãÝã³óÝ»ÉÁ Ï³Ù íÝ³ë»ÉÁ | C14: 185
A15: 9,¸Çï³íáñÛ³É ëå³ÝáõÃÛáõÝ | C15: 104 | D15: 3 | E15: 2 | F15: 3 | L15: 3 | M15: 2 | O15: 3
A16: 10,¸Çï³íáñÛ³É Í³Ýñ Ù³ñÙÝ³Ï³Ý íÝ³ëí³Íù | C16: 112 | D16: 2 | E16: 3 | F16: 3 | L16: 3 | M16: 2 | O16: 3
A17: 11, ´éÝ³µ³ñáõÃÛáõÝ | C17: 138
A18: 12,Î³ß³é³Ï»ñáõÃÛáõÝ, Ï³ß³é³ïíáõÃÛáõÝ, Ï³ß³é³ïíáõÃÛ³Ý ÙÇçÝáñ¹áõÃÛáõÝ | C18: 311,312,313
A19: 13,ÊáõÉÇ·³ÝáõÃÛáõÝ | C19: 258 I | D19: 1 | F19: 1 | L19: 1 | O19: 1 | R19: 1
A20: 14,â³ñ³ÙÇï ËáõÉÇ·³ÝáõÃÛáõÝ | C20: 258 II | D20: 1 | E20: 1 | F20: 2 | L20: 2 | O20: 3
A21: 15, ²é³ÝÓÝ³å»ë ã³ñ³ÙÇï ËáõÉÇ·³ÝáõÃÛáõÝ | C21: 258 III | D21: 2 | E21: 1 | F21: 1 | H21: 1 | L21: 2 | M21: 1 | O21: 2 | R21: 2
A22: 16,¼»Ýù ·áñÍ³¹ñ»Éáõ Ï³Ù ³ÛÝ ·áñÍ³¹ñ»Éáõ ÷áñÓáí ËáõÉÇ·³Ý | C22: 258 IV | D22: 2 | E22: 1 | F22: 2 | L22: 2 | M22: 1 | O22: 2
A23: 17,îñ³Ýëåáñï³ÛÇÝ ÙÇçáóÝ»ñÇ »ñÃ¨»ÏáõÃÛ³Ý ³Ýíï³Ý·áõÃÛ³Ý ¨ ß³Ñ³·áñßÙ³Ý Ï³ÝáÝÝ»ñÇ Ë³ËïáõÙ | C23: 242 | E23: 2 | F23: 2 | L23: 2 | O23: 2
A24: 18, ÂÙñ³¹»Õ»ñÇ Ñ»ï Ï³åí³Í Ñ³Ýó³·áñÍáõÃÛáõÝÝ»ñ | C24: 266, 268, 269,271, 272, 273, 276 | D24: 4 | E24: 15 | F24: 18 | L24: 18 | M24: 1 | O24: 23
A25: 19,²åûñÇÝÇ Ï»ñåáí é³½Ù³ÙÃ»ñù Ï³Ù å³ÛÃáõóÇÏ ÝÛáõÃ»ñ Ïñ»ÉÁ | C25: 235 | D25: 1 | M25: 1
A26: 20, ²ÛÉ Ñ³Ýó³·áñÍáõÃÛáõÝÝ»ñ | D26: 12 | E26: 15 | F26: 17 | H26: 4 | I26: 1 | L26: 22 | M26: 5 | O26: 23 | R26: 7 | S26: 1 | T26: 1
A27: 21, ÀÜ¸²ØºÜÀ | D27: =SUM(D8:D26) -> 45 | E27: =SUM(E8:E26) -> 79 | F27: =SUM(F8:F26) -> 89 | H27: =SUM(H8:H26) -> 6 | I27: =SUM(I8:I26) -> 1 | L27: =SUM(L8:L26) -> 96 | M27: =SUM(M8:M26) -> 28 | O27: =SUM(O8:O26) -> 122 | R27: =SUM(R8:R26) -> 11 | S27: =SUM(S8:S26) -> 1 | T27: =SUM(T8:T26) -> 1
A28: 22, ²Û¹ ÃíáõÙ` ³Ýã³÷³Ñ³ëÝ»ñÇ í»ñ³µ»ñÛ³É ·áñÍ»ñáí | E28: 6 | F28: 5 | H28: 1 | L28: 6 | O28: 14 | R28: 2

Sheet Erebuni
A1: Ð³ßí»ïíáõÃÛáõÝ
A2: ºñ¨³Ý ù³Õ³ùÇ ¾ñ»µáõÝÇ-Üáõµ³ñ³ß»Ý Ñ³Ù³ÛÝùÝ»ñÇ ³é³çÇÝ ³ïÛ³ÝÇ ¹³ï³ñ³ÝÇ ùñ»³Ï³Ý ·áñÍ»ñÇ ùÝÝáõÃÛ³Ý í»ñ³µ»ñÛ³É 2007Ã. 1-ÇÝ ÏÇë³ÙÛ³ÏÇ Ñ³Ù³ñ
A3: êïáõ·Çã Ñ³í³ë³ñáõÙÝ»ñ §²¦ µ³ÅÝÇ í»ñ³µ»ñÛ³É 1 ¨ 2 ëÛáõÝ³ÏÝ»ñÇ Ãí»ñÇ ·áõÙ³ñÁ Ñ³í³ë³ñ ¿ 9 ¨ 10 ëÛáõÝ³ÏÝ»ñÇ Ãí»ñÇ ·áõÙ³ñÇÝ | C3: ÐÐ ùñ»³Ï³Ý ûñ»Ýë·ñùÇ Ñá¹í³ÍÝ»ñ | D3: ²Ý³í³ñï ·áñÍ»ñÇ ÙÝ³óáñ¹Á Ñ³ßí»ïáõ Å³Ù³Ý³Ï³ßñç³ÝÇ ëÏ½µáõÙ | E3: êï³óí»É »Ý ·áñÍ»ñ Ñ³ßí»ïáõ Å³Ù³Ý³Ï³ßñç³ÝáõÙ | F3: ² øñ»³Ï³Ý ·áñÍ»ñÇ ß³ñÅÁ | O3: Ð³ßí»ïáõ Å³Ù³Ý³Ï³ßñç³ÝáõÙ ·áñÍ»ñáí »Õ»É »Ý (3, 5, 6, 7 ëÛáõÝ³Ï)
F4: ²í³ñïí»É »Ý ·áñÍ»ñ Ñ³ßí»ïáõ Å³Ù³Ý³Ï³ßñç³ÝáõÙ | M4: ²Ý³í³ñï ·áñÍ»ñÇ ÙÝ³óáñ¹Á Ñ³ßí»ïáõ Å³Ù³Ý³Ï³ßñç³ÝÇ í»ñçáõÙ | N4: ³Û¹ ÃíáõÙ ·ïÝíáõÙ »Ý í³ñáõÛÃáõÙ 3 ³ÙëÇó ³í»ÉÇ (Ï³ë»óí³Í ·áñÍ»ñÇ Ñ»ï Ù»Ïï»Õ) | O4: ¹³ï³å³ñïí³ÍÝ»ñ | P4: ³ñ¹³ñ³óí³ÍÝ»ñ | Q4: ³ÝÓÇÝù, áñáÝó í»ñ³µ»ñÛ³É ·áñÍ»ñÁ Ï³ñ×í»É »Ý | S4: ³ÝÙ»ÕëáõÝ³ÏÝ»ñ, áñáÝó ÝÏ³ïÙ³Ùµ ÏÇñ³éí»É »Ý µÅßÏ³Ï³Ý µÝáõÛÃÇ Ñ³ñÏ³¹ñ³Ï³Ý ÙÇçáóÝ»ñ | T4: ³ÝÓÇÝù, áñáÝó í»ñ³µ»ñÛ³É ·áñÍ»ñÁ Ñ³ÝÓÝí»É »Ý Éñ³óáõóÇã ùÝÝáõÃÛ³Ý
F5: ùÝÝ³ñÏí»É »Ý Áëï ¿áõÃÛ³Ý ¨ ¹³ï³í×Çé Ï³Û³óí»É | G5: ³Û¹ ÃíáõÙ 1 ³ÙëÇó ³í»ÉÇ Å³ÙÏ»ïáõÙ | H5: Ï³ñ×»É »Ý ³ÝûñÇÝ³Ï³Ý ¹³ï³Ï³Ý ÝÇëï»ñáõÙ | I5: ³ÝÙ»ÕëáõÝ³ÏÝ»ñÇ ÝÏ³ïÙ³Ùµ ÏÇñ³é»É »Ý µÅßÏ³Ï³Ý µÝáõÛÃÇ Ñ³ñÏ³¹ñ³Ï³Ý ÙÇçáóÝ»ñ | J5: Ñ³ÝÓÝí»É »Ý Éñ³óáõóÇã ùÝÝáõÃÛ³Ý ³ÝûñÇÝ³ Ï³Ý ¨ ¹³ï³Ï³Ý ÝÇëï | K5: Ñ³ÝÓÝí»É »Ý Áëï ÁÝ¹¹³ïáõÃÛ³Ý | L5: ÁÝ¹³Ù»ÝÁ ³í³ñïí»É »Ý ·áñÍ»ñ (3, 5-8 ëÛáõÝ³ÏÝ»ñÇ ·áõÙ³ñÁ) | Q5: ÁÝ¹³Ù»ÝÁ | R5: ³Û¹ ÃíáõÙ Ñ³Ýó³¹»åÇ Ï³Ù Ñ³Ýó³Ï³½ÙÇ µ³ó³Ï³ÛáõÃÛ³Ý ¨ Ù»Õ³¹ñ³ÝùÁ ã³å³óáõóí³Í ÉÇÝ»Éáõ å³ï×³éáí
D6: 1 | E6: 2 | F6: 3 | G6: 4 | H6: 5 | I6: 6 | J6: 7 | K6: 8 | L6: 9 | M6: 10 | N6: 11 | O6: 12 | P6: 13 | Q6: 14 | R6: 15 | S6: 16 | T6: 17
A7: 1, ²½·³ÛÇÝ ¨ é³ë³Û³Ï³Ý Çñ³í³Ñ³í³ë³ñáõÃÛáõÝÁ Ë³Ëï»ÉÁ
A8: ¶áõÛùÇ Ñ³÷ßï³ÏáõÙ Ï³ï³ñí³Í | B8: 1, ¶áÕáõÃÛ³Ý ÙÇçáóáí | C8: 177 | D8: 5 | E8: 16 | F8: 20 | K8: 1 | L8: 21 | O8: 31
B9: 2, ÎáÕáåáõïÇ ÙÇçáóáí | C9: 176
B10: 3, ²í³½³ÏáõÃÛ³Ý ÙÇçáóáí | C10: 175
B11: 4, Ê³ñ¹³ËáõÃÛ³Ý ÙÇçáóáí | C11: 178 | D11: 3 | E11: 4 | F11: 4 | J11: 1 | L11: 5 | M11: 2 | N11: 1 | O11: 6 | T11: 1
B12: 5, Úáõñ³óÝ»Éáõ, í³ïÝ»Éáõ Ï³Ù å³ßïáÝ³Ï³Ý ¹ÇñùÁ ã³ñ³ß³Ñ»Éáõ ÙÇçáóáí | C12: 179 | D12: 1 | E12: 2 | F12: 2 | L12: 2 | M12: 1 | O12: 3
A13: 7, ÞáñÃáõÙ | C13: 182 | D13: 2 | F13: 2 | L13: 2 | O13: 2
A14: 8, ¶áõÛùÁ ¹Çï³íáñáõÃÛ³Ùµ áãÝã³óÝ»ÉÁ Ï³Ù íÝ³ë»ÉÁ | C14: 185
A15: 9,¸Çï³íáñÛ³É ëå³ÝáõÃÛáõÝ | C15: 104 | D15: 2 | E15: 4 | F15: 3 | I15: 1 | K15: 1 | L15: 5 | M15: 1 | O15: 3 | S15: 1
A16: 10,¸Çï³íáñÛ³É Í³Ýñ Ù³ñÙÝ³Ï³Ý íÝ³ëí³Íù | C16: 112 | D16: 2 | E16: 3 | F16: 3 | J16: 1 | L16: 4 | M16: 1 | O16: 4 | T16: 1
A17: 11, ´éÝ³µ³ñáõÃÛáõÝ | C17: 138
A18: 12,Î³ß³é³Ï»ñáõÃÛáõÝ, Ï³ß³é³ïíáõÃÛáõÝ, Ï³ß³é³ïíáõÃÛ³Ý ÙÇçÝáñ¹áõÃÛáõÝ | C18: 311,312,313
A19: 13,ÊáõÉÇ·³ÝáõÃÛáõÝ | C19: 258 I | D19: 1 | F19: 1 | L19: 1 | O19: 1
A20: 14,â³ñ³ÙÇï ËáõÉÇ·³ÝáõÃÛáõÝ | C20: 258 II
A21: 15, ²é³ÝÓÝ³å»ë ã³ñ³ÙÇï ËáõÉÇ·³ÝáõÃÛáõÝ | C21: 258 III | E21: 1 | M21: 1
A22: 16,¼»Ýù ·áñÍ³¹ñ»Éáõ Ï³Ù ³ÛÝ ·áñÍ³¹ñ»Éáõ ÷áñÓáí ËáõÉÇ·³Ý | C22: 258 IV | E22: 1 | F22: 1 | L22: 1 | O22: 1
A23: 17,îñ³Ýëåáñï³ÛÇÝ ÙÇçáóÝ»ñÇ »ñÃ¨»ÏáõÃÛ³Ý ³Ýíï³Ý·áõÃÛ³Ý ¨ ß³Ñ³·áñßÙ³Ý Ï³ÝáÝÝ»ñÇ Ë³ËïáõÙ | C23: 242 | D23: 1 | E23: 2 | F23: 3 | L23: 3 | O23: 3
A24: 18, ÂÙñ³¹»Õ»ñÇ Ñ»ï Ï³åí³Í Ñ³Ýó³·áñÍáõÃÛáõÝÝ»ñ | C24: 266, 268, 269,271, 272, 273, 276 | D24: 5 | E24: 8 | F24: 7 | H24: 1 | K24: 1 | L24: 9 | M24: 4 | N24: 1 | O24: 11 | Q24: 1
A25: 19,²åûñÇÝÇ Ï»ñåáí é³½Ù³ÙÃ»ñù Ï³Ù å³ÛÃáõóÇÏ ÝÛáõÃ»ñ Ïñ»ÉÁ | C25: 235 | E25: 3 | F25: 2 | L25: 2 | M25: 1 | O25: 2
A26: 20, ²ÛÉ Ñ³Ýó³·áñÍáõÃÛáõÝÝ»ñ | D26: 4 | E26: 10 | F26: 8 | H26: 2 | K26: 1 | L26: 11 | M26: 3 | N26: 2 | O26: 8 | Q26: 2
A27: 21, ÀÜ¸²ØºÜÀ | D27: =SUM(D8:D26) -> 26 | E27: =SUM(E8:E26) -> 54 | F27: =SUM(F8:F26) -> 56 | H27: =SUM(H8:H26) -> 3 | I27: =SUM(I8:I26) -> 1 | J27: =SUM(J8:J26) -> 2 | K27: =SUM(K8:K26) -> 4 | L27: =SUM(L8:L26) -> 66 | M27: =SUM(M8:M26) -> 14 | N27: =SUM(N8:N26) -> 4 | O27: =SUM(O8:O26) -> 75 | Q27: =SUM(Q8:Q26) -> 3 | S27: =SUM(S8:S26) -> 1 | T27: =SUM(T8:T26) -> 2
A28: 22, ²Û¹ ÃíáõÙ` ³Ýã³÷³Ñ³ëÝ»ñÇ í»ñ³µ»ñÛ³É ·áñÍ»ñáí | E28: 4 | F28: 4 | L28: 4 | O28: 4

Sheet Avan
A1: Ð³ßí»ïíáõÃÛáõÝ
A2: ºñ¨³Ý ù³Õ³ùÇ ²í³Ý ¨ Üáñù-Ø³ñ³ß Ñ³Ù³ÛÝùÝ»ñÇ ³é³çÇÝ ³ïÛ³ÝÇ ¹³ï³ñ³ÝÇ ùñ»³Ï³Ý ·áñÍ»ñÇ ùÝÝáõÃÛ³Ý í»ñ³µ»ñÛ³É 2007Ã 1-ÇÝ ÏÇë³ÙÛ³ÏÇ Ñ³Ù³ñ
A3: êïáõ·Çã Ñ³í³ë³ñáõÙÝ»ñ §²¦ µ³ÅÝÇ í»ñ³µ»ñÛ³É 1 ¨ 2 ëÛáõÝ³ÏÝ»ñÇ Ãí»ñÇ ·áõÙ³ñÁ Ñ³í³ë³ñ ¿ 9 ¨ 10 ëÛáõÝ³ÏÝ»ñÇ Ãí»ñÇ ·áõÙ³ñÇÝ | C3: ÐÐ ùñ»³Ï³Ý ûñ»Ýë·ñùÇ Ñá¹í³ÍÝ»ñ | D3: ²Ý³í³ñï ·áñÍ»ñÇ ÙÝ³óáñ¹Á Ñ³ßí»ïáõ Å³Ù³Ý³Ï³ßñç³ÝÇ ëÏ½µáõÙ | E3: êï³óí»É »Ý ·áñÍ»ñ Ñ³ßí»ïáõ Å³Ù³Ý³Ï³ßñç³ÝáõÙ | F3: ² øñ»³Ï³Ý ·áñÍ»ñÇ ß³ñÅÁ | O3: Ð³ßí»ïáõ Å³Ù³Ý³Ï³ßñç³ÝáõÙ ·áñÍ»ñáí »Õ»É »Ý (3, 5, 6, 7 ëÛáõÝ³Ï)
F4: ²í³ñïí»É »Ý ·áñÍ»ñ Ñ³ßí»ïáõ Å³Ù³Ý³Ï³ßñç³ÝáõÙ | M4: ²Ý³í³ñï ·áñÍ»ñÇ ÙÝ³óáñ¹Á Ñ³ßí»ïáõ Å³Ù³Ý³Ï³ßñç³ÝÇ í»ñçáõÙ | N4: ³Û¹ ÃíáõÙ ·ïÝíáõÙ »Ý í³ñáõÛÃáõÙ 3 ³ÙëÇó ³í»ÉÇ (Ï³ë»óí³Í ·áñÍ»ñÇ Ñ»ï Ù»Ïï»Õ) | O4: ¹³ï³å³ñïí³ÍÝ»ñ | P4: ³ñ¹³ñ³óí³ÍÝ»ñ | Q4: ³ÝÓÇÝù, áñáÝó í»ñ³µ»ñÛ³É ·áñÍ»ñÁ Ï³ñ×í»É »Ý | S4: ³ÝÙ»ÕëáõÝ³ÏÝ»ñ, áñáÝó ÝÏ³ïÙ³Ùµ ÏÇñ³éí»É »Ý µÅßÏ³Ï³Ý µÝáõÛÃÇ Ñ³ñÏ³¹ñ³Ï³Ý ÙÇçáóÝ»ñ | T4: ³ÝÓÇÝù, áñáÝó í»ñ³µ»ñÛ³É ·áñÍ»ñÁ Ñ³ÝÓÝí»É »Ý Éñ³óáõóÇã ùÝÝáõÃÛ³Ý
F5: ùÝÝ³ñÏí»É »Ý Áëï ¿áõÃÛ³Ý ¨ ¹³ï³í×Çé Ï³Û³óí»É | G5: ³Û¹ ÃíáõÙ 1 ³ÙëÇó ³í»ÉÇ Å³ÙÏ»ïáõÙ | H5: Ï³ñ×»É »Ý ³ÝûñÇÝ³Ï³Ý ¹³ï³Ï³Ý ÝÇëï»ñáõÙ | I5: ³ÝÙ»ÕëáõÝ³ÏÝ»ñÇ ÝÏ³ïÙ³Ùµ ÏÇñ³é»É »Ý µÅßÏ³Ï³Ý µÝáõÛÃÇ Ñ³ñÏ³¹ñ³Ï³Ý ÙÇçáóÝ»ñ | J5: Ñ³ÝÓÝí»É »Ý Éñ³óáõóÇã ùÝÝáõÃÛ³Ý ³ÝûñÇÝ³ Ï³Ý ¨ ¹³ï³Ï³Ý ÝÇëï | K5: Ñ³ÝÓÝí»É »Ý Áëï ÁÝ¹¹³ïáõÃÛ³Ý | L5: ÁÝ¹³Ù»ÝÁ ³í³ñïí»É »Ý ·áñÍ»ñ (3, 5-8 ëÛáõÝ³ÏÝ»ñÇ ·áõÙ³ñÁ) | Q5: ÁÝ¹³Ù»ÝÁ | R5: ³Û¹ ÃíáõÙ Ñ³Ýó³¹»åÇ Ï³Ù Ñ³Ýó³Ï³½ÙÇ µ³ó³Ï³ÛáõÃÛ³Ý ¨ Ù»Õ³¹ñ³ÝùÁ ã³å³óáõóí³Í ÉÇÝ»Éáõ å³ï×³éáí
D6: 1 | E6: 2 | F6: 3 | G6: 4 | H6: 5 | I6: 6 | J6: 7 | K6: 8 | L6: 9 | M6: 10 | N6: 11 | O6: 12 | P6: 13 | Q6: 14 | R6: 15 | S6: 16 | T6: 17
A7: 1, ²½·³ÛÇÝ ¨ é³ë³Û³Ï³Ý Çñ³í³Ñ³í³ë³ñáõÃÛáõÝÁ Ë³Ëï»ÉÁ
A8: ¶áõÛùÇ Ñ³÷ßï³ÏáõÙ Ï³ï³ñí³Í | B8: 1, ¶áÕáõÃÛ³Ý ÙÇçáóáí | C8: 177 | D8: 4 | E8: 9 | F8: 9 | H8: 1 | L8: 10 | M8: 3 | O8: 14 | Q8: 1 | R8: 1
B9: 2, ÎáÕáåáõïÇ ÙÇçáóáí | C9: 176 | D9: 3 | E9: 4 | F9: 7 | L9: 7 | O9: 8
B10: 3, ²í³½³ÏáõÃÛ³Ý ÙÇçáóáí | C10: 175 | D10: 2 | E10: 1 | F10: 3 | L10: 3 | O10: 3
B11: 4, Ê³ñ¹³ËáõÃÛ³Ý ÙÇçáóáí | C11: 178 | D11: 1 | E11: 2 | F11: 2 | L11: 2 | M11: 1 | O11: 2
B12: 5, Úáõñ³óÝ»Éáõ, í³ïÝ»Éáõ Ï³Ù å³ßïáÝ³Ï³Ý ¹ÇñùÁ ã³ñ³ß³Ñ»Éáõ ÙÇçáóáí | C12: 179
A13: 7, ÞáñÃáõÙ | C13: 182
A14: 8, ¶áõÛùÁ ¹Çï³íáñáõÃÛ³Ùµ áãÝã³óÝ»ÉÁ Ï³Ù íÝ³ë»ÉÁ | C14: 185 | E14: 1 | F14: 1 | L14: 1 | O14: 1
A15: 9,¸Çï³íáñÛ³É ëå³ÝáõÃÛáõÝ | C15: 104 | D15: 2 | E15: 1 | M15: 3
A16: 10,¸Çï³íáñÛ³É Í³Ýñ Ù³ñÙÝ³Ï³Ý íÝ³ëí³Íù | C16: 112 | D16: 3 | E16: 2 | F16: 1 | J16: 1 | L16: 2 | M16: 3 | O16: 1 | Q16: 2 | T16: 2
A17: 11, ´éÝ³µ³ñáõÃÛáõÝ | C17: 138 | E17: 1 | F17: 1 | L17: 1 | O17: 1
A18: 12,Î³ß³é³Ï»ñáõÃÛáõÝ, Ï³ß³é³ïíáõÃÛáõÝ, Ï³ß³é³ïíáõÃÛ³Ý ÙÇçÝáñ¹áõÃÛáõÝ | C18: 311,312,313
A19: 13,ÊáõÉÇ·³ÝáõÃÛáõÝ | C19: 258 I
A20: 14,â³ñ³ÙÇï ËáõÉÇ·³ÝáõÃÛáõÝ | C20: 258 II
A21: 15, ²é³ÝÓÝ³å»ë ã³ñ³ÙÇï ËáõÉÇ·³ÝáõÃÛáõÝ | C21: 258 III | D21: 2 | E21: 2 | F21: 4 | L21: 4 | O21: 8
A22: 16,¼»Ýù ·áñÍ³¹ñ»Éáõ Ï³Ù ³ÛÝ ·áñÍ³¹ñ»Éáõ ÷áñÓáí ËáõÉÇ·³Ý | C22: 258 IV
A23: 17,îñ³Ýëåáñï³ÛÇÝ ÙÇçáóÝ»ñÇ »ñÃ¨»ÏáõÃÛ³Ý ³Ýíï³Ý·áõÃÛ³Ý ¨ ß³Ñ³·áñßÙ³Ý Ï³ÝáÝÝ»ñÇ Ë³ËïáõÙ | C23: 242 | E23: 7 | F23: 5 | H23: 2 | L23: 7 | O23: 5 | Q23: 2 | R23: 2
A24: 18, ÂÙñ³¹»Õ»ñÇ Ñ»ï Ï³åí³Í Ñ³Ýó³·áñÍáõÃÛáõÝÝ»ñ | C24: 266, 268, 269,271, 272, 273, 276 | D24: 4 | E24: 7 | F24: 6 | J24: 1 | L24: 7 | M24: 4 | O24: 9 | Q24: 2 | T24: 2
A25: 19,²åûñÇÝÇ Ï»ñåáí é³½Ù³ÙÃ»ñù Ï³Ù å³ÛÃáõóÇÏ ÝÛáõÃ»ñ Ïñ»ÉÁ | C25: 235 | E25: 3 | F25: 3 | L25: 3 | O25: 3
A26: 20, ²ÛÉ Ñ³Ýó³·áñÍáõÃÛáõÝÝ»ñ | D26: 4 | E26: 9 | F26: 9 | L26: 9 | M26: 4 | O26: 12
A27: 21, ÀÜ¸²ØºÜÀ | D27: =SUM(D8:D26) -> 25 | E27: =SUM(E8:E26) -> 49 | F27: =SUM(F8:F26) -> 51 | H27: =SUM(H8:H26) -> 3 | J27: =SUM(J8:J26) -> 2 | L27: =SUM(L8:L26) -> 56 | M27: =SUM(M8:M26) -> 18 | O27: =SUM(O8:O26) -> 67 | Q27: =SUM(Q8:Q26) -> 7 | R27: =SUM(R8:R26) -> 3 | T27: =SUM(T8:T26) -> 4
A28: 22, ²Û¹ ÃíáõÙ` ³Ýã³÷³Ñ³ëÝ»ñÇ í»ñ³µ»ñÛ³É ·áñÍ»ñáí | D28: 2 | E28: 4 | F28: 6 | L28: 6 | O28: 7

Sheet Malatia
A1: Ð³ßí»ïíáõÃÛáõÝ
A2: ºñ¨³Ý ù³Õ³ùÇ Ø³É³ÃÇ³-ê»µ³ëïÇ³ Ñ³Ù³ÛÝùÇ ³é³çÇÝ ³ïÛ³ÝÇ ¹³ï³ñ³ÝÇ ùñ»³Ï³Ý ·áñÍ»ñÇ ùÝÝáõÃÛ³Ý í»ñ³µ»ñÛ³É 2007Ã.1-ÇÝ ÏÇë³ÙÛ³ÏÇ Ñ³Ù³ñ
A3: êïáõ·Çã Ñ³í³ë³ñáõÙÝ»ñ §²¦ µ³ÅÝÇ í»ñ³µ»ñÛ³É 1 ¨ 2 ëÛáõÝ³ÏÝ»ñÇ Ãí»ñÇ ·áõÙ³ñÁ Ñ³í³ë³ñ ¿ 9 ¨ 10 ëÛáõÝ³ÏÝ»ñÇ Ãí»ñÇ ·áõÙ³ñÇÝ | C3: ÐÐ ùñ»³Ï³Ý ûñ»Ýë·ñùÇ Ñá¹í³ÍÝ»ñ | D3: ²Ý³í³ñï ·áñÍ»ñÇ ÙÝ³óáñ¹Á Ñ³ßí»ïáõ Å³Ù³Ý³Ï³ßñç³ÝÇ ëÏ½µáõÙ | E3: êï³óí»É »Ý ·áñÍ»ñ Ñ³ßí»ïáõ Å³Ù³Ý³Ï³ßñç³ÝáõÙ | F3: ² øñ»³Ï³Ý ·áñÍ»ñÇ ß³ñÅÁ | O3: Ð³ßí»ïáõ Å³Ù³Ý³Ï³ßñç³ÝáõÙ ·áñÍ»ñáí »Õ»É »Ý (3, 5, 6, 7 ëÛáõÝ³Ï)
F4: ²í³ñïí»É »Ý ·áñÍ»ñ Ñ³ßí»ïáõ Å³Ù³Ý³Ï³ßñç³ÝáõÙ | M4: ²Ý³í³ñï ·áñÍ»ñÇ ÙÝ³óáñ¹Á Ñ³ßí»ïáõ Å³Ù³Ý³Ï³ßñç³ÝÇ í»ñçáõÙ | N4: ³Û¹ ÃíáõÙ ·ïÝíáõÙ »Ý í³ñáõÛÃáõÙ 3 ³ÙëÇó ³í»ÉÇ (Ï³ë»óí³Í ·áñÍ»ñÇ Ñ»ï Ù»Ïï»Õ) | O4: ¹³ï³å³ñïí³ÍÝ»ñ | P4: ³ñ¹³ñ³óí³ÍÝ»ñ | Q4: ³ÝÓÇÝù, áñáÝó í»ñ³µ»ñÛ³É ·áñÍ»ñÁ Ï³ñ×í»É »Ý | S4: ³ÝÙ»ÕëáõÝ³ÏÝ»ñ, áñáÝó ÝÏ³ïÙ³Ùµ ÏÇñ³éí»É »Ý µÅßÏ³Ï³Ý µÝáõÛÃÇ Ñ³ñÏ³¹ñ³Ï³Ý ÙÇçáóÝ»ñ | T4: ³ÝÓÇÝù, áñáÝó í»ñ³µ»ñÛ³É ·áñÍ»ñÁ Ñ³ÝÓÝí»É »Ý Éñ³óáõóÇã ùÝÝáõÃÛ³Ý
F5: ùÝÝ³ñÏí»É »Ý Áëï ¿áõÃÛ³Ý ¨ ¹³ï³í×Çé Ï³Û³óí»É | G5: ³Û¹ ÃíáõÙ 1 ³ÙëÇó ³í»ÉÇ Å³ÙÏ»ïáõÙ | H5: Ï³ñ×»É »Ý ³ÝûñÇÝ³Ï³Ý ¹³ï³Ï³Ý ÝÇëï»ñáõÙ | I5: ³ÝÙ»ÕëáõÝ³ÏÝ»ñÇ ÝÏ³ïÙ³Ùµ ÏÇñ³é»É »Ý µÅßÏ³Ï³Ý µÝáõÛÃÇ Ñ³ñÏ³¹ñ³Ï³Ý ÙÇçáóÝ»ñ | J5: Ñ³ÝÓÝí»É »Ý Éñ³óáõóÇã ùÝÝáõÃÛ³Ý ³ÝûñÇÝ³ Ï³Ý ¨ ¹³ï³Ï³Ý ÝÇëï | K5: Ñ³ÝÓÝí»É »Ý Áëï ÁÝ¹¹³ïáõÃÛ³Ý | L5: ÁÝ¹³Ù»ÝÁ ³í³ñïí»É »Ý ·áñÍ»ñ (3, 5-8 ëÛáõÝ³ÏÝ»ñÇ ·áõÙ³ñÁ) | Q5: ÁÝ¹³Ù»ÝÁ | R5: ³Û¹ ÃíáõÙ Ñ³Ýó³¹»åÇ Ï³Ù Ñ³Ýó³Ï³½ÙÇ µ³ó³Ï³ÛáõÃÛ³Ý ¨ Ù»Õ³¹ñ³ÝùÁ ã³å³óáõóí³Í ÉÇÝ»Éáõ å³ï×³éáí
D6: 1 | E6: 2 | F6: 3 | G6: 4 | H6: 5 | I6: 6 | J6: 7 | K6: 8 | L6: 9 | M6: 10 | N6: 11 | O6: 12 | P6: 13 | Q6: 14 | R6: 15 | S6: 16 | T6: 17
A7: 1, ²½·³ÛÇÝ ¨ é³ë³Û³Ï³Ý Çñ³í³Ñ³í³ë³ñáõÃÛáõÝÁ Ë³Ëï»ÉÁ
A8: ¶áõÛùÇ Ñ³÷ßï³ÏáõÙ Ï³ï³ñí³Í | B8: 1, ¶áÕáõÃÛ³Ý ÙÇçáóáí | C8: 177 | D8: 7 | E8: 15 | F8: 21 | H8: 1 | L8: 22 | O8: 37 | Q8: 1
B9: 2, ÎáÕáåáõïÇ ÙÇçáóáí | C9: 176 | D9: 1 | F9: 1 | L9: 1 | O9: 1
B10: 3, ²í³½³ÏáõÃÛ³Ý ÙÇçáóáí | C10: 175 | D10: 2 | E10: 2 | F10: 4 | L10: 4 | O10: 10
B11: 4, Ê³ñ¹³ËáõÃÛ³Ý ÙÇçáóáí | C11: 178 | D11: 2 | E11: 4 | F11: 3 | L11: 3 | M11: 3 | N11: 1 | O11: 3
B12: 5, Úáõñ³óÝ»Éáõ, í³ïÝ»Éáõ Ï³Ù å³ßïáÝ³Ï³Ý ¹ÇñùÁ ã³ñ³ß³Ñ»Éáõ ÙÇçáóáí | C12: 179 | E12: 2 | F12: 1 | L12: 1 | M12: 1 | O12: 1
A13: 7, ÞáñÃáõÙ | C13: 182
A14: 8, ¶áõÛùÁ ¹Çï³íáñáõÃÛ³Ùµ áãÝã³óÝ»ÉÁ Ï³Ù íÝ³ë»ÉÁ | C14: 185
A15: 9,¸Çï³íáñÛ³É ëå³ÝáõÃÛáõÝ | C15: 104 | D15: 1 | E15: 2 | F15: 2 | L15: 2 | M15: 1 | N15: 1 | O15: 2
A16: 10,¸Çï³íáñÛ³É Í³Ýñ Ù³ñÙÝ³Ï³Ý íÝ³ëí³Íù | C16: 112 | E16: 2 | F16: 1 | L16: 1 | M16: 1 | O16: 1
A17: 11, ´éÝ³µ³ñáõÃÛáõÝ | C17: 138
A18: 12,Î³ß³é³Ï»ñáõÃÛáõÝ, Ï³ß³é³ïíáõÃÛáõÝ, Ï³ß³é³ïíáõÃÛ³Ý ÙÇçÝáñ¹áõÃÛáõÝ | C18: 311,312,313
A19: 13,ÊáõÉÇ·³ÝáõÃÛáõÝ | C19: 258 I | E19: 1 | F19: 1 | L19: 1 | O19: 1
A20: 14,â³ñ³ÙÇï ËáõÉÇ·³ÝáõÃÛáõÝ | C20: 258 II
A21: 15, ²é³ÝÓÝ³å»ë ã³ñ³ÙÇï ËáõÉÇ·³ÝáõÃÛáõÝ | C21: 258 III
A22: 16,¼»Ýù ·áñÍ³¹ñ»Éáõ Ï³Ù ³ÛÝ ·áñÍ³¹ñ»Éáõ ÷áñÓáí ËáõÉÇ·³Ý | C22: 258 IV | D22: 1 | E22: 1 | F22: 2 | L22: 2 | O22: 4
A23: 17,îñ³Ýëåáñï³ÛÇÝ ÙÇçáóÝ»ñÇ »ñÃ¨»ÏáõÃÛ³Ý ³Ýíï³Ý·áõÃÛ³Ý ¨ ß³Ñ³·áñßÙ³Ý Ï³ÝáÝÝ»ñÇ Ë³ËïáõÙ | C23: 242 | D23: 2 | E23: 5 | F23: 6 | L23: 6 | M23: 1 | O23: 6
A24: 18, ÂÙñ³¹»Õ»ñÇ Ñ»ï Ï³åí³Í Ñ³Ýó³·áñÍáõÃÛáõÝÝ»ñ | C24: 266, 268, 269,271, 272, 273, 276 | D24: 3 | E24: 3 | F24: 4 | L24: 4 | M24: 2 | N24: 1 | O24: 9
A25: 19,²åûñÇÝÇ Ï»ñåáí é³½Ù³ÙÃ»ñù Ï³Ù å³ÛÃáõóÇÏ ÝÛáõÃ»ñ Ïñ»ÉÁ | C25: 235
A26: 20, ²ÛÉ Ñ³Ýó³·áñÍáõÃÛáõÝÝ»ñ | D26: 10 | E26: 18 | F26: 26 | H26: 1 | L26: 27 | M26: 1 | N26: 1 | O26: 51 | Q26: 3
A27: 21, ÀÜ¸²ØºÜÀ | D27: =SUM(D8:D26) -> 29 | E27: =SUM(E8:E26) -> 55 | F27: =SUM(F8:F26) -> 72 | H27: =SUM(H8:H26) -> 2 | L27: =SUM(L8:L26) -> 74 | M27: =SUM(M8:M26) -> 10 | N27: =SUM(N8:N26) -> 4 | O27: =SUM(O8:O26) -> 126 | Q27: =SUM(Q8:Q26) -> 4
A28: 22, ²Û¹ ÃíáõÙ` ³Ýã³÷³Ñ³ëÝ»ñÇ í»ñ³µ»ñÛ³É ·áñÍ»ñáí | D28: 1 | E28: 6 | F28: 6 | H28: 1 | L28: 7 | O28: 7 | Q28: 1

Sheet Marzer
A1: Ð³ßí»ïíáõÃÛáõÝ
A2: ÐÐ Ù³ñ½»ñÇ ³é³çÇÝ ³ïÛ³ÝÇ ¹³ï³ñ³ÝÝ»ñÇ ùñ»³Ï³Ý ·áñÍ»ñÇ ùÝÝáõÃÛ³Ý í»ñ³µ»ñÛ³É 2007Ã. Ñ³Ù³ñ
A3: êïáõ·Çã Ñ³í³ë³ñáõÙÝ»ñ §²¦ µ³ÅÝÇ í»ñ³µ»ñÛ³É 1 ¨ 2 ëÛáõÝ³ÏÝ»ñÇ Ãí»ñÇ ·áõÙ³ñÁ Ñ³í³ë³ñ ¿ 9 ¨ 10 ëÛáõÝ³ÏÝ»ñÇ Ãí»ñÇ ·áõÙ³ñÇÝ | C3: ÐÐ ùñ»³Ï³Ý ûñ»Ýë·ñùÇ Ñá¹í³ÍÝ»ñ | D3: ²Ý³í³ñï ·áñÍ»ñÇ ÙÝ³óáñ¹Á Ñ³ßí»ïáõ Å³Ù³Ý³Ï³ßñç³ÝÇ ëÏ½µáõÙ | E3: êï³óí»É »Ý ·áñÍ»ñ Ñ³ßí»ïáõ Å³Ù³Ý³Ï³ßñç³ÝáõÙ | F3: ² øñ»³Ï³Ý ·áñÍ»ñÇ ß³ñÅÁ | O3: Ð³ßí»ïáõ Å³Ù³Ý³Ï³ßñç³ÝáõÙ ·áñÍ»ñáí »Õ»É »Ý (3, 5, 6, 7 ëÛáõÝ³Ï)
F4: ²í³ñïí»É »Ý ·áñÍ»ñ Ñ³ßí»ïáõ Å³Ù³Ý³Ï³ßñç³ÝáõÙ | M4: ²Ý³í³ñï ·áñÍ»ñÇ ÙÝ³óáñ¹Á Ñ³ßí»ïáõ Å³Ù³Ý³Ï³ßñç³ÝÇ í»ñçáõÙ | N4: ³Û¹ ÃíáõÙ ·ïÝíáõÙ »Ý í³ñáõÛÃáõÙ 3 ³ÙëÇó ³í»ÉÇ (Ï³ë»óí³Í ·áñÍ»ñÇ Ñ»ï Ù»Ïï»Õ) | O4: ¹³ï³å³ñïí³ÍÝ»ñ | P4: ³ñ¹³ñ³óí³ÍÝ»ñ | Q4: ³ÝÓÇÝù, áñáÝó í»ñ³µ»ñÛ³É ·áñÍ»ñÁ Ï³ñ×í»É »Ý | S4: ³ÝÙ»ÕëáõÝ³ÏÝ»ñ, áñáÝó ÝÏ³ïÙ³Ùµ ÏÇñ³éí»É »Ý µÅßÏ³Ï³Ý µÝáõÛÃÇ Ñ³ñÏ³¹ñ³Ï³Ý ÙÇçáóÝ»ñ | T4: ³ÝÓÇÝù, áñáÝó í»ñ³µ»ñÛ³É ·áñÍ»ñÁ Ñ³ÝÓÝí»É »Ý Éñ³óáõóÇã ùÝÝáõÃÛ³Ý
F5: ùÝÝ³ñÏí»É »Ý Áëï ¿áõÃÛ³Ý ¨ ¹³ï³í×Çé Ï³Û³óí»É | G5: ³Û¹ ÃíáõÙ 1 ³ÙëÇó ³í»ÉÇ Å³ÙÏ»ïáõÙ | H5: Ï³ñ×»É »Ý ³ÝûñÇÝ³Ï³Ý ¹³ï³Ï³Ý ÝÇëï»ñáõÙ | I5: ³ÝÙ»ÕëáõÝ³ÏÝ»ñÇ ÝÏ³ïÙ³Ùµ ÏÇñ³é»É »Ý µÅßÏ³Ï³Ý µÝáõÛÃÇ Ñ³ñÏ³¹ñ³Ï³Ý ÙÇçáóÝ»ñ | J5: Ñ³ÝÓÝí»É »Ý Éñ³óáõóÇã ùÝÝáõÃÛ³Ý ³ÝûñÇÝ³ Ï³Ý ¨ ¹³ï³Ï³Ý ÝÇëï | K5: Ñ³ÝÓÝí»É »Ý Áëï ÁÝ¹¹³ïáõÃÛ³Ý | L5: ÁÝ¹³Ù»ÝÁ ³í³ñïí»É »Ý ·áñÍ»ñ (3, 5-8 ëÛáõÝ³ÏÝ»ñÇ ·áõÙ³ñÁ) | Q5: ÁÝ¹³Ù»ÝÁ | R5: ³Û¹ ÃíáõÙ Ñ³Ýó³¹»åÇ Ï³Ù Ñ³Ýó³Ï³½ÙÇ µ³ó³Ï³ÛáõÃÛ³Ý ¨ Ù»Õ³¹ñ³ÝùÁ ã³å³óáõóí³Í ÉÇÝ»Éáõ å³ï×³éáí
D6: 1 | E6: 2 | F6: 3 | G6: 4 | H6: 5 | I6: 6 | J6: 7 | K6: 8 | L6: 9 | M6: 10 | N6: 11 | O6: 12 | P6: 13 | Q6: 14 | R6: 15 | S6: 16 | T6: 17
A7: 1, ²½·³ÛÇÝ ¨ é³ë³Û³Ï³Ý Çñ³í³Ñ³í³ë³ñáõÃÛáõÝÁ Ë³Ëï»ÉÁ | D7: =SUM(Shirak!D7+VDz!D7+Sunik!D7+Gex!D7+Lori!D7+Kotaik!D7+Armavir!D7+Ararat!D7+Aragacotn!D7+Tavush!D7) -> 0 | E7: =SUM(Shirak!E7+VDz!E7+Sunik!E7+Gex!E7+Lori!E7+Kotaik!E7+Armavir!E7+Ararat!E7+Aragacotn!E7+Tavush!E7) -> 0 | F7: =SUM(Shirak!F7+VDz!F7+Sunik!F7+Gex!F7+Lori!F7+Kotaik!F7+Armavir!F7+Ararat!F7+Aragacotn!F7+Tavush!F7) -> 0 | G7: =SUM(Shirak!G7+VDz!G7+Sunik!G7+Gex!G7+Lori!G7+Kotaik!G7+Armavir!G7+Ararat!G7+Aragacotn!G7+Tavush!G7) -> 0 | H7: =SUM(Shirak!H7+VDz!H7+Sunik!H7+Gex!H7+Lori!H7+Kotaik!H7+Armavir!H7+Ararat!H7+Aragacotn!H7+Tavush!H7) -> 0 | I7: =SUM(Shirak!I7+VDz!I7+Sunik!I7+Gex!I7+Lori!I7+Kotaik!I7+Armavir!I7+Ararat!I7+Aragacotn!I7+Tavush!I7) -> 0 | J7: =SUM(Shirak!J7+VDz!J7+Sunik!J7+Gex!J7+Lori!J7+Kotaik!J7+Armavir!J7+Ararat!J7+Aragacotn!J7+Tavush!J7) -> 0 | K7: =SUM(Shirak!K7+VDz!K7+Sunik!K7+Gex!K7+Lori!K7+Kotaik!K7+Armavir!K7+Ararat!K7+Aragacotn!K7+Tavush!K7) -> 0 | ... T7: =SUM(Shirak!T7+VDz!T7+Sunik!T7+Gex!T7+Lori!T7+Kotaik!T7+Armavir!T7+Ararat!T7+Aragacotn!T7+Tavush!T7) -> 0
A8: ¶áõÛùÇ Ñ³÷ßï³ÏáõÙ Ï³ï³ñí³Í | B8: 1, ¶áÕáõÃÛ³Ý ÙÇçáóáí | C8: 177 | D8: =SUM(Shirak!D8+VDz!D8+Sunik!D8+Gex!D8+Lori!D8+Kotaik!D8+Armavir!D8+Ararat!D8+Aragacotn!D8+Tavush!D8) -> 47 | E8: =SUM(Shirak!E8+VDz!E8+Sunik!E8+Gex!E8+Lori!E8+Kotaik!E8+Armavir!E8+Ararat!E8+Aragacotn!E8+Tavush!E8) -> 199 | F8: =SUM(Shirak!F8+VDz!F8+Sunik!F8+Gex!F8+Lori!F8+Kotaik!F8+Armavir!F8+Ararat!F8+Aragacotn!F8+Tavush!F8) -> 183 | G8: =SUM(Shirak!G8+VDz!G8+Sunik!G8+Gex!G8+Lori!G8+Kotaik!G8+Armavir!G8+Ararat!G8+Aragacotn!G8+Tavush!G8) -> 4 | H8: =SUM(Shirak!H8+VDz!H8+Sunik!H8+Gex!H8+Lori!H8+Kotaik!H8+Armavir!H8+Ararat!H8+Aragacotn!H8+Tavush!H8) -> 8 | I8: =SUM(Shirak!I8+VDz!I8+Sunik!I8+Gex!I8+Lori!I8+Kotaik!I8+Armavir!I8+Ararat!I8+Aragacotn!I8+Tavush!I8) -> 1 | J8: =SUM(Shirak!J8+VDz!J8+Sunik!J8+Gex!J8+Lori!J8+Kotaik!J8+Armavir!J8+Ararat!J8+Aragacotn!J8+Tavush!J8) -> 1 | K8: =SUM(Shirak!K8+VDz!K8+Sunik!K8+Gex!K8+Lori!K8+Kotaik!K8+Armavir!K8+Ararat!K8+Aragacotn!K8+Tavush!K8) -> 3 | ... T8: =SUM(Shirak!T8+VDz!T8+Sunik!T8+Gex!T8+Lori!T8+Kotaik!T8+Armavir!T8+Ararat!T8+Aragacotn!T8+Tavush!T8) -> 2
B9: 2, ÎáÕáåáõïÇ ÙÇçáóáí | C9: 176 | D9: =SUM(Shirak!D9+VDz!D9+Sunik!D9+Gex!D9+Lori!D9+Kotaik!D9+Armavir!D9+Ararat!D9+Aragacotn!D9+Tavush!D9) -> 4 | E9: =SUM(Shirak!E9+VDz!E9+Sunik!E9+Gex!E9+Lori!E9+Kotaik!E9+Armavir!E9+Ararat!E9+Aragacotn!E9+Tavush!E9) -> 13 | F9: =SUM(Shirak!F9+VDz!F9+Sunik!F9+Gex!F9+Lori!F9+Kotaik!F9+Armavir!F9+Ararat!F9+Aragacotn!F9+Tavush!F9) -> 14 | G9: =SUM(Shirak!G9+VDz!G9+Sunik!G9+Gex!G9+Lori!G9+Kotaik!G9+Armavir!G9+Ararat!G9+Aragacotn!G9+Tavush!G9) -> 1 | H9: =SUM(Shirak!H9+VDz!H9+Sunik!H9+Gex!H9+Lori!H9+Kotaik!H9+Armavir!H9+Ararat!H9+Aragacotn!H9+Tavush!H9) -> 0 | I9: =SUM(Shirak!I9+VDz!I9+Sunik!I9+Gex!I9+Lori!I9+Kotaik!I9+Armavir!I9+Ararat!I9+Aragacotn!I9+Tavush!I9) -> 0 | J9: =SUM(Shirak!J9+VDz!J9+Sunik!J9+Gex!J9+Lori!J9+Kotaik!J9+Armavir!J9+Ararat!J9+Aragacotn!J9+Tavush!J9) -> 0 | K9: =SUM(Shirak!K9+VDz!K9+Sunik!K9+Gex!K9+Lori!K9+Kotaik!K9+Armavir!K9+Ararat!K9+Aragacotn!K9+Tavush!K9) -> 0 | ... T9: =SUM(Shirak!T9+VDz!T9+Sunik!T9+Gex!T9+Lori!T9+Kotaik!T9+Armavir!T9+Ararat!T9+Aragacotn!T9+Tavush!T9) -> 0
B10: 3, ²í³½³ÏáõÃÛ³Ý ÙÇçáóáí | C10: 175 | D10: =SUM(Shirak!D10+VDz!D10+Sunik!D10+Gex!D10+Lori!D10+Kotaik!D10+Armavir!D10+Ararat!D10+Aragacotn!D10+Tavush!D10) -> 5 | E10: =SUM(Shirak!E10+VDz!E10+Sunik!E10+Gex!E10+Lori!E10+Kotaik!E10+Armavir!E10+Ararat!E10+Aragacotn!E10+Tavush!E10) -> 5 | F10: =SUM(Shirak!F10+VDz!F10+Sunik!F10+Gex!F10+Lori!F10+Kotaik!F10+Armavir!F10+Ararat!F10+Aragacotn!F10+Tavush!F10) -> 8 | G10: =SUM(Shirak!G10+VDz!G10+Sunik!G10+Gex!G10+Lori!G10+Kotaik!G10+Armavir!G10+Ararat!G10+Aragacotn!G10+Tavush!G10) -> 1 | H10: =SUM(Shirak!H10+VDz!H10+Sunik!H10+Gex!H10+Lori!H10+Kotaik!H10+Armavir!H10+Ararat!H10+Aragacotn!H10+Tavush!H10) -> 0 | I10: =SUM(Shirak!I10+VDz!I10+Sunik!I10+Gex!I10+Lori!I10+Kotaik!I10+Armavir!I10+Ararat!I10+Aragacotn!I10+Tavush!I10) -> 0 | J10: =SUM(Shirak!J10+VDz!J10+Sunik!J10+Gex!J10+Lori!J10+Kotaik!J10+Armavir!J10+Ararat!J10+Aragacotn!J10+Tavush!J10) -> 0 | K10: =SUM(Shirak!K10+VDz!K10+Sunik!K10+Gex!K10+Lori!K10+Kotaik!K10+Armavir!K10+Ararat!K10+Aragacotn!K10+Tavush!K10) -> 0 | ... T10: =SUM(Shirak!T10+VDz!T10+Sunik!T10+Gex!T10+Lori!T10+Kotaik!T10+Armavir!T10+Ararat!T10+Aragacotn!T10+Tavush!T10) -> 0
B11: 4, Ê³ñ¹³ËáõÃÛ³Ý ÙÇçáóáí | C11: 178 | D11: =SUM(Shirak!D11+VDz!D11+Sunik!D11+Gex!D11+Lori!D11+Kotaik!D11+Armavir!D11+Ararat!D11+Aragacotn!D11+Tavush!D11) -> 11 | E11: =SUM(Shirak!E11+VDz!E11+Sunik!E11+Gex!E11+Lori!E11+Kotaik!E11+Armavir!E11+Ararat!E11+Aragacotn!E11+Tavush!E11) -> 21 | F11: =SUM(Shirak!F11+VDz!F11+Sunik!F11+Gex!F11+Lori!F11+Kotaik!F11+Armavir!F11+Ararat!F11+Aragacotn!F11+Tavush!F11) -> 23 | G11: =SUM(Shirak!G11+VDz!G11+Sunik!G11+Gex!G11+Lori!G11+Kotaik!G11+Armavir!G11+Ararat!G11+Aragacotn!G11+Tavush!G11) -> 1 | H11: =SUM(Shirak!H11+VDz!H11+Sunik!H11+Gex!H11+Lori!H11+Kotaik!H11+Armavir!H11+Ararat!H11+Aragacotn!H11+Tavush!H11) -> 0 | I11: =SUM(Shirak!I11+VDz!I11+Sunik!I11+Gex!I11+Lori!I11+Kotaik!I11+Armavir!I11+Ararat!I11+Aragacotn!I11+Tavush!I11) -> 0 | J11: =SUM(Shirak!J11+VDz!J11+Sunik!J11+Gex!J11+Lori!J11+Kotaik!J11+Armavir!J11+Ararat!J11+Aragacotn!J11+Tavush!J11) -> 0 | K11: =SUM(Shirak!K11+VDz!K11+Sunik!K11+Gex!K11+Lori!K11+Kotaik!K11+Armavir!K11+Ararat!K11+Aragacotn!K11+Tavush!K11) -> 1 | ... T11: =SUM(Shirak!T11+VDz!T11+Sunik!T11+Gex!T11+Lori!T11+Kotaik!T11+Armavir!T11+Ararat!T11+Aragacotn!T11+Tavush!T11) -> 0
B12: 5, Úáõñ³óÝ»Éáõ, í³ïÝ»Éáõ Ï³Ù å³ßïáÝ³Ï³Ý ¹ÇñùÁ ã³ñ³ß³Ñ»Éáõ ÙÇçáóáí | C12: 179 | D12: =SUM(Shirak!D12+VDz!D12+Sunik!D12+Gex!D12+Lori!D12+Kotaik!D12+Armavir!D12+Ararat!D12+Aragacotn!D12+Tavush!D12) -> 10 | E12: =SUM(Shirak!E12+VDz!E12+Sunik!E12+Gex!E12+Lori!E12+Kotaik!E12+Armavir!E12+Ararat!E12+Aragacotn!E12+Tavush!E12) -> 16 | F12: =SUM(Shirak!F12+VDz!F12+Sunik!F12+Gex!F12+Lori!F12+Kotaik!F12+Armavir!F12+Ararat!F12+Aragacotn!F12+Tavush!F12) -> 19 | G12: =SUM(Shirak!G12+VDz!G12+Sunik!G12+Gex!G12+Lori!G12+Kotaik!G12+Armavir!G12+Ararat!G12+Aragacotn!G12+Tavush!G12) -> 1 | H12: =SUM(Shirak!H12+VDz!H12+Sunik!H12+Gex!H12+Lori!H12+Kotaik!H12+Armavir!H12+Ararat!H12+Aragacotn!H12+Tavush!H12) -> 4 | I12: =SUM(Shirak!I12+VDz!I12+Sunik!I12+Gex!I12+Lori!I12+Kotaik!I12+Armavir!I12+Ararat!I12+Aragacotn!I12+Tavush!I12) -> 0 | J12: =SUM(Shirak!J12+VDz!J12+Sunik!J12+Gex!J12+Lori!J12+Kotaik!J12+Armavir!J12+Ararat!J12+Aragacotn!J12+Tavush!J12) -> 0 | K12: =SUM(Shirak!K12+VDz!K12+Sunik!K12+Gex!K12+Lori!K12+Kotaik!K12+Armavir!K12+Ararat!K12+Aragacotn!K12+Tavush!K12) -> 0 | ... T12: =SUM(Shirak!T12+VDz!T12+Sunik!T12+Gex!T12+Lori!T12+Kotaik!T12+Armavir!T12+Ararat!T12+Aragacotn!T12+Tavush!T12) -> 0
A13: 7, ÞáñÃáõÙ | C13: 182 | D13: =SUM(Shirak!D13+VDz!D13+Sunik!D13+Gex!D13+Lori!D13+Kotaik!D13+Armavir!D13+Ararat!D13+Aragacotn!D13+Tavush!D13) -> 0 | E13: =SUM(Shirak!E13+VDz!E13+Sunik!E13+Gex!E13+Lori!E13+Kotaik!E13+Armavir!E13+Ararat!E13+Aragacotn!E13+Tavush!E13) -> 1 | F13: =SUM(Shirak!F13+VDz!F13+Sunik!F13+Gex!F13+Lori!F13+Kotaik!F13+Armavir!F13+Ararat!F13+Aragacotn!F13+Tavush!F13) -> 1 | G13: =SUM(Shirak!G13+VDz!G13+Sunik!G13+Gex!G13+Lori!G13+Kotaik!G13+Armavir!G13+Ararat!G13+Aragacotn!G13+Tavush!G13) -> 0 | H13: =SUM(Shirak!H13+VDz!H13+Sunik!H13+Gex!H13+Lori!H13+Kotaik!H13+Armavir!H13+Ararat!H13+Aragacotn!H13+Tavush!H13) -> 0 | I13: =SUM(Shirak!I13+VDz!I13+Sunik!I13+Gex!I13+Lori!I13+Kotaik!I13+Armavir!I13+Ararat!I13+Aragacotn!I13+Tavush!I13) -> 0 | J13: =SUM(Shirak!J13+VDz!J13+Sunik!J13+Gex!J13+Lori!J13+Kotaik!J13+Armavir!J13+Ararat!J13+Aragacotn!J13+Tavush!J13) -> 0 | K13: =SUM(Shirak!K13+VDz!K13+Sunik!K13+Gex!K13+Lori!K13+Kotaik!K13+Armavir!K13+Ararat!K13+Aragacotn!K13+Tavush!K13) -> 0 | ... T13: =SUM(Shirak!T13+VDz!T13+Sunik!T13+Gex!T13+Lori!T13+Kotaik!T13+Armavir!T13+Ararat!T13+Aragacotn!T13+Tavush!T13) -> 0
A14: 8, ¶áõÛùÁ ¹Çï³íáñáõÃÛ³Ùµ áãÝã³óÝ»ÉÁ Ï³Ù íÝ³ë»ÉÁ | C14: 185 | D14: =SUM(Shirak!D14+VDz!D14+Sunik!D14+Gex!D14+Lori!D14+Kotaik!D14+Armavir!D14+Ararat!D14+Aragacotn!D14+Tavush!D14) -> 3 | E14: =SUM(Shirak!E14+VDz!E14+Sunik!E14+Gex!E14+Lori!E14+Kotaik!E14+Armavir!E14+Ararat!E14+Aragacotn!E14+Tavush!E14) -> 5 | F14: =SUM(Shirak!F14+VDz!F14+Sunik!F14+Gex!F14+Lori!F14+Kotaik!F14+Armavir!F14+Ararat!F14+Aragacotn!F14+Tavush!F14) -> 4 | G14: =SUM(Shirak!G14+VDz!G14+Sunik!G14+Gex!G14+Lori!G14+Kotaik!G14+Armavir!G14+Ararat!G14+Aragacotn!G14+Tavush!G14) -> 0 | H14: =SUM(Shirak!H14+VDz!H14+Sunik!H14+Gex!H14+Lori!H14+Kotaik!H14+Armavir!H14+Ararat!H14+Aragacotn!H14+Tavush!H14) -> 1 | I14: =SUM(Shirak!I14+VDz!I14+Sunik!I14+Gex!I14+Lori!I14+Kotaik!I14+Armavir!I14+Ararat!I14+Aragacotn!I14+Tavush!I14) -> 2 | J14: =SUM(Shirak!J14+VDz!J14+Sunik!J14+Gex!J14+Lori!J14+Kotaik!J14+Armavir!J14+Ararat!J14+Aragacotn!J14+Tavush!J14) -> 0 | K14: =SUM(Shirak!K14+VDz!K14+Sunik!K14+Gex!K14+Lori!K14+Kotaik!K14+Armavir!K14+Ararat!K14+Aragacotn!K14+Tavush!K14) -> 0 | ... T14: =SUM(Shirak!T14+VDz!T14+Sunik!T14+Gex!T14+Lori!T14+Kotaik!T14+Armavir!T14+Ararat!T14+Aragacotn!T14+Tavush!T14) -> 0
A15: 9,¸Çï³íáñÛ³É ëå³ÝáõÃÛáõÝ | C15: 104 | D15: =SUM(Shirak!D15+VDz!D15+Sunik!D15+Gex!D15+Lori!D15+Kotaik!D15+Armavir!D15+Ararat!D15+Aragacotn!D15+Tavush!D15) -> 15 | E15: =SUM(Shirak!E15+VDz!E15+Sunik!E15+Gex!E15+Lori!E15+Kotaik!E15+Armavir!E15+Ararat!E15+Aragacotn!E15+Tavush!E15) -> 33 | F15: =SUM(Shirak!F15+VDz!F15+Sunik!F15+Gex!F15+Lori!F15+Kotaik!F15+Armavir!F15+Ararat!F15+Aragacotn!F15+Tavush!F15) -> 22 | G15: =SUM(Shirak!G15+VDz!G15+Sunik!G15+Gex!G15+Lori!G15+Kotaik!G15+Armavir!G15+Ararat!G15+Aragacotn!G15+Tavush!G15) -> 1 | H15: =SUM(Shirak!H15+VDz!H15+Sunik!H15+Gex!H15+Lori!H15+Kotaik!H15+Armavir!H15+Ararat!H15+Aragacotn!H15+Tavush!H15) -> 0 | I15: =SUM(Shirak!I15+VDz!I15+Sunik!I15+Gex!I15+Lori!I15+Kotaik!I15+Armavir!I15+Ararat!I15+Aragacotn!I15+Tavush!I15) -> 6 | J15: =SUM(Shirak!J15+VDz!J15+Sunik!J15+Gex!J15+Lori!J15+Kotaik!J15+Armavir!J15+Ararat!J15+Aragacotn!J15+Tavush!J15) -> 1 | K15: =SUM(Shirak!K15+VDz!K15+Sunik!K15+Gex!K15+Lori!K15+Kotaik!K15+Armavir!K15+Ararat!K15+Aragacotn!K15+Tavush!K15) -> 1 | ... T15: =SUM(Shirak!T15+VDz!T15+Sunik!T15+Gex!T15+Lori!T15+Kotaik!T15+Armavir!T15+Ararat!T15+Aragacotn!T15+Tavush!T15) -> 2
A16: 10,¸Çï³íáñÛ³É Í³Ýñ Ù³ñÙÝ³Ï³Ý íÝ³ëí³Íù | C16: 112 | D16: =SUM(Shirak!D16+VDz!D16+Sunik!D16+Gex!D16+Lori!D16+Kotaik!D16+Armavir!D16+Ararat!D16+Aragacotn!D16+Tavush!D16) -> 14 | E16: =SUM(Shirak!E16+VDz!E16+Sunik!E16+Gex!E16+Lori!E16+Kotaik!E16+Armavir!E16+Ararat!E16+Aragacotn!E16+Tavush!E16) -> 25 | F16: =SUM(Shirak!F16+VDz!F16+Sunik!F16+Gex!F16+Lori!F16+Kotaik!F16+Armavir!F16+Ararat!F16+Aragacotn!F16+Tavush!F16) -> 24 | G16: =SUM(Shirak!G16+VDz!G16+Sunik!G16+Gex!G16+Lori!G16+Kotaik!G16+Armavir!G16+Ararat!G16+Aragacotn!G16+Tavush!G16) -> 0 | H16: =SUM(Shirak!H16+VDz!H16+Sunik!H16+Gex!H16+Lori!H16+Kotaik!H16+Armavir!H16+Ararat!H16+Aragacotn!H16+Tavush!H16) -> 1 | I16: =SUM(Shirak!I16+VDz!I16+Sunik!I16+Gex!I16+Lori!I16+Kotaik!I16+Armavir!I16+Ararat!I16+Aragacotn!I16+Tavush!I16) -> 5 | J16: =SUM(Shirak!J16+VDz!J16+Sunik!J16+Gex!J16+Lori!J16+Kotaik!J16+Armavir!J16+Ararat!J16+Aragacotn!J16+Tavush!J16) -> 0 | K16: =SUM(Shirak!K16+VDz!K16+Sunik!K16+Gex!K16+Lori!K16+Kotaik!K16+Armavir!K16+Ararat!K16+Aragacotn!K16+Tavush!K16) -> 0 | ... T16: =SUM(Shirak!T16+VDz!T16+Sunik!T16+Gex!T16+Lori!T16+Kotaik!T16+Armavir!T16+Ararat!T16+Aragacotn!T16+Tavush!T16) -> 0
A17: 11, ´éÝ³µ³ñáõÃÛáõÝ | C17: 138 | D17: =SUM(Shirak!D17+VDz!D17+Sunik!D17+Gex!D17+Lori!D17+Kotaik!D17+Armavir!D17+Ararat!D17+Aragacotn!D17+Tavush!D17) -> 4 | E17: =SUM(Shirak!E17+VDz!E17+Sunik!E17+Gex!E17+Lori!E17+Kotaik!E17+Armavir!E17+Ararat!E17+Aragacotn!E17+Tavush!E17) -> 4 | F17: =SUM(Shirak!F17+VDz!F17+Sunik!F17+Gex!F17+Lori!F17+Kotaik!F17+Armavir!F17+Ararat!F17+Aragacotn!F17+Tavush!F17) -> 6 | G17: =SUM(Shirak!G17+VDz!G17+Sunik!G17+Gex!G17+Lori!G17+Kotaik!G17+Armavir!G17+Ararat!G17+Aragacotn!G17+Tavush!G17) -> 1 | H17: =SUM(Shirak!H17+VDz!H17+Sunik!H17+Gex!H17+Lori!H17+Kotaik!H17+Armavir!H17+Ararat!H17+Aragacotn!H17+Tavush!H17) -> 0 | I17: =SUM(Shirak!I17+VDz!I17+Sunik!I17+Gex!I17+Lori!I17+Kotaik!I17+Armavir!I17+Ararat!I17+Aragacotn!I17+Tavush!I17) -> 0 | J17: =SUM(Shirak!J17+VDz!J17+Sunik!J17+Gex!J17+Lori!J17+Kotaik!J17+Armavir!J17+Ararat!J17+Aragacotn!J17+Tavush!J17) -> 0 | K17: =SUM(Shirak!K17+VDz!K17+Sunik!K17+Gex!K17+Lori!K17+Kotaik!K17+Armavir!K17+Ararat!K17+Aragacotn!K17+Tavush!K17) -> 0 | ... T17: =SUM(Shirak!T17+VDz!T17+Sunik!T17+Gex!T17+Lori!T17+Kotaik!T17+Armavir!T17+Ararat!T17+Aragacotn!T17+Tavush!T17) -> 0
A18: 12,Î³ß³é³Ï»ñáõÃÛáõÝ, Ï³ß³é³ïíáõÃÛáõÝ, Ï³ß³é³ïíáõÃÛ³Ý ÙÇçÝáñ¹áõÃÛáõÝ | C18: 311,312,313 | D18: =SUM(Shirak!D18+VDz!D18+Sunik!D18+Gex!D18+Lori!D18+Kotaik!D18+Armavir!D18+Ararat!D18+Aragacotn!D18+Tavush!D18) -> 2 | E18: =SUM(Shirak!E18+VDz!E18+Sunik!E18+Gex!E18+Lori!E18+Kotaik!E18+Armavir!E18+Ararat!E18+Aragacotn!E18+Tavush!E18) -> 8 | F18: =SUM(Shirak!F18+VDz!F18+Sunik!F18+Gex!F18+Lori!F18+Kotaik!F18+Armavir!F18+Ararat!F18+Aragacotn!F18+Tavush!F18) -> 5 | G18: =SUM(Shirak!G18+VDz!G18+Sunik!G18+Gex!G18+Lori!G18+Kotaik!G18+Armavir!G18+Ararat!G18+Aragacotn!G18+Tavush!G18) -> 0 | H18: =SUM(Shirak!H18+VDz!H18+Sunik!H18+Gex!H18+Lori!H18+Kotaik!H18+Armavir!H18+Ararat!H18+Aragacotn!H18+Tavush!H18) -> 3 | I18: =SUM(Shirak!I18+VDz!I18+Sunik!I18+Gex!I18+Lori!I18+Kotaik!I18+Armavir!I18+Ararat!I18+Aragacotn!I18+Tavush!I18) -> 0 | J18: =SUM(Shirak!J18+VDz!J18+Sunik!J18+Gex!J18+Lori!J18+Kotaik!J18+Armavir!J18+Ararat!J18+Aragacotn!J18+Tavush!J18) -> 0 | K18: =SUM(Shirak!K18+VDz!K18+Sunik!K18+Gex!K18+Lori!K18+Kotaik!K18+Armavir!K18+Ararat!K18+Aragacotn!K18+Tavush!K18) -> 0 | ... T18: =SUM(Shirak!T18+VDz!T18+Sunik!T18+Gex!T18+Lori!T18+Kotaik!T18+Armavir!T18+Ararat!T18+Aragacotn!T18+Tavush!T18) -> 0
A19: 13,ÊáõÉÇ·³ÝáõÃÛáõÝ | C19: 258 I | D19: =SUM(Shirak!D19+VDz!D19+Sunik!D19+Gex!D19+Lori!D19+Kotaik!D19+Armavir!D19+Ararat!D19+Aragacotn!D19+Tavush!D19) -> 4 | E19: =SUM(Shirak!E19+VDz!E19+Sunik!E19+Gex!E19+Lori!E19+Kotaik!E19+Armavir!E19+Ararat!E19+Aragacotn!E19+Tavush!E19) -> 13 | F19: =SUM(Shirak!F19+VDz!F19+Sunik!F19+Gex!F19+Lori!F19+Kotaik!F19+Armavir!F19+Ararat!F19+Aragacotn!F19+Tavush!F19) -> 14 | G19: =SUM(Shirak!G19+VDz!G19+Sunik!G19+Gex!G19+Lori!G19+Kotaik!G19+Armavir!G19+Ararat!G19+Aragacotn!G19+Tavush!G19) -> 0 | H19: =SUM(Shirak!H19+VDz!H19+Sunik!H19+Gex!H19+Lori!H19+Kotaik!H19+Armavir!H19+Ararat!H19+Aragacotn!H19+Tavush!H19) -> 1 | I19: =SUM(Shirak!I19+VDz!I19+Sunik!I19+Gex!I19+Lori!I19+Kotaik!I19+Armavir!I19+Ararat!I19+Aragacotn!I19+Tavush!I19) -> 0 | J19: =SUM(Shirak!J19+VDz!J19+Sunik!J19+Gex!J19+Lori!J19+Kotaik!J19+Armavir!J19+Ararat!J19+Aragacotn!J19+Tavush!J19) -> 0 | K19: =SUM(Shirak!K19+VDz!K19+Sunik!K19+Gex!K19+Lori!K19+Kotaik!K19+Armavir!K19+Ararat!K19+Aragacotn!K19+Tavush!K19) -> 0 | ... T19: =SUM(Shirak!T19+VDz!T19+Sunik!T19+Gex!T19+Lori!T19+Kotaik!T19+Armavir!T19+Ararat!T19+Aragacotn!T19+Tavush!T19) -> 0
A20: 14,â³ñ³ÙÇï ËáõÉÇ·³ÝáõÃÛáõÝ | C20: 258 II | D20: =SUM(Shirak!D20+VDz!D20+Sunik!D20+Gex!D20+Lori!D20+Kotaik!D20+Armavir!D20+Ararat!D20+Aragacotn!D20+Tavush!D20) -> 10 | E20: =SUM(Shirak!E20+VDz!E20+Sunik!E20+Gex!E20+Lori!E20+Kotaik!E20+Armavir!E20+Ararat!E20+Aragacotn!E20+Tavush!E20) -> 15 | F20: =SUM(Shirak!F20+VDz!F20+Sunik!F20+Gex!F20+Lori!F20+Kotaik!F20+Armavir!F20+Ararat!F20+Aragacotn!F20+Tavush!F20) -> 22 | G20: =SUM(Shirak!G20+VDz!G20+Sunik!G20+Gex!G20+Lori!G20+Kotaik!G20+Armavir!G20+Ararat!G20+Aragacotn!G20+Tavush!G20) -> 1 | H20: =SUM(Shirak!H20+VDz!H20+Sunik!H20+Gex!H20+Lori!H20+Kotaik!H20+Armavir!H20+Ararat!H20+Aragacotn!H20+Tavush!H20) -> 0 | I20: =SUM(Shirak!I20+VDz!I20+Sunik!I20+Gex!I20+Lori!I20+Kotaik!I20+Armavir!I20+Ararat!I20+Aragacotn!I20+Tavush!I20) -> 0 | J20: =SUM(Shirak!J20+VDz!J20+Sunik!J20+Gex!J20+Lori!J20+Kotaik!J20+Armavir!J20+Ararat!J20+Aragacotn!J20+Tavush!J20) -> 1 | K20: =SUM(Shirak!K20+VDz!K20+Sunik!K20+Gex!K20+Lori!K20+Kotaik!K20+Armavir!K20+Ararat!K20+Aragacotn!K20+Tavush!K20) -> 0 | ... T20: =SUM(Shirak!T20+VDz!T20+Sunik!T20+Gex!T20+Lori!T20+Kotaik!T20+Armavir!T20+Ararat!T20+Aragacotn!T20+Tavush!T20) -> 0
A21: 15, ²é³ÝÓÝ³å»ë ã³ñ³ÙÇï ËáõÉÇ·³ÝáõÃÛáõÝ | C21: 258 III | D21: =SUM(Shirak!D21+VDz!D21+Sunik!D21+Gex!D21+Lori!D21+Kotaik!D21+Armavir!D21+Ararat!D21+Aragacotn!D21+Tavush!D21) -> 5 | E21: =SUM(Shirak!E21+VDz!E21+Sunik!E21+Gex!E21+Lori!E21+Kotaik!E21+Armavir!E21+Ararat!E21+Aragacotn!E21+Tavush!E21) -> 16 | F21: =SUM(Shirak!F21+VDz!F21+Sunik!F21+Gex!F21+Lori!F21+Kotaik!F21+Armavir!F21+Ararat!F21+Aragacotn!F21+Tavush!F21) -> 14 | G21: =SUM(Shirak!G21+VDz!G21+Sunik!G21+Gex!G21+Lori!G21+Kotaik!G21+Armavir!G21+Ararat!G21+Aragacotn!G21+Tavush!G21) -> 0 | H21: =SUM(Shirak!H21+VDz!H21+Sunik!H21+Gex!H21+Lori!H21+Kotaik!H21+Armavir!H21+Ararat!H21+Aragacotn!H21+Tavush!H21) -> 0 | I21: =SUM(Shirak!I21+VDz!I21+Sunik!I21+Gex!I21+Lori!I21+Kotaik!I21+Armavir!I21+Ararat!I21+Aragacotn!I21+Tavush!I21) -> 0 | J21: =SUM(Shirak!J21+VDz!J21+Sunik!J21+Gex!J21+Lori!J21+Kotaik!J21+Armavir!J21+Ararat!J21+Aragacotn!J21+Tavush!J21) -> 0 | K21: =SUM(Shirak!K21+VDz!K21+Sunik!K21+Gex!K21+Lori!K21+Kotaik!K21+Armavir!K21+Ararat!K21+Aragacotn!K21+Tavush!K21) -> 0 | ... T21: =SUM(Shirak!T21+VDz!T21+Sunik!T21+Gex!T21+Lori!T21+Kotaik!T21+Armavir!T21+Ararat!T21+Aragacotn!T21+Tavush!T21) -> 0
A22: 16,¼»Ýù ·áñÍ³¹ñ»Éáõ Ï³Ù ³ÛÝ ·áñÍ³¹ñ»Éáõ ÷áñÓáí ËáõÉÇ·³Ý | C22: 258 IV | D22: =SUM(Shirak!D22+VDz!D22+Sunik!D22+Gex!D22+Lori!D22+Kotaik!D22+Armavir!D22+Ararat!D22+Aragacotn!D22+Tavush!D22) -> 4 | E22: =SUM(Shirak!E22+VDz!E22+Sunik!E22+Gex!E22+Lori!E22+Kotaik!E22+Armavir!E22+Ararat!E22+Aragacotn!E22+Tavush!E22) -> 10 | F22: =SUM(Shirak!F22+VDz!F22+Sunik!F22+Gex!F22+Lori!F22+Kotaik!F22+Armavir!F22+Ararat!F22+Aragacotn!F22+Tavush!F22) -> 10 | G22: =SUM(Shirak!G22+VDz!G22+Sunik!G22+Gex!G22+Lori!G22+Kotaik!G22+Armavir!G22+Ararat!G22+Aragacotn!G22+Tavush!G22) -> 0 | H22: =SUM(Shirak!H22+VDz!H22+Sunik!H22+Gex!H22+Lori!H22+Kotaik!H22+Armavir!H22+Ararat!H22+Aragacotn!H22+Tavush!H22) -> 0 | I22: =SUM(Shirak!I22+VDz!I22+Sunik!I22+Gex!I22+Lori!I22+Kotaik!I22+Armavir!I22+Ararat!I22+Aragacotn!I22+Tavush!I22) -> 0 | J22: =SUM(Shirak!J22+VDz!J22+Sunik!J22+Gex!J22+Lori!J22+Kotaik!J22+Armavir!J22+Ararat!J22+Aragacotn!J22+Tavush!J22) -> 0 | K22: =SUM(Shirak!K22+VDz!K22+Sunik!K22+Gex!K22+Lori!K22+Kotaik!K22+Armavir!K22+Ararat!K22+Aragacotn!K22+Tavush!K22) -> 0 | ... T22: =SUM(Shirak!T22+VDz!T22+Sunik!T22+Gex!T22+Lori!T22+Kotaik!T22+Armavir!T22+Ararat!T22+Aragacotn!T22+Tavush!T22) -> 0
A23: 17,îñ³Ýëåáñï³ÛÇÝ ÙÇçáóÝ»ñÇ »ñÃ¨»ÏáõÃÛ³Ý ³Ýíï³Ý·áõÃÛ³Ý ¨ ß³Ñ³·áñßÙ³Ý Ï³ÝáÝÝ»ñÇ Ë³ËïáõÙ | C23: 242 | D23: =SUM(Shirak!D23+VDz!D23+Sunik!D23+Gex!D23+Lori!D23+Kotaik!D23+Armavir!D23+Ararat!D23+Aragacotn!D23+Tavush!D23) -> 35 | E23: =SUM(Shirak!E23+VDz!E23+Sunik!E23+Gex!E23+Lori!E23+Kotaik!E23+Armavir!E23+Ararat!E23+Aragacotn!E23+Tavush!E23) -> 52 | F23: =SUM(Shirak!F23+VDz!F23+Sunik!F23+Gex!F23+Lori!F23+Kotaik!F23+Armavir!F23+Ararat!F23+Aragacotn!F23+Tavush!F23) -> 64 | G23: =SUM(Shirak!G23+VDz!G23+Sunik!G23+Gex!G23+Lori!G23+Kotaik!G23+Armavir!G23+Ararat!G23+Aragacotn!G23+Tavush!G23) -> 1 | H23: =SUM(Shirak!H23+VDz!H23+Sunik!H23+Gex!H23+Lori!H23+Kotaik!H23+Armavir!H23+Ararat!H23+Aragacotn!H23+Tavush!H23) -> 10 | I23: =SUM(Shirak!I23+VDz!I23+Sunik!I23+Gex!I23+Lori!I23+Kotaik!I23+Armavir!I23+Ararat!I23+Aragacotn!I23+Tavush!I23) -> 0 | J23: =SUM(Shirak!J23+VDz!J23+Sunik!J23+Gex!J23+Lori!J23+Kotaik!J23+Armavir!J23+Ararat!J23+Aragacotn!J23+Tavush!J23) -> 0 | K23: =SUM(Shirak!K23+VDz!K23+Sunik!K23+Gex!K23+Lori!K23+Kotaik!K23+Armavir!K23+Ararat!K23+Aragacotn!K23+Tavush!K23) -> 0 | ... T23: =SUM(Shirak!T23+VDz!T23+Sunik!T23+Gex!T23+Lori!T23+Kotaik!T23+Armavir!T23+Ararat!T23+Aragacotn!T23+Tavush!T23) -> 0
A24: 18, ÂÙñ³¹»Õ»ñÇ Ñ»ï Ï³åí³Í Ñ³Ýó³·áñÍáõÃÛáõÝÝ»ñ | C24: 266, 268, 269,271, 272, 273, 276 | D24: =SUM(Shirak!D24+VDz!D24+Sunik!D24+Gex!D24+Lori!D24+Kotaik!D24+Armavir!D24+Ararat!D24+Aragacotn!D24+Tavush!D24) -> 13 | E24: =SUM(Shirak!E24+VDz!E24+Sunik!E24+Gex!E24+Lori!E24+Kotaik!E24+Armavir!E24+Ararat!E24+Aragacotn!E24+Tavush!E24) -> 31 | F24: =SUM(Shirak!F24+VDz!F24+Sunik!F24+Gex!F24+Lori!F24+Kotaik!F24+Armavir!F24+Ararat!F24+Aragacotn!F24+Tavush!F24) -> 35 | G24: =SUM(Shirak!G24+VDz!G24+Sunik!G24+Gex!G24+Lori!G24+Kotaik!G24+Armavir!G24+Ararat!G24+Aragacotn!G24+Tavush!G24) -> 1 | H24: =SUM(Shirak!H24+VDz!H24+Sunik!H24+Gex!H24+Lori!H24+Kotaik!H24+Armavir!H24+Ararat!H24+Aragacotn!H24+Tavush!H24) -> 1 | I24: =SUM(Shirak!I24+VDz!I24+Sunik!I24+Gex!I24+Lori!I24+Kotaik!I24+Armavir!I24+Ararat!I24+Aragacotn!I24+Tavush!I24) -> 0 | J24: =SUM(Shirak!J24+VDz!J24+Sunik!J24+Gex!J24+Lori!J24+Kotaik!J24+Armavir!J24+Ararat!J24+Aragacotn!J24+Tavush!J24) -> 0 | K24: =SUM(Shirak!K24+VDz!K24+Sunik!K24+Gex!K24+Lori!K24+Kotaik!K24+Armavir!K24+Ararat!K24+Aragacotn!K24+Tavush!K24) -> 0 | ... T24: =SUM(Shirak!T24+VDz!T24+Sunik!T24+Gex!T24+Lori!T24+Kotaik!T24+Armavir!T24+Ararat!T24+Aragacotn!T24+Tavush!T24) -> 0
A25: 19,²åûñÇÝÇ Ï»ñåáí é³½Ù³ÙÃ»ñù Ï³Ù å³ÛÃáõóÇÏ ÝÛáõÃ»ñ Ïñ»ÉÁ | C25: 235 | D25: =SUM(Shirak!D25+VDz!D25+Sunik!D25+Gex!D25+Lori!D25+Kotaik!D25+Armavir!D25+Ararat!D25+Aragacotn!D25+Tavush!D25) -> 5 | E25: =SUM(Shirak!E25+VDz!E25+Sunik!E25+Gex!E25+Lori!E25+Kotaik!E25+Armavir!E25+Ararat!E25+Aragacotn!E25+Tavush!E25) -> 16 | F25: =SUM(Shirak!F25+VDz!F25+Sunik!F25+Gex!F25+Lori!F25+Kotaik!F25+Armavir!F25+Ararat!F25+Aragacotn!F25+Tavush!F25) -> 16 | G25: =SUM(Shirak!G25+VDz!G25+Sunik!G25+Gex!G25+Lori!G25+Kotaik!G25+Armavir!G25+Ararat!G25+Aragacotn!G25+Tavush!G25) -> 1 | H25: =SUM(Shirak!H25+VDz!H25+Sunik!H25+Gex!H25+Lori!H25+Kotaik!H25+Armavir!H25+Ararat!H25+Aragacotn!H25+Tavush!H25) -> 0 | I25: =SUM(Shirak!I25+VDz!I25+Sunik!I25+Gex!I25+Lori!I25+Kotaik!I25+Armavir!I25+Ararat!I25+Aragacotn!I25+Tavush!I25) -> 0 | J25: =SUM(Shirak!J25+VDz!J25+Sunik!J25+Gex!J25+Lori!J25+Kotaik!J25+Armavir!J25+Ararat!J25+Aragacotn!J25+Tavush!J25) -> 0 | K25: =SUM(Shirak!K25+VDz!K25+Sunik!K25+Gex!K25+Lori!K25+Kotaik!K25+Armavir!K25+Ararat!K25+Aragacotn!K25+Tavush!K25) -> 0 | ... T25: =SUM(Shirak!T25+VDz!T25+Sunik!T25+Gex!T25+Lori!T25+Kotaik!T25+Armavir!T25+Ararat!T25+Aragacotn!T25+Tavush!T25) -> 0
A26: 20, ²ÛÉ Ñ³Ýó³·áñÍáõÃÛáõÝÝ»ñ | D26: =SUM(Shirak!D26+VDz!D26+Sunik!D26+Gex!D26+Lori!D26+Kotaik!D26+Armavir!D26+Ararat!D26+Aragacotn!D26+Tavush!D26) -> 120 | E26: =SUM(Shirak!E26+VDz!E26+Sunik!E26+Gex!E26+Lori!E26+Kotaik!E26+Armavir!E26+Ararat!E26+Aragacotn!E26+Tavush!E26) -> 338 | F26: =SUM(Shirak!F26+VDz!F26+Sunik!F26+Gex!F26+Lori!F26+Kotaik!F26+Armavir!F26+Ararat!F26+Aragacotn!F26+Tavush!F26) -> 336 | G26: =SUM(Shirak!G26+VDz!G26+Sunik!G26+Gex!G26+Lori!G26+Kotaik!G26+Armavir!G26+Ararat!G26+Aragacotn!G26+Tavush!G26) -> 8 | H26: =SUM(Shirak!H26+VDz!H26+Sunik!H26+Gex!H26+Lori!H26+Kotaik!H26+Armavir!H26+Ararat!H26+Aragacotn!H26+Tavush!H26) -> 24 | I26: =SUM(Shirak!I26+VDz!I26+Sunik!I26+Gex!I26+Lori!I26+Kotaik!I26+Armavir!I26+Ararat!I26+Aragacotn!I26+Tavush!I26) -> 4 | J26: =SUM(Shirak!J26+VDz!J26+Sunik!J26+Gex!J26+Lori!J26+Kotaik!J26+Armavir!J26+Ararat!J26+Aragacotn!J26+Tavush!J26) -> 4 | K26: =SUM(Shirak!K26+VDz!K26+Sunik!K26+Gex!K26+Lori!K26+Kotaik!K26+Armavir!K26+Ararat!K26+Aragacotn!K26+Tavush!K26) -> 2 | ... T26: =SUM(Shirak!T26+VDz!T26+Sunik!T26+Gex!T26+Lori!T26+Kotaik!T26+Armavir!T26+Ararat!T26+Aragacotn!T26+Tavush!T26) -> 4
A27: 21, ÀÜ¸²ØºÜÀ | D27: =SUM(Shirak!D27+VDz!D27+Sunik!D27+Gex!D27+Lori!D27+Kotaik!D27+Armavir!D27+Ararat!D27+Aragacotn!D27+Tavush!D27) -> 311 | E27: =SUM(Shirak!E27+VDz!E27+Sunik!E27+Gex!E27+Lori!E27+Kotaik!E27+Armavir!E27+Ararat!E27+Aragacotn!E27+Tavush!E27) -> 821 | F27: =SUM(Shirak!F27+VDz!F27+Sunik!F27+Gex!F27+Lori!F27+Kotaik!F27+Armavir!F27+Ararat!F27+Aragacotn!F27+Tavush!F27) -> 820 | G27: =SUM(Shirak!G27+VDz!G27+Sunik!G27+Gex!G27+Lori!G27+Kotaik!G27+Armavir!G27+Ararat!G27+Aragacotn!G27+Tavush!G27) -> 22 | H27: =SUM(Shirak!H27+VDz!H27+Sunik!H27+Gex!H27+Lori!H27+Kotaik!H27+Armavir!H27+Ararat!H27+Aragacotn!H27+Tavush!H27) -> 53 | I27: =SUM(Shirak!I27+VDz!I27+Sunik!I27+Gex!I27+Lori!I27+Kotaik!I27+Armavir!I27+Ararat!I27+Aragacotn!I27+Tavush!I27) -> 18 | J27: =SUM(Shirak!J27+VDz!J27+Sunik!J27+Gex!J27+Lori!J27+Kotaik!J27+Armavir!J27+Ararat!J27+Aragacotn!J27+Tavush!J27) -> 7 | K27: =SUM(Shirak!K27+VDz!K27+Sunik!K27+Gex!K27+Lori!K27+Kotaik!K27+Armavir!K27+Ararat!K27+Aragacotn!K27+Tavush!K27) -> 7 | ... T27: =SUM(Shirak!T27+VDz!T27+Sunik!T27+Gex!T27+Lori!T27+Kotaik!T27+Armavir!T27+Ararat!T27+Aragacotn!T27+Tavush!T27) -> 8
A28: 22, ²Û¹ ÃíáõÙ` ³Ýã³÷³Ñ³ëÝ»ñÇ í»ñ³µ»ñÛ³É ·áñÍ»ñáí | D28: =SUM(Shirak!D28+VDz!D28+Sunik!D28+Gex!D28+Lori!D28+Kotaik!D28+Armavir!D28+Ararat!D28+Aragacotn!D28+Tavush!D28) -> 8 | E28: =SUM(Shirak!E28+VDz!E28+Sunik!E28+Gex!E28+Lori!E28+Kotaik!E28+Armavir!E28+Ararat!E28+Aragacotn!E28+Tavush!E28) -> 53 | F28: =SUM(Shirak!F28+VDz!F28+Sunik!F28+Gex!F28+Lori!F28+Kotaik!F28+Armavir!F28+Ararat!F28+Aragacotn!F28+Tavush!F28) -> 52 | G28: =SUM(Shirak!G28+VDz!G28+Sunik!G28+Gex!G28+Lori!G28+Kotaik!G28+Armavir!G28+Ararat!G28+Aragacotn!G28+Tavush!G28) -> 2 | H28: =SUM(Shirak!H28+VDz!H28+Sunik!H28+Gex!H28+Lori!H28+Kotaik!H28+Armavir!H28+Ararat!H28+Aragacotn!H28+Tavush!H28) -> 2 | I28: =SUM(Shirak!I28+VDz!I28+Sunik!I28+Gex!I28+Lori!I28+Kotaik!I28+Armavir!I28+Ararat!I28+Aragacotn!I28+Tavush!I28) -> 0 | J28: =SUM(Shirak!J28+VDz!J28+Sunik!J28+Gex!J28+Lori!J28+Kotaik!J28+Armavir!J28+Ararat!J28+Aragacotn!J28+Tavush!J28) -> 0 | K28: =SUM(Shirak!K28+VDz!K28+Sunik!K28+Gex!K28+Lori!K28+Kotaik!K28+Armavir!K28+Ararat!K28+Aragacotn!K28+Tavush!K28) -> 0 | ... T28: =SUM(Shirak!T28+VDz!T28+Sunik!T28+Gex!T28+Lori!T28+Kotaik!T28+Armavir!T28+Ararat!T28+Aragacotn!T28+Tavush!T28) -> 0

Sheet Shirak
A1: Ð³ßí»ïíáõÃÛáõÝ
A2: ÐÐ ÞÇñ³ÏÇ Ù³ñ½Ç ³é³çÇÝ ³ïÛ³ÝÇ ¹³ï³ñ³ÝÇ ùñ»³Ï³Ý ·áñÍ»ñÇ ùÝÝáõÃÛ³Ý í»ñ³µ»ñÛ³É 2007Ã.1-ին կիսամյակի Ñ³Ù³ñ
A3: êïáõ·Çã Ñ³í³ë³ñáõÙÝ»ñ §²¦ µ³ÅÝÇ í»ñ³µ»ñÛ³É 1 ¨ 2 ëÛáõÝ³ÏÝ»ñÇ Ãí»ñÇ ·áõÙ³ñÁ Ñ³í³ë³ñ ¿ 9 ¨ 10 ëÛáõÝ³ÏÝ»ñÇ Ãí»ñÇ ·áõÙ³ñÇÝ | C3: ÐÐ ùñ»³Ï³Ý ûñ»Ýë·ñùÇ Ñá¹í³ÍÝ»ñ | D3: ²Ý³í³ñï ·áñÍ»ñÇ ÙÝ³óáñ¹Á Ñ³ßí»ïáõ Å³Ù³Ý³Ï³ßñç³ÝÇ ëÏ½µáõÙ | E3: êï³óí»É »Ý ·áñÍ»ñ Ñ³ßí»ïáõ Å³Ù³Ý³Ï³ßñç³ÝáõÙ | F3: ² øñ»³Ï³Ý ·áñÍ»ñÇ ß³ñÅÁ | O3: Ð³ßí»ïáõ Å³Ù³Ý³Ï³ßñç³ÝáõÙ ·áñÍ»ñáí »Õ»É »Ý (3, 5, 6, 7 ëÛáõÝ³Ï)
F4: ²í³ñïí»É »Ý ·áñÍ»ñ Ñ³ßí»ïáõ Å³Ù³Ý³Ï³ßñç³ÝáõÙ | M4: ²Ý³í³ñï ·áñÍ»ñÇ ÙÝ³óáñ¹Á Ñ³ßí»ïáõ Å³Ù³Ý³Ï³ßñç³ÝÇ í»ñçáõÙ | N4: ³Û¹ ÃíáõÙ ·ïÝíáõÙ »Ý í³ñáõÛÃáõÙ 3 ³ÙëÇó ³í»ÉÇ (Ï³ë»óí³Í ·áñÍ»ñÇ Ñ»ï Ù»Ïï»Õ) | O4: ¹³ï³å³ñïí³ÍÝ»ñ | P4: ³ñ¹³ñ³óí³ÍÝ»ñ | Q4: ³ÝÓÇÝù, áñáÝó í»ñ³µ»ñÛ³É ·áñÍ»ñÁ Ï³ñ×í»É »Ý | S4: ³ÝÙ»ÕëáõÝ³ÏÝ»ñ, áñáÝó ÝÏ³ïÙ³Ùµ ÏÇñ³éí»É »Ý µÅßÏ³Ï³Ý µÝáõÛÃÇ Ñ³ñÏ³¹ñ³Ï³Ý ÙÇçáóÝ»ñ | T4: ³ÝÓÇÝù, áñáÝó í»ñ³µ»ñÛ³É ·áñÍ»ñÁ Ñ³ÝÓÝí»É »Ý Éñ³óáõóÇã ùÝÝáõÃÛ³Ý
F5: ùÝÝ³ñÏí»É »Ý Áëï ¿áõÃÛ³Ý ¨ ¹³ï³í×Çé Ï³Û³óí»É | G5: ³Û¹ ÃíáõÙ 1 ³ÙëÇó ³í»ÉÇ Å³ÙÏ»ïáõÙ | H5: Ï³ñ×»É »Ý ³ÝûñÇÝ³Ï³Ý ¹³ï³Ï³Ý ÝÇëï»ñáõÙ | I5: ³ÝÙ»ÕëáõÝ³ÏÝ»ñÇ ÝÏ³ïÙ³Ùµ ÏÇñ³é»É »Ý µÅßÏ³Ï³Ý µÝáõÛÃÇ Ñ³ñÏ³¹ñ³Ï³Ý ÙÇçáóÝ»ñ | J5: Ñ³ÝÓÝí»É »Ý Éñ³óáõóÇã ùÝÝáõÃÛ³Ý ³ÝûñÇÝ³ Ï³Ý ¨ ¹³ï³Ï³Ý ÝÇëï | K5: Ñ³ÝÓÝí»É »Ý Áëï ÁÝ¹¹³ïáõÃÛ³Ý | L5: ÁÝ¹³Ù»ÝÁ ³í³ñïí»É »Ý ·áñÍ»ñ (3, 5-8 ëÛáõÝ³ÏÝ»ñÇ ·áõÙ³ñÁ) | Q5: ÁÝ¹³Ù»ÝÁ | R5: ³Û¹ ÃíáõÙ Ñ³Ýó³¹»åÇ Ï³Ù Ñ³Ýó³Ï³½ÙÇ µ³ó³Ï³ÛáõÃÛ³Ý ¨ Ù»Õ³¹ñ³ÝùÁ ã³å³óáõóí³Í ÉÇÝ»Éáõ å³ï×³éáí
D6: 1 | E6: 2 | F6: 3 | G6: 4 | H6: 5 | I6: 6 | J6: 7 | K6: 8 | L6: 9 | M6: 10 | N6: 11 | O6: 12 | P6: 13 | Q6: 14 | R6: 15 | S6: 16 | T6: 17
A7: 1, ²½·³ÛÇÝ ¨ é³ë³Û³Ï³Ý Çñ³í³Ñ³í³ë³ñáõÃÛáõÝÁ Ë³Ëï»ÉÁ
A8: ¶áõÛùÇ Ñ³÷ßï³ÏáõÙ Ï³ï³ñí³Í | B8: 1, ¶áÕáõÃÛ³Ý ÙÇçáóáí | C8: 177 | D8: 8 | E8: 28 | F8: 30 | H8: 2 | L8: 32 | M8: 4 | N8: 2 | O8: 52 | Q8: 2 | R8: 2
B9: 2, ÎáÕáåáõïÇ ÙÇçáóáí | C9: 176 | E9: 1 | F9: 1 | L9: 1 | O9: 1
B10: 3, ²í³½³ÏáõÃÛ³Ý ÙÇçáóáí | C10: 175 | E10: 1 | F10: 1 | L10: 1 | O10: 1
B11: 4, Ê³ñ¹³ËáõÃÛ³Ý ÙÇçáóáí | C11: 178 | E11: 4 | F11: 4 | L11: 4 | O11: 4
B12: 5, Úáõñ³óÝ»Éáõ, í³ïÝ»Éáõ Ï³Ù å³ßïáÝ³Ï³Ý ¹ÇñùÁ ã³ñ³ß³Ñ»Éáõ ÙÇçáóáí | C12: 179 | D12: 3 | E12: 1 | F12: 3 | H12: 1 | L12: 4 | O12: 3 | Q12: 2 | R12: 2
A13: 7, ÞáñÃáõÙ | C13: 182
A14: 8, ¶áõÛùÁ ¹Çï³íáñáõÃÛ³Ùµ áãÝã³óÝ»ÉÁ Ï³Ù íÝ³ë»ÉÁ | C14: 185 | E14: 1 | F14: 1 | L14: 1 | O14: 1 | S14: 1
A15: 9,¸Çï³íáñÛ³É ëå³ÝáõÃÛáõÝ | C15: 104 | D15: 1 | E15: 1 | I15: 1 | L15: 1 | M15: 1 | N15: 1 | S15: 1
A16: 10,¸Çï³íáñÛ³É Í³Ýñ Ù³ñÙÝ³Ï³Ý íÝ³ëí³Íù | C16: 112 | D16: 5 | E16: 1 | F16: 4 | I16: 1 | L16: 5 | M16: 1 | N16: 1 | O16: 4
A17: 11, ´éÝ³µ³ñáõÃÛáõÝ | C17: 138 | D17: 1 | F17: 1 | L17: 1 | O17: 2
A18: 12,Î³ß³é³Ï»ñáõÃÛáõÝ, Ï³ß³é³ïíáõÃÛáõÝ, Ï³ß³é³ïíáõÃÛ³Ý ÙÇçÝáñ¹áõÃÛáõÝ | C18: 311,312,313
A19: 13,ÊáõÉÇ·³ÝáõÃÛáõÝ | C19: 258 I | D19: 1 | F19: 1 | L19: 1 | O19: 1
A20: 14,â³ñ³ÙÇï ËáõÉÇ·³ÝáõÃÛáõÝ | C20: 258 II | E20: 1 | M20: 1
A21: 15, ²é³ÝÓÝ³å»ë ã³ñ³ÙÇï ËáõÉÇ·³ÝáõÃÛáõÝ | C21: 258 III | D21: 1 | F21: 1 | L21: 1 | O21: 1
A22: 16,¼»Ýù ·áñÍ³¹ñ»Éáõ Ï³Ù ³ÛÝ ·áñÍ³¹ñ»Éáõ ÷áñÓáí ËáõÉÇ·³Ý | C22: 258 IV | E22: 1 | F22: 1 | L22: 1 | O22: 1
A23: 17,îñ³Ýëåáñï³ÛÇÝ ÙÇçáóÝ»ñÇ »ñÃ¨»ÏáõÃÛ³Ý ³Ýíï³Ý·áõÃÛ³Ý ¨ ß³Ñ³·áñßÙ³Ý Ï³ÝáÝÝ»ñÇ Ë³ËïáõÙ | C23: 242 | D23: 1 | E23: 7 | F23: 7 | L23: 7 | M23: 1 | O23: 7
A24: 18, ÂÙñ³¹»Õ»ñÇ Ñ»ï Ï³åí³Í Ñ³Ýó³·áñÍáõÃÛáõÝÝ»ñ | C24: 266, 268, 269,271, 272, 273, 276 | E24: 8 | F24: 7 | L24: 7 | M24: 1 | O24: 7
A25: 19,²åûñÇÝÇ Ï»ñåáí é³½Ù³ÙÃ»ñù Ï³Ù å³ÛÃáõóÇÏ ÝÛáõÃ»ñ Ïñ»ÉÁ | C25: 235 | D25: 1 | E25: 4 | F25: 4 | L25: 4 | M25: 1 | O25: 4
A26: 20, ²ÛÉ Ñ³Ýó³·áñÍáõÃÛáõÝÝ»ñ | D26: 3 | E26: 22 | F26: 20 | H26: 1 | L26: 21 | M26: 4 | N26: 2 | O26: 23 | Q26: 2 | R26: 2
A27: 21, ÀÜ¸²ØºÜÀ | D27: =SUM(D8:D26) -> 25 | E27: =SUM(E8:E26) -> 81 | F27: =SUM(F8:F26) -> 86 | H27: =SUM(H8:H26) -> 4 | I27: =SUM(I8:I26) -> 2 | L27: =SUM(L8:L26) -> 92 | M27: =SUM(M8:M26) -> 14 | N27: =SUM(N8:N26) -> 6 | O27: =SUM(O8:O26) -> 112 | Q27: =SUM(Q8:Q26) -> 6 | R27: =SUM(R8:R26) -> 6 | S27: =SUM(S8:S26) -> 2
A28: 22, ²Û¹ ÃíáõÙ` ³Ýã³÷³Ñ³ëÝ»ñÇ í»ñ³µ»ñÛ³É ·áñÍ»ñáí | D28: 2 | E28: 9 | F28: 11 | L28: 11 | O28: 16

Sheet VDz
A1: Ð³ßí»ïíáõÃÛáõÝ
A2: ÐÐ ì³Ûáó ÒáñÇ Ù³ñ½Ç ³é³çÇÝ ³ïÛ³ÝÇ ¹³ï³ñ³ÝÇ ùñ»³Ï³Ý ·áñÍ»ñÇ ùÝÝáõÃÛ³Ý í»ñ³µ»ñÛ³É 2007Ã.1-ÇÝ ÏÇë³ÙÛ³ÛÏÇ Ñ³Ù³ñ
A3: êïáõ·Çã Ñ³í³ë³ñáõÙÝ»ñ §²¦ µ³ÅÝÇ í»ñ³µ»ñÛ³É 1 ¨ 2 ëÛáõÝ³ÏÝ»ñÇ Ãí»ñÇ ·áõÙ³ñÁ Ñ³í³ë³ñ ¿ 9 ¨ 10 ëÛáõÝ³ÏÝ»ñÇ Ãí»ñÇ ·áõÙ³ñÇÝ | C3: ÐÐ ùñ»³Ï³Ý ûñ»Ýë·ñùÇ Ñá¹í³ÍÝ»ñ | D3: ²Ý³í³ñï ·áñÍ»ñÇ ÙÝ³óáñ¹Á Ñ³ßí»ïáõ Å³Ù³Ý³Ï³ßñç³ÝÇ ëÏ½µáõÙ | E3: êï³óí»É »Ý ·áñÍ»ñ Ñ³ßí»ïáõ Å³Ù³Ý³Ï³ßñç³ÝáõÙ | F3: ² øñ»³Ï³Ý ·áñÍ»ñÇ ß³ñÅÁ | O3: Ð³ßí»ïáõ Å³Ù³Ý³Ï³ßñç³ÝáõÙ ·áñÍ»ñáí »Õ»É »Ý (3, 5, 6, 7 ëÛáõÝ³Ï)
F4: ²í³ñïí»É »Ý ·áñÍ»ñ Ñ³ßí»ïáõ Å³Ù³Ý³Ï³ßñç³ÝáõÙ | M4: ²Ý³í³ñï ·áñÍ»ñÇ ÙÝ³óáñ¹Á Ñ³ßí»ïáõ Å³Ù³Ý³Ï³ßñç³ÝÇ í»ñçáõÙ | N4: ³Û¹ ÃíáõÙ ·ïÝíáõÙ »Ý í³ñáõÛÃáõÙ 3 ³ÙëÇó ³í»ÉÇ (Ï³ë»óí³Í ·áñÍ»ñÇ Ñ»ï Ù»Ïï»Õ) | O4: ¹³ï³å³ñïí³ÍÝ»ñ | P4: ³ñ¹³ñ³óí³ÍÝ»ñ | Q4: ³ÝÓÇÝù, áñáÝó í»ñ³µ»ñÛ³É ·áñÍ»ñÁ Ï³ñ×í»É »Ý | S4: ³ÝÙ»ÕëáõÝ³ÏÝ»ñ, áñáÝó ÝÏ³ïÙ³Ùµ ÏÇñ³éí»É »Ý µÅßÏ³Ï³Ý µÝáõÛÃÇ Ñ³ñÏ³¹ñ³Ï³Ý ÙÇçáóÝ»ñ | T4: ³ÝÓÇÝù, áñáÝó í»ñ³µ»ñÛ³É ·áñÍ»ñÁ Ñ³ÝÓÝí»É »Ý Éñ³óáõóÇã ùÝÝáõÃÛ³Ý
F5: ùÝÝ³ñÏí»É »Ý Áëï ¿áõÃÛ³Ý ¨ ¹³ï³í×Çé Ï³Û³óí»É | G5: ³Û¹ ÃíáõÙ 1 ³ÙëÇó ³í»ÉÇ Å³ÙÏ»ïáõÙ | H5: Ï³ñ×»É »Ý ³ÝûñÇÝ³Ï³Ý ¹³ï³Ï³Ý ÝÇëï»ñáõÙ | I5: ³ÝÙ»ÕëáõÝ³ÏÝ»ñÇ ÝÏ³ïÙ³Ùµ ÏÇñ³é»É »Ý µÅßÏ³Ï³Ý µÝáõÛÃÇ Ñ³ñÏ³¹ñ³Ï³Ý ÙÇçáóÝ»ñ | J5: Ñ³ÝÓÝí»É »Ý Éñ³óáõóÇã ùÝÝáõÃÛ³Ý ³ÝûñÇÝ³ Ï³Ý ¨ ¹³ï³Ï³Ý ÝÇëï | K5: Ñ³ÝÓÝí»É »Ý Áëï ÁÝ¹¹³ïáõÃÛ³Ý | L5: ÁÝ¹³Ù»ÝÁ ³í³ñïí»É »Ý ·áñÍ»ñ (3, 5-8 ëÛáõÝ³ÏÝ»ñÇ ·áõÙ³ñÁ) | Q5: ÁÝ¹³Ù»ÝÁ | R5: ³Û¹ ÃíáõÙ Ñ³Ýó³¹»åÇ Ï³Ù Ñ³Ýó³Ï³½ÙÇ µ³ó³Ï³ÛáõÃÛ³Ý ¨ Ù»Õ³¹ñ³ÝùÁ ã³å³óáõóí³Í ÉÇÝ»Éáõ å³ï×³éáí
D6: 1 | E6: 2 | F6: 3 | G6: 4 | H6: 5 | I6: 6 | J6: 7 | K6: 8 | L6: 9 | M6: 10 | N6: 11 | O6: 12 | P6: 13 | Q6: 14 | R6: 15 | S6: 16 | T6: 17
A7: 1, ²½·³ÛÇÝ ¨ é³ë³Û³Ï³Ý Çñ³í³Ñ³í³ë³ñáõÃÛáõÝÁ Ë³Ëï»ÉÁ
A8: ¶áõÛùÇ Ñ³÷ßï³ÏáõÙ Ï³ï³ñí³Í | B8: 1, ¶áÕáõÃÛ³Ý ÙÇçáóáí | C8: 177 | E8: 7 | F8: 4 | H8: 2 | L8: 6 | M8: 1 | O8: 6 | Q8: 2
B9: 2, ÎáÕáåáõïÇ ÙÇçáóáí | C9: 176
B10: 3, ²í³½³ÏáõÃÛ³Ý ÙÇçáóáí | C10: 175
B11: 4, Ê³ñ¹³ËáõÃÛ³Ý ÙÇçáóáí | C11: 178
B12: 5, Úáõñ³óÝ»Éáõ, í³ïÝ»Éáõ Ï³Ù å³ßïáÝ³Ï³Ý ¹ÇñùÁ ã³ñ³ß³Ñ»Éáõ ÙÇçáóáí | C12: 179
A13: 7, ÞáñÃáõÙ | C13: 182
A14: 8, ¶áõÛùÁ ¹Çï³íáñáõÃÛ³Ùµ áãÝã³óÝ»ÉÁ Ï³Ù íÝ³ë»ÉÁ | C14: 185
A15: 9,¸Çï³íáñÛ³É ëå³ÝáõÃÛáõÝ | C15: 104 | E15: 2 | M15: 2
A16: 10,¸Çï³íáñÛ³É Í³Ýñ Ù³ñÙÝ³Ï³Ý íÝ³ëí³Íù | C16: 112
A17: 11, ´éÝ³µ³ñáõÃÛáõÝ | C17: 138
A18: 12,Î³ß³é³Ï»ñáõÃÛáõÝ, Ï³ß³é³ïíáõÃÛáõÝ, Ï³ß³é³ïíáõÃÛ³Ý ÙÇçÝáñ¹áõÃÛáõÝ | C18: 311,312,313
A19: 13,ÊáõÉÇ·³ÝáõÃÛáõÝ | C19: 258 I
A20: 14,â³ñ³ÙÇï ËáõÉÇ·³ÝáõÃÛáõÝ | C20: 258 II
A21: 15, ²é³ÝÓÝ³å»ë ã³ñ³ÙÇï ËáõÉÇ·³ÝáõÃÛáõÝ | C21: 258 III | E21: 1 | F21: 1 | L21: 1 | O21: 3
A22: 16,¼»Ýù ·áñÍ³¹ñ»Éáõ Ï³Ù ³ÛÝ ·áñÍ³¹ñ»Éáõ ÷áñÓáí ËáõÉÇ·³Ý | C22: 258 IV | E22: 1 | F22: 1 | L22: 1 | O22: 2
A23: 17,îñ³Ýëåáñï³ÛÇÝ ÙÇçáóÝ»ñÇ »ñÃ¨»ÏáõÃÛ³Ý ³Ýíï³Ý·áõÃÛ³Ý ¨ ß³Ñ³·áñßÙ³Ý Ï³ÝáÝÝ»ñÇ Ë³ËïáõÙ | C23: 242 | D23: 1 | E23: 4 | F23: 3 | H23: 2 | L23: 5 | O23: 3 | Q23: 2
A24: 18, ÂÙñ³¹»Õ»ñÇ Ñ»ï Ï³åí³Í Ñ³Ýó³·áñÍáõÃÛáõÝÝ»ñ | C24: 266, 268, 269,271, 272, 273, 276 | D24: 1 | F24: 1 | L24: 1 | O24: 1
A25: 19,²åûñÇÝÇ Ï»ñåáí é³½Ù³ÙÃ»ñù Ï³Ù å³ÛÃáõóÇÏ ÝÛáõÃ»ñ Ïñ»ÉÁ | C25: 235
A26: 20, ²ÛÉ Ñ³Ýó³·áñÍáõÃÛáõÝÝ»ñ | E26: 10 | F26: 6 | H26: 1 | L26: 7 | M26: 3 | O26: 8 | Q26: 1
A27: 21, ÀÜ¸²ØºÜÀ | D27: =SUM(D8:D26) -> 2 | E27: =SUM(E8:E26) -> 25 | F27: =SUM(F8:F26) -> 16 | H27: =SUM(H8:H26) -> 5 | L27: =SUM(L8:L26) -> 21 | M27: =SUM(M8:M26) -> 6 | O27: =SUM(O8:O26) -> 23 | Q27: =SUM(Q8:Q26) -> 5
A28: 22, ²Û¹ ÃíáõÙ` ³Ýã³÷³Ñ³ëÝ»ñÇ í»ñ³µ»ñÛ³É ·áñÍ»ñáí | E28: 3 | F28: 1 | L28: 1 | M28: 2 | O28: 1

Sheet Sunik
A1: Ð³ßí»ïíáõÃÛáõÝ
A2: ÐÐ êÛáõÝÇùÇ Ù³ñ½Ç ³é³çÇÝ ³ïÛ³ÝÇ ¹³ï³ñ³ÝÇ ùñ»³Ï³Ý ·áñÍ»ñÇ ùÝÝáõÃÛ³Ý í»ñ³µ»ñÛ³É 2007Ã. 1-ÇÝ ÏÇë³ÙÛ³ÏÇ Ñ³Ù³ñ
A3: êïáõ·Çã Ñ³í³ë³ñáõÙÝ»ñ §²¦ µ³ÅÝÇ í»ñ³µ»ñÛ³É 1 ¨ 2 ëÛáõÝ³ÏÝ»ñÇ Ãí»ñÇ ·áõÙ³ñÁ Ñ³í³ë³ñ ¿ 9 ¨ 10 ëÛáõÝ³ÏÝ»ñÇ Ãí»ñÇ ·áõÙ³ñÇÝ | C3: ÐÐ ùñ»³Ï³Ý ûñ»Ýë·ñùÇ Ñá¹í³ÍÝ»ñ | D3: ²Ý³í³ñï ·áñÍ»ñÇ ÙÝ³óáñ¹Á Ñ³ßí»ïáõ Å³Ù³Ý³Ï³ßñç³ÝÇ ëÏ½µáõÙ | E3: êï³óí»É »Ý ·áñÍ»ñ Ñ³ßí»ïáõ Å³Ù³Ý³Ï³ßñç³ÝáõÙ | F3: ² øñ»³Ï³Ý ·áñÍ»ñÇ ß³ñÅÁ | O3: Ð³ßí»ïáõ Å³Ù³Ý³Ï³ßñç³ÝáõÙ ·áñÍ»ñáí »Õ»É »Ý (3, 5, 6, 7 ëÛáõÝ³Ï)
F4: ²í³ñïí»É »Ý ·áñÍ»ñ Ñ³ßí»ïáõ Å³Ù³Ý³Ï³ßñç³ÝáõÙ | M4: ²Ý³í³ñï ·áñÍ»ñÇ ÙÝ³óáñ¹Á Ñ³ßí»ïáõ Å³Ù³Ý³Ï³ßñç³ÝÇ í»ñçáõÙ | N4: ³Û¹ ÃíáõÙ ·ïÝíáõÙ »Ý í³ñáõÛÃáõÙ 3 ³ÙëÇó ³í»ÉÇ (Ï³ë»óí³Í ·áñÍ»ñÇ Ñ»ï Ù»Ïï»Õ) | O4: ¹³ï³å³ñïí³ÍÝ»ñ | P4: ³ñ¹³ñ³óí³ÍÝ»ñ | Q4: ³ÝÓÇÝù, áñáÝó í»ñ³µ»ñÛ³É ·áñÍ»ñÁ Ï³ñ×í»É »Ý | S4: ³ÝÙ»ÕëáõÝ³ÏÝ»ñ, áñáÝó ÝÏ³ïÙ³Ùµ ÏÇñ³éí»É »Ý µÅßÏ³Ï³Ý µÝáõÛÃÇ Ñ³ñÏ³¹ñ³Ï³Ý ÙÇçáóÝ»ñ | T4: ³ÝÓÇÝù, áñáÝó í»ñ³µ»ñÛ³É ·áñÍ»ñÁ Ñ³ÝÓÝí»É »Ý Éñ³óáõóÇã ùÝÝáõÃÛ³Ý
F5: ùÝÝ³ñÏí»É »Ý Áëï ¿áõÃÛ³Ý ¨ ¹³ï³í×Çé Ï³Û³óí»É | G5: ³Û¹ ÃíáõÙ 1 ³ÙëÇó ³í»ÉÇ Å³ÙÏ»ïáõÙ | H5: Ï³ñ×»É »Ý ³ÝûñÇÝ³Ï³Ý ¹³ï³Ï³Ý ÝÇëï»ñáõÙ | I5: ³ÝÙ»ÕëáõÝ³ÏÝ»ñÇ ÝÏ³ïÙ³Ùµ ÏÇñ³é»É »Ý µÅßÏ³Ï³Ý µÝáõÛÃÇ Ñ³ñÏ³¹ñ³Ï³Ý ÙÇçáóÝ»ñ | J5: Ñ³ÝÓÝí»É »Ý Éñ³óáõóÇã ùÝÝáõÃÛ³Ý ³ÝûñÇÝ³ Ï³Ý ¨ ¹³ï³Ï³Ý ÝÇëï | K5: Ñ³ÝÓÝí»É »Ý Áëï ÁÝ¹¹³ïáõÃÛ³Ý | L5: ÁÝ¹³Ù»ÝÁ ³í³ñïí»É »Ý ·áñÍ»ñ (3, 5-8 ëÛáõÝ³ÏÝ»ñÇ ·áõÙ³ñÁ) | Q5: ÁÝ¹³Ù»ÝÁ | R5: ³Û¹ ÃíáõÙ Ñ³Ýó³¹»åÇ Ï³Ù Ñ³Ýó³Ï³½ÙÇ µ³ó³Ï³ÛáõÃÛ³Ý ¨ Ù»Õ³¹ñ³ÝùÁ ã³å³óáõóí³Í ÉÇÝ»Éáõ å³ï×³éáí
D6: 1 | E6: 2 | F6: 3 | G6: 4 | H6: 5 | I6: 6 | J6: 7 | K6: 8 | L6: 9 | M6: 10 | N6: 11 | O6: 12 | P6: 13 | Q6: 14 | R6: 15 | S6: 16 | T6: 17
A7: 1, ²½·³ÛÇÝ ¨ é³ë³Û³Ï³Ý Çñ³í³Ñ³í³ë³ñáõÃÛáõÝÁ Ë³Ëï»ÉÁ
A8: ¶áõÛùÇ Ñ³÷ßï³ÏáõÙ Ï³ï³ñí³Í | B8: 1, ¶áÕáõÃÛ³Ý ÙÇçáóáí | C8: 177 | D8: 2 | E8: 18 | F8: 17 | K8: 1 | L8: 18 | M8: 2 | O8: 30
B9: 2, ÎáÕáåáõïÇ ÙÇçáóáí | C9: 176 | D9: 1 | E9: 3 | F9: 3 | L9: 3 | M9: 1 | O9: 3
B10: 3, ²í³½³ÏáõÃÛ³Ý ÙÇçáóáí | C10: 175 | D10: 2 | F10: 2 | L10: 2 | O10: 4
B11: 4, Ê³ñ¹³ËáõÃÛ³Ý ÙÇçáóáí | C11: 178 | D11: 2 | E11: 2 | F11: 3 | L11: 3 | M11: 1 | O11: 2 | P11: 1
B12: 5, Úáõñ³óÝ»Éáõ, í³ïÝ»Éáõ Ï³Ù å³ßïáÝ³Ï³Ý ¹ÇñùÁ ã³ñ³ß³Ñ»Éáõ ÙÇçáóáí | C12: 179 | D12: 2 | E12: 2 | F12: 3 | H12: 1 | L12: 4 | O12: 3 | Q12: 1
A13: 7, ÞáñÃáõÙ | C13: 182
A14: 8, ¶áõÛùÁ ¹Çï³íáñáõÃÛ³Ùµ áãÝã³óÝ»ÉÁ Ï³Ù íÝ³ë»ÉÁ | C14: 185
A15: 9,¸Çï³íáñÛ³É ëå³ÝáõÃÛáõÝ | C15: 104 | D15: 1 | E15: 4 | F15: 4 | L15: 4 | M15: 1 | O15: 4
A16: 10,¸Çï³íáñÛ³É Í³Ýñ Ù³ñÙÝ³Ï³Ý íÝ³ëí³Íù | C16: 112 | E16: 1 | F16: 1 | L16: 1 | O16: 1
A17: 11, ´éÝ³µ³ñáõÃÛáõÝ | C17: 138 | E17: 1 | F17: 1 | L17: 1 | O17: 1
A18: 12,Î³ß³é³Ï»ñáõÃÛáõÝ, Ï³ß³é³ïíáõÃÛáõÝ, Ï³ß³é³ïíáõÃÛ³Ý ÙÇçÝáñ¹áõÃÛáõÝ | C18: 311,312,313 | E18: 7 | F18: 2 | H18: 3 | L18: 5 | M18: 2 | O18: 2 | Q18: 3
A19: 13,ÊáõÉÇ·³ÝáõÃÛáõÝ | C19: 258 I | E19: 5 | F19: 4 | L19: 4 | M19: 1 | O19: 4
A20: 14,â³ñ³ÙÇï ËáõÉÇ·³ÝáõÃÛáõÝ | C20: 258 II | E20: 3 | F20: 3 | L20: 3 | O20: 3
A21: 15, ²é³ÝÓÝ³å»ë ã³ñ³ÙÇï ËáõÉÇ·³ÝáõÃÛáõÝ | C21: 258 III | E21: 1 | F21: 1 | L21: 1 | O21: 2
A22: 16,¼»Ýù ·áñÍ³¹ñ»Éáõ Ï³Ù ³ÛÝ ·áñÍ³¹ñ»Éáõ ÷áñÓáí ËáõÉÇ·³Ý | C22: 258 IV
A23: 17,îñ³Ýëåáñï³ÛÇÝ ÙÇçáóÝ»ñÇ »ñÃ¨»ÏáõÃÛ³Ý ³Ýíï³Ý·áõÃÛ³Ý ¨ ß³Ñ³·áñßÙ³Ý Ï³ÝáÝÝ»ñÇ Ë³ËïáõÙ | C23: 242 | D23: 1 | E23: 7 | F23: 7 | L23: 7 | M23: 1 | O23: 7
A24: 18, ÂÙñ³¹»Õ»ñÇ Ñ»ï Ï³åí³Í Ñ³Ýó³·áñÍáõÃÛáõÝÝ»ñ | C24: 266, 268, 269,271, 272, 273, 276 | D24: 3 | E24: 5 | F24: 6 | H24: 1 | L24: 7 | M24: 1 | O24: 8 | Q24: 1
A25: 19,²åûñÇÝÇ Ï»ñåáí é³½Ù³ÙÃ»ñù Ï³Ù å³ÛÃáõóÇÏ ÝÛáõÃ»ñ Ïñ»ÉÁ | C25: 235 | E25: 3 | F25: 2 | L25: 2 | M25: 1 | O25: 4
A26: 20, ²ÛÉ Ñ³Ýó³·áñÍáõÃÛáõÝÝ»ñ | D26: 22 | E26: 85 | F26: 75 | H26: 2 | I26: 1 | L26: 78 | M26: 29 | O26: 101 | Q26: 2 | R26: 1
A27: 21, ÀÜ¸²ØºÜÀ | D27: =SUM(D8:D26) -> 36 | E27: =SUM(E8:E26) -> 147 | F27: =SUM(F8:F26) -> 134 | H27: =SUM(H8:H26) -> 7 | I27: =SUM(I8:I26) -> 1 | K27: =SUM(K8:K26) -> 1 | L27: =SUM(L8:L26) -> 143 | M27: =SUM(M8:M26) -> 40 | O27: =SUM(O8:O26) -> 179 | P27: =SUM(P8:P26) -> 1 | Q27: =SUM(Q8:Q26) -> 7 | R27: =SUM(R8:R26) -> 1
A28: 22, ²Û¹ ÃíáõÙ` ³Ýã³÷³Ñ³ëÝ»ñÇ í»ñ³µ»ñÛ³É ·áñÍ»ñáí | E28: 8 | F28: 7 | L28: 7 | M28: 1 | O28: 13

Sheet Gex
A1: Ð³ßí»ïíáõÃÛáõÝ
A2: ÐÐ ¶»Õ³ñùáõÝÇùÇ Ù³ñ½Ç ³é³çÇÝ ³ïÛ³ÝÇ ¹³ï³ñ³ÝÇ ùñ»³Ï³Ý ·áñÍ»ñÇ ùÝÝáõÃÛ³Ý í»ñ³µ»ñÛ³É 2007Ã. 1-ÇÝ ÏÇë³ÙÛ³ÏÇ Ñ³Ù³ñ
A3: êïáõ·Çã Ñ³í³ë³ñáõÙÝ»ñ §²¦ µ³ÅÝÇ í»ñ³µ»ñÛ³É 1 ¨ 2 ëÛáõÝ³ÏÝ»ñÇ Ãí»ñÇ ·áõÙ³ñÁ Ñ³í³ë³ñ ¿ 9 ¨ 10 ëÛáõÝ³ÏÝ»ñÇ Ãí»ñÇ ·áõÙ³ñÇÝ | C3: ÐÐ ùñ»³Ï³Ý ûñ»Ýë·ñùÇ Ñá¹í³ÍÝ»ñ | D3: ²Ý³í³ñï ·áñÍ»ñÇ ÙÝ³óáñ¹Á Ñ³ßí»ïáõ Å³Ù³Ý³Ï³ßñç³ÝÇ ëÏ½µáõÙ | E3: êï³óí»É »Ý ·áñÍ»ñ Ñ³ßí»ïáõ Å³Ù³Ý³Ï³ßñç³ÝáõÙ | F3: ² øñ»³Ï³Ý ·áñÍ»ñÇ ß³ñÅÁ | O3: Ð³ßí»ïáõ Å³Ù³Ý³Ï³ßñç³ÝáõÙ ·áñÍ»ñáí »Õ»É »Ý (3, 5, 6, 7 ëÛáõÝ³Ï)
F4: ²í³ñïí»É »Ý ·áñÍ»ñ Ñ³ßí»ïáõ Å³Ù³Ý³Ï³ßñç³ÝáõÙ | M4: ²Ý³í³ñï ·áñÍ»ñÇ ÙÝ³óáñ¹Á Ñ³ßí»ïáõ Å³Ù³Ý³Ï³ßñç³ÝÇ í»ñçáõÙ | N4: ³Û¹ ÃíáõÙ ·ïÝíáõÙ »Ý í³ñáõÛÃáõÙ 3 ³ÙëÇó ³í»ÉÇ (Ï³ë»óí³Í ·áñÍ»ñÇ Ñ»ï Ù»Ïï»Õ) | O4: ¹³ï³å³ñïí³ÍÝ»ñ | P4: ³ñ¹³ñ³óí³ÍÝ»ñ | Q4: ³ÝÓÇÝù, áñáÝó í»ñ³µ»ñÛ³É ·áñÍ»ñÁ Ï³ñ×í»É »Ý | S4: ³ÝÙ»ÕëáõÝ³ÏÝ»ñ, áñáÝó ÝÏ³ïÙ³Ùµ ÏÇñ³éí»É »Ý µÅßÏ³Ï³Ý µÝáõÛÃÇ Ñ³ñÏ³¹ñ³Ï³Ý ÙÇçáóÝ»ñ | T4: ³ÝÓÇÝù, áñáÝó í»ñ³µ»ñÛ³É ·áñÍ»ñÁ Ñ³ÝÓÝí»É »Ý Éñ³óáõóÇã ùÝÝáõÃÛ³Ý
F5: ùÝÝ³ñÏí»É »Ý Áëï ¿áõÃÛ³Ý ¨ ¹³ï³í×Çé Ï³Û³óí»É | G5: ³Û¹ ÃíáõÙ 1 ³ÙëÇó ³í»ÉÇ Å³ÙÏ»ïáõÙ | H5: Ï³ñ×»É »Ý ³ÝûñÇÝ³Ï³Ý ¹³ï³Ï³Ý ÝÇëï»ñáõÙ | I5: ³ÝÙ»ÕëáõÝ³ÏÝ»ñÇ ÝÏ³ïÙ³Ùµ ÏÇñ³é»É »Ý µÅßÏ³Ï³Ý µÝáõÛÃÇ Ñ³ñÏ³¹ñ³Ï³Ý ÙÇçáóÝ»ñ | J5: Ñ³ÝÓÝí»É »Ý Éñ³óáõóÇã ùÝÝáõÃÛ³Ý ³ÝûñÇÝ³ Ï³Ý ¨ ¹³ï³Ï³Ý ÝÇëï | K5: Ñ³ÝÓÝí»É »Ý Áëï ÁÝ¹¹³ïáõÃÛ³Ý | L5: ÁÝ¹³Ù»ÝÁ ³í³ñïí»É »Ý ·áñÍ»ñ (3, 5-8 ëÛáõÝ³ÏÝ»ñÇ ·áõÙ³ñÁ) | Q5: ÁÝ¹³Ù»ÝÁ | R5: ³Û¹ ÃíáõÙ Ñ³Ýó³¹»åÇ Ï³Ù Ñ³Ýó³Ï³½ÙÇ µ³ó³Ï³ÛáõÃÛ³Ý ¨ Ù»Õ³¹ñ³ÝùÁ ã³å³óáõóí³Í ÉÇÝ»Éáõ å³ï×³éáí
D6: 1 | E6: 2 | F6: 3 | G6: 4 | H6: 5 | I6: 6 | J6: 7 | K6: 8 | L6: 9 | M6: 10 | N6: 11 | O6: 12 | P6: 13 | Q6: 14 | R6: 15 | S6: 16 | T6: 17
A7: 1, ²½·³ÛÇÝ ¨ é³ë³Û³Ï³Ý Çñ³í³Ñ³í³ë³ñáõÃÛáõÝÁ Ë³Ëï»ÉÁ
A8: ¶áõÛùÇ Ñ³÷ßï³ÏáõÙ Ï³ï³ñí³Í | B8: 1, ¶áÕáõÃÛ³Ý ÙÇçáóáí | C8: 177 | D8: 6 | E8: 14 | F8: 15 | J8: 1 | L8: 16 | M8: 4 | N8: 2 | O8: 33 | T8: 1
B9: 2, ÎáÕáåáõïÇ ÙÇçáóáí | C9: 176 | O9: 1
B10: 3, ²í³½³ÏáõÃÛ³Ý ÙÇçáóáí | C10: 175 | D10: 1 | F10: 1 | L10: 1
B11: 4, Ê³ñ¹³ËáõÃÛ³Ý ÙÇçáóáí | C11: 178 | E11: 2 | F11: 2 | L11: 2 | O11: 2
B12: 5, Úáõñ³óÝ»Éáõ, í³ïÝ»Éáõ Ï³Ù å³ßïáÝ³Ï³Ý ¹ÇñùÁ ã³ñ³ß³Ñ»Éáõ ÙÇçáóáí | C12: 179 | D12: 1 | E12: 1 | F12: 2 | L12: 2 | O12: 2
A13: 7, ÞáñÃáõÙ | C13: 182
A14: 8, ¶áõÛùÁ ¹Çï³íáñáõÃÛ³Ùµ áãÝã³óÝ»ÉÁ Ï³Ù íÝ³ë»ÉÁ | C14: 185 | D14: 1 | H14: 1 | L14: 1 | R14: 2
A15: 9,¸Çï³íáñÛ³É ëå³ÝáõÃÛáõÝ | C15: 104 | E15: 4 | I15: 3 | L15: 3 | M15: 1 | S15: 3
A16: 10,¸Çï³íáñÛ³É Í³Ýñ Ù³ñÙÝ³Ï³Ý íÝ³ëí³Íù | C16: 112 | E16: 2 | F16: 2 | L16: 2 | O16: 2
A17: 11, ´éÝ³µ³ñáõÃÛáõÝ | C17: 138
A18: 12,Î³ß³é³Ï»ñáõÃÛáõÝ, Ï³ß³é³ïíáõÃÛáõÝ, Ï³ß³é³ïíáõÃÛ³Ý ÙÇçÝáñ¹áõÃÛáõÝ | C18: 311,312,313 | E18: 1 | F18: 1 | L18: 1 | O18: 1
A19: 13,ÊáõÉÇ·³ÝáõÃÛáõÝ | C19: 258 I
A20: 14,â³ñ³ÙÇï ËáõÉÇ·³ÝáõÃÛáõÝ | C20: 258 II | D20: 1 | E20: 1 | F20: 2 | L20: 2 | O20: 2
A21: 15, ²é³ÝÓÝ³å»ë ã³ñ³ÙÇï ËáõÉÇ·³ÝáõÃÛáõÝ | C21: 258 III | E21: 1 | F21: 1 | L21: 1 | O21: 1
A22: 16,¼»Ýù ·áñÍ³¹ñ»Éáõ Ï³Ù ³ÛÝ ·áñÍ³¹ñ»Éáõ ÷áñÓáí ËáõÉÇ·³Ý | C22: 258 IV | D22: 2 | E22: 1 | F22: 2 | L22: 2 | M22: 1 | O22: 1
A23: 17,îñ³Ýëåáñï³ÛÇÝ ÙÇçáóÝ»ñÇ »ñÃ¨»ÏáõÃÛ³Ý ³Ýíï³Ý·áõÃÛ³Ý ¨ ß³Ñ³·áñßÙ³Ý Ï³ÝáÝÝ»ñÇ Ë³ËïáõÙ | C23: 242 | D23: 3 | E23: 2 | F23: 4 | L23: 4 | M23: 1 | O23: 4
A24: 18, ÂÙñ³¹»Õ»ñÇ Ñ»ï Ï³åí³Í Ñ³Ýó³·áñÍáõÃÛáõÝÝ»ñ | C24: 266, 268, 269,271, 272, 273, 276 | D24: 1 | E24: 4 | F24: 5 | L24: 5 | O24: 7
A25: 19,²åûñÇÝÇ Ï»ñåáí é³½Ù³ÙÃ»ñù Ï³Ù å³ÛÃáõóÇÏ ÝÛáõÃ»ñ Ïñ»ÉÁ | C25: 235
A26: 20, ²ÛÉ Ñ³Ýó³·áñÍáõÃÛáõÝÝ»ñ | D26: 15 | E26: 28 | F26: 32 | H26: 4 | J26: 1 | L26: 37 | M26: 6 | N26: 1 | O26: 48 | Q26: 3 | R26: 1
A27: 21, ÀÜ¸²ØºÜÀ | D27: =SUM(D8:D26) -> 31 | E27: =SUM(E8:E26) -> 61 | F27: =SUM(F8:F26) -> 69 | H27: =SUM(H8:H26) -> 5 | I27: =SUM(I8:I26) -> 3 | J27: =SUM(J8:J26) -> 2 | L27: =SUM(L8:L26) -> 79 | M27: =SUM(M8:M26) -> 13 | N27: =SUM(N8:N26) -> 3 | O27: =SUM(O8:O26) -> 104 | Q27: =SUM(Q8:Q26) -> 3 | R27: =SUM(R8:R26) -> 3 | S27: =SUM(S8:S26) -> 3 | T27: =SUM(T8:T26) -> 1
A28: 22, ²Û¹ ÃíáõÙ` ³Ýã³÷³Ñ³ëÝ»ñÇ í»ñ³µ»ñÛ³É ·áñÍ»ñáí | D28: 2 | E28: 4 | F28: 5 | H28: 1 | L28: 6 | O28: 12 | Q28: 1

Sheet Lori
A1: Ð³ßí»ïíáõÃÛáõÝ
A2: ÐÐ Èáéáõ Ù³ñ½Ç ³é³çÇÝ ³ïÛ³ÝÇ ¹³ï³ñ³ÝÇ ùñ»³Ï³Ý ·áñÍ»ñÇ ùÝÝáõÃÛ³Ý í»ñ³µ»ñÛ³É 2007Ã 1-ÇÝ ÏÇë³ÙÛ³ÏÇ Ñ³Ù³ñ
A3: êïáõ·Çã Ñ³í³ë³ñáõÙÝ»ñ §²¦ µ³ÅÝÇ í»ñ³µ»ñÛ³É 1 ¨ 2 ëÛáõÝ³ÏÝ»ñÇ Ãí»ñÇ ·áõÙ³ñÁ Ñ³í³ë³ñ ¿ 9 ¨ 10 ëÛáõÝ³ÏÝ»ñÇ Ãí»ñÇ ·áõÙ³ñÇÝ | C3: ÐÐ ùñ»³Ï³Ý ûñ»Ýë·ñùÇ Ñá¹í³ÍÝ»ñ | D3: ²Ý³í³ñï ·áñÍ»ñÇ ÙÝ³óáñ¹Á Ñ³ßí»ïáõ Å³Ù³Ý³Ï³ßñç³ÝÇ ëÏ½µáõÙ | E3: êï³óí»É »Ý ·áñÍ»ñ Ñ³ßí»ïáõ Å³Ù³Ý³Ï³ßñç³ÝáõÙ | F3: ² øñ»³Ï³Ý ·áñÍ»ñÇ ß³ñÅÁ | O3: Ð³ßí»ïáõ Å³Ù³Ý³Ï³ßñç³ÝáõÙ ·áñÍ»ñáí »Õ»É »Ý (3, 5, 6, 7 ëÛáõÝ³Ï)
F4: ²í³ñïí»É »Ý ·áñÍ»ñ Ñ³ßí»ïáõ Å³Ù³Ý³Ï³ßñç³ÝáõÙ | M4: ²Ý³í³ñï ·áñÍ»ñÇ ÙÝ³óáñ¹Á Ñ³ßí»ïáõ Å³Ù³Ý³Ï³ßñç³ÝÇ í»ñçáõÙ | N4: ³Û¹ ÃíáõÙ ·ïÝíáõÙ »Ý í³ñáõÛÃáõÙ 3 ³ÙëÇó ³í»ÉÇ (Ï³ë»óí³Í ·áñÍ»ñÇ Ñ»ï Ù»Ïï»Õ) | O4: ¹³ï³å³ñïí³ÍÝ»ñ | P4: ³ñ¹³ñ³óí³ÍÝ»ñ | Q4: ³ÝÓÇÝù, áñáÝó í»ñ³µ»ñÛ³É ·áñÍ»ñÁ Ï³ñ×í»É »Ý | S4: ³ÝÙ»ÕëáõÝ³ÏÝ»ñ, áñáÝó ÝÏ³ïÙ³Ùµ ÏÇñ³éí»É »Ý µÅßÏ³Ï³Ý µÝáõÛÃÇ Ñ³ñÏ³¹ñ³Ï³Ý ÙÇçáóÝ»ñ | T4: ³ÝÓÇÝù, áñáÝó í»ñ³µ»ñÛ³É ·áñÍ»ñÁ Ñ³ÝÓÝí»É »Ý Éñ³óáõóÇã ùÝÝáõÃÛ³Ý
F5: ùÝÝ³ñÏí»É »Ý Áëï ¿áõÃÛ³Ý ¨ ¹³ï³í×Çé Ï³Û³óí»É | G5: ³Û¹ ÃíáõÙ 1 ³ÙëÇó ³í»ÉÇ Å³ÙÏ»ïáõÙ | H5: Ï³ñ×»É »Ý ³ÝûñÇÝ³Ï³Ý ¹³ï³Ï³Ý ÝÇëï»ñáõÙ | I5: ³ÝÙ»ÕëáõÝ³ÏÝ»ñÇ ÝÏ³ïÙ³Ùµ ÏÇñ³é»É »Ý µÅßÏ³Ï³Ý µÝáõÛÃÇ Ñ³ñÏ³¹ñ³Ï³Ý ÙÇçáóÝ»ñ | J5: Ñ³ÝÓÝí»É »Ý Éñ³óáõóÇã ùÝÝáõÃÛ³Ý ³ÝûñÇÝ³ Ï³Ý ¨ ¹³ï³Ï³Ý ÝÇëï | K5: Ñ³ÝÓÝí»É »Ý Áëï ÁÝ¹¹³ïáõÃÛ³Ý | L5: ÁÝ¹³Ù»ÝÁ ³í³ñïí»É »Ý ·áñÍ»ñ (3, 5-8 ëÛáõÝ³ÏÝ»ñÇ ·áõÙ³ñÁ) | Q5: ÁÝ¹³Ù»ÝÁ | R5: ³Û¹ ÃíáõÙ Ñ³Ýó³¹»åÇ Ï³Ù Ñ³Ýó³Ï³½ÙÇ µ³ó³Ï³ÛáõÃÛ³Ý ¨ Ù»Õ³¹ñ³ÝùÁ ã³å³óáõóí³Í ÉÇÝ»Éáõ å³ï×³éáí
D6: 1 | E6: 2 | F6: 3 | G6: 4 | H6: 5 | I6: 6 | J6: 7 | K6: 8 | L6: 9 | M6: 10 | N6: 11 | O6: 12 | P6: 13 | Q6: 14 | R6: 15 | S6: 16 | T6: 17
A7: 1, ²½·³ÛÇÝ ¨ é³ë³Û³Ï³Ý Çñ³í³Ñ³í³ë³ñáõÃÛáõÝÁ Ë³Ëï»ÉÁ
A8: ¶áõÛùÇ Ñ³÷ßï³ÏáõÙ Ï³ï³ñí³Í | B8: 1, ¶áÕáõÃÛ³Ý ÙÇçáóáí | C8: 177 | D8: 6 | E8: 41 | F8: 29 | H8: 3 | K8: 2 | L8: 34 | M8: 13 | N8: 2 | O8: 41 | Q8: 3
B9: 2, ÎáÕáåáõïÇ ÙÇçáóáí | C9: 176 | D9: 1 | E9: 6 | F9: 6 | L9: 6 | M9: 1 | O9: 5
B10: 3, ²í³½³ÏáõÃÛ³Ý ÙÇçáóáí | C10: 175 | E10: 1 | F10: 1 | L10: 1 | O10: 1
B11: 4, Ê³ñ¹³ËáõÃÛ³Ý ÙÇçáóáí | C11: 178 | D11: 1 | E11: 6 | F11: 5 | K11: 1 | L11: 6 | M11: 1 | O11: 5
B12: 5, Úáõñ³óÝ»Éáõ, í³ïÝ»Éáõ Ï³Ù å³ßïáÝ³Ï³Ý ¹ÇñùÁ ã³ñ³ß³Ñ»Éáõ ÙÇçáóáí | C12: 179 | D12: 1 | E12: 4 | F12: 3 | H12: 1 | L12: 4 | M12: 1 | O12: 4 | Q12: 1
A13: 7, ÞáñÃáõÙ | C13: 182
A14: 8, ¶áõÛùÁ ¹Çï³íáñáõÃÛ³Ùµ áãÝã³óÝ»ÉÁ Ï³Ù íÝ³ë»ÉÁ | C14: 185 | D14: 1 | E14: 1 | I14: 1 | L14: 1 | M14: 1 | N14: 1 | S14: 1
A15: 9,¸Çï³íáñÛ³É ëå³ÝáõÃÛáõÝ | C15: 104 | D15: 2 | E15: 6 | F15: 3 | L15: 3 | M15: 5 | N15: 1 | O15: 3
A16: 10,¸Çï³íáñÛ³É Í³Ýñ Ù³ñÙÝ³Ï³Ý íÝ³ëí³Íù | C16: 112 | D16: 2 | E16: 5 | F16: 4 | I16: 2 | L16: 6 | M16: 1 | O16: 4 | S16: 2
A17: 11, ´éÝ³µ³ñáõÃÛáõÝ | C17: 138 | D17: 1 | E17: 1 | F17: 1 | L17: 1 | M17: 1 | O17: 2
A18: 12,Î³ß³é³Ï»ñáõÃÛáõÝ, Ï³ß³é³ïíáõÃÛáõÝ, Ï³ß³é³ïíáõÃÛ³Ý ÙÇçÝáñ¹áõÃÛáõÝ | C18: 311,312,313 | D18: 1 | F18: 1 | L18: 1 | O18: 2
A19: 13,ÊáõÉÇ·³ÝáõÃÛáõÝ | C19: 258 I | E19: 1 | F19: 1 | L19: 1 | O19: 1
A20: 14,â³ñ³ÙÇï ËáõÉÇ·³ÝáõÃÛáõÝ | C20: 258 II | D20: 1 | E20: 4 | F20: 5 | L20: 5 | O20: 5
A21: 15, ²é³ÝÓÝ³å»ë ã³ñ³ÙÇï ËáõÉÇ·³ÝáõÃÛáõÝ | C21: 258 III | D21: 2 | E21: 3 | F21: 2 | L21: 2 | M21: 3 | N21: 1 | O21: 3
A22: 16,¼»Ýù ·áñÍ³¹ñ»Éáõ Ï³Ù ³ÛÝ ·áñÍ³¹ñ»Éáõ ÷áñÓáí ËáõÉÇ·³Ý | C22: 258 IV | D22: 1 | E22: 1 | F22: 2 | L22: 2 | O22: 1
A23: 17,îñ³Ýëåáñï³ÛÇÝ ÙÇçáóÝ»ñÇ »ñÃ¨»ÏáõÃÛ³Ý ³Ýíï³Ý·áõÃÛ³Ý ¨ ß³Ñ³·áñßÙ³Ý Ï³ÝáÝÝ»ñÇ Ë³ËïáõÙ | C23: 242 | D23: 4 | E23: 4 | F23: 3 | H23: 2 | L23: 5 | M23: 3 | N23: 3 | O23: 3 | Q23: 2
A24: 18, ÂÙñ³¹»Õ»ñÇ Ñ»ï Ï³åí³Í Ñ³Ýó³·áñÍáõÃÛáõÝÝ»ñ | C24: 266, 268, 269,271, 272, 273, 276 | D24: 1 | F24: 1 | L24: 1 | O24: 1
A25: 19,²åûñÇÝÇ Ï»ñåáí é³½Ù³ÙÃ»ñù Ï³Ù å³ÛÃáõóÇÏ ÝÛáõÃ»ñ Ïñ»ÉÁ | C25: 235 | D25: 2 | E25: 2 | F25: 4 | L25: 4 | O25: 4
A26: 20, ²ÛÉ Ñ³Ýó³·áñÍáõÃÛáõÝÝ»ñ | D26: 20 | E26: 70 | F26: 65 | H26: 7 | K26: 2 | L26: 74 | M26: 16 | N26: 5 | O26: 82 | P26: 2 | Q26: 7
A27: 21, ÀÜ¸²ØºÜÀ | D27: =SUM(D8:D26) -> 47 | E27: =SUM(E8:E26) -> 156 | F27: =SUM(F8:F26) -> 136 | H27: =SUM(H8:H26) -> 13 | I27: =SUM(I8:I26) -> 3 | K27: =SUM(K8:K26) -> 5 | L27: =SUM(L8:L26) -> 157 | M27: =SUM(M8:M26) -> 46 | N27: =SUM(N8:N26) -> 13 | O27: =SUM(O8:O26) -> 167 | P27: =SUM(P8:P26) -> 2 | Q27: =SUM(Q8:Q26) -> 13 | S27: =SUM(S8:S26) -> 3
A28: 22, ²Û¹ ÃíáõÙ` ³Ýã³÷³Ñ³ëÝ»ñÇ í»ñ³µ»ñÛ³É ·áñÍ»ñáí | D28: 1 | E28: 6 | F28: 6 | H28: 1 | L28: 7 | O28: 8 | Q28: 1

Sheet Kotaik
A1: Ð³ßí»ïíáõÃÛáõÝ
A2: ÐÐ Îáï³ÛùÇ Ù³ñ½Ç ³é³çÇÝ ³ïÛ³ÝÇ ¹³ï³ñ³ÝÇ ùñ»³Ï³Ý ·áñÍ»ñÇ ùÝÝáõÃÛ³Ý í»ñ³µ»ñÛ³É 2007Ã. 1-ÇÝ ÏÇë³ÙÛ³ÏÇ Ñ³Ù³ñ
A3: êïáõ·Çã Ñ³í³ë³ñáõÙÝ»ñ §²¦ µ³ÅÝÇ í»ñ³µ»ñÛ³É 1 ¨ 2 ëÛáõÝ³ÏÝ»ñÇ Ãí»ñÇ ·áõÙ³ñÁ Ñ³í³ë³ñ ¿ 9 ¨ 10 ëÛáõÝ³ÏÝ»ñÇ Ãí»ñÇ ·áõÙ³ñÇÝ | C3: ÐÐ ùñ»³Ï³Ý ûñ»Ýë·ñùÇ Ñá¹í³ÍÝ»ñ | D3: ²Ý³í³ñï ·áñÍ»ñÇ ÙÝ³óáñ¹Á Ñ³ßí»ïáõ Å³Ù³Ý³Ï³ßñç³ÝÇ ëÏ½µáõÙ | E3: êï³óí»É »Ý ·áñÍ»ñ Ñ³ßí»ïáõ Å³Ù³Ý³Ï³ßñç³ÝáõÙ | F3: ² øñ»³Ï³Ý ·áñÍ»ñÇ ß³ñÅÁ | O3: Ð³ßí»ïáõ Å³Ù³Ý³Ï³ßñç³ÝáõÙ ·áñÍ»ñáí »Õ»É »Ý (3, 5, 6, 7 ëÛáõÝ³Ï)
F4: ²í³ñïí»É »Ý ·áñÍ»ñ Ñ³ßí»ïáõ Å³Ù³Ý³Ï³ßñç³ÝáõÙ | M4: ²Ý³í³ñï ·áñÍ»ñÇ ÙÝ³óáñ¹Á Ñ³ßí»ïáõ Å³Ù³Ý³Ï³ßñç³ÝÇ í»ñçáõÙ | N4: ³Û¹ ÃíáõÙ ·ïÝíáõÙ »Ý í³ñáõÛÃáõÙ 3 ³ÙëÇó ³í»ÉÇ (Ï³ë»óí³Í ·áñÍ»ñÇ Ñ»ï Ù»Ïï»Õ) | O4: ¹³ï³å³ñïí³ÍÝ»ñ | P4: ³ñ¹³ñ³óí³ÍÝ»ñ | Q4: ³ÝÓÇÝù, áñáÝó í»ñ³µ»ñÛ³É ·áñÍ»ñÁ Ï³ñ×í»É »Ý | S4: ³ÝÙ»ÕëáõÝ³ÏÝ»ñ, áñáÝó ÝÏ³ïÙ³Ùµ ÏÇñ³éí»É »Ý µÅßÏ³Ï³Ý µÝáõÛÃÇ Ñ³ñÏ³¹ñ³Ï³Ý ÙÇçáóÝ»ñ | T4: ³ÝÓÇÝù, áñáÝó í»ñ³µ»ñÛ³É ·áñÍ»ñÁ Ñ³ÝÓÝí»É »Ý Éñ³óáõóÇã ùÝÝáõÃÛ³Ý
F5: ùÝÝ³ñÏí»É »Ý Áëï ¿áõÃÛ³Ý ¨ ¹³ï³í×Çé Ï³Û³óí»É | G5: ³Û¹ ÃíáõÙ 1 ³ÙëÇó ³í»ÉÇ Å³ÙÏ»ïáõÙ | H5: Ï³ñ×»É »Ý ³ÝûñÇÝ³Ï³Ý ¹³ï³Ï³Ý ÝÇëï»ñáõÙ | I5: ³ÝÙ»ÕëáõÝ³ÏÝ»ñÇ ÝÏ³ïÙ³Ùµ ÏÇñ³é»É »Ý µÅßÏ³Ï³Ý µÝáõÛÃÇ Ñ³ñÏ³¹ñ³Ï³Ý ÙÇçáóÝ»ñ | J5: Ñ³ÝÓÝí»É »Ý Éñ³óáõóÇã ùÝÝáõÃÛ³Ý ³ÝûñÇÝ³ Ï³Ý ¨ ¹³ï³Ï³Ý ÝÇëï | K5: Ñ³ÝÓÝí»É »Ý Áëï ÁÝ¹¹³ïáõÃÛ³Ý | L5: ÁÝ¹³Ù»ÝÁ ³í³ñïí»É »Ý ·áñÍ»ñ (3, 5-8 ëÛáõÝ³ÏÝ»ñÇ ·áõÙ³ñÁ) | Q5: ÁÝ¹³Ù»ÝÁ | R5: ³Û¹ ÃíáõÙ Ñ³Ýó³¹»åÇ Ï³Ù Ñ³Ýó³Ï³½ÙÇ µ³ó³Ï³ÛáõÃÛ³Ý ¨ Ù»Õ³¹ñ³ÝùÁ ã³å³óáõóí³Í ÉÇÝ»Éáõ å³ï×³éáí
D6: 1 | E6: 2 | F6: 3 | G6: 4 | H6: 5 | I6: 6 | J6: 7 | K6: 8 | L6: 9 | M6: 10 | N6: 11 | O6: 12 | P6: 13 | Q6: 14 | R6: 15 | S6: 16 | T6: 17
A7: 1, ²½·³ÛÇÝ ¨ é³ë³Û³Ï³Ý Çñ³í³Ñ³í³ë³ñáõÃÛáõÝÁ Ë³Ëï»ÉÁ
A8: ¶áõÛùÇ Ñ³÷ßï³ÏáõÙ Ï³ï³ñí³Í | B8: 1, ¶áÕáõÃÛ³Ý ÙÇçáóáí | C8: 177 | D8: 8 | E8: 31 | F8: 28 | L8: 28 | M8: 11 | N8: 4 | O8: 47 | T8: 1
B9: 2, ÎáÕáåáõïÇ ÙÇçáóáí | C9: 176 | D9: 1 | E9: 1 | F9: 2 | L9: 2 | O9: 2
B10: 3, ²í³½³ÏáõÃÛ³Ý ÙÇçáóáí | C10: 175 | E10: 1 | F10: 1 | L10: 1 | O10: 2
B11: 4, Ê³ñ¹³ËáõÃÛ³Ý ÙÇçáóáí | C11: 178 | D11: 4 | E11: 4 | F11: 6 | L11: 6 | M11: 2 | N11: 1 | O11: 7
B12: 5, Úáõñ³óÝ»Éáõ, í³ïÝ»Éáõ Ï³Ù å³ßïáÝ³Ï³Ý ¹ÇñùÁ ã³ñ³ß³Ñ»Éáõ ÙÇçáóáí | C12: 179 | D12: 2 | E12: 3 | F12: 3 | L12: 3 | M12: 2 | N12: 1 | O12: 3
A13: 7, ÞáñÃáõÙ | C13: 182
A14: 8, ¶áõÛùÁ ¹Çï³íáñáõÃÛ³Ùµ áãÝã³óÝ»ÉÁ Ï³Ù íÝ³ë»ÉÁ | C14: 185 | E14: 3 | F14: 2 | I14: 1 | L14: 3 | O14: 2 | S14: 1
A15: 9,¸Çï³íáñÛ³É ëå³ÝáõÃÛáõÝ | C15: 104 | D15: 3 | E15: 6 | F15: 3 | J15: 1 | K15: 1 | L15: 5 | M15: 4 | O15: 3 | T15: 1
A16: 10,¸Çï³íáñÛ³É Í³Ýñ Ù³ñÙÝ³Ï³Ý íÝ³ëí³Íù | C16: 112 | D16: 3 | E16: 3 | F16: 6 | L16: 6 | O16: 7
A17: 11, ´éÝ³µ³ñáõÃÛáõÝ | C17: 138
A18: 12,Î³ß³é³Ï»ñáõÃÛáõÝ, Ï³ß³é³ïíáõÃÛáõÝ, Ï³ß³é³ïíáõÃÛ³Ý ÙÇçÝáñ¹áõÃÛáõÝ | C18: 311,312,313
A19: 13,ÊáõÉÇ·³ÝáõÃÛáõÝ | C19: 258 I
A20: 14,â³ñ³ÙÇï ËáõÉÇ·³ÝáõÃÛáõÝ | C20: 258 II | O20: 1
A21: 15, ²é³ÝÓÝ³å»ë ã³ñ³ÙÇï ËáõÉÇ·³ÝáõÃÛáõÝ | C21: 258 III | D21: 1 | E21: 1 | F21: 2 | L21: 2 | O21: 5
A22: 16,¼»Ýù ·áñÍ³¹ñ»Éáõ Ï³Ù ³ÛÝ ·áñÍ³¹ñ»Éáõ ÷áñÓáí ËáõÉÇ·³Ý | C22: 258 IV
A23: 17,îñ³Ýëåáñï³ÛÇÝ ÙÇçáóÝ»ñÇ »ñÃ¨»ÏáõÃÛ³Ý ³Ýíï³Ý·áõÃÛ³Ý ¨ ß³Ñ³·áñßÙ³Ý Ï³ÝáÝÝ»ñÇ Ë³ËïáõÙ | C23: 242 | D23: 6 | E23: 4 | F23: 7 | L23: 7 | M23: 3 | N23: 1 | O23: 7
A24: 18, ÂÙñ³¹»Õ»ñÇ Ñ»ï Ï³åí³Í Ñ³Ýó³·áñÍáõÃÛáõÝÝ»ñ | C24: 266, 268, 269,271, 272, 273, 276 | D24: 3 | E24: 4 | F24: 4 | L24: 4 | M24: 3 | N24: 2 | O24: 7
A25: 19,²åûñÇÝÇ Ï»ñåáí é³½Ù³ÙÃ»ñù Ï³Ù å³ÛÃáõóÇÏ ÝÛáõÃ»ñ Ïñ»ÉÁ | C25: 235 | E25: 1 | F25: 1 | L25: 1 | O25: 1
A26: 20, ²ÛÉ Ñ³Ýó³·áñÍáõÃÛáõÝÝ»ñ | D26: 14 | E26: 19 | F26: 25 | H26: 3 | J26: 1 | L26: 29 | M26: 4 | N26: 2 | O26: 26 | Q26: 3 | T26: 1
A27: 21, ÀÜ¸²ØºÜÀ | D27: =SUM(D8:D26) -> 45 | E27: =SUM(E8:E26) -> 81 | F27: =SUM(F8:F26) -> 90 | H27: =SUM(H8:H26) -> 3 | I27: =SUM(I8:I26) -> 1 | J27: =SUM(J8:J26) -> 2 | K27: =SUM(K8:K26) -> 1 | L27: =SUM(L8:L26) -> 97 | M27: =SUM(M8:M26) -> 29 | N27: =SUM(N8:N26) -> 11 | O27: =SUM(O8:O26) -> 120 | Q27: =SUM(Q8:Q26) -> 3 | S27: =SUM(S8:S26) -> 1 | T27: =SUM(T8:T26) -> 3
A28: 22, ²Û¹ ÃíáõÙ` ³Ýã³÷³Ñ³ëÝ»ñÇ í»ñ³µ»ñÛ³É ·áñÍ»ñáí | D28: 1 | E28: 6 | F28: 7 | L28: 7 | O28: 8

Sheet Armavir
A1: Ð³ßí»ïíáõÃÛáõÝ
A2: ÐÐ ²ñÙ³íÇñÇ Ù³ñ½Ç ³é³çÇÝ ³ïÛ³ÝÇ ¹³ï³ñ³ÝÇ ùñ»³Ï³Ý ·áñÍ»ñÇ ùÝÝáõÃÛ³Ý í»ñ³µ»ñÛ³É 2007Ã.1-ÇÝ ÏÇë³ÙÛ³ÏÇ Ñ³Ù³ñ
A3: êïáõ·Çã Ñ³í³ë³ñáõÙÝ»ñ §²¦ µ³ÅÝÇ í»ñ³µ»ñÛ³É 1 ¨ 2 ëÛáõÝ³ÏÝ»ñÇ Ãí»ñÇ ·áõÙ³ñÁ Ñ³í³ë³ñ ¿ 9 ¨ 10 ëÛáõÝ³ÏÝ»ñÇ Ãí»ñÇ ·áõÙ³ñÇÝ | C3: ÐÐ ùñ»³Ï³Ý ûñ»Ýë·ñùÇ Ñá¹í³ÍÝ»ñ | D3: ²Ý³í³ñï ·áñÍ»ñÇ ÙÝ³óáñ¹Á Ñ³ßí»ïáõ Å³Ù³Ý³Ï³ßñç³ÝÇ ëÏ½µáõÙ | E3: êï³óí»É »Ý ·áñÍ»ñ Ñ³ßí»ïáõ Å³Ù³Ý³Ï³ßñç³ÝáõÙ | F3: ² øñ»³Ï³Ý ·áñÍ»ñÇ ß³ñÅÁ | O3: Ð³ßí»ïáõ Å³Ù³Ý³Ï³ßñç³ÝáõÙ ·áñÍ»ñáí »Õ»É »Ý (3, 5, 6, 7 ëÛáõÝ³Ï)
F4: ²í³ñïí»É »Ý ·áñÍ»ñ Ñ³ßí»ïáõ Å³Ù³Ý³Ï³ßñç³ÝáõÙ | M4: ²Ý³í³ñï ·áñÍ»ñÇ ÙÝ³óáñ¹Á Ñ³ßí»ïáõ Å³Ù³Ý³Ï³ßñç³ÝÇ í»ñçáõÙ | N4: ³Û¹ ÃíáõÙ ·ïÝíáõÙ »Ý í³ñáõÛÃáõÙ 3 ³ÙëÇó ³í»ÉÇ (Ï³ë»óí³Í ·áñÍ»ñÇ Ñ»ï Ù»Ïï»Õ) | O4: ¹³ï³å³ñïí³ÍÝ»ñ | P4: ³ñ¹³ñ³óí³ÍÝ»ñ | Q4: ³ÝÓÇÝù, áñáÝó í»ñ³µ»ñÛ³É ·áñÍ»ñÁ Ï³ñ×í»É »Ý | S4: ³ÝÙ»ÕëáõÝ³ÏÝ»ñ, áñáÝó ÝÏ³ïÙ³Ùµ ÏÇñ³éí»É »Ý µÅßÏ³Ï³Ý µÝáõÛÃÇ Ñ³ñÏ³¹ñ³Ï³Ý ÙÇçáóÝ»ñ | T4: ³ÝÓÇÝù, áñáÝó í»ñ³µ»ñÛ³É ·áñÍ»ñÁ Ñ³ÝÓÝí»É »Ý Éñ³óáõóÇã ùÝÝáõÃÛ³Ý
F5: ùÝÝ³ñÏí»É »Ý Áëï ¿áõÃÛ³Ý ¨ ¹³ï³í×Çé Ï³Û³óí»É | G5: ³Û¹ ÃíáõÙ 1 ³ÙëÇó ³í»ÉÇ Å³ÙÏ»ïáõÙ | H5: Ï³ñ×»É »Ý ³ÝûñÇÝ³Ï³Ý ¹³ï³Ï³Ý ÝÇëï»ñáõÙ | I5: ³ÝÙ»ÕëáõÝ³ÏÝ»ñÇ ÝÏ³ïÙ³Ùµ ÏÇñ³é»É »Ý µÅßÏ³Ï³Ý µÝáõÛÃÇ Ñ³ñÏ³¹ñ³Ï³Ý ÙÇçáóÝ»ñ | J5: Ñ³ÝÓÝí»É »Ý Éñ³óáõóÇã ùÝÝáõÃÛ³Ý ³ÝûñÇÝ³ Ï³Ý ¨ ¹³ï³Ï³Ý ÝÇëï | K5: Ñ³ÝÓÝí»É »Ý Áëï ÁÝ¹¹³ïáõÃÛ³Ý | L5: ÁÝ¹³Ù»ÝÁ ³í³ñïí»É »Ý ·áñÍ»ñ (3, 5-8 ëÛáõÝ³ÏÝ»ñÇ ·áõÙ³ñÁ) | Q5: ÁÝ¹³Ù»ÝÁ | R5: ³Û¹ ÃíáõÙ Ñ³Ýó³¹»åÇ Ï³Ù Ñ³Ýó³Ï³½ÙÇ µ³ó³Ï³ÛáõÃÛ³Ý ¨ Ù»Õ³¹ñ³ÝùÁ ã³å³óáõóí³Í ÉÇÝ»Éáõ å³ï×³éáí
D6: 1 | E6: 2 | F6: 3 | G6: 4 | H6: 5 | I6: 6 | J6: 7 | K6: 8 | L6: 9 | M6: 10 | N6: 11 | O6: 12 | P6: 13 | Q6: 14 | R6: 15 | S6: 16 | T6: 17
A7: 1, ²½·³ÛÇÝ ¨ é³ë³Û³Ï³Ý Çñ³í³Ñ³í³ë³ñáõÃÛáõÝÁ Ë³Ëï»ÉÁ
A8: ¶áõÛùÇ Ñ³÷ßï³ÏáõÙ Ï³ï³ñí³Í | B8: 1, ¶áÕáõÃÛ³Ý ÙÇçáóáí | C8: 177 | D8: 3 | E8: 18 | F8: 18 | G8: 4 | L8: 18 | M8: 3 | N8: 1 | O8: 27
B9: 2, ÎáÕáåáõïÇ ÙÇçáóáí | C9: 176 | D9: 1 | F9: 1 | G9: 1 | L9: 1 | O9: 1
B10: 3, ²í³½³ÏáõÃÛ³Ý ÙÇçáóáí | C10: 175 | D10: 1 | F10: 1 | G10: 1 | L10: 1 | O10: 2
B11: 4, Ê³ñ¹³ËáõÃÛ³Ý ÙÇçáóáí | C11: 178 | D11: 1 | E11: 1 | F11: 1 | G11: 1 | L11: 1 | M11: 1 | O11: 1
B12: 5, Úáõñ³óÝ»Éáõ, í³ïÝ»Éáõ Ï³Ù å³ßïáÝ³Ï³Ý ¹ÇñùÁ ã³ñ³ß³Ñ»Éáõ ÙÇçáóáí | C12: 179 | D12: 1 | G12: 1 | H12: 1 | L12: 1 | Q12: 4
A13: 7, ÞáñÃáõÙ | C13: 182
A14: 8, ¶áõÛùÁ ¹Çï³íáñáõÃÛ³Ùµ áãÝã³óÝ»ÉÁ Ï³Ù íÝ³ë»ÉÁ | C14: 185
A15: 9,¸Çï³íáñÛ³É ëå³ÝáõÃÛáõÝ | C15: 104 | D15: 1 | E15: 1 | F15: 2 | G15: 1 | L15: 2 | O15: 2
A16: 10,¸Çï³íáñÛ³É Í³Ýñ Ù³ñÙÝ³Ï³Ý íÝ³ëí³Íù | C16: 112 | E16: 6 | F16: 2 | I16: 1 | L16: 3 | M16: 3 | O16: 2 | S16: 1
A17: 11, ´éÝ³µ³ñáõÃÛáõÝ | C17: 138 | D17: 1 | F17: 1 | G17: 1 | L17: 1 | O17: 1
A18: 12,Î³ß³é³Ï»ñáõÃÛáõÝ, Ï³ß³é³ïíáõÃÛáõÝ, Ï³ß³é³ïíáõÃÛ³Ý ÙÇçÝáñ¹áõÃÛáõÝ | C18: 311,312,313
A19: 13,ÊáõÉÇ·³ÝáõÃÛáõÝ | C19: 258 I | D19: 1 | E19: 1 | F19: 1 | L19: 1 | M19: 1 | O19: 1
A20: 14,â³ñ³ÙÇï ËáõÉÇ·³ÝáõÃÛáõÝ | C20: 258 II | D20: 1 | F20: 1 | G20: 1 | L20: 1 | N20: 1 | O20: 1
A21: 15, ²é³ÝÓÝ³å»ë ã³ñ³ÙÇï ËáõÉÇ·³ÝáõÃÛáõÝ | C21: 258 III | E21: 1 | M21: 1
A22: 16,¼»Ýù ·áñÍ³¹ñ»Éáõ Ï³Ù ³ÛÝ ·áñÍ³¹ñ»Éáõ ÷áñÓáí ËáõÉÇ·³Ý | C22: 258 IV
A23: 17,îñ³Ýëåáñï³ÛÇÝ ÙÇçáóÝ»ñÇ »ñÃ¨»ÏáõÃÛ³Ý ³Ýíï³Ý·áõÃÛ³Ý ¨ ß³Ñ³·áñßÙ³Ý Ï³ÝáÝÝ»ñÇ Ë³ËïáõÙ | C23: 242 | D23: 4 | E23: 4 | F23: 6 | G23: 1 | H23: 1 | L23: 7 | M23: 1 | O23: 7 | Q23: 1
A24: 18, ÂÙñ³¹»Õ»ñÇ Ñ»ï Ï³åí³Í Ñ³Ýó³·áñÍáõÃÛáõÝÝ»ñ | C24: 266, 268, 269,271, 272, 273, 276 | D24: 1 | E24: 3 | F24: 4 | G24: 1 | L24: 4 | O24: 4
A25: 19,²åûñÇÝÇ Ï»ñåáí é³½Ù³ÙÃ»ñù Ï³Ù å³ÛÃáõóÇÏ ÝÛáõÃ»ñ Ïñ»ÉÁ | C25: 235 | D25: 0 | E25: 2 | F25: 2 | G25: 1 | L25: 2 | O25: 2
A26: 20, ²ÛÉ Ñ³Ýó³·áñÍáõÃÛáõÝÝ»ñ | D26: 16 | E26: 30 | F26: 41 | G26: 8 | I26: 1 | L26: 42 | M26: 4 | N26: 1 | O26: 56 | S26: 1
A27: 21, ÀÜ¸²ØºÜÀ | D27: =SUM(D8:D26) -> 32 | E27: =SUM(E8:E26) -> 67 | F27: =SUM(F8:F26) -> 81 | G27: =SUM(G7:G26) -> 22 | H27: =SUM(H11:H26) -> 2 | I27: =SUM(I15:I26) -> 2 | L27: =SUM(L8:L26) -> 85 | M27: =SUM(M8:M26) -> 14 | N27: =SUM(N8:N26) -> 3 | O27: =SUM(O7:O26) -> 107 | Q27: =SUM(Q8:Q26) -> 5 | S27: =SUM(S14:S26) -> 2
A28: 22, ²Û¹ ÃíáõÙ` ³Ýã³÷³Ñ³ëÝ»ñÇ í»ñ³µ»ñÛ³É ·áñÍ»ñáí | D28: 2 | E28: 2 | F28: 4 | G28: 2 | L28: 4 | O28: 7

Sheet Ararat
A1: Ð³ßí»ïíáõÃÛáõÝ
A2: ÐÐ ²ñ³ñ³ïÇ Ù³ñ½Ç ³é³çÇÝ ³ïÛ³ÝÇ ¹³ï³ñ³ÝÇ ùñ»³Ï³Ý ·áñÍ»ñÇ ùÝÝáõÃÛ³Ý í»ñ³µ»ñÛ³É 2007Ã. 1-ÇÝ ÏÇë³ÙÛ³ÏÇ Ñ³Ù³ñ
A3: êïáõ·Çã Ñ³í³ë³ñáõÙÝ»ñ §²¦ µ³ÅÝÇ í»ñ³µ»ñÛ³É 1 ¨ 2 ëÛáõÝ³ÏÝ»ñÇ Ãí»ñÇ ·áõÙ³ñÁ Ñ³í³ë³ñ ¿ 9 ¨ 10 ëÛáõÝ³ÏÝ»ñÇ Ãí»ñÇ ·áõÙ³ñÇÝ | C3: ÐÐ ùñ»³Ï³Ý ûñ»Ýë·ñùÇ Ñá¹í³ÍÝ»ñ | D3: ²Ý³í³ñï ·áñÍ»ñÇ ÙÝ³óáñ¹Á Ñ³ßí»ïáõ Å³Ù³Ý³Ï³ßñç³ÝÇ ëÏ½µáõÙ | E3: êï³óí»É »Ý ·áñÍ»ñ Ñ³ßí»ïáõ Å³Ù³Ý³Ï³ßñç³ÝáõÙ | F3: ² øñ»³Ï³Ý ·áñÍ»ñÇ ß³ñÅÁ | O3: Ð³ßí»ïáõ Å³Ù³Ý³Ï³ßñç³ÝáõÙ ·áñÍ»ñáí »Õ»É »Ý (3, 5, 6, 7 ëÛáõÝ³Ï)
F4: ²í³ñïí»É »Ý ·áñÍ»ñ Ñ³ßí»ïáõ Å³Ù³Ý³Ï³ßñç³ÝáõÙ | M4: ²Ý³í³ñï ·áñÍ»ñÇ ÙÝ³óáñ¹Á Ñ³ßí»ïáõ Å³Ù³Ý³Ï³ßñç³ÝÇ í»ñçáõÙ | N4: ³Û¹ ÃíáõÙ ·ïÝíáõÙ »Ý í³ñáõÛÃáõÙ 3 ³ÙëÇó ³í»ÉÇ (Ï³ë»óí³Í ·áñÍ»ñÇ Ñ»ï Ù»Ïï»Õ) | O4: ¹³ï³å³ñïí³ÍÝ»ñ | P4: ³ñ¹³ñ³óí³ÍÝ»ñ | Q4: ³ÝÓÇÝù, áñáÝó í»ñ³µ»ñÛ³É ·áñÍ»ñÁ Ï³ñ×í»É »Ý | S4: ³ÝÙ»ÕëáõÝ³ÏÝ»ñ, áñáÝó ÝÏ³ïÙ³Ùµ ÏÇñ³éí»É »Ý µÅßÏ³Ï³Ý µÝáõÛÃÇ Ñ³ñÏ³¹ñ³Ï³Ý ÙÇçáóÝ»ñ | T4: ³ÝÓÇÝù, áñáÝó í»ñ³µ»ñÛ³É ·áñÍ»ñÁ Ñ³ÝÓÝí»É »Ý Éñ³óáõóÇã ùÝÝáõÃÛ³Ý
F5: ùÝÝ³ñÏí»É »Ý Áëï ¿áõÃÛ³Ý ¨ ¹³ï³í×Çé Ï³Û³óí»É | G5: ³Û¹ ÃíáõÙ 1 ³ÙëÇó ³í»ÉÇ Å³ÙÏ»ïáõÙ | H5: Ï³ñ×»É »Ý ³ÝûñÇÝ³Ï³Ý ¹³ï³Ï³Ý ÝÇëï»ñáõÙ | I5: ³ÝÙ»ÕëáõÝ³ÏÝ»ñÇ ÝÏ³ïÙ³Ùµ ÏÇñ³é»É »Ý µÅßÏ³Ï³Ý µÝáõÛÃÇ Ñ³ñÏ³¹ñ³Ï³Ý ÙÇçáóÝ»ñ | J5: Ñ³ÝÓÝí»É »Ý Éñ³óáõóÇã ùÝÝáõÃÛ³Ý ³ÝûñÇÝ³ Ï³Ý ¨ ¹³ï³Ï³Ý ÝÇëï | K5: Ñ³ÝÓÝí»É »Ý Áëï ÁÝ¹¹³ïáõÃÛ³Ý | L5: ÁÝ¹³Ù»ÝÁ ³í³ñïí»É »Ý ·áñÍ»ñ (3, 5-8 ëÛáõÝ³ÏÝ»ñÇ ·áõÙ³ñÁ) | Q5: ÁÝ¹³Ù»ÝÁ | R5: ³Û¹ ÃíáõÙ Ñ³Ýó³¹»åÇ Ï³Ù Ñ³Ýó³Ï³½ÙÇ µ³ó³Ï³ÛáõÃÛ³Ý ¨ Ù»Õ³¹ñ³ÝùÁ ã³å³óáõóí³Í ÉÇÝ»Éáõ å³ï×³éáí
D6: 1 | E6: 2 | F6: 3 | G6: 4 | H6: 5 | I6: 6 | J6: 7 | K6: 8 | L6: 9 | M6: 10 | N6: 11 | O6: 12 | P6: 13 | Q6: 14 | R6: 15 | S6: 16 | T6: 17
A7: 1, ²½·³ÛÇÝ ¨ é³ë³Û³Ï³Ý Çñ³í³Ñ³í³ë³ñáõÃÛáõÝÁ Ë³Ëï»ÉÁ
A8: ¶áõÛùÇ Ñ³÷ßï³ÏáõÙ Ï³ï³ñí³Í | B8: 1, ¶áÕáõÃÛ³Ý ÙÇçáóáí | C8: 177 | D8: 7 | E8: 19 | F8: 16 | H8: 1 | I8: 1 | L8: 18 | M8: 8 | O8: 39 | Q8: 41 | R8: 1 | S8: 1
B9: 2, ÎáÕáåáõïÇ ÙÇçáóáí | C9: 176 | E9: 1 | F9: 1 | L9: 1 | O9: 1 | Q9: 1
B10: 3, ²í³½³ÏáõÃÛ³Ý ÙÇçáóáí | C10: 175
B11: 4, Ê³ñ¹³ËáõÃÛ³Ý ÙÇçáóáí | C11: 178 | D11: 1 | E11: 1 | F11: 1 | L11: 1 | M11: 1 | O11: 1 | Q11: 1
B12: 5, Úáõñ³óÝ»Éáõ, í³ïÝ»Éáõ Ï³Ù å³ßïáÝ³Ï³Ý ¹ÇñùÁ ã³ñ³ß³Ñ»Éáõ ÙÇçáóáí | C12: 179 | E12: 3 | F12: 3 | L12: 3 | O12: 9 | Q12: 9
A13: 7, ÞáñÃáõÙ | C13: 182 | E13: 1 | F13: 1 | L13: 1 | O13: 1 | Q13: 1
A14: 8, ¶áõÛùÁ ¹Çï³íáñáõÃÛ³Ùµ áãÝã³óÝ»ÉÁ Ï³Ù íÝ³ë»ÉÁ | C14: 185
A15: 9,¸Çï³íáñÛ³É ëå³ÝáõÃÛáõÝ | C15: 104 | D15: 4 | E15: 4 | F15: 5 | I15: 1 | L15: 6 | M15: 2 | O15: 6 | Q15: 7 | S15: 1
A16: 10,¸Çï³íáñÛ³É Í³Ýñ Ù³ñÙÝ³Ï³Ý íÝ³ëí³Íù | C16: 112 | D16: 2 | E16: 2 | F16: 3 | I16: 1 | L16: 4 | O16: 3 | Q16: 4 | S16: 1
A17: 11, ´éÝ³µ³ñáõÃÛáõÝ | C17: 138 | D17: 1 | E17: 2 | F17: 2 | L17: 2 | M17: 1 | O17: 2 | Q17: 2
A18: 12,Î³ß³é³Ï»ñáõÃÛáõÝ, Ï³ß³é³ïíáõÃÛáõÝ, Ï³ß³é³ïíáõÃÛ³Ý ÙÇçÝáñ¹áõÃÛáõÝ | C18: 311,312,313
A19: 13,ÊáõÉÇ·³ÝáõÃÛáõÝ | C19: 258 I | D19: 1 | E19: 4 | F19: 4 | H19: 1 | L19: 5 | O19: 4 | Q19: 5 | R19: 1
A20: 14,â³ñ³ÙÇï ËáõÉÇ·³ÝáõÃÛáõÝ | C20: 258 II | D20: 3 | E20: 4 | F20: 6 | L20: 6 | M20: 1 | O20: 6 | Q20: 6
A21: 15, ²é³ÝÓÝ³å»ë ã³ñ³ÙÇï ËáõÉÇ·³ÝáõÃÛáõÝ | C21: 258 III | D21: 1 | E21: 4 | F21: 3 | L21: 3 | M21: 2 | O21: 3 | Q21: 3
A22: 16,¼»Ýù ·áñÍ³¹ñ»Éáõ Ï³Ù ³ÛÝ ·áñÍ³¹ñ»Éáõ ÷áñÓáí ËáõÉÇ·³Ý | C22: 258 IV | D22: 1 | E22: 4 | F22: 4 | L22: 4 | M22: 1 | O22: 5 | Q22: 5
A23: 17,îñ³Ýëåáñï³ÛÇÝ ÙÇçáóÝ»ñÇ »ñÃ¨»ÏáõÃÛ³Ý ³Ýíï³Ý·áõÃÛ³Ý ¨ ß³Ñ³·áñßÙ³Ý Ï³ÝáÝÝ»ñÇ Ë³ËïáõÙ | C23: 242 | D23: 6 | E23: 14 | F23: 16 | H23: 3 | L23: 19 | M23: 1 | O23: 15 | P23: 1 | Q23: 19 | R23: 3
A24: 18, ÂÙñ³¹»Õ»ñÇ Ñ»ï Ï³åí³Í Ñ³Ýó³·áñÍáõÃÛáõÝÝ»ñ | C24: 266, 268, 269,271, 272, 273, 276 | E24: 2 | F24: 1 | L24: 1 | M24: 1 | O24: 1 | Q24: 1
A25: 19,²åûñÇÝÇ Ï»ñåáí é³½Ù³ÙÃ»ñù Ï³Ù å³ÛÃáõóÇÏ ÝÛáõÃ»ñ Ïñ»ÉÁ | C25: 235 | E25: 3 | F25: 2 | L25: 2 | M25: 1 | O25: 2 | Q25: 2
A26: 20, ²ÛÉ Ñ³Ýó³·áñÍáõÃÛáõÝÝ»ñ | D26: 11 | E26: 15 | F26: 15 | H26: 2 | I26: 2 | J26: 1 | L26: 20 | M26: 6 | O26: 26 | Q26: 30 | R26: 2 | S26: 2 | T26: 1
A27: 21, ÀÜ¸²ØºÜÀ | D27: =SUM(D7:D26) -> 38 | E27: =SUM(E7:E26) -> 83 | F27: =SUM(F8:F26) -> 83 | H27: =SUM(H8:H26) -> 7 | I27: =SUM(I8:I26) -> 5 | J27: =SUM(J8:J26) -> 1 | L27: =SUM(L8:L26) -> 96 | M27: =SUM(M7:M26) -> 25 | O27: =SUM(O8:O26) -> 124 | P27: =SUM(P8:P26) -> 1 | Q27: =SUM(Q8:Q26) -> 137 | R27: =SUM(R8:R26) -> 7 | S27: =SUM(S8:S26) -> 5 | T27: =SUM(T8:T26) -> 1
A28: 22, ²Û¹ ÃíáõÙ` ³Ýã³÷³Ñ³ëÝ»ñÇ í»ñ³µ»ñÛ³É ·áñÍ»ñáí | E28: 2 | F28: 1 | L28: 1 | M28: 1

Sheet Aragacotn
A1: Ð³ßí»ïíáõÃÛáõÝ
A2: ÐÐ ²ñ³·³ÍáïÝÇ Ù³ñ½Ç ³é³çÇÝ ³ïÛ³ÝÇ ¹³ï³ñ³ÝÇ ùñ»³Ï³Ý ·áñÍ»ñÇ ùÝÝáõÃÛ³Ý í»ñ³µ»ñÛ³É 2007Ã.1-ÇÝ ÏÇë³ÙÛ³ÏÇ Ñ³Ù³ñ
A3: êïáõ·Çã Ñ³í³ë³ñáõÙÝ»ñ §²¦ µ³ÅÝÇ í»ñ³µ»ñÛ³É 1 ¨ 2 ëÛáõÝ³ÏÝ»ñÇ Ãí»ñÇ ·áõÙ³ñÁ Ñ³í³ë³ñ ¿ 9 ¨ 10 ëÛáõÝ³ÏÝ»ñÇ Ãí»ñÇ ·áõÙ³ñÇÝ | C3: ÐÐ ùñ»³Ï³Ý ûñ»Ýë·ñùÇ Ñá¹í³ÍÝ»ñ | D3: ²Ý³í³ñï ·áñÍ»ñÇ ÙÝ³óáñ¹Á Ñ³ßí»ïáõ Å³Ù³Ý³Ï³ßñç³ÝÇ ëÏ½µáõÙ | E3: êï³óí»É »Ý ·áñÍ»ñ Ñ³ßí»ïáõ Å³Ù³Ý³Ï³ßñç³ÝáõÙ | F3: ² øñ»³Ï³Ý ·áñÍ»ñÇ ß³ñÅÁ | O3: Ð³ßí»ïáõ Å³Ù³Ý³Ï³ßñç³ÝáõÙ ·áñÍ»ñáí »Õ»É »Ý (3, 5, 6, 7 ëÛáõÝ³Ï)
F4: ²í³ñïí»É »Ý ·áñÍ»ñ Ñ³ßí»ïáõ Å³Ù³Ý³Ï³ßñç³ÝáõÙ | M4: ²Ý³í³ñï ·áñÍ»ñÇ ÙÝ³óáñ¹Á Ñ³ßí»ïáõ Å³Ù³Ý³Ï³ßñç³ÝÇ í»ñçáõÙ | N4: ³Û¹ ÃíáõÙ ·ïÝíáõÙ »Ý í³ñáõÛÃáõÙ 3 ³ÙëÇó ³í»ÉÇ (Ï³ë»óí³Í ·áñÍ»ñÇ Ñ»ï Ù»Ïï»Õ) | O4: ¹³ï³å³ñïí³ÍÝ»ñ | P4: ³ñ¹³ñ³óí³ÍÝ»ñ | Q4: ³ÝÓÇÝù, áñáÝó í»ñ³µ»ñÛ³É ·áñÍ»ñÁ Ï³ñ×í»É »Ý | S4: ³ÝÙ»ÕëáõÝ³ÏÝ»ñ, áñáÝó ÝÏ³ïÙ³Ùµ ÏÇñ³éí»É »Ý µÅßÏ³Ï³Ý µÝáõÛÃÇ Ñ³ñÏ³¹ñ³Ï³Ý ÙÇçáóÝ»ñ | T4: ³ÝÓÇÝù, áñáÝó í»ñ³µ»ñÛ³É ·áñÍ»ñÁ Ñ³ÝÓÝí»É »Ý Éñ³óáõóÇã ùÝÝáõÃÛ³Ý
F5: ùÝÝ³ñÏí»É »Ý Áëï ¿áõÃÛ³Ý ¨ ¹³ï³í×Çé Ï³Û³óí»É | G5: ³Û¹ ÃíáõÙ 1 ³ÙëÇó ³í»ÉÇ Å³ÙÏ»ïáõÙ | H5: Ï³ñ×»É »Ý ³ÝûñÇÝ³Ï³Ý ¹³ï³Ï³Ý ÝÇëï»ñáõÙ | I5: ³ÝÙ»ÕëáõÝ³ÏÝ»ñÇ ÝÏ³ïÙ³Ùµ ÏÇñ³é»É »Ý µÅßÏ³Ï³Ý µÝáõÛÃÇ Ñ³ñÏ³¹ñ³Ï³Ý ÙÇçáóÝ»ñ | J5: Ñ³ÝÓÝí»É »Ý Éñ³óáõóÇã ùÝÝáõÃÛ³Ý ³ÝûñÇÝ³ Ï³Ý ¨ ¹³ï³Ï³Ý ÝÇëï | K5: Ñ³ÝÓÝí»É »Ý Áëï ÁÝ¹¹³ïáõÃÛ³Ý | L5: ÁÝ¹³Ù»ÝÁ ³í³ñïí»É »Ý ·áñÍ»ñ (3, 5-8 ëÛáõÝ³ÏÝ»ñÇ ·áõÙ³ñÁ) | Q5: ÁÝ¹³Ù»ÝÁ | R5: ³Û¹ ÃíáõÙ Ñ³Ýó³¹»åÇ Ï³Ù Ñ³Ýó³Ï³½ÙÇ µ³ó³Ï³ÛáõÃÛ³Ý ¨ Ù»Õ³¹ñ³ÝùÁ ã³å³óáõóí³Í ÉÇÝ»Éáõ å³ï×³éáí
D6: 1 | E6: 2 | F6: 3 | G6: 4 | H6: 5 | I6: 6 | J6: 7 | K6: 8 | L6: 9 | M6: 10 | N6: 11 | O6: 12 | P6: 13 | Q6: 14 | R6: 15 | S6: 16 | T6: 17
A7: 1, ²½·³ÛÇÝ ¨ é³ë³Û³Ï³Ý Çñ³í³Ñ³í³ë³ñáõÃÛáõÝÁ Ë³Ëï»ÉÁ
A8: ¶áõÛùÇ Ñ³÷ßï³ÏáõÙ Ï³ï³ñí³Í | B8: 1, ¶áÕáõÃÛ³Ý ÙÇçáóáí | C8: 177 | D8: 3 | E8: 4 | F8: 7 | L8: 7 | O8: 10
B9: 2, ÎáÕáåáõïÇ ÙÇçáóáí | C9: 176 | E9: 1 | M9: 1
B10: 3, ²í³½³ÏáõÃÛ³Ý ÙÇçáóáí | C10: 175 | D10: 1 | E10: 1 | F10: 1 | L10: 1 | M10: 1 | O10: 1
B11: 4, Ê³ñ¹³ËáõÃÛ³Ý ÙÇçáóáí | C11: 178 | D11: 2 | E11: 1 | F11: 1 | L11: 1 | M11: 2 | O11: 1
B12: 5, Úáõñ³óÝ»Éáõ, í³ïÝ»Éáõ Ï³Ù å³ßïáÝ³Ï³Ý ¹ÇñùÁ ã³ñ³ß³Ñ»Éáõ ÙÇçáóáí | C12: 179 | E12: 1 | F12: 1 | L12: 1 | O12: 1
A13: 7, ÞáñÃáõÙ | C13: 182
A14: 8, ¶áõÛùÁ ¹Çï³íáñáõÃÛ³Ùµ áãÝã³óÝ»ÉÁ Ï³Ù íÝ³ë»ÉÁ | C14: 185
A15: 9,¸Çï³íáñÛ³É ëå³ÝáõÃÛáõÝ | C15: 104 | E15: 2 | F15: 1 | I15: 1 | L15: 2 | O15: 1 | T15: 1
A16: 10,¸Çï³íáñÛ³É Í³Ýñ Ù³ñÙÝ³Ï³Ý íÝ³ëí³Íù | C16: 112 | E16: 1 | H16: 1 | L16: 1 | Q16: 1
A17: 11, ´éÝ³µ³ñáõÃÛáõÝ | C17: 138
A18: 12,Î³ß³é³Ï»ñáõÃÛáõÝ, Ï³ß³é³ïíáõÃÛáõÝ, Ï³ß³é³ïíáõÃÛ³Ý ÙÇçÝáñ¹áõÃÛáõÝ | C18: 311,312,313
A19: 13,ÊáõÉÇ·³ÝáõÃÛáõÝ | C19: 258 I
A20: 14,â³ñ³ÙÇï ËáõÉÇ·³ÝáõÃÛáõÝ | C20: 258 II | E20: 1 | F20: 1 | L20: 1 | O20: 1
A21: 15, ²é³ÝÓÝ³å»ë ã³ñ³ÙÇï ËáõÉÇ·³ÝáõÃÛáõÝ | C21: 258 III | E21: 1 | F21: 1 | L21: 1 | O21: 1
A22: 16,¼»Ýù ·áñÍ³¹ñ»Éáõ Ï³Ù ³ÛÝ ·áñÍ³¹ñ»Éáõ ÷áñÓáí ËáõÉÇ·³Ý | C22: 258 IV | E22: 1 | M22: 1
A23: 17,îñ³Ýëåáñï³ÛÇÝ ÙÇçáóÝ»ñÇ »ñÃ¨»ÏáõÃÛ³Ý ³Ýíï³Ý·áõÃÛ³Ý ¨ ß³Ñ³·áñßÙ³Ý Ï³ÝáÝÝ»ñÇ Ë³ËïáõÙ | C23: 242 | D23: 5 | E23: 1 | F23: 3 | H23: 2 | L23: 5 | M23: 1 | O23: 3 | Q23: 2
A24: 18, ÂÙñ³¹»Õ»ñÇ Ñ»ï Ï³åí³Í Ñ³Ýó³·áñÍáõÃÛáõÝÝ»ñ | C24: 266, 268, 269,271, 272, 273, 276 | D24: 3 | E24: 4 | F24: 5 | L24: 5 | M24: 2 | O24: 5
A25: 19,²åûñÇÝÇ Ï»ñåáí é³½Ù³ÙÃ»ñù Ï³Ù å³ÛÃáõóÇÏ ÝÛáõÃ»ñ Ïñ»ÉÁ | C25: 235 | D25: 1 | M25: 1
A26: 20, ²ÛÉ Ñ³Ýó³·áñÍáõÃÛáõÝÝ»ñ | D26: 5 | E26: 10 | F26: 10 | H26: 1 | L26: 11 | M26: 4 | O26: 10 | Q26: 3
A27: 21, ÀÜ¸²ØºÜÀ | D27: =SUM(D8:D26) -> 20 | E27: =SUM(E8:E26) -> 29 | F27: =SUM(F8:F26) -> 31 | H27: =SUM(H8:H26) -> 4 | I27: =SUM(I8:I26) -> 1 | L27: =SUM(L8:L26) -> 36 | M27: =SUM(M8:M26) -> 13 | O27: =SUM(O8:O26) -> 34 | Q27: =SUM(Q8:Q26) -> 6 | T27: =SUM(T8:T26) -> 1
A28: 22, ²Û¹ ÃíáõÙ` ³Ýã³÷³Ñ³ëÝ»ñÇ í»ñ³µ»ñÛ³É ·áñÍ»ñáí | E28: 2 | F28: 2 | L28: 2 | O28: 3

Sheet Tavush
A1: Ð³ßí»ïíáõÃÛáõÝ
A2: ÐÐ î³íáõßÇ Ù³ñ½Ç ³é³çÇÝ ³ïÛ³ÝÇ ¹³ï³ñ³ÝÇ ùñ»³Ï³Ý ·áñÍ»ñÇ ùÝÝáõÃÛ³Ý í»ñ³µ»ñÛ³É 2007Ã.-Ç 1-ÇÝ ÏÇë³ÙÛ³ÏÇ Ñ³Ù³ñ
A3: êïáõ·Çã Ñ³í³ë³ñáõÙÝ»ñ §²¦ µ³ÅÝÇ í»ñ³µ»ñÛ³É 1 ¨ 2 ëÛáõÝ³ÏÝ»ñÇ Ãí»ñÇ ·áõÙ³ñÁ Ñ³í³ë³ñ ¿ 9 ¨ 10 ëÛáõÝ³ÏÝ»ñÇ Ãí»ñÇ ·áõÙ³ñÇÝ | C3: ÐÐ ùñ»³Ï³Ý ûñ»Ýë·ñùÇ Ñá¹í³ÍÝ»ñ | D3: ²Ý³í³ñï ·áñÍ»ñÇ ÙÝ³óáñ¹Á Ñ³ßí»ïáõ Å³Ù³Ý³Ï³ßñç³ÝÇ ëÏ½µáõÙ | E3: êï³óí»É »Ý ·áñÍ»ñ Ñ³ßí»ïáõ Å³Ù³Ý³Ï³ßñç³ÝáõÙ | F3: ² øñ»³Ï³Ý ·áñÍ»ñÇ ß³ñÅÁ | O3: Ð³ßí»ïáõ Å³Ù³Ý³Ï³ßñç³ÝáõÙ ·áñÍ»ñáí »Õ»É »Ý (3, 5, 6, 7 ëÛáõÝ³Ï)
F4: ²í³ñïí»É »Ý ·áñÍ»ñ Ñ³ßí»ïáõ Å³Ù³Ý³Ï³ßñç³ÝáõÙ | M4: ²Ý³í³ñï ·áñÍ»ñÇ ÙÝ³óáñ¹Á Ñ³ßí»ïáõ Å³Ù³Ý³Ï³ßñç³ÝÇ í»ñçáõÙ | N4: ³Û¹ ÃíáõÙ ·ïÝíáõÙ »Ý í³ñáõÛÃáõÙ 3 ³ÙëÇó ³í»ÉÇ (Ï³ë»óí³Í ·áñÍ»ñÇ Ñ»ï Ù»Ïï»Õ) | O4: ¹³ï³å³ñïí³ÍÝ»ñ | P4: ³ñ¹³ñ³óí³ÍÝ»ñ | Q4: ³ÝÓÇÝù, áñáÝó í»ñ³µ»ñÛ³É ·áñÍ»ñÁ Ï³ñ×í»É »Ý | S4: ³ÝÙ»ÕëáõÝ³ÏÝ»ñ, áñáÝó ÝÏ³ïÙ³Ùµ ÏÇñ³éí»É »Ý µÅßÏ³Ï³Ý µÝáõÛÃÇ Ñ³ñÏ³¹ñ³Ï³Ý ÙÇçáóÝ»ñ | T4: ³ÝÓÇÝù, áñáÝó í»ñ³µ»ñÛ³É ·áñÍ»ñÁ Ñ³ÝÓÝí»É »Ý Éñ³óáõóÇã ùÝÝáõÃÛ³Ý
F5: ùÝÝ³ñÏí»É »Ý Áëï ¿áõÃÛ³Ý ¨ ¹³ï³í×Çé Ï³Û³óí»É | G5: ³Û¹ ÃíáõÙ 1 ³ÙëÇó ³í»ÉÇ Å³ÙÏ»ïáõÙ | H5: Ï³ñ×»É »Ý ³ÝûñÇÝ³Ï³Ý ¹³ï³Ï³Ý ÝÇëï»ñáõÙ | I5: ³ÝÙ»ÕëáõÝ³ÏÝ»ñÇ ÝÏ³ïÙ³Ùµ ÏÇñ³é»É »Ý µÅßÏ³Ï³Ý µÝáõÛÃÇ Ñ³ñÏ³¹ñ³Ï³Ý ÙÇçáóÝ»ñ | J5: Ñ³ÝÓÝí»É »Ý Éñ³óáõóÇã ùÝÝáõÃÛ³Ý ³ÝûñÇÝ³ Ï³Ý ¨ ¹³ï³Ï³Ý ÝÇëï | K5: Ñ³ÝÓÝí»É »Ý Áëï ÁÝ¹¹³ïáõÃÛ³Ý | L5: ÁÝ¹³Ù»ÝÁ ³í³ñïí»É »Ý ·áñÍ»ñ (3, 5-8 ëÛáõÝ³ÏÝ»ñÇ ·áõÙ³ñÁ) | Q5: ÁÝ¹³Ù»ÝÁ | R5: ³Û¹ ÃíáõÙ Ñ³Ýó³¹»åÇ Ï³Ù Ñ³Ýó³Ï³½ÙÇ µ³ó³Ï³ÛáõÃÛ³Ý ¨ Ù»Õ³¹ñ³ÝùÁ ã³å³óáõóí³Í ÉÇÝ»Éáõ å³ï×³éáí
D6: 1 | E6: 2 | F6: 3 | G6: 4 | H6: 5 | I6: 6 | J6: 7 | K6: 8 | L6: 9 | M6: 10 | N6: 11 | O6: 12 | P6: 13 | Q6: 14 | R6: 15 | S6: 16 | T6: 17
A7: 1, ²½·³ÛÇÝ ¨ é³ë³Û³Ï³Ý Çñ³í³Ñ³í³ë³ñáõÃÛáõÝÁ Ë³Ëï»ÉÁ | U7: =SUM(F7+H7+I7+J7+K7) -> 0 | V7: =SUM(D7+E7) -> 0 | W7: =SUM(L7+M7) -> 0
A8: ¶áõÛùÇ Ñ³÷ßï³ÏáõÙ Ï³ï³ñí³Í | B8: 1, ¶áÕáõÃÛ³Ý ÙÇçáóáí | C8: 177 | D8: 4 | E8: 19 | F8: 19 | L8: 19 | M8: 4 | O8: 27 | U8: =SUM(F8+H8+I8+J8+K8) -> 19 | V8: =SUM(D8+E8) -> 23 | W8: =SUM(L8+M8) -> 23
B9: 2, ÎáÕáåáõïÇ ÙÇçáóáí | C9: 176 | U9: =SUM(F9+H9+I9+J9+K9) -> 0 | V9: =SUM(D9+E9) -> 0 | W9: =SUM(L9+M9) -> 0
B10: 3, ²í³½³ÏáõÃÛ³Ý ÙÇçáóáí | C10: 175 | E10: 1 | M10: 1 | U10: =SUM(F10+H10+I10+J10+K10) -> 0 | V10: =SUM(D10+E10) -> 1 | W10: =SUM(L10+M10) -> 1
B11: 4, Ê³ñ¹³ËáõÃÛ³Ý ÙÇçáóáí | C11: 178 | U11: =SUM(F11+H11+I11+J11+K11) -> 0 | V11: =SUM(D11+E11) -> 0 | W11: =SUM(L11+M11) -> 0
B12: 5, Úáõñ³óÝ»Éáõ, í³ïÝ»Éáõ Ï³Ù å³ßïáÝ³Ï³Ý ¹ÇñùÁ ã³ñ³ß³Ñ»Éáõ ÙÇçáóáí | C12: 179 | E12: 1 | F12: 1 | L12: 1 | O12: 1 | U12: =SUM(F12+H12+I12+J12+K12) -> 1 | V12: =SUM(D12+E12) -> 1 | W12: =SUM(L12+M12) -> 1
A13: 7, ÞáñÃáõÙ | C13: 182 | U13: =SUM(F13+H13+I13+J13+K13) -> 0 | V13: =SUM(D13+E13) -> 0 | W13: =SUM(L13+M13) -> 0
A14: 8, ¶áõÛùÁ ¹Çï³íáñáõÃÛ³Ùµ áãÝã³óÝ»ÉÁ Ï³Ù íÝ³ë»ÉÁ | C14: 185 | D14: 1 | F14: 1 | L14: 1 | O14: 1 | U14: =SUM(F14+H14+I14+J14+K14) -> 1 | V14: =SUM(D14+E14) -> 1 | W14: =SUM(L14+M14) -> 1
A15: 9,¸Çï³íáñÛ³É ëå³ÝáõÃÛáõÝ | C15: 104 | D15: 3 | E15: 3 | F15: 4 | L15: 4 | M15: 2 | O15: 4 | U15: =SUM(F15+H15+I15+J15+K15) -> 4 | V15: =SUM(D15+E15) -> 6 | W15: =SUM(L15+M15) -> 6
A16: 10,¸Çï³íáñÛ³É Í³Ýñ Ù³ñÙÝ³Ï³Ý íÝ³ëí³Íù | C16: 112 | D16: 2 | E16: 4 | F16: 2 | L16: 2 | M16: 4 | N16: 2 | O16: 2 | U16: =SUM(F16+H16+I16+J16+K16) -> 2 | V16: =SUM(D16+E16) -> 6 | W16: =SUM(L16+M16) -> 6
A17: 11, ´éÝ³µ³ñáõÃÛáõÝ | C17: 138 | U17: =SUM(F17+H17+I17+J17+K17) -> 0 | V17: =SUM(D17+E17) -> 0 | W17: =SUM(L17+M17) -> 0
A18: 12,Î³ß³é³Ï»ñáõÃÛáõÝ, Ï³ß³é³ïíáõÃÛáõÝ, Ï³ß³é³ïíáõÃÛ³Ý ÙÇçÝáñ¹áõÃÛáõÝ | C18: 311,312,313 | D18: 1 | F18: 1 | L18: 1 | O18: 1 | U18: =SUM(F18+H18+I18+J18+K18) -> 1 | V18: =SUM(D18+E18) -> 1 | W18: =SUM(L18+M18) -> 1
A19: 13,ÊáõÉÇ·³ÝáõÃÛáõÝ | C19: 258 I | D19: 1 | E19: 2 | F19: 3 | L19: 3 | O19: 3 | U19: =SUM(F19+H19+I19+J19+K19) -> 3 | V19: =SUM(D19+E19) -> 3 | W19: =SUM(L19+M19) -> 3
A20: 14,â³ñ³ÙÇï ËáõÉÇ·³ÝáõÃÛáõÝ | C20: 258 II | D20: 4 | E20: 1 | F20: 4 | J20: 1 | L20: 5 | O20: 7 | U20: =SUM(F20+H20+I20+J20+K20) -> 5 | V20: =SUM(D20+E20) -> 5 | W20: =SUM(L20+M20) -> 5
A21: 15, ²é³ÝÓÝ³å»ë ã³ñ³ÙÇï ËáõÉÇ·³ÝáõÃÛáõÝ | C21: 258 III | E21: 3 | F21: 2 | L21: 2 | M21: 1 | O21: 8 | U21: =SUM(F21+H21+I21+J21+K21) -> 2 | V21: =SUM(D21+E21) -> 3 | W21: =SUM(L21+M21) -> 3
A22: 16,¼»Ýù ·áñÍ³¹ñ»Éáõ Ï³Ù ³ÛÝ ·áñÍ³¹ñ»Éáõ ÷áñÓáí ËáõÉÇ·³Ý | C22: 258 IV | E22: 1 | M22: 1 | N22: 1 | U22: =SUM(F22+H22+I22+J22+K22) -> 0 | V22: =SUM(D22+E22) -> 1 | W22: =SUM(L22+M22) -> 1
A23: 17,îñ³Ýëåáñï³ÛÇÝ ÙÇçáóÝ»ñÇ »ñÃ¨»ÏáõÃÛ³Ý ³Ýíï³Ý·áõÃÛ³Ý ¨ ß³Ñ³·áñßÙ³Ý Ï³ÝáÝÝ»ñÇ Ë³ËïáõÙ | C23: 242 | D23: 4 | E23: 5 | F23: 8 | L23: 8 | M23: 1 | O23: 9 | U23: =SUM(F23+H23+I23+J23+K23) -> 8 | V23: =SUM(D23+E23) -> 9 | W23: =SUM(L23+M23) -> 9
A24: 18, ÂÙñ³¹»Õ»ñÇ Ñ»ï Ï³åí³Í Ñ³Ýó³·áñÍáõÃÛáõÝÝ»ñ | C24: 266, 268, 269,271, 272, 273, 276 | E24: 1 | F24: 1 | L24: 1 | O24: 1 | U24: =SUM(F24+H24+I24+J24+K24) -> 1 | V24: =SUM(D24+E24) -> 1 | W24: =SUM(L24+M24) -> 1
A25: 19,²åûñÇÝÇ Ï»ñåáí é³½Ù³ÙÃ»ñù Ï³Ù å³ÛÃáõóÇÏ ÝÛáõÃ»ñ Ïñ»ÉÁ | C25: 235 | D25: 1 | E25: 1 | F25: 1 | L25: 1 | M25: 1 | N25: 1 | O25: 1 | U25: =SUM(F25+H25+I25+J25+K25) -> 1 | V25: =SUM(D25+E25) -> 2 | W25: =SUM(L25+M25) -> 2
A26: 20, ²ÛÉ Ñ³Ýó³·áñÍáõÃÛáõÝÝ»ñ | D26: 14 | E26: 49 | F26: 47 | H26: 3 | J26: 1 | L26: 51 | M26: 12 | N26: 1 | O26: 60 | Q26: 4 | R26: 1 | T26: 2 | U26: =SUM(F26+H26+I26+J26+K26) -> 51 | V26: =SUM(D26+E26) -> 63 | W26: =SUM(L26+M26) -> 63
A27: 21, ÀÜ¸²ØºÜÀ | D27: =SUM(D8:D26) -> 35 | E27: =SUM(E8:E26) -> 91 | F27: =SUM(F8:F26) -> 94 | H27: =SUM(H8:H26) -> 3 | J27: =SUM(J8:J26) -> 2 | L27: =SUM(L8:L26) -> 99 | M27: =SUM(M8:M26) -> 27 | N27: =SUM(N8:N26) -> 5 | O27: =SUM(O8:O26) -> 125 | Q27: =SUM(Q8:Q26) -> 4 | R27: =SUM(R8:R26) -> 1 | T27: =SUM(T8:T26) -> 2 | U27: =SUM(F27+H27+I27+J27+K27) -> 99 | V27: =SUM(D27+E27) -> 126 | W27: =SUM(L27+M27) -> 126
A28: 22, ²Û¹ ÃíáõÙ` ³Ýã³÷³Ñ³ëÝ»ñÇ í»ñ³µ»ñÛ³É ·áñÍ»ñáí | E28: 11 | F28: 8 | L28: 8 | M28: 3 | O28: 10 | U28: =SUM(F28+H28+I28+J28+K28) -> 8 | V28: =SUM(D28+E28) -> 11 | W28: =SUM(L28+M28) -> 11
