Workbook

Sheet Ընդամենը
A1: 2017Ã. 1-ÇÝ ÏÇë³ÙÛ³Ï | D1: Ð²ÞìºîìàôÂÚàôÜ | P1: Ð³í»Éí³Í Ð³Û³ëï³ÝÇ Ð³Ýñ³å»ïáõÃÛ³Ý ¸³ï³ñ³ÝÝ»ñÇ Ý³Ë³·³ÑÝ»ñÇ ËáñÑñ¹Ç 25.08.2017Ã. ÃÇí 35-È áñáßÙ³Ý
A2: ØÇÝã¹³ï³Ï³Ý í³ñáõÛÃÇ ÝÏ³ïÙ³Ùµ ¹³ï³Ï³Ý í»ñ³ÑëÏáÕáõÃÛ³Ý, ¹³ï³Ï³Ý ³Ïï»ñÇ ¨ ¹³ï³Ï³Ý Ñ³ÝÓÝ³ñ³ñáõÃÛáõÝÝ»ñÇ Ï³ï³ñÙ³Ý Ñ»ï Ï³åí³Í ÙÇçÝáñ¹áõÃÛáõÝÝ»ñÇ í»ñ³µ»ñÛ³É ¹³ï³Ï³Ý ·áñÍ»ñáí ÐÐ ²ñ³·³ÍáïÝÇ Ù³ñ½Ç ÁÝ¹Ñ³Ýáõñ Çñ³í³ëáõÃÛ³Ý ³é³çÇÝ ³ïÛ³ÝÇ ¹³ï³ñ³ÝÇ ·áñÍáõÝ»áõÃÛ³Ý í»ñ³µ»ñÛ³É
D3: Ð³ßí»ïáõ Å³Ù³Ý³Ï³Ñ³ïí³ÍÇ ëÏ½µáõÙ Ý³Ëáñ¹ Ñ³ßí»ïáõ Å³Ù³Ý³Ï³Ñ³ïí³ÍÇó ÷áË³Ýóí³Í ·áñÍ»ñÇ ÁÝ¹Ñ³Ýáõñ ÃÇíÁ | E3: Ð³ßí»ïáõ Å³Ù³Ý³Ï³Ñ³ïí³ÍáõÙ ëï³óí³Í ·áñÍ»ñÇ ÁÝ¹Ñ³Ýáõñ ÃÇíÁ | F3: öáË³Ýóí»É ¿ ³ÛÉ ¹³ï³íáñÇ Ï³Ù ³ÛÉ ¹³ï³ñ³Ý (Ï³½ÙÇ ÷á÷áËáõÃÛáõÝ, ÁÝ¹¹³ïáõÃÛáõÝ) | G3: Ð³ßí»ïáõ Å³Ù³Ý³Ï³Ñ³ïí³ÍáõÙ ³í³ñïí³Í ·áñÍ»ñÇ ÁÝ¹Ñ³Ýáõñ ÃÇíÁ | L3: Ð³ßí»ïáõ Å³Ù³Ý³Ï³Ñ³ïí³ÍáõÙ ³Ý³í³ñï ·áñÍ»ñÇ ÁÝ¹Ñ³Ýáõñ ÃÇíÁ | M3: ØÇçÝáñ¹áõÃÛáõÝÝ»ñáí Ï³Û³óí³Í ¹³ï³Ï³Ý ³Ïï»ñÇó µáÕáù³ñÏí³ÍÝ»ñÇ ù³Ý³ÏÁ | O3: ²Ý³í³ñï µáÕáùÝ»ñ | P3: ØÇçÝáñ¹áõÃÛáõÝÝ»ñáí Ï³Û³óí³Í ¨ µáÕáù³ñÏí³Í ¹³ï³Ï³Ý ³Ïï»ñÇó µ»Ï³Ýí³ÍÝ»ñÇ ù³Ý³ÏÁ | R3: ÙÇçÝáñ¹áõÃÛáõÝÝ»ñáí Ï³Û³óí³Í ¨ µáÕáù³ñÏí³Í ¹³ï³Ï³Ý ³Ïï»ñÇó ³Ý÷á÷áË ÃáÕÝí³ÍÝ»ñÇ ù³Ý³ÏÁ
G4: Ù»ñÅí»É ¿ | H4: µ³í³ñ³ñí»É ¿ | I4: µ³í³ñ³ñí»É ¿ Ù³ëÝ³ÏÇ | J4: ÃáÕÝí»É ¿ ³é³Ýó ùÝÝáõÃÛ³Ý | K4: ÀÝ¹³Ù»ÝÁ
M5: Ý³Ëáñ¹ ï³ñÇÝ»ñÇÝ Ï³Û³óí³Í ³Ïï»ñÇ ¹»Ù | N5: Ñ³ßí»ïáõ Å³Ù³Ý³Ï³ßñç³ÝáõÙ Ï³Û³óí³Í ³Ïï»ñÇ ¹»Ù | P5: Ý³Ëáñ¹ ï³ñÇÝ»ñÇÝ Ï³Û³óí³Í ³Ïï»ñÇ µ»Ï³ÝáõÙÝ»ñÁ | Q5: Ñ³ßí»ïáõ Å³Ù³Ý³Ï³ßñç³ÝáõÙ Ï³Û³óí³Í ³Ïï»ñÇ µ»Ï³ÝáõÙÝ»ñÁ
A6: 1. ØÇÝã¹³ï³Ï³Ý í³ñáõÛÃÇ ÝÏ³ïÙ³Ùµ ¹³ï³Ï³Ý í»ñ³ÑëÏáÕáõÃÛ³Ý áÉáñï | D6: 1 | E6: 2 | F6: 3 | G6: 4 | H6: 5 | I6: 6 | J6: 7 | K6: 8 | L6: 9 | M6: 10 | N6: 11 | O6: 12 | P6: 13 | Q6: 14 | R6: 15 | T6: 1+2=3+8+9 | V6: 8=4+5+6+7
A7: 1 | B7: Ï³É³ÝùÁ áñå»ë Ë³÷³ÝÙ³Ý ÙÇçáó ÏÇñ³é»Éáõ Ù³ëÇÝ ÙÇçÝáñ¹áõÃÛáõÝÝ»ñ | D7: ='Ս. Մնոյան'!D7+Գ.Խաչատրյան!D7+Գ.Նարինյան!D7+Մ.Մարգարյան!D7+'Ա. Մարգարյան'!D7+'Ս. Մարաբյան'!D7+'Ս. Ուզունյան'!D7 -> 0 | E7: ='Ս. Մնոյան'!E7+Գ.Խաչատրյան!E7+Գ.Նարինյան!E7+Մ.Մարգարյան!E7+'Ա. Մարգարյան'!E7+'Ս. Մարաբյան'!E7+'Ս. Ուզունյան'!E7 -> 29 | F7: ='Ս. Մնոյան'!F7+Գ.Խաչատրյան!F7+Գ.Նարինյան!F7+Մ.Մարգարյան!F7+'Ա. Մարգարյան'!F7+'Ս. Մարաբյան'!F7+'Ս. Ուզունյան'!F7 -> 0 | G7: ='Ս. Մնոյան'!G7+Գ.Խաչատրյան!G7+Գ.Նարինյան!G7+Մ.Մարգարյան!G7+'Ա. Մարգարյան'!G7+'Ս. Մարաբյան'!G7+'Ս. Ուզունյան'!G7 -> 1 | H7: ='Ս. Մնոյան'!H7+Գ.Խաչատրյան!H7+Գ.Նարինյան!H7+Մ.Մարգարյան!H7+'Ա. Մարգարյան'!H7+'Ս. Մարաբյան'!H7+'Ս. Ուզունյան'!H7 -> 28 | I7: ='Ս. Մնոյան'!I7+Գ.Խաչատրյան!I7+Գ.Նարինյան!I7+Մ.Մարգարյան!I7+'Ա. Մարգարյան'!I7+'Ս. Մարաբյան'!I7+'Ս. Ուզունյան'!I7 -> 0 | J7: ='Ս. Մնոյան'!J7+Գ.Խաչատրյան!J7+Գ.Նարինյան!J7+Մ.Մարգարյան!J7+'Ա. Մարգարյան'!J7+'Ս. Մարաբյան'!J7+'Ս. Ուզունյան'!J7 -> 0 | K7: ='Ս. Մնոյան'!K7+Գ.Խաչատրյան!K7+Գ.Նարինյան!K7+Մ.Մարգարյան!K7+'Ա. Մարգարյան'!K7+'Ս. Մարաբյան'!K7+'Ս. Ուզունյան'!K7 -> 29 | ... R7: ='Ս. Մնոյան'!R7+Գ.Խաչատրյան!R7+Գ.Նարինյան!R7+Մ.Մարգարյան!R7+'Ա. Մարգարյան'!R7+'Ս. Մարաբյան'!R7+'Ս. Ուզունյան'!R7 -> 4 | T7: =D7+E7 -> 29 | U7: =F7+K7+L7 -> 29 | V7: =K7 -> 29 | W7: =G7+H7+I7+J7 -> 29
A8: 2 | B8: Ï³É³ÝùÇ Å³ÙÏ»ïÁ »ñÏ³ñ³óÝ»Éáõ Ù³ëÇÝ ÙÇçÝáñ¹áõÃÛáõÝÝ»ñ | D8: ='Ս. Մնոյան'!D8+Գ.Խաչատրյան!D8+Գ.Նարինյան!D8+Մ.Մարգարյան!D8+'Ա. Մարգարյան'!D8+'Ս. Մարաբյան'!D8+'Ս. Ուզունյան'!D8 -> 0 | E8: ='Ս. Մնոյան'!E8+Գ.Խաչատրյան!E8+Գ.Նարինյան!E8+Մ.Մարգարյան!E8+'Ա. Մարգարյան'!E8+'Ս. Մարաբյան'!E8+'Ս. Ուզունյան'!E8 -> 19 | F8: ='Ս. Մնոյան'!F8+Գ.Խաչատրյան!F8+Գ.Նարինյան!F8+Մ.Մարգարյան!F8+'Ա. Մարգարյան'!F8+'Ս. Մարաբյան'!F8+'Ս. Ուզունյան'!F8 -> 0 | G8: ='Ս. Մնոյան'!G8+Գ.Խաչատրյան!G8+Գ.Նարինյան!G8+Մ.Մարգարյան!G8+'Ա. Մարգարյան'!G8+'Ս. Մարաբյան'!G8+'Ս. Ուզունյան'!G8 -> 1 | H8: ='Ս. Մնոյան'!H8+Գ.Խաչատրյան!H8+Գ.Նարինյան!H8+Մ.Մարգարյան!H8+'Ա. Մարգարյան'!H8+'Ս. Մարաբյան'!H8+'Ս. Ուզունյան'!H8 -> 16 | I8: ='Ս. Մնոյան'!I8+Գ.Խաչատրյան!I8+Գ.Նարինյան!I8+Մ.Մարգարյան!I8+'Ա. Մարգարյան'!I8+'Ս. Մարաբյան'!I8+'Ս. Ուզունյան'!I8 -> 2 | J8: ='Ս. Մնոյան'!J8+Գ.Խաչատրյան!J8+Գ.Նարինյան!J8+Մ.Մարգարյան!J8+'Ա. Մարգարյան'!J8+'Ս. Մարաբյան'!J8+'Ս. Ուզունյան'!J8 -> 0 | K8: ='Ս. Մնոյան'!K8+Գ.Խաչատրյան!K8+Գ.Նարինյան!K8+Մ.Մարգարյան!K8+'Ա. Մարգարյան'!K8+'Ս. Մարաբյան'!K8+'Ս. Ուզունյան'!K8 -> 19 | ... R8: ='Ս. Մնոյան'!R8+Գ.Խաչատրյան!R8+Գ.Նարինյան!R8+Մ.Մարգարյան!R8+'Ա. Մարգարյան'!R8+'Ս. Մարաբյան'!R8+'Ս. Ուզունյան'!R8 -> 3 | T8: =D8+E8 -> 19 | U8: =F8+K8+L8 -> 19 | V8: =K8 -> 19 | W8: =G8+H8+I8+J8 -> 19
A9: 3 | B9: Ï³É³ÝùÇ í»ñ³Ñ³ëï³ïÙ³Ý Ù³ëÇÝ ÙÇçÝáñ¹áõÃÛáõÝÝ»ñ | D9: ='Ս. Մնոյան'!D9+Գ.Խաչատրյան!D9+Գ.Նարինյան!D9+Մ.Մարգարյան!D9+'Ա. Մարգարյան'!D9+'Ս. Մարաբյան'!D9+'Ս. Ուզունյան'!D9 -> 0 | E9: ='Ս. Մնոյան'!E9+Գ.Խաչատրյան!E9+Գ.Նարինյան!E9+Մ.Մարգարյան!E9+'Ա. Մարգարյան'!E9+'Ս. Մարաբյան'!E9+'Ս. Ուզունյան'!E9 -> 4 | F9: ='Ս. Մնոյան'!F9+Գ.Խաչատրյան!F9+Գ.Նարինյան!F9+Մ.Մարգարյան!F9+'Ա. Մարգարյան'!F9+'Ս. Մարաբյան'!F9+'Ս. Ուզունյան'!F9 -> 0 | G9: ='Ս. Մնոյան'!G9+Գ.Խաչատրյան!G9+Գ.Նարինյան!G9+Մ.Մարգարյան!G9+'Ա. Մարգարյան'!G9+'Ս. Մարաբյան'!G9+'Ս. Ուզունյան'!G9 -> 0 | H9: ='Ս. Մնոյան'!H9+Գ.Խաչատրյան!H9+Գ.Նարինյան!H9+Մ.Մարգարյան!H9+'Ա. Մարգարյան'!H9+'Ս. Մարաբյան'!H9+'Ս. Ուզունյան'!H9 -> 4 | I9: ='Ս. Մնոյան'!I9+Գ.Խաչատրյան!I9+Գ.Նարինյան!I9+Մ.Մարգարյան!I9+'Ա. Մարգարյան'!I9+'Ս. Մարաբյան'!I9+'Ս. Ուզունյան'!I9 -> 0 | J9: ='Ս. Մնոյան'!J9+Գ.Խաչատրյան!J9+Գ.Նարինյան!J9+Մ.Մարգարյան!J9+'Ա. Մարգարյան'!J9+'Ս. Մարաբյան'!J9+'Ս. Ուզունյան'!J9 -> 0 | K9: ='Ս. Մնոյան'!K9+Գ.Խաչատրյան!K9+Գ.Նարինյան!K9+Մ.Մարգարյան!K9+'Ա. Մարգարյան'!K9+'Ս. Մարաբյան'!K9+'Ս. Ուզունյան'!K9 -> 4 | ... R9: ='Ս. Մնոյան'!R9+Գ.Խաչատրյան!R9+Գ.Նարինյան!R9+Մ.Մարգարյան!R9+'Ա. Մարգարյան'!R9+'Ս. Մարաբյան'!R9+'Ս. Ուզունյան'!R9 -> 0 | T9: =D9+E9 -> 4 | U9: =F9+K9+L9 -> 4 | V9: =K9 -> 4 | W9: =G9+H9+I9+J9 -> 4
A10: 4 | B10: ·ñ³íÁ áñå»ë Ï³É³Ý³íáñÙ³Ý ³ÛÉÁÝïñ³Ýù³ÛÇÝ Ë³÷³ÝÙ³Ý ÙÇçáó ÏÇñ³é»Éáõ Ù³ëÇÝ ÙÇçÝáñ¹áõÃÛáõÝÝ»ñ | D10: ='Ս. Մնոյան'!D10+Գ.Խաչատրյան!D10+Գ.Նարինյան!D10+Մ.Մարգարյան!D10+'Ա. Մարգարյան'!D10+'Ս. Մարաբյան'!D10+'Ս. Ուզունյան'!D10 -> 0 | E10: ='Ս. Մնոյան'!E10+Գ.Խաչատրյան!E10+Գ.Նարինյան!E10+Մ.Մարգարյան!E10+'Ա. Մարգարյան'!E10+'Ս. Մարաբյան'!E10+'Ս. Ուզունյան'!E10 -> 21 | F10: ='Ս. Մնոյան'!F10+Գ.Խաչատրյան!F10+Գ.Նարինյան!F10+Մ.Մարգարյան!F10+'Ա. Մարգարյան'!F10+'Ս. Մարաբյան'!F10+'Ս. Ուզունյան'!F10 -> 0 | G10: ='Ս. Մնոյան'!G10+Գ.Խաչատրյան!G10+Գ.Նարինյան!G10+Մ.Մարգարյան!G10+'Ա. Մարգարյան'!G10+'Ս. Մարաբյան'!G10+'Ս. Ուզունյան'!G10 -> 13 | H10: ='Ս. Մնոյան'!H10+Գ.Խաչատրյան!H10+Գ.Նարինյան!H10+Մ.Մարգարյան!H10+'Ա. Մարգարյան'!H10+'Ս. Մարաբյան'!H10+'Ս. Ուզունյան'!H10 -> 8 | I10: ='Ս. Մնոյան'!I10+Գ.Խաչատրյան!I10+Գ.Նարինյան!I10+Մ.Մարգարյան!I10+'Ա. Մարգարյան'!I10+'Ս. Մարաբյան'!I10+'Ս. Ուզունյան'!I10 -> 0 | J10: ='Ս. Մնոյան'!J10+Գ.Խաչատրյան!J10+Գ.Նարինյան!J10+Մ.Մարգարյան!J10+'Ա. Մարգարյան'!J10+'Ս. Մարաբյան'!J10+'Ս. Ուզունյան'!J10 -> 0 | K10: ='Ս. Մնոյան'!K10+Գ.Խաչատրյան!K10+Գ.Նարինյան!K10+Մ.Մարգարյան!K10+'Ա. Մարգարյան'!K10+'Ս. Մարաբյան'!K10+'Ս. Ուզունյան'!K10 -> 21 | ... R10: ='Ս. Մնոյան'!R10+Գ.Խաչատրյան!R10+Գ.Նարինյան!R10+Մ.Մարգարյան!R10+'Ա. Մարգարյան'!R10+'Ս. Մարաբյան'!R10+'Ս. Ուզունյան'!R10 -> 0 | T10: =D10+E10 -> 21 | U10: =F10+K10+L10 -> 21 | V10: =K10 -> 21 | W10: =G10+H10+I10+J10 -> 21
A11: 5 | B11: Ëáõ½³ñÏáõÃÛ³Ý Ï³ï³ñÙ³Ý Ù³ëÇÝ ÙÇçÝáñ¹áõÃÛáõÝÝ»ñ | D11: ='Ս. Մնոյան'!D11+Գ.Խաչատրյան!D11+Գ.Նարինյան!D11+Մ.Մարգարյան!D11+'Ա. Մարգարյան'!D11+'Ս. Մարաբյան'!D11+'Ս. Ուզունյան'!D11 -> 0 | E11: ='Ս. Մնոյան'!E11+Գ.Խաչատրյան!E11+Գ.Նարինյան!E11+Մ.Մարգարյան!E11+'Ա. Մարգարյան'!E11+'Ս. Մարաբյան'!E11+'Ս. Ուզունյան'!E11 -> 42 | F11: ='Ս. Մնոյան'!F11+Գ.Խաչատրյան!F11+Գ.Նարինյան!F11+Մ.Մարգարյան!F11+'Ա. Մարգարյան'!F11+'Ս. Մարաբյան'!F11+'Ս. Ուզունյան'!F11 -> 0 | G11: ='Ս. Մնոյան'!G11+Գ.Խաչատրյան!G11+Գ.Նարինյան!G11+Մ.Մարգարյան!G11+'Ա. Մարգարյան'!G11+'Ս. Մարաբյան'!G11+'Ս. Ուզունյան'!G11 -> 3 | H11: ='Ս. Մնոյան'!H11+Գ.Խաչատրյան!H11+Գ.Նարինյան!H11+Մ.Մարգարյան!H11+'Ա. Մարգարյան'!H11+'Ս. Մարաբյան'!H11+'Ս. Ուզունյան'!H11 -> 39 | I11: ='Ս. Մնոյան'!I11+Գ.Խաչատրյան!I11+Գ.Նարինյան!I11+Մ.Մարգարյան!I11+'Ա. Մարգարյան'!I11+'Ս. Մարաբյան'!I11+'Ս. Ուզունյան'!I11 -> 0 | J11: ='Ս. Մնոյան'!J11+Գ.Խաչատրյան!J11+Գ.Նարինյան!J11+Մ.Մարգարյան!J11+'Ա. Մարգարյան'!J11+'Ս. Մարաբյան'!J11+'Ս. Ուզունյան'!J11 -> 0 | K11: ='Ս. Մնոյան'!K11+Գ.Խաչատրյան!K11+Գ.Նարինյան!K11+Մ.Մարգարյան!K11+'Ա. Մարգարյան'!K11+'Ս. Մարաբյան'!K11+'Ս. Ուզունյան'!K11 -> 42 | ... R11: ='Ս. Մնոյան'!R11+Գ.Խաչատրյան!R11+Գ.Նարինյան!R11+Մ.Մարգարյան!R11+'Ա. Մարգարյան'!R11+'Ս. Մարաբյան'!R11+'Ս. Ուզունյան'!R11 -> 0 | T11: =D11+E11 -> 42 | U11: =F11+K11+L11 -> 42 | V11: =K11 -> 42 | W11: =G11+H11+I11+J11 -> 42
A12: 6 | B12: µ³ÝÏ³ÛÇÝ, ³å³Ñáí³·ñ³Ï³Ý, Ýáï³ñ³Ï³Ý ·³ÕïÝÇù Ï³½ÙáÕ ï»Õ»ÏáõÃÛáõÝÝ»ñÇ ëï³óÙ³Ý Ñ³Ù³ñ Ëáõ½³ñÏáõÃÛ³Ý Ï³Ù ³é·ñ³íÙ³Ý Ï³ï³ñÙ³Ý Ù³ëÇÝ ÙÇçÝáñ¹áõÃÛáõÝÝ»ñ | D12: ='Ս. Մնոյան'!D12+Գ.Խաչատրյան!D12+Գ.Նարինյան!D12+Մ.Մարգարյան!D12+'Ա. Մարգարյան'!D12+'Ս. Մարաբյան'!D12+'Ս. Ուզունյան'!D12 -> 0 | E12: ='Ս. Մնոյան'!E12+Գ.Խաչատրյան!E12+Գ.Նարինյան!E12+Մ.Մարգարյան!E12+'Ա. Մարգարյան'!E12+'Ս. Մարաբյան'!E12+'Ս. Ուզունյան'!E12 -> 0 | F12: ='Ս. Մնոյան'!F12+Գ.Խաչատրյան!F12+Գ.Նարինյան!F12+Մ.Մարգարյան!F12+'Ա. Մարգարյան'!F12+'Ս. Մարաբյան'!F12+'Ս. Ուզունյան'!F12 -> 0 | G12: ='Ս. Մնոյան'!G12+Գ.Խաչատրյան!G12+Գ.Նարինյան!G12+Մ.Մարգարյան!G12+'Ա. Մարգարյան'!G12+'Ս. Մարաբյան'!G12+'Ս. Ուզունյան'!G12 -> 0 | H12: ='Ս. Մնոյան'!H12+Գ.Խաչատրյան!H12+Գ.Նարինյան!H12+Մ.Մարգարյան!H12+'Ա. Մարգարյան'!H12+'Ս. Մարաբյան'!H12+'Ս. Ուզունյան'!H12 -> 0 | I12: ='Ս. Մնոյան'!I12+Գ.Խաչատրյան!I12+Գ.Նարինյան!I12+Մ.Մարգարյան!I12+'Ա. Մարգարյան'!I12+'Ս. Մարաբյան'!I12+'Ս. Ուզունյան'!I12 -> 0 | J12: ='Ս. Մնոյան'!J12+Գ.Խաչատրյան!J12+Գ.Նարինյան!J12+Մ.Մարգարյան!J12+'Ա. Մարգարյան'!J12+'Ս. Մարաբյան'!J12+'Ս. Ուզունյան'!J12 -> 0 | K12: ='Ս. Մնոյան'!K12+Գ.Խաչատրյան!K12+Գ.Նարինյան!K12+Մ.Մարգարյան!K12+'Ա. Մարգարյան'!K12+'Ս. Մարաբյան'!K12+'Ս. Ուզունյան'!K12 -> 0 | ... R12: ='Ս. Մնոյան'!R12+Գ.Խաչատրյան!R12+Գ.Նարինյան!R12+Մ.Մարգարյան!R12+'Ա. Մարգարյան'!R12+'Ս. Մարաբյան'!R12+'Ս. Ուզունյան'!R12 -> 0 | T12: =D12+E12 -> 0 | U12: =F12+K12+L12 -> 0 | V12: =K12 -> 0 | W12: =G12+H12+I12+J12 -> 0
A13: 7 | B13: Ý³Ù³Ï³·ñáõÃÛ³Ý, Ñ»é³·ñ³Ï³Ý, ÷áuï³ÛÇÝ Ñ³Õáñ¹áõÙÝ»ñÇ ÑëÏáÕáõÃÛ³Ý Ù³ëÇÝ ÙÇçÝáñ¹áõÃÛáõÝÝ»ñ | D13: ='Ս. Մնոյան'!D13+Գ.Խաչատրյան!D13+Գ.Նարինյան!D13+Մ.Մարգարյան!D13+'Ա. Մարգարյան'!D13+'Ս. Մարաբյան'!D13+'Ս. Ուզունյան'!D13 -> 0 | E13: ='Ս. Մնոյան'!E13+Գ.Խաչատրյան!E13+Գ.Նարինյան!E13+Մ.Մարգարյան!E13+'Ա. Մարգարյան'!E13+'Ս. Մարաբյան'!E13+'Ս. Ուզունյան'!E13 -> 1 | F13: ='Ս. Մնոյան'!F13+Գ.Խաչատրյան!F13+Գ.Նարինյան!F13+Մ.Մարգարյան!F13+'Ա. Մարգարյան'!F13+'Ս. Մարաբյան'!F13+'Ս. Ուզունյան'!F13 -> 0 | G13: ='Ս. Մնոյան'!G13+Գ.Խաչատրյան!G13+Գ.Նարինյան!G13+Մ.Մարգարյան!G13+'Ա. Մարգարյան'!G13+'Ս. Մարաբյան'!G13+'Ս. Ուզունյան'!G13 -> 0 | H13: ='Ս. Մնոյան'!H13+Գ.Խաչատրյան!H13+Գ.Նարինյան!H13+Մ.Մարգարյան!H13+'Ա. Մարգարյան'!H13+'Ս. Մարաբյան'!H13+'Ս. Ուզունյան'!H13 -> 1 | I13: ='Ս. Մնոյան'!I13+Գ.Խաչատրյան!I13+Գ.Նարինյան!I13+Մ.Մարգարյան!I13+'Ա. Մարգարյան'!I13+'Ս. Մարաբյան'!I13+'Ս. Ուզունյան'!I13 -> 0 | J13: ='Ս. Մնոյան'!J13+Գ.Խաչատրյան!J13+Գ.Նարինյան!J13+Մ.Մարգարյան!J13+'Ա. Մարգարյան'!J13+'Ս. Մարաբյան'!J13+'Ս. Ուզունյան'!J13 -> 0 | K13: ='Ս. Մնոյան'!K13+Գ.Խաչատրյան!K13+Գ.Նարինյան!K13+Մ.Մարգարյան!K13+'Ա. Մարգարյան'!K13+'Ս. Մարաբյան'!K13+'Ս. Ուզունյան'!K13 -> 1 | ... R13: ='Ս. Մնոյան'!R13+Գ.Խաչատրյան!R13+Գ.Նարինյան!R13+Մ.Մարգարյան!R13+'Ա. Մարգարյան'!R13+'Ս. Մարաբյան'!R13+'Ս. Ուզունյան'!R13 -> 0 | T13: =D13+E13 -> 1 | U13: =F13+K13+L13 -> 1 | V13: =K13 -> 1 | W13: =G13+H13+I13+J13 -> 1
A14: 8 | B14: Ñ»é³Ëáu³ÛÇÝ Ï³Ù Ï³åÇ ³ÛÉ ÙÇçáóÝ»ñáí ï³ñíáÕ Ëáu³ÏóáõÃÛáõÝÝ»ñÇ ÉuÙ³Ý ¨ Ó³ÛÝ³·ñ³éÙ³Ý Ù³ëÇÝ ÙÇçÝáñ¹áõÃÛáõÝÝ»ñ | D14: ='Ս. Մնոյան'!D14+Գ.Խաչատրյան!D14+Գ.Նարինյան!D14+Մ.Մարգարյան!D14+'Ա. Մարգարյան'!D14+'Ս. Մարաբյան'!D14+'Ս. Ուզունյան'!D14 -> 0 | E14: ='Ս. Մնոյան'!E14+Գ.Խաչատրյան!E14+Գ.Նարինյան!E14+Մ.Մարգարյան!E14+'Ա. Մարգարյան'!E14+'Ս. Մարաբյան'!E14+'Ս. Ուզունյան'!E14 -> 0 | F14: ='Ս. Մնոյան'!F14+Գ.Խաչատրյան!F14+Գ.Նարինյան!F14+Մ.Մարգարյան!F14+'Ա. Մարգարյան'!F14+'Ս. Մարաբյան'!F14+'Ս. Ուզունյան'!F14 -> 0 | G14: ='Ս. Մնոյան'!G14+Գ.Խաչատրյան!G14+Գ.Նարինյան!G14+Մ.Մարգարյան!G14+'Ա. Մարգարյան'!G14+'Ս. Մարաբյան'!G14+'Ս. Ուզունյան'!G14 -> 0 | H14: ='Ս. Մնոյան'!H14+Գ.Խաչատրյան!H14+Գ.Նարինյան!H14+Մ.Մարգարյան!H14+'Ա. Մարգարյան'!H14+'Ս. Մարաբյան'!H14+'Ս. Ուզունյան'!H14 -> 0 | I14: ='Ս. Մնոյան'!I14+Գ.Խաչատրյան!I14+Գ.Նարինյան!I14+Մ.Մարգարյան!I14+'Ա. Մարգարյան'!I14+'Ս. Մարաբյան'!I14+'Ս. Ուզունյան'!I14 -> 0 | J14: ='Ս. Մնոյան'!J14+Գ.Խաչատրյան!J14+Գ.Նարինյան!J14+Մ.Մարգարյան!J14+'Ա. Մարգարյան'!J14+'Ս. Մարաբյան'!J14+'Ս. Ուզունյան'!J14 -> 0 | K14: ='Ս. Մնոյան'!K14+Գ.Խաչատրյան!K14+Գ.Նարինյան!K14+Մ.Մարգարյան!K14+'Ա. Մարգարյան'!K14+'Ս. Մարաբյան'!K14+'Ս. Ուզունյան'!K14 -> 0 | ... R14: ='Ս. Մնոյան'!R14+Գ.Խաչատրյան!R14+Գ.Նարինյան!R14+Մ.Մարգարյան!R14+'Ա. Մարգարյան'!R14+'Ս. Մարաբյան'!R14+'Ս. Ուզունյան'!R14 -> 0 | T14: =D14+E14 -> 0 | U14: =F14+K14+L14 -> 0 | V14: =K14 -> 0 | W14: =G14+H14+I14+J14 -> 0
A15: 9 | B15: Ñ»é³ËáëÝ»ñÇ Ùáõïù³ÛÇÝ ¨ »Éù³ÛÇÝ í»ñÍ³ÝÙ³Ý ÃáõÛÉïíáõÃÛáõÝ ëï³Ý³Éáõ Ù³ëÇÝ ÙÇçÝáñ¹áõÃÛáõÝÝ»ñ | D15: ='Ս. Մնոյան'!D15+Գ.Խաչատրյան!D15+Գ.Նարինյան!D15+Մ.Մարգարյան!D15+'Ա. Մարգարյան'!D15+'Ս. Մարաբյան'!D15+'Ս. Ուզունյան'!D15 -> 0 | E15: ='Ս. Մնոյան'!E15+Գ.Խաչատրյան!E15+Գ.Նարինյան!E15+Մ.Մարգարյան!E15+'Ա. Մարգարյան'!E15+'Ս. Մարաբյան'!E15+'Ս. Ուզունյան'!E15 -> 73 | F15: ='Ս. Մնոյան'!F15+Գ.Խաչատրյան!F15+Գ.Նարինյան!F15+Մ.Մարգարյան!F15+'Ա. Մարգարյան'!F15+'Ս. Մարաբյան'!F15+'Ս. Ուզունյան'!F15 -> 0 | G15: ='Ս. Մնոյան'!G15+Գ.Խաչատրյան!G15+Գ.Նարինյան!G15+Մ.Մարգարյան!G15+'Ա. Մարգարյան'!G15+'Ս. Մարաբյան'!G15+'Ս. Ուզունյան'!G15 -> 1 | H15: ='Ս. Մնոյան'!H15+Գ.Խաչատրյան!H15+Գ.Նարինյան!H15+Մ.Մարգարյան!H15+'Ա. Մարգարյան'!H15+'Ս. Մարաբյան'!H15+'Ս. Ուզունյան'!H15 -> 71 | I15: ='Ս. Մնոյան'!I15+Գ.Խաչատրյան!I15+Գ.Նարինյան!I15+Մ.Մարգարյան!I15+'Ա. Մարգարյան'!I15+'Ս. Մարաբյան'!I15+'Ս. Ուզունյան'!I15 -> 1 | J15: ='Ս. Մնոյան'!J15+Գ.Խաչատրյան!J15+Գ.Նարինյան!J15+Մ.Մարգարյան!J15+'Ա. Մարգարյան'!J15+'Ս. Մարաբյան'!J15+'Ս. Ուզունյան'!J15 -> 0 | K15: ='Ս. Մնոյան'!K15+Գ.Խաչատրյան!K15+Գ.Նարինյան!K15+Մ.Մարգարյան!K15+'Ա. Մարգարյան'!K15+'Ս. Մարաբյան'!K15+'Ս. Ուզունյան'!K15 -> 73 | ... R15: ='Ս. Մնոյան'!R15+Գ.Խաչատրյան!R15+Գ.Նարինյան!R15+Մ.Մարգարյան!R15+'Ա. Մարգարյան'!R15+'Ս. Մարաբյան'!R15+'Ս. Ուզունյան'!R15 -> 0 | T15: =D15+E15 -> 73 | U15: =F15+K15+L15 -> 73 | V15: =K15 -> 73 | W15: =G15+H15+I15+J15 -> 73
A16: 10 | B16: Ñ»ï³ùÝÝáõÃÛ³Ý Ù³ñÙÝÇ ³ßË³ïáÕÇ, ùÝÝÇãÇ, ¹³ï³Ë³½Ç oå»ñ³ïÇí-Ñ»ï³Ëáõ½³Ï³Ý ·áñÍáÕáõÃÛáõÝÝ»ñ Çñ³Ï³Ý³óÝáÕ Ù³ñÙÇÝÝ»ñÇ ³ÝoñÇÝ³Ï³Ý ¨ ³ÝÑÇÙÝ áñáßáõÙÝ»ñÇ ¨ ·áñÍáÕáõÃÛáõÝÝ»ñÇ ¹»Ù µáÕáùÝ»ñ | D16: ='Ս. Մնոյան'!D16+Գ.Խաչատրյան!D16+Գ.Նարինյան!D16+Մ.Մարգարյան!D16+'Ա. Մարգարյան'!D16+'Ս. Մարաբյան'!D16+'Ս. Ուզունյան'!D16 -> 1 | E16: ='Ս. Մնոյան'!E16+Գ.Խաչատրյան!E16+Գ.Նարինյան!E16+Մ.Մարգարյան!E16+'Ա. Մարգարյան'!E16+'Ս. Մարաբյան'!E16+'Ս. Ուզունյան'!E16 -> 7 | F16: ='Ս. Մնոյան'!F16+Գ.Խաչատրյան!F16+Գ.Նարինյան!F16+Մ.Մարգարյան!F16+'Ա. Մարգարյան'!F16+'Ս. Մարաբյան'!F16+'Ս. Ուզունյան'!F16 -> 0 | G16: ='Ս. Մնոյան'!G16+Գ.Խաչատրյան!G16+Գ.Նարինյան!G16+Մ.Մարգարյան!G16+'Ա. Մարգարյան'!G16+'Ս. Մարաբյան'!G16+'Ս. Ուզունյան'!G16 -> 6 | H16: ='Ս. Մնոյան'!H16+Գ.Խաչատրյան!H16+Գ.Նարինյան!H16+Մ.Մարգարյան!H16+'Ա. Մարգարյան'!H16+'Ս. Մարաբյան'!H16+'Ս. Ուզունյան'!H16 -> 0 | I16: ='Ս. Մնոյան'!I16+Գ.Խաչատրյան!I16+Գ.Նարինյան!I16+Մ.Մարգարյան!I16+'Ա. Մարգարյան'!I16+'Ս. Մարաբյան'!I16+'Ս. Ուզունյան'!I16 -> 0 | J16: ='Ս. Մնոյան'!J16+Գ.Խաչատրյան!J16+Գ.Նարինյան!J16+Մ.Մարգարյան!J16+'Ա. Մարգարյան'!J16+'Ս. Մարաբյան'!J16+'Ս. Ուզունյան'!J16 -> 0 | K16: ='Ս. Մնոյան'!K16+Գ.Խաչատրյան!K16+Գ.Նարինյան!K16+Մ.Մարգարյան!K16+'Ա. Մարգարյան'!K16+'Ս. Մարաբյան'!K16+'Ս. Ուզունյան'!K16 -> 6 | ... R16: ='Ս. Մնոյան'!R16+Գ.Խաչատրյան!R16+Գ.Նարինյան!R16+Մ.Մարգարյան!R16+'Ա. Մարգարյան'!R16+'Ս. Մարաբյան'!R16+'Ս. Ուզունյան'!R16 -> 0 | T16: =D16+E16 -> 8 | U16: =F16+K16+L16 -> 8 | V16: =K16 -> 6 | W16: =G16+H16+I16+J16 -> 6
A17: 11 | B17: ²½³ïáõÃÛáõÝÇó ½ñÏ»Éáõ Çñ³í³ã³÷áõÃÛ³Ý í»ñ³µ»ñÛ³É µáÕáùÝ»ñáí ·áñÍ»ñ | D17: ='Ս. Մնոյան'!D17+Գ.Խաչատրյան!D17+Գ.Նարինյան!D17+Մ.Մարգարյան!D17+'Ա. Մարգարյան'!D17+'Ս. Մարաբյան'!D17+'Ս. Ուզունյան'!D17 -> 0 | E17: ='Ս. Մնոյան'!E17+Գ.Խաչատրյան!E17+Գ.Նարինյան!E17+Մ.Մարգարյան!E17+'Ա. Մարգարյան'!E17+'Ս. Մարաբյան'!E17+'Ս. Ուզունյան'!E17 -> 0 | F17: ='Ս. Մնոյան'!F17+Գ.Խաչատրյան!F17+Գ.Նարինյան!F17+Մ.Մարգարյան!F17+'Ա. Մարգարյան'!F17+'Ս. Մարաբյան'!F17+'Ս. Ուզունյան'!F17 -> 0 | G17: ='Ս. Մնոյան'!G17+Գ.Խաչատրյան!G17+Գ.Նարինյան!G17+Մ.Մարգարյան!G17+'Ա. Մարգարյան'!G17+'Ս. Մարաբյան'!G17+'Ս. Ուզունյան'!G17 -> 0 | H17: ='Ս. Մնոյան'!H17+Գ.Խաչատրյան!H17+Գ.Նարինյան!H17+Մ.Մարգարյան!H17+'Ա. Մարգարյան'!H17+'Ս. Մարաբյան'!H17+'Ս. Ուզունյան'!H17 -> 0 | I17: ='Ս. Մնոյան'!I17+Գ.Խաչատրյան!I17+Գ.Նարինյան!I17+Մ.Մարգարյան!I17+'Ա. Մարգարյան'!I17+'Ս. Մարաբյան'!I17+'Ս. Ուզունյան'!I17 -> 0 | J17: ='Ս. Մնոյան'!J17+Գ.Խաչատրյան!J17+Գ.Նարինյան!J17+Մ.Մարգարյան!J17+'Ա. Մարգարյան'!J17+'Ս. Մարաբյան'!J17+'Ս. Ուզունյան'!J17 -> 0 | K17: ='Ս. Մնոյան'!K17+Գ.Խաչատրյան!K17+Գ.Նարինյան!K17+Մ.Մարգարյան!K17+'Ա. Մարգարյան'!K17+'Ս. Մարաբյան'!K17+'Ս. Ուզունյան'!K17 -> 0 | ... R17: ='Ս. Մնոյան'!R17+Գ.Խաչատրյան!R17+Գ.Նարինյան!R17+Մ.Մարգարյան!R17+'Ա. Մարգարյան'!R17+'Ս. Մարաբյան'!R17+'Ս. Ուզունյան'!R17 -> 0 | T17: =D17+E17 -> 0 | U17: =F17+K17+L17 -> 0 | V17: =K17 -> 0 | W17: =G17+H17+I17+J17 -> 0
A18: 2. ¸³ï³Ï³Ý ³Ïï»ñÇ ¨ ¹³ï³Ï³Ý Ñ³ÝÓÝ³ñ³ñáõÃÛáõÝÝ»ñÇ Ï³ï³ñÙ³Ý Ñ»ï Ï³åí³Í Ñ³ñó»ñÇ ÉáõÍÙ³Ý áÉáñï
A19: 1 | B19: å³ïÅÇó å³ÛÙ³Ý³Ï³Ý í³Õ³Å³ÙÏ»ï ³½³ï»Éáõ Ù³ëÇÝ ÙÇçÝáñ¹áõÃÛáõÝÝ»ñ | D19: ='Ս. Մնոյան'!D19+Գ.Խաչատրյան!D19+Գ.Նարինյան!D19+Մ.Մարգարյան!D19+'Ա. Մարգարյան'!D19+'Ս. Մարաբյան'!D19+'Ս. Ուզունյան'!D19 -> 1 | E19: ='Ս. Մնոյան'!E19+Գ.Խաչատրյան!E19+Գ.Նարինյան!E19+Մ.Մարգարյան!E19+'Ա. Մարգարյան'!E19+'Ս. Մարաբյան'!E19+'Ս. Ուզունյան'!E19 -> 8 | F19: ='Ս. Մնոյան'!F19+Գ.Խաչատրյան!F19+Գ.Նարինյան!F19+Մ.Մարգարյան!F19+'Ա. Մարգարյան'!F19+'Ս. Մարաբյան'!F19+'Ս. Ուզունյան'!F19 -> 1 | G19: ='Ս. Մնոյան'!G19+Գ.Խաչատրյան!G19+Գ.Նարինյան!G19+Մ.Մարգարյան!G19+'Ա. Մարգարյան'!G19+'Ս. Մարաբյան'!G19+'Ս. Ուզունյան'!G19 -> 0 | H19: ='Ս. Մնոյան'!H19+Գ.Խաչատրյան!H19+Գ.Նարինյան!H19+Մ.Մարգարյան!H19+'Ա. Մարգարյան'!H19+'Ս. Մարաբյան'!H19+'Ս. Ուզունյան'!H19 -> 8 | I19: ='Ս. Մնոյան'!I19+Գ.Խաչատրյան!I19+Գ.Նարինյան!I19+Մ.Մարգարյան!I19+'Ա. Մարգարյան'!I19+'Ս. Մարաբյան'!I19+'Ս. Ուզունյան'!I19 -> 0 | J19: ='Ս. Մնոյան'!J19+Գ.Խաչատրյան!J19+Գ.Նարինյան!J19+Մ.Մարգարյան!J19+'Ա. Մարգարյան'!J19+'Ս. Մարաբյան'!J19+'Ս. Ուզունյան'!J19 -> 0 | K19: ='Ս. Մնոյան'!K19+Գ.Խաչատրյան!K19+Գ.Նարինյան!K19+Մ.Մարգարյան!K19+'Ա. Մարգարյան'!K19+'Ս. Մարաբյան'!K19+'Ս. Ուզունյան'!K19 -> 8 | ... R19: ='Ս. Մնոյան'!R19+Գ.Խաչատրյան!R19+Գ.Նարինյան!R19+Մ.Մարգարյան!R19+'Ա. Մարգարյան'!R19+'Ս. Մարաբյան'!R19+'Ս. Ուզունյան'!R19 -> 0 | T19: =D19+E19 -> 9 | U19: =F19+K19+L19 -> 9 | V19: =K19 -> 8 | W19: =G19+H19+I19+J19 -> 8
A20: 2 | B20: å³ïÇÅÁ ÷á÷áË»Éáõ, Ñ»ï³Ó·»Éáõ ¨ å³ïÅÇó ³½³ï»Éáõ Ù³uÇÝ ÙÇçÝáñ¹áõÃÛáõÝÝ»ñ | D20: ='Ս. Մնոյան'!D20+Գ.Խաչատրյան!D20+Գ.Նարինյան!D20+Մ.Մարգարյան!D20+'Ա. Մարգարյան'!D20+'Ս. Մարաբյան'!D20+'Ս. Ուզունյան'!D20 -> 3 | E20: ='Ս. Մնոյան'!E20+Գ.Խաչատրյան!E20+Գ.Նարինյան!E20+Մ.Մարգարյան!E20+'Ա. Մարգարյան'!E20+'Ս. Մարաբյան'!E20+'Ս. Ուզունյան'!E20 -> 44 | F20: ='Ս. Մնոյան'!F20+Գ.Խաչատրյան!F20+Գ.Նարինյան!F20+Մ.Մարգարյան!F20+'Ա. Մարգարյան'!F20+'Ս. Մարաբյան'!F20+'Ս. Ուզունյան'!F20 -> 4 | G20: ='Ս. Մնոյան'!G20+Գ.Խաչատրյան!G20+Գ.Նարինյան!G20+Մ.Մարգարյան!G20+'Ա. Մարգարյան'!G20+'Ս. Մարաբյան'!G20+'Ս. Ուզունյան'!G20 -> 7 | H20: ='Ս. Մնոյան'!H20+Գ.Խաչատրյան!H20+Գ.Նարինյան!H20+Մ.Մարգարյան!H20+'Ա. Մարգարյան'!H20+'Ս. Մարաբյան'!H20+'Ս. Ուզունյան'!H20 -> 27 | I20: ='Ս. Մնոյան'!I20+Գ.Խաչատրյան!I20+Գ.Նարինյան!I20+Մ.Մարգարյան!I20+'Ա. Մարգարյան'!I20+'Ս. Մարաբյան'!I20+'Ս. Ուզունյան'!I20 -> 2 | J20: ='Ս. Մնոյան'!J20+Գ.Խաչատրյան!J20+Գ.Նարինյան!J20+Մ.Մարգարյան!J20+'Ա. Մարգարյան'!J20+'Ս. Մարաբյան'!J20+'Ս. Ուզունյան'!J20 -> 1 | K20: ='Ս. Մնոյան'!K20+Գ.Խաչատրյան!K20+Գ.Նարինյան!K20+Մ.Մարգարյան!K20+'Ա. Մարգարյան'!K20+'Ս. Մարաբյան'!K20+'Ս. Ուզունյան'!K20 -> 37 | ... R20: ='Ս. Մնոյան'!R20+Գ.Խաչատրյան!R20+Գ.Նարինյան!R20+Մ.Մարգարյան!R20+'Ա. Մարգարյան'!R20+'Ս. Մարաբյան'!R20+'Ս. Ուզունյան'!R20 -> 0 | T20: =D20+E20 -> 47 | U20: =F20+K20+L20 -> 47 | V20: =K20 -> 37 | W20: =G20+H20+I20+J20 -> 37
A21: 3 | B21: Ñ³ñÏ³¹Çñ µáõÅÙ³Ý ï»ë³ÏÇ ÷á÷áËáõÃÛ³Ý Ù³ëÇÝ ÙÇçÝáñ¹áõÃÛáõÝÝ»ñ | D21: ='Ս. Մնոյան'!D21+Գ.Խաչատրյան!D21+Գ.Նարինյան!D21+Մ.Մարգարյան!D21+'Ա. Մարգարյան'!D21+'Ս. Մարաբյան'!D21+'Ս. Ուզունյան'!D21 -> 0 | E21: ='Ս. Մնոյան'!E21+Գ.Խաչատրյան!E21+Գ.Նարինյան!E21+Մ.Մարգարյան!E21+'Ա. Մարգարյան'!E21+'Ս. Մարաբյան'!E21+'Ս. Ուզունյան'!E21 -> 5 | F21: ='Ս. Մնոյան'!F21+Գ.Խաչատրյան!F21+Գ.Նարինյան!F21+Մ.Մարգարյան!F21+'Ա. Մարգարյան'!F21+'Ս. Մարաբյան'!F21+'Ս. Ուզունյան'!F21 -> 0 | G21: ='Ս. Մնոյան'!G21+Գ.Խաչատրյան!G21+Գ.Նարինյան!G21+Մ.Մարգարյան!G21+'Ա. Մարգարյան'!G21+'Ս. Մարաբյան'!G21+'Ս. Ուզունյան'!G21 -> 0 | H21: ='Ս. Մնոյան'!H21+Գ.Խաչատրյան!H21+Գ.Նարինյան!H21+Մ.Մարգարյան!H21+'Ա. Մարգարյան'!H21+'Ս. Մարաբյան'!H21+'Ս. Ուզունյան'!H21 -> 5 | I21: ='Ս. Մնոյան'!I21+Գ.Խաչատրյան!I21+Գ.Նարինյան!I21+Մ.Մարգարյան!I21+'Ա. Մարգարյան'!I21+'Ս. Մարաբյան'!I21+'Ս. Ուզունյան'!I21 -> 0 | J21: ='Ս. Մնոյան'!J21+Գ.Խաչատրյան!J21+Գ.Նարինյան!J21+Մ.Մարգարյան!J21+'Ա. Մարգարյան'!J21+'Ս. Մարաբյան'!J21+'Ս. Ուզունյան'!J21 -> 0 | K21: ='Ս. Մնոյան'!K21+Գ.Խաչատրյան!K21+Գ.Նարինյան!K21+Մ.Մարգարյան!K21+'Ա. Մարգարյան'!K21+'Ս. Մարաբյան'!K21+'Ս. Ուզունյան'!K21 -> 5 | ... R21: ='Ս. Մնոյան'!R21+Գ.Խաչատրյան!R21+Գ.Նարինյան!R21+Մ.Մարգարյան!R21+'Ա. Մարգարյան'!R21+'Ս. Մարաբյան'!R21+'Ս. Ուզունյան'!R21 -> 0 | T21: =D21+E21 -> 5 | U21: =F21+K21+L21 -> 5 | V21: =K21 -> 5 | W21: =G21+H21+I21+J21 -> 5
A22: 4 | B22: ³ÛÉ ÙÇçÝáñ¹áõÃÛáõÝÝ»ñ | D22: ='Ս. Մնոյան'!D22+Գ.Խաչատրյան!D22+Գ.Նարինյան!D22+Մ.Մարգարյան!D22+'Ա. Մարգարյան'!D22+'Ս. Մարաբյան'!D22+'Ս. Ուզունյան'!D22 -> 0 | E22: ='Ս. Մնոյան'!E22+Գ.Խաչատրյան!E22+Գ.Նարինյան!E22+Մ.Մարգարյան!E22+'Ա. Մարգարյան'!E22+'Ս. Մարաբյան'!E22+'Ս. Ուզունյան'!E22 -> 14 | F22: ='Ս. Մնոյան'!F22+Գ.Խաչատրյան!F22+Գ.Նարինյան!F22+Մ.Մարգարյան!F22+'Ա. Մարգարյան'!F22+'Ս. Մարաբյան'!F22+'Ս. Ուզունյան'!F22 -> 0 | G22: ='Ս. Մնոյան'!G22+Գ.Խաչատրյան!G22+Գ.Նարինյան!G22+Մ.Մարգարյան!G22+'Ա. Մարգարյան'!G22+'Ս. Մարաբյան'!G22+'Ս. Ուզունյան'!G22 -> 1 | H22: ='Ս. Մնոյան'!H22+Գ.Խաչատրյան!H22+Գ.Նարինյան!H22+Մ.Մարգարյան!H22+'Ա. Մարգարյան'!H22+'Ս. Մարաբյան'!H22+'Ս. Ուզունյան'!H22 -> 10 | I22: ='Ս. Մնոյան'!I22+Գ.Խաչատրյան!I22+Գ.Նարինյան!I22+Մ.Մարգարյան!I22+'Ա. Մարգարյան'!I22+'Ս. Մարաբյան'!I22+'Ս. Ուզունյան'!I22 -> 0 | J22: ='Ս. Մնոյան'!J22+Գ.Խաչատրյան!J22+Գ.Նարինյան!J22+Մ.Մարգարյան!J22+'Ա. Մարգարյան'!J22+'Ս. Մարաբյան'!J22+'Ս. Ուզունյան'!J22 -> 3 | K22: ='Ս. Մնոյան'!K22+Գ.Խաչատրյան!K22+Գ.Նարինյան!K22+Մ.Մարգարյան!K22+'Ա. Մարգարյան'!K22+'Ս. Մարաբյան'!K22+'Ս. Ուզունյան'!K22 -> 14 | ... R22: ='Ս. Մնոյան'!R22+Գ.Խաչատրյան!R22+Գ.Նարինյան!R22+Մ.Մարգարյան!R22+'Ա. Մարգարյան'!R22+'Ս. Մարաբյան'!R22+'Ս. Ուզունյան'!R22 -> 0 | T22: =D22+E22 -> 14 | U22: =F22+K22+L22 -> 14 | V22: =K22 -> 14 | W22: =G22+H22+I22+J22 -> 14
A23: 5 | B23: ¹³ï³Ï³Ý Ñ³ÝÓÝ³ñ³ñáõÃÛáõÝÝ»ñ | D23: ='Ս. Մնոյան'!D23+Գ.Խաչատրյան!D23+Գ.Նարինյան!D23+Մ.Մարգարյան!D23+'Ա. Մարգարյան'!D23+'Ս. Մարաբյան'!D23+'Ս. Ուզունյան'!D23 -> 1 | E23: ='Ս. Մնոյան'!E23+Գ.Խաչատրյան!E23+Գ.Նարինյան!E23+Մ.Մարգարյան!E23+'Ա. Մարգարյան'!E23+'Ս. Մարաբյան'!E23+'Ս. Ուզունյան'!E23 -> 4 | F23: ='Ս. Մնոյան'!F23+Գ.Խաչատրյան!F23+Գ.Նարինյան!F23+Մ.Մարգարյան!F23+'Ա. Մարգարյան'!F23+'Ս. Մարաբյան'!F23+'Ս. Ուզունյան'!F23 -> 0 | G23: ='Ս. Մնոյան'!G23+Գ.Խաչատրյան!G23+Գ.Նարինյան!G23+Մ.Մարգարյան!G23+'Ա. Մարգարյան'!G23+'Ս. Մարաբյան'!G23+'Ս. Ուզունյան'!G23 -> 1 | H23: ='Ս. Մնոյան'!H23+Գ.Խաչատրյան!H23+Գ.Նարինյան!H23+Մ.Մարգարյան!H23+'Ա. Մարգարյան'!H23+'Ս. Մարաբյան'!H23+'Ս. Ուզունյան'!H23 -> 1 | I23: ='Ս. Մնոյան'!I23+Գ.Խաչատրյան!I23+Գ.Նարինյան!I23+Մ.Մարգարյան!I23+'Ա. Մարգարյան'!I23+'Ս. Մարաբյան'!I23+'Ս. Ուզունյան'!I23 -> 0 | J23: ='Ս. Մնոյան'!J23+Գ.Խաչատրյան!J23+Գ.Նարինյան!J23+Մ.Մարգարյան!J23+'Ա. Մարգարյան'!J23+'Ս. Մարաբյան'!J23+'Ս. Ուզունյան'!J23 -> 0 | K23: ='Ս. Մնոյան'!K23+Գ.Խաչատրյան!K23+Գ.Նարինյան!K23+Մ.Մարգարյան!K23+'Ա. Մարգարյան'!K23+'Ս. Մարաբյան'!K23+'Ս. Ուզունյան'!K23 -> 2 | ... R23: ='Ս. Մնոյան'!R23+Գ.Խաչատրյան!R23+Գ.Նարինյան!R23+Մ.Մարգարյան!R23+'Ա. Մարգարյան'!R23+'Ս. Մարաբյան'!R23+'Ս. Ուզունյան'!R23 -> 0 | T23: =D23+E23 -> 5 | U23: =F23+K23+L23 -> 5 | V23: =K23 -> 2 | W23: =G23+H23+I23+J23 -> 2
A24: ÀÜ¸²ØºÜÀ | D24: =D7+D8+D9+D10+D11+D12+D13+D14+D15+D17+D19+D20+D21+D22+D23+D16 -> 6 | E24: =E7+E8+E9+E10+E11+E12+E13+E14+E15+E17+E19+E20+E21+E22+E23+E16 -> 271 | F24: =F7+F8+F9+F10+F11+F12+F13+F14+F15+F17+F19+F20+F21+F22+F23+F16 -> 5 | G24: =G7+G8+G9+G10+G11+G12+G13+G14+G15+G17+G19+G20+G21+G22+G23+G16 -> 34 | H24: =H7+H8+H9+H10+H11+H12+H13+H14+H15+H17+H19+H20+H21+H22+H23+H16 -> 218 | I24: =I7+I8+I9+I10+I11+I12+I13+I14+I15+I17+I19+I20+I21+I22+I23+I16 -> 5 | J24: =J7+J8+J9+J10+J11+J12+J13+J14+J15+J17+J19+J20+J21+J22+J23+J16 -> 4 | K24: =K7+K8+K9+K10+K11+K12+K13+K14+K15+K17+K19+K20+K21+K22+K23+K16 -> 261 | ... R24: =R7+R8+R9+R10+R11+R12+R13+R14+R15+R17+R19+R20+R21+R22+R23+R16 -> 7 | T24: =D24+E24 -> 277 | U24: =F24+K24+L24 -> 277 | V24: =K24 -> 261 | W24: =G24+H24+I24+J24 -> 261

Sheet Ս. Մնոյան
A1: 2017Ã. 1-ÇÝ ÏÇë³ÙÛ³Ï | D1: Ð²ÞìºîìàôÂÚàôÜ | P1: Ð³í»Éí³Í Ð³Û³ëï³ÝÇ Ð³Ýñ³å»ïáõÃÛ³Ý ¸³ï³ñ³ÝÝ»ñÇ Ý³Ë³·³ÑÝ»ñÇ ËáñÑñ¹Ç 25.08.2017Ã. ÃÇí 35-È áñáßÙ³Ý
A2: ØÇÝã¹³ï³Ï³Ý í³ñáõÛÃÇ ÝÏ³ïÙ³Ùµ ¹³ï³Ï³Ý í»ñ³ÑëÏáÕáõÃÛ³Ý, ¹³ï³Ï³Ý ³Ïï»ñÇ ¨ ¹³ï³Ï³Ý Ñ³ÝÓÝ³ñ³ñáõÃÛáõÝÝ»ñÇ Ï³ï³ñÙ³Ý Ñ»ï Ï³åí³Í ÙÇçÝáñ¹áõÃÛáõÝÝ»ñÇ í»ñ³µ»ñÛ³É ¹³ï³Ï³Ý ·áñÍ»ñáí ÐÐ ²ñ³·³ÍáïÝÇ Ù³ñ½Ç ÁÝ¹Ñ³Ýáõñ Çñ³í³ëáõÃÛ³Ý ³é³çÇÝ ³ïÛ³ÝÇ ¹³ï³ñ³ÝÇ ¹³ï³íáñ ê. ØÝáÛ³ÝÇ ·áñÍáõÝ»áõÃÛ³Ý í»ñ³µ»ñÛ³É
D3: Ð³ßí»ïáõ Å³Ù³Ý³Ï³Ñ³ïí³ÍÇ ëÏ½µáõÙ Ý³Ëáñ¹ Ñ³ßí»ïáõ Å³Ù³Ý³Ï³Ñ³ïí³ÍÇó ÷áË³Ýóí³Í ·áñÍ»ñÇ ÁÝ¹Ñ³Ýáõñ ÃÇíÁ | E3: Ð³ßí»ïáõ Å³Ù³Ý³Ï³Ñ³ïí³ÍáõÙ ëï³óí³Í ·áñÍ»ñÇ ÁÝ¹Ñ³Ýáõñ ÃÇíÁ | F3: öáË³Ýóí»É ¿ ³ÛÉ ¹³ï³íáñÇ Ï³Ù ³ÛÉ ¹³ï³ñ³Ý (Ï³½ÙÇ ÷á÷áËáõÃÛáõÝ, ÁÝ¹¹³ïáõÃÛáõÝ) | G3: Ð³ßí»ïáõ Å³Ù³Ý³Ï³Ñ³ïí³ÍáõÙ ³í³ñïí³Í ·áñÍ»ñÇ ÁÝ¹Ñ³Ýáõñ ÃÇíÁ | L3: Ð³ßí»ïáõ Å³Ù³Ý³Ï³Ñ³ïí³ÍáõÙ ³Ý³í³ñï ·áñÍ»ñÇ ÁÝ¹Ñ³Ýáõñ ÃÇíÁ | M3: ØÇçÝáñ¹áõÃÛáõÝÝ»ñáí Ï³Û³óí³Í ¹³ï³Ï³Ý ³Ïï»ñÇó µáÕáù³ñÏí³ÍÝ»ñÇ ù³Ý³ÏÁ | O3: ²Ý³í³ñï µáÕáùÝ»ñ | P3: ØÇçÝáñ¹áõÃÛáõÝÝ»ñáí Ï³Û³óí³Í ¨ µáÕáù³ñÏí³Í ¹³ï³Ï³Ý ³Ïï»ñÇó µ»Ï³Ýí³ÍÝ»ñÇ ù³Ý³ÏÁ | R3: ÙÇçÝáñ¹áõÃÛáõÝÝ»ñáí Ï³Û³óí³Í ¨ µáÕáù³ñÏí³Í ¹³ï³Ï³Ý ³Ïï»ñÇó ³Ý÷á÷áË ÃáÕÝí³ÍÝ»ñÇ ù³Ý³ÏÁ
G4: Ù»ñÅí»É ¿ | H4: µ³í³ñ³ñí»É ¿ | I4: µ³í³ñ³ñí»É ¿ Ù³ëÝ³ÏÇ | J4: ÃáÕÝí»É ¿ ³é³Ýó ùÝÝáõÃÛ³Ý | K4: ÀÝ¹³Ù»ÝÁ
M5: Ý³Ëáñ¹ ï³ñÇÝ»ñÇÝ Ï³Û³óí³Í ³Ïï»ñÇ ¹»Ù | N5: Ñ³ßí»ïáõ Å³Ù³Ý³Ï³ßñç³ÝáõÙ Ï³Û³óí³Í ³Ïï»ñÇ ¹»Ù | P5: Ý³Ëáñ¹ ï³ñÇÝ»ñÇÝ Ï³Û³óí³Í ³Ïï»ñÇ µ»Ï³ÝáõÙÝ»ñÁ | Q5: Ñ³ßí»ïáõ Å³Ù³Ý³Ï³ßñç³ÝáõÙ Ï³Û³óí³Í ³Ïï»ñÇ µ»Ï³ÝáõÙÝ»ñÁ
A6: 1. ØÇÝã¹³ï³Ï³Ý í³ñáõÛÃÇ ÝÏ³ïÙ³Ùµ ¹³ï³Ï³Ý í»ñ³ÑëÏáÕáõÃÛ³Ý áÉáñï | D6: 1 | E6: 2 | F6: 3 | G6: 4 | H6: 5 | I6: 6 | J6: 7 | K6: 8 | L6: 9 | M6: 10 | N6: 11 | O6: 12 | P6: 13 | Q6: 14 | R6: 15 | T6: 1+2=3+8+9 | V6: 8=4+5+6+7
A7: 1 | B7: Ï³É³ÝùÁ áñå»ë Ë³÷³ÝÙ³Ý ÙÇçáó ÏÇñ³é»Éáõ Ù³ëÇÝ ÙÇçÝáñ¹áõÃÛáõÝÝ»ñ | E7: 8 | H7: 8 | K7: 8 | N7: 1 | O7: 1 | T7: =D7+E7 -> 8 | U7: =F7+K7+L7 -> 8 | V7: =K7 -> 8 | W7: =G7+H7+I7+J7 -> 8
A8: 2 | B8: Ï³É³ÝùÇ Å³ÙÏ»ïÁ »ñÏ³ñ³óÝ»Éáõ Ù³ëÇÝ ÙÇçÝáñ¹áõÃÛáõÝÝ»ñ | E8: 8 | H8: 7 | I8: 1 | K8: 8 | T8: =D8+E8 -> 8 | U8: =F8+K8+L8 -> 8 | V8: =K8 -> 8 | W8: =G8+H8+I8+J8 -> 8
A9: 3 | B9: Ï³É³ÝùÇ í»ñ³Ñ³ëï³ïÙ³Ý Ù³ëÇÝ ÙÇçÝáñ¹áõÃÛáõÝÝ»ñ | T9: =D9+E9 -> 0 | U9: =F9+K9+L9 -> 0 | V9: =K9 -> 0 | W9: =G9+H9+I9+J9 -> 0
A10: 4 | B10: ·ñ³íÁ áñå»ë Ï³É³Ý³íáñÙ³Ý ³ÛÉÁÝïñ³Ýù³ÛÇÝ Ë³÷³ÝÙ³Ý ÙÇçáó ÏÇñ³é»Éáõ Ù³ëÇÝ ÙÇçÝáñ¹áõÃÛáõÝÝ»ñ | E10: 4 | G10: 3 | H10: 1 | K10: 4 | T10: =D10+E10 -> 4 | U10: =F10+K10+L10 -> 4 | V10: =K10 -> 4 | W10: =G10+H10+I10+J10 -> 4
A11: 5 | B11: Ëáõ½³ñÏáõÃÛ³Ý Ï³ï³ñÙ³Ý Ù³ëÇÝ ÙÇçÝáñ¹áõÃÛáõÝÝ»ñ | E11: 11 | H11: 11 | K11: 11 | T11: =D11+E11 -> 11 | U11: =F11+K11+L11 -> 11 | V11: =K11 -> 11 | W11: =G11+H11+I11+J11 -> 11
A12: 6 | B12: µ³ÝÏ³ÛÇÝ, ³å³Ñáí³·ñ³Ï³Ý, Ýáï³ñ³Ï³Ý ·³ÕïÝÇù Ï³½ÙáÕ ï»Õ»ÏáõÃÛáõÝÝ»ñÇ ëï³óÙ³Ý Ñ³Ù³ñ Ëáõ½³ñÏáõÃÛ³Ý Ï³Ù ³é·ñ³íÙ³Ý Ï³ï³ñÙ³Ý Ù³ëÇÝ ÙÇçÝáñ¹áõÃÛáõÝÝ»ñ | T12: =D12+E12 -> 0 | U12: =F12+K12+L12 -> 0 | V12: =K12 -> 0 | W12: =G12+H12+I12+J12 -> 0
A13: 7 | B13: Ý³Ù³Ï³·ñáõÃÛ³Ý, Ñ»é³·ñ³Ï³Ý, ÷áuï³ÛÇÝ Ñ³Õáñ¹áõÙÝ»ñÇ ÑëÏáÕáõÃÛ³Ý Ù³ëÇÝ ÙÇçÝáñ¹áõÃÛáõÝÝ»ñ | T13: =D13+E13 -> 0 | U13: =F13+K13+L13 -> 0 | V13: =K13 -> 0 | W13: =G13+H13+I13+J13 -> 0
A14: 8 | B14: Ñ»é³Ëáu³ÛÇÝ Ï³Ù Ï³åÇ ³ÛÉ ÙÇçáóÝ»ñáí ï³ñíáÕ Ëáu³ÏóáõÃÛáõÝÝ»ñÇ ÉuÙ³Ý ¨ Ó³ÛÝ³·ñ³éÙ³Ý Ù³ëÇÝ ÙÇçÝáñ¹áõÃÛáõÝÝ»ñ | T14: =D14+E14 -> 0 | U14: =F14+K14+L14 -> 0 | V14: =K14 -> 0 | W14: =G14+H14+I14+J14 -> 0
A15: 9 | B15: Ñ»é³ËáëÝ»ñÇ Ùáõïù³ÛÇÝ ¨ »Éù³ÛÇÝ í»ñÍ³ÝÙ³Ý ÃáõÛÉïíáõÃÛáõÝ ëï³Ý³Éáõ Ù³ëÇÝ ÙÇçÝáñ¹áõÃÛáõÝÝ»ñ | E15: 32 | H15: 32 | K15: 32 | T15: =D15+E15 -> 32 | U15: =F15+K15+L15 -> 32 | V15: =K15 -> 32 | W15: =G15+H15+I15+J15 -> 32
A16: 10 | B16: Ñ»ï³ùÝÝáõÃÛ³Ý Ù³ñÙÝÇ ³ßË³ïáÕÇ, ùÝÝÇãÇ, ¹³ï³Ë³½Ç oå»ñ³ïÇí-Ñ»ï³Ëáõ½³Ï³Ý ·áñÍáÕáõÃÛáõÝÝ»ñ Çñ³Ï³Ý³óÝáÕ Ù³ñÙÇÝÝ»ñÇ ³ÝoñÇÝ³Ï³Ý ¨ ³ÝÑÇÙÝ áñáßáõÙÝ»ñÇ ¨ ·áñÍáÕáõÃÛáõÝÝ»ñÇ ¹»Ù µáÕáùÝ»ñ | E16: 5 | G16: 5 | K16: 5 | N16: 3 | O16: 3 | T16: =D16+E16 -> 5 | U16: =F16+K16+L16 -> 5 | V16: =K16 -> 5 | W16: =G16+H16+I16+J16 -> 5
A17: 11 | B17: ²½³ïáõÃÛáõÝÇó ½ñÏ»Éáõ Çñ³í³ã³÷áõÃÛ³Ý í»ñ³µ»ñÛ³É µáÕáùÝ»ñáí ·áñÍ»ñ | T17: =D17+E17 -> 0 | U17: =F17+K17+L17 -> 0 | V17: =K17 -> 0 | W17: =G17+H17+I17+J17 -> 0
A18: 2. ¸³ï³Ï³Ý ³Ïï»ñÇ ¨ ¹³ï³Ï³Ý Ñ³ÝÓÝ³ñ³ñáõÃÛáõÝÝ»ñÇ Ï³ï³ñÙ³Ý Ñ»ï Ï³åí³Í Ñ³ñó»ñÇ ÉáõÍÙ³Ý áÉáñï
A19: 1 | B19: å³ïÅÇó å³ÛÙ³Ý³Ï³Ý í³Õ³Å³ÙÏ»ï ³½³ï»Éáõ Ù³ëÇÝ ÙÇçÝáñ¹áõÃÛáõÝÝ»ñ | D19: 1 | E19: 7 | F19: 1 | H19: 7 | K19: 7 | T19: =D19+E19 -> 8 | U19: =F19+K19+L19 -> 8 | V19: =K19 -> 7 | W19: =G19+H19+I19+J19 -> 7
A20: 2 | B20: å³ïÇÅÁ ÷á÷áË»Éáõ, Ñ»ï³Ó·»Éáõ ¨ å³ïÅÇó ³½³ï»Éáõ Ù³uÇÝ ÙÇçÝáñ¹áõÃÛáõÝÝ»ñ | D20: 1 | E20: 36 | F20: 4 | G20: 6 | H20: 23 | I20: 1 | J20: 1 | K20: 31 | L20: 2 | M20: 1 | O20: 1 | T20: =D20+E20 -> 37 | U20: =F20+K20+L20 -> 37 | V20: =K20 -> 31 | W20: =G20+H20+I20+J20 -> 31
A21: 3 | B21: Ñ³ñÏ³¹Çñ µáõÅÙ³Ý ï»ë³ÏÇ ÷á÷áËáõÃÛ³Ý Ù³ëÇÝ ÙÇçÝáñ¹áõÃÛáõÝÝ»ñ | E21: 4 | H21: 4 | K21: 4 | T21: =D21+E21 -> 4 | U21: =F21+K21+L21 -> 4 | V21: =K21 -> 4 | W21: =G21+H21+I21+J21 -> 4
A22: 4 | B22: ³ÛÉ ÙÇçÝáñ¹áõÃÛáõÝÝ»ñ | E22: 9 | G22: 1 | H22: 5 | J22: 3 | K22: 9 | N22: 1 | O22: 1 | T22: =D22+E22 -> 9 | U22: =F22+K22+L22 -> 9 | V22: =K22 -> 9 | W22: =G22+H22+I22+J22 -> 9
A23: 5 | B23: ¹³ï³Ï³Ý Ñ³ÝÓÝ³ñ³ñáõÃÛáõÝÝ»ñ | T23: =D23+E23 -> 0 | U23: =F23+K23+L23 -> 0 | V23: =K23 -> 0 | W23: =G23+H23+I23+J23 -> 0
A24: ÀÜ¸²ØºÜÀ | D24: =D7+D8+D9+D10+D11+D12+D13+D14+D15+D17+D19+D20+D21+D22+D23+D16 -> 2 | E24: =E7+E8+E9+E10+E11+E12+E13+E14+E15+E17+E19+E20+E21+E22+E23+E16 -> 124 | F24: =F7+F8+F9+F10+F11+F12+F13+F14+F15+F17+F19+F20+F21+F22+F23+F16 -> 5 | G24: =G7+G8+G9+G10+G11+G12+G13+G14+G15+G17+G19+G20+G21+G22+G23+G16 -> 15 | H24: =H7+H8+H9+H10+H11+H12+H13+H14+H15+H17+H19+H20+H21+H22+H23+H16 -> 98 | I24: =I7+I8+I9+I10+I11+I12+I13+I14+I15+I17+I19+I20+I21+I22+I23+I16 -> 2 | J24: =J7+J8+J9+J10+J11+J12+J13+J14+J15+J17+J19+J20+J21+J22+J23+J16 -> 4 | K24: =K7+K8+K9+K10+K11+K12+K13+K14+K15+K17+K19+K20+K21+K22+K23+K16 -> 119 | ... R24: =R7+R8+R9+R10+R11+R12+R13+R14+R15+R17+R19+R20+R21+R22+R23+R16 -> 0 | T24: =D24+E24 -> 126 | U24: =F24+K24+L24 -> 126 | V24: =K24 -> 119 | W24: =G24+H24+I24+J24 -> 119

Sheet Գ.Խաչատրյան
A1: 2017Ã. 1-ÇÝ ÏÇë³ÙÛ³Ï | D1: Ð²ÞìºîìàôÂÚàôÜ | P1: Ð³í»Éí³Í Ð³Û³ëï³ÝÇ Ð³Ýñ³å»ïáõÃÛ³Ý ¸³ï³ñ³ÝÝ»ñÇ Ý³Ë³·³ÑÝ»ñÇ ËáñÑñ¹Ç 25.08.2017Ã. ÃÇí 35-È áñáßÙ³Ý
A2: ØÇÝã¹³ï³Ï³Ý í³ñáõÛÃÇ ÝÏ³ïÙ³Ùµ ¹³ï³Ï³Ý í»ñ³ÑëÏáÕáõÃÛ³Ý, ¹³ï³Ï³Ý ³Ïï»ñÇ ¨ ¹³ï³Ï³Ý Ñ³ÝÓÝ³ñ³ñáõÃÛáõÝÝ»ñÇ Ï³ï³ñÙ³Ý Ñ»ï Ï³åí³Í ÙÇçÝáñ¹áõÃÛáõÝÝ»ñÇ í»ñ³µ»ñÛ³É ¹³ï³Ï³Ý ·áñÍ»ñáí ÐÐ ²ñ³·³ÍáïÝÇ Ù³ñ½Ç ÁÝ¹Ñ³Ýáõñ Çñ³í³ëáõÃÛ³Ý ³é³çÇÝ ³ïÛ³ÝÇ ¹³ï³ñ³ÝÇ ¹³ï³íáñ ¶. Ê³ã³ïñÛ³ÝÇ ·áñÍáõÝ»áõÃÛ³Ý í»ñ³µ»ñÛ³É
D3: Ð³ßí»ïáõ Å³Ù³Ý³Ï³Ñ³ïí³ÍÇ ëÏ½µáõÙ Ý³Ëáñ¹ Ñ³ßí»ïáõ Å³Ù³Ý³Ï³Ñ³ïí³ÍÇó ÷áË³Ýóí³Í ·áñÍ»ñÇ ÁÝ¹Ñ³Ýáõñ ÃÇíÁ | E3: Ð³ßí»ïáõ Å³Ù³Ý³Ï³Ñ³ïí³ÍáõÙ ëï³óí³Í ·áñÍ»ñÇ ÁÝ¹Ñ³Ýáõñ ÃÇíÁ | F3: öáË³Ýóí»É ¿ ³ÛÉ ¹³ï³íáñÇ Ï³Ù ³ÛÉ ¹³ï³ñ³Ý (Ï³½ÙÇ ÷á÷áËáõÃÛáõÝ, ÁÝ¹¹³ïáõÃÛáõÝ) | G3: Ð³ßí»ïáõ Å³Ù³Ý³Ï³Ñ³ïí³ÍáõÙ ³í³ñïí³Í ·áñÍ»ñÇ ÁÝ¹Ñ³Ýáõñ ÃÇíÁ | L3: Ð³ßí»ïáõ Å³Ù³Ý³Ï³Ñ³ïí³ÍáõÙ ³Ý³í³ñï ·áñÍ»ñÇ ÁÝ¹Ñ³Ýáõñ ÃÇíÁ | M3: ØÇçÝáñ¹áõÃÛáõÝÝ»ñáí Ï³Û³óí³Í ¹³ï³Ï³Ý ³Ïï»ñÇó µáÕáù³ñÏí³ÍÝ»ñÇ ù³Ý³ÏÁ | O3: ²Ý³í³ñï µáÕáùÝ»ñ | P3: ØÇçÝáñ¹áõÃÛáõÝÝ»ñáí Ï³Û³óí³Í ¨ µáÕáù³ñÏí³Í ¹³ï³Ï³Ý ³Ïï»ñÇó µ»Ï³Ýí³ÍÝ»ñÇ ù³Ý³ÏÁ | R3: ÙÇçÝáñ¹áõÃÛáõÝÝ»ñáí Ï³Û³óí³Í ¨ µáÕáù³ñÏí³Í ¹³ï³Ï³Ý ³Ïï»ñÇó ³Ý÷á÷áË ÃáÕÝí³ÍÝ»ñÇ ù³Ý³ÏÁ
G4: Ù»ñÅí»É ¿ | H4: µ³í³ñ³ñí»É ¿ | I4: µ³í³ñ³ñí»É ¿ Ù³ëÝ³ÏÇ | J4: ÃáÕÝí»É ¿ ³é³Ýó ùÝÝáõÃÛ³Ý | K4: ÀÝ¹³Ù»ÝÁ
M5: Ý³Ëáñ¹ ï³ñÇÝ»ñÇÝ Ï³Û³óí³Í ³Ïï»ñÇ ¹»Ù | N5: Ñ³ßí»ïáõ Å³Ù³Ý³Ï³ßñç³ÝáõÙ Ï³Û³óí³Í ³Ïï»ñÇ ¹»Ù | P5: Ý³Ëáñ¹ ï³ñÇÝ»ñÇÝ Ï³Û³óí³Í ³Ïï»ñÇ µ»Ï³ÝáõÙÝ»ñÁ | Q5: Ñ³ßí»ïáõ Å³Ù³Ý³Ï³ßñç³ÝáõÙ Ï³Û³óí³Í ³Ïï»ñÇ µ»Ï³ÝáõÙÝ»ñÁ
A6: 1. ØÇÝã¹³ï³Ï³Ý í³ñáõÛÃÇ ÝÏ³ïÙ³Ùµ ¹³ï³Ï³Ý í»ñ³ÑëÏáÕáõÃÛ³Ý áÉáñï | D6: 1 | E6: 2 | F6: 3 | G6: 4 | H6: 5 | I6: 6 | J6: 7 | K6: 8 | L6: 9 | M6: 10 | N6: 11 | O6: 12 | P6: 13 | Q6: 14 | R6: 15 | T6: 1+2=3+8+9 | V6: 8=4+5+6+7
A7: 1 | B7: Ï³É³ÝùÁ áñå»ë Ë³÷³ÝÙ³Ý ÙÇçáó ÏÇñ³é»Éáõ Ù³ëÇÝ ÙÇçÝáñ¹áõÃÛáõÝÝ»ñ | E7: 4 | H7: 4 | K7: 4 | N7: 1 | R7: 1 | T7: =D7+E7 -> 4 | U7: =F7+K7+L7 -> 4 | V7: =K7 -> 4 | W7: =G7+H7+I7+J7 -> 4
A8: 2 | B8: Ï³É³ÝùÇ Å³ÙÏ»ïÁ »ñÏ³ñ³óÝ»Éáõ Ù³ëÇÝ ÙÇçÝáñ¹áõÃÛáõÝÝ»ñ | E8: 3 | H8: 3 | K8: 3 | N8: 2 | O8: 2 | T8: =D8+E8 -> 3 | U8: =F8+K8+L8 -> 3 | V8: =K8 -> 3 | W8: =G8+H8+I8+J8 -> 3
A9: 3 | B9: Ï³É³ÝùÇ í»ñ³Ñ³ëï³ïÙ³Ý Ù³ëÇÝ ÙÇçÝáñ¹áõÃÛáõÝÝ»ñ | E9: 3 | H9: 3 | K9: 3 | T9: =D9+E9 -> 3 | U9: =F9+K9+L9 -> 3 | V9: =K9 -> 3 | W9: =G9+H9+I9+J9 -> 3
A10: 4 | B10: ·ñ³íÁ áñå»ë Ï³É³Ý³íáñÙ³Ý ³ÛÉÁÝïñ³Ýù³ÛÇÝ Ë³÷³ÝÙ³Ý ÙÇçáó ÏÇñ³é»Éáõ Ù³ëÇÝ ÙÇçÝáñ¹áõÃÛáõÝÝ»ñ | E10: 3 | G10: 1 | H10: 2 | K10: 3 | T10: =D10+E10 -> 3 | U10: =F10+K10+L10 -> 3 | V10: =K10 -> 3 | W10: =G10+H10+I10+J10 -> 3
A11: 5 | B11: Ëáõ½³ñÏáõÃÛ³Ý Ï³ï³ñÙ³Ý Ù³ëÇÝ ÙÇçÝáñ¹áõÃÛáõÝÝ»ñ | E11: 5 | H11: 5 | K11: 5 | T11: =D11+E11 -> 5 | U11: =F11+K11+L11 -> 5 | V11: =K11 -> 5 | W11: =G11+H11+I11+J11 -> 5
A12: 6 | B12: µ³ÝÏ³ÛÇÝ, ³å³Ñáí³·ñ³Ï³Ý, Ýáï³ñ³Ï³Ý ·³ÕïÝÇù Ï³½ÙáÕ ï»Õ»ÏáõÃÛáõÝÝ»ñÇ ëï³óÙ³Ý Ñ³Ù³ñ Ëáõ½³ñÏáõÃÛ³Ý Ï³Ù ³é·ñ³íÙ³Ý Ï³ï³ñÙ³Ý Ù³ëÇÝ ÙÇçÝáñ¹áõÃÛáõÝÝ»ñ | T12: =D12+E12 -> 0 | U12: =F12+K12+L12 -> 0 | V12: =K12 -> 0 | W12: =G12+H12+I12+J12 -> 0
A13: 7 | B13: Ý³Ù³Ï³·ñáõÃÛ³Ý, Ñ»é³·ñ³Ï³Ý, ÷áuï³ÛÇÝ Ñ³Õáñ¹áõÙÝ»ñÇ ÑëÏáÕáõÃÛ³Ý Ù³ëÇÝ ÙÇçÝáñ¹áõÃÛáõÝÝ»ñ | T13: =D13+E13 -> 0 | U13: =F13+K13+L13 -> 0 | V13: =K13 -> 0 | W13: =G13+H13+I13+J13 -> 0
A14: 8 | B14: Ñ»é³Ëáu³ÛÇÝ Ï³Ù Ï³åÇ ³ÛÉ ÙÇçáóÝ»ñáí ï³ñíáÕ Ëáu³ÏóáõÃÛáõÝÝ»ñÇ ÉuÙ³Ý ¨ Ó³ÛÝ³·ñ³éÙ³Ý Ù³ëÇÝ ÙÇçÝáñ¹áõÃÛáõÝÝ»ñ | T14: =D14+E14 -> 0 | U14: =F14+K14+L14 -> 0 | V14: =K14 -> 0 | W14: =G14+H14+I14+J14 -> 0
A15: 9 | B15: Ñ»é³ËáëÝ»ñÇ Ùáõïù³ÛÇÝ ¨ »Éù³ÛÇÝ í»ñÍ³ÝÙ³Ý ÃáõÛÉïíáõÃÛáõÝ ëï³Ý³Éáõ Ù³ëÇÝ ÙÇçÝáñ¹áõÃÛáõÝÝ»ñ | E15: 4 | H15: 4 | K15: 4 | T15: =D15+E15 -> 4 | U15: =F15+K15+L15 -> 4 | V15: =K15 -> 4 | W15: =G15+H15+I15+J15 -> 4
A16: 10 | B16: Ñ»ï³ùÝÝáõÃÛ³Ý Ù³ñÙÝÇ ³ßË³ïáÕÇ, ùÝÝÇãÇ, ¹³ï³Ë³½Ç oå»ñ³ïÇí-Ñ»ï³Ëáõ½³Ï³Ý ·áñÍáÕáõÃÛáõÝÝ»ñ Çñ³Ï³Ý³óÝáÕ Ù³ñÙÇÝÝ»ñÇ ³ÝoñÇÝ³Ï³Ý ¨ ³ÝÑÇÙÝ áñáßáõÙÝ»ñÇ ¨ ·áñÍáÕáõÃÛáõÝÝ»ñÇ ¹»Ù µáÕáùÝ»ñ | T16: =D16+E16 -> 0 | U16: =F16+K16+L16 -> 0 | V16: =K16 -> 0 | W16: =G16+H16+I16+J16 -> 0
A17: 11 | B17: ²½³ïáõÃÛáõÝÇó ½ñÏ»Éáõ Çñ³í³ã³÷áõÃÛ³Ý í»ñ³µ»ñÛ³É µáÕáùÝ»ñáí ·áñÍ»ñ | T17: =D17+E17 -> 0 | U17: =F17+K17+L17 -> 0 | V17: =K17 -> 0 | W17: =G17+H17+I17+J17 -> 0
A18: 2. ¸³ï³Ï³Ý ³Ïï»ñÇ ¨ ¹³ï³Ï³Ý Ñ³ÝÓÝ³ñ³ñáõÃÛáõÝÝ»ñÇ Ï³ï³ñÙ³Ý Ñ»ï Ï³åí³Í Ñ³ñó»ñÇ ÉáõÍÙ³Ý áÉáñï
A19: 1 | B19: å³ïÅÇó å³ÛÙ³Ý³Ï³Ý í³Õ³Å³ÙÏ»ï ³½³ï»Éáõ Ù³ëÇÝ ÙÇçÝáñ¹áõÃÛáõÝÝ»ñ | T19: =D19+E19 -> 0 | U19: =F19+K19+L19 -> 0 | V19: =K19 -> 0 | W19: =G19+H19+I19+J19 -> 0
A20: 2 | B20: å³ïÇÅÁ ÷á÷áË»Éáõ, Ñ»ï³Ó·»Éáõ ¨ å³ïÅÇó ³½³ï»Éáõ Ù³uÇÝ ÙÇçÝáñ¹áõÃÛáõÝÝ»ñ | T20: =D20+E20 -> 0 | U20: =F20+K20+L20 -> 0 | V20: =K20 -> 0 | W20: =G20+H20+I20+J20 -> 0
A21: 3 | B21: Ñ³ñÏ³¹Çñ µáõÅÙ³Ý ï»ë³ÏÇ ÷á÷áËáõÃÛ³Ý Ù³ëÇÝ ÙÇçÝáñ¹áõÃÛáõÝÝ»ñ | T21: =D21+E21 -> 0 | U21: =F21+K21+L21 -> 0 | V21: =K21 -> 0 | W21: =G21+H21+I21+J21 -> 0
A22: 4 | B22: ³ÛÉ ÙÇçÝáñ¹áõÃÛáõÝÝ»ñ | E22: 1 | H22: 1 | K22: 1 | T22: =D22+E22 -> 1 | U22: =F22+K22+L22 -> 1 | V22: =K22 -> 1 | W22: =G22+H22+I22+J22 -> 1
A23: 5 | B23: ¹³ï³Ï³Ý Ñ³ÝÓÝ³ñ³ñáõÃÛáõÝÝ»ñ | D23: 1 | E23: 1 | G23: 1 | K23: 1 | L23: 1 | T23: =D23+E23 -> 2 | U23: =F23+K23+L23 -> 2 | V23: =K23 -> 1 | W23: =G23+H23+I23+J23 -> 1
A24: ÀÜ¸²ØºÜÀ | D24: =D7+D8+D9+D10+D11+D12+D13+D14+D15+D17+D19+D20+D21+D22+D23+D16 -> 1 | E24: =E7+E8+E9+E10+E11+E12+E13+E14+E15+E17+E19+E20+E21+E22+E23+E16 -> 24 | F24: =F7+F8+F9+F10+F11+F12+F13+F14+F15+F17+F19+F20+F21+F22+F23+F16 -> 0 | G24: =G7+G8+G9+G10+G11+G12+G13+G14+G15+G17+G19+G20+G21+G22+G23+G16 -> 2 | H24: =H7+H8+H9+H10+H11+H12+H13+H14+H15+H17+H19+H20+H21+H22+H23+H16 -> 22 | I24: =I7+I8+I9+I10+I11+I12+I13+I14+I15+I17+I19+I20+I21+I22+I23+I16 -> 0 | J24: =J7+J8+J9+J10+J11+J12+J13+J14+J15+J17+J19+J20+J21+J22+J23+J16 -> 0 | K24: =K7+K8+K9+K10+K11+K12+K13+K14+K15+K17+K19+K20+K21+K22+K23+K16 -> 24 | ... R24: =R7+R8+R9+R10+R11+R12+R13+R14+R15+R17+R19+R20+R21+R22+R23+R16 -> 1 | T24: =D24+E24 -> 25 | U24: =F24+K24+L24 -> 25 | V24: =K24 -> 24 | W24: =G24+H24+I24+J24 -> 24

Sheet Մ.Մարգարյան
A1: 2017Ã. 1-ÇÝ ÏÇë³ÙÛ³Ï | D1: Ð²ÞìºîìàôÂÚàôÜ | P1: Ð³í»Éí³Í Ð³Û³ëï³ÝÇ Ð³Ýñ³å»ïáõÃÛ³Ý ¸³ï³ñ³ÝÝ»ñÇ Ý³Ë³·³ÑÝ»ñÇ ËáñÑñ¹Ç 25.08.2017Ã. ÃÇí 35-È áñáßÙ³Ý
A2: ØÇÝã¹³ï³Ï³Ý í³ñáõÛÃÇ ÝÏ³ïÙ³Ùµ ¹³ï³Ï³Ý í»ñ³ÑëÏáÕáõÃÛ³Ý, ¹³ï³Ï³Ý ³Ïï»ñÇ ¨ ¹³ï³Ï³Ý Ñ³ÝÓÝ³ñ³ñáõÃÛáõÝÝ»ñÇ Ï³ï³ñÙ³Ý Ñ»ï Ï³åí³Í ÙÇçÝáñ¹áõÃÛáõÝÝ»ñÇ í»ñ³µ»ñÛ³É ¹³ï³Ï³Ý ·áñÍ»ñáí ÐÐ ²ñ³·³ÍáïÝÇ Ù³ñ½Ç ÁÝ¹Ñ³Ýáõñ Çñ³í³ëáõÃÛ³Ý ³é³çÇÝ ³ïÛ³ÝÇ ¹³ï³ñ³ÝÇ ¹³ï³íáñ Ø. Ø³ñ·³ñÛ³ÝÇ ·áñÍáõÝ»áõÃÛ³Ý í»ñ³µ»ñÛ³É
D3: Ð³ßí»ïáõ Å³Ù³Ý³Ï³Ñ³ïí³ÍÇ ëÏ½µáõÙ Ý³Ëáñ¹ Ñ³ßí»ïáõ Å³Ù³Ý³Ï³Ñ³ïí³ÍÇó ÷áË³Ýóí³Í ·áñÍ»ñÇ ÁÝ¹Ñ³Ýáõñ ÃÇíÁ | E3: Ð³ßí»ïáõ Å³Ù³Ý³Ï³Ñ³ïí³ÍáõÙ ëï³óí³Í ·áñÍ»ñÇ ÁÝ¹Ñ³Ýáõñ ÃÇíÁ | F3: öáË³Ýóí»É ¿ ³ÛÉ ¹³ï³íáñÇ Ï³Ù ³ÛÉ ¹³ï³ñ³Ý (Ï³½ÙÇ ÷á÷áËáõÃÛáõÝ, ÁÝ¹¹³ïáõÃÛáõÝ) | G3: Ð³ßí»ïáõ Å³Ù³Ý³Ï³Ñ³ïí³ÍáõÙ ³í³ñïí³Í ·áñÍ»ñÇ ÁÝ¹Ñ³Ýáõñ ÃÇíÁ | L3: Ð³ßí»ïáõ Å³Ù³Ý³Ï³Ñ³ïí³ÍáõÙ ³Ý³í³ñï ·áñÍ»ñÇ ÁÝ¹Ñ³Ýáõñ ÃÇíÁ | M3: ØÇçÝáñ¹áõÃÛáõÝÝ»ñáí Ï³Û³óí³Í ¹³ï³Ï³Ý ³Ïï»ñÇó µáÕáù³ñÏí³ÍÝ»ñÇ ù³Ý³ÏÁ | O3: ²Ý³í³ñï µáÕáùÝ»ñ | P3: ØÇçÝáñ¹áõÃÛáõÝÝ»ñáí Ï³Û³óí³Í ¨ µáÕáù³ñÏí³Í ¹³ï³Ï³Ý ³Ïï»ñÇó µ»Ï³Ýí³ÍÝ»ñÇ ù³Ý³ÏÁ | R3: ÙÇçÝáñ¹áõÃÛáõÝÝ»ñáí Ï³Û³óí³Í ¨ µáÕáù³ñÏí³Í ¹³ï³Ï³Ý ³Ïï»ñÇó ³Ý÷á÷áË ÃáÕÝí³ÍÝ»ñÇ ù³Ý³ÏÁ
G4: Ù»ñÅí»É ¿ | H4: µ³í³ñ³ñí»É ¿ | I4: µ³í³ñ³ñí»É ¿ Ù³ëÝ³ÏÇ | J4: ÃáÕÝí»É ¿ ³é³Ýó ùÝÝáõÃÛ³Ý | K4: ÀÝ¹³Ù»ÝÁ
M5: Ý³Ëáñ¹ ï³ñÇÝ»ñÇÝ Ï³Û³óí³Í ³Ïï»ñÇ ¹»Ù | N5: Ñ³ßí»ïáõ Å³Ù³Ý³Ï³ßñç³ÝáõÙ Ï³Û³óí³Í ³Ïï»ñÇ ¹»Ù | P5: Ý³Ëáñ¹ ï³ñÇÝ»ñÇÝ Ï³Û³óí³Í ³Ïï»ñÇ µ»Ï³ÝáõÙÝ»ñÁ | Q5: Ñ³ßí»ïáõ Å³Ù³Ý³Ï³ßñç³ÝáõÙ Ï³Û³óí³Í ³Ïï»ñÇ µ»Ï³ÝáõÙÝ»ñÁ
A6: 1. ØÇÝã¹³ï³Ï³Ý í³ñáõÛÃÇ ÝÏ³ïÙ³Ùµ ¹³ï³Ï³Ý í»ñ³ÑëÏáÕáõÃÛ³Ý áÉáñï | D6: 1 | E6: 2 | F6: 3 | G6: 4 | H6: 5 | I6: 6 | J6: 7 | K6: 8 | L6: 9 | M6: 10 | N6: 11 | O6: 12 | P6: 13 | Q6: 14 | R6: 15 | T6: 1+2=3+8+9 | V6: 8=4+5+6+7
A7: 1 | B7: Ï³É³ÝùÁ áñå»ë Ë³÷³ÝÙ³Ý ÙÇçáó ÏÇñ³é»Éáõ Ù³ëÇÝ ÙÇçÝáñ¹áõÃÛáõÝÝ»ñ | E7: 3 | H7: 3 | K7: 3 | N7: 1 | R7: 1 | T7: =D7+E7 -> 3 | U7: =F7+K7+L7 -> 3 | V7: =K7 -> 3 | W7: =G7+H7+I7+J7 -> 3
A8: 2 | B8: Ï³É³ÝùÇ Å³ÙÏ»ïÁ »ñÏ³ñ³óÝ»Éáõ Ù³ëÇÝ ÙÇçÝáñ¹áõÃÛáõÝÝ»ñ | E8: 4 | G8: 1 | H8: 2 | I8: 1 | K8: 4 | N8: 3 | Q8: 1 | R8: 2 | T8: =D8+E8 -> 4 | U8: =F8+K8+L8 -> 4 | V8: =K8 -> 4 | W8: =G8+H8+I8+J8 -> 4
A9: 3 | B9: Ï³É³ÝùÇ í»ñ³Ñ³ëï³ïÙ³Ý Ù³ëÇÝ ÙÇçÝáñ¹áõÃÛáõÝÝ»ñ | T9: =D9+E9 -> 0 | U9: =F9+K9+L9 -> 0 | V9: =K9 -> 0 | W9: =G9+H9+I9+J9 -> 0
A10: 4 | B10: ·ñ³íÁ áñå»ë Ï³É³Ý³íáñÙ³Ý ³ÛÉÁÝïñ³Ýù³ÛÇÝ Ë³÷³ÝÙ³Ý ÙÇçáó ÏÇñ³é»Éáõ Ù³ëÇÝ ÙÇçÝáñ¹áõÃÛáõÝÝ»ñ | E10: 6 | G10: 5 | H10: 1 | K10: 6 | T10: =D10+E10 -> 6 | U10: =F10+K10+L10 -> 6 | V10: =K10 -> 6 | W10: =G10+H10+I10+J10 -> 6
A11: 5 | B11: Ëáõ½³ñÏáõÃÛ³Ý Ï³ï³ñÙ³Ý Ù³ëÇÝ ÙÇçÝáñ¹áõÃÛáõÝÝ»ñ | E11: 5 | H11: 5 | K11: 5 | T11: =D11+E11 -> 5 | U11: =F11+K11+L11 -> 5 | V11: =K11 -> 5 | W11: =G11+H11+I11+J11 -> 5
A12: 6 | B12: µ³ÝÏ³ÛÇÝ, ³å³Ñáí³·ñ³Ï³Ý, Ýáï³ñ³Ï³Ý ·³ÕïÝÇù Ï³½ÙáÕ ï»Õ»ÏáõÃÛáõÝÝ»ñÇ ëï³óÙ³Ý Ñ³Ù³ñ Ëáõ½³ñÏáõÃÛ³Ý Ï³Ù ³é·ñ³íÙ³Ý Ï³ï³ñÙ³Ý Ù³ëÇÝ ÙÇçÝáñ¹áõÃÛáõÝÝ»ñ | T12: =D12+E12 -> 0 | U12: =F12+K12+L12 -> 0 | V12: =K12 -> 0 | W12: =G12+H12+I12+J12 -> 0
A13: 7 | B13: Ý³Ù³Ï³·ñáõÃÛ³Ý, Ñ»é³·ñ³Ï³Ý, ÷áuï³ÛÇÝ Ñ³Õáñ¹áõÙÝ»ñÇ ÑëÏáÕáõÃÛ³Ý Ù³ëÇÝ ÙÇçÝáñ¹áõÃÛáõÝÝ»ñ | T13: =D13+E13 -> 0 | U13: =F13+K13+L13 -> 0 | V13: =K13 -> 0 | W13: =G13+H13+I13+J13 -> 0
A14: 8 | B14: Ñ»é³Ëáu³ÛÇÝ Ï³Ù Ï³åÇ ³ÛÉ ÙÇçáóÝ»ñáí ï³ñíáÕ Ëáu³ÏóáõÃÛáõÝÝ»ñÇ ÉuÙ³Ý ¨ Ó³ÛÝ³·ñ³éÙ³Ý Ù³ëÇÝ ÙÇçÝáñ¹áõÃÛáõÝÝ»ñ | T14: =D14+E14 -> 0 | U14: =F14+K14+L14 -> 0 | V14: =K14 -> 0 | W14: =G14+H14+I14+J14 -> 0
A15: 9 | B15: Ñ»é³ËáëÝ»ñÇ Ùáõïù³ÛÇÝ ¨ »Éù³ÛÇÝ í»ñÍ³ÝÙ³Ý ÃáõÛÉïíáõÃÛáõÝ ëï³Ý³Éáõ Ù³ëÇÝ ÙÇçÝáñ¹áõÃÛáõÝÝ»ñ | E15: 5 | H15: 5 | K15: 5 | T15: =D15+E15 -> 5 | U15: =F15+K15+L15 -> 5 | V15: =K15 -> 5 | W15: =G15+H15+I15+J15 -> 5
A16: 10 | B16: Ñ»ï³ùÝÝáõÃÛ³Ý Ù³ñÙÝÇ ³ßË³ïáÕÇ, ùÝÝÇãÇ, ¹³ï³Ë³½Ç oå»ñ³ïÇí-Ñ»ï³Ëáõ½³Ï³Ý ·áñÍáÕáõÃÛáõÝÝ»ñ Çñ³Ï³Ý³óÝáÕ Ù³ñÙÇÝÝ»ñÇ ³ÝoñÇÝ³Ï³Ý ¨ ³ÝÑÇÙÝ áñáßáõÙÝ»ñÇ ¨ ·áñÍáÕáõÃÛáõÝÝ»ñÇ ¹»Ù µáÕáùÝ»ñ | T16: =D16+E16 -> 0 | U16: =F16+K16+L16 -> 0 | V16: =K16 -> 0 | W16: =G16+H16+I16+J16 -> 0
A17: 11 | B17: ²½³ïáõÃÛáõÝÇó ½ñÏ»Éáõ Çñ³í³ã³÷áõÃÛ³Ý í»ñ³µ»ñÛ³É µáÕáùÝ»ñáí ·áñÍ»ñ | T17: =D17+E17 -> 0 | U17: =F17+K17+L17 -> 0 | V17: =K17 -> 0 | W17: =G17+H17+I17+J17 -> 0
A18: 2. ¸³ï³Ï³Ý ³Ïï»ñÇ ¨ ¹³ï³Ï³Ý Ñ³ÝÓÝ³ñ³ñáõÃÛáõÝÝ»ñÇ Ï³ï³ñÙ³Ý Ñ»ï Ï³åí³Í Ñ³ñó»ñÇ ÉáõÍÙ³Ý áÉáñï
A19: 1 | B19: å³ïÅÇó å³ÛÙ³Ý³Ï³Ý í³Õ³Å³ÙÏ»ï ³½³ï»Éáõ Ù³ëÇÝ ÙÇçÝáñ¹áõÃÛáõÝÝ»ñ | T19: =D19+E19 -> 0 | U19: =F19+K19+L19 -> 0 | V19: =K19 -> 0 | W19: =G19+H19+I19+J19 -> 0
A20: 2 | B20: å³ïÇÅÁ ÷á÷áË»Éáõ, Ñ»ï³Ó·»Éáõ ¨ å³ïÅÇó ³½³ï»Éáõ Ù³uÇÝ ÙÇçÝáñ¹áõÃÛáõÝÝ»ñ | T20: =D20+E20 -> 0 | U20: =F20+K20+L20 -> 0 | V20: =K20 -> 0 | W20: =G20+H20+I20+J20 -> 0
A21: 3 | B21: Ñ³ñÏ³¹Çñ µáõÅÙ³Ý ï»ë³ÏÇ ÷á÷áËáõÃÛ³Ý Ù³ëÇÝ ÙÇçÝáñ¹áõÃÛáõÝÝ»ñ | T21: =D21+E21 -> 0 | U21: =F21+K21+L21 -> 0 | V21: =K21 -> 0 | W21: =G21+H21+I21+J21 -> 0
A22: 4 | B22: ³ÛÉ ÙÇçÝáñ¹áõÃÛáõÝÝ»ñ | T22: =D22+E22 -> 0 | U22: =F22+K22+L22 -> 0 | V22: =K22 -> 0 | W22: =G22+H22+I22+J22 -> 0
A23: 5 | B23: ¹³ï³Ï³Ý Ñ³ÝÓÝ³ñ³ñáõÃÛáõÝÝ»ñ | E23: 3 | H23: 1 | K23: 1 | L23: 2 | T23: =D23+E23 -> 3 | U23: =F23+K23+L23 -> 3 | V23: =K23 -> 1 | W23: =G23+H23+I23+J23 -> 1
A24: ÀÜ¸²ØºÜÀ | D24: =D7+D8+D9+D10+D11+D12+D13+D14+D15+D17+D19+D20+D21+D22+D23+D16 -> 0 | E24: =E7+E8+E9+E10+E11+E12+E13+E14+E15+E17+E19+E20+E21+E22+E23+E16 -> 26 | F24: =F7+F8+F9+F10+F11+F12+F13+F14+F15+F17+F19+F20+F21+F22+F23+F16 -> 0 | G24: =G7+G8+G9+G10+G11+G12+G13+G14+G15+G17+G19+G20+G21+G22+G23+G16 -> 6 | H24: =H7+H8+H9+H10+H11+H12+H13+H14+H15+H17+H19+H20+H21+H22+H23+H16 -> 17 | I24: =I7+I8+I9+I10+I11+I12+I13+I14+I15+I17+I19+I20+I21+I22+I23+I16 -> 1 | J24: =J7+J8+J9+J10+J11+J12+J13+J14+J15+J17+J19+J20+J21+J22+J23+J16 -> 0 | K24: =K7+K8+K9+K10+K11+K12+K13+K14+K15+K17+K19+K20+K21+K22+K23+K16 -> 24 | ... R24: =R7+R8+R9+R10+R11+R12+R13+R14+R15+R17+R19+R20+R21+R22+R23+R16 -> 3 | T24: =D24+E24 -> 26 | U24: =F24+K24+L24 -> 26 | V24: =K24 -> 24 | W24: =G24+H24+I24+J24 -> 24

Sheet Ս. Ուզունյան
A1: 2017Ã. 1-ÇÝ ÏÇë³ÙÛ³Ï | D1: Ð²ÞìºîìàôÂÚàôÜ | P1: Ð³í»Éí³Í Ð³Û³ëï³ÝÇ Ð³Ýñ³å»ïáõÃÛ³Ý ¸³ï³ñ³ÝÝ»ñÇ Ý³Ë³·³ÑÝ»ñÇ ËáñÑñ¹Ç 25.08.2017Ã. ÃÇí 35-È áñáßÙ³Ý
A2: ØÇÝã¹³ï³Ï³Ý í³ñáõÛÃÇ ÝÏ³ïÙ³Ùµ ¹³ï³Ï³Ý í»ñ³ÑëÏáÕáõÃÛ³Ý, ¹³ï³Ï³Ý ³Ïï»ñÇ ¨ ¹³ï³Ï³Ý Ñ³ÝÓÝ³ñ³ñáõÃÛáõÝÝ»ñÇ Ï³ï³ñÙ³Ý Ñ»ï Ï³åí³Í ÙÇçÝáñ¹áõÃÛáõÝÝ»ñÇ í»ñ³µ»ñÛ³É ¹³ï³Ï³Ý ·áñÍ»ñáí ÐÐ ²ñ³·³ÍáïÝÇ Ù³ñ½Ç ÁÝ¹Ñ³Ýáõñ Çñ³í³ëáõÃÛ³Ý ³é³çÇÝ ³ïÛ³ÝÇ ¹³ï³ñ³ÝÇ ¹³ï³íáñ ê. àõ½áõÝÛ³ÝÇ ·áñÍáõÝ»áõÃÛ³Ý í»ñ³µ»ñÛ³É
D3: Ð³ßí»ïáõ Å³Ù³Ý³Ï³Ñ³ïí³ÍÇ ëÏ½µáõÙ Ý³Ëáñ¹ Ñ³ßí»ïáõ Å³Ù³Ý³Ï³Ñ³ïí³ÍÇó ÷áË³Ýóí³Í ·áñÍ»ñÇ ÁÝ¹Ñ³Ýáõñ ÃÇíÁ | E3: Ð³ßí»ïáõ Å³Ù³Ý³Ï³Ñ³ïí³ÍáõÙ ëï³óí³Í ·áñÍ»ñÇ ÁÝ¹Ñ³Ýáõñ ÃÇíÁ | F3: öáË³Ýóí»É ¿ ³ÛÉ ¹³ï³íáñÇ Ï³Ù ³ÛÉ ¹³ï³ñ³Ý (Ï³½ÙÇ ÷á÷áËáõÃÛáõÝ, ÁÝ¹¹³ïáõÃÛáõÝ) | G3: Ð³ßí»ïáõ Å³Ù³Ý³Ï³Ñ³ïí³ÍáõÙ ³í³ñïí³Í ·áñÍ»ñÇ ÁÝ¹Ñ³Ýáõñ ÃÇíÁ | L3: Ð³ßí»ïáõ Å³Ù³Ý³Ï³Ñ³ïí³ÍáõÙ ³Ý³í³ñï ·áñÍ»ñÇ ÁÝ¹Ñ³Ýáõñ ÃÇíÁ | M3: ØÇçÝáñ¹áõÃÛáõÝÝ»ñáí Ï³Û³óí³Í ¹³ï³Ï³Ý ³Ïï»ñÇó µáÕáù³ñÏí³ÍÝ»ñÇ ù³Ý³ÏÁ | O3: ²Ý³í³ñï µáÕáùÝ»ñ | P3: ØÇçÝáñ¹áõÃÛáõÝÝ»ñáí Ï³Û³óí³Í ¨ µáÕáù³ñÏí³Í ¹³ï³Ï³Ý ³Ïï»ñÇó µ»Ï³Ýí³ÍÝ»ñÇ ù³Ý³ÏÁ | R3: ÙÇçÝáñ¹áõÃÛáõÝÝ»ñáí Ï³Û³óí³Í ¨ µáÕáù³ñÏí³Í ¹³ï³Ï³Ý ³Ïï»ñÇó ³Ý÷á÷áË ÃáÕÝí³ÍÝ»ñÇ ù³Ý³ÏÁ
G4: Ù»ñÅí»É ¿ | H4: µ³í³ñ³ñí»É ¿ | I4: µ³í³ñ³ñí»É ¿ Ù³ëÝ³ÏÇ | J4: ÃáÕÝí»É ¿ ³é³Ýó ùÝÝáõÃÛ³Ý | K4: ÀÝ¹³Ù»ÝÁ
M5: Ý³Ëáñ¹ ï³ñÇÝ»ñÇÝ Ï³Û³óí³Í ³Ïï»ñÇ ¹»Ù | N5: Ñ³ßí»ïáõ Å³Ù³Ý³Ï³ßñç³ÝáõÙ Ï³Û³óí³Í ³Ïï»ñÇ ¹»Ù | P5: Ý³Ëáñ¹ ï³ñÇÝ»ñÇÝ Ï³Û³óí³Í ³Ïï»ñÇ µ»Ï³ÝáõÙÝ»ñÁ | Q5: Ñ³ßí»ïáõ Å³Ù³Ý³Ï³ßñç³ÝáõÙ Ï³Û³óí³Í ³Ïï»ñÇ µ»Ï³ÝáõÙÝ»ñÁ
A6: 1. ØÇÝã¹³ï³Ï³Ý í³ñáõÛÃÇ ÝÏ³ïÙ³Ùµ ¹³ï³Ï³Ý í»ñ³ÑëÏáÕáõÃÛ³Ý áÉáñï | D6: 1 | E6: 2 | F6: 3 | G6: 4 | H6: 5 | I6: 6 | J6: 7 | K6: 8 | L6: 9 | M6: 10 | N6: 11 | O6: 12 | P6: 13 | Q6: 14 | R6: 15 | T6: 1+2=3+8+9 | V6: 8=4+5+6+7
A7: 1 | B7: Ï³É³ÝùÁ áñå»ë Ë³÷³ÝÙ³Ý ÙÇçáó ÏÇñ³é»Éáõ Ù³ëÇÝ ÙÇçÝáñ¹áõÃÛáõÝÝ»ñ | E7: 6 | H7: 6 | K7: 6 | N7: 2 | O7: 2 | T7: =D7+E7 -> 6 | U7: =F7+K7+L7 -> 6 | V7: =K7 -> 6 | W7: =G7+H7+I7+J7 -> 6
A8: 2 | B8: Ï³É³ÝùÇ Å³ÙÏ»ïÁ »ñÏ³ñ³óÝ»Éáõ Ù³ëÇÝ ÙÇçÝáñ¹áõÃÛáõÝÝ»ñ | E8: 2 | H8: 2 | K8: 2 | T8: =D8+E8 -> 2 | U8: =F8+K8+L8 -> 2 | V8: =K8 -> 2 | W8: =G8+H8+I8+J8 -> 2
A9: 3 | B9: Ï³É³ÝùÇ í»ñ³Ñ³ëï³ïÙ³Ý Ù³ëÇÝ ÙÇçÝáñ¹áõÃÛáõÝÝ»ñ | E9: 1 | H9: 1 | K9: 1 | T9: =D9+E9 -> 1 | U9: =F9+K9+L9 -> 1 | V9: =K9 -> 1 | W9: =G9+H9+I9+J9 -> 1
A10: 4 | B10: ·ñ³íÁ áñå»ë Ï³É³Ý³íáñÙ³Ý ³ÛÉÁÝïñ³Ýù³ÛÇÝ Ë³÷³ÝÙ³Ý ÙÇçáó ÏÇñ³é»Éáõ Ù³ëÇÝ ÙÇçÝáñ¹áõÃÛáõÝÝ»ñ | E10: 2 | G10: 2 | K10: 2 | T10: =D10+E10 -> 2 | U10: =F10+K10+L10 -> 2 | V10: =K10 -> 2 | W10: =G10+H10+I10+J10 -> 2
A11: 5 | B11: Ëáõ½³ñÏáõÃÛ³Ý Ï³ï³ñÙ³Ý Ù³ëÇÝ ÙÇçÝáñ¹áõÃÛáõÝÝ»ñ | E11: 3 | H11: 3 | K11: 3 | T11: =D11+E11 -> 3 | U11: =F11+K11+L11 -> 3 | V11: =K11 -> 3 | W11: =G11+H11+I11+J11 -> 3
A12: 6 | B12: µ³ÝÏ³ÛÇÝ, ³å³Ñáí³·ñ³Ï³Ý, Ýáï³ñ³Ï³Ý ·³ÕïÝÇù Ï³½ÙáÕ ï»Õ»ÏáõÃÛáõÝÝ»ñÇ ëï³óÙ³Ý Ñ³Ù³ñ Ëáõ½³ñÏáõÃÛ³Ý Ï³Ù ³é·ñ³íÙ³Ý Ï³ï³ñÙ³Ý Ù³ëÇÝ ÙÇçÝáñ¹áõÃÛáõÝÝ»ñ | T12: =D12+E12 -> 0 | U12: =F12+K12+L12 -> 0 | V12: =K12 -> 0 | W12: =G12+H12+I12+J12 -> 0
A13: 7 | B13: Ý³Ù³Ï³·ñáõÃÛ³Ý, Ñ»é³·ñ³Ï³Ý, ÷áuï³ÛÇÝ Ñ³Õáñ¹áõÙÝ»ñÇ ÑëÏáÕáõÃÛ³Ý Ù³ëÇÝ ÙÇçÝáñ¹áõÃÛáõÝÝ»ñ | E13: 1 | H13: 1 | K13: 1 | T13: =D13+E13 -> 1 | U13: =F13+K13+L13 -> 1 | V13: =K13 -> 1 | W13: =G13+H13+I13+J13 -> 1
A14: 8 | B14: Ñ»é³Ëáu³ÛÇÝ Ï³Ù Ï³åÇ ³ÛÉ ÙÇçáóÝ»ñáí ï³ñíáÕ Ëáu³ÏóáõÃÛáõÝÝ»ñÇ ÉuÙ³Ý ¨ Ó³ÛÝ³·ñ³éÙ³Ý Ù³ëÇÝ ÙÇçÝáñ¹áõÃÛáõÝÝ»ñ | T14: =D14+E14 -> 0 | U14: =F14+K14+L14 -> 0 | V14: =K14 -> 0 | W14: =G14+H14+I14+J14 -> 0
A15: 9 | B15: Ñ»é³ËáëÝ»ñÇ Ùáõïù³ÛÇÝ ¨ »Éù³ÛÇÝ í»ñÍ³ÝÙ³Ý ÃáõÛÉïíáõÃÛáõÝ ëï³Ý³Éáõ Ù³ëÇÝ ÙÇçÝáñ¹áõÃÛáõÝÝ»ñ | E15: 7 | H15: 7 | K15: 7 | T15: =D15+E15 -> 7 | U15: =F15+K15+L15 -> 7 | V15: =K15 -> 7 | W15: =G15+H15+I15+J15 -> 7
A16: 10 | B16: Ñ»ï³ùÝÝáõÃÛ³Ý Ù³ñÙÝÇ ³ßË³ïáÕÇ, ùÝÝÇãÇ, ¹³ï³Ë³½Ç oå»ñ³ïÇí-Ñ»ï³Ëáõ½³Ï³Ý ·áñÍáÕáõÃÛáõÝÝ»ñ Çñ³Ï³Ý³óÝáÕ Ù³ñÙÇÝÝ»ñÇ ³ÝoñÇÝ³Ï³Ý ¨ ³ÝÑÇÙÝ áñáßáõÙÝ»ñÇ ¨ ·áñÍáÕáõÃÛáõÝÝ»ñÇ ¹»Ù µáÕáùÝ»ñ | D16: 1 | E16: 2 | G16: 1 | K16: 1 | L16: 2 | N16: 1 | O16: 1 | T16: =D16+E16 -> 3 | U16: =F16+K16+L16 -> 3 | V16: =K16 -> 1 | W16: =G16+H16+I16+J16 -> 1
A17: 11 | B17: ²½³ïáõÃÛáõÝÇó ½ñÏ»Éáõ Çñ³í³ã³÷áõÃÛ³Ý í»ñ³µ»ñÛ³É µáÕáùÝ»ñáí ·áñÍ»ñ | T17: =D17+E17 -> 0 | U17: =F17+K17+L17 -> 0 | V17: =K17 -> 0 | W17: =G17+H17+I17+J17 -> 0
A18: 2. ¸³ï³Ï³Ý ³Ïï»ñÇ ¨ ¹³ï³Ï³Ý Ñ³ÝÓÝ³ñ³ñáõÃÛáõÝÝ»ñÇ Ï³ï³ñÙ³Ý Ñ»ï Ï³åí³Í Ñ³ñó»ñÇ ÉáõÍÙ³Ý áÉáñï
A19: 1 | B19: å³ïÅÇó å³ÛÙ³Ý³Ï³Ý í³Õ³Å³ÙÏ»ï ³½³ï»Éáõ Ù³ëÇÝ ÙÇçÝáñ¹áõÃÛáõÝÝ»ñ | E19: 1 | H19: 1 | K19: 1 | T19: =D19+E19 -> 1 | U19: =F19+K19+L19 -> 1 | V19: =K19 -> 1 | W19: =G19+H19+I19+J19 -> 1
A20: 2 | B20: å³ïÇÅÁ ÷á÷áË»Éáõ, Ñ»ï³Ó·»Éáõ ¨ å³ïÅÇó ³½³ï»Éáõ Ù³uÇÝ ÙÇçÝáñ¹áõÃÛáõÝÝ»ñ | D20: 2 | E20: 8 | G20: 1 | H20: 4 | I20: 1 | K20: 6 | L20: 4 | T20: =D20+E20 -> 10 | U20: =F20+K20+L20 -> 10 | V20: =K20 -> 6 | W20: =G20+H20+I20+J20 -> 6
A21: 3 | B21: Ñ³ñÏ³¹Çñ µáõÅÙ³Ý ï»ë³ÏÇ ÷á÷áËáõÃÛ³Ý Ù³ëÇÝ ÙÇçÝáñ¹áõÃÛáõÝÝ»ñ | T21: =D21+E21 -> 0 | U21: =F21+K21+L21 -> 0 | V21: =K21 -> 0 | W21: =G21+H21+I21+J21 -> 0
A22: 4 | B22: ³ÛÉ ÙÇçÝáñ¹áõÃÛáõÝÝ»ñ | E22: 3 | H22: 3 | K22: 3 | T22: =D22+E22 -> 3 | U22: =F22+K22+L22 -> 3 | V22: =K22 -> 3 | W22: =G22+H22+I22+J22 -> 3
A23: 5 | B23: ¹³ï³Ï³Ý Ñ³ÝÓÝ³ñ³ñáõÃÛáõÝÝ»ñ | T23: =D23+E23 -> 0 | U23: =F23+K23+L23 -> 0 | V23: =K23 -> 0 | W23: =G23+H23+I23+J23 -> 0
A24: ÀÜ¸²ØºÜÀ | D24: =D7+D8+D9+D10+D11+D12+D13+D14+D15+D17+D19+D20+D21+D22+D23+D16 -> 3 | E24: =E7+E8+E9+E10+E11+E12+E13+E14+E15+E17+E19+E20+E21+E22+E23+E16 -> 36 | F24: =F7+F8+F9+F10+F11+F12+F13+F14+F15+F17+F19+F20+F21+F22+F23+F16 -> 0 | G24: =G7+G8+G9+G10+G11+G12+G13+G14+G15+G17+G19+G20+G21+G22+G23+G16 -> 4 | H24: =H7+H8+H9+H10+H11+H12+H13+H14+H15+H17+H19+H20+H21+H22+H23+H16 -> 28 | I24: =I7+I8+I9+I10+I11+I12+I13+I14+I15+I17+I19+I20+I21+I22+I23+I16 -> 1 | J24: =J7+J8+J9+J10+J11+J12+J13+J14+J15+J17+J19+J20+J21+J22+J23+J16 -> 0 | K24: =K7+K8+K9+K10+K11+K12+K13+K14+K15+K17+K19+K20+K21+K22+K23+K16 -> 33 | ... R24: =R7+R8+R9+R10+R11+R12+R13+R14+R15+R17+R19+R20+R21+R22+R23+R16 -> 0 | T24: =D24+E24 -> 39 | U24: =F24+K24+L24 -> 39 | V24: =K24 -> 33 | W24: =G24+H24+I24+J24 -> 33

Sheet Ա. Մարգարյան
A1: 2017Ã. 1-ÇÝ ÏÇë³ÙÛ³Ï | D1: Ð²ÞìºîìàôÂÚàôÜ | P1: Ð³í»Éí³Í Ð³Û³ëï³ÝÇ Ð³Ýñ³å»ïáõÃÛ³Ý ¸³ï³ñ³ÝÝ»ñÇ Ý³Ë³·³ÑÝ»ñÇ ËáñÑñ¹Ç 25.08.2017Ã. ÃÇí 35-È áñáßÙ³Ý
A2: ØÇÝã¹³ï³Ï³Ý í³ñáõÛÃÇ ÝÏ³ïÙ³Ùµ ¹³ï³Ï³Ý í»ñ³ÑëÏáÕáõÃÛ³Ý, ¹³ï³Ï³Ý ³Ïï»ñÇ ¨ ¹³ï³Ï³Ý Ñ³ÝÓÝ³ñ³ñáõÃÛáõÝÝ»ñÇ Ï³ï³ñÙ³Ý Ñ»ï Ï³åí³Í ÙÇçÝáñ¹áõÃÛáõÝÝ»ñÇ í»ñ³µ»ñÛ³É ¹³ï³Ï³Ý ·áñÍ»ñáí ÐÐ ²ñ³·³ÍáïÝÇ Ù³ñ½Ç ÁÝ¹Ñ³Ýáõñ Çñ³í³ëáõÃÛ³Ý ³é³çÇÝ ³ïÛ³ÝÇ ¹³ï³ñ³ÝÇ ¹³ï³íáñ ². Ø³ñ·³ñÛ³ÝÇ ·áñÍáõÝ»áõÃÛ³Ý í»ñ³µ»ñÛ³É
D3: Ð³ßí»ïáõ Å³Ù³Ý³Ï³Ñ³ïí³ÍÇ ëÏ½µáõÙ Ý³Ëáñ¹ Ñ³ßí»ïáõ Å³Ù³Ý³Ï³Ñ³ïí³ÍÇó ÷áË³Ýóí³Í ·áñÍ»ñÇ ÁÝ¹Ñ³Ýáõñ ÃÇíÁ | E3: Ð³ßí»ïáõ Å³Ù³Ý³Ï³Ñ³ïí³ÍáõÙ ëï³óí³Í ·áñÍ»ñÇ ÁÝ¹Ñ³Ýáõñ ÃÇíÁ | F3: öáË³Ýóí»É ¿ ³ÛÉ ¹³ï³íáñÇ Ï³Ù ³ÛÉ ¹³ï³ñ³Ý (Ï³½ÙÇ ÷á÷áËáõÃÛáõÝ, ÁÝ¹¹³ïáõÃÛáõÝ) | G3: Ð³ßí»ïáõ Å³Ù³Ý³Ï³Ñ³ïí³ÍáõÙ ³í³ñïí³Í ·áñÍ»ñÇ ÁÝ¹Ñ³Ýáõñ ÃÇíÁ | L3: Ð³ßí»ïáõ Å³Ù³Ý³Ï³Ñ³ïí³ÍáõÙ ³Ý³í³ñï ·áñÍ»ñÇ ÁÝ¹Ñ³Ýáõñ ÃÇíÁ | M3: ØÇçÝáñ¹áõÃÛáõÝÝ»ñáí Ï³Û³óí³Í ¹³ï³Ï³Ý ³Ïï»ñÇó µáÕáù³ñÏí³ÍÝ»ñÇ ù³Ý³ÏÁ | O3: ²Ý³í³ñï µáÕáùÝ»ñ | P3: ØÇçÝáñ¹áõÃÛáõÝÝ»ñáí Ï³Û³óí³Í ¨ µáÕáù³ñÏí³Í ¹³ï³Ï³Ý ³Ïï»ñÇó µ»Ï³Ýí³ÍÝ»ñÇ ù³Ý³ÏÁ | R3: ÙÇçÝáñ¹áõÃÛáõÝÝ»ñáí Ï³Û³óí³Í ¨ µáÕáù³ñÏí³Í ¹³ï³Ï³Ý ³Ïï»ñÇó ³Ý÷á÷áË ÃáÕÝí³ÍÝ»ñÇ ù³Ý³ÏÁ
G4: Ù»ñÅí»É ¿ | H4: µ³í³ñ³ñí»É ¿ | I4: µ³í³ñ³ñí»É ¿ Ù³ëÝ³ÏÇ | J4: ÃáÕÝí»É ¿ ³é³Ýó ùÝÝáõÃÛ³Ý | K4: ÀÝ¹³Ù»ÝÁ
M5: Ý³Ëáñ¹ ï³ñÇÝ»ñÇÝ Ï³Û³óí³Í ³Ïï»ñÇ ¹»Ù | N5: Ñ³ßí»ïáõ Å³Ù³Ý³Ï³ßñç³ÝáõÙ Ï³Û³óí³Í ³Ïï»ñÇ ¹»Ù | P5: Ý³Ëáñ¹ ï³ñÇÝ»ñÇÝ Ï³Û³óí³Í ³Ïï»ñÇ µ»Ï³ÝáõÙÝ»ñÁ | Q5: Ñ³ßí»ïáõ Å³Ù³Ý³Ï³ßñç³ÝáõÙ Ï³Û³óí³Í ³Ïï»ñÇ µ»Ï³ÝáõÙÝ»ñÁ
A6: 1. ØÇÝã¹³ï³Ï³Ý í³ñáõÛÃÇ ÝÏ³ïÙ³Ùµ ¹³ï³Ï³Ý í»ñ³ÑëÏáÕáõÃÛ³Ý áÉáñï | D6: 1 | E6: 2 | F6: 3 | G6: 4 | H6: 5 | I6: 6 | J6: 7 | K6: 8 | L6: 9 | M6: 10 | N6: 11 | O6: 12 | P6: 13 | Q6: 14 | R6: 15 | T6: 1+2=3+8+9 | V6: 8=4+5+6+7
A7: 1 | B7: Ï³É³ÝùÁ áñå»ë Ë³÷³ÝÙ³Ý ÙÇçáó ÏÇñ³é»Éáõ Ù³ëÇÝ ÙÇçÝáñ¹áõÃÛáõÝÝ»ñ | E7: 8 | G7: 1 | H7: 7 | K7: 8 | N7: 2 | O7: 2 | R7: 2 | T7: =D7+E7 -> 8 | U7: =F7+K7+L7 -> 8 | V7: =K7 -> 8 | W7: =G7+H7+I7+J7 -> 8
A8: 2 | B8: Ï³É³ÝùÇ Å³ÙÏ»ïÁ »ñÏ³ñ³óÝ»Éáõ Ù³ëÇÝ ÙÇçÝáñ¹áõÃÛáõÝÝ»ñ | E8: 2 | H8: 2 | K8: 2 | R8: 1 | T8: =D8+E8 -> 2 | U8: =F8+K8+L8 -> 2 | V8: =K8 -> 2 | W8: =G8+H8+I8+J8 -> 2
A9: 3 | B9: Ï³É³ÝùÇ í»ñ³Ñ³ëï³ïÙ³Ý Ù³ëÇÝ ÙÇçÝáñ¹áõÃÛáõÝÝ»ñ | T9: =D9+E9 -> 0 | U9: =F9+K9+L9 -> 0 | V9: =K9 -> 0 | W9: =G9+H9+I9+J9 -> 0
A10: 4 | B10: ·ñ³íÁ áñå»ë Ï³É³Ý³íáñÙ³Ý ³ÛÉÁÝïñ³Ýù³ÛÇÝ Ë³÷³ÝÙ³Ý ÙÇçáó ÏÇñ³é»Éáõ Ù³ëÇÝ ÙÇçÝáñ¹áõÃÛáõÝÝ»ñ | E10: 6 | G10: 2 | H10: 4 | K10: 6 | T10: =D10+E10 -> 6 | U10: =F10+K10+L10 -> 6 | V10: =K10 -> 6 | W10: =G10+H10+I10+J10 -> 6
A11: 5 | B11: Ëáõ½³ñÏáõÃÛ³Ý Ï³ï³ñÙ³Ý Ù³ëÇÝ ÙÇçÝáñ¹áõÃÛáõÝÝ»ñ | E11: 18 | G11: 3 | H11: 15 | K11: 18 | T11: =D11+E11 -> 18 | U11: =F11+K11+L11 -> 18 | V11: =K11 -> 18 | W11: =G11+H11+I11+J11 -> 18
A12: 6 | B12: µ³ÝÏ³ÛÇÝ, ³å³Ñáí³·ñ³Ï³Ý, Ýáï³ñ³Ï³Ý ·³ÕïÝÇù Ï³½ÙáÕ ï»Õ»ÏáõÃÛáõÝÝ»ñÇ ëï³óÙ³Ý Ñ³Ù³ñ Ëáõ½³ñÏáõÃÛ³Ý Ï³Ù ³é·ñ³íÙ³Ý Ï³ï³ñÙ³Ý Ù³ëÇÝ ÙÇçÝáñ¹áõÃÛáõÝÝ»ñ | T12: =D12+E12 -> 0 | U12: =F12+K12+L12 -> 0 | V12: =K12 -> 0 | W12: =G12+H12+I12+J12 -> 0
A13: 7 | B13: Ý³Ù³Ï³·ñáõÃÛ³Ý, Ñ»é³·ñ³Ï³Ý, ÷áuï³ÛÇÝ Ñ³Õáñ¹áõÙÝ»ñÇ ÑëÏáÕáõÃÛ³Ý Ù³ëÇÝ ÙÇçÝáñ¹áõÃÛáõÝÝ»ñ | T13: =D13+E13 -> 0 | U13: =F13+K13+L13 -> 0 | V13: =K13 -> 0 | W13: =G13+H13+I13+J13 -> 0
A14: 8 | B14: Ñ»é³Ëáu³ÛÇÝ Ï³Ù Ï³åÇ ³ÛÉ ÙÇçáóÝ»ñáí ï³ñíáÕ Ëáu³ÏóáõÃÛáõÝÝ»ñÇ ÉuÙ³Ý ¨ Ó³ÛÝ³·ñ³éÙ³Ý Ù³ëÇÝ ÙÇçÝáñ¹áõÃÛáõÝÝ»ñ | T14: =D14+E14 -> 0 | U14: =F14+K14+L14 -> 0 | V14: =K14 -> 0 | W14: =G14+H14+I14+J14 -> 0
A15: 9 | B15: Ñ»é³ËáëÝ»ñÇ Ùáõïù³ÛÇÝ ¨ »Éù³ÛÇÝ í»ñÍ³ÝÙ³Ý ÃáõÛÉïíáõÃÛáõÝ ëï³Ý³Éáõ Ù³ëÇÝ ÙÇçÝáñ¹áõÃÛáõÝÝ»ñ | E15: 25 | G15: 1 | H15: 23 | I15: 1 | K15: 25 | T15: =D15+E15 -> 25 | U15: =F15+K15+L15 -> 25 | V15: =K15 -> 25 | W15: =G15+H15+I15+J15 -> 25
A16: 10 | B16: Ñ»ï³ùÝÝáõÃÛ³Ý Ù³ñÙÝÇ ³ßË³ïáÕÇ, ùÝÝÇãÇ, ¹³ï³Ë³½Ç oå»ñ³ïÇí-Ñ»ï³Ëáõ½³Ï³Ý ·áñÍáÕáõÃÛáõÝÝ»ñ Çñ³Ï³Ý³óÝáÕ Ù³ñÙÇÝÝ»ñÇ ³ÝoñÇÝ³Ï³Ý ¨ ³ÝÑÇÙÝ áñáßáõÙÝ»ñÇ ¨ ·áñÍáÕáõÃÛáõÝÝ»ñÇ ¹»Ù µáÕáùÝ»ñ | T16: =D16+E16 -> 0 | U16: =F16+K16+L16 -> 0 | V16: =K16 -> 0 | W16: =G16+H16+I16+J16 -> 0
A17: 11 | B17: ²½³ïáõÃÛáõÝÇó ½ñÏ»Éáõ Çñ³í³ã³÷áõÃÛ³Ý í»ñ³µ»ñÛ³É µáÕáùÝ»ñáí ·áñÍ»ñ | T17: =D17+E17 -> 0 | U17: =F17+K17+L17 -> 0 | V17: =K17 -> 0 | W17: =G17+H17+I17+J17 -> 0
A18: 2. ¸³ï³Ï³Ý ³Ïï»ñÇ ¨ ¹³ï³Ï³Ý Ñ³ÝÓÝ³ñ³ñáõÃÛáõÝÝ»ñÇ Ï³ï³ñÙ³Ý Ñ»ï Ï³åí³Í Ñ³ñó»ñÇ ÉáõÍÙ³Ý áÉáñï
A19: 1 | B19: å³ïÅÇó å³ÛÙ³Ý³Ï³Ý í³Õ³Å³ÙÏ»ï ³½³ï»Éáõ Ù³ëÇÝ ÙÇçÝáñ¹áõÃÛáõÝÝ»ñ | T19: =D19+E19 -> 0 | U19: =F19+K19+L19 -> 0 | V19: =K19 -> 0 | W19: =G19+H19+I19+J19 -> 0
A20: 2 | B20: å³ïÇÅÁ ÷á÷áË»Éáõ, Ñ»ï³Ó·»Éáõ ¨ å³ïÅÇó ³½³ï»Éáõ Ù³uÇÝ ÙÇçÝáñ¹áõÃÛáõÝÝ»ñ | T20: =D20+E20 -> 0 | U20: =F20+K20+L20 -> 0 | V20: =K20 -> 0 | W20: =G20+H20+I20+J20 -> 0
A21: 3 | B21: Ñ³ñÏ³¹Çñ µáõÅÙ³Ý ï»ë³ÏÇ ÷á÷áËáõÃÛ³Ý Ù³ëÇÝ ÙÇçÝáñ¹áõÃÛáõÝÝ»ñ | E21: 1 | H21: 1 | K21: 1 | T21: =D21+E21 -> 1 | U21: =F21+K21+L21 -> 1 | V21: =K21 -> 1 | W21: =G21+H21+I21+J21 -> 1
A22: 4 | B22: ³ÛÉ ÙÇçÝáñ¹áõÃÛáõÝÝ»ñ | E22: 1 | H22: 1 | K22: 1 | T22: =D22+E22 -> 1 | U22: =F22+K22+L22 -> 1 | V22: =K22 -> 1 | W22: =G22+H22+I22+J22 -> 1
A23: 5 | B23: ¹³ï³Ï³Ý Ñ³ÝÓÝ³ñ³ñáõÃÛáõÝÝ»ñ | T23: =D23+E23 -> 0 | U23: =F23+K23+L23 -> 0 | V23: =K23 -> 0 | W23: =G23+H23+I23+J23 -> 0
A24: ÀÜ¸²ØºÜÀ | D24: =D7+D8+D9+D10+D11+D12+D13+D14+D15+D17+D19+D20+D21+D22+D23+D16 -> 0 | E24: =E7+E8+E9+E10+E11+E12+E13+E14+E15+E17+E19+E20+E21+E22+E23+E16 -> 61 | F24: =F7+F8+F9+F10+F11+F12+F13+F14+F15+F17+F19+F20+F21+F22+F23+F16 -> 0 | G24: =G7+G8+G9+G10+G11+G12+G13+G14+G15+G17+G19+G20+G21+G22+G23+G16 -> 7 | H24: =H7+H8+H9+H10+H11+H12+H13+H14+H15+H17+H19+H20+H21+H22+H23+H16 -> 53 | I24: =I7+I8+I9+I10+I11+I12+I13+I14+I15+I17+I19+I20+I21+I22+I23+I16 -> 1 | J24: =J7+J8+J9+J10+J11+J12+J13+J14+J15+J17+J19+J20+J21+J22+J23+J16 -> 0 | K24: =K7+K8+K9+K10+K11+K12+K13+K14+K15+K17+K19+K20+K21+K22+K23+K16 -> 61 | ... R24: =R7+R8+R9+R10+R11+R12+R13+R14+R15+R17+R19+R20+R21+R22+R23+R16 -> 3 | T24: =D24+E24 -> 61 | U24: =F24+K24+L24 -> 61 | V24: =K24 -> 61 | W24: =G24+H24+I24+J24 -> 61

Sheet Գ.Նարինյան
A1: 2017Ã. | D1: Ð²ÞìºîìàôÂÚàôÜ | P1: Ð³í»Éí³Í Ð³Û³ëï³ÝÇ Ð³Ýñ³å»ïáõÃÛ³Ý ¸³ï³ñ³ÝÝ»ñÇ Ý³Ë³·³ÑÝ»ñÇ ËáñÑñ¹Ç 25.08.2016Ã. ÃÇí 44-È áñáßÙ³Ý
A2: ØÇÝã¹³ï³Ï³Ý í³ñáõÛÃÇ ÝÏ³ïÙ³Ùµ ¹³ï³Ï³Ý í»ñ³ÑëÏáÕáõÃÛ³ÝÁ, ¹³ï³Ï³Ý ³Ïï»ñÇ ¨ ¹³ï³Ï³Ý Ñ³ÝÓÝ³ñ³ñáõÃÛáõÝÝ»ñÇ Ï³ï³ñÙ³ÝÁ Ñ»ï Ï³åí³Í ÙÇçÝáñ¹áõÃÛáõÝÝ»ñÇ í»ñ³µ»ñÛ³É ¹³ï³Ï³Ý ·áñÍ»ñáí ÐÐ ²ñ³·³ÍáïÝÇ Ù³ñ½Ç ÁÝ¹Ñ³Ýáõñ Çñ³í³ëáõÃÛ³Ý ³é³çÇÝ ³ïÛ³ÝÇ ¹³ï³ñ³ÝÇ ¹³ï³íáñ Գ. Նարինյանի ·áñÍáõÝ»áõÃÛ³Ý í»ñ³µ»ñÛ³É
A3: êïáõ·Çã Ñ³í³ë³ñáõÙ` 1+2=3+8+9, 8=4+5+6+7, | D3: Ð³ßí»ïáõ Å³Ù³Ý³Ï³Ñ³ïí³ÍÇ ëÏ½µáõÙ Ý³Ëáñ¹ Ñ³ßí»ïáõ Å³Ù³Ý³Ï³Ñ³ïí³ÍÇó ÷áË³Ýóí³Í ·áñÍ»ñÇ ÁÝ¹Ñ³Ýáõñ ÃÇíÁ | E3: Ð³ßí»ïáõ Å³Ù³Ý³Ï³Ñ³ïí³ÍáõÙ ëï³óí³Í ·áñÍ»ñÇ ÁÝ¹Ñ³Ýáõñ ÃÇíÁ | F3: öáË³Ýóí»É ¿ ³ÛÉ ¹³ï³íáñÇ Ï³Ù ³ÛÉ ¹³ï³ñ³Ý (Ï³½ÙÇ ÷á÷áËáõÃÛáõÝ, ÁÝ¹¹³ïáõÃÛáõÝ) | G3: Ð³ßí»ïáõ Å³Ù³Ý³Ï³Ñ³ïí³ÍáõÙ ³í³ñïí³Í ·áñÍ»ñÇ ÁÝ¹Ñ³Ýáõñ ÃÇíÁ | L3: Ð³ßí»ïáõ Å³Ù³Ý³Ï³Ñ³ïí³ÍáõÙ ³Ý³í³ñï ·áñÍ»ñÇ ÁÝ¹Ñ³Ýáõñ ÃÇíÁ | M3: ØÇçÝáñ¹áõÃÛáõÝÝ»ñáí Ï³Û³óí³Í ¹³ï³Ï³Ý ³Ïï»ñÇó µáÕáù³ñÏí³ÍÝ»ñÇ ù³Ý³ÏÁ | O3: ²Ý³í³ñï µáÕáùÝ»ñ | P3: ØÇçÝáñ¹áõÃÛáõÝÝ»ñáí Ï³Û³óí³Í ¨ µáÕáù³ñÏí³Í ¹³ï³Ï³Ý ³Ïï»ñÇó µ»Ï³Ýí³ÍÝ»ñÇ ù³Ý³ÏÁ | R3: ÙÇçÝáñ¹áõÃÛáõÝÝ»ñáí Ï³Û³óí³Í ¨ µáÕáù³ñÏí³Í ¹³ï³Ï³Ý ³Ïï»ñÇó ³Ý÷á÷áË ÃáÕÝí³ÍÝ»ñÇ ù³Ý³ÏÁ
G4: Ù»ñÅí»É ¿ | H4: µ³í³ñ³ñí»É ¿ | I4: µ³í³ñ³ñí»É ¿ Ù³ëÝ³ÏÇ | J4: ÃáÕÝí»É ¿ ³é³Ýó ùÝÝáõÃÛ³Ý | K4: ÀÝ¹³Ù»ÝÁ
M5: Ý³Ëáñ¹ ï³ñÇÝ»ñÇÝ Ï³Û³óí³Í ³Ïï»ñÇ ¹»Ù | N5: Ñ³ßí»ïáõ Å³Ù³Ý³Ï³ßñç³ÝáõÙ Ï³Û³óí³Í ³Ïï»ñÇ ¹»Ù | P5: Ý³Ëáñ¹ ï³ñÇÝ»ñÇÝ Ï³Û³óí³Í ³Ïï»ñÇ µ»Ï³ÝáõÙÝ»ñÁ | Q5: Ñ³ßí»ïáõ Å³Ù³Ý³Ï³ßñç³ÝáõÙ Ï³Û³óí³Í ³Ïï»ñÇ µ»Ï³ÝáõÙÝ»ñÁ
A6: 1. ØÇÝã¹³ï³Ï³Ý í³ñáõÛÃÇ ÝÏ³ïÙ³Ùµ ¹³ï³Ï³Ý í»ñ³ÑëÏáÕáõÃÛ³Ý áÉáñï | D6: 1 | E6: 2 | F6: 3 | G6: 4 | H6: 5 | I6: 6 | J6: 7 | K6: 8 | L6: 9 | M6: 10 | N6: 11 | O6: 12 | P6: 13 | Q6: 14 | R6: 15 | T6: 1+2=3+8+9 | V6: 8=4+5+6+7
A7: 1 | B7: Ï³É³ÝùÁ áñå»ë Ë³÷³ÝÙ³Ý ÙÇçáó ÏÇñ³é»Éáõ Ù³ëÇÝ ÙÇçÝáñ¹áõÃÛáõÝÝ»ñ | T7: =D7+E7 -> 0 | U7: =F7+K7+L7 -> 0 | V7: =K7 -> 0 | W7: =G7+H7+I7+J7 -> 0
A8: 2 | B8: Ï³É³ÝùÇ Å³ÙÏ»ïÁ »ñÏ³ñ³óÝ»Éáõ Ù³ëÇÝ ÙÇçÝáñ¹áõÃÛáõÝÝ»ñ | T8: =D8+E8 -> 0 | U8: =F8+K8+L8 -> 0 | V8: =K8 -> 0 | W8: =G8+H8+I8+J8 -> 0
A9: 3 | B9: Ï³É³ÝùÇ í»ñ³Ñ³ëï³ïÙ³Ý Ù³ëÇÝ ÙÇçÝáñ¹áõÃÛáõÝÝ»ñ | T9: =D9+E9 -> 0 | U9: =F9+K9+L9 -> 0 | V9: =K9 -> 0 | W9: =G9+H9+I9+J9 -> 0
A10: 4 | B10: ·ñ³íÁ áñå»ë Ï³É³Ý³íáñÙ³Ý ³ÛÉÁÝïñ³Ýù³ÛÇÝ Ë³÷³ÝÙ³Ý ÙÇçáó ÏÇñ³é»Éáõ Ù³ëÇÝ ÙÇçÝáñ¹áõÃÛáõÝÝ»ñ | T10: =D10+E10 -> 0 | U10: =F10+K10+L10 -> 0 | V10: =K10 -> 0 | W10: =G10+H10+I10+J10 -> 0
A11: 5 | B11: Ëáõ½³ñÏáõÃÛ³Ý Ï³ï³ñÙ³Ý Ù³ëÇÝ ÙÇçÝáñ¹áõÃÛáõÝÝ»ñ | T11: =D11+E11 -> 0 | U11: =F11+K11+L11 -> 0 | V11: =K11 -> 0 | W11: =G11+H11+I11+J11 -> 0
A12: 6 | B12: µ³ÝÏ³ÛÇÝ, ³å³Ñáí³·ñ³Ï³Ý, Ýáï³ñ³Ï³Ý ·³ÕïÝÇù Ï³½ÙáÕ ï»Õ»ÏáõÃÛáõÝÝ»ñÇ ëï³óÙ³Ý Ñ³Ù³ñ Ëáõ½³ñÏáõÃÛ³Ý Ï³Ù ³é·ñ³íÙ³Ý Ï³ï³ñÙ³Ý Ù³ëÇÝ ÙÇçÝáñ¹áõÃÛáõÝÝ»ñ | T12: =D12+E12 -> 0 | U12: =F12+K12+L12 -> 0 | V12: =K12 -> 0 | W12: =G12+H12+I12+J12 -> 0
A13: 7 | B13: Ý³Ù³Ï³·ñáõÃÛ³Ý, Ñ»é³·ñ³Ï³Ý, ÷áuï³ÛÇÝ Ñ³Õáñ¹áõÙÝ»ñÇ ÑëÏáÕáõÃÛ³Ý Ù³ëÇÝ ÙÇçÝáñ¹áõÃÛáõÝÝ»ñ | T13: =D13+E13 -> 0 | U13: =F13+K13+L13 -> 0 | V13: =K13 -> 0 | W13: =G13+H13+I13+J13 -> 0
A14: 8 | B14: Ñ»é³Ëáu³ÛÇÝ Ï³Ù Ï³åÇ ³ÛÉ ÙÇçáóÝ»ñáí ï³ñíáÕ Ëáu³ÏóáõÃÛáõÝÝ»ñÇ ÉuÙ³Ý ¨ Ó³ÛÝ³·ñ³éÙ³Ý Ù³ëÇÝ ÙÇçÝáñ¹áõÃÛáõÝÝ»ñ | T14: =D14+E14 -> 0 | U14: =F14+K14+L14 -> 0 | V14: =K14 -> 0 | W14: =G14+H14+I14+J14 -> 0
A15: 9 | B15: Ñ»é³ËáëÝ»ñÇ Ùáõïù³ÛÇÝ ¨ »Éù³ÛÇÝ í»ñÍ³ÝÙ³Ý ÃáõÛÉïíáõÃÛáõÝ ëï³Ý³Éáõ Ù³ëÇÝ ÙÇçÝáñ¹áõÃÛáõÝÝ»ñ | T15: =D15+E15 -> 0 | U15: =F15+K15+L15 -> 0 | V15: =K15 -> 0 | W15: =G15+H15+I15+J15 -> 0
A16: 10 | B16: Ñ»ï³ùÝÝáõÃÛ³Ý Ù³ñÙÝÇ ³ßË³ïáÕÇ, ùÝÝÇãÇ, ¹³ï³Ë³½Ç oå»ñ³ïÇí-Ñ»ï³Ëáõ½³Ï³Ý ·áñÍáÕáõÃÛáõÝÝ»ñ Çñ³Ï³Ý³óÝáÕ Ù³ñÙÇÝÝ»ñÇ ³ÝoñÇÝ³Ï³Ý ¨ ³ÝÑÇÙÝ áñáßáõÙÝ»ñÇ ¨ ·áñÍáÕáõÃÛáõÝÝ»ñÇ ¹»Ù µáÕáùÝ»ñ | T16: =D16+E16 -> 0 | U16: =F16+K16+L16 -> 0 | V16: =K16 -> 0 | W16: =G16+H16+I16+J16 -> 0
A17: 11 | B17: ²½³ïáõÃÛáõÝÇó ½ñÏ»Éáõ Çñ³í³ã³÷áõÃÛ³Ý í»ñ³µ»ñÛ³É µáÕáùÝ»ñáí ·áñÍ»ñ | T17: =D17+E17 -> 0 | U17: =F17+K17+L17 -> 0 | V17: =K17 -> 0 | W17: =G17+H17+I17+J17 -> 0
A18: 2. ¸³ï³Ï³Ý ³Ïï»ñÇ ¨ ¹³ï³Ï³Ý Ñ³ÝÓÝ³ñ³ñáõÃÛáõÝÝ»ñÇ Ï³ï³ñÙ³Ý Ñ»ï Ï³åí³Í Ñ³ñó»ñÇ ÉáõÍÙ³Ý áÉáñï
A19: 1 | B19: å³ïÅÇó å³ÛÙ³Ý³Ï³Ý í³Õ³Å³ÙÏ»ï ³½³ï»Éáõ Ù³ëÇÝ ÙÇçÝáñ¹áõÃÛáõÝÝ»ñ | T19: =D19+E19 -> 0 | U19: =F19+K19+L19 -> 0 | V19: =K19 -> 0 | W19: =G19+H19+I19+J19 -> 0
A20: 2 | B20: å³ïÇÅÁ ÷á÷áË»Éáõ, Ñ»ï³Ó·»Éáõ ¨ å³ïÅÇó ³½³ï»Éáõ Ù³uÇÝ ÙÇçÝáñ¹áõÃÛáõÝÝ»ñ | T20: =D20+E20 -> 0 | U20: =F20+K20+L20 -> 0 | V20: =K20 -> 0 | W20: =G20+H20+I20+J20 -> 0
A21: 3 | B21: Ñ³ñÏ³¹Çñ µáõÅÙ³Ý ï»ë³ÏÇ ÷á÷áËáõÃÛ³Ý Ù³ëÇÝ ÙÇçÝáñ¹áõÃÛáõÝÝ»ñ | T21: =D21+E21 -> 0 | U21: =F21+K21+L21 -> 0 | V21: =K21 -> 0 | W21: =G21+H21+I21+J21 -> 0
A22: 4 | B22: ³ÛÉ ÙÇçÝáñ¹áõÃÛáõÝÝ»ñ | T22: =D22+E22 -> 0 | U22: =F22+K22+L22 -> 0 | V22: =K22 -> 0 | W22: =G22+H22+I22+J22 -> 0
A23: 5 | B23: ¹³ï³Ï³Ý Ñ³ÝÓÝ³ñ³ñáõÃÛáõÝÝ»ñ | T23: =D23+E23 -> 0 | U23: =F23+K23+L23 -> 0 | V23: =K23 -> 0 | W23: =G23+H23+I23+J23 -> 0
A24: ÀÜ¸²ØºÜÀ | D24: =D7+D8+D9+D10+D11+D12+D13+D14+D15+D17+D19+D20+D21+D22+D23+D16 -> 0 | E24: =E7+E8+E9+E10+E11+E12+E13+E14+E15+E17+E19+E20+E21+E22+E23+E16 -> 0 | F24: =F7+F8+F9+F10+F11+F12+F13+F14+F15+F17+F19+F20+F21+F22+F23+F16 -> 0 | G24: =G7+G8+G9+G10+G11+G12+G13+G14+G15+G17+G19+G20+G21+G22+G23+G16 -> 0 | H24: =H7+H8+H9+H10+H11+H12+H13+H14+H15+H17+H19+H20+H21+H22+H23+H16 -> 0 | I24: =I7+I8+I9+I10+I11+I12+I13+I14+I15+I17+I19+I20+I21+I22+I23+I16 -> 0 | J24: =J7+J8+J9+J10+J11+J12+J13+J14+J15+J17+J19+J20+J21+J22+J23+J16 -> 0 | K24: =K7+K8+K9+K10+K11+K12+K13+K14+K15+K17+K19+K20+K21+K22+K23+K16 -> 0 | ... R24: =R7+R8+R9+R10+R11+R12+R13+R14+R15+R17+R19+R20+R21+R22+R23+R16 -> 0 | T24: =D24+E24 -> 0 | U24: =F24+K24+L24 -> 0 | V24: =K24 -> 0 | W24: =G24+H24+I24+J24 -> 0

Sheet Ս. Մարաբյան
A1: 2017Ã. | D1: Ð²ÞìºîìàôÂÚàôÜ | P1: Ð³í»Éí³Í Ð³Û³ëï³ÝÇ Ð³Ýñ³å»ïáõÃÛ³Ý ¸³ï³ñ³ÝÝ»ñÇ Ý³Ë³·³ÑÝ»ñÇ ËáñÑñ¹Ç 25.08.2016Ã. ÃÇí 44-È áñáßÙ³Ý
A2: ØÇÝã¹³ï³Ï³Ý í³ñáõÛÃÇ ÝÏ³ïÙ³Ùµ ¹³ï³Ï³Ý í»ñ³ÑëÏáÕáõÃÛ³ÝÁ, ¹³ï³Ï³Ý ³Ïï»ñÇ ¨ ¹³ï³Ï³Ý Ñ³ÝÓÝ³ñ³ñáõÃÛáõÝÝ»ñÇ Ï³ï³ñÙ³ÝÁ Ñ»ï Ï³åí³Í ÙÇçÝáñ¹áõÃÛáõÝÝ»ñÇ í»ñ³µ»ñÛ³É ¹³ï³Ï³Ý ·áñÍ»ñáí ÐÐ ²ñ³·³ÍáïÝÇ Ù³ñ½Ç ÁÝ¹Ñ³Ýáõñ Çñ³í³ëáõÃÛ³Ý ³é³çÇÝ ³ïÛ³ÝÇ ¹³ï³ñ³ÝÇ ¹³ï³íáñ Ս. Մարաբյանի ·áñÍáõÝ»áõÃÛ³Ý í»ñ³µ»ñÛ³É
A3: êïáõ·Çã Ñ³í³ë³ñáõÙ` 1+2=3+8+9, 8=4+5+6+7, | D3: Ð³ßí»ïáõ Å³Ù³Ý³Ï³Ñ³ïí³ÍÇ ëÏ½µáõÙ Ý³Ëáñ¹ Ñ³ßí»ïáõ Å³Ù³Ý³Ï³Ñ³ïí³ÍÇó ÷áË³Ýóí³Í ·áñÍ»ñÇ ÁÝ¹Ñ³Ýáõñ ÃÇíÁ | E3: Ð³ßí»ïáõ Å³Ù³Ý³Ï³Ñ³ïí³ÍáõÙ ëï³óí³Í ·áñÍ»ñÇ ÁÝ¹Ñ³Ýáõñ ÃÇíÁ | F3: öáË³Ýóí»É ¿ ³ÛÉ ¹³ï³íáñÇ Ï³Ù ³ÛÉ ¹³ï³ñ³Ý (Ï³½ÙÇ ÷á÷áËáõÃÛáõÝ, ÁÝ¹¹³ïáõÃÛáõÝ) | G3: Ð³ßí»ïáõ Å³Ù³Ý³Ï³Ñ³ïí³ÍáõÙ ³í³ñïí³Í ·áñÍ»ñÇ ÁÝ¹Ñ³Ýáõñ ÃÇíÁ | L3: Ð³ßí»ïáõ Å³Ù³Ý³Ï³Ñ³ïí³ÍáõÙ ³Ý³í³ñï ·áñÍ»ñÇ ÁÝ¹Ñ³Ýáõñ ÃÇíÁ | M3: ØÇçÝáñ¹áõÃÛáõÝÝ»ñáí Ï³Û³óí³Í ¹³ï³Ï³Ý ³Ïï»ñÇó µáÕáù³ñÏí³ÍÝ»ñÇ ù³Ý³ÏÁ | O3: ²Ý³í³ñï µáÕáùÝ»ñ | P3: ØÇçÝáñ¹áõÃÛáõÝÝ»ñáí Ï³Û³óí³Í ¨ µáÕáù³ñÏí³Í ¹³ï³Ï³Ý ³Ïï»ñÇó µ»Ï³Ýí³ÍÝ»ñÇ ù³Ý³ÏÁ | R3: ÙÇçÝáñ¹áõÃÛáõÝÝ»ñáí Ï³Û³óí³Í ¨ µáÕáù³ñÏí³Í ¹³ï³Ï³Ý ³Ïï»ñÇó ³Ý÷á÷áË ÃáÕÝí³ÍÝ»ñÇ ù³Ý³ÏÁ
G4: Ù»ñÅí»É ¿ | H4: µ³í³ñ³ñí»É ¿ | I4: µ³í³ñ³ñí»É ¿ Ù³ëÝ³ÏÇ | J4: ÃáÕÝí»É ¿ ³é³Ýó ùÝÝáõÃÛ³Ý | K4: ÀÝ¹³Ù»ÝÁ
M5: Ý³Ëáñ¹ ï³ñÇÝ»ñÇÝ Ï³Û³óí³Í ³Ïï»ñÇ ¹»Ù | N5: Ñ³ßí»ïáõ Å³Ù³Ý³Ï³ßñç³ÝáõÙ Ï³Û³óí³Í ³Ïï»ñÇ ¹»Ù | P5: Ý³Ëáñ¹ ï³ñÇÝ»ñÇÝ Ï³Û³óí³Í ³Ïï»ñÇ µ»Ï³ÝáõÙÝ»ñÁ | Q5: Ñ³ßí»ïáõ Å³Ù³Ý³Ï³ßñç³ÝáõÙ Ï³Û³óí³Í ³Ïï»ñÇ µ»Ï³ÝáõÙÝ»ñÁ
A6: 1. ØÇÝã¹³ï³Ï³Ý í³ñáõÛÃÇ ÝÏ³ïÙ³Ùµ ¹³ï³Ï³Ý í»ñ³ÑëÏáÕáõÃÛ³Ý áÉáñï | D6: 1 | E6: 2 | F6: 3 | G6: 4 | H6: 5 | I6: 6 | J6: 7 | K6: 8 | L6: 9 | M6: 10 | N6: 11 | O6: 12 | P6: 13 | Q6: 14 | R6: 15 | T6: 1+2=3+8+9 | V6: 8=4+5+6+7
