Workbook

Sheet Hanrapetutun
A1: Ð³ßí»ïíáõÃÛáõÝ ÐÐ ³é³çÇÝ ³ïÛ³ÝÇ ¹³ï³ñ³ÝÝ»ñÇ 2007Ã. ³é³çÇÝ ÏÇë³ÙÛ³ÏÇ í³ñã³Ï³Ý Çñ³í³Ë³ËïáõÙÝ»ñÇ ¨ í³ñã³Ï³Ý å³ï³ëË³Ý³ïíáõÃÛ³Ý »ÝÃ³ñÏí³Í ³ÝÓ³Ýó ÃíÇ Ù³ëÇÝ
A3: îáÕÇ Ñ³Ù³ñÁ | B3: h/h | C3: Ð³ÛïÝ³µ»ñí³Í í³ñã³Ï³Ý Çñ³í³Ë³ËïáõÙÝ»ñÇ ù³Ý³ÏÁ | D3: ²ÝÓ³Ýó Ãí³ù³Ý³ÏÁ, áñáÝó í»ñ³µ»ñÛ³É Ï³Û³óí»É »Ý áñáßáõÙÝ»ñ (í×ÇéÝ»ñ) | E3: ³Û¹ ÃíáõÙ Ï³Û³óí»É »Ý áñáßáõÙÝ»ñ (í×ÇéÝ»ñ) | I3: ÎÇñ³éí»É »Ý í³ñã³Ï³Ý ïáõÛÅ»ñ /ëÛáõÝ³Ï 3-Çó/ | P3: îáõ·³ÝùÇ ·áõÙ³ñÁ /Ñ³½. ¹ñ³Ù/ | R3: ì³Õ»ÙáõÃÛ³Ý Å³ÙÏ»ïÝ ³ÝóÝ»Éáõ Ï³å³ÏóáõÃÛ³Ùµ ãÏ³ï³ñí³Í áñáßáõÙÝ»ñÇ (í×ÇéÝ»ñÇ) ù³Ý³ÏÁ
E4: í³ñã³Ï³Ý ïáõÛÅ»ñÇ »ÝÃ³ñÏ»Éáõ Ù³ëÇÝ | F4: í³ñã³Ï³Ý ·áñÍÇ í³ñáõÛÃÇ Ï³ñ×Ù³Ýª Ï³åí³Í
F5: Ñ³ë³ñ³Ï³Ï³Ý Ï³½Ù³Ï»ñåáõÃÛ³Ý, ³ßË³ï³Ýù³ÛÇÝ ÏáÉ»ÏïÇíÇ ùÝÝ³ñÏÙ³ÝÁ ÝÛáõÃ»ñÇ Ñ³ÝÓÝÙ³Ý Ñ»ï | G5: ¹³ï³Ë³½ÇÝ Ý³Ë³ùÝÝ³Ï³Ý Ï³Ù Ñ»ï³ùÝÝ³Ï³Ý ÝÛáõÃ»ñÇ Ñ³ÝÓÝÙ³Ý Ñ»ï | H5: ³ÛÉ Ñ³Ý·³Ù³ÝùÝ»ñÇ Ñ»ï | I5: Ý³Ë³½·áõß³óáõÙ | J5: ïáõ·³Ýù | K5: ³é³ñÏ³ÛÇ µéÝ³·ñ³íáõÙ | L5: ³é³ñÏ³ÛÇ Ñ³ïáõóÙ³Ùµ í»ñóÝ»ÉÁ | M5: Ñ³ïáõÏ Çñ³íáõÝùÇó ½ñÏáõÙ | N5: áõÕÕÇã ³ßË³ï³Ýù | O5: í³ñã³Ï³Ý Ï³É³Ýù | P5: Ýß³Ý³Ïí»É ¿ | Q5: ·³ÝÓí»É ¿
A6: ² | B6: ´ | C6: 1 | D6: 2 | E6: 3 | F6: 4 | G6: 5 | H6: 6 | I6: 7 | J6: 8 | K6: 9 | L6: 10 | M6: 11 | N6: 12 | O6: 13 | P6: 14 | Q6: 15 | R6: 16
A7: 1 | B7: 40.6 | C7: 3 | D7: 3 | E7: 3 | J7: 3 | P7: 190000 | Q7: 50000
A8: 2 | B8: 40.1 | C8: 1 | D8: 1 | E8: 1 | J8: 1 | P8: 200000 | Q8: 200000
A9: 3 | B9: 53 | C9: 2 | D9: 2 | E9: 1 | J9: 2 | P9: 23000 | Q9: 23000
A10: 4 | B10: 71-72
A11: 5 | B11: 172
A12: 6 | B12: 175
A13: 7 | B13: 180.1
A14: 8 | B14: 181
A15: 9 | B15: 182 | C15: =SUM(Marzer!C15+Erevan!C15) -> 40 | D15: =SUM(Marzer!D15+Erevan!D15) -> 46 | E15: =SUM(Marzer!E15+Erevan!E15) -> 29 | H15: =SUM(Erevan!H15) -> 3 | J15: =SUM(Marzer!J15+Erevan!J15) -> 42 | P15: =SUM(Marzer!P15+Erevan!P15) -> 854000 | Q15: =SUM(Marzer!Q15+Erevan!Q15) -> 694098
A16: 10 | B16: 185
A17: 11 | B17: 189.1 | C17: 1 | D17: 1 | E17: 1
A18: 12 | B18: 189.3
A19: 13 | B19: 206
A20: 14 | B20: 206.1
A21: 15 | B21: 206.5
A22: 16 | B22: 206.6
A23: 17 | B23: 206.7
A24: 18 | B24: 223
A25: 19 | B25: 282
A26: ÀÝ¹³Ù»ÝÁ | C26: =SUM(C7:C25) -> 47 | D26: =SUM(D7:D25) -> 53 | E26: =SUM(E7:E25) -> 35 | H26: =SUM(H7:H25) -> 3 | J26: =SUM(J7:J25) -> 48 | P26: =SUM(P7:P25) -> 1267000 | Q26: =SUM(Q7:Q25) -> 967098

Sheet Marzer
A1: ÐÐ Ù³ñ½»ñÇ ³é³çÇÝ ³ïÛ³ÝÇ ¹³ï³ñ³ÝÝ»ñÇ 2007Ã. Ñ³ßí»ïíáõÃÛáõÝ í³ñã³Ï³Ý Çñ³í³Ë³ËïáõÙÝ»ñÇ ¨ í³ñã³Ï³Ý å³ï³ëË³Ý³ïíáõÃÛ³Ý »ÝÃ³ñÏí³Í ³ÝÓ³Ýó ÃíÇ Ù³ëÇÝ
A3: îáÕÇ Ñ³Ù³ñÁ | B3: h/h | C3: Ð³ÛïÝ³µ»ñí³Í í³ñã³Ï³Ý Çñ³í³Ë³ËïáõÙ Ý»ñÇ ù³Ý³ÏÁ | D3: ²ÝÓ³Ýó Ãí³ù³Ý³ÏÁ, áñáÝó í»ñ³µ»ñÛ³É Ï³Û³óí»É »Ý áñáßáõÙÝ»ñ (í×ÇéÝ»ñ) | E3: ³Û¹ ÃíáõÙ Ï³Û³óí»É »Ý áñáßáõÙÝ»ñ (í×ÇéÝ»ñ) | I3: ÎÇñ³éí»É »Ý í³ñã³Ï³Ý ïáõÛÅ»ñ /ëÛáõÝ³Ï 3-Çó/ | P3: îáõ·³ÝùÇ ·áõÙ³ñÁ /Ñ³½. ¹ñ³Ù/
E4: í³ñã³Ï³Ý ïáõÛÅ»ñÇ »ÝÃ³ñÏ»Éáõ Ù³ëÇÝ | F4: í³ñã³Ï³Ý ·áñÍÇ í³ñáõÛÃÁ Ï³ñ×»Éáõ Ù³ëÇÝ Ï³åí³Í
F5: Ñ³ë³ñ³Ï³Ï³Ý Ï³½Ù³Ï»ñåáõÃÛ³Ý, ³ßË³ï³Ýù³ÛÇÝ ÏáÉ»ÏïÇíÇ ùÝÝ³ñÏÙ³ÝÁ ÝÛáõÃ»ñÇ Ñ³ÝÓÝÙ³Ý Ñ»ï | G5: ¹³ï³Ë³½ÇÝ Ý³Ë³ùÝÝ³Ï³Ý Ï³Ù Ñ»ï³ùÝÝ³Ï³Ý ÝÛáõÃ»ñÇ Ñ³ÝÓÝÙ³Ý Ñ»ï | H5: ³ÛÉ Ñ³Ý·³Ù³ÝùÝ»ñÇ Ñ»ï | I5: Ý³Ë³½·áõß³óáõÙ | J5: ïáõ·³Ýù | K5: ³é³ñÏ³ÛÇ µéÝ³·ñ³íáõÙ | L5: ³é³ñÏ³ÛÇ Ñ³ïáõóÙ³Ùµ í»ñóÝ»ÉÁ | M5: Ñ³ïáõÏ Çñ³íáõÝùÇó ½ñÏáõÙ | N5: áõÕÕÇã ³ßË³ï³Ýù | O5: í³ñã³Ï³Ý Ï³É³Ýù | P5: Ýß³Ý³Ïí»É ¿ | Q5: ·³ÝÓí»É ¿
A6: ² | B6: ´ | C6: 1 | D6: 2 | E6: 3 | F6: 4 | G6: 5 | H6: 6 | I6: 7 | J6: 8 | K6: 9 | L6: 10 | M6: 11 | N6: 12 | O6: 13 | P6: 14 | Q6: 15
A7: 1 | B7: 40.6 | C7: 3 | D7: 3 | E7: 3 | J7: 3 | P7: 190000 | Q7: 50000
A8: 2 | B8: 40.1 | C8: 1 | D8: 1 | E8: 1 | J8: 1 | P8: 200000 | Q8: 200000
A9: 3 | B9: 53 | C9: 2 | D9: 2 | E9: 1 | J9: 2 | P9: 23000 | Q9: 23000
A10: 4 | B10: 71-72
A11: 5 | B11: 172
A12: 6 | B12: 175
A13: 7 | B13: 180.1
A14: 8 | B14: 181
A15: 9 | B15: 182 | C15: 16 | D15: 18 | E15: 12 | J15: 16 | P15: =SUM(Shirak!P15+VDz!P15+Suniq!P15+Lori!P15+Gex!P15+Kotaik!P15+Armavir!P15+Ararat!P15+Aragacotn!P15+Tavush!P15) -> 415000 | Q15: =SUM(Shirak!Q15+Suniq!Q15+Lori!Q15+Gex!Q15+Kotaik!Q15+Armavir!Q15+Ararat!Q15+Aragacotn!Q15+Tavush!Q15 ) -> 255000
A16: 10 | B16: 185
A17: 11 | B17: 189.1
A18: 12 | B18: 189.3
A19: 13 | B19: 206
A20: 14 | B20: 206.1
A21: 15 | B21: 206.5
A22: 16 | B22: 206.6
A23: 17 | B23: 206.7
A24: 18 | B24: 223
A25: 19 | B25: 282
A26: ÀÝ¹³Ù»ÝÁ | C26: =SUM(C7:C25) -> 22 | D26: =SUM(D7:D25) -> 24 | E26: =SUM(E7:E25) -> 17 | J26: =SUM(J7:J25) -> 22 | P26: =SUM(P7:P25) -> 828000 | Q26: =SUM(Q7:Q25) -> 528000

Sheet Erevan
A1: ºñ¨³Ý ù³Õ³ùÇ ³é³çÇÝ ³ïÛ³ÝÇ ¹ï³ñ³ÝÝ»ñÇ 2007Ã. Ñ³ßí»ïíáõÃÛáõÝ í³ñã³Ï³Ý Çñ³í³Ë³ËïáõÙÝ»ñÇ ¨ í³ñã³Ï³Ý å³ï³ëË³Ý³ïíáõÃÛ³Ý »ÝÃ³ñÏí³Í ³ÝÓ³Ýó ÃíÇ Ù³ëÇÝ
A3: îáÕÇ Ñ³Ù³ñÁ | B3: h/h | C3: Ð³ÛïÝ³µ»ñí³Í í³ñã³Ï³Ý Çñ³í³Ë³ËïáõÙ Ý»ñÇ ù³Ý³ÏÁ | D3: ²ÝÓ³Ýó Ãí³ù³Ý³ÏÁ, áñáÝó í»ñ³µ»ñÛ³É Ï³Û³óí»É »Ý áñáßáõÙÝ»ñ (í×ÇéÝ»ñ) | E3: ³Û¹ ÃíáõÙ Ï³Û³óí»É »Ý áñáßáõÙÝ»ñ (í×ÇéÝ»ñ) | I3: ÎÇñ³éí»É »Ý í³ñã³Ï³Ý ïáõÛÅ»ñ /ëÛáõÝ³Ï 3-Çó/ | P3: îáõ·³ÝùÇ ·áõÙ³ñÁ /Ñ³½. ¹ñ³Ù/
E4: í³ñã³Ï³Ý ïáõÛÅ»ñÇ »ÝÃ³ñÏ»Éáõ Ù³ëÇÝ | F4: í³ñã³Ï³Ý ·áñÍÇ í³ñáõÛÃÁ Ï³ñ×»Éáõ Ù³ëÇÝ Ï³åí³Í
F5: Ñ³ë³ñ³Ï³Ï³Ý Ï³½Ù³Ï»ñåáõÃÛ³Ý, ³ßË³ï³Ýù³ÛÇÝ ÏáÉ»ÏïÇíÇ ùÝÝ³ñÏÙ³ÝÁ ÝÛáõÃ»ñÇ Ñ³ÝÓÝÙ³Ý Ñ»ï | G5: ¹³ï³Ë³½ÇÝ Ý³Ë³ùÝÝ³Ï³Ý Ï³Ù Ñ»ï³ùÝÝ³Ï³Ý ÝÛáõÃ»ñÇ Ñ³ÝÓÝÙ³Ý Ñ»ï | H5: ³ÛÉ Ñ³Ý·³Ù³ÝùÝ»ñÇ Ñ»ï | I5: Ý³Ë³½·áõß³óáõÙ | J5: ïáõ·³Ýù | K5: ³é³ñÏ³ÛÇ µéÝ³·ñ³íáõÙ | L5: ³é³ñÏ³ÛÇ Ñ³ïáõóÙ³Ùµ í»ñóÝ»ÉÁ | M5: Ñ³ïáõÏ Çñ³íáõÝùÇó ½ñÏáõÙ | N5: áõÕÕÇã ³ßË³ï³Ýù | O5: í³ñã³Ï³Ý Ï³É³Ýù | P5: Ýß³Ý³Ïí»É ¿ | Q5: ·³ÝÓí»É ¿
A6: ² | B6: ´ | C6: 1 | D6: 2 | E6: 3 | F6: 4 | G6: 5 | H6: 6 | I6: 7 | J6: 8 | K6: 9 | L6: 10 | M6: 11 | N6: 12 | O6: 13 | P6: 14 | Q6: 15
A7: 1 | B7: 35
A8: 2 | B8: 44
A9: 3 | B9: 53
A10: 4 | B10: 71-72
A11: 5 | B11: 172
A12: 6 | B12: 175
A13: 7 | B13: 180.1
A14: 8 | B14: 181
A15: 9 | B15: 182 | C15: 24 | D15: 28 | E15: 17 | H15: 3 | J15: 26 | P15: =SUM(Adjiapniak!P15+Kentron!P15+Arabkir!P15+Malatia!P15) -> 439000 | Q15: =SUM(C15:P15) -> 439098
A16: 10 | B16: 185
A17: 11 | B17: 189.1 | C17: 1 | D17: 1 | H17: 1
A18: 12 | B18: 189.3
A19: 13 | B19: 206
A20: 14 | B20: 206.1
A21: 15 | B21: 206.5
A22: 16 | B22: 206.6
A23: 17 | B23: 206.7
A24: 18 | B24: 223
A25: 19 | B25: 282
A26: ÀÝ¹³Ù»ÝÁ | C26: =SUM(C15:C25) -> 25 | D26: =SUM(D15:D25) -> 29 | E26: =SUM(E15:E25) -> 17 | H26: =SUM(H15:H25) -> 4 | J26: =SUM(J15:J25) -> 26 | P26: =SUM(P15:P25) -> 439000 | Q26: =SUM(C26:P26) -> 439101

Sheet Adjiapniak
A1: ºñ¨³Ý ù³Õ³ùÇ ²ç³÷ÝÛ³Ï ¨ ¸³íÃ³ß»Ý Ñ³Ù³ÛÝùÝ»ñÇ ³é³çÇÝ ³ïÛ³ÝÇ ¹³ï³ñ³ÝÇ 2007Ã.-Ç 1-ÇÝ ÏÇë³ÙÛ³ÏÇ Ñ³ßí»ïíáõÃÛáõÝ í³ñã³Ï³Ý Çñ³í³Ë³ËïáõÙÝ»ñÇ ¨ í³ñã³Ï³Ý å³ï³ëË³Ý³ïíáõÃÛ³Ý »ÝÃ³ñÏí³Í ³ÝÓ³Ýó ÃíÇ Ù³ëÇÝ
A3: îáÕÇ Ñ³Ù³ñÁ | B3: h/h | C3: Ð³ÛïÝ³µ»ñí³Í í³ñã³Ï³Ý Çñ³í³Ë³ËïáõÙ Ý»ñÇ ù³Ý³ÏÁ | D3: ²ÝÓ³Ýó Ãí³ù³Ý³ÏÁ, áñáÝó í»ñ³µ»ñÛ³É Ï³Û³óí»É »Ý áñáßáõÙÝ»ñ (í×ÇéÝ»ñ) | E3: ³Û¹ ÃíáõÙ Ï³Û³óí»É »Ý áñáßáõÙÝ»ñ (í×ÇéÝ»ñ) | I3: ÎÇñ³éí»É »Ý í³ñã³Ï³Ý ïáõÛÅ»ñ /ëÛáõÝ³Ï 3-Çó/ | P3: îáõ·³ÝùÇ ·áõÙ³ñÁ /Ñ³½. ¹ñ³Ù/
E4: í³ñã³Ï³Ý ïáõÛÅ»ñÇ »ÝÃ³ñÏ»Éáõ Ù³ëÇÝ | F4: í³ñã³Ï³Ý ·áñÍÇ í³ñáõÛÃÁ Ï³ñ×»Éáõ Ù³ëÇÝ Ï³åí³Í
F5: Ñ³ë³ñ³Ï³Ï³Ý Ï³½Ù³Ï»ñåáõÃÛ³Ý, ³ßË³ï³Ýù³ÛÇÝ ÏáÉ»ÏïÇíÇ ùÝÝ³ñÏÙ³ÝÁ ÝÛáõÃ»ñÇ Ñ³ÝÓÝÙ³Ý Ñ»ï | G5: ¹³ï³Ë³½ÇÝ Ý³Ë³ùÝÝ³Ï³Ý Ï³Ù Ñ»ï³ùÝÝ³Ï³Ý ÝÛáõÃ»ñÇ Ñ³ÝÓÝÙ³Ý Ñ»ï | H5: ³ÛÉ Ñ³Ý·³Ù³ÝùÝ»ñÇ Ñ»ï | I5: Ý³Ë³½·áõß³óáõÙ | J5: ïáõ·³Ýù | K5: ³é³ñÏ³ÛÇ µéÝ³·ñ³íáõÙ | L5: ³é³ñÏ³ÛÇ Ñ³ïáõóÙ³Ùµ í»ñóÝ»ÉÁ | M5: Ñ³ïáõÏ Çñ³íáõÝùÇó ½ñÏáõÙ | N5: áõÕÕÇã ³ßË³ï³Ýù | O5: í³ñã³Ï³Ý Ï³É³Ýù | P5: Ýß³Ý³Ïí»É ¿ | Q5: ·³ÝÓí»É ¿
A6: ² | B6: ´ | C6: 1 | D6: 2 | E6: 3 | F6: 4 | G6: 5 | H6: 6 | I6: 7 | J6: 8 | K6: 9 | L6: 10 | M6: 11 | N6: 12 | O6: 13 | P6: 14 | Q6: 15
A7: 1 | B7: 35
A8: 2 | B8: 44
A9: 3 | B9: 53
A10: 4 | B10: 71-72
A11: 5 | B11: 172
A12: 6 | B12: 175
A13: 7 | B13: 180.1
A14: 8 | B14: 181
A15: 9 | B15: 182 | C15: 5 | D15: 4 | E15: 4 | H15: 1 | J15: 4 | P15: 75500 | Q15: 55500
A16: 10 | B16: 185
A17: 11 | B17: 189.1
A18: 12 | B18: 189.3
A19: 13 | B19: 206
A20: 14 | B20: 206.1
A21: 15 | B21: 206.5
A22: 16 | B22: 206.6
A23: 17 | B23: 206.7
A24: 18 | B24: 223
A25: 19 | B25: 282
A26: ÀÝ¹³Ù»ÝÁ | C26: =SUM(C15:C25) -> 5 | D26: =SUM(D15:D25) -> 4 | E26: =SUM(E15:E25) -> 4 | H26: =SUM(H15:H25) -> 1 | J26: =SUM(J15:J25) -> 4 | P26: =SUM(P15:P25) -> 75500 | Q26: =SUM(Q15:Q25) -> 55500

Sheet Shengavit
A1: ºñ¨³Ý ù³Õ³ùÇ Þ»Ý·³íÇÃ Ñ³Ù³ÛÝùÇ ³é³çÇÝ ³ïÛ³ÝÇ ¹³ï³ñ³ÝÇ 2007Ã. Ñ³ßí»ïíáõÃÛáõÝ í³ñã³Ï³Ý Çñ³í³Ë³ËïáõÙÝ»ñÇ ¨ í³ñã³Ï³Ý å³ï³ëË³Ý³ïíáõÃÛ³Ý »ÝÃ³ñÏí³Í ³ÝÓ³Ýó ÃíÇ Ù³ëÇÝ
A3: îáÕÇ Ñ³Ù³ñÁ | B3: h/h | C3: Ð³ÛïÝ³µ»ñí³Í í³ñã³Ï³Ý Çñ³í³Ë³ËïáõÙ Ý»ñÇ ù³Ý³ÏÁ | D3: ²ÝÓ³Ýó Ãí³ù³Ý³ÏÁ, áñáÝó í»ñ³µ»ñÛ³É Ï³Û³óí»É »Ý áñáßáõÙÝ»ñ (í×ÇéÝ»ñ) | E3: ³Û¹ ÃíáõÙ Ï³Û³óí»É »Ý áñáßáõÙÝ»ñ (í×ÇéÝ»ñ) | I3: ÎÇñ³éí»É »Ý í³ñã³Ï³Ý ïáõÛÅ»ñ /ëÛáõÝ³Ï 3-Çó/ | P3: îáõ·³ÝùÇ ·áõÙ³ñÁ /Ñ³½. ¹ñ³Ù/
E4: í³ñã³Ï³Ý ïáõÛÅ»ñÇ »ÝÃ³ñÏ»Éáõ Ù³ëÇÝ | F4: í³ñã³Ï³Ý ·áñÍÇ í³ñáõÛÃÁ Ï³ñ×»Éáõ Ù³ëÇÝ Ï³åí³Í
F5: Ñ³ë³ñ³Ï³Ï³Ý Ï³½Ù³Ï»ñåáõÃÛ³Ý, ³ßË³ï³Ýù³ÛÇÝ ÏáÉ»ÏïÇíÇ ùÝÝ³ñÏÙ³ÝÁ ÝÛáõÃ»ñÇ Ñ³ÝÓÝÙ³Ý Ñ»ï | G5: ¹³ï³Ë³½ÇÝ Ý³Ë³ùÝÝ³Ï³Ý Ï³Ù Ñ»ï³ùÝÝ³Ï³Ý ÝÛáõÃ»ñÇ Ñ³ÝÓÝÙ³Ý Ñ»ï | H5: ³ÛÉ Ñ³Ý·³Ù³ÝùÝ»ñÇ Ñ»ï | I5: Ý³Ë³½·áõß³óáõÙ | J5: ïáõ·³Ýù | K5: ³é³ñÏ³ÛÇ µéÝ³·ñ³íáõÙ | L5: ³é³ñÏ³ÛÇ Ñ³ïáõóÙ³Ùµ í»ñóÝ»ÉÁ | M5: Ñ³ïáõÏ Çñ³íáõÝùÇó ½ñÏáõÙ | N5: áõÕÕÇã ³ßË³ï³Ýù | O5: í³ñã³Ï³Ý Ï³É³Ýù | P5: Ýß³Ý³Ïí»É ¿ | Q5: ·³ÝÓí»É ¿
A6: ² | B6: ´ | C6: 1 | D6: 2 | E6: 3 | F6: 4 | G6: 5 | H6: 6 | I6: 7 | J6: 8 | K6: 9 | L6: 10 | M6: 11 | N6: 12 | O6: 13 | P6: 14 | Q6: 15
A7: 1 | B7: 35
A8: 2 | B8: 44
A9: 3 | B9: 53
A10: 4 | B10: 71-72
A11: 5 | B11: 172
A12: 6 | B12: 175
A13: 7 | B13: 180.1
A14: 8 | B14: 181
A15: 9 | B15: 182
A16: 10 | B16: 185
A17: 11 | B17: 189.1
A18: 12 | B18: 189.3
A19: 13 | B19: 206
A20: 14 | B20: 206.1
A21: 15 | B21: 206.5
A22: 16 | B22: 206.6
A23: 17 | B23: 206.7
A24: 18 | B24: 223
A25: 19 | B25: 282
A26: ÀÝ¹³Ù»ÝÁ

Sheet Kentron
A1: ºñ¨³Ý ù³Õ³ùÇ Î»ÝïñáÝ ¨ Üáñù-Ø³ñ³ß Ñ³Ù³ÛÝùÝ»ñÇ ³é³çÇÝ ³ïÛ³ÝÇ ¹³ï³ñ³ÝÇ 2007Ã. 1-ÇÝ ÏÇë³ÙÛ³ÏÇ Ñ³ßí»ïíáõÃÛáõÝ í³ñã³Ï³Ý Çñ³í³Ë³ËïáõÙÝ»ñÇ ¨ í³ñã³Ï³Ý å³ï³ëË³Ý³ïíáõÃÛ³Ý »ÝÃ³ñÏí³Í ³ÝÓ³Ýó ÃíÇ Ù³ëÇÝ
A3: îáÕÇ Ñ³Ù³ñÁ | B3: h/h | C3: Ð³ÛïÝ³µ»ñí³Í í³ñã³Ï³Ý Çñ³í³Ë³ËïáõÙ Ý»ñÇ ù³Ý³ÏÁ | D3: ²ÝÓ³Ýó Ãí³ù³Ý³ÏÁ, áñáÝó í»ñ³µ»ñÛ³É Ï³Û³óí»É »Ý áñáßáõÙÝ»ñ (í×ÇéÝ»ñ) | E3: ³Û¹ ÃíáõÙ Ï³Û³óí»É »Ý áñáßáõÙÝ»ñ (í×ÇéÝ»ñ) | I3: ÎÇñ³éí»É »Ý í³ñã³Ï³Ý ïáõÛÅ»ñ /ëÛáõÝ³Ï 3-Çó/ | P3: îáõ·³ÝùÇ ·áõÙ³ñÁ /Ñ³½. ¹ñ³Ù/
E4: í³ñã³Ï³Ý ïáõÛÅ»ñÇ »ÝÃ³ñÏ»Éáõ Ù³ëÇÝ | F4: í³ñã³Ï³Ý ·áñÍÇ í³ñáõÛÃÁ Ï³ñ×»Éáõ Ù³ëÇÝ Ï³åí³Í
F5: Ñ³ë³ñ³Ï³Ï³Ý Ï³½Ù³Ï»ñåáõÃÛ³Ý, ³ßË³ï³Ýù³ÛÇÝ ÏáÉ»ÏïÇíÇ ùÝÝ³ñÏÙ³ÝÁ ÝÛáõÃ»ñÇ Ñ³ÝÓÝÙ³Ý Ñ»ï | G5: ¹³ï³Ë³½ÇÝ Ý³Ë³ùÝÝ³Ï³Ý Ï³Ù Ñ»ï³ùÝÝ³Ï³Ý ÝÛáõÃ»ñÇ Ñ³ÝÓÝÙ³Ý Ñ»ï | H5: ³ÛÉ Ñ³Ý·³Ù³ÝùÝ»ñÇ Ñ»ï | I5: Ý³Ë³½·áõß³óáõÙ | J5: ïáõ·³Ýù | K5: ³é³ñÏ³ÛÇ µéÝ³·ñ³íáõÙ | L5: ³é³ñÏ³ÛÇ Ñ³ïáõóÙ³Ùµ í»ñóÝ»ÉÁ | M5: Ñ³ïáõÏ Çñ³íáõÝùÇó ½ñÏáõÙ | N5: áõÕÕÇã ³ßË³ï³Ýù | O5: í³ñã³Ï³Ý Ï³É³Ýù | P5: Ýß³Ý³Ïí»É ¿ | Q5: ·³ÝÓí»É ¿
A6: ² | B6: ´ | C6: 1 | D6: 2 | E6: 3 | F6: 4 | G6: 5 | H6: 6 | I6: 7 | J6: 8 | K6: 9 | L6: 10 | M6: 11 | N6: 12 | O6: 13 | P6: 14 | Q6: 15
A7: 1 | B7: 35
A8: 2 | B8: 44
A9: 3 | B9: 53
A10: 4 | B10: 71-72
A11: 5 | B11: 172
A12: 6 | B12: 175
A13: 7 | B13: 180.1
A14: 8 | B14: 181
A15: 9 | B15: 182 | C15: 5 | D15: 9 | E15: 7 | H15: 2 | J15: 7 | P15: 130000 | Q15: 130000
A16: 10 | B16: 185
A17: 11 | B17: 189.1
A18: 12 | B18: 189.3
A19: 13 | B19: 206
A20: 14 | B20: 206.1
A21: 15 | B21: 206.5
A22: 16 | B22: 206.6
A23: 17 | B23: 206.7
A24: 18 | B24: 223
A25: 19 | B25: 282
A26: ÀÝ¹³Ù»ÝÁ | C26: =SUM(C15:C25) -> 5 | D26: =SUM(D15:D25) -> 9 | E26: =SUM(E15:E25) -> 7 | H26: =SUM(H15:H25) -> 2 | J26: =SUM(J15:J25) -> 7 | P26: =SUM(P15:P25) -> 130000 | Q26: =SUM(Q15:Q25) -> 130000

Sheet Arabkir
A1: ºñ¨³Ý ù³Õ³ùÇ ²ñ³µÏÇñ ¨ ø³Ý³ù»é-¼»ÛÃáõÝ Ñ³Ù³ÛÝùÝ»ñÇ ³é³çÇÝ ³ïÛ³ÝÇ ¹³ï³ñ³ÝÇ 2007Ã 1-ÇÝ ÏÇë³ÙÛ³ÏÇ . Ñ³ßí»ïíáõÃÛáõÝ í³ñã³Ï³Ý Çñ³í³Ë³ËïáõÙÝ»ñÇ ¨ í³ñã³Ï³Ý å³ï³ëË³Ý³ïíáõÃÛ³Ý »ÝÃ³ñÏí³Í ³ÝÓ³Ýó ÃíÇ Ù³ëÇÝ
A3: îáÕÇ Ñ³Ù³ñÁ | B3: h/h | C3: Ð³ÛïÝ³µ»ñí³Í í³ñã³Ï³Ý Çñ³í³Ë³ËïáõÙ Ý»ñÇ ù³Ý³ÏÁ | D3: ²ÝÓ³Ýó Ãí³ù³Ý³ÏÁ, áñáÝó í»ñ³µ»ñÛ³É Ï³Û³óí»É »Ý áñáßáõÙÝ»ñ (í×ÇéÝ»ñ) | E3: ³Û¹ ÃíáõÙ Ï³Û³óí»É »Ý áñáßáõÙÝ»ñ (í×ÇéÝ»ñ) | I3: ÎÇñ³éí»É »Ý í³ñã³Ï³Ý ïáõÛÅ»ñ /ëÛáõÝ³Ï 3-Çó/ | P3: îáõ·³ÝùÇ ·áõÙ³ñÁ /Ñ³½. ¹ñ³Ù/
E4: í³ñã³Ï³Ý ïáõÛÅ»ñÇ »ÝÃ³ñÏ»Éáõ Ù³ëÇÝ | F4: í³ñã³Ï³Ý ·áñÍÇ í³ñáõÛÃÁ Ï³ñ×»Éáõ Ù³ëÇÝ Ï³åí³Í
F5: Ñ³ë³ñ³Ï³Ï³Ý Ï³½Ù³Ï»ñåáõÃÛ³Ý, ³ßË³ï³Ýù³ÛÇÝ ÏáÉ»ÏïÇíÇ ùÝÝ³ñÏÙ³ÝÁ ÝÛáõÃ»ñÇ Ñ³ÝÓÝÙ³Ý Ñ»ï | G5: ¹³ï³Ë³½ÇÝ Ý³Ë³ùÝÝ³Ï³Ý Ï³Ù Ñ»ï³ùÝÝ³Ï³Ý ÝÛáõÃ»ñÇ Ñ³ÝÓÝÙ³Ý Ñ»ï | H5: ³ÛÉ Ñ³Ý·³Ù³ÝùÝ»ñÇ Ñ»ï | I5: Ý³Ë³½·áõß³óáõÙ | J5: ïáõ·³Ýù | K5: ³é³ñÏ³ÛÇ µéÝ³·ñ³íáõÙ | L5: ³é³ñÏ³ÛÇ Ñ³ïáõóÙ³Ùµ í»ñóÝ»ÉÁ | M5: Ñ³ïáõÏ Çñ³íáõÝùÇó ½ñÏáõÙ | N5: áõÕÕÇã ³ßË³ï³Ýù | O5: í³ñã³Ï³Ý Ï³É³Ýù | P5: Ýß³Ý³Ïí»É ¿ | Q5: ·³ÝÓí»É ¿
A6: ² | B6: ´ | C6: 1 | D6: 2 | E6: 3 | F6: 4 | G6: 5 | H6: 6 | I6: 7 | J6: 8 | K6: 9 | L6: 10 | M6: 11 | N6: 12 | O6: 13 | P6: 14 | Q6: 15
A7: 1 | B7: 35
A8: 2 | B8: 44
A9: 3 | B9: 53
A10: 4 | B10: 71-72
A11: 5 | B11: 172
A12: 6 | B12: 175
A13: 7 | B13: 180.1
A14: 8 | B14: 181
A15: 9 | B15: 182 | C15: 5 | D15: 6 | E15: 6 | J15: 6 | P15: 98500 | Q15: 98500
A16: 10 | B16: 185
A17: 11 | B17: 189 | C17: 1 | D17: 1 | H17: 1
A18: 12 | B18: 189.2
A19: 13 | B19: 206
A20: 14 | B20: 206.1
A21: 15 | B21: 206.5
A22: 16 | B22: 206.6
A23: 17 | B23: 206.7
A24: 18 | B24: 223
A25: 19 | B25: 282
A26: ÀÝ¹³Ù»ÝÁ | C26: =SUM(C15:C25) -> 6 | D26: =SUM(D15:D25) -> 7 | E26: =SUM(E15:E25) -> 6 | H26: =SUM(H15:H25) -> 1 | J26: =SUM(J15:J25) -> 6 | P26: =SUM(P15:P25) -> 98500 | Q26: =SUM(Q15:Q25) -> 98500

Sheet Erebuni
A1: ºñ¨³Ý ù³Õ³ùÇ ¾ñ»µáõÝÇ-Üáõµ³ñ³ß»Ý Ñ³Ù³ÛÝùÝ»ñÇ ³é³çÇÝ ³ïÛ³ÝÇ ¹³ï³ñ³ÝÇ 2007Ã. Ñ³ßí»ïíáõÃÛáõÝ í³ñã³Ï³Ý Çñ³í³Ë³ËïáõÙÝ»ñÇ ¨ í³ñã³Ï³Ý å³ï³ëË³Ý³ïíáõÃÛ³Ý »ÝÃ³ñÏí³Í ³ÝÓ³Ýó ÃíÇ Ù³ëÇÝ
A3: îáÕÇ Ñ³Ù³ñÁ | B3: h/h | C3: Ð³ÛïÝ³µ»ñí³Í í³ñã³Ï³Ý Çñ³í³Ë³ËïáõÙ Ý»ñÇ ù³Ý³ÏÁ | D3: ²ÝÓ³Ýó Ãí³ù³Ý³ÏÁ, áñáÝó í»ñ³µ»ñÛ³É Ï³Û³óí»É »Ý áñáßáõÙÝ»ñ (í×ÇéÝ»ñ) | E3: ³Û¹ ÃíáõÙ Ï³Û³óí»É »Ý áñáßáõÙÝ»ñ (í×ÇéÝ»ñ) | I3: ÎÇñ³éí»É »Ý í³ñã³Ï³Ý ïáõÛÅ»ñ /ëÛáõÝ³Ï 3-Çó/ | P3: îáõ·³ÝùÇ ·áõÙ³ñÁ /Ñ³½. ¹ñ³Ù/
E4: í³ñã³Ï³Ý ïáõÛÅ»ñÇ »ÝÃ³ñÏ»Éáõ Ù³ëÇÝ | F4: í³ñã³Ï³Ý ·áñÍÇ í³ñáõÛÃÁ Ï³ñ×»Éáõ Ù³ëÇÝ Ï³åí³Í
F5: Ñ³ë³ñ³Ï³Ï³Ý Ï³½Ù³Ï»ñåáõÃÛ³Ý, ³ßË³ï³Ýù³ÛÇÝ ÏáÉ»ÏïÇíÇ ùÝÝ³ñÏÙ³ÝÁ ÝÛáõÃ»ñÇ Ñ³ÝÓÝÙ³Ý Ñ»ï | G5: ¹³ï³Ë³½ÇÝ Ý³Ë³ùÝÝ³Ï³Ý Ï³Ù Ñ»ï³ùÝÝ³Ï³Ý ÝÛáõÃ»ñÇ Ñ³ÝÓÝÙ³Ý Ñ»ï | H5: ³ÛÉ Ñ³Ý·³Ù³ÝùÝ»ñÇ Ñ»ï | I5: Ý³Ë³½·áõß³óáõÙ | J5: ïáõ·³Ýù | K5: ³é³ñÏ³ÛÇ µéÝ³·ñ³íáõÙ | L5: ³é³ñÏ³ÛÇ Ñ³ïáõóÙ³Ùµ í»ñóÝ»ÉÁ | M5: Ñ³ïáõÏ Çñ³íáõÝùÇó ½ñÏáõÙ | N5: áõÕÕÇã ³ßË³ï³Ýù | O5: í³ñã³Ï³Ý Ï³É³Ýù | P5: Ýß³Ý³Ïí»É ¿ | Q5: ·³ÝÓí»É ¿
A6: ² | B6: ´ | C6: 1 | D6: 2 | E6: 3 | F6: 4 | G6: 5 | H6: 6 | I6: 7 | J6: 8 | K6: 9 | L6: 10 | M6: 11 | N6: 12 | O6: 13 | P6: 14 | Q6: 15
A7: 1 | B7: 35
A8: 2 | B8: 44
A9: 3 | B9: 53
A10: 4 | B10: 71-72
A11: 5 | B11: 172
A12: 6 | B12: 175
A13: 7 | B13: 180.1
A14: 8 | B14: 181
A15: 9 | B15: 182
A16: 10 | B16: 185
A17: 11 | B17: 189.1
A18: 12 | B18: 189.3
A19: 13 | B19: 206
A20: 14 | B20: 206.1
A21: 15 | B21: 206.5
A22: 16 | B22: 206.6
A23: 17 | B23: 206.7
A24: 18 | B24: 223
A25: 19 | B25: 282
A26: ÀÝ¹³Ù»ÝÁ

Sheet Avan
A1: ºñ¨³Ý ù³Õ³ùÇ ²í³Ý ¨ Üáñ-Üáñù Ñ³Ù³ÛÝùÝ»ñÇ ³é³çÇÝ ³ïÛ³ÝÇ ¹³ï³ñ³ÝÇ 2007Ã. Ñ³ßí»ïíáõÃÛáõÝ í³ñã³Ï³Ý Çñ³í³Ë³ËïáõÙÝ»ñÇ ¨ í³ñã³Ï³Ý å³ï³ëË³Ý³ïíáõÃÛ³Ý »ÝÃ³ñÏí³Í ³ÝÓ³Ýó ÃíÇ Ù³ëÇÝ
A3: îáÕÇ Ñ³Ù³ñÁ | B3: h/h | C3: Ð³ÛïÝ³µ»ñí³Í í³ñã³Ï³Ý Çñ³í³Ë³ËïáõÙ Ý»ñÇ ù³Ý³ÏÁ | D3: ²ÝÓ³Ýó Ãí³ù³Ý³ÏÁ, áñáÝó í»ñ³µ»ñÛ³É Ï³Û³óí»É »Ý áñáßáõÙÝ»ñ (í×ÇéÝ»ñ) | E3: ³Û¹ ÃíáõÙ Ï³Û³óí»É »Ý áñáßáõÙÝ»ñ (í×ÇéÝ»ñ) | I3: ÎÇñ³éí»É »Ý í³ñã³Ï³Ý ïáõÛÅ»ñ /ëÛáõÝ³Ï 3-Çó/ | P3: îáõ·³ÝùÇ ·áõÙ³ñÁ /Ñ³½. ¹ñ³Ù/
E4: í³ñã³Ï³Ý ïáõÛÅ»ñÇ »ÝÃ³ñÏ»Éáõ Ù³ëÇÝ | F4: í³ñã³Ï³Ý ·áñÍÇ í³ñáõÛÃÁ Ï³ñ×»Éáõ Ù³ëÇÝ Ï³åí³Í
F5: Ñ³ë³ñ³Ï³Ï³Ý Ï³½Ù³Ï»ñåáõÃÛ³Ý, ³ßË³ï³Ýù³ÛÇÝ ÏáÉ»ÏïÇíÇ ùÝÝ³ñÏÙ³ÝÁ ÝÛáõÃ»ñÇ Ñ³ÝÓÝÙ³Ý Ñ»ï | G5: ¹³ï³Ë³½ÇÝ Ý³Ë³ùÝÝ³Ï³Ý Ï³Ù Ñ»ï³ùÝÝ³Ï³Ý ÝÛáõÃ»ñÇ Ñ³ÝÓÝÙ³Ý Ñ»ï | H5: ³ÛÉ Ñ³Ý·³Ù³ÝùÝ»ñÇ Ñ»ï | I5: Ý³Ë³½·áõß³óáõÙ | J5: ïáõ·³Ýù | K5: ³é³ñÏ³ÛÇ µéÝ³·ñ³íáõÙ | L5: ³é³ñÏ³ÛÇ Ñ³ïáõóÙ³Ùµ í»ñóÝ»ÉÁ | M5: Ñ³ïáõÏ Çñ³íáõÝùÇó ½ñÏáõÙ | N5: áõÕÕÇã ³ßË³ï³Ýù | O5: í³ñã³Ï³Ý Ï³É³Ýù | P5: Ýß³Ý³Ïí»É ¿ | Q5: ·³ÝÓí»É ¿
A6: ² | B6: ´ | C6: 1 | D6: 2 | E6: 3 | F6: 4 | G6: 5 | H6: 6 | I6: 7 | J6: 8 | K6: 9 | L6: 10 | M6: 11 | N6: 12 | O6: 13 | P6: 14 | Q6: 15
A7: 1 | B7: 35
A8: 2 | B8: 44
A9: 3 | B9: 53
A10: 4 | B10: 71-72
A11: 5 | B11: 172
A12: 6 | B12: 175
A13: 7 | B13: 180.1
A14: 8 | B14: 181
A15: 9 | B15: 182
A16: 10 | B16: 185
A17: 11 | B17: 189.1
A18: 12 | B18: 189.3
A19: 13 | B19: 206
A20: 14 | B20: 206.1
A21: 15 | B21: 206.5
A22: 16 | B22: 206.6
A23: 17 | B23: 206.7
A24: 18 | B24: 223
A25: 19 | B25: 282
A26: ÀÝ¹³Ù»ÝÁ

Sheet Malatia
A1: ºñ¨³Ý ù³Õ³ùÇ Ø³É³ÃÇ³-ê»µ³ëïÇ³ Ñ³Ù³ÛÝùÇ ³é³çÇÝ ³ïÛ³ÝÇ ¹³ï³ñ³ÝÇ 2007Ã.1-ÇÝ ÏÇë³ÙÛ³ÏÇ Ñ³ßí»ïíáõÃÛáõÝ í³ñã³Ï³Ý Çñ³í³Ë³ËïáõÙÝ»ñÇ ¨ í³ñã³Ï³Ý å³ï³ëË³Ý³ïíáõÃÛ³Ý »ÝÃ³ñÏí³Í ³ÝÓ³Ýó ÃíÇ Ù³ëÇÝ
A3: îáÕÇ Ñ³Ù³ñÁ | B3: h/h | C3: Ð³ÛïÝ³µ»ñí³Í í³ñã³Ï³Ý Çñ³í³Ë³ËïáõÙ Ý»ñÇ ù³Ý³ÏÁ | D3: ²ÝÓ³Ýó Ãí³ù³Ý³ÏÁ, áñáÝó í»ñ³µ»ñÛ³É Ï³Û³óí»É »Ý áñáßáõÙÝ»ñ (í×ÇéÝ»ñ) | E3: ³Û¹ ÃíáõÙ Ï³Û³óí»É »Ý áñáßáõÙÝ»ñ (í×ÇéÝ»ñ) | I3: ÎÇñ³éí»É »Ý í³ñã³Ï³Ý ïáõÛÅ»ñ /ëÛáõÝ³Ï 3-Çó/ | P3: îáõ·³ÝùÇ ·áõÙ³ñÁ /Ñ³½. ¹ñ³Ù/
E4: í³ñã³Ï³Ý ïáõÛÅ»ñÇ »ÝÃ³ñÏ»Éáõ Ù³ëÇÝ | F4: í³ñã³Ï³Ý ·áñÍÇ í³ñáõÛÃÁ Ï³ñ×»Éáõ Ù³ëÇÝ Ï³åí³Í
F5: Ñ³ë³ñ³Ï³Ï³Ý Ï³½Ù³Ï»ñåáõÃÛ³Ý, ³ßË³ï³Ýù³ÛÇÝ ÏáÉ»ÏïÇíÇ ùÝÝ³ñÏÙ³ÝÁ ÝÛáõÃ»ñÇ Ñ³ÝÓÝÙ³Ý Ñ»ï | G5: ¹³ï³Ë³½ÇÝ Ý³Ë³ùÝÝ³Ï³Ý Ï³Ù Ñ»ï³ùÝÝ³Ï³Ý ÝÛáõÃ»ñÇ Ñ³ÝÓÝÙ³Ý Ñ»ï | H5: ³ÛÉ Ñ³Ý·³Ù³ÝùÝ»ñÇ Ñ»ï | I5: Ý³Ë³½·áõß³óáõÙ | J5: ïáõ·³Ýù | K5: ³é³ñÏ³ÛÇ µéÝ³·ñ³íáõÙ | L5: ³é³ñÏ³ÛÇ Ñ³ïáõóÙ³Ùµ í»ñóÝ»ÉÁ | M5: Ñ³ïáõÏ Çñ³íáõÝùÇó ½ñÏáõÙ | N5: áõÕÕÇã ³ßË³ï³Ýù | O5: í³ñã³Ï³Ý Ï³É³Ýù | P5: Ýß³Ý³Ïí»É ¿ | Q5: ·³ÝÓí»É ¿
A6: ² | B6: ´ | C6: 1 | D6: 2 | E6: 3 | F6: 4 | G6: 5 | H6: 6 | I6: 7 | J6: 8 | K6: 9 | L6: 10 | M6: 11 | N6: 12 | O6: 13 | P6: 14 | Q6: 15
A7: 1 | B7: 35
A8: 2 | B8: 44
A9: 3 | B9: 53
A10: 4 | B10: 71-72
A11: 5 | B11: 172
A12: 6 | B12: 175
A13: 7 | B13: 180.1
A14: 8 | B14: 181
A15: 9 | B15: 182 | C15: 9 | D15: 9 | J15: 9 | P15: 135000 | Q15: 125000
A16: 10 | B16: 185
A17: 11 | B17: 189.1
A18: 12 | B18: 189.3
A19: 13 | B19: 206
A20: 14 | B20: 206.1
A21: 15 | B21: 206.5
A22: 16 | B22: 206.6
A23: 17 | B23: 206.7
A24: 18 | B24: 223
A25: 19 | B25: 282
A26: ÀÝ¹³Ù»ÝÁ | C26: =SUM(C15:C25) -> 9 | D26: =SUM(D15:D25) -> 9 | J26: =SUM(J15:J25) -> 9 | P26: =SUM(P15:P25) -> 135000 | Q26: =SUM(Q15:Q25) -> 125000

Sheet Shirak
A1: ÐÐ ÞÇñ³ÏÇ Ù³ñ½Ç ³é³çÇÝ ³ïÛ³ÝÇ ¹³ï³ñ³ÝÇ 2007Ã.1-ին կիսամյակի Ñ³ßí»ïíáõÃÛáõÝ í³ñã³Ï³Ý Çñ³í³Ë³ËïáõÙÝ»ñÇ ¨ í³ñã³Ï³Ý å³ï³ëË³Ý³ïíáõÃÛ³Ý »ÝÃ³ñÏí³Í ³ÝÓ³Ýó ÃíÇ Ù³ëÇÝ
A3: îáÕÇ Ñ³Ù³ñÁ | B3: h/h | C3: Ð³ÛïÝ³µ»ñí³Í í³ñã³Ï³Ý Çñ³í³Ë³ËïáõÙ Ý»ñÇ ù³Ý³ÏÁ | D3: ²ÝÓ³Ýó Ãí³ù³Ý³ÏÁ, áñáÝó í»ñ³µ»ñÛ³É Ï³Û³óí»É »Ý áñáßáõÙÝ»ñ (í×ÇéÝ»ñ) | E3: ³Û¹ ÃíáõÙ Ï³Û³óí»É »Ý áñáßáõÙÝ»ñ (í×ÇéÝ»ñ) | I3: ÎÇñ³éí»É »Ý í³ñã³Ï³Ý ïáõÛÅ»ñ /ëÛáõÝ³Ï 3-Çó/ | P3: îáõ·³ÝùÇ ·áõÙ³ñÁ /Ñ³½. ¹ñ³Ù/
E4: í³ñã³Ï³Ý ïáõÛÅ»ñÇ »ÝÃ³ñÏ»Éáõ Ù³ëÇÝ | F4: í³ñã³Ï³Ý ·áñÍÇ í³ñáõÛÃÁ Ï³ñ×»Éáõ Ù³ëÇÝ Ï³åí³Í
F5: Ñ³ë³ñ³Ï³Ï³Ý Ï³½Ù³Ï»ñåáõÃÛ³Ý, ³ßË³ï³Ýù³ÛÇÝ ÏáÉ»ÏïÇíÇ ùÝÝ³ñÏÙ³ÝÁ ÝÛáõÃ»ñÇ Ñ³ÝÓÝÙ³Ý Ñ»ï | G5: ¹³ï³Ë³½ÇÝ Ý³Ë³ùÝÝ³Ï³Ý Ï³Ù Ñ»ï³ùÝÝ³Ï³Ý ÝÛáõÃ»ñÇ Ñ³ÝÓÝÙ³Ý Ñ»ï | H5: ³ÛÉ Ñ³Ý·³Ù³ÝùÝ»ñÇ Ñ»ï | I5: Ý³Ë³½·áõß³óáõÙ | J5: ïáõ·³Ýù | K5: ³é³ñÏ³ÛÇ µéÝ³·ñ³íáõÙ | L5: ³é³ñÏ³ÛÇ Ñ³ïáõóÙ³Ùµ í»ñóÝ»ÉÁ | M5: Ñ³ïáõÏ Çñ³íáõÝùÇó ½ñÏáõÙ | N5: áõÕÕÇã ³ßË³ï³Ýù | O5: í³ñã³Ï³Ý Ï³É³Ýù | P5: Ýß³Ý³Ïí»É ¿ | Q5: ·³ÝÓí»É ¿
A6: ² | B6: ´ | C6: 1 | D6: 2 | E6: 3 | F6: 4 | G6: 5 | H6: 6 | I6: 7 | J6: 8 | K6: 9 | L6: 10 | M6: 11 | N6: 12 | O6: 13 | P6: 14 | Q6: 15
A7: 1 | B7: 35
A8: 2 | B8: 44
A9: 3 | B9: 53
A10: 4 | B10: 71-72
A11: 5 | B11: 172
A12: 6 | B12: 175
A13: 7 | B13: 180.1
A14: 8 | B14: 181
A15: 9 | B15: 182 | C15: 3 | D15: 3 | E15: 3 | J15: 3 | P15: 50000 | Q15: 50000
A16: 10 | B16: 185
A17: 11 | B17: 189.1
A18: 12 | B18: 189.3
A19: 13 | B19: 206
A20: 14 | B20: 206.1
A21: 15 | B21: 206.5
A22: 16 | B22: 206.6
A23: 17 | B23: 206.7
A24: 18 | B24: 223
A25: 19 | B25: 282
A26: ÀÝ¹³Ù»ÝÁ | C26: =SUM(C15:C25) -> 3 | D26: =SUM(D15:D25) -> 3 | E26: =SUM(E15:E25) -> 3 | J26: =SUM(J15:J25) -> 3 | P26: =SUM(P15:P25) -> 50000 | Q26: =SUM(Q15:Q25) -> 50000

Sheet VDz
A1: ÐÐ ì³Ûáó ÒáñÇ Ù³ñ½Ç ³é³çÇÝ ³ïÛ³ÝÇ ¹³ï³ñ³ÝÇ 2007Ã. 1-ÇÝ ÏÇë³ÙÛ³ÏÇ Ñ³ßí»ïíáõÃÛáõÝ í³ñã³Ï³Ý Çñ³í³Ë³ËïáõÙÝ»ñÇ ¨ í³ñã³Ï³Ý å³ï³ëË³Ý³ïíáõÃÛ³Ý »ÝÃ³ñÏí³Í ³ÝÓ³Ýó ÃíÇ Ù³ëÇÝ
A3: îáÕÇ Ñ³Ù³ñÁ | B3: h/h | C3: Ð³ÛïÝ³µ»ñí³Í í³ñã³Ï³Ý Çñ³í³Ë³ËïáõÙ Ý»ñÇ ù³Ý³ÏÁ | D3: ²ÝÓ³Ýó Ãí³ù³Ý³ÏÁ, áñáÝó í»ñ³µ»ñÛ³É Ï³Û³óí»É »Ý áñáßáõÙÝ»ñ (í×ÇéÝ»ñ) | E3: ³Û¹ ÃíáõÙ Ï³Û³óí»É »Ý áñáßáõÙÝ»ñ (í×ÇéÝ»ñ) | I3: ÎÇñ³éí»É »Ý í³ñã³Ï³Ý ïáõÛÅ»ñ /ëÛáõÝ³Ï 3-Çó/ | P3: îáõ·³ÝùÇ ·áõÙ³ñÁ /Ñ³½. ¹ñ³Ù/
E4: í³ñã³Ï³Ý ïáõÛÅ»ñÇ »ÝÃ³ñÏ»Éáõ Ù³ëÇÝ | F4: í³ñã³Ï³Ý ·áñÍÇ í³ñáõÛÃÁ Ï³ñ×»Éáõ Ù³ëÇÝ Ï³åí³Í
F5: Ñ³ë³ñ³Ï³Ï³Ý Ï³½Ù³Ï»ñåáõÃÛ³Ý, ³ßË³ï³Ýù³ÛÇÝ ÏáÉ»ÏïÇíÇ ùÝÝ³ñÏÙ³ÝÁ ÝÛáõÃ»ñÇ Ñ³ÝÓÝÙ³Ý Ñ»ï | G5: ¹³ï³Ë³½ÇÝ Ý³Ë³ùÝÝ³Ï³Ý Ï³Ù Ñ»ï³ùÝÝ³Ï³Ý ÝÛáõÃ»ñÇ Ñ³ÝÓÝÙ³Ý Ñ»ï | H5: ³ÛÉ Ñ³Ý·³Ù³ÝùÝ»ñÇ Ñ»ï | I5: Ý³Ë³½·áõß³óáõÙ | J5: ïáõ·³Ýù | K5: ³é³ñÏ³ÛÇ µéÝ³·ñ³íáõÙ | L5: ³é³ñÏ³ÛÇ Ñ³ïáõóÙ³Ùµ í»ñóÝ»ÉÁ | M5: Ñ³ïáõÏ Çñ³íáõÝùÇó ½ñÏáõÙ | N5: áõÕÕÇã ³ßË³ï³Ýù | O5: í³ñã³Ï³Ý Ï³É³Ýù | P5: Ýß³Ý³Ïí»É ¿ | Q5: ·³ÝÓí»É ¿
A6: ² | B6: ´ | C6: 1 | D6: 2 | E6: 3 | F6: 4 | G6: 5 | H6: 6 | I6: 7 | J6: 8 | K6: 9 | L6: 10 | M6: 11 | N6: 12 | O6: 13 | P6: 14 | Q6: 15
A7: 1 | B7: 35
A8: 2 | B8: 44
A9: 3 | B9: 53
A10: 4 | B10: 71-72
A11: 5 | B11: 172
A12: 6 | B12: 175
A13: 7 | B13: 180.1
A14: 8 | B14: 181
A15: 9 | B15: 182
A16: 10 | B16: 185
A17: 11 | B17: 189.1
A18: 12 | B18: 189.3
A19: 13 | B19: 206
A20: 14 | B20: 206.1
A21: 15 | B21: 206.5
A22: 16 | B22: 206.6
A23: 17 | B23: 206.7
A24: 18 | B24: 223
A25: 19 | B25: 282
A26: ÀÝ¹³Ù»ÝÁ | C26: ãÏ³

Sheet Suniq
A1: ÐÐ êÛáõÝÇùÇ Ù³ñ½Ç ³é³çÇÝ ³ïÛ³ÝÇ ¹³ï³ñ³ÝÇ 2007Ã.1-ÇÝ ÏÇë³ÙÛ³ÏÇ Ñ³ßí»ïíáõÃÛáõÝ í³ñã³Ï³Ý Çñ³í³Ë³ËïáõÙÝ»ñÇ ¨ í³ñã³Ï³Ý å³ï³ëË³Ý³ïíáõÃÛ³Ý »ÝÃ³ñÏí³Í ³ÝÓ³Ýó ÃíÇ Ù³ëÇÝ
A3: îáÕÇ Ñ³Ù³ñÁ | B3: h/h | C3: Ð³ÛïÝ³µ»ñí³Í í³ñã³Ï³Ý Çñ³í³Ë³ËïáõÙ Ý»ñÇ ù³Ý³ÏÁ | D3: ²ÝÓ³Ýó Ãí³ù³Ý³ÏÁ, áñáÝó í»ñ³µ»ñÛ³É Ï³Û³óí»É »Ý áñáßáõÙÝ»ñ (í×ÇéÝ»ñ) | E3: ³Û¹ ÃíáõÙ Ï³Û³óí»É »Ý áñáßáõÙÝ»ñ (í×ÇéÝ»ñ) | I3: ÎÇñ³éí»É »Ý í³ñã³Ï³Ý ïáõÛÅ»ñ /ëÛáõÝ³Ï 3-Çó/ | P3: îáõ·³ÝùÇ ·áõÙ³ñÁ /Ñ³½. ¹ñ³Ù/
E4: í³ñã³Ï³Ý ïáõÛÅ»ñÇ »ÝÃ³ñÏ»Éáõ Ù³ëÇÝ | F4: í³ñã³Ï³Ý ·áñÍÇ í³ñáõÛÃÁ Ï³ñ×»Éáõ Ù³ëÇÝ Ï³åí³Í
F5: Ñ³ë³ñ³Ï³Ï³Ý Ï³½Ù³Ï»ñåáõÃÛ³Ý, ³ßË³ï³Ýù³ÛÇÝ ÏáÉ»ÏïÇíÇ ùÝÝ³ñÏÙ³ÝÁ ÝÛáõÃ»ñÇ Ñ³ÝÓÝÙ³Ý Ñ»ï | G5: ¹³ï³Ë³½ÇÝ Ý³Ë³ùÝÝ³Ï³Ý Ï³Ù Ñ»ï³ùÝÝ³Ï³Ý ÝÛáõÃ»ñÇ Ñ³ÝÓÝÙ³Ý Ñ»ï | H5: ³ÛÉ Ñ³Ý·³Ù³ÝùÝ»ñÇ Ñ»ï | I5: Ý³Ë³½·áõß³óáõÙ | J5: ïáõ·³Ýù | K5: ³é³ñÏ³ÛÇ µéÝ³·ñ³íáõÙ | L5: ³é³ñÏ³ÛÇ Ñ³ïáõóÙ³Ùµ í»ñóÝ»ÉÁ | M5: Ñ³ïáõÏ Çñ³íáõÝùÇó ½ñÏáõÙ | N5: áõÕÕÇã ³ßË³ï³Ýù | O5: í³ñã³Ï³Ý Ï³É³Ýù | P5: Ýß³Ý³Ïí»É ¿ | Q5: ·³ÝÓí»É ¿
A6: ² | B6: ´ | C6: 1 | D6: 2 | E6: 3 | F6: 4 | G6: 5 | H6: 6 | I6: 7 | J6: 8 | K6: 9 | L6: 10 | M6: 11 | N6: 12 | O6: 13 | P6: 14 | Q6: 15
A7: 1 | B7: 35
A8: 2 | B8: 44
A9: 3 | B9: 53
A10: 4 | B10: 71-72
A11: 5 | B11: 172
A12: 6 | B12: 175
A13: 7 | B13: 180.1
A14: 8 | B14: 181
A15: 9 | B15: 182 | C15: 5 | D15: 5 | E15: 5 | J15: 5 | P15: 60000 | Q15: 50000
A16: 10 | B16: 185
A17: 11 | B17: 189.1
A18: 12 | B18: 189.3
A19: 13 | B19: 206
A20: 14 | B20: 206.1
A21: 15 | B21: 206.5
A22: 16 | B22: 206.6
A23: 17 | B23: 206.7
A24: 18 | B24: 223
A25: 19 | B25: 282
A26: ÀÝ¹³Ù»ÝÁ | C26: =SUM(C15:C25) -> 5 | D26: =SUM(D15:D25) -> 5 | E26: =SUM(E15:E25) -> 5 | J26: =SUM(J15:J25) -> 5 | P26: =SUM(P15:P25) -> 60000 | Q26: =SUM(Q15:Q25) -> 50000

Sheet Lori
A1: ÐÐ Èáéáõ Ù³ñ½Ç ³é³çÇÝ ³ïÛ³ÝÇ ¹³ï³ñ³ÝÇ 2007Ã.1-ÇÝ ÏÇë³ÙÛ³ÏÇ Ñ³ßí»ïíáõÃÛáõÝ í³ñã³Ï³Ý Çñ³í³Ë³ËïáõÙÝ»ñÇ ¨ í³ñã³Ï³Ý å³ï³ëË³Ý³ïíáõÃÛ³Ý »ÝÃ³ñÏí³Í ³ÝÓ³Ýó ÃíÇ Ù³ëÇÝ
A3: îáÕÇ Ñ³Ù³ñÁ | B3: h/h | C3: Ð³ÛïÝ³µ»ñí³Í í³ñã³Ï³Ý Çñ³í³Ë³ËïáõÙ Ý»ñÇ ù³Ý³ÏÁ | D3: ²ÝÓ³Ýó Ãí³ù³Ý³ÏÁ, áñáÝó í»ñ³µ»ñÛ³É Ï³Û³óí»É »Ý áñáßáõÙÝ»ñ (í×ÇéÝ»ñ) | E3: ³Û¹ ÃíáõÙ Ï³Û³óí»É »Ý áñáßáõÙÝ»ñ (í×ÇéÝ»ñ) | I3: ÎÇñ³éí»É »Ý í³ñã³Ï³Ý ïáõÛÅ»ñ /ëÛáõÝ³Ï 3-Çó/ | P3: îáõ·³ÝùÇ ·áõÙ³ñÁ /Ñ³½. ¹ñ³Ù/
E4: í³ñã³Ï³Ý ïáõÛÅ»ñÇ »ÝÃ³ñÏ»Éáõ Ù³ëÇÝ | F4: í³ñã³Ï³Ý ·áñÍÇ í³ñáõÛÃÁ Ï³ñ×»Éáõ Ù³ëÇÝ Ï³åí³Í
F5: Ñ³ë³ñ³Ï³Ï³Ý Ï³½Ù³Ï»ñåáõÃÛ³Ý, ³ßË³ï³Ýù³ÛÇÝ ÏáÉ»ÏïÇíÇ ùÝÝ³ñÏÙ³ÝÁ ÝÛáõÃ»ñÇ Ñ³ÝÓÝÙ³Ý Ñ»ï | G5: ¹³ï³Ë³½ÇÝ Ý³Ë³ùÝÝ³Ï³Ý Ï³Ù Ñ»ï³ùÝÝ³Ï³Ý ÝÛáõÃ»ñÇ Ñ³ÝÓÝÙ³Ý Ñ»ï | H5: ³ÛÉ Ñ³Ý·³Ù³ÝùÝ»ñÇ Ñ»ï | I5: Ý³Ë³½·áõß³óáõÙ | J5: ïáõ·³Ýù | K5: ³é³ñÏ³ÛÇ µéÝ³·ñ³íáõÙ | L5: ³é³ñÏ³ÛÇ Ñ³ïáõóÙ³Ùµ í»ñóÝ»ÉÁ | M5: Ñ³ïáõÏ Çñ³íáõÝùÇó ½ñÏáõÙ | N5: áõÕÕÇã ³ßË³ï³Ýù | O5: í³ñã³Ï³Ý Ï³É³Ýù | P5: Ýß³Ý³Ïí»É ¿ | Q5: ·³ÝÓí»É ¿
A6: ² | B6: ´ | C6: 1 | D6: 2 | E6: 3 | F6: 4 | G6: 5 | H6: 6 | I6: 7 | J6: 8 | K6: 9 | L6: 10 | M6: 11 | N6: 12 | O6: 13 | P6: 14 | Q6: 15
A7: 1 | B7: 40/1/ | C7: 1 | D7: 1 | E7: 1 | J7: 1 | P7: 200000 | Q7: 200000
A8: 2 | B8: 44
A9: 3 | B9: 53
A10: 4 | B10: 71-72
A11: 5 | B11: 172
A12: 6 | B12: 175
A13: 7 | B13: 180.1
A14: 8 | B14: 181
A15: 9 | B15: 182 | C15: 1 | D15: 1 | E15: 1 | J15: 1 | P15: 50000 | Q15: 50000
A16: 10 | B16: 185
A17: 11 | B17: 189.1
A18: 12 | B18: 189.3
A19: 13 | B19: 206
A20: 14 | B20: 206.1
A21: 15 | B21: 206.5
A22: 16 | B22: 206.6
A23: 17 | B23: 206.7
A24: 18 | B24: 223
A25: 19 | B25: 282
A26: ÀÝ¹³Ù»ÝÁ | C26: =SUM(C7:C25) -> 2 | D26: =SUM(D7:D25) -> 2 | E26: =SUM(E7:E25) -> 2 | J26: =SUM(J7:J25) -> 2 | P26: =SUM(P7:P25) -> 250000 | Q26: =SUM(Q7:Q25) -> 250000

Sheet Gex
A1: ÐÐ ¶»Õ³ñùáõÝÇùÇ Ù³ñ½Ç ³é³çÇÝ ³ïÛ³ÝÇ ¹³ï³ñ³ÝÇ 2007Ã1-ÇÝ ÏÇë³ÙÛ³ÏÇ Ñ³ßí»ïíáõÃÛáõÝ í³ñã³Ï³Ý Çñ³í³Ë³ËïáõÙÝ»ñÇ ¨ í³ñã³Ï³Ý å³ï³ëË³Ý³ïíáõÃÛ³Ý »ÝÃ³ñÏí³Í ³ÝÓ³Ýó ÃíÇ Ù³ëÇÝ
A3: îáÕÇ Ñ³Ù³ñÁ | B3: h/h | C3: Ð³ÛïÝ³µ»ñí³Í í³ñã³Ï³Ý Çñ³í³Ë³ËïáõÙ Ý»ñÇ ù³Ý³ÏÁ | D3: ²ÝÓ³Ýó Ãí³ù³Ý³ÏÁ, áñáÝó í»ñ³µ»ñÛ³É Ï³Û³óí»É »Ý áñáßáõÙÝ»ñ (í×ÇéÝ»ñ) | E3: ³Û¹ ÃíáõÙ Ï³Û³óí»É »Ý áñáßáõÙÝ»ñ (í×ÇéÝ»ñ) | I3: ÎÇñ³éí»É »Ý í³ñã³Ï³Ý ïáõÛÅ»ñ /ëÛáõÝ³Ï 3-Çó/ | P3: îáõ·³ÝùÇ ·áõÙ³ñÁ /Ñ³½. ¹ñ³Ù/
E4: í³ñã³Ï³Ý ïáõÛÅ»ñÇ »ÝÃ³ñÏ»Éáõ Ù³ëÇÝ | F4: í³ñã³Ï³Ý ·áñÍÇ í³ñáõÛÃÁ Ï³ñ×»Éáõ Ù³ëÇÝ Ï³åí³Í
F5: Ñ³ë³ñ³Ï³Ï³Ý Ï³½Ù³Ï»ñåáõÃÛ³Ý, ³ßË³ï³Ýù³ÛÇÝ ÏáÉ»ÏïÇíÇ ùÝÝ³ñÏÙ³ÝÁ ÝÛáõÃ»ñÇ Ñ³ÝÓÝÙ³Ý Ñ»ï | G5: ¹³ï³Ë³½ÇÝ Ý³Ë³ùÝÝ³Ï³Ý Ï³Ù Ñ»ï³ùÝÝ³Ï³Ý ÝÛáõÃ»ñÇ Ñ³ÝÓÝÙ³Ý Ñ»ï | H5: ³ÛÉ Ñ³Ý·³Ù³ÝùÝ»ñÇ Ñ»ï | I5: Ý³Ë³½·áõß³óáõÙ | J5: ïáõ·³Ýù | K5: ³é³ñÏ³ÛÇ µéÝ³·ñ³íáõÙ | L5: ³é³ñÏ³ÛÇ Ñ³ïáõóÙ³Ùµ í»ñóÝ»ÉÁ | M5: Ñ³ïáõÏ Çñ³íáõÝùÇó ½ñÏáõÙ | N5: áõÕÕÇã ³ßË³ï³Ýù | O5: í³ñã³Ï³Ý Ï³É³Ýù | P5: Ýß³Ý³Ïí»É ¿ | Q5: ·³ÝÓí»É ¿
A6: ² | B6: ´ | C6: 1 | D6: 2 | E6: 3 | F6: 4 | G6: 5 | H6: 6 | I6: 7 | J6: 8 | K6: 9 | L6: 10 | M6: 11 | N6: 12 | O6: 13 | P6: 14 | Q6: 15
A7: 1 | B7: 35
A8: 2 | B8: 44
A9: 3 | B9: 53 | C9: 1 | D9: 1 | E9: 1 | J9: 1 | P9: 20000 | Q9: 20000
A10: 4 | B10: 71-72
A11: 5 | B11: 172
A12: 6 | B12: 175
A13: 7 | B13: 180.1
A14: 8 | B14: 181
A15: 9 | B15: 182 | C15: 1 | D15: 1 | E15: 1 | J15: 1 | P15: 10000 | Q15: 10000
A16: 10 | B16: 185
A17: 11 | B17: 189.1
A18: 12 | B18: 189.3
A19: 13 | B19: 206
A20: 14 | B20: 206.1
A21: 15 | B21: 206.5
A22: 16 | B22: 206.6
A23: 17 | B23: 206.7
A24: 18 | B24: 223
A25: 19 | B25: 282
A26: ÀÝ¹³Ù»ÝÁ | C26: =SUM(C9:C25) -> 2 | D26: =SUM(D9:D25) -> 2 | E26: =SUM(E9:E25) -> 2 | J26: =SUM(J9:J25) -> 2 | P26: =SUM(P9:P25) -> 30000 | Q26: =SUM(Q9:Q25) -> 30000

Sheet Kotaik
A1: ÐÐ Îáï³ÛùÇ Ù³ñ½Ç ³é³çÇÝ ³ïÛ³ÝÇ ¹³ï³ñ³ÝÇ 2007Ã. 1-ÇÝ ÏÇë³ÙÛ³ÏÇ Ñ³ßí»ïíáõÃÛáõÝ í³ñã³Ï³Ý Çñ³í³Ë³ËïáõÙÝ»ñÇ ¨ í³ñã³Ï³Ý å³ï³ëË³Ý³ïíáõÃÛ³Ý »ÝÃ³ñÏí³Í ³ÝÓ³Ýó ÃíÇ Ù³ëÇÝ
A3: îáÕÇ Ñ³Ù³ñÁ | B3: h/h | C3: Ð³ÛïÝ³µ»ñí³Í í³ñã³Ï³Ý Çñ³í³Ë³ËïáõÙ Ý»ñÇ ù³Ý³ÏÁ | D3: ²ÝÓ³Ýó Ãí³ù³Ý³ÏÁ, áñáÝó í»ñ³µ»ñÛ³É Ï³Û³óí»É »Ý áñáßáõÙÝ»ñ (í×ÇéÝ»ñ) | E3: ³Û¹ ÃíáõÙ Ï³Û³óí»É »Ý áñáßáõÙÝ»ñ (í×ÇéÝ»ñ) | I3: ÎÇñ³éí»É »Ý í³ñã³Ï³Ý ïáõÛÅ»ñ /ëÛáõÝ³Ï 3-Çó/ | P3: îáõ·³ÝùÇ ·áõÙ³ñÁ /Ñ³½. ¹ñ³Ù/
E4: í³ñã³Ï³Ý ïáõÛÅ»ñÇ »ÝÃ³ñÏ»Éáõ Ù³ëÇÝ | F4: í³ñã³Ï³Ý ·áñÍÇ í³ñáõÛÃÁ Ï³ñ×»Éáõ Ù³ëÇÝ Ï³åí³Í
F5: Ñ³ë³ñ³Ï³Ï³Ý Ï³½Ù³Ï»ñåáõÃÛ³Ý, ³ßË³ï³Ýù³ÛÇÝ ÏáÉ»ÏïÇíÇ ùÝÝ³ñÏÙ³ÝÁ ÝÛáõÃ»ñÇ Ñ³ÝÓÝÙ³Ý Ñ»ï | G5: ¹³ï³Ë³½ÇÝ Ý³Ë³ùÝÝ³Ï³Ý Ï³Ù Ñ»ï³ùÝÝ³Ï³Ý ÝÛáõÃ»ñÇ Ñ³ÝÓÝÙ³Ý Ñ»ï | H5: ³ÛÉ Ñ³Ý·³Ù³ÝùÝ»ñÇ Ñ»ï | I5: Ý³Ë³½·áõß³óáõÙ | J5: ïáõ·³Ýù | K5: ³é³ñÏ³ÛÇ µéÝ³·ñ³íáõÙ | L5: ³é³ñÏ³ÛÇ Ñ³ïáõóÙ³Ùµ í»ñóÝ»ÉÁ | M5: Ñ³ïáõÏ Çñ³íáõÝùÇó ½ñÏáõÙ | N5: áõÕÕÇã ³ßË³ï³Ýù | O5: í³ñã³Ï³Ý Ï³É³Ýù | P5: Ýß³Ý³Ïí»É ¿ | Q5: ·³ÝÓí»É ¿
A6: ² | B6: ´ | C6: 1 | D6: 2 | E6: 3 | F6: 4 | G6: 5 | H6: 6 | I6: 7 | J6: 8 | K6: 9 | L6: 10 | M6: 11 | N6: 12 | O6: 13 | P6: 14 | Q6: 15
A7: 1 | B7: 35
A8: 2 | B8: 44
A9: 3 | B9: 53
A10: 4 | B10: 71-72
A11: 5 | B11: 172
A12: 6 | B12: 175
A13: 7 | B13: 180.1
A14: 8 | B14: 181
A15: 9 | B15: 182 | C15: 2 | D15: 4 | E15: 2 | J15: 2 | P15: 160000 | Q15: 10000
A16: 10 | B16: 185
A17: 11 | B17: 189.1
A18: 12 | B18: 189.3
A19: 13 | B19: 206
A20: 14 | B20: 206.1
A21: 15 | B21: 206.5
A22: 16 | B22: 206.6
A23: 17 | B23: 206.7
A24: 18 | B24: 223
A25: 19 | B25: 282
A26: ÀÝ¹³Ù»ÝÁ | C26: =SUM(C15:C25) -> 2 | D26: =SUM(D15:D25) -> 4 | E26: =SUM(E15:E25) -> 2 | J26: =SUM(J15:J25) -> 2 | P26: =SUM(P15:P25) -> 160000 | Q26: =SUM(Q15:Q25) -> 10000

Sheet Armavir
A1: ÐÐ ²ñÙ³íÇñÇ Ù³ñ½Ç ³é³çÇÝ ³ïÛ³ÝÇ ¹³ï³ñ³ÝÇ 2007Ã. 1-ÇÝ ÏÇë³ÙÛ³ÏÇ Ñ³ßí»ïíáõÃÛáõÝ í³ñã³Ï³Ý Çñ³í³Ë³ËïáõÙÝ»ñÇ ¨ í³ñã³Ï³Ý å³ï³ëË³Ý³ïíáõÃÛ³Ý »ÝÃ³ñÏí³Í ³ÝÓ³Ýó ÃíÇ Ù³ëÇÝ
A3: îáÕÇ Ñ³Ù³ñÁ | B3: h/h | C3: Ð³ÛïÝ³µ»ñí³Í í³ñã³Ï³Ý Çñ³í³Ë³ËïáõÙ Ý»ñÇ ù³Ý³ÏÁ | D3: ²ÝÓ³Ýó Ãí³ù³Ý³ÏÁ, áñáÝó í»ñ³µ»ñÛ³É Ï³Û³óí»É »Ý áñáßáõÙÝ»ñ (í×ÇéÝ»ñ) | E3: ³Û¹ ÃíáõÙ Ï³Û³óí»É »Ý áñáßáõÙÝ»ñ (í×ÇéÝ»ñ) | I3: ÎÇñ³éí»É »Ý í³ñã³Ï³Ý ïáõÛÅ»ñ /ëÛáõÝ³Ï 3-Çó/ | P3: îáõ·³ÝùÇ ·áõÙ³ñÁ /Ñ³½. ¹ñ³Ù/
E4: í³ñã³Ï³Ý ïáõÛÅ»ñÇ »ÝÃ³ñÏ»Éáõ Ù³ëÇÝ | F4: í³ñã³Ï³Ý ·áñÍÇ í³ñáõÛÃÁ Ï³ñ×»Éáõ Ù³ëÇÝ Ï³åí³Í
F5: Ñ³ë³ñ³Ï³Ï³Ý Ï³½Ù³Ï»ñåáõÃÛ³Ý, ³ßË³ï³Ýù³ÛÇÝ ÏáÉ»ÏïÇíÇ ùÝÝ³ñÏÙ³ÝÁ ÝÛáõÃ»ñÇ Ñ³ÝÓÝÙ³Ý Ñ»ï | G5: ¹³ï³Ë³½ÇÝ Ý³Ë³ùÝÝ³Ï³Ý Ï³Ù Ñ»ï³ùÝÝ³Ï³Ý ÝÛáõÃ»ñÇ Ñ³ÝÓÝÙ³Ý Ñ»ï | H5: ³ÛÉ Ñ³Ý·³Ù³ÝùÝ»ñÇ Ñ»ï | I5: Ý³Ë³½·áõß³óáõÙ | J5: ïáõ·³Ýù | K5: ³é³ñÏ³ÛÇ µéÝ³·ñ³íáõÙ | L5: ³é³ñÏ³ÛÇ Ñ³ïáõóÙ³Ùµ í»ñóÝ»ÉÁ | M5: Ñ³ïáõÏ Çñ³íáõÝùÇó ½ñÏáõÙ | N5: áõÕÕÇã ³ßË³ï³Ýù | O5: í³ñã³Ï³Ý Ï³É³Ýù | P5: Ýß³Ý³Ïí»É ¿ | Q5: ·³ÝÓí»É ¿
A6: ² | B6: ´ | C6: 1 | D6: 2 | E6: 3 | F6: 4 | G6: 5 | H6: 6 | I6: 7 | J6: 8 | K6: 9 | L6: 10 | M6: 11 | N6: 12 | O6: 13 | P6: 14 | Q6: 15
A7: 1 | B7: 35
A8: 2 | B8: 44
A9: 3 | B9: 53 | C9: 1 | D9: 1 | J9: 1 | P9: 3000 | Q9: 3000
A10: 4 | B10: 71-72
A11: 5 | B11: 172
A12: 6 | B12: 175
A13: 7 | B13: 180.1
A14: 8 | B14: 181
A15: 9 | B15: 182
A16: 10 | B16: 185
A17: 11 | B17: 189.1
A18: 12 | B18: 189.3
A19: 13 | B19: 206
A20: 14 | B20: 206.1
A21: 15 | B21: 206.5
A22: 16 | B22: 206.6
A23: 17 | B23: 206.7
A24: 18 | B24: 223
A25: 19 | B25: 282
A26: ÀÝ¹³Ù»ÝÁ | C26: =SUM(C9:C25) -> 1 | D26: =SUM(D9:D25) -> 1 | J26: =SUM(J9:J25) -> 1 | P26: =SUM(P9:P25) -> 3000 | Q26: =SUM(Q9:Q25) -> 3000

Sheet Ararat
A1: ÐÐ ²ñ³ñ³ïÇ Ù³ñ½Ç ³é³çÇÝ ³ïÛ³ÝÇ ¹³ï³ñ³ÝÇ 2007Ã.1-ÇÝ ÏÇë³Ù³ÛÏÇ Ñ³ßí»ïíáõÃÛáõÝ í³ñã³Ï³Ý Çñ³í³Ë³ËïáõÙÝ»ñÇ ¨ í³ñã³Ï³Ý å³ï³ëË³Ý³ïíáõÃÛ³Ý »ÝÃ³ñÏí³Í ³ÝÓ³Ýó ÃíÇ Ù³ëÇÝ
A3: îáÕÇ Ñ³Ù³ñÁ | B3: h/h | C3: Ð³ÛïÝ³µ»ñí³Í í³ñã³Ï³Ý Çñ³í³Ë³ËïáõÙ Ý»ñÇ ù³Ý³ÏÁ | D3: ²ÝÓ³Ýó Ãí³ù³Ý³ÏÁ, áñáÝó í»ñ³µ»ñÛ³É Ï³Û³óí»É »Ý áñáßáõÙÝ»ñ (í×ÇéÝ»ñ) | E3: ³Û¹ ÃíáõÙ Ï³Û³óí»É »Ý áñáßáõÙÝ»ñ (í×ÇéÝ»ñ) | I3: ÎÇñ³éí»É »Ý í³ñã³Ï³Ý ïáõÛÅ»ñ /ëÛáõÝ³Ï 3-Çó/ | P3: îáõ·³ÝùÇ ·áõÙ³ñÁ /Ñ³½. ¹ñ³Ù/
E4: í³ñã³Ï³Ý ïáõÛÅ»ñÇ »ÝÃ³ñÏ»Éáõ Ù³ëÇÝ | F4: í³ñã³Ï³Ý ·áñÍÇ í³ñáõÛÃÁ Ï³ñ×»Éáõ Ù³ëÇÝ Ï³åí³Í
F5: Ñ³ë³ñ³Ï³Ï³Ý Ï³½Ù³Ï»ñåáõÃÛ³Ý, ³ßË³ï³Ýù³ÛÇÝ ÏáÉ»ÏïÇíÇ ùÝÝ³ñÏÙ³ÝÁ ÝÛáõÃ»ñÇ Ñ³ÝÓÝÙ³Ý Ñ»ï | G5: ¹³ï³Ë³½ÇÝ Ý³Ë³ùÝÝ³Ï³Ý Ï³Ù Ñ»ï³ùÝÝ³Ï³Ý ÝÛáõÃ»ñÇ Ñ³ÝÓÝÙ³Ý Ñ»ï | H5: ³ÛÉ Ñ³Ý·³Ù³ÝùÝ»ñÇ Ñ»ï | I5: Ý³Ë³½·áõß³óáõÙ | J5: ïáõ·³Ýù | K5: ³é³ñÏ³ÛÇ µéÝ³·ñ³íáõÙ | L5: ³é³ñÏ³ÛÇ Ñ³ïáõóÙ³Ùµ í»ñóÝ»ÉÁ | M5: Ñ³ïáõÏ Çñ³íáõÝùÇó ½ñÏáõÙ | N5: áõÕÕÇã ³ßË³ï³Ýù | O5: í³ñã³Ï³Ý Ï³É³Ýù | P5: Ýß³Ý³Ïí»É ¿ | Q5: ·³ÝÓí»É ¿
A6: ² | B6: ´ | C6: 1 | D6: 2 | E6: 3 | F6: 4 | G6: 5 | H6: 6 | I6: 7 | J6: 8 | K6: 9 | L6: 10 | M6: 11 | N6: 12 | O6: 13 | P6: 14 | Q6: 15
A7: 1 | B7: 35
A8: 2 | B8: 44
A9: 3 | B9: 53
A10: 4 | B10: 71-72
A11: 5 | B11: 172
A12: 6 | B12: 175
A13: 7 | B13: 180.1
A14: 8 | B14: 181
A15: 9 | B15: 182 | C15: 1 | D15: 1 | J15: 1 | P15: 10000 | Q15: 10000
A16: 10 | B16: 185
A17: 11 | B17: 189.1
A18: 12 | B18: 189.3
A19: 13 | B19: 206
A20: 14 | B20: 206.1
A21: 15 | B21: 206.5
A22: 16 | B22: 206.6
A23: 17 | B23: 206.7
A24: 18 | B24: 223
A25: 19 | B25: 282
A26: ÀÝ¹³Ù»ÝÁ | C26: =SUM(C15:C25) -> 1 | D26: =SUM(D15:D25) -> 1 | J26: =SUM(J15:J25) -> 1 | P26: =SUM(P15:P25) -> 10000 | Q26: =SUM(Q15:Q25) -> 10000

Sheet Aragacotn
A1: ÐÐ ²ñ³·³ÍáïÝÇ Ù³ñ½Ç ³é³çÇÝ ³ïÛ³ÝÇ ¹³ï³ñ³ÝÇ 2006Ã. Ñ³ßí»ïíáõÃÛáõÝ í³ñã³Ï³Ý Çñ³í³Ë³ËïáõÙÝ»ñÇ ¨ í³ñã³Ï³Ý å³ï³ëË³Ý³ïíáõÃÛ³Ý »ÝÃ³ñÏí³Í ³ÝÓ³Ýó ÃíÇ Ù³ëÇÝ
A3: îáÕÇ Ñ³Ù³ñÁ | B3: h/h | C3: Ð³ÛïÝ³µ»ñí³Í í³ñã³Ï³Ý Çñ³í³Ë³ËïáõÙ Ý»ñÇ ù³Ý³ÏÁ | D3: ²ÝÓ³Ýó Ãí³ù³Ý³ÏÁ, áñáÝó í»ñ³µ»ñÛ³É Ï³Û³óí»É »Ý áñáßáõÙÝ»ñ (í×ÇéÝ»ñ) | E3: ³Û¹ ÃíáõÙ Ï³Û³óí»É »Ý áñáßáõÙÝ»ñ (í×ÇéÝ»ñ) | I3: ÎÇñ³éí»É »Ý í³ñã³Ï³Ý ïáõÛÅ»ñ /ëÛáõÝ³Ï 3-Çó/ | P3: îáõ·³ÝùÇ ·áõÙ³ñÁ /Ñ³½. ¹ñ³Ù/
E4: í³ñã³Ï³Ý ïáõÛÅ»ñÇ »ÝÃ³ñÏ»Éáõ Ù³ëÇÝ | F4: í³ñã³Ï³Ý ·áñÍÇ í³ñáõÛÃÁ Ï³ñ×»Éáõ Ù³ëÇÝ Ï³åí³Í
F5: Ñ³ë³ñ³Ï³Ï³Ý Ï³½Ù³Ï»ñåáõÃÛ³Ý, ³ßË³ï³Ýù³ÛÇÝ ÏáÉ»ÏïÇíÇ ùÝÝ³ñÏÙ³ÝÁ ÝÛáõÃ»ñÇ Ñ³ÝÓÝÙ³Ý Ñ»ï | G5: ¹³ï³Ë³½ÇÝ Ý³Ë³ùÝÝ³Ï³Ý Ï³Ù Ñ»ï³ùÝÝ³Ï³Ý ÝÛáõÃ»ñÇ Ñ³ÝÓÝÙ³Ý Ñ»ï | H5: ³ÛÉ Ñ³Ý·³Ù³ÝùÝ»ñÇ Ñ»ï | I5: Ý³Ë³½·áõß³óáõÙ | J5: ïáõ·³Ýù | K5: ³é³ñÏ³ÛÇ µéÝ³·ñ³íáõÙ | L5: ³é³ñÏ³ÛÇ Ñ³ïáõóÙ³Ùµ í»ñóÝ»ÉÁ | M5: Ñ³ïáõÏ Çñ³íáõÝùÇó ½ñÏáõÙ | N5: áõÕÕÇã ³ßË³ï³Ýù | O5: í³ñã³Ï³Ý Ï³É³Ýù | P5: Ýß³Ý³Ïí»É ¿ | Q5: ·³ÝÓí»É ¿
A6: ² | B6: ´ | C6: 1 | D6: 2 | E6: 3 | F6: 4 | G6: 5 | H6: 6 | I6: 7 | J6: 8 | K6: 9 | L6: 10 | M6: 11 | N6: 12 | O6: 13 | P6: 14 | Q6: 15
A7: 1 | B7: 40 6 | C7: 3 | D7: 3 | E7: 3 | J7: 3 | P7: 190000 | Q7: 50000
A8: 2 | B8: 44
A9: 3 | B9: 53
A10: 4 | B10: 71-72
A11: 5 | B11: 172
A12: 6 | B12: 175
A13: 7 | B13: 180.1
A14: 8 | B14: 181
A15: 9 | B15: 182
A16: 10 | B16: 185
A17: 11 | B17: 189.1
A18: 12 | B18: 189.3
A19: 13 | B19: 206
A20: 14 | B20: 206.1
A21: 15 | B21: 206.5
A22: 16 | B22: 206.6
A23: 17 | B23: 206.7
A24: 18 | B24: 223
A25: 19 | B25: 282
A26: ÀÝ¹³Ù»ÝÁ | C26: 3 | D26: 3 | E26: 3 | J26: 3 | P26: 190000 | Q26: 50000

Sheet Tavush
A1: ÐÐ î³íáõßÇ Ù³ñ½Ç ³é³çÇÝ ³ïÛ³ÝÇ ¹³ï³ñ³ÝÇ 2007Ã.1-ÇÝ ÏÇë³ÙÛ³ÏÇ Ñ³ßí»ïíáõÃÛáõÝ í³ñã³Ï³Ý Çñ³í³Ë³ËïáõÙÝ»ñÇ ¨ í³ñã³Ï³Ý å³ï³ëË³Ý³ïíáõÃÛ³Ý »ÝÃ³ñÏí³Í ³ÝÓ³Ýó ÃíÇ Ù³ëÇÝ
A3: îáÕÇ Ñ³Ù³ñÁ | B3: h/h | C3: Ð³ÛïÝ³µ»ñí³Í í³ñã³Ï³Ý Çñ³í³Ë³ËïáõÙ Ý»ñÇ ù³Ý³ÏÁ | D3: ²ÝÓ³Ýó Ãí³ù³Ý³ÏÁ, áñáÝó í»ñ³µ»ñÛ³É Ï³Û³óí»É »Ý áñáßáõÙÝ»ñ (í×ÇéÝ»ñ) | E3: ³Û¹ ÃíáõÙ Ï³Û³óí»É »Ý áñáßáõÙÝ»ñ (í×ÇéÝ»ñ) | I3: ÎÇñ³éí»É »Ý í³ñã³Ï³Ý ïáõÛÅ»ñ /ëÛáõÝ³Ï 3-Çó/ | P3: îáõ·³ÝùÇ ·áõÙ³ñÁ /Ñ³½. ¹ñ³Ù/
E4: í³ñã³Ï³Ý ïáõÛÅ»ñÇ »ÝÃ³ñÏ»Éáõ Ù³ëÇÝ | F4: í³ñã³Ï³Ý ·áñÍÇ í³ñáõÛÃÁ Ï³ñ×»Éáõ Ù³ëÇÝ Ï³åí³Í
F5: Ñ³ë³ñ³Ï³Ï³Ý Ï³½Ù³Ï»ñåáõÃÛ³Ý, ³ßË³ï³Ýù³ÛÇÝ ÏáÉ»ÏïÇíÇ ùÝÝ³ñÏÙ³ÝÁ ÝÛáõÃ»ñÇ Ñ³ÝÓÝÙ³Ý Ñ»ï | G5: ¹³ï³Ë³½ÇÝ Ý³Ë³ùÝÝ³Ï³Ý Ï³Ù Ñ»ï³ùÝÝ³Ï³Ý ÝÛáõÃ»ñÇ Ñ³ÝÓÝÙ³Ý Ñ»ï | H5: ³ÛÉ Ñ³Ý·³Ù³ÝùÝ»ñÇ Ñ»ï | I5: Ý³Ë³½·áõß³óáõÙ | J5: ïáõ·³Ýù | K5: ³é³ñÏ³ÛÇ µéÝ³·ñ³íáõÙ | L5: ³é³ñÏ³ÛÇ Ñ³ïáõóÙ³Ùµ í»ñóÝ»ÉÁ | M5: Ñ³ïáõÏ Çñ³íáõÝùÇó ½ñÏáõÙ | N5: áõÕÕÇã ³ßË³ï³Ýù | O5: í³ñã³Ï³Ý Ï³É³Ýù | P5: Ýß³Ý³Ïí»É ¿ | Q5: ·³ÝÓí»É ¿
A6: ² | B6: ´ | C6: 1 | D6: 2 | E6: 3 | F6: 4 | G6: 5 | H6: 6 | I6: 7 | J6: 8 | K6: 9 | L6: 10 | M6: 11 | N6: 12 | O6: 13 | P6: 14 | Q6: 15
A7: 1 | B7: 35
A8: 2 | B8: 44
A9: 3 | B9: 53
A10: 4 | B10: 71-72
A11: 5 | B11: 172
A12: 6 | B12: 175
A13: 7 | B13: 180.1
A14: 8 | B14: 181
A15: 9 | B15: 182 | C15: 3 | D15: 3 | J15: 3 | P15: 75000 | Q15: 75000
A16: 10 | B16: 185
A17: 11 | B17: 189.1
A18: 12 | B18: 189.3
A19: 13 | B19: 206
A20: 14 | B20: 206.1
A21: 15 | B21: 206.5
A22: 16 | B22: 206.6
A23: 17 | B23: 206.7
A24: 18 | B24: 223
A25: 19 | B25: 282
A26: ÀÝ¹³Ù»ÝÁ | C26: 3 | D26: 3 | J26: 3 | P26: 75000 | Q26: 75000
