Workbook

Sheet Արագածոտնի մարզի ԱԱԸԻ դատարան
B1: 2025 թվականի տարեկան | AD1: Հավելված 2 Բարձրագույն դատական խորհրդի 2022թվականի դեկտեմբերի 26-ի թիվ ԲԴԽ-122-Ո-408 որոշման
A2: ԹՎԱԿԱՆԻ ՏԱՐԵԿԱՆ ՀԱՇՎԵՏՎՈՒԹՅՈՒՆ ՀՀ ԱՌԱՋԻՆ ԱՏՅԱՆԻ ԸՆԴՀԱՆՈՒՐ ԻՐԱՎԱՍՈՒԹՅԱՆ ԴԱՏԱՐԱՆԻ ԴԱՏԱՎՈՐ --- ԳՈՐԾՈՒՆԵՈՒԹՅԱՆ ՎԵՐԱԲԵՐՅԱԼ
A3: Ստուգիչ հավասարումներ` 1+3=4+12+17+19, 12= 9+10+11, 25=21+22+23+24, 30=26+27+28+29 | C3: ՀՀ քրեական օրենսգրքի հոդվածներ | D3: Հաշվետու ժամանակահատվածի սկզբում նախորդ հաշվետու ժամանակահատվածից փոխանցված գործերի ընդհանուր թիվը | E3: Այդ թվում` կասեցված վիճակում փոխանցված | F3: Հաշվետու ժամանակահատվածում ստացված գործերի ընդհանուր թիվը | G3: փոխանցվել թ այլ դատավորի (վերաբաշխում) | H3: Որոշում է կայացվել քրեական գործը վերադարձնել հսկող դատախազին | I3: քանի գործով է կիրառվել համաձայնեցման վարույթ | J3: քանի գործով է կիրառվել համագործակցության վարույթ | K3: Հաշվետու ժամանակաշրջանում կայացվել է վերդիկտ | L3: Հաշվետու ժամանակաշրջանում կայացվել է դատավճիռ | M3: քրեական վարույթը կարճելու մաuին որոշում | N3: Հաշվետու ժամանակաշրջանում կայացվել է բժշկական հարկադրանքի դատավճիռ /ՀՀ ՔՐ. ԴԱՏ. ՕՐ. 432-ՐԴ ՀՈԴՎԱԾ/ | O3: ընդամենը | P3: Հաշվետու ժամանակահատվածում ավարտված գործերի ընդհանուր թիվը /ՀՀ ՔՐ. ԴԱՏ. ՕՐ. 14-ՐԴ ՀՈԴՎԱԾ/ | T3: Ուղարկվել է ըստ ընդդատության | U3: Հաշվետու ժամանակահատվածում կասեցված վարույթներով գործերի ընդհանուր թիվը | V3: Հաշվետու ժամանակահատվածում անավարտ գործերի ընդհանուր թիվը | W3: Այդ թվում՝ կասեցված | X3: Բողոքարկված վարութային ակտերի թիվը` ըստ տեսակների | AB3: ընդամենը բողոքարկվել են ակտեր | AC3: Բեկանված և փոփոխված ակտերի թիվը` ըստ տեսակների | AG3: ընդամենը բեկանվել են ակտեր
P4: քրեական վարույթը կարճելու մաuին որոշումն ուժի մեջ մտնելով. | Q4: Եզրափակիչ դատական ակտն ուժի մեջ է մտել | R4: Եզրափակիչ դատական ակտը հանձնվել է կատարման | S4: ավարտվել են քրեական գործեր | X4: Այդ թվում` եզրափակիչ դատական ակտերը | Z4: Այդ թվում` եզրափակիչ դատավարական ակտերը | AC4: Այդ թվում` եզրափակիչ դատական ակտերը | AE4: Այդ թվում` եզրափակիչ դատավարական ակտերը
X5: նախորդ տարիների կայացված ակտերի բողոքարկումը | Y5: հաշվետու ժամանակահատվածում կայացված ակտերի բողոքարկումը | Z5: նախորդ տարիների կայացված ակտերի բողոքարկումը | AA5: հաշվետու ժամանակահատվածում կայացված ակտերի բողոքարկումը | AC5: նախորդ տարիների կայացված ակտերի բողոքարկումը | AD5: հաշվետու ժամանակահատվածում կայացված ակտերի բողոքարկումը | AE5: նախորդ տարիների կայացված ակտերի բողոքարկումը | AF5: հաշվետու ժամանակահատվածում կայացված ակտերի բողոքարկումը | AH5: 1+3 | AI5: 4+12+17+19 | AJ5: 12 | AK5: 9+10+11 | AL5: 25 | AM5: 21+22+23+24 | AN5: 30 | AO5: 26+27+28+29
D6: 1 | E6: 2 | F6: 3 | G6: 4 | H6: 5 | I6: 6 | J6: 7 | K6: 8 | L6: 9 | M6: 10 | N6: 11 | O6: 12 | P6: 13 | Q6: 14 | R6: 15 | S6: 16 | T6: 17 | U6: 18 | V6: 19 | W6: 20 | X6: 21 | Y6: 22 | Z6: 23 | AA6: 24 | AB6: 25 | AC6: 26 | AD6: 27 | AE6: 28 | AF6: 29 | AG6: 30
A7: 1. | B7: Ընդամենը խաղաղության և մարդկության անվտանգության դեմ ուղղված հանցագործությունները | D7: =SUM(Ս.Մնոյան!D7+'Է. Կարապետյան'!D7+'Կ․Դավթյան'!D7+Ժ.Նազարյան!D7+Դ.Դաբաղյան!D7+Գ.Պողոսյան!D7) -> 0 | E7: =SUM(Ս.Մնոյան!E7+'Է. Կարապետյան'!E7+'Կ․Դավթյան'!E7+Ժ.Նազարյան!E7+Դ.Դաբաղյան!E7+Գ.Պողոսյան!E7) -> 0 | F7: =SUM(Ս.Մնոյան!F7+'Է. Կարապետյան'!F7+'Կ․Դավթյան'!F7+Ժ.Նազարյան!F7+Դ.Դաբաղյան!F7+Գ.Պողոսյան!F7) -> 0 | G7: =SUM(Ս.Մնոյան!G7+'Է. Կարապետյան'!G7+'Կ․Դավթյան'!G7+Ժ.Նազարյան!G7+Դ.Դաբաղյան!G7+Գ.Պողոսյան!G7) -> 0 | H7: =SUM(Ս.Մնոյան!H7+'Է. Կարապետյան'!H7+'Կ․Դավթյան'!H7+Ժ.Նազարյան!H7+Դ.Դաբաղյան!H7+Գ.Պողոսյան!H7) -> 0 | I7: =SUM(Ս.Մնոյան!I7+'Է. Կարապետյան'!I7+'Կ․Դավթյան'!I7+Ժ.Նազարյան!I7+Դ.Դաբաղյան!I7+Գ.Պողոսյան!I7) -> 0 | J7: =SUM(Ս.Մնոյան!J7+'Է. Կարապետյան'!J7+'Կ․Դավթյան'!J7+Ժ.Նազարյան!J7+Դ.Դաբաղյան!J7+Գ.Պողոսյան!J7) -> 0 | K7: =SUM(Ս.Մնոյան!K7+'Է. Կարապետյան'!K7+'Կ․Դավթյան'!K7+Ժ.Նազարյան!K7+Դ.Դաբաղյան!K7+Գ.Պողոսյան!K7) -> 0 | ... AG7: =SUM(Ս.Մնոյան!AG7+'Է. Կարապետյան'!AG7+'Կ․Դավթյան'!AG7+Ժ.Նազարյան!AG7+Դ.Դաբաղյան!AG7+Գ.Պողոսյան!AG7) -> 0 | AH7: =SUM(Ս.Մնոյան!#REF!+'Է. Կարապետյան'!#REF!+'Կ․Դավթյան'!#REF!+Ժ.Նազարյան!#REF!+Դ.Դաբաղյան!#REF!+Գ.Պողոսյան!#REF!) -> #REF! | AI7: =SUM(Ս.Մնոյան!#REF!+'Է. Կարապետյան'!#REF!+'Կ․Դավթյան'!#REF!+Ժ.Նազարյան!#REF!+Դ.Դաբաղյան!#REF!+Գ.Պողոսյան!#REF!) -> #REF! | AJ7: =SUM(Ս.Մնոյան!#REF!+'Է. Կարապետյան'!#REF!+'Կ․Դավթյան'!#REF!+Ժ.Նազարյան!#REF!+Դ.Դաբաղյան!#REF!+Գ.Պողոսյան!#REF!) -> #REF! | AK7: =SUM(Ս.Մնոյան!#REF!+'Է. Կարապետյան'!#REF!+'Կ․Դավթյան'!#REF!+Ժ.Նազարյան!#REF!+Դ.Դաբաղյան!#REF!+Գ.Պողոսյան!#REF!) -> #REF! | AL7: =SUM(Ս.Մնոյան!#REF!+'Է. Կարապետյան'!#REF!+'Կ․Դավթյան'!#REF!+Ժ.Նազարյան!#REF!+Դ.Դաբաղյան!#REF!+Գ.Պողոսյան!#REF!) -> #REF! | AM7: =SUM(Ս.Մնոյան!#REF!+'Է. Կարապետյան'!#REF!+'Կ․Դավթյան'!#REF!+Ժ.Նազարյան!#REF!+Դ.Դաբաղյան!#REF!+Գ.Պողոսյան!#REF!) -> #REF! | AN7: =SUM(Ս.Մնոյան!#REF!+'Է. Կարապետյան'!#REF!+'Կ․Դավթյան'!#REF!+Ժ.Նազարյան!#REF!+Դ.Դաբաղյան!#REF!+Գ.Պողոսյան!#REF!) -> #REF! | AO7: =SUM(Ս.Մնոյան!#REF!+'Է. Կարապետյան'!#REF!+'Կ․Դավթյան'!#REF!+Ժ.Նազարյան!#REF!+Դ.Դաբաղյան!#REF!+Գ.Պողոսյան!#REF!) -> #REF!
A8: 1.1 | B8: Ցեղասպանությունը | C8: 133 | D8: =SUM(Ս.Մնոյան!D8+'Է. Կարապետյան'!D8+'Կ․Դավթյան'!D8+Ժ.Նազարյան!D8+Դ.Դաբաղյան!D8+Գ.Պողոսյան!D8) -> 0 | E8: =SUM(Ս.Մնոյան!E8+'Է. Կարապետյան'!E8+'Կ․Դավթյան'!E8+Ժ.Նազարյան!E8+Դ.Դաբաղյան!E8+Գ.Պողոսյան!E8) -> 0 | F8: =SUM(Ս.Մնոյան!F8+'Է. Կարապետյան'!F8+'Կ․Դավթյան'!F8+Ժ.Նազարյան!F8+Դ.Դաբաղյան!F8+Գ.Պողոսյան!F8) -> 0 | G8: =SUM(Ս.Մնոյան!G8+'Է. Կարապետյան'!G8+'Կ․Դավթյան'!G8+Ժ.Նազարյան!G8+Դ.Դաբաղյան!G8+Գ.Պողոսյան!G8) -> 0 | H8: =SUM(Ս.Մնոյան!H8+'Է. Կարապետյան'!H8+'Կ․Դավթյան'!H8+Ժ.Նազարյան!H8+Դ.Դաբաղյան!H8+Գ.Պողոսյան!H8) -> 0 | I8: =SUM(Ս.Մնոյան!I8+'Է. Կարապետյան'!I8+'Կ․Դավթյան'!I8+Ժ.Նազարյան!I8+Դ.Դաբաղյան!I8+Գ.Պողոսյան!I8) -> 0 | J8: =SUM(Ս.Մնոյան!J8+'Է. Կարապետյան'!J8+'Կ․Դավթյան'!J8+Ժ.Նազարյան!J8+Դ.Դաբաղյան!J8+Գ.Պողոսյան!J8) -> 0 | K8: =SUM(Ս.Մնոյան!K8+'Է. Կարապետյան'!K8+'Կ․Դավթյան'!K8+Ժ.Նազարյան!K8+Դ.Դաբաղյան!K8+Գ.Պողոսյան!K8) -> 0 | ... AG8: =SUM(Ս.Մնոյան!AG8+'Է. Կարապետյան'!AG8+'Կ․Դավթյան'!AG8+Ժ.Նազարյան!AG8+Դ.Դաբաղյան!AG8+Գ.Պողոսյան!AG8) -> 0 | AH8: =SUM(Ս.Մնոյան!#REF!+'Է. Կարապետյան'!#REF!+'Կ․Դավթյան'!#REF!+Ժ.Նազարյան!#REF!+Դ.Դաբաղյան!#REF!+Գ.Պողոսյան!#REF!) -> #REF! | AI8: =SUM(Ս.Մնոյան!#REF!+'Է. Կարապետյան'!#REF!+'Կ․Դավթյան'!#REF!+Ժ.Նազարյան!#REF!+Դ.Դաբաղյան!#REF!+Գ.Պողոսյան!#REF!) -> #REF! | AJ8: =SUM(Ս.Մնոյան!#REF!+'Է. Կարապետյան'!#REF!+'Կ․Դավթյան'!#REF!+Ժ.Նազարյան!#REF!+Դ.Դաբաղյան!#REF!+Գ.Պողոսյան!#REF!) -> #REF! | AK8: =SUM(Ս.Մնոյան!#REF!+'Է. Կարապետյան'!#REF!+'Կ․Դավթյան'!#REF!+Ժ.Նազարյան!#REF!+Դ.Դաբաղյան!#REF!+Գ.Պողոսյան!#REF!) -> #REF! | AL8: =SUM(Ս.Մնոյան!#REF!+'Է. Կարապետյան'!#REF!+'Կ․Դավթյան'!#REF!+Ժ.Նազարյան!#REF!+Դ.Դաբաղյան!#REF!+Գ.Պողոսյան!#REF!) -> #REF! | AM8: =SUM(Ս.Մնոյան!#REF!+'Է. Կարապետյան'!#REF!+'Կ․Դավթյան'!#REF!+Ժ.Նազարյան!#REF!+Դ.Դաբաղյան!#REF!+Գ.Պողոսյան!#REF!) -> #REF! | AN8: =SUM(Ս.Մնոյան!#REF!+'Է. Կարապետյան'!#REF!+'Կ․Դավթյան'!#REF!+Ժ.Նազարյան!#REF!+Դ.Դաբաղյան!#REF!+Գ.Պողոսյան!#REF!) -> #REF! | AO8: =SUM(Ս.Մնոյան!#REF!+'Է. Կարապետյան'!#REF!+'Կ․Դավթյան'!#REF!+Ժ.Նազարյան!#REF!+Դ.Դաբաղյան!#REF!+Գ.Պողոսյան!#REF!) -> #REF!
A9: 1.2 | B9: Ցեղասպանության ուղղակի և հրապարակային հրահրումը | C9: 134 | D9: =SUM(Ս.Մնոյան!D9+'Է. Կարապետյան'!D9+'Կ․Դավթյան'!D9+Ժ.Նազարյան!D9+Դ.Դաբաղյան!D9+Գ.Պողոսյան!D9) -> 0 | E9: =SUM(Ս.Մնոյան!E9+'Է. Կարապետյան'!E9+'Կ․Դավթյան'!E9+Ժ.Նազարյան!E9+Դ.Դաբաղյան!E9+Գ.Պողոսյան!E9) -> 0 | F9: =SUM(Ս.Մնոյան!F9+'Է. Կարապետյան'!F9+'Կ․Դավթյան'!F9+Ժ.Նազարյան!F9+Դ.Դաբաղյան!F9+Գ.Պողոսյան!F9) -> 0 | G9: =SUM(Ս.Մնոյան!G9+'Է. Կարապետյան'!G9+'Կ․Դավթյան'!G9+Ժ.Նազարյան!G9+Դ.Դաբաղյան!G9+Գ.Պողոսյան!G9) -> 0 | H9: =SUM(Ս.Մնոյան!H9+'Է. Կարապետյան'!H9+'Կ․Դավթյան'!H9+Ժ.Նազարյան!H9+Դ.Դաբաղյան!H9+Գ.Պողոսյան!H9) -> 0 | I9: =SUM(Ս.Մնոյան!I9+'Է. Կարապետյան'!I9+'Կ․Դավթյան'!I9+Ժ.Նազարյան!I9+Դ.Դաբաղյան!I9+Գ.Պողոսյան!I9) -> 0 | J9: =SUM(Ս.Մնոյան!J9+'Է. Կարապետյան'!J9+'Կ․Դավթյան'!J9+Ժ.Նազարյան!J9+Դ.Դաբաղյան!J9+Գ.Պողոսյան!J9) -> 0 | K9: =SUM(Ս.Մնոյան!K9+'Է. Կարապետյան'!K9+'Կ․Դավթյան'!K9+Ժ.Նազարյան!K9+Դ.Դաբաղյան!K9+Գ.Պողոսյան!K9) -> 0 | ... AG9: =SUM(Ս.Մնոյան!AG9+'Է. Կարապետյան'!AG9+'Կ․Դավթյան'!AG9+Ժ.Նազարյան!AG9+Դ.Դաբաղյան!AG9+Գ.Պողոսյան!AG9) -> 0 | AH9: =SUM(Ս.Մնոյան!#REF!+'Է. Կարապետյան'!#REF!+'Կ․Դավթյան'!#REF!+Ժ.Նազարյան!#REF!+Դ.Դաբաղյան!#REF!+Գ.Պողոսյան!#REF!) -> #REF! | AI9: =SUM(Ս.Մնոյան!#REF!+'Է. Կարապետյան'!#REF!+'Կ․Դավթյան'!#REF!+Ժ.Նազարյան!#REF!+Դ.Դաբաղյան!#REF!+Գ.Պողոսյան!#REF!) -> #REF! | AJ9: =SUM(Ս.Մնոյան!#REF!+'Է. Կարապետյան'!#REF!+'Կ․Դավթյան'!#REF!+Ժ.Նազարյան!#REF!+Դ.Դաբաղյան!#REF!+Գ.Պողոսյան!#REF!) -> #REF! | AK9: =SUM(Ս.Մնոյան!#REF!+'Է. Կարապետյան'!#REF!+'Կ․Դավթյան'!#REF!+Ժ.Նազարյան!#REF!+Դ.Դաբաղյան!#REF!+Գ.Պողոսյան!#REF!) -> #REF! | AL9: =SUM(Ս.Մնոյան!#REF!+'Է. Կարապետյան'!#REF!+'Կ․Դավթյան'!#REF!+Ժ.Նազարյան!#REF!+Դ.Դաբաղյան!#REF!+Գ.Պողոսյան!#REF!) -> #REF! | AM9: =SUM(Ս.Մնոյան!#REF!+'Է. Կարապետյան'!#REF!+'Կ․Դավթյան'!#REF!+Ժ.Նազարյան!#REF!+Դ.Դաբաղյան!#REF!+Գ.Պողոսյան!#REF!) -> #REF! | AN9: =SUM(Ս.Մնոյան!#REF!+'Է. Կարապետյան'!#REF!+'Կ․Դավթյան'!#REF!+Ժ.Նազարյան!#REF!+Դ.Դաբաղյան!#REF!+Գ.Պողոսյան!#REF!) -> #REF! | AO9: =SUM(Ս.Մնոյան!#REF!+'Է. Կարապետյան'!#REF!+'Կ․Դավթյան'!#REF!+Ժ.Նազարյան!#REF!+Դ.Դաբաղյան!#REF!+Գ.Պողոսյան!#REF!) -> #REF!
A10: 1.3 | B10: Մարդկայնության դեմ ուղղված հանցագործությունները | C10: 135 | D10: =SUM(Ս.Մնոյան!D10+'Է. Կարապետյան'!D10+'Կ․Դավթյան'!D10+Ժ.Նազարյան!D10+Դ.Դաբաղյան!D10+Գ.Պողոսյան!D10) -> 0 | E10: =SUM(Ս.Մնոյան!E10+'Է. Կարապետյան'!E10+'Կ․Դավթյան'!E10+Ժ.Նազարյան!E10+Դ.Դաբաղյան!E10+Գ.Պողոսյան!E10) -> 0 | F10: =SUM(Ս.Մնոյան!F10+'Է. Կարապետյան'!F10+'Կ․Դավթյան'!F10+Ժ.Նազարյան!F10+Դ.Դաբաղյան!F10+Գ.Պողոսյան!F10) -> 0 | G10: =SUM(Ս.Մնոյան!G10+'Է. Կարապետյան'!G10+'Կ․Դավթյան'!G10+Ժ.Նազարյան!G10+Դ.Դաբաղյան!G10+Գ.Պողոսյան!G10) -> 0 | H10: =SUM(Ս.Մնոյան!H10+'Է. Կարապետյան'!H10+'Կ․Դավթյան'!H10+Ժ.Նազարյան!H10+Դ.Դաբաղյան!H10+Գ.Պողոսյան!H10) -> 0 | I10: =SUM(Ս.Մնոյան!I10+'Է. Կարապետյան'!I10+'Կ․Դավթյան'!I10+Ժ.Նազարյան!I10+Դ.Դաբաղյան!I10+Գ.Պողոսյան!I10) -> 0 | J10: =SUM(Ս.Մնոյան!J10+'Է. Կարապետյան'!J10+'Կ․Դավթյան'!J10+Ժ.Նազարյան!J10+Դ.Դաբաղյան!J10+Գ.Պողոսյան!J10) -> 0 | K10: =SUM(Ս.Մնոյան!K10+'Է. Կարապետյան'!K10+'Կ․Դավթյան'!K10+Ժ.Նազարյան!K10+Դ.Դաբաղյան!K10+Գ.Պողոսյան!K10) -> 0 | ... AG10: =SUM(Ս.Մնոյան!AG10+'Է. Կարապետյան'!AG10+'Կ․Դավթյան'!AG10+Ժ.Նազարյան!AG10+Դ.Դաբաղյան!AG10+Գ.Պողոսյան!AG10) -> 0 | AH10: =SUM(Ս.Մնոյան!#REF!+'Է. Կարապետյան'!#REF!+'Կ․Դավթյան'!#REF!+Ժ.Նազարյան!#REF!+Դ.Դաբաղյան!#REF!+Գ.Պողոսյան!#REF!) -> #REF! | AI10: =SUM(Ս.Մնոյան!#REF!+'Է. Կարապետյան'!#REF!+'Կ․Դավթյան'!#REF!+Ժ.Նազարյան!#REF!+Դ.Դաբաղյան!#REF!+Գ.Պողոսյան!#REF!) -> #REF! | AJ10: =SUM(Ս.Մնոյան!#REF!+'Է. Կարապետյան'!#REF!+'Կ․Դավթյան'!#REF!+Ժ.Նազարյան!#REF!+Դ.Դաբաղյան!#REF!+Գ.Պողոսյան!#REF!) -> #REF! | AK10: =SUM(Ս.Մնոյան!#REF!+'Է. Կարապետյան'!#REF!+'Կ․Դավթյան'!#REF!+Ժ.Նազարյան!#REF!+Դ.Դաբաղյան!#REF!+Գ.Պողոսյան!#REF!) -> #REF! | AL10: =SUM(Ս.Մնոյան!#REF!+'Է. Կարապետյան'!#REF!+'Կ․Դավթյան'!#REF!+Ժ.Նազարյան!#REF!+Դ.Դաբաղյան!#REF!+Գ.Պողոսյան!#REF!) -> #REF! | AM10: =SUM(Ս.Մնոյան!#REF!+'Է. Կարապետյան'!#REF!+'Կ․Դավթյան'!#REF!+Ժ.Նազարյան!#REF!+Դ.Դաբաղյան!#REF!+Գ.Պողոսյան!#REF!) -> #REF! | AN10: =SUM(Ս.Մնոյան!#REF!+'Է. Կարապետյան'!#REF!+'Կ․Դավթյան'!#REF!+Ժ.Նազարյան!#REF!+Դ.Դաբաղյան!#REF!+Գ.Պողոսյան!#REF!) -> #REF! | AO10: =SUM(Ս.Մնոյան!#REF!+'Է. Կարապետյան'!#REF!+'Կ․Դավթյան'!#REF!+Ժ.Նազարյան!#REF!+Դ.Դաբաղյան!#REF!+Գ.Պողոսյան!#REF!) -> #REF!
A11: 1.4 | B11: Ցեղասպանությունը կամ մարդկայնության դեմ ուղղված հանցագործությունները հրապարակայնորեն հերքելը, արդարացնելը, դրանք քարոզելը կամ դրանց վտանգավորությունը նսեմացնելը | C11: 136 | D11: =SUM(Ս.Մնոյան!D11+'Է. Կարապետյան'!D11+'Կ․Դավթյան'!D11+Ժ.Նազարյան!D11+Դ.Դաբաղյան!D11+Գ.Պողոսյան!D11) -> 0 | E11: =SUM(Ս.Մնոյան!E11+'Է. Կարապետյան'!E11+'Կ․Դավթյան'!E11+Ժ.Նազարյան!E11+Դ.Դաբաղյան!E11+Գ.Պողոսյան!E11) -> 0 | F11: =SUM(Ս.Մնոյան!F11+'Է. Կարապետյան'!F11+'Կ․Դավթյան'!F11+Ժ.Նազարյան!F11+Դ.Դաբաղյան!F11+Գ.Պողոսյան!F11) -> 0 | G11: =SUM(Ս.Մնոյան!G11+'Է. Կարապետյան'!G11+'Կ․Դավթյան'!G11+Ժ.Նազարյան!G11+Դ.Դաբաղյան!G11+Գ.Պողոսյան!G11) -> 0 | H11: =SUM(Ս.Մնոյան!H11+'Է. Կարապետյան'!H11+'Կ․Դավթյան'!H11+Ժ.Նազարյան!H11+Դ.Դաբաղյան!H11+Գ.Պողոսյան!H11) -> 0 | I11: =SUM(Ս.Մնոյան!I11+'Է. Կարապետյան'!I11+'Կ․Դավթյան'!I11+Ժ.Նազարյան!I11+Դ.Դաբաղյան!I11+Գ.Պողոսյան!I11) -> 0 | J11: =SUM(Ս.Մնոյան!J11+'Է. Կարապետյան'!J11+'Կ․Դավթյան'!J11+Ժ.Նազարյան!J11+Դ.Դաբաղյան!J11+Գ.Պողոսյան!J11) -> 0 | K11: =SUM(Ս.Մնոյան!K11+'Է. Կարապետյան'!K11+'Կ․Դավթյան'!K11+Ժ.Նազարյան!K11+Դ.Դաբաղյան!K11+Գ.Պողոսյան!K11) -> 0 | ... AG11: =SUM(Ս.Մնոյան!AG11+'Է. Կարապետյան'!AG11+'Կ․Դավթյան'!AG11+Ժ.Նազարյան!AG11+Դ.Դաբաղյան!AG11+Գ.Պողոսյան!AG11) -> 0 | AH11: =SUM(Ս.Մնոյան!#REF!+'Է. Կարապետյան'!#REF!+'Կ․Դավթյան'!#REF!+Ժ.Նազարյան!#REF!+Դ.Դաբաղյան!#REF!+Գ.Պողոսյան!#REF!) -> #REF! | AI11: =SUM(Ս.Մնոյան!#REF!+'Է. Կարապետյան'!#REF!+'Կ․Դավթյան'!#REF!+Ժ.Նազարյան!#REF!+Դ.Դաբաղյան!#REF!+Գ.Պողոսյան!#REF!) -> #REF! | AJ11: =SUM(Ս.Մնոյան!#REF!+'Է. Կարապետյան'!#REF!+'Կ․Դավթյան'!#REF!+Ժ.Նազարյան!#REF!+Դ.Դաբաղյան!#REF!+Գ.Պողոսյան!#REF!) -> #REF! | AK11: =SUM(Ս.Մնոյան!#REF!+'Է. Կարապետյան'!#REF!+'Կ․Դավթյան'!#REF!+Ժ.Նազարյան!#REF!+Դ.Դաբաղյան!#REF!+Գ.Պողոսյան!#REF!) -> #REF! | AL11: =SUM(Ս.Մնոյան!#REF!+'Է. Կարապետյան'!#REF!+'Կ․Դավթյան'!#REF!+Ժ.Նազարյան!#REF!+Դ.Դաբաղյան!#REF!+Գ.Պողոսյան!#REF!) -> #REF! | AM11: =SUM(Ս.Մնոյան!#REF!+'Է. Կարապետյան'!#REF!+'Կ․Դավթյան'!#REF!+Ժ.Նազարյան!#REF!+Դ.Դաբաղյան!#REF!+Գ.Պողոսյան!#REF!) -> #REF! | AN11: =SUM(Ս.Մնոյան!#REF!+'Է. Կարապետյան'!#REF!+'Կ․Դավթյան'!#REF!+Ժ.Նազարյան!#REF!+Դ.Դաբաղյան!#REF!+Գ.Պողոսյան!#REF!) -> #REF! | AO11: =SUM(Ս.Մնոյան!#REF!+'Է. Կարապետյան'!#REF!+'Կ․Դավթյան'!#REF!+Ժ.Նազարյան!#REF!+Դ.Դաբաղյան!#REF!+Գ.Պողոսյան!#REF!) -> #REF!
A12: 1.5 | B12: Հովանավորվող անձի դեմ ուղղված պատերազմական հանցագործությունները | C12: 137 | D12: =SUM(Ս.Մնոյան!D12+'Է. Կարապետյան'!D12+'Կ․Դավթյան'!D12+Ժ.Նազարյան!D12+Դ.Դաբաղյան!D12+Գ.Պողոսյան!D12) -> 0 | E12: =SUM(Ս.Մնոյան!E12+'Է. Կարապետյան'!E12+'Կ․Դավթյան'!E12+Ժ.Նազարյան!E12+Դ.Դաբաղյան!E12+Գ.Պողոսյան!E12) -> 0 | F12: =SUM(Ս.Մնոյան!F12+'Է. Կարապետյան'!F12+'Կ․Դավթյան'!F12+Ժ.Նազարյան!F12+Դ.Դաբաղյան!F12+Գ.Պողոսյան!F12) -> 0 | G12: =SUM(Ս.Մնոյան!G12+'Է. Կարապետյան'!G12+'Կ․Դավթյան'!G12+Ժ.Նազարյան!G12+Դ.Դաբաղյան!G12+Գ.Պողոսյան!G12) -> 0 | H12: =SUM(Ս.Մնոյան!H12+'Է. Կարապետյան'!H12+'Կ․Դավթյան'!H12+Ժ.Նազարյան!H12+Դ.Դաբաղյան!H12+Գ.Պողոսյան!H12) -> 0 | I12: =SUM(Ս.Մնոյան!I12+'Է. Կարապետյան'!I12+'Կ․Դավթյան'!I12+Ժ.Նազարյան!I12+Դ.Դաբաղյան!I12+Գ.Պողոսյան!I12) -> 0 | J12: =SUM(Ս.Մնոյան!J12+'Է. Կարապետյան'!J12+'Կ․Դավթյան'!J12+Ժ.Նազարյան!J12+Դ.Դաբաղյան!J12+Գ.Պողոսյան!J12) -> 0 | K12: =SUM(Ս.Մնոյան!K12+'Է. Կարապետյան'!K12+'Կ․Դավթյան'!K12+Ժ.Նազարյան!K12+Դ.Դաբաղյան!K12+Գ.Պողոսյան!K12) -> 0 | ... AG12: =SUM(Ս.Մնոյան!AG12+'Է. Կարապետյան'!AG12+'Կ․Դավթյան'!AG12+Ժ.Նազարյան!AG12+Դ.Դաբաղյան!AG12+Գ.Պողոսյան!AG12) -> 0 | AH12: =SUM(Ս.Մնոյան!#REF!+'Է. Կարապետյան'!#REF!+'Կ․Դավթյան'!#REF!+Ժ.Նազարյան!#REF!+Դ.Դաբաղյան!#REF!+Գ.Պողոսյան!#REF!) -> #REF! | AI12: =SUM(Ս.Մնոյան!#REF!+'Է. Կարապետյան'!#REF!+'Կ․Դավթյան'!#REF!+Ժ.Նազարյան!#REF!+Դ.Դաբաղյան!#REF!+Գ.Պողոսյան!#REF!) -> #REF! | AJ12: =SUM(Ս.Մնոյան!#REF!+'Է. Կարապետյան'!#REF!+'Կ․Դավթյան'!#REF!+Ժ.Նազարյան!#REF!+Դ.Դաբաղյան!#REF!+Գ.Պողոսյան!#REF!) -> #REF! | AK12: =SUM(Ս.Մնոյան!#REF!+'Է. Կարապետյան'!#REF!+'Կ․Դավթյան'!#REF!+Ժ.Նազարյան!#REF!+Դ.Դաբաղյան!#REF!+Գ.Պողոսյան!#REF!) -> #REF! | AL12: =SUM(Ս.Մնոյան!#REF!+'Է. Կարապետյան'!#REF!+'Կ․Դավթյան'!#REF!+Ժ.Նազարյան!#REF!+Դ.Դաբաղյան!#REF!+Գ.Պողոսյան!#REF!) -> #REF! | AM12: =SUM(Ս.Մնոյան!#REF!+'Է. Կարապետյան'!#REF!+'Կ․Դավթյան'!#REF!+Ժ.Նազարյան!#REF!+Դ.Դաբաղյան!#REF!+Գ.Պողոսյան!#REF!) -> #REF! | AN12: =SUM(Ս.Մնոյան!#REF!+'Է. Կարապետյան'!#REF!+'Կ․Դավթյան'!#REF!+Ժ.Նազարյան!#REF!+Դ.Դաբաղյան!#REF!+Գ.Պողոսյան!#REF!) -> #REF! | AO12: =SUM(Ս.Մնոյան!#REF!+'Է. Կարապետյան'!#REF!+'Կ․Դավթյան'!#REF!+Ժ.Նազարյան!#REF!+Դ.Դաբաղյան!#REF!+Գ.Պողոսյան!#REF!) -> #REF!
A13: 1.6 | B13: Սեփականության կամ այլ իրավունքների դեմ ուղղված պատերազմական հանցագործությունները | C13: 138 | D13: =SUM(Ս.Մնոյան!D13+'Է. Կարապետյան'!D13+'Կ․Դավթյան'!D13+Ժ.Նազարյան!D13+Դ.Դաբաղյան!D13+Գ.Պողոսյան!D13) -> 0 | E13: =SUM(Ս.Մնոյան!E13+'Է. Կարապետյան'!E13+'Կ․Դավթյան'!E13+Ժ.Նազարյան!E13+Դ.Դաբաղյան!E13+Գ.Պողոսյան!E13) -> 0 | F13: =SUM(Ս.Մնոյան!F13+'Է. Կարապետյան'!F13+'Կ․Դավթյան'!F13+Ժ.Նազարյան!F13+Դ.Դաբաղյան!F13+Գ.Պողոսյան!F13) -> 0 | G13: =SUM(Ս.Մնոյան!G13+'Է. Կարապետյան'!G13+'Կ․Դավթյան'!G13+Ժ.Նազարյան!G13+Դ.Դաբաղյան!G13+Գ.Պողոսյան!G13) -> 0 | H13: =SUM(Ս.Մնոյան!H13+'Է. Կարապետյան'!H13+'Կ․Դավթյան'!H13+Ժ.Նազարյան!H13+Դ.Դաբաղյան!H13+Գ.Պողոսյան!H13) -> 0 | I13: =SUM(Ս.Մնոյան!I13+'Է. Կարապետյան'!I13+'Կ․Դավթյան'!I13+Ժ.Նազարյան!I13+Դ.Դաբաղյան!I13+Գ.Պողոսյան!I13) -> 0 | J13: =SUM(Ս.Մնոյան!J13+'Է. Կարապետյան'!J13+'Կ․Դավթյան'!J13+Ժ.Նազարյան!J13+Դ.Դաբաղյան!J13+Գ.Պողոսյան!J13) -> 0 | K13: =SUM(Ս.Մնոյան!K13+'Է. Կարապետյան'!K13+'Կ․Դավթյան'!K13+Ժ.Նազարյան!K13+Դ.Դաբաղյան!K13+Գ.Պողոսյան!K13) -> 0 | ... AG13: =SUM(Ս.Մնոյան!AG13+'Է. Կարապետյան'!AG13+'Կ․Դավթյան'!AG13+Ժ.Նազարյան!AG13+Դ.Դաբաղյան!AG13+Գ.Պողոսյան!AG13) -> 0 | AH13: =SUM(Ս.Մնոյան!#REF!+'Է. Կարապետյան'!#REF!+'Կ․Դավթյան'!#REF!+Ժ.Նազարյան!#REF!+Դ.Դաբաղյան!#REF!+Գ.Պողոսյան!#REF!) -> #REF! | AI13: =SUM(Ս.Մնոյան!#REF!+'Է. Կարապետյան'!#REF!+'Կ․Դավթյան'!#REF!+Ժ.Նազարյան!#REF!+Դ.Դաբաղյան!#REF!+Գ.Պողոսյան!#REF!) -> #REF! | AJ13: =SUM(Ս.Մնոյան!#REF!+'Է. Կարապետյան'!#REF!+'Կ․Դավթյան'!#REF!+Ժ.Նազարյան!#REF!+Դ.Դաբաղյան!#REF!+Գ.Պողոսյան!#REF!) -> #REF! | AK13: =SUM(Ս.Մնոյան!#REF!+'Է. Կարապետյան'!#REF!+'Կ․Դավթյան'!#REF!+Ժ.Նազարյան!#REF!+Դ.Դաբաղյան!#REF!+Գ.Պողոսյան!#REF!) -> #REF! | AL13: =SUM(Ս.Մնոյան!#REF!+'Է. Կարապետյան'!#REF!+'Կ․Դավթյան'!#REF!+Ժ.Նազարյան!#REF!+Դ.Դաբաղյան!#REF!+Գ.Պողոսյան!#REF!) -> #REF! | AM13: =SUM(Ս.Մնոյան!#REF!+'Է. Կարապետյան'!#REF!+'Կ․Դավթյան'!#REF!+Ժ.Նազարյան!#REF!+Դ.Դաբաղյան!#REF!+Գ.Պողոսյան!#REF!) -> #REF! | AN13: =SUM(Ս.Մնոյան!#REF!+'Է. Կարապետյան'!#REF!+'Կ․Դավթյան'!#REF!+Ժ.Նազարյան!#REF!+Դ.Դաբաղյան!#REF!+Գ.Պողոսյան!#REF!) -> #REF! | AO13: =SUM(Ս.Մնոյան!#REF!+'Է. Կարապետյան'!#REF!+'Կ․Դավթյան'!#REF!+Ժ.Նազարյան!#REF!+Դ.Դաբաղյան!#REF!+Գ.Պողոսյան!#REF!) -> #REF!
A14: 1.7 | B14: Մարդասիրական օգնության ցուցաբերման կամ տարբերանշանների դեմ ուղղված պատերազմական հանցագործությունները | C14: 139 | D14: =SUM(Ս.Մնոյան!D14+'Է. Կարապետյան'!D14+'Կ․Դավթյան'!D14+Ժ.Նազարյան!D14+Դ.Դաբաղյան!D14+Գ.Պողոսյան!D14) -> 0 | E14: =SUM(Ս.Մնոյան!E14+'Է. Կարապետյան'!E14+'Կ․Դավթյան'!E14+Ժ.Նազարյան!E14+Դ.Դաբաղյան!E14+Գ.Պողոսյան!E14) -> 0 | F14: =SUM(Ս.Մնոյան!F14+'Է. Կարապետյան'!F14+'Կ․Դավթյան'!F14+Ժ.Նազարյան!F14+Դ.Դաբաղյան!F14+Գ.Պողոսյան!F14) -> 0 | G14: =SUM(Ս.Մնոյան!G14+'Է. Կարապետյան'!G14+'Կ․Դավթյան'!G14+Ժ.Նազարյան!G14+Դ.Դաբաղյան!G14+Գ.Պողոսյան!G14) -> 0 | H14: =SUM(Ս.Մնոյան!H14+'Է. Կարապետյան'!H14+'Կ․Դավթյան'!H14+Ժ.Նազարյան!H14+Դ.Դաբաղյան!H14+Գ.Պողոսյան!H14) -> 0 | I14: =SUM(Ս.Մնոյան!I14+'Է. Կարապետյան'!I14+'Կ․Դավթյան'!I14+Ժ.Նազարյան!I14+Դ.Դաբաղյան!I14+Գ.Պողոսյան!I14) -> 0 | J14: =SUM(Ս.Մնոյան!J14+'Է. Կարապետյան'!J14+'Կ․Դավթյան'!J14+Ժ.Նազարյան!J14+Դ.Դաբաղյան!J14+Գ.Պողոսյան!J14) -> 0 | K14: =SUM(Ս.Մնոյան!K14+'Է. Կարապետյան'!K14+'Կ․Դավթյան'!K14+Ժ.Նազարյան!K14+Դ.Դաբաղյան!K14+Գ.Պողոսյան!K14) -> 0 | ... AG14: =SUM(Ս.Մնոյան!AG14+'Է. Կարապետյան'!AG14+'Կ․Դավթյան'!AG14+Ժ.Նազարյան!AG14+Դ.Դաբաղյան!AG14+Գ.Պողոսյան!AG14) -> 0 | AH14: =SUM(Ս.Մնոյան!#REF!+'Է. Կարապետյան'!#REF!+'Կ․Դավթյան'!#REF!+Ժ.Նազարյան!#REF!+Դ.Դաբաղյան!#REF!+Գ.Պողոսյան!#REF!) -> #REF! | AI14: =SUM(Ս.Մնոյան!#REF!+'Է. Կարապետյան'!#REF!+'Կ․Դավթյան'!#REF!+Ժ.Նազարյան!#REF!+Դ.Դաբաղյան!#REF!+Գ.Պողոսյան!#REF!) -> #REF! | AJ14: =SUM(Ս.Մնոյան!#REF!+'Է. Կարապետյան'!#REF!+'Կ․Դավթյան'!#REF!+Ժ.Նազարյան!#REF!+Դ.Դաբաղյան!#REF!+Գ.Պողոսյան!#REF!) -> #REF! | AK14: =SUM(Ս.Մնոյան!#REF!+'Է. Կարապետյան'!#REF!+'Կ․Դավթյան'!#REF!+Ժ.Նազարյան!#REF!+Դ.Դաբաղյան!#REF!+Գ.Պողոսյան!#REF!) -> #REF! | AL14: =SUM(Ս.Մնոյան!#REF!+'Է. Կարապետյան'!#REF!+'Կ․Դավթյան'!#REF!+Ժ.Նազարյան!#REF!+Դ.Դաբաղյան!#REF!+Գ.Պողոսյան!#REF!) -> #REF! | AM14: =SUM(Ս.Մնոյան!#REF!+'Է. Կարապետյան'!#REF!+'Կ․Դավթյան'!#REF!+Ժ.Նազարյան!#REF!+Դ.Դաբաղյան!#REF!+Գ.Պողոսյան!#REF!) -> #REF! | AN14: =SUM(Ս.Մնոյան!#REF!+'Է. Կարապետյան'!#REF!+'Կ․Դավթյան'!#REF!+Ժ.Նազարյան!#REF!+Դ.Դաբաղյան!#REF!+Գ.Պողոսյան!#REF!) -> #REF! | AO14: =SUM(Ս.Մնոյան!#REF!+'Է. Կարապետյան'!#REF!+'Կ․Դավթյան'!#REF!+Ժ.Նազարյան!#REF!+Դ.Դաբաղյան!#REF!+Գ.Պողոսյան!#REF!) -> #REF!
A15: 1.8 | B15: Պատերազմ վարելու արգելված եղանակների կիրառմամբ պատերազմական հանցագործությունները | C15: 140 | D15: =SUM(Ս.Մնոյան!D15+'Է. Կարապետյան'!D15+'Կ․Դավթյան'!D15+Ժ.Նազարյան!D15+Դ.Դաբաղյան!D15+Գ.Պողոսյան!D15) -> 0 | E15: =SUM(Ս.Մնոյան!E15+'Է. Կարապետյան'!E15+'Կ․Դավթյան'!E15+Ժ.Նազարյան!E15+Դ.Դաբաղյան!E15+Գ.Պողոսյան!E15) -> 0 | F15: =SUM(Ս.Մնոյան!F15+'Է. Կարապետյան'!F15+'Կ․Դավթյան'!F15+Ժ.Նազարյան!F15+Դ.Դաբաղյան!F15+Գ.Պողոսյան!F15) -> 0 | G15: =SUM(Ս.Մնոյան!G15+'Է. Կարապետյան'!G15+'Կ․Դավթյան'!G15+Ժ.Նազարյան!G15+Դ.Դաբաղյան!G15+Գ.Պողոսյան!G15) -> 0 | H15: =SUM(Ս.Մնոյան!H15+'Է. Կարապետյան'!H15+'Կ․Դավթյան'!H15+Ժ.Նազարյան!H15+Դ.Դաբաղյան!H15+Գ.Պողոսյան!H15) -> 0 | I15: =SUM(Ս.Մնոյան!I15+'Է. Կարապետյան'!I15+'Կ․Դավթյան'!I15+Ժ.Նազարյան!I15+Դ.Դաբաղյան!I15+Գ.Պողոսյան!I15) -> 0 | J15: =SUM(Ս.Մնոյան!J15+'Է. Կարապետյան'!J15+'Կ․Դավթյան'!J15+Ժ.Նազարյան!J15+Դ.Դաբաղյան!J15+Գ.Պողոսյան!J15) -> 0 | K15: =SUM(Ս.Մնոյան!K15+'Է. Կարապետյան'!K15+'Կ․Դավթյան'!K15+Ժ.Նազարյան!K15+Դ.Դաբաղյան!K15+Գ.Պողոսյան!K15) -> 0 | ... AG15: =SUM(Ս.Մնոյան!AG15+'Է. Կարապետյան'!AG15+'Կ․Դավթյան'!AG15+Ժ.Նազարյան!AG15+Դ.Դաբաղյան!AG15+Գ.Պողոսյան!AG15) -> 0 | AH15: =SUM(Ս.Մնոյան!#REF!+'Է. Կարապետյան'!#REF!+'Կ․Դավթյան'!#REF!+Ժ.Նազարյան!#REF!+Դ.Դաբաղյան!#REF!+Գ.Պողոսյան!#REF!) -> #REF! | AI15: =SUM(Ս.Մնոյան!#REF!+'Է. Կարապետյան'!#REF!+'Կ․Դավթյան'!#REF!+Ժ.Նազարյան!#REF!+Դ.Դաբաղյան!#REF!+Գ.Պողոսյան!#REF!) -> #REF! | AJ15: =SUM(Ս.Մնոյան!#REF!+'Է. Կարապետյան'!#REF!+'Կ․Դավթյան'!#REF!+Ժ.Նազարյան!#REF!+Դ.Դաբաղյան!#REF!+Գ.Պողոսյան!#REF!) -> #REF! | AK15: =SUM(Ս.Մնոյան!#REF!+'Է. Կարապետյան'!#REF!+'Կ․Դավթյան'!#REF!+Ժ.Նազարյան!#REF!+Դ.Դաբաղյան!#REF!+Գ.Պողոսյան!#REF!) -> #REF! | AL15: =SUM(Ս.Մնոյան!#REF!+'Է. Կարապետյան'!#REF!+'Կ․Դավթյան'!#REF!+Ժ.Նազարյան!#REF!+Դ.Դաբաղյան!#REF!+Գ.Պողոսյան!#REF!) -> #REF! | AM15: =SUM(Ս.Մնոյան!#REF!+'Է. Կարապետյան'!#REF!+'Կ․Դավթյան'!#REF!+Ժ.Նազարյան!#REF!+Դ.Դաբաղյան!#REF!+Գ.Պողոսյան!#REF!) -> #REF! | AN15: =SUM(Ս.Մնոյան!#REF!+'Է. Կարապետյան'!#REF!+'Կ․Դավթյան'!#REF!+Ժ.Նազարյան!#REF!+Դ.Դաբաղյան!#REF!+Գ.Պողոսյան!#REF!) -> #REF! | AO15: =SUM(Ս.Մնոյան!#REF!+'Է. Կարապետյան'!#REF!+'Կ․Դավթյան'!#REF!+Ժ.Նազարյան!#REF!+Դ.Դաբաղյան!#REF!+Գ.Պողոսյան!#REF!) -> #REF!
A16: 1.9 | B16: Պատերազմ վարելու արգելված միջոցների կիրառմամբ պատերազմական հանցագործությունները | C16: 141 | D16: =SUM(Ս.Մնոյան!D16+'Է. Կարապետյան'!D16+'Կ․Դավթյան'!D16+Ժ.Նազարյան!D16+Դ.Դաբաղյան!D16+Գ.Պողոսյան!D16) -> 0 | E16: =SUM(Ս.Մնոյան!E16+'Է. Կարապետյան'!E16+'Կ․Դավթյան'!E16+Ժ.Նազարյան!E16+Դ.Դաբաղյան!E16+Գ.Պողոսյան!E16) -> 0 | F16: =SUM(Ս.Մնոյան!F16+'Է. Կարապետյան'!F16+'Կ․Դավթյան'!F16+Ժ.Նազարյան!F16+Դ.Դաբաղյան!F16+Գ.Պողոսյան!F16) -> 0 | G16: =SUM(Ս.Մնոյան!G16+'Է. Կարապետյան'!G16+'Կ․Դավթյան'!G16+Ժ.Նազարյան!G16+Դ.Դաբաղյան!G16+Գ.Պողոսյան!G16) -> 0 | H16: =SUM(Ս.Մնոյան!H16+'Է. Կարապետյան'!H16+'Կ․Դավթյան'!H16+Ժ.Նազարյան!H16+Դ.Դաբաղյան!H16+Գ.Պողոսյան!H16) -> 0 | I16: =SUM(Ս.Մնոյան!I16+'Է. Կարապետյան'!I16+'Կ․Դավթյան'!I16+Ժ.Նազարյան!I16+Դ.Դաբաղյան!I16+Գ.Պողոսյան!I16) -> 0 | J16: =SUM(Ս.Մնոյան!J16+'Է. Կարապետյան'!J16+'Կ․Դավթյան'!J16+Ժ.Նազարյան!J16+Դ.Դաբաղյան!J16+Գ.Պողոսյան!J16) -> 0 | K16: =SUM(Ս.Մնոյան!K16+'Է. Կարապետյան'!K16+'Կ․Դավթյան'!K16+Ժ.Նազարյան!K16+Դ.Դաբաղյան!K16+Գ.Պողոսյան!K16) -> 0 | ... AG16: =SUM(Ս.Մնոյան!AG16+'Է. Կարապետյան'!AG16+'Կ․Դավթյան'!AG16+Ժ.Նազարյան!AG16+Դ.Դաբաղյան!AG16+Գ.Պողոսյան!AG16) -> 0 | AH16: =SUM(Ս.Մնոյան!#REF!+'Է. Կարապետյան'!#REF!+'Կ․Դավթյան'!#REF!+Ժ.Նազարյան!#REF!+Դ.Դաբաղյան!#REF!+Գ.Պողոսյան!#REF!) -> #REF! | AI16: =SUM(Ս.Մնոյան!#REF!+'Է. Կարապետյան'!#REF!+'Կ․Դավթյան'!#REF!+Ժ.Նազարյան!#REF!+Դ.Դաբաղյան!#REF!+Գ.Պողոսյան!#REF!) -> #REF! | AJ16: =SUM(Ս.Մնոյան!#REF!+'Է. Կարապետյան'!#REF!+'Կ․Դավթյան'!#REF!+Ժ.Նազարյան!#REF!+Դ.Դաբաղյան!#REF!+Գ.Պողոսյան!#REF!) -> #REF! | AK16: =SUM(Ս.Մնոյան!#REF!+'Է. Կարապետյան'!#REF!+'Կ․Դավթյան'!#REF!+Ժ.Նազարյան!#REF!+Դ.Դաբաղյան!#REF!+Գ.Պողոսյան!#REF!) -> #REF! | AL16: =SUM(Ս.Մնոյան!#REF!+'Է. Կարապետյան'!#REF!+'Կ․Դավթյան'!#REF!+Ժ.Նազարյան!#REF!+Դ.Դաբաղյան!#REF!+Գ.Պողոսյան!#REF!) -> #REF! | AM16: =SUM(Ս.Մնոյան!#REF!+'Է. Կարապետյան'!#REF!+'Կ․Դավթյան'!#REF!+Ժ.Նազարյան!#REF!+Դ.Դաբաղյան!#REF!+Գ.Պողոսյան!#REF!) -> #REF! | AN16: =SUM(Ս.Մնոյան!#REF!+'Է. Կարապետյան'!#REF!+'Կ․Դավթյան'!#REF!+Ժ.Նազարյան!#REF!+Դ.Դաբաղյան!#REF!+Գ.Պողոսյան!#REF!) -> #REF! | AO16: =SUM(Ս.Մնոյան!#REF!+'Է. Կարապետյան'!#REF!+'Կ․Դավթյան'!#REF!+Ժ.Նազարյան!#REF!+Դ.Դաբաղյան!#REF!+Գ.Պողոսյան!#REF!) -> #REF!
A17: 1.10 | B17: Դիակապտությունը | C17: 142 | D17: =SUM(Ս.Մնոյան!D17+'Է. Կարապետյան'!D17+'Կ․Դավթյան'!D17+Ժ.Նազարյան!D17+Դ.Դաբաղյան!D17+Գ.Պողոսյան!D17) -> 0 | E17: =SUM(Ս.Մնոյան!E17+'Է. Կարապետյան'!E17+'Կ․Դավթյան'!E17+Ժ.Նազարյան!E17+Դ.Դաբաղյան!E17+Գ.Պողոսյան!E17) -> 0 | F17: =SUM(Ս.Մնոյան!F17+'Է. Կարապետյան'!F17+'Կ․Դավթյան'!F17+Ժ.Նազարյան!F17+Դ.Դաբաղյան!F17+Գ.Պողոսյան!F17) -> 0 | G17: =SUM(Ս.Մնոյան!G17+'Է. Կարապետյան'!G17+'Կ․Դավթյան'!G17+Ժ.Նազարյան!G17+Դ.Դաբաղյան!G17+Գ.Պողոսյան!G17) -> 0 | H17: =SUM(Ս.Մնոյան!H17+'Է. Կարապետյան'!H17+'Կ․Դավթյան'!H17+Ժ.Նազարյան!H17+Դ.Դաբաղյան!H17+Գ.Պողոսյան!H17) -> 0 | I17: =SUM(Ս.Մնոյան!I17+'Է. Կարապետյան'!I17+'Կ․Դավթյան'!I17+Ժ.Նազարյան!I17+Դ.Դաբաղյան!I17+Գ.Պողոսյան!I17) -> 0 | J17: =SUM(Ս.Մնոյան!J17+'Է. Կարապետյան'!J17+'Կ․Դավթյան'!J17+Ժ.Նազարյան!J17+Դ.Դաբաղյան!J17+Գ.Պողոսյան!J17) -> 0 | K17: =SUM(Ս.Մնոյան!K17+'Է. Կարապետյան'!K17+'Կ․Դավթյան'!K17+Ժ.Նազարյան!K17+Դ.Դաբաղյան!K17+Գ.Պողոսյան!K17) -> 0 | ... AG17: =SUM(Ս.Մնոյան!AG17+'Է. Կարապետյան'!AG17+'Կ․Դավթյան'!AG17+Ժ.Նազարյան!AG17+Դ.Դաբաղյան!AG17+Գ.Պողոսյան!AG17) -> 0 | AH17: =SUM(Ս.Մնոյան!#REF!+'Է. Կարապետյան'!#REF!+'Կ․Դավթյան'!#REF!+Ժ.Նազարյան!#REF!+Դ.Դաբաղյան!#REF!+Գ.Պողոսյան!#REF!) -> #REF! | AI17: =SUM(Ս.Մնոյան!#REF!+'Է. Կարապետյան'!#REF!+'Կ․Դավթյան'!#REF!+Ժ.Նազարյան!#REF!+Դ.Դաբաղյան!#REF!+Գ.Պողոսյան!#REF!) -> #REF! | AJ17: =SUM(Ս.Մնոյան!#REF!+'Է. Կարապետյան'!#REF!+'Կ․Դավթյան'!#REF!+Ժ.Նազարյան!#REF!+Դ.Դաբաղյան!#REF!+Գ.Պողոսյան!#REF!) -> #REF! | AK17: =SUM(Ս.Մնոյան!#REF!+'Է. Կարապետյան'!#REF!+'Կ․Դավթյան'!#REF!+Ժ.Նազարյան!#REF!+Դ.Դաբաղյան!#REF!+Գ.Պողոսյան!#REF!) -> #REF! | AL17: =SUM(Ս.Մնոյան!#REF!+'Է. Կարապետյան'!#REF!+'Կ․Դավթյան'!#REF!+Ժ.Նազարյան!#REF!+Դ.Դաբաղյան!#REF!+Գ.Պողոսյան!#REF!) -> #REF! | AM17: =SUM(Ս.Մնոյան!#REF!+'Է. Կարապետյան'!#REF!+'Կ․Դավթյան'!#REF!+Ժ.Նազարյան!#REF!+Դ.Դաբաղյան!#REF!+Գ.Պողոսյան!#REF!) -> #REF! | AN17: =SUM(Ս.Մնոյան!#REF!+'Է. Կարապետյան'!#REF!+'Կ․Դավթյան'!#REF!+Ժ.Նազարյան!#REF!+Դ.Դաբաղյան!#REF!+Գ.Պողոսյան!#REF!) -> #REF! | AO17: =SUM(Ս.Մնոյան!#REF!+'Է. Կարապետյան'!#REF!+'Կ․Դավթյան'!#REF!+Ժ.Նազարյան!#REF!+Դ.Դաբաղյան!#REF!+Գ.Պողոսյան!#REF!) -> #REF!
A18: 1.11 | B18: Մարտադաշտում սպանվածների դիակներն անարգելը | C18: 143 | D18: =SUM(Ս.Մնոյան!D18+'Է. Կարապետյան'!D18+'Կ․Դավթյան'!D18+Ժ.Նազարյան!D18+Դ.Դաբաղյան!D18+Գ.Պողոսյան!D18) -> 0 | E18: =SUM(Ս.Մնոյան!E18+'Է. Կարապետյան'!E18+'Կ․Դավթյան'!E18+Ժ.Նազարյան!E18+Դ.Դաբաղյան!E18+Գ.Պողոսյան!E18) -> 0 | F18: =SUM(Ս.Մնոյան!F18+'Է. Կարապետյան'!F18+'Կ․Դավթյան'!F18+Ժ.Նազարյան!F18+Դ.Դաբաղյան!F18+Գ.Պողոսյան!F18) -> 0 | G18: =SUM(Ս.Մնոյան!G18+'Է. Կարապետյան'!G18+'Կ․Դավթյան'!G18+Ժ.Նազարյան!G18+Դ.Դաբաղյան!G18+Գ.Պողոսյան!G18) -> 0 | H18: =SUM(Ս.Մնոյան!H18+'Է. Կարապետյան'!H18+'Կ․Դավթյան'!H18+Ժ.Նազարյան!H18+Դ.Դաբաղյան!H18+Գ.Պողոսյան!H18) -> 0 | I18: =SUM(Ս.Մնոյան!I18+'Է. Կարապետյան'!I18+'Կ․Դավթյան'!I18+Ժ.Նազարյան!I18+Դ.Դաբաղյան!I18+Գ.Պողոսյան!I18) -> 0 | J18: =SUM(Ս.Մնոյան!J18+'Է. Կարապետյան'!J18+'Կ․Դավթյան'!J18+Ժ.Նազարյան!J18+Դ.Դաբաղյան!J18+Գ.Պողոսյան!J18) -> 0 | K18: =SUM(Ս.Մնոյան!K18+'Է. Կարապետյան'!K18+'Կ․Դավթյան'!K18+Ժ.Նազարյան!K18+Դ.Դաբաղյան!K18+Գ.Պողոսյան!K18) -> 0 | ... AG18: =SUM(Ս.Մնոյան!AG18+'Է. Կարապետյան'!AG18+'Կ․Դավթյան'!AG18+Ժ.Նազարյան!AG18+Դ.Դաբաղյան!AG18+Գ.Պողոսյան!AG18) -> 0 | AH18: =SUM(Ս.Մնոյան!#REF!+'Է. Կարապետյան'!#REF!+'Կ․Դավթյան'!#REF!+Ժ.Նազարյան!#REF!+Դ.Դաբաղյան!#REF!+Գ.Պողոսյան!#REF!) -> #REF! | AI18: =SUM(Ս.Մնոյան!#REF!+'Է. Կարապետյան'!#REF!+'Կ․Դավթյան'!#REF!+Ժ.Նազարյան!#REF!+Դ.Դաբաղյան!#REF!+Գ.Պողոսյան!#REF!) -> #REF! | AJ18: =SUM(Ս.Մնոյան!#REF!+'Է. Կարապետյան'!#REF!+'Կ․Դավթյան'!#REF!+Ժ.Նազարյան!#REF!+Դ.Դաբաղյան!#REF!+Գ.Պողոսյան!#REF!) -> #REF! | AK18: =SUM(Ս.Մնոյան!#REF!+'Է. Կարապետյան'!#REF!+'Կ․Դավթյան'!#REF!+Ժ.Նազարյան!#REF!+Դ.Դաբաղյան!#REF!+Գ.Պողոսյան!#REF!) -> #REF! | AL18: =SUM(Ս.Մնոյան!#REF!+'Է. Կարապետյան'!#REF!+'Կ․Դավթյան'!#REF!+Ժ.Նազարյան!#REF!+Դ.Դաբաղյան!#REF!+Գ.Պողոսյան!#REF!) -> #REF! | AM18: =SUM(Ս.Մնոյան!#REF!+'Է. Կարապետյան'!#REF!+'Կ․Դավթյան'!#REF!+Ժ.Նազարյան!#REF!+Դ.Դաբաղյան!#REF!+Գ.Պողոսյան!#REF!) -> #REF! | AN18: =SUM(Ս.Մնոյան!#REF!+'Է. Կարապետյան'!#REF!+'Կ․Դավթյան'!#REF!+Ժ.Նազարյան!#REF!+Դ.Դաբաղյան!#REF!+Գ.Պողոսյան!#REF!) -> #REF! | AO18: =SUM(Ս.Մնոյան!#REF!+'Է. Կարապետյան'!#REF!+'Կ․Դավթյան'!#REF!+Ժ.Նազարյան!#REF!+Դ.Դաբաղյան!#REF!+Գ.Պողոսյան!#REF!) -> #REF!
A19: 1.12 | B19: Զինված ընդհարման ժամանակ մշակութային արժեքները ոչնչացնելը, վնասելը, հափշտակելը կամ առգրավելը կամ դրանց նպատակային նշանակությունը փոփոխելը | C19: 144 | D19: =SUM(Ս.Մնոյան!D19+'Է. Կարապետյան'!D19+'Կ․Դավթյան'!D19+Ժ.Նազարյան!D19+Դ.Դաբաղյան!D19+Գ.Պողոսյան!D19) -> 0 | E19: =SUM(Ս.Մնոյան!E19+'Է. Կարապետյան'!E19+'Կ․Դավթյան'!E19+Ժ.Նազարյան!E19+Դ.Դաբաղյան!E19+Գ.Պողոսյան!E19) -> 0 | F19: =SUM(Ս.Մնոյան!F19+'Է. Կարապետյան'!F19+'Կ․Դավթյան'!F19+Ժ.Նազարյան!F19+Դ.Դաբաղյան!F19+Գ.Պողոսյան!F19) -> 0 | G19: =SUM(Ս.Մնոյան!G19+'Է. Կարապետյան'!G19+'Կ․Դավթյան'!G19+Ժ.Նազարյան!G19+Դ.Դաբաղյան!G19+Գ.Պողոսյան!G19) -> 0 | H19: =SUM(Ս.Մնոյան!H19+'Է. Կարապետյան'!H19+'Կ․Դավթյան'!H19+Ժ.Նազարյան!H19+Դ.Դաբաղյան!H19+Գ.Պողոսյան!H19) -> 0 | I19: =SUM(Ս.Մնոյան!I19+'Է. Կարապետյան'!I19+'Կ․Դավթյան'!I19+Ժ.Նազարյան!I19+Դ.Դաբաղյան!I19+Գ.Պողոսյան!I19) -> 0 | J19: =SUM(Ս.Մնոյան!J19+'Է. Կարապետյան'!J19+'Կ․Դավթյան'!J19+Ժ.Նազարյան!J19+Դ.Դաբաղյան!J19+Գ.Պողոսյան!J19) -> 0 | K19: =SUM(Ս.Մնոյան!K19+'Է. Կարապետյան'!K19+'Կ․Դավթյան'!K19+Ժ.Նազարյան!K19+Դ.Դաբաղյան!K19+Գ.Պողոսյան!K19) -> 0 | ... AG19: =SUM(Ս.Մնոյան!AG19+'Է. Կարապետյան'!AG19+'Կ․Դավթյան'!AG19+Ժ.Նազարյան!AG19+Դ.Դաբաղյան!AG19+Գ.Պողոսյան!AG19) -> 0 | AH19: =SUM(Ս.Մնոյան!#REF!+'Է. Կարապետյան'!#REF!+'Կ․Դավթյան'!#REF!+Ժ.Նազարյան!#REF!+Դ.Դաբաղյան!#REF!+Գ.Պողոսյան!#REF!) -> #REF! | AI19: =SUM(Ս.Մնոյան!#REF!+'Է. Կարապետյան'!#REF!+'Կ․Դավթյան'!#REF!+Ժ.Նազարյան!#REF!+Դ.Դաբաղյան!#REF!+Գ.Պողոսյան!#REF!) -> #REF! | AJ19: =SUM(Ս.Մնոյան!#REF!+'Է. Կարապետյան'!#REF!+'Կ․Դավթյան'!#REF!+Ժ.Նազարյան!#REF!+Դ.Դաբաղյան!#REF!+Գ.Պողոսյան!#REF!) -> #REF! | AK19: =SUM(Ս.Մնոյան!#REF!+'Է. Կարապետյան'!#REF!+'Կ․Դավթյան'!#REF!+Ժ.Նազարյան!#REF!+Դ.Դաբաղյան!#REF!+Գ.Պողոսյան!#REF!) -> #REF! | AL19: =SUM(Ս.Մնոյան!#REF!+'Է. Կարապետյան'!#REF!+'Կ․Դավթյան'!#REF!+Ժ.Նազարյան!#REF!+Դ.Դաբաղյան!#REF!+Գ.Պողոսյան!#REF!) -> #REF! | AM19: =SUM(Ս.Մնոյան!#REF!+'Է. Կարապետյան'!#REF!+'Կ․Դավթյան'!#REF!+Ժ.Նազարյան!#REF!+Դ.Դաբաղյան!#REF!+Գ.Պողոսյան!#REF!) -> #REF! | AN19: =SUM(Ս.Մնոյան!#REF!+'Է. Կարապետյան'!#REF!+'Կ․Դավթյան'!#REF!+Ժ.Նազարյան!#REF!+Դ.Դաբաղյան!#REF!+Գ.Պողոսյան!#REF!) -> #REF! | AO19: =SUM(Ս.Մնոյան!#REF!+'Է. Կարապետյան'!#REF!+'Կ․Դավթյան'!#REF!+Ժ.Նազարյան!#REF!+Դ.Դաբաղյան!#REF!+Գ.Պողոսյան!#REF!) -> #REF!
A20: 1.13 | B20: Պատերազմի կամ զինված ընդհարման ժամանակ մշակութային արժեքների պաշտպանության կանոնները խախտելը | C20: 145 | D20: =SUM(Ս.Մնոյան!D20+'Է. Կարապետյան'!D20+'Կ․Դավթյան'!D20+Ժ.Նազարյան!D20+Դ.Դաբաղյան!D20+Գ.Պողոսյան!D20) -> 0 | E20: =SUM(Ս.Մնոյան!E20+'Է. Կարապետյան'!E20+'Կ․Դավթյան'!E20+Ժ.Նազարյան!E20+Դ.Դաբաղյան!E20+Գ.Պողոսյան!E20) -> 0 | F20: =SUM(Ս.Մնոյան!F20+'Է. Կարապետյան'!F20+'Կ․Դավթյան'!F20+Ժ.Նազարյան!F20+Դ.Դաբաղյան!F20+Գ.Պողոսյան!F20) -> 0 | G20: =SUM(Ս.Մնոյան!G20+'Է. Կարապետյան'!G20+'Կ․Դավթյան'!G20+Ժ.Նազարյան!G20+Դ.Դաբաղյան!G20+Գ.Պողոսյան!G20) -> 0 | H20: =SUM(Ս.Մնոյան!H20+'Է. Կարապետյան'!H20+'Կ․Դավթյան'!H20+Ժ.Նազարյան!H20+Դ.Դաբաղյան!H20+Գ.Պողոսյան!H20) -> 0 | I20: =SUM(Ս.Մնոյան!I20+'Է. Կարապետյան'!I20+'Կ․Դավթյան'!I20+Ժ.Նազարյան!I20+Դ.Դաբաղյան!I20+Գ.Պողոսյան!I20) -> 0 | J20: =SUM(Ս.Մնոյան!J20+'Է. Կարապետյան'!J20+'Կ․Դավթյան'!J20+Ժ.Նազարյան!J20+Դ.Դաբաղյան!J20+Գ.Պողոսյան!J20) -> 0 | K20: =SUM(Ս.Մնոյան!K20+'Է. Կարապետյան'!K20+'Կ․Դավթյան'!K20+Ժ.Նազարյան!K20+Դ.Դաբաղյան!K20+Գ.Պողոսյան!K20) -> 0 | ... AG20: =SUM(Ս.Մնոյան!AG20+'Է. Կարապետյան'!AG20+'Կ․Դավթյան'!AG20+Ժ.Նազարյան!AG20+Դ.Դաբաղյան!AG20+Գ.Պողոսյան!AG20) -> 0 | AH20: =SUM(Ս.Մնոյան!#REF!+'Է. Կարապետյան'!#REF!+'Կ․Դավթյան'!#REF!+Ժ.Նազարյան!#REF!+Դ.Դաբաղյան!#REF!+Գ.Պողոսյան!#REF!) -> #REF! | AI20: =SUM(Ս.Մնոյան!#REF!+'Է. Կարապետյան'!#REF!+'Կ․Դավթյան'!#REF!+Ժ.Նազարյան!#REF!+Դ.Դաբաղյան!#REF!+Գ.Պողոսյան!#REF!) -> #REF! | AJ20: =SUM(Ս.Մնոյան!#REF!+'Է. Կարապետյան'!#REF!+'Կ․Դավթյան'!#REF!+Ժ.Նազարյան!#REF!+Դ.Դաբաղյան!#REF!+Գ.Պողոսյան!#REF!) -> #REF! | AK20: =SUM(Ս.Մնոյան!#REF!+'Է. Կարապետյան'!#REF!+'Կ․Դավթյան'!#REF!+Ժ.Նազարյան!#REF!+Դ.Դաբաղյան!#REF!+Գ.Պողոսյան!#REF!) -> #REF! | AL20: =SUM(Ս.Մնոյան!#REF!+'Է. Կարապետյան'!#REF!+'Կ․Դավթյան'!#REF!+Ժ.Նազարյան!#REF!+Դ.Դաբաղյան!#REF!+Գ.Պողոսյան!#REF!) -> #REF! | AM20: =SUM(Ս.Մնոյան!#REF!+'Է. Կարապետյան'!#REF!+'Կ․Դավթյան'!#REF!+Ժ.Նազարյան!#REF!+Դ.Դաբաղյան!#REF!+Գ.Պողոսյան!#REF!) -> #REF! | AN20: =SUM(Ս.Մնոյան!#REF!+'Է. Կարապետյան'!#REF!+'Կ․Դավթյան'!#REF!+Ժ.Նազարյան!#REF!+Դ.Դաբաղյան!#REF!+Գ.Պողոսյան!#REF!) -> #REF! | AO20: =SUM(Ս.Մնոյան!#REF!+'Է. Կարապետյան'!#REF!+'Կ․Դավթյան'!#REF!+Ժ.Նազարյան!#REF!+Դ.Դաբաղյան!#REF!+Գ.Պողոսյան!#REF!) -> #REF!
A21: 1.14 | B21: Ռասայական, ազգային, էթնիկական կամ կրոնական թշնամանք հարուցելու նպատակով մշակութային արժեքները ոչնչացնելը կամ վնասելը | C21: 146 | D21: =SUM(Ս.Մնոյան!D21+'Է. Կարապետյան'!D21+'Կ․Դավթյան'!D21+Ժ.Նազարյան!D21+Դ.Դաբաղյան!D21+Գ.Պողոսյան!D21) -> 0 | E21: =SUM(Ս.Մնոյան!E21+'Է. Կարապետյան'!E21+'Կ․Դավթյան'!E21+Ժ.Նազարյան!E21+Դ.Դաբաղյան!E21+Գ.Պողոսյան!E21) -> 0 | F21: =SUM(Ս.Մնոյան!F21+'Է. Կարապետյան'!F21+'Կ․Դավթյան'!F21+Ժ.Նազարյան!F21+Դ.Դաբաղյան!F21+Գ.Պողոսյան!F21) -> 0 | G21: =SUM(Ս.Մնոյան!G21+'Է. Կարապետյան'!G21+'Կ․Դավթյան'!G21+Ժ.Նազարյան!G21+Դ.Դաբաղյան!G21+Գ.Պողոսյան!G21) -> 0 | H21: =SUM(Ս.Մնոյան!H21+'Է. Կարապետյան'!H21+'Կ․Դավթյան'!H21+Ժ.Նազարյան!H21+Դ.Դաբաղյան!H21+Գ.Պողոսյան!H21) -> 0 | I21: =SUM(Ս.Մնոյան!I21+'Է. Կարապետյան'!I21+'Կ․Դավթյան'!I21+Ժ.Նազարյան!I21+Դ.Դաբաղյան!I21+Գ.Պողոսյան!I21) -> 0 | J21: =SUM(Ս.Մնոյան!J21+'Է. Կարապետյան'!J21+'Կ․Դավթյան'!J21+Ժ.Նազարյան!J21+Դ.Դաբաղյան!J21+Գ.Պողոսյան!J21) -> 0 | K21: =SUM(Ս.Մնոյան!K21+'Է. Կարապետյան'!K21+'Կ․Դավթյան'!K21+Ժ.Նազարյան!K21+Դ.Դաբաղյան!K21+Գ.Պողոսյան!K21) -> 0 | ... AG21: =SUM(Ս.Մնոյան!AG21+'Է. Կարապետյան'!AG21+'Կ․Դավթյան'!AG21+Ժ.Նազարյան!AG21+Դ.Դաբաղյան!AG21+Գ.Պողոսյան!AG21) -> 0 | AH21: =SUM(Ս.Մնոյան!#REF!+'Է. Կարապետյան'!#REF!+'Կ․Դավթյան'!#REF!+Ժ.Նազարյան!#REF!+Դ.Դաբաղյան!#REF!+Գ.Պողոսյան!#REF!) -> #REF! | AI21: =SUM(Ս.Մնոյան!#REF!+'Է. Կարապետյան'!#REF!+'Կ․Դավթյան'!#REF!+Ժ.Նազարյան!#REF!+Դ.Դաբաղյան!#REF!+Գ.Պողոսյան!#REF!) -> #REF! | AJ21: =SUM(Ս.Մնոյան!#REF!+'Է. Կարապետյան'!#REF!+'Կ․Դավթյան'!#REF!+Ժ.Նազարյան!#REF!+Դ.Դաբաղյան!#REF!+Գ.Պողոսյան!#REF!) -> #REF! | AK21: =SUM(Ս.Մնոյան!#REF!+'Է. Կարապետյան'!#REF!+'Կ․Դավթյան'!#REF!+Ժ.Նազարյան!#REF!+Դ.Դաբաղյան!#REF!+Գ.Պողոսյան!#REF!) -> #REF! | AL21: =SUM(Ս.Մնոյան!#REF!+'Է. Կարապետյան'!#REF!+'Կ․Դավթյան'!#REF!+Ժ.Նազարյան!#REF!+Դ.Դաբաղյան!#REF!+Գ.Պողոսյան!#REF!) -> #REF! | AM21: =SUM(Ս.Մնոյան!#REF!+'Է. Կարապետյան'!#REF!+'Կ․Դավթյան'!#REF!+Ժ.Նազարյան!#REF!+Դ.Դաբաղյան!#REF!+Գ.Պողոսյան!#REF!) -> #REF! | AN21: =SUM(Ս.Մնոյան!#REF!+'Է. Կարապետյան'!#REF!+'Կ․Դավթյան'!#REF!+Ժ.Նազարյան!#REF!+Դ.Դաբաղյան!#REF!+Գ.Պողոսյան!#REF!) -> #REF! | AO21: =SUM(Ս.Մնոյան!#REF!+'Է. Կարապետյան'!#REF!+'Կ․Դավթյան'!#REF!+Ժ.Նազարյան!#REF!+Դ.Դաբաղյան!#REF!+Գ.Պողոսյան!#REF!) -> #REF!
A22: 1.15 | B22: Վարձկանությունը | C22: 147 | D22: =SUM(Ս.Մնոյան!D22+'Է. Կարապետյան'!D22+'Կ․Դավթյան'!D22+Ժ.Նազարյան!D22+Դ.Դաբաղյան!D22+Գ.Պողոսյան!D22) -> 0 | E22: =SUM(Ս.Մնոյան!E22+'Է. Կարապետյան'!E22+'Կ․Դավթյան'!E22+Ժ.Նազարյան!E22+Դ.Դաբաղյան!E22+Գ.Պողոսյան!E22) -> 0 | F22: =SUM(Ս.Մնոյան!F22+'Է. Կարապետյան'!F22+'Կ․Դավթյան'!F22+Ժ.Նազարյան!F22+Դ.Դաբաղյան!F22+Գ.Պողոսյան!F22) -> 0 | G22: =SUM(Ս.Մնոյան!G22+'Է. Կարապետյան'!G22+'Կ․Դավթյան'!G22+Ժ.Նազարյան!G22+Դ.Դաբաղյան!G22+Գ.Պողոսյան!G22) -> 0 | H22: =SUM(Ս.Մնոյան!H22+'Է. Կարապետյան'!H22+'Կ․Դավթյան'!H22+Ժ.Նազարյան!H22+Դ.Դաբաղյան!H22+Գ.Պողոսյան!H22) -> 0 | I22: =SUM(Ս.Մնոյան!I22+'Է. Կարապետյան'!I22+'Կ․Դավթյան'!I22+Ժ.Նազարյան!I22+Դ.Դաբաղյան!I22+Գ.Պողոսյան!I22) -> 0 | J22: =SUM(Ս.Մնոյան!J22+'Է. Կարապետյան'!J22+'Կ․Դավթյան'!J22+Ժ.Նազարյան!J22+Դ.Դաբաղյան!J22+Գ.Պողոսյան!J22) -> 0 | K22: =SUM(Ս.Մնոյան!K22+'Է. Կարապետյան'!K22+'Կ․Դավթյան'!K22+Ժ.Նազարյան!K22+Դ.Դաբաղյան!K22+Գ.Պողոսյան!K22) -> 0 | ... AG22: =SUM(Ս.Մնոյան!AG22+'Է. Կարապետյան'!AG22+'Կ․Դավթյան'!AG22+Ժ.Նազարյան!AG22+Դ.Դաբաղյան!AG22+Գ.Պողոսյան!AG22) -> 0 | AH22: =SUM(Ս.Մնոյան!#REF!+'Է. Կարապետյան'!#REF!+'Կ․Դավթյան'!#REF!+Ժ.Նազարյան!#REF!+Դ.Դաբաղյան!#REF!+Գ.Պողոսյան!#REF!) -> #REF! | AI22: =SUM(Ս.Մնոյան!#REF!+'Է. Կարապետյան'!#REF!+'Կ․Դավթյան'!#REF!+Ժ.Նազարյան!#REF!+Դ.Դաբաղյան!#REF!+Գ.Պողոսյան!#REF!) -> #REF! | AJ22: =SUM(Ս.Մնոյան!#REF!+'Է. Կարապետյան'!#REF!+'Կ․Դավթյան'!#REF!+Ժ.Նազարյան!#REF!+Դ.Դաբաղյան!#REF!+Գ.Պողոսյան!#REF!) -> #REF! | AK22: =SUM(Ս.Մնոյան!#REF!+'Է. Կարապետյան'!#REF!+'Կ․Դավթյան'!#REF!+Ժ.Նազարյան!#REF!+Դ.Դաբաղյան!#REF!+Գ.Պողոսյան!#REF!) -> #REF! | AL22: =SUM(Ս.Մնոյան!#REF!+'Է. Կարապետյան'!#REF!+'Կ․Դավթյան'!#REF!+Ժ.Նազարյան!#REF!+Դ.Դաբաղյան!#REF!+Գ.Պողոսյան!#REF!) -> #REF! | AM22: =SUM(Ս.Մնոյան!#REF!+'Է. Կարապետյան'!#REF!+'Կ․Դավթյան'!#REF!+Ժ.Նազարյան!#REF!+Դ.Դաբաղյան!#REF!+Գ.Պողոսյան!#REF!) -> #REF! | AN22: =SUM(Ս.Մնոյան!#REF!+'Է. Կարապետյան'!#REF!+'Կ․Դավթյան'!#REF!+Ժ.Նազարյան!#REF!+Դ.Դաբաղյան!#REF!+Գ.Պողոսյան!#REF!) -> #REF! | AO22: =SUM(Ս.Մնոյան!#REF!+'Է. Կարապետյան'!#REF!+'Կ․Դավթյան'!#REF!+Ժ.Նազարյան!#REF!+Դ.Դաբաղյան!#REF!+Գ.Պողոսյան!#REF!) -> #REF!
A23: 1.16 | B23: Անգործությունը զինված ընդհարման ժամանակ | C23: 148 | D23: =SUM(Ս.Մնոյան!D23+'Է. Կարապետյան'!D23+'Կ․Դավթյան'!D23+Ժ.Նազարյան!D23+Դ.Դաբաղյան!D23+Գ.Պողոսյան!D23) -> 0 | E23: =SUM(Ս.Մնոյան!E23+'Է. Կարապետյան'!E23+'Կ․Դավթյան'!E23+Ժ.Նազարյան!E23+Դ.Դաբաղյան!E23+Գ.Պողոսյան!E23) -> 0 | F23: =SUM(Ս.Մնոյան!F23+'Է. Կարապետյան'!F23+'Կ․Դավթյան'!F23+Ժ.Նազարյան!F23+Դ.Դաբաղյան!F23+Գ.Պողոսյան!F23) -> 0 | G23: =SUM(Ս.Մնոյան!G23+'Է. Կարապետյան'!G23+'Կ․Դավթյան'!G23+Ժ.Նազարյան!G23+Դ.Դաբաղյան!G23+Գ.Պողոսյան!G23) -> 0 | H23: =SUM(Ս.Մնոյան!H23+'Է. Կարապետյան'!H23+'Կ․Դավթյան'!H23+Ժ.Նազարյան!H23+Դ.Դաբաղյան!H23+Գ.Պողոսյան!H23) -> 0 | I23: =SUM(Ս.Մնոյան!I23+'Է. Կարապետյան'!I23+'Կ․Դավթյան'!I23+Ժ.Նազարյան!I23+Դ.Դաբաղյան!I23+Գ.Պողոսյան!I23) -> 0 | J23: =SUM(Ս.Մնոյան!J23+'Է. Կարապետյան'!J23+'Կ․Դավթյան'!J23+Ժ.Նազարյան!J23+Դ.Դաբաղյան!J23+Գ.Պողոսյան!J23) -> 0 | K23: =SUM(Ս.Մնոյան!K23+'Է. Կարապետյան'!K23+'Կ․Դավթյան'!K23+Ժ.Նազարյան!K23+Դ.Դաբաղյան!K23+Գ.Պողոսյան!K23) -> 0 | ... AG23: =SUM(Ս.Մնոյան!AG23+'Է. Կարապետյան'!AG23+'Կ․Դավթյան'!AG23+Ժ.Նազարյան!AG23+Դ.Դաբաղյան!AG23+Գ.Պողոսյան!AG23) -> 0 | AH23: =SUM(Ս.Մնոյան!#REF!+'Է. Կարապետյան'!#REF!+'Կ․Դավթյան'!#REF!+Ժ.Նազարյան!#REF!+Դ.Դաբաղյան!#REF!+Գ.Պողոսյան!#REF!) -> #REF! | AI23: =SUM(Ս.Մնոյան!#REF!+'Է. Կարապետյան'!#REF!+'Կ․Դավթյան'!#REF!+Ժ.Նազարյան!#REF!+Դ.Դաբաղյան!#REF!+Գ.Պողոսյան!#REF!) -> #REF! | AJ23: =SUM(Ս.Մնոյան!#REF!+'Է. Կարապետյան'!#REF!+'Կ․Դավթյան'!#REF!+Ժ.Նազարյան!#REF!+Դ.Դաբաղյան!#REF!+Գ.Պողոսյան!#REF!) -> #REF! | AK23: =SUM(Ս.Մնոյան!#REF!+'Է. Կարապետյան'!#REF!+'Կ․Դավթյան'!#REF!+Ժ.Նազարյան!#REF!+Դ.Դաբաղյան!#REF!+Գ.Պողոսյան!#REF!) -> #REF! | AL23: =SUM(Ս.Մնոյան!#REF!+'Է. Կարապետյան'!#REF!+'Կ․Դավթյան'!#REF!+Ժ.Նազարյան!#REF!+Դ.Դաբաղյան!#REF!+Գ.Պողոսյան!#REF!) -> #REF! | AM23: =SUM(Ս.Մնոյան!#REF!+'Է. Կարապետյան'!#REF!+'Կ․Դավթյան'!#REF!+Ժ.Նազարյան!#REF!+Դ.Դաբաղյան!#REF!+Գ.Պողոսյան!#REF!) -> #REF! | AN23: =SUM(Ս.Մնոյան!#REF!+'Է. Կարապետյան'!#REF!+'Կ․Դավթյան'!#REF!+Ժ.Նազարյան!#REF!+Դ.Դաբաղյան!#REF!+Գ.Պողոսյան!#REF!) -> #REF! | AO23: =SUM(Ս.Մնոյան!#REF!+'Է. Կարապետյան'!#REF!+'Կ․Դավթյան'!#REF!+Ժ.Նազարյան!#REF!+Դ.Դաբաղյան!#REF!+Գ.Պողոսյան!#REF!) -> #REF!
A24: 1.17 | B24: Ագրեսիան | C24: 149 | D24: =SUM(Ս.Մնոյան!D24+'Է. Կարապետյան'!D24+'Կ․Դավթյան'!D24+Ժ.Նազարյան!D24+Դ.Դաբաղյան!D24+Գ.Պողոսյան!D24) -> 0 | E24: =SUM(Ս.Մնոյան!E24+'Է. Կարապետյան'!E24+'Կ․Դավթյան'!E24+Ժ.Նազարյան!E24+Դ.Դաբաղյան!E24+Գ.Պողոսյան!E24) -> 0 | F24: =SUM(Ս.Մնոյան!F24+'Է. Կարապետյան'!F24+'Կ․Դավթյան'!F24+Ժ.Նազարյան!F24+Դ.Դաբաղյան!F24+Գ.Պողոսյան!F24) -> 0 | G24: =SUM(Ս.Մնոյան!G24+'Է. Կարապետյան'!G24+'Կ․Դավթյան'!G24+Ժ.Նազարյան!G24+Դ.Դաբաղյան!G24+Գ.Պողոսյան!G24) -> 0 | H24: =SUM(Ս.Մնոյան!H24+'Է. Կարապետյան'!H24+'Կ․Դավթյան'!H24+Ժ.Նազարյան!H24+Դ.Դաբաղյան!H24+Գ.Պողոսյան!H24) -> 0 | I24: =SUM(Ս.Մնոյան!I24+'Է. Կարապետյան'!I24+'Կ․Դավթյան'!I24+Ժ.Նազարյան!I24+Դ.Դաբաղյան!I24+Գ.Պողոսյան!I24) -> 0 | J24: =SUM(Ս.Մնոյան!J24+'Է. Կարապետյան'!J24+'Կ․Դավթյան'!J24+Ժ.Նազարյան!J24+Դ.Դաբաղյան!J24+Գ.Պողոսյան!J24) -> 0 | K24: =SUM(Ս.Մնոյան!K24+'Է. Կարապետյան'!K24+'Կ․Դավթյան'!K24+Ժ.Նազարյան!K24+Դ.Դաբաղյան!K24+Գ.Պողոսյան!K24) -> 0 | ... AG24: =SUM(Ս.Մնոյան!AG24+'Է. Կարապետյան'!AG24+'Կ․Դավթյան'!AG24+Ժ.Նազարյան!AG24+Դ.Դաբաղյան!AG24+Գ.Պողոսյան!AG24) -> 0 | AH24: =SUM(Ս.Մնոյան!#REF!+'Է. Կարապետյան'!#REF!+'Կ․Դավթյան'!#REF!+Ժ.Նազարյան!#REF!+Դ.Դաբաղյան!#REF!+Գ.Պողոսյան!#REF!) -> #REF! | AI24: =SUM(Ս.Մնոյան!#REF!+'Է. Կարապետյան'!#REF!+'Կ․Դավթյան'!#REF!+Ժ.Նազարյան!#REF!+Դ.Դաբաղյան!#REF!+Գ.Պողոսյան!#REF!) -> #REF! | AJ24: =SUM(Ս.Մնոյան!#REF!+'Է. Կարապետյան'!#REF!+'Կ․Դավթյան'!#REF!+Ժ.Նազարյան!#REF!+Դ.Դաբաղյան!#REF!+Գ.Պողոսյան!#REF!) -> #REF! | AK24: =SUM(Ս.Մնոյան!#REF!+'Է. Կարապետյան'!#REF!+'Կ․Դավթյան'!#REF!+Ժ.Նազարյան!#REF!+Դ.Դաբաղյան!#REF!+Գ.Պողոսյան!#REF!) -> #REF! | AL24: =SUM(Ս.Մնոյան!#REF!+'Է. Կարապետյան'!#REF!+'Կ․Դավթյան'!#REF!+Ժ.Նազարյան!#REF!+Դ.Դաբաղյան!#REF!+Գ.Պողոսյան!#REF!) -> #REF! | AM24: =SUM(Ս.Մնոյան!#REF!+'Է. Կարապետյան'!#REF!+'Կ․Դավթյան'!#REF!+Ժ.Նազարյան!#REF!+Դ.Դաբաղյան!#REF!+Գ.Պողոսյան!#REF!) -> #REF! | AN24: =SUM(Ս.Մնոյան!#REF!+'Է. Կարապետյան'!#REF!+'Կ․Դավթյան'!#REF!+Ժ.Նազարյան!#REF!+Դ.Դաբաղյան!#REF!+Գ.Պողոսյան!#REF!) -> #REF! | AO24: =SUM(Ս.Մնոյան!#REF!+'Է. Կարապետյան'!#REF!+'Կ․Դավթյան'!#REF!+Ժ.Նազարյան!#REF!+Դ.Դաբաղյան!#REF!+Գ.Պողոսյան!#REF!) -> #REF!
A25: 1.18 | B25: Համավարակի կամ մարդկության անվտանգությանն անմիջական սպառնալիքի իրավիճակի պայմաններում ագրեսիվ ռազմական գործողություններ նախաձեռնելը, իրականացնելը կամ դրանք չդադարեցնելը | C25: 150 | D25: =SUM(Ս.Մնոյան!D25+'Է. Կարապետյան'!D25+'Կ․Դավթյան'!D25+Ժ.Նազարյան!D25+Դ.Դաբաղյան!D25+Գ.Պողոսյան!D25) -> 0 | E25: =SUM(Ս.Մնոյան!E25+'Է. Կարապետյան'!E25+'Կ․Դավթյան'!E25+Ժ.Նազարյան!E25+Դ.Դաբաղյան!E25+Գ.Պողոսյան!E25) -> 0 | F25: =SUM(Ս.Մնոյան!F25+'Է. Կարապետյան'!F25+'Կ․Դավթյան'!F25+Ժ.Նազարյան!F25+Դ.Դաբաղյան!F25+Գ.Պողոսյան!F25) -> 0 | G25: =SUM(Ս.Մնոյան!G25+'Է. Կարապետյան'!G25+'Կ․Դավթյան'!G25+Ժ.Նազարյան!G25+Դ.Դաբաղյան!G25+Գ.Պողոսյան!G25) -> 0 | H25: =SUM(Ս.Մնոյան!H25+'Է. Կարապետյան'!H25+'Կ․Դավթյան'!H25+Ժ.Նազարյան!H25+Դ.Դաբաղյան!H25+Գ.Պողոսյան!H25) -> 0 | I25: =SUM(Ս.Մնոյան!I25+'Է. Կարապետյան'!I25+'Կ․Դավթյան'!I25+Ժ.Նազարյան!I25+Դ.Դաբաղյան!I25+Գ.Պողոսյան!I25) -> 0 | J25: =SUM(Ս.Մնոյան!J25+'Է. Կարապետյան'!J25+'Կ․Դավթյան'!J25+Ժ.Նազարյան!J25+Դ.Դաբաղյան!J25+Գ.Պողոսյան!J25) -> 0 | K25: =SUM(Ս.Մնոյան!K25+'Է. Կարապետյան'!K25+'Կ․Դավթյան'!K25+Ժ.Նազարյան!K25+Դ.Դաբաղյան!K25+Գ.Պողոսյան!K25) -> 0 | ... AG25: =SUM(Ս.Մնոյան!AG25+'Է. Կարապետյան'!AG25+'Կ․Դավթյան'!AG25+Ժ.Նազարյան!AG25+Դ.Դաբաղյան!AG25+Գ.Պողոսյան!AG25) -> 0 | AH25: =SUM(Ս.Մնոյան!#REF!+'Է. Կարապետյան'!#REF!+'Կ․Դավթյան'!#REF!+Ժ.Նազարյան!#REF!+Դ.Դաբաղյան!#REF!+Գ.Պողոսյան!#REF!) -> #REF! | AI25: =SUM(Ս.Մնոյան!#REF!+'Է. Կարապետյան'!#REF!+'Կ․Դավթյան'!#REF!+Ժ.Նազարյան!#REF!+Դ.Դաբաղյան!#REF!+Գ.Պողոսյան!#REF!) -> #REF! | AJ25: =SUM(Ս.Մնոյան!#REF!+'Է. Կարապետյան'!#REF!+'Կ․Դավթյան'!#REF!+Ժ.Նազարյան!#REF!+Դ.Դաբաղյան!#REF!+Գ.Պողոսյան!#REF!) -> #REF! | AK25: =SUM(Ս.Մնոյան!#REF!+'Է. Կարապետյան'!#REF!+'Կ․Դավթյան'!#REF!+Ժ.Նազարյան!#REF!+Դ.Դաբաղյան!#REF!+Գ.Պողոսյան!#REF!) -> #REF! | AL25: =SUM(Ս.Մնոյան!#REF!+'Է. Կարապետյան'!#REF!+'Կ․Դավթյան'!#REF!+Ժ.Նազարյան!#REF!+Դ.Դաբաղյան!#REF!+Գ.Պողոսյան!#REF!) -> #REF! | AM25: =SUM(Ս.Մնոյան!#REF!+'Է. Կարապետյան'!#REF!+'Կ․Դավթյան'!#REF!+Ժ.Նազարյան!#REF!+Դ.Դաբաղյան!#REF!+Գ.Պողոսյան!#REF!) -> #REF! | AN25: =SUM(Ս.Մնոյան!#REF!+'Է. Կարապետյան'!#REF!+'Կ․Դավթյան'!#REF!+Ժ.Նազարյան!#REF!+Դ.Դաբաղյան!#REF!+Գ.Պողոսյան!#REF!) -> #REF! | AO25: =SUM(Ս.Մնոյան!#REF!+'Է. Կարապետյան'!#REF!+'Կ․Դավթյան'!#REF!+Ժ.Նազարյան!#REF!+Դ.Դաբաղյան!#REF!+Գ.Պողոսյան!#REF!) -> #REF!
A26: 1.19 | B26: Ագրեսիա իրականացնելու ուղղակի և հրապարակային կոչերը | C26: 151 | D26: =SUM(Ս.Մնոյան!D26+'Է. Կարապետյան'!D26+'Կ․Դավթյան'!D26+Ժ.Նազարյան!D26+Դ.Դաբաղյան!D26+Գ.Պողոսյան!D26) -> 0 | E26: =SUM(Ս.Մնոյան!E26+'Է. Կարապետյան'!E26+'Կ․Դավթյան'!E26+Ժ.Նազարյան!E26+Դ.Դաբաղյան!E26+Գ.Պողոսյան!E26) -> 0 | F26: =SUM(Ս.Մնոյան!F26+'Է. Կարապետյան'!F26+'Կ․Դավթյան'!F26+Ժ.Նազարյան!F26+Դ.Դաբաղյան!F26+Գ.Պողոսյան!F26) -> 0 | G26: =SUM(Ս.Մնոյան!G26+'Է. Կարապետյան'!G26+'Կ․Դավթյան'!G26+Ժ.Նազարյան!G26+Դ.Դաբաղյան!G26+Գ.Պողոսյան!G26) -> 0 | H26: =SUM(Ս.Մնոյան!H26+'Է. Կարապետյան'!H26+'Կ․Դավթյան'!H26+Ժ.Նազարյան!H26+Դ.Դաբաղյան!H26+Գ.Պողոսյան!H26) -> 0 | I26: =SUM(Ս.Մնոյան!I26+'Է. Կարապետյան'!I26+'Կ․Դավթյան'!I26+Ժ.Նազարյան!I26+Դ.Դաբաղյան!I26+Գ.Պողոսյան!I26) -> 0 | J26: =SUM(Ս.Մնոյան!J26+'Է. Կարապետյան'!J26+'Կ․Դավթյան'!J26+Ժ.Նազարյան!J26+Դ.Դաբաղյան!J26+Գ.Պողոսյան!J26) -> 0 | K26: =SUM(Ս.Մնոյան!K26+'Է. Կարապետյան'!K26+'Կ․Դավթյան'!K26+Ժ.Նազարյան!K26+Դ.Դաբաղյան!K26+Գ.Պողոսյան!K26) -> 0 | ... AG26: =SUM(Ս.Մնոյան!AG26+'Է. Կարապետյան'!AG26+'Կ․Դավթյան'!AG26+Ժ.Նազարյան!AG26+Դ.Դաբաղյան!AG26+Գ.Պողոսյան!AG26) -> 0 | AH26: =SUM(Ս.Մնոյան!#REF!+'Է. Կարապետյան'!#REF!+'Կ․Դավթյան'!#REF!+Ժ.Նազարյան!#REF!+Դ.Դաբաղյան!#REF!+Գ.Պողոսյան!#REF!) -> #REF! | AI26: =SUM(Ս.Մնոյան!#REF!+'Է. Կարապետյան'!#REF!+'Կ․Դավթյան'!#REF!+Ժ.Նազարյան!#REF!+Դ.Դաբաղյան!#REF!+Գ.Պողոսյան!#REF!) -> #REF! | AJ26: =SUM(Ս.Մնոյան!#REF!+'Է. Կարապետյան'!#REF!+'Կ․Դավթյան'!#REF!+Ժ.Նազարյան!#REF!+Դ.Դաբաղյան!#REF!+Գ.Պողոսյան!#REF!) -> #REF! | AK26: =SUM(Ս.Մնոյան!#REF!+'Է. Կարապետյան'!#REF!+'Կ․Դավթյան'!#REF!+Ժ.Նազարյան!#REF!+Դ.Դաբաղյան!#REF!+Գ.Պողոսյան!#REF!) -> #REF! | AL26: =SUM(Ս.Մնոյան!#REF!+'Է. Կարապետյան'!#REF!+'Կ․Դավթյան'!#REF!+Ժ.Նազարյան!#REF!+Դ.Դաբաղյան!#REF!+Գ.Պողոսյան!#REF!) -> #REF! | AM26: =SUM(Ս.Մնոյան!#REF!+'Է. Կարապետյան'!#REF!+'Կ․Դավթյան'!#REF!+Ժ.Նազարյան!#REF!+Դ.Դաբաղյան!#REF!+Գ.Պողոսյան!#REF!) -> #REF! | AN26: =SUM(Ս.Մնոյան!#REF!+'Է. Կարապետյան'!#REF!+'Կ․Դավթյան'!#REF!+Ժ.Նազարյան!#REF!+Դ.Դաբաղյան!#REF!+Գ.Պողոսյան!#REF!) -> #REF! | AO26: =SUM(Ս.Մնոյան!#REF!+'Է. Կարապետյան'!#REF!+'Կ․Դավթյան'!#REF!+Ժ.Նազարյան!#REF!+Դ.Դաբաղյան!#REF!+Գ.Պողոսյան!#REF!) -> #REF!
A27: 1.20 | B27: Միջազգային ահաբեկչությունը | C27: 152 | D27: =SUM(Ս.Մնոյան!D27+'Է. Կարապետյան'!D27+'Կ․Դավթյան'!D27+Ժ.Նազարյան!D27+Դ.Դաբաղյան!D27+Գ.Պողոսյան!D27) -> 0 | E27: =SUM(Ս.Մնոյան!E27+'Է. Կարապետյան'!E27+'Կ․Դավթյան'!E27+Ժ.Նազարյան!E27+Դ.Դաբաղյան!E27+Գ.Պողոսյան!E27) -> 0 | F27: =SUM(Ս.Մնոյան!F27+'Է. Կարապետյան'!F27+'Կ․Դավթյան'!F27+Ժ.Նազարյան!F27+Դ.Դաբաղյան!F27+Գ.Պողոսյան!F27) -> 0 | G27: =SUM(Ս.Մնոյան!G27+'Է. Կարապետյան'!G27+'Կ․Դավթյան'!G27+Ժ.Նազարյան!G27+Դ.Դաբաղյան!G27+Գ.Պողոսյան!G27) -> 0 | H27: =SUM(Ս.Մնոյան!H27+'Է. Կարապետյան'!H27+'Կ․Դավթյան'!H27+Ժ.Նազարյան!H27+Դ.Դաբաղյան!H27+Գ.Պողոսյան!H27) -> 0 | I27: =SUM(Ս.Մնոյան!I27+'Է. Կարապետյան'!I27+'Կ․Դավթյան'!I27+Ժ.Նազարյան!I27+Դ.Դաբաղյան!I27+Գ.Պողոսյան!I27) -> 0 | J27: =SUM(Ս.Մնոյան!J27+'Է. Կարապետյան'!J27+'Կ․Դավթյան'!J27+Ժ.Նազարյան!J27+Դ.Դաբաղյան!J27+Գ.Պողոսյան!J27) -> 0 | K27: =SUM(Ս.Մնոյան!K27+'Է. Կարապետյան'!K27+'Կ․Դավթյան'!K27+Ժ.Նազարյան!K27+Դ.Դաբաղյան!K27+Գ.Պողոսյան!K27) -> 0 | ... AG27: =SUM(Ս.Մնոյան!AG27+'Է. Կարապետյան'!AG27+'Կ․Դավթյան'!AG27+Ժ.Նազարյան!AG27+Դ.Դաբաղյան!AG27+Գ.Պողոսյան!AG27) -> 0 | AH27: =SUM(Ս.Մնոյան!#REF!+'Է. Կարապետյան'!#REF!+'Կ․Դավթյան'!#REF!+Ժ.Նազարյան!#REF!+Դ.Դաբաղյան!#REF!+Գ.Պողոսյան!#REF!) -> #REF! | AI27: =SUM(Ս.Մնոյան!#REF!+'Է. Կարապետյան'!#REF!+'Կ․Դավթյան'!#REF!+Ժ.Նազարյան!#REF!+Դ.Դաբաղյան!#REF!+Գ.Պողոսյան!#REF!) -> #REF! | AJ27: =SUM(Ս.Մնոյան!#REF!+'Է. Կարապետյան'!#REF!+'Կ․Դավթյան'!#REF!+Ժ.Նազարյան!#REF!+Դ.Դաբաղյան!#REF!+Գ.Պողոսյան!#REF!) -> #REF! | AK27: =SUM(Ս.Մնոյան!#REF!+'Է. Կարապետյան'!#REF!+'Կ․Դավթյան'!#REF!+Ժ.Նազարյան!#REF!+Դ.Դաբաղյան!#REF!+Գ.Պողոսյան!#REF!) -> #REF! | AL27: =SUM(Ս.Մնոյան!#REF!+'Է. Կարապետյան'!#REF!+'Կ․Դավթյան'!#REF!+Ժ.Նազարյան!#REF!+Դ.Դաբաղյան!#REF!+Գ.Պողոսյան!#REF!) -> #REF! | AM27: =SUM(Ս.Մնոյան!#REF!+'Է. Կարապետյան'!#REF!+'Կ․Դավթյան'!#REF!+Ժ.Նազարյան!#REF!+Դ.Դաբաղյան!#REF!+Գ.Պողոսյան!#REF!) -> #REF! | AN27: =SUM(Ս.Մնոյան!#REF!+'Է. Կարապետյան'!#REF!+'Կ․Դավթյան'!#REF!+Ժ.Նազարյան!#REF!+Դ.Դաբաղյան!#REF!+Գ.Պողոսյան!#REF!) -> #REF! | AO27: =SUM(Ս.Մնոյան!#REF!+'Է. Կարապետյան'!#REF!+'Կ․Դավթյան'!#REF!+Ժ.Նազարյան!#REF!+Դ.Դաբաղյան!#REF!+Գ.Պողոսյան!#REF!) -> #REF!
A28: 1.21 | B28: Զանգվածային ոչնչացման զենք ստեղծելը, տրամադրելը, փորձարկելը կամ կիրառելը | C28: 153 | D28: =SUM(Ս.Մնոյան!D28+'Է. Կարապետյան'!D28+'Կ․Դավթյան'!D28+Ժ.Նազարյան!D28+Դ.Դաբաղյան!D28+Գ.Պողոսյան!D28) -> 0 | E28: =SUM(Ս.Մնոյան!E28+'Է. Կարապետյան'!E28+'Կ․Դավթյան'!E28+Ժ.Նազարյան!E28+Դ.Դաբաղյան!E28+Գ.Պողոսյան!E28) -> 0 | F28: =SUM(Ս.Մնոյան!F28+'Է. Կարապետյան'!F28+'Կ․Դավթյան'!F28+Ժ.Նազարյան!F28+Դ.Դաբաղյան!F28+Գ.Պողոսյան!F28) -> 0 | G28: =SUM(Ս.Մնոյան!G28+'Է. Կարապետյան'!G28+'Կ․Դավթյան'!G28+Ժ.Նազարյան!G28+Դ.Դաբաղյան!G28+Գ.Պողոսյան!G28) -> 0 | H28: =SUM(Ս.Մնոյան!H28+'Է. Կարապետյան'!H28+'Կ․Դավթյան'!H28+Ժ.Նազարյան!H28+Դ.Դաբաղյան!H28+Գ.Պողոսյան!H28) -> 0 | I28: =SUM(Ս.Մնոյան!I28+'Է. Կարապետյան'!I28+'Կ․Դավթյան'!I28+Ժ.Նազարյան!I28+Դ.Դաբաղյան!I28+Գ.Պողոսյան!I28) -> 0 | J28: =SUM(Ս.Մնոյան!J28+'Է. Կարապետյան'!J28+'Կ․Դավթյան'!J28+Ժ.Նազարյան!J28+Դ.Դաբաղյան!J28+Գ.Պողոսյան!J28) -> 0 | K28: =SUM(Ս.Մնոյան!K28+'Է. Կարապետյան'!K28+'Կ․Դավթյան'!K28+Ժ.Նազարյան!K28+Դ.Դաբաղյան!K28+Գ.Պողոսյան!K28) -> 0 | ... AG28: =SUM(Ս.Մնոյան!AG28+'Է. Կարապետյան'!AG28+'Կ․Դավթյան'!AG28+Ժ.Նազարյան!AG28+Դ.Դաբաղյան!AG28+Գ.Պողոսյան!AG28) -> 0 | AH28: =SUM(Ս.Մնոյան!#REF!+'Է. Կարապետյան'!#REF!+'Կ․Դավթյան'!#REF!+Ժ.Նազարյան!#REF!+Դ.Դաբաղյան!#REF!+Գ.Պողոսյան!#REF!) -> #REF! | AI28: =SUM(Ս.Մնոյան!#REF!+'Է. Կարապետյան'!#REF!+'Կ․Դավթյան'!#REF!+Ժ.Նազարյան!#REF!+Դ.Դաբաղյան!#REF!+Գ.Պողոսյան!#REF!) -> #REF! | AJ28: =SUM(Ս.Մնոյան!#REF!+'Է. Կարապետյան'!#REF!+'Կ․Դավթյան'!#REF!+Ժ.Նազարյան!#REF!+Դ.Դաբաղյան!#REF!+Գ.Պողոսյան!#REF!) -> #REF! | AK28: =SUM(Ս.Մնոյան!#REF!+'Է. Կարապետյան'!#REF!+'Կ․Դավթյան'!#REF!+Ժ.Նազարյան!#REF!+Դ.Դաբաղյան!#REF!+Գ.Պողոսյան!#REF!) -> #REF! | AL28: =SUM(Ս.Մնոյան!#REF!+'Է. Կարապետյան'!#REF!+'Կ․Դավթյան'!#REF!+Ժ.Նազարյան!#REF!+Դ.Դաբաղյան!#REF!+Գ.Պողոսյան!#REF!) -> #REF! | AM28: =SUM(Ս.Մնոյան!#REF!+'Է. Կարապետյան'!#REF!+'Կ․Դավթյան'!#REF!+Ժ.Նազարյան!#REF!+Դ.Դաբաղյան!#REF!+Գ.Պողոսյան!#REF!) -> #REF! | AN28: =SUM(Ս.Մնոյան!#REF!+'Է. Կարապետյան'!#REF!+'Կ․Դավթյան'!#REF!+Ժ.Նազարյան!#REF!+Դ.Դաբաղյան!#REF!+Գ.Պողոսյան!#REF!) -> #REF! | AO28: =SUM(Ս.Մնոյան!#REF!+'Է. Կարապետյան'!#REF!+'Կ․Դավթյան'!#REF!+Ժ.Նազարյան!#REF!+Դ.Դաբաղյան!#REF!+Գ.Պողոսյան!#REF!) -> #REF!
A29: 1.22 | B29: Էկոցիդը | C29: 154 | D29: =SUM(Ս.Մնոյան!D29+'Է. Կարապետյան'!D29+'Կ․Դավթյան'!D29+Ժ.Նազարյան!D29+Դ.Դաբաղյան!D29+Գ.Պողոսյան!D29) -> 0 | E29: =SUM(Ս.Մնոյան!E29+'Է. Կարապետյան'!E29+'Կ․Դավթյան'!E29+Ժ.Նազարյան!E29+Դ.Դաբաղյան!E29+Գ.Պողոսյան!E29) -> 0 | F29: =SUM(Ս.Մնոյան!F29+'Է. Կարապետյան'!F29+'Կ․Դավթյան'!F29+Ժ.Նազարյան!F29+Դ.Դաբաղյան!F29+Գ.Պողոսյան!F29) -> 0 | G29: =SUM(Ս.Մնոյան!G29+'Է. Կարապետյան'!G29+'Կ․Դավթյան'!G29+Ժ.Նազարյան!G29+Դ.Դաբաղյան!G29+Գ.Պողոսյան!G29) -> 0 | H29: =SUM(Ս.Մնոյան!H29+'Է. Կարապետյան'!H29+'Կ․Դավթյան'!H29+Ժ.Նազարյան!H29+Դ.Դաբաղյան!H29+Գ.Պողոսյան!H29) -> 0 | I29: =SUM(Ս.Մնոյան!I29+'Է. Կարապետյան'!I29+'Կ․Դավթյան'!I29+Ժ.Նազարյան!I29+Դ.Դաբաղյան!I29+Գ.Պողոսյան!I29) -> 0 | J29: =SUM(Ս.Մնոյան!J29+'Է. Կարապետյան'!J29+'Կ․Դավթյան'!J29+Ժ.Նազարյան!J29+Դ.Դաբաղյան!J29+Գ.Պողոսյան!J29) -> 0 | K29: =SUM(Ս.Մնոյան!K29+'Է. Կարապետյան'!K29+'Կ․Դավթյան'!K29+Ժ.Նազարյան!K29+Դ.Դաբաղյան!K29+Գ.Պողոսյան!K29) -> 0 | ... AG29: =SUM(Ս.Մնոյան!AG29+'Է. Կարապետյան'!AG29+'Կ․Դավթյան'!AG29+Ժ.Նազարյան!AG29+Դ.Դաբաղյան!AG29+Գ.Պողոսյան!AG29) -> 0 | AH29: =SUM(Ս.Մնոյան!#REF!+'Է. Կարապետյան'!#REF!+'Կ․Դավթյան'!#REF!+Ժ.Նազարյան!#REF!+Դ.Դաբաղյան!#REF!+Գ.Պողոսյան!#REF!) -> #REF! | AI29: =SUM(Ս.Մնոյան!#REF!+'Է. Կարապետյան'!#REF!+'Կ․Դավթյան'!#REF!+Ժ.Նազարյան!#REF!+Դ.Դաբաղյան!#REF!+Գ.Պողոսյան!#REF!) -> #REF! | AJ29: =SUM(Ս.Մնոյան!#REF!+'Է. Կարապետյան'!#REF!+'Կ․Դավթյան'!#REF!+Ժ.Նազարյան!#REF!+Դ.Դաբաղյան!#REF!+Գ.Պողոսյան!#REF!) -> #REF! | AK29: =SUM(Ս.Մնոյան!#REF!+'Է. Կարապետյան'!#REF!+'Կ․Դավթյան'!#REF!+Ժ.Նազարյան!#REF!+Դ.Դաբաղյան!#REF!+Գ.Պողոսյան!#REF!) -> #REF! | AL29: =SUM(Ս.Մնոյան!#REF!+'Է. Կարապետյան'!#REF!+'Կ․Դավթյան'!#REF!+Ժ.Նազարյան!#REF!+Դ.Դաբաղյան!#REF!+Գ.Պողոսյան!#REF!) -> #REF! | AM29: =SUM(Ս.Մնոյան!#REF!+'Է. Կարապետյան'!#REF!+'Կ․Դավթյան'!#REF!+Ժ.Նազարյան!#REF!+Դ.Դաբաղյան!#REF!+Գ.Պողոսյան!#REF!) -> #REF! | AN29: =SUM(Ս.Մնոյան!#REF!+'Է. Կարապետյան'!#REF!+'Կ․Դավթյան'!#REF!+Ժ.Նազարյան!#REF!+Դ.Դաբաղյան!#REF!+Գ.Պողոսյան!#REF!) -> #REF! | AO29: =SUM(Ս.Մնոյան!#REF!+'Է. Կարապետյան'!#REF!+'Կ․Դավթյան'!#REF!+Ժ.Նազարյան!#REF!+Դ.Դաբաղյան!#REF!+Գ.Պողոսյան!#REF!) -> #REF!
A30: 2 | B30: Ընդհամենը մարդու կյանքի դեմ ուղղված հանցագործությունները | D30: =SUM(Ս.Մնոյան!D30+'Է. Կարապետյան'!D30+'Կ․Դավթյան'!D30+Ժ.Նազարյան!D30+Դ.Դաբաղյան!D30+Գ.Պողոսյան!D30) -> 5 | E30: =SUM(Ս.Մնոյան!E30+'Է. Կարապետյան'!E30+'Կ․Դավթյան'!E30+Ժ.Նազարյան!E30+Դ.Դաբաղյան!E30+Գ.Պողոսյան!E30) -> 0 | F30: =SUM(Ս.Մնոյան!F30+'Է. Կարապետյան'!F30+'Կ․Դավթյան'!F30+Ժ.Նազարյան!F30+Դ.Դաբաղյան!F30+Գ.Պողոսյան!F30) -> 5 | G30: =SUM(Ս.Մնոյան!G30+'Է. Կարապետյան'!G30+'Կ․Դավթյան'!G30+Ժ.Նազարյան!G30+Դ.Դաբաղյան!G30+Գ.Պողոսյան!G30) -> 2 | H30: =SUM(Ս.Մնոյան!H30+'Է. Կարապետյան'!H30+'Կ․Դավթյան'!H30+Ժ.Նազարյան!H30+Դ.Դաբաղյան!H30+Գ.Պողոսյան!H30) -> 0 | I30: =SUM(Ս.Մնոյան!I30+'Է. Կարապետյան'!I30+'Կ․Դավթյան'!I30+Ժ.Նազարյան!I30+Դ.Դաբաղյան!I30+Գ.Պողոսյան!I30) -> 0 | J30: =SUM(Ս.Մնոյան!J30+'Է. Կարապետյան'!J30+'Կ․Դավթյան'!J30+Ժ.Նազարյան!J30+Դ.Դաբաղյան!J30+Գ.Պողոսյան!J30) -> 0 | K30: =SUM(Ս.Մնոյան!K30+'Է. Կարապետյան'!K30+'Կ․Դավթյան'!K30+Ժ.Նազարյան!K30+Դ.Դաբաղյան!K30+Գ.Պողոսյան!K30) -> 1 | ... AG30: =SUM(Ս.Մնոյան!AG30+'Է. Կարապետյան'!AG30+'Կ․Դավթյան'!AG30+Ժ.Նազարյան!AG30+Դ.Դաբաղյան!AG30+Գ.Պողոսյան!AG30) -> 0 | AH30: =SUM(Ս.Մնոյան!#REF!+'Է. Կարապետյան'!#REF!+'Կ․Դավթյան'!#REF!+Ժ.Նազարյան!#REF!+Դ.Դաբաղյան!#REF!+Գ.Պողոսյան!#REF!) -> #REF! | AI30: =SUM(Ս.Մնոյան!#REF!+'Է. Կարապետյան'!#REF!+'Կ․Դավթյան'!#REF!+Ժ.Նազարյան!#REF!+Դ.Դաբաղյան!#REF!+Գ.Պողոսյան!#REF!) -> #REF! | AJ30: =SUM(Ս.Մնոյան!#REF!+'Է. Կարապետյան'!#REF!+'Կ․Դավթյան'!#REF!+Ժ.Նազարյան!#REF!+Դ.Դաբաղյան!#REF!+Գ.Պողոսյան!#REF!) -> #REF! | AK30: =SUM(Ս.Մնոյան!#REF!+'Է. Կարապետյան'!#REF!+'Կ․Դավթյան'!#REF!+Ժ.Նազարյան!#REF!+Դ.Դաբաղյան!#REF!+Գ.Պողոսյան!#REF!) -> #REF! | AL30: =SUM(Ս.Մնոյան!#REF!+'Է. Կարապետյան'!#REF!+'Կ․Դավթյան'!#REF!+Ժ.Նազարյան!#REF!+Դ.Դաբաղյան!#REF!+Գ.Պողոսյան!#REF!) -> #REF! | AM30: =SUM(Ս.Մնոյան!#REF!+'Է. Կարապետյան'!#REF!+'Կ․Դավթյան'!#REF!+Ժ.Նազարյան!#REF!+Դ.Դաբաղյան!#REF!+Գ.Պողոսյան!#REF!) -> #REF! | AN30: =SUM(Ս.Մնոյան!#REF!+'Է. Կարապետյան'!#REF!+'Կ․Դավթյան'!#REF!+Ժ.Նազարյան!#REF!+Դ.Դաբաղյան!#REF!+Գ.Պողոսյան!#REF!) -> #REF! | AO30: =SUM(Ս.Մնոյան!#REF!+'Է. Կարապետյան'!#REF!+'Կ․Դավթյան'!#REF!+Ժ.Նազարյան!#REF!+Դ.Դաբաղյան!#REF!+Գ.Պողոսյան!#REF!) -> #REF!
A31: 2.1 | B31: Սպանությունը | C31: 155 | D31: =SUM(Ս.Մնոյան!D31+'Է. Կարապետյան'!D31+'Կ․Դավթյան'!D31+Ժ.Նազարյան!D31+Դ.Դաբաղյան!D31+Գ.Պողոսյան!D31) -> 5 | E31: =SUM(Ս.Մնոյան!E31+'Է. Կարապետյան'!E31+'Կ․Դավթյան'!E31+Ժ.Նազարյան!E31+Դ.Դաբաղյան!E31+Գ.Պողոսյան!E31) -> 0 | F31: =SUM(Ս.Մնոյան!F31+'Է. Կարապետյան'!F31+'Կ․Դավթյան'!F31+Ժ.Նազարյան!F31+Դ.Դաբաղյան!F31+Գ.Պողոսյան!F31) -> 4 | G31: =SUM(Ս.Մնոյան!G31+'Է. Կարապետյան'!G31+'Կ․Դավթյան'!G31+Ժ.Նազարյան!G31+Դ.Դաբաղյան!G31+Գ.Պողոսյան!G31) -> 2 | H31: =SUM(Ս.Մնոյան!H31+'Է. Կարապետյան'!H31+'Կ․Դավթյան'!H31+Ժ.Նազարյան!H31+Դ.Դաբաղյան!H31+Գ.Պողոսյան!H31) -> 0 | I31: =SUM(Ս.Մնոյան!I31+'Է. Կարապետյան'!I31+'Կ․Դավթյան'!I31+Ժ.Նազարյան!I31+Դ.Դաբաղյան!I31+Գ.Պողոսյան!I31) -> 0 | J31: =SUM(Ս.Մնոյան!J31+'Է. Կարապետյան'!J31+'Կ․Դավթյան'!J31+Ժ.Նազարյան!J31+Դ.Դաբաղյան!J31+Գ.Պողոսյան!J31) -> 0 | K31: =SUM(Ս.Մնոյան!K31+'Է. Կարապետյան'!K31+'Կ․Դավթյան'!K31+Ժ.Նազարյան!K31+Դ.Դաբաղյան!K31+Գ.Պողոսյան!K31) -> 1 | ... AG31: =SUM(Ս.Մնոյան!AG31+'Է. Կարապետյան'!AG31+'Կ․Դավթյան'!AG31+Ժ.Նազարյան!AG31+Դ.Դաբաղյան!AG31+Գ.Պողոսյան!AG31) -> 0 | AH31: =SUM(Ս.Մնոյան!#REF!+'Է. Կարապետյան'!#REF!+'Կ․Դավթյան'!#REF!+Ժ.Նազարյան!#REF!+Դ.Դաբաղյան!#REF!+Գ.Պողոսյան!#REF!) -> #REF! | AI31: =SUM(Ս.Մնոյան!#REF!+'Է. Կարապետյան'!#REF!+'Կ․Դավթյան'!#REF!+Ժ.Նազարյան!#REF!+Դ.Դաբաղյան!#REF!+Գ.Պողոսյան!#REF!) -> #REF! | AJ31: =SUM(Ս.Մնոյան!#REF!+'Է. Կարապետյան'!#REF!+'Կ․Դավթյան'!#REF!+Ժ.Նազարյան!#REF!+Դ.Դաբաղյան!#REF!+Գ.Պողոսյան!#REF!) -> #REF! | AK31: =SUM(Ս.Մնոյան!#REF!+'Է. Կարապետյան'!#REF!+'Կ․Դավթյան'!#REF!+Ժ.Նազարյան!#REF!+Դ.Դաբաղյան!#REF!+Գ.Պողոսյան!#REF!) -> #REF! | AL31: =SUM(Ս.Մնոյան!#REF!+'Է. Կարապետյան'!#REF!+'Կ․Դավթյան'!#REF!+Ժ.Նազարյան!#REF!+Դ.Դաբաղյան!#REF!+Գ.Պողոսյան!#REF!) -> #REF! | AM31: =SUM(Ս.Մնոյան!#REF!+'Է. Կարապետյան'!#REF!+'Կ․Դավթյան'!#REF!+Ժ.Նազարյան!#REF!+Դ.Դաբաղյան!#REF!+Գ.Պողոսյան!#REF!) -> #REF! | AN31: =SUM(Ս.Մնոյան!#REF!+'Է. Կարապետյան'!#REF!+'Կ․Դավթյան'!#REF!+Ժ.Նազարյան!#REF!+Դ.Դաբաղյան!#REF!+Գ.Պողոսյան!#REF!) -> #REF! | AO31: =SUM(Ս.Մնոյան!#REF!+'Է. Կարապետյան'!#REF!+'Կ․Դավթյան'!#REF!+Ժ.Նազարյան!#REF!+Դ.Դաբաղյան!#REF!+Գ.Պողոսյան!#REF!) -> #REF!
A32: 2.2 | B32: Հոգեկան խիստ հուզմունքի վիճակում կատարված սպանությունը | C32: 156 | D32: =SUM(Ս.Մնոյան!D32+'Է. Կարապետյան'!D32+'Կ․Դավթյան'!D32+Ժ.Նազարյան!D32+Դ.Դաբաղյան!D32+Գ.Պողոսյան!D32) -> 0 | E32: =SUM(Ս.Մնոյան!E32+'Է. Կարապետյան'!E32+'Կ․Դավթյան'!E32+Ժ.Նազարյան!E32+Դ.Դաբաղյան!E32+Գ.Պողոսյան!E32) -> 0 | F32: =SUM(Ս.Մնոյան!F32+'Է. Կարապետյան'!F32+'Կ․Դավթյան'!F32+Ժ.Նազարյան!F32+Դ.Դաբաղյան!F32+Գ.Պողոսյան!F32) -> 0 | G32: =SUM(Ս.Մնոյան!G32+'Է. Կարապետյան'!G32+'Կ․Դավթյան'!G32+Ժ.Նազարյան!G32+Դ.Դաբաղյան!G32+Գ.Պողոսյան!G32) -> 0 | H32: =SUM(Ս.Մնոյան!H32+'Է. Կարապետյան'!H32+'Կ․Դավթյան'!H32+Ժ.Նազարյան!H32+Դ.Դաբաղյան!H32+Գ.Պողոսյան!H32) -> 0 | I32: =SUM(Ս.Մնոյան!I32+'Է. Կարապետյան'!I32+'Կ․Դավթյան'!I32+Ժ.Նազարյան!I32+Դ.Դաբաղյան!I32+Գ.Պողոսյան!I32) -> 0 | J32: =SUM(Ս.Մնոյան!J32+'Է. Կարապետյան'!J32+'Կ․Դավթյան'!J32+Ժ.Նազարյան!J32+Դ.Դաբաղյան!J32+Գ.Պողոսյան!J32) -> 0 | K32: =SUM(Ս.Մնոյան!K32+'Է. Կարապետյան'!K32+'Կ․Դավթյան'!K32+Ժ.Նազարյան!K32+Դ.Դաբաղյան!K32+Գ.Պողոսյան!K32) -> 0 | ... AG32: =SUM(Ս.Մնոյան!AG32+'Է. Կարապետյան'!AG32+'Կ․Դավթյան'!AG32+Ժ.Նազարյան!AG32+Դ.Դաբաղյան!AG32+Գ.Պողոսյան!AG32) -> 0 | AH32: =SUM(Ս.Մնոյան!#REF!+'Է. Կարապետյան'!#REF!+'Կ․Դավթյան'!#REF!+Ժ.Նազարյան!#REF!+Դ.Դաբաղյան!#REF!+Գ.Պողոսյան!#REF!) -> #REF! | AI32: =SUM(Ս.Մնոյան!#REF!+'Է. Կարապետյան'!#REF!+'Կ․Դավթյան'!#REF!+Ժ.Նազարյան!#REF!+Դ.Դաբաղյան!#REF!+Գ.Պողոսյան!#REF!) -> #REF! | AJ32: =SUM(Ս.Մնոյան!#REF!+'Է. Կարապետյան'!#REF!+'Կ․Դավթյան'!#REF!+Ժ.Նազարյան!#REF!+Դ.Դաբաղյան!#REF!+Գ.Պողոսյան!#REF!) -> #REF! | AK32: =SUM(Ս.Մնոյան!#REF!+'Է. Կարապետյան'!#REF!+'Կ․Դավթյան'!#REF!+Ժ.Նազարյան!#REF!+Դ.Դաբաղյան!#REF!+Գ.Պողոսյան!#REF!) -> #REF! | AL32: =SUM(Ս.Մնոյան!#REF!+'Է. Կարապետյան'!#REF!+'Կ․Դավթյան'!#REF!+Ժ.Նազարյան!#REF!+Դ.Դաբաղյան!#REF!+Գ.Պողոսյան!#REF!) -> #REF! | AM32: =SUM(Ս.Մնոյան!#REF!+'Է. Կարապետյան'!#REF!+'Կ․Դավթյան'!#REF!+Ժ.Նազարյան!#REF!+Դ.Դաբաղյան!#REF!+Գ.Պողոսյան!#REF!) -> #REF! | AN32: =SUM(Ս.Մնոյան!#REF!+'Է. Կարապետյան'!#REF!+'Կ․Դավթյան'!#REF!+Ժ.Նազարյան!#REF!+Դ.Դաբաղյան!#REF!+Գ.Պողոսյան!#REF!) -> #REF! | AO32: =SUM(Ս.Մնոյան!#REF!+'Է. Կարապետյան'!#REF!+'Կ․Դավթյան'!#REF!+Ժ.Նազարյան!#REF!+Դ.Դաբաղյան!#REF!+Գ.Պողոսյան!#REF!) -> #REF!
A33: 2.3 | B33: Ծննդկանի կամ ծննդաբերի կողմից երեխայի սպանությունը | C33: 157 | D33: =SUM(Ս.Մնոյան!D33+'Է. Կարապետյան'!D33+'Կ․Դավթյան'!D33+Ժ.Նազարյան!D33+Դ.Դաբաղյան!D33+Գ.Պողոսյան!D33) -> 0 | E33: =SUM(Ս.Մնոյան!E33+'Է. Կարապետյան'!E33+'Կ․Դավթյան'!E33+Ժ.Նազարյան!E33+Դ.Դաբաղյան!E33+Գ.Պողոսյան!E33) -> 0 | F33: =SUM(Ս.Մնոյան!F33+'Է. Կարապետյան'!F33+'Կ․Դավթյան'!F33+Ժ.Նազարյան!F33+Դ.Դաբաղյան!F33+Գ.Պողոսյան!F33) -> 0 | G33: =SUM(Ս.Մնոյան!G33+'Է. Կարապետյան'!G33+'Կ․Դավթյան'!G33+Ժ.Նազարյան!G33+Դ.Դաբաղյան!G33+Գ.Պողոսյան!G33) -> 0 | H33: =SUM(Ս.Մնոյան!H33+'Է. Կարապետյան'!H33+'Կ․Դավթյան'!H33+Ժ.Նազարյան!H33+Դ.Դաբաղյան!H33+Գ.Պողոսյան!H33) -> 0 | I33: =SUM(Ս.Մնոյան!I33+'Է. Կարապետյան'!I33+'Կ․Դավթյան'!I33+Ժ.Նազարյան!I33+Դ.Դաբաղյան!I33+Գ.Պողոսյան!I33) -> 0 | J33: =SUM(Ս.Մնոյան!J33+'Է. Կարապետյան'!J33+'Կ․Դավթյան'!J33+Ժ.Նազարյան!J33+Դ.Դաբաղյան!J33+Գ.Պողոսյան!J33) -> 0 | K33: =SUM(Ս.Մնոյան!K33+'Է. Կարապետյան'!K33+'Կ․Դավթյան'!K33+Ժ.Նազարյան!K33+Դ.Դաբաղյան!K33+Գ.Պողոսյան!K33) -> 0 | ... AG33: =SUM(Ս.Մնոյան!AG33+'Է. Կարապետյան'!AG33+'Կ․Դավթյան'!AG33+Ժ.Նազարյան!AG33+Դ.Դաբաղյան!AG33+Գ.Պողոսյան!AG33) -> 0 | AH33: =SUM(Ս.Մնոյան!#REF!+'Է. Կարապետյան'!#REF!+'Կ․Դավթյան'!#REF!+Ժ.Նազարյան!#REF!+Դ.Դաբաղյան!#REF!+Գ.Պողոսյան!#REF!) -> #REF! | AI33: =SUM(Ս.Մնոյան!#REF!+'Է. Կարապետյան'!#REF!+'Կ․Դավթյան'!#REF!+Ժ.Նազարյան!#REF!+Դ.Դաբաղյան!#REF!+Գ.Պողոսյան!#REF!) -> #REF! | AJ33: =SUM(Ս.Մնոյան!#REF!+'Է. Կարապետյան'!#REF!+'Կ․Դավթյան'!#REF!+Ժ.Նազարյան!#REF!+Դ.Դաբաղյան!#REF!+Գ.Պողոսյան!#REF!) -> #REF! | AK33: =SUM(Ս.Մնոյան!#REF!+'Է. Կարապետյան'!#REF!+'Կ․Դավթյան'!#REF!+Ժ.Նազարյան!#REF!+Դ.Դաբաղյան!#REF!+Գ.Պողոսյան!#REF!) -> #REF! | AL33: =SUM(Ս.Մնոյան!#REF!+'Է. Կարապետյան'!#REF!+'Կ․Դավթյան'!#REF!+Ժ.Նազարյան!#REF!+Դ.Դաբաղյան!#REF!+Գ.Պողոսյան!#REF!) -> #REF! | AM33: =SUM(Ս.Մնոյան!#REF!+'Է. Կարապետյան'!#REF!+'Կ․Դավթյան'!#REF!+Ժ.Նազարյան!#REF!+Դ.Դաբաղյան!#REF!+Գ.Պողոսյան!#REF!) -> #REF! | AN33: =SUM(Ս.Մնոյան!#REF!+'Է. Կարապետյան'!#REF!+'Կ․Դավթյան'!#REF!+Ժ.Նազարյան!#REF!+Դ.Դաբաղյան!#REF!+Գ.Պողոսյան!#REF!) -> #REF! | AO33: =SUM(Ս.Մնոյան!#REF!+'Է. Կարապետյան'!#REF!+'Կ․Դավթյան'!#REF!+Ժ.Նազարյան!#REF!+Դ.Դաբաղյան!#REF!+Գ.Պողոսյան!#REF!) -> #REF!
A34: 2.4 | B34: Ծննդկանի կամ ծննդաբերի կողմից երեխայի սպանությանը հանցակցելը | C34: 158 | D34: =SUM(Ս.Մնոյան!D34+'Է. Կարապետյան'!D34+'Կ․Դավթյան'!D34+Ժ.Նազարյան!D34+Դ.Դաբաղյան!D34+Գ.Պողոսյան!D34) -> 0 | E34: =SUM(Ս.Մնոյան!E34+'Է. Կարապետյան'!E34+'Կ․Դավթյան'!E34+Ժ.Նազարյան!E34+Դ.Դաբաղյան!E34+Գ.Պողոսյան!E34) -> 0 | F34: =SUM(Ս.Մնոյան!F34+'Է. Կարապետյան'!F34+'Կ․Դավթյան'!F34+Ժ.Նազարյան!F34+Դ.Դաբաղյան!F34+Գ.Պողոսյան!F34) -> 0 | G34: =SUM(Ս.Մնոյան!G34+'Է. Կարապետյան'!G34+'Կ․Դավթյան'!G34+Ժ.Նազարյան!G34+Դ.Դաբաղյան!G34+Գ.Պողոսյան!G34) -> 0 | H34: =SUM(Ս.Մնոյան!H34+'Է. Կարապետյան'!H34+'Կ․Դավթյան'!H34+Ժ.Նազարյան!H34+Դ.Դաբաղյան!H34+Գ.Պողոսյան!H34) -> 0 | I34: =SUM(Ս.Մնոյան!I34+'Է. Կարապետյան'!I34+'Կ․Դավթյան'!I34+Ժ.Նազարյան!I34+Դ.Դաբաղյան!I34+Գ.Պողոսյան!I34) -> 0 | J34: =SUM(Ս.Մնոյան!J34+'Է. Կարապետյան'!J34+'Կ․Դավթյան'!J34+Ժ.Նազարյան!J34+Դ.Դաբաղյան!J34+Գ.Պողոսյան!J34) -> 0 | K34: =SUM(Ս.Մնոյան!K34+'Է. Կարապետյան'!K34+'Կ․Դավթյան'!K34+Ժ.Նազարյան!K34+Դ.Դաբաղյան!K34+Գ.Պողոսյան!K34) -> 0 | ... AG34: =SUM(Ս.Մնոյան!AG34+'Է. Կարապետյան'!AG34+'Կ․Դավթյան'!AG34+Ժ.Նազարյան!AG34+Դ.Դաբաղյան!AG34+Գ.Պողոսյան!AG34) -> 0 | AH34: =SUM(Ս.Մնոյան!#REF!+'Է. Կարապետյան'!#REF!+'Կ․Դավթյան'!#REF!+Ժ.Նազարյան!#REF!+Դ.Դաբաղյան!#REF!+Գ.Պողոսյան!#REF!) -> #REF! | AI34: =SUM(Ս.Մնոյան!#REF!+'Է. Կարապետյան'!#REF!+'Կ․Դավթյան'!#REF!+Ժ.Նազարյան!#REF!+Դ.Դաբաղյան!#REF!+Գ.Պողոսյան!#REF!) -> #REF! | AJ34: =SUM(Ս.Մնոյան!#REF!+'Է. Կարապետյան'!#REF!+'Կ․Դավթյան'!#REF!+Ժ.Նազարյան!#REF!+Դ.Դաբաղյան!#REF!+Գ.Պողոսյան!#REF!) -> #REF! | AK34: =SUM(Ս.Մնոյան!#REF!+'Է. Կարապետյան'!#REF!+'Կ․Դավթյան'!#REF!+Ժ.Նազարյան!#REF!+Դ.Դաբաղյան!#REF!+Գ.Պողոսյան!#REF!) -> #REF! | AL34: =SUM(Ս.Մնոյան!#REF!+'Է. Կարապետյան'!#REF!+'Կ․Դավթյան'!#REF!+Ժ.Նազարյան!#REF!+Դ.Դաբաղյան!#REF!+Գ.Պողոսյան!#REF!) -> #REF! | AM34: =SUM(Ս.Մնոյան!#REF!+'Է. Կարապետյան'!#REF!+'Կ․Դավթյան'!#REF!+Ժ.Նազարյան!#REF!+Դ.Դաբաղյան!#REF!+Գ.Պողոսյան!#REF!) -> #REF! | AN34: =SUM(Ս.Մնոյան!#REF!+'Է. Կարապետյան'!#REF!+'Կ․Դավթյան'!#REF!+Ժ.Նազարյան!#REF!+Դ.Դաբաղյան!#REF!+Գ.Պողոսյան!#REF!) -> #REF! | AO34: =SUM(Ս.Մնոյան!#REF!+'Է. Կարապետյան'!#REF!+'Կ․Դավթյան'!#REF!+Ժ.Նազարյան!#REF!+Դ.Դաբաղյան!#REF!+Գ.Պողոսյան!#REF!) -> #REF!
A35: 2.5 | B35: Անհրաժեշտ պաշտպանության սահմանազանցմամբ սպանությունը | C35: 159 | D35: =SUM(Ս.Մնոյան!D35+'Է. Կարապետյան'!D35+'Կ․Դավթյան'!D35+Ժ.Նազարյան!D35+Դ.Դաբաղյան!D35+Գ.Պողոսյան!D35) -> 0 | E35: =SUM(Ս.Մնոյան!E35+'Է. Կարապետյան'!E35+'Կ․Դավթյան'!E35+Ժ.Նազարյան!E35+Դ.Դաբաղյան!E35+Գ.Պողոսյան!E35) -> 0 | F35: =SUM(Ս.Մնոյան!F35+'Է. Կարապետյան'!F35+'Կ․Դավթյան'!F35+Ժ.Նազարյան!F35+Դ.Դաբաղյան!F35+Գ.Պողոսյան!F35) -> 0 | G35: =SUM(Ս.Մնոյան!G35+'Է. Կարապետյան'!G35+'Կ․Դավթյան'!G35+Ժ.Նազարյան!G35+Դ.Դաբաղյան!G35+Գ.Պողոսյան!G35) -> 0 | H35: =SUM(Ս.Մնոյան!H35+'Է. Կարապետյան'!H35+'Կ․Դավթյան'!H35+Ժ.Նազարյան!H35+Դ.Դաբաղյան!H35+Գ.Պողոսյան!H35) -> 0 | I35: =SUM(Ս.Մնոյան!I35+'Է. Կարապետյան'!I35+'Կ․Դավթյան'!I35+Ժ.Նազարյան!I35+Դ.Դաբաղյան!I35+Գ.Պողոսյան!I35) -> 0 | J35: =SUM(Ս.Մնոյան!J35+'Է. Կարապետյան'!J35+'Կ․Դավթյան'!J35+Ժ.Նազարյան!J35+Դ.Դաբաղյան!J35+Գ.Պողոսյան!J35) -> 0 | K35: =SUM(Ս.Մնոյան!K35+'Է. Կարապետյան'!K35+'Կ․Դավթյան'!K35+Ժ.Նազարյան!K35+Դ.Դաբաղյան!K35+Գ.Պողոսյան!K35) -> 0 | ... AG35: =SUM(Ս.Մնոյան!AG35+'Է. Կարապետյան'!AG35+'Կ․Դավթյան'!AG35+Ժ.Նազարյան!AG35+Դ.Դաբաղյան!AG35+Գ.Պողոսյան!AG35) -> 0 | AH35: =SUM(Ս.Մնոյան!#REF!+'Է. Կարապետյան'!#REF!+'Կ․Դավթյան'!#REF!+Ժ.Նազարյան!#REF!+Դ.Դաբաղյան!#REF!+Գ.Պողոսյան!#REF!) -> #REF! | AI35: =SUM(Ս.Մնոյան!#REF!+'Է. Կարապետյան'!#REF!+'Կ․Դավթյան'!#REF!+Ժ.Նազարյան!#REF!+Դ.Դաբաղյան!#REF!+Գ.Պողոսյան!#REF!) -> #REF! | AJ35: =SUM(Ս.Մնոյան!#REF!+'Է. Կարապետյան'!#REF!+'Կ․Դավթյան'!#REF!+Ժ.Նազարյան!#REF!+Դ.Դաբաղյան!#REF!+Գ.Պողոսյան!#REF!) -> #REF! | AK35: =SUM(Ս.Մնոյան!#REF!+'Է. Կարապետյան'!#REF!+'Կ․Դավթյան'!#REF!+Ժ.Նազարյան!#REF!+Դ.Դաբաղյան!#REF!+Գ.Պողոսյան!#REF!) -> #REF! | AL35: =SUM(Ս.Մնոյան!#REF!+'Է. Կարապետյան'!#REF!+'Կ․Դավթյան'!#REF!+Ժ.Նազարյան!#REF!+Դ.Դաբաղյան!#REF!+Գ.Պողոսյան!#REF!) -> #REF! | AM35: =SUM(Ս.Մնոյան!#REF!+'Է. Կարապետյան'!#REF!+'Կ․Դավթյան'!#REF!+Ժ.Նազարյան!#REF!+Դ.Դաբաղյան!#REF!+Գ.Պողոսյան!#REF!) -> #REF! | AN35: =SUM(Ս.Մնոյան!#REF!+'Է. Կարապետյան'!#REF!+'Կ․Դավթյան'!#REF!+Ժ.Նազարյան!#REF!+Դ.Դաբաղյան!#REF!+Գ.Պողոսյան!#REF!) -> #REF! | AO35: =SUM(Ս.Մնոյան!#REF!+'Է. Կարապետյան'!#REF!+'Կ․Դավթյան'!#REF!+Ժ.Նազարյան!#REF!+Դ.Դաբաղյան!#REF!+Գ.Պողոսյան!#REF!) -> #REF!
A36: 2.6 | B36: Հակաիրավական ոտնձգություն կատարած անձին բռնելու համար անհրաժեշտ միջոցների սահմանազանցմամբ սպանությունը | C36: 160 | D36: =SUM(Ս.Մնոյան!D36+'Է. Կարապետյան'!D36+'Կ․Դավթյան'!D36+Ժ.Նազարյան!D36+Դ.Դաբաղյան!D36+Գ.Պողոսյան!D36) -> 0 | E36: =SUM(Ս.Մնոյան!E36+'Է. Կարապետյան'!E36+'Կ․Դավթյան'!E36+Ժ.Նազարյան!E36+Դ.Դաբաղյան!E36+Գ.Պողոսյան!E36) -> 0 | F36: =SUM(Ս.Մնոյան!F36+'Է. Կարապետյան'!F36+'Կ․Դավթյան'!F36+Ժ.Նազարյան!F36+Դ.Դաբաղյան!F36+Գ.Պողոսյան!F36) -> 0 | G36: =SUM(Ս.Մնոյան!G36+'Է. Կարապետյան'!G36+'Կ․Դավթյան'!G36+Ժ.Նազարյան!G36+Դ.Դաբաղյան!G36+Գ.Պողոսյան!G36) -> 0 | H36: =SUM(Ս.Մնոյան!H36+'Է. Կարապետյան'!H36+'Կ․Դավթյան'!H36+Ժ.Նազարյան!H36+Դ.Դաբաղյան!H36+Գ.Պողոսյան!H36) -> 0 | I36: =SUM(Ս.Մնոյան!I36+'Է. Կարապետյան'!I36+'Կ․Դավթյան'!I36+Ժ.Նազարյան!I36+Դ.Դաբաղյան!I36+Գ.Պողոսյան!I36) -> 0 | J36: =SUM(Ս.Մնոյան!J36+'Է. Կարապետյան'!J36+'Կ․Դավթյան'!J36+Ժ.Նազարյան!J36+Դ.Դաբաղյան!J36+Գ.Պողոսյան!J36) -> 0 | K36: =SUM(Ս.Մնոյան!K36+'Է. Կարապետյան'!K36+'Կ․Դավթյան'!K36+Ժ.Նազարյան!K36+Դ.Դաբաղյան!K36+Գ.Պողոսյան!K36) -> 0 | ... AG36: =SUM(Ս.Մնոյան!AG36+'Է. Կարապետյան'!AG36+'Կ․Դավթյան'!AG36+Ժ.Նազարյան!AG36+Դ.Դաբաղյան!AG36+Գ.Պողոսյան!AG36) -> 0 | AH36: =SUM(Ս.Մնոյան!#REF!+'Է. Կարապետյան'!#REF!+'Կ․Դավթյան'!#REF!+Ժ.Նազարյան!#REF!+Դ.Դաբաղյան!#REF!+Գ.Պողոսյան!#REF!) -> #REF! | AI36: =SUM(Ս.Մնոյան!#REF!+'Է. Կարապետյան'!#REF!+'Կ․Դավթյան'!#REF!+Ժ.Նազարյան!#REF!+Դ.Դաբաղյան!#REF!+Գ.Պողոսյան!#REF!) -> #REF! | AJ36: =SUM(Ս.Մնոյան!#REF!+'Է. Կարապետյան'!#REF!+'Կ․Դավթյան'!#REF!+Ժ.Նազարյան!#REF!+Դ.Դաբաղյան!#REF!+Գ.Պողոսյան!#REF!) -> #REF! | AK36: =SUM(Ս.Մնոյան!#REF!+'Է. Կարապետյան'!#REF!+'Կ․Դավթյան'!#REF!+Ժ.Նազարյան!#REF!+Դ.Դաբաղյան!#REF!+Գ.Պողոսյան!#REF!) -> #REF! | AL36: =SUM(Ս.Մնոյան!#REF!+'Է. Կարապետյան'!#REF!+'Կ․Դավթյան'!#REF!+Ժ.Նազարյան!#REF!+Դ.Դաբաղյան!#REF!+Գ.Պողոսյան!#REF!) -> #REF! | AM36: =SUM(Ս.Մնոյան!#REF!+'Է. Կարապետյան'!#REF!+'Կ․Դավթյան'!#REF!+Ժ.Նազարյան!#REF!+Դ.Դաբաղյան!#REF!+Գ.Պողոսյան!#REF!) -> #REF! | AN36: =SUM(Ս.Մնոյան!#REF!+'Է. Կարապետյան'!#REF!+'Կ․Դավթյան'!#REF!+Ժ.Նազարյան!#REF!+Դ.Դաբաղյան!#REF!+Գ.Պողոսյան!#REF!) -> #REF! | AO36: =SUM(Ս.Մնոյան!#REF!+'Է. Կարապետյան'!#REF!+'Կ․Դավթյան'!#REF!+Ժ.Նազարյան!#REF!+Դ.Դաբաղյան!#REF!+Գ.Պողոսյան!#REF!) -> #REF!
A37: 2.7 | B37: Տուժողի խնդրանքով սպանությունը | C37: 161 | D37: =SUM(Ս.Մնոյան!D37+'Է. Կարապետյան'!D37+'Կ․Դավթյան'!D37+Ժ.Նազարյան!D37+Դ.Դաբաղյան!D37+Գ.Պողոսյան!D37) -> 0 | E37: =SUM(Ս.Մնոյան!E37+'Է. Կարապետյան'!E37+'Կ․Դավթյան'!E37+Ժ.Նազարյան!E37+Դ.Դաբաղյան!E37+Գ.Պողոսյան!E37) -> 0 | F37: =SUM(Ս.Մնոյան!F37+'Է. Կարապետյան'!F37+'Կ․Դավթյան'!F37+Ժ.Նազարյան!F37+Դ.Դաբաղյան!F37+Գ.Պողոսյան!F37) -> 0 | G37: =SUM(Ս.Մնոյան!G37+'Է. Կարապետյան'!G37+'Կ․Դավթյան'!G37+Ժ.Նազարյան!G37+Դ.Դաբաղյան!G37+Գ.Պողոսյան!G37) -> 0 | H37: =SUM(Ս.Մնոյան!H37+'Է. Կարապետյան'!H37+'Կ․Դավթյան'!H37+Ժ.Նազարյան!H37+Դ.Դաբաղյան!H37+Գ.Պողոսյան!H37) -> 0 | I37: =SUM(Ս.Մնոյան!I37+'Է. Կարապետյան'!I37+'Կ․Դավթյան'!I37+Ժ.Նազարյան!I37+Դ.Դաբաղյան!I37+Գ.Պողոսյան!I37) -> 0 | J37: =SUM(Ս.Մնոյան!J37+'Է. Կարապետյան'!J37+'Կ․Դավթյան'!J37+Ժ.Նազարյան!J37+Դ.Դաբաղյան!J37+Գ.Պողոսյան!J37) -> 0 | K37: =SUM(Ս.Մնոյան!K37+'Է. Կարապետյան'!K37+'Կ․Դավթյան'!K37+Ժ.Նազարյան!K37+Դ.Դաբաղյան!K37+Գ.Պողոսյան!K37) -> 0 | ... AG37: =SUM(Ս.Մնոյան!AG37+'Է. Կարապետյան'!AG37+'Կ․Դավթյան'!AG37+Ժ.Նազարյան!AG37+Դ.Դաբաղյան!AG37+Գ.Պողոսյան!AG37) -> 0 | AH37: =SUM(Ս.Մնոյան!#REF!+'Է. Կարապետյան'!#REF!+'Կ․Դավթյան'!#REF!+Ժ.Նազարյան!#REF!+Դ.Դաբաղյան!#REF!+Գ.Պողոսյան!#REF!) -> #REF! | AI37: =SUM(Ս.Մնոյան!#REF!+'Է. Կարապետյան'!#REF!+'Կ․Դավթյան'!#REF!+Ժ.Նազարյան!#REF!+Դ.Դաբաղյան!#REF!+Գ.Պողոսյան!#REF!) -> #REF! | AJ37: =SUM(Ս.Մնոյան!#REF!+'Է. Կարապետյան'!#REF!+'Կ․Դավթյան'!#REF!+Ժ.Նազարյան!#REF!+Դ.Դաբաղյան!#REF!+Գ.Պողոսյան!#REF!) -> #REF! | AK37: =SUM(Ս.Մնոյան!#REF!+'Է. Կարապետյան'!#REF!+'Կ․Դավթյան'!#REF!+Ժ.Նազարյան!#REF!+Դ.Դաբաղյան!#REF!+Գ.Պողոսյան!#REF!) -> #REF! | AL37: =SUM(Ս.Մնոյան!#REF!+'Է. Կարապետյան'!#REF!+'Կ․Դավթյան'!#REF!+Ժ.Նազարյան!#REF!+Դ.Դաբաղյան!#REF!+Գ.Պողոսյան!#REF!) -> #REF! | AM37: =SUM(Ս.Մնոյան!#REF!+'Է. Կարապետյան'!#REF!+'Կ․Դավթյան'!#REF!+Ժ.Նազարյան!#REF!+Դ.Դաբաղյան!#REF!+Գ.Պողոսյան!#REF!) -> #REF! | AN37: =SUM(Ս.Մնոյան!#REF!+'Է. Կարապետյան'!#REF!+'Կ․Դավթյան'!#REF!+Ժ.Նազարյան!#REF!+Դ.Դաբաղյան!#REF!+Գ.Պողոսյան!#REF!) -> #REF! | AO37: =SUM(Ս.Մնոյան!#REF!+'Է. Կարապետյան'!#REF!+'Կ․Դավթյան'!#REF!+Ժ.Նազարյան!#REF!+Դ.Դաբաղյան!#REF!+Գ.Պողոսյան!#REF!) -> #REF!
A38: 2.8 | B38: Ինքնասպանության հասցնելը | C38: 162 | D38: =SUM(Ս.Մնոյան!D38+'Է. Կարապետյան'!D38+'Կ․Դավթյան'!D38+Ժ.Նազարյան!D38+Դ.Դաբաղյան!D38+Գ.Պողոսյան!D38) -> 0 | E38: =SUM(Ս.Մնոյան!E38+'Է. Կարապետյան'!E38+'Կ․Դավթյան'!E38+Ժ.Նազարյան!E38+Դ.Դաբաղյան!E38+Գ.Պողոսյան!E38) -> 0 | F38: =SUM(Ս.Մնոյան!F38+'Է. Կարապետյան'!F38+'Կ․Դավթյան'!F38+Ժ.Նազարյան!F38+Դ.Դաբաղյան!F38+Գ.Պողոսյան!F38) -> 0 | G38: =SUM(Ս.Մնոյան!G38+'Է. Կարապետյան'!G38+'Կ․Դավթյան'!G38+Ժ.Նազարյան!G38+Դ.Դաբաղյան!G38+Գ.Պողոսյան!G38) -> 0 | H38: =SUM(Ս.Մնոյան!H38+'Է. Կարապետյան'!H38+'Կ․Դավթյան'!H38+Ժ.Նազարյան!H38+Դ.Դաբաղյան!H38+Գ.Պողոսյան!H38) -> 0 | I38: =SUM(Ս.Մնոյան!I38+'Է. Կարապետյան'!I38+'Կ․Դավթյան'!I38+Ժ.Նազարյան!I38+Դ.Դաբաղյան!I38+Գ.Պողոսյան!I38) -> 0 | J38: =SUM(Ս.Մնոյան!J38+'Է. Կարապետյան'!J38+'Կ․Դավթյան'!J38+Ժ.Նազարյան!J38+Դ.Դաբաղյան!J38+Գ.Պողոսյան!J38) -> 0 | K38: =SUM(Ս.Մնոյան!K38+'Է. Կարապետյան'!K38+'Կ․Դավթյան'!K38+Ժ.Նազարյան!K38+Դ.Դաբաղյան!K38+Գ.Պողոսյան!K38) -> 0 | ... AG38: =SUM(Ս.Մնոյան!AG38+'Է. Կարապետյան'!AG38+'Կ․Դավթյան'!AG38+Ժ.Նազարյան!AG38+Դ.Դաբաղյան!AG38+Գ.Պողոսյան!AG38) -> 0 | AH38: =SUM(Ս.Մնոյան!#REF!+'Է. Կարապետյան'!#REF!+'Կ․Դավթյան'!#REF!+Ժ.Նազարյան!#REF!+Դ.Դաբաղյան!#REF!+Գ.Պողոսյան!#REF!) -> #REF! | AI38: =SUM(Ս.Մնոյան!#REF!+'Է. Կարապետյան'!#REF!+'Կ․Դավթյան'!#REF!+Ժ.Նազարյան!#REF!+Դ.Դաբաղյան!#REF!+Գ.Պողոսյան!#REF!) -> #REF! | AJ38: =SUM(Ս.Մնոյան!#REF!+'Է. Կարապետյան'!#REF!+'Կ․Դավթյան'!#REF!+Ժ.Նազարյան!#REF!+Դ.Դաբաղյան!#REF!+Գ.Պողոսյան!#REF!) -> #REF! | AK38: =SUM(Ս.Մնոյան!#REF!+'Է. Կարապետյան'!#REF!+'Կ․Դավթյան'!#REF!+Ժ.Նազարյան!#REF!+Դ.Դաբաղյան!#REF!+Գ.Պողոսյան!#REF!) -> #REF! | AL38: =SUM(Ս.Մնոյան!#REF!+'Է. Կարապետյան'!#REF!+'Կ․Դավթյան'!#REF!+Ժ.Նազարյան!#REF!+Դ.Դաբաղյան!#REF!+Գ.Պողոսյան!#REF!) -> #REF! | AM38: =SUM(Ս.Մնոյան!#REF!+'Է. Կարապետյան'!#REF!+'Կ․Դավթյան'!#REF!+Ժ.Նազարյան!#REF!+Դ.Դաբաղյան!#REF!+Գ.Պողոսյան!#REF!) -> #REF! | AN38: =SUM(Ս.Մնոյան!#REF!+'Է. Կարապետյան'!#REF!+'Կ․Դավթյան'!#REF!+Ժ.Նազարյան!#REF!+Դ.Դաբաղյան!#REF!+Գ.Պողոսյան!#REF!) -> #REF! | AO38: =SUM(Ս.Մնոյան!#REF!+'Է. Կարապետյան'!#REF!+'Կ․Դավթյան'!#REF!+Ժ.Նազարյան!#REF!+Դ.Դաբաղյան!#REF!+Գ.Պողոսյան!#REF!) -> #REF!
A39: 2.9 | B39: Ինքնասպանության հակելը | C39: 163 | D39: =SUM(Ս.Մնոյան!D39+'Է. Կարապետյան'!D39+'Կ․Դավթյան'!D39+Ժ.Նազարյան!D39+Դ.Դաբաղյան!D39+Գ.Պողոսյան!D39) -> 0 | E39: =SUM(Ս.Մնոյան!E39+'Է. Կարապետյան'!E39+'Կ․Դավթյան'!E39+Ժ.Նազարյան!E39+Դ.Դաբաղյան!E39+Գ.Պողոսյան!E39) -> 0 | F39: =SUM(Ս.Մնոյան!F39+'Է. Կարապետյան'!F39+'Կ․Դավթյան'!F39+Ժ.Նազարյան!F39+Դ.Դաբաղյան!F39+Գ.Պողոսյան!F39) -> 0 | G39: =SUM(Ս.Մնոյան!G39+'Է. Կարապետյան'!G39+'Կ․Դավթյան'!G39+Ժ.Նազարյան!G39+Դ.Դաբաղյան!G39+Գ.Պողոսյան!G39) -> 0 | H39: =SUM(Ս.Մնոյան!H39+'Է. Կարապետյան'!H39+'Կ․Դավթյան'!H39+Ժ.Նազարյան!H39+Դ.Դաբաղյան!H39+Գ.Պողոսյան!H39) -> 0 | I39: =SUM(Ս.Մնոյան!I39+'Է. Կարապետյան'!I39+'Կ․Դավթյան'!I39+Ժ.Նազարյան!I39+Դ.Դաբաղյան!I39+Գ.Պողոսյան!I39) -> 0 | J39: =SUM(Ս.Մնոյան!J39+'Է. Կարապետյան'!J39+'Կ․Դավթյան'!J39+Ժ.Նազարյան!J39+Դ.Դաբաղյան!J39+Գ.Պողոսյան!J39) -> 0 | K39: =SUM(Ս.Մնոյան!K39+'Է. Կարապետյան'!K39+'Կ․Դավթյան'!K39+Ժ.Նազարյան!K39+Դ.Դաբաղյան!K39+Գ.Պողոսյան!K39) -> 0 | ... AG39: =SUM(Ս.Մնոյան!AG39+'Է. Կարապետյան'!AG39+'Կ․Դավթյան'!AG39+Ժ.Նազարյան!AG39+Դ.Դաբաղյան!AG39+Գ.Պողոսյան!AG39) -> 0 | AH39: =SUM(Ս.Մնոյան!#REF!+'Է. Կարապետյան'!#REF!+'Կ․Դավթյան'!#REF!+Ժ.Նազարյան!#REF!+Դ.Դաբաղյան!#REF!+Գ.Պողոսյան!#REF!) -> #REF! | AI39: =SUM(Ս.Մնոյան!#REF!+'Է. Կարապետյան'!#REF!+'Կ․Դավթյան'!#REF!+Ժ.Նազարյան!#REF!+Դ.Դաբաղյան!#REF!+Գ.Պողոսյան!#REF!) -> #REF! | AJ39: =SUM(Ս.Մնոյան!#REF!+'Է. Կարապետյան'!#REF!+'Կ․Դավթյան'!#REF!+Ժ.Նազարյան!#REF!+Դ.Դաբաղյան!#REF!+Գ.Պողոսյան!#REF!) -> #REF! | AK39: =SUM(Ս.Մնոյան!#REF!+'Է. Կարապետյան'!#REF!+'Կ․Դավթյան'!#REF!+Ժ.Նազարյան!#REF!+Դ.Դաբաղյան!#REF!+Գ.Պողոսյան!#REF!) -> #REF! | AL39: =SUM(Ս.Մնոյան!#REF!+'Է. Կարապետյան'!#REF!+'Կ․Դավթյան'!#REF!+Ժ.Նազարյան!#REF!+Դ.Դաբաղյան!#REF!+Գ.Պողոսյան!#REF!) -> #REF! | AM39: =SUM(Ս.Մնոյան!#REF!+'Է. Կարապետյան'!#REF!+'Կ․Դավթյան'!#REF!+Ժ.Նազարյան!#REF!+Դ.Դաբաղյան!#REF!+Գ.Պողոսյան!#REF!) -> #REF! | AN39: =SUM(Ս.Մնոյան!#REF!+'Է. Կարապետյան'!#REF!+'Կ․Դավթյան'!#REF!+Ժ.Նազարյան!#REF!+Դ.Դաբաղյան!#REF!+Գ.Պողոսյան!#REF!) -> #REF! | AO39: =SUM(Ս.Մնոյան!#REF!+'Է. Կարապետյան'!#REF!+'Կ․Դավթյան'!#REF!+Ժ.Նազարյան!#REF!+Դ.Դաբաղյան!#REF!+Գ.Պողոսյան!#REF!) -> #REF!
A40: 2.10 | B40: Ինքնասպանությանը նպաստելը | C40: 164 | D40: =SUM(Ս.Մնոյան!D40+'Է. Կարապետյան'!D40+'Կ․Դավթյան'!D40+Ժ.Նազարյան!D40+Դ.Դաբաղյան!D40+Գ.Պողոսյան!D40) -> 0 | E40: =SUM(Ս.Մնոյան!E40+'Է. Կարապետյան'!E40+'Կ․Դավթյան'!E40+Ժ.Նազարյան!E40+Դ.Դաբաղյան!E40+Գ.Պողոսյան!E40) -> 0 | F40: =SUM(Ս.Մնոյան!F40+'Է. Կարապետյան'!F40+'Կ․Դավթյան'!F40+Ժ.Նազարյան!F40+Դ.Դաբաղյան!F40+Գ.Պողոսյան!F40) -> 0 | G40: =SUM(Ս.Մնոյան!G40+'Է. Կարապետյան'!G40+'Կ․Դավթյան'!G40+Ժ.Նազարյան!G40+Դ.Դաբաղյան!G40+Գ.Պողոսյան!G40) -> 0 | H40: =SUM(Ս.Մնոյան!H40+'Է. Կարապետյան'!H40+'Կ․Դավթյան'!H40+Ժ.Նազարյան!H40+Դ.Դաբաղյան!H40+Գ.Պողոսյան!H40) -> 0 | I40: =SUM(Ս.Մնոյան!I40+'Է. Կարապետյան'!I40+'Կ․Դավթյան'!I40+Ժ.Նազարյան!I40+Դ.Դաբաղյան!I40+Գ.Պողոսյան!I40) -> 0 | J40: =SUM(Ս.Մնոյան!J40+'Է. Կարապետյան'!J40+'Կ․Դավթյան'!J40+Ժ.Նազարյան!J40+Դ.Դաբաղյան!J40+Գ.Պողոսյան!J40) -> 0 | K40: =SUM(Ս.Մնոյան!K40+'Է. Կարապետյան'!K40+'Կ․Դավթյան'!K40+Ժ.Նազարյան!K40+Դ.Դաբաղյան!K40+Գ.Պողոսյան!K40) -> 0 | ... AG40: =SUM(Ս.Մնոյան!AG40+'Է. Կարապետյան'!AG40+'Կ․Դավթյան'!AG40+Ժ.Նազարյան!AG40+Դ.Դաբաղյան!AG40+Գ.Պողոսյան!AG40) -> 0 | AH40: =SUM(Ս.Մնոյան!#REF!+'Է. Կարապետյան'!#REF!+'Կ․Դավթյան'!#REF!+Ժ.Նազարյան!#REF!+Դ.Դաբաղյան!#REF!+Գ.Պողոսյան!#REF!) -> #REF! | AI40: =SUM(Ս.Մնոյան!#REF!+'Է. Կարապետյան'!#REF!+'Կ․Դավթյան'!#REF!+Ժ.Նազարյան!#REF!+Դ.Դաբաղյան!#REF!+Գ.Պողոսյան!#REF!) -> #REF! | AJ40: =SUM(Ս.Մնոյան!#REF!+'Է. Կարապետյան'!#REF!+'Կ․Դավթյան'!#REF!+Ժ.Նազարյան!#REF!+Դ.Դաբաղյան!#REF!+Գ.Պողոսյան!#REF!) -> #REF! | AK40: =SUM(Ս.Մնոյան!#REF!+'Է. Կարապետյան'!#REF!+'Կ․Դավթյան'!#REF!+Ժ.Նազարյան!#REF!+Դ.Դաբաղյան!#REF!+Գ.Պողոսյան!#REF!) -> #REF! | AL40: =SUM(Ս.Մնոյան!#REF!+'Է. Կարապետյան'!#REF!+'Կ․Դավթյան'!#REF!+Ժ.Նազարյան!#REF!+Դ.Դաբաղյան!#REF!+Գ.Պողոսյան!#REF!) -> #REF! | AM40: =SUM(Ս.Մնոյան!#REF!+'Է. Կարապետյան'!#REF!+'Կ․Դավթյան'!#REF!+Ժ.Նազարյան!#REF!+Դ.Դաբաղյան!#REF!+Գ.Պողոսյան!#REF!) -> #REF! | AN40: =SUM(Ս.Մնոյան!#REF!+'Է. Կարապետյան'!#REF!+'Կ․Դավթյան'!#REF!+Ժ.Նազարյան!#REF!+Դ.Դաբաղյան!#REF!+Գ.Պողոսյան!#REF!) -> #REF! | AO40: =SUM(Ս.Մնոյան!#REF!+'Է. Կարապետյան'!#REF!+'Կ․Դավթյան'!#REF!+Ժ.Նազարյան!#REF!+Դ.Դաբաղյան!#REF!+Գ.Պողոսյան!#REF!) -> #REF!
A41: 2.11 | B41: Անզգուշությամբ կյանքից զրկելը | C41: 165 | D41: =SUM(Ս.Մնոյան!D41+'Է. Կարապետյան'!D41+'Կ․Դավթյան'!D41+Ժ.Նազարյան!D41+Դ.Դաբաղյան!D41+Գ.Պողոսյան!D41) -> 0 | E41: =SUM(Ս.Մնոյան!E41+'Է. Կարապետյան'!E41+'Կ․Դավթյան'!E41+Ժ.Նազարյան!E41+Դ.Դաբաղյան!E41+Գ.Պողոսյան!E41) -> 0 | F41: =SUM(Ս.Մնոյան!F41+'Է. Կարապետյան'!F41+'Կ․Դավթյան'!F41+Ժ.Նազարյան!F41+Դ.Դաբաղյան!F41+Գ.Պողոսյան!F41) -> 1 | G41: =SUM(Ս.Մնոյան!G41+'Է. Կարապետյան'!G41+'Կ․Դավթյան'!G41+Ժ.Նազարյան!G41+Դ.Դաբաղյան!G41+Գ.Պողոսյան!G41) -> 0 | H41: =SUM(Ս.Մնոյան!H41+'Է. Կարապետյան'!H41+'Կ․Դավթյան'!H41+Ժ.Նազարյան!H41+Դ.Դաբաղյան!H41+Գ.Պողոսյան!H41) -> 0 | I41: =SUM(Ս.Մնոյան!I41+'Է. Կարապետյան'!I41+'Կ․Դավթյան'!I41+Ժ.Նազարյան!I41+Դ.Դաբաղյան!I41+Գ.Պողոսյան!I41) -> 0 | J41: =SUM(Ս.Մնոյան!J41+'Է. Կարապետյան'!J41+'Կ․Դավթյան'!J41+Ժ.Նազարյան!J41+Դ.Դաբաղյան!J41+Գ.Պողոսյան!J41) -> 0 | K41: =SUM(Ս.Մնոյան!K41+'Է. Կարապետյան'!K41+'Կ․Դավթյան'!K41+Ժ.Նազարյան!K41+Դ.Դաբաղյան!K41+Գ.Պողոսյան!K41) -> 0 | ... AG41: =SUM(Ս.Մնոյան!AG41+'Է. Կարապետյան'!AG41+'Կ․Դավթյան'!AG41+Ժ.Նազարյան!AG41+Դ.Դաբաղյան!AG41+Գ.Պողոսյան!AG41) -> 0 | AH41: =SUM(Ս.Մնոյան!#REF!+'Է. Կարապետյան'!#REF!+'Կ․Դավթյան'!#REF!+Ժ.Նազարյան!#REF!+Դ.Դաբաղյան!#REF!+Գ.Պողոսյան!#REF!) -> #REF! | AI41: =SUM(Ս.Մնոյան!#REF!+'Է. Կարապետյան'!#REF!+'Կ․Դավթյան'!#REF!+Ժ.Նազարյան!#REF!+Դ.Դաբաղյան!#REF!+Գ.Պողոսյան!#REF!) -> #REF! | AJ41: =SUM(Ս.Մնոյան!#REF!+'Է. Կարապետյան'!#REF!+'Կ․Դավթյան'!#REF!+Ժ.Նազարյան!#REF!+Դ.Դաբաղյան!#REF!+Գ.Պողոսյան!#REF!) -> #REF! | AK41: =SUM(Ս.Մնոյան!#REF!+'Է. Կարապետյան'!#REF!+'Կ․Դավթյան'!#REF!+Ժ.Նազարյան!#REF!+Դ.Դաբաղյան!#REF!+Գ.Պողոսյան!#REF!) -> #REF! | AL41: =SUM(Ս.Մնոյան!#REF!+'Է. Կարապետյան'!#REF!+'Կ․Դավթյան'!#REF!+Ժ.Նազարյան!#REF!+Դ.Դաբաղյան!#REF!+Գ.Պողոսյան!#REF!) -> #REF! | AM41: =SUM(Ս.Մնոյան!#REF!+'Է. Կարապետյան'!#REF!+'Կ․Դավթյան'!#REF!+Ժ.Նազարյան!#REF!+Դ.Դաբաղյան!#REF!+Գ.Պողոսյան!#REF!) -> #REF! | AN41: =SUM(Ս.Մնոյան!#REF!+'Է. Կարապետյան'!#REF!+'Կ․Դավթյան'!#REF!+Ժ.Նազարյան!#REF!+Դ.Դաբաղյան!#REF!+Գ.Պողոսյան!#REF!) -> #REF! | AO41: =SUM(Ս.Մնոյան!#REF!+'Է. Կարապետյան'!#REF!+'Կ․Դավթյան'!#REF!+Ժ.Նազարյան!#REF!+Դ.Դաբաղյան!#REF!+Գ.Պողոսյան!#REF!) -> #REF!
A42: 3. | B42: Ընդհամենը ռողջության դեմ ուղղված հանցագործությունները | D42: =SUM(Ս.Մնոյան!D42+'Է. Կարապետյան'!D42+'Կ․Դավթյան'!D42+Ժ.Նազարյան!D42+Դ.Դաբաղյան!D42+Գ.Պողոսյան!D42) -> 19 | E42: =SUM(Ս.Մնոյան!E42+'Է. Կարապետյան'!E42+'Կ․Դավթյան'!E42+Ժ.Նազարյան!E42+Դ.Դաբաղյան!E42+Գ.Պողոսյան!E42) -> 0 | F42: =SUM(Ս.Մնոյան!F42+'Է. Կարապետյան'!F42+'Կ․Դավթյան'!F42+Ժ.Նազարյան!F42+Դ.Դաբաղյան!F42+Գ.Պողոսյան!F42) -> 16 | G42: =SUM(Ս.Մնոյան!G42+'Է. Կարապետյան'!G42+'Կ․Դավթյան'!G42+Ժ.Նազարյան!G42+Դ.Դաբաղյան!G42+Գ.Պողոսյան!G42) -> 6 | H42: =SUM(Ս.Մնոյան!H42+'Է. Կարապետյան'!H42+'Կ․Դավթյան'!H42+Ժ.Նազարյան!H42+Դ.Դաբաղյան!H42+Գ.Պողոսյան!H42) -> 0 | I42: =SUM(Ս.Մնոյան!I42+'Է. Կարապետյան'!I42+'Կ․Դավթյան'!I42+Ժ.Նազարյան!I42+Դ.Դաբաղյան!I42+Գ.Պողոսյան!I42) -> 1 | J42: =SUM(Ս.Մնոյան!J42+'Է. Կարապետյան'!J42+'Կ․Դավթյան'!J42+Ժ.Նազարյան!J42+Դ.Դաբաղյան!J42+Գ.Պողոսյան!J42) -> 0 | K42: =SUM(Ս.Մնոյան!K42+'Է. Կարապետյան'!K42+'Կ․Դավթյան'!K42+Ժ.Նազարյան!K42+Դ.Դաբաղյան!K42+Գ.Պողոսյան!K42) -> 3 | ... AG42: =SUM(Ս.Մնոյան!AG42+'Է. Կարապետյան'!AG42+'Կ․Դավթյան'!AG42+Ժ.Նազարյան!AG42+Դ.Դաբաղյան!AG42+Գ.Պողոսյան!AG42) -> 0 | AH42: =SUM(Ս.Մնոյան!#REF!+'Է. Կարապետյան'!#REF!+'Կ․Դավթյան'!#REF!+Ժ.Նազարյան!#REF!+Դ.Դաբաղյան!#REF!+Գ.Պողոսյան!#REF!) -> #REF! | AI42: =SUM(Ս.Մնոյան!#REF!+'Է. Կարապետյան'!#REF!+'Կ․Դավթյան'!#REF!+Ժ.Նազարյան!#REF!+Դ.Դաբաղյան!#REF!+Գ.Պողոսյան!#REF!) -> #REF! | AJ42: =SUM(Ս.Մնոյան!#REF!+'Է. Կարապետյան'!#REF!+'Կ․Դավթյան'!#REF!+Ժ.Նազարյան!#REF!+Դ.Դաբաղյան!#REF!+Գ.Պողոսյան!#REF!) -> #REF! | AK42: =SUM(Ս.Մնոյան!#REF!+'Է. Կարապետյան'!#REF!+'Կ․Դավթյան'!#REF!+Ժ.Նազարյան!#REF!+Դ.Դաբաղյան!#REF!+Գ.Պողոսյան!#REF!) -> #REF! | AL42: =SUM(Ս.Մնոյան!#REF!+'Է. Կարապետյան'!#REF!+'Կ․Դավթյան'!#REF!+Ժ.Նազարյան!#REF!+Դ.Դաբաղյան!#REF!+Գ.Պողոսյան!#REF!) -> #REF! | AM42: =SUM(Ս.Մնոյան!#REF!+'Է. Կարապետյան'!#REF!+'Կ․Դավթյան'!#REF!+Ժ.Նազարյան!#REF!+Դ.Դաբաղյան!#REF!+Գ.Պողոսյան!#REF!) -> #REF! | AN42: =SUM(Ս.Մնոյան!#REF!+'Է. Կարապետյան'!#REF!+'Կ․Դավթյան'!#REF!+Ժ.Նազարյան!#REF!+Դ.Դաբաղյան!#REF!+Գ.Պողոսյան!#REF!) -> #REF! | AO42: =SUM(Ս.Մնոյան!#REF!+'Է. Կարապետյան'!#REF!+'Կ․Դավթյան'!#REF!+Ժ.Նազարյան!#REF!+Դ.Դաբաղյան!#REF!+Գ.Պողոսյան!#REF!) -> #REF!
A43: 3.1 | B43: Առողջությանը ծանր վնաս պատճառելը | C43: 166 | D43: =SUM(Ս.Մնոյան!D43+'Է. Կարապետյան'!D43+'Կ․Դավթյան'!D43+Ժ.Նազարյան!D43+Դ.Դաբաղյան!D43+Գ.Պողոսյան!D43) -> 11 | E43: =SUM(Ս.Մնոյան!E43+'Է. Կարապետյան'!E43+'Կ․Դավթյան'!E43+Ժ.Նազարյան!E43+Դ.Դաբաղյան!E43+Գ.Պողոսյան!E43) -> 0 | F43: =SUM(Ս.Մնոյան!F43+'Է. Կարապետյան'!F43+'Կ․Դավթյան'!F43+Ժ.Նազարյան!F43+Դ.Դաբաղյան!F43+Գ.Պողոսյան!F43) -> 9 | G43: =SUM(Ս.Մնոյան!G43+'Է. Կարապետյան'!G43+'Կ․Դավթյան'!G43+Ժ.Նազարյան!G43+Դ.Դաբաղյան!G43+Գ.Պողոսյան!G43) -> 4 | H43: =SUM(Ս.Մնոյան!H43+'Է. Կարապետյան'!H43+'Կ․Դավթյան'!H43+Ժ.Նազարյան!H43+Դ.Դաբաղյան!H43+Գ.Պողոսյան!H43) -> 0 | I43: =SUM(Ս.Մնոյան!I43+'Է. Կարապետյան'!I43+'Կ․Դավթյան'!I43+Ժ.Նազարյան!I43+Դ.Դաբաղյան!I43+Գ.Պողոսյան!I43) -> 1 | J43: =SUM(Ս.Մնոյան!J43+'Է. Կարապետյան'!J43+'Կ․Դավթյան'!J43+Ժ.Նազարյան!J43+Դ.Դաբաղյան!J43+Գ.Պողոսյան!J43) -> 0 | K43: =SUM(Ս.Մնոյան!K43+'Է. Կարապետյան'!K43+'Կ․Դավթյան'!K43+Ժ.Նազարյան!K43+Դ.Դաբաղյան!K43+Գ.Պողոսյան!K43) -> 3 | ... AG43: =SUM(Ս.Մնոյան!AG43+'Է. Կարապետյան'!AG43+'Կ․Դավթյան'!AG43+Ժ.Նազարյան!AG43+Դ.Դաբաղյան!AG43+Գ.Պողոսյան!AG43) -> 0 | AH43: =SUM(Ս.Մնոյան!#REF!+'Է. Կարապետյան'!#REF!+'Կ․Դավթյան'!#REF!+Ժ.Նազարյան!#REF!+Դ.Դաբաղյան!#REF!+Գ.Պողոսյան!#REF!) -> #REF! | AI43: =SUM(Ս.Մնոյան!#REF!+'Է. Կարապետյան'!#REF!+'Կ․Դավթյան'!#REF!+Ժ.Նազարյան!#REF!+Դ.Դաբաղյան!#REF!+Գ.Պողոսյան!#REF!) -> #REF! | AJ43: =SUM(Ս.Մնոյան!#REF!+'Է. Կարապետյան'!#REF!+'Կ․Դավթյան'!#REF!+Ժ.Նազարյան!#REF!+Դ.Դաբաղյան!#REF!+Գ.Պողոսյան!#REF!) -> #REF! | AK43: =SUM(Ս.Մնոյան!#REF!+'Է. Կարապետյան'!#REF!+'Կ․Դավթյան'!#REF!+Ժ.Նազարյան!#REF!+Դ.Դաբաղյան!#REF!+Գ.Պողոսյան!#REF!) -> #REF! | AL43: =SUM(Ս.Մնոյան!#REF!+'Է. Կարապետյան'!#REF!+'Կ․Դավթյան'!#REF!+Ժ.Նազարյան!#REF!+Դ.Դաբաղյան!#REF!+Գ.Պողոսյան!#REF!) -> #REF! | AM43: =SUM(Ս.Մնոյան!#REF!+'Է. Կարապետյան'!#REF!+'Կ․Դավթյան'!#REF!+Ժ.Նազարյան!#REF!+Դ.Դաբաղյան!#REF!+Գ.Պողոսյան!#REF!) -> #REF! | AN43: =SUM(Ս.Մնոյան!#REF!+'Է. Կարապետյան'!#REF!+'Կ․Դավթյան'!#REF!+Ժ.Նազարյան!#REF!+Դ.Դաբաղյան!#REF!+Գ.Պողոսյան!#REF!) -> #REF! | AO43: =SUM(Ս.Մնոյան!#REF!+'Է. Կարապետյան'!#REF!+'Կ․Դավթյան'!#REF!+Ժ.Նազարյան!#REF!+Դ.Դաբաղյան!#REF!+Գ.Պողոսյան!#REF!) -> #REF!
A44: 3.2 | B44: Առողջությանը միջին ծանրության վնաս պատճառելը | C44: 167 | D44: =SUM(Ս.Մնոյան!D44+'Է. Կարապետյան'!D44+'Կ․Դավթյան'!D44+Ժ.Նազարյան!D44+Դ.Դաբաղյան!D44+Գ.Պողոսյան!D44) -> 2 | E44: =SUM(Ս.Մնոյան!E44+'Է. Կարապետյան'!E44+'Կ․Դավթյան'!E44+Ժ.Նազարյան!E44+Դ.Դաբաղյան!E44+Գ.Պողոսյան!E44) -> 0 | F44: =SUM(Ս.Մնոյան!F44+'Է. Կարապետյան'!F44+'Կ․Դավթյան'!F44+Ժ.Նազարյան!F44+Դ.Դաբաղյան!F44+Գ.Պողոսյան!F44) -> 1 | G44: =SUM(Ս.Մնոյան!G44+'Է. Կարապետյան'!G44+'Կ․Դավթյան'!G44+Ժ.Նազարյան!G44+Դ.Դաբաղյան!G44+Գ.Պողոսյան!G44) -> 0 | H44: =SUM(Ս.Մնոյան!H44+'Է. Կարապետյան'!H44+'Կ․Դավթյան'!H44+Ժ.Նազարյան!H44+Դ.Դաբաղյան!H44+Գ.Պողոսյան!H44) -> 0 | I44: =SUM(Ս.Մնոյան!I44+'Է. Կարապետյան'!I44+'Կ․Դավթյան'!I44+Ժ.Նազարյան!I44+Դ.Դաբաղյան!I44+Գ.Պողոսյան!I44) -> 0 | J44: =SUM(Ս.Մնոյան!J44+'Է. Կարապետյան'!J44+'Կ․Դավթյան'!J44+Ժ.Նազարյան!J44+Դ.Դաբաղյան!J44+Գ.Պողոսյան!J44) -> 0 | K44: =SUM(Ս.Մնոյան!K44+'Է. Կարապետյան'!K44+'Կ․Դավթյան'!K44+Ժ.Նազարյան!K44+Դ.Դաբաղյան!K44+Գ.Պողոսյան!K44) -> 0 | ... AG44: =SUM(Ս.Մնոյան!AG44+'Է. Կարապետյան'!AG44+'Կ․Դավթյան'!AG44+Ժ.Նազարյան!AG44+Դ.Դաբաղյան!AG44+Գ.Պողոսյան!AG44) -> 0 | AH44: =SUM(Ս.Մնոյան!#REF!+'Է. Կարապետյան'!#REF!+'Կ․Դավթյան'!#REF!+Ժ.Նազարյան!#REF!+Դ.Դաբաղյան!#REF!+Գ.Պողոսյան!#REF!) -> #REF! | AI44: =SUM(Ս.Մնոյան!#REF!+'Է. Կարապետյան'!#REF!+'Կ․Դավթյան'!#REF!+Ժ.Նազարյան!#REF!+Դ.Դաբաղյան!#REF!+Գ.Պողոսյան!#REF!) -> #REF! | AJ44: =SUM(Ս.Մնոյան!#REF!+'Է. Կարապետյան'!#REF!+'Կ․Դավթյան'!#REF!+Ժ.Նազարյան!#REF!+Դ.Դաբաղյան!#REF!+Գ.Պողոսյան!#REF!) -> #REF! | AK44: =SUM(Ս.Մնոյան!#REF!+'Է. Կարապետյան'!#REF!+'Կ․Դավթյան'!#REF!+Ժ.Նազարյան!#REF!+Դ.Դաբաղյան!#REF!+Գ.Պողոսյան!#REF!) -> #REF! | AL44: =SUM(Ս.Մնոյան!#REF!+'Է. Կարապետյան'!#REF!+'Կ․Դավթյան'!#REF!+Ժ.Նազարյան!#REF!+Դ.Դաբաղյան!#REF!+Գ.Պողոսյան!#REF!) -> #REF! | AM44: =SUM(Ս.Մնոյան!#REF!+'Է. Կարապետյան'!#REF!+'Կ․Դավթյան'!#REF!+Ժ.Նազարյան!#REF!+Դ.Դաբաղյան!#REF!+Գ.Պողոսյան!#REF!) -> #REF! | AN44: =SUM(Ս.Մնոյան!#REF!+'Է. Կարապետյան'!#REF!+'Կ․Դավթյան'!#REF!+Ժ.Նազարյան!#REF!+Դ.Դաբաղյան!#REF!+Գ.Պողոսյան!#REF!) -> #REF! | AO44: =SUM(Ս.Մնոյան!#REF!+'Է. Կարապետյան'!#REF!+'Կ․Դավթյան'!#REF!+Ժ.Նազարյան!#REF!+Դ.Դաբաղյան!#REF!+Գ.Պողոսյան!#REF!) -> #REF!
A45: 3.3 | B45: Առողջությանը ծանր կամ միջին ծանրության վնաս պատճառելը հոգեկան խիստ հուզմունքի վիճակում | C45: 168 | D45: =SUM(Ս.Մնոյան!D45+'Է. Կարապետյան'!D45+'Կ․Դավթյան'!D45+Ժ.Նազարյան!D45+Դ.Դաբաղյան!D45+Գ.Պողոսյան!D45) -> 0 | E45: =SUM(Ս.Մնոյան!E45+'Է. Կարապետյան'!E45+'Կ․Դավթյան'!E45+Ժ.Նազարյան!E45+Դ.Դաբաղյան!E45+Գ.Պողոսյան!E45) -> 0 | F45: =SUM(Ս.Մնոյան!F45+'Է. Կարապետյան'!F45+'Կ․Դավթյան'!F45+Ժ.Նազարյան!F45+Դ.Դաբաղյան!F45+Գ.Պողոսյան!F45) -> 0 | G45: =SUM(Ս.Մնոյան!G45+'Է. Կարապետյան'!G45+'Կ․Դավթյան'!G45+Ժ.Նազարյան!G45+Դ.Դաբաղյան!G45+Գ.Պողոսյան!G45) -> 0 | H45: =SUM(Ս.Մնոյան!H45+'Է. Կարապետյան'!H45+'Կ․Դավթյան'!H45+Ժ.Նազարյան!H45+Դ.Դաբաղյան!H45+Գ.Պողոսյան!H45) -> 0 | I45: =SUM(Ս.Մնոյան!I45+'Է. Կարապետյան'!I45+'Կ․Դավթյան'!I45+Ժ.Նազարյան!I45+Դ.Դաբաղյան!I45+Գ.Պողոսյան!I45) -> 0 | J45: =SUM(Ս.Մնոյան!J45+'Է. Կարապետյան'!J45+'Կ․Դավթյան'!J45+Ժ.Նազարյան!J45+Դ.Դաբաղյան!J45+Գ.Պողոսյան!J45) -> 0 | K45: =SUM(Ս.Մնոյան!K45+'Է. Կարապետյան'!K45+'Կ․Դավթյան'!K45+Ժ.Նազարյան!K45+Դ.Դաբաղյան!K45+Գ.Պողոսյան!K45) -> 0 | ... AG45: =SUM(Ս.Մնոյան!AG45+'Է. Կարապետյան'!AG45+'Կ․Դավթյան'!AG45+Ժ.Նազարյան!AG45+Դ.Դաբաղյան!AG45+Գ.Պողոսյան!AG45) -> 0 | AH45: =SUM(Ս.Մնոյան!#REF!+'Է. Կարապետյան'!#REF!+'Կ․Դավթյան'!#REF!+Ժ.Նազարյան!#REF!+Դ.Դաբաղյան!#REF!+Գ.Պողոսյան!#REF!) -> #REF! | AI45: =SUM(Ս.Մնոյան!#REF!+'Է. Կարապետյան'!#REF!+'Կ․Դավթյան'!#REF!+Ժ.Նազարյան!#REF!+Դ.Դաբաղյան!#REF!+Գ.Պողոսյան!#REF!) -> #REF! | AJ45: =SUM(Ս.Մնոյան!#REF!+'Է. Կարապետյան'!#REF!+'Կ․Դավթյան'!#REF!+Ժ.Նազարյան!#REF!+Դ.Դաբաղյան!#REF!+Գ.Պողոսյան!#REF!) -> #REF! | AK45: =SUM(Ս.Մնոյան!#REF!+'Է. Կարապետյան'!#REF!+'Կ․Դավթյան'!#REF!+Ժ.Նազարյան!#REF!+Դ.Դաբաղյան!#REF!+Գ.Պողոսյան!#REF!) -> #REF! | AL45: =SUM(Ս.Մնոյան!#REF!+'Է. Կարապետյան'!#REF!+'Կ․Դավթյան'!#REF!+Ժ.Նազարյան!#REF!+Դ.Դաբաղյան!#REF!+Գ.Պողոսյան!#REF!) -> #REF! | AM45: =SUM(Ս.Մնոյան!#REF!+'Է. Կարապետյան'!#REF!+'Կ․Դավթյան'!#REF!+Ժ.Նազարյան!#REF!+Դ.Դաբաղյան!#REF!+Գ.Պողոսյան!#REF!) -> #REF! | AN45: =SUM(Ս.Մնոյան!#REF!+'Է. Կարապետյան'!#REF!+'Կ․Դավթյան'!#REF!+Ժ.Նազարյան!#REF!+Դ.Դաբաղյան!#REF!+Գ.Պողոսյան!#REF!) -> #REF! | AO45: =SUM(Ս.Մնոյան!#REF!+'Է. Կարապետյան'!#REF!+'Կ․Դավթյան'!#REF!+Ժ.Նազարյան!#REF!+Դ.Դաբաղյան!#REF!+Գ.Պողոսյան!#REF!) -> #REF!
A46: 3.4 | B46: Առողջությանը ծանր կամ միջին ծանրության վնաս պատճառելը hակաիրավական ոտնձգություն կատարած անձին բռնելու համար անհրաժեշտ միջոցների սահմանազանցմամբ | C46: 169 | D46: =SUM(Ս.Մնոյան!D46+'Է. Կարապետյան'!D46+'Կ․Դավթյան'!D46+Ժ.Նազարյան!D46+Դ.Դաբաղյան!D46+Գ.Պողոսյան!D46) -> 0 | E46: =SUM(Ս.Մնոյան!E46+'Է. Կարապետյան'!E46+'Կ․Դավթյան'!E46+Ժ.Նազարյան!E46+Դ.Դաբաղյան!E46+Գ.Պողոսյան!E46) -> 0 | F46: =SUM(Ս.Մնոյան!F46+'Է. Կարապետյան'!F46+'Կ․Դավթյան'!F46+Ժ.Նազարյան!F46+Դ.Դաբաղյան!F46+Գ.Պողոսյան!F46) -> 0 | G46: =SUM(Ս.Մնոյան!G46+'Է. Կարապետյան'!G46+'Կ․Դավթյան'!G46+Ժ.Նազարյան!G46+Դ.Դաբաղյան!G46+Գ.Պողոսյան!G46) -> 0 | H46: =SUM(Ս.Մնոյան!H46+'Է. Կարապետյան'!H46+'Կ․Դավթյան'!H46+Ժ.Նազարյան!H46+Դ.Դաբաղյան!H46+Գ.Պողոսյան!H46) -> 0 | I46: =SUM(Ս.Մնոյան!I46+'Է. Կարապետյան'!I46+'Կ․Դավթյան'!I46+Ժ.Նազարյան!I46+Դ.Դաբաղյան!I46+Գ.Պողոսյան!I46) -> 0 | J46: =SUM(Ս.Մնոյան!J46+'Է. Կարապետյան'!J46+'Կ․Դավթյան'!J46+Ժ.Նազարյան!J46+Դ.Դաբաղյան!J46+Գ.Պողոսյան!J46) -> 0 | K46: =SUM(Ս.Մնոյան!K46+'Է. Կարապետյան'!K46+'Կ․Դավթյան'!K46+Ժ.Նազարյան!K46+Դ.Դաբաղյան!K46+Գ.Պողոսյան!K46) -> 0 | ... AG46: =SUM(Ս.Մնոյան!AG46+'Է. Կարապետյան'!AG46+'Կ․Դավթյան'!AG46+Ժ.Նազարյան!AG46+Դ.Դաբաղյան!AG46+Գ.Պողոսյան!AG46) -> 0 | AH46: =SUM(Ս.Մնոյան!#REF!+'Է. Կարապետյան'!#REF!+'Կ․Դավթյան'!#REF!+Ժ.Նազարյան!#REF!+Դ.Դաբաղյան!#REF!+Գ.Պողոսյան!#REF!) -> #REF! | AI46: =SUM(Ս.Մնոյան!#REF!+'Է. Կարապետյան'!#REF!+'Կ․Դավթյան'!#REF!+Ժ.Նազարյան!#REF!+Դ.Դաբաղյան!#REF!+Գ.Պողոսյան!#REF!) -> #REF! | AJ46: =SUM(Ս.Մնոյան!#REF!+'Է. Կարապետյան'!#REF!+'Կ․Դավթյան'!#REF!+Ժ.Նազարյան!#REF!+Դ.Դաբաղյան!#REF!+Գ.Պողոսյան!#REF!) -> #REF! | AK46: =SUM(Ս.Մնոյան!#REF!+'Է. Կարապետյան'!#REF!+'Կ․Դավթյան'!#REF!+Ժ.Նազարյան!#REF!+Դ.Դաբաղյան!#REF!+Գ.Պողոսյան!#REF!) -> #REF! | AL46: =SUM(Ս.Մնոյան!#REF!+'Է. Կարապետյան'!#REF!+'Կ․Դավթյան'!#REF!+Ժ.Նազարյան!#REF!+Դ.Դաբաղյան!#REF!+Գ.Պողոսյան!#REF!) -> #REF! | AM46: =SUM(Ս.Մնոյան!#REF!+'Է. Կարապետյան'!#REF!+'Կ․Դավթյան'!#REF!+Ժ.Նազարյան!#REF!+Դ.Դաբաղյան!#REF!+Գ.Պողոսյան!#REF!) -> #REF! | AN46: =SUM(Ս.Մնոյան!#REF!+'Է. Կարապետյան'!#REF!+'Կ․Դավթյան'!#REF!+Ժ.Նազարյան!#REF!+Դ.Դաբաղյան!#REF!+Գ.Պողոսյան!#REF!) -> #REF! | AO46: =SUM(Ս.Մնոյան!#REF!+'Է. Կարապետյան'!#REF!+'Կ․Դավթյան'!#REF!+Ժ.Նազարյան!#REF!+Դ.Դաբաղյան!#REF!+Գ.Պողոսյան!#REF!) -> #REF!
A47: 3.5 | B47: Առողջությանը ծանր կամ միջին ծանրության վնաս պատճառելն անհրաժեշտ պաշտպանության սահմանազանցմամբ | C47: 170 | D47: =SUM(Ս.Մնոյան!D47+'Է. Կարապետյան'!D47+'Կ․Դավթյան'!D47+Ժ.Նազարյան!D47+Դ.Դաբաղյան!D47+Գ.Պողոսյան!D47) -> 0 | E47: =SUM(Ս.Մնոյան!E47+'Է. Կարապետյան'!E47+'Կ․Դավթյան'!E47+Ժ.Նազարյան!E47+Դ.Դաբաղյան!E47+Գ.Պողոսյան!E47) -> 0 | F47: =SUM(Ս.Մնոյան!F47+'Է. Կարապետյան'!F47+'Կ․Դավթյան'!F47+Ժ.Նազարյան!F47+Դ.Դաբաղյան!F47+Գ.Պողոսյան!F47) -> 0 | G47: =SUM(Ս.Մնոյան!G47+'Է. Կարապետյան'!G47+'Կ․Դավթյան'!G47+Ժ.Նազարյան!G47+Դ.Դաբաղյան!G47+Գ.Պողոսյան!G47) -> 0 | H47: =SUM(Ս.Մնոյան!H47+'Է. Կարապետյան'!H47+'Կ․Դավթյան'!H47+Ժ.Նազարյան!H47+Դ.Դաբաղյան!H47+Գ.Պողոսյան!H47) -> 0 | I47: =SUM(Ս.Մնոյան!I47+'Է. Կարապետյան'!I47+'Կ․Դավթյան'!I47+Ժ.Նազարյան!I47+Դ.Դաբաղյան!I47+Գ.Պողոսյան!I47) -> 0 | J47: =SUM(Ս.Մնոյան!J47+'Է. Կարապետյան'!J47+'Կ․Դավթյան'!J47+Ժ.Նազարյան!J47+Դ.Դաբաղյան!J47+Գ.Պողոսյան!J47) -> 0 | K47: =SUM(Ս.Մնոյան!K47+'Է. Կարապետյան'!K47+'Կ․Դավթյան'!K47+Ժ.Նազարյան!K47+Դ.Դաբաղյան!K47+Գ.Պողոսյան!K47) -> 0 | ... AG47: =SUM(Ս.Մնոյան!AG47+'Է. Կարապետյան'!AG47+'Կ․Դավթյան'!AG47+Ժ.Նազարյան!AG47+Դ.Դաբաղյան!AG47+Գ.Պողոսյան!AG47) -> 0 | AH47: =SUM(Ս.Մնոյան!#REF!+'Է. Կարապետյան'!#REF!+'Կ․Դավթյան'!#REF!+Ժ.Նազարյան!#REF!+Դ.Դաբաղյան!#REF!+Գ.Պողոսյան!#REF!) -> #REF! | AI47: =SUM(Ս.Մնոյան!#REF!+'Է. Կարապետյան'!#REF!+'Կ․Դավթյան'!#REF!+Ժ.Նազարյան!#REF!+Դ.Դաբաղյան!#REF!+Գ.Պողոսյան!#REF!) -> #REF! | AJ47: =SUM(Ս.Մնոյան!#REF!+'Է. Կարապետյան'!#REF!+'Կ․Դավթյան'!#REF!+Ժ.Նազարյան!#REF!+Դ.Դաբաղյան!#REF!+Գ.Պողոսյան!#REF!) -> #REF! | AK47: =SUM(Ս.Մնոյան!#REF!+'Է. Կարապետյան'!#REF!+'Կ․Դավթյան'!#REF!+Ժ.Նազարյան!#REF!+Դ.Դաբաղյան!#REF!+Գ.Պողոսյան!#REF!) -> #REF! | AL47: =SUM(Ս.Մնոյան!#REF!+'Է. Կարապետյան'!#REF!+'Կ․Դավթյան'!#REF!+Ժ.Նազարյան!#REF!+Դ.Դաբաղյան!#REF!+Գ.Պողոսյան!#REF!) -> #REF! | AM47: =SUM(Ս.Մնոյան!#REF!+'Է. Կարապետյան'!#REF!+'Կ․Դավթյան'!#REF!+Ժ.Նազարյան!#REF!+Դ.Դաբաղյան!#REF!+Գ.Պողոսյան!#REF!) -> #REF! | AN47: =SUM(Ս.Մնոյան!#REF!+'Է. Կարապետյան'!#REF!+'Կ․Դավթյան'!#REF!+Ժ.Նազարյան!#REF!+Դ.Դաբաղյան!#REF!+Գ.Պողոսյան!#REF!) -> #REF! | AO47: =SUM(Ս.Մնոյան!#REF!+'Է. Կարապետյան'!#REF!+'Կ․Դավթյան'!#REF!+Ժ.Նազարյան!#REF!+Դ.Դաբաղյան!#REF!+Գ.Պողոսյան!#REF!) -> #REF!
A48: 3.6 | B48: Առողջությանը թեթև վնաս պատճառելը | C48: 171 | D48: =SUM(Ս.Մնոյան!D48+'Է. Կարապետյան'!D48+'Կ․Դավթյան'!D48+Ժ.Նազարյան!D48+Դ.Դաբաղյան!D48+Գ.Պողոսյան!D48) -> 5 | E48: =SUM(Ս.Մնոյան!E48+'Է. Կարապետյան'!E48+'Կ․Դավթյան'!E48+Ժ.Նազարյան!E48+Դ.Դաբաղյան!E48+Գ.Պողոսյան!E48) -> 0 | F48: =SUM(Ս.Մնոյան!F48+'Է. Կարապետյան'!F48+'Կ․Դավթյան'!F48+Ժ.Նազարյան!F48+Դ.Դաբաղյան!F48+Գ.Պողոսյան!F48) -> 5 | G48: =SUM(Ս.Մնոյան!G48+'Է. Կարապետյան'!G48+'Կ․Դավթյան'!G48+Ժ.Նազարյան!G48+Դ.Դաբաղյան!G48+Գ.Պողոսյան!G48) -> 2 | H48: =SUM(Ս.Մնոյան!H48+'Է. Կարապետյան'!H48+'Կ․Դավթյան'!H48+Ժ.Նազարյան!H48+Դ.Դաբաղյան!H48+Գ.Պողոսյան!H48) -> 0 | I48: =SUM(Ս.Մնոյան!I48+'Է. Կարապետյան'!I48+'Կ․Դավթյան'!I48+Ժ.Նազարյան!I48+Դ.Դաբաղյան!I48+Գ.Պողոսյան!I48) -> 0 | J48: =SUM(Ս.Մնոյան!J48+'Է. Կարապետյան'!J48+'Կ․Դավթյան'!J48+Ժ.Նազարյան!J48+Դ.Դաբաղյան!J48+Գ.Պողոսյան!J48) -> 0 | K48: =SUM(Ս.Մնոյան!K48+'Է. Կարապետյան'!K48+'Կ․Դավթյան'!K48+Ժ.Նազարյան!K48+Դ.Դաբաղյան!K48+Գ.Պողոսյան!K48) -> 0 | ... AG48: =SUM(Ս.Մնոյան!AG48+'Է. Կարապետյան'!AG48+'Կ․Դավթյան'!AG48+Ժ.Նազարյան!AG48+Դ.Դաբաղյան!AG48+Գ.Պողոսյան!AG48) -> 0 | AH48: =SUM(Ս.Մնոյան!#REF!+'Է. Կարապետյան'!#REF!+'Կ․Դավթյան'!#REF!+Ժ.Նազարյան!#REF!+Դ.Դաբաղյան!#REF!+Գ.Պողոսյան!#REF!) -> #REF! | AI48: =SUM(Ս.Մնոյան!#REF!+'Է. Կարապետյան'!#REF!+'Կ․Դավթյան'!#REF!+Ժ.Նազարյան!#REF!+Դ.Դաբաղյան!#REF!+Գ.Պողոսյան!#REF!) -> #REF! | AJ48: =SUM(Ս.Մնոյան!#REF!+'Է. Կարապետյան'!#REF!+'Կ․Դավթյան'!#REF!+Ժ.Նազարյան!#REF!+Դ.Դաբաղյան!#REF!+Գ.Պողոսյան!#REF!) -> #REF! | AK48: =SUM(Ս.Մնոյան!#REF!+'Է. Կարապետյան'!#REF!+'Կ․Դավթյան'!#REF!+Ժ.Նազարյան!#REF!+Դ.Դաբաղյան!#REF!+Գ.Պողոսյան!#REF!) -> #REF! | AL48: =SUM(Ս.Մնոյան!#REF!+'Է. Կարապետյան'!#REF!+'Կ․Դավթյան'!#REF!+Ժ.Նազարյան!#REF!+Դ.Դաբաղյան!#REF!+Գ.Պողոսյան!#REF!) -> #REF! | AM48: =SUM(Ս.Մնոյան!#REF!+'Է. Կարապետյան'!#REF!+'Կ․Դավթյան'!#REF!+Ժ.Նազարյան!#REF!+Դ.Դաբաղյան!#REF!+Գ.Պողոսյան!#REF!) -> #REF! | AN48: =SUM(Ս.Մնոյան!#REF!+'Է. Կարապետյան'!#REF!+'Կ․Դավթյան'!#REF!+Ժ.Նազարյան!#REF!+Դ.Դաբաղյան!#REF!+Գ.Պողոսյան!#REF!) -> #REF! | AO48: =SUM(Ս.Մնոյան!#REF!+'Է. Կարապետյան'!#REF!+'Կ․Դավթյան'!#REF!+Ժ.Նազարյան!#REF!+Դ.Դաբաղյան!#REF!+Գ.Պողոսյան!#REF!) -> #REF!
A49: 3.7 | B49: Անզգուշությամբ առողջությանը ծանր վնաս պատճառելը | C49: 172 | D49: =SUM(Ս.Մնոյան!D49+'Է. Կարապետյան'!D49+'Կ․Դավթյան'!D49+Ժ.Նազարյան!D49+Դ.Դաբաղյան!D49+Գ.Պողոսյան!D49) -> 1 | E49: =SUM(Ս.Մնոյան!E49+'Է. Կարապետյան'!E49+'Կ․Դավթյան'!E49+Ժ.Նազարյան!E49+Դ.Դաբաղյան!E49+Գ.Պողոսյան!E49) -> 0 | F49: =SUM(Ս.Մնոյան!F49+'Է. Կարապետյան'!F49+'Կ․Դավթյան'!F49+Ժ.Նազարյան!F49+Դ.Դաբաղյան!F49+Գ.Պողոսյան!F49) -> 0 | G49: =SUM(Ս.Մնոյան!G49+'Է. Կարապետյան'!G49+'Կ․Դավթյան'!G49+Ժ.Նազարյան!G49+Դ.Դաբաղյան!G49+Գ.Պողոսյան!G49) -> 0 | H49: =SUM(Ս.Մնոյան!H49+'Է. Կարապետյան'!H49+'Կ․Դավթյան'!H49+Ժ.Նազարյան!H49+Դ.Դաբաղյան!H49+Գ.Պողոսյան!H49) -> 0 | I49: =SUM(Ս.Մնոյան!I49+'Է. Կարապետյան'!I49+'Կ․Դավթյան'!I49+Ժ.Նազարյան!I49+Դ.Դաբաղյան!I49+Գ.Պողոսյան!I49) -> 0 | J49: =SUM(Ս.Մնոյան!J49+'Է. Կարապետյան'!J49+'Կ․Դավթյան'!J49+Ժ.Նազարյան!J49+Դ.Դաբաղյան!J49+Գ.Պողոսյան!J49) -> 0 | K49: =SUM(Ս.Մնոյան!K49+'Է. Կարապետյան'!K49+'Կ․Դավթյան'!K49+Ժ.Նազարյան!K49+Դ.Դաբաղյան!K49+Գ.Պողոսյան!K49) -> 0 | ... AG49: =SUM(Ս.Մնոյան!AG49+'Է. Կարապետյան'!AG49+'Կ․Դավթյան'!AG49+Ժ.Նազարյան!AG49+Դ.Դաբաղյան!AG49+Գ.Պողոսյան!AG49) -> 0 | AH49: =SUM(Ս.Մնոյան!#REF!+'Է. Կարապետյան'!#REF!+'Կ․Դավթյան'!#REF!+Ժ.Նազարյան!#REF!+Դ.Դաբաղյան!#REF!+Գ.Պողոսյան!#REF!) -> #REF! | AI49: =SUM(Ս.Մնոյան!#REF!+'Է. Կարապետյան'!#REF!+'Կ․Դավթյան'!#REF!+Ժ.Նազարյան!#REF!+Դ.Դաբաղյան!#REF!+Գ.Պողոսյան!#REF!) -> #REF! | AJ49: =SUM(Ս.Մնոյան!#REF!+'Է. Կարապետյան'!#REF!+'Կ․Դավթյան'!#REF!+Ժ.Նազարյան!#REF!+Դ.Դաբաղյան!#REF!+Գ.Պողոսյան!#REF!) -> #REF! | AK49: =SUM(Ս.Մնոյան!#REF!+'Է. Կարապետյան'!#REF!+'Կ․Դավթյան'!#REF!+Ժ.Նազարյան!#REF!+Դ.Դաբաղյան!#REF!+Գ.Պողոսյան!#REF!) -> #REF! | AL49: =SUM(Ս.Մնոյան!#REF!+'Է. Կարապետյան'!#REF!+'Կ․Դավթյան'!#REF!+Ժ.Նազարյան!#REF!+Դ.Դաբաղյան!#REF!+Գ.Պողոսյան!#REF!) -> #REF! | AM49: =SUM(Ս.Մնոյան!#REF!+'Է. Կարապետյան'!#REF!+'Կ․Դավթյան'!#REF!+Ժ.Նազարյան!#REF!+Դ.Դաբաղյան!#REF!+Գ.Պողոսյան!#REF!) -> #REF! | AN49: =SUM(Ս.Մնոյան!#REF!+'Է. Կարապետյան'!#REF!+'Կ․Դավթյան'!#REF!+Ժ.Նազարյան!#REF!+Դ.Դաբաղյան!#REF!+Գ.Պողոսյան!#REF!) -> #REF! | AO49: =SUM(Ս.Մնոյան!#REF!+'Է. Կարապետյան'!#REF!+'Կ․Դավթյան'!#REF!+Ժ.Նազարյան!#REF!+Դ.Դաբաղյան!#REF!+Գ.Պողոսյան!#REF!) -> #REF!
A50: 3.8 | B50: Անզգուշությամբ առողջությանը միջին ծանրության վնաս պատճառելը | C50: 173 | D50: =SUM(Ս.Մնոյան!D50+'Է. Կարապետյան'!D50+'Կ․Դավթյան'!D50+Ժ.Նազարյան!D50+Դ.Դաբաղյան!D50+Գ.Պողոսյան!D50) -> 0 | E50: =SUM(Ս.Մնոյան!E50+'Է. Կարապետյան'!E50+'Կ․Դավթյան'!E50+Ժ.Նազարյան!E50+Դ.Դաբաղյան!E50+Գ.Պողոսյան!E50) -> 0 | F50: =SUM(Ս.Մնոյան!F50+'Է. Կարապետյան'!F50+'Կ․Դավթյան'!F50+Ժ.Նազարյան!F50+Դ.Դաբաղյան!F50+Գ.Պողոսյան!F50) -> 1 | G50: =SUM(Ս.Մնոյան!G50+'Է. Կարապետյան'!G50+'Կ․Դավթյան'!G50+Ժ.Նազարյան!G50+Դ.Դաբաղյան!G50+Գ.Պողոսյան!G50) -> 0 | H50: =SUM(Ս.Մնոյան!H50+'Է. Կարապետյան'!H50+'Կ․Դավթյան'!H50+Ժ.Նազարյան!H50+Դ.Դաբաղյան!H50+Գ.Պողոսյան!H50) -> 0 | I50: =SUM(Ս.Մնոյան!I50+'Է. Կարապետյան'!I50+'Կ․Դավթյան'!I50+Ժ.Նազարյան!I50+Դ.Դաբաղյան!I50+Գ.Պողոսյան!I50) -> 0 | J50: =SUM(Ս.Մնոյան!J50+'Է. Կարապետյան'!J50+'Կ․Դավթյան'!J50+Ժ.Նազարյան!J50+Դ.Դաբաղյան!J50+Գ.Պողոսյան!J50) -> 0 | K50: =SUM(Ս.Մնոյան!K50+'Է. Կարապետյան'!K50+'Կ․Դավթյան'!K50+Ժ.Նազարյան!K50+Դ.Դաբաղյան!K50+Գ.Պողոսյան!K50) -> 0 | ... AG50: =SUM(Ս.Մնոյան!AG50+'Է. Կարապետյան'!AG50+'Կ․Դավթյան'!AG50+Ժ.Նազարյան!AG50+Դ.Դաբաղյան!AG50+Գ.Պողոսյան!AG50) -> 0 | AH50: =SUM(Ս.Մնոյան!#REF!+'Է. Կարապետյան'!#REF!+'Կ․Դավթյան'!#REF!+Ժ.Նազարյան!#REF!+Դ.Դաբաղյան!#REF!+Գ.Պողոսյան!#REF!) -> #REF! | AI50: =SUM(Ս.Մնոյան!#REF!+'Է. Կարապետյան'!#REF!+'Կ․Դավթյան'!#REF!+Ժ.Նազարյան!#REF!+Դ.Դաբաղյան!#REF!+Գ.Պողոսյան!#REF!) -> #REF! | AJ50: =SUM(Ս.Մնոյան!#REF!+'Է. Կարապետյան'!#REF!+'Կ․Դավթյան'!#REF!+Ժ.Նազարյան!#REF!+Դ.Դաբաղյան!#REF!+Գ.Պողոսյան!#REF!) -> #REF! | AK50: =SUM(Ս.Մնոյան!#REF!+'Է. Կարապետյան'!#REF!+'Կ․Դավթյան'!#REF!+Ժ.Նազարյան!#REF!+Դ.Դաբաղյան!#REF!+Գ.Պողոսյան!#REF!) -> #REF! | AL50: =SUM(Ս.Մնոյան!#REF!+'Է. Կարապետյան'!#REF!+'Կ․Դավթյան'!#REF!+Ժ.Նազարյան!#REF!+Դ.Դաբաղյան!#REF!+Գ.Պողոսյան!#REF!) -> #REF! | AM50: =SUM(Ս.Մնոյան!#REF!+'Է. Կարապետյան'!#REF!+'Կ․Դավթյան'!#REF!+Ժ.Նազարյան!#REF!+Դ.Դաբաղյան!#REF!+Գ.Պողոսյան!#REF!) -> #REF! | AN50: =SUM(Ս.Մնոյան!#REF!+'Է. Կարապետյան'!#REF!+'Կ․Դավթյան'!#REF!+Ժ.Նազարյան!#REF!+Դ.Դաբաղյան!#REF!+Գ.Պողոսյան!#REF!) -> #REF! | AO50: =SUM(Ս.Մնոյան!#REF!+'Է. Կարապետյան'!#REF!+'Կ․Դավթյան'!#REF!+Ժ.Նազարյան!#REF!+Դ.Դաբաղյան!#REF!+Գ.Պողոսյան!#REF!) -> #REF!
A51: 4. | B51: Ընդհամենը կյանքը և առողջությունը վտանգող հանցագործությունները | D51: =SUM(Ս.Մնոյան!D51+'Է. Կարապետյան'!D51+'Կ․Դավթյան'!D51+Ժ.Նազարյան!D51+Դ.Դաբաղյան!D51+Գ.Պողոսյան!D51) -> 1 | E51: =SUM(Ս.Մնոյան!E51+'Է. Կարապետյան'!E51+'Կ․Դավթյան'!E51+Ժ.Նազարյան!E51+Դ.Դաբաղյան!E51+Գ.Պողոսյան!E51) -> 0 | F51: =SUM(Ս.Մնոյան!F51+'Է. Կարապետյան'!F51+'Կ․Դավթյան'!F51+Ժ.Նազարյան!F51+Դ.Դաբաղյան!F51+Գ.Պողոսյան!F51) -> 0 | G51: =SUM(Ս.Մնոյան!G51+'Է. Կարապետյան'!G51+'Կ․Դավթյան'!G51+Ժ.Նազարյան!G51+Դ.Դաբաղյան!G51+Գ.Պողոսյան!G51) -> 0 | H51: =SUM(Ս.Մնոյան!H51+'Է. Կարապետյան'!H51+'Կ․Դավթյան'!H51+Ժ.Նազարյան!H51+Դ.Դաբաղյան!H51+Գ.Պողոսյան!H51) -> 0 | I51: =SUM(Ս.Մնոյան!I51+'Է. Կարապետյան'!I51+'Կ․Դավթյան'!I51+Ժ.Նազարյան!I51+Դ.Դաբաղյան!I51+Գ.Պողոսյան!I51) -> 0 | J51: =SUM(Ս.Մնոյան!J51+'Է. Կարապետյան'!J51+'Կ․Դավթյան'!J51+Ժ.Նազարյան!J51+Դ.Դաբաղյան!J51+Գ.Պողոսյան!J51) -> 0 | K51: =SUM(Ս.Մնոյան!K51+'Է. Կարապետյան'!K51+'Կ․Դավթյան'!K51+Ժ.Նազարյան!K51+Դ.Դաբաղյան!K51+Գ.Պողոսյան!K51) -> 1 | ... AG51: =SUM(Ս.Մնոյան!AG51+'Է. Կարապետյան'!AG51+'Կ․Դավթյան'!AG51+Ժ.Նազարյան!AG51+Դ.Դաբաղյան!AG51+Գ.Պողոսյան!AG51) -> 0 | AH51: =SUM(Ս.Մնոյան!#REF!+'Է. Կարապետյան'!#REF!+'Կ․Դավթյան'!#REF!+Ժ.Նազարյան!#REF!+Դ.Դաբաղյան!#REF!+Գ.Պողոսյան!#REF!) -> #REF! | AI51: =SUM(Ս.Մնոյան!#REF!+'Է. Կարապետյան'!#REF!+'Կ․Դավթյան'!#REF!+Ժ.Նազարյան!#REF!+Դ.Դաբաղյան!#REF!+Գ.Պողոսյան!#REF!) -> #REF! | AJ51: =SUM(Ս.Մնոյան!#REF!+'Է. Կարապետյան'!#REF!+'Կ․Դավթյան'!#REF!+Ժ.Նազարյան!#REF!+Դ.Դաբաղյան!#REF!+Գ.Պողոսյան!#REF!) -> #REF! | AK51: =SUM(Ս.Մնոյան!#REF!+'Է. Կարապետյան'!#REF!+'Կ․Դավթյան'!#REF!+Ժ.Նազարյան!#REF!+Դ.Դաբաղյան!#REF!+Գ.Պողոսյան!#REF!) -> #REF! | AL51: =SUM(Ս.Մնոյան!#REF!+'Է. Կարապետյան'!#REF!+'Կ․Դավթյան'!#REF!+Ժ.Նազարյան!#REF!+Դ.Դաբաղյան!#REF!+Գ.Պողոսյան!#REF!) -> #REF! | AM51: =SUM(Ս.Մնոյան!#REF!+'Է. Կարապետյան'!#REF!+'Կ․Դավթյան'!#REF!+Ժ.Նազարյան!#REF!+Դ.Դաբաղյան!#REF!+Գ.Պողոսյան!#REF!) -> #REF! | AN51: =SUM(Ս.Մնոյան!#REF!+'Է. Կարապետյան'!#REF!+'Կ․Դավթյան'!#REF!+Ժ.Նազարյան!#REF!+Դ.Դաբաղյան!#REF!+Գ.Պողոսյան!#REF!) -> #REF! | AO51: =SUM(Ս.Մնոյան!#REF!+'Է. Կարապետյան'!#REF!+'Կ․Դավթյան'!#REF!+Ժ.Նազարյան!#REF!+Դ.Դաբաղյան!#REF!+Գ.Պողոսյան!#REF!) -> #REF!
A52: 4.1 | B52: Հղիության ապօրինի արհեստական ընդհատում (աբորտ) կատարելը | C52: 174 | D52: =SUM(Ս.Մնոյան!D52+'Է. Կարապետյան'!D52+'Կ․Դավթյան'!D52+Ժ.Նազարյան!D52+Դ.Դաբաղյան!D52+Գ.Պողոսյան!D52) -> 0 | E52: =SUM(Ս.Մնոյան!E52+'Է. Կարապետյան'!E52+'Կ․Դավթյան'!E52+Ժ.Նազարյան!E52+Դ.Դաբաղյան!E52+Գ.Պողոսյան!E52) -> 0 | F52: =SUM(Ս.Մնոյան!F52+'Է. Կարապետյան'!F52+'Կ․Դավթյան'!F52+Ժ.Նազարյան!F52+Դ.Դաբաղյան!F52+Գ.Պողոսյան!F52) -> 0 | G52: =SUM(Ս.Մնոյան!G52+'Է. Կարապետյան'!G52+'Կ․Դավթյան'!G52+Ժ.Նազարյան!G52+Դ.Դաբաղյան!G52+Գ.Պողոսյան!G52) -> 0 | H52: =SUM(Ս.Մնոյան!H52+'Է. Կարապետյան'!H52+'Կ․Դավթյան'!H52+Ժ.Նազարյան!H52+Դ.Դաբաղյան!H52+Գ.Պողոսյան!H52) -> 0 | I52: =SUM(Ս.Մնոյան!I52+'Է. Կարապետյան'!I52+'Կ․Դավթյան'!I52+Ժ.Նազարյան!I52+Դ.Դաբաղյան!I52+Գ.Պողոսյան!I52) -> 0 | J52: =SUM(Ս.Մնոյան!J52+'Է. Կարապետյան'!J52+'Կ․Դավթյան'!J52+Ժ.Նազարյան!J52+Դ.Դաբաղյան!J52+Գ.Պողոսյան!J52) -> 0 | K52: =SUM(Ս.Մնոյան!K52+'Է. Կարապետյան'!K52+'Կ․Դավթյան'!K52+Ժ.Նազարյան!K52+Դ.Դաբաղյան!K52+Գ.Պողոսյան!K52) -> 0 | ... AG52: =SUM(Ս.Մնոյան!AG52+'Է. Կարապետյան'!AG52+'Կ․Դավթյան'!AG52+Ժ.Նազարյան!AG52+Դ.Դաբաղյան!AG52+Գ.Պողոսյան!AG52) -> 0 | AH52: =SUM(Ս.Մնոյան!#REF!+'Է. Կարապետյան'!#REF!+'Կ․Դավթյան'!#REF!+Ժ.Նազարյան!#REF!+Դ.Դաբաղյան!#REF!+Գ.Պողոսյան!#REF!) -> #REF! | AI52: =SUM(Ս.Մնոյան!#REF!+'Է. Կարապետյան'!#REF!+'Կ․Դավթյան'!#REF!+Ժ.Նազարյան!#REF!+Դ.Դաբաղյան!#REF!+Գ.Պողոսյան!#REF!) -> #REF! | AJ52: =SUM(Ս.Մնոյան!#REF!+'Է. Կարապետյան'!#REF!+'Կ․Դավթյան'!#REF!+Ժ.Նազարյան!#REF!+Դ.Դաբաղյան!#REF!+Գ.Պողոսյան!#REF!) -> #REF! | AK52: =SUM(Ս.Մնոյան!#REF!+'Է. Կարապետյան'!#REF!+'Կ․Դավթյան'!#REF!+Ժ.Նազարյան!#REF!+Դ.Դաբաղյան!#REF!+Գ.Պողոսյան!#REF!) -> #REF! | AL52: =SUM(Ս.Մնոյան!#REF!+'Է. Կարապետյան'!#REF!+'Կ․Դավթյան'!#REF!+Ժ.Նազարյան!#REF!+Դ.Դաբաղյան!#REF!+Գ.Պողոսյան!#REF!) -> #REF! | AM52: =SUM(Ս.Մնոյան!#REF!+'Է. Կարապետյան'!#REF!+'Կ․Դավթյան'!#REF!+Ժ.Նազարյան!#REF!+Դ.Դաբաղյան!#REF!+Գ.Պողոսյան!#REF!) -> #REF! | AN52: =SUM(Ս.Մնոյան!#REF!+'Է. Կարապետյան'!#REF!+'Կ․Դավթյան'!#REF!+Ժ.Նազարյան!#REF!+Դ.Դաբաղյան!#REF!+Գ.Պողոսյան!#REF!) -> #REF! | AO52: =SUM(Ս.Մնոյան!#REF!+'Է. Կարապետյան'!#REF!+'Կ․Դավթյան'!#REF!+Ժ.Նազարյան!#REF!+Դ.Դաբաղյան!#REF!+Գ.Պողոսյան!#REF!) -> #REF!
A53: 4.2 | B53: Հղիության արհեստական ընդհատում (աբորտ) կատարելը կամ ամլացումը | C53: 175 | D53: =SUM(Ս.Մնոյան!D53+'Է. Կարապետյան'!D53+'Կ․Դավթյան'!D53+Ժ.Նազարյան!D53+Դ.Դաբաղյան!D53+Գ.Պողոսյան!D53) -> 0 | E53: =SUM(Ս.Մնոյան!E53+'Է. Կարապետյան'!E53+'Կ․Դավթյան'!E53+Ժ.Նազարյան!E53+Դ.Դաբաղյան!E53+Գ.Պողոսյան!E53) -> 0 | F53: =SUM(Ս.Մնոյան!F53+'Է. Կարապետյան'!F53+'Կ․Դավթյան'!F53+Ժ.Նազարյան!F53+Դ.Դաբաղյան!F53+Գ.Պողոսյան!F53) -> 0 | G53: =SUM(Ս.Մնոյան!G53+'Է. Կարապետյան'!G53+'Կ․Դավթյան'!G53+Ժ.Նազարյան!G53+Դ.Դաբաղյան!G53+Գ.Պողոսյան!G53) -> 0 | H53: =SUM(Ս.Մնոյան!H53+'Է. Կարապետյան'!H53+'Կ․Դավթյան'!H53+Ժ.Նազարյան!H53+Դ.Դաբաղյան!H53+Գ.Պողոսյան!H53) -> 0 | I53: =SUM(Ս.Մնոյան!I53+'Է. Կարապետյան'!I53+'Կ․Դավթյան'!I53+Ժ.Նազարյան!I53+Դ.Դաբաղյան!I53+Գ.Պողոսյան!I53) -> 0 | J53: =SUM(Ս.Մնոյան!J53+'Է. Կարապետյան'!J53+'Կ․Դավթյան'!J53+Ժ.Նազարյան!J53+Դ.Դաբաղյան!J53+Գ.Պողոսյան!J53) -> 0 | K53: =SUM(Ս.Մնոյան!K53+'Է. Կարապետյան'!K53+'Կ․Դավթյան'!K53+Ժ.Նազարյան!K53+Դ.Դաբաղյան!K53+Գ.Պողոսյան!K53) -> 0 | ... AG53: =SUM(Ս.Մնոյան!AG53+'Է. Կարապետյան'!AG53+'Կ․Դավթյան'!AG53+Ժ.Նազարյան!AG53+Դ.Դաբաղյան!AG53+Գ.Պողոսյան!AG53) -> 0 | AH53: =SUM(Ս.Մնոյան!#REF!+'Է. Կարապետյան'!#REF!+'Կ․Դավթյան'!#REF!+Ժ.Նազարյան!#REF!+Դ.Դաբաղյան!#REF!+Գ.Պողոսյան!#REF!) -> #REF! | AI53: =SUM(Ս.Մնոյան!#REF!+'Է. Կարապետյան'!#REF!+'Կ․Դավթյան'!#REF!+Ժ.Նազարյան!#REF!+Դ.Դաբաղյան!#REF!+Գ.Պողոսյան!#REF!) -> #REF! | AJ53: =SUM(Ս.Մնոյան!#REF!+'Է. Կարապետյան'!#REF!+'Կ․Դավթյան'!#REF!+Ժ.Նազարյան!#REF!+Դ.Դաբաղյան!#REF!+Գ.Պողոսյան!#REF!) -> #REF! | AK53: =SUM(Ս.Մնոյան!#REF!+'Է. Կարապետյան'!#REF!+'Կ․Դավթյան'!#REF!+Ժ.Նազարյան!#REF!+Դ.Դաբաղյան!#REF!+Գ.Պողոսյան!#REF!) -> #REF! | AL53: =SUM(Ս.Մնոյան!#REF!+'Է. Կարապետյան'!#REF!+'Կ․Դավթյան'!#REF!+Ժ.Նազարյան!#REF!+Դ.Դաբաղյան!#REF!+Գ.Պողոսյան!#REF!) -> #REF! | AM53: =SUM(Ս.Մնոյան!#REF!+'Է. Կարապետյան'!#REF!+'Կ․Դավթյան'!#REF!+Ժ.Նազարյան!#REF!+Դ.Դաբաղյան!#REF!+Գ.Պողոսյան!#REF!) -> #REF! | AN53: =SUM(Ս.Մնոյան!#REF!+'Է. Կարապետյան'!#REF!+'Կ․Դավթյան'!#REF!+Ժ.Նազարյան!#REF!+Դ.Դաբաղյան!#REF!+Գ.Պողոսյան!#REF!) -> #REF! | AO53: =SUM(Ս.Մնոյան!#REF!+'Է. Կարապետյան'!#REF!+'Կ․Դավթյան'!#REF!+Ժ.Նազարյան!#REF!+Դ.Դաբաղյան!#REF!+Գ.Պողոսյան!#REF!) -> #REF!
A54: 4.3 | B54: Հղիության արհեստական ընդհատմանը (աբորտ կատարելուն) կամ ամլացմանը հարկադրելը | C54: 176 | D54: =SUM(Ս.Մնոյան!D54+'Է. Կարապետյան'!D54+'Կ․Դավթյան'!D54+Ժ.Նազարյան!D54+Դ.Դաբաղյան!D54+Գ.Պողոսյան!D54) -> 0 | E54: =SUM(Ս.Մնոյան!E54+'Է. Կարապետյան'!E54+'Կ․Դավթյան'!E54+Ժ.Նազարյան!E54+Դ.Դաբաղյան!E54+Գ.Պողոսյան!E54) -> 0 | F54: =SUM(Ս.Մնոյան!F54+'Է. Կարապետյան'!F54+'Կ․Դավթյան'!F54+Ժ.Նազարյան!F54+Դ.Դաբաղյան!F54+Գ.Պողոսյան!F54) -> 0 | G54: =SUM(Ս.Մնոյան!G54+'Է. Կարապետյան'!G54+'Կ․Դավթյան'!G54+Ժ.Նազարյան!G54+Դ.Դաբաղյան!G54+Գ.Պողոսյան!G54) -> 0 | H54: =SUM(Ս.Մնոյան!H54+'Է. Կարապետյան'!H54+'Կ․Դավթյան'!H54+Ժ.Նազարյան!H54+Դ.Դաբաղյան!H54+Գ.Պողոսյան!H54) -> 0 | I54: =SUM(Ս.Մնոյան!I54+'Է. Կարապետյան'!I54+'Կ․Դավթյան'!I54+Ժ.Նազարյան!I54+Դ.Դաբաղյան!I54+Գ.Պողոսյան!I54) -> 0 | J54: =SUM(Ս.Մնոյան!J54+'Է. Կարապետյան'!J54+'Կ․Դավթյան'!J54+Ժ.Նազարյան!J54+Դ.Դաբաղյան!J54+Գ.Պողոսյան!J54) -> 0 | K54: =SUM(Ս.Մնոյան!K54+'Է. Կարապետյան'!K54+'Կ․Դավթյան'!K54+Ժ.Նազարյան!K54+Դ.Դաբաղյան!K54+Գ.Պողոսյան!K54) -> 0 | ... AG54: =SUM(Ս.Մնոյան!AG54+'Է. Կարապետյան'!AG54+'Կ․Դավթյան'!AG54+Ժ.Նազարյան!AG54+Դ.Դաբաղյան!AG54+Գ.Պողոսյան!AG54) -> 0 | AH54: =SUM(Ս.Մնոյան!#REF!+'Է. Կարապետյան'!#REF!+'Կ․Դավթյան'!#REF!+Ժ.Նազարյան!#REF!+Դ.Դաբաղյան!#REF!+Գ.Պողոսյան!#REF!) -> #REF! | AI54: =SUM(Ս.Մնոյան!#REF!+'Է. Կարապետյան'!#REF!+'Կ․Դավթյան'!#REF!+Ժ.Նազարյան!#REF!+Դ.Դաբաղյան!#REF!+Գ.Պողոսյան!#REF!) -> #REF! | AJ54: =SUM(Ս.Մնոյան!#REF!+'Է. Կարապետյան'!#REF!+'Կ․Դավթյան'!#REF!+Ժ.Նազարյան!#REF!+Դ.Դաբաղյան!#REF!+Գ.Պողոսյան!#REF!) -> #REF! | AK54: =SUM(Ս.Մնոյան!#REF!+'Է. Կարապետյան'!#REF!+'Կ․Դավթյան'!#REF!+Ժ.Նազարյան!#REF!+Դ.Դաբաղյան!#REF!+Գ.Պողոսյան!#REF!) -> #REF! | AL54: =SUM(Ս.Մնոյան!#REF!+'Է. Կարապետյան'!#REF!+'Կ․Դավթյան'!#REF!+Ժ.Նազարյան!#REF!+Դ.Դաբաղյան!#REF!+Գ.Պողոսյան!#REF!) -> #REF! | AM54: =SUM(Ս.Մնոյան!#REF!+'Է. Կարապետյան'!#REF!+'Կ․Դավթյան'!#REF!+Ժ.Նազարյան!#REF!+Դ.Դաբաղյան!#REF!+Գ.Պողոսյան!#REF!) -> #REF! | AN54: =SUM(Ս.Մնոյան!#REF!+'Է. Կարապետյան'!#REF!+'Կ․Դավթյան'!#REF!+Ժ.Նազարյան!#REF!+Դ.Դաբաղյան!#REF!+Գ.Պողոսյան!#REF!) -> #REF! | AO54: =SUM(Ս.Մնոյան!#REF!+'Է. Կարապետյան'!#REF!+'Կ․Դավթյան'!#REF!+Ժ.Նազարյան!#REF!+Դ.Դաբաղյան!#REF!+Գ.Պողոսյան!#REF!) -> #REF!
A55: 4.4 | B55: Մարդու իմունային անբավարարության վիրուսով վարակելը | C55: 177 | D55: =SUM(Ս.Մնոյան!D55+'Է. Կարապետյան'!D55+'Կ․Դավթյան'!D55+Ժ.Նազարյան!D55+Դ.Դաբաղյան!D55+Գ.Պողոսյան!D55) -> 0 | E55: =SUM(Ս.Մնոյան!E55+'Է. Կարապետյան'!E55+'Կ․Դավթյան'!E55+Ժ.Նազարյան!E55+Դ.Դաբաղյան!E55+Գ.Պողոսյան!E55) -> 0 | F55: =SUM(Ս.Մնոյան!F55+'Է. Կարապետյան'!F55+'Կ․Դավթյան'!F55+Ժ.Նազարյան!F55+Դ.Դաբաղյան!F55+Գ.Պողոսյան!F55) -> 0 | G55: =SUM(Ս.Մնոյան!G55+'Է. Կարապետյան'!G55+'Կ․Դավթյան'!G55+Ժ.Նազարյան!G55+Դ.Դաբաղյան!G55+Գ.Պողոսյան!G55) -> 0 | H55: =SUM(Ս.Մնոյան!H55+'Է. Կարապետյան'!H55+'Կ․Դավթյան'!H55+Ժ.Նազարյան!H55+Դ.Դաբաղյան!H55+Գ.Պողոսյան!H55) -> 0 | I55: =SUM(Ս.Մնոյան!I55+'Է. Կարապետյան'!I55+'Կ․Դավթյան'!I55+Ժ.Նազարյան!I55+Դ.Դաբաղյան!I55+Գ.Պողոսյան!I55) -> 0 | J55: =SUM(Ս.Մնոյան!J55+'Է. Կարապետյան'!J55+'Կ․Դավթյան'!J55+Ժ.Նազարյան!J55+Դ.Դաբաղյան!J55+Գ.Պողոսյան!J55) -> 0 | K55: =SUM(Ս.Մնոյան!K55+'Է. Կարապետյան'!K55+'Կ․Դավթյան'!K55+Ժ.Նազարյան!K55+Դ.Դաբաղյան!K55+Գ.Պողոսյան!K55) -> 0 | ... AG55: =SUM(Ս.Մնոյան!AG55+'Է. Կարապետյան'!AG55+'Կ․Դավթյան'!AG55+Ժ.Նազարյան!AG55+Դ.Դաբաղյան!AG55+Գ.Պողոսյան!AG55) -> 0 | AH55: =SUM(Ս.Մնոյան!#REF!+'Է. Կարապետյան'!#REF!+'Կ․Դավթյան'!#REF!+Ժ.Նազարյան!#REF!+Դ.Դաբաղյան!#REF!+Գ.Պողոսյան!#REF!) -> #REF! | AI55: =SUM(Ս.Մնոյան!#REF!+'Է. Կարապետյան'!#REF!+'Կ․Դավթյան'!#REF!+Ժ.Նազարյան!#REF!+Դ.Դաբաղյան!#REF!+Գ.Պողոսյան!#REF!) -> #REF! | AJ55: =SUM(Ս.Մնոյան!#REF!+'Է. Կարապետյան'!#REF!+'Կ․Դավթյան'!#REF!+Ժ.Նազարյան!#REF!+Դ.Դաբաղյան!#REF!+Գ.Պողոսյան!#REF!) -> #REF! | AK55: =SUM(Ս.Մնոյան!#REF!+'Է. Կարապետյան'!#REF!+'Կ․Դավթյան'!#REF!+Ժ.Նազարյան!#REF!+Դ.Դաբաղյան!#REF!+Գ.Պողոսյան!#REF!) -> #REF! | AL55: =SUM(Ս.Մնոյան!#REF!+'Է. Կարապետյան'!#REF!+'Կ․Դավթյան'!#REF!+Ժ.Նազարյան!#REF!+Դ.Դաբաղյան!#REF!+Գ.Պողոսյան!#REF!) -> #REF! | AM55: =SUM(Ս.Մնոյան!#REF!+'Է. Կարապետյան'!#REF!+'Կ․Դավթյան'!#REF!+Ժ.Նազարյան!#REF!+Դ.Դաբաղյան!#REF!+Գ.Պողոսյան!#REF!) -> #REF! | AN55: =SUM(Ս.Մնոյան!#REF!+'Է. Կարապետյան'!#REF!+'Կ․Դավթյան'!#REF!+Ժ.Նազարյան!#REF!+Դ.Դաբաղյան!#REF!+Գ.Պողոսյան!#REF!) -> #REF! | AO55: =SUM(Ս.Մնոյան!#REF!+'Է. Կարապետյան'!#REF!+'Կ․Դավթյան'!#REF!+Ժ.Նազարյան!#REF!+Դ.Դաբաղյան!#REF!+Գ.Պողոսյան!#REF!) -> #REF!
A56: 4.5 | B56: Մարդու իմունային անբավարարության վիրուսով անզգուշությամբ վարակելը | C56: 178 | D56: =SUM(Ս.Մնոյան!D56+'Է. Կարապետյան'!D56+'Կ․Դավթյան'!D56+Ժ.Նազարյան!D56+Դ.Դաբաղյան!D56+Գ.Պողոսյան!D56) -> 0 | E56: =SUM(Ս.Մնոյան!E56+'Է. Կարապետյան'!E56+'Կ․Դավթյան'!E56+Ժ.Նազարյան!E56+Դ.Դաբաղյան!E56+Գ.Պողոսյան!E56) -> 0 | F56: =SUM(Ս.Մնոյան!F56+'Է. Կարապետյան'!F56+'Կ․Դավթյան'!F56+Ժ.Նազարյան!F56+Դ.Դաբաղյան!F56+Գ.Պողոսյան!F56) -> 0 | G56: =SUM(Ս.Մնոյան!G56+'Է. Կարապետյան'!G56+'Կ․Դավթյան'!G56+Ժ.Նազարյան!G56+Դ.Դաբաղյան!G56+Գ.Պողոսյան!G56) -> 0 | H56: =SUM(Ս.Մնոյան!H56+'Է. Կարապետյան'!H56+'Կ․Դավթյան'!H56+Ժ.Նազարյան!H56+Դ.Դաբաղյան!H56+Գ.Պողոսյան!H56) -> 0 | I56: =SUM(Ս.Մնոյան!I56+'Է. Կարապետյան'!I56+'Կ․Դավթյան'!I56+Ժ.Նազարյան!I56+Դ.Դաբաղյան!I56+Գ.Պողոսյան!I56) -> 0 | J56: =SUM(Ս.Մնոյան!J56+'Է. Կարապետյան'!J56+'Կ․Դավթյան'!J56+Ժ.Նազարյան!J56+Դ.Դաբաղյան!J56+Գ.Պողոսյան!J56) -> 0 | K56: =SUM(Ս.Մնոյան!K56+'Է. Կարապետյան'!K56+'Կ․Դավթյան'!K56+Ժ.Նազարյան!K56+Դ.Դաբաղյան!K56+Գ.Պողոսյան!K56) -> 0 | ... AG56: =SUM(Ս.Մնոյան!AG56+'Է. Կարապետյան'!AG56+'Կ․Դավթյան'!AG56+Ժ.Նազարյան!AG56+Դ.Դաբաղյան!AG56+Գ.Պողոսյան!AG56) -> 0 | AH56: =SUM(Ս.Մնոյան!#REF!+'Է. Կարապետյան'!#REF!+'Կ․Դավթյան'!#REF!+Ժ.Նազարյան!#REF!+Դ.Դաբաղյան!#REF!+Գ.Պողոսյան!#REF!) -> #REF! | AI56: =SUM(Ս.Մնոյան!#REF!+'Է. Կարապետյան'!#REF!+'Կ․Դավթյան'!#REF!+Ժ.Նազարյան!#REF!+Դ.Դաբաղյան!#REF!+Գ.Պողոսյան!#REF!) -> #REF! | AJ56: =SUM(Ս.Մնոյան!#REF!+'Է. Կարապետյան'!#REF!+'Կ․Դավթյան'!#REF!+Ժ.Նազարյան!#REF!+Դ.Դաբաղյան!#REF!+Գ.Պողոսյան!#REF!) -> #REF! | AK56: =SUM(Ս.Մնոյան!#REF!+'Է. Կարապետյան'!#REF!+'Կ․Դավթյան'!#REF!+Ժ.Նազարյան!#REF!+Դ.Դաբաղյան!#REF!+Գ.Պողոսյան!#REF!) -> #REF! | AL56: =SUM(Ս.Մնոյան!#REF!+'Է. Կարապետյան'!#REF!+'Կ․Դավթյան'!#REF!+Ժ.Նազարյան!#REF!+Դ.Դաբաղյան!#REF!+Գ.Պողոսյան!#REF!) -> #REF! | AM56: =SUM(Ս.Մնոյան!#REF!+'Է. Կարապետյան'!#REF!+'Կ․Դավթյան'!#REF!+Ժ.Նազարյան!#REF!+Դ.Դաբաղյան!#REF!+Գ.Պողոսյան!#REF!) -> #REF! | AN56: =SUM(Ս.Մնոյան!#REF!+'Է. Կարապետյան'!#REF!+'Կ․Դավթյան'!#REF!+Ժ.Նազարյան!#REF!+Դ.Դաբաղյան!#REF!+Գ.Պողոսյան!#REF!) -> #REF! | AO56: =SUM(Ս.Մնոյան!#REF!+'Է. Կարապետյան'!#REF!+'Կ․Դավթյան'!#REF!+Ժ.Նազարյան!#REF!+Դ.Դաբաղյան!#REF!+Գ.Պողոսյան!#REF!) -> #REF!
A57: 4.6 | B57: Սեռավարակով վարակելը | C57: 179 | D57: =SUM(Ս.Մնոյան!D57+'Է. Կարապետյան'!D57+'Կ․Դավթյան'!D57+Ժ.Նազարյան!D57+Դ.Դաբաղյան!D57+Գ.Պողոսյան!D57) -> 0 | E57: =SUM(Ս.Մնոյան!E57+'Է. Կարապետյան'!E57+'Կ․Դավթյան'!E57+Ժ.Նազարյան!E57+Դ.Դաբաղյան!E57+Գ.Պողոսյան!E57) -> 0 | F57: =SUM(Ս.Մնոյան!F57+'Է. Կարապետյան'!F57+'Կ․Դավթյան'!F57+Ժ.Նազարյան!F57+Դ.Դաբաղյան!F57+Գ.Պողոսյան!F57) -> 0 | G57: =SUM(Ս.Մնոյան!G57+'Է. Կարապետյան'!G57+'Կ․Դավթյան'!G57+Ժ.Նազարյան!G57+Դ.Դաբաղյան!G57+Գ.Պողոսյան!G57) -> 0 | H57: =SUM(Ս.Մնոյան!H57+'Է. Կարապետյան'!H57+'Կ․Դավթյան'!H57+Ժ.Նազարյան!H57+Դ.Դաբաղյան!H57+Գ.Պողոսյան!H57) -> 0 | I57: =SUM(Ս.Մնոյան!I57+'Է. Կարապետյան'!I57+'Կ․Դավթյան'!I57+Ժ.Նազարյան!I57+Դ.Դաբաղյան!I57+Գ.Պողոսյան!I57) -> 0 | J57: =SUM(Ս.Մնոյան!J57+'Է. Կարապետյան'!J57+'Կ․Դավթյան'!J57+Ժ.Նազարյան!J57+Դ.Դաբաղյան!J57+Գ.Պողոսյան!J57) -> 0 | K57: =SUM(Ս.Մնոյան!K57+'Է. Կարապետյան'!K57+'Կ․Դավթյան'!K57+Ժ.Նազարյան!K57+Դ.Դաբաղյան!K57+Գ.Պողոսյան!K57) -> 0 | ... AG57: =SUM(Ս.Մնոյան!AG57+'Է. Կարապետյան'!AG57+'Կ․Դավթյան'!AG57+Ժ.Նազարյան!AG57+Դ.Դաբաղյան!AG57+Գ.Պողոսյան!AG57) -> 0 | AH57: =SUM(Ս.Մնոյան!#REF!+'Է. Կարապետյան'!#REF!+'Կ․Դավթյան'!#REF!+Ժ.Նազարյան!#REF!+Դ.Դաբաղյան!#REF!+Գ.Պողոսյան!#REF!) -> #REF! | AI57: =SUM(Ս.Մնոյան!#REF!+'Է. Կարապետյան'!#REF!+'Կ․Դավթյան'!#REF!+Ժ.Նազարյան!#REF!+Դ.Դաբաղյան!#REF!+Գ.Պողոսյան!#REF!) -> #REF! | AJ57: =SUM(Ս.Մնոյան!#REF!+'Է. Կարապետյան'!#REF!+'Կ․Դավթյան'!#REF!+Ժ.Նազարյան!#REF!+Դ.Դաբաղյան!#REF!+Գ.Պողոսյան!#REF!) -> #REF! | AK57: =SUM(Ս.Մնոյան!#REF!+'Է. Կարապետյան'!#REF!+'Կ․Դավթյան'!#REF!+Ժ.Նազարյան!#REF!+Դ.Դաբաղյան!#REF!+Գ.Պողոսյան!#REF!) -> #REF! | AL57: =SUM(Ս.Մնոյան!#REF!+'Է. Կարապետյան'!#REF!+'Կ․Դավթյան'!#REF!+Ժ.Նազարյան!#REF!+Դ.Դաբաղյան!#REF!+Գ.Պողոսյան!#REF!) -> #REF! | AM57: =SUM(Ս.Մնոյան!#REF!+'Է. Կարապետյան'!#REF!+'Կ․Դավթյան'!#REF!+Ժ.Նազարյան!#REF!+Դ.Դաբաղյան!#REF!+Գ.Պողոսյան!#REF!) -> #REF! | AN57: =SUM(Ս.Մնոյան!#REF!+'Է. Կարապետյան'!#REF!+'Կ․Դավթյան'!#REF!+Ժ.Նազարյան!#REF!+Դ.Դաբաղյան!#REF!+Գ.Պողոսյան!#REF!) -> #REF! | AO57: =SUM(Ս.Մնոյան!#REF!+'Է. Կարապետյան'!#REF!+'Կ․Դավթյան'!#REF!+Ժ.Նազարյան!#REF!+Դ.Դաբաղյան!#REF!+Գ.Պողոսյան!#REF!) -> #REF!
A58: 4.7 | B58: Սեռավարակով անզգուշությամբ վարակելը | C58: 180 | D58: =SUM(Ս.Մնոյան!D58+'Է. Կարապետյան'!D58+'Կ․Դավթյան'!D58+Ժ.Նազարյան!D58+Դ.Դաբաղյան!D58+Գ.Պողոսյան!D58) -> 0 | E58: =SUM(Ս.Մնոյան!E58+'Է. Կարապետյան'!E58+'Կ․Դավթյան'!E58+Ժ.Նազարյան!E58+Դ.Դաբաղյան!E58+Գ.Պողոսյան!E58) -> 0 | F58: =SUM(Ս.Մնոյան!F58+'Է. Կարապետյան'!F58+'Կ․Դավթյան'!F58+Ժ.Նազարյան!F58+Դ.Դաբաղյան!F58+Գ.Պողոսյան!F58) -> 0 | G58: =SUM(Ս.Մնոյան!G58+'Է. Կարապետյան'!G58+'Կ․Դավթյան'!G58+Ժ.Նազարյան!G58+Դ.Դաբաղյան!G58+Գ.Պողոսյան!G58) -> 0 | H58: =SUM(Ս.Մնոյան!H58+'Է. Կարապետյան'!H58+'Կ․Դավթյան'!H58+Ժ.Նազարյան!H58+Դ.Դաբաղյան!H58+Գ.Պողոսյան!H58) -> 0 | I58: =SUM(Ս.Մնոյան!I58+'Է. Կարապետյան'!I58+'Կ․Դավթյան'!I58+Ժ.Նազարյան!I58+Դ.Դաբաղյան!I58+Գ.Պողոսյան!I58) -> 0 | J58: =SUM(Ս.Մնոյան!J58+'Է. Կարապետյան'!J58+'Կ․Դավթյան'!J58+Ժ.Նազարյան!J58+Դ.Դաբաղյան!J58+Գ.Պողոսյան!J58) -> 0 | K58: =SUM(Ս.Մնոյան!K58+'Է. Կարապետյան'!K58+'Կ․Դավթյան'!K58+Ժ.Նազարյան!K58+Դ.Դաբաղյան!K58+Գ.Պողոսյան!K58) -> 0 | ... AG58: =SUM(Ս.Մնոյան!AG58+'Է. Կարապետյան'!AG58+'Կ․Դավթյան'!AG58+Ժ.Նազարյան!AG58+Դ.Դաբաղյան!AG58+Գ.Պողոսյան!AG58) -> 0 | AH58: =SUM(Ս.Մնոյան!#REF!+'Է. Կարապետյան'!#REF!+'Կ․Դավթյան'!#REF!+Ժ.Նազարյան!#REF!+Դ.Դաբաղյան!#REF!+Գ.Պողոսյան!#REF!) -> #REF! | AI58: =SUM(Ս.Մնոյան!#REF!+'Է. Կարապետյան'!#REF!+'Կ․Դավթյան'!#REF!+Ժ.Նազարյան!#REF!+Դ.Դաբաղյան!#REF!+Գ.Պողոսյան!#REF!) -> #REF! | AJ58: =SUM(Ս.Մնոյան!#REF!+'Է. Կարապետյան'!#REF!+'Կ․Դավթյան'!#REF!+Ժ.Նազարյան!#REF!+Դ.Դաբաղյան!#REF!+Գ.Պողոսյան!#REF!) -> #REF! | AK58: =SUM(Ս.Մնոյան!#REF!+'Է. Կարապետյան'!#REF!+'Կ․Դավթյան'!#REF!+Ժ.Նազարյան!#REF!+Դ.Դաբաղյան!#REF!+Գ.Պողոսյան!#REF!) -> #REF! | AL58: =SUM(Ս.Մնոյան!#REF!+'Է. Կարապետյան'!#REF!+'Կ․Դավթյան'!#REF!+Ժ.Նազարյան!#REF!+Դ.Դաբաղյան!#REF!+Գ.Պողոսյան!#REF!) -> #REF! | AM58: =SUM(Ս.Մնոյան!#REF!+'Է. Կարապետյան'!#REF!+'Կ․Դավթյան'!#REF!+Ժ.Նազարյան!#REF!+Դ.Դաբաղյան!#REF!+Գ.Պողոսյան!#REF!) -> #REF! | AN58: =SUM(Ս.Մնոյան!#REF!+'Է. Կարապետյան'!#REF!+'Կ․Դավթյան'!#REF!+Ժ.Նազարյան!#REF!+Դ.Դաբաղյան!#REF!+Գ.Պողոսյան!#REF!) -> #REF! | AO58: =SUM(Ս.Մնոյան!#REF!+'Է. Կարապետյան'!#REF!+'Կ․Դավթյան'!#REF!+Ժ.Նազարյան!#REF!+Դ.Դաբաղյան!#REF!+Գ.Պողոսյան!#REF!) -> #REF!
A59: 4.8 | B59: Շրջապատի համար վտանգ ներկայացնող հիվանդությամբ վարակելը | C59: 181 | D59: =SUM(Ս.Մնոյան!D59+'Է. Կարապետյան'!D59+'Կ․Դավթյան'!D59+Ժ.Նազարյան!D59+Դ.Դաբաղյան!D59+Գ.Պողոսյան!D59) -> 0 | E59: =SUM(Ս.Մնոյան!E59+'Է. Կարապետյան'!E59+'Կ․Դավթյան'!E59+Ժ.Նազարյան!E59+Դ.Դաբաղյան!E59+Գ.Պողոսյան!E59) -> 0 | F59: =SUM(Ս.Մնոյան!F59+'Է. Կարապետյան'!F59+'Կ․Դավթյան'!F59+Ժ.Նազարյան!F59+Դ.Դաբաղյան!F59+Գ.Պողոսյան!F59) -> 0 | G59: =SUM(Ս.Մնոյան!G59+'Է. Կարապետյան'!G59+'Կ․Դավթյան'!G59+Ժ.Նազարյան!G59+Դ.Դաբաղյան!G59+Գ.Պողոսյան!G59) -> 0 | H59: =SUM(Ս.Մնոյան!H59+'Է. Կարապետյան'!H59+'Կ․Դավթյան'!H59+Ժ.Նազարյան!H59+Դ.Դաբաղյան!H59+Գ.Պողոսյան!H59) -> 0 | I59: =SUM(Ս.Մնոյան!I59+'Է. Կարապետյան'!I59+'Կ․Դավթյան'!I59+Ժ.Նազարյան!I59+Դ.Դաբաղյան!I59+Գ.Պողոսյան!I59) -> 0 | J59: =SUM(Ս.Մնոյան!J59+'Է. Կարապետյան'!J59+'Կ․Դավթյան'!J59+Ժ.Նազարյան!J59+Դ.Դաբաղյան!J59+Գ.Պողոսյան!J59) -> 0 | K59: =SUM(Ս.Մնոյան!K59+'Է. Կարապետյան'!K59+'Կ․Դավթյան'!K59+Ժ.Նազարյան!K59+Դ.Դաբաղյան!K59+Գ.Պողոսյան!K59) -> 0 | ... AG59: =SUM(Ս.Մնոյան!AG59+'Է. Կարապետյան'!AG59+'Կ․Դավթյան'!AG59+Ժ.Նազարյան!AG59+Դ.Դաբաղյան!AG59+Գ.Պողոսյան!AG59) -> 0 | AH59: =SUM(Ս.Մնոյան!#REF!+'Է. Կարապետյան'!#REF!+'Կ․Դավթյան'!#REF!+Ժ.Նազարյան!#REF!+Դ.Դաբաղյան!#REF!+Գ.Պողոսյան!#REF!) -> #REF! | AI59: =SUM(Ս.Մնոյան!#REF!+'Է. Կարապետյան'!#REF!+'Կ․Դավթյան'!#REF!+Ժ.Նազարյան!#REF!+Դ.Դաբաղյան!#REF!+Գ.Պողոսյան!#REF!) -> #REF! | AJ59: =SUM(Ս.Մնոյան!#REF!+'Է. Կարապետյան'!#REF!+'Կ․Դավթյան'!#REF!+Ժ.Նազարյան!#REF!+Դ.Դաբաղյան!#REF!+Գ.Պողոսյան!#REF!) -> #REF! | AK59: =SUM(Ս.Մնոյան!#REF!+'Է. Կարապետյան'!#REF!+'Կ․Դավթյան'!#REF!+Ժ.Նազարյան!#REF!+Դ.Դաբաղյան!#REF!+Գ.Պողոսյան!#REF!) -> #REF! | AL59: =SUM(Ս.Մնոյան!#REF!+'Է. Կարապետյան'!#REF!+'Կ․Դավթյան'!#REF!+Ժ.Նազարյան!#REF!+Դ.Դաբաղյան!#REF!+Գ.Պողոսյան!#REF!) -> #REF! | AM59: =SUM(Ս.Մնոյան!#REF!+'Է. Կարապետյան'!#REF!+'Կ․Դավթյան'!#REF!+Ժ.Նազարյան!#REF!+Դ.Դաբաղյան!#REF!+Գ.Պողոսյան!#REF!) -> #REF! | AN59: =SUM(Ս.Մնոյան!#REF!+'Է. Կարապետյան'!#REF!+'Կ․Դավթյան'!#REF!+Ժ.Նազարյան!#REF!+Դ.Դաբաղյան!#REF!+Գ.Պողոսյան!#REF!) -> #REF! | AO59: =SUM(Ս.Մնոյան!#REF!+'Է. Կարապետյան'!#REF!+'Կ․Դավթյան'!#REF!+Ժ.Նազարյան!#REF!+Դ.Դաբաղյան!#REF!+Գ.Պողոսյան!#REF!) -> #REF!
A60: 4.9 | B60: Վտանգի մեջ թողնելը | C60: 182 | D60: =SUM(Ս.Մնոյան!D60+'Է. Կարապետյան'!D60+'Կ․Դավթյան'!D60+Ժ.Նազարյան!D60+Դ.Դաբաղյան!D60+Գ.Պողոսյան!D60) -> 0 | E60: =SUM(Ս.Մնոյան!E60+'Է. Կարապետյան'!E60+'Կ․Դավթյան'!E60+Ժ.Նազարյան!E60+Դ.Դաբաղյան!E60+Գ.Պողոսյան!E60) -> 0 | F60: =SUM(Ս.Մնոյան!F60+'Է. Կարապետյան'!F60+'Կ․Դավթյան'!F60+Ժ.Նազարյան!F60+Դ.Դաբաղյան!F60+Գ.Պողոսյան!F60) -> 0 | G60: =SUM(Ս.Մնոյան!G60+'Է. Կարապետյան'!G60+'Կ․Դավթյան'!G60+Ժ.Նազարյան!G60+Դ.Դաբաղյան!G60+Գ.Պողոսյան!G60) -> 0 | H60: =SUM(Ս.Մնոյան!H60+'Է. Կարապետյան'!H60+'Կ․Դավթյան'!H60+Ժ.Նազարյան!H60+Դ.Դաբաղյան!H60+Գ.Պողոսյան!H60) -> 0 | I60: =SUM(Ս.Մնոյան!I60+'Է. Կարապետյան'!I60+'Կ․Դավթյան'!I60+Ժ.Նազարյան!I60+Դ.Դաբաղյան!I60+Գ.Պողոսյան!I60) -> 0 | J60: =SUM(Ս.Մնոյան!J60+'Է. Կարապետյան'!J60+'Կ․Դավթյան'!J60+Ժ.Նազարյան!J60+Դ.Դաբաղյան!J60+Գ.Պողոսյան!J60) -> 0 | K60: =SUM(Ս.Մնոյան!K60+'Է. Կարապետյան'!K60+'Կ․Դավթյան'!K60+Ժ.Նազարյան!K60+Դ.Դաբաղյան!K60+Գ.Պողոսյան!K60) -> 0 | ... AG60: =SUM(Ս.Մնոյան!AG60+'Է. Կարապետյան'!AG60+'Կ․Դավթյան'!AG60+Ժ.Նազարյան!AG60+Դ.Դաբաղյան!AG60+Գ.Պողոսյան!AG60) -> 0 | AH60: =SUM(Ս.Մնոյան!#REF!+'Է. Կարապետյան'!#REF!+'Կ․Դավթյան'!#REF!+Ժ.Նազարյան!#REF!+Դ.Դաբաղյան!#REF!+Գ.Պողոսյան!#REF!) -> #REF! | AI60: =SUM(Ս.Մնոյան!#REF!+'Է. Կարապետյան'!#REF!+'Կ․Դավթյան'!#REF!+Ժ.Նազարյան!#REF!+Դ.Դաբաղյան!#REF!+Գ.Պողոսյան!#REF!) -> #REF! | AJ60: =SUM(Ս.Մնոյան!#REF!+'Է. Կարապետյան'!#REF!+'Կ․Դավթյան'!#REF!+Ժ.Նազարյան!#REF!+Դ.Դաբաղյան!#REF!+Գ.Պողոսյան!#REF!) -> #REF! | AK60: =SUM(Ս.Մնոյան!#REF!+'Է. Կարապետյան'!#REF!+'Կ․Դավթյան'!#REF!+Ժ.Նազարյան!#REF!+Դ.Դաբաղյան!#REF!+Գ.Պողոսյան!#REF!) -> #REF! | AL60: =SUM(Ս.Մնոյան!#REF!+'Է. Կարապետյան'!#REF!+'Կ․Դավթյան'!#REF!+Ժ.Նազարյան!#REF!+Դ.Դաբաղյան!#REF!+Գ.Պողոսյան!#REF!) -> #REF! | AM60: =SUM(Ս.Մնոյան!#REF!+'Է. Կարապետյան'!#REF!+'Կ․Դավթյան'!#REF!+Ժ.Նազարյան!#REF!+Դ.Դաբաղյան!#REF!+Գ.Պողոսյան!#REF!) -> #REF! | AN60: =SUM(Ս.Մնոյան!#REF!+'Է. Կարապետյան'!#REF!+'Կ․Դավթյան'!#REF!+Ժ.Նազարյան!#REF!+Դ.Դաբաղյան!#REF!+Գ.Պողոսյան!#REF!) -> #REF! | AO60: =SUM(Ս.Մնոյան!#REF!+'Է. Կարապետյան'!#REF!+'Կ․Դավթյան'!#REF!+Ժ.Նազարյան!#REF!+Դ.Դաբաղյան!#REF!+Գ.Պողոսյան!#REF!) -> #REF!
A61: 4.10 | B61: Մարդու սաղմի, պտղի, մարդու կամ դիակի բջիջների, հյուսվածքների, օրգանների կամ կենսաբանական նյութերի կամ հեղուկների ապօրինի շրջանառությունը | C61: 183 | D61: =SUM(Ս.Մնոյան!D61+'Է. Կարապետյան'!D61+'Կ․Դավթյան'!D61+Ժ.Նազարյան!D61+Դ.Դաբաղյան!D61+Գ.Պողոսյան!D61) -> 0 | E61: =SUM(Ս.Մնոյան!E61+'Է. Կարապետյան'!E61+'Կ․Դավթյան'!E61+Ժ.Նազարյան!E61+Դ.Դաբաղյան!E61+Գ.Պողոսյան!E61) -> 0 | F61: =SUM(Ս.Մնոյան!F61+'Է. Կարապետյան'!F61+'Կ․Դավթյան'!F61+Ժ.Նազարյան!F61+Դ.Դաբաղյան!F61+Գ.Պողոսյան!F61) -> 0 | G61: =SUM(Ս.Մնոյան!G61+'Է. Կարապետյան'!G61+'Կ․Դավթյան'!G61+Ժ.Նազարյան!G61+Դ.Դաբաղյան!G61+Գ.Պողոսյան!G61) -> 0 | H61: =SUM(Ս.Մնոյան!H61+'Է. Կարապետյան'!H61+'Կ․Դավթյան'!H61+Ժ.Նազարյան!H61+Դ.Դաբաղյան!H61+Գ.Պողոսյան!H61) -> 0 | I61: =SUM(Ս.Մնոյան!I61+'Է. Կարապետյան'!I61+'Կ․Դավթյան'!I61+Ժ.Նազարյան!I61+Դ.Դաբաղյան!I61+Գ.Պողոսյան!I61) -> 0 | J61: =SUM(Ս.Մնոյան!J61+'Է. Կարապետյան'!J61+'Կ․Դավթյան'!J61+Ժ.Նազարյան!J61+Դ.Դաբաղյան!J61+Գ.Պողոսյան!J61) -> 0 | K61: =SUM(Ս.Մնոյան!K61+'Է. Կարապետյան'!K61+'Կ․Դավթյան'!K61+Ժ.Նազարյան!K61+Դ.Դաբաղյան!K61+Գ.Պողոսյան!K61) -> 0 | ... AG61: =SUM(Ս.Մնոյան!AG61+'Է. Կարապետյան'!AG61+'Կ․Դավթյան'!AG61+Ժ.Նազարյան!AG61+Դ.Դաբաղյան!AG61+Գ.Պողոսյան!AG61) -> 0 | AH61: =SUM(Ս.Մնոյան!#REF!+'Է. Կարապետյան'!#REF!+'Կ․Դավթյան'!#REF!+Ժ.Նազարյան!#REF!+Դ.Դաբաղյան!#REF!+Գ.Պողոսյան!#REF!) -> #REF! | AI61: =SUM(Ս.Մնոյան!#REF!+'Է. Կարապետյան'!#REF!+'Կ․Դավթյան'!#REF!+Ժ.Նազարյան!#REF!+Դ.Դաբաղյան!#REF!+Գ.Պողոսյան!#REF!) -> #REF! | AJ61: =SUM(Ս.Մնոյան!#REF!+'Է. Կարապետյան'!#REF!+'Կ․Դավթյան'!#REF!+Ժ.Նազարյան!#REF!+Դ.Դաբաղյան!#REF!+Գ.Պողոսյան!#REF!) -> #REF! | AK61: =SUM(Ս.Մնոյան!#REF!+'Է. Կարապետյան'!#REF!+'Կ․Դավթյան'!#REF!+Ժ.Նազարյան!#REF!+Դ.Դաբաղյան!#REF!+Գ.Պողոսյան!#REF!) -> #REF! | AL61: =SUM(Ս.Մնոյան!#REF!+'Է. Կարապետյան'!#REF!+'Կ․Դավթյան'!#REF!+Ժ.Նազարյան!#REF!+Դ.Դաբաղյան!#REF!+Գ.Պողոսյան!#REF!) -> #REF! | AM61: =SUM(Ս.Մնոյան!#REF!+'Է. Կարապետյան'!#REF!+'Կ․Դավթյան'!#REF!+Ժ.Նազարյան!#REF!+Դ.Դաբաղյան!#REF!+Գ.Պողոսյան!#REF!) -> #REF! | AN61: =SUM(Ս.Մնոյան!#REF!+'Է. Կարապետյան'!#REF!+'Կ․Դավթյան'!#REF!+Ժ.Նազարյան!#REF!+Դ.Դաբաղյան!#REF!+Գ.Պողոսյան!#REF!) -> #REF! | AO61: =SUM(Ս.Մնոյան!#REF!+'Է. Կարապետյան'!#REF!+'Կ․Դավթյան'!#REF!+Ժ.Նազարյան!#REF!+Դ.Դաբաղյան!#REF!+Գ.Պողոսյան!#REF!) -> #REF!
A62: 4.11 | B62: Փոխպատվաստման կանոնները խախտելը | C62: 184 | D62: =SUM(Ս.Մնոյան!D62+'Է. Կարապետյան'!D62+'Կ․Դավթյան'!D62+Ժ.Նազարյան!D62+Դ.Դաբաղյան!D62+Գ.Պողոսյան!D62) -> 0 | E62: =SUM(Ս.Մնոյան!E62+'Է. Կարապետյան'!E62+'Կ․Դավթյան'!E62+Ժ.Նազարյան!E62+Դ.Դաբաղյան!E62+Գ.Պողոսյան!E62) -> 0 | F62: =SUM(Ս.Մնոյան!F62+'Է. Կարապետյան'!F62+'Կ․Դավթյան'!F62+Ժ.Նազարյան!F62+Դ.Դաբաղյան!F62+Գ.Պողոսյան!F62) -> 0 | G62: =SUM(Ս.Մնոյան!G62+'Է. Կարապետյան'!G62+'Կ․Դավթյան'!G62+Ժ.Նազարյան!G62+Դ.Դաբաղյան!G62+Գ.Պողոսյան!G62) -> 0 | H62: =SUM(Ս.Մնոյան!H62+'Է. Կարապետյան'!H62+'Կ․Դավթյան'!H62+Ժ.Նազարյան!H62+Դ.Դաբաղյան!H62+Գ.Պողոսյան!H62) -> 0 | I62: =SUM(Ս.Մնոյան!I62+'Է. Կարապետյան'!I62+'Կ․Դավթյան'!I62+Ժ.Նազարյան!I62+Դ.Դաբաղյան!I62+Գ.Պողոսյան!I62) -> 0 | J62: =SUM(Ս.Մնոյան!J62+'Է. Կարապետյան'!J62+'Կ․Դավթյան'!J62+Ժ.Նազարյան!J62+Դ.Դաբաղյան!J62+Գ.Պողոսյան!J62) -> 0 | K62: =SUM(Ս.Մնոյան!K62+'Է. Կարապետյան'!K62+'Կ․Դավթյան'!K62+Ժ.Նազարյան!K62+Դ.Դաբաղյան!K62+Գ.Պողոսյան!K62) -> 0 | ... AG62: =SUM(Ս.Մնոյան!AG62+'Է. Կարապետյան'!AG62+'Կ․Դավթյան'!AG62+Ժ.Նազարյան!AG62+Դ.Դաբաղյան!AG62+Գ.Պողոսյան!AG62) -> 0 | AH62: =SUM(Ս.Մնոյան!#REF!+'Է. Կարապետյան'!#REF!+'Կ․Դավթյան'!#REF!+Ժ.Նազարյան!#REF!+Դ.Դաբաղյան!#REF!+Գ.Պողոսյան!#REF!) -> #REF! | AI62: =SUM(Ս.Մնոյան!#REF!+'Է. Կարապետյան'!#REF!+'Կ․Դավթյան'!#REF!+Ժ.Նազարյան!#REF!+Դ.Դաբաղյան!#REF!+Գ.Պողոսյան!#REF!) -> #REF! | AJ62: =SUM(Ս.Մնոյան!#REF!+'Է. Կարապետյան'!#REF!+'Կ․Դավթյան'!#REF!+Ժ.Նազարյան!#REF!+Դ.Դաբաղյան!#REF!+Գ.Պողոսյան!#REF!) -> #REF! | AK62: =SUM(Ս.Մնոյան!#REF!+'Է. Կարապետյան'!#REF!+'Կ․Դավթյան'!#REF!+Ժ.Նազարյան!#REF!+Դ.Դաբաղյան!#REF!+Գ.Պողոսյան!#REF!) -> #REF! | AL62: =SUM(Ս.Մնոյան!#REF!+'Է. Կարապետյան'!#REF!+'Կ․Դավթյան'!#REF!+Ժ.Նազարյան!#REF!+Դ.Դաբաղյան!#REF!+Գ.Պողոսյան!#REF!) -> #REF! | AM62: =SUM(Ս.Մնոյան!#REF!+'Է. Կարապետյան'!#REF!+'Կ․Դավթյան'!#REF!+Ժ.Նազարյան!#REF!+Դ.Դաբաղյան!#REF!+Գ.Պողոսյան!#REF!) -> #REF! | AN62: =SUM(Ս.Մնոյան!#REF!+'Է. Կարապետյան'!#REF!+'Կ․Դավթյան'!#REF!+Ժ.Նազարյան!#REF!+Դ.Դաբաղյան!#REF!+Գ.Պողոսյան!#REF!) -> #REF! | AO62: =SUM(Ս.Մնոյան!#REF!+'Է. Կարապետյան'!#REF!+'Կ․Դավթյան'!#REF!+Ժ.Նազարյան!#REF!+Դ.Դաբաղյան!#REF!+Գ.Պողոսյան!#REF!) -> #REF!
A63: 4.12 | B63: Անձին առանց իր համաձայնության բժշկական, գիտական կամ այլ փորձի ենթարկելը | C63: 185 | D63: =SUM(Ս.Մնոյան!D63+'Է. Կարապետյան'!D63+'Կ․Դավթյան'!D63+Ժ.Նազարյան!D63+Դ.Դաբաղյան!D63+Գ.Պողոսյան!D63) -> 0 | E63: =SUM(Ս.Մնոյան!E63+'Է. Կարապետյան'!E63+'Կ․Դավթյան'!E63+Ժ.Նազարյան!E63+Դ.Դաբաղյան!E63+Գ.Պողոսյան!E63) -> 0 | F63: =SUM(Ս.Մնոյան!F63+'Է. Կարապետյան'!F63+'Կ․Դավթյան'!F63+Ժ.Նազարյան!F63+Դ.Դաբաղյան!F63+Գ.Պողոսյան!F63) -> 0 | G63: =SUM(Ս.Մնոյան!G63+'Է. Կարապետյան'!G63+'Կ․Դավթյան'!G63+Ժ.Նազարյան!G63+Դ.Դաբաղյան!G63+Գ.Պողոսյան!G63) -> 0 | H63: =SUM(Ս.Մնոյան!H63+'Է. Կարապետյան'!H63+'Կ․Դավթյան'!H63+Ժ.Նազարյան!H63+Դ.Դաբաղյան!H63+Գ.Պողոսյան!H63) -> 0 | I63: =SUM(Ս.Մնոյան!I63+'Է. Կարապետյան'!I63+'Կ․Դավթյան'!I63+Ժ.Նազարյան!I63+Դ.Դաբաղյան!I63+Գ.Պողոսյան!I63) -> 0 | J63: =SUM(Ս.Մնոյան!J63+'Է. Կարապետյան'!J63+'Կ․Դավթյան'!J63+Ժ.Նազարյան!J63+Դ.Դաբաղյան!J63+Գ.Պողոսյան!J63) -> 0 | K63: =SUM(Ս.Մնոյան!K63+'Է. Կարապետյան'!K63+'Կ․Դավթյան'!K63+Ժ.Նազարյան!K63+Դ.Դաբաղյան!K63+Գ.Պողոսյան!K63) -> 0 | ... AG63: =SUM(Ս.Մնոյան!AG63+'Է. Կարապետյան'!AG63+'Կ․Դավթյան'!AG63+Ժ.Նազարյան!AG63+Դ.Դաբաղյան!AG63+Գ.Պողոսյան!AG63) -> 0 | AH63: =SUM(Ս.Մնոյան!#REF!+'Է. Կարապետյան'!#REF!+'Կ․Դավթյան'!#REF!+Ժ.Նազարյան!#REF!+Դ.Դաբաղյան!#REF!+Գ.Պողոսյան!#REF!) -> #REF! | AI63: =SUM(Ս.Մնոյան!#REF!+'Է. Կարապետյան'!#REF!+'Կ․Դավթյան'!#REF!+Ժ.Նազարյան!#REF!+Դ.Դաբաղյան!#REF!+Գ.Պողոսյան!#REF!) -> #REF! | AJ63: =SUM(Ս.Մնոյան!#REF!+'Է. Կարապետյան'!#REF!+'Կ․Դավթյան'!#REF!+Ժ.Նազարյան!#REF!+Դ.Դաբաղյան!#REF!+Գ.Պողոսյան!#REF!) -> #REF! | AK63: =SUM(Ս.Մնոյան!#REF!+'Է. Կարապետյան'!#REF!+'Կ․Դավթյան'!#REF!+Ժ.Նազարյան!#REF!+Դ.Դաբաղյան!#REF!+Գ.Պողոսյան!#REF!) -> #REF! | AL63: =SUM(Ս.Մնոյան!#REF!+'Է. Կարապետյան'!#REF!+'Կ․Դավթյան'!#REF!+Ժ.Նազարյան!#REF!+Դ.Դաբաղյան!#REF!+Գ.Պողոսյան!#REF!) -> #REF! | AM63: =SUM(Ս.Մնոյան!#REF!+'Է. Կարապետյան'!#REF!+'Կ․Դավթյան'!#REF!+Ժ.Նազարյան!#REF!+Դ.Դաբաղյան!#REF!+Գ.Պողոսյան!#REF!) -> #REF! | AN63: =SUM(Ս.Մնոյան!#REF!+'Է. Կարապետյան'!#REF!+'Կ․Դավթյան'!#REF!+Ժ.Նազարյան!#REF!+Դ.Դաբաղյան!#REF!+Գ.Պողոսյան!#REF!) -> #REF! | AO63: =SUM(Ս.Մնոյան!#REF!+'Է. Կարապետյան'!#REF!+'Կ․Դավթյան'!#REF!+Ժ.Նազարյան!#REF!+Դ.Դաբաղյան!#REF!+Գ.Պողոսյան!#REF!) -> #REF!
A64: 4.13 | B64: Մարդու վերարտադրողական կլոնավորումը կամ եվգենիկական փորձերը | C64: 186 | D64: =SUM(Ս.Մնոյան!D64+'Է. Կարապետյան'!D64+'Կ․Դավթյան'!D64+Ժ.Նազարյան!D64+Դ.Դաբաղյան!D64+Գ.Պողոսյան!D64) -> 0 | E64: =SUM(Ս.Մնոյան!E64+'Է. Կարապետյան'!E64+'Կ․Դավթյան'!E64+Ժ.Նազարյան!E64+Դ.Դաբաղյան!E64+Գ.Պողոսյան!E64) -> 0 | F64: =SUM(Ս.Մնոյան!F64+'Է. Կարապետյան'!F64+'Կ․Դավթյան'!F64+Ժ.Նազարյան!F64+Դ.Դաբաղյան!F64+Գ.Պողոսյան!F64) -> 0 | G64: =SUM(Ս.Մնոյան!G64+'Է. Կարապետյան'!G64+'Կ․Դավթյան'!G64+Ժ.Նազարյան!G64+Դ.Դաբաղյան!G64+Գ.Պողոսյան!G64) -> 0 | H64: =SUM(Ս.Մնոյան!H64+'Է. Կարապետյան'!H64+'Կ․Դավթյան'!H64+Ժ.Նազարյան!H64+Դ.Դաբաղյան!H64+Գ.Պողոսյան!H64) -> 0 | I64: =SUM(Ս.Մնոյան!I64+'Է. Կարապետյան'!I64+'Կ․Դավթյան'!I64+Ժ.Նազարյան!I64+Դ.Դաբաղյան!I64+Գ.Պողոսյան!I64) -> 0 | J64: =SUM(Ս.Մնոյան!J64+'Է. Կարապետյան'!J64+'Կ․Դավթյան'!J64+Ժ.Նազարյան!J64+Դ.Դաբաղյան!J64+Գ.Պողոսյան!J64) -> 0 | K64: =SUM(Ս.Մնոյան!K64+'Է. Կարապետյան'!K64+'Կ․Դավթյան'!K64+Ժ.Նազարյան!K64+Դ.Դաբաղյան!K64+Գ.Պողոսյան!K64) -> 0 | ... AG64: =SUM(Ս.Մնոյան!AG64+'Է. Կարապետյան'!AG64+'Կ․Դավթյան'!AG64+Ժ.Նազարյան!AG64+Դ.Դաբաղյան!AG64+Գ.Պողոսյան!AG64) -> 0 | AH64: =SUM(Ս.Մնոյան!#REF!+'Է. Կարապետյան'!#REF!+'Կ․Դավթյան'!#REF!+Ժ.Նազարյան!#REF!+Դ.Դաբաղյան!#REF!+Գ.Պողոսյան!#REF!) -> #REF! | AI64: =SUM(Ս.Մնոյան!#REF!+'Է. Կարապետյան'!#REF!+'Կ․Դավթյան'!#REF!+Ժ.Նազարյան!#REF!+Դ.Դաբաղյան!#REF!+Գ.Պողոսյան!#REF!) -> #REF! | AJ64: =SUM(Ս.Մնոյան!#REF!+'Է. Կարապետյան'!#REF!+'Կ․Դավթյան'!#REF!+Ժ.Նազարյան!#REF!+Դ.Դաբաղյան!#REF!+Գ.Պողոսյան!#REF!) -> #REF! | AK64: =SUM(Ս.Մնոյան!#REF!+'Է. Կարապետյան'!#REF!+'Կ․Դավթյան'!#REF!+Ժ.Նազարյան!#REF!+Դ.Դաբաղյան!#REF!+Գ.Պողոսյան!#REF!) -> #REF! | AL64: =SUM(Ս.Մնոյան!#REF!+'Է. Կարապետյան'!#REF!+'Կ․Դավթյան'!#REF!+Ժ.Նազարյան!#REF!+Դ.Դաբաղյան!#REF!+Գ.Պողոսյան!#REF!) -> #REF! | AM64: =SUM(Ս.Մնոյան!#REF!+'Է. Կարապետյան'!#REF!+'Կ․Դավթյան'!#REF!+Ժ.Նազարյան!#REF!+Դ.Դաբաղյան!#REF!+Գ.Պողոսյան!#REF!) -> #REF! | AN64: =SUM(Ս.Մնոյան!#REF!+'Է. Կարապետյան'!#REF!+'Կ․Դավթյան'!#REF!+Ժ.Նազարյան!#REF!+Դ.Դաբաղյան!#REF!+Գ.Պողոսյան!#REF!) -> #REF! | AO64: =SUM(Ս.Մնոյան!#REF!+'Է. Կարապետյան'!#REF!+'Կ․Դավթյան'!#REF!+Ժ.Նազարյան!#REF!+Դ.Դաբաղյան!#REF!+Գ.Պողոսյան!#REF!) -> #REF!
A65: 4.14 | B65: Բուժաշխատողի կողմից մասնագիտական պարտականությունները չկատարելը կամ ոչ պատշաճ կատարելը | C65: 187 | D65: =SUM(Ս.Մնոյան!D65+'Է. Կարապետյան'!D65+'Կ․Դավթյան'!D65+Ժ.Նազարյան!D65+Դ.Դաբաղյան!D65+Գ.Պողոսյան!D65) -> 1 | E65: =SUM(Ս.Մնոյան!E65+'Է. Կարապետյան'!E65+'Կ․Դավթյան'!E65+Ժ.Նազարյան!E65+Դ.Դաբաղյան!E65+Գ.Պողոսյան!E65) -> 0 | F65: =SUM(Ս.Մնոյան!F65+'Է. Կարապետյան'!F65+'Կ․Դավթյան'!F65+Ժ.Նազարյան!F65+Դ.Դաբաղյան!F65+Գ.Պողոսյան!F65) -> 0 | G65: =SUM(Ս.Մնոյան!G65+'Է. Կարապետյան'!G65+'Կ․Դավթյան'!G65+Ժ.Նազարյան!G65+Դ.Դաբաղյան!G65+Գ.Պողոսյան!G65) -> 0 | H65: =SUM(Ս.Մնոյան!H65+'Է. Կարապետյան'!H65+'Կ․Դավթյան'!H65+Ժ.Նազարյան!H65+Դ.Դաբաղյան!H65+Գ.Պողոսյան!H65) -> 0 | I65: =SUM(Ս.Մնոյան!I65+'Է. Կարապետյան'!I65+'Կ․Դավթյան'!I65+Ժ.Նազարյան!I65+Դ.Դաբաղյան!I65+Գ.Պողոսյան!I65) -> 0 | J65: =SUM(Ս.Մնոյան!J65+'Է. Կարապետյան'!J65+'Կ․Դավթյան'!J65+Ժ.Նազարյան!J65+Դ.Դաբաղյան!J65+Գ.Պողոսյան!J65) -> 0 | K65: =SUM(Ս.Մնոյան!K65+'Է. Կարապետյան'!K65+'Կ․Դավթյան'!K65+Ժ.Նազարյան!K65+Դ.Դաբաղյան!K65+Գ.Պողոսյան!K65) -> 1 | ... AG65: =SUM(Ս.Մնոյան!AG65+'Է. Կարապետյան'!AG65+'Կ․Դավթյան'!AG65+Ժ.Նազարյան!AG65+Դ.Դաբաղյան!AG65+Գ.Պողոսյան!AG65) -> 0 | AH65: =SUM(Ս.Մնոյան!#REF!+'Է. Կարապետյան'!#REF!+'Կ․Դավթյան'!#REF!+Ժ.Նազարյան!#REF!+Դ.Դաբաղյան!#REF!+Գ.Պողոսյան!#REF!) -> #REF! | AI65: =SUM(Ս.Մնոյան!#REF!+'Է. Կարապետյան'!#REF!+'Կ․Դավթյան'!#REF!+Ժ.Նազարյան!#REF!+Դ.Դաբաղյան!#REF!+Գ.Պողոսյան!#REF!) -> #REF! | AJ65: =SUM(Ս.Մնոյան!#REF!+'Է. Կարապետյան'!#REF!+'Կ․Դավթյան'!#REF!+Ժ.Նազարյան!#REF!+Դ.Դաբաղյան!#REF!+Գ.Պողոսյան!#REF!) -> #REF! | AK65: =SUM(Ս.Մնոյան!#REF!+'Է. Կարապետյան'!#REF!+'Կ․Դավթյան'!#REF!+Ժ.Նազարյան!#REF!+Դ.Դաբաղյան!#REF!+Գ.Պողոսյան!#REF!) -> #REF! | AL65: =SUM(Ս.Մնոյան!#REF!+'Է. Կարապետյան'!#REF!+'Կ․Դավթյան'!#REF!+Ժ.Նազարյան!#REF!+Դ.Դաբաղյան!#REF!+Գ.Պողոսյան!#REF!) -> #REF! | AM65: =SUM(Ս.Մնոյան!#REF!+'Է. Կարապետյան'!#REF!+'Կ․Դավթյան'!#REF!+Ժ.Նազարյան!#REF!+Դ.Դաբաղյան!#REF!+Գ.Պողոսյան!#REF!) -> #REF! | AN65: =SUM(Ս.Մնոյան!#REF!+'Է. Կարապետյան'!#REF!+'Կ․Դավթյան'!#REF!+Ժ.Նազարյան!#REF!+Դ.Դաբաղյան!#REF!+Գ.Պողոսյան!#REF!) -> #REF! | AO65: =SUM(Ս.Մնոյան!#REF!+'Է. Կարապետյան'!#REF!+'Կ․Դավթյան'!#REF!+Ժ.Նազարյան!#REF!+Դ.Դաբաղյան!#REF!+Գ.Պողոսյան!#REF!) -> #REF!
A66: 5. | B66: Ընդհամենը ազատության, պատվի, արժանապատվության, ֆիզիկական կամ հոգեկան անձեռնմխելիության դեմ ուղղված հանցագործությունները | D66: =SUM(Ս.Մնոյան!D66+'Է. Կարապետյան'!D66+'Կ․Դավթյան'!D66+Ժ.Նազարյան!D66+Դ.Դաբաղյան!D66+Գ.Պողոսյան!D66) -> 12 | E66: =SUM(Ս.Մնոյան!E66+'Է. Կարապետյան'!E66+'Կ․Դավթյան'!E66+Ժ.Նազարյան!E66+Դ.Դաբաղյան!E66+Գ.Պողոսյան!E66) -> 0 | F66: =SUM(Ս.Մնոյան!F66+'Է. Կարապետյան'!F66+'Կ․Դավթյան'!F66+Ժ.Նազարյան!F66+Դ.Դաբաղյան!F66+Գ.Պողոսյան!F66) -> 14 | G66: =SUM(Ս.Մնոյան!G66+'Է. Կարապետյան'!G66+'Կ․Դավթյան'!G66+Ժ.Նազարյան!G66+Դ.Դաբաղյան!G66+Գ.Պողոսյան!G66) -> 3 | H66: =SUM(Ս.Մնոյան!H66+'Է. Կարապետյան'!H66+'Կ․Դավթյան'!H66+Ժ.Նազարյան!H66+Դ.Դաբաղյան!H66+Գ.Պողոսյան!H66) -> 0 | I66: =SUM(Ս.Մնոյան!I66+'Է. Կարապետյան'!I66+'Կ․Դավթյան'!I66+Ժ.Նազարյան!I66+Դ.Դաբաղյան!I66+Գ.Պողոսյան!I66) -> 0 | J66: =SUM(Ս.Մնոյան!J66+'Է. Կարապետյան'!J66+'Կ․Դավթյան'!J66+Ժ.Նազարյան!J66+Դ.Դաբաղյան!J66+Գ.Պողոսյան!J66) -> 0 | K66: =SUM(Ս.Մնոյան!K66+'Է. Կարապետյան'!K66+'Կ․Դավթյան'!K66+Ժ.Նազարյան!K66+Դ.Դաբաղյան!K66+Գ.Պողոսյան!K66) -> 3 | ... AG66: =SUM(Ս.Մնոյան!AG66+'Է. Կարապետյան'!AG66+'Կ․Դավթյան'!AG66+Ժ.Նազարյան!AG66+Դ.Դաբաղյան!AG66+Գ.Պողոսյան!AG66) -> 0 | AH66: =SUM(Ս.Մնոյան!#REF!+'Է. Կարապետյան'!#REF!+'Կ․Դավթյան'!#REF!+Ժ.Նազարյան!#REF!+Դ.Դաբաղյան!#REF!+Գ.Պողոսյան!#REF!) -> #REF! | AI66: =SUM(Ս.Մնոյան!#REF!+'Է. Կարապետյան'!#REF!+'Կ․Դավթյան'!#REF!+Ժ.Նազարյան!#REF!+Դ.Դաբաղյան!#REF!+Գ.Պողոսյան!#REF!) -> #REF! | AJ66: =SUM(Ս.Մնոյան!#REF!+'Է. Կարապետյան'!#REF!+'Կ․Դավթյան'!#REF!+Ժ.Նազարյան!#REF!+Դ.Դաբաղյան!#REF!+Գ.Պողոսյան!#REF!) -> #REF! | AK66: =SUM(Ս.Մնոյան!#REF!+'Է. Կարապետյան'!#REF!+'Կ․Դավթյան'!#REF!+Ժ.Նազարյան!#REF!+Դ.Դաբաղյան!#REF!+Գ.Պողոսյան!#REF!) -> #REF! | AL66: =SUM(Ս.Մնոյան!#REF!+'Է. Կարապետյան'!#REF!+'Կ․Դավթյան'!#REF!+Ժ.Նազարյան!#REF!+Դ.Դաբաղյան!#REF!+Գ.Պողոսյան!#REF!) -> #REF! | AM66: =SUM(Ս.Մնոյան!#REF!+'Է. Կարապետյան'!#REF!+'Կ․Դավթյան'!#REF!+Ժ.Նազարյան!#REF!+Դ.Դաբաղյան!#REF!+Գ.Պողոսյան!#REF!) -> #REF! | AN66: =SUM(Ս.Մնոյան!#REF!+'Է. Կարապետյան'!#REF!+'Կ․Դավթյան'!#REF!+Ժ.Նազարյան!#REF!+Դ.Դաբաղյան!#REF!+Գ.Պողոսյան!#REF!) -> #REF! | AO66: =SUM(Ս.Մնոյան!#REF!+'Է. Կարապետյան'!#REF!+'Կ․Դավթյան'!#REF!+Ժ.Նազարյան!#REF!+Դ.Դաբաղյան!#REF!+Գ.Պողոսյան!#REF!) -> #REF!
A67: 5.1 | B67: Մարդու թրաֆիքինգը կամ շահագործումը | C67: 188 | D67: =SUM(Ս.Մնոյան!D67+'Է. Կարապետյան'!D67+'Կ․Դավթյան'!D67+Ժ.Նազարյան!D67+Դ.Դաբաղյան!D67+Գ.Պողոսյան!D67) -> 0 | E67: =SUM(Ս.Մնոյան!E67+'Է. Կարապետյան'!E67+'Կ․Դավթյան'!E67+Ժ.Նազարյան!E67+Դ.Դաբաղյան!E67+Գ.Պողոսյան!E67) -> 0 | F67: =SUM(Ս.Մնոյան!F67+'Է. Կարապետյան'!F67+'Կ․Դավթյան'!F67+Ժ.Նազարյան!F67+Դ.Դաբաղյան!F67+Գ.Պողոսյան!F67) -> 0 | G67: =SUM(Ս.Մնոյան!G67+'Է. Կարապետյան'!G67+'Կ․Դավթյան'!G67+Ժ.Նազարյան!G67+Դ.Դաբաղյան!G67+Գ.Պողոսյան!G67) -> 0 | H67: =SUM(Ս.Մնոյան!H67+'Է. Կարապետյան'!H67+'Կ․Դավթյան'!H67+Ժ.Նազարյան!H67+Դ.Դաբաղյան!H67+Գ.Պողոսյան!H67) -> 0 | I67: =SUM(Ս.Մնոյան!I67+'Է. Կարապետյան'!I67+'Կ․Դավթյան'!I67+Ժ.Նազարյան!I67+Դ.Դաբաղյան!I67+Գ.Պողոսյան!I67) -> 0 | J67: =SUM(Ս.Մնոյան!J67+'Է. Կարապետյան'!J67+'Կ․Դավթյան'!J67+Ժ.Նազարյան!J67+Դ.Դաբաղյան!J67+Գ.Պողոսյան!J67) -> 0 | K67: =SUM(Ս.Մնոյան!K67+'Է. Կարապետյան'!K67+'Կ․Դավթյան'!K67+Ժ.Նազարյան!K67+Դ.Դաբաղյան!K67+Գ.Պողոսյան!K67) -> 0 | ... AG67: =SUM(Ս.Մնոյան!AG67+'Է. Կարապետյան'!AG67+'Կ․Դավթյան'!AG67+Ժ.Նազարյան!AG67+Դ.Դաբաղյան!AG67+Գ.Պողոսյան!AG67) -> 0 | AH67: =SUM(Ս.Մնոյան!#REF!+'Է. Կարապետյան'!#REF!+'Կ․Դավթյան'!#REF!+Ժ.Նազարյան!#REF!+Դ.Դաբաղյան!#REF!+Գ.Պողոսյան!#REF!) -> #REF! | AI67: =SUM(Ս.Մնոյան!#REF!+'Է. Կարապետյան'!#REF!+'Կ․Դավթյան'!#REF!+Ժ.Նազարյան!#REF!+Դ.Դաբաղյան!#REF!+Գ.Պողոսյան!#REF!) -> #REF! | AJ67: =SUM(Ս.Մնոյան!#REF!+'Է. Կարապետյան'!#REF!+'Կ․Դավթյան'!#REF!+Ժ.Նազարյան!#REF!+Դ.Դաբաղյան!#REF!+Գ.Պողոսյան!#REF!) -> #REF! | AK67: =SUM(Ս.Մնոյան!#REF!+'Է. Կարապետյան'!#REF!+'Կ․Դավթյան'!#REF!+Ժ.Նազարյան!#REF!+Դ.Դաբաղյան!#REF!+Գ.Պողոսյան!#REF!) -> #REF! | AL67: =SUM(Ս.Մնոյան!#REF!+'Է. Կարապետյան'!#REF!+'Կ․Դավթյան'!#REF!+Ժ.Նազարյան!#REF!+Դ.Դաբաղյան!#REF!+Գ.Պողոսյան!#REF!) -> #REF! | AM67: =SUM(Ս.Մնոյան!#REF!+'Է. Կարապետյան'!#REF!+'Կ․Դավթյան'!#REF!+Ժ.Նազարյան!#REF!+Դ.Դաբաղյան!#REF!+Գ.Պողոսյան!#REF!) -> #REF! | AN67: =SUM(Ս.Մնոյան!#REF!+'Է. Կարապետյան'!#REF!+'Կ․Դավթյան'!#REF!+Ժ.Նազարյան!#REF!+Դ.Դաբաղյան!#REF!+Գ.Պողոսյան!#REF!) -> #REF! | AO67: =SUM(Ս.Մնոյան!#REF!+'Է. Կարապետյան'!#REF!+'Կ․Դավթյան'!#REF!+Ժ.Նազարյան!#REF!+Դ.Դաբաղյան!#REF!+Գ.Պողոսյան!#REF!) -> #REF!
A68: 5.2 | B68: Երեխայի կամ անօգնական վիճակում գտնվողի թրաֆիքինգը կամ շահագործումը | C68: 189 | D68: =SUM(Ս.Մնոյան!D68+'Է. Կարապետյան'!D68+'Կ․Դավթյան'!D68+Ժ.Նազարյան!D68+Դ.Դաբաղյան!D68+Գ.Պողոսյան!D68) -> 0 | E68: =SUM(Ս.Մնոյան!E68+'Է. Կարապետյան'!E68+'Կ․Դավթյան'!E68+Ժ.Նազարյան!E68+Դ.Դաբաղյան!E68+Գ.Պողոսյան!E68) -> 0 | F68: =SUM(Ս.Մնոյան!F68+'Է. Կարապետյան'!F68+'Կ․Դավթյան'!F68+Ժ.Նազարյան!F68+Դ.Դաբաղյան!F68+Գ.Պողոսյան!F68) -> 0 | G68: =SUM(Ս.Մնոյան!G68+'Է. Կարապետյան'!G68+'Կ․Դավթյան'!G68+Ժ.Նազարյան!G68+Դ.Դաբաղյան!G68+Գ.Պողոսյան!G68) -> 0 | H68: =SUM(Ս.Մնոյան!H68+'Է. Կարապետյան'!H68+'Կ․Դավթյան'!H68+Ժ.Նազարյան!H68+Դ.Դաբաղյան!H68+Գ.Պողոսյան!H68) -> 0 | I68: =SUM(Ս.Մնոյան!I68+'Է. Կարապետյան'!I68+'Կ․Դավթյան'!I68+Ժ.Նազարյան!I68+Դ.Դաբաղյան!I68+Գ.Պողոսյան!I68) -> 0 | J68: =SUM(Ս.Մնոյան!J68+'Է. Կարապետյան'!J68+'Կ․Դավթյան'!J68+Ժ.Նազարյան!J68+Դ.Դաբաղյան!J68+Գ.Պողոսյան!J68) -> 0 | K68: =SUM(Ս.Մնոյան!K68+'Է. Կարապետյան'!K68+'Կ․Դավթյան'!K68+Ժ.Նազարյան!K68+Դ.Դաբաղյան!K68+Գ.Պողոսյան!K68) -> 0 | ... AG68: =SUM(Ս.Մնոյան!AG68+'Է. Կարապետյան'!AG68+'Կ․Դավթյան'!AG68+Ժ.Նազարյան!AG68+Դ.Դաբաղյան!AG68+Գ.Պողոսյան!AG68) -> 0 | AH68: =SUM(Ս.Մնոյան!#REF!+'Է. Կարապետյան'!#REF!+'Կ․Դավթյան'!#REF!+Ժ.Նազարյան!#REF!+Դ.Դաբաղյան!#REF!+Գ.Պողոսյան!#REF!) -> #REF! | AI68: =SUM(Ս.Մնոյան!#REF!+'Է. Կարապետյան'!#REF!+'Կ․Դավթյան'!#REF!+Ժ.Նազարյան!#REF!+Դ.Դաբաղյան!#REF!+Գ.Պողոսյան!#REF!) -> #REF! | AJ68: =SUM(Ս.Մնոյան!#REF!+'Է. Կարապետյան'!#REF!+'Կ․Դավթյան'!#REF!+Ժ.Նազարյան!#REF!+Դ.Դաբաղյան!#REF!+Գ.Պողոսյան!#REF!) -> #REF! | AK68: =SUM(Ս.Մնոյան!#REF!+'Է. Կարապետյան'!#REF!+'Կ․Դավթյան'!#REF!+Ժ.Նազարյան!#REF!+Դ.Դաբաղյան!#REF!+Գ.Պողոսյան!#REF!) -> #REF! | AL68: =SUM(Ս.Մնոյան!#REF!+'Է. Կարապետյան'!#REF!+'Կ․Դավթյան'!#REF!+Ժ.Նազարյան!#REF!+Դ.Դաբաղյան!#REF!+Գ.Պողոսյան!#REF!) -> #REF! | AM68: =SUM(Ս.Մնոյան!#REF!+'Է. Կարապետյան'!#REF!+'Կ․Դավթյան'!#REF!+Ժ.Նազարյան!#REF!+Դ.Դաբաղյան!#REF!+Գ.Պողոսյան!#REF!) -> #REF! | AN68: =SUM(Ս.Մնոյան!#REF!+'Է. Կարապետյան'!#REF!+'Կ․Դավթյան'!#REF!+Ժ.Նազարյան!#REF!+Դ.Դաբաղյան!#REF!+Գ.Պողոսյան!#REF!) -> #REF! | AO68: =SUM(Ս.Մնոյան!#REF!+'Է. Կարապետյան'!#REF!+'Կ․Դավթյան'!#REF!+Ժ.Նազարյան!#REF!+Դ.Դաբաղյան!#REF!+Գ.Պողոսյան!#REF!) -> #REF!
A69: 5.3 | B69: Շահագործման վիճակում գտնվող մարդու ծառայությունից օգտվելը | C69: 190 | D69: =SUM(Ս.Մնոյան!D69+'Է. Կարապետյան'!D69+'Կ․Դավթյան'!D69+Ժ.Նազարյան!D69+Դ.Դաբաղյան!D69+Գ.Պողոսյան!D69) -> 0 | E69: =SUM(Ս.Մնոյան!E69+'Է. Կարապետյան'!E69+'Կ․Դավթյան'!E69+Ժ.Նազարյան!E69+Դ.Դաբաղյան!E69+Գ.Պողոսյան!E69) -> 0 | F69: =SUM(Ս.Մնոյան!F69+'Է. Կարապետյան'!F69+'Կ․Դավթյան'!F69+Ժ.Նազարյան!F69+Դ.Դաբաղյան!F69+Գ.Պողոսյան!F69) -> 0 | G69: =SUM(Ս.Մնոյան!G69+'Է. Կարապետյան'!G69+'Կ․Դավթյան'!G69+Ժ.Նազարյան!G69+Դ.Դաբաղյան!G69+Գ.Պողոսյան!G69) -> 0 | H69: =SUM(Ս.Մնոյան!H69+'Է. Կարապետյան'!H69+'Կ․Դավթյան'!H69+Ժ.Նազարյան!H69+Դ.Դաբաղյան!H69+Գ.Պողոսյան!H69) -> 0 | I69: =SUM(Ս.Մնոյան!I69+'Է. Կարապետյան'!I69+'Կ․Դավթյան'!I69+Ժ.Նազարյան!I69+Դ.Դաբաղյան!I69+Գ.Պողոսյան!I69) -> 0 | J69: =SUM(Ս.Մնոյան!J69+'Է. Կարապետյան'!J69+'Կ․Դավթյան'!J69+Ժ.Նազարյան!J69+Դ.Դաբաղյան!J69+Գ.Պողոսյան!J69) -> 0 | K69: =SUM(Ս.Մնոյան!K69+'Է. Կարապետյան'!K69+'Կ․Դավթյան'!K69+Ժ.Նազարյան!K69+Դ.Դաբաղյան!K69+Գ.Պողոսյան!K69) -> 0 | ... AG69: =SUM(Ս.Մնոյան!AG69+'Է. Կարապետյան'!AG69+'Կ․Դավթյան'!AG69+Ժ.Նազարյան!AG69+Դ.Դաբաղյան!AG69+Գ.Պողոսյան!AG69) -> 0 | AH69: =SUM(Ս.Մնոյան!#REF!+'Է. Կարապետյան'!#REF!+'Կ․Դավթյան'!#REF!+Ժ.Նազարյան!#REF!+Դ.Դաբաղյան!#REF!+Գ.Պողոսյան!#REF!) -> #REF! | AI69: =SUM(Ս.Մնոյան!#REF!+'Է. Կարապետյան'!#REF!+'Կ․Դավթյան'!#REF!+Ժ.Նազարյան!#REF!+Դ.Դաբաղյան!#REF!+Գ.Պողոսյան!#REF!) -> #REF! | AJ69: =SUM(Ս.Մնոյան!#REF!+'Է. Կարապետյան'!#REF!+'Կ․Դավթյան'!#REF!+Ժ.Նազարյան!#REF!+Դ.Դաբաղյան!#REF!+Գ.Պողոսյան!#REF!) -> #REF! | AK69: =SUM(Ս.Մնոյան!#REF!+'Է. Կարապետյան'!#REF!+'Կ․Դավթյան'!#REF!+Ժ.Նազարյան!#REF!+Դ.Դաբաղյան!#REF!+Գ.Պողոսյան!#REF!) -> #REF! | AL69: =SUM(Ս.Մնոյան!#REF!+'Է. Կարապետյան'!#REF!+'Կ․Դավթյան'!#REF!+Ժ.Նազարյան!#REF!+Դ.Դաբաղյան!#REF!+Գ.Պողոսյան!#REF!) -> #REF! | AM69: =SUM(Ս.Մնոյան!#REF!+'Է. Կարապետյան'!#REF!+'Կ․Դավթյան'!#REF!+Ժ.Նազարյան!#REF!+Դ.Դաբաղյան!#REF!+Գ.Պողոսյան!#REF!) -> #REF! | AN69: =SUM(Ս.Մնոյան!#REF!+'Է. Կարապետյան'!#REF!+'Կ․Դավթյան'!#REF!+Ժ.Նազարյան!#REF!+Դ.Դաբաղյան!#REF!+Գ.Պողոսյան!#REF!) -> #REF! | AO69: =SUM(Ս.Մնոյան!#REF!+'Է. Կարապետյան'!#REF!+'Կ․Դավթյան'!#REF!+Ժ.Նազարյան!#REF!+Դ.Դաբաղյան!#REF!+Գ.Պողոսյան!#REF!) -> #REF!
A70: 5.4 | B70: Մարդուն առևանգելը | C70: 191 | D70: =SUM(Ս.Մնոյան!D70+'Է. Կարապետյան'!D70+'Կ․Դավթյան'!D70+Ժ.Նազարյան!D70+Դ.Դաբաղյան!D70+Գ.Պողոսյան!D70) -> 0 | E70: =SUM(Ս.Մնոյան!E70+'Է. Կարապետյան'!E70+'Կ․Դավթյան'!E70+Ժ.Նազարյան!E70+Դ.Դաբաղյան!E70+Գ.Պողոսյան!E70) -> 0 | F70: =SUM(Ս.Մնոյան!F70+'Է. Կարապետյան'!F70+'Կ․Դավթյան'!F70+Ժ.Նազարյան!F70+Դ.Դաբաղյան!F70+Գ.Պողոսյան!F70) -> 0 | G70: =SUM(Ս.Մնոյան!G70+'Է. Կարապետյան'!G70+'Կ․Դավթյան'!G70+Ժ.Նազարյան!G70+Դ.Դաբաղյան!G70+Գ.Պողոսյան!G70) -> 0 | H70: =SUM(Ս.Մնոյան!H70+'Է. Կարապետյան'!H70+'Կ․Դավթյան'!H70+Ժ.Նազարյան!H70+Դ.Դաբաղյան!H70+Գ.Պողոսյան!H70) -> 0 | I70: =SUM(Ս.Մնոյան!I70+'Է. Կարապետյան'!I70+'Կ․Դավթյան'!I70+Ժ.Նազարյան!I70+Դ.Դաբաղյան!I70+Գ.Պողոսյան!I70) -> 0 | J70: =SUM(Ս.Մնոյան!J70+'Է. Կարապետյան'!J70+'Կ․Դավթյան'!J70+Ժ.Նազարյան!J70+Դ.Դաբաղյան!J70+Գ.Պողոսյան!J70) -> 0 | K70: =SUM(Ս.Մնոյան!K70+'Է. Կարապետյան'!K70+'Կ․Դավթյան'!K70+Ժ.Նազարյան!K70+Դ.Դաբաղյան!K70+Գ.Պողոսյան!K70) -> 0 | ... AG70: =SUM(Ս.Մնոյան!AG70+'Է. Կարապետյան'!AG70+'Կ․Դավթյան'!AG70+Ժ.Նազարյան!AG70+Դ.Դաբաղյան!AG70+Գ.Պողոսյան!AG70) -> 0 | AH70: =SUM(Ս.Մնոյան!#REF!+'Է. Կարապետյան'!#REF!+'Կ․Դավթյան'!#REF!+Ժ.Նազարյան!#REF!+Դ.Դաբաղյան!#REF!+Գ.Պողոսյան!#REF!) -> #REF! | AI70: =SUM(Ս.Մնոյան!#REF!+'Է. Կարապետյան'!#REF!+'Կ․Դավթյան'!#REF!+Ժ.Նազարյան!#REF!+Դ.Դաբաղյան!#REF!+Գ.Պողոսյան!#REF!) -> #REF! | AJ70: =SUM(Ս.Մնոյան!#REF!+'Է. Կարապետյան'!#REF!+'Կ․Դավթյան'!#REF!+Ժ.Նազարյան!#REF!+Դ.Դաբաղյան!#REF!+Գ.Պողոսյան!#REF!) -> #REF! | AK70: =SUM(Ս.Մնոյան!#REF!+'Է. Կարապետյան'!#REF!+'Կ․Դավթյան'!#REF!+Ժ.Նազարյան!#REF!+Դ.Դաբաղյան!#REF!+Գ.Պողոսյան!#REF!) -> #REF! | AL70: =SUM(Ս.Մնոյան!#REF!+'Է. Կարապետյան'!#REF!+'Կ․Դավթյան'!#REF!+Ժ.Նազարյան!#REF!+Դ.Դաբաղյան!#REF!+Գ.Պողոսյան!#REF!) -> #REF! | AM70: =SUM(Ս.Մնոյան!#REF!+'Է. Կարապետյան'!#REF!+'Կ․Դավթյան'!#REF!+Ժ.Նազարյան!#REF!+Դ.Դաբաղյան!#REF!+Գ.Պողոսյան!#REF!) -> #REF! | AN70: =SUM(Ս.Մնոյան!#REF!+'Է. Կարապետյան'!#REF!+'Կ․Դավթյան'!#REF!+Ժ.Նազարյան!#REF!+Դ.Դաբաղյան!#REF!+Գ.Պողոսյան!#REF!) -> #REF! | AO70: =SUM(Ս.Մնոյան!#REF!+'Է. Կարապետյան'!#REF!+'Կ․Դավթյան'!#REF!+Ժ.Նազարյան!#REF!+Դ.Դաբաղյան!#REF!+Գ.Պողոսյան!#REF!) -> #REF!
A71: 5.5 | B71: Ազատությունից ապօրինի զրկելը | C71: 192 | D71: =SUM(Ս.Մնոյան!D71+'Է. Կարապետյան'!D71+'Կ․Դավթյան'!D71+Ժ.Նազարյան!D71+Դ.Դաբաղյան!D71+Գ.Պողոսյան!D71) -> 0 | E71: =SUM(Ս.Մնոյան!E71+'Է. Կարապետյան'!E71+'Կ․Դավթյան'!E71+Ժ.Նազարյան!E71+Դ.Դաբաղյան!E71+Գ.Պողոսյան!E71) -> 0 | F71: =SUM(Ս.Մնոյան!F71+'Է. Կարապետյան'!F71+'Կ․Դավթյան'!F71+Ժ.Նազարյան!F71+Դ.Դաբաղյան!F71+Գ.Պողոսյան!F71) -> 0 | G71: =SUM(Ս.Մնոյան!G71+'Է. Կարապետյան'!G71+'Կ․Դավթյան'!G71+Ժ.Նազարյան!G71+Դ.Դաբաղյան!G71+Գ.Պողոսյան!G71) -> 0 | H71: =SUM(Ս.Մնոյան!H71+'Է. Կարապետյան'!H71+'Կ․Դավթյան'!H71+Ժ.Նազարյան!H71+Դ.Դաբաղյան!H71+Գ.Պողոսյան!H71) -> 0 | I71: =SUM(Ս.Մնոյան!I71+'Է. Կարապետյան'!I71+'Կ․Դավթյան'!I71+Ժ.Նազարյան!I71+Դ.Դաբաղյան!I71+Գ.Պողոսյան!I71) -> 0 | J71: =SUM(Ս.Մնոյան!J71+'Է. Կարապետյան'!J71+'Կ․Դավթյան'!J71+Ժ.Նազարյան!J71+Դ.Դաբաղյան!J71+Գ.Պողոսյան!J71) -> 0 | K71: =SUM(Ս.Մնոյան!K71+'Է. Կարապետյան'!K71+'Կ․Դավթյան'!K71+Ժ.Նազարյան!K71+Դ.Դաբաղյան!K71+Գ.Պողոսյան!K71) -> 0 | ... AG71: =SUM(Ս.Մնոյան!AG71+'Է. Կարապետյան'!AG71+'Կ․Դավթյան'!AG71+Ժ.Նազարյան!AG71+Դ.Դաբաղյան!AG71+Գ.Պողոսյան!AG71) -> 0 | AH71: =SUM(Ս.Մնոյան!#REF!+'Է. Կարապետյան'!#REF!+'Կ․Դավթյան'!#REF!+Ժ.Նազարյան!#REF!+Դ.Դաբաղյան!#REF!+Գ.Պողոսյան!#REF!) -> #REF! | AI71: =SUM(Ս.Մնոյան!#REF!+'Է. Կարապետյան'!#REF!+'Կ․Դավթյան'!#REF!+Ժ.Նազարյան!#REF!+Դ.Դաբաղյան!#REF!+Գ.Պողոսյան!#REF!) -> #REF! | AJ71: =SUM(Ս.Մնոյան!#REF!+'Է. Կարապետյան'!#REF!+'Կ․Դավթյան'!#REF!+Ժ.Նազարյան!#REF!+Դ.Դաբաղյան!#REF!+Գ.Պողոսյան!#REF!) -> #REF! | AK71: =SUM(Ս.Մնոյան!#REF!+'Է. Կարապետյան'!#REF!+'Կ․Դավթյան'!#REF!+Ժ.Նազարյան!#REF!+Դ.Դաբաղյան!#REF!+Գ.Պողոսյան!#REF!) -> #REF! | AL71: =SUM(Ս.Մնոյան!#REF!+'Է. Կարապետյան'!#REF!+'Կ․Դավթյան'!#REF!+Ժ.Նազարյան!#REF!+Դ.Դաբաղյան!#REF!+Գ.Պողոսյան!#REF!) -> #REF! | AM71: =SUM(Ս.Մնոյան!#REF!+'Է. Կարապետյան'!#REF!+'Կ․Դավթյան'!#REF!+Ժ.Նազարյան!#REF!+Դ.Դաբաղյան!#REF!+Գ.Պողոսյան!#REF!) -> #REF! | AN71: =SUM(Ս.Մնոյան!#REF!+'Է. Կարապետյան'!#REF!+'Կ․Դավթյան'!#REF!+Ժ.Նազարյան!#REF!+Դ.Դաբաղյան!#REF!+Գ.Պողոսյան!#REF!) -> #REF! | AO71: =SUM(Ս.Մնոյան!#REF!+'Է. Կարապետյան'!#REF!+'Կ․Դավթյան'!#REF!+Ժ.Նազարյան!#REF!+Դ.Դաբաղյան!#REF!+Գ.Պողոսյան!#REF!) -> #REF!
A72: 5.6 | B72: Հոգեբուժական կազմակերպությունում ապօրինի տեղավորելը կամ պահելը | C72: 193 | D72: =SUM(Ս.Մնոյան!D72+'Է. Կարապետյան'!D72+'Կ․Դավթյան'!D72+Ժ.Նազարյան!D72+Դ.Դաբաղյան!D72+Գ.Պողոսյան!D72) -> 0 | E72: =SUM(Ս.Մնոյան!E72+'Է. Կարապետյան'!E72+'Կ․Դավթյան'!E72+Ժ.Նազարյան!E72+Դ.Դաբաղյան!E72+Գ.Պողոսյան!E72) -> 0 | F72: =SUM(Ս.Մնոյան!F72+'Է. Կարապետյան'!F72+'Կ․Դավթյան'!F72+Ժ.Նազարյան!F72+Դ.Դաբաղյան!F72+Գ.Պողոսյան!F72) -> 0 | G72: =SUM(Ս.Մնոյան!G72+'Է. Կարապետյան'!G72+'Կ․Դավթյան'!G72+Ժ.Նազարյան!G72+Դ.Դաբաղյան!G72+Գ.Պողոսյան!G72) -> 0 | H72: =SUM(Ս.Մնոյան!H72+'Է. Կարապետյան'!H72+'Կ․Դավթյան'!H72+Ժ.Նազարյան!H72+Դ.Դաբաղյան!H72+Գ.Պողոսյան!H72) -> 0 | I72: =SUM(Ս.Մնոյան!I72+'Է. Կարապետյան'!I72+'Կ․Դավթյան'!I72+Ժ.Նազարյան!I72+Դ.Դաբաղյան!I72+Գ.Պողոսյան!I72) -> 0 | J72: =SUM(Ս.Մնոյան!J72+'Է. Կարապետյան'!J72+'Կ․Դավթյան'!J72+Ժ.Նազարյան!J72+Դ.Դաբաղյան!J72+Գ.Պողոսյան!J72) -> 0 | K72: =SUM(Ս.Մնոյան!K72+'Է. Կարապետյան'!K72+'Կ․Դավթյան'!K72+Ժ.Նազարյան!K72+Դ.Դաբաղյան!K72+Գ.Պողոսյան!K72) -> 0 | ... AG72: =SUM(Ս.Մնոյան!AG72+'Է. Կարապետյան'!AG72+'Կ․Դավթյան'!AG72+Ժ.Նազարյան!AG72+Դ.Դաբաղյան!AG72+Գ.Պողոսյան!AG72) -> 0 | AH72: =SUM(Ս.Մնոյան!#REF!+'Է. Կարապետյան'!#REF!+'Կ․Դավթյան'!#REF!+Ժ.Նազարյան!#REF!+Դ.Դաբաղյան!#REF!+Գ.Պողոսյան!#REF!) -> #REF! | AI72: =SUM(Ս.Մնոյան!#REF!+'Է. Կարապետյան'!#REF!+'Կ․Դավթյան'!#REF!+Ժ.Նազարյան!#REF!+Դ.Դաբաղյան!#REF!+Գ.Պողոսյան!#REF!) -> #REF! | AJ72: =SUM(Ս.Մնոյան!#REF!+'Է. Կարապետյան'!#REF!+'Կ․Դավթյան'!#REF!+Ժ.Նազարյան!#REF!+Դ.Դաբաղյան!#REF!+Գ.Պողոսյան!#REF!) -> #REF! | AK72: =SUM(Ս.Մնոյան!#REF!+'Է. Կարապետյան'!#REF!+'Կ․Դավթյան'!#REF!+Ժ.Նազարյան!#REF!+Դ.Դաբաղյան!#REF!+Գ.Պողոսյան!#REF!) -> #REF! | AL72: =SUM(Ս.Մնոյան!#REF!+'Է. Կարապետյան'!#REF!+'Կ․Դավթյան'!#REF!+Ժ.Նազարյան!#REF!+Դ.Դաբաղյան!#REF!+Գ.Պողոսյան!#REF!) -> #REF! | AM72: =SUM(Ս.Մնոյան!#REF!+'Է. Կարապետյան'!#REF!+'Կ․Դավթյան'!#REF!+Ժ.Նազարյան!#REF!+Դ.Դաբաղյան!#REF!+Գ.Պողոսյան!#REF!) -> #REF! | AN72: =SUM(Ս.Մնոյան!#REF!+'Է. Կարապետյան'!#REF!+'Կ․Դավթյան'!#REF!+Ժ.Նազարյան!#REF!+Դ.Դաբաղյան!#REF!+Գ.Պողոսյան!#REF!) -> #REF! | AO72: =SUM(Ս.Մնոյան!#REF!+'Է. Կարապետյան'!#REF!+'Կ․Դավթյան'!#REF!+Ժ.Նազարյան!#REF!+Դ.Դաբաղյան!#REF!+Գ.Պողոսյան!#REF!) -> #REF!
A73: 5.7 | B73: Հոգեկան ներգործությունը | C73: 194 | D73: =SUM(Ս.Մնոյան!D73+'Է. Կարապետյան'!D73+'Կ․Դավթյան'!D73+Ժ.Նազարյան!D73+Դ.Դաբաղյան!D73+Գ.Պողոսյան!D73) -> 1 | E73: =SUM(Ս.Մնոյան!E73+'Է. Կարապետյան'!E73+'Կ․Դավթյան'!E73+Ժ.Նազարյան!E73+Դ.Դաբաղյան!E73+Գ.Պողոսյան!E73) -> 0 | F73: =SUM(Ս.Մնոյան!F73+'Է. Կարապետյան'!F73+'Կ․Դավթյան'!F73+Ժ.Նազարյան!F73+Դ.Դաբաղյան!F73+Գ.Պողոսյան!F73) -> 0 | G73: =SUM(Ս.Մնոյան!G73+'Է. Կարապետյան'!G73+'Կ․Դավթյան'!G73+Ժ.Նազարյան!G73+Դ.Դաբաղյան!G73+Գ.Պողոսյան!G73) -> 0 | H73: =SUM(Ս.Մնոյան!H73+'Է. Կարապետյան'!H73+'Կ․Դավթյան'!H73+Ժ.Նազարյան!H73+Դ.Դաբաղյան!H73+Գ.Պողոսյան!H73) -> 0 | I73: =SUM(Ս.Մնոյան!I73+'Է. Կարապետյան'!I73+'Կ․Դավթյան'!I73+Ժ.Նազարյան!I73+Դ.Դաբաղյան!I73+Գ.Պողոսյան!I73) -> 0 | J73: =SUM(Ս.Մնոյան!J73+'Է. Կարապետյան'!J73+'Կ․Դավթյան'!J73+Ժ.Նազարյան!J73+Դ.Դաբաղյան!J73+Գ.Պողոսյան!J73) -> 0 | K73: =SUM(Ս.Մնոյան!K73+'Է. Կարապետյան'!K73+'Կ․Դավթյան'!K73+Ժ.Նազարյան!K73+Դ.Դաբաղյան!K73+Գ.Պողոսյան!K73) -> 0 | ... AG73: =SUM(Ս.Մնոյան!AG73+'Է. Կարապետյան'!AG73+'Կ․Դավթյան'!AG73+Ժ.Նազարյան!AG73+Դ.Դաբաղյան!AG73+Գ.Պողոսյան!AG73) -> 0 | AH73: =SUM(Ս.Մնոյան!#REF!+'Է. Կարապետյան'!#REF!+'Կ․Դավթյան'!#REF!+Ժ.Նազարյան!#REF!+Դ.Դաբաղյան!#REF!+Գ.Պողոսյան!#REF!) -> #REF! | AI73: =SUM(Ս.Մնոյան!#REF!+'Է. Կարապետյան'!#REF!+'Կ․Դավթյան'!#REF!+Ժ.Նազարյան!#REF!+Դ.Դաբաղյան!#REF!+Գ.Պողոսյան!#REF!) -> #REF! | AJ73: =SUM(Ս.Մնոյան!#REF!+'Է. Կարապետյան'!#REF!+'Կ․Դավթյան'!#REF!+Ժ.Նազարյան!#REF!+Դ.Դաբաղյան!#REF!+Գ.Պողոսյան!#REF!) -> #REF! | AK73: =SUM(Ս.Մնոյան!#REF!+'Է. Կարապետյան'!#REF!+'Կ․Դավթյան'!#REF!+Ժ.Նազարյան!#REF!+Դ.Դաբաղյան!#REF!+Գ.Պողոսյան!#REF!) -> #REF! | AL73: =SUM(Ս.Մնոյան!#REF!+'Է. Կարապետյան'!#REF!+'Կ․Դավթյան'!#REF!+Ժ.Նազարյան!#REF!+Դ.Դաբաղյան!#REF!+Գ.Պողոսյան!#REF!) -> #REF! | AM73: =SUM(Ս.Մնոյան!#REF!+'Է. Կարապետյան'!#REF!+'Կ․Դավթյան'!#REF!+Ժ.Նազարյան!#REF!+Դ.Դաբաղյան!#REF!+Գ.Պողոսյան!#REF!) -> #REF! | AN73: =SUM(Ս.Մնոյան!#REF!+'Է. Կարապետյան'!#REF!+'Կ․Դավթյան'!#REF!+Ժ.Նազարյան!#REF!+Դ.Դաբաղյան!#REF!+Գ.Պողոսյան!#REF!) -> #REF! | AO73: =SUM(Ս.Մնոյան!#REF!+'Է. Կարապետյան'!#REF!+'Կ․Դավթյան'!#REF!+Ժ.Նազարյան!#REF!+Դ.Դաբաղյան!#REF!+Գ.Պողոսյան!#REF!) -> #REF!
A74: 5.8 | B74: Ֆիզիկական ներգործությունը | C74: 195 | D74: =SUM(Ս.Մնոյան!D74+'Է. Կարապետյան'!D74+'Կ․Դավթյան'!D74+Ժ.Նազարյան!D74+Դ.Դաբաղյան!D74+Գ.Պողոսյան!D74) -> 11 | E74: =SUM(Ս.Մնոյան!E74+'Է. Կարապետյան'!E74+'Կ․Դավթյան'!E74+Ժ.Նազարյան!E74+Դ.Դաբաղյան!E74+Գ.Պողոսյան!E74) -> 0 | F74: =SUM(Ս.Մնոյան!F74+'Է. Կարապետյան'!F74+'Կ․Դավթյան'!F74+Ժ.Նազարյան!F74+Դ.Դաբաղյան!F74+Գ.Պողոսյան!F74) -> 13 | G74: =SUM(Ս.Մնոյան!G74+'Է. Կարապետյան'!G74+'Կ․Դավթյան'!G74+Ժ.Նազարյան!G74+Դ.Դաբաղյան!G74+Գ.Պողոսյան!G74) -> 3 | H74: =SUM(Ս.Մնոյան!H74+'Է. Կարապետյան'!H74+'Կ․Դավթյան'!H74+Ժ.Նազարյան!H74+Դ.Դաբաղյան!H74+Գ.Պողոսյան!H74) -> 0 | I74: =SUM(Ս.Մնոյան!I74+'Է. Կարապետյան'!I74+'Կ․Դավթյան'!I74+Ժ.Նազարյան!I74+Դ.Դաբաղյան!I74+Գ.Պողոսյան!I74) -> 0 | J74: =SUM(Ս.Մնոյան!J74+'Է. Կարապետյան'!J74+'Կ․Դավթյան'!J74+Ժ.Նազարյան!J74+Դ.Դաբաղյան!J74+Գ.Պողոսյան!J74) -> 0 | K74: =SUM(Ս.Մնոյան!K74+'Է. Կարապետյան'!K74+'Կ․Դավթյան'!K74+Ժ.Նազարյան!K74+Դ.Դաբաղյան!K74+Գ.Պողոսյան!K74) -> 3 | ... AG74: =SUM(Ս.Մնոյան!AG74+'Է. Կարապետյան'!AG74+'Կ․Դավթյան'!AG74+Ժ.Նազարյան!AG74+Դ.Դաբաղյան!AG74+Գ.Պողոսյան!AG74) -> 0 | AH74: =SUM(Ս.Մնոյան!#REF!+'Է. Կարապետյան'!#REF!+'Կ․Դավթյան'!#REF!+Ժ.Նազարյան!#REF!+Դ.Դաբաղյան!#REF!+Գ.Պողոսյան!#REF!) -> #REF! | AI74: =SUM(Ս.Մնոյան!#REF!+'Է. Կարապետյան'!#REF!+'Կ․Դավթյան'!#REF!+Ժ.Նազարյան!#REF!+Դ.Դաբաղյան!#REF!+Գ.Պողոսյան!#REF!) -> #REF! | AJ74: =SUM(Ս.Մնոյան!#REF!+'Է. Կարապետյան'!#REF!+'Կ․Դավթյան'!#REF!+Ժ.Նազարյան!#REF!+Դ.Դաբաղյան!#REF!+Գ.Պողոսյան!#REF!) -> #REF! | AK74: =SUM(Ս.Մնոյան!#REF!+'Է. Կարապետյան'!#REF!+'Կ․Դավթյան'!#REF!+Ժ.Նազարյան!#REF!+Դ.Դաբաղյան!#REF!+Գ.Պողոսյան!#REF!) -> #REF! | AL74: =SUM(Ս.Մնոյան!#REF!+'Է. Կարապետյան'!#REF!+'Կ․Դավթյան'!#REF!+Ժ.Նազարյան!#REF!+Դ.Դաբաղյան!#REF!+Գ.Պողոսյան!#REF!) -> #REF! | AM74: =SUM(Ս.Մնոյան!#REF!+'Է. Կարապետյան'!#REF!+'Կ․Դավթյան'!#REF!+Ժ.Նազարյան!#REF!+Դ.Դաբաղյան!#REF!+Գ.Պողոսյան!#REF!) -> #REF! | AN74: =SUM(Ս.Մնոյան!#REF!+'Է. Կարապետյան'!#REF!+'Կ․Դավթյան'!#REF!+Ժ.Նազարյան!#REF!+Դ.Դաբաղյան!#REF!+Գ.Պողոսյան!#REF!) -> #REF! | AO74: =SUM(Ս.Մնոյան!#REF!+'Է. Կարապետյան'!#REF!+'Կ․Դավթյան'!#REF!+Ժ.Նազարյան!#REF!+Դ.Դաբաղյան!#REF!+Գ.Պողոսյան!#REF!) -> #REF!
A75: 5.9 | B75: Ֆիզիկական ուժեղ ցավ կամ հոգեկան ուժեղ տառապանք պատճառելը | C75: 196 | D75: =SUM(Ս.Մնոյան!D75+'Է. Կարապետյան'!D75+'Կ․Դավթյան'!D75+Ժ.Նազարյան!D75+Դ.Դաբաղյան!D75+Գ.Պողոսյան!D75) -> 0 | E75: =SUM(Ս.Մնոյան!E75+'Է. Կարապետյան'!E75+'Կ․Դավթյան'!E75+Ժ.Նազարյան!E75+Դ.Դաբաղյան!E75+Գ.Պողոսյան!E75) -> 0 | F75: =SUM(Ս.Մնոյան!F75+'Է. Կարապետյան'!F75+'Կ․Դավթյան'!F75+Ժ.Նազարյան!F75+Դ.Դաբաղյան!F75+Գ.Պողոսյան!F75) -> 1 | G75: =SUM(Ս.Մնոյան!G75+'Է. Կարապետյան'!G75+'Կ․Դավթյան'!G75+Ժ.Նազարյան!G75+Դ.Դաբաղյան!G75+Գ.Պողոսյան!G75) -> 0 | H75: =SUM(Ս.Մնոյան!H75+'Է. Կարապետյան'!H75+'Կ․Դավթյան'!H75+Ժ.Նազարյան!H75+Դ.Դաբաղյան!H75+Գ.Պողոսյան!H75) -> 0 | I75: =SUM(Ս.Մնոյան!I75+'Է. Կարապետյան'!I75+'Կ․Դավթյան'!I75+Ժ.Նազարյան!I75+Դ.Դաբաղյան!I75+Գ.Պողոսյան!I75) -> 0 | J75: =SUM(Ս.Մնոյան!J75+'Է. Կարապետյան'!J75+'Կ․Դավթյան'!J75+Ժ.Նազարյան!J75+Դ.Դաբաղյան!J75+Գ.Պողոսյան!J75) -> 0 | K75: =SUM(Ս.Մնոյան!K75+'Է. Կարապետյան'!K75+'Կ․Դավթյան'!K75+Ժ.Նազարյան!K75+Դ.Դաբաղյան!K75+Գ.Պողոսյան!K75) -> 0 | ... AG75: =SUM(Ս.Մնոյան!AG75+'Է. Կարապետյան'!AG75+'Կ․Դավթյան'!AG75+Ժ.Նազարյան!AG75+Դ.Դաբաղյան!AG75+Գ.Պողոսյան!AG75) -> 0 | AH75: =SUM(Ս.Մնոյան!#REF!+'Է. Կարապետյան'!#REF!+'Կ․Դավթյան'!#REF!+Ժ.Նազարյան!#REF!+Դ.Դաբաղյան!#REF!+Գ.Պողոսյան!#REF!) -> #REF! | AI75: =SUM(Ս.Մնոյան!#REF!+'Է. Կարապետյան'!#REF!+'Կ․Դավթյան'!#REF!+Ժ.Նազարյան!#REF!+Դ.Դաբաղյան!#REF!+Գ.Պողոսյան!#REF!) -> #REF! | AJ75: =SUM(Ս.Մնոյան!#REF!+'Է. Կարապետյան'!#REF!+'Կ․Դավթյան'!#REF!+Ժ.Նազարյան!#REF!+Դ.Դաբաղյան!#REF!+Գ.Պողոսյան!#REF!) -> #REF! | AK75: =SUM(Ս.Մնոյան!#REF!+'Է. Կարապետյան'!#REF!+'Կ․Դավթյան'!#REF!+Ժ.Նազարյան!#REF!+Դ.Դաբաղյան!#REF!+Գ.Պողոսյան!#REF!) -> #REF! | AL75: =SUM(Ս.Մնոյան!#REF!+'Է. Կարապետյան'!#REF!+'Կ․Դավթյան'!#REF!+Ժ.Նազարյան!#REF!+Դ.Դաբաղյան!#REF!+Գ.Պողոսյան!#REF!) -> #REF! | AM75: =SUM(Ս.Մնոյան!#REF!+'Է. Կարապետյան'!#REF!+'Կ․Դավթյան'!#REF!+Ժ.Նազարյան!#REF!+Դ.Դաբաղյան!#REF!+Գ.Պողոսյան!#REF!) -> #REF! | AN75: =SUM(Ս.Մնոյան!#REF!+'Է. Կարապետյան'!#REF!+'Կ․Դավթյան'!#REF!+Ժ.Նազարյան!#REF!+Դ.Դաբաղյան!#REF!+Գ.Պողոսյան!#REF!) -> #REF! | AO75: =SUM(Ս.Մնոյան!#REF!+'Է. Կարապետյան'!#REF!+'Կ․Դավթյան'!#REF!+Ժ.Նազարյան!#REF!+Դ.Դաբաղյան!#REF!+Գ.Պողոսյան!#REF!) -> #REF!
A76: 5.10 | B76: Ամուսնությանը, ամուսնալուծությանը կամ երեխա ունենալուն հարկադրելը | C76: 197 | D76: =SUM(Ս.Մնոյան!D76+'Է. Կարապետյան'!D76+'Կ․Դավթյան'!D76+Ժ.Նազարյան!D76+Դ.Դաբաղյան!D76+Գ.Պողոսյան!D76) -> 0 | E76: =SUM(Ս.Մնոյան!E76+'Է. Կարապետյան'!E76+'Կ․Դավթյան'!E76+Ժ.Նազարյան!E76+Դ.Դաբաղյան!E76+Գ.Պողոսյան!E76) -> 0 | F76: =SUM(Ս.Մնոյան!F76+'Է. Կարապետյան'!F76+'Կ․Դավթյան'!F76+Ժ.Նազարյան!F76+Դ.Դաբաղյան!F76+Գ.Պողոսյան!F76) -> 0 | G76: =SUM(Ս.Մնոյան!G76+'Է. Կարապետյան'!G76+'Կ․Դավթյան'!G76+Ժ.Նազարյան!G76+Դ.Դաբաղյան!G76+Գ.Պողոսյան!G76) -> 0 | H76: =SUM(Ս.Մնոյան!H76+'Է. Կարապետյան'!H76+'Կ․Դավթյան'!H76+Ժ.Նազարյան!H76+Դ.Դաբաղյան!H76+Գ.Պողոսյան!H76) -> 0 | I76: =SUM(Ս.Մնոյան!I76+'Է. Կարապետյան'!I76+'Կ․Դավթյան'!I76+Ժ.Նազարյան!I76+Դ.Դաբաղյան!I76+Գ.Պողոսյան!I76) -> 0 | J76: =SUM(Ս.Մնոյան!J76+'Է. Կարապետյան'!J76+'Կ․Դավթյան'!J76+Ժ.Նազարյան!J76+Դ.Դաբաղյան!J76+Գ.Պողոսյան!J76) -> 0 | K76: =SUM(Ս.Մնոյան!K76+'Է. Կարապետյան'!K76+'Կ․Դավթյան'!K76+Ժ.Նազարյան!K76+Դ.Դաբաղյան!K76+Գ.Պողոսյան!K76) -> 0 | ... AG76: =SUM(Ս.Մնոյան!AG76+'Է. Կարապետյան'!AG76+'Կ․Դավթյան'!AG76+Ժ.Նազարյան!AG76+Դ.Դաբաղյան!AG76+Գ.Պողոսյան!AG76) -> 0 | AH76: =SUM(Ս.Մնոյան!#REF!+'Է. Կարապետյան'!#REF!+'Կ․Դավթյան'!#REF!+Ժ.Նազարյան!#REF!+Դ.Դաբաղյան!#REF!+Գ.Պողոսյան!#REF!) -> #REF! | AI76: =SUM(Ս.Մնոյան!#REF!+'Է. Կարապետյան'!#REF!+'Կ․Դավթյան'!#REF!+Ժ.Նազարյան!#REF!+Դ.Դաբաղյան!#REF!+Գ.Պողոսյան!#REF!) -> #REF! | AJ76: =SUM(Ս.Մնոյան!#REF!+'Է. Կարապետյան'!#REF!+'Կ․Դավթյան'!#REF!+Ժ.Նազարյան!#REF!+Դ.Դաբաղյան!#REF!+Գ.Պողոսյան!#REF!) -> #REF! | AK76: =SUM(Ս.Մնոյան!#REF!+'Է. Կարապետյան'!#REF!+'Կ․Դավթյան'!#REF!+Ժ.Նազարյան!#REF!+Դ.Դաբաղյան!#REF!+Գ.Պողոսյան!#REF!) -> #REF! | AL76: =SUM(Ս.Մնոյան!#REF!+'Է. Կարապետյան'!#REF!+'Կ․Դավթյան'!#REF!+Ժ.Նազարյան!#REF!+Դ.Դաբաղյան!#REF!+Գ.Պողոսյան!#REF!) -> #REF! | AM76: =SUM(Ս.Մնոյան!#REF!+'Է. Կարապետյան'!#REF!+'Կ․Դավթյան'!#REF!+Ժ.Նազարյան!#REF!+Դ.Դաբաղյան!#REF!+Գ.Պողոսյան!#REF!) -> #REF! | AN76: =SUM(Ս.Մնոյան!#REF!+'Է. Կարապետյան'!#REF!+'Կ․Դավթյան'!#REF!+Ժ.Նազարյան!#REF!+Դ.Դաբաղյան!#REF!+Գ.Պողոսյան!#REF!) -> #REF! | AO76: =SUM(Ս.Մնոյան!#REF!+'Է. Կարապետյան'!#REF!+'Կ․Դավթյան'!#REF!+Ժ.Նազարյան!#REF!+Դ.Դաբաղյան!#REF!+Գ.Պողոսյան!#REF!) -> #REF!
A77: 6 | B77: Ընդհամենը սեռական ազատության և սեռական անձեռնմխելիության դեմ ուղղված հանցագործությունները | D77: =SUM(Ս.Մնոյան!D77+'Է. Կարապետյան'!D77+'Կ․Դավթյան'!D77+Ժ.Նազարյան!D77+Դ.Դաբաղյան!D77+Գ.Պողոսյան!D77) -> 0 | E77: =SUM(Ս.Մնոյան!E77+'Է. Կարապետյան'!E77+'Կ․Դավթյան'!E77+Ժ.Նազարյան!E77+Դ.Դաբաղյան!E77+Գ.Պողոսյան!E77) -> 0 | F77: =SUM(Ս.Մնոյան!F77+'Է. Կարապետյան'!F77+'Կ․Դավթյան'!F77+Ժ.Նազարյան!F77+Դ.Դաբաղյան!F77+Գ.Պողոսյան!F77) -> 2 | G77: =SUM(Ս.Մնոյան!G77+'Է. Կարապետյան'!G77+'Կ․Դավթյան'!G77+Ժ.Նազարյան!G77+Դ.Դաբաղյան!G77+Գ.Պողոսյան!G77) -> 0 | H77: =SUM(Ս.Մնոյան!H77+'Է. Կարապետյան'!H77+'Կ․Դավթյան'!H77+Ժ.Նազարյան!H77+Դ.Դաբաղյան!H77+Գ.Պողոսյան!H77) -> 0 | I77: =SUM(Ս.Մնոյան!I77+'Է. Կարապետյան'!I77+'Կ․Դավթյան'!I77+Ժ.Նազարյան!I77+Դ.Դաբաղյան!I77+Գ.Պողոսյան!I77) -> 0 | J77: =SUM(Ս.Մնոյան!J77+'Է. Կարապետյան'!J77+'Կ․Դավթյան'!J77+Ժ.Նազարյան!J77+Դ.Դաբաղյան!J77+Գ.Պողոսյան!J77) -> 0 | K77: =SUM(Ս.Մնոյան!K77+'Է. Կարապետյան'!K77+'Կ․Դավթյան'!K77+Ժ.Նազարյան!K77+Դ.Դաբաղյան!K77+Գ.Պողոսյան!K77) -> 0 | ... AG77: =SUM(Ս.Մնոյան!AG77+'Է. Կարապետյան'!AG77+'Կ․Դավթյան'!AG77+Ժ.Նազարյան!AG77+Դ.Դաբաղյան!AG77+Գ.Պողոսյան!AG77) -> 0 | AH77: =SUM(Ս.Մնոյան!#REF!+'Է. Կարապետյան'!#REF!+'Կ․Դավթյան'!#REF!+Ժ.Նազարյան!#REF!+Դ.Դաբաղյան!#REF!+Գ.Պողոսյան!#REF!) -> #REF! | AI77: =SUM(Ս.Մնոյան!#REF!+'Է. Կարապետյան'!#REF!+'Կ․Դավթյան'!#REF!+Ժ.Նազարյան!#REF!+Դ.Դաբաղյան!#REF!+Գ.Պողոսյան!#REF!) -> #REF! | AJ77: =SUM(Ս.Մնոյան!#REF!+'Է. Կարապետյան'!#REF!+'Կ․Դավթյան'!#REF!+Ժ.Նազարյան!#REF!+Դ.Դաբաղյան!#REF!+Գ.Պողոսյան!#REF!) -> #REF! | AK77: =SUM(Ս.Մնոյան!#REF!+'Է. Կարապետյան'!#REF!+'Կ․Դավթյան'!#REF!+Ժ.Նազարյան!#REF!+Դ.Դաբաղյան!#REF!+Գ.Պողոսյան!#REF!) -> #REF! | AL77: =SUM(Ս.Մնոյան!#REF!+'Է. Կարապետյան'!#REF!+'Կ․Դավթյան'!#REF!+Ժ.Նազարյան!#REF!+Դ.Դաբաղյան!#REF!+Գ.Պողոսյան!#REF!) -> #REF! | AM77: =SUM(Ս.Մնոյան!#REF!+'Է. Կարապետյան'!#REF!+'Կ․Դավթյան'!#REF!+Ժ.Նազարյան!#REF!+Դ.Դաբաղյան!#REF!+Գ.Պողոսյան!#REF!) -> #REF! | AN77: =SUM(Ս.Մնոյան!#REF!+'Է. Կարապետյան'!#REF!+'Կ․Դավթյան'!#REF!+Ժ.Նազարյան!#REF!+Դ.Դաբաղյան!#REF!+Գ.Պողոսյան!#REF!) -> #REF! | AO77: =SUM(Ս.Մնոյան!#REF!+'Է. Կարապետյան'!#REF!+'Կ․Դավթյան'!#REF!+Ժ.Նազարյան!#REF!+Դ.Դաբաղյան!#REF!+Գ.Պողոսյան!#REF!) -> #REF!
A78: 6.1 | B78: Սեքսուալ բնույթի բռնի գործողությունները | C78: 198 | D78: =SUM(Ս.Մնոյան!D78+'Է. Կարապետյան'!D78+'Կ․Դավթյան'!D78+Ժ.Նազարյան!D78+Դ.Դաբաղյան!D78+Գ.Պողոսյան!D78) -> 0 | E78: =SUM(Ս.Մնոյան!E78+'Է. Կարապետյան'!E78+'Կ․Դավթյան'!E78+Ժ.Նազարյան!E78+Դ.Դաբաղյան!E78+Գ.Պողոսյան!E78) -> 0 | F78: =SUM(Ս.Մնոյան!F78+'Է. Կարապետյան'!F78+'Կ․Դավթյան'!F78+Ժ.Նազարյան!F78+Դ.Դաբաղյան!F78+Գ.Պողոսյան!F78) -> 2 | G78: =SUM(Ս.Մնոյան!G78+'Է. Կարապետյան'!G78+'Կ․Դավթյան'!G78+Ժ.Նազարյան!G78+Դ.Դաբաղյան!G78+Գ.Պողոսյան!G78) -> 0 | H78: =SUM(Ս.Մնոյան!H78+'Է. Կարապետյան'!H78+'Կ․Դավթյան'!H78+Ժ.Նազարյան!H78+Դ.Դաբաղյան!H78+Գ.Պողոսյան!H78) -> 0 | I78: =SUM(Ս.Մնոյան!I78+'Է. Կարապետյան'!I78+'Կ․Դավթյան'!I78+Ժ.Նազարյան!I78+Դ.Դաբաղյան!I78+Գ.Պողոսյան!I78) -> 0 | J78: =SUM(Ս.Մնոյան!J78+'Է. Կարապետյան'!J78+'Կ․Դավթյան'!J78+Ժ.Նազարյան!J78+Դ.Դաբաղյան!J78+Գ.Պողոսյան!J78) -> 0 | K78: =SUM(Ս.Մնոյան!K78+'Է. Կարապետյան'!K78+'Կ․Դավթյան'!K78+Ժ.Նազարյան!K78+Դ.Դաբաղյան!K78+Գ.Պողոսյան!K78) -> 0 | ... AG78: =SUM(Ս.Մնոյան!AG78+'Է. Կարապետյան'!AG78+'Կ․Դավթյան'!AG78+Ժ.Նազարյան!AG78+Դ.Դաբաղյան!AG78+Գ.Պողոսյան!AG78) -> 0 | AH78: =SUM(Ս.Մնոյան!#REF!+'Է. Կարապետյան'!#REF!+'Կ․Դավթյան'!#REF!+Ժ.Նազարյան!#REF!+Դ.Դաբաղյան!#REF!+Գ.Պողոսյան!#REF!) -> #REF! | AI78: =SUM(Ս.Մնոյան!#REF!+'Է. Կարապետյան'!#REF!+'Կ․Դավթյան'!#REF!+Ժ.Նազարյան!#REF!+Դ.Դաբաղյան!#REF!+Գ.Պողոսյան!#REF!) -> #REF! | AJ78: =SUM(Ս.Մնոյան!#REF!+'Է. Կարապետյան'!#REF!+'Կ․Դավթյան'!#REF!+Ժ.Նազարյան!#REF!+Դ.Դաբաղյան!#REF!+Գ.Պողոսյան!#REF!) -> #REF! | AK78: =SUM(Ս.Մնոյան!#REF!+'Է. Կարապետյան'!#REF!+'Կ․Դավթյան'!#REF!+Ժ.Նազարյան!#REF!+Դ.Դաբաղյան!#REF!+Գ.Պողոսյան!#REF!) -> #REF! | AL78: =SUM(Ս.Մնոյան!#REF!+'Է. Կարապետյան'!#REF!+'Կ․Դավթյան'!#REF!+Ժ.Նազարյան!#REF!+Դ.Դաբաղյան!#REF!+Գ.Պողոսյան!#REF!) -> #REF! | AM78: =SUM(Ս.Մնոյան!#REF!+'Է. Կարապետյան'!#REF!+'Կ․Դավթյան'!#REF!+Ժ.Նազարյան!#REF!+Դ.Դաբաղյան!#REF!+Գ.Պողոսյան!#REF!) -> #REF! | AN78: =SUM(Ս.Մնոյան!#REF!+'Է. Կարապետյան'!#REF!+'Կ․Դավթյան'!#REF!+Ժ.Նազարյան!#REF!+Դ.Դաբաղյան!#REF!+Գ.Պողոսյան!#REF!) -> #REF! | AO78: =SUM(Ս.Մնոյան!#REF!+'Է. Կարապետյան'!#REF!+'Կ․Դավթյան'!#REF!+Ժ.Նազարյան!#REF!+Դ.Դաբաղյան!#REF!+Գ.Պողոսյան!#REF!) -> #REF!
A79: 6.2 | B79: Սեքսուալ բնույթի գործողություններին հարկադրելը | C79: 199 | D79: =SUM(Ս.Մնոյան!D79+'Է. Կարապետյան'!D79+'Կ․Դավթյան'!D79+Ժ.Նազարյան!D79+Դ.Դաբաղյան!D79+Գ.Պողոսյան!D79) -> 0 | E79: =SUM(Ս.Մնոյան!E79+'Է. Կարապետյան'!E79+'Կ․Դավթյան'!E79+Ժ.Նազարյան!E79+Դ.Դաբաղյան!E79+Գ.Պողոսյան!E79) -> 0 | F79: =SUM(Ս.Մնոյան!F79+'Է. Կարապետյան'!F79+'Կ․Դավթյան'!F79+Ժ.Նազարյան!F79+Դ.Դաբաղյան!F79+Գ.Պողոսյան!F79) -> 0 | G79: =SUM(Ս.Մնոյան!G79+'Է. Կարապետյան'!G79+'Կ․Դավթյան'!G79+Ժ.Նազարյան!G79+Դ.Դաբաղյան!G79+Գ.Պողոսյան!G79) -> 0 | H79: =SUM(Ս.Մնոյան!H79+'Է. Կարապետյան'!H79+'Կ․Դավթյան'!H79+Ժ.Նազարյան!H79+Դ.Դաբաղյան!H79+Գ.Պողոսյան!H79) -> 0 | I79: =SUM(Ս.Մնոյան!I79+'Է. Կարապետյան'!I79+'Կ․Դավթյան'!I79+Ժ.Նազարյան!I79+Դ.Դաբաղյան!I79+Գ.Պողոսյան!I79) -> 0 | J79: =SUM(Ս.Մնոյան!J79+'Է. Կարապետյան'!J79+'Կ․Դավթյան'!J79+Ժ.Նազարյան!J79+Դ.Դաբաղյան!J79+Գ.Պողոսյան!J79) -> 0 | K79: =SUM(Ս.Մնոյան!K79+'Է. Կարապետյան'!K79+'Կ․Դավթյան'!K79+Ժ.Նազարյան!K79+Դ.Դաբաղյան!K79+Գ.Պողոսյան!K79) -> 0 | ... AG79: =SUM(Ս.Մնոյան!AG79+'Է. Կարապետյան'!AG79+'Կ․Դավթյան'!AG79+Ժ.Նազարյան!AG79+Դ.Դաբաղյան!AG79+Գ.Պողոսյան!AG79) -> 0 | AH79: =SUM(Ս.Մնոյան!#REF!+'Է. Կարապետյան'!#REF!+'Կ․Դավթյան'!#REF!+Ժ.Նազարյան!#REF!+Դ.Դաբաղյան!#REF!+Գ.Պողոսյան!#REF!) -> #REF! | AI79: =SUM(Ս.Մնոյան!#REF!+'Է. Կարապետյան'!#REF!+'Կ․Դավթյան'!#REF!+Ժ.Նազարյան!#REF!+Դ.Դաբաղյան!#REF!+Գ.Պողոսյան!#REF!) -> #REF! | AJ79: =SUM(Ս.Մնոյան!#REF!+'Է. Կարապետյան'!#REF!+'Կ․Դավթյան'!#REF!+Ժ.Նազարյան!#REF!+Դ.Դաբաղյան!#REF!+Գ.Պողոսյան!#REF!) -> #REF! | AK79: =SUM(Ս.Մնոյան!#REF!+'Է. Կարապետյան'!#REF!+'Կ․Դավթյան'!#REF!+Ժ.Նազարյան!#REF!+Դ.Դաբաղյան!#REF!+Գ.Պողոսյան!#REF!) -> #REF! | AL79: =SUM(Ս.Մնոյան!#REF!+'Է. Կարապետյան'!#REF!+'Կ․Դավթյան'!#REF!+Ժ.Նազարյան!#REF!+Դ.Դաբաղյան!#REF!+Գ.Պողոսյան!#REF!) -> #REF! | AM79: =SUM(Ս.Մնոյան!#REF!+'Է. Կարապետյան'!#REF!+'Կ․Դավթյան'!#REF!+Ժ.Նազարյան!#REF!+Դ.Դաբաղյան!#REF!+Գ.Պողոսյան!#REF!) -> #REF! | AN79: =SUM(Ս.Մնոյան!#REF!+'Է. Կարապետյան'!#REF!+'Կ․Դավթյան'!#REF!+Ժ.Նազարյան!#REF!+Դ.Դաբաղյան!#REF!+Գ.Պողոսյան!#REF!) -> #REF! | AO79: =SUM(Ս.Մնոյան!#REF!+'Է. Կարապետյան'!#REF!+'Կ․Դավթյան'!#REF!+Ժ.Նազարյան!#REF!+Դ.Դաբաղյան!#REF!+Գ.Պողոսյան!#REF!) -> #REF!
A80: 6.3 | B80: Սեքսուալ բնույթի գործողություններ կատարելը 16 տարին չլրացած անձի նկատմամբ | C80: 200 | D80: =SUM(Ս.Մնոյան!D80+'Է. Կարապետյան'!D80+'Կ․Դավթյան'!D80+Ժ.Նազարյան!D80+Դ.Դաբաղյան!D80+Գ.Պողոսյան!D80) -> 0 | E80: =SUM(Ս.Մնոյան!E80+'Է. Կարապետյան'!E80+'Կ․Դավթյան'!E80+Ժ.Նազարյան!E80+Դ.Դաբաղյան!E80+Գ.Պողոսյան!E80) -> 0 | F80: =SUM(Ս.Մնոյան!F80+'Է. Կարապետյան'!F80+'Կ․Դավթյան'!F80+Ժ.Նազարյան!F80+Դ.Դաբաղյան!F80+Գ.Պողոսյան!F80) -> 0 | G80: =SUM(Ս.Մնոյան!G80+'Է. Կարապետյան'!G80+'Կ․Դավթյան'!G80+Ժ.Նազարյան!G80+Դ.Դաբաղյան!G80+Գ.Պողոսյան!G80) -> 0 | H80: =SUM(Ս.Մնոյան!H80+'Է. Կարապետյան'!H80+'Կ․Դավթյան'!H80+Ժ.Նազարյան!H80+Դ.Դաբաղյան!H80+Գ.Պողոսյան!H80) -> 0 | I80: =SUM(Ս.Մնոյան!I80+'Է. Կարապետյան'!I80+'Կ․Դավթյան'!I80+Ժ.Նազարյան!I80+Դ.Դաբաղյան!I80+Գ.Պողոսյան!I80) -> 0 | J80: =SUM(Ս.Մնոյան!J80+'Է. Կարապետյան'!J80+'Կ․Դավթյան'!J80+Ժ.Նազարյան!J80+Դ.Դաբաղյան!J80+Գ.Պողոսյան!J80) -> 0 | K80: =SUM(Ս.Մնոյան!K80+'Է. Կարապետյան'!K80+'Կ․Դավթյան'!K80+Ժ.Նազարյան!K80+Դ.Դաբաղյան!K80+Գ.Պողոսյան!K80) -> 0 | ... AG80: =SUM(Ս.Մնոյան!AG80+'Է. Կարապետյան'!AG80+'Կ․Դավթյան'!AG80+Ժ.Նազարյան!AG80+Դ.Դաբաղյան!AG80+Գ.Պողոսյան!AG80) -> 0 | AH80: =SUM(Ս.Մնոյան!#REF!+'Է. Կարապետյան'!#REF!+'Կ․Դավթյան'!#REF!+Ժ.Նազարյան!#REF!+Դ.Դաբաղյան!#REF!+Գ.Պողոսյան!#REF!) -> #REF! | AI80: =SUM(Ս.Մնոյան!#REF!+'Է. Կարապետյան'!#REF!+'Կ․Դավթյան'!#REF!+Ժ.Նազարյան!#REF!+Դ.Դաբաղյան!#REF!+Գ.Պողոսյան!#REF!) -> #REF! | AJ80: =SUM(Ս.Մնոյան!#REF!+'Է. Կարապետյան'!#REF!+'Կ․Դավթյան'!#REF!+Ժ.Նազարյան!#REF!+Դ.Դաբաղյան!#REF!+Գ.Պողոսյան!#REF!) -> #REF! | AK80: =SUM(Ս.Մնոյան!#REF!+'Է. Կարապետյան'!#REF!+'Կ․Դավթյան'!#REF!+Ժ.Նազարյան!#REF!+Դ.Դաբաղյան!#REF!+Գ.Պողոսյան!#REF!) -> #REF! | AL80: =SUM(Ս.Մնոյան!#REF!+'Է. Կարապետյան'!#REF!+'Կ․Դավթյան'!#REF!+Ժ.Նազարյան!#REF!+Դ.Դաբաղյան!#REF!+Գ.Պողոսյան!#REF!) -> #REF! | AM80: =SUM(Ս.Մնոյան!#REF!+'Է. Կարապետյան'!#REF!+'Կ․Դավթյան'!#REF!+Ժ.Նազարյան!#REF!+Դ.Դաբաղյան!#REF!+Գ.Պողոսյան!#REF!) -> #REF! | AN80: =SUM(Ս.Մնոյան!#REF!+'Է. Կարապետյան'!#REF!+'Կ․Դավթյան'!#REF!+Ժ.Նազարյան!#REF!+Դ.Դաբաղյան!#REF!+Գ.Պողոսյան!#REF!) -> #REF! | AO80: =SUM(Ս.Մնոյան!#REF!+'Է. Կարապետյան'!#REF!+'Կ․Դավթյան'!#REF!+Ժ.Նազարյան!#REF!+Դ.Դաբաղյան!#REF!+Գ.Պողոսյան!#REF!) -> #REF!
A81: 6.4 | B81: Անառակաբարո արարք կատարելը | C81: 201 | D81: =SUM(Ս.Մնոյան!D81+'Է. Կարապետյան'!D81+'Կ․Դավթյան'!D81+Ժ.Նազարյան!D81+Դ.Դաբաղյան!D81+Գ.Պողոսյան!D81) -> 0 | E81: =SUM(Ս.Մնոյան!E81+'Է. Կարապետյան'!E81+'Կ․Դավթյան'!E81+Ժ.Նազարյան!E81+Դ.Դաբաղյան!E81+Գ.Պողոսյան!E81) -> 0 | F81: =SUM(Ս.Մնոյան!F81+'Է. Կարապետյան'!F81+'Կ․Դավթյան'!F81+Ժ.Նազարյան!F81+Դ.Դաբաղյան!F81+Գ.Պողոսյան!F81) -> 0 | G81: =SUM(Ս.Մնոյան!G81+'Է. Կարապետյան'!G81+'Կ․Դավթյան'!G81+Ժ.Նազարյան!G81+Դ.Դաբաղյան!G81+Գ.Պողոսյան!G81) -> 0 | H81: =SUM(Ս.Մնոյան!H81+'Է. Կարապետյան'!H81+'Կ․Դավթյան'!H81+Ժ.Նազարյան!H81+Դ.Դաբաղյան!H81+Գ.Պողոսյան!H81) -> 0 | I81: =SUM(Ս.Մնոյան!I81+'Է. Կարապետյան'!I81+'Կ․Դավթյան'!I81+Ժ.Նազարյան!I81+Դ.Դաբաղյան!I81+Գ.Պողոսյան!I81) -> 0 | J81: =SUM(Ս.Մնոյան!J81+'Է. Կարապետյան'!J81+'Կ․Դավթյան'!J81+Ժ.Նազարյան!J81+Դ.Դաբաղյան!J81+Գ.Պողոսյան!J81) -> 0 | K81: =SUM(Ս.Մնոյան!K81+'Է. Կարապետյան'!K81+'Կ․Դավթյան'!K81+Ժ.Նազարյան!K81+Դ.Դաբաղյան!K81+Գ.Պողոսյան!K81) -> 0 | ... AG81: =SUM(Ս.Մնոյան!AG81+'Է. Կարապետյան'!AG81+'Կ․Դավթյան'!AG81+Ժ.Նազարյան!AG81+Դ.Դաբաղյան!AG81+Գ.Պողոսյան!AG81) -> 0 | AH81: =SUM(Ս.Մնոյան!#REF!+'Է. Կարապետյան'!#REF!+'Կ․Դավթյան'!#REF!+Ժ.Նազարյան!#REF!+Դ.Դաբաղյան!#REF!+Գ.Պողոսյան!#REF!) -> #REF! | AI81: =SUM(Ս.Մնոյան!#REF!+'Է. Կարապետյան'!#REF!+'Կ․Դավթյան'!#REF!+Ժ.Նազարյան!#REF!+Դ.Դաբաղյան!#REF!+Գ.Պողոսյան!#REF!) -> #REF! | AJ81: =SUM(Ս.Մնոյան!#REF!+'Է. Կարապետյան'!#REF!+'Կ․Դավթյան'!#REF!+Ժ.Նազարյան!#REF!+Դ.Դաբաղյան!#REF!+Գ.Պողոսյան!#REF!) -> #REF! | AK81: =SUM(Ս.Մնոյան!#REF!+'Է. Կարապետյան'!#REF!+'Կ․Դավթյան'!#REF!+Ժ.Նազարյան!#REF!+Դ.Դաբաղյան!#REF!+Գ.Պողոսյան!#REF!) -> #REF! | AL81: =SUM(Ս.Մնոյան!#REF!+'Է. Կարապետյան'!#REF!+'Կ․Դավթյան'!#REF!+Ժ.Նազարյան!#REF!+Դ.Դաբաղյան!#REF!+Գ.Պողոսյան!#REF!) -> #REF! | AM81: =SUM(Ս.Մնոյան!#REF!+'Է. Կարապետյան'!#REF!+'Կ․Դավթյան'!#REF!+Ժ.Նազարյան!#REF!+Դ.Դաբաղյան!#REF!+Գ.Պողոսյան!#REF!) -> #REF! | AN81: =SUM(Ս.Մնոյան!#REF!+'Է. Կարապետյան'!#REF!+'Կ․Դավթյան'!#REF!+Ժ.Նազարյան!#REF!+Դ.Դաբաղյան!#REF!+Գ.Պողոսյան!#REF!) -> #REF! | AO81: =SUM(Ս.Մնոյան!#REF!+'Է. Կարապետյան'!#REF!+'Կ․Դավթյան'!#REF!+Ժ.Նազարյան!#REF!+Դ.Դաբաղյան!#REF!+Գ.Պողոսյան!#REF!) -> #REF!
A82: 6.5 | B82: 16 տարին չլրացած անձին սեռական հարաբերություն կամ սեքսուալ բնույթի այլ գործողություններ կամ մանկական պոռնոգրաֆիա ստեղծել կամ արտադրել առաջարկելը (գրումինգ) | C82: 202 | D82: =SUM(Ս.Մնոյան!D82+'Է. Կարապետյան'!D82+'Կ․Դավթյան'!D82+Ժ.Նազարյան!D82+Դ.Դաբաղյան!D82+Գ.Պողոսյան!D82) -> 0 | E82: =SUM(Ս.Մնոյան!E82+'Է. Կարապետյան'!E82+'Կ․Դավթյան'!E82+Ժ.Նազարյան!E82+Դ.Դաբաղյան!E82+Գ.Պողոսյան!E82) -> 0 | F82: =SUM(Ս.Մնոյան!F82+'Է. Կարապետյան'!F82+'Կ․Դավթյան'!F82+Ժ.Նազարյան!F82+Դ.Դաբաղյան!F82+Գ.Պողոսյան!F82) -> 0 | G82: =SUM(Ս.Մնոյան!G82+'Է. Կարապետյան'!G82+'Կ․Դավթյան'!G82+Ժ.Նազարյան!G82+Դ.Դաբաղյան!G82+Գ.Պողոսյան!G82) -> 0 | H82: =SUM(Ս.Մնոյան!H82+'Է. Կարապետյան'!H82+'Կ․Դավթյան'!H82+Ժ.Նազարյան!H82+Դ.Դաբաղյան!H82+Գ.Պողոսյան!H82) -> 0 | I82: =SUM(Ս.Մնոյան!I82+'Է. Կարապետյան'!I82+'Կ․Դավթյան'!I82+Ժ.Նազարյան!I82+Դ.Դաբաղյան!I82+Գ.Պողոսյան!I82) -> 0 | J82: =SUM(Ս.Մնոյան!J82+'Է. Կարապետյան'!J82+'Կ․Դավթյան'!J82+Ժ.Նազարյան!J82+Դ.Դաբաղյան!J82+Գ.Պողոսյան!J82) -> 0 | K82: =SUM(Ս.Մնոյան!K82+'Է. Կարապետյան'!K82+'Կ․Դավթյան'!K82+Ժ.Նազարյան!K82+Դ.Դաբաղյան!K82+Գ.Պողոսյան!K82) -> 0 | ... AG82: =SUM(Ս.Մնոյան!AG82+'Է. Կարապետյան'!AG82+'Կ․Դավթյան'!AG82+Ժ.Նազարյան!AG82+Դ.Դաբաղյան!AG82+Գ.Պողոսյան!AG82) -> 0 | AH82: =SUM(Ս.Մնոյան!#REF!+'Է. Կարապետյան'!#REF!+'Կ․Դավթյան'!#REF!+Ժ.Նազարյան!#REF!+Դ.Դաբաղյան!#REF!+Գ.Պողոսյան!#REF!) -> #REF! | AI82: =SUM(Ս.Մնոյան!#REF!+'Է. Կարապետյան'!#REF!+'Կ․Դավթյան'!#REF!+Ժ.Նազարյան!#REF!+Դ.Դաբաղյան!#REF!+Գ.Պողոսյան!#REF!) -> #REF! | AJ82: =SUM(Ս.Մնոյան!#REF!+'Է. Կարապետյան'!#REF!+'Կ․Դավթյան'!#REF!+Ժ.Նազարյան!#REF!+Դ.Դաբաղյան!#REF!+Գ.Պողոսյան!#REF!) -> #REF! | AK82: =SUM(Ս.Մնոյան!#REF!+'Է. Կարապետյան'!#REF!+'Կ․Դավթյան'!#REF!+Ժ.Նազարյան!#REF!+Դ.Դաբաղյան!#REF!+Գ.Պողոսյան!#REF!) -> #REF! | AL82: =SUM(Ս.Մնոյան!#REF!+'Է. Կարապետյան'!#REF!+'Կ․Դավթյան'!#REF!+Ժ.Նազարյան!#REF!+Դ.Դաբաղյան!#REF!+Գ.Պողոսյան!#REF!) -> #REF! | AM82: =SUM(Ս.Մնոյան!#REF!+'Է. Կարապետյան'!#REF!+'Կ․Դավթյան'!#REF!+Ժ.Նազարյան!#REF!+Դ.Դաբաղյան!#REF!+Գ.Պողոսյան!#REF!) -> #REF! | AN82: =SUM(Ս.Մնոյան!#REF!+'Է. Կարապետյան'!#REF!+'Կ․Դավթյան'!#REF!+Ժ.Նազարյան!#REF!+Դ.Դաբաղյան!#REF!+Գ.Պողոսյան!#REF!) -> #REF! | AO82: =SUM(Ս.Մնոյան!#REF!+'Է. Կարապետյան'!#REF!+'Կ․Դավթյան'!#REF!+Ժ.Նազարյան!#REF!+Դ.Դաբաղյան!#REF!+Գ.Պողոսյան!#REF!) -> #REF!
A83: 7 | B83: Սահմանադրական իրավունքների և ազատությունների դեմ ուղղված հանցագործությունները | D83: =SUM(Ս.Մնոյան!D83+'Է. Կարապետյան'!D83+'Կ․Դավթյան'!D83+Ժ.Նազարյան!D83+Դ.Դաբաղյան!D83+Գ.Պողոսյան!D83) -> 1 | E83: =SUM(Ս.Մնոյան!E83+'Է. Կարապետյան'!E83+'Կ․Դավթյան'!E83+Ժ.Նազարյան!E83+Դ.Դաբաղյան!E83+Գ.Պողոսյան!E83) -> 0 | F83: =SUM(Ս.Մնոյան!F83+'Է. Կարապետյան'!F83+'Կ․Դավթյան'!F83+Ժ.Նազարյան!F83+Դ.Դաբաղյան!F83+Գ.Պողոսյան!F83) -> 2 | G83: =SUM(Ս.Մնոյան!G83+'Է. Կարապետյան'!G83+'Կ․Դավթյան'!G83+Ժ.Նազարյան!G83+Դ.Դաբաղյան!G83+Գ.Պողոսյան!G83) -> 0 | H83: =SUM(Ս.Մնոյան!H83+'Է. Կարապետյան'!H83+'Կ․Դավթյան'!H83+Ժ.Նազարյան!H83+Դ.Դաբաղյան!H83+Գ.Պողոսյան!H83) -> 0 | I83: =SUM(Ս.Մնոյան!I83+'Է. Կարապետյան'!I83+'Կ․Դավթյան'!I83+Ժ.Նազարյան!I83+Դ.Դաբաղյան!I83+Գ.Պողոսյան!I83) -> 0 | J83: =SUM(Ս.Մնոյան!J83+'Է. Կարապետյան'!J83+'Կ․Դավթյան'!J83+Ժ.Նազարյան!J83+Դ.Դաբաղյան!J83+Գ.Պողոսյան!J83) -> 0 | K83: =SUM(Ս.Մնոյան!K83+'Է. Կարապետյան'!K83+'Կ․Դավթյան'!K83+Ժ.Նազարյան!K83+Դ.Դաբաղյան!K83+Գ.Պողոսյան!K83) -> 0 | ... AG83: =SUM(Ս.Մնոյան!AG83+'Է. Կարապետյան'!AG83+'Կ․Դավթյան'!AG83+Ժ.Նազարյան!AG83+Դ.Դաբաղյան!AG83+Գ.Պողոսյան!AG83) -> 0 | AH83: =SUM(Ս.Մնոյան!#REF!+'Է. Կարապետյան'!#REF!+'Կ․Դավթյան'!#REF!+Ժ.Նազարյան!#REF!+Դ.Դաբաղյան!#REF!+Գ.Պողոսյան!#REF!) -> #REF! | AI83: =SUM(Ս.Մնոյան!#REF!+'Է. Կարապետյան'!#REF!+'Կ․Դավթյան'!#REF!+Ժ.Նազարյան!#REF!+Դ.Դաբաղյան!#REF!+Գ.Պողոսյան!#REF!) -> #REF! | AJ83: =SUM(Ս.Մնոյան!#REF!+'Է. Կարապետյան'!#REF!+'Կ․Դավթյան'!#REF!+Ժ.Նազարյան!#REF!+Դ.Դաբաղյան!#REF!+Գ.Պողոսյան!#REF!) -> #REF! | AK83: =SUM(Ս.Մնոյան!#REF!+'Է. Կարապետյան'!#REF!+'Կ․Դավթյան'!#REF!+Ժ.Նազարյան!#REF!+Դ.Դաբաղյան!#REF!+Գ.Պողոսյան!#REF!) -> #REF! | AL83: =SUM(Ս.Մնոյան!#REF!+'Է. Կարապետյան'!#REF!+'Կ․Դավթյան'!#REF!+Ժ.Նազարյան!#REF!+Դ.Դաբաղյան!#REF!+Գ.Պողոսյան!#REF!) -> #REF! | AM83: =SUM(Ս.Մնոյան!#REF!+'Է. Կարապետյան'!#REF!+'Կ․Դավթյան'!#REF!+Ժ.Նազարյան!#REF!+Դ.Դաբաղյան!#REF!+Գ.Պողոսյան!#REF!) -> #REF! | AN83: =SUM(Ս.Մնոյան!#REF!+'Է. Կարապետյան'!#REF!+'Կ․Դավթյան'!#REF!+Ժ.Նազարյան!#REF!+Դ.Դաբաղյան!#REF!+Գ.Պողոսյան!#REF!) -> #REF! | AO83: =SUM(Ս.Մնոյան!#REF!+'Է. Կարապետյան'!#REF!+'Կ․Դավթյան'!#REF!+Ժ.Նազարյան!#REF!+Դ.Դաբաղյան!#REF!+Գ.Պողոսյան!#REF!) -> #REF!
A84: 7.1 | B84: Խտրականությունը | C84: 203 | D84: =SUM(Ս.Մնոյան!D84+'Է. Կարապետյան'!D84+'Կ․Դավթյան'!D84+Ժ.Նազարյան!D84+Դ.Դաբաղյան!D84+Գ.Պողոսյան!D84) -> 0 | E84: =SUM(Ս.Մնոյան!E84+'Է. Կարապետյան'!E84+'Կ․Դավթյան'!E84+Ժ.Նազարյան!E84+Դ.Դաբաղյան!E84+Գ.Պողոսյան!E84) -> 0 | F84: =SUM(Ս.Մնոյան!F84+'Է. Կարապետյան'!F84+'Կ․Դավթյան'!F84+Ժ.Նազարյան!F84+Դ.Դաբաղյան!F84+Գ.Պողոսյան!F84) -> 0 | G84: =SUM(Ս.Մնոյան!G84+'Է. Կարապետյան'!G84+'Կ․Դավթյան'!G84+Ժ.Նազարյան!G84+Դ.Դաբաղյան!G84+Գ.Պողոսյան!G84) -> 0 | H84: =SUM(Ս.Մնոյան!H84+'Է. Կարապետյան'!H84+'Կ․Դավթյան'!H84+Ժ.Նազարյան!H84+Դ.Դաբաղյան!H84+Գ.Պողոսյան!H84) -> 0 | I84: =SUM(Ս.Մնոյան!I84+'Է. Կարապետյան'!I84+'Կ․Դավթյան'!I84+Ժ.Նազարյան!I84+Դ.Դաբաղյան!I84+Գ.Պողոսյան!I84) -> 0 | J84: =SUM(Ս.Մնոյան!J84+'Է. Կարապետյան'!J84+'Կ․Դավթյան'!J84+Ժ.Նազարյան!J84+Դ.Դաբաղյան!J84+Գ.Պողոսյան!J84) -> 0 | K84: =SUM(Ս.Մնոյան!K84+'Է. Կարապետյան'!K84+'Կ․Դավթյան'!K84+Ժ.Նազարյան!K84+Դ.Դաբաղյան!K84+Գ.Պողոսյան!K84) -> 0 | ... AG84: =SUM(Ս.Մնոյան!AG84+'Է. Կարապետյան'!AG84+'Կ․Դավթյան'!AG84+Ժ.Նազարյան!AG84+Դ.Դաբաղյան!AG84+Գ.Պողոսյան!AG84) -> 0 | AH84: =SUM(Ս.Մնոյան!#REF!+'Է. Կարապետյան'!#REF!+'Կ․Դավթյան'!#REF!+Ժ.Նազարյան!#REF!+Դ.Դաբաղյան!#REF!+Գ.Պողոսյան!#REF!) -> #REF! | AI84: =SUM(Ս.Մնոյան!#REF!+'Է. Կարապետյան'!#REF!+'Կ․Դավթյան'!#REF!+Ժ.Նազարյան!#REF!+Դ.Դաբաղյան!#REF!+Գ.Պողոսյան!#REF!) -> #REF! | AJ84: =SUM(Ս.Մնոյան!#REF!+'Է. Կարապետյան'!#REF!+'Կ․Դավթյան'!#REF!+Ժ.Նազարյան!#REF!+Դ.Դաբաղյան!#REF!+Գ.Պողոսյան!#REF!) -> #REF! | AK84: =SUM(Ս.Մնոյան!#REF!+'Է. Կարապետյան'!#REF!+'Կ․Դավթյան'!#REF!+Ժ.Նազարյան!#REF!+Դ.Դաբաղյան!#REF!+Գ.Պողոսյան!#REF!) -> #REF! | AL84: =SUM(Ս.Մնոյան!#REF!+'Է. Կարապետյան'!#REF!+'Կ․Դավթյան'!#REF!+Ժ.Նազարյան!#REF!+Դ.Դաբաղյան!#REF!+Գ.Պողոսյան!#REF!) -> #REF! | AM84: =SUM(Ս.Մնոյան!#REF!+'Է. Կարապետյան'!#REF!+'Կ․Դավթյան'!#REF!+Ժ.Նազարյան!#REF!+Դ.Դաբաղյան!#REF!+Գ.Պողոսյան!#REF!) -> #REF! | AN84: =SUM(Ս.Մնոյան!#REF!+'Է. Կարապետյան'!#REF!+'Կ․Դավթյան'!#REF!+Ժ.Նազարյան!#REF!+Դ.Դաբաղյան!#REF!+Գ.Պողոսյան!#REF!) -> #REF! | AO84: =SUM(Ս.Մնոյան!#REF!+'Է. Կարապետյան'!#REF!+'Կ․Դավթյան'!#REF!+Ժ.Նազարյան!#REF!+Դ.Դաբաղյան!#REF!+Գ.Պողոսյան!#REF!) -> #REF!
A85: 7.2 | B85: Անձնական կամ ընտանեկան կյանքի գաղտնիությունը խախտելը | C85: 204 | D85: =SUM(Ս.Մնոյան!D85+'Է. Կարապետյան'!D85+'Կ․Դավթյան'!D85+Ժ.Նազարյան!D85+Դ.Դաբաղյան!D85+Գ.Պողոսյան!D85) -> 0 | E85: =SUM(Ս.Մնոյան!E85+'Է. Կարապետյան'!E85+'Կ․Դավթյան'!E85+Ժ.Նազարյան!E85+Դ.Դաբաղյան!E85+Գ.Պողոսյան!E85) -> 0 | F85: =SUM(Ս.Մնոյան!F85+'Է. Կարապետյան'!F85+'Կ․Դավթյան'!F85+Ժ.Նազարյան!F85+Դ.Դաբաղյան!F85+Գ.Պողոսյան!F85) -> 0 | G85: =SUM(Ս.Մնոյան!G85+'Է. Կարապետյան'!G85+'Կ․Դավթյան'!G85+Ժ.Նազարյան!G85+Դ.Դաբաղյան!G85+Գ.Պողոսյան!G85) -> 0 | H85: =SUM(Ս.Մնոյան!H85+'Է. Կարապետյան'!H85+'Կ․Դավթյան'!H85+Ժ.Նազարյան!H85+Դ.Դաբաղյան!H85+Գ.Պողոսյան!H85) -> 0 | I85: =SUM(Ս.Մնոյան!I85+'Է. Կարապետյան'!I85+'Կ․Դավթյան'!I85+Ժ.Նազարյան!I85+Դ.Դաբաղյան!I85+Գ.Պողոսյան!I85) -> 0 | J85: =SUM(Ս.Մնոյան!J85+'Է. Կարապետյան'!J85+'Կ․Դավթյան'!J85+Ժ.Նազարյան!J85+Դ.Դաբաղյան!J85+Գ.Պողոսյան!J85) -> 0 | K85: =SUM(Ս.Մնոյան!K85+'Է. Կարապետյան'!K85+'Կ․Դավթյան'!K85+Ժ.Նազարյան!K85+Դ.Դաբաղյան!K85+Գ.Պողոսյան!K85) -> 0 | ... AG85: =SUM(Ս.Մնոյան!AG85+'Է. Կարապետյան'!AG85+'Կ․Դավթյան'!AG85+Ժ.Նազարյան!AG85+Դ.Դաբաղյան!AG85+Գ.Պողոսյան!AG85) -> 0 | AH85: =SUM(Ս.Մնոյան!#REF!+'Է. Կարապետյան'!#REF!+'Կ․Դավթյան'!#REF!+Ժ.Նազարյան!#REF!+Դ.Դաբաղյան!#REF!+Գ.Պողոսյան!#REF!) -> #REF! | AI85: =SUM(Ս.Մնոյան!#REF!+'Է. Կարապետյան'!#REF!+'Կ․Դավթյան'!#REF!+Ժ.Նազարյան!#REF!+Դ.Դաբաղյան!#REF!+Գ.Պողոսյան!#REF!) -> #REF! | AJ85: =SUM(Ս.Մնոյան!#REF!+'Է. Կարապետյան'!#REF!+'Կ․Դավթյան'!#REF!+Ժ.Նազարյան!#REF!+Դ.Դաբաղյան!#REF!+Գ.Պողոսյան!#REF!) -> #REF! | AK85: =SUM(Ս.Մնոյան!#REF!+'Է. Կարապետյան'!#REF!+'Կ․Դավթյան'!#REF!+Ժ.Նազարյան!#REF!+Դ.Դաբաղյան!#REF!+Գ.Պողոսյան!#REF!) -> #REF! | AL85: =SUM(Ս.Մնոյան!#REF!+'Է. Կարապետյան'!#REF!+'Կ․Դավթյան'!#REF!+Ժ.Նազարյան!#REF!+Դ.Դաբաղյան!#REF!+Գ.Պողոսյան!#REF!) -> #REF! | AM85: =SUM(Ս.Մնոյան!#REF!+'Է. Կարապետյան'!#REF!+'Կ․Դավթյան'!#REF!+Ժ.Նազարյան!#REF!+Դ.Դաբաղյան!#REF!+Գ.Պողոսյան!#REF!) -> #REF! | AN85: =SUM(Ս.Մնոյան!#REF!+'Է. Կարապետյան'!#REF!+'Կ․Դավթյան'!#REF!+Ժ.Նազարյան!#REF!+Դ.Դաբաղյան!#REF!+Գ.Պողոսյան!#REF!) -> #REF! | AO85: =SUM(Ս.Մնոյան!#REF!+'Է. Կարապետյան'!#REF!+'Կ․Դավթյան'!#REF!+Ժ.Նազարյան!#REF!+Դ.Դաբաղյան!#REF!+Գ.Պողոսյան!#REF!) -> #REF!
A86: 7.3 | B86: Բժշկական գաղտնիքը հրապարակելը | C86: 205 | D86: =SUM(Ս.Մնոյան!D86+'Է. Կարապետյան'!D86+'Կ․Դավթյան'!D86+Ժ.Նազարյան!D86+Դ.Դաբաղյան!D86+Գ.Պողոսյան!D86) -> 0 | E86: =SUM(Ս.Մնոյան!E86+'Է. Կարապետյան'!E86+'Կ․Դավթյան'!E86+Ժ.Նազարյան!E86+Դ.Դաբաղյան!E86+Գ.Պողոսյան!E86) -> 0 | F86: =SUM(Ս.Մնոյան!F86+'Է. Կարապետյան'!F86+'Կ․Դավթյան'!F86+Ժ.Նազարյան!F86+Դ.Դաբաղյան!F86+Գ.Պողոսյան!F86) -> 0 | G86: =SUM(Ս.Մնոյան!G86+'Է. Կարապետյան'!G86+'Կ․Դավթյան'!G86+Ժ.Նազարյան!G86+Դ.Դաբաղյան!G86+Գ.Պողոսյան!G86) -> 0 | H86: =SUM(Ս.Մնոյան!H86+'Է. Կարապետյան'!H86+'Կ․Դավթյան'!H86+Ժ.Նազարյան!H86+Դ.Դաբաղյան!H86+Գ.Պողոսյան!H86) -> 0 | I86: =SUM(Ս.Մնոյան!I86+'Է. Կարապետյան'!I86+'Կ․Դավթյան'!I86+Ժ.Նազարյան!I86+Դ.Դաբաղյան!I86+Գ.Պողոսյան!I86) -> 0 | J86: =SUM(Ս.Մնոյան!J86+'Է. Կարապետյան'!J86+'Կ․Դավթյան'!J86+Ժ.Նազարյան!J86+Դ.Դաբաղյան!J86+Գ.Պողոսյան!J86) -> 0 | K86: =SUM(Ս.Մնոյան!K86+'Է. Կարապետյան'!K86+'Կ․Դավթյան'!K86+Ժ.Նազարյան!K86+Դ.Դաբաղյան!K86+Գ.Պողոսյան!K86) -> 0 | ... AG86: =SUM(Ս.Մնոյան!AG86+'Է. Կարապետյան'!AG86+'Կ․Դավթյան'!AG86+Ժ.Նազարյան!AG86+Դ.Դաբաղյան!AG86+Գ.Պողոսյան!AG86) -> 0 | AH86: =SUM(Ս.Մնոյան!#REF!+'Է. Կարապետյան'!#REF!+'Կ․Դավթյան'!#REF!+Ժ.Նազարյան!#REF!+Դ.Դաբաղյան!#REF!+Գ.Պողոսյան!#REF!) -> #REF! | AI86: =SUM(Ս.Մնոյան!#REF!+'Է. Կարապետյան'!#REF!+'Կ․Դավթյան'!#REF!+Ժ.Նազարյան!#REF!+Դ.Դաբաղյան!#REF!+Գ.Պողոսյան!#REF!) -> #REF! | AJ86: =SUM(Ս.Մնոյան!#REF!+'Է. Կարապետյան'!#REF!+'Կ․Դավթյան'!#REF!+Ժ.Նազարյան!#REF!+Դ.Դաբաղյան!#REF!+Գ.Պողոսյան!#REF!) -> #REF! | AK86: =SUM(Ս.Մնոյան!#REF!+'Է. Կարապետյան'!#REF!+'Կ․Դավթյան'!#REF!+Ժ.Նազարյան!#REF!+Դ.Դաբաղյան!#REF!+Գ.Պողոսյան!#REF!) -> #REF! | AL86: =SUM(Ս.Մնոյան!#REF!+'Է. Կարապետյան'!#REF!+'Կ․Դավթյան'!#REF!+Ժ.Նազարյան!#REF!+Դ.Դաբաղյան!#REF!+Գ.Պողոսյան!#REF!) -> #REF! | AM86: =SUM(Ս.Մնոյան!#REF!+'Է. Կարապետյան'!#REF!+'Կ․Դավթյան'!#REF!+Ժ.Նազարյան!#REF!+Դ.Դաբաղյան!#REF!+Գ.Պողոսյան!#REF!) -> #REF! | AN86: =SUM(Ս.Մնոյան!#REF!+'Է. Կարապետյան'!#REF!+'Կ․Դավթյան'!#REF!+Ժ.Նազարյան!#REF!+Դ.Դաբաղյան!#REF!+Գ.Պողոսյան!#REF!) -> #REF! | AO86: =SUM(Ս.Մնոյան!#REF!+'Է. Կարապետյան'!#REF!+'Կ․Դավթյան'!#REF!+Ժ.Նազարյան!#REF!+Դ.Դաբաղյան!#REF!+Գ.Պողոսյան!#REF!) -> #REF!
A87: 7.4 | B87: Նամակագրության, հեռախոսային խոսակցությունների և հաղորդակցության այլ ձևերի գաղտնիությունը խախտելը | C87: 206 | D87: =SUM(Ս.Մնոյան!D87+'Է. Կարապետյան'!D87+'Կ․Դավթյան'!D87+Ժ.Նազարյան!D87+Դ.Դաբաղյան!D87+Գ.Պողոսյան!D87) -> 0 | E87: =SUM(Ս.Մնոյան!E87+'Է. Կարապետյան'!E87+'Կ․Դավթյան'!E87+Ժ.Նազարյան!E87+Դ.Դաբաղյան!E87+Գ.Պողոսյան!E87) -> 0 | F87: =SUM(Ս.Մնոյան!F87+'Է. Կարապետյան'!F87+'Կ․Դավթյան'!F87+Ժ.Նազարյան!F87+Դ.Դաբաղյան!F87+Գ.Պողոսյան!F87) -> 0 | G87: =SUM(Ս.Մնոյան!G87+'Է. Կարապետյան'!G87+'Կ․Դավթյան'!G87+Ժ.Նազարյան!G87+Դ.Դաբաղյան!G87+Գ.Պողոսյան!G87) -> 0 | H87: =SUM(Ս.Մնոյան!H87+'Է. Կարապետյան'!H87+'Կ․Դավթյան'!H87+Ժ.Նազարյան!H87+Դ.Դաբաղյան!H87+Գ.Պողոսյան!H87) -> 0 | I87: =SUM(Ս.Մնոյան!I87+'Է. Կարապետյան'!I87+'Կ․Դավթյան'!I87+Ժ.Նազարյան!I87+Դ.Դաբաղյան!I87+Գ.Պողոսյան!I87) -> 0 | J87: =SUM(Ս.Մնոյան!J87+'Է. Կարապետյան'!J87+'Կ․Դավթյան'!J87+Ժ.Նազարյան!J87+Դ.Դաբաղյան!J87+Գ.Պողոսյան!J87) -> 0 | K87: =SUM(Ս.Մնոյան!K87+'Է. Կարապետյան'!K87+'Կ․Դավթյան'!K87+Ժ.Նազարյան!K87+Դ.Դաբաղյան!K87+Գ.Պողոսյան!K87) -> 0 | ... AG87: =SUM(Ս.Մնոյան!AG87+'Է. Կարապետյան'!AG87+'Կ․Դավթյան'!AG87+Ժ.Նազարյան!AG87+Դ.Դաբաղյան!AG87+Գ.Պողոսյան!AG87) -> 0 | AH87: =SUM(Ս.Մնոյան!#REF!+'Է. Կարապետյան'!#REF!+'Կ․Դավթյան'!#REF!+Ժ.Նազարյան!#REF!+Դ.Դաբաղյան!#REF!+Գ.Պողոսյան!#REF!) -> #REF! | AI87: =SUM(Ս.Մնոյան!#REF!+'Է. Կարապետյան'!#REF!+'Կ․Դավթյան'!#REF!+Ժ.Նազարյան!#REF!+Դ.Դաբաղյան!#REF!+Գ.Պողոսյան!#REF!) -> #REF! | AJ87: =SUM(Ս.Մնոյան!#REF!+'Է. Կարապետյան'!#REF!+'Կ․Դավթյան'!#REF!+Ժ.Նազարյան!#REF!+Դ.Դաբաղյան!#REF!+Գ.Պողոսյան!#REF!) -> #REF! | AK87: =SUM(Ս.Մնոյան!#REF!+'Է. Կարապետյան'!#REF!+'Կ․Դավթյան'!#REF!+Ժ.Նազարյան!#REF!+Դ.Դաբաղյան!#REF!+Գ.Պողոսյան!#REF!) -> #REF! | AL87: =SUM(Ս.Մնոյան!#REF!+'Է. Կարապետյան'!#REF!+'Կ․Դավթյան'!#REF!+Ժ.Նազարյան!#REF!+Դ.Դաբաղյան!#REF!+Գ.Պողոսյան!#REF!) -> #REF! | AM87: =SUM(Ս.Մնոյան!#REF!+'Է. Կարապետյան'!#REF!+'Կ․Դավթյան'!#REF!+Ժ.Նազարյան!#REF!+Դ.Դաբաղյան!#REF!+Գ.Պողոսյան!#REF!) -> #REF! | AN87: =SUM(Ս.Մնոյան!#REF!+'Է. Կարապետյան'!#REF!+'Կ․Դավթյան'!#REF!+Ժ.Նազարյան!#REF!+Դ.Դաբաղյան!#REF!+Գ.Պողոսյան!#REF!) -> #REF! | AO87: =SUM(Ս.Մնոյան!#REF!+'Է. Կարապետյան'!#REF!+'Կ․Դավթյան'!#REF!+Ժ.Նազարյան!#REF!+Դ.Դաբաղյան!#REF!+Գ.Պողոսյան!#REF!) -> #REF!
A88: 7.5 | B88: Բնակարանի անձեռնմխելիությունը խախտելը | C88: 207 | D88: =SUM(Ս.Մնոյան!D88+'Է. Կարապետյան'!D88+'Կ․Դավթյան'!D88+Ժ.Նազարյան!D88+Դ.Դաբաղյան!D88+Գ.Պողոսյան!D88) -> 1 | E88: =SUM(Ս.Մնոյան!E88+'Է. Կարապետյան'!E88+'Կ․Դավթյան'!E88+Ժ.Նազարյան!E88+Դ.Դաբաղյան!E88+Գ.Պողոսյան!E88) -> 0 | F88: =SUM(Ս.Մնոյան!F88+'Է. Կարապետյան'!F88+'Կ․Դավթյան'!F88+Ժ.Նազարյան!F88+Դ.Դաբաղյան!F88+Գ.Պողոսյան!F88) -> 1 | G88: =SUM(Ս.Մնոյան!G88+'Է. Կարապետյան'!G88+'Կ․Դավթյան'!G88+Ժ.Նազարյան!G88+Դ.Դաբաղյան!G88+Գ.Պողոսյան!G88) -> 0 | H88: =SUM(Ս.Մնոյան!H88+'Է. Կարապետյան'!H88+'Կ․Դավթյան'!H88+Ժ.Նազարյան!H88+Դ.Դաբաղյան!H88+Գ.Պողոսյան!H88) -> 0 | I88: =SUM(Ս.Մնոյան!I88+'Է. Կարապետյան'!I88+'Կ․Դավթյան'!I88+Ժ.Նազարյան!I88+Դ.Դաբաղյան!I88+Գ.Պողոսյան!I88) -> 0 | J88: =SUM(Ս.Մնոյան!J88+'Է. Կարապետյան'!J88+'Կ․Դավթյան'!J88+Ժ.Նազարյան!J88+Դ.Դաբաղյան!J88+Գ.Պողոսյան!J88) -> 0 | K88: =SUM(Ս.Մնոյան!K88+'Է. Կարապետյան'!K88+'Կ․Դավթյան'!K88+Ժ.Նազարյան!K88+Դ.Դաբաղյան!K88+Գ.Պողոսյան!K88) -> 0 | ... AG88: =SUM(Ս.Մնոյան!AG88+'Է. Կարապետյան'!AG88+'Կ․Դավթյան'!AG88+Ժ.Նազարյան!AG88+Դ.Դաբաղյան!AG88+Գ.Պողոսյան!AG88) -> 0 | AH88: =SUM(Ս.Մնոյան!#REF!+'Է. Կարապետյան'!#REF!+'Կ․Դավթյան'!#REF!+Ժ.Նազարյան!#REF!+Դ.Դաբաղյան!#REF!+Գ.Պողոսյան!#REF!) -> #REF! | AI88: =SUM(Ս.Մնոյան!#REF!+'Է. Կարապետյան'!#REF!+'Կ․Դավթյան'!#REF!+Ժ.Նազարյան!#REF!+Դ.Դաբաղյան!#REF!+Գ.Պողոսյան!#REF!) -> #REF! | AJ88: =SUM(Ս.Մնոյան!#REF!+'Է. Կարապետյան'!#REF!+'Կ․Դավթյան'!#REF!+Ժ.Նազարյան!#REF!+Դ.Դաբաղյան!#REF!+Գ.Պողոսյան!#REF!) -> #REF! | AK88: =SUM(Ս.Մնոյան!#REF!+'Է. Կարապետյան'!#REF!+'Կ․Դավթյան'!#REF!+Ժ.Նազարյան!#REF!+Դ.Դաբաղյան!#REF!+Գ.Պողոսյան!#REF!) -> #REF! | AL88: =SUM(Ս.Մնոյան!#REF!+'Է. Կարապետյան'!#REF!+'Կ․Դավթյան'!#REF!+Ժ.Նազարյան!#REF!+Դ.Դաբաղյան!#REF!+Գ.Պողոսյան!#REF!) -> #REF! | AM88: =SUM(Ս.Մնոյան!#REF!+'Է. Կարապետյան'!#REF!+'Կ․Դավթյան'!#REF!+Ժ.Նազարյան!#REF!+Դ.Դաբաղյան!#REF!+Գ.Պողոսյան!#REF!) -> #REF! | AN88: =SUM(Ս.Մնոյան!#REF!+'Է. Կարապետյան'!#REF!+'Կ․Դավթյան'!#REF!+Ժ.Նազարյան!#REF!+Դ.Դաբաղյան!#REF!+Գ.Պողոսյան!#REF!) -> #REF! | AO88: =SUM(Ս.Մնոյան!#REF!+'Է. Կարապետյան'!#REF!+'Կ․Դավթյան'!#REF!+Ժ.Նազարյան!#REF!+Դ.Դաբաղյան!#REF!+Գ.Պողոսյան!#REF!) -> #REF!
A89: 7.6 | B89: Անձին տեղեկություններ տրամադրելուց հրաժարվելը | C89: 208 | D89: =SUM(Ս.Մնոյան!D89+'Է. Կարապետյան'!D89+'Կ․Դավթյան'!D89+Ժ.Նազարյան!D89+Դ.Դաբաղյան!D89+Գ.Պողոսյան!D89) -> 0 | E89: =SUM(Ս.Մնոյան!E89+'Է. Կարապետյան'!E89+'Կ․Դավթյան'!E89+Ժ.Նազարյան!E89+Դ.Դաբաղյան!E89+Գ.Պողոսյան!E89) -> 0 | F89: =SUM(Ս.Մնոյան!F89+'Է. Կարապետյան'!F89+'Կ․Դավթյան'!F89+Ժ.Նազարյան!F89+Դ.Դաբաղյան!F89+Գ.Պողոսյան!F89) -> 0 | G89: =SUM(Ս.Մնոյան!G89+'Է. Կարապետյան'!G89+'Կ․Դավթյան'!G89+Ժ.Նազարյան!G89+Դ.Դաբաղյան!G89+Գ.Պողոսյան!G89) -> 0 | H89: =SUM(Ս.Մնոյան!H89+'Է. Կարապետյան'!H89+'Կ․Դավթյան'!H89+Ժ.Նազարյան!H89+Դ.Դաբաղյան!H89+Գ.Պողոսյան!H89) -> 0 | I89: =SUM(Ս.Մնոյան!I89+'Է. Կարապետյան'!I89+'Կ․Դավթյան'!I89+Ժ.Նազարյան!I89+Դ.Դաբաղյան!I89+Գ.Պողոսյան!I89) -> 0 | J89: =SUM(Ս.Մնոյան!J89+'Է. Կարապետյան'!J89+'Կ․Դավթյան'!J89+Ժ.Նազարյան!J89+Դ.Դաբաղյան!J89+Գ.Պողոսյան!J89) -> 0 | K89: =SUM(Ս.Մնոյան!K89+'Է. Կարապետյան'!K89+'Կ․Դավթյան'!K89+Ժ.Նազարյան!K89+Դ.Դաբաղյան!K89+Գ.Պողոսյան!K89) -> 0 | ... AG89: =SUM(Ս.Մնոյան!AG89+'Է. Կարապետյան'!AG89+'Կ․Դավթյան'!AG89+Ժ.Նազարյան!AG89+Դ.Դաբաղյան!AG89+Գ.Պողոսյան!AG89) -> 0 | AH89: =SUM(Ս.Մնոյան!#REF!+'Է. Կարապետյան'!#REF!+'Կ․Դավթյան'!#REF!+Ժ.Նազարյան!#REF!+Դ.Դաբաղյան!#REF!+Գ.Պողոսյան!#REF!) -> #REF! | AI89: =SUM(Ս.Մնոյան!#REF!+'Է. Կարապետյան'!#REF!+'Կ․Դավթյան'!#REF!+Ժ.Նազարյան!#REF!+Դ.Դաբաղյան!#REF!+Գ.Պողոսյան!#REF!) -> #REF! | AJ89: =SUM(Ս.Մնոյան!#REF!+'Է. Կարապետյան'!#REF!+'Կ․Դավթյան'!#REF!+Ժ.Նազարյան!#REF!+Դ.Դաբաղյան!#REF!+Գ.Պողոսյան!#REF!) -> #REF! | AK89: =SUM(Ս.Մնոյան!#REF!+'Է. Կարապետյան'!#REF!+'Կ․Դավթյան'!#REF!+Ժ.Նազարյան!#REF!+Դ.Դաբաղյան!#REF!+Գ.Պողոսյան!#REF!) -> #REF! | AL89: =SUM(Ս.Մնոյան!#REF!+'Է. Կարապետյան'!#REF!+'Կ․Դավթյան'!#REF!+Ժ.Նազարյան!#REF!+Դ.Դաբաղյան!#REF!+Գ.Պողոսյան!#REF!) -> #REF! | AM89: =SUM(Ս.Մնոյան!#REF!+'Է. Կարապետյան'!#REF!+'Կ․Դավթյան'!#REF!+Ժ.Նազարյան!#REF!+Դ.Դաբաղյան!#REF!+Գ.Պողոսյան!#REF!) -> #REF! | AN89: =SUM(Ս.Մնոյան!#REF!+'Է. Կարապետյան'!#REF!+'Կ․Դավթյան'!#REF!+Ժ.Նազարյան!#REF!+Դ.Դաբաղյան!#REF!+Գ.Պողոսյան!#REF!) -> #REF! | AO89: =SUM(Ս.Մնոյան!#REF!+'Է. Կարապետյան'!#REF!+'Կ․Դավթյան'!#REF!+Ժ.Նազարյան!#REF!+Դ.Դաբաղյան!#REF!+Գ.Պողոսյան!#REF!) -> #REF!
A90: 7.7 | B90: Խղճի կամ դավանանքի ազատության իրավունքի իրականացումը խոչընդոտելը | C90: 209 | D90: =SUM(Ս.Մնոյան!D90+'Է. Կարապետյան'!D90+'Կ․Դավթյան'!D90+Ժ.Նազարյան!D90+Դ.Դաբաղյան!D90+Գ.Պողոսյան!D90) -> 0 | E90: =SUM(Ս.Մնոյան!E90+'Է. Կարապետյան'!E90+'Կ․Դավթյան'!E90+Ժ.Նազարյան!E90+Դ.Դաբաղյան!E90+Գ.Պողոսյան!E90) -> 0 | F90: =SUM(Ս.Մնոյան!F90+'Է. Կարապետյան'!F90+'Կ․Դավթյան'!F90+Ժ.Նազարյան!F90+Դ.Դաբաղյան!F90+Գ.Պողոսյան!F90) -> 0 | G90: =SUM(Ս.Մնոյան!G90+'Է. Կարապետյան'!G90+'Կ․Դավթյան'!G90+Ժ.Նազարյան!G90+Դ.Դաբաղյան!G90+Գ.Պողոսյան!G90) -> 0 | H90: =SUM(Ս.Մնոյան!H90+'Է. Կարապետյան'!H90+'Կ․Դավթյան'!H90+Ժ.Նազարյան!H90+Դ.Դաբաղյան!H90+Գ.Պողոսյան!H90) -> 0 | I90: =SUM(Ս.Մնոյան!I90+'Է. Կարապետյան'!I90+'Կ․Դավթյան'!I90+Ժ.Նազարյան!I90+Դ.Դաբաղյան!I90+Գ.Պողոսյան!I90) -> 0 | J90: =SUM(Ս.Մնոյան!J90+'Է. Կարապետյան'!J90+'Կ․Դավթյան'!J90+Ժ.Նազարյան!J90+Դ.Դաբաղյան!J90+Գ.Պողոսյան!J90) -> 0 | K90: =SUM(Ս.Մնոյան!K90+'Է. Կարապետյան'!K90+'Կ․Դավթյան'!K90+Ժ.Նազարյան!K90+Դ.Դաբաղյան!K90+Գ.Պողոսյան!K90) -> 0 | ... AG90: =SUM(Ս.Մնոյան!AG90+'Է. Կարապետյան'!AG90+'Կ․Դավթյան'!AG90+Ժ.Նազարյան!AG90+Դ.Դաբաղյան!AG90+Գ.Պողոսյան!AG90) -> 0 | AH90: =SUM(Ս.Մնոյան!#REF!+'Է. Կարապետյան'!#REF!+'Կ․Դավթյան'!#REF!+Ժ.Նազարյան!#REF!+Դ.Դաբաղյան!#REF!+Գ.Պողոսյան!#REF!) -> #REF! | AI90: =SUM(Ս.Մնոյան!#REF!+'Է. Կարապետյան'!#REF!+'Կ․Դավթյան'!#REF!+Ժ.Նազարյան!#REF!+Դ.Դաբաղյան!#REF!+Գ.Պողոսյան!#REF!) -> #REF! | AJ90: =SUM(Ս.Մնոյան!#REF!+'Է. Կարապետյան'!#REF!+'Կ․Դավթյան'!#REF!+Ժ.Նազարյան!#REF!+Դ.Դաբաղյան!#REF!+Գ.Պողոսյան!#REF!) -> #REF! | AK90: =SUM(Ս.Մնոյան!#REF!+'Է. Կարապետյան'!#REF!+'Կ․Դավթյան'!#REF!+Ժ.Նազարյան!#REF!+Դ.Դաբաղյան!#REF!+Գ.Պողոսյան!#REF!) -> #REF! | AL90: =SUM(Ս.Մնոյան!#REF!+'Է. Կարապետյան'!#REF!+'Կ․Դավթյան'!#REF!+Ժ.Նազարյան!#REF!+Դ.Դաբաղյան!#REF!+Գ.Պողոսյան!#REF!) -> #REF! | AM90: =SUM(Ս.Մնոյան!#REF!+'Է. Կարապետյան'!#REF!+'Կ․Դավթյան'!#REF!+Ժ.Նազարյան!#REF!+Դ.Դաբաղյան!#REF!+Գ.Պողոսյան!#REF!) -> #REF! | AN90: =SUM(Ս.Մնոյան!#REF!+'Է. Կարապետյան'!#REF!+'Կ․Դավթյան'!#REF!+Ժ.Նազարյան!#REF!+Դ.Դաբաղյան!#REF!+Գ.Պողոսյան!#REF!) -> #REF! | AO90: =SUM(Ս.Մնոյան!#REF!+'Է. Կարապետյան'!#REF!+'Կ․Դավթյան'!#REF!+Ժ.Նազարյան!#REF!+Դ.Դաբաղյան!#REF!+Գ.Պողոսյան!#REF!) -> #REF!
A91: 7.8 | B91: Ընտրական կամ հանրաքվեին մասնակցելու իրավունքի իրականացումը, ընտրական հանձնաժողովների աշխատանքներին կամ ընտրությանը կամ հանրաքվեին մասնակցող անձանց իրավունքների կամ պարտականությունների իրականացումը խոչընդոտելը | C91: 210 | D91: =SUM(Ս.Մնոյան!D91+'Է. Կարապետյան'!D91+'Կ․Դավթյան'!D91+Ժ.Նազարյան!D91+Դ.Դաբաղյան!D91+Գ.Պողոսյան!D91) -> 0 | E91: =SUM(Ս.Մնոյան!E91+'Է. Կարապետյան'!E91+'Կ․Դավթյան'!E91+Ժ.Նազարյան!E91+Դ.Դաբաղյան!E91+Գ.Պողոսյան!E91) -> 0 | F91: =SUM(Ս.Մնոյան!F91+'Է. Կարապետյան'!F91+'Կ․Դավթյան'!F91+Ժ.Նազարյան!F91+Դ.Դաբաղյան!F91+Գ.Պողոսյան!F91) -> 1 | G91: =SUM(Ս.Մնոյան!G91+'Է. Կարապետյան'!G91+'Կ․Դավթյան'!G91+Ժ.Նազարյան!G91+Դ.Դաբաղյան!G91+Գ.Պողոսյան!G91) -> 0 | H91: =SUM(Ս.Մնոյան!H91+'Է. Կարապետյան'!H91+'Կ․Դավթյան'!H91+Ժ.Նազարյան!H91+Դ.Դաբաղյան!H91+Գ.Պողոսյան!H91) -> 0 | I91: =SUM(Ս.Մնոյան!I91+'Է. Կարապետյան'!I91+'Կ․Դավթյան'!I91+Ժ.Նազարյան!I91+Դ.Դաբաղյան!I91+Գ.Պողոսյան!I91) -> 0 | J91: =SUM(Ս.Մնոյան!J91+'Է. Կարապետյան'!J91+'Կ․Դավթյան'!J91+Ժ.Նազարյան!J91+Դ.Դաբաղյան!J91+Գ.Պողոսյան!J91) -> 0 | K91: =SUM(Ս.Մնոյան!K91+'Է. Կարապետյան'!K91+'Կ․Դավթյան'!K91+Ժ.Նազարյան!K91+Դ.Դաբաղյան!K91+Գ.Պողոսյան!K91) -> 0 | ... AG91: =SUM(Ս.Մնոյան!AG91+'Է. Կարապետյան'!AG91+'Կ․Դավթյան'!AG91+Ժ.Նազարյան!AG91+Դ.Դաբաղյան!AG91+Գ.Պողոսյան!AG91) -> 0 | AH91: =SUM(Ս.Մնոյան!#REF!+'Է. Կարապետյան'!#REF!+'Կ․Դավթյան'!#REF!+Ժ.Նազարյան!#REF!+Դ.Դաբաղյան!#REF!+Գ.Պողոսյան!#REF!) -> #REF! | AI91: =SUM(Ս.Մնոյան!#REF!+'Է. Կարապետյան'!#REF!+'Կ․Դավթյան'!#REF!+Ժ.Նազարյան!#REF!+Դ.Դաբաղյան!#REF!+Գ.Պողոսյան!#REF!) -> #REF! | AJ91: =SUM(Ս.Մնոյան!#REF!+'Է. Կարապետյան'!#REF!+'Կ․Դավթյան'!#REF!+Ժ.Նազարյան!#REF!+Դ.Դաբաղյան!#REF!+Գ.Պողոսյան!#REF!) -> #REF! | AK91: =SUM(Ս.Մնոյան!#REF!+'Է. Կարապետյան'!#REF!+'Կ․Դավթյան'!#REF!+Ժ.Նազարյան!#REF!+Դ.Դաբաղյան!#REF!+Գ.Պողոսյան!#REF!) -> #REF! | AL91: =SUM(Ս.Մնոյան!#REF!+'Է. Կարապետյան'!#REF!+'Կ․Դավթյան'!#REF!+Ժ.Նազարյան!#REF!+Դ.Դաբաղյան!#REF!+Գ.Պողոսյան!#REF!) -> #REF! | AM91: =SUM(Ս.Մնոյան!#REF!+'Է. Կարապետյան'!#REF!+'Կ․Դավթյան'!#REF!+Ժ.Նազարյան!#REF!+Դ.Դաբաղյան!#REF!+Գ.Պողոսյան!#REF!) -> #REF! | AN91: =SUM(Ս.Մնոյան!#REF!+'Է. Կարապետյան'!#REF!+'Կ․Դավթյան'!#REF!+Ժ.Նազարյան!#REF!+Դ.Դաբաղյան!#REF!+Գ.Պողոսյան!#REF!) -> #REF! | AO91: =SUM(Ս.Մնոյան!#REF!+'Է. Կարապետյան'!#REF!+'Կ․Դավթյան'!#REF!+Ժ.Նազարյան!#REF!+Դ.Դաբաղյան!#REF!+Գ.Պողոսյան!#REF!) -> #REF!
A92: 7.9 | B92: Քարոզչություն կատարելուն կամ քարոզչություն կատարելուց հրաժարվելուն հարկադրելը կամ քարոզչություն կատարելուն այլ կերպ խոչընդոտելը | C92: 211 | D92: =SUM(Ս.Մնոյան!D92+'Է. Կարապետյան'!D92+'Կ․Դավթյան'!D92+Ժ.Նազարյան!D92+Դ.Դաբաղյան!D92+Գ.Պողոսյան!D92) -> 0 | E92: =SUM(Ս.Մնոյան!E92+'Է. Կարապետյան'!E92+'Կ․Դավթյան'!E92+Ժ.Նազարյան!E92+Դ.Դաբաղյան!E92+Գ.Պողոսյան!E92) -> 0 | F92: =SUM(Ս.Մնոյան!F92+'Է. Կարապետյան'!F92+'Կ․Դավթյան'!F92+Ժ.Նազարյան!F92+Դ.Դաբաղյան!F92+Գ.Պողոսյան!F92) -> 0 | G92: =SUM(Ս.Մնոյան!G92+'Է. Կարապետյան'!G92+'Կ․Դավթյան'!G92+Ժ.Նազարյան!G92+Դ.Դաբաղյան!G92+Գ.Պողոսյան!G92) -> 0 | H92: =SUM(Ս.Մնոյան!H92+'Է. Կարապետյան'!H92+'Կ․Դավթյան'!H92+Ժ.Նազարյան!H92+Դ.Դաբաղյան!H92+Գ.Պողոսյան!H92) -> 0 | I92: =SUM(Ս.Մնոյան!I92+'Է. Կարապետյան'!I92+'Կ․Դավթյան'!I92+Ժ.Նազարյան!I92+Դ.Դաբաղյան!I92+Գ.Պողոսյան!I92) -> 0 | J92: =SUM(Ս.Մնոյան!J92+'Է. Կարապետյան'!J92+'Կ․Դավթյան'!J92+Ժ.Նազարյան!J92+Դ.Դաբաղյան!J92+Գ.Պողոսյան!J92) -> 0 | K92: =SUM(Ս.Մնոյան!K92+'Է. Կարապետյան'!K92+'Կ․Դավթյան'!K92+Ժ.Նազարյան!K92+Դ.Դաբաղյան!K92+Գ.Պողոսյան!K92) -> 0 | ... AG92: =SUM(Ս.Մնոյան!AG92+'Է. Կարապետյան'!AG92+'Կ․Դավթյան'!AG92+Ժ.Նազարյան!AG92+Դ.Դաբաղյան!AG92+Գ.Պողոսյան!AG92) -> 0 | AH92: =SUM(Ս.Մնոյան!#REF!+'Է. Կարապետյան'!#REF!+'Կ․Դավթյան'!#REF!+Ժ.Նազարյան!#REF!+Դ.Դաբաղյան!#REF!+Գ.Պողոսյան!#REF!) -> #REF! | AI92: =SUM(Ս.Մնոյան!#REF!+'Է. Կարապետյան'!#REF!+'Կ․Դավթյան'!#REF!+Ժ.Նազարյան!#REF!+Դ.Դաբաղյան!#REF!+Գ.Պողոսյան!#REF!) -> #REF! | AJ92: =SUM(Ս.Մնոյան!#REF!+'Է. Կարապետյան'!#REF!+'Կ․Դավթյան'!#REF!+Ժ.Նազարյան!#REF!+Դ.Դաբաղյան!#REF!+Գ.Պողոսյան!#REF!) -> #REF! | AK92: =SUM(Ս.Մնոյան!#REF!+'Է. Կարապետյան'!#REF!+'Կ․Դավթյան'!#REF!+Ժ.Նազարյան!#REF!+Դ.Դաբաղյան!#REF!+Գ.Պողոսյան!#REF!) -> #REF! | AL92: =SUM(Ս.Մնոյան!#REF!+'Է. Կարապետյան'!#REF!+'Կ․Դավթյան'!#REF!+Ժ.Նազարյան!#REF!+Դ.Դաբաղյան!#REF!+Գ.Պողոսյան!#REF!) -> #REF! | AM92: =SUM(Ս.Մնոյան!#REF!+'Է. Կարապետյան'!#REF!+'Կ․Դավթյան'!#REF!+Ժ.Նազարյան!#REF!+Դ.Դաբաղյան!#REF!+Գ.Պողոսյան!#REF!) -> #REF! | AN92: =SUM(Ս.Մնոյան!#REF!+'Է. Կարապետյան'!#REF!+'Կ․Դավթյան'!#REF!+Ժ.Նազարյան!#REF!+Դ.Դաբաղյան!#REF!+Գ.Պողոսյան!#REF!) -> #REF! | AO92: =SUM(Ս.Մնոյան!#REF!+'Է. Կարապետյան'!#REF!+'Կ․Դավթյան'!#REF!+Ժ.Նազարյան!#REF!+Դ.Դաբաղյան!#REF!+Գ.Պողոսյան!#REF!) -> #REF!
A93: 7.10 | B93: Ընտրությունների կամ քվեարկության արդյունքները կեղծելը | C93: 212 | D93: =SUM(Ս.Մնոյան!D93+'Է. Կարապետյան'!D93+'Կ․Դավթյան'!D93+Ժ.Նազարյան!D93+Դ.Դաբաղյան!D93+Գ.Պողոսյան!D93) -> 0 | E93: =SUM(Ս.Մնոյան!E93+'Է. Կարապետյան'!E93+'Կ․Դավթյան'!E93+Ժ.Նազարյան!E93+Դ.Դաբաղյան!E93+Գ.Պողոսյան!E93) -> 0 | F93: =SUM(Ս.Մնոյան!F93+'Է. Կարապետյան'!F93+'Կ․Դավթյան'!F93+Ժ.Նազարյան!F93+Դ.Դաբաղյան!F93+Գ.Պողոսյան!F93) -> 0 | G93: =SUM(Ս.Մնոյան!G93+'Է. Կարապետյան'!G93+'Կ․Դավթյան'!G93+Ժ.Նազարյան!G93+Դ.Դաբաղյան!G93+Գ.Պողոսյան!G93) -> 0 | H93: =SUM(Ս.Մնոյան!H93+'Է. Կարապետյան'!H93+'Կ․Դավթյան'!H93+Ժ.Նազարյան!H93+Դ.Դաբաղյան!H93+Գ.Պողոսյան!H93) -> 0 | I93: =SUM(Ս.Մնոյան!I93+'Է. Կարապետյան'!I93+'Կ․Դավթյան'!I93+Ժ.Նազարյան!I93+Դ.Դաբաղյան!I93+Գ.Պողոսյան!I93) -> 0 | J93: =SUM(Ս.Մնոյան!J93+'Է. Կարապետյան'!J93+'Կ․Դավթյան'!J93+Ժ.Նազարյան!J93+Դ.Դաբաղյան!J93+Գ.Պողոսյան!J93) -> 0 | K93: =SUM(Ս.Մնոյան!K93+'Է. Կարապետյան'!K93+'Կ․Դավթյան'!K93+Ժ.Նազարյան!K93+Դ.Դաբաղյան!K93+Գ.Պողոսյան!K93) -> 0 | ... AG93: =SUM(Ս.Մնոյան!AG93+'Է. Կարապետյան'!AG93+'Կ․Դավթյան'!AG93+Ժ.Նազարյան!AG93+Դ.Դաբաղյան!AG93+Գ.Պողոսյան!AG93) -> 0 | AH93: =SUM(Ս.Մնոյան!#REF!+'Է. Կարապետյան'!#REF!+'Կ․Դավթյան'!#REF!+Ժ.Նազարյան!#REF!+Դ.Դաբաղյան!#REF!+Գ.Պողոսյան!#REF!) -> #REF! | AI93: =SUM(Ս.Մնոյան!#REF!+'Է. Կարապետյան'!#REF!+'Կ․Դավթյան'!#REF!+Ժ.Նազարյան!#REF!+Դ.Դաբաղյան!#REF!+Գ.Պողոսյան!#REF!) -> #REF! | AJ93: =SUM(Ս.Մնոյան!#REF!+'Է. Կարապետյան'!#REF!+'Կ․Դավթյան'!#REF!+Ժ.Նազարյան!#REF!+Դ.Դաբաղյան!#REF!+Գ.Պողոսյան!#REF!) -> #REF! | AK93: =SUM(Ս.Մնոյան!#REF!+'Է. Կարապետյան'!#REF!+'Կ․Դավթյան'!#REF!+Ժ.Նազարյան!#REF!+Դ.Դաբաղյան!#REF!+Գ.Պողոսյան!#REF!) -> #REF! | AL93: =SUM(Ս.Մնոյան!#REF!+'Է. Կարապետյան'!#REF!+'Կ․Դավթյան'!#REF!+Ժ.Նազարյան!#REF!+Դ.Դաբաղյան!#REF!+Գ.Պողոսյան!#REF!) -> #REF! | AM93: =SUM(Ս.Մնոյան!#REF!+'Է. Կարապետյան'!#REF!+'Կ․Դավթյան'!#REF!+Ժ.Նազարյան!#REF!+Դ.Դաբաղյան!#REF!+Գ.Պողոսյան!#REF!) -> #REF! | AN93: =SUM(Ս.Մնոյան!#REF!+'Է. Կարապետյան'!#REF!+'Կ․Դավթյան'!#REF!+Ժ.Նազարյան!#REF!+Դ.Դաբաղյան!#REF!+Գ.Պողոսյան!#REF!) -> #REF! | AO93: =SUM(Ս.Մնոյան!#REF!+'Է. Կարապետյան'!#REF!+'Կ․Դավթյան'!#REF!+Ժ.Նազարյան!#REF!+Դ.Դաբաղյան!#REF!+Գ.Պողոսյան!#REF!) -> #REF!
A94: 7.11 | B94: Ընտրողների ցուցակները կազմելու, դրանք քաղաքացիներին կամ կուսակցություններին տրամադրելու կամ հրապարակելու կարգը խախտելը | C94: 213 | D94: =SUM(Ս.Մնոյան!D94+'Է. Կարապետյան'!D94+'Կ․Դավթյան'!D94+Ժ.Նազարյան!D94+Դ.Դաբաղյան!D94+Գ.Պողոսյան!D94) -> 0 | E94: =SUM(Ս.Մնոյան!E94+'Է. Կարապետյան'!E94+'Կ․Դավթյան'!E94+Ժ.Նազարյան!E94+Դ.Դաբաղյան!E94+Գ.Պողոսյան!E94) -> 0 | F94: =SUM(Ս.Մնոյան!F94+'Է. Կարապետյան'!F94+'Կ․Դավթյան'!F94+Ժ.Նազարյան!F94+Դ.Դաբաղյան!F94+Գ.Պողոսյան!F94) -> 0 | G94: =SUM(Ս.Մնոյան!G94+'Է. Կարապետյան'!G94+'Կ․Դավթյան'!G94+Ժ.Նազարյան!G94+Դ.Դաբաղյան!G94+Գ.Պողոսյան!G94) -> 0 | H94: =SUM(Ս.Մնոյան!H94+'Է. Կարապետյան'!H94+'Կ․Դավթյան'!H94+Ժ.Նազարյան!H94+Դ.Դաբաղյան!H94+Գ.Պողոսյան!H94) -> 0 | I94: =SUM(Ս.Մնոյան!I94+'Է. Կարապետյան'!I94+'Կ․Դավթյան'!I94+Ժ.Նազարյան!I94+Դ.Դաբաղյան!I94+Գ.Պողոսյան!I94) -> 0 | J94: =SUM(Ս.Մնոյան!J94+'Է. Կարապետյան'!J94+'Կ․Դավթյան'!J94+Ժ.Նազարյան!J94+Դ.Դաբաղյան!J94+Գ.Պողոսյան!J94) -> 0 | K94: =SUM(Ս.Մնոյան!K94+'Է. Կարապետյան'!K94+'Կ․Դավթյան'!K94+Ժ.Նազարյան!K94+Դ.Դաբաղյան!K94+Գ.Պողոսյան!K94) -> 0 | ... AG94: =SUM(Ս.Մնոյան!AG94+'Է. Կարապետյան'!AG94+'Կ․Դավթյան'!AG94+Ժ.Նազարյան!AG94+Դ.Դաբաղյան!AG94+Գ.Պողոսյան!AG94) -> 0 | AH94: =SUM(Ս.Մնոյան!#REF!+'Է. Կարապետյան'!#REF!+'Կ․Դավթյան'!#REF!+Ժ.Նազարյան!#REF!+Դ.Դաբաղյան!#REF!+Գ.Պողոսյան!#REF!) -> #REF! | AI94: =SUM(Ս.Մնոյան!#REF!+'Է. Կարապետյան'!#REF!+'Կ․Դավթյան'!#REF!+Ժ.Նազարյան!#REF!+Դ.Դաբաղյան!#REF!+Գ.Պողոսյան!#REF!) -> #REF! | AJ94: =SUM(Ս.Մնոյան!#REF!+'Է. Կարապետյան'!#REF!+'Կ․Դավթյան'!#REF!+Ժ.Նազարյան!#REF!+Դ.Դաբաղյան!#REF!+Գ.Պողոսյան!#REF!) -> #REF! | AK94: =SUM(Ս.Մնոյան!#REF!+'Է. Կարապետյան'!#REF!+'Կ․Դավթյան'!#REF!+Ժ.Նազարյան!#REF!+Դ.Դաբաղյան!#REF!+Գ.Պողոսյան!#REF!) -> #REF! | AL94: =SUM(Ս.Մնոյան!#REF!+'Է. Կարապետյան'!#REF!+'Կ․Դավթյան'!#REF!+Ժ.Նազարյան!#REF!+Դ.Դաբաղյան!#REF!+Գ.Պողոսյան!#REF!) -> #REF! | AM94: =SUM(Ս.Մնոյան!#REF!+'Է. Կարապետյան'!#REF!+'Կ․Դավթյան'!#REF!+Ժ.Նազարյան!#REF!+Դ.Դաբաղյան!#REF!+Գ.Պողոսյան!#REF!) -> #REF! | AN94: =SUM(Ս.Մնոյան!#REF!+'Է. Կարապետյան'!#REF!+'Կ․Դավթյան'!#REF!+Ժ.Նազարյան!#REF!+Դ.Դաբաղյան!#REF!+Գ.Պողոսյան!#REF!) -> #REF! | AO94: =SUM(Ս.Մնոյան!#REF!+'Է. Կարապետյան'!#REF!+'Կ․Դավթյան'!#REF!+Ժ.Նազարյան!#REF!+Դ.Դաբաղյան!#REF!+Գ.Պողոսյան!#REF!) -> #REF!
A95: 7.12 | B95: Մեկից ավելի անգամ կամ այլ անձի փոխարեն քվեարկելը | C95: 214 | D95: =SUM(Ս.Մնոյան!D95+'Է. Կարապետյան'!D95+'Կ․Դավթյան'!D95+Ժ.Նազարյան!D95+Դ.Դաբաղյան!D95+Գ.Պողոսյան!D95) -> 0 | E95: =SUM(Ս.Մնոյան!E95+'Է. Կարապետյան'!E95+'Կ․Դավթյան'!E95+Ժ.Նազարյան!E95+Դ.Դաբաղյան!E95+Գ.Պողոսյան!E95) -> 0 | F95: =SUM(Ս.Մնոյան!F95+'Է. Կարապետյան'!F95+'Կ․Դավթյան'!F95+Ժ.Նազարյան!F95+Դ.Դաբաղյան!F95+Գ.Պողոսյան!F95) -> 0 | G95: =SUM(Ս.Մնոյան!G95+'Է. Կարապետյան'!G95+'Կ․Դավթյան'!G95+Ժ.Նազարյան!G95+Դ.Դաբաղյան!G95+Գ.Պողոսյան!G95) -> 0 | H95: =SUM(Ս.Մնոյան!H95+'Է. Կարապետյան'!H95+'Կ․Դավթյան'!H95+Ժ.Նազարյան!H95+Դ.Դաբաղյան!H95+Գ.Պողոսյան!H95) -> 0 | I95: =SUM(Ս.Մնոյան!I95+'Է. Կարապետյան'!I95+'Կ․Դավթյան'!I95+Ժ.Նազարյան!I95+Դ.Դաբաղյան!I95+Գ.Պողոսյան!I95) -> 0 | J95: =SUM(Ս.Մնոյան!J95+'Է. Կարապետյան'!J95+'Կ․Դավթյան'!J95+Ժ.Նազարյան!J95+Դ.Դաբաղյան!J95+Գ.Պողոսյան!J95) -> 0 | K95: =SUM(Ս.Մնոյան!K95+'Է. Կարապետյան'!K95+'Կ․Դավթյան'!K95+Ժ.Նազարյան!K95+Դ.Դաբաղյան!K95+Գ.Պողոսյան!K95) -> 0 | ... AG95: =SUM(Ս.Մնոյան!AG95+'Է. Կարապետյան'!AG95+'Կ․Դավթյան'!AG95+Ժ.Նազարյան!AG95+Դ.Դաբաղյան!AG95+Գ.Պողոսյան!AG95) -> 0 | AH95: =SUM(Ս.Մնոյան!#REF!+'Է. Կարապետյան'!#REF!+'Կ․Դավթյան'!#REF!+Ժ.Նազարյան!#REF!+Դ.Դաբաղյան!#REF!+Գ.Պողոսյան!#REF!) -> #REF! | AI95: =SUM(Ս.Մնոյան!#REF!+'Է. Կարապետյան'!#REF!+'Կ․Դավթյան'!#REF!+Ժ.Նազարյան!#REF!+Դ.Դաբաղյան!#REF!+Գ.Պողոսյան!#REF!) -> #REF! | AJ95: =SUM(Ս.Մնոյան!#REF!+'Է. Կարապետյան'!#REF!+'Կ․Դավթյան'!#REF!+Ժ.Նազարյան!#REF!+Դ.Դաբաղյան!#REF!+Գ.Պողոսյան!#REF!) -> #REF! | AK95: =SUM(Ս.Մնոյան!#REF!+'Է. Կարապետյան'!#REF!+'Կ․Դավթյան'!#REF!+Ժ.Նազարյան!#REF!+Դ.Դաբաղյան!#REF!+Գ.Պողոսյան!#REF!) -> #REF! | AL95: =SUM(Ս.Մնոյան!#REF!+'Է. Կարապետյան'!#REF!+'Կ․Դավթյան'!#REF!+Ժ.Նազարյան!#REF!+Դ.Դաբաղյան!#REF!+Գ.Պողոսյան!#REF!) -> #REF! | AM95: =SUM(Ս.Մնոյան!#REF!+'Է. Կարապետյան'!#REF!+'Կ․Դավթյան'!#REF!+Ժ.Նազարյան!#REF!+Դ.Դաբաղյան!#REF!+Գ.Պողոսյան!#REF!) -> #REF! | AN95: =SUM(Ս.Մնոյան!#REF!+'Է. Կարապետյան'!#REF!+'Կ․Դավթյան'!#REF!+Ժ.Նազարյան!#REF!+Դ.Դաբաղյան!#REF!+Գ.Պողոսյան!#REF!) -> #REF! | AO95: =SUM(Ս.Մնոյան!#REF!+'Է. Կարապետյան'!#REF!+'Կ․Դավթյան'!#REF!+Ժ.Նազարյան!#REF!+Դ.Դաբաղյան!#REF!+Գ.Պողոսյան!#REF!) -> #REF!
A96: 7.13 | B96: Քվեարկության գաղտնիությունը խախտելը | C96: 215 | D96: =SUM(Ս.Մնոյան!D96+'Է. Կարապետյան'!D96+'Կ․Դավթյան'!D96+Ժ.Նազարյան!D96+Դ.Դաբաղյան!D96+Գ.Պողոսյան!D96) -> 0 | E96: =SUM(Ս.Մնոյան!E96+'Է. Կարապետյան'!E96+'Կ․Դավթյան'!E96+Ժ.Նազարյան!E96+Դ.Դաբաղյան!E96+Գ.Պողոսյան!E96) -> 0 | F96: =SUM(Ս.Մնոյան!F96+'Է. Կարապետյան'!F96+'Կ․Դավթյան'!F96+Ժ.Նազարյան!F96+Դ.Դաբաղյան!F96+Գ.Պողոսյան!F96) -> 0 | G96: =SUM(Ս.Մնոյան!G96+'Է. Կարապետյան'!G96+'Կ․Դավթյան'!G96+Ժ.Նազարյան!G96+Դ.Դաբաղյան!G96+Գ.Պողոսյան!G96) -> 0 | H96: =SUM(Ս.Մնոյան!H96+'Է. Կարապետյան'!H96+'Կ․Դավթյան'!H96+Ժ.Նազարյան!H96+Դ.Դաբաղյան!H96+Գ.Պողոսյան!H96) -> 0 | I96: =SUM(Ս.Մնոյան!I96+'Է. Կարապետյան'!I96+'Կ․Դավթյան'!I96+Ժ.Նազարյան!I96+Դ.Դաբաղյան!I96+Գ.Պողոսյան!I96) -> 0 | J96: =SUM(Ս.Մնոյան!J96+'Է. Կարապետյան'!J96+'Կ․Դավթյան'!J96+Ժ.Նազարյան!J96+Դ.Դաբաղյան!J96+Գ.Պողոսյան!J96) -> 0 | K96: =SUM(Ս.Մնոյան!K96+'Է. Կարապետյան'!K96+'Կ․Դավթյան'!K96+Ժ.Նազարյան!K96+Դ.Դաբաղյան!K96+Գ.Պողոսյան!K96) -> 0 | ... AG96: =SUM(Ս.Մնոյան!AG96+'Է. Կարապետյան'!AG96+'Կ․Դավթյան'!AG96+Ժ.Նազարյան!AG96+Դ.Դաբաղյան!AG96+Գ.Պողոսյան!AG96) -> 0 | AH96: =SUM(Ս.Մնոյան!#REF!+'Է. Կարապետյան'!#REF!+'Կ․Դավթյան'!#REF!+Ժ.Նազարյան!#REF!+Դ.Դաբաղյան!#REF!+Գ.Պողոսյան!#REF!) -> #REF! | AI96: =SUM(Ս.Մնոյան!#REF!+'Է. Կարապետյան'!#REF!+'Կ․Դավթյան'!#REF!+Ժ.Նազարյան!#REF!+Դ.Դաբաղյան!#REF!+Գ.Պողոսյան!#REF!) -> #REF! | AJ96: =SUM(Ս.Մնոյան!#REF!+'Է. Կարապետյան'!#REF!+'Կ․Դավթյան'!#REF!+Ժ.Նազարյան!#REF!+Դ.Դաբաղյան!#REF!+Գ.Պողոսյան!#REF!) -> #REF! | AK96: =SUM(Ս.Մնոյան!#REF!+'Է. Կարապետյան'!#REF!+'Կ․Դավթյան'!#REF!+Ժ.Նազարյան!#REF!+Դ.Դաբաղյան!#REF!+Գ.Պողոսյան!#REF!) -> #REF! | AL96: =SUM(Ս.Մնոյան!#REF!+'Է. Կարապետյան'!#REF!+'Կ․Դավթյան'!#REF!+Ժ.Նազարյան!#REF!+Դ.Դաբաղյան!#REF!+Գ.Պողոսյան!#REF!) -> #REF! | AM96: =SUM(Ս.Մնոյան!#REF!+'Է. Կարապետյան'!#REF!+'Կ․Դավթյան'!#REF!+Ժ.Նազարյան!#REF!+Դ.Դաբաղյան!#REF!+Գ.Պողոսյան!#REF!) -> #REF! | AN96: =SUM(Ս.Մնոյան!#REF!+'Է. Կարապետյան'!#REF!+'Կ․Դավթյան'!#REF!+Ժ.Նազարյան!#REF!+Դ.Դաբաղյան!#REF!+Գ.Պողոսյան!#REF!) -> #REF! | AO96: =SUM(Ս.Մնոյան!#REF!+'Է. Կարապետյան'!#REF!+'Կ․Դավթյան'!#REF!+Ժ.Նազարյան!#REF!+Դ.Դաբաղյան!#REF!+Գ.Պողոսյան!#REF!) -> #REF!
A97: 7.14 | B97: Կեղծ ընտրական քվեաթերթիկներ կամ քվեարկության ծրարներ, դրոշմանիշներ, կտրոններ պատրաստելը կամ ակնհայտ կեղծ ընտրական քվեաթերթիկներ կամ քվեարկության ծրարներ, դրոշմանիշներ, կտրոններ հանձնելը կամ դրանք իրացնելը | C97: 216 | D97: =SUM(Ս.Մնոյան!D97+'Է. Կարապետյան'!D97+'Կ․Դավթյան'!D97+Ժ.Նազարյան!D97+Դ.Դաբաղյան!D97+Գ.Պողոսյան!D97) -> 0 | E97: =SUM(Ս.Մնոյան!E97+'Է. Կարապետյան'!E97+'Կ․Դավթյան'!E97+Ժ.Նազարյան!E97+Դ.Դաբաղյան!E97+Գ.Պողոսյան!E97) -> 0 | F97: =SUM(Ս.Մնոյան!F97+'Է. Կարապետյան'!F97+'Կ․Դավթյան'!F97+Ժ.Նազարյան!F97+Դ.Դաբաղյան!F97+Գ.Պողոսյան!F97) -> 0 | G97: =SUM(Ս.Մնոյան!G97+'Է. Կարապետյան'!G97+'Կ․Դավթյան'!G97+Ժ.Նազարյան!G97+Դ.Դաբաղյան!G97+Գ.Պողոսյան!G97) -> 0 | H97: =SUM(Ս.Մնոյան!H97+'Է. Կարապետյան'!H97+'Կ․Դավթյան'!H97+Ժ.Նազարյան!H97+Դ.Դաբաղյան!H97+Գ.Պողոսյան!H97) -> 0 | I97: =SUM(Ս.Մնոյան!I97+'Է. Կարապետյան'!I97+'Կ․Դավթյան'!I97+Ժ.Նազարյան!I97+Դ.Դաբաղյան!I97+Գ.Պողոսյան!I97) -> 0 | J97: =SUM(Ս.Մնոյան!J97+'Է. Կարապետյան'!J97+'Կ․Դավթյան'!J97+Ժ.Նազարյան!J97+Դ.Դաբաղյան!J97+Գ.Պողոսյան!J97) -> 0 | K97: =SUM(Ս.Մնոյան!K97+'Է. Կարապետյան'!K97+'Կ․Դավթյան'!K97+Ժ.Նազարյան!K97+Դ.Դաբաղյան!K97+Գ.Պողոսյան!K97) -> 0 | ... AG97: =SUM(Ս.Մնոյան!AG97+'Է. Կարապետյան'!AG97+'Կ․Դավթյան'!AG97+Ժ.Նազարյան!AG97+Դ.Դաբաղյան!AG97+Գ.Պողոսյան!AG97) -> 0 | AH97: =SUM(Ս.Մնոյան!#REF!+'Է. Կարապետյան'!#REF!+'Կ․Դավթյան'!#REF!+Ժ.Նազարյան!#REF!+Դ.Դաբաղյան!#REF!+Գ.Պողոսյան!#REF!) -> #REF! | AI97: =SUM(Ս.Մնոյան!#REF!+'Է. Կարապետյան'!#REF!+'Կ․Դավթյան'!#REF!+Ժ.Նազարյան!#REF!+Դ.Դաբաղյան!#REF!+Գ.Պողոսյան!#REF!) -> #REF! | AJ97: =SUM(Ս.Մնոյան!#REF!+'Է. Կարապետյան'!#REF!+'Կ․Դավթյան'!#REF!+Ժ.Նազարյան!#REF!+Դ.Դաբաղյան!#REF!+Գ.Պողոսյան!#REF!) -> #REF! | AK97: =SUM(Ս.Մնոյան!#REF!+'Է. Կարապետյան'!#REF!+'Կ․Դավթյան'!#REF!+Ժ.Նազարյան!#REF!+Դ.Դաբաղյան!#REF!+Գ.Պողոսյան!#REF!) -> #REF! | AL97: =SUM(Ս.Մնոյան!#REF!+'Է. Կարապետյան'!#REF!+'Կ․Դավթյան'!#REF!+Ժ.Նազարյան!#REF!+Դ.Դաբաղյան!#REF!+Գ.Պողոսյան!#REF!) -> #REF! | AM97: =SUM(Ս.Մնոյան!#REF!+'Է. Կարապետյան'!#REF!+'Կ․Դավթյան'!#REF!+Ժ.Նազարյան!#REF!+Դ.Դաբաղյան!#REF!+Գ.Պողոսյան!#REF!) -> #REF! | AN97: =SUM(Ս.Մնոյան!#REF!+'Է. Կարապետյան'!#REF!+'Կ․Դավթյան'!#REF!+Ժ.Նազարյան!#REF!+Դ.Դաբաղյան!#REF!+Գ.Պողոսյան!#REF!) -> #REF! | AO97: =SUM(Ս.Մնոյան!#REF!+'Է. Կարապետյան'!#REF!+'Կ․Դավթյան'!#REF!+Ժ.Նազարյան!#REF!+Դ.Դաբաղյան!#REF!+Գ.Պողոսյան!#REF!) -> #REF!
A98: 7.15 | B98: Ընտրական գործընթացի պատշաճ կազմակերպման համար անհրաժեշտ առարկաները հափշտակելը | C98: 217 | D98: =SUM(Ս.Մնոյան!D98+'Է. Կարապետյան'!D98+'Կ․Դավթյան'!D98+Ժ.Նազարյան!D98+Դ.Դաբաղյան!D98+Գ.Պողոսյան!D98) -> 0 | E98: =SUM(Ս.Մնոյան!E98+'Է. Կարապետյան'!E98+'Կ․Դավթյան'!E98+Ժ.Նազարյան!E98+Դ.Դաբաղյան!E98+Գ.Պողոսյան!E98) -> 0 | F98: =SUM(Ս.Մնոյան!F98+'Է. Կարապետյան'!F98+'Կ․Դավթյան'!F98+Ժ.Նազարյան!F98+Դ.Դաբաղյան!F98+Գ.Պողոսյան!F98) -> 0 | G98: =SUM(Ս.Մնոյան!G98+'Է. Կարապետյան'!G98+'Կ․Դավթյան'!G98+Ժ.Նազարյան!G98+Դ.Դաբաղյան!G98+Գ.Պողոսյան!G98) -> 0 | H98: =SUM(Ս.Մնոյան!H98+'Է. Կարապետյան'!H98+'Կ․Դավթյան'!H98+Ժ.Նազարյան!H98+Դ.Դաբաղյան!H98+Գ.Պողոսյան!H98) -> 0 | I98: =SUM(Ս.Մնոյան!I98+'Է. Կարապետյան'!I98+'Կ․Դավթյան'!I98+Ժ.Նազարյան!I98+Դ.Դաբաղյան!I98+Գ.Պողոսյան!I98) -> 0 | J98: =SUM(Ս.Մնոյան!J98+'Է. Կարապետյան'!J98+'Կ․Դավթյան'!J98+Ժ.Նազարյան!J98+Դ.Դաբաղյան!J98+Գ.Պողոսյան!J98) -> 0 | K98: =SUM(Ս.Մնոյան!K98+'Է. Կարապետյան'!K98+'Կ․Դավթյան'!K98+Ժ.Նազարյան!K98+Դ.Դաբաղյան!K98+Գ.Պողոսյան!K98) -> 0 | ... AG98: =SUM(Ս.Մնոյան!AG98+'Է. Կարապետյան'!AG98+'Կ․Դավթյան'!AG98+Ժ.Նազարյան!AG98+Դ.Դաբաղյան!AG98+Գ.Պողոսյան!AG98) -> 0 | AH98: =SUM(Ս.Մնոյան!#REF!+'Է. Կարապետյան'!#REF!+'Կ․Դավթյան'!#REF!+Ժ.Նազարյան!#REF!+Դ.Դաբաղյան!#REF!+Գ.Պողոսյան!#REF!) -> #REF! | AI98: =SUM(Ս.Մնոյան!#REF!+'Է. Կարապետյան'!#REF!+'Կ․Դավթյան'!#REF!+Ժ.Նազարյան!#REF!+Դ.Դաբաղյան!#REF!+Գ.Պողոսյան!#REF!) -> #REF! | AJ98: =SUM(Ս.Մնոյան!#REF!+'Է. Կարապետյան'!#REF!+'Կ․Դավթյան'!#REF!+Ժ.Նազարյան!#REF!+Դ.Դաբաղյան!#REF!+Գ.Պողոսյան!#REF!) -> #REF! | AK98: =SUM(Ս.Մնոյան!#REF!+'Է. Կարապետյան'!#REF!+'Կ․Դավթյան'!#REF!+Ժ.Նազարյան!#REF!+Դ.Դաբաղյան!#REF!+Գ.Պողոսյան!#REF!) -> #REF! | AL98: =SUM(Ս.Մնոյան!#REF!+'Է. Կարապետյան'!#REF!+'Կ․Դավթյան'!#REF!+Ժ.Նազարյան!#REF!+Դ.Դաբաղյան!#REF!+Գ.Պողոսյան!#REF!) -> #REF! | AM98: =SUM(Ս.Մնոյան!#REF!+'Է. Կարապետյան'!#REF!+'Կ․Դավթյան'!#REF!+Ժ.Նազարյան!#REF!+Դ.Դաբաղյան!#REF!+Գ.Պողոսյան!#REF!) -> #REF! | AN98: =SUM(Ս.Մնոյան!#REF!+'Է. Կարապետյան'!#REF!+'Կ․Դավթյան'!#REF!+Ժ.Նազարյան!#REF!+Դ.Դաբաղյան!#REF!+Գ.Պողոսյան!#REF!) -> #REF! | AO98: =SUM(Ս.Մնոյան!#REF!+'Է. Կարապետյան'!#REF!+'Կ․Դավթյան'!#REF!+Ժ.Նազարյան!#REF!+Դ.Դաբաղյան!#REF!+Գ.Պողոսյան!#REF!) -> #REF!
