Workbook

Sheet Արագածոտնի մարզի ԱԱԸԻ դատարան
B1: 2025 թվականի տարեկան | AD1: Հավելված 2 Բարձրագույն դատական խորհրդի 2022թվականի դեկտեմբերի 26-ի թիվ ԲԴԽ-122-Ո-408 որոշման
A2: ԹՎԱԿԱՆԻ ՏԱՐԵԿԱՆ ՀԱՇՎԵՏՎՈՒԹՅՈՒՆ ՀՀ ԱՌԱՋԻՆ ԱՏՅԱՆԻ ԸՆԴՀԱՆՈՒՐ ԻՐԱՎԱՍՈՒԹՅԱՆ ԴԱՏԱՐԱՆԻ ԴԱՏԱՎՈՐ --- ԳՈՐԾՈՒՆԵՈՒԹՅԱՆ ՎԵՐԱԲԵՐՅԱԼ
A3: Ստուգիչ հավասարումներ` 1+3=4+12+17+19, 12= 9+10+11, 25=21+22+23+24, 30=26+27+28+29 | C3: ՀՀ քրեական օրենսգրքի հոդվածներ | D3: Հաշվետու ժամանակահատվածի սկզբում նախորդ հաշվետու ժամանակահատվածից փոխանցված գործերի ընդհանուր թիվը | E3: Այդ թվում` կասեցված վիճակում փոխանցված | F3: Հաշվետու ժամանակահատվածում ստացված գործերի ընդհանուր թիվը | G3: փոխանցվել թ այլ դատավորի (վերաբաշխում) | H3: Որոշում է կայացվել քրեական գործը վերադարձնել հսկող դատախազին | I3: քանի գործով է կիրառվել համաձայնեցման վարույթ | J3: քանի գործով է կիրառվել համագործակցության վարույթ | K3: Հաշվետու ժամանակաշրջանում կայացվել է վերդիկտ | L3: Հաշվետու ժամանակաշրջանում կայացվել է դատավճիռ | M3: քրեական վարույթը կարճելու մաuին որոշում | N3: Հաշվետու ժամանակաշրջանում կայացվել է բժշկական հարկադրանքի դատավճիռ /ՀՀ ՔՐ. ԴԱՏ. ՕՐ. 432-ՐԴ ՀՈԴՎԱԾ/ | O3: ընդամենը | P3: Հաշվետու ժամանակահատվածում ավարտված գործերի ընդհանուր թիվը /ՀՀ ՔՐ. ԴԱՏ. ՕՐ. 14-ՐԴ ՀՈԴՎԱԾ/ | T3: Ուղարկվել է ըստ ընդդատության | U3: Հաշվետու ժամանակահատվածում կասեցված վարույթներով գործերի ընդհանուր թիվը | V3: Հաշվետու ժամանակահատվածում անավարտ գործերի ընդհանուր թիվը | W3: Այդ թվում՝ կասեցված | X3: Բողոքարկված վարութային ակտերի թիվը` ըստ տեսակների | AB3: ընդամենը բողոքարկվել են ակտեր | AC3: Բեկանված և փոփոխված ակտերի թիվը` ըստ տեսակների | AG3: ընդամենը բեկանվել են ակտեր
P4: քրեական վարույթը կարճելու մաuին որոշումն ուժի մեջ մտնելով. | Q4: Եզրափակիչ դատական ակտն ուժի մեջ է մտել | R4: Եզրափակիչ դատական ակտը հանձնվել է կատարման | S4: ավարտվել են քրեական գործեր | X4: Այդ թվում` եզրափակիչ դատական ակտերը | Z4: Այդ թվում` եզրափակիչ դատավարական ակտերը | AC4: Այդ թվում` եզրափակիչ դատական ակտերը | AE4: Այդ թվում` եզրափակիչ դատավարական ակտերը
X5: նախորդ տարիների կայացված ակտերի բողոքարկումը | Y5: հաշվետու ժամանակահատվածում կայացված ակտերի բողոքարկումը | Z5: նախորդ տարիների կայացված ակտերի բողոքարկումը | AA5: հաշվետու ժամանակահատվածում կայացված ակտերի բողոքարկումը | AC5: նախորդ տարիների կայացված ակտերի բողոքարկումը | AD5: հաշվետու ժամանակահատվածում կայացված ակտերի բողոքարկումը | AE5: նախորդ տարիների կայացված ակտերի բողոքարկումը | AF5: հաշվետու ժամանակահատվածում կայացված ակտերի բողոքարկումը | AH5: 1+3 | AI5: 4+12+17+19 | AJ5: 12 | AK5: 9+10+11 | AL5: 25 | AM5: 21+22+23+24 | AN5: 30 | AO5: 26+27+28+29
D6: 1 | E6: 2 | F6: 3 | G6: 4 | H6: 5 | I6: 6 | J6: 7 | K6: 8 | L6: 9 | M6: 10 | N6: 11 | O6: 12 | P6: 13 | Q6: 14 | R6: 15 | S6: 16 | T6: 17 | U6: 18 | V6: 19 | W6: 20 | X6: 21 | Y6: 22 | Z6: 23 | AA6: 24 | AB6: 25 | AC6: 26 | AD6: 27 | AE6: 28 | AF6: 29 | AG6: 30
A7: 1. | B7: Ընդամենը խաղաղության և մարդկության անվտանգության դեմ ուղղված հանցագործությունները | D7: =SUM(Ս.Մնոյան!D7+'Է. Կարապետյան'!D7+'Կ․Դավթյան'!D7+Ժ.Նազարյան!D7+Դ.Դաբաղյան!D7+Գ.Պողոսյան!D7) -> 0 | E7: =SUM(Ս.Մնոյան!E7+'Է. Կարապետյան'!E7+'Կ․Դավթյան'!E7+Ժ.Նազարյան!E7+Դ.Դաբաղյան!E7+Գ.Պողոսյան!E7) -> 0 | F7: =SUM(Ս.Մնոյան!F7+'Է. Կարապետյան'!F7+'Կ․Դավթյան'!F7+Ժ.Նազարյան!F7+Դ.Դաբաղյան!F7+Գ.Պողոսյան!F7) -> 0 | G7: =SUM(Ս.Մնոյան!G7+'Է. Կարապետյան'!G7+'Կ․Դավթյան'!G7+Ժ.Նազարյան!G7+Դ.Դաբաղյան!G7+Գ.Պողոսյան!G7) -> 0 | H7: =SUM(Ս.Մնոյան!H7+'Է. Կարապետյան'!H7+'Կ․Դավթյան'!H7+Ժ.Նազարյան!H7+Դ.Դաբաղյան!H7+Գ.Պողոսյան!H7) -> 0 | I7: =SUM(Ս.Մնոյան!I7+'Է. Կարապետյան'!I7+'Կ․Դավթյան'!I7+Ժ.Նազարյան!I7+Դ.Դաբաղյան!I7+Գ.Պողոսյան!I7) -> 0 | J7: =SUM(Ս.Մնոյան!J7+'Է. Կարապետյան'!J7+'Կ․Դավթյան'!J7+Ժ.Նազարյան!J7+Դ.Դաբաղյան!J7+Գ.Պողոսյան!J7) -> 0 | K7: =SUM(Ս.Մնոյան!K7+'Է. Կարապետյան'!K7+'Կ․Դավթյան'!K7+Ժ.Նազարյան!K7+Դ.Դաբաղյան!K7+Գ.Պողոսյան!K7) -> 0 | ... AG7: =SUM(Ս.Մնոյան!AG7+'Է. Կարապետյան'!AG7+'Կ․Դավթյան'!AG7+Ժ.Նազարյան!AG7+Դ.Դաբաղյան!AG7+Գ.Պողոսյան!AG7) -> 0 | AH7: =SUM(Ս.Մնոյան!#REF!+'Է. Կարապետյան'!#REF!+'Կ․Դավթյան'!#REF!+Ժ.Նազարյան!#REF!+Դ.Դաբաղյան!#REF!+Գ.Պողոսյան!#REF!) -> #REF! | AI7: =SUM(Ս.Մնոյան!#REF!+'Է. Կարապետյան'!#REF!+'Կ․Դավթյան'!#REF!+Ժ.Նազարյան!#REF!+Դ.Դաբաղյան!#REF!+Գ.Պողոսյան!#REF!) -> #REF! | AJ7: =SUM(Ս.Մնոյան!#REF!+'Է. Կարապետյան'!#REF!+'Կ․Դավթյան'!#REF!+Ժ.Նազարյան!#REF!+Դ.Դաբաղյան!#REF!+Գ.Պողոսյան!#REF!) -> #REF! | AK7: =SUM(Ս.Մնոյան!#REF!+'Է. Կարապետյան'!#REF!+'Կ․Դավթյան'!#REF!+Ժ.Նազարյան!#REF!+Դ.Դաբաղյան!#REF!+Գ.Պողոսյան!#REF!) -> #REF! | AL7: =SUM(Ս.Մնոյան!#REF!+'Է. Կարապետյան'!#REF!+'Կ․Դավթյան'!#REF!+Ժ.Նազարյան!#REF!+Դ.Դաբաղյան!#REF!+Գ.Պողոսյան!#REF!) -> #REF! | AM7: =SUM(Ս.Մնոյան!#REF!+'Է. Կարապետյան'!#REF!+'Կ․Դավթյան'!#REF!+Ժ.Նազարյան!#REF!+Դ.Դաբաղյան!#REF!+Գ.Պողոսյան!#REF!) -> #REF! | AN7: =SUM(Ս.Մնոյան!#REF!+'Է. Կարապետյան'!#REF!+'Կ․Դավթյան'!#REF!+Ժ.Նազարյան!#REF!+Դ.Դաբաղյան!#REF!+Գ.Պողոսյան!#REF!) -> #REF! | AO7: =SUM(Ս.Մնոյան!#REF!+'Է. Կարապետյան'!#REF!+'Կ․Դավթյան'!#REF!+Ժ.Նազարյան!#REF!+Դ.Դաբաղյան!#REF!+Գ.Պողոսյան!#REF!) -> #REF!
A8: 1.1 | B8: Ցեղասպանությունը | C8: 133 | D8: =SUM(Ս.Մնոյան!D8+'Է. Կարապետյան'!D8+'Կ․Դավթյան'!D8+Ժ.Նազարյան!D8+Դ.Դաբաղյան!D8+Գ.Պողոսյան!D8) -> 0 | E8: =SUM(Ս.Մնոյան!E8+'Է. Կարապետյան'!E8+'Կ․Դավթյան'!E8+Ժ.Նազարյան!E8+Դ.Դաբաղյան!E8+Գ.Պողոսյան!E8) -> 0 | F8: =SUM(Ս.Մնոյան!F8+'Է. Կարապետյան'!F8+'Կ․Դավթյան'!F8+Ժ.Նազարյան!F8+Դ.Դաբաղյան!F8+Գ.Պողոսյան!F8) -> 0 | G8: =SUM(Ս.Մնոյան!G8+'Է. Կարապետյան'!G8+'Կ․Դավթյան'!G8+Ժ.Նազարյան!G8+Դ.Դաբաղյան!G8+Գ.Պողոսյան!G8) -> 0 | H8: =SUM(Ս.Մնոյան!H8+'Է. Կարապետյան'!H8+'Կ․Դավթյան'!H8+Ժ.Նազարյան!H8+Դ.Դաբաղյան!H8+Գ.Պողոսյան!H8) -> 0 | I8: =SUM(Ս.Մնոյան!I8+'Է. Կարապետյան'!I8+'Կ․Դավթյան'!I8+Ժ.Նազարյան!I8+Դ.Դաբաղյան!I8+Գ.Պողոսյան!I8) -> 0 | J8: =SUM(Ս.Մնոյան!J8+'Է. Կարապետյան'!J8+'Կ․Դավթյան'!J8+Ժ.Նազարյան!J8+Դ.Դաբաղյան!J8+Գ.Պողոսյան!J8) -> 0 | K8: =SUM(Ս.Մնոյան!K8+'Է. Կարապետյան'!K8+'Կ․Դավթյան'!K8+Ժ.Նազարյան!K8+Դ.Դաբաղյան!K8+Գ.Պողոսյան!K8) -> 0 | ... AG8: =SUM(Ս.Մնոյան!AG8+'Է. Կարապետյան'!AG8+'Կ․Դավթյան'!AG8+Ժ.Նազարյան!AG8+Դ.Դաբաղյան!AG8+Գ.Պողոսյան!AG8) -> 0 | AH8: =SUM(Ս.Մնոյան!#REF!+'Է. Կարապետյան'!#REF!+'Կ․Դավթյան'!#REF!+Ժ.Նազարյան!#REF!+Դ.Դաբաղյան!#REF!+Գ.Պողոսյան!#REF!) -> #REF! | AI8: =SUM(Ս.Մնոյան!#REF!+'Է. Կարապետյան'!#REF!+'Կ․Դավթյան'!#REF!+Ժ.Նազարյան!#REF!+Դ.Դաբաղյան!#REF!+Գ.Պողոսյան!#REF!) -> #REF! | AJ8: =SUM(Ս.Մնոյան!#REF!+'Է. Կարապետյան'!#REF!+'Կ․Դավթյան'!#REF!+Ժ.Նազարյան!#REF!+Դ.Դաբաղյան!#REF!+Գ.Պողոսյան!#REF!) -> #REF! | AK8: =SUM(Ս.Մնոյան!#REF!+'Է. Կարապետյան'!#REF!+'Կ․Դավթյան'!#REF!+Ժ.Նազարյան!#REF!+Դ.Դաբաղյան!#REF!+Գ.Պողոսյան!#REF!) -> #REF! | AL8: =SUM(Ս.Մնոյան!#REF!+'Է. Կարապետյան'!#REF!+'Կ․Դավթյան'!#REF!+Ժ.Նազարյան!#REF!+Դ.Դաբաղյան!#REF!+Գ.Պողոսյան!#REF!) -> #REF! | AM8: =SUM(Ս.Մնոյան!#REF!+'Է. Կարապետյան'!#REF!+'Կ․Դավթյան'!#REF!+Ժ.Նազարյան!#REF!+Դ.Դաբաղյան!#REF!+Գ.Պողոսյան!#REF!) -> #REF! | AN8: =SUM(Ս.Մնոյան!#REF!+'Է. Կարապետյան'!#REF!+'Կ․Դավթյան'!#REF!+Ժ.Նազարյան!#REF!+Դ.Դաբաղյան!#REF!+Գ.Պողոսյան!#REF!) -> #REF! | AO8: =SUM(Ս.Մնոյան!#REF!+'Է. Կարապետյան'!#REF!+'Կ․Դավթյան'!#REF!+Ժ.Նազարյան!#REF!+Դ.Դաբաղյան!#REF!+Գ.Պողոսյան!#REF!) -> #REF!
A9: 1.2 | B9: Ցեղասպանության ուղղակի և հրապարակային հրահրումը | C9: 134 | D9: =SUM(Ս.Մնոյան!D9+'Է. Կարապետյան'!D9+'Կ․Դավթյան'!D9+Ժ.Նազարյան!D9+Դ.Դաբաղյան!D9+Գ.Պողոսյան!D9) -> 0 | E9: =SUM(Ս.Մնոյան!E9+'Է. Կարապետյան'!E9+'Կ․Դավթյան'!E9+Ժ.Նազարյան!E9+Դ.Դաբաղյան!E9+Գ.Պողոսյան!E9) -> 0 | F9: =SUM(Ս.Մնոյան!F9+'Է. Կարապետյան'!F9+'Կ․Դավթյան'!F9+Ժ.Նազարյան!F9+Դ.Դաբաղյան!F9+Գ.Պողոսյան!F9) -> 0 | G9: =SUM(Ս.Մնոյան!G9+'Է. Կարապետյան'!G9+'Կ․Դավթյան'!G9+Ժ.Նազարյան!G9+Դ.Դաբաղյան!G9+Գ.Պողոսյան!G9) -> 0 | H9: =SUM(Ս.Մնոյան!H9+'Է. Կարապետյան'!H9+'Կ․Դավթյան'!H9+Ժ.Նազարյան!H9+Դ.Դաբաղյան!H9+Գ.Պողոսյան!H9) -> 0 | I9: =SUM(Ս.Մնոյան!I9+'Է. Կարապետյան'!I9+'Կ․Դավթյան'!I9+Ժ.Նազարյան!I9+Դ.Դաբաղյան!I9+Գ.Պողոսյան!I9) -> 0 | J9: =SUM(Ս.Մնոյան!J9+'Է. Կարապետյան'!J9+'Կ․Դավթյան'!J9+Ժ.Նազարյան!J9+Դ.Դաբաղյան!J9+Գ.Պողոսյան!J9) -> 0 | K9: =SUM(Ս.Մնոյան!K9+'Է. Կարապետյան'!K9+'Կ․Դավթյան'!K9+Ժ.Նազարյան!K9+Դ.Դաբաղյան!K9+Գ.Պողոսյան!K9) -> 0 | ... AG9: =SUM(Ս.Մնոյան!AG9+'Է. Կարապետյան'!AG9+'Կ․Դավթյան'!AG9+Ժ.Նազարյան!AG9+Դ.Դաբաղյան!AG9+Գ.Պողոսյան!AG9) -> 0 | AH9: =SUM(Ս.Մնոյան!#REF!+'Է. Կարապետյան'!#REF!+'Կ․Դավթյան'!#REF!+Ժ.Նազարյան!#REF!+Դ.Դաբաղյան!#REF!+Գ.Պողոսյան!#REF!) -> #REF! | AI9: =SUM(Ս.Մնոյան!#REF!+'Է. Կարապետյան'!#REF!+'Կ․Դավթյան'!#REF!+Ժ.Նազարյան!#REF!+Դ.Դաբաղյան!#REF!+Գ.Պողոսյան!#REF!) -> #REF! | AJ9: =SUM(Ս.Մնոյան!#REF!+'Է. Կարապետյան'!#REF!+'Կ․Դավթյան'!#REF!+Ժ.Նազարյան!#REF!+Դ.Դաբաղյան!#REF!+Գ.Պողոսյան!#REF!) -> #REF! | AK9: =SUM(Ս.Մնոյան!#REF!+'Է. Կարապետյան'!#REF!+'Կ․Դավթյան'!#REF!+Ժ.Նազարյան!#REF!+Դ.Դաբաղյան!#REF!+Գ.Պողոսյան!#REF!) -> #REF! | AL9: =SUM(Ս.Մնոյան!#REF!+'Է. Կարապետյան'!#REF!+'Կ․Դավթյան'!#REF!+Ժ.Նազարյան!#REF!+Դ.Դաբաղյան!#REF!+Գ.Պողոսյան!#REF!) -> #REF! | AM9: =SUM(Ս.Մնոյան!#REF!+'Է. Կարապետյան'!#REF!+'Կ․Դավթյան'!#REF!+Ժ.Նազարյան!#REF!+Դ.Դաբաղյան!#REF!+Գ.Պողոսյան!#REF!) -> #REF! | AN9: =SUM(Ս.Մնոյան!#REF!+'Է. Կարապետյան'!#REF!+'Կ․Դավթյան'!#REF!+Ժ.Նազարյան!#REF!+Դ.Դաբաղյան!#REF!+Գ.Պողոսյան!#REF!) -> #REF! | AO9: =SUM(Ս.Մնոյան!#REF!+'Է. Կարապետյան'!#REF!+'Կ․Դավթյան'!#REF!+Ժ.Նազարյան!#REF!+Դ.Դաբաղյան!#REF!+Գ.Պողոսյան!#REF!) -> #REF!
A10: 1.3 | B10: Մարդկայնության դեմ ուղղված հանցագործությունները | C10: 135 | D10: =SUM(Ս.Մնոյան!D10+'Է. Կարապետյան'!D10+'Կ․Դավթյան'!D10+Ժ.Նազարյան!D10+Դ.Դաբաղյան!D10+Գ.Պողոսյան!D10) -> 0 | E10: =SUM(Ս.Մնոյան!E10+'Է. Կարապետյան'!E10+'Կ․Դավթյան'!E10+Ժ.Նազարյան!E10+Դ.Դաբաղյան!E10+Գ.Պողոսյան!E10) -> 0 | F10: =SUM(Ս.Մնոյան!F10+'Է. Կարապետյան'!F10+'Կ․Դավթյան'!F10+Ժ.Նազարյան!F10+Դ.Դաբաղյան!F10+Գ.Պողոսյան!F10) -> 0 | G10: =SUM(Ս.Մնոյան!G10+'Է. Կարապետյան'!G10+'Կ․Դավթյան'!G10+Ժ.Նազարյան!G10+Դ.Դաբաղյան!G10+Գ.Պողոսյան!G10) -> 0 | H10: =SUM(Ս.Մնոյան!H10+'Է. Կարապետյան'!H10+'Կ․Դավթյան'!H10+Ժ.Նազարյան!H10+Դ.Դաբաղյան!H10+Գ.Պողոսյան!H10) -> 0 | I10: =SUM(Ս.Մնոյան!I10+'Է. Կարապետյան'!I10+'Կ․Դավթյան'!I10+Ժ.Նազարյան!I10+Դ.Դաբաղյան!I10+Գ.Պողոսյան!I10) -> 0 | J10: =SUM(Ս.Մնոյան!J10+'Է. Կարապետյան'!J10+'Կ․Դավթյան'!J10+Ժ.Նազարյան!J10+Դ.Դաբաղյան!J10+Գ.Պողոսյան!J10) -> 0 | K10: =SUM(Ս.Մնոյան!K10+'Է. Կարապետյան'!K10+'Կ․Դավթյան'!K10+Ժ.Նազարյան!K10+Դ.Դաբաղյան!K10+Գ.Պողոսյան!K10) -> 0 | ... AG10: =SUM(Ս.Մնոյան!AG10+'Է. Կարապետյան'!AG10+'Կ․Դավթյան'!AG10+Ժ.Նազարյան!AG10+Դ.Դաբաղյան!AG10+Գ.Պողոսյան!AG10) -> 0 | AH10: =SUM(Ս.Մնոյան!#REF!+'Է. Կարապետյան'!#REF!+'Կ․Դավթյան'!#REF!+Ժ.Նազարյան!#REF!+Դ.Դաբաղյան!#REF!+Գ.Պողոսյան!#REF!) -> #REF! | AI10: =SUM(Ս.Մնոյան!#REF!+'Է. Կարապետյան'!#REF!+'Կ․Դավթյան'!#REF!+Ժ.Նազարյան!#REF!+Դ.Դաբաղյան!#REF!+Գ.Պողոսյան!#REF!) -> #REF! | AJ10: =SUM(Ս.Մնոյան!#REF!+'Է. Կարապետյան'!#REF!+'Կ․Դավթյան'!#REF!+Ժ.Նազարյան!#REF!+Դ.Դաբաղյան!#REF!+Գ.Պողոսյան!#REF!) -> #REF! | AK10: =SUM(Ս.Մնոյան!#REF!+'Է. Կարապետյան'!#REF!+'Կ․Դավթյան'!#REF!+Ժ.Նազարյան!#REF!+Դ.Դաբաղյան!#REF!+Գ.Պողոսյան!#REF!) -> #REF! | AL10: =SUM(Ս.Մնոյան!#REF!+'Է. Կարապետյան'!#REF!+'Կ․Դավթյան'!#REF!+Ժ.Նազարյան!#REF!+Դ.Դաբաղյան!#REF!+Գ.Պողոսյան!#REF!) -> #REF! | AM10: =SUM(Ս.Մնոյան!#REF!+'Է. Կարապետյան'!#REF!+'Կ․Դավթյան'!#REF!+Ժ.Նազարյան!#REF!+Դ.Դաբաղյան!#REF!+Գ.Պողոսյան!#REF!) -> #REF! | AN10: =SUM(Ս.Մնոյան!#REF!+'Է. Կարապետյան'!#REF!+'Կ․Դավթյան'!#REF!+Ժ.Նազարյան!#REF!+Դ.Դաբաղյան!#REF!+Գ.Պողոսյան!#REF!) -> #REF! | AO10: =SUM(Ս.Մնոյան!#REF!+'Է. Կարապետյան'!#REF!+'Կ․Դավթյան'!#REF!+Ժ.Նազարյան!#REF!+Դ.Դաբաղյան!#REF!+Գ.Պողոսյան!#REF!) -> #REF!
A11: 1.4 | B11: Ցեղասպանությունը կամ մարդկայնության դեմ ուղղված հանցագործությունները հրապարակայնորեն հերքելը, արդարացնելը, դրանք քարոզելը կամ դրանց վտանգավորությունը նսեմացնելը | C11: 136 | D11: =SUM(Ս.Մնոյան!D11+'Է. Կարապետյան'!D11+'Կ․Դավթյան'!D11+Ժ.Նազարյան!D11+Դ.Դաբաղյան!D11+Գ.Պողոսյան!D11) -> 0 | E11: =SUM(Ս.Մնոյան!E11+'Է. Կարապետյան'!E11+'Կ․Դավթյան'!E11+Ժ.Նազարյան!E11+Դ.Դաբաղյան!E11+Գ.Պողոսյան!E11) -> 0 | F11: =SUM(Ս.Մնոյան!F11+'Է. Կարապետյան'!F11+'Կ․Դավթյան'!F11+Ժ.Նազարյան!F11+Դ.Դաբաղյան!F11+Գ.Պողոսյան!F11) -> 0 | G11: =SUM(Ս.Մնոյան!G11+'Է. Կարապետյան'!G11+'Կ․Դավթյան'!G11+Ժ.Նազարյան!G11+Դ.Դաբաղյան!G11+Գ.Պողոսյան!G11) -> 0 | H11: =SUM(Ս.Մնոյան!H11+'Է. Կարապետյան'!H11+'Կ․Դավթյան'!H11+Ժ.Նազարյան!H11+Դ.Դաբաղյան!H11+Գ.Պողոսյան!H11) -> 0 | I11: =SUM(Ս.Մնոյան!I11+'Է. Կարապետյան'!I11+'Կ․Դավթյան'!I11+Ժ.Նազարյան!I11+Դ.Դաբաղյան!I11+Գ.Պողոսյան!I11) -> 0 | J11: =SUM(Ս.Մնոյան!J11+'Է. Կարապետյան'!J11+'Կ․Դավթյան'!J11+Ժ.Նազարյան!J11+Դ.Դաբաղյան!J11+Գ.Պողոսյան!J11) -> 0 | K11: =SUM(Ս.Մնոյան!K11+'Է. Կարապետյան'!K11+'Կ․Դավթյան'!K11+Ժ.Նազարյան!K11+Դ.Դաբաղյան!K11+Գ.Պողոսյան!K11) -> 0 | ... AG11: =SUM(Ս.Մնոյան!AG11+'Է. Կարապետյան'!AG11+'Կ․Դավթյան'!AG11+Ժ.Նազարյան!AG11+Դ.Դաբաղյան!AG11+Գ.Պողոսյան!AG11) -> 0 | AH11: =SUM(Ս.Մնոյան!#REF!+'Է. Կարապետյան'!#REF!+'Կ․Դավթյան'!#REF!+Ժ.Նազարյան!#REF!+Դ.Դաբաղյան!#REF!+Գ.Պողոսյան!#REF!) -> #REF! | AI11: =SUM(Ս.Մնոյան!#REF!+'Է. Կարապետյան'!#REF!+'Կ․Դավթյան'!#REF!+Ժ.Նազարյան!#REF!+Դ.Դաբաղյան!#REF!+Գ.Պողոսյան!#REF!) -> #REF! | AJ11: =SUM(Ս.Մնոյան!#REF!+'Է. Կարապետյան'!#REF!+'Կ․Դավթյան'!#REF!+Ժ.Նազարյան!#REF!+Դ.Դաբաղյան!#REF!+Գ.Պողոսյան!#REF!) -> #REF! | AK11: =SUM(Ս.Մնոյան!#REF!+'Է. Կարապետյան'!#REF!+'Կ․Դավթյան'!#REF!+Ժ.Նազարյան!#REF!+Դ.Դաբաղյան!#REF!+Գ.Պողոսյան!#REF!) -> #REF! | AL11: =SUM(Ս.Մնոյան!#REF!+'Է. Կարապետյան'!#REF!+'Կ․Դավթյան'!#REF!+Ժ.Նազարյան!#REF!+Դ.Դաբաղյան!#REF!+Գ.Պողոսյան!#REF!) -> #REF! | AM11: =SUM(Ս.Մնոյան!#REF!+'Է. Կարապետյան'!#REF!+'Կ․Դավթյան'!#REF!+Ժ.Նազարյան!#REF!+Դ.Դաբաղյան!#REF!+Գ.Պողոսյան!#REF!) -> #REF! | AN11: =SUM(Ս.Մնոյան!#REF!+'Է. Կարապետյան'!#REF!+'Կ․Դավթյան'!#REF!+Ժ.Նազարյան!#REF!+Դ.Դաբաղյան!#REF!+Գ.Պողոսյան!#REF!) -> #REF! | AO11: =SUM(Ս.Մնոյան!#REF!+'Է. Կարապետյան'!#REF!+'Կ․Դավթյան'!#REF!+Ժ.Նազարյան!#REF!+Դ.Դաբաղյան!#REF!+Գ.Պողոսյան!#REF!) -> #REF!
A12: 1.5 | B12: Հովանավորվող անձի դեմ ուղղված պատերազմական հանցագործությունները | C12: 137 | D12: =SUM(Ս.Մնոյան!D12+'Է. Կարապետյան'!D12+'Կ․Դավթյան'!D12+Ժ.Նազարյան!D12+Դ.Դաբաղյան!D12+Գ.Պողոսյան!D12) -> 0 | E12: =SUM(Ս.Մնոյան!E12+'Է. Կարապետյան'!E12+'Կ․Դավթյան'!E12+Ժ.Նազարյան!E12+Դ.Դաբաղյան!E12+Գ.Պողոսյան!E12) -> 0 | F12: =SUM(Ս.Մնոյան!F12+'Է. Կարապետյան'!F12+'Կ․Դավթյան'!F12+Ժ.Նազարյան!F12+Դ.Դաբաղյան!F12+Գ.Պողոսյան!F12) -> 0 | G12: =SUM(Ս.Մնոյան!G12+'Է. Կարապետյան'!G12+'Կ․Դավթյան'!G12+Ժ.Նազարյան!G12+Դ.Դաբաղյան!G12+Գ.Պողոսյան!G12) -> 0 | H12: =SUM(Ս.Մնոյան!H12+'Է. Կարապետյան'!H12+'Կ․Դավթյան'!H12+Ժ.Նազարյան!H12+Դ.Դաբաղյան!H12+Գ.Պողոսյան!H12) -> 0 | I12: =SUM(Ս.Մնոյան!I12+'Է. Կարապետյան'!I12+'Կ․Դավթյան'!I12+Ժ.Նազարյան!I12+Դ.Դաբաղյան!I12+Գ.Պողոսյան!I12) -> 0 | J12: =SUM(Ս.Մնոյան!J12+'Է. Կարապետյան'!J12+'Կ․Դավթյան'!J12+Ժ.Նազարյան!J12+Դ.Դաբաղյան!J12+Գ.Պողոսյան!J12) -> 0 | K12: =SUM(Ս.Մնոյան!K12+'Է. Կարապետյան'!K12+'Կ․Դավթյան'!K12+Ժ.Նազարյան!K12+Դ.Դաբաղյան!K12+Գ.Պողոսյան!K12) -> 0 | ... AG12: =SUM(Ս.Մնոյան!AG12+'Է. Կարապետյան'!AG12+'Կ․Դավթյան'!AG12+Ժ.Նազարյան!AG12+Դ.Դաբաղյան!AG12+Գ.Պողոսյան!AG12) -> 0 | AH12: =SUM(Ս.Մնոյան!#REF!+'Է. Կարապետյան'!#REF!+'Կ․Դավթյան'!#REF!+Ժ.Նազարյան!#REF!+Դ.Դաբաղյան!#REF!+Գ.Պողոսյան!#REF!) -> #REF! | AI12: =SUM(Ս.Մնոյան!#REF!+'Է. Կարապետյան'!#REF!+'Կ․Դավթյան'!#REF!+Ժ.Նազարյան!#REF!+Դ.Դաբաղյան!#REF!+Գ.Պողոսյան!#REF!) -> #REF! | AJ12: =SUM(Ս.Մնոյան!#REF!+'Է. Կարապետյան'!#REF!+'Կ․Դավթյան'!#REF!+Ժ.Նազարյան!#REF!+Դ.Դաբաղյան!#REF!+Գ.Պողոսյան!#REF!) -> #REF! | AK12: =SUM(Ս.Մնոյան!#REF!+'Է. Կարապետյան'!#REF!+'Կ․Դավթյան'!#REF!+Ժ.Նազարյան!#REF!+Դ.Դաբաղյան!#REF!+Գ.Պողոսյան!#REF!) -> #REF! | AL12: =SUM(Ս.Մնոյան!#REF!+'Է. Կարապետյան'!#REF!+'Կ․Դավթյան'!#REF!+Ժ.Նազարյան!#REF!+Դ.Դաբաղյան!#REF!+Գ.Պողոսյան!#REF!) -> #REF! | AM12: =SUM(Ս.Մնոյան!#REF!+'Է. Կարապետյան'!#REF!+'Կ․Դավթյան'!#REF!+Ժ.Նազարյան!#REF!+Դ.Դաբաղյան!#REF!+Գ.Պողոսյան!#REF!) -> #REF! | AN12: =SUM(Ս.Մնոյան!#REF!+'Է. Կարապետյան'!#REF!+'Կ․Դավթյան'!#REF!+Ժ.Նազարյան!#REF!+Դ.Դաբաղյան!#REF!+Գ.Պողոսյան!#REF!) -> #REF! | AO12: =SUM(Ս.Մնոյան!#REF!+'Է. Կարապետյան'!#REF!+'Կ․Դավթյան'!#REF!+Ժ.Նազարյան!#REF!+Դ.Դաբաղյան!#REF!+Գ.Պողոսյան!#REF!) -> #REF!
A13: 1.6 | B13: Սեփականության կամ այլ իրավունքների դեմ ուղղված պատերազմական հանցագործությունները | C13: 138 | D13: =SUM(Ս.Մնոյան!D13+'Է. Կարապետյան'!D13+'Կ․Դավթյան'!D13+Ժ.Նազարյան!D13+Դ.Դաբաղյան!D13+Գ.Պողոսյան!D13) -> 0 | E13: =SUM(Ս.Մնոյան!E13+'Է. Կարապետյան'!E13+'Կ․Դավթյան'!E13+Ժ.Նազարյան!E13+Դ.Դաբաղյան!E13+Գ.Պողոսյան!E13) -> 0 | F13: =SUM(Ս.Մնոյան!F13+'Է. Կարապետյան'!F13+'Կ․Դավթյան'!F13+Ժ.Նազարյան!F13+Դ.Դաբաղյան!F13+Գ.Պողոսյան!F13) -> 0 | G13: =SUM(Ս.Մնոյան!G13+'Է. Կարապետյան'!G13+'Կ․Դավթյան'!G13+Ժ.Նազարյան!G13+Դ.Դաբաղյան!G13+Գ.Պողոսյան!G13) -> 0 | H13: =SUM(Ս.Մնոյան!H13+'Է. Կարապետյան'!H13+'Կ․Դավթյան'!H13+Ժ.Նազարյան!H13+Դ.Դաբաղյան!H13+Գ.Պողոսյան!H13) -> 0 | I13: =SUM(Ս.Մնոյան!I13+'Է. Կարապետյան'!I13+'Կ․Դավթյան'!I13+Ժ.Նազարյան!I13+Դ.Դաբաղյան!I13+Գ.Պողոսյան!I13) -> 0 | J13: =SUM(Ս.Մնոյան!J13+'Է. Կարապետյան'!J13+'Կ․Դավթյան'!J13+Ժ.Նազարյան!J13+Դ.Դաբաղյան!J13+Գ.Պողոսյան!J13) -> 0 | K13: =SUM(Ս.Մնոյան!K13+'Է. Կարապետյան'!K13+'Կ․Դավթյան'!K13+Ժ.Նազարյան!K13+Դ.Դաբաղյան!K13+Գ.Պողոսյան!K13) -> 0 | ... AG13: =SUM(Ս.Մնոյան!AG13+'Է. Կարապետյան'!AG13+'Կ․Դավթյան'!AG13+Ժ.Նազարյան!AG13+Դ.Դաբաղյան!AG13+Գ.Պողոսյան!AG13) -> 0 | AH13: =SUM(Ս.Մնոյան!#REF!+'Է. Կարապետյան'!#REF!+'Կ․Դավթյան'!#REF!+Ժ.Նազարյան!#REF!+Դ.Դաբաղյան!#REF!+Գ.Պողոսյան!#REF!) -> #REF! | AI13: =SUM(Ս.Մնոյան!#REF!+'Է. Կարապետյան'!#REF!+'Կ․Դավթյան'!#REF!+Ժ.Նազարյան!#REF!+Դ.Դաբաղյան!#REF!+Գ.Պողոսյան!#REF!) -> #REF! | AJ13: =SUM(Ս.Մնոյան!#REF!+'Է. Կարապետյան'!#REF!+'Կ․Դավթյան'!#REF!+Ժ.Նազարյան!#REF!+Դ.Դաբաղյան!#REF!+Գ.Պողոսյան!#REF!) -> #REF! | AK13: =SUM(Ս.Մնոյան!#REF!+'Է. Կարապետյան'!#REF!+'Կ․Դավթյան'!#REF!+Ժ.Նազարյան!#REF!+Դ.Դաբաղյան!#REF!+Գ.Պողոսյան!#REF!) -> #REF! | AL13: =SUM(Ս.Մնոյան!#REF!+'Է. Կարապետյան'!#REF!+'Կ․Դավթյան'!#REF!+Ժ.Նազարյան!#REF!+Դ.Դաբաղյան!#REF!+Գ.Պողոսյան!#REF!) -> #REF! | AM13: =SUM(Ս.Մնոյան!#REF!+'Է. Կարապետյան'!#REF!+'Կ․Դավթյան'!#REF!+Ժ.Նազարյան!#REF!+Դ.Դաբաղյան!#REF!+Գ.Պողոսյան!#REF!) -> #REF! | AN13: =SUM(Ս.Մնոյան!#REF!+'Է. Կարապետյան'!#REF!+'Կ․Դավթյան'!#REF!+Ժ.Նազարյան!#REF!+Դ.Դաբաղյան!#REF!+Գ.Պողոսյան!#REF!) -> #REF! | AO13: =SUM(Ս.Մնոյան!#REF!+'Է. Կարապետյան'!#REF!+'Կ․Դավթյան'!#REF!+Ժ.Նազարյան!#REF!+Դ.Դաբաղյան!#REF!+Գ.Պողոսյան!#REF!) -> #REF!
A14: 1.7 | B14: Մարդասիրական օգնության ցուցաբերման կամ տարբերանշանների դեմ ուղղված պատերազմական հանցագործությունները | C14: 139 | D14: =SUM(Ս.Մնոյան!D14+'Է. Կարապետյան'!D14+'Կ․Դավթյան'!D14+Ժ.Նազարյան!D14+Դ.Դաբաղյան!D14+Գ.Պողոսյան!D14) -> 0 | E14: =SUM(Ս.Մնոյան!E14+'Է. Կարապետյան'!E14+'Կ․Դավթյան'!E14+Ժ.Նազարյան!E14+Դ.Դաբաղյան!E14+Գ.Պողոսյան!E14) -> 0 | F14: =SUM(Ս.Մնոյան!F14+'Է. Կարապետյան'!F14+'Կ․Դավթյան'!F14+Ժ.Նազարյան!F14+Դ.Դաբաղյան!F14+Գ.Պողոսյան!F14) -> 0 | G14: =SUM(Ս.Մնոյան!G14+'Է. Կարապետյան'!G14+'Կ․Դավթյան'!G14+Ժ.Նազարյան!G14+Դ.Դաբաղյան!G14+Գ.Պողոսյան!G14) -> 0 | H14: =SUM(Ս.Մնոյան!H14+'Է. Կարապետյան'!H14+'Կ․Դավթյան'!H14+Ժ.Նազարյան!H14+Դ.Դաբաղյան!H14+Գ.Պողոսյան!H14) -> 0 | I14: =SUM(Ս.Մնոյան!I14+'Է. Կարապետյան'!I14+'Կ․Դավթյան'!I14+Ժ.Նազարյան!I14+Դ.Դաբաղյան!I14+Գ.Պողոսյան!I14) -> 0 | J14: =SUM(Ս.Մնոյան!J14+'Է. Կարապետյան'!J14+'Կ․Դավթյան'!J14+Ժ.Նազարյան!J14+Դ.Դաբաղյան!J14+Գ.Պողոսյան!J14) -> 0 | K14: =SUM(Ս.Մնոյան!K14+'Է. Կարապետյան'!K14+'Կ․Դավթյան'!K14+Ժ.Նազարյան!K14+Դ.Դաբաղյան!K14+Գ.Պողոսյան!K14) -> 0 | ... AG14: =SUM(Ս.Մնոյան!AG14+'Է. Կարապետյան'!AG14+'Կ․Դավթյան'!AG14+Ժ.Նազարյան!AG14+Դ.Դաբաղյան!AG14+Գ.Պողոսյան!AG14) -> 0 | AH14: =SUM(Ս.Մնոյան!#REF!+'Է. Կարապետյան'!#REF!+'Կ․Դավթյան'!#REF!+Ժ.Նազարյան!#REF!+Դ.Դաբաղյան!#REF!+Գ.Պողոսյան!#REF!) -> #REF! | AI14: =SUM(Ս.Մնոյան!#REF!+'Է. Կարապետյան'!#REF!+'Կ․Դավթյան'!#REF!+Ժ.Նազարյան!#REF!+Դ.Դաբաղյան!#REF!+Գ.Պողոսյան!#REF!) -> #REF! | AJ14: =SUM(Ս.Մնոյան!#REF!+'Է. Կարապետյան'!#REF!+'Կ․Դավթյան'!#REF!+Ժ.Նազարյան!#REF!+Դ.Դաբաղյան!#REF!+Գ.Պողոսյան!#REF!) -> #REF! | AK14: =SUM(Ս.Մնոյան!#REF!+'Է. Կարապետյան'!#REF!+'Կ․Դավթյան'!#REF!+Ժ.Նազարյան!#REF!+Դ.Դաբաղյան!#REF!+Գ.Պողոսյան!#REF!) -> #REF! | AL14: =SUM(Ս.Մնոյան!#REF!+'Է. Կարապետյան'!#REF!+'Կ․Դավթյան'!#REF!+Ժ.Նազարյան!#REF!+Դ.Դաբաղյան!#REF!+Գ.Պողոսյան!#REF!) -> #REF! | AM14: =SUM(Ս.Մնոյան!#REF!+'Է. Կարապետյան'!#REF!+'Կ․Դավթյան'!#REF!+Ժ.Նազարյան!#REF!+Դ.Դաբաղյան!#REF!+Գ.Պողոսյան!#REF!) -> #REF! | AN14: =SUM(Ս.Մնոյան!#REF!+'Է. Կարապետյան'!#REF!+'Կ․Դավթյան'!#REF!+Ժ.Նազարյան!#REF!+Դ.Դաբաղյան!#REF!+Գ.Պողոսյան!#REF!) -> #REF! | AO14: =SUM(Ս.Մնոյան!#REF!+'Է. Կարապետյան'!#REF!+'Կ․Դավթյան'!#REF!+Ժ.Նազարյան!#REF!+Դ.Դաբաղյան!#REF!+Գ.Պողոսյան!#REF!) -> #REF!
A15: 1.8 | B15: Պատերազմ վարելու արգելված եղանակների կիրառմամբ պատերազմական հանցագործությունները | C15: 140 | D15: =SUM(Ս.Մնոյան!D15+'Է. Կարապետյան'!D15+'Կ․Դավթյան'!D15+Ժ.Նազարյան!D15+Դ.Դաբաղյան!D15+Գ.Պողոսյան!D15) -> 0 | E15: =SUM(Ս.Մնոյան!E15+'Է. Կարապետյան'!E15+'Կ․Դավթյան'!E15+Ժ.Նազարյան!E15+Դ.Դաբաղյան!E15+Գ.Պողոսյան!E15) -> 0 | F15: =SUM(Ս.Մնոյան!F15+'Է. Կարապետյան'!F15+'Կ․Դավթյան'!F15+Ժ.Նազարյան!F15+Դ.Դաբաղյան!F15+Գ.Պողոսյան!F15) -> 0 | G15: =SUM(Ս.Մնոյան!G15+'Է. Կարապետյան'!G15+'Կ․Դավթյան'!G15+Ժ.Նազարյան!G15+Դ.Դաբաղյան!G15+Գ.Պողոսյան!G15) -> 0 | H15: =SUM(Ս.Մնոյան!H15+'Է. Կարապետյան'!H15+'Կ․Դավթյան'!H15+Ժ.Նազարյան!H15+Դ.Դաբաղյան!H15+Գ.Պողոսյան!H15) -> 0 | I15: =SUM(Ս.Մնոյան!I15+'Է. Կարապետյան'!I15+'Կ․Դավթյան'!I15+Ժ.Նազարյան!I15+Դ.Դաբաղյան!I15+Գ.Պողոսյան!I15) -> 0 | J15: =SUM(Ս.Մնոյան!J15+'Է. Կարապետյան'!J15+'Կ․Դավթյան'!J15+Ժ.Նազարյան!J15+Դ.Դաբաղյան!J15+Գ.Պողոսյան!J15) -> 0 | K15: =SUM(Ս.Մնոյան!K15+'Է. Կարապետյան'!K15+'Կ․Դավթյան'!K15+Ժ.Նազարյան!K15+Դ.Դաբաղյան!K15+Գ.Պողոսյան!K15) -> 0 | ... AG15: =SUM(Ս.Մնոյան!AG15+'Է. Կարապետյան'!AG15+'Կ․Դավթյան'!AG15+Ժ.Նազարյան!AG15+Դ.Դաբաղյան!AG15+Գ.Պողոսյան!AG15) -> 0 | AH15: =SUM(Ս.Մնոյան!#REF!+'Է. Կարապետյան'!#REF!+'Կ․Դավթյան'!#REF!+Ժ.Նազարյան!#REF!+Դ.Դաբաղյան!#REF!+Գ.Պողոսյան!#REF!) -> #REF! | AI15: =SUM(Ս.Մնոյան!#REF!+'Է. Կարապետյան'!#REF!+'Կ․Դավթյան'!#REF!+Ժ.Նազարյան!#REF!+Դ.Դաբաղյան!#REF!+Գ.Պողոսյան!#REF!) -> #REF! | AJ15: =SUM(Ս.Մնոյան!#REF!+'Է. Կարապետյան'!#REF!+'Կ․Դավթյան'!#REF!+Ժ.Նազարյան!#REF!+Դ.Դաբաղյան!#REF!+Գ.Պողոսյան!#REF!) -> #REF! | AK15: =SUM(Ս.Մնոյան!#REF!+'Է. Կարապետյան'!#REF!+'Կ․Դավթյան'!#REF!+Ժ.Նազարյան!#REF!+Դ.Դաբաղյան!#REF!+Գ.Պողոսյան!#REF!) -> #REF! | AL15: =SUM(Ս.Մնոյան!#REF!+'Է. Կարապետյան'!#REF!+'Կ․Դավթյան'!#REF!+Ժ.Նազարյան!#REF!+Դ.Դաբաղյան!#REF!+Գ.Պողոսյան!#REF!) -> #REF! | AM15: =SUM(Ս.Մնոյան!#REF!+'Է. Կարապետյան'!#REF!+'Կ․Դավթյան'!#REF!+Ժ.Նազարյան!#REF!+Դ.Դաբաղյան!#REF!+Գ.Պողոսյան!#REF!) -> #REF! | AN15: =SUM(Ս.Մնոյան!#REF!+'Է. Կարապետյան'!#REF!+'Կ․Դավթյան'!#REF!+Ժ.Նազարյան!#REF!+Դ.Դաբաղյան!#REF!+Գ.Պողոսյան!#REF!) -> #REF! | AO15: =SUM(Ս.Մնոյան!#REF!+'Է. Կարապետյան'!#REF!+'Կ․Դավթյան'!#REF!+Ժ.Նազարյան!#REF!+Դ.Դաբաղյան!#REF!+Գ.Պողոսյան!#REF!) -> #REF!
A16: 1.9 | B16: Պատերազմ վարելու արգելված միջոցների կիրառմամբ պատերազմական հանցագործությունները | C16: 141 | D16: =SUM(Ս.Մնոյան!D16+'Է. Կարապետյան'!D16+'Կ․Դավթյան'!D16+Ժ.Նազարյան!D16+Դ.Դաբաղյան!D16+Գ.Պողոսյան!D16) -> 0 | E16: =SUM(Ս.Մնոյան!E16+'Է. Կարապետյան'!E16+'Կ․Դավթյան'!E16+Ժ.Նազարյան!E16+Դ.Դաբաղյան!E16+Գ.Պողոսյան!E16) -> 0 | F16: =SUM(Ս.Մնոյան!F16+'Է. Կարապետյան'!F16+'Կ․Դավթյան'!F16+Ժ.Նազարյան!F16+Դ.Դաբաղյան!F16+Գ.Պողոսյան!F16) -> 0 | G16: =SUM(Ս.Մնոյան!G16+'Է. Կարապետյան'!G16+'Կ․Դավթյան'!G16+Ժ.Նազարյան!G16+Դ.Դաբաղյան!G16+Գ.Պողոսյան!G16) -> 0 | H16: =SUM(Ս.Մնոյան!H16+'Է. Կարապետյան'!H16+'Կ․Դավթյան'!H16+Ժ.Նազարյան!H16+Դ.Դաբաղյան!H16+Գ.Պողոսյան!H16) -> 0 | I16: =SUM(Ս.Մնոյան!I16+'Է. Կարապետյան'!I16+'Կ․Դավթյան'!I16+Ժ.Նազարյան!I16+Դ.Դաբաղյան!I16+Գ.Պողոսյան!I16) -> 0 | J16: =SUM(Ս.Մնոյան!J16+'Է. Կարապետյան'!J16+'Կ․Դավթյան'!J16+Ժ.Նազարյան!J16+Դ.Դաբաղյան!J16+Գ.Պողոսյան!J16) -> 0 | K16: =SUM(Ս.Մնոյան!K16+'Է. Կարապետյան'!K16+'Կ․Դավթյան'!K16+Ժ.Նազարյան!K16+Դ.Դաբաղյան!K16+Գ.Պողոսյան!K16) -> 0 | ... AG16: =SUM(Ս.Մնոյան!AG16+'Է. Կարապետյան'!AG16+'Կ․Դավթյան'!AG16+Ժ.Նազարյան!AG16+Դ.Դաբաղյան!AG16+Գ.Պողոսյան!AG16) -> 0 | AH16: =SUM(Ս.Մնոյան!#REF!+'Է. Կարապետյան'!#REF!+'Կ․Դավթյան'!#REF!+Ժ.Նազարյան!#REF!+Դ.Դաբաղյան!#REF!+Գ.Պողոսյան!#REF!) -> #REF! | AI16: =SUM(Ս.Մնոյան!#REF!+'Է. Կարապետյան'!#REF!+'Կ․Դավթյան'!#REF!+Ժ.Նազարյան!#REF!+Դ.Դաբաղյան!#REF!+Գ.Պողոսյան!#REF!) -> #REF! | AJ16: =SUM(Ս.Մնոյան!#REF!+'Է. Կարապետյան'!#REF!+'Կ․Դավթյան'!#REF!+Ժ.Նազարյան!#REF!+Դ.Դաբաղյան!#REF!+Գ.Պողոսյան!#REF!) -> #REF! | AK16: =SUM(Ս.Մնոյան!#REF!+'Է. Կարապետյան'!#REF!+'Կ․Դավթյան'!#REF!+Ժ.Նազարյան!#REF!+Դ.Դաբաղյան!#REF!+Գ.Պողոսյան!#REF!) -> #REF! | AL16: =SUM(Ս.Մնոյան!#REF!+'Է. Կարապետյան'!#REF!+'Կ․Դավթյան'!#REF!+Ժ.Նազարյան!#REF!+Դ.Դաբաղյան!#REF!+Գ.Պողոսյան!#REF!) -> #REF! | AM16: =SUM(Ս.Մնոյան!#REF!+'Է. Կարապետյան'!#REF!+'Կ․Դավթյան'!#REF!+Ժ.Նազարյան!#REF!+Դ.Դաբաղյան!#REF!+Գ.Պողոսյան!#REF!) -> #REF! | AN16: =SUM(Ս.Մնոյան!#REF!+'Է. Կարապետյան'!#REF!+'Կ․Դավթյան'!#REF!+Ժ.Նազարյան!#REF!+Դ.Դաբաղյան!#REF!+Գ.Պողոսյան!#REF!) -> #REF! | AO16: =SUM(Ս.Մնոյան!#REF!+'Է. Կարապետյան'!#REF!+'Կ․Դավթյան'!#REF!+Ժ.Նազարյան!#REF!+Դ.Դաբաղյան!#REF!+Գ.Պողոսյան!#REF!) -> #REF!
A17: 1.10 | B17: Դիակապտությունը | C17: 142 | D17: =SUM(Ս.Մնոյան!D17+'Է. Կարապետյան'!D17+'Կ․Դավթյան'!D17+Ժ.Նազարյան!D17+Դ.Դաբաղյան!D17+Գ.Պողոսյան!D17) -> 0 | E17: =SUM(Ս.Մնոյան!E17+'Է. Կարապետյան'!E17+'Կ․Դավթյան'!E17+Ժ.Նազարյան!E17+Դ.Դաբաղյան!E17+Գ.Պողոսյան!E17) -> 0 | F17: =SUM(Ս.Մնոյան!F17+'Է. Կարապետյան'!F17+'Կ․Դավթյան'!F17+Ժ.Նազարյան!F17+Դ.Դաբաղյան!F17+Գ.Պողոսյան!F17) -> 0 | G17: =SUM(Ս.Մնոյան!G17+'Է. Կարապետյան'!G17+'Կ․Դավթյան'!G17+Ժ.Նազարյան!G17+Դ.Դաբաղյան!G17+Գ.Պողոսյան!G17) -> 0 | H17: =SUM(Ս.Մնոյան!H17+'Է. Կարապետյան'!H17+'Կ․Դավթյան'!H17+Ժ.Նազարյան!H17+Դ.Դաբաղյան!H17+Գ.Պողոսյան!H17) -> 0 | I17: =SUM(Ս.Մնոյան!I17+'Է. Կարապետյան'!I17+'Կ․Դավթյան'!I17+Ժ.Նազարյան!I17+Դ.Դաբաղյան!I17+Գ.Պողոսյան!I17) -> 0 | J17: =SUM(Ս.Մնոյան!J17+'Է. Կարապետյան'!J17+'Կ․Դավթյան'!J17+Ժ.Նազարյան!J17+Դ.Դաբաղյան!J17+Գ.Պողոսյան!J17) -> 0 | K17: =SUM(Ս.Մնոյան!K17+'Է. Կարապետյան'!K17+'Կ․Դավթյան'!K17+Ժ.Նազարյան!K17+Դ.Դաբաղյան!K17+Գ.Պողոսյան!K17) -> 0 | ... AG17: =SUM(Ս.Մնոյան!AG17+'Է. Կարապետյան'!AG17+'Կ․Դավթյան'!AG17+Ժ.Նազարյան!AG17+Դ.Դաբաղյան!AG17+Գ.Պողոսյան!AG17) -> 0 | AH17: =SUM(Ս.Մնոյան!#REF!+'Է. Կարապետյան'!#REF!+'Կ․Դավթյան'!#REF!+Ժ.Նազարյան!#REF!+Դ.Դաբաղյան!#REF!+Գ.Պողոսյան!#REF!) -> #REF! | AI17: =SUM(Ս.Մնոյան!#REF!+'Է. Կարապետյան'!#REF!+'Կ․Դավթյան'!#REF!+Ժ.Նազարյան!#REF!+Դ.Դաբաղյան!#REF!+Գ.Պողոսյան!#REF!) -> #REF! | AJ17: =SUM(Ս.Մնոյան!#REF!+'Է. Կարապետյան'!#REF!+'Կ․Դավթյան'!#REF!+Ժ.Նազարյան!#REF!+Դ.Դաբաղյան!#REF!+Գ.Պողոսյան!#REF!) -> #REF! | AK17: =SUM(Ս.Մնոյան!#REF!+'Է. Կարապետյան'!#REF!+'Կ․Դավթյան'!#REF!+Ժ.Նազարյան!#REF!+Դ.Դաբաղյան!#REF!+Գ.Պողոսյան!#REF!) -> #REF! | AL17: =SUM(Ս.Մնոյան!#REF!+'Է. Կարապետյան'!#REF!+'Կ․Դավթյան'!#REF!+Ժ.Նազարյան!#REF!+Դ.Դաբաղյան!#REF!+Գ.Պողոսյան!#REF!) -> #REF! | AM17: =SUM(Ս.Մնոյան!#REF!+'Է. Կարապետյան'!#REF!+'Կ․Դավթյան'!#REF!+Ժ.Նազարյան!#REF!+Դ.Դաբաղյան!#REF!+Գ.Պողոսյան!#REF!) -> #REF! | AN17: =SUM(Ս.Մնոյան!#REF!+'Է. Կարապետյան'!#REF!+'Կ․Դավթյան'!#REF!+Ժ.Նազարյան!#REF!+Դ.Դաբաղյան!#REF!+Գ.Պողոսյան!#REF!) -> #REF! | AO17: =SUM(Ս.Մնոյան!#REF!+'Է. Կարապետյան'!#REF!+'Կ․Դավթյան'!#REF!+Ժ.Նազարյան!#REF!+Դ.Դաբաղյան!#REF!+Գ.Պողոսյան!#REF!) -> #REF!
A18: 1.11 | B18: Մարտադաշտում սպանվածների դիակներն անարգելը | C18: 143 | D18: =SUM(Ս.Մնոյան!D18+'Է. Կարապետյան'!D18+'Կ․Դավթյան'!D18+Ժ.Նազարյան!D18+Դ.Դաբաղյան!D18+Գ.Պողոսյան!D18) -> 0 | E18: =SUM(Ս.Մնոյան!E18+'Է. Կարապետյան'!E18+'Կ․Դավթյան'!E18+Ժ.Նազարյան!E18+Դ.Դաբաղյան!E18+Գ.Պողոսյան!E18) -> 0 | F18: =SUM(Ս.Մնոյան!F18+'Է. Կարապետյան'!F18+'Կ․Դավթյան'!F18+Ժ.Նազարյան!F18+Դ.Դաբաղյան!F18+Գ.Պողոսյան!F18) -> 0 | G18: =SUM(Ս.Մնոյան!G18+'Է. Կարապետյան'!G18+'Կ․Դավթյան'!G18+Ժ.Նազարյան!G18+Դ.Դաբաղյան!G18+Գ.Պողոսյան!G18) -> 0 | H18: =SUM(Ս.Մնոյան!H18+'Է. Կարապետյան'!H18+'Կ․Դավթյան'!H18+Ժ.Նազարյան!H18+Դ.Դաբաղյան!H18+Գ.Պողոսյան!H18) -> 0 | I18: =SUM(Ս.Մնոյան!I18+'Է. Կարապետյան'!I18+'Կ․Դավթյան'!I18+Ժ.Նազարյան!I18+Դ.Դաբաղյան!I18+Գ.Պողոսյան!I18) -> 0 | J18: =SUM(Ս.Մնոյան!J18+'Է. Կարապետյան'!J18+'Կ․Դավթյան'!J18+Ժ.Նազարյան!J18+Դ.Դաբաղյան!J18+Գ.Պողոսյան!J18) -> 0 | K18: =SUM(Ս.Մնոյան!K18+'Է. Կարապետյան'!K18+'Կ․Դավթյան'!K18+Ժ.Նազարյան!K18+Դ.Դաբաղյան!K18+Գ.Պողոսյան!K18) -> 0 | ... AG18: =SUM(Ս.Մնոյան!AG18+'Է. Կարապետյան'!AG18+'Կ․Դավթյան'!AG18+Ժ.Նազարյան!AG18+Դ.Դաբաղյան!AG18+Գ.Պողոսյան!AG18) -> 0 | AH18: =SUM(Ս.Մնոյան!#REF!+'Է. Կարապետյան'!#REF!+'Կ․Դավթյան'!#REF!+Ժ.Նազարյան!#REF!+Դ.Դաբաղյան!#REF!+Գ.Պողոսյան!#REF!) -> #REF! | AI18: =SUM(Ս.Մնոյան!#REF!+'Է. Կարապետյան'!#REF!+'Կ․Դավթյան'!#REF!+Ժ.Նազարյան!#REF!+Դ.Դաբաղյան!#REF!+Գ.Պողոսյան!#REF!) -> #REF! | AJ18: =SUM(Ս.Մնոյան!#REF!+'Է. Կարապետյան'!#REF!+'Կ․Դավթյան'!#REF!+Ժ.Նազարյան!#REF!+Դ.Դաբաղյան!#REF!+Գ.Պողոսյան!#REF!) -> #REF! | AK18: =SUM(Ս.Մնոյան!#REF!+'Է. Կարապետյան'!#REF!+'Կ․Դավթյան'!#REF!+Ժ.Նազարյան!#REF!+Դ.Դաբաղյան!#REF!+Գ.Պողոսյան!#REF!) -> #REF! | AL18: =SUM(Ս.Մնոյան!#REF!+'Է. Կարապետյան'!#REF!+'Կ․Դավթյան'!#REF!+Ժ.Նազարյան!#REF!+Դ.Դաբաղյան!#REF!+Գ.Պողոսյան!#REF!) -> #REF! | AM18: =SUM(Ս.Մնոյան!#REF!+'Է. Կարապետյան'!#REF!+'Կ․Դավթյան'!#REF!+Ժ.Նազարյան!#REF!+Դ.Դաբաղյան!#REF!+Գ.Պողոսյան!#REF!) -> #REF! | AN18: =SUM(Ս.Մնոյան!#REF!+'Է. Կարապետյան'!#REF!+'Կ․Դավթյան'!#REF!+Ժ.Նազարյան!#REF!+Դ.Դաբաղյան!#REF!+Գ.Պողոսյան!#REF!) -> #REF! | AO18: =SUM(Ս.Մնոյան!#REF!+'Է. Կարապետյան'!#REF!+'Կ․Դավթյան'!#REF!+Ժ.Նազարյան!#REF!+Դ.Դաբաղյան!#REF!+Գ.Պողոսյան!#REF!) -> #REF!
A19: 1.12 | B19: Զինված ընդհարման ժամանակ մշակութային արժեքները ոչնչացնելը, վնասելը, հափշտակելը կամ առգրավելը կամ դրանց նպատակային նշանակությունը փոփոխելը | C19: 144 | D19: =SUM(Ս.Մնոյան!D19+'Է. Կարապետյան'!D19+'Կ․Դավթյան'!D19+Ժ.Նազարյան!D19+Դ.Դաբաղյան!D19+Գ.Պողոսյան!D19) -> 0 | E19: =SUM(Ս.Մնոյան!E19+'Է. Կարապետյան'!E19+'Կ․Դավթյան'!E19+Ժ.Նազարյան!E19+Դ.Դաբաղյան!E19+Գ.Պողոսյան!E19) -> 0 | F19: =SUM(Ս.Մնոյան!F19+'Է. Կարապետյան'!F19+'Կ․Դավթյան'!F19+Ժ.Նազարյան!F19+Դ.Դաբաղյան!F19+Գ.Պողոսյան!F19) -> 0 | G19: =SUM(Ս.Մնոյան!G19+'Է. Կարապետյան'!G19+'Կ․Դավթյան'!G19+Ժ.Նազարյան!G19+Դ.Դաբաղյան!G19+Գ.Պողոսյան!G19) -> 0 | H19: =SUM(Ս.Մնոյան!H19+'Է. Կարապետյան'!H19+'Կ․Դավթյան'!H19+Ժ.Նազարյան!H19+Դ.Դաբաղյան!H19+Գ.Պողոսյան!H19) -> 0 | I19: =SUM(Ս.Մնոյան!I19+'Է. Կարապետյան'!I19+'Կ․Դավթյան'!I19+Ժ.Նազարյան!I19+Դ.Դաբաղյան!I19+Գ.Պողոսյան!I19) -> 0 | J19: =SUM(Ս.Մնոյան!J19+'Է. Կարապետյան'!J19+'Կ․Դավթյան'!J19+Ժ.Նազարյան!J19+Դ.Դաբաղյան!J19+Գ.Պողոսյան!J19) -> 0 | K19: =SUM(Ս.Մնոյան!K19+'Է. Կարապետյան'!K19+'Կ․Դավթյան'!K19+Ժ.Նազարյան!K19+Դ.Դաբաղյան!K19+Գ.Պողոսյան!K19) -> 0 | ... AG19: =SUM(Ս.Մնոյան!AG19+'Է. Կարապետյան'!AG19+'Կ․Դավթյան'!AG19+Ժ.Նազարյան!AG19+Դ.Դաբաղյան!AG19+Գ.Պողոսյան!AG19) -> 0 | AH19: =SUM(Ս.Մնոյան!#REF!+'Է. Կարապետյան'!#REF!+'Կ․Դավթյան'!#REF!+Ժ.Նազարյան!#REF!+Դ.Դաբաղյան!#REF!+Գ.Պողոսյան!#REF!) -> #REF! | AI19: =SUM(Ս.Մնոյան!#REF!+'Է. Կարապետյան'!#REF!+'Կ․Դավթյան'!#REF!+Ժ.Նազարյան!#REF!+Դ.Դաբաղյան!#REF!+Գ.Պողոսյան!#REF!) -> #REF! | AJ19: =SUM(Ս.Մնոյան!#REF!+'Է. Կարապետյան'!#REF!+'Կ․Դավթյան'!#REF!+Ժ.Նազարյան!#REF!+Դ.Դաբաղյան!#REF!+Գ.Պողոսյան!#REF!) -> #REF! | AK19: =SUM(Ս.Մնոյան!#REF!+'Է. Կարապետյան'!#REF!+'Կ․Դավթյան'!#REF!+Ժ.Նազարյան!#REF!+Դ.Դաբաղյան!#REF!+Գ.Պողոսյան!#REF!) -> #REF! | AL19: =SUM(Ս.Մնոյան!#REF!+'Է. Կարապետյան'!#REF!+'Կ․Դավթյան'!#REF!+Ժ.Նազարյան!#REF!+Դ.Դաբաղյան!#REF!+Գ.Պողոսյան!#REF!) -> #REF! | AM19: =SUM(Ս.Մնոյան!#REF!+'Է. Կարապետյան'!#REF!+'Կ․Դավթյան'!#REF!+Ժ.Նազարյան!#REF!+Դ.Դաբաղյան!#REF!+Գ.Պողոսյան!#REF!) -> #REF! | AN19: =SUM(Ս.Մնոյան!#REF!+'Է. Կարապետյան'!#REF!+'Կ․Դավթյան'!#REF!+Ժ.Նազարյան!#REF!+Դ.Դաբաղյան!#REF!+Գ.Պողոսյան!#REF!) -> #REF! | AO19: =SUM(Ս.Մնոյան!#REF!+'Է. Կարապետյան'!#REF!+'Կ․Դավթյան'!#REF!+Ժ.Նազարյան!#REF!+Դ.Դաբաղյան!#REF!+Գ.Պողոսյան!#REF!) -> #REF!
A20: 1.13 | B20: Պատերազմի կամ զինված ընդհարման ժամանակ մշակութային արժեքների պաշտպանության կանոնները խախտելը | C20: 145 | D20: =SUM(Ս.Մնոյան!D20+'Է. Կարապետյան'!D20+'Կ․Դավթյան'!D20+Ժ.Նազարյան!D20+Դ.Դաբաղյան!D20+Գ.Պողոսյան!D20) -> 0 | E20: =SUM(Ս.Մնոյան!E20+'Է. Կարապետյան'!E20+'Կ․Դավթյան'!E20+Ժ.Նազարյան!E20+Դ.Դաբաղյան!E20+Գ.Պողոսյան!E20) -> 0 | F20: =SUM(Ս.Մնոյան!F20+'Է. Կարապետյան'!F20+'Կ․Դավթյան'!F20+Ժ.Նազարյան!F20+Դ.Դաբաղյան!F20+Գ.Պողոսյան!F20) -> 0 | G20: =SUM(Ս.Մնոյան!G20+'Է. Կարապետյան'!G20+'Կ․Դավթյան'!G20+Ժ.Նազարյան!G20+Դ.Դաբաղյան!G20+Գ.Պողոսյան!G20) -> 0 | H20: =SUM(Ս.Մնոյան!H20+'Է. Կարապետյան'!H20+'Կ․Դավթյան'!H20+Ժ.Նազարյան!H20+Դ.Դաբաղյան!H20+Գ.Պողոսյան!H20) -> 0 | I20: =SUM(Ս.Մնոյան!I20+'Է. Կարապետյան'!I20+'Կ․Դավթյան'!I20+Ժ.Նազարյան!I20+Դ.Դաբաղյան!I20+Գ.Պողոսյան!I20) -> 0 | J20: =SUM(Ս.Մնոյան!J20+'Է. Կարապետյան'!J20+'Կ․Դավթյան'!J20+Ժ.Նազարյան!J20+Դ.Դաբաղյան!J20+Գ.Պողոսյան!J20) -> 0 | K20: =SUM(Ս.Մնոյան!K20+'Է. Կարապետյան'!K20+'Կ․Դավթյան'!K20+Ժ.Նազարյան!K20+Դ.Դաբաղյան!K20+Գ.Պողոսյան!K20) -> 0 | ... AG20: =SUM(Ս.Մնոյան!AG20+'Է. Կարապետյան'!AG20+'Կ․Դավթյան'!AG20+Ժ.Նազարյան!AG20+Դ.Դաբաղյան!AG20+Գ.Պողոսյան!AG20) -> 0 | AH20: =SUM(Ս.Մնոյան!#REF!+'Է. Կարապետյան'!#REF!+'Կ․Դավթյան'!#REF!+Ժ.Նազարյան!#REF!+Դ.Դաբաղյան!#REF!+Գ.Պողոսյան!#REF!) -> #REF! | AI20: =SUM(Ս.Մնոյան!#REF!+'Է. Կարապետյան'!#REF!+'Կ․Դավթյան'!#REF!+Ժ.Նազարյան!#REF!+Դ.Դաբաղյան!#REF!+Գ.Պողոսյան!#REF!) -> #REF! | AJ20: =SUM(Ս.Մնոյան!#REF!+'Է. Կարապետյան'!#REF!+'Կ․Դավթյան'!#REF!+Ժ.Նազարյան!#REF!+Դ.Դաբաղյան!#REF!+Գ.Պողոսյան!#REF!) -> #REF! | AK20: =SUM(Ս.Մնոյան!#REF!+'Է. Կարապետյան'!#REF!+'Կ․Դավթյան'!#REF!+Ժ.Նազարյան!#REF!+Դ.Դաբաղյան!#REF!+Գ.Պողոսյան!#REF!) -> #REF! | AL20: =SUM(Ս.Մնոյան!#REF!+'Է. Կարապետյան'!#REF!+'Կ․Դավթյան'!#REF!+Ժ.Նազարյան!#REF!+Դ.Դաբաղյան!#REF!+Գ.Պողոսյան!#REF!) -> #REF! | AM20: =SUM(Ս.Մնոյան!#REF!+'Է. Կարապետյան'!#REF!+'Կ․Դավթյան'!#REF!+Ժ.Նազարյան!#REF!+Դ.Դաբաղյան!#REF!+Գ.Պողոսյան!#REF!) -> #REF! | AN20: =SUM(Ս.Մնոյան!#REF!+'Է. Կարապետյան'!#REF!+'Կ․Դավթյան'!#REF!+Ժ.Նազարյան!#REF!+Դ.Դաբաղյան!#REF!+Գ.Պողոսյան!#REF!) -> #REF! | AO20: =SUM(Ս.Մնոյան!#REF!+'Է. Կարապետյան'!#REF!+'Կ․Դավթյան'!#REF!+Ժ.Նազարյան!#REF!+Դ.Դաբաղյան!#REF!+Գ.Պողոսյան!#REF!) -> #REF!
A21: 1.14 | B21: Ռասայական, ազգային, էթնիկական կամ կրոնական թշնամանք հարուցելու նպատակով մշակութային արժեքները ոչնչացնելը կամ վնասելը | C21: 146 | D21: =SUM(Ս.Մնոյան!D21+'Է. Կարապետյան'!D21+'Կ․Դավթյան'!D21+Ժ.Նազարյան!D21+Դ.Դաբաղյան!D21+Գ.Պողոսյան!D21) -> 0 | E21: =SUM(Ս.Մնոյան!E21+'Է. Կարապետյան'!E21+'Կ․Դավթյան'!E21+Ժ.Նազարյան!E21+Դ.Դաբաղյան!E21+Գ.Պողոսյան!E21) -> 0 | F21: =SUM(Ս.Մնոյան!F21+'Է. Կարապետյան'!F21+'Կ․Դավթյան'!F21+Ժ.Նազարյան!F21+Դ.Դաբաղյան!F21+Գ.Պողոսյան!F21) -> 0 | G21: =SUM(Ս.Մնոյան!G21+'Է. Կարապետյան'!G21+'Կ․Դավթյան'!G21+Ժ.Նազարյան!G21+Դ.Դաբաղյան!G21+Գ.Պողոսյան!G21) -> 0 | H21: =SUM(Ս.Մնոյան!H21+'Է. Կարապետյան'!H21+'Կ․Դավթյան'!H21+Ժ.Նազարյան!H21+Դ.Դաբաղյան!H21+Գ.Պողոսյան!H21) -> 0 | I21: =SUM(Ս.Մնոյան!I21+'Է. Կարապետյան'!I21+'Կ․Դավթյան'!I21+Ժ.Նազարյան!I21+Դ.Դաբաղյան!I21+Գ.Պողոսյան!I21) -> 0 | J21: =SUM(Ս.Մնոյան!J21+'Է. Կարապետյան'!J21+'Կ․Դավթյան'!J21+Ժ.Նազարյան!J21+Դ.Դաբաղյան!J21+Գ.Պողոսյան!J21) -> 0 | K21: =SUM(Ս.Մնոյան!K21+'Է. Կարապետյան'!K21+'Կ․Դավթյան'!K21+Ժ.Նազարյան!K21+Դ.Դաբաղյան!K21+Գ.Պողոսյան!K21) -> 0 | ... AG21: =SUM(Ս.Մնոյան!AG21+'Է. Կարապետյան'!AG21+'Կ․Դավթյան'!AG21+Ժ.Նազարյան!AG21+Դ.Դաբաղյան!AG21+Գ.Պողոսյան!AG21) -> 0 | AH21: =SUM(Ս.Մնոյան!#REF!+'Է. Կարապետյան'!#REF!+'Կ․Դավթյան'!#REF!+Ժ.Նազարյան!#REF!+Դ.Դաբաղյան!#REF!+Գ.Պողոսյան!#REF!) -> #REF! | AI21: =SUM(Ս.Մնոյան!#REF!+'Է. Կարապետյան'!#REF!+'Կ․Դավթյան'!#REF!+Ժ.Նազարյան!#REF!+Դ.Դաբաղյան!#REF!+Գ.Պողոսյան!#REF!) -> #REF! | AJ21: =SUM(Ս.Մնոյան!#REF!+'Է. Կարապետյան'!#REF!+'Կ․Դավթյան'!#REF!+Ժ.Նազարյան!#REF!+Դ.Դաբաղյան!#REF!+Գ.Պողոսյան!#REF!) -> #REF! | AK21: =SUM(Ս.Մնոյան!#REF!+'Է. Կարապետյան'!#REF!+'Կ․Դավթյան'!#REF!+Ժ.Նազարյան!#REF!+Դ.Դաբաղյան!#REF!+Գ.Պողոսյան!#REF!) -> #REF! | AL21: =SUM(Ս.Մնոյան!#REF!+'Է. Կարապետյան'!#REF!+'Կ․Դավթյան'!#REF!+Ժ.Նազարյան!#REF!+Դ.Դաբաղյան!#REF!+Գ.Պողոսյան!#REF!) -> #REF! | AM21: =SUM(Ս.Մնոյան!#REF!+'Է. Կարապետյան'!#REF!+'Կ․Դավթյան'!#REF!+Ժ.Նազարյան!#REF!+Դ.Դաբաղյան!#REF!+Գ.Պողոսյան!#REF!) -> #REF! | AN21: =SUM(Ս.Մնոյան!#REF!+'Է. Կարապետյան'!#REF!+'Կ․Դավթյան'!#REF!+Ժ.Նազարյան!#REF!+Դ.Դաբաղյան!#REF!+Գ.Պողոսյան!#REF!) -> #REF! | AO21: =SUM(Ս.Մնոյան!#REF!+'Է. Կարապետյան'!#REF!+'Կ․Դավթյան'!#REF!+Ժ.Նազարյան!#REF!+Դ.Դաբաղյան!#REF!+Գ.Պողոսյան!#REF!) -> #REF!
A22: 1.15 | B22: Վարձկանությունը | C22: 147 | D22: =SUM(Ս.Մնոյան!D22+'Է. Կարապետյան'!D22+'Կ․Դավթյան'!D22+Ժ.Նազարյան!D22+Դ.Դաբաղյան!D22+Գ.Պողոսյան!D22) -> 0 | E22: =SUM(Ս.Մնոյան!E22+'Է. Կարապետյան'!E22+'Կ․Դավթյան'!E22+Ժ.Նազարյան!E22+Դ.Դաբաղյան!E22+Գ.Պողոսյան!E22) -> 0 | F22: =SUM(Ս.Մնոյան!F22+'Է. Կարապետյան'!F22+'Կ․Դավթյան'!F22+Ժ.Նազարյան!F22+Դ.Դաբաղյան!F22+Գ.Պողոսյան!F22) -> 0 | G22: =SUM(Ս.Մնոյան!G22+'Է. Կարապետյան'!G22+'Կ․Դավթյան'!G22+Ժ.Նազարյան!G22+Դ.Դաբաղյան!G22+Գ.Պողոսյան!G22) -> 0 | H22: =SUM(Ս.Մնոյան!H22+'Է. Կարապետյան'!H22+'Կ․Դավթյան'!H22+Ժ.Նազարյան!H22+Դ.Դաբաղյան!H22+Գ.Պողոսյան!H22) -> 0 | I22: =SUM(Ս.Մնոյան!I22+'Է. Կարապետյան'!I22+'Կ․Դավթյան'!I22+Ժ.Նազարյան!I22+Դ.Դաբաղյան!I22+Գ.Պողոսյան!I22) -> 0 | J22: =SUM(Ս.Մնոյան!J22+'Է. Կարապետյան'!J22+'Կ․Դավթյան'!J22+Ժ.Նազարյան!J22+Դ.Դաբաղյան!J22+Գ.Պողոսյան!J22) -> 0 | K22: =SUM(Ս.Մնոյան!K22+'Է. Կարապետյան'!K22+'Կ․Դավթյան'!K22+Ժ.Նազարյան!K22+Դ.Դաբաղյան!K22+Գ.Պողոսյան!K22) -> 0 | ... AG22: =SUM(Ս.Մնոյան!AG22+'Է. Կարապետյան'!AG22+'Կ․Դավթյան'!AG22+Ժ.Նազարյան!AG22+Դ.Դաբաղյան!AG22+Գ.Պողոսյան!AG22) -> 0 | AH22: =SUM(Ս.Մնոյան!#REF!+'Է. Կարապետյան'!#REF!+'Կ․Դավթյան'!#REF!+Ժ.Նազարյան!#REF!+Դ.Դաբաղյան!#REF!+Գ.Պողոսյան!#REF!) -> #REF! | AI22: =SUM(Ս.Մնոյան!#REF!+'Է. Կարապետյան'!#REF!+'Կ․Դավթյան'!#REF!+Ժ.Նազարյան!#REF!+Դ.Դաբաղյան!#REF!+Գ.Պողոսյան!#REF!) -> #REF! | AJ22: =SUM(Ս.Մնոյան!#REF!+'Է. Կարապետյան'!#REF!+'Կ․Դավթյան'!#REF!+Ժ.Նազարյան!#REF!+Դ.Դաբաղյան!#REF!+Գ.Պողոսյան!#REF!) -> #REF! | AK22: =SUM(Ս.Մնոյան!#REF!+'Է. Կարապետյան'!#REF!+'Կ․Դավթյան'!#REF!+Ժ.Նազարյան!#REF!+Դ.Դաբաղյան!#REF!+Գ.Պողոսյան!#REF!) -> #REF! | AL22: =SUM(Ս.Մնոյան!#REF!+'Է. Կարապետյան'!#REF!+'Կ․Դավթյան'!#REF!+Ժ.Նազարյան!#REF!+Դ.Դաբաղյան!#REF!+Գ.Պողոսյան!#REF!) -> #REF! | AM22: =SUM(Ս.Մնոյան!#REF!+'Է. Կարապետյան'!#REF!+'Կ․Դավթյան'!#REF!+Ժ.Նազարյան!#REF!+Դ.Դաբաղյան!#REF!+Գ.Պողոսյան!#REF!) -> #REF! | AN22: =SUM(Ս.Մնոյան!#REF!+'Է. Կարապետյան'!#REF!+'Կ․Դավթյան'!#REF!+Ժ.Նազարյան!#REF!+Դ.Դաբաղյան!#REF!+Գ.Պողոսյան!#REF!) -> #REF! | AO22: =SUM(Ս.Մնոյան!#REF!+'Է. Կարապետյան'!#REF!+'Կ․Դավթյան'!#REF!+Ժ.Նազարյան!#REF!+Դ.Դաբաղյան!#REF!+Գ.Պողոսյան!#REF!) -> #REF!
A23: 1.16 | B23: Անգործությունը զինված ընդհարման ժամանակ | C23: 148 | D23: =SUM(Ս.Մնոյան!D23+'Է. Կարապետյան'!D23+'Կ․Դավթյան'!D23+Ժ.Նազարյան!D23+Դ.Դաբաղյան!D23+Գ.Պողոսյան!D23) -> 0 | E23: =SUM(Ս.Մնոյան!E23+'Է. Կարապետյան'!E23+'Կ․Դավթյան'!E23+Ժ.Նազարյան!E23+Դ.Դաբաղյան!E23+Գ.Պողոսյան!E23) -> 0 | F23: =SUM(Ս.Մնոյան!F23+'Է. Կարապետյան'!F23+'Կ․Դավթյան'!F23+Ժ.Նազարյան!F23+Դ.Դաբաղյան!F23+Գ.Պողոսյան!F23) -> 0 | G23: =SUM(Ս.Մնոյան!G23+'Է. Կարապետյան'!G23+'Կ․Դավթյան'!G23+Ժ.Նազարյան!G23+Դ.Դաբաղյան!G23+Գ.Պողոսյան!G23) -> 0 | H23: =SUM(Ս.Մնոյան!H23+'Է. Կարապետյան'!H23+'Կ․Դավթյան'!H23+Ժ.Նազարյան!H23+Դ.Դաբաղյան!H23+Գ.Պողոսյան!H23) -> 0 | I23: =SUM(Ս.Մնոյան!I23+'Է. Կարապետյան'!I23+'Կ․Դավթյան'!I23+Ժ.Նազարյան!I23+Դ.Դաբաղյան!I23+Գ.Պողոսյան!I23) -> 0 | J23: =SUM(Ս.Մնոյան!J23+'Է. Կարապետյան'!J23+'Կ․Դավթյան'!J23+Ժ.Նազարյան!J23+Դ.Դաբաղյան!J23+Գ.Պողոսյան!J23) -> 0 | K23: =SUM(Ս.Մնոյան!K23+'Է. Կարապետյան'!K23+'Կ․Դավթյան'!K23+Ժ.Նազարյան!K23+Դ.Դաբաղյան!K23+Գ.Պողոսյան!K23) -> 0 | ... AG23: =SUM(Ս.Մնոյան!AG23+'Է. Կարապետյան'!AG23+'Կ․Դավթյան'!AG23+Ժ.Նազարյան!AG23+Դ.Դաբաղյան!AG23+Գ.Պողոսյան!AG23) -> 0 | AH23: =SUM(Ս.Մնոյան!#REF!+'Է. Կարապետյան'!#REF!+'Կ․Դավթյան'!#REF!+Ժ.Նազարյան!#REF!+Դ.Դաբաղյան!#REF!+Գ.Պողոսյան!#REF!) -> #REF! | AI23: =SUM(Ս.Մնոյան!#REF!+'Է. Կարապետյան'!#REF!+'Կ․Դավթյան'!#REF!+Ժ.Նազարյան!#REF!+Դ.Դաբաղյան!#REF!+Գ.Պողոսյան!#REF!) -> #REF! | AJ23: =SUM(Ս.Մնոյան!#REF!+'Է. Կարապետյան'!#REF!+'Կ․Դավթյան'!#REF!+Ժ.Նազարյան!#REF!+Դ.Դաբաղյան!#REF!+Գ.Պողոսյան!#REF!) -> #REF! | AK23: =SUM(Ս.Մնոյան!#REF!+'Է. Կարապետյան'!#REF!+'Կ․Դավթյան'!#REF!+Ժ.Նազարյան!#REF!+Դ.Դաբաղյան!#REF!+Գ.Պողոսյան!#REF!) -> #REF! | AL23: =SUM(Ս.Մնոյան!#REF!+'Է. Կարապետյան'!#REF!+'Կ․Դավթյան'!#REF!+Ժ.Նազարյան!#REF!+Դ.Դաբաղյան!#REF!+Գ.Պողոսյան!#REF!) -> #REF! | AM23: =SUM(Ս.Մնոյան!#REF!+'Է. Կարապետյան'!#REF!+'Կ․Դավթյան'!#REF!+Ժ.Նազարյան!#REF!+Դ.Դաբաղյան!#REF!+Գ.Պողոսյան!#REF!) -> #REF! | AN23: =SUM(Ս.Մնոյան!#REF!+'Է. Կարապետյան'!#REF!+'Կ․Դավթյան'!#REF!+Ժ.Նազարյան!#REF!+Դ.Դաբաղյան!#REF!+Գ.Պողոսյան!#REF!) -> #REF! | AO23: =SUM(Ս.Մնոյան!#REF!+'Է. Կարապետյան'!#REF!+'Կ․Դավթյան'!#REF!+Ժ.Նազարյան!#REF!+Դ.Դաբաղյան!#REF!+Գ.Պողոսյան!#REF!) -> #REF!
A24: 1.17 | B24: Ագրեսիան | C24: 149 | D24: =SUM(Ս.Մնոյան!D24+'Է. Կարապետյան'!D24+'Կ․Դավթյան'!D24+Ժ.Նազարյան!D24+Դ.Դաբաղյան!D24+Գ.Պողոսյան!D24) -> 0 | E24: =SUM(Ս.Մնոյան!E24+'Է. Կարապետյան'!E24+'Կ․Դավթյան'!E24+Ժ.Նազարյան!E24+Դ.Դաբաղյան!E24+Գ.Պողոսյան!E24) -> 0 | F24: =SUM(Ս.Մնոյան!F24+'Է. Կարապետյան'!F24+'Կ․Դավթյան'!F24+Ժ.Նազարյան!F24+Դ.Դաբաղյան!F24+Գ.Պողոսյան!F24) -> 0 | G24: =SUM(Ս.Մնոյան!G24+'Է. Կարապետյան'!G24+'Կ․Դավթյան'!G24+Ժ.Նազարյան!G24+Դ.Դաբաղյան!G24+Գ.Պողոսյան!G24) -> 0 | H24: =SUM(Ս.Մնոյան!H24+'Է. Կարապետյան'!H24+'Կ․Դավթյան'!H24+Ժ.Նազարյան!H24+Դ.Դաբաղյան!H24+Գ.Պողոսյան!H24) -> 0 | I24: =SUM(Ս.Մնոյան!I24+'Է. Կարապետյան'!I24+'Կ․Դավթյան'!I24+Ժ.Նազարյան!I24+Դ.Դաբաղյան!I24+Գ.Պողոսյան!I24) -> 0 | J24: =SUM(Ս.Մնոյան!J24+'Է. Կարապետյան'!J24+'Կ․Դավթյան'!J24+Ժ.Նազարյան!J24+Դ.Դաբաղյան!J24+Գ.Պողոսյան!J24) -> 0 | K24: =SUM(Ս.Մնոյան!K24+'Է. Կարապետյան'!K24+'Կ․Դավթյան'!K24+Ժ.Նազարյան!K24+Դ.Դաբաղյան!K24+Գ.Պողոսյան!K24) -> 0 | ... AG24: =SUM(Ս.Մնոյան!AG24+'Է. Կարապետյան'!AG24+'Կ․Դավթյան'!AG24+Ժ.Նազարյան!AG24+Դ.Դաբաղյան!AG24+Գ.Պողոսյան!AG24) -> 0 | AH24: =SUM(Ս.Մնոյան!#REF!+'Է. Կարապետյան'!#REF!+'Կ․Դավթյան'!#REF!+Ժ.Նազարյան!#REF!+Դ.Դաբաղյան!#REF!+Գ.Պողոսյան!#REF!) -> #REF! | AI24: =SUM(Ս.Մնոյան!#REF!+'Է. Կարապետյան'!#REF!+'Կ․Դավթյան'!#REF!+Ժ.Նազարյան!#REF!+Դ.Դաբաղյան!#REF!+Գ.Պողոսյան!#REF!) -> #REF! | AJ24: =SUM(Ս.Մնոյան!#REF!+'Է. Կարապետյան'!#REF!+'Կ․Դավթյան'!#REF!+Ժ.Նազարյան!#REF!+Դ.Դաբաղյան!#REF!+Գ.Պողոսյան!#REF!) -> #REF! | AK24: =SUM(Ս.Մնոյան!#REF!+'Է. Կարապետյան'!#REF!+'Կ․Դավթյան'!#REF!+Ժ.Նազարյան!#REF!+Դ.Դաբաղյան!#REF!+Գ.Պողոսյան!#REF!) -> #REF! | AL24: =SUM(Ս.Մնոյան!#REF!+'Է. Կարապետյան'!#REF!+'Կ․Դավթյան'!#REF!+Ժ.Նազարյան!#REF!+Դ.Դաբաղյան!#REF!+Գ.Պողոսյան!#REF!) -> #REF! | AM24: =SUM(Ս.Մնոյան!#REF!+'Է. Կարապետյան'!#REF!+'Կ․Դավթյան'!#REF!+Ժ.Նազարյան!#REF!+Դ.Դաբաղյան!#REF!+Գ.Պողոսյան!#REF!) -> #REF! | AN24: =SUM(Ս.Մնոյան!#REF!+'Է. Կարապետյան'!#REF!+'Կ․Դավթյան'!#REF!+Ժ.Նազարյան!#REF!+Դ.Դաբաղյան!#REF!+Գ.Պողոսյան!#REF!) -> #REF! | AO24: =SUM(Ս.Մնոյան!#REF!+'Է. Կարապետյան'!#REF!+'Կ․Դավթյան'!#REF!+Ժ.Նազարյան!#REF!+Դ.Դաբաղյան!#REF!+Գ.Պողոսյան!#REF!) -> #REF!
A25: 1.18 | B25: Համավարակի կամ մարդկության անվտանգությանն անմիջական սպառնալիքի իրավիճակի պայմաններում ագրեսիվ ռազմական գործողություններ նախաձեռնելը, իրականացնելը կամ դրանք չդադարեցնելը | C25: 150 | D25: =SUM(Ս.Մնոյան!D25+'Է. Կարապետյան'!D25+'Կ․Դավթյան'!D25+Ժ.Նազարյան!D25+Դ.Դաբաղյան!D25+Գ.Պողոսյան!D25) -> 0 | E25: =SUM(Ս.Մնոյան!E25+'Է. Կարապետյան'!E25+'Կ․Դավթյան'!E25+Ժ.Նազարյան!E25+Դ.Դաբաղյան!E25+Գ.Պողոսյան!E25) -> 0 | F25: =SUM(Ս.Մնոյան!F25+'Է. Կարապետյան'!F25+'Կ․Դավթյան'!F25+Ժ.Նազարյան!F25+Դ.Դաբաղյան!F25+Գ.Պողոսյան!F25) -> 0 | G25: =SUM(Ս.Մնոյան!G25+'Է. Կարապետյան'!G25+'Կ․Դավթյան'!G25+Ժ.Նազարյան!G25+Դ.Դաբաղյան!G25+Գ.Պողոսյան!G25) -> 0 | H25: =SUM(Ս.Մնոյան!H25+'Է. Կարապետյան'!H25+'Կ․Դավթյան'!H25+Ժ.Նազարյան!H25+Դ.Դաբաղյան!H25+Գ.Պողոսյան!H25) -> 0 | I25: =SUM(Ս.Մնոյան!I25+'Է. Կարապետյան'!I25+'Կ․Դավթյան'!I25+Ժ.Նազարյան!I25+Դ.Դաբաղյան!I25+Գ.Պողոսյան!I25) -> 0 | J25: =SUM(Ս.Մնոյան!J25+'Է. Կարապետյան'!J25+'Կ․Դավթյան'!J25+Ժ.Նազարյան!J25+Դ.Դաբաղյան!J25+Գ.Պողոսյան!J25) -> 0 | K25: =SUM(Ս.Մնոյան!K25+'Է. Կարապետյան'!K25+'Կ․Դավթյան'!K25+Ժ.Նազարյան!K25+Դ.Դաբաղյան!K25+Գ.Պողոսյան!K25) -> 0 | ... AG25: =SUM(Ս.Մնոյան!AG25+'Է. Կարապետյան'!AG25+'Կ․Դավթյան'!AG25+Ժ.Նազարյան!AG25+Դ.Դաբաղյան!AG25+Գ.Պողոսյան!AG25) -> 0 | AH25: =SUM(Ս.Մնոյան!#REF!+'Է. Կարապետյան'!#REF!+'Կ․Դավթյան'!#REF!+Ժ.Նազարյան!#REF!+Դ.Դաբաղյան!#REF!+Գ.Պողոսյան!#REF!) -> #REF! | AI25: =SUM(Ս.Մնոյան!#REF!+'Է. Կարապետյան'!#REF!+'Կ․Դավթյան'!#REF!+Ժ.Նազարյան!#REF!+Դ.Դաբաղյան!#REF!+Գ.Պողոսյան!#REF!) -> #REF! | AJ25: =SUM(Ս.Մնոյան!#REF!+'Է. Կարապետյան'!#REF!+'Կ․Դավթյան'!#REF!+Ժ.Նազարյան!#REF!+Դ.Դաբաղյան!#REF!+Գ.Պողոսյան!#REF!) -> #REF! | AK25: =SUM(Ս.Մնոյան!#REF!+'Է. Կարապետյան'!#REF!+'Կ․Դավթյան'!#REF!+Ժ.Նազարյան!#REF!+Դ.Դաբաղյան!#REF!+Գ.Պողոսյան!#REF!) -> #REF! | AL25: =SUM(Ս.Մնոյան!#REF!+'Է. Կարապետյան'!#REF!+'Կ․Դավթյան'!#REF!+Ժ.Նազարյան!#REF!+Դ.Դաբաղյան!#REF!+Գ.Պողոսյան!#REF!) -> #REF! | AM25: =SUM(Ս.Մնոյան!#REF!+'Է. Կարապետյան'!#REF!+'Կ․Դավթյան'!#REF!+Ժ.Նազարյան!#REF!+Դ.Դաբաղյան!#REF!+Գ.Պողոսյան!#REF!) -> #REF! | AN25: =SUM(Ս.Մնոյան!#REF!+'Է. Կարապետյան'!#REF!+'Կ․Դավթյան'!#REF!+Ժ.Նազարյան!#REF!+Դ.Դաբաղյան!#REF!+Գ.Պողոսյան!#REF!) -> #REF! | AO25: =SUM(Ս.Մնոյան!#REF!+'Է. Կարապետյան'!#REF!+'Կ․Դավթյան'!#REF!+Ժ.Նազարյան!#REF!+Դ.Դաբաղյան!#REF!+Գ.Պողոսյան!#REF!) -> #REF!
A26: 1.19 | B26: Ագրեսիա իրականացնելու ուղղակի և հրապարակային կոչերը | C26: 151 | D26: =SUM(Ս.Մնոյան!D26+'Է. Կարապետյան'!D26+'Կ․Դավթյան'!D26+Ժ.Նազարյան!D26+Դ.Դաբաղյան!D26+Գ.Պողոսյան!D26) -> 0 | E26: =SUM(Ս.Մնոյան!E26+'Է. Կարապետյան'!E26+'Կ․Դավթյան'!E26+Ժ.Նազարյան!E26+Դ.Դաբաղյան!E26+Գ.Պողոսյան!E26) -> 0 | F26: =SUM(Ս.Մնոյան!F26+'Է. Կարապետյան'!F26+'Կ․Դավթյան'!F26+Ժ.Նազարյան!F26+Դ.Դաբաղյան!F26+Գ.Պողոսյան!F26) -> 0 | G26: =SUM(Ս.Մնոյան!G26+'Է. Կարապետյան'!G26+'Կ․Դավթյան'!G26+Ժ.Նազարյան!G26+Դ.Դաբաղյան!G26+Գ.Պողոսյան!G26) -> 0 | H26: =SUM(Ս.Մնոյան!H26+'Է. Կարապետյան'!H26+'Կ․Դավթյան'!H26+Ժ.Նազարյան!H26+Դ.Դաբաղյան!H26+Գ.Պողոսյան!H26) -> 0 | I26: =SUM(Ս.Մնոյան!I26+'Է. Կարապետյան'!I26+'Կ․Դավթյան'!I26+Ժ.Նազարյան!I26+Դ.Դաբաղյան!I26+Գ.Պողոսյան!I26) -> 0 | J26: =SUM(Ս.Մնոյան!J26+'Է. Կարապետյան'!J26+'Կ․Դավթյան'!J26+Ժ.Նազարյան!J26+Դ.Դաբաղյան!J26+Գ.Պողոսյան!J26) -> 0 | K26: =SUM(Ս.Մնոյան!K26+'Է. Կարապետյան'!K26+'Կ․Դավթյան'!K26+Ժ.Նազարյան!K26+Դ.Դաբաղյան!K26+Գ.Պողոսյան!K26) -> 0 | ... AG26: =SUM(Ս.Մնոյան!AG26+'Է. Կարապետյան'!AG26+'Կ․Դավթյան'!AG26+Ժ.Նազարյան!AG26+Դ.Դաբաղյան!AG26+Գ.Պողոսյան!AG26) -> 0 | AH26: =SUM(Ս.Մնոյան!#REF!+'Է. Կարապետյան'!#REF!+'Կ․Դավթյան'!#REF!+Ժ.Նազարյան!#REF!+Դ.Դաբաղյան!#REF!+Գ.Պողոսյան!#REF!) -> #REF! | AI26: =SUM(Ս.Մնոյան!#REF!+'Է. Կարապետյան'!#REF!+'Կ․Դավթյան'!#REF!+Ժ.Նազարյան!#REF!+Դ.Դաբաղյան!#REF!+Գ.Պողոսյան!#REF!) -> #REF! | AJ26: =SUM(Ս.Մնոյան!#REF!+'Է. Կարապետյան'!#REF!+'Կ․Դավթյան'!#REF!+Ժ.Նազարյան!#REF!+Դ.Դաբաղյան!#REF!+Գ.Պողոսյան!#REF!) -> #REF! | AK26: =SUM(Ս.Մնոյան!#REF!+'Է. Կարապետյան'!#REF!+'Կ․Դավթյան'!#REF!+Ժ.Նազարյան!#REF!+Դ.Դաբաղյան!#REF!+Գ.Պողոսյան!#REF!) -> #REF! | AL26: =SUM(Ս.Մնոյան!#REF!+'Է. Կարապետյան'!#REF!+'Կ․Դավթյան'!#REF!+Ժ.Նազարյան!#REF!+Դ.Դաբաղյան!#REF!+Գ.Պողոսյան!#REF!) -> #REF! | AM26: =SUM(Ս.Մնոյան!#REF!+'Է. Կարապետյան'!#REF!+'Կ․Դավթյան'!#REF!+Ժ.Նազարյան!#REF!+Դ.Դաբաղյան!#REF!+Գ.Պողոսյան!#REF!) -> #REF! | AN26: =SUM(Ս.Մնոյան!#REF!+'Է. Կարապետյան'!#REF!+'Կ․Դավթյան'!#REF!+Ժ.Նազարյան!#REF!+Դ.Դաբաղյան!#REF!+Գ.Պողոսյան!#REF!) -> #REF! | AO26: =SUM(Ս.Մնոյան!#REF!+'Է. Կարապետյան'!#REF!+'Կ․Դավթյան'!#REF!+Ժ.Նազարյան!#REF!+Դ.Դաբաղյան!#REF!+Գ.Պողոսյան!#REF!) -> #REF!
A27: 1.20 | B27: Միջազգային ահաբեկչությունը | C27: 152 | D27: =SUM(Ս.Մնոյան!D27+'Է. Կարապետյան'!D27+'Կ․Դավթյան'!D27+Ժ.Նազարյան!D27+Դ.Դաբաղյան!D27+Գ.Պողոսյան!D27) -> 0 | E27: =SUM(Ս.Մնոյան!E27+'Է. Կարապետյան'!E27+'Կ․Դավթյան'!E27+Ժ.Նազարյան!E27+Դ.Դաբաղյան!E27+Գ.Պողոսյան!E27) -> 0 | F27: =SUM(Ս.Մնոյան!F27+'Է. Կարապետյան'!F27+'Կ․Դավթյան'!F27+Ժ.Նազարյան!F27+Դ.Դաբաղյան!F27+Գ.Պողոսյան!F27) -> 0 | G27: =SUM(Ս.Մնոյան!G27+'Է. Կարապետյան'!G27+'Կ․Դավթյան'!G27+Ժ.Նազարյան!G27+Դ.Դաբաղյան!G27+Գ.Պողոսյան!G27) -> 0 | H27: =SUM(Ս.Մնոյան!H27+'Է. Կարապետյան'!H27+'Կ․Դավթյան'!H27+Ժ.Նազարյան!H27+Դ.Դաբաղյան!H27+Գ.Պողոսյան!H27) -> 0 | I27: =SUM(Ս.Մնոյան!I27+'Է. Կարապետյան'!I27+'Կ․Դավթյան'!I27+Ժ.Նազարյան!I27+Դ.Դաբաղյան!I27+Գ.Պողոսյան!I27) -> 0 | J27: =SUM(Ս.Մնոյան!J27+'Է. Կարապետյան'!J27+'Կ․Դավթյան'!J27+Ժ.Նազարյան!J27+Դ.Դաբաղյան!J27+Գ.Պողոսյան!J27) -> 0 | K27: =SUM(Ս.Մնոյան!K27+'Է. Կարապետյան'!K27+'Կ․Դավթյան'!K27+Ժ.Նազարյան!K27+Դ.Դաբաղյան!K27+Գ.Պողոսյան!K27) -> 0 | ... AG27: =SUM(Ս.Մնոյան!AG27+'Է. Կարապետյան'!AG27+'Կ․Դավթյան'!AG27+Ժ.Նազարյան!AG27+Դ.Դաբաղյան!AG27+Գ.Պողոսյան!AG27) -> 0 | AH27: =SUM(Ս.Մնոյան!#REF!+'Է. Կարապետյան'!#REF!+'Կ․Դավթյան'!#REF!+Ժ.Նազարյան!#REF!+Դ.Դաբաղյան!#REF!+Գ.Պողոսյան!#REF!) -> #REF! | AI27: =SUM(Ս.Մնոյան!#REF!+'Է. Կարապետյան'!#REF!+'Կ․Դավթյան'!#REF!+Ժ.Նազարյան!#REF!+Դ.Դաբաղյան!#REF!+Գ.Պողոսյան!#REF!) -> #REF! | AJ27: =SUM(Ս.Մնոյան!#REF!+'Է. Կարապետյան'!#REF!+'Կ․Դավթյան'!#REF!+Ժ.Նազարյան!#REF!+Դ.Դաբաղյան!#REF!+Գ.Պողոսյան!#REF!) -> #REF! | AK27: =SUM(Ս.Մնոյան!#REF!+'Է. Կարապետյան'!#REF!+'Կ․Դավթյան'!#REF!+Ժ.Նազարյան!#REF!+Դ.Դաբաղյան!#REF!+Գ.Պողոսյան!#REF!) -> #REF! | AL27: =SUM(Ս.Մնոյան!#REF!+'Է. Կարապետյան'!#REF!+'Կ․Դավթյան'!#REF!+Ժ.Նազարյան!#REF!+Դ.Դաբաղյան!#REF!+Գ.Պողոսյան!#REF!) -> #REF! | AM27: =SUM(Ս.Մնոյան!#REF!+'Է. Կարապետյան'!#REF!+'Կ․Դավթյան'!#REF!+Ժ.Նազարյան!#REF!+Դ.Դաբաղյան!#REF!+Գ.Պողոսյան!#REF!) -> #REF! | AN27: =SUM(Ս.Մնոյան!#REF!+'Է. Կարապետյան'!#REF!+'Կ․Դավթյան'!#REF!+Ժ.Նազարյան!#REF!+Դ.Դաբաղյան!#REF!+Գ.Պողոսյան!#REF!) -> #REF! | AO27: =SUM(Ս.Մնոյան!#REF!+'Է. Կարապետյան'!#REF!+'Կ․Դավթյան'!#REF!+Ժ.Նազարյան!#REF!+Դ.Դաբաղյան!#REF!+Գ.Պողոսյան!#REF!) -> #REF!
A28: 1.21 | B28: Զանգվածային ոչնչացման զենք ստեղծելը, տրամադրելը, փորձարկելը կամ կիրառելը | C28: 153 | D28: =SUM(Ս.Մնոյան!D28+'Է. Կարապետյան'!D28+'Կ․Դավթյան'!D28+Ժ.Նազարյան!D28+Դ.Դաբաղյան!D28+Գ.Պողոսյան!D28) -> 0 | E28: =SUM(Ս.Մնոյան!E28+'Է. Կարապետյան'!E28+'Կ․Դավթյան'!E28+Ժ.Նազարյան!E28+Դ.Դաբաղյան!E28+Գ.Պողոսյան!E28) -> 0 | F28: =SUM(Ս.Մնոյան!F28+'Է. Կարապետյան'!F28+'Կ․Դավթյան'!F28+Ժ.Նազարյան!F28+Դ.Դաբաղյան!F28+Գ.Պողոսյան!F28) -> 0 | G28: =SUM(Ս.Մնոյան!G28+'Է. Կարապետյան'!G28+'Կ․Դավթյան'!G28+Ժ.Նազարյան!G28+Դ.Դաբաղյան!G28+Գ.Պողոսյան!G28) -> 0 | H28: =SUM(Ս.Մնոյան!H28+'Է. Կարապետյան'!H28+'Կ․Դավթյան'!H28+Ժ.Նազարյան!H28+Դ.Դաբաղյան!H28+Գ.Պողոսյան!H28) -> 0 | I28: =SUM(Ս.Մնոյան!I28+'Է. Կարապետյան'!I28+'Կ․Դավթյան'!I28+Ժ.Նազարյան!I28+Դ.Դաբաղյան!I28+Գ.Պողոսյան!I28) -> 0 | J28: =SUM(Ս.Մնոյան!J28+'Է. Կարապետյան'!J28+'Կ․Դավթյան'!J28+Ժ.Նազարյան!J28+Դ.Դաբաղյան!J28+Գ.Պողոսյան!J28) -> 0 | K28: =SUM(Ս.Մնոյան!K28+'Է. Կարապետյան'!K28+'Կ․Դավթյան'!K28+Ժ.Նազարյան!K28+Դ.Դաբաղյան!K28+Գ.Պողոսյան!K28) -> 0 | ... AG28: =SUM(Ս.Մնոյան!AG28+'Է. Կարապետյան'!AG28+'Կ․Դավթյան'!AG28+Ժ.Նազարյան!AG28+Դ.Դաբաղյան!AG28+Գ.Պողոսյան!AG28) -> 0 | AH28: =SUM(Ս.Մնոյան!#REF!+'Է. Կարապետյան'!#REF!+'Կ․Դավթյան'!#REF!+Ժ.Նազարյան!#REF!+Դ.Դաբաղյան!#REF!+Գ.Պողոսյան!#REF!) -> #REF! | AI28: =SUM(Ս.Մնոյան!#REF!+'Է. Կարապետյան'!#REF!+'Կ․Դավթյան'!#REF!+Ժ.Նազարյան!#REF!+Դ.Դաբաղյան!#REF!+Գ.Պողոսյան!#REF!) -> #REF! | AJ28: =SUM(Ս.Մնոյան!#REF!+'Է. Կարապետյան'!#REF!+'Կ․Դավթյան'!#REF!+Ժ.Նազարյան!#REF!+Դ.Դաբաղյան!#REF!+Գ.Պողոսյան!#REF!) -> #REF! | AK28: =SUM(Ս.Մնոյան!#REF!+'Է. Կարապետյան'!#REF!+'Կ․Դավթյան'!#REF!+Ժ.Նազարյան!#REF!+Դ.Դաբաղյան!#REF!+Գ.Պողոսյան!#REF!) -> #REF! | AL28: =SUM(Ս.Մնոյան!#REF!+'Է. Կարապետյան'!#REF!+'Կ․Դավթյան'!#REF!+Ժ.Նազարյան!#REF!+Դ.Դաբաղյան!#REF!+Գ.Պողոսյան!#REF!) -> #REF! | AM28: =SUM(Ս.Մնոյան!#REF!+'Է. Կարապետյան'!#REF!+'Կ․Դավթյան'!#REF!+Ժ.Նազարյան!#REF!+Դ.Դաբաղյան!#REF!+Գ.Պողոսյան!#REF!) -> #REF! | AN28: =SUM(Ս.Մնոյան!#REF!+'Է. Կարապետյան'!#REF!+'Կ․Դավթյան'!#REF!+Ժ.Նազարյան!#REF!+Դ.Դաբաղյան!#REF!+Գ.Պողոսյան!#REF!) -> #REF! | AO28: =SUM(Ս.Մնոյան!#REF!+'Է. Կարապետյան'!#REF!+'Կ․Դավթյան'!#REF!+Ժ.Նազարյան!#REF!+Դ.Դաբաղյան!#REF!+Գ.Պողոսյան!#REF!) -> #REF!
A29: 1.22 | B29: Էկոցիդը | C29: 154 | D29: =SUM(Ս.Մնոյան!D29+'Է. Կարապետյան'!D29+'Կ․Դավթյան'!D29+Ժ.Նազարյան!D29+Դ.Դաբաղյան!D29+Գ.Պողոսյան!D29) -> 0 | E29: =SUM(Ս.Մնոյան!E29+'Է. Կարապետյան'!E29+'Կ․Դավթյան'!E29+Ժ.Նազարյան!E29+Դ.Դաբաղյան!E29+Գ.Պողոսյան!E29) -> 0 | F29: =SUM(Ս.Մնոյան!F29+'Է. Կարապետյան'!F29+'Կ․Դավթյան'!F29+Ժ.Նազարյան!F29+Դ.Դաբաղյան!F29+Գ.Պողոսյան!F29) -> 0 | G29: =SUM(Ս.Մնոյան!G29+'Է. Կարապետյան'!G29+'Կ․Դավթյան'!G29+Ժ.Նազարյան!G29+Դ.Դաբաղյան!G29+Գ.Պողոսյան!G29) -> 0 | H29: =SUM(Ս.Մնոյան!H29+'Է. Կարապետյան'!H29+'Կ․Դավթյան'!H29+Ժ.Նազարյան!H29+Դ.Դաբաղյան!H29+Գ.Պողոսյան!H29) -> 0 | I29: =SUM(Ս.Մնոյան!I29+'Է. Կարապետյան'!I29+'Կ․Դավթյան'!I29+Ժ.Նազարյան!I29+Դ.Դաբաղյան!I29+Գ.Պողոսյան!I29) -> 0 | J29: =SUM(Ս.Մնոյան!J29+'Է. Կարապետյան'!J29+'Կ․Դավթյան'!J29+Ժ.Նազարյան!J29+Դ.Դաբաղյան!J29+Գ.Պողոսյան!J29) -> 0 | K29: =SUM(Ս.Մնոյան!K29+'Է. Կարապետյան'!K29+'Կ․Դավթյան'!K29+Ժ.Նազարյան!K29+Դ.Դաբաղյան!K29+Գ.Պողոսյան!K29) -> 0 | ... AG29: =SUM(Ս.Մնոյան!AG29+'Է. Կարապետյան'!AG29+'Կ․Դավթյան'!AG29+Ժ.Նազարյան!AG29+Դ.Դաբաղյան!AG29+Գ.Պողոսյան!AG29) -> 0 | AH29: =SUM(Ս.Մնոյան!#REF!+'Է. Կարապետյան'!#REF!+'Կ․Դավթյան'!#REF!+Ժ.Նազարյան!#REF!+Դ.Դաբաղյան!#REF!+Գ.Պողոսյան!#REF!) -> #REF! | AI29: =SUM(Ս.Մնոյան!#REF!+'Է. Կարապետյան'!#REF!+'Կ․Դավթյան'!#REF!+Ժ.Նազարյան!#REF!+Դ.Դաբաղյան!#REF!+Գ.Պողոսյան!#REF!) -> #REF! | AJ29: =SUM(Ս.Մնոյան!#REF!+'Է. Կարապետյան'!#REF!+'Կ․Դավթյան'!#REF!+Ժ.Նազարյան!#REF!+Դ.Դաբաղյան!#REF!+Գ.Պողոսյան!#REF!) -> #REF! | AK29: =SUM(Ս.Մնոյան!#REF!+'Է. Կարապետյան'!#REF!+'Կ․Դավթյան'!#REF!+Ժ.Նազարյան!#REF!+Դ.Դաբաղյան!#REF!+Գ.Պողոսյան!#REF!) -> #REF! | AL29: =SUM(Ս.Մնոյան!#REF!+'Է. Կարապետյան'!#REF!+'Կ․Դավթյան'!#REF!+Ժ.Նազարյան!#REF!+Դ.Դաբաղյան!#REF!+Գ.Պողոսյան!#REF!) -> #REF! | AM29: =SUM(Ս.Մնոյան!#REF!+'Է. Կարապետյան'!#REF!+'Կ․Դավթյան'!#REF!+Ժ.Նազարյան!#REF!+Դ.Դաբաղյան!#REF!+Գ.Պողոսյան!#REF!) -> #REF! | AN29: =SUM(Ս.Մնոյան!#REF!+'Է. Կարապետյան'!#REF!+'Կ․Դավթյան'!#REF!+Ժ.Նազարյան!#REF!+Դ.Դաբաղյան!#REF!+Գ.Պողոսյան!#REF!) -> #REF! | AO29: =SUM(Ս.Մնոյան!#REF!+'Է. Կարապետյան'!#REF!+'Կ․Դավթյան'!#REF!+Ժ.Նազարյան!#REF!+Դ.Դաբաղյան!#REF!+Գ.Պողոսյան!#REF!) -> #REF!
A30: 2 | B30: Ընդհամենը մարդու կյանքի դեմ ուղղված հանցագործությունները | D30: =SUM(Ս.Մնոյան!D30+'Է. Կարապետյան'!D30+'Կ․Դավթյան'!D30+Ժ.Նազարյան!D30+Դ.Դաբաղյան!D30+Գ.Պողոսյան!D30) -> 5 | E30: =SUM(Ս.Մնոյան!E30+'Է. Կարապետյան'!E30+'Կ․Դավթյան'!E30+Ժ.Նազարյան!E30+Դ.Դաբաղյան!E30+Գ.Պողոսյան!E30) -> 0 | F30: =SUM(Ս.Մնոյան!F30+'Է. Կարապետյան'!F30+'Կ․Դավթյան'!F30+Ժ.Նազարյան!F30+Դ.Դաբաղյան!F30+Գ.Պողոսյան!F30) -> 5 | G30: =SUM(Ս.Մնոյան!G30+'Է. Կարապետյան'!G30+'Կ․Դավթյան'!G30+Ժ.Նազարյան!G30+Դ.Դաբաղյան!G30+Գ.Պողոսյան!G30) -> 2 | H30: =SUM(Ս.Մնոյան!H30+'Է. Կարապետյան'!H30+'Կ․Դավթյան'!H30+Ժ.Նազարյան!H30+Դ.Դաբաղյան!H30+Գ.Պողոսյան!H30) -> 0 | I30: =SUM(Ս.Մնոյան!I30+'Է. Կարապետյան'!I30+'Կ․Դավթյան'!I30+Ժ.Նազարյան!I30+Դ.Դաբաղյան!I30+Գ.Պողոսյան!I30) -> 0 | J30: =SUM(Ս.Մնոյան!J30+'Է. Կարապետյան'!J30+'Կ․Դավթյան'!J30+Ժ.Նազարյան!J30+Դ.Դաբաղյան!J30+Գ.Պողոսյան!J30) -> 0 | K30: =SUM(Ս.Մնոյան!K30+'Է. Կարապետյան'!K30+'Կ․Դավթյան'!K30+Ժ.Նազարյան!K30+Դ.Դաբաղյան!K30+Գ.Պողոսյան!K30) -> 1 | ... AG30: =SUM(Ս.Մնոյան!AG30+'Է. Կարապետյան'!AG30+'Կ․Դավթյան'!AG30+Ժ.Նազարյան!AG30+Դ.Դաբաղյան!AG30+Գ.Պողոսյան!AG30) -> 0 | AH30: =SUM(Ս.Մնոյան!#REF!+'Է. Կարապետյան'!#REF!+'Կ․Դավթյան'!#REF!+Ժ.Նազարյան!#REF!+Դ.Դաբաղյան!#REF!+Գ.Պողոսյան!#REF!) -> #REF! | AI30: =SUM(Ս.Մնոյան!#REF!+'Է. Կարապետյան'!#REF!+'Կ․Դավթյան'!#REF!+Ժ.Նազարյան!#REF!+Դ.Դաբաղյան!#REF!+Գ.Պողոսյան!#REF!) -> #REF! | AJ30: =SUM(Ս.Մնոյան!#REF!+'Է. Կարապետյան'!#REF!+'Կ․Դավթյան'!#REF!+Ժ.Նազարյան!#REF!+Դ.Դաբաղյան!#REF!+Գ.Պողոսյան!#REF!) -> #REF! | AK30: =SUM(Ս.Մնոյան!#REF!+'Է. Կարապետյան'!#REF!+'Կ․Դավթյան'!#REF!+Ժ.Նազարյան!#REF!+Դ.Դաբաղյան!#REF!+Գ.Պողոսյան!#REF!) -> #REF! | AL30: =SUM(Ս.Մնոյան!#REF!+'Է. Կարապետյան'!#REF!+'Կ․Դավթյան'!#REF!+Ժ.Նազարյան!#REF!+Դ.Դաբաղյան!#REF!+Գ.Պողոսյան!#REF!) -> #REF! | AM30: =SUM(Ս.Մնոյան!#REF!+'Է. Կարապետյան'!#REF!+'Կ․Դավթյան'!#REF!+Ժ.Նազարյան!#REF!+Դ.Դաբաղյան!#REF!+Գ.Պողոսյան!#REF!) -> #REF! | AN30: =SUM(Ս.Մնոյան!#REF!+'Է. Կարապետյան'!#REF!+'Կ․Դավթյան'!#REF!+Ժ.Նազարյան!#REF!+Դ.Դաբաղյան!#REF!+Գ.Պողոսյան!#REF!) -> #REF! | AO30: =SUM(Ս.Մնոյան!#REF!+'Է. Կարապետյան'!#REF!+'Կ․Դավթյան'!#REF!+Ժ.Նազարյան!#REF!+Դ.Դաբաղյան!#REF!+Գ.Պողոսյան!#REF!) -> #REF!
A31: 2.1 | B31: Սպանությունը | C31: 155 | D31: =SUM(Ս.Մնոյան!D31+'Է. Կարապետյան'!D31+'Կ․Դավթյան'!D31+Ժ.Նազարյան!D31+Դ.Դաբաղյան!D31+Գ.Պողոսյան!D31) -> 5 | E31: =SUM(Ս.Մնոյան!E31+'Է. Կարապետյան'!E31+'Կ․Դավթյան'!E31+Ժ.Նազարյան!E31+Դ.Դաբաղյան!E31+Գ.Պողոսյան!E31) -> 0 | F31: =SUM(Ս.Մնոյան!F31+'Է. Կարապետյան'!F31+'Կ․Դավթյան'!F31+Ժ.Նազարյան!F31+Դ.Դաբաղյան!F31+Գ.Պողոսյան!F31) -> 4 | G31: =SUM(Ս.Մնոյան!G31+'Է. Կարապետյան'!G31+'Կ․Դավթյան'!G31+Ժ.Նազարյան!G31+Դ.Դաբաղյան!G31+Գ.Պողոսյան!G31) -> 2 | H31: =SUM(Ս.Մնոյան!H31+'Է. Կարապետյան'!H31+'Կ․Դավթյան'!H31+Ժ.Նազարյան!H31+Դ.Դաբաղյան!H31+Գ.Պողոսյան!H31) -> 0 | I31: =SUM(Ս.Մնոյան!I31+'Է. Կարապետյան'!I31+'Կ․Դավթյան'!I31+Ժ.Նազարյան!I31+Դ.Դաբաղյան!I31+Գ.Պողոսյան!I31) -> 0 | J31: =SUM(Ս.Մնոյան!J31+'Է. Կարապետյան'!J31+'Կ․Դավթյան'!J31+Ժ.Նազարյան!J31+Դ.Դաբաղյան!J31+Գ.Պողոսյան!J31) -> 0 | K31: =SUM(Ս.Մնոյան!K31+'Է. Կարապետյան'!K31+'Կ․Դավթյան'!K31+Ժ.Նազարյան!K31+Դ.Դաբաղյան!K31+Գ.Պողոսյան!K31) -> 1 | ... AG31: =SUM(Ս.Մնոյան!AG31+'Է. Կարապետյան'!AG31+'Կ․Դավթյան'!AG31+Ժ.Նազարյան!AG31+Դ.Դաբաղյան!AG31+Գ.Պողոսյան!AG31) -> 0 | AH31: =SUM(Ս.Մնոյան!#REF!+'Է. Կարապետյան'!#REF!+'Կ․Դավթյան'!#REF!+Ժ.Նազարյան!#REF!+Դ.Դաբաղյան!#REF!+Գ.Պողոսյան!#REF!) -> #REF! | AI31: =SUM(Ս.Մնոյան!#REF!+'Է. Կարապետյան'!#REF!+'Կ․Դավթյան'!#REF!+Ժ.Նազարյան!#REF!+Դ.Դաբաղյան!#REF!+Գ.Պողոսյան!#REF!) -> #REF! | AJ31: =SUM(Ս.Մնոյան!#REF!+'Է. Կարապետյան'!#REF!+'Կ․Դավթյան'!#REF!+Ժ.Նազարյան!#REF!+Դ.Դաբաղյան!#REF!+Գ.Պողոսյան!#REF!) -> #REF! | AK31: =SUM(Ս.Մնոյան!#REF!+'Է. Կարապետյան'!#REF!+'Կ․Դավթյան'!#REF!+Ժ.Նազարյան!#REF!+Դ.Դաբաղյան!#REF!+Գ.Պողոսյան!#REF!) -> #REF! | AL31: =SUM(Ս.Մնոյան!#REF!+'Է. Կարապետյան'!#REF!+'Կ․Դավթյան'!#REF!+Ժ.Նազարյան!#REF!+Դ.Դաբաղյան!#REF!+Գ.Պողոսյան!#REF!) -> #REF! | AM31: =SUM(Ս.Մնոյան!#REF!+'Է. Կարապետյան'!#REF!+'Կ․Դավթյան'!#REF!+Ժ.Նազարյան!#REF!+Դ.Դաբաղյան!#REF!+Գ.Պողոսյան!#REF!) -> #REF! | AN31: =SUM(Ս.Մնոյան!#REF!+'Է. Կարապետյան'!#REF!+'Կ․Դավթյան'!#REF!+Ժ.Նազարյան!#REF!+Դ.Դաբաղյան!#REF!+Գ.Պողոսյան!#REF!) -> #REF! | AO31: =SUM(Ս.Մնոյան!#REF!+'Է. Կարապետյան'!#REF!+'Կ․Դավթյան'!#REF!+Ժ.Նազարյան!#REF!+Դ.Դաբաղյան!#REF!+Գ.Պողոսյան!#REF!) -> #REF!
A32: 2.2 | B32: Հոգեկան խիստ հուզմունքի վիճակում կատարված սպանությունը | C32: 156 | D32: =SUM(Ս.Մնոյան!D32+'Է. Կարապետյան'!D32+'Կ․Դավթյան'!D32+Ժ.Նազարյան!D32+Դ.Դաբաղյան!D32+Գ.Պողոսյան!D32) -> 0 | E32: =SUM(Ս.Մնոյան!E32+'Է. Կարապետյան'!E32+'Կ․Դավթյան'!E32+Ժ.Նազարյան!E32+Դ.Դաբաղյան!E32+Գ.Պողոսյան!E32) -> 0 | F32: =SUM(Ս.Մնոյան!F32+'Է. Կարապետյան'!F32+'Կ․Դավթյան'!F32+Ժ.Նազարյան!F32+Դ.Դաբաղյան!F32+Գ.Պողոսյան!F32) -> 0 | G32: =SUM(Ս.Մնոյան!G32+'Է. Կարապետյան'!G32+'Կ․Դավթյան'!G32+Ժ.Նազարյան!G32+Դ.Դաբաղյան!G32+Գ.Պողոսյան!G32) -> 0 | H32: =SUM(Ս.Մնոյան!H32+'Է. Կարապետյան'!H32+'Կ․Դավթյան'!H32+Ժ.Նազարյան!H32+Դ.Դաբաղյան!H32+Գ.Պողոսյան!H32) -> 0 | I32: =SUM(Ս.Մնոյան!I32+'Է. Կարապետյան'!I32+'Կ․Դավթյան'!I32+Ժ.Նազարյան!I32+Դ.Դաբաղյան!I32+Գ.Պողոսյան!I32) -> 0 | J32: =SUM(Ս.Մնոյան!J32+'Է. Կարապետյան'!J32+'Կ․Դավթյան'!J32+Ժ.Նազարյան!J32+Դ.Դաբաղյան!J32+Գ.Պողոսյան!J32) -> 0 | K32: =SUM(Ս.Մնոյան!K32+'Է. Կարապետյան'!K32+'Կ․Դավթյան'!K32+Ժ.Նազարյան!K32+Դ.Դաբաղյան!K32+Գ.Պողոսյան!K32) -> 0 | ... AG32: =SUM(Ս.Մնոյան!AG32+'Է. Կարապետյան'!AG32+'Կ․Դավթյան'!AG32+Ժ.Նազարյան!AG32+Դ.Դաբաղյան!AG32+Գ.Պողոսյան!AG32) -> 0 | AH32: =SUM(Ս.Մնոյան!#REF!+'Է. Կարապետյան'!#REF!+'Կ․Դավթյան'!#REF!+Ժ.Նազարյան!#REF!+Դ.Դաբաղյան!#REF!+Գ.Պողոսյան!#REF!) -> #REF! | AI32: =SUM(Ս.Մնոյան!#REF!+'Է. Կարապետյան'!#REF!+'Կ․Դավթյան'!#REF!+Ժ.Նազարյան!#REF!+Դ.Դաբաղյան!#REF!+Գ.Պողոսյան!#REF!) -> #REF! | AJ32: =SUM(Ս.Մնոյան!#REF!+'Է. Կարապետյան'!#REF!+'Կ․Դավթյան'!#REF!+Ժ.Նազարյան!#REF!+Դ.Դաբաղյան!#REF!+Գ.Պողոսյան!#REF!) -> #REF! | AK32: =SUM(Ս.Մնոյան!#REF!+'Է. Կարապետյան'!#REF!+'Կ․Դավթյան'!#REF!+Ժ.Նազարյան!#REF!+Դ.Դաբաղյան!#REF!+Գ.Պողոսյան!#REF!) -> #REF! | AL32: =SUM(Ս.Մնոյան!#REF!+'Է. Կարապետյան'!#REF!+'Կ․Դավթյան'!#REF!+Ժ.Նազարյան!#REF!+Դ.Դաբաղյան!#REF!+Գ.Պողոսյան!#REF!) -> #REF! | AM32: =SUM(Ս.Մնոյան!#REF!+'Է. Կարապետյան'!#REF!+'Կ․Դավթյան'!#REF!+Ժ.Նազարյան!#REF!+Դ.Դաբաղյան!#REF!+Գ.Պողոսյան!#REF!) -> #REF! | AN32: =SUM(Ս.Մնոյան!#REF!+'Է. Կարապետյան'!#REF!+'Կ․Դավթյան'!#REF!+Ժ.Նազարյան!#REF!+Դ.Դաբաղյան!#REF!+Գ.Պողոսյան!#REF!) -> #REF! | AO32: =SUM(Ս.Մնոյան!#REF!+'Է. Կարապետյան'!#REF!+'Կ․Դավթյան'!#REF!+Ժ.Նազարյան!#REF!+Դ.Դաբաղյան!#REF!+Գ.Պողոսյան!#REF!) -> #REF!
