Workbook

Sheet Ընդհանուր
A1: 2019թ. տարեկան | D1: ՀԱՇՎԵՏՎՈՒԹՅՈՒՆ
A2: ՀՀ ԱՌԱՋԻՆ ԱՏՅԱՆԻ ԸՆԴՀԱՆՈՒՐ ԻՐԱՎԱՍՈՒԹՅԱՆ ԴԱՏԱՐԱՆՆԵՐՈՒՄ ՔՐԵԱԿԱՆ ԳՈՐԾԵՐԻ ՔՆՆՈՒԹՅԱՆ ՎԵՐԱԲԵՐՅԱԼ
A4: Ստուգիչ հավասարումներ` 1+3=7+8+10, 7=4+5+6, 14=12+13, 17=15+16 | C4: ՀՀ քրեական օրենսգրքի հոդվածներ | D4: Հաշվետու ժամանակահատվածի սկզբում նախորդ հաշվետու ժամանակահատվածից փոխանցված գործերի ընդհանուր թիվը | E4: Այդ թվում` կասեցված վիճակում փոխանցված | F4: Հաշվետու ժամանակահատվածում ստացված գործերի ընդհանուր թիվը | G4: Հաշվետու ժամանակահատվածում ավարտված գործերի ընդհանուր թիվը | K4: Ուղարկվել է ըստ ընդդատության | L4: Հաշվետու ժամանակահատվածում կասեցված վարույթներով գործերի ընդհանուր թիվը | M4: Հաշվետու ժամանակահատվածում անավարտ գործերի ընդհանուր թիվը | N4: Այդ թվում՝ կասեցված | O4: Բողոքարկված դատական ակտերի թիվը` ըստ տեսակների | R4: Բեկանված դատական ակտերի թիվը` ըստ տեսակների
G5: Քննվել է ըստ էության և դատավճիռ կայացվել | H5: Որոշում է կայացվել քրեական գործի վարույթը կարճելու և քրեական հետապնդումը դադարեցնելու մասին | I5: Որոշում է կայացվել անմեղսունակների նկատմամբ բժշկական բնույթի հարկադրական միջոցներ կիրառելու մասին | J5: Ընդամենը ավարտվել են գործեր | O5: Այդ թվում` գործն ըստ էության լուծող դատական ակտերը | P5: Այդ թվում` միջանկյալ դատական ակտերը | Q5: Ընդամենը | R5: Այդ թվում` գործն ըստ էության լուծող դատական ակտերը | S5: Այդ թվում` միջանկյալ դատական ակտերը | T5: Ընդամենը
D6: 1 | E6: 2 | F6: 3 | G6: 4 | H6: 5 | I6: 6 | J6: 7 | K6: 8 | L6: 9 | M6: 10 | N6: 11 | O6: 12 | P6: 13 | Q6: 14 | R6: 15 | S6: 16 | T6: 17
A7: 1. | B7: Ընդամենը կյանքի և առողջության դեմ ուղղված հանցագործությունները | D7: =SUM('Երևան քաղաք:Սյունիք'!D7) -> 311 | E7: =SUM('Երևան քաղաք:Սյունիք'!E7) -> 7 | F7: =SUM('Երևան քաղաք:Սյունիք'!F7) -> 487 | G7: =SUM('Երևան քաղաք:Սյունիք'!G7) -> 248 | H7: =SUM('Երևան քաղաք:Սյունիք'!H7) -> 90 | I7: =SUM('Երևան քաղաք:Սյունիք'!I7) -> 29 | J7: =SUM('Երևան քաղաք:Սյունիք'!J7) -> 368 | K7: =SUM('Երևան քաղաք:Սյունիք'!K7) -> 2 | ... T7: =SUM('Երևան քաղաք:Սյունիք'!T7) -> 5
A8: 1.1 | B8: Սպանությունը | C8: 104 | D8: =SUM('Երևան քաղաք:Սյունիք'!D8) -> 99 | E8: =SUM('Երևան քաղաք:Սյունիք'!E8) -> 1 | F8: =SUM('Երևան քաղաք:Սյունիք'!F8) -> 63 | G8: =SUM('Երևան քաղաք:Սյունիք'!G8) -> 35 | H8: =SUM('Երևան քաղաք:Սյունիք'!H8) -> 0 | I8: =SUM('Երևան քաղաք:Սյունիք'!I8) -> 9 | J8: =SUM('Երևան քաղաք:Սյունիք'!J8) -> 44 | K8: =SUM('Երևան քաղաք:Սյունիք'!K8) -> 1 | ... T8: =SUM('Երևան քաղաք:Սյունիք'!T8) -> 0
A9: 1.2 | B9: Հոգեկան խիստ հուզմունքի վիճակում կատարված սպանությունը | C9: 105 | D9: =SUM('Երևան քաղաք:Սյունիք'!D9) -> 1 | E9: =SUM('Երևան քաղաք:Սյունիք'!E9) -> 0 | F9: =SUM('Երևան քաղաք:Սյունիք'!F9) -> 0 | G9: =SUM('Երևան քաղաք:Սյունիք'!G9) -> 1 | H9: =SUM('Երևան քաղաք:Սյունիք'!H9) -> 0 | I9: =SUM('Երևան քաղաք:Սյունիք'!I9) -> 0 | J9: =SUM('Երևան քաղաք:Սյունիք'!J9) -> 1 | K9: =SUM('Երևան քաղաք:Սյունիք'!K9) -> 0 | ... T9: =SUM('Երևան քաղաք:Սյունիք'!T9) -> 0
A10: 1.3 | B10: Մոր կողմից նորածին երեխայի սպանությունը | C10: 106 | D10: =SUM('Երևան քաղաք:Սյունիք'!D10) -> 1 | E10: =SUM('Երևան քաղաք:Սյունիք'!E10) -> 0 | F10: =SUM('Երևան քաղաք:Սյունիք'!F10) -> 0 | G10: =SUM('Երևան քաղաք:Սյունիք'!G10) -> 0 | H10: =SUM('Երևան քաղաք:Սյունիք'!H10) -> 1 | I10: =SUM('Երևան քաղաք:Սյունիք'!I10) -> 0 | J10: =SUM('Երևան քաղաք:Սյունիք'!J10) -> 1 | K10: =SUM('Երևան քաղաք:Սյունիք'!K10) -> 0 | ... T10: =SUM('Երևան քաղաք:Սյունիք'!T10) -> 0
A11: 1.4 | B11: Հանցանք կատարած անձին բռնելու համար անհրաժեշտ միջոցների սահմանազանցմամբ սպանությունը | C11: 107 | D11: =SUM('Երևան քաղաք:Սյունիք'!D11) -> 0 | E11: =SUM('Երևան քաղաք:Սյունիք'!E11) -> 0 | F11: =SUM('Երևան քաղաք:Սյունիք'!F11) -> 0 | G11: =SUM('Երևան քաղաք:Սյունիք'!G11) -> 0 | H11: =SUM('Երևան քաղաք:Սյունիք'!H11) -> 0 | I11: =SUM('Երևան քաղաք:Սյունիք'!I11) -> 0 | J11: =SUM('Երևան քաղաք:Սյունիք'!J11) -> 0 | K11: =SUM('Երևան քաղաք:Սյունիք'!K11) -> 0 | ... T11: =SUM('Երևան քաղաք:Սյունիք'!T11) -> 0
A12: 1.5 | B12: Անհրաժեշտ պաշտպանության սահմանազանցմամբ սպանությունը | C12: 108 | D12: =SUM('Երևան քաղաք:Սյունիք'!D12) -> 0 | E12: =SUM('Երևան քաղաք:Սյունիք'!E12) -> 0 | F12: =SUM('Երևան քաղաք:Սյունիք'!F12) -> 1 | G12: =SUM('Երևան քաղաք:Սյունիք'!G12) -> 0 | H12: =SUM('Երևան քաղաք:Սյունիք'!H12) -> 0 | I12: =SUM('Երևան քաղաք:Սյունիք'!I12) -> 0 | J12: =SUM('Երևան քաղաք:Սյունիք'!J12) -> 0 | K12: =SUM('Երևան քաղաք:Սյունիք'!K12) -> 0 | ... T12: =SUM('Երևան քաղաք:Սյունիք'!T12) -> 0
A13: 1.6 | B13: Անզգուշությամբ մահ պատճառելը | C13: 109 | D13: =SUM('Երևան քաղաք:Սյունիք'!D13) -> 1 | E13: =SUM('Երևան քաղաք:Սյունիք'!E13) -> 0 | F13: =SUM('Երևան քաղաք:Սյունիք'!F13) -> 3 | G13: =SUM('Երևան քաղաք:Սյունիք'!G13) -> 1 | H13: =SUM('Երևան քաղաք:Սյունիք'!H13) -> 0 | I13: =SUM('Երևան քաղաք:Սյունիք'!I13) -> 0 | J13: =SUM('Երևան քաղաք:Սյունիք'!J13) -> 2 | K13: =SUM('Երևան քաղաք:Սյունիք'!K13) -> 0 | ... T13: =SUM('Երևան քաղաք:Սյունիք'!T13) -> 0
A14: 1.7 | B14: Ինքնասպանության հասցնելը | C14: 110 | D14: =SUM('Երևան քաղաք:Սյունիք'!D14) -> 3 | E14: =SUM('Երևան քաղաք:Սյունիք'!E14) -> 0 | F14: =SUM('Երևան քաղաք:Սյունիք'!F14) -> 3 | G14: =SUM('Երևան քաղաք:Սյունիք'!G14) -> 0 | H14: =SUM('Երևան քաղաք:Սյունիք'!H14) -> 1 | I14: =SUM('Երևան քաղաք:Սյունիք'!I14) -> 0 | J14: =SUM('Երևան քաղաք:Սյունիք'!J14) -> 1 | K14: =SUM('Երևան քաղաք:Սյունիք'!K14) -> 0 | ... T14: =SUM('Երևան քաղաք:Սյունիք'!T14) -> 0
A15: 1.8 | B15: Ինքնասպանության հակելը | C15: 111 | D15: =SUM('Երևան քաղաք:Սյունիք'!D15) -> 0 | E15: =SUM('Երևան քաղաք:Սյունիք'!E15) -> 0 | F15: =SUM('Երևան քաղաք:Սյունիք'!F15) -> 0 | G15: =SUM('Երևան քաղաք:Սյունիք'!G15) -> 0 | H15: =SUM('Երևան քաղաք:Սյունիք'!H15) -> 0 | I15: =SUM('Երևան քաղաք:Սյունիք'!I15) -> 0 | J15: =SUM('Երևան քաղաք:Սյունիք'!J15) -> 0 | K15: =SUM('Երևան քաղաք:Սյունիք'!K15) -> 0 | ... T15: =SUM('Երևան քաղաք:Սյունիք'!T15) -> 0
A16: 1.9 | B16: Դիտավորությամբ առողջությանը ծանր վնաս պատճառելը | C16: 112 | D16: =SUM('Երևան քաղաք:Սյունիք'!D16) -> 106 | E16: =SUM('Երևան քաղաք:Սյունիք'!E16) -> 2 | F16: =SUM('Երևան քաղաք:Սյունիք'!F16) -> 178 | G16: =SUM('Երևան քաղաք:Սյունիք'!G16) -> 124 | H16: =SUM('Երևան քաղաք:Սյունիք'!H16) -> 11 | I16: =SUM('Երևան քաղաք:Սյունիք'!I16) -> 3 | J16: =SUM('Երևան քաղաք:Սյունիք'!J16) -> 138 | K16: =SUM('Երևան քաղաք:Սյունիք'!K16) -> 0 | ... T16: =SUM('Երևան քաղաք:Սյունիք'!T16) -> 3
A17: 1.10 | B17: Դիտավորությամբ առողջությանը միջին ծանրության վնաս պատճառելը | C17: 113 | D17: =SUM('Երևան քաղաք:Սյունիք'!D17) -> 16 | E17: =SUM('Երևան քաղաք:Սյունիք'!E17) -> 1 | F17: =SUM('Երևան քաղաք:Սյունիք'!F17) -> 24 | G17: =SUM('Երևան քաղաք:Սյունիք'!G17) -> 13 | H17: =SUM('Երևան քաղաք:Սյունիք'!H17) -> 7 | I17: =SUM('Երևան քաղաք:Սյունիք'!I17) -> 0 | J17: =SUM('Երևան քաղաք:Սյունիք'!J17) -> 20 | K17: =SUM('Երևան քաղաք:Սյունիք'!K17) -> 0 | ... T17: =SUM('Երևան քաղաք:Սյունիք'!T17) -> 1
A18: 1.11 | B18: Հոգեկան խիստ հուզմունքի վիճակում առողջությանը ծանր կամ միջին ծանրության վնաս պատճառելը | C18: 114 | D18: =SUM('Երևան քաղաք:Սյունիք'!D18) -> 0 | E18: =SUM('Երևան քաղաք:Սյունիք'!E18) -> 0 | F18: =SUM('Երևան քաղաք:Սյունիք'!F18) -> 0 | G18: =SUM('Երևան քաղաք:Սյունիք'!G18) -> 0 | H18: =SUM('Երևան քաղաք:Սյունիք'!H18) -> 0 | I18: =SUM('Երևան քաղաք:Սյունիք'!I18) -> 0 | J18: =SUM('Երևան քաղաք:Սյունիք'!J18) -> 0 | K18: =SUM('Երևան քաղաք:Սյունիք'!K18) -> 0 | ... T18: =SUM('Երևան քաղաք:Սյունիք'!T18) -> 0
A19: 1.12 | B19: Հանցանք կատարած անձին բռնելու համար անհրաժեշտ միջոցների սահմանզանցմամբ առողջությանը ծանր կամ միջին ծանրության վնաս պատճառելը | C19: 115 | D19: =SUM('Երևան քաղաք:Սյունիք'!D19) -> 1 | E19: =SUM('Երևան քաղաք:Սյունիք'!E19) -> 0 | F19: =SUM('Երևան քաղաք:Սյունիք'!F19) -> 0 | G19: =SUM('Երևան քաղաք:Սյունիք'!G19) -> 0 | H19: =SUM('Երևան քաղաք:Սյունիք'!H19) -> 1 | I19: =SUM('Երևան քաղաք:Սյունիք'!I19) -> 0 | J19: =SUM('Երևան քաղաք:Սյունիք'!J19) -> 1 | K19: =SUM('Երևան քաղաք:Սյունիք'!K19) -> 0 | ... T19: =SUM('Երևան քաղաք:Սյունիք'!T19) -> 0
... A33: 1.27 | B33: Բժշկական օգնություն և սպասարկում իրականացնողների կողմից մասնագիտական պարտականությունները չկատարելը կամ ոչ պատշաճ կատարելը | C33: 130 | D33: =SUM('Երևան քաղաք:Սյունիք'!D33) -> 13 | E33: =SUM('Երևան քաղաք:Սյունիք'!E33) -> 0 | F33: =SUM('Երևան քաղաք:Սյունիք'!F33) -> 4 | G33: =SUM('Երևան քաղաք:Սյունիք'!G33) -> 2 | H33: =SUM('Երևան քաղաք:Սյունիք'!H33) -> 2 | I33: =SUM('Երևան քաղաք:Սյունիք'!I33) -> 0 | J33: =SUM('Երևան քաղաք:Սյունիք'!J33) -> 4 | K33: =SUM('Երևան քաղաք:Սյունիք'!K33) -> 0 | ... T33: =SUM('Երևան քաղաք:Սյունիք'!T33) -> 0
A34: 1.28 | B34: Այլ հանցագործություններ | D34: =SUM('Երևան քաղաք:Սյունիք'!D34) -> 2 | E34: =SUM('Երևան քաղաք:Սյունիք'!E34) -> 1 | F34: =SUM('Երևան քաղաք:Սյունիք'!F34) -> 0 | G34: =SUM('Երևան քաղաք:Սյունիք'!G34) -> 1 | H34: =SUM('Երևան քաղաք:Սյունիք'!H34) -> 0 | I34: =SUM('Երևան քաղաք:Սյունիք'!I34) -> 0 | J34: =SUM('Երևան քաղաք:Սյունիք'!J34) -> 1 | K34: =SUM('Երևան քաղաք:Սյունիք'!K34) -> 0 | ... T34: =SUM('Երևան քաղաք:Սյունիք'!T34) -> 0
A35: 2. | B35: Ընդամենը անձի ազատության, պատվի և արժանապատվության դեմ ուղղված հանցագործությունները | D35: =SUM('Երևան քաղաք:Սյունիք'!D35) -> 34 | E35: =SUM('Երևան քաղաք:Սյունիք'!E35) -> 0 | F35: =SUM('Երևան քաղաք:Սյունիք'!F35) -> 43 | G35: =SUM('Երևան քաղաք:Սյունիք'!G35) -> 26 | H35: =SUM('Երևան քաղաք:Սյունիք'!H35) -> 7 | I35: =SUM('Երևան քաղաք:Սյունիք'!I35) -> 5 | J35: =SUM('Երևան քաղաք:Սյունիք'!J35) -> 38 | K35: =SUM('Երևան քաղաք:Սյունիք'!K35) -> 0 | ... T35: =SUM('Երևան քաղաք:Սյունիք'!T35) -> 1
A36: 2.1 | B36: Մարդուն առևանգելը | C36: 131 | D36: =SUM('Երևան քաղաք:Սյունիք'!D36) -> 17 | E36: =SUM('Երևան քաղաք:Սյունիք'!E36) -> 0 | F36: =SUM('Երևան քաղաք:Սյունիք'!F36) -> 24 | G36: =SUM('Երևան քաղաք:Սյունիք'!G36) -> 19 | H36: =SUM('Երևան քաղաք:Սյունիք'!H36) -> 4 | I36: =SUM('Երևան քաղաք:Սյունիք'!I36) -> 0 | J36: =SUM('Երևան քաղաք:Սյունիք'!J36) -> 23 | K36: =SUM('Երևան քաղաք:Սյունիք'!K36) -> 0 | ... T36: =SUM('Երևան քաղաք:Սյունիք'!T36) -> 1
A37: 2.2 | B37: Մարդու թրաֆիքինգը կամ շահագործումը | C37: 132 | D37: =SUM('Երևան քաղաք:Սյունիք'!D37) -> 1 | E37: =SUM('Երևան քաղաք:Սյունիք'!E37) -> 0 | F37: =SUM('Երևան քաղաք:Սյունիք'!F37) -> 0 | G37: =SUM('Երևան քաղաք:Սյունիք'!G37) -> 0 | H37: =SUM('Երևան քաղաք:Սյունիք'!H37) -> 0 | I37: =SUM('Երևան քաղաք:Սյունիք'!I37) -> 0 | J37: =SUM('Երևան քաղաք:Սյունիք'!J37) -> 0 | K37: =SUM('Երևան քաղաք:Սյունիք'!K37) -> 0 | ... T37: =SUM('Երևան քաղաք:Սյունիք'!T37) -> 0
A38: 2.2.2 | B38: Երեխայի կամ հոգեկան խանգարման հետևանքով իր արարքի բնույթն ու նշանակությունը գիտակցելու կամ դա ղեկավարելու հնարավորությունից զրկված անձի թրաֆիքինգը կամ շահագործումը | C38: 132.2 | D38: =SUM('Երևան քաղաք:Սյունիք'!D38) -> 3 | E38: =SUM('Երևան քաղաք:Սյունիք'!E38) -> 0 | F38: =SUM('Երևան քաղաք:Սյունիք'!F38) -> 0 | G38: =SUM('Երևան քաղաք:Սյունիք'!G38) -> 0 | H38: =SUM('Երևան քաղաք:Սյունիք'!H38) -> 0 | I38: =SUM('Երևան քաղաք:Սյունիք'!I38) -> 0 | J38: =SUM('Երևան քաղաք:Սյունիք'!J38) -> 0 | K38: =SUM('Երևան քաղաք:Սյունիք'!K38) -> 0 | ... T38: =SUM('Երևան քաղաք:Սյունիք'!T38) -> 0
A39: 2.2.3 | B39: Շահագործման վիճակում գտնվող անձի ծառայությունից օգտվելը | C39: 132.3 | D39: =SUM('Երևան քաղաք:Սյունիք'!D39) -> 0 | E39: =SUM('Երևան քաղաք:Սյունիք'!E39) -> 0 | F39: =SUM('Երևան քաղաք:Սյունիք'!F39) -> 0 | G39: =SUM('Երևան քաղաք:Սյունիք'!G39) -> 0 | H39: =SUM('Երևան քաղաք:Սյունիք'!H39) -> 0 | I39: =SUM('Երևան քաղաք:Սյունիք'!I39) -> 0 | J39: =SUM('Երևան քաղաք:Սյունիք'!J39) -> 0 | K39: =SUM('Երևան քաղաք:Սյունիք'!K39) -> 0 | ... T39: =SUM('Երևան քաղաք:Սյունիք'!T39) -> 0
A40: 2.3 | B40: Ազատությունից ապօրինի զրկելը | C40: 133 | D40: =SUM('Երևան քաղաք:Սյունիք'!D40) -> 4 | E40: =SUM('Երևան քաղաք:Սյունիք'!E40) -> 0 | F40: =SUM('Երևան քաղաք:Սյունիք'!F40) -> 3 | G40: =SUM('Երևան քաղաք:Սյունիք'!G40) -> 2 | H40: =SUM('Երևան քաղաք:Սյունիք'!H40) -> 0 | I40: =SUM('Երևան քաղաք:Սյունիք'!I40) -> 0 | J40: =SUM('Երևան քաղաք:Սյունիք'!J40) -> 2 | K40: =SUM('Երևան քաղաք:Սյունիք'!K40) -> 0 | ... T40: =SUM('Երևան քաղաք:Սյունիք'!T40) -> 0
A41: 2.4 | B41: Հոգեբուժական հիվանդանոցում ապօրինի տեղավորելը կամ պահելը | C41: 134 | D41: =SUM('Երևան քաղաք:Սյունիք'!D41) -> 0 | E41: =SUM('Երևան քաղաք:Սյունիք'!E41) -> 0 | F41: =SUM('Երևան քաղաք:Սյունիք'!F41) -> 0 | G41: =SUM('Երևան քաղաք:Սյունիք'!G41) -> 0 | H41: =SUM('Երևան քաղաք:Սյունիք'!H41) -> 0 | I41: =SUM('Երևան քաղաք:Սյունիք'!I41) -> 0 | J41: =SUM('Երևան քաղաք:Սյունիք'!J41) -> 0 | K41: =SUM('Երևան քաղաք:Սյունիք'!K41) -> 0 | ... T41: =SUM('Երևան քաղաք:Սյունիք'!T41) -> 0
A42: 2.7 | B42: Սպանության, առողջությանը ծանր վնաս պատճառելու կամ գույք ոչնչացնելու սպառնալիքը | C42: 137 | D42: =SUM('Երևան քաղաք:Սյունիք'!D42) -> 9 | E42: =SUM('Երևան քաղաք:Սյունիք'!E42) -> 0 | F42: =SUM('Երևան քաղաք:Սյունիք'!F42) -> 16 | G42: =SUM('Երևան քաղաք:Սյունիք'!G42) -> 5 | H42: =SUM('Երևան քաղաք:Սյունիք'!H42) -> 3 | I42: =SUM('Երևան քաղաք:Սյունիք'!I42) -> 5 | J42: =SUM('Երևան քաղաք:Սյունիք'!J42) -> 13 | K42: =SUM('Երևան քաղաք:Սյունիք'!K42) -> 0 | ... T42: =SUM('Երևան քաղաք:Սյունիք'!T42) -> 0
A43: 2.8 | B43: Այլ հանցագործություններ | D43: =SUM('Երևան քաղաք:Սյունիք'!D43) -> 0 | E43: =SUM('Երևան քաղաք:Սյունիք'!E43) -> 0 | F43: =SUM('Երևան քաղաք:Սյունիք'!F43) -> 0 | G43: =SUM('Երևան քաղաք:Սյունիք'!G43) -> 0 | H43: =SUM('Երևան քաղաք:Սյունիք'!H43) -> 0 | I43: =SUM('Երևան քաղաք:Սյունիք'!I43) -> 0 | J43: =SUM('Երևան քաղաք:Սյունիք'!J43) -> 0 | K43: =SUM('Երևան քաղաք:Սյունիք'!K43) -> 0 | ... T43: =SUM('Երևան քաղաք:Սյունիք'!T43) -> 0
A44: 3. | B44: Ընդամենը սեռական անձեռնմխելիության և սեռական ազատության դեմ ուղղված հանցագործությունները | D44: =SUM('Երևան քաղաք:Սյունիք'!D44) -> 34 | E44: =SUM('Երևան քաղաք:Սյունիք'!E44) -> 3 | F44: =SUM('Երևան քաղաք:Սյունիք'!F44) -> 56 | G44: =SUM('Երևան քաղաք:Սյունիք'!G44) -> 32 | H44: =SUM('Երևան քաղաք:Սյունիք'!H44) -> 2 | I44: =SUM('Երևան քաղաք:Սյունիք'!I44) -> 1 | J44: =SUM('Երևան քաղաք:Սյունիք'!J44) -> 35 | K44: =SUM('Երևան քաղաք:Սյունիք'!K44) -> 0 | ... T44: =SUM('Երևան քաղաք:Սյունիք'!T44) -> 0
A45: 3.1 | B45: Բռնաբարությունը | C45: 138 | D45: =SUM('Երևան քաղաք:Սյունիք'!D45) -> 8 | E45: =SUM('Երևան քաղաք:Սյունիք'!E45) -> 0 | F45: =SUM('Երևան քաղաք:Սյունիք'!F45) -> 9 | G45: =SUM('Երևան քաղաք:Սյունիք'!G45) -> 3 | H45: =SUM('Երևան քաղաք:Սյունիք'!H45) -> 0 | I45: =SUM('Երևան քաղաք:Սյունիք'!I45) -> 0 | J45: =SUM('Երևան քաղաք:Սյունիք'!J45) -> 3 | K45: =SUM('Երևան քաղաք:Սյունիք'!K45) -> 0 | ... T45: =SUM('Երևան քաղաք:Սյունիք'!T45) -> 0
A46: 3.2 | B46: Սեքսուալ բնույթի բռնի գործողությունները | C46: 139 | D46: =SUM('Երևան քաղաք:Սյունիք'!D46) -> 12 | E46: =SUM('Երևան քաղաք:Սյունիք'!E46) -> 1 | F46: =SUM('Երևան քաղաք:Սյունիք'!F46) -> 11 | G46: =SUM('Երևան քաղաք:Սյունիք'!G46) -> 8 | H46: =SUM('Երևան քաղաք:Սյունիք'!H46) -> 0 | I46: =SUM('Երևան քաղաք:Սյունիք'!I46) -> 1 | J46: =SUM('Երևան քաղաք:Սյունիք'!J46) -> 9 | K46: =SUM('Երևան քաղաք:Սյունիք'!K46) -> 0 | ... T46: =SUM('Երևան քաղաք:Սյունիք'!T46) -> 0
A47: 3.3 | B47: Սեռական հարաբերության կամ սեքսուալ բնույթի գործողություններին հարկադրելը | C47: 140 | D47: =SUM('Երևան քաղաք:Սյունիք'!D47) -> 1 | E47: =SUM('Երևան քաղաք:Սյունիք'!E47) -> 0 | F47: =SUM('Երևան քաղաք:Սյունիք'!F47) -> 2 | G47: =SUM('Երևան քաղաք:Սյունիք'!G47) -> 1 | H47: =SUM('Երևան քաղաք:Սյունիք'!H47) -> 1 | I47: =SUM('Երևան քաղաք:Սյունիք'!I47) -> 0 | J47: =SUM('Երևան քաղաք:Սյունիք'!J47) -> 2 | K47: =SUM('Երևան քաղաք:Սյունիք'!K47) -> 0 | ... T47: =SUM('Երևան քաղաք:Սյունիք'!T47) -> 0
A48: 3.4 | B48: Սեռական հարաբերությունը տասնվեց տարին չլրացած անձի հետ կամ սեքսուալ բնույթի գործողություններ կատարելը տասնվեց տարին չլրացած անձի նկատմամբ | C48: 141 | D48: =SUM('Երևան քաղաք:Սյունիք'!D48) -> 9 | E48: =SUM('Երևան քաղաք:Սյունիք'!E48) -> 2 | F48: =SUM('Երևան քաղաք:Սյունիք'!F48) -> 28 | G48: =SUM('Երևան քաղաք:Սյունիք'!G48) -> 18 | H48: =SUM('Երևան քաղաք:Սյունիք'!H48) -> 1 | I48: =SUM('Երևան քաղաք:Սյունիք'!I48) -> 0 | J48: =SUM('Երևան քաղաք:Սյունիք'!J48) -> 19 | K48: =SUM('Երևան քաղաք:Սյունիք'!K48) -> 0 | ... T48: =SUM('Երևան քաղաք:Սյունիք'!T48) -> 0
A49: 3.5 | B49: Անառակաբարո գործողությունները | C49: 142 | D49: =SUM('Երևան քաղաք:Սյունիք'!D49) -> 4 | E49: =SUM('Երևան քաղաք:Սյունիք'!E49) -> 0 | F49: =SUM('Երևան քաղաք:Սյունիք'!F49) -> 6 | G49: =SUM('Երևան քաղաք:Սյունիք'!G49) -> 2 | H49: =SUM('Երևան քաղաք:Սյունիք'!H49) -> 0 | I49: =SUM('Երևան քաղաք:Սյունիք'!I49) -> 0 | J49: =SUM('Երևան քաղաք:Սյունիք'!J49) -> 2 | K49: =SUM('Երևան քաղաք:Սյունիք'!K49) -> 0 | ... T49: =SUM('Երևան քաղաք:Սյունիք'!T49) -> 0
A50: 3.6 | B50: Այլ հանցագործություններ | D50: =SUM('Երևան քաղաք:Սյունիք'!D50) -> 0 | E50: =SUM('Երևան քաղաք:Սյունիք'!E50) -> 0 | F50: =SUM('Երևան քաղաք:Սյունիք'!F50) -> 0 | G50: =SUM('Երևան քաղաք:Սյունիք'!G50) -> 0 | H50: =SUM('Երևան քաղաք:Սյունիք'!H50) -> 0 | I50: =SUM('Երևան քաղաք:Սյունիք'!I50) -> 0 | J50: =SUM('Երևան քաղաք:Սյունիք'!J50) -> 0 | K50: =SUM('Երևան քաղաք:Սյունիք'!K50) -> 0 | ... T50: =SUM('Երևան քաղաք:Սյունիք'!T50) -> 0
A51: 4. | B51: Ընդամենը մարդու և քաղաքացու սահմանադրական իրավունքների և ազատությունների դեմ ուղղված հանցագործությունները | D51: =SUM('Երևան քաղաք:Սյունիք'!D51) -> 19 | E51: =SUM('Երևան քաղաք:Սյունիք'!E51) -> 1 | F51: =SUM('Երևան քաղաք:Սյունիք'!F51) -> 30 | G51: =SUM('Երևան քաղաք:Սյունիք'!G51) -> 21 | H51: =SUM('Երևան քաղաք:Սյունիք'!H51) -> 5 | I51: =SUM('Երևան քաղաք:Սյունիք'!I51) -> 3 | J51: =SUM('Երևան քաղաք:Սյունիք'!J51) -> 29 | K51: =SUM('Երևան քաղաք:Սյունիք'!K51) -> 0 | ... T51: =SUM('Երևան քաղաք:Սյունիք'!T51) -> 1
A52: 4.1 | B52: Մարդու և քաղաքացու իրավահավասարությունը խախտելը | C52: 143 | D52: =SUM('Երևան քաղաք:Սյունիք'!D52) -> 0 | E52: =SUM('Երևան քաղաք:Սյունիք'!E52) -> 0 | F52: =SUM('Երևան քաղաք:Սյունիք'!F52) -> 0 | G52: =SUM('Երևան քաղաք:Սյունիք'!G52) -> 0 | H52: =SUM('Երևան քաղաք:Սյունիք'!H52) -> 0 | I52: =SUM('Երևան քաղաք:Սյունիք'!I52) -> 0 | J52: =SUM('Երևան քաղաք:Սյունիք'!J52) -> 0 | K52: =SUM('Երևան քաղաք:Սյունիք'!K52) -> 0 | ... T52: =SUM('Երևան քաղաք:Սյունիք'!T52) -> 0
A53: 4.2 | B53: Անձնական կամ ընտանեկան կյանքի մասին տեղեկություններ ապօրինի հավաքելը, պահելը, օգտագործելը կամ տարածելը | C53: 144 | D53: =SUM('Երևան քաղաք:Սյունիք'!D53) -> 1 | E53: =SUM('Երևան քաղաք:Սյունիք'!E53) -> 0 | F53: =SUM('Երևան քաղաք:Սյունիք'!F53) -> 4 | G53: =SUM('Երևան քաղաք:Սյունիք'!G53) -> 2 | H53: =SUM('Երևան քաղաք:Սյունիք'!H53) -> 0 | I53: =SUM('Երևան քաղաք:Սյունիք'!I53) -> 0 | J53: =SUM('Երևան քաղաք:Սյունիք'!J53) -> 2 | K53: =SUM('Երևան քաղաք:Սյունիք'!K53) -> 0 | ... T53: =SUM('Երևան քաղաք:Սյունիք'!T53) -> 0
A54: 4.3 | B54: Բժշկական գաղտնիքը հրապարակելը | C54: 145 | D54: =SUM('Երևան քաղաք:Սյունիք'!D54) -> 0 | E54: =SUM('Երևան քաղաք:Սյունիք'!E54) -> 0 | F54: =SUM('Երևան քաղաք:Սյունիք'!F54) -> 0 | G54: =SUM('Երևան քաղաք:Սյունիք'!G54) -> 0 | H54: =SUM('Երևան քաղաք:Սյունիք'!H54) -> 0 | I54: =SUM('Երևան քաղաք:Սյունիք'!I54) -> 0 | J54: =SUM('Երևան քաղաք:Սյունիք'!J54) -> 0 | K54: =SUM('Երևան քաղաք:Սյունիք'!K54) -> 0 | ... T54: =SUM('Երևան քաղաք:Սյունիք'!T54) -> 0
...

Sheet Երևան քաղաք
A1: 2019թ. տարեկան | D1: ՀԱՇՎԵՏՎՈՒԹՅՈՒՆ
A2: ԵՐԵՎԱՆ ՔԱՂԱՔԻ ԱՌԱՋԻՆ ԱՏՅԱՆԻ ԸՆԴՀԱՆՈՒՐ ԻՐԱՎԱՍՈՒԹՅԱՆ ԴԱՏԱՐԱՆՈՒՄ ՔՐԵԱԿԱՆ ԳՈՐԾԵՐԻ ՔՆՆՈՒԹՅԱՆ ՎԵՐԱԲԵՐՅԱԼ
A3: Երևան քաղաքի առաջին ատյանի ընդհանուր իրավասության դատարանում քրեական մասնագիտացում ունեցող դատավորների հաստիքների քանակը` 25
A4: Ստուգիչ հավասարումներ` 1+3=7+8+10, 7=4+5+6, 14=12+13, 17=15+16 | C4: ՀՀ քրեական օրենսգրքի հոդվածներ | D4: Հաշվետու ժամանակահատվածի սկզբում նախորդ հաշվետու ժամանակահատվածից փոխանցված գործերի ընդհանուր թիվը | E4: Այդ թվում` կասեցված վիճակում փոխանցված | F4: Հաշվետու ժամանակահատվածում ստացված գործերի ընդհանուր թիվը | G4: Հաշվետու ժամանակահատվածում ավարտված գործերի ընդհանուր թիվը | K4: Ուղարկվել է ըստ ընդդատության | L4: Հաշվետու ժամանակահատվածում կասեցված վարույթներով գործերի ընդհանուր թիվը | M4: Հաշվետու ժամանակահատվածում անավարտ գործերի ընդհանուր թիվը | N4: Այդ թվում՝ կասեցված | O4: Բողոքարկված դատական ակտերի թիվը` ըստ տեսակների | R4: Բեկանված դատական ակտերի թիվը` ըստ տեսակների
G5: Քննվել է ըստ էության և դատավճիռ կայացվել | H5: Որոշում է կայացվել քրեական գործի վարույթը կարճելու և քրեական հետապնդումը դադարեցնելու մասին | I5: Որոշում է կայացվել անմեղսունակների նկատմամբ բժշկական բնույթի հարկադրական միջոցներ կիրառելու մասին | J5: Ընդամենը ավարտվել են գործեր | O5: Այդ թվում` գործն ըստ էության լուծող դատական ակտերը | P5: Այդ թվում` միջանկյալ դատական ակտերը | Q5: Ընդամենը | R5: Այդ թվում` գործն ըստ էության լուծող դատական ակտերը | S5: Այդ թվում` միջանկյալ դատական ակտերը | T5: Ընդամենը
D6: 1 | E6: 2 | F6: 3 | G6: 4 | H6: 5 | I6: 6 | J6: 7 | K6: 8 | L6: 9 | M6: 10 | N6: 11 | O6: 12 | P6: 13 | Q6: 14 | R6: 15 | S6: 16 | T6: 17
A7: 1. | B7: Ընդամենը կյանքի և առողջության դեմ ուղղված հանցագործությունները | D7: =SUM(D8:D34) -> 120 | E7: =SUM(E8:E34) -> 2 | F7: =SUM(F8:F34) -> 183 | G7: =SUM(G8:G34) -> 71 | H7: =SUM(H8:H34) -> 26 | I7: =SUM(I8:I34) -> 12 | J7: =SUM(J8:J34) -> 109 | K7: =SUM(K8:K34) -> 1 | ... T7: =SUM(T8:T34) -> 2
A8: 1.1 | B8: Սպանությունը | C8: 104 | D8: 37 | E8: 1 | F8: 25 | G8: 11 | H8: 0 | I8: 7 | J8: 18 | K8: 0 | L8: 0 | M8: 44 | N8: 1 | O8: 8 | P8: 6 | Q8: 14
A9: 1.2 | B9: Հոգեկան խիստ հուզմունքի վիճակում կատարված սպանությունը | C9: 105 | D9: 0 | E9: 0 | F9: 0 | G9: 0 | H9: 0 | I9: 0 | J9: 0 | K9: 0 | L9: 0 | M9: 0 | N9: 0 | O9: 0 | P9: 0 | Q9: 0
A10: 1.3 | B10: Մոր կողմից նորածին երեխայի սպանությունը | C10: 106 | D10: 0 | E10: 0 | F10: 0 | G10: 0 | H10: 0 | I10: 0 | J10: 0 | K10: 0 | L10: 0 | M10: 0 | N10: 0 | O10: 0 | P10: 0 | Q10: 0
A11: 1.4 | B11: Հանցանք կատարած անձին բռնելու համար անհրաժեշտ միջոցների սահմանազանցմամբ սպանությունը | C11: 107 | D11: 0 | E11: 0 | F11: 0 | G11: 0 | H11: 0 | I11: 0 | J11: 0 | K11: 0 | L11: 0 | M11: 0 | N11: 0 | O11: 0 | P11: 0 | Q11: 0
A12: 1.5 | B12: Անհրաժեշտ պաշտպանության սահմանազանցմամբ սպանությունը | C12: 108 | D12: 0 | E12: 0 | F12: 1 | G12: 0 | H12: 0 | I12: 0 | J12: 0 | K12: 0 | L12: 0 | M12: 1 | N12: 0 | O12: 0 | P12: 0 | Q12: 0
A13: 1.6 | B13: Անզգուշությամբ մահ պատճառելը | C13: 109 | D13: 1 | E13: 0 | F13: 0 | G13: 1 | H13: 0 | I13: 0 | J13: 1 | K13: 0 | L13: 0 | M13: 0 | N13: 0 | O13: 0 | P13: 0 | Q13: 0
A14: 1.7 | B14: Ինքնասպանության հասցնելը | C14: 110 | D14: 1 | E14: 0 | F14: 2 | G14: 0 | H14: 0 | I14: 0 | J14: 0 | K14: 0 | L14: 0 | M14: 3 | N14: 0 | O14: 0 | P14: 0 | Q14: 0
A15: 1.8 | B15: Ինքնասպանության հակելը | C15: 111 | D15: 0 | E15: 0 | F15: 0 | G15: 0 | H15: 0 | I15: 0 | J15: 0 | K15: 0 | L15: 0 | M15: 0 | N15: 0 | O15: 1 | P15: 0 | Q15: 1
A16: 1.9 | B16: Դիտավորությամբ առողջությանը ծանր վնաս պատճառելը | C16: 112 | D16: 44 | E16: 0 | F16: 80 | G16: 41 | H16: 4 | I16: 1 | J16: 46 | K16: 0 | L16: 0 | M16: 77 | N16: 0 | O16: 10 | P16: 6 | Q16: 16 | R16: 1 | T16: 1
A17: 1.10 | B17: Դիտավորությամբ առողջությանը միջին ծանրության վնաս պատճառելը | C17: 113 | D17: 8 | E17: 0 | F17: 10 | G17: 2 | H17: 2 | I17: 0 | J17: 4 | K17: 0 | L17: 0 | M17: 14 | N17: 0 | O17: 0 | P17: 0 | Q17: 0
A18: 1.11 | B18: Հոգեկան խիստ հուզմունքի վիճակում առողջությանը ծանր կամ միջին ծանրության վնաս պատճառելը | C18: 114 | D18: 0 | E18: 0 | F18: 0 | G18: 0 | H18: 0 | I18: 0 | J18: 0 | K18: 0 | L18: 0 | M18: 0 | N18: 0 | O18: 0 | P18: 0 | Q18: 0
A19: 1.12 | B19: Հանցանք կատարած անձին բռնելու համար անհրաժեշտ միջոցների սահմանզանցմամբ առողջությանը ծանր կամ միջին ծանրության վնաս պատճառելը | C19: 115 | D19: 0 | E19: 0 | F19: 0 | G19: 0 | H19: 0 | I19: 0 | J19: 0 | K19: 0 | L19: 0 | M19: 0 | N19: 0 | O19: 0 | P19: 0 | Q19: 0
A20: 1.13 | B20: Առողջությանը ծանր կամ միջին ծանրության վնաս պատճառելը անհրաժեշտ պաշտպանության սահմանանազանցմամբ | C20: 116 | D20: 0 | E20: 0 | F20: 0 | G20: 0 | H20: 0 | I20: 0 | J20: 0 | K20: 0 | L20: 0 | M20: 0 | N20: 0 | O20: 0 | P20: 0 | Q20: 0
A21: 1.14 | B21: Դիտավորությամբ առողջությանը թեթև վնաս պատճառելը | C21: 117 | D21: 6 | E21: 0 | F21: 19 | G21: 6 | H21: 4 | I21: 1 | J21: 11 | K21: 0 | L21: 0 | M21: 14 | N21: 0 | O21: 1 | P21: 0 | Q21: 1 | R21: 1 | T21: 1
A22: 1.15 | B22: Ծեծը | C22: 118 | D22: 13 | E22: 0 | F22: 41 | G22: 8 | H22: 11 | I22: 2 | J22: 21 | K22: 1 | L22: 0 | M22: 32 | N22: 0 | O22: 2 | P22: 1 | Q22: 3
A23: 1.16 | B23: Ֆիզիկական ուժեղ ցավ կամ հոգեկան ուժեղ տառապանք պատճառելը | C23: 119 | D23: 2 | E23: 0 | F23: 1 | G23: 1 | H23: 1 | J23: 2 | K23: 0 | L23: 0 | M23: 1 | N23: 0 | O23: 0 | P23: 0 | Q23: 0
A24: 1.17 | B24: Անզգուշությամբ առողջությանը ծանր վնաս պատճառելը | C24: 120 | D24: 0 | E24: 0 | F24: 2 | G24: 0 | H24: 1 | I24: 1 | J24: 2 | K24: 0 | L24: 0 | M24: 0 | N24: 0 | O24: 0 | P24: 0 | Q24: 0
A25: 1.18 | B25: Անզգուշությամբ առողջությանը միջին ծանրության վնաս պատճառելը | C25: 121 | D25: 0 | E25: 0 | F25: 2 | G25: 0 | H25: 2 | I25: 0 | J25: 2 | K25: 0 | L25: 0 | M25: 0 | N25: 0 | O25: 0 | P25: 0 | Q25: 0
A26: 1.19 | B26: Ապօրինի աբորտ կատարելը | C26: 122 | D26: 1 | E26: 0 | F26: 0 | G26: 0 | H26: 0 | I26: 0 | J26: 0 | K26: 0 | L26: 0 | M26: 1 | N26: 0 | O26: 0 | P26: 0 | Q26: 0
A27: 1.20 | B27: Մարդու իմունային անբավարարության վիրուսի հարուցիչով վարակելը | C27: 123 | D27: 0 | E27: 0 | F27: 0 | G27: 0 | H27: 0 | I27: 0 | J27: 0 | K27: 0 | L27: 0 | M27: 0 | N27: 0 | O27: 0 | P27: 0 | Q27: 0
A28: 1.21 | B28: Վեներական հիվանդությամբ կամ այլ սեռավարակներով վարակելը | C28: 124 | D28: 0 | E28: 0 | F28: 0 | G28: 0 | H28: 0 | I28: 0 | J28: 0 | K28: 0 | L28: 0 | M28: 0 | N28: 0 | O28: 0 | P28: 0 | Q28: 0
A29: 1.22 | B29: Փոխպատվաստման վիրահատություն կատարելու կանոնները խախտելը | C29: 125 | D29: 0 | E29: 0 | F29: 0 | G29: 0 | H29: 0 | I29: 0 | J29: 0 | K29: 0 | L29: 0 | M29: 0 | N29: 0 | O29: 0 | P29: 0 | Q29: 0
A30: 1.24 | B30: Անձին առանց իր հանձնարարության բժշկական կամ գիտական փորձերի ենթարկելը | C30: 127 | D30: 0 | E30: 0 | F30: 0 | G30: 0 | H30: 0 | I30: 0 | J30: 0 | K30: 0 | L30: 0 | M30: 0 | N30: 0 | O30: 0 | P30: 0 | Q30: 0
A31: 1.25 | B31: Վտանգի մեջ թողնելը | C31: 128 | D31: 0 | E31: 0 | F31: 0 | G31: 0 | H31: 0 | I31: 0 | J31: 0 | K31: 0 | L31: 0 | M31: 0 | N31: 0 | O31: 0 | P31: 0 | Q31: 0
A32: 1.26 | B32: Հիվանդին օգնություն ցույց չտալը | C32: 129 | D32: 0 | E32: 0 | F32: 0 | G32: 0 | H32: 0 | I32: 0 | J32: 0 | K32: 0 | L32: 0 | M32: 0 | N32: 0 | O32: 0 | P32: 0 | Q32: 0
A33: 1.27 | B33: Բժշկական օգնություն և սպասարկում իրականացնողների կողմից մասնագիտական պարտականությունները չկատարելը կամ ոչ պատշաճ կատարելը | C33: 130 | D33: 6 | E33: 0 | F33: 0 | G33: 1 | H33: 1 | I33: 0 | J33: 2 | K33: 0 | L33: 0 | M33: 4 | N33: 0 | O33: 1 | P33: 0 | Q33: 1
A34: 1.28 | B34: Այլ հանցագործություններ | D34: 1 | E34: 1 | F34: 0 | G34: 0 | H34: 0 | I34: 0 | J34: 0 | K34: 0 | M34: 1 | N34: 1 | O34: 0 | P34: 0 | Q34: 0
A35: 2. | B35: Ընդամենը անձի ազատության, պատվի և արժանապատվության դեմ ուղղված հանցագործությունները | D35: =SUM(D36:D43) -> 18 | E35: =SUM(E36:E43) -> 0 | F35: =SUM(F36:F43) -> 16 | G35: =SUM(G36:G43) -> 8 | H35: =SUM(H36:H43) -> 3 | I35: =SUM(I36:I43) -> 1 | J35: =SUM(J36:J43) -> 12 | K35: =SUM(K36:K43) -> 0 | ... Q35: =SUM(Q36:Q43) -> 7
A36: 2.1 | B36: Մարդուն առևանգելը | C36: 131 | D36: 10 | E36: 0 | F36: 9 | G36: 6 | H36: 2 | I36: 0 | J36: 8 | K36: 0 | L36: 0 | M36: 11 | N36: 0 | O36: 4 | P36: 1 | Q36: 5
A37: 2.2 | B37: Մարդու թրաֆիքինգը կամ շահագործումը | C37: 132 | D37: 1 | E37: 0 | F37: 0 | G37: 0 | H37: 0 | I37: 0 | J37: 0 | K37: 0 | L37: 0 | M37: 1 | N37: 0 | O37: 0 | P37: 0 | Q37: 0
A38: 2.2.2 | B38: Երեխայի կամ հոգեկան խանգարման հետևանքով իր արարքի բնույթն ու նշանակությունը գիտակցելու կամ դա ղեկավարելու հնարավորությունից զրկված անձի թրաֆիքինգը կամ շահագործումը | C38: 132.2 | D38: 1 | E38: 0 | F38: 0 | G38: 0 | H38: 0 | I38: 0 | J38: 0 | K38: 0 | L38: 0 | M38: 1 | N38: 0 | O38: 0 | P38: 0 | Q38: 0
A39: 2.2.3 | B39: Շահագործման վիճակում գտնվող անձի ծառայությունից օգտվելը | C39: 132.3 | D39: 0 | E39: 0 | F39: 0 | G39: 0 | H39: 0 | I39: 0 | J39: 0 | K39: 0 | L39: 0 | M39: 0 | N39: 0 | O39: 0 | P39: 0 | Q39: 0
A40: 2.3 | B40: Ազատությունից ապօրինի զրկելը | C40: 133 | D40: 1 | E40: 0 | F40: 1 | G40: 0 | H40: 0 | I40: 0 | J40: 0 | K40: 0 | L40: 0 | M40: 2 | N40: 0 | O40: 0 | P40: 0 | Q40: 0
...

Sheet Արագածոտն 
A1: 2019թ. տարեկան | D1: ՀԱՇՎԵՏՎՈՒԹՅՈՒՆ
A2: ՀՀ ԱՐԱԳԱԾՈՏՆԻ ՄԱՐԶԻ ԱՌԱՋԻՆ ԱՏՅԱՆԻ ԸՆԴՀԱՆՈՒՐ ԻՐԱՎԱՍՈՒԹՅԱՆ ԴԱՏԱՐԱՆՈՒՄ ՔՐԵԱԿԱՆ ԳՈՐԾԵՐԻ ՔՆՆՈՒԹՅԱՆ ՎԵՐԱԲԵՐՅԱԼ
A3: ՀՀ Արագածոտնի մարզի առաջին ատյանի ընդհանուր իրավասության դատարանում քրեական մասնագիտացում ունեցող դատավորների հաստիքների քանակը` 2
A4: Ստուգիչ հավասարումներ` 1+3=7+8+10, 7=4+5+6, 14=12+13, 17=15+16 | C4: ՀՀ քրեական օրենսգրքի հոդվածներ | D4: Հաշվետու ժամանակահատվածի սկզբում նախորդ հաշվետու ժամանակահատվածից փոխանցված գործերի ընդհանուր թիվը | E4: Այդ թվում` կասեցված վիճակում փոխանցված | F4: Հաշվետու ժամանակահատվածում ստացված գործերի ընդհանուր թիվը | G4: Հաշվետու ժամանակահատվածում ավարտված գործերի ընդհանուր թիվը | K4: Ուղարկվել է ըստ ընդդատության | L4: Հաշվետու ժամանակահատվածում կասեցված վարույթներով գործերի ընդհանուր թիվը | M4: Հաշվետու ժամանակահատվածում անավարտ գործերի ընդհանուր թիվը | N4: Այդ թվում՝ կասեցված | O4: Բողոքարկված դատական ակտերի թիվը` ըստ տեսակների | R4: Բեկանված դատական ակտերի թիվը` ըստ տեսակների
G5: Քննվել է ըստ էության և դատավճիռ կայացվել | H5: Որոշում է կայացվել քրեական գործի վարույթը կարճելու և քրեական հետապնդումը դադարեցնելու մասին | I5: Որոշում է կայացվել անմեղսունակների նկատմամբ բժշկական բնույթի հարկադրական միջոցներ կիրառելու մասին | J5: Ընդամենը ավարտվել են գործեր | O5: Այդ թվում` գործն ըստ էության լուծող դատական ակտերը | P5: Այդ թվում` միջանկյալ դատական ակտերը | Q5: Ընդամենը | R5: Այդ թվում` գործն ըստ էության լուծող դատական ակտերը | S5: Այդ թվում` միջանկյալ դատական ակտերը | T5: Ընդամենը
D6: 1 | E6: 2 | F6: 3 | G6: 4 | H6: 5 | I6: 6 | J6: 7 | K6: 8 | L6: 9 | M6: 10 | N6: 11 | O6: 12 | P6: 13 | Q6: 14 | R6: 15 | S6: 16 | T6: 17
A7: 1. | B7: Ընդամենը կյանքի և առողջության դեմ ուղղված հանցագործությունները | D7: =SUM(D8:D34) -> 15 | E7: =SUM(E8:E34) -> 0 | F7: =SUM(F8:F34) -> 16 | G7: =SUM(G8:G34) -> 10 | H7: =SUM(H8:H34) -> 3 | I7: =SUM(I8:I34) -> 1 | J7: =SUM(J8:J34) -> 14 | K7: =SUM(K8:K34) -> 0 | ... T7: =SUM(T8:T34) -> 0
A8: 1.1 | B8: Սպանությունը | C8: 104 | D8: 4 | F8: 1 | M8: 5
A9: 1.2 | B9: Հոգեկան խիստ հուզմունքի վիճակում կատարված սպանությունը | C9: 105
A10: 1.3 | B10: Մոր կողմից նորածին երեխայի սպանությունը | C10: 106
A11: 1.4 | B11: Հանցանք կատարած անձին բռնելու համար անհրաժեշտ միջոցների սահմանազանցմամբ սպանությունը | C11: 107
A12: 1.5 | B12: Անհրաժեշտ պաշտպանության սահմանազանցմամբ սպանությունը | C12: 108
A13: 1.6 | B13: Անզգուշությամբ մահ պատճառելը | C13: 109 | F13: 2 | M13: 2
A14: 1.7 | B14: Ինքնասպանության հասցնելը | C14: 110
A15: 1.8 | B15: Ինքնասպանության հակելը | C15: 111
A16: 1.9 | B16: Դիտավորությամբ առողջությանը ծանր վնաս պատճառելը | C16: 112 | D16: 6 | F16: 4 | G16: 5 | H16: 1 | J16: 6 | M16: 4 | O16: 2 | Q16: 2
A17: 1.10 | B17: Դիտավորությամբ առողջությանը միջին ծանրության վնաս պատճառելը | C17: 113 | D17: 1 | F17: 2 | H17: 2 | J17: 2 | M17: 1
A18: 1.11 | B18: Հոգեկան խիստ հուզմունքի վիճակում առողջությանը ծանր կամ միջին ծանրության վնաս պատճառելը | C18: 114
A19: 1.12 | B19: Հանցանք կատարած անձին բռնելու համար անհրաժեշտ միջոցների սահմանզանցմամբ առողջությանը ծանր կամ միջին ծանրության վնաս պատճառելը | C19: 115
A20: 1.13 | B20: Առողջությանը ծանր կամ միջին ծանրության վնաս պատճառելը անհրաժեշտ պաշտպանության սահմանանազանցմամբ | C20: 116 | D20: 1 | G20: 1 | J20: 1
A21: 1.14 | B21: Դիտավորությամբ առողջությանը թեթև վնաս պատճառելը | C21: 117 | D21: 1 | F21: 1 | I21: 1 | J21: 1 | M21: 1
A22: 1.15 | B22: Ծեծը | C22: 118 | F22: 5 | G22: 2 | J22: 2 | M22: 3 | O22: 1 | Q22: 1
A23: 1.16 | B23: Ֆիզիկական ուժեղ ցավ կամ հոգեկան ուժեղ տառապանք պատճառելը | C23: 119 | F23: 1 | G23: 1 | J23: 1 | O23: 1 | Q23: 1
A24: 1.17 | B24: Անզգուշությամբ առողջությանը ծանր վնաս պատճառելը | C24: 120
A25: 1.18 | B25: Անզգուշությամբ առողջությանը միջին ծանրության վնաս պատճառելը | C25: 121
A26: 1.19 | B26: Ապօրինի աբորտ կատարելը | C26: 122
A27: 1.20 | B27: Մարդու իմունային անբավարարության վիրուսի հարուցիչով վարակելը | C27: 123
A28: 1.21 | B28: Վեներական հիվանդությամբ կամ այլ սեռավարակներով վարակելը | C28: 124
A29: 1.22 | B29: Փոխպատվաստման վիրահատություն կատարելու կանոնները խախտելը | C29: 125
A30: 1.24 | B30: Անձին առանց իր հանձնարարության բժշկական կամ գիտական փորձերի ենթարկելը | C30: 127
A31: 1.25 | B31: Վտանգի մեջ թողնելը | C31: 128
A32: 1.26 | B32: Հիվանդին օգնություն ցույց չտալը | C32: 129
A33: 1.27 | B33: Բժշկական օգնություն և սպասարկում իրականացնողների կողմից մասնագիտական պարտականությունները չկատարելը կամ ոչ պատշաճ կատարելը | C33: 130 | D33: 1 | M33: 1
A34: 1.28 | B34: Այլ հանցագործություններ | D34: 1 | G34: 1 | J34: 1
A35: 2. | B35: Ընդամենը անձի ազատության, պատվի և արժանապատվության դեմ ուղղված հանցագործությունները | D35: =SUM(D36:D43) -> 0 | E35: =SUM(E36:E43) -> 0 | F35: =SUM(F36:F43) -> 1 | G35: =SUM(G36:G43) -> 0 | H35: =SUM(H36:H43) -> 0 | I35: =SUM(I36:I43) -> 0 | J35: =SUM(J36:J43) -> 0 | K35: =SUM(K36:K43) -> 0 | ... T35: =SUM(T36:T43) -> 0
A36: 2.1 | B36: Մարդուն առևանգելը | C36: 131 | F36: 1 | M36: 1
A37: 2.2 | B37: Մարդու թրաֆիքինգը կամ շահագործումը | C37: 132
A38: 2.2.2 | B38: Երեխայի կամ հոգեկան խանգարման հետևանքով իր արարքի բնույթն ու նշանակությունը գիտակցելու կամ դա ղեկավարելու հնարավորությունից զրկված անձի թրաֆիքինգը կամ շահագործումը | C38: 132.2
A39: 2.2.3 | B39: Շահագործման վիճակում գտնվող անձի ծառայությունից օգտվելը | C39: 132.3
A40: 2.3 | B40: Ազատությունից ապօրինի զրկելը | C40: 133
...

Sheet Արմավիր
A1: 2019թ. տարեկան | D1: ՀԱՇՎԵՏՎՈՒԹՅՈՒՆ
A2: ՀՀ ԱՐՄԱՎԻՐԻ ՄԱՐԶԻ ԱՌԱՋԻՆ ԱՏՅԱՆԻ ԸՆԴՀԱՆՈՒՐ ԻՐԱՎԱՍՈՒԹՅԱՆ ԴԱՏԱՐԱՆՈՒՄ ՔՐԵԱԿԱՆ ԳՈՐԾԵՐԻ ՔՆՆՈՒԹՅԱՆ ՎԵՐԱԲԵՐՅԱԼ
A3: ՀՀ Արմավիրի մարզի առաջին ատյանի ընդհանուր իրավասության դատարանում քրեական մասնագիտացում ունեցող դատավորների հաստիքների քանակը` 4
A4: Ստուգիչ հավասարումներ` 1+3=7+8+10, 7=4+5+6, 14=12+13, 17=15+16 | C4: ՀՀ քրեական օրենսգրքի հոդվածներ | D4: Հաշվետու ժամանակահատվածի սկզբում նախորդ հաշվետու ժամանակահատվածից փոխանցված գործերի ընդհանուր թիվը | E4: Այդ թվում` կասեցված վիճակում փոխանցված | F4: Հաշվետու ժամանակահատվածում ստացված գործերի ընդհանուր թիվը | G4: Հաշվետու ժամանակահատվածում ավարտված գործերի ընդհանուր թիվը | K4: Ուղարկվել է ըստ ընդդատության | L4: Հաշվետու ժամանակահատվածում կասեցված վարույթներով գործերի ընդհանուր թիվը | M4: Հաշվետու ժամանակահատվածում անավարտ գործերի ընդհանուր թիվը | N4: Այդ թվում՝ կասեցված | O4: Բողոքարկված դատական ակտերի թիվը` ըստ տեսակների | R4: Բեկանված դատական ակտերի թիվը` ըստ տեսակների
G5: Քննվել է ըստ էության և դատավճիռ կայացվել | H5: Որոշում է կայացվել քրեական գործի վարույթը կարճելու և քրեական հետապնդումը դադարեցնելու մասին | I5: Որոշում է կայացվել անմեղսունակների նկատմամբ բժշկական բնույթի հարկադրական միջոցներ կիրառելու մասին | J5: Ընդամենը ավարտվել են գործեր | O5: Այդ թվում` գործն ըստ էության լուծող դատական ակտերը | P5: Այդ թվում` միջանկյալ դատական ակտերը | Q5: Ընդամենը | R5: Այդ թվում` գործն ըստ էության լուծող դատական ակտերը | S5: Այդ թվում` միջանկյալ դատական ակտերը | T5: Ընդամենը
D6: 1 | E6: 2 | F6: 3 | G6: 4 | H6: 5 | I6: 6 | J6: 7 | K6: 8 | L6: 9 | M6: 10 | N6: 11 | O6: 12 | P6: 13 | Q6: 14 | R6: 15 | S6: 16 | T6: 17
A7: 1. | B7: Ընդամենը կյանքի և առողջության դեմ ուղղված հանցագործությունները | D7: =SUM(D8:D34) -> 29 | E7: =SUM(E8:E34) -> 1 | F7: =SUM(F8:F34) -> 41 | G7: =SUM(G8:G34) -> 24 | H7: =SUM(H8:H34) -> 13 | I7: =SUM(I8:I34) -> 5 | J7: =SUM(J8:J34) -> 42 | K7: =SUM(K8:K34) -> 0 | ... T7: =SUM(T8:T34) -> 0
A8: 1.1 | B8: Սպանությունը | C8: 104 | D8: 8 | F8: 3 | G8: 4 | J8: 4 | M8: 7 | O8: 4 | P8: 3 | Q8: 7
A9: 1.2 | B9: Հոգեկան խիստ հուզմունքի վիճակում կատարված սպանությունը | C9: 105 | D9: 1 | G9: 1 | J9: 1 | O9: 1 | Q9: 1
A10: 1.3 | B10: Մոր կողմից նորածին երեխայի սպանությունը | C10: 106 | D10: 1 | H10: 1 | J10: 1
A11: 1.4 | B11: Հանցանք կատարած անձին բռնելու համար անհրաժեշտ միջոցների սահմանազանցմամբ սպանությունը | C11: 107
A12: 1.5 | B12: Անհրաժեշտ պաշտպանության սահմանազանցմամբ սպանությունը | C12: 108
A13: 1.6 | B13: Անզգուշությամբ մահ պատճառելը | C13: 109
A14: 1.7 | B14: Ինքնասպանության հասցնելը | C14: 110
A15: 1.8 | B15: Ինքնասպանության հակելը | C15: 111
A16: 1.9 | B16: Դիտավորությամբ առողջությանը ծանր վնաս պատճառելը | C16: 112 | D16: 6 | F16: 9 | G16: 8 | H16: 1 | I16: 1 | J16: 10 | M16: 5 | O16: 3 | Q16: 3
A17: 1.10 | B17: Դիտավորությամբ առողջությանը միջին ծանրության վնաս պատճառելը | C17: 113 | D17: 3 | E17: 1 | F17: 2 | G17: 4 | J17: 4 | M17: 1 | O17: 2 | Q17: 2
A18: 1.11 | B18: Հոգեկան խիստ հուզմունքի վիճակում առողջությանը ծանր կամ միջին ծանրության վնաս պատճառելը | C18: 114
A19: 1.12 | B19: Հանցանք կատարած անձին բռնելու համար անհրաժեշտ միջոցների սահմանզանցմամբ առողջությանը ծանր կամ միջին ծանրության վնաս պատճառելը | C19: 115
A20: 1.13 | B20: Առողջությանը ծանր կամ միջին ծանրության վնաս պատճառելը անհրաժեշտ պաշտպանության սահմանանազանցմամբ | C20: 116
A21: 1.14 | B21: Դիտավորությամբ առողջությանը թեթև վնաս պատճառելը | C21: 117 | D21: 3 | F21: 5 | G21: 2 | H21: 2 | I21: 2 | J21: 6 | M21: 2
A22: 1.15 | B22: Ծեծը | C22: 118 | D22: 6 | F22: 19 | G22: 5 | H22: 9 | I22: 2 | J22: 16 | M22: 9 | O22: 4 | Q22: 4
A23: 1.16 | B23: Ֆիզիկական ուժեղ ցավ կամ հոգեկան ուժեղ տառապանք պատճառելը | C23: 119 | F23: 1 | M23: 1
A24: 1.17 | B24: Անզգուշությամբ առողջությանը ծանր վնաս պատճառելը | C24: 120
A25: 1.18 | B25: Անզգուշությամբ առողջությանը միջին ծանրության վնաս պատճառելը | C25: 121
A26: 1.19 | B26: Ապօրինի աբորտ կատարելը | C26: 122
A27: 1.20 | B27: Մարդու իմունային անբավարարության վիրուսի հարուցիչով վարակելը | C27: 123
A28: 1.21 | B28: Վեներական հիվանդությամբ կամ այլ սեռավարակներով վարակելը | C28: 124
A29: 1.22 | B29: Փոխպատվաստման վիրահատություն կատարելու կանոնները խախտելը | C29: 125
A30: 1.24 | B30: Անձին առանց իր հանձնարարության բժշկական կամ գիտական փորձերի ենթարկելը | C30: 127
A31: 1.25 | B31: Վտանգի մեջ թողնելը | C31: 128
A32: 1.26 | B32: Հիվանդին օգնություն ցույց չտալը | C32: 129
A33: 1.27 | B33: Բժշկական օգնություն և սպասարկում իրականացնողների կողմից մասնագիտական պարտականությունները չկատարելը կամ ոչ պատշաճ կատարելը | C33: 130 | D33: 1 | F33: 2 | M33: 3
A34: 1.28 | B34: Այլ հանցագործություններ
A35: 2. | B35: Ընդամենը անձի ազատության, պատվի և արժանապատվության դեմ ուղղված հանցագործությունները | D35: =SUM(D36:D43) -> 2 | E35: =SUM(E36:E43) -> 0 | F35: =SUM(F36:F43) -> 6 | G35: =SUM(G36:G43) -> 3 | H35: =SUM(H36:H43) -> 0 | I35: =SUM(I36:I43) -> 0 | J35: =SUM(J36:J43) -> 3 | K35: =SUM(K36:K43) -> 0 | ... T35: =SUM(T36:T43) -> 0
A36: 2.1 | B36: Մարդուն առևանգելը | C36: 131 | D36: 1 | F36: 3 | G36: 2 | J36: 2 | M36: 2
A37: 2.2 | B37: Մարդու թրաֆիքինգը կամ շահագործումը | C37: 132
A38: 2.2.2 | B38: Երեխայի կամ հոգեկան խանգարման հետևանքով իր արարքի բնույթն ու նշանակությունը գիտակցելու կամ դա ղեկավարելու հնարավորությունից զրկված անձի թրաֆիքինգը կամ շահագործումը | C38: 132.2 | D38: 1 | M38: 1
A39: 2.2.3 | B39: Շահագործման վիճակում գտնվող անձի ծառայությունից օգտվելը | C39: 132.3
A40: 2.3 | B40: Ազատությունից ապօրինի զրկելը | C40: 133 | F40: 1 | M40: 1
...

Sheet Կոտայք
A1: 2019թ. տարեկան | D1: ՀԱՇՎԵՏՎՈՒԹՅՈՒՆ
A2: ՀՀ ԿՈՏԱՅՔԻ ՄԱՐԶԻ ԱՌԱՋԻՆ ԱՏՅԱՆԻ ԸՆԴՀԱՆՈՒՐ ԻՐԱՎԱՍՈՒԹՅԱՆ ԴԱՏԱՐԱՆՈՒՄ ՔՐԵԱԿԱՆ ԳՈՐԾԵՐԻ ՔՆՆՈՒԹՅԱՆ ՎԵՐԱԲԵՐՅԱԼ
A3: ՀՀ Կոտայքի մարզի առաջին ատյանի ընդհանուր իրավասության դատարանում քրեական մասնագիտացում ունեցող դատավորների հաստիքների քանակը` 4
A4: Ստուգիչ հավասարումներ` 1+3=7+8+10, 7=4+5+6, 14=12+13, 17=15+16 | C4: ՀՀ քրեական օրենսգրքի հոդվածներ | D4: Հաշվետու ժամանակահատվածի սկզբում նախորդ հաշվետու ժամանակահատվածից փոխանցված գործերի ընդհանուր թիվը | E4: Այդ թվում` կասեցված վիճակում փոխանցված | F4: Հաշվետու ժամանակահատվածում ստացված գործերի ընդհանուր թիվը | G4: Հաշվետու ժամանակահատվածում ավարտված գործերի ընդհանուր թիվը | K4: Ուղարկվել է ըստ ընդդատության | L4: Հաշվետու ժամանակահատվածում կասեցված վարույթներով գործերի ընդհանուր թիվը | M4: Հաշվետու ժամանակահատվածում անավարտ գործերի ընդհանուր թիվը | N4: Այդ թվում՝ կասեցված | O4: Բողոքարկված դատական ակտերի թիվը` ըստ տեսակների | R4: Բեկանված դատական ակտերի թիվը` ըստ տեսակների
G5: Քննվել է ըստ էության և դատավճիռ կայացվել | H5: Որոշում է կայացվել քրեական գործի վարույթը կարճելու և քրեական հետապնդումը դադարեցնելու մասին | I5: Որոշում է կայացվել անմեղսունակների նկատմամբ բժշկական բնույթի հարկադրական միջոցներ կիրառելու մասին | J5: Ընդամենը ավարտվել են գործեր | O5: Այդ թվում` գործն ըստ էության լուծող դատական ակտերը | P5: Այդ թվում` միջանկյալ դատական ակտերը | Q5: Ընդամենը | R5: Այդ թվում` գործն ըստ էության լուծող դատական ակտերը | S5: Այդ թվում` միջանկյալ դատական ակտերը | T5: Ընդամենը
D6: 1 | E6: 2 | F6: 3 | G6: 4 | H6: 5 | I6: 6 | J6: 7 | K6: 8 | L6: 9 | M6: 10 | N6: 11 | O6: 12 | P6: 13 | Q6: 14 | R6: 15 | S6: 16 | T6: 17
A7: 1. | B7: Ընդամենը կյանքի և առողջության դեմ ուղղված հանցագործությունները | D7: =SUM(D8:D34) -> 23 | E7: =SUM(E8:E34) -> 1 | F7: =SUM(F8:F34) -> 52 | G7: =SUM(G8:G34) -> 36 | H7: =SUM(H8:H34) -> 9 | I7: =SUM(I8:I34) -> 0 | J7: =SUM(J8:J34) -> 45 | K7: =SUM(K8:K34) -> 1 | ... T7: =SUM(T8:T34) -> 0
A8: 1.1 | B8: Սպանությունը | C8: 104 | D8: 4 | F8: 4 | G8: 3 | J8: 3 | K8: 1 | M8: 4 | O8: 1 | Q8: 1
A9: 1.2 | B9: Հոգեկան խիստ հուզմունքի վիճակում կատարված սպանությունը | C9: 105
A10: 1.3 | B10: Մոր կողմից նորածին երեխայի սպանությունը | C10: 106
A11: 1.4 | B11: Հանցանք կատարած անձին բռնելու համար անհրաժեշտ միջոցների սահմանազանցմամբ սպանությունը | C11: 107
A12: 1.5 | B12: Անհրաժեշտ պաշտպանության սահմանազանցմամբ սպանությունը | C12: 108
A13: 1.6 | B13: Անզգուշությամբ մահ պատճառելը | C13: 109
A14: 1.7 | B14: Ինքնասպանության հասցնելը | C14: 110
A15: 1.8 | B15: Ինքնասպանության հակելը | C15: 111
A16: 1.9 | B16: Դիտավորությամբ առողջությանը ծանր վնաս պատճառելը | C16: 112 | D16: 11 | F16: 17 | G16: 16 | J16: 16 | M16: 12 | O16: 5 | Q16: 5
A17: 1.10 | B17: Դիտավորությամբ առողջությանը միջին ծանրության վնաս պատճառելը | C17: 113 | D17: 1 | F17: 4 | G17: 3 | H17: 1 | J17: 4 | M17: 1
A18: 1.11 | B18: Հոգեկան խիստ հուզմունքի վիճակում առողջությանը ծանր կամ միջին ծանրության վնաս պատճառելը | C18: 114
A19: 1.12 | B19: Հանցանք կատարած անձին բռնելու համար անհրաժեշտ միջոցների սահմանզանցմամբ առողջությանը ծանր կամ միջին ծանրության վնաս պատճառելը | C19: 115
A20: 1.13 | B20: Առողջությանը ծանր կամ միջին ծանրության վնաս պատճառելը անհրաժեշտ պաշտպանության սահմանանազանցմամբ | C20: 116
A21: 1.14 | B21: Դիտավորությամբ առողջությանը թեթև վնաս պատճառելը | C21: 117 | D21: 3 | E21: 1 | F21: 7 | G21: 2 | H21: 3 | J21: 5 | M21: 5 | N21: 1 | O21: 1 | Q21: 1
A22: 1.15 | B22: Ծեծը | C22: 118 | D22: 2 | F22: 19 | G22: 9 | H22: 5 | J22: 14 | M22: 6 | O22: 3 | Q22: 3
A23: 1.16 | B23: Ֆիզիկական ուժեղ ցավ կամ հոգեկան ուժեղ տառապանք պատճառելը | C23: 119 | D23: 2 | G23: 2 | J23: 2 | O23: 2 | Q23: 2
A24: 1.17 | B24: Անզգուշությամբ առողջությանը ծանր վնաս պատճառելը | C24: 120
A25: 1.18 | B25: Անզգուշությամբ առողջությանը միջին ծանրության վնաս պատճառելը | C25: 121 | F25: 1 | G25: 1 | J25: 1
A26: 1.19 | B26: Ապօրինի աբորտ կատարելը | C26: 122
A27: 1.20 | B27: Մարդու իմունային անբավարարության վիրուսի հարուցիչով վարակելը | C27: 123
A28: 1.21 | B28: Վեներական հիվանդությամբ կամ այլ սեռավարակներով վարակելը | C28: 124
A29: 1.22 | B29: Փոխպատվաստման վիրահատություն կատարելու կանոնները խախտելը | C29: 125
A30: 1.24 | B30: Անձին առանց իր հանձնարարության բժշկական կամ գիտական փորձերի ենթարկելը | C30: 127
A31: 1.25 | B31: Վտանգի մեջ թողնելը | C31: 128
A32: 1.26 | B32: Հիվանդին օգնություն ցույց չտալը | C32: 129
A33: 1.27 | B33: Բժշկական օգնություն և սպասարկում իրականացնողների կողմից մասնագիտական պարտականությունները չկատարելը կամ ոչ պատշաճ կատարելը | C33: 130
A34: 1.28 | B34: Այլ հանցագործություններ
A35: 2. | B35: Ընդամենը անձի ազատության, պատվի և արժանապատվության դեմ ուղղված հանցագործությունները | D35: =SUM(D36:D43) -> 5 | E35: =SUM(E36:E43) -> 0 | F35: =SUM(F36:F43) -> 3 | G35: =SUM(G36:G43) -> 1 | H35: =SUM(H36:H43) -> 0 | I35: =SUM(I36:I43) -> 2 | J35: =SUM(J36:J43) -> 3 | K35: =SUM(K36:K43) -> 0 | ... T35: =SUM(T36:T43) -> 0
A36: 2.1 | B36: Մարդուն առևանգելը | C36: 131 | D36: 1 | F36: 1 | M36: 2
A37: 2.2 | B37: Մարդու թրաֆիքինգը կամ շահագործումը | C37: 132
A38: 2.2.2 | B38: Երեխայի կամ հոգեկան խանգարման հետևանքով իր արարքի բնույթն ու նշանակությունը գիտակցելու կամ դա ղեկավարելու հնարավորությունից զրկված անձի թրաֆիքինգը կամ շահագործումը | C38: 132.2
A39: 2.2.3 | B39: Շահագործման վիճակում գտնվող անձի ծառայությունից օգտվելը | C39: 132.3
A40: 2.3 | B40: Ազատությունից ապօրինի զրկելը | C40: 133 | D40: 3 | G40: 1 | J40: 1 | M40: 2 | O40: 1 | Q40: 1
...

Sheet Տավուշ
A1: 2019թ. տարեկան | D1: ՀԱՇՎԵՏՎՈՒԹՅՈՒՆ
A2: ՀՀ ՏԱՎՈՒՇԻ ՄԱՐԶԻ ԱՌԱՋԻՆ ԱՏՅԱՆԻ ԸՆԴՀԱՆՈՒՐ ԻՐԱՎԱՍՈՒԹՅԱՆ ԴԱՏԱՐԱՆՈՒՄ ՔՐԵԱԿԱՆ ԳՈՐԾԵՐԻ ՔՆՆՈՒԹՅԱՆ ՎԵՐԱԲԵՐՅԱԼ
A3: ՀՀ Տավուշի մարզի առաջին ատյանի ընդհանուր իրավասության դատարանում քրեական մասնագիտացում ունեցող դատավորների հաստիքների քանակը` 3
A4: Ստուգիչ հավասարումներ` 1+3=7+8+10, 7=4+5+6, 14=12+13, 17=15+16 | C4: ՀՀ քրեական օրենսգրքի հոդվածներ | D4: Հաշվետու ժամանակահատվածի սկզբում նախորդ հաշվետու ժամանակահատվածից փոխանցված գործերի ընդհանուր թիվը | E4: Այդ թվում` կասեցված վիճակում փոխանցված | F4: Հաշվետու ժամանակահատվածում ստացված գործերի ընդհանուր թիվը | G4: Հաշվետու ժամանակահատվածում ավարտված գործերի ընդհանուր թիվը | K4: Ուղարկվել է ըստ ընդդատության | L4: Հաշվետու ժամանակահատվածում կասեցված վարույթներով գործերի ընդհանուր թիվը | M4: Հաշվետու ժամանակահատվածում անավարտ գործերի ընդհանուր թիվը | N4: Այդ թվում՝ կասեցված | O4: Բողոքարկված դատական ակտերի թիվը` ըստ տեսակների | R4: Բեկանված դատական ակտերի թիվը` ըստ տեսակների
G5: Քննվել է ըստ էության և դատավճիռ կայացվել | H5: Որոշում է կայացվել քրեական գործի վարույթը կարճելու և քրեական հետապնդումը դադարեցնելու մասին | I5: Որոշում է կայացվել անմեղսունակների նկատմամբ բժշկական բնույթի հարկադրական միջոցներ կիրառելու մասին | J5: Ընդամենը ավարտվել են գործեր | O5: Այդ թվում` գործն ըստ էության լուծող դատական ակտերը | P5: Այդ թվում` միջանկյալ դատական ակտերը | Q5: Ընդամենը | R5: Այդ թվում` գործն ըստ էության լուծող դատական ակտերը | S5: Այդ թվում` միջանկյալ դատական ակտերը | T5: Ընդամենը
D6: 1 | E6: 2 | F6: 3 | G6: 4 | H6: 5 | I6: 6 | J6: 7 | K6: 8 | L6: 9 | M6: 10 | N6: 11 | O6: 12 | P6: 13 | Q6: 14 | R6: 15 | S6: 16 | T6: 17
A7: 1. | B7: Ընդամենը կյանքի և առողջության դեմ ուղղված հանցագործությունները | D7: =SUM(D8:D34) -> 5 | E7: =SUM(E8:E34) -> 0 | F7: =SUM(F8:F34) -> 17 | G7: =SUM(G8:G34) -> 6 | H7: =SUM(H8:H34) -> 3 | I7: =SUM(I8:I34) -> 1 | J7: =SUM(J8:J34) -> 11 | K7: =SUM(K8:K34) -> 0 | ... T7: =SUM(T8:T34) -> 1
A8: 1.1 | B8: Սպանությունը | C8: 104 | D8: 1 | E8: 0 | F8: 6 | G8: 1 | H8: 0 | I8: 0 | J8: 1 | K8: 0 | L8: 0 | M8: 6 | N8: 0 | O8: 0 | P8: 1 | Q8: 1 | R8: 0 | S8: 0 | T8: 0
A9: 1.2 | B9: Հոգեկան խիստ հուզմունքի վիճակում կատարված սպանությունը | C9: 105 | D9: 0 | E9: 0 | F9: 0 | G9: 0 | H9: 0 | I9: 0 | J9: 0 | K9: 0 | L9: 0 | M9: 0 | N9: 0 | O9: 0 | P9: 0 | Q9: 0 | R9: 0 | S9: 0 | T9: 0
A10: 1.3 | B10: Մոր կողմից նորածին երեխայի սպանությունը | C10: 106 | D10: 0 | E10: 0 | F10: 0 | G10: 0 | H10: 0 | I10: 0 | J10: 0 | K10: 0 | L10: 0 | M10: 0 | N10: 0 | O10: 0 | P10: 0 | Q10: 0 | R10: 0 | S10: 0 | T10: 0
A11: 1.4 | B11: Հանցանք կատարած անձին բռնելու համար անհրաժեշտ միջոցների սահմանազանցմամբ սպանությունը | C11: 107 | D11: 0 | E11: 0 | F11: 0 | G11: 0 | H11: 0 | I11: 0 | J11: 0 | K11: 0 | L11: 0 | M11: 0 | N11: 0 | O11: 0 | P11: 0 | Q11: 0 | R11: 0 | S11: 0 | T11: 0
A12: 1.5 | B12: Անհրաժեշտ պաշտպանության սահմանազանցմամբ սպանությունը | C12: 108 | D12: 0 | E12: 0 | F12: 0 | G12: 0 | H12: 0 | I12: 0 | J12: 0 | K12: 0 | L12: 0 | M12: 0 | N12: 0 | O12: 0 | P12: 0 | Q12: 0 | R12: 0 | S12: 0 | T12: 0
A13: 1.6 | B13: Անզգուշությամբ մահ պատճառելը | C13: 109 | D13: 0 | E13: 0 | F13: 1 | G13: 0 | H13: 0 | I13: 0 | J13: 1 | K13: 0 | L13: 0 | M13: 0 | N13: 0 | O13: 0 | P13: 0 | Q13: 0 | R13: 0 | S13: 0 | T13: 0
A14: 1.7 | B14: Ինքնասպանության հասցնելը | C14: 110 | D14: 0 | E14: 0 | F14: 1 | G14: 0 | H14: 1 | I14: 0 | J14: 1 | K14: 0 | L14: 0 | M14: 0 | N14: 0 | O14: 0 | P14: 0 | Q14: 0 | R14: 0 | S14: 0 | T14: 0
A15: 1.8 | B15: Ինքնասպանության հակելը | C15: 111 | D15: 0 | E15: 0 | F15: 0 | G15: 0 | H15: 0 | I15: 0 | J15: 0 | K15: 0 | L15: 0 | M15: 0 | N15: 0 | O15: 0 | P15: 0 | Q15: 0 | R15: 0 | S15: 0 | T15: 0
A16: 1.9 | B16: Դիտավորությամբ առողջությանը ծանր վնաս պատճառելը | C16: 112 | D16: 2 | E16: 0 | F16: 1 | G16: 0 | H16: 0 | I16: 1 | J16: 1 | K16: 0 | L16: 0 | M16: 2 | N16: 0 | O16: 0 | P16: 0 | Q16: 0 | R16: 0 | S16: 0 | T16: 0
A17: 1.10 | B17: Դիտավորությամբ առողջությանը միջին ծանրության վնաս պատճառելը | C17: 113 | D17: 0 | E17: 0 | F17: 2 | G17: 2 | H17: 0 | I17: 0 | J17: 2 | K17: 0 | L17: 0 | M17: 0 | N17: 0 | O17: 1 | P17: 0 | Q17: 1 | R17: 1 | S17: 0 | T17: 1
A18: 1.11 | B18: Հոգեկան խիստ հուզմունքի վիճակում առողջությանը ծանր կամ միջին ծանրության վնաս պատճառելը | C18: 114 | D18: 0 | E18: 0 | F18: 0 | G18: 0 | H18: 0 | I18: 0 | J18: 0 | K18: 0 | L18: 0 | M18: 0 | N18: 0 | O18: 0 | P18: 0 | Q18: 0 | R18: 0 | S18: 0 | T18: 0
A19: 1.12 | B19: Հանցանք կատարած անձին բռնելու համար անհրաժեշտ միջոցների սահմանզանցմամբ առողջությանը ծանր կամ միջին ծանրության վնաս պատճառելը | C19: 115 | D19: 0 | E19: 0 | F19: 0 | G19: 0 | H19: 0 | I19: 0 | J19: 0 | K19: 0 | L19: 0 | M19: 0 | N19: 0 | O19: 0 | P19: 0 | Q19: 0 | R19: 0 | S19: 0 | T19: 0
... A33: 1.27 | B33: Բժշկական օգնություն և սպասարկում իրականացնողների կողմից մասնագիտական պարտականությունները չկատարելը կամ ոչ պատշաճ կատարելը | C33: 130 | D33: 0 | E33: 0 | F33: 1 | G33: 0 | H33: 0 | I33: 0 | J33: 0 | K33: 0 | L33: 0 | M33: 1 | N33: 0 | O33: 0 | P33: 0 | Q33: 0 | R33: 0 | S33: 0 | T33: 0
A34: 1.28 | B34: Այլ հանցագործություններ | D34: 0 | E34: 0 | F34: 0 | G34: 0 | H34: 0 | I34: 0 | J34: 0 | K34: 0 | L34: 0 | M34: 0 | N34: 0 | O34: 0 | P34: 0 | Q34: 0 | R34: 0 | S34: 0 | T34: 0
A35: 2. | B35: Ընդամենը անձի ազատության, պատվի և արժանապատվության դեմ ուղղված հանցագործությունները | D35: =SUM(D36:D43) -> 0 | E35: =SUM(E36:E43) -> 0 | F35: =SUM(F36:F43) -> 3 | G35: =SUM(G36:G43) -> 2 | H35: =SUM(H36:H43) -> 0 | I35: =SUM(I36:I43) -> 0 | J35: =SUM(J36:J43) -> 2 | K35: =SUM(K36:K43) -> 0 | ... T35: =SUM(T36:T43) -> 0
A36: 2.1 | B36: Մարդուն առևանգելը | C36: 131 | D36: 0 | E36: 0 | F36: 2 | G36: 1 | H36: 0 | I36: 0 | J36: 1 | K36: 0 | L36: 0 | M36: 1 | N36: 0 | O36: 1 | P36: 0 | Q36: 1 | R36: 0 | S36: 0 | T36: 0
A37: 2.2 | B37: Մարդու թրաֆիքինգը կամ շահագործումը | C37: 132 | D37: 0 | E37: 0 | F37: 0 | G37: 0 | H37: 0 | I37: 0 | J37: 0 | K37: 0 | L37: 0 | M37: 0 | N37: 0 | O37: 0 | P37: 0 | Q37: 0 | R37: 0 | S37: 0 | T37: 0
A38: 2.2.2 | B38: Երեխայի կամ հոգեկան խանգարման հետևանքով իր արարքի բնույթն ու նշանակությունը գիտակցելու կամ դա ղեկավարելու հնարավորությունից զրկված անձի թրաֆիքինգը կամ շահագործումը | C38: 132.2 | D38: 0 | E38: 0 | F38: 0 | G38: 0 | H38: 0 | I38: 0 | J38: 0 | K38: 0 | L38: 0 | M38: 0 | N38: 0 | O38: 0 | P38: 0 | Q38: 0 | R38: 0 | S38: 0 | T38: 0
A39: 2.2.3 | B39: Շահագործման վիճակում գտնվող անձի ծառայությունից օգտվելը | C39: 132.3 | D39: 0 | E39: 0 | F39: 0 | G39: 0 | H39: 0 | I39: 0 | J39: 0 | K39: 0 | L39: 0 | M39: 0 | N39: 0 | O39: 0 | P39: 0 | Q39: 0 | R39: 0 | S39: 0 | T39: 0
A40: 2.3 | B40: Ազատությունից ապօրինի զրկելը | C40: 133 | D40: 0 | E40: 0 | F40: 1 | G40: 1 | H40: 0 | I40: 0 | J40: 1 | K40: 0 | L40: 0 | M40: 0 | N40: 0 | O40: 0 | P40: 0 | Q40: 0 | R40: 0 | S40: 0 | T40: 0
A41: 2.4 | B41: Հոգեբուժական հիվանդանոցում ապօրինի տեղավորելը կամ պահելը | C41: 134 | D41: 0 | E41: 0 | F41: 0 | G41: 0 | H41: 0 | I41: 0 | J41: 0 | K41: 0 | L41: 0 | M41: 0 | N41: 0 | O41: 0 | P41: 0 | Q41: 0 | R41: 0 | S41: 0 | T41: 0
A42: 2.7 | B42: Սպանության, առողջությանը ծանր վնաս պատճառելու կամ գույք ոչնչացնելու սպառնալիքը | C42: 137 | D42: 0 | E42: 0 | F42: 0 | G42: 0 | H42: 0 | I42: 0 | J42: 0 | K42: 0 | L42: 0 | M42: 0 | N42: 0 | O42: 0 | P42: 0 | Q42: 0 | R42: 0 | S42: 0 | T42: 0
A43: 2.8 | B43: Այլ հանցագործություններ | D43: 0 | E43: 0 | F43: 0 | G43: 0 | H43: 0 | I43: 0 | J43: 0 | K43: 0 | L43: 0 | M43: 0 | N43: 0 | O43: 0 | P43: 0 | Q43: 0 | R43: 0 | S43: 0 | T43: 0
A44: 3. | B44: Ընդամենը սեռական անձեռնմխելիության և սեռական ազատության դեմ ուղղված հանցագործությունները | D44: =SUM(D45:D50) -> 1 | E44: =SUM(E45:E50) -> 0 | F44: =SUM(F45:F50) -> 6 | G44: =SUM(G45:G50) -> 4 | H44: =SUM(H45:H50) -> 0 | I44: =SUM(I45:I50) -> 0 | J44: =SUM(J45:J50) -> 4 | K44: =SUM(K45:K50) -> 0 | ... T44: =SUM(T45:T50) -> 0
A45: 3.1 | B45: Բռնաբարությունը | C45: 138 | D45: 1 | E45: 0 | F45: 0 | G45: 1 | H45: 0 | I45: 0 | J45: 1 | K45: 0 | L45: 0 | M45: 0 | N45: 0 | O45: 0 | P45: 0 | Q45: 0 | R45: 0 | S45: 0 | T45: 0
A46: 3.2 | B46: Սեքսուալ բնույթի բռնի գործողությունները | C46: 139 | D46: 0 | E46: 0 | F46: 1 | G46: 1 | H46: 0 | I46: 0 | J46: 1 | K46: 0 | L46: 0 | M46: 0 | N46: 0 | O46: 0 | P46: 0 | Q46: 0 | R46: 0 | S46: 0 | T46: 0
A47: 3.3 | B47: Սեռական հարաբերության կամ սեքսուալ բնույթի գործողություններին հարկադրելը | C47: 140 | D47: 0 | E47: 0 | F47: 2 | G47: 1 | H47: 0 | I47: 0 | J47: 1 | K47: 0 | L47: 0 | M47: 1 | N47: 0 | O47: 0 | P47: 0 | Q47: 0 | R47: 0 | S47: 0 | T47: 0
A48: 3.4 | B48: Սեռական հարաբերությունը տասնվեց տարին չլրացած անձի հետ կամ սեքսուալ բնույթի գործողություններ կատարելը տասնվեց տարին չլրացած անձի նկատմամբ | C48: 141 | D48: 0 | E48: 0 | F48: 3 | G48: 1 | H48: 0 | I48: 0 | J48: 1 | K48: 0 | L48: 0 | M48: 2 | N48: 0 | O48: 0 | P48: 0 | Q48: 0 | R48: 0 | S48: 0 | T48: 0
A49: 3.5 | B49: Անառակաբարո գործողությունները | C49: 142 | D49: 0 | E49: 0 | F49: 0 | G49: 0 | H49: 0 | I49: 0 | J49: 0 | K49: 0 | L49: 0 | M49: 0 | N49: 0 | O49: 0 | P49: 0 | Q49: 0 | R49: 0 | S49: 0 | T49: 0
A50: 3.6 | B50: Այլ հանցագործություններ | D50: 0 | E50: 0 | F50: 0 | G50: 0 | H50: 0 | I50: 0 | J50: 0 | K50: 0 | L50: 0 | M50: 0 | N50: 0 | O50: 0 | P50: 0 | Q50: 0 | R50: 0 | S50: 0 | T50: 0
A51: 4. | B51: Ընդամենը մարդու և քաղաքացու սահմանադրական իրավունքների և ազատությունների դեմ ուղղված հանցագործությունները | D51: =SUM(D52:D80) -> 0 | E51: =SUM(E52:E80) -> 0 | F51: =SUM(F52:F80) -> 1 | G51: =SUM(G52:G80) -> 1 | H51: =SUM(H52:H80) -> 0 | I51: =SUM(I52:I80) -> 0 | J51: =SUM(J52:J80) -> 1 | K51: =SUM(K52:K80) -> 0 | ... T51: =SUM(T52:T80) -> 0
A52: 4.1 | B52: Մարդու և քաղաքացու իրավահավասարությունը խախտելը | C52: 143 | D52: 0 | E52: 0 | F52: 0 | G52: 0 | H52: 0 | I52: 0 | J52: 0 | K52: 0 | L52: 0 | M52: 0 | N52: 0 | O52: 0 | P52: 0 | Q52: 0 | R52: 0 | S52: 0 | T52: 0
A53: 4.2 | B53: Անձնական կամ ընտանեկան կյանքի մասին տեղեկություններ ապօրինի հավաքելը, պահելը, օգտագործելը կամ տարածելը | C53: 144 | D53: 0 | E53: 0 | F53: 0 | G53: 0 | H53: 0 | I53: 0 | J53: 0 | K53: 0 | L53: 0 | M53: 0 | N53: 0 | O53: 0 | P53: 0 | Q53: 0 | R53: 0 | S53: 0 | T53: 0
...

Sheet Արարատ և Վայոց ձոր
A1: 2019թ. տարեկան | D1: ՀԱՇՎԵՏՎՈՒԹՅՈՒՆ
A2: ՀՀ ԱՐԱՐԱՏԻ ԵՎ ՎԱՅՈՑ ՁՈՐԻ ՄԱՐԶԵՐԻ ԱՌԱՋԻՆ ԱՏՅԱՆԻ ԸՆԴՀԱՆՈՒՐ ԻՐԱՎԱՍՈՒԹՅԱՆ ԴԱՏԱՐԱՆՈՒՄ ՔՐԵԱԿԱՆ ԳՈՐԾԵՐԻ ՔՆՆՈՒԹՅԱՆ ՎԵՐԱԲԵՐՅԱԼ
A3: ՀՀ Արարատի և Վայոց ձորի մարզերի առաջին ատյանի ընդհանուր իրավասության դատարանում քրեական մասնագիտացում ունեցող դատավորների հաստիքների քանակը` 5
A4: Ստուգիչ հավասարումներ` 1+3=7+8+10, 7=4+5+6, 14=12+13, 17=15+16 | C4: ՀՀ քրեական օրենսգրքի հոդվածներ | D4: Հաշվետու ժամանակահատվածի սկզբում նախորդ հաշվետու ժամանակահատվածից փոխանցված գործերի ընդհանուր թիվը | E4: Այդ թվում` կասեցված վիճակում փոխանցված | F4: Հաշվետու ժամանակահատվածում ստացված գործերի ընդհանուր թիվը | G4: Հաշվետու ժամանակահատվածում ավարտված գործերի ընդհանուր թիվը | K4: Ուղարկվել է ըստ ընդդատության | L4: Հաշվետու ժամանակահատվածում կասեցված վարույթներով գործերի ընդհանուր թիվը | M4: Հաշվետու ժամանակահատվածում անավարտ գործերի ընդհանուր թիվը | N4: Այդ թվում՝ կասեցված | O4: Բողոքարկված դատական ակտերի թիվը` ըստ տեսակների | R4: Բեկանված դատական ակտերի թիվը` ըստ տեսակների
G5: Քննվել է ըստ էության և դատավճիռ կայացվել | H5: Որոշում է կայացվել քրեական գործի վարույթը կարճելու և քրեական հետապնդումը դադարեցնելու մասին | I5: Որոշում է կայացվել անմեղսունակների նկատմամբ բժշկական բնույթի հարկադրական միջոցներ կիրառելու մասին | J5: Ընդամենը ավարտվել են գործեր | O5: Այդ թվում` գործն ըստ էության լուծող դատական ակտերը | P5: Այդ թվում` միջանկյալ դատական ակտերը | Q5: Ընդամենը | R5: Այդ թվում` գործն ըստ էության լուծող դատական ակտերը | S5: Այդ թվում` միջանկյալ դատական ակտերը | T5: Ընդամենը
D6: 1 | E6: 2 | F6: 3 | G6: 4 | H6: 5 | I6: 6 | J6: 7 | K6: 8 | L6: 9 | M6: 10 | N6: 11 | O6: 12 | P6: 13 | Q6: 14 | R6: 15 | S6: 16 | T6: 17
A7: 1. | B7: Ընդամենը կյանքի և առողջության դեմ ուղղված հանցագործությունները | D7: =SUM(D8:D34) -> 29 | E7: =SUM(E8:E34) -> 1 | F7: =SUM(F8:F34) -> 45 | G7: =SUM(G8:G34) -> 23 | H7: =SUM(H8:H34) -> 12 | I7: =SUM(I8:I34) -> 1 | J7: =SUM(J8:J34) -> 36 | K7: =SUM(K8:K34) -> 0 | ... T7: =SUM(T8:T34) -> 1
A8: 1.1 | B8: Սպանությունը | C8: 104 | D8: 6 | F8: 4 | G8: 2 | J8: 2 | M8: 8
A9: 1.2 | B9: Հոգեկան խիստ հուզմունքի վիճակում կատարված սպանությունը | C9: 105
A10: 1.3 | B10: Մոր կողմից նորածին երեխայի սպանությունը | C10: 106
A11: 1.4 | B11: Հանցանք կատարած անձին բռնելու համար անհրաժեշտ միջոցների սահմանազանցմամբ սպանությունը | C11: 107
A12: 1.5 | B12: Անհրաժեշտ պաշտպանության սահմանազանցմամբ սպանությունը | C12: 108
A13: 1.6 | B13: Անզգուշությամբ մահ պատճառելը | C13: 109
A14: 1.7 | B14: Ինքնասպանության հասցնելը | C14: 110 | D14: 2 | M14: 2 | P14: 1 | Q14: 1
A15: 1.8 | B15: Ինքնասպանության հակելը | C15: 111
A16: 1.9 | B16: Դիտավորությամբ առողջությանը ծանր վնաս պատճառելը | C16: 112 | D16: 8 | F16: 12 | G16: 10 | H16: 1 | J16: 11 | M16: 9 | O16: 3 | P16: 1 | Q16: 4 | R16: 1 | T16: 1
A17: 1.10 | B17: Դիտավորությամբ առողջությանը միջին ծանրության վնաս պատճառելը | C17: 113 | D17: 1 | F17: 2 | G17: 2 | H17: 1 | J17: 3 | O17: 1 | Q17: 1
A18: 1.11 | B18: Հոգեկան խիստ հուզմունքի վիճակում առողջությանը ծանր կամ միջին ծանրության վնաս պատճառելը | C18: 114
A19: 1.12 | B19: Հանցանք կատարած անձին բռնելու համար անհրաժեշտ միջոցների սահմանզանցմամբ առողջությանը ծանր կամ միջին ծանրության վնաս պատճառելը | C19: 115
A20: 1.13 | B20: Առողջությանը ծանր կամ միջին ծանրության վնաս պատճառելը անհրաժեշտ պաշտպանության սահմանանազանցմամբ | C20: 116
A21: 1.14 | B21: Դիտավորությամբ առողջությանը թեթև վնաս պատճառելը | C21: 117 | D21: 2 | F21: 3 | G21: 1 | H21: 3 | J21: 4 | M21: 1
A22: 1.15 | B22: Ծեծը | C22: 118 | D22: 7 | E22: 1 | F22: 23 | G22: 6 | H22: 7 | I22: 1 | J22: 14 | M22: 16 | N22: 1
A23: 1.16 | B23: Ֆիզիկական ուժեղ ցավ կամ հոգեկան ուժեղ տառապանք պատճառելը | C23: 119 | D23: 1 | F23: 1 | G23: 1 | J23: 1 | M23: 1
A24: 1.17 | B24: Անզգուշությամբ առողջությանը ծանր վնաս պատճառելը | C24: 120
A25: 1.18 | B25: Անզգուշությամբ առողջությանը միջին ծանրության վնաս պատճառելը | C25: 121
A26: 1.19 | B26: Ապօրինի աբորտ կատարելը | C26: 122
A27: 1.20 | B27: Մարդու իմունային անբավարարության վիրուսի հարուցիչով վարակելը | C27: 123
A28: 1.21 | B28: Վեներական հիվանդությամբ կամ այլ սեռավարակներով վարակելը | C28: 124
A29: 1.22 | B29: Փոխպատվաստման վիրահատություն կատարելու կանոնները խախտելը | C29: 125
A30: 1.24 | B30: Անձին առանց իր հանձնարարության բժշկական կամ գիտական փորձերի ենթարկելը | C30: 127
A31: 1.25 | B31: Վտանգի մեջ թողնելը | C31: 128
A32: 1.26 | B32: Հիվանդին օգնություն ցույց չտալը | C32: 129
A33: 1.27 | B33: Բժշկական օգնություն և սպասարկում իրականացնողների կողմից մասնագիտական պարտականությունները չկատարելը կամ ոչ պատշաճ կատարելը | C33: 130 | D33: 2 | G33: 1 | J33: 1 | M33: 1
A34: 1.28 | B34: Այլ հանցագործություններ
A35: 2. | B35: Ընդամենը անձի ազատության, պատվի և արժանապատվության դեմ ուղղված հանցագործությունները | D35: =SUM(D36:D43) -> 2 | E35: =SUM(E36:E43) -> 0 | F35: =SUM(F36:F43) -> 8 | G35: =SUM(G36:G43) -> 7 | H35: =SUM(H36:H43) -> 1 | I35: =SUM(I36:I43) -> 1 | J35: =SUM(J36:J43) -> 9 | K35: =SUM(K36:K43) -> 0 | ... T35: =SUM(T36:T43) -> 1
A36: 2.1 | B36: Մարդուն առևանգելը | C36: 131 | D36: 1 | F36: 4 | G36: 5 | J36: 5 | O36: 3 | Q36: 3 | R36: 1 | T36: 1
A37: 2.2 | B37: Մարդու թրաֆիքինգը կամ շահագործումը | C37: 132
A38: 2.2.2 | B38: Երեխայի կամ հոգեկան խանգարման հետևանքով իր արարքի բնույթն ու նշանակությունը գիտակցելու կամ դա ղեկավարելու հնարավորությունից զրկված անձի թրաֆիքինգը կամ շահագործումը | C38: 132.2
A39: 2.2.3 | B39: Շահագործման վիճակում գտնվող անձի ծառայությունից օգտվելը | C39: 132.3
A40: 2.3 | B40: Ազատությունից ապօրինի զրկելը | C40: 133
...

Sheet Շիրակ 
A1: 2019թ. տարեկան | D1: ՀԱՇՎԵՏՎՈՒԹՅՈՒՆ
A2: ՀՀ ՇԻՐԱԿԻ ՄԱՐԶԻ ԱՌԱՋԻՆ ԱՏՅԱՆԻ ԸՆԴՀԱՆՈՒՐ ԻՐԱՎԱՍՈՒԹՅԱՆ ԴԱՏԱՐԱՆՈՒՄ ՔՐԵԱԿԱՆ ԳՈՐԾԵՐԻ ՔՆՆՈՒԹՅԱՆ ՎԵՐԱԲԵՐՅԱԼ
A3: ՀՀ Շիրակի մարզի առաջին ատյանի ընդհանուր իրավասության դատարանում քրեական մասնագիտացում ունեցող դատավորների հաստիքների քանակը` 4
A4: Ստուգիչ հավասարումներ` 1+3=7+8+10, 7=4+5+6, 14=12+13, 17=15+16 | C4: ՀՀ քրեական օրենսգրքի հոդվածներ | D4: Հաշվետու ժամանակահատվածի սկզբում նախորդ հաշվետու ժամանակահատվածից փոխանցված գործերի ընդհանուր թիվը | E4: Այդ թվում` կասեցված վիճակում փոխանցված | F4: Հաշվետու ժամանակահատվածում ստացված գործերի ընդհանուր թիվը | G4: Հաշվետու ժամանակահատվածում ավարտված գործերի ընդհանուր թիվը | K4: Ուղարկվել է ըստ ընդդատության | L4: Հաշվետու ժամանակահատվածում կասեցված վարույթներով գործերի ընդհանուր թիվը | M4: Հաշվետու ժամանակահատվածում անավարտ գործերի ընդհանուր թիվը | N4: Այդ թվում՝ կասեցված | O4: Բողոքարկված դատական ակտերի թիվը` ըստ տեսակների | R4: Բեկանված դատական ակտերի թիվը` ըստ տեսակների
