Workbook

Sheet Ընդհանուր
A1: 2019թ. տարեկան | D1: ՀԱՇՎԵՏՎՈՒԹՅՈՒՆ
A2: ՀՀ ԱՌԱՋԻՆ ԱՏՅԱՆԻ ԸՆԴՀԱՆՈՒՐ ԻՐԱՎԱՍՈՒԹՅԱՆ ԴԱՏԱՐԱՆՆԵՐՈՒՄ ՔՐԵԱԿԱՆ ԳՈՐԾԵՐԻ ՔՆՆՈՒԹՅԱՆ ՎԵՐԱԲԵՐՅԱԼ
A4: Ստուգիչ հավասարումներ` 1+3=7+8+10, 7=4+5+6, 14=12+13, 17=15+16 | C4: ՀՀ քրեական օրենսգրքի հոդվածներ | D4: Հաշվետու ժամանակահատվածի սկզբում նախորդ հաշվետու ժամանակահատվածից փոխանցված գործերի ընդհանուր թիվը | E4: Այդ թվում` կասեցված վիճակում փոխանցված | F4: Հաշվետու ժամանակահատվածում ստացված գործերի ընդհանուր թիվը | G4: Հաշվետու ժամանակահատվածում ավարտված գործերի ընդհանուր թիվը | K4: Ուղարկվել է ըստ ընդդատության | L4: Հաշվետու ժամանակահատվածում կասեցված վարույթներով գործերի ընդհանուր թիվը | M4: Հաշվետու ժամանակահատվածում անավարտ գործերի ընդհանուր թիվը | N4: Այդ թվում՝ կասեցված | O4: Բողոքարկված դատական ակտերի թիվը` ըստ տեսակների | R4: Բեկանված դատական ակտերի թիվը` ըստ տեսակների
G5: Քննվել է ըստ էության և դատավճիռ կայացվել | H5: Որոշում է կայացվել քրեական գործի վարույթը կարճելու և քրեական հետապնդումը դադարեցնելու մասին | I5: Որոշում է կայացվել անմեղսունակների նկատմամբ բժշկական բնույթի հարկադրական միջոցներ կիրառելու մասին | J5: Ընդամենը ավարտվել են գործեր | O5: Այդ թվում` գործն ըստ էության լուծող դատական ակտերը | P5: Այդ թվում` միջանկյալ դատական ակտերը | Q5: Ընդամենը | R5: Այդ թվում` գործն ըստ էության լուծող դատական ակտերը | S5: Այդ թվում` միջանկյալ դատական ակտերը | T5: Ընդամենը
D6: 1 | E6: 2 | F6: 3 | G6: 4 | H6: 5 | I6: 6 | J6: 7 | K6: 8 | L6: 9 | M6: 10 | N6: 11 | O6: 12 | P6: 13 | Q6: 14 | R6: 15 | S6: 16 | T6: 17
A7: 1. | B7: Ընդամենը կյանքի և առողջության դեմ ուղղված հանցագործությունները | D7: =SUM('Երևան քաղաք:Սյունիք'!D7) -> 311 | E7: =SUM('Երևան քաղաք:Սյունիք'!E7) -> 7 | F7: =SUM('Երևան քաղաք:Սյունիք'!F7) -> 487 | G7: =SUM('Երևան քաղաք:Սյունիք'!G7) -> 248 | H7: =SUM('Երևան քաղաք:Սյունիք'!H7) -> 90 | I7: =SUM('Երևան քաղաք:Սյունիք'!I7) -> 29 | J7: =SUM('Երևան քաղաք:Սյունիք'!J7) -> 368 | K7: =SUM('Երևան քաղաք:Սյունիք'!K7) -> 2 | ... T7: =SUM('Երևան քաղաք:Սյունիք'!T7) -> 5
A8: 1.1 | B8: Սպանությունը | C8: 104 | D8: =SUM('Երևան քաղաք:Սյունիք'!D8) -> 99 | E8: =SUM('Երևան քաղաք:Սյունիք'!E8) -> 1 | F8: =SUM('Երևան քաղաք:Սյունիք'!F8) -> 63 | G8: =SUM('Երևան քաղաք:Սյունիք'!G8) -> 35 | H8: =SUM('Երևան քաղաք:Սյունիք'!H8) -> 0 | I8: =SUM('Երևան քաղաք:Սյունիք'!I8) -> 9 | J8: =SUM('Երևան քաղաք:Սյունիք'!J8) -> 44 | K8: =SUM('Երևան քաղաք:Սյունիք'!K8) -> 1 | ... T8: =SUM('Երևան քաղաք:Սյունիք'!T8) -> 0
A9: 1.2 | B9: Հոգեկան խիստ հուզմունքի վիճակում կատարված սպանությունը | C9: 105 | D9: =SUM('Երևան քաղաք:Սյունիք'!D9) -> 1 | E9: =SUM('Երևան քաղաք:Սյունիք'!E9) -> 0 | F9: =SUM('Երևան քաղաք:Սյունիք'!F9) -> 0 | G9: =SUM('Երևան քաղաք:Սյունիք'!G9) -> 1 | H9: =SUM('Երևան քաղաք:Սյունիք'!H9) -> 0 | I9: =SUM('Երևան քաղաք:Սյունիք'!I9) -> 0 | J9: =SUM('Երևան քաղաք:Սյունիք'!J9) -> 1 | K9: =SUM('Երևան քաղաք:Սյունիք'!K9) -> 0 | ... T9: =SUM('Երևան քաղաք:Սյունիք'!T9) -> 0
A10: 1.3 | B10: Մոր կողմից նորածին երեխայի սպանությունը | C10: 106 | D10: =SUM('Երևան քաղաք:Սյունիք'!D10) -> 1 | E10: =SUM('Երևան քաղաք:Սյունիք'!E10) -> 0 | F10: =SUM('Երևան քաղաք:Սյունիք'!F10) -> 0 | G10: =SUM('Երևան քաղաք:Սյունիք'!G10) -> 0 | H10: =SUM('Երևան քաղաք:Սյունիք'!H10) -> 1 | I10: =SUM('Երևան քաղաք:Սյունիք'!I10) -> 0 | J10: =SUM('Երևան քաղաք:Սյունիք'!J10) -> 1 | K10: =SUM('Երևան քաղաք:Սյունիք'!K10) -> 0 | ... T10: =SUM('Երևան քաղաք:Սյունիք'!T10) -> 0
A11: 1.4 | B11: Հանցանք կատարած անձին բռնելու համար անհրաժեշտ միջոցների սահմանազանցմամբ սպանությունը | C11: 107 | D11: =SUM('Երևան քաղաք:Սյունիք'!D11) -> 0 | E11: =SUM('Երևան քաղաք:Սյունիք'!E11) -> 0 | F11: =SUM('Երևան քաղաք:Սյունիք'!F11) -> 0 | G11: =SUM('Երևան քաղաք:Սյունիք'!G11) -> 0 | H11: =SUM('Երևան քաղաք:Սյունիք'!H11) -> 0 | I11: =SUM('Երևան քաղաք:Սյունիք'!I11) -> 0 | J11: =SUM('Երևան քաղաք:Սյունիք'!J11) -> 0 | K11: =SUM('Երևան քաղաք:Սյունիք'!K11) -> 0 | ... T11: =SUM('Երևան քաղաք:Սյունիք'!T11) -> 0
A12: 1.5 | B12: Անհրաժեշտ պաշտպանության սահմանազանցմամբ սպանությունը | C12: 108 | D12: =SUM('Երևան քաղաք:Սյունիք'!D12) -> 0 | E12: =SUM('Երևան քաղաք:Սյունիք'!E12) -> 0 | F12: =SUM('Երևան քաղաք:Սյունիք'!F12) -> 1 | G12: =SUM('Երևան քաղաք:Սյունիք'!G12) -> 0 | H12: =SUM('Երևան քաղաք:Սյունիք'!H12) -> 0 | I12: =SUM('Երևան քաղաք:Սյունիք'!I12) -> 0 | J12: =SUM('Երևան քաղաք:Սյունիք'!J12) -> 0 | K12: =SUM('Երևան քաղաք:Սյունիք'!K12) -> 0 | ... T12: =SUM('Երևան քաղաք:Սյունիք'!T12) -> 0
A13: 1.6 | B13: Անզգուշությամբ մահ պատճառելը | C13: 109 | D13: =SUM('Երևան քաղաք:Սյունիք'!D13) -> 1 | E13: =SUM('Երևան քաղաք:Սյունիք'!E13) -> 0 | F13: =SUM('Երևան քաղաք:Սյունիք'!F13) -> 3 | G13: =SUM('Երևան քաղաք:Սյունիք'!G13) -> 1 | H13: =SUM('Երևան քաղաք:Սյունիք'!H13) -> 0 | I13: =SUM('Երևան քաղաք:Սյունիք'!I13) -> 0 | J13: =SUM('Երևան քաղաք:Սյունիք'!J13) -> 2 | K13: =SUM('Երևան քաղաք:Սյունիք'!K13) -> 0 | ... T13: =SUM('Երևան քաղաք:Սյունիք'!T13) -> 0
A14: 1.7 | B14: Ինքնասպանության հասցնելը | C14: 110 | D14: =SUM('Երևան քաղաք:Սյունիք'!D14) -> 3 | E14: =SUM('Երևան քաղաք:Սյունիք'!E14) -> 0 | F14: =SUM('Երևան քաղաք:Սյունիք'!F14) -> 3 | G14: =SUM('Երևան քաղաք:Սյունիք'!G14) -> 0 | H14: =SUM('Երևան քաղաք:Սյունիք'!H14) -> 1 | I14: =SUM('Երևան քաղաք:Սյունիք'!I14) -> 0 | J14: =SUM('Երևան քաղաք:Սյունիք'!J14) -> 1 | K14: =SUM('Երևան քաղաք:Սյունիք'!K14) -> 0 | ... T14: =SUM('Երևան քաղաք:Սյունիք'!T14) -> 0
A15: 1.8 | B15: Ինքնասպանության հակելը | C15: 111 | D15: =SUM('Երևան քաղաք:Սյունիք'!D15) -> 0 | E15: =SUM('Երևան քաղաք:Սյունիք'!E15) -> 0 | F15: =SUM('Երևան քաղաք:Սյունիք'!F15) -> 0 | G15: =SUM('Երևան քաղաք:Սյունիք'!G15) -> 0 | H15: =SUM('Երևան քաղաք:Սյունիք'!H15) -> 0 | I15: =SUM('Երևան քաղաք:Սյունիք'!I15) -> 0 | J15: =SUM('Երևան քաղաք:Սյունիք'!J15) -> 0 | K15: =SUM('Երևան քաղաք:Սյունիք'!K15) -> 0 | ... T15: =SUM('Երևան քաղաք:Սյունիք'!T15) -> 0
A16: 1.9 | B16: Դիտավորությամբ առողջությանը ծանր վնաս պատճառելը | C16: 112 | D16: =SUM('Երևան քաղաք:Սյունիք'!D16) -> 106 | E16: =SUM('Երևան քաղաք:Սյունիք'!E16) -> 2 | F16: =SUM('Երևան քաղաք:Սյունիք'!F16) -> 178 | G16: =SUM('Երևան քաղաք:Սյունիք'!G16) -> 124 | H16: =SUM('Երևան քաղաք:Սյունիք'!H16) -> 11 | I16: =SUM('Երևան քաղաք:Սյունիք'!I16) -> 3 | J16: =SUM('Երևան քաղաք:Սյունիք'!J16) -> 138 | K16: =SUM('Երևան քաղաք:Սյունիք'!K16) -> 0 | ... T16: =SUM('Երևան քաղաք:Սյունիք'!T16) -> 3
A17: 1.10 | B17: Դիտավորությամբ առողջությանը միջին ծանրության վնաս պատճառելը | C17: 113 | D17: =SUM('Երևան քաղաք:Սյունիք'!D17) -> 16 | E17: =SUM('Երևան քաղաք:Սյունիք'!E17) -> 1 | F17: =SUM('Երևան քաղաք:Սյունիք'!F17) -> 24 | G17: =SUM('Երևան քաղաք:Սյունիք'!G17) -> 13 | H17: =SUM('Երևան քաղաք:Սյունիք'!H17) -> 7 | I17: =SUM('Երևան քաղաք:Սյունիք'!I17) -> 0 | J17: =SUM('Երևան քաղաք:Սյունիք'!J17) -> 20 | K17: =SUM('Երևան քաղաք:Սյունիք'!K17) -> 0 | ... T17: =SUM('Երևան քաղաք:Սյունիք'!T17) -> 1
A18: 1.11 | B18: Հոգեկան խիստ հուզմունքի վիճակում առողջությանը ծանր կամ միջին ծանրության վնաս պատճառելը | C18: 114 | D18: =SUM('Երևան քաղաք:Սյունիք'!D18) -> 0 | E18: =SUM('Երևան քաղաք:Սյունիք'!E18) -> 0 | F18: =SUM('Երևան քաղաք:Սյունիք'!F18) -> 0 | G18: =SUM('Երևան քաղաք:Սյունիք'!G18) -> 0 | H18: =SUM('Երևան քաղաք:Սյունիք'!H18) -> 0 | I18: =SUM('Երևան քաղաք:Սյունիք'!I18) -> 0 | J18: =SUM('Երևան քաղաք:Սյունիք'!J18) -> 0 | K18: =SUM('Երևան քաղաք:Սյունիք'!K18) -> 0 | ... T18: =SUM('Երևան քաղաք:Սյունիք'!T18) -> 0
A19: 1.12 | B19: Հանցանք կատարած անձին բռնելու համար անհրաժեշտ միջոցների սահմանզանցմամբ առողջությանը ծանր կամ միջին ծանրության վնաս պատճառելը | C19: 115 | D19: =SUM('Երևան քաղաք:Սյունիք'!D19) -> 1 | E19: =SUM('Երևան քաղաք:Սյունիք'!E19) -> 0 | F19: =SUM('Երևան քաղաք:Սյունիք'!F19) -> 0 | G19: =SUM('Երևան քաղաք:Սյունիք'!G19) -> 0 | H19: =SUM('Երևան քաղաք:Սյունիք'!H19) -> 1 | I19: =SUM('Երևան քաղաք:Սյունիք'!I19) -> 0 | J19: =SUM('Երևան քաղաք:Սյունիք'!J19) -> 1 | K19: =SUM('Երևան քաղաք:Սյունիք'!K19) -> 0 | ... T19: =SUM('Երևան քաղաք:Սյունիք'!T19) -> 0
... A33: 1.27 | B33: Բժշկական օգնություն և սպասարկում իրականացնողների կողմից մասնագիտական պարտականությունները չկատարելը կամ ոչ պատշաճ կատարելը | C33: 130 | D33: =SUM('Երևան քաղաք:Սյունիք'!D33) -> 13 | E33: =SUM('Երևան քաղաք:Սյունիք'!E33) -> 0 | F33: =SUM('Երևան քաղաք:Սյունիք'!F33) -> 4 | G33: =SUM('Երևան քաղաք:Սյունիք'!G33) -> 2 | H33: =SUM('Երևան քաղաք:Սյունիք'!H33) -> 2 | I33: =SUM('Երևան քաղաք:Սյունիք'!I33) -> 0 | J33: =SUM('Երևան քաղաք:Սյունիք'!J33) -> 4 | K33: =SUM('Երևան քաղաք:Սյունիք'!K33) -> 0 | ... T33: =SUM('Երևան քաղաք:Սյունիք'!T33) -> 0
A34: 1.28 | B34: Այլ հանցագործություններ | D34: =SUM('Երևան քաղաք:Սյունիք'!D34) -> 2 | E34: =SUM('Երևան քաղաք:Սյունիք'!E34) -> 1 | F34: =SUM('Երևան քաղաք:Սյունիք'!F34) -> 0 | G34: =SUM('Երևան քաղաք:Սյունիք'!G34) -> 1 | H34: =SUM('Երևան քաղաք:Սյունիք'!H34) -> 0 | I34: =SUM('Երևան քաղաք:Սյունիք'!I34) -> 0 | J34: =SUM('Երևան քաղաք:Սյունիք'!J34) -> 1 | K34: =SUM('Երևան քաղաք:Սյունիք'!K34) -> 0 | ... T34: =SUM('Երևան քաղաք:Սյունիք'!T34) -> 0
A35: 2. | B35: Ընդամենը անձի ազատության, պատվի և արժանապատվության դեմ ուղղված հանցագործությունները | D35: =SUM('Երևան քաղաք:Սյունիք'!D35) -> 34 | E35: =SUM('Երևան քաղաք:Սյունիք'!E35) -> 0 | F35: =SUM('Երևան քաղաք:Սյունիք'!F35) -> 43 | G35: =SUM('Երևան քաղաք:Սյունիք'!G35) -> 26 | H35: =SUM('Երևան քաղաք:Սյունիք'!H35) -> 7 | I35: =SUM('Երևան քաղաք:Սյունիք'!I35) -> 5 | J35: =SUM('Երևան քաղաք:Սյունիք'!J35) -> 38 | K35: =SUM('Երևան քաղաք:Սյունիք'!K35) -> 0 | ... T35: =SUM('Երևան քաղաք:Սյունիք'!T35) -> 1
A36: 2.1 | B36: Մարդուն առևանգելը | C36: 131 | D36: =SUM('Երևան քաղաք:Սյունիք'!D36) -> 17 | E36: =SUM('Երևան քաղաք:Սյունիք'!E36) -> 0 | F36: =SUM('Երևան քաղաք:Սյունիք'!F36) -> 24 | G36: =SUM('Երևան քաղաք:Սյունիք'!G36) -> 19 | H36: =SUM('Երևան քաղաք:Սյունիք'!H36) -> 4 | I36: =SUM('Երևան քաղաք:Սյունիք'!I36) -> 0 | J36: =SUM('Երևան քաղաք:Սյունիք'!J36) -> 23 | K36: =SUM('Երևան քաղաք:Սյունիք'!K36) -> 0 | ... T36: =SUM('Երևան քաղաք:Սյունիք'!T36) -> 1
A37: 2.2 | B37: Մարդու թրաֆիքինգը կամ շահագործումը | C37: 132 | D37: =SUM('Երևան քաղաք:Սյունիք'!D37) -> 1 | E37: =SUM('Երևան քաղաք:Սյունիք'!E37) -> 0 | F37: =SUM('Երևան քաղաք:Սյունիք'!F37) -> 0 | G37: =SUM('Երևան քաղաք:Սյունիք'!G37) -> 0 | H37: =SUM('Երևան քաղաք:Սյունիք'!H37) -> 0 | I37: =SUM('Երևան քաղաք:Սյունիք'!I37) -> 0 | J37: =SUM('Երևան քաղաք:Սյունիք'!J37) -> 0 | K37: =SUM('Երևան քաղաք:Սյունիք'!K37) -> 0 | ... T37: =SUM('Երևան քաղաք:Սյունիք'!T37) -> 0
A38: 2.2.2 | B38: Երեխայի կամ հոգեկան խանգարման հետևանքով իր արարքի բնույթն ու նշանակությունը գիտակցելու կամ դա ղեկավարելու հնարավորությունից զրկված անձի թրաֆիքինգը կամ շահագործումը | C38: 132.2 | D38: =SUM('Երևան քաղաք:Սյունիք'!D38) -> 3 | E38: =SUM('Երևան քաղաք:Սյունիք'!E38) -> 0 | F38: =SUM('Երևան քաղաք:Սյունիք'!F38) -> 0 | G38: =SUM('Երևան քաղաք:Սյունիք'!G38) -> 0 | H38: =SUM('Երևան քաղաք:Սյունիք'!H38) -> 0 | I38: =SUM('Երևան քաղաք:Սյունիք'!I38) -> 0 | J38: =SUM('Երևան քաղաք:Սյունիք'!J38) -> 0 | K38: =SUM('Երևան քաղաք:Սյունիք'!K38) -> 0 | ... T38: =SUM('Երևան քաղաք:Սյունիք'!T38) -> 0
A39: 2.2.3 | B39: Շահագործման վիճակում գտնվող անձի ծառայությունից օգտվելը | C39: 132.3 | D39: =SUM('Երևան քաղաք:Սյունիք'!D39) -> 0 | E39: =SUM('Երևան քաղաք:Սյունիք'!E39) -> 0 | F39: =SUM('Երևան քաղաք:Սյունիք'!F39) -> 0 | G39: =SUM('Երևան քաղաք:Սյունիք'!G39) -> 0 | H39: =SUM('Երևան քաղաք:Սյունիք'!H39) -> 0 | I39: =SUM('Երևան քաղաք:Սյունիք'!I39) -> 0 | J39: =SUM('Երևան քաղաք:Սյունիք'!J39) -> 0 | K39: =SUM('Երևան քաղաք:Սյունիք'!K39) -> 0 | ... T39: =SUM('Երևան քաղաք:Սյունիք'!T39) -> 0
A40: 2.3 | B40: Ազատությունից ապօրինի զրկելը | C40: 133 | D40: =SUM('Երևան քաղաք:Սյունիք'!D40) -> 4 | E40: =SUM('Երևան քաղաք:Սյունիք'!E40) -> 0 | F40: =SUM('Երևան քաղաք:Սյունիք'!F40) -> 3 | G40: =SUM('Երևան քաղաք:Սյունիք'!G40) -> 2 | H40: =SUM('Երևան քաղաք:Սյունիք'!H40) -> 0 | I40: =SUM('Երևան քաղաք:Սյունիք'!I40) -> 0 | J40: =SUM('Երևան քաղաք:Սյունիք'!J40) -> 2 | K40: =SUM('Երևան քաղաք:Սյունիք'!K40) -> 0 | ... T40: =SUM('Երևան քաղաք:Սյունիք'!T40) -> 0
A41: 2.4 | B41: Հոգեբուժական հիվանդանոցում ապօրինի տեղավորելը կամ պահելը | C41: 134 | D41: =SUM('Երևան քաղաք:Սյունիք'!D41) -> 0 | E41: =SUM('Երևան քաղաք:Սյունիք'!E41) -> 0 | F41: =SUM('Երևան քաղաք:Սյունիք'!F41) -> 0 | G41: =SUM('Երևան քաղաք:Սյունիք'!G41) -> 0 | H41: =SUM('Երևան քաղաք:Սյունիք'!H41) -> 0 | I41: =SUM('Երևան քաղաք:Սյունիք'!I41) -> 0 | J41: =SUM('Երևան քաղաք:Սյունիք'!J41) -> 0 | K41: =SUM('Երևան քաղաք:Սյունիք'!K41) -> 0 | ... T41: =SUM('Երևան քաղաք:Սյունիք'!T41) -> 0
A42: 2.7 | B42: Սպանության, առողջությանը ծանր վնաս պատճառելու կամ գույք ոչնչացնելու սպառնալիքը | C42: 137 | D42: =SUM('Երևան քաղաք:Սյունիք'!D42) -> 9 | E42: =SUM('Երևան քաղաք:Սյունիք'!E42) -> 0 | F42: =SUM('Երևան քաղաք:Սյունիք'!F42) -> 16 | G42: =SUM('Երևան քաղաք:Սյունիք'!G42) -> 5 | H42: =SUM('Երևան քաղաք:Սյունիք'!H42) -> 3 | I42: =SUM('Երևան քաղաք:Սյունիք'!I42) -> 5 | J42: =SUM('Երևան քաղաք:Սյունիք'!J42) -> 13 | K42: =SUM('Երևան քաղաք:Սյունիք'!K42) -> 0 | ... T42: =SUM('Երևան քաղաք:Սյունիք'!T42) -> 0
A43: 2.8 | B43: Այլ հանցագործություններ | D43: =SUM('Երևան քաղաք:Սյունիք'!D43) -> 0 | E43: =SUM('Երևան քաղաք:Սյունիք'!E43) -> 0 | F43: =SUM('Երևան քաղաք:Սյունիք'!F43) -> 0 | G43: =SUM('Երևան քաղաք:Սյունիք'!G43) -> 0 | H43: =SUM('Երևան քաղաք:Սյունիք'!H43) -> 0 | I43: =SUM('Երևան քաղաք:Սյունիք'!I43) -> 0 | J43: =SUM('Երևան քաղաք:Սյունիք'!J43) -> 0 | K43: =SUM('Երևան քաղաք:Սյունիք'!K43) -> 0 | ... T43: =SUM('Երևան քաղաք:Սյունիք'!T43) -> 0
A44: 3. | B44: Ընդամենը սեռական անձեռնմխելիության և սեռական ազատության դեմ ուղղված հանցագործությունները | D44: =SUM('Երևան քաղաք:Սյունիք'!D44) -> 34 | E44: =SUM('Երևան քաղաք:Սյունիք'!E44) -> 3 | F44: =SUM('Երևան քաղաք:Սյունիք'!F44) -> 56 | G44: =SUM('Երևան քաղաք:Սյունիք'!G44) -> 32 | H44: =SUM('Երևան քաղաք:Սյունիք'!H44) -> 2 | I44: =SUM('Երևան քաղաք:Սյունիք'!I44) -> 1 | J44: =SUM('Երևան քաղաք:Սյունիք'!J44) -> 35 | K44: =SUM('Երևան քաղաք:Սյունիք'!K44) -> 0 | ... T44: =SUM('Երևան քաղաք:Սյունիք'!T44) -> 0
A45: 3.1 | B45: Բռնաբարությունը | C45: 138 | D45: =SUM('Երևան քաղաք:Սյունիք'!D45) -> 8 | E45: =SUM('Երևան քաղաք:Սյունիք'!E45) -> 0 | F45: =SUM('Երևան քաղաք:Սյունիք'!F45) -> 9 | G45: =SUM('Երևան քաղաք:Սյունիք'!G45) -> 3 | H45: =SUM('Երևան քաղաք:Սյունիք'!H45) -> 0 | I45: =SUM('Երևան քաղաք:Սյունիք'!I45) -> 0 | J45: =SUM('Երևան քաղաք:Սյունիք'!J45) -> 3 | K45: =SUM('Երևան քաղաք:Սյունիք'!K45) -> 0 | ... T45: =SUM('Երևան քաղաք:Սյունիք'!T45) -> 0
A46: 3.2 | B46: Սեքսուալ բնույթի բռնի գործողությունները | C46: 139 | D46: =SUM('Երևան քաղաք:Սյունիք'!D46) -> 12 | E46: =SUM('Երևան քաղաք:Սյունիք'!E46) -> 1 | F46: =SUM('Երևան քաղաք:Սյունիք'!F46) -> 11 | G46: =SUM('Երևան քաղաք:Սյունիք'!G46) -> 8 | H46: =SUM('Երևան քաղաք:Սյունիք'!H46) -> 0 | I46: =SUM('Երևան քաղաք:Սյունիք'!I46) -> 1 | J46: =SUM('Երևան քաղաք:Սյունիք'!J46) -> 9 | K46: =SUM('Երևան քաղաք:Սյունիք'!K46) -> 0 | ... T46: =SUM('Երևան քաղաք:Սյունիք'!T46) -> 0
A47: 3.3 | B47: Սեռական հարաբերության կամ սեքսուալ բնույթի գործողություններին հարկադրելը | C47: 140 | D47: =SUM('Երևան քաղաք:Սյունիք'!D47) -> 1 | E47: =SUM('Երևան քաղաք:Սյունիք'!E47) -> 0 | F47: =SUM('Երևան քաղաք:Սյունիք'!F47) -> 2 | G47: =SUM('Երևան քաղաք:Սյունիք'!G47) -> 1 | H47: =SUM('Երևան քաղաք:Սյունիք'!H47) -> 1 | I47: =SUM('Երևան քաղաք:Սյունիք'!I47) -> 0 | J47: =SUM('Երևան քաղաք:Սյունիք'!J47) -> 2 | K47: =SUM('Երևան քաղաք:Սյունիք'!K47) -> 0 | ... T47: =SUM('Երևան քաղաք:Սյունիք'!T47) -> 0
A48: 3.4 | B48: Սեռական հարաբերությունը տասնվեց տարին չլրացած անձի հետ կամ սեքսուալ բնույթի գործողություններ կատարելը տասնվեց տարին չլրացած անձի նկատմամբ | C48: 141 | D48: =SUM('Երևան քաղաք:Սյունիք'!D48) -> 9 | E48: =SUM('Երևան քաղաք:Սյունիք'!E48) -> 2 | F48: =SUM('Երևան քաղաք:Սյունիք'!F48) -> 28 | G48: =SUM('Երևան քաղաք:Սյունիք'!G48) -> 18 | H48: =SUM('Երևան քաղաք:Սյունիք'!H48) -> 1 | I48: =SUM('Երևան քաղաք:Սյունիք'!I48) -> 0 | J48: =SUM('Երևան քաղաք:Սյունիք'!J48) -> 19 | K48: =SUM('Երևան քաղաք:Սյունիք'!K48) -> 0 | ... T48: =SUM('Երևան քաղաք:Սյունիք'!T48) -> 0
A49: 3.5 | B49: Անառակաբարո գործողությունները | C49: 142 | D49: =SUM('Երևան քաղաք:Սյունիք'!D49) -> 4 | E49: =SUM('Երևան քաղաք:Սյունիք'!E49) -> 0 | F49: =SUM('Երևան քաղաք:Սյունիք'!F49) -> 6 | G49: =SUM('Երևան քաղաք:Սյունիք'!G49) -> 2 | H49: =SUM('Երևան քաղաք:Սյունիք'!H49) -> 0 | I49: =SUM('Երևան քաղաք:Սյունիք'!I49) -> 0 | J49: =SUM('Երևան քաղաք:Սյունիք'!J49) -> 2 | K49: =SUM('Երևան քաղաք:Սյունիք'!K49) -> 0 | ... T49: =SUM('Երևան քաղաք:Սյունիք'!T49) -> 0
A50: 3.6 | B50: Այլ հանցագործություններ | D50: =SUM('Երևան քաղաք:Սյունիք'!D50) -> 0 | E50: =SUM('Երևան քաղաք:Սյունիք'!E50) -> 0 | F50: =SUM('Երևան քաղաք:Սյունիք'!F50) -> 0 | G50: =SUM('Երևան քաղաք:Սյունիք'!G50) -> 0 | H50: =SUM('Երևան քաղաք:Սյունիք'!H50) -> 0 | I50: =SUM('Երևան քաղաք:Սյունիք'!I50) -> 0 | J50: =SUM('Երևան քաղաք:Սյունիք'!J50) -> 0 | K50: =SUM('Երևան քաղաք:Սյունիք'!K50) -> 0 | ... T50: =SUM('Երևան քաղաք:Սյունիք'!T50) -> 0
A51: 4. | B51: Ընդամենը մարդու և քաղաքացու սահմանադրական իրավունքների և ազատությունների դեմ ուղղված հանցագործությունները | D51: =SUM('Երևան քաղաք:Սյունիք'!D51) -> 19 | E51: =SUM('Երևան քաղաք:Սյունիք'!E51) -> 1 | F51: =SUM('Երևան քաղաք:Սյունիք'!F51) -> 30 | G51: =SUM('Երևան քաղաք:Սյունիք'!G51) -> 21 | H51: =SUM('Երևան քաղաք:Սյունիք'!H51) -> 5 | I51: =SUM('Երևան քաղաք:Սյունիք'!I51) -> 3 | J51: =SUM('Երևան քաղաք:Սյունիք'!J51) -> 29 | K51: =SUM('Երևան քաղաք:Սյունիք'!K51) -> 0 | ... T51: =SUM('Երևան քաղաք:Սյունիք'!T51) -> 1
A52: 4.1 | B52: Մարդու և քաղաքացու իրավահավասարությունը խախտելը | C52: 143 | D52: =SUM('Երևան քաղաք:Սյունիք'!D52) -> 0 | E52: =SUM('Երևան քաղաք:Սյունիք'!E52) -> 0 | F52: =SUM('Երևան քաղաք:Սյունիք'!F52) -> 0 | G52: =SUM('Երևան քաղաք:Սյունիք'!G52) -> 0 | H52: =SUM('Երևան քաղաք:Սյունիք'!H52) -> 0 | I52: =SUM('Երևան քաղաք:Սյունիք'!I52) -> 0 | J52: =SUM('Երևան քաղաք:Սյունիք'!J52) -> 0 | K52: =SUM('Երևան քաղաք:Սյունիք'!K52) -> 0 | ... T52: =SUM('Երևան քաղաք:Սյունիք'!T52) -> 0
A53: 4.2 | B53: Անձնական կամ ընտանեկան կյանքի մասին տեղեկություններ ապօրինի հավաքելը, պահելը, օգտագործելը կամ տարածելը | C53: 144 | D53: =SUM('Երևան քաղաք:Սյունիք'!D53) -> 1 | E53: =SUM('Երևան քաղաք:Սյունիք'!E53) -> 0 | F53: =SUM('Երևան քաղաք:Սյունիք'!F53) -> 4 | G53: =SUM('Երևան քաղաք:Սյունիք'!G53) -> 2 | H53: =SUM('Երևան քաղաք:Սյունիք'!H53) -> 0 | I53: =SUM('Երևան քաղաք:Սյունիք'!I53) -> 0 | J53: =SUM('Երևան քաղաք:Սյունիք'!J53) -> 2 | K53: =SUM('Երևան քաղաք:Սյունիք'!K53) -> 0 | ... T53: =SUM('Երևան քաղաք:Սյունիք'!T53) -> 0
A54: 4.3 | B54: Բժշկական գաղտնիքը հրապարակելը | C54: 145 | D54: =SUM('Երևան քաղաք:Սյունիք'!D54) -> 0 | E54: =SUM('Երևան քաղաք:Սյունիք'!E54) -> 0 | F54: =SUM('Երևան քաղաք:Սյունիք'!F54) -> 0 | G54: =SUM('Երևան քաղաք:Սյունիք'!G54) -> 0 | H54: =SUM('Երևան քաղաք:Սյունիք'!H54) -> 0 | I54: =SUM('Երևան քաղաք:Սյունիք'!I54) -> 0 | J54: =SUM('Երևան քաղաք:Սյունիք'!J54) -> 0 | K54: =SUM('Երևան քաղաք:Սյունիք'!K54) -> 0 | ... T54: =SUM('Երևան քաղաք:Սյունիք'!T54) -> 0
A55: 4.4 | B55: Նամակագրության, հեռախոսային խոսակցությունների, փոստային, հեռագրական կամ այլ հաղորդումների գաղտնիությունը խախտելը | C55: 146 | D55: =SUM('Երևան քաղաք:Սյունիք'!D55) -> 0 | E55: =SUM('Երևան քաղաք:Սյունիք'!E55) -> 0 | F55: =SUM('Երևան քաղաք:Սյունիք'!F55) -> 0 | G55: =SUM('Երևան քաղաք:Սյունիք'!G55) -> 0 | H55: =SUM('Երևան քաղաք:Սյունիք'!H55) -> 0 | I55: =SUM('Երևան քաղաք:Սյունիք'!I55) -> 0 | J55: =SUM('Երևան քաղաք:Սյունիք'!J55) -> 0 | K55: =SUM('Երևան քաղաք:Սյունիք'!K55) -> 0 | ... T55: =SUM('Երևան քաղաք:Սյունիք'!T55) -> 0
A56: 4.5 | B56: Բնակարանի անձեռնմխելիությունը խախտելը | C56: 147 | D56: =SUM('Երևան քաղաք:Սյունիք'!D56) -> 5 | E56: =SUM('Երևան քաղաք:Սյունիք'!E56) -> 0 | F56: =SUM('Երևան քաղաք:Սյունիք'!F56) -> 19 | G56: =SUM('Երևան քաղաք:Սյունիք'!G56) -> 13 | H56: =SUM('Երևան քաղաք:Սյունիք'!H56) -> 2 | I56: =SUM('Երևան քաղաք:Սյունիք'!I56) -> 3 | J56: =SUM('Երևան քաղաք:Սյունիք'!J56) -> 18 | K56: =SUM('Երևան քաղաք:Սյունիք'!K56) -> 0 | ... T56: =SUM('Երևան քաղաք:Սյունիք'!T56) -> 0
A57: 4.6 | B57: Անձին տեղեկություն ներկայացնելուց հրաժարվելը | C57: 148 | D57: =SUM('Երևան քաղաք:Սյունիք'!D57) -> 0 | E57: =SUM('Երևան քաղաք:Սյունիք'!E57) -> 0 | F57: =SUM('Երևան քաղաք:Սյունիք'!F57) -> 0 | G57: =SUM('Երևան քաղաք:Սյունիք'!G57) -> 0 | H57: =SUM('Երևան քաղաք:Սյունիք'!H57) -> 0 | I57: =SUM('Երևան քաղաք:Սյունիք'!I57) -> 0 | J57: =SUM('Երևան քաղաք:Սյունիք'!J57) -> 0 | K57: =SUM('Երևան քաղաք:Սյունիք'!K57) -> 0 | ... T57: =SUM('Երևան քաղաք:Սյունիք'!T57) -> 0
A58: 4.7 | B58: Ընտրական իրավունքի իրականացմանը, ընտրական հանձնաժողովների աշխատանքներին կամ ընտրությանը մասնակցող անձանց լիազորությունների իրականացմանը խոչընդոտելը | C58: 149 | D58: =SUM('Երևան քաղաք:Սյունիք'!D58) -> 3 | E58: =SUM('Երևան քաղաք:Սյունիք'!E58) -> 1 | F58: =SUM('Երևան քաղաք:Սյունիք'!F58) -> 0 | G58: =SUM('Երևան քաղաք:Սյունիք'!G58) -> 1 | H58: =SUM('Երևան քաղաք:Սյունիք'!H58) -> 0 | I58: =SUM('Երևան քաղաք:Սյունիք'!I58) -> 0 | J58: =SUM('Երևան քաղաք:Սյունիք'!J58) -> 1 | K58: =SUM('Երևան քաղաք:Սյունիք'!K58) -> 0 | ... T58: =SUM('Երևան քաղաք:Սյունիք'!T58) -> 0
A59: 4.8 | B59: Ընտրությունների կամ քվեարկության արդյունքները կեղծելը | C59: 150 | D59: =SUM('Երևան քաղաք:Սյունիք'!D59) -> 0 | E59: =SUM('Երևան քաղաք:Սյունիք'!E59) -> 0 | F59: =SUM('Երևան քաղաք:Սյունիք'!F59) -> 0 | G59: =SUM('Երևան քաղաք:Սյունիք'!G59) -> 0 | H59: =SUM('Երևան քաղաք:Սյունիք'!H59) -> 0 | I59: =SUM('Երևան քաղաք:Սյունիք'!I59) -> 0 | J59: =SUM('Երևան քաղաք:Սյունիք'!J59) -> 0 | K59: =SUM('Երևան քաղաք:Սյունիք'!K59) -> 0 | ... T59: =SUM('Երևան քաղաք:Սյունիք'!T59) -> 0
A60: 4.10 | B60: Ընտրողների ցուցակները կազմելու, դրանք քաղաքացիներին և կուսակցություններին տրամադրելու կամ հրապարակելու կարգը խախտելը | C60: 152 | D60: =SUM('Երևան քաղաք:Սյունիք'!D60) -> 0 | E60: =SUM('Երևան քաղաք:Սյունիք'!E60) -> 0 | F60: =SUM('Երևան քաղաք:Սյունիք'!F60) -> 0 | G60: =SUM('Երևան քաղաք:Սյունիք'!G60) -> 0 | H60: =SUM('Երևան քաղաք:Սյունիք'!H60) -> 0 | I60: =SUM('Երևան քաղաք:Սյունիք'!I60) -> 0 | J60: =SUM('Երևան քաղաք:Սյունիք'!J60) -> 0 | K60: =SUM('Երևան քաղաք:Սյունիք'!K60) -> 0 | ... T60: =SUM('Երևան քաղաք:Սյունիք'!T60) -> 0
A61: 4.11 | B61: Մեկից ավելի անգամ կամ այլ անձի փոխարեն քվեարկելը | C61: 153 | D61: =SUM('Երևան քաղաք:Սյունիք'!D61) -> 0 | E61: =SUM('Երևան քաղաք:Սյունիք'!E61) -> 0 | F61: =SUM('Երևան քաղաք:Սյունիք'!F61) -> 0 | G61: =SUM('Երևան քաղաք:Սյունիք'!G61) -> 0 | H61: =SUM('Երևան քաղաք:Սյունիք'!H61) -> 0 | I61: =SUM('Երևան քաղաք:Սյունիք'!I61) -> 0 | J61: =SUM('Երևան քաղաք:Սյունիք'!J61) -> 0 | K61: =SUM('Երևան քաղաք:Սյունիք'!K61) -> 0 | ... T61: =SUM('Երևան քաղաք:Սյունիք'!T61) -> 0
A62: 4.12 | B62: Քվեարկության գաղտնիությունը խախտելը | C62: 154 | D62: =SUM('Երևան քաղաք:Սյունիք'!D62) -> 0 | E62: =SUM('Երևան քաղաք:Սյունիք'!E62) -> 0 | F62: =SUM('Երևան քաղաք:Սյունիք'!F62) -> 0 | G62: =SUM('Երևան քաղաք:Սյունիք'!G62) -> 0 | H62: =SUM('Երևան քաղաք:Սյունիք'!H62) -> 0 | I62: =SUM('Երևան քաղաք:Սյունիք'!I62) -> 0 | J62: =SUM('Երևան քաղաք:Սյունիք'!J62) -> 0 | K62: =SUM('Երևան քաղաք:Սյունիք'!K62) -> 0 | ... T62: =SUM('Երևան քաղաք:Սյունիք'!T62) -> 0
A63: 4.13 | B63: Կեղծ ընտրական քվեաթերթիկներ կամ քվեարկության ծրարներ, դրոշմանիշեր, կտրոններ պատրաստելը կամ ակնհայտ կեղծ ընտրական քվեաթերթիկներ կամ քվեարկության ծրարներ, դրոշմանիշեր, կտրոններ հանձնելը կամ իրացնելը | C63: 154.1 | D63: =SUM('Երևան քաղաք:Սյունիք'!D63) -> 0 | E63: =SUM('Երևան քաղաք:Սյունիք'!E63) -> 0 | F63: =SUM('Երևան քաղաք:Սյունիք'!F63) -> 0 | G63: =SUM('Երևան քաղաք:Սյունիք'!G63) -> 0 | H63: =SUM('Երևան քաղաք:Սյունիք'!H63) -> 0 | I63: =SUM('Երևան քաղաք:Սյունիք'!I63) -> 0 | J63: =SUM('Երևան քաղաք:Սյունիք'!J63) -> 0 | K63: =SUM('Երևան քաղաք:Սյունիք'!K63) -> 0 | ... T63: =SUM('Երևան քաղաք:Սյունիք'!T63) -> 0
... A79: 4.27 | B79: Լրագրողի մասնագիտական օրինական գործողությանը խոչընդոտելը | C79: 164 | D79: =SUM('Երևան քաղաք:Սյունիք'!D79) -> 3 | E79: =SUM('Երևան քաղաք:Սյունիք'!E79) -> 0 | F79: =SUM('Երևան քաղաք:Սյունիք'!F79) -> 0 | G79: =SUM('Երևան քաղաք:Սյունիք'!G79) -> 1 | H79: =SUM('Երևան քաղաք:Սյունիք'!H79) -> 0 | I79: =SUM('Երևան քաղաք:Սյունիք'!I79) -> 0 | J79: =SUM('Երևան քաղաք:Սյունիք'!J79) -> 1 | K79: =SUM('Երևան քաղաք:Սյունիք'!K79) -> 0 | ... T79: =SUM('Երևան քաղաք:Սյունիք'!T79) -> 1
A80: 4.28 | B80: Այլ հանցագործություններ | D80: =SUM('Երևան քաղաք:Սյունիք'!D80) -> 0 | E80: =SUM('Երևան քաղաք:Սյունիք'!E80) -> 0 | F80: =SUM('Երևան քաղաք:Սյունիք'!F80) -> 0 | G80: =SUM('Երևան քաղաք:Սյունիք'!G80) -> 0 | H80: =SUM('Երևան քաղաք:Սյունիք'!H80) -> 0 | I80: =SUM('Երևան քաղաք:Սյունիք'!I80) -> 0 | J80: =SUM('Երևան քաղաք:Սյունիք'!J80) -> 0 | K80: =SUM('Երևան քաղաք:Սյունիք'!K80) -> 0 | ... T80: =SUM('Երևան քաղաք:Սյունիք'!T80) -> 0
A81: 5. | B81: Ընդամենը ընտանիքի և երեխայի շահերի դեմ ուղղված հանցագործությունները | D81: =SUM('Երևան քաղաք:Սյունիք'!D81) -> 3 | E81: =SUM('Երևան քաղաք:Սյունիք'!E81) -> 0 | F81: =SUM('Երևան քաղաք:Սյունիք'!F81) -> 10 | G81: =SUM('Երևան քաղաք:Սյունիք'!G81) -> 2 | H81: =SUM('Երևան քաղաք:Սյունիք'!H81) -> 1 | I81: =SUM('Երևան քաղաք:Սյունիք'!I81) -> 0 | J81: =SUM('Երևան քաղաք:Սյունիք'!J81) -> 3 | K81: =SUM('Երևան քաղաք:Սյունիք'!K81) -> 0 | ... T81: =SUM('Երևան քաղաք:Սյունիք'!T81) -> 0
A82: 5.1 | B82: Անչափահասին հանցանքի կատարմանը ներգրավելը | C82: 165 | D82: =SUM('Երևան քաղաք:Սյունիք'!D82) -> 1 | E82: =SUM('Երևան քաղաք:Սյունիք'!E82) -> 0 | F82: =SUM('Երևան քաղաք:Սյունիք'!F82) -> 1 | G82: =SUM('Երևան քաղաք:Սյունիք'!G82) -> 0 | H82: =SUM('Երևան քաղաք:Սյունիք'!H82) -> 0 | I82: =SUM('Երևան քաղաք:Սյունիք'!I82) -> 0 | J82: =SUM('Երևան քաղաք:Սյունիք'!J82) -> 0 | K82: =SUM('Երևան քաղաք:Սյունիք'!K82) -> 0 | ... T82: =SUM('Երևան քաղաք:Սյունիք'!T82) -> 0
A83: 5.2 | B83: Երեխային պոռնկության կամ պոռնկագրական բնույթի նյութեր կամ առարկաներ պատրաստելու հետ կապված գործողություններ կատարելուն ներգրավելը | C83: 166 | D83: =SUM('Երևան քաղաք:Սյունիք'!D83) -> 0 | E83: =SUM('Երևան քաղաք:Սյունիք'!E83) -> 0 | F83: =SUM('Երևան քաղաք:Սյունիք'!F83) -> 0 | G83: =SUM('Երևան քաղաք:Սյունիք'!G83) -> 0 | H83: =SUM('Երևան քաղաք:Սյունիք'!H83) -> 0 | I83: =SUM('Երևան քաղաք:Սյունիք'!I83) -> 0 | J83: =SUM('Երևան քաղաք:Սյունիք'!J83) -> 0 | K83: =SUM('Երևան քաղաք:Սյունիք'!K83) -> 0 | ... T83: =SUM('Երևան քաղաք:Սյունիք'!T83) -> 0
A84: 5.2.1 | B84: Երեխային ոգելից խմիչքների օգտագործմանը, ուժեղ ներգործող կամ այլ թմրեցնող նյութերի ոչ բժշկական օգտագործմանը, թափառաշրջիկությանը ներգրավելը կամ մուրացկանության հետ կապված գործողություններ կատարելուն ներգրավելը | C84: 166.1 | D84: =SUM('Երևան քաղաք:Սյունիք'!D84) -> 0 | E84: =SUM('Երևան քաղաք:Սյունիք'!E84) -> 0 | F84: =SUM('Երևան քաղաք:Սյունիք'!F84) -> 0 | G84: =SUM('Երևան քաղաք:Սյունիք'!G84) -> 0 | H84: =SUM('Երևան քաղաք:Սյունիք'!H84) -> 0 | I84: =SUM('Երևան քաղաք:Սյունիք'!I84) -> 0 | J84: =SUM('Երևան քաղաք:Սյունիք'!J84) -> 0 | K84: =SUM('Երևան քաղաք:Սյունիք'!K84) -> 0 | ... T84: =SUM('Երևան քաղաք:Սյունիք'!T84) -> 0
A85: 5.3 | B85: Ծնողներից երեխային ապօրինի բաժանելը կամ երեխային փոխելը | C85: 167 | D85: =SUM('Երևան քաղաք:Սյունիք'!D85) -> 0 | E85: =SUM('Երևան քաղաք:Սյունիք'!E85) -> 0 | F85: =SUM('Երևան քաղաք:Սյունիք'!F85) -> 4 | G85: =SUM('Երևան քաղաք:Սյունիք'!G85) -> 1 | H85: =SUM('Երևան քաղաք:Սյունիք'!H85) -> 0 | I85: =SUM('Երևան քաղաք:Սյունիք'!I85) -> 0 | J85: =SUM('Երևան քաղաք:Սյունիք'!J85) -> 1 | K85: =SUM('Երևան քաղաք:Սյունիք'!K85) -> 0 | ... T85: =SUM('Երևան քաղաք:Սյունիք'!T85) -> 0
A86: 5.4 | B86: Խնամքը ստանձնելու նպատակով երեխայի առքը կամ ստանձնողի խնամքին հանձնելու նպատակով երեխայի վաճառքը | C86: 168 | D86: =SUM('Երևան քաղաք:Սյունիք'!D86) -> 0 | E86: =SUM('Երևան քաղաք:Սյունիք'!E86) -> 0 | F86: =SUM('Երևան քաղաք:Սյունիք'!F86) -> 0 | G86: =SUM('Երևան քաղաք:Սյունիք'!G86) -> 0 | H86: =SUM('Երևան քաղաք:Սյունիք'!H86) -> 0 | I86: =SUM('Երևան քաղաք:Սյունիք'!I86) -> 0 | J86: =SUM('Երևան քաղաք:Սյունիք'!J86) -> 0 | K86: =SUM('Երևան քաղաք:Սյունիք'!K86) -> 0 | ... T86: =SUM('Երևան քաղաք:Սյունիք'!T86) -> 0
A87: 5.5 | B87: Որդեգրման գաղտնիքը հրապարակելը կամ որդեգրման համաձայնություն տալուն հակելը կամ հարկադրելը | C87: 169 | D87: =SUM('Երևան քաղաք:Սյունիք'!D87) -> 0 | E87: =SUM('Երևան քաղաք:Սյունիք'!E87) -> 0 | F87: =SUM('Երևան քաղաք:Սյունիք'!F87) -> 0 | G87: =SUM('Երևան քաղաք:Սյունիք'!G87) -> 0 | H87: =SUM('Երևան քաղաք:Սյունիք'!H87) -> 0 | I87: =SUM('Երևան քաղաք:Սյունիք'!I87) -> 0 | J87: =SUM('Երևան քաղաք:Սյունիք'!J87) -> 0 | K87: =SUM('Երևան քաղաք:Սյունիք'!K87) -> 0 | ... T87: =SUM('Երևան քաղաք:Սյունիք'!T87) -> 0
A88: 5.6 | B88: Քաղաքացիական կացության ակտերի գրանցման մարմիններին սուտ տեղեկություններ հաղորդելը | C88: 169.1 | D88: =SUM('Երևան քաղաք:Սյունիք'!D88) -> 0 | E88: =SUM('Երևան քաղաք:Սյունիք'!E88) -> 0 | F88: =SUM('Երևան քաղաք:Սյունիք'!F88) -> 0 | G88: =SUM('Երևան քաղաք:Սյունիք'!G88) -> 0 | H88: =SUM('Երևան քաղաք:Սյունիք'!H88) -> 0 | I88: =SUM('Երևան քաղաք:Սյունիք'!I88) -> 0 | J88: =SUM('Երևան քաղաք:Սյունիք'!J88) -> 0 | K88: =SUM('Երևան քաղաք:Սյունիք'!K88) -> 0 | ... T88: =SUM('Երևան քաղաք:Սյունիք'!T88) -> 0
A89: 5.7 | B89: Երեխային դաստիարակելու պարտականությունը չկատարելը | C89: 170 | D89: =SUM('Երևան քաղաք:Սյունիք'!D89) -> 0 | E89: =SUM('Երևան քաղաք:Սյունիք'!E89) -> 0 | F89: =SUM('Երևան քաղաք:Սյունիք'!F89) -> 0 | G89: =SUM('Երևան քաղաք:Սյունիք'!G89) -> 0 | H89: =SUM('Երևան քաղաք:Սյունիք'!H89) -> 0 | I89: =SUM('Երևան քաղաք:Սյունիք'!I89) -> 0 | J89: =SUM('Երևան քաղաք:Սյունիք'!J89) -> 0 | K89: =SUM('Երևան քաղաք:Սյունիք'!K89) -> 0 | ... T89: =SUM('Երևան քաղաք:Սյունիք'!T89) -> 0
A90: 5.8 | B90: Երեխայի կյանքի անվտանգության ապահովման կամ առողջության պահպանման պարտականությունը չկատարելը կամ ոչ պատշաճ կատարելը | C90: 171 | D90: =SUM('Երևան քաղաք:Սյունիք'!D90) -> 0 | E90: =SUM('Երևան քաղաք:Սյունիք'!E90) -> 0 | F90: =SUM('Երևան քաղաք:Սյունիք'!F90) -> 0 | G90: =SUM('Երևան քաղաք:Սյունիք'!G90) -> 0 | H90: =SUM('Երևան քաղաք:Սյունիք'!H90) -> 0 | I90: =SUM('Երևան քաղաք:Սյունիք'!I90) -> 0 | J90: =SUM('Երևան քաղաք:Սյունիք'!J90) -> 0 | K90: =SUM('Երևան քաղաք:Սյունիք'!K90) -> 0 | ... T90: =SUM('Երևան քաղաք:Սյունիք'!T90) -> 0
A91: 5.8.1 | B91: Վերարտադրողականության օժանդակ տեխնոլոգիաներից օգտվելու կանոնները խախտելը | C91: 171.1 | D91: =SUM('Երևան քաղաք:Սյունիք'!D91) -> 0 | E91: =SUM('Երևան քաղաք:Սյունիք'!E91) -> 0 | F91: =SUM('Երևան քաղաք:Սյունիք'!F91) -> 0 | G91: =SUM('Երևան քաղաք:Սյունիք'!G91) -> 0 | H91: =SUM('Երևան քաղաք:Սյունիք'!H91) -> 0 | I91: =SUM('Երևան քաղաք:Սյունիք'!I91) -> 0 | J91: =SUM('Երևան քաղաք:Սյունիք'!J91) -> 0 | K91: =SUM('Երևան քաղաք:Սյունիք'!K91) -> 0 | ... T91: =SUM('Երևան քաղաք:Սյունիք'!T91) -> 0
A92: 5.9 | B92: Խնամակալի կամ հոգաբարձուի իրավունքները չարաշահելը | C92: 172 | D92: =SUM('Երևան քաղաք:Սյունիք'!D92) -> 0 | E92: =SUM('Երևան քաղաք:Սյունիք'!E92) -> 0 | F92: =SUM('Երևան քաղաք:Սյունիք'!F92) -> 0 | G92: =SUM('Երևան քաղաք:Սյունիք'!G92) -> 0 | H92: =SUM('Երևան քաղաք:Սյունիք'!H92) -> 0 | I92: =SUM('Երևան քաղաք:Սյունիք'!I92) -> 0 | J92: =SUM('Երևան քաղաք:Սյունիք'!J92) -> 0 | K92: =SUM('Երևան քաղաք:Սյունիք'!K92) -> 0 | ... T92: =SUM('Երևան քաղաք:Սյունիք'!T92) -> 0
A93: 5.10 | B93: Ծնողի կողմից երեխային պահելուց չարամտորեն խուսափելը | C93: 173 | D93: =SUM('Երևան քաղաք:Սյունիք'!D93) -> 2 | E93: =SUM('Երևան քաղաք:Սյունիք'!E93) -> 0 | F93: =SUM('Երևան քաղաք:Սյունիք'!F93) -> 4 | G93: =SUM('Երևան քաղաք:Սյունիք'!G93) -> 1 | H93: =SUM('Երևան քաղաք:Սյունիք'!H93) -> 1 | I93: =SUM('Երևան քաղաք:Սյունիք'!I93) -> 0 | J93: =SUM('Երևան քաղաք:Սյունիք'!J93) -> 2 | K93: =SUM('Երևան քաղաք:Սյունիք'!K93) -> 0 | ... T93: =SUM('Երևան քաղաք:Սյունիք'!T93) -> 0
A94: 5.11 | B94: Զավակի կողմից անաշխատունակ ծնողին պահելուց չարամտորեն խուսափելը | C94: 174 | D94: =SUM('Երևան քաղաք:Սյունիք'!D94) -> 0 | E94: =SUM('Երևան քաղաք:Սյունիք'!E94) -> 0 | F94: =SUM('Երևան քաղաք:Սյունիք'!F94) -> 0 | G94: =SUM('Երևան քաղաք:Սյունիք'!G94) -> 0 | H94: =SUM('Երևան քաղաք:Սյունիք'!H94) -> 0 | I94: =SUM('Երևան քաղաք:Սյունիք'!I94) -> 0 | J94: =SUM('Երևան քաղաք:Սյունիք'!J94) -> 0 | K94: =SUM('Երևան քաղաք:Սյունիք'!K94) -> 0 | ... T94: =SUM('Երևան քաղաք:Սյունիք'!T94) -> 0
A95: 5.12 | B95: Այլ հանցագործություններ | D95: =SUM('Երևան քաղաք:Սյունիք'!D95) -> 0 | E95: =SUM('Երևան քաղաք:Սյունիք'!E95) -> 0 | F95: =SUM('Երևան քաղաք:Սյունիք'!F95) -> 1 | G95: =SUM('Երևան քաղաք:Սյունիք'!G95) -> 0 | H95: =SUM('Երևան քաղաք:Սյունիք'!H95) -> 0 | I95: =SUM('Երևան քաղաք:Սյունիք'!I95) -> 0 | J95: =SUM('Երևան քաղաք:Սյունիք'!J95) -> 0 | K95: =SUM('Երևան քաղաք:Սյունիք'!K95) -> 0 | ... T95: =SUM('Երևան քաղաք:Սյունիք'!T95) -> 0
A96: 6. | B96: Ընդամենը սեփականության դեմ ուղղված հանցագործությունները | D96: =SUM('Երևան քաղաք:Սյունիք'!D96) -> 667 | E96: =SUM('Երևան քաղաք:Սյունիք'!E96) -> 54 | F96: =SUM('Երևան քաղաք:Սյունիք'!F96) -> 1085 | G96: =SUM('Երևան քաղաք:Սյունիք'!G96) -> 665 | H96: =SUM('Երևան քաղաք:Սյունիք'!H96) -> 138 | I96: =SUM('Երևան քաղաք:Սյունիք'!I96) -> 13 | J96: =SUM('Երևան քաղաք:Սյունիք'!J96) -> 816 | K96: =SUM('Երևան քաղաք:Սյունիք'!K96) -> 8 | ... T96: =SUM('Երևան քաղաք:Սյունիք'!T96) -> 13
A97: 6.1 | B97: Ավազակությունը | C97: 175 | D97: =SUM('Երևան քաղաք:Սյունիք'!D97) -> 37 | E97: =SUM('Երևան քաղաք:Սյունիք'!E97) -> 0 | F97: =SUM('Երևան քաղաք:Սյունիք'!F97) -> 43 | G97: =SUM('Երևան քաղաք:Սյունիք'!G97) -> 27 | H97: =SUM('Երևան քաղաք:Սյունիք'!H97) -> 0 | I97: =SUM('Երևան քաղաք:Սյունիք'!I97) -> 1 | J97: =SUM('Երևան քաղաք:Սյունիք'!J97) -> 28 | K97: =SUM('Երևան քաղաք:Սյունիք'!K97) -> 1 | ... T97: =SUM('Երևան քաղաք:Սյունիք'!T97) -> 1
A98: 6.2 | B98: Կողոպուտը | C98: 176 | D98: =SUM('Երևան քաղաք:Սյունիք'!D98) -> 51 | E98: =SUM('Երևան քաղաք:Սյունիք'!E98) -> 3 | F98: =SUM('Երևան քաղաք:Սյունիք'!F98) -> 60 | G98: =SUM('Երևան քաղաք:Սյունիք'!G98) -> 50 | H98: =SUM('Երևան քաղաք:Սյունիք'!H98) -> 10 | I98: =SUM('Երևան քաղաք:Սյունիք'!I98) -> 3 | J98: =SUM('Երևան քաղաք:Սյունիք'!J98) -> 63 | K98: =SUM('Երևան քաղաք:Սյունիք'!K98) -> 0 | ... T98: =SUM('Երևան քաղաք:Սյունիք'!T98) -> 0
A99: 6.3 | B99: Գողությունը | C99: 177 | D99: =SUM('Երևան քաղաք:Սյունիք'!D99) -> 284 | E99: =SUM('Երևան քաղաք:Սյունիք'!E99) -> 19 | F99: =SUM('Երևան քաղաք:Սյունիք'!F99) -> 599 | G99: =SUM('Երևան քաղաք:Սյունիք'!G99) -> 372 | H99: =SUM('Երևան քաղաք:Սյունիք'!H99) -> 60 | I99: =SUM('Երևան քաղաք:Սյունիք'!I99) -> 7 | J99: =SUM('Երևան քաղաք:Սյունիք'!J99) -> 439 | K99: =SUM('Երևան քաղաք:Սյունիք'!K99) -> 2 | ... T99: =SUM('Երևան քաղաք:Սյունիք'!T99) -> 6
A100: 6.4 | B100: Խարդախությունը | C100: 178 | D100: =SUM('Երևան քաղաք:Սյունիք'!D100) -> 174 | E100: =SUM('Երևան քաղաք:Սյունիք'!E100) -> 21 | F100: =SUM('Երևան քաղաք:Սյունիք'!F100) -> 180 | G100: =SUM('Երևան քաղաք:Սյունիք'!G100) -> 107 | H100: =SUM('Երևան քաղաք:Սյունիք'!H100) -> 28 | I100: =SUM('Երևան քաղաք:Սյունիք'!I100) -> 0 | J100: =SUM('Երևան քաղաք:Սյունիք'!J100) -> 135 | K100: =SUM('Երևան քաղաք:Սյունիք'!K100) -> 4 | ... T100: =SUM('Երևան քաղաք:Սյունիք'!T100) -> 3
A101: 6.5 | B101: Յուրացնելը կամ վատնելը | C101: 179 | D101: =SUM('Երևան քաղաք:Սյունիք'!D101) -> 72 | E101: =SUM('Երևան քաղաք:Սյունիք'!E101) -> 6 | F101: =SUM('Երևան քաղաք:Սյունիք'!F101) -> 114 | G101: =SUM('Երևան քաղաք:Սյունիք'!G101) -> 76 | H101: =SUM('Երևան քաղաք:Սյունիք'!H101) -> 21 | I101: =SUM('Երևան քաղաք:Սյունիք'!I101) -> 0 | J101: =SUM('Երևան քաղաք:Սյունիք'!J101) -> 97 | K101: =SUM('Երևան քաղաք:Սյունիք'!K101) -> 0 | ... T101: =SUM('Երևան քաղաք:Սյունիք'!T101) -> 3
A102: 6.6 | B102: Առանձնակի արժեք ունեցող առարկաներ հափշտակելը | C102: 180 | D102: =SUM('Երևան քաղաք:Սյունիք'!D102) -> 0 | E102: =SUM('Երևան քաղաք:Սյունիք'!E102) -> 0 | F102: =SUM('Երևան քաղաք:Սյունիք'!F102) -> 0 | G102: =SUM('Երևան քաղաք:Սյունիք'!G102) -> 0 | H102: =SUM('Երևան քաղաք:Սյունիք'!H102) -> 0 | I102: =SUM('Երևան քաղաք:Սյունիք'!I102) -> 0 | J102: =SUM('Երևան քաղաք:Սյունիք'!J102) -> 0 | K102: =SUM('Երևան քաղաք:Սյունիք'!K102) -> 0 | ... T102: =SUM('Երևան քաղաք:Սյունիք'!T102) -> 0
A103: 6.7 | B103: Հափշտակությունը, որը կատարվել է համակարգչային տեխնիկայի օգտագործմամբ | C103: 181 | D103: =SUM('Երևան քաղաք:Սյունիք'!D103) -> 2 | E103: =SUM('Երևան քաղաք:Սյունիք'!E103) -> 0 | F103: =SUM('Երևան քաղաք:Սյունիք'!F103) -> 8 | G103: =SUM('Երևան քաղաք:Սյունիք'!G103) -> 2 | H103: =SUM('Երևան քաղաք:Սյունիք'!H103) -> 1 | I103: =SUM('Երևան քաղաք:Սյունիք'!I103) -> 0 | J103: =SUM('Երևան քաղաք:Սյունիք'!J103) -> 3 | K103: =SUM('Երևան քաղաք:Սյունիք'!K103) -> 1 | ... T103: =SUM('Երևան քաղաք:Սյունիք'!T103) -> 0
A104: 6.8 | B104: Շորթումը | C104: 182 | D104: =SUM('Երևան քաղաք:Սյունիք'!D104) -> 14 | E104: =SUM('Երևան քաղաք:Սյունիք'!E104) -> 2 | F104: =SUM('Երևան քաղաք:Սյունիք'!F104) -> 21 | G104: =SUM('Երևան քաղաք:Սյունիք'!G104) -> 11 | H104: =SUM('Երևան քաղաք:Սյունիք'!H104) -> 2 | I104: =SUM('Երևան քաղաք:Սյունիք'!I104) -> 0 | J104: =SUM('Երևան քաղաք:Սյունիք'!J104) -> 13 | K104: =SUM('Երևան քաղաք:Սյունիք'!K104) -> 0 | ... T104: =SUM('Երևան քաղաք:Սյունիք'!T104) -> 0
A105: 6.9 | B105: Ավտոմեքենային կամ տրանսպորտային այլ միջոցին ապօրինաբար տիրանալն առանց հափշտակելու նպատակի | C105: 183 | D105: =SUM('Երևան քաղաք:Սյունիք'!D105) -> 7 | E105: =SUM('Երևան քաղաք:Սյունիք'!E105) -> 2 | F105: =SUM('Երևան քաղաք:Սյունիք'!F105) -> 1 | G105: =SUM('Երևան քաղաք:Սյունիք'!G105) -> 3 | H105: =SUM('Երևան քաղաք:Սյունիք'!H105) -> 2 | I105: =SUM('Երևան քաղաք:Սյունիք'!I105) -> 0 | J105: =SUM('Երևան քաղաք:Սյունիք'!J105) -> 5 | K105: =SUM('Երևան քաղաք:Սյունիք'!K105) -> 0 | ... T105: =SUM('Երևան քաղաք:Սյունիք'!T105) -> 0
A106: 6.10 | B106: Գույքային վնաս պատճառելը խաբեության կամ վստահությունը չարաշահելու եղանակով | C106: 184 | D106: =SUM('Երևան քաղաք:Սյունիք'!D106) -> 8 | E106: =SUM('Երևան քաղաք:Սյունիք'!E106) -> 0 | F106: =SUM('Երևան քաղաք:Սյունիք'!F106) -> 10 | G106: =SUM('Երևան քաղաք:Սյունիք'!G106) -> 2 | H106: =SUM('Երևան քաղաք:Սյունիք'!H106) -> 3 | I106: =SUM('Երևան քաղաք:Սյունիք'!I106) -> 0 | J106: =SUM('Երևան քաղաք:Սյունիք'!J106) -> 5 | K106: =SUM('Երևան քաղաք:Սյունիք'!K106) -> 0 | ... T106: =SUM('Երևան քաղաք:Սյունիք'!T106) -> 0
A107: 6.10.1 | B107: Գրավառուին վնաս պատճառելը | C107: 184.1 | D107: =SUM('Երևան քաղաք:Սյունիք'!D107) -> 1 | E107: =SUM('Երևան քաղաք:Սյունիք'!E107) -> 0 | F107: =SUM('Երևան քաղաք:Սյունիք'!F107) -> 3 | G107: =SUM('Երևան քաղաք:Սյունիք'!G107) -> 0 | H107: =SUM('Երևան քաղաք:Սյունիք'!H107) -> 1 | I107: =SUM('Երևան քաղաք:Սյունիք'!I107) -> 0 | J107: =SUM('Երևան քաղաք:Սյունիք'!J107) -> 1 | K107: =SUM('Երևան քաղաք:Սյունիք'!K107) -> 0 | ... T107: =SUM('Երևան քաղաք:Սյունիք'!T107) -> 0
A108: 6.11 | B108: Գույքը դիտավորությամբ ոչնչացնելը կամ վնասելը | C108: 185 | D108: =SUM('Երևան քաղաք:Սյունիք'!D108) -> 17 | E108: =SUM('Երևան քաղաք:Սյունիք'!E108) -> 1 | F108: =SUM('Երևան քաղաք:Սյունիք'!F108) -> 45 | G108: =SUM('Երևան քաղաք:Սյունիք'!G108) -> 15 | H108: =SUM('Երևան քաղաք:Սյունիք'!H108) -> 10 | I108: =SUM('Երևան քաղաք:Սյունիք'!I108) -> 2 | J108: =SUM('Երևան քաղաք:Սյունիք'!J108) -> 27 | K108: =SUM('Երևան քաղաք:Սյունիք'!K108) -> 0 | ... T108: =SUM('Երևան քաղաք:Սյունիք'!T108) -> 0
... A110: 6.13 | B110: Գուքի պահպանության պարտականություններն անփույթ կամ անբարեխիղճ կատարելը | C110: 186.1 | D110: =SUM('Երևան քաղաք:Սյունիք'!D110) -> 0 | E110: =SUM('Երևան քաղաք:Սյունիք'!E110) -> 0 | F110: =SUM('Երևան քաղաք:Սյունիք'!F110) -> 0 | G110: =SUM('Երևան քաղաք:Սյունիք'!G110) -> 0 | H110: =SUM('Երևան քաղաք:Սյունիք'!H110) -> 0 | I110: =SUM('Երևան քաղաք:Սյունիք'!I110) -> 0 | J110: =SUM('Երևան քաղաք:Սյունիք'!J110) -> 0 | K110: =SUM('Երևան քաղաք:Սյունիք'!K110) -> 0 | ... T110: =SUM('Երևան քաղաք:Սյունիք'!T110) -> 0
A111: 6.14 | B111: Այլ հանցագործություններ | D111: =SUM('Երևան քաղաք:Սյունիք'!D111) -> 0 | E111: =SUM('Երևան քաղաք:Սյունիք'!E111) -> 0 | F111: =SUM('Երևան քաղաք:Սյունիք'!F111) -> 0 | G111: =SUM('Երևան քաղաք:Սյունիք'!G111) -> 0 | H111: =SUM('Երևան քաղաք:Սյունիք'!H111) -> 0 | I111: =SUM('Երևան քաղաք:Սյունիք'!I111) -> 0 | J111: =SUM('Երևան քաղաք:Սյունիք'!J111) -> 0 | K111: =SUM('Երևան քաղաք:Սյունիք'!K111) -> 0 | ... T111: =SUM('Երևան քաղաք:Սյունիք'!T111) -> 0
A112: 7. | B112: Ընդամենը տնտեսական գործունեության դեմ ուղղված հանցագործությունները | D112: =SUM('Երևան քաղաք:Սյունիք'!D112) -> 45 | E112: =SUM('Երևան քաղաք:Սյունիք'!E112) -> 11 | F112: =SUM('Երևան քաղաք:Սյունիք'!F112) -> 40 | G112: =SUM('Երևան քաղաք:Սյունիք'!G112) -> 20 | H112: =SUM('Երևան քաղաք:Սյունիք'!H112) -> 6 | I112: =SUM('Երևան քաղաք:Սյունիք'!I112) -> 0 | J112: =SUM('Երևան քաղաք:Սյունիք'!J112) -> 26 | K112: =SUM('Երևան քաղաք:Սյունիք'!K112) -> 0 | ... T112: =SUM('Երևան քաղաք:Սյունիք'!T112) -> 0
A113: 7.1 | B113: Օրինական ձեռնարկատիրական և այլ տնտեսական գործունեությանը խոչընդոտելը | C113: 187 | D113: =SUM('Երևան քաղաք:Սյունիք'!D113) -> 0 | E113: =SUM('Երևան քաղաք:Սյունիք'!E113) -> 0 | F113: =SUM('Երևան քաղաք:Սյունիք'!F113) -> 0 | G113: =SUM('Երևան քաղաք:Սյունիք'!G113) -> 0 | H113: =SUM('Երևան քաղաք:Սյունիք'!H113) -> 0 | I113: =SUM('Երևան քաղաք:Սյունիք'!I113) -> 0 | J113: =SUM('Երևան քաղաք:Սյունիք'!J113) -> 0 | K113: =SUM('Երևան քաղաք:Սյունիք'!K113) -> 0 | ... T113: =SUM('Երևան քաղաք:Սյունիք'!T113) -> 0
A114: 7.2 | B114: Ապօրինի ձեռնարկատիրությունը | C114: 188 | D114: =SUM('Երևան քաղաք:Սյունիք'!D114) -> 9 | E114: =SUM('Երևան քաղաք:Սյունիք'!E114) -> 3 | F114: =SUM('Երևան քաղաք:Սյունիք'!F114) -> 2 | G114: =SUM('Երևան քաղաք:Սյունիք'!G114) -> 3 | H114: =SUM('Երևան քաղաք:Սյունիք'!H114) -> 1 | I114: =SUM('Երևան քաղաք:Սյունիք'!I114) -> 0 | J114: =SUM('Երևան քաղաք:Սյունիք'!J114) -> 4 | K114: =SUM('Երևան քաղաք:Սյունիք'!K114) -> 0 | ... T114: =SUM('Երևան քաղաք:Սյունիք'!T114) -> 0
A115: 7.3 | B115: Առանց լիցենազիայի արտարժույթի վաճառքի իրականացումը | C115: 188.1 | D115: =SUM('Երևան քաղաք:Սյունիք'!D115) -> 1 | E115: =SUM('Երևան քաղաք:Սյունիք'!E115) -> 0 | F115: =SUM('Երևան քաղաք:Սյունիք'!F115) -> 3 | G115: =SUM('Երևան քաղաք:Սյունիք'!G115) -> 2 | H115: =SUM('Երևան քաղաք:Սյունիք'!H115) -> 0 | I115: =SUM('Երևան քաղաք:Սյունիք'!I115) -> 0 | J115: =SUM('Երևան քաղաք:Սյունիք'!J115) -> 2 | K115: =SUM('Երևան քաղաք:Սյունիք'!K115) -> 0 | ... T115: =SUM('Երևան քաղաք:Սյունիք'!T115) -> 0
A116: 7.4 | B116: Կեղծ ձեռնարկատիրությունը | C116: 189 | D116: =SUM('Երևան քաղաք:Սյունիք'!D116) -> 4 | E116: =SUM('Երևան քաղաք:Սյունիք'!E116) -> 1 | F116: =SUM('Երևան քաղաք:Սյունիք'!F116) -> 2 | G116: =SUM('Երևան քաղաք:Սյունիք'!G116) -> 0 | H116: =SUM('Երևան քաղաք:Սյունիք'!H116) -> 0 | I116: =SUM('Երևան քաղաք:Սյունիք'!I116) -> 0 | J116: =SUM('Երևան քաղաք:Սյունիք'!J116) -> 0 | K116: =SUM('Երևան քաղաք:Սյունիք'!K116) -> 0 | ... T116: =SUM('Երևան քաղաք:Սյունիք'!T116) -> 0
A117: 7.4.1 | B117: Ֆինանսական բուրգ ստեղծելը, կազմակերպելը կամ ղեկավարելը | C117: 189.1 | D117: =SUM('Երևան քաղաք:Սյունիք'!D117) -> 0 | E117: =SUM('Երևան քաղաք:Սյունիք'!E117) -> 0 | F117: =SUM('Երևան քաղաք:Սյունիք'!F117) -> 0 | G117: =SUM('Երևան քաղաք:Սյունիք'!G117) -> 0 | H117: =SUM('Երևան քաղաք:Սյունիք'!H117) -> 0 | I117: =SUM('Երևան քաղաք:Սյունիք'!I117) -> 0 | J117: =SUM('Երևան քաղաք:Սյունիք'!J117) -> 0 | K117: =SUM('Երևան քաղաք:Սյունիք'!K117) -> 0 | ... T117: =SUM('Երևան քաղաք:Սյունիք'!T117) -> 0
A118: 7.5 | B118: Հանցավոր ճանապարհով ստացված գույքն օրինականացնելը (փողերի լվացումը) | C118: 190 | D118: =SUM('Երևան քաղաք:Սյունիք'!D118) -> 2 | E118: =SUM('Երևան քաղաք:Սյունիք'!E118) -> 1 | F118: =SUM('Երևան քաղաք:Սյունիք'!F118) -> 4 | G118: =SUM('Երևան քաղաք:Սյունիք'!G118) -> 0 | H118: =SUM('Երևան քաղաք:Սյունիք'!H118) -> 0 | I118: =SUM('Երևան քաղաք:Սյունիք'!I118) -> 0 | J118: =SUM('Երևան քաղաք:Սյունիք'!J118) -> 0 | K118: =SUM('Երևան քաղաք:Սյունիք'!K118) -> 0 | ... T118: =SUM('Երևան քաղաք:Սյունիք'!T118) -> 0
A119: 7.5.1 | B119: Ներքին տեղեկությունների անբարեխիղճ օգտագործումը | C119: 190.1 | D119: =SUM('Երևան քաղաք:Սյունիք'!D119) -> 0 | E119: =SUM('Երևան քաղաք:Սյունիք'!E119) -> 0 | F119: =SUM('Երևան քաղաք:Սյունիք'!F119) -> 0 | G119: =SUM('Երևան քաղաք:Սյունիք'!G119) -> 0 | H119: =SUM('Երևան քաղաք:Սյունիք'!H119) -> 0 | I119: =SUM('Երևան քաղաք:Սյունիք'!I119) -> 0 | J119: =SUM('Երևան քաղաք:Սյունիք'!J119) -> 0 | K119: =SUM('Երևան քաղաք:Սյունիք'!K119) -> 0 | ... T119: =SUM('Երևան քաղաք:Սյունիք'!T119) -> 0
A120: 7.5.2 | B120: Գնային չարաշահումը | C120: 190.2 | D120: =SUM('Երևան քաղաք:Սյունիք'!D120) -> 0 | E120: =SUM('Երևան քաղաք:Սյունիք'!E120) -> 0 | F120: =SUM('Երևան քաղաք:Սյունիք'!F120) -> 0 | G120: =SUM('Երևան քաղաք:Սյունիք'!G120) -> 0 | H120: =SUM('Երևան քաղաք:Սյունիք'!H120) -> 0 | I120: =SUM('Երևան քաղաք:Սյունիք'!I120) -> 0 | J120: =SUM('Երևան քաղաք:Սյունիք'!J120) -> 0 | K120: =SUM('Երևան քաղաք:Սյունիք'!K120) -> 0 | ... T120: =SUM('Երևան քաղաք:Սյունիք'!T120) -> 0
A121: 7.6 | B121: Վարկը ոչ նպատակային օգտագործելը | C121: 191 | D121: =SUM('Երևան քաղաք:Սյունիք'!D121) -> 1 | E121: =SUM('Երևան քաղաք:Սյունիք'!E121) -> 0 | F121: =SUM('Երևան քաղաք:Սյունիք'!F121) -> 0 | G121: =SUM('Երևան քաղաք:Սյունիք'!G121) -> 0 | H121: =SUM('Երևան քաղաք:Սյունիք'!H121) -> 0 | I121: =SUM('Երևան քաղաք:Սյունիք'!I121) -> 0 | J121: =SUM('Երևան քաղաք:Սյունիք'!J121) -> 0 | K121: =SUM('Երևան քաղաք:Սյունիք'!K121) -> 0 | ... T121: =SUM('Երևան քաղաք:Սյունիք'!T121) -> 0
A122: 7.7 | B122: Անօրինական գործողությունները սնանկության ընթացքում | C122: 192 | D122: =SUM('Երևան քաղաք:Սյունիք'!D122) -> 0 | E122: =SUM('Երևան քաղաք:Սյունիք'!E122) -> 0 | F122: =SUM('Երևան քաղաք:Սյունիք'!F122) -> 0 | G122: =SUM('Երևան քաղաք:Սյունիք'!G122) -> 0 | H122: =SUM('Երևան քաղաք:Սյունիք'!H122) -> 0 | I122: =SUM('Երևան քաղաք:Սյունիք'!I122) -> 0 | J122: =SUM('Երևան քաղաք:Սյունիք'!J122) -> 0 | K122: =SUM('Երևան քաղաք:Սյունիք'!K122) -> 0 | ... T122: =SUM('Երևան քաղաք:Սյունիք'!T122) -> 0
A123: 7.8 | B123: Կանխամտածված սնանկությունը | C123: 193 | D123: =SUM('Երևան քաղաք:Սյունիք'!D123) -> 0 | E123: =SUM('Երևան քաղաք:Սյունիք'!E123) -> 0 | F123: =SUM('Երևան քաղաք:Սյունիք'!F123) -> 0 | G123: =SUM('Երևան քաղաք:Սյունիք'!G123) -> 0 | H123: =SUM('Երևան քաղաք:Սյունիք'!H123) -> 0 | I123: =SUM('Երևան քաղաք:Սյունիք'!I123) -> 0 | J123: =SUM('Երևան քաղաք:Սյունիք'!J123) -> 0 | K123: =SUM('Երևան քաղաք:Սյունիք'!K123) -> 0 | ... T123: =SUM('Երևան քաղաք:Սյունիք'!T123) -> 0
A124: 7.9 | B124: Կեղծ սնանկությունը | C124: 194 | D124: =SUM('Երևան քաղաք:Սյունիք'!D124) -> 0 | E124: =SUM('Երևան քաղաք:Սյունիք'!E124) -> 0 | F124: =SUM('Երևան քաղաք:Սյունիք'!F124) -> 0 | G124: =SUM('Երևան քաղաք:Սյունիք'!G124) -> 0 | H124: =SUM('Երևան քաղաք:Սյունիք'!H124) -> 0 | I124: =SUM('Երևան քաղաք:Սյունիք'!I124) -> 0 | J124: =SUM('Երևան քաղաք:Սյունիք'!J124) -> 0 | K124: =SUM('Երևան քաղաք:Սյունիք'!K124) -> 0 | ... T124: =SUM('Երևան քաղաք:Սյունիք'!T124) -> 0
... A147: 7.31 | B147: Ակնհայտ հանցավոր ճանապարհով ձեռք բերված գույք ձեռք բերելը կամ իրացնելը | C147: 216 | D147: =SUM('Երևան քաղաք:Սյունիք'!D147) -> 0 | E147: =SUM('Երևան քաղաք:Սյունիք'!E147) -> 0 | F147: =SUM('Երևան քաղաք:Սյունիք'!F147) -> 1 | G147: =SUM('Երևան քաղաք:Սյունիք'!G147) -> 0 | H147: =SUM('Երևան քաղաք:Սյունիք'!H147) -> 0 | I147: =SUM('Երևան քաղաք:Սյունիք'!I147) -> 0 | J147: =SUM('Երևան քաղաք:Սյունիք'!J147) -> 0 | K147: =SUM('Երևան քաղաք:Սյունիք'!K147) -> 0 | ... T147: =SUM('Երևան քաղաք:Սյունիք'!T147) -> 0
A148: 7.32 | B148: Այլ հանցագործություններ | D148: =SUM('Երևան քաղաք:Սյունիք'!D148) -> 0 | E148: =SUM('Երևան քաղաք:Սյունիք'!E148) -> 0 | F148: =SUM('Երևան քաղաք:Սյունիք'!F148) -> 1 | G148: =SUM('Երևան քաղաք:Սյունիք'!G148) -> 0 | H148: =SUM('Երևան քաղաք:Սյունիք'!H148) -> 0 | I148: =SUM('Երևան քաղաք:Սյունիք'!I148) -> 0 | J148: =SUM('Երևան քաղաք:Սյունիք'!J148) -> 0 | K148: =SUM('Երևան քաղաք:Սյունիք'!K148) -> 0 | ... T148: =SUM('Երևան քաղաք:Սյունիք'!T148) -> 0
A149: 8. | B149: Ընդամենը հասարակական անվտանգության դեմ ուղղված հանցագործությունները | D149: =SUM('Երևան քաղաք:Սյունիք'!D149) -> 109 | E149: =SUM('Երևան քաղաք:Սյունիք'!E149) -> 6 | F149: =SUM('Երևան քաղաք:Սյունիք'!F149) -> 321 | G149: =SUM('Երևան քաղաք:Սյունիք'!G149) -> 196 | H149: =SUM('Երևան քաղաք:Սյունիք'!H149) -> 43 | I149: =SUM('Երևան քաղաք:Սյունիք'!I149) -> 0 | J149: =SUM('Երևան քաղաք:Սյունիք'!J149) -> 239 | K149: =SUM('Երևան քաղաք:Սյունիք'!K149) -> 1 | ... T149: =SUM('Երևան քաղաք:Սյունիք'!T149) -> 1
A150: 8.1 | B150: Ահաբեկչությունը | C150: 217 | D150: =SUM('Երևան քաղաք:Սյունիք'!D150) -> 0 | E150: =SUM('Երևան քաղաք:Սյունիք'!E150) -> 0 | F150: =SUM('Երևան քաղաք:Սյունիք'!F150) -> 1 | G150: =SUM('Երևան քաղաք:Սյունիք'!G150) -> 0 | H150: =SUM('Երևան քաղաք:Սյունիք'!H150) -> 0 | I150: =SUM('Երևան քաղաք:Սյունիք'!I150) -> 0 | J150: =SUM('Երևան քաղաք:Սյունիք'!J150) -> 0 | K150: =SUM('Երևան քաղաք:Սյունիք'!K150) -> 0 | ... T150: =SUM('Երևան քաղաք:Սյունիք'!T150) -> 0
A151: 8.2 | B151: Ահաբեկչության ֆինանսավորումը | C151: 217.1 | D151: =SUM('Երևան քաղաք:Սյունիք'!D151) -> 0 | E151: =SUM('Երևան քաղաք:Սյունիք'!E151) -> 0 | F151: =SUM('Երևան քաղաք:Սյունիք'!F151) -> 0 | G151: =SUM('Երևան քաղաք:Սյունիք'!G151) -> 0 | H151: =SUM('Երևան քաղաք:Սյունիք'!H151) -> 0 | I151: =SUM('Երևան քաղաք:Սյունիք'!I151) -> 0 | J151: =SUM('Երևան քաղաք:Սյունիք'!J151) -> 0 | K151: =SUM('Երևան քաղաք:Սյունիք'!K151) -> 0 | ... T151: =SUM('Երևան քաղաք:Սյունիք'!T151) -> 0
A152: 8.3 | B152: Պատանդ վերցնելը | C152: 218 | D152: =SUM('Երևան քաղաք:Սյունիք'!D152) -> 3 | E152: =SUM('Երևան քաղաք:Սյունիք'!E152) -> 0 | F152: =SUM('Երևան քաղաք:Սյունիք'!F152) -> 0 | G152: =SUM('Երևան քաղաք:Սյունիք'!G152) -> 0 | H152: =SUM('Երևան քաղաք:Սյունիք'!H152) -> 0 | I152: =SUM('Երևան քաղաք:Սյունիք'!I152) -> 0 | J152: =SUM('Երևան քաղաք:Սյունիք'!J152) -> 0 | K152: =SUM('Երևան քաղաք:Սյունիք'!K152) -> 0 | ... T152: =SUM('Երևան քաղաք:Սյունիք'!T152) -> 0
...

Sheet Երևան քաղաք
A1: 2019թ. տարեկան | D1: ՀԱՇՎԵՏՎՈՒԹՅՈՒՆ
A2: ԵՐԵՎԱՆ ՔԱՂԱՔԻ ԱՌԱՋԻՆ ԱՏՅԱՆԻ ԸՆԴՀԱՆՈՒՐ ԻՐԱՎԱՍՈՒԹՅԱՆ ԴԱՏԱՐԱՆՈՒՄ ՔՐԵԱԿԱՆ ԳՈՐԾԵՐԻ ՔՆՆՈՒԹՅԱՆ ՎԵՐԱԲԵՐՅԱԼ
A3: Երևան քաղաքի առաջին ատյանի ընդհանուր իրավասության դատարանում քրեական մասնագիտացում ունեցող դատավորների հաստիքների քանակը` 25
A4: Ստուգիչ հավասարումներ` 1+3=7+8+10, 7=4+5+6, 14=12+13, 17=15+16 | C4: ՀՀ քրեական օրենսգրքի հոդվածներ | D4: Հաշվետու ժամանակահատվածի սկզբում նախորդ հաշվետու ժամանակահատվածից փոխանցված գործերի ընդհանուր թիվը | E4: Այդ թվում` կասեցված վիճակում փոխանցված | F4: Հաշվետու ժամանակահատվածում ստացված գործերի ընդհանուր թիվը | G4: Հաշվետու ժամանակահատվածում ավարտված գործերի ընդհանուր թիվը | K4: Ուղարկվել է ըստ ընդդատության | L4: Հաշվետու ժամանակահատվածում կասեցված վարույթներով գործերի ընդհանուր թիվը | M4: Հաշվետու ժամանակահատվածում անավարտ գործերի ընդհանուր թիվը | N4: Այդ թվում՝ կասեցված | O4: Բողոքարկված դատական ակտերի թիվը` ըստ տեսակների | R4: Բեկանված դատական ակտերի թիվը` ըստ տեսակների
G5: Քննվել է ըստ էության և դատավճիռ կայացվել | H5: Որոշում է կայացվել քրեական գործի վարույթը կարճելու և քրեական հետապնդումը դադարեցնելու մասին | I5: Որոշում է կայացվել անմեղսունակների նկատմամբ բժշկական բնույթի հարկադրական միջոցներ կիրառելու մասին | J5: Ընդամենը ավարտվել են գործեր | O5: Այդ թվում` գործն ըստ էության լուծող դատական ակտերը | P5: Այդ թվում` միջանկյալ դատական ակտերը | Q5: Ընդամենը | R5: Այդ թվում` գործն ըստ էության լուծող դատական ակտերը | S5: Այդ թվում` միջանկյալ դատական ակտերը | T5: Ընդամենը
D6: 1 | E6: 2 | F6: 3 | G6: 4 | H6: 5 | I6: 6 | J6: 7 | K6: 8 | L6: 9 | M6: 10 | N6: 11 | O6: 12 | P6: 13 | Q6: 14 | R6: 15 | S6: 16 | T6: 17
A7: 1. | B7: Ընդամենը կյանքի և առողջության դեմ ուղղված հանցագործությունները | D7: =SUM(D8:D34) -> 120 | E7: =SUM(E8:E34) -> 2 | F7: =SUM(F8:F34) -> 183 | G7: =SUM(G8:G34) -> 71 | H7: =SUM(H8:H34) -> 26 | I7: =SUM(I8:I34) -> 12 | J7: =SUM(J8:J34) -> 109 | K7: =SUM(K8:K34) -> 1 | ... T7: =SUM(T8:T34) -> 2
A8: 1.1 | B8: Սպանությունը | C8: 104 | D8: 37 | E8: 1 | F8: 25 | G8: 11 | H8: 0 | I8: 7 | J8: 18 | K8: 0 | L8: 0 | M8: 44 | N8: 1 | O8: 8 | P8: 6 | Q8: 14
A9: 1.2 | B9: Հոգեկան խիստ հուզմունքի վիճակում կատարված սպանությունը | C9: 105 | D9: 0 | E9: 0 | F9: 0 | G9: 0 | H9: 0 | I9: 0 | J9: 0 | K9: 0 | L9: 0 | M9: 0 | N9: 0 | O9: 0 | P9: 0 | Q9: 0
A10: 1.3 | B10: Մոր կողմից նորածին երեխայի սպանությունը | C10: 106 | D10: 0 | E10: 0 | F10: 0 | G10: 0 | H10: 0 | I10: 0 | J10: 0 | K10: 0 | L10: 0 | M10: 0 | N10: 0 | O10: 0 | P10: 0 | Q10: 0
A11: 1.4 | B11: Հանցանք կատարած անձին բռնելու համար անհրաժեշտ միջոցների սահմանազանցմամբ սպանությունը | C11: 107 | D11: 0 | E11: 0 | F11: 0 | G11: 0 | H11: 0 | I11: 0 | J11: 0 | K11: 0 | L11: 0 | M11: 0 | N11: 0 | O11: 0 | P11: 0 | Q11: 0
A12: 1.5 | B12: Անհրաժեշտ պաշտպանության սահմանազանցմամբ սպանությունը | C12: 108 | D12: 0 | E12: 0 | F12: 1 | G12: 0 | H12: 0 | I12: 0 | J12: 0 | K12: 0 | L12: 0 | M12: 1 | N12: 0 | O12: 0 | P12: 0 | Q12: 0
A13: 1.6 | B13: Անզգուշությամբ մահ պատճառելը | C13: 109 | D13: 1 | E13: 0 | F13: 0 | G13: 1 | H13: 0 | I13: 0 | J13: 1 | K13: 0 | L13: 0 | M13: 0 | N13: 0 | O13: 0 | P13: 0 | Q13: 0
A14: 1.7 | B14: Ինքնասպանության հասցնելը | C14: 110 | D14: 1 | E14: 0 | F14: 2 | G14: 0 | H14: 0 | I14: 0 | J14: 0 | K14: 0 | L14: 0 | M14: 3 | N14: 0 | O14: 0 | P14: 0 | Q14: 0
A15: 1.8 | B15: Ինքնասպանության հակելը | C15: 111 | D15: 0 | E15: 0 | F15: 0 | G15: 0 | H15: 0 | I15: 0 | J15: 0 | K15: 0 | L15: 0 | M15: 0 | N15: 0 | O15: 1 | P15: 0 | Q15: 1
A16: 1.9 | B16: Դիտավորությամբ առողջությանը ծանր վնաս պատճառելը | C16: 112 | D16: 44 | E16: 0 | F16: 80 | G16: 41 | H16: 4 | I16: 1 | J16: 46 | K16: 0 | L16: 0 | M16: 77 | N16: 0 | O16: 10 | P16: 6 | Q16: 16 | R16: 1 | T16: 1
A17: 1.10 | B17: Դիտավորությամբ առողջությանը միջին ծանրության վնաս պատճառելը | C17: 113 | D17: 8 | E17: 0 | F17: 10 | G17: 2 | H17: 2 | I17: 0 | J17: 4 | K17: 0 | L17: 0 | M17: 14 | N17: 0 | O17: 0 | P17: 0 | Q17: 0
A18: 1.11 | B18: Հոգեկան խիստ հուզմունքի վիճակում առողջությանը ծանր կամ միջին ծանրության վնաս պատճառելը | C18: 114 | D18: 0 | E18: 0 | F18: 0 | G18: 0 | H18: 0 | I18: 0 | J18: 0 | K18: 0 | L18: 0 | M18: 0 | N18: 0 | O18: 0 | P18: 0 | Q18: 0
A19: 1.12 | B19: Հանցանք կատարած անձին բռնելու համար անհրաժեշտ միջոցների սահմանզանցմամբ առողջությանը ծանր կամ միջին ծանրության վնաս պատճառելը | C19: 115 | D19: 0 | E19: 0 | F19: 0 | G19: 0 | H19: 0 | I19: 0 | J19: 0 | K19: 0 | L19: 0 | M19: 0 | N19: 0 | O19: 0 | P19: 0 | Q19: 0
A20: 1.13 | B20: Առողջությանը ծանր կամ միջին ծանրության վնաս պատճառելը անհրաժեշտ պաշտպանության սահմանանազանցմամբ | C20: 116 | D20: 0 | E20: 0 | F20: 0 | G20: 0 | H20: 0 | I20: 0 | J20: 0 | K20: 0 | L20: 0 | M20: 0 | N20: 0 | O20: 0 | P20: 0 | Q20: 0
A21: 1.14 | B21: Դիտավորությամբ առողջությանը թեթև վնաս պատճառելը | C21: 117 | D21: 6 | E21: 0 | F21: 19 | G21: 6 | H21: 4 | I21: 1 | J21: 11 | K21: 0 | L21: 0 | M21: 14 | N21: 0 | O21: 1 | P21: 0 | Q21: 1 | R21: 1 | T21: 1
A22: 1.15 | B22: Ծեծը | C22: 118 | D22: 13 | E22: 0 | F22: 41 | G22: 8 | H22: 11 | I22: 2 | J22: 21 | K22: 1 | L22: 0 | M22: 32 | N22: 0 | O22: 2 | P22: 1 | Q22: 3
A23: 1.16 | B23: Ֆիզիկական ուժեղ ցավ կամ հոգեկան ուժեղ տառապանք պատճառելը | C23: 119 | D23: 2 | E23: 0 | F23: 1 | G23: 1 | H23: 1 | J23: 2 | K23: 0 | L23: 0 | M23: 1 | N23: 0 | O23: 0 | P23: 0 | Q23: 0
A24: 1.17 | B24: Անզգուշությամբ առողջությանը ծանր վնաս պատճառելը | C24: 120 | D24: 0 | E24: 0 | F24: 2 | G24: 0 | H24: 1 | I24: 1 | J24: 2 | K24: 0 | L24: 0 | M24: 0 | N24: 0 | O24: 0 | P24: 0 | Q24: 0
A25: 1.18 | B25: Անզգուշությամբ առողջությանը միջին ծանրության վնաս պատճառելը | C25: 121 | D25: 0 | E25: 0 | F25: 2 | G25: 0 | H25: 2 | I25: 0 | J25: 2 | K25: 0 | L25: 0 | M25: 0 | N25: 0 | O25: 0 | P25: 0 | Q25: 0
A26: 1.19 | B26: Ապօրինի աբորտ կատարելը | C26: 122 | D26: 1 | E26: 0 | F26: 0 | G26: 0 | H26: 0 | I26: 0 | J26: 0 | K26: 0 | L26: 0 | M26: 1 | N26: 0 | O26: 0 | P26: 0 | Q26: 0
A27: 1.20 | B27: Մարդու իմունային անբավարարության վիրուսի հարուցիչով վարակելը | C27: 123 | D27: 0 | E27: 0 | F27: 0 | G27: 0 | H27: 0 | I27: 0 | J27: 0 | K27: 0 | L27: 0 | M27: 0 | N27: 0 | O27: 0 | P27: 0 | Q27: 0
A28: 1.21 | B28: Վեներական հիվանդությամբ կամ այլ սեռավարակներով վարակելը | C28: 124 | D28: 0 | E28: 0 | F28: 0 | G28: 0 | H28: 0 | I28: 0 | J28: 0 | K28: 0 | L28: 0 | M28: 0 | N28: 0 | O28: 0 | P28: 0 | Q28: 0
A29: 1.22 | B29: Փոխպատվաստման վիրահատություն կատարելու կանոնները խախտելը | C29: 125 | D29: 0 | E29: 0 | F29: 0 | G29: 0 | H29: 0 | I29: 0 | J29: 0 | K29: 0 | L29: 0 | M29: 0 | N29: 0 | O29: 0 | P29: 0 | Q29: 0
A30: 1.24 | B30: Անձին առանց իր հանձնարարության բժշկական կամ գիտական փորձերի ենթարկելը | C30: 127 | D30: 0 | E30: 0 | F30: 0 | G30: 0 | H30: 0 | I30: 0 | J30: 0 | K30: 0 | L30: 0 | M30: 0 | N30: 0 | O30: 0 | P30: 0 | Q30: 0
A31: 1.25 | B31: Վտանգի մեջ թողնելը | C31: 128 | D31: 0 | E31: 0 | F31: 0 | G31: 0 | H31: 0 | I31: 0 | J31: 0 | K31: 0 | L31: 0 | M31: 0 | N31: 0 | O31: 0 | P31: 0 | Q31: 0
A32: 1.26 | B32: Հիվանդին օգնություն ցույց չտալը | C32: 129 | D32: 0 | E32: 0 | F32: 0 | G32: 0 | H32: 0 | I32: 0 | J32: 0 | K32: 0 | L32: 0 | M32: 0 | N32: 0 | O32: 0 | P32: 0 | Q32: 0
A33: 1.27 | B33: Բժշկական օգնություն և սպասարկում իրականացնողների կողմից մասնագիտական պարտականությունները չկատարելը կամ ոչ պատշաճ կատարելը | C33: 130 | D33: 6 | E33: 0 | F33: 0 | G33: 1 | H33: 1 | I33: 0 | J33: 2 | K33: 0 | L33: 0 | M33: 4 | N33: 0 | O33: 1 | P33: 0 | Q33: 1
A34: 1.28 | B34: Այլ հանցագործություններ | D34: 1 | E34: 1 | F34: 0 | G34: 0 | H34: 0 | I34: 0 | J34: 0 | K34: 0 | M34: 1 | N34: 1 | O34: 0 | P34: 0 | Q34: 0
A35: 2. | B35: Ընդամենը անձի ազատության, պատվի և արժանապատվության դեմ ուղղված հանցագործությունները | D35: =SUM(D36:D43) -> 18 | E35: =SUM(E36:E43) -> 0 | F35: =SUM(F36:F43) -> 16 | G35: =SUM(G36:G43) -> 8 | H35: =SUM(H36:H43) -> 3 | I35: =SUM(I36:I43) -> 1 | J35: =SUM(J36:J43) -> 12 | K35: =SUM(K36:K43) -> 0 | ... Q35: =SUM(Q36:Q43) -> 7
A36: 2.1 | B36: Մարդուն առևանգելը | C36: 131 | D36: 10 | E36: 0 | F36: 9 | G36: 6 | H36: 2 | I36: 0 | J36: 8 | K36: 0 | L36: 0 | M36: 11 | N36: 0 | O36: 4 | P36: 1 | Q36: 5
A37: 2.2 | B37: Մարդու թրաֆիքինգը կամ շահագործումը | C37: 132 | D37: 1 | E37: 0 | F37: 0 | G37: 0 | H37: 0 | I37: 0 | J37: 0 | K37: 0 | L37: 0 | M37: 1 | N37: 0 | O37: 0 | P37: 0 | Q37: 0
A38: 2.2.2 | B38: Երեխայի կամ հոգեկան խանգարման հետևանքով իր արարքի բնույթն ու նշանակությունը գիտակցելու կամ դա ղեկավարելու հնարավորությունից զրկված անձի թրաֆիքինգը կամ շահագործումը | C38: 132.2 | D38: 1 | E38: 0 | F38: 0 | G38: 0 | H38: 0 | I38: 0 | J38: 0 | K38: 0 | L38: 0 | M38: 1 | N38: 0 | O38: 0 | P38: 0 | Q38: 0
A39: 2.2.3 | B39: Շահագործման վիճակում գտնվող անձի ծառայությունից օգտվելը | C39: 132.3 | D39: 0 | E39: 0 | F39: 0 | G39: 0 | H39: 0 | I39: 0 | J39: 0 | K39: 0 | L39: 0 | M39: 0 | N39: 0 | O39: 0 | P39: 0 | Q39: 0
A40: 2.3 | B40: Ազատությունից ապօրինի զրկելը | C40: 133 | D40: 1 | E40: 0 | F40: 1 | G40: 0 | H40: 0 | I40: 0 | J40: 0 | K40: 0 | L40: 0 | M40: 2 | N40: 0 | O40: 0 | P40: 0 | Q40: 0
A41: 2.4 | B41: Հոգեբուժական հիվանդանոցում ապօրինի տեղավորելը կամ պահելը | C41: 134 | D41: 0 | E41: 0 | F41: 0 | G41: 0 | H41: 0 | I41: 0 | J41: 0 | K41: 0 | L41: 0 | M41: 0 | N41: 0 | O41: 0 | P41: 0 | Q41: 0
A42: 2.7 | B42: Սպանության, առողջությանը ծանր վնաս պատճառելու կամ գույք ոչնչացնելու սպառնալիքը | C42: 137 | D42: 5 | E42: 0 | F42: 6 | G42: 2 | H42: 1 | I42: 1 | J42: 4 | K42: 0 | L42: 1 | M42: 7 | N42: 0 | O42: 1 | P42: 1 | Q42: 2
A43: 2.8 | B43: Այլ հանցագործություններ | D43: 0 | E43: 0 | F43: 0 | G43: 0 | H43: 0 | I43: 0 | J43: 0 | K43: 0 | L43: 0 | M43: 0 | O43: 0 | P43: 0 | Q43: 0
A44: 3. | B44: Ընդամենը սեռական անձեռնմխելիության և սեռական ազատության դեմ ուղղված հանցագործությունները | D44: =SUM(D45:D50) -> 9 | E44: =SUM(E45:E50) -> 0 | F44: =SUM(F45:F50) -> 16 | G44: =SUM(G45:G50) -> 5 | H44: =SUM(H45:H50) -> 1 | I44: =SUM(I45:I50) -> 1 | J44: =SUM(J45:J50) -> 7 | K44: =SUM(K45:K50) -> 0 | ... Q44: =SUM(Q45:Q50) -> 4
A45: 3.1 | B45: Բռնաբարությունը | C45: 138 | D45: 3 | E45: 0 | F45: 4 | G45: 0 | H45: 0 | I45: 0 | J45: 0 | K45: 0 | L45: 0 | M45: 7 | N45: 0 | P45: 1 | Q45: 1
A46: 3.2 | B46: Սեքսուալ բնույթի բռնի գործողությունները | C46: 139 | D46: 2 | E46: 0 | F46: 4 | G46: 1 | H46: 0 | I46: 1 | J46: 2 | K46: 0 | L46: 0 | M46: 4 | N46: 1 | O46: 2 | P46: 0 | Q46: 2
A47: 3.3 | B47: Սեռական հարաբերության կամ սեքսուալ բնույթի գործողություններին հարկադրելը | C47: 140 | D47: 1 | E47: 0 | F47: 0 | G47: 0 | H47: 1 | I47: 0 | J47: 1 | K47: 0 | L47: 0 | M47: 0 | N47: 0 | O47: 0 | P47: 0 | Q47: 0
A48: 3.4 | B48: Սեռական հարաբերությունը տասնվեց տարին չլրացած անձի հետ կամ սեքսուալ բնույթի գործողություններ կատարելը տասնվեց տարին չլրացած անձի նկատմամբ | C48: 141 | D48: 1 | E48: 0 | F48: 6 | G48: 3 | H48: 0 | I48: 0 | J48: 3 | K48: 0 | L48: 0 | M48: 4 | N48: 0 | O48: 0 | P48: 0 | Q48: 0
A49: 3.5 | B49: Անառակաբարո գործողությունները | C49: 142 | D49: 2 | E49: 0 | F49: 2 | G49: 1 | H49: 0 | I49: 0 | J49: 1 | K49: 0 | L49: 0 | M49: 3 | N49: 0 | O49: 1 | P49: 0 | Q49: 1
A50: 3.6 | B50: Այլ հանցագործություններ | D50: 0 | E50: 0 | F50: 0 | G50: 0 | H50: 0 | I50: 0 | J50: 0 | K50: 0 | L50: 0 | M50: 0 | N50: 0 | O50: 0 | P50: 0 | Q50: 0
A51: 4. | B51: Ընդամենը մարդու և քաղաքացու սահմանադրական իրավունքների և ազատությունների դեմ ուղղված հանցագործությունները | D51: =SUM(D52:D80) -> 12 | E51: =SUM(E52:E80) -> 1 | F51: =SUM(F52:F80) -> 6 | G51: =SUM(G52:G80) -> 10 | H51: =SUM(H52:H80) -> 3 | I51: =SUM(I52:I80) -> 0 | J51: =SUM(J52:J80) -> 13 | K51: =SUM(K52:K80) -> 0 | ... Q51: =SUM(Q52:Q80) -> 4
A52: 4.1 | B52: Մարդու և քաղաքացու իրավահավասարությունը խախտելը | C52: 143 | D52: 0 | E52: 0 | F52: 0 | G52: 0 | H52: 0 | I52: 0 | J52: 0 | K52: 0 | L52: 0 | M52: 0 | N52: 0 | O52: 0 | P52: 0 | Q52: 0
A53: 4.2 | B53: Անձնական կամ ընտանեկան կյանքի մասին տեղեկություններ ապօրինի հավաքելը, պահելը, օգտագործելը կամ տարածելը | C53: 144 | D53: 1 | E53: 0 | F53: 2 | G53: 1 | H53: 0 | I53: 0 | J53: 1 | K53: 0 | L53: 0 | M53: 2 | N53: 0 | O53: 1 | Q53: 1
A54: 4.3 | B54: Բժշկական գաղտնիքը հրապարակելը | C54: 145 | D54: 0 | E54: 0 | F54: 0 | G54: 0 | H54: 0 | I54: 0 | J54: 0 | K54: 0 | L54: 0 | M54: 0 | N54: 0 | Q54: 0
A55: 4.4 | B55: Նամակագրության, հեռախոսային խոսակցությունների, փոստային, հեռագրական կամ այլ հաղորդումների գաղտնիությունը խախտելը | C55: 146 | D55: 0 | E55: 0 | F55: 0 | G55: 0 | H55: 0 | I55: 0 | J55: 0 | K55: 0 | L55: 0 | M55: 0 | N55: 0 | Q55: 0
A56: 4.5 | B56: Բնակարանի անձեռնմխելիությունը խախտելը | C56: 147 | D56: 2 | E56: 0 | F56: 3 | G56: 5 | H56: 0 | I56: 0 | J56: 5 | K56: 0 | L56: 0 | M56: 0 | N56: 0
A57: 4.6 | B57: Անձին տեղեկություն ներկայացնելուց հրաժարվելը | C57: 148 | D57: 0 | E57: 0 | F57: 0 | G57: 0 | H57: 0 | I57: 0 | J57: 0 | K57: 0 | L57: 0 | M57: 0 | N57: 0 | Q57: 0
A58: 4.7 | B58: Ընտրական իրավունքի իրականացմանը, ընտրական հանձնաժողովների աշխատանքներին կամ ընտրությանը մասնակցող անձանց լիազորությունների իրականացմանը խոչընդոտելը | C58: 149 | D58: 3 | E58: 1 | F58: 0 | G58: 1 | H58: 0 | I58: 0 | J58: 1 | K58: 0 | L58: 0 | M58: 2 | N58: 1 | O58: 1 | Q58: 1
A59: 4.8 | B59: Ընտրությունների կամ քվեարկության արդյունքները կեղծելը | C59: 150 | D59: 0 | E59: 0 | F59: 0 | G59: 0 | H59: 0 | I59: 0 | J59: 0 | K59: 0 | L59: 0 | M59: 0 | N59: 0 | Q59: 0
A60: 4.10 | B60: Ընտրողների ցուցակները կազմելու, դրանք քաղաքացիներին և կուսակցություններին տրամադրելու կամ հրապարակելու կարգը խախտելը | C60: 152 | D60: 0 | E60: 0 | F60: 0 | G60: 0 | H60: 0 | I60: 0 | J60: 0 | K60: 0 | L60: 0 | M60: 0 | N60: 0 | Q60: 0
A61: 4.11 | B61: Մեկից ավելի անգամ կամ այլ անձի փոխարեն քվեարկելը | C61: 153 | D61: 0 | E61: 0 | F61: 0 | G61: 0 | H61: 0 | I61: 0 | J61: 0 | K61: 0 | L61: 0 | M61: 0 | N61: 0 | Q61: 0
A62: 4.12 | B62: Քվեարկության գաղտնիությունը խախտելը | C62: 154 | D62: 0 | E62: 0 | F62: 0 | G62: 0 | H62: 0 | I62: 0 | J62: 0 | K62: 0 | L62: 0 | M62: 0 | N62: 0 | Q62: 0
A63: 4.13 | B63: Կեղծ ընտրական քվեաթերթիկներ կամ քվեարկության ծրարներ, դրոշմանիշեր, կտրոններ պատրաստելը կամ ակնհայտ կեղծ ընտրական քվեաթերթիկներ կամ քվեարկության ծրարներ, դրոշմանիշեր, կտրոններ հանձնելը կամ իրացնելը | C63: 154.1 | D63: 0 | E63: 0 | F63: 0 | G63: 0 | H63: 0 | I63: 0 | J63: 0 | K63: 0 | L63: 0 | M63: 0 | N63: 0 | Q63: 0
A64: 4.14 | B64: Ընտրողի կողմից թեկնածուներից, կուսակցություններից (կուսակցությունների դաշինքներից), հանրաքվեի քարոզչական նախաձեռնություններից կաշառք ստանալը կամ թեկնածուների, կուսակցությունների (կուսակցությունների դաշինքների), հանրաքվեի քարոզչական նախաձեռնությունների կողմից ընտրողներին կաշառք տալը կամ ընտրողի ազատ կամքի իրականացմանը խոչընդոտելը | C64: 154.2 | D64: 2 | E64: 0 | F64: 0 | G64: 2 | H64: 0 | I64: 0 | J64: 2 | K64: 0 | L64: 0 | M64: 0 | N64: 0 | Q64: 0
A65: 4.16 | B65: Զենքով՝ տեղամասային կենտրոն մուտք գործելը | C65: 154.4 | D65: 0 | E65: 0 | F65: 0 | G65: 0 | H65: 0 | I65: 0 | J65: 0 | K65: 0 | L65: 0 | M65: 0 | N65: 0 | Q65: 0
A66: 4.17 | B66: Վստահված անձին,ընտրական հանձնաժողովի անդամին,դիտորդին կամ զանգվածային լրատվության միջոցի ներկայացուցչին ընտրական փաստաթղթերին ծանոթանալուն խոչընդոտելը, ընտրական հանձնաժողովի արձանագրությունների պատճեններ չտալը | C66: 154.5 | D66: 0 | E66: 0 | F66: 0 | G66: 0 | H66: 0 | I66: 0 | J66: 0 | K66: 0 | L66: 0 | M66: 0 | N66: 0 | Q66: 0
A67: 4.17.1 | B67: Ընտրական հանձնաժողովի նախագահի լիազորությունները չկատարելը կամ ոչ պատշաճ կատարելը | C67: 154.6 | D67: 0 | E67: 0 | F67: 0 | G67: 0 | H67: 0 | I67: 0 | J67: 0 | K67: 0 | L67: 0 | M67: 0 | N67: 0 | Q67: 0
A68: 4.17.2 | B68: Քվեատուփը, ընտրողների ստորագրած ցուցակը, տեղամասային ընտրական հանձնաժողովի գրանցամատյանը, հանձնաժողովի կնիքը, տեղամասային ընտրական հանձնաժողովի անդամի անհատական կնիքը, ինքնասոսնձվող դրոշմանիշը, ընտրողի վերաբերյալ տվյալներ պարունակող քվեարկության կտրոնը կամ համարակալված կտրոնը, ընտրողների էլեկտրոնային գրանցման տեխնիկական սարքավորումը, կառավարության կողմից ընտրված մասնագիտացված կազմակերպության կողմից տեղադրված տեսախցիկը, ընտրական փաստաթղթերի մեկանգամյա օգտագործման պարկը կամ ընտրական փաստաթղթերի փաթեթը հափշտակելը | C68: 154.7 | D68: 0 | E68: 0 | F68: 0 | G68: 0 | H68: 0 | I68: 0 | J68: 0 | K68: 0 | L68: 0 | M68: 0 | N68: 0 | Q68: 0
A69: 4.17.3 | B69: Այլ անձի փոխարեն քվեարկելու վերաբերյալ սուտ հայտարարություն տալը կամ կեղծ ստորագրությամբ հայտարարություն դիմումին կից ներկայացնելը | C69: 154.8 | D69: 0 | E69: 0 | F69: 0 | G69: 0 | H69: 0 | I69: 0 | J69: 0 | K69: 0 | L69: 0 | M69: 0 | N69: 0 | Q69: 0
A70: 4.18 | B70: Գործադուլի մասնակցելուն կամ գործադուլի մասնակցելուց հրաժարվելուն հարկադրելը | C70: 155 | D70: 0 | E70: 0 | F70: 0 | G70: 0 | H70: 0 | I70: 0 | J70: 0 | K70: 0 | L70: 0 | M70: 0 | N70: 0 | Q70: 0
A71: 4.19 | B71: Հղի կնոջը կամ մինչև երեք տարեկան երեխա ունեցող անձին աշխատանքի ընդունելոււց հրաժարվելը կամ աշխատանքից անհիմն ազատելը | C71: 156 | D71: 0 | E71: 0 | F71: 0 | G71: 0 | H71: 0 | I71: 0 | J71: 0 | K71: 0 | L71: 0 | M71: 0 | N71: 0 | Q71: 0
A72: 4.20 | B72: Աշխատանքի պաշտպանության կանոնները խախտելը | C72: 157 | D72: 4 | E72: 0 | F72: 1 | G72: 1 | H72: 3 | I72: 0 | J72: 4 | K72: 0 | L72: 0 | M72: 1 | N72: 0 | O72: 2 | Q72: 2
A73: 4.21 | B73: Հեղինակային և հարակից իրավունքները խախտելը | C73: 158 | D73: 0 | E73: 0 | F73: 0 | G73: 0 | H73: 0 | I73: 0 | J73: 0 | K73: 0 | L73: 0 | M73: 0 | N73: 0 | Q73: 0
A74: 4.22 | B74: Արտոնագրային իրավունքը խախտելը | C74: 159 | D74: 0 | E74: 0 | F74: 0 | G74: 0 | H74: 0 | I74: 0 | J74: 0 | K74: 0 | L74: 0 | M74: 0 | N74: 0 | Q74: 0
A75: 4.23 | B75: Խղճի կամ դավանանքի ազատության իրավունքի իրականացմանը խոչընդոտելը | C75: 160 | D75: 0 | E75: 0 | F75: 0 | G75: 0 | H75: 0 | I75: 0 | J75: 0 | K75: 0 | L75: 0 | M75: 0 | N75: 0 | Q75: 0
A76: 4.24 | B76: Միավորումներ (հասարակական կամ արհեստակցական միություններ) կազմելու կամ կուսակցություններ ստեղծելու իրավունքի իրականացմանը կամ դրանց գործողությանը խոչընդոտելը | C76: 161 | D76: 0 | E76: 0 | F76: 0 | G76: 0 | H76: 0 | I76: 0 | J76: 0 | K76: 0 | L76: 0 | M76: 0 | N76: 0 | Q76: 0
A77: 4.25 | B77: Անձանց իրավունքների կամ անձի դեմ ոտնձգող միավորումներ կազմելը կամ ղեկավարելը | C77: 162 | D77: 0 | E77: 0 | F77: 0 | G77: 0 | H77: 0 | I77: 0 | J77: 0 | K77: 0 | L77: 0 | M77: 0 | N77: 0 | Q77: 0
A78: 4.26 | B78: Հավաքներ անցկացնելուն կամ դրանց մասնակցելուն խոչընդոտելը | C78: 163 | D78: 0 | E78: 0 | F78: 0 | G78: 0 | H78: 0 | I78: 0 | J78: 0 | K78: 0 | L78: 0 | M78: 0 | N78: 0 | Q78: 0
A79: 4.27 | B79: Լրագրողի մասնագիտական օրինական գործողությանը խոչընդոտելը | C79: 164 | D79: 0 | E79: 0 | F79: 0 | G79: 0 | H79: 0 | I79: 0 | J79: 0 | K79: 0 | L79: 0 | M79: 0 | N79: 0
A80: 4.28 | B80: Այլ հանցագործություններ | D80: 0 | E80: 0 | F80: 0 | G80: 0 | H80: 0 | I80: 0 | J80: 0 | K80: 0 | L80: 0 | M80: 0 | N80: 0 | Q80: 0
A81: 5. | B81: Ընդամենը ընտանիքի և երեխայի շահերի դեմ ուղղված հանցագործությունները | D81: =SUM(D82:D95) -> 0 | E81: =SUM(E82:E95) -> 0 | F81: =SUM(F82:F95) -> 4 | G81: =SUM(G82:G95) -> 0 | H81: =SUM(H82:H95) -> 0 | I81: =SUM(I82:I95) -> 0 | J81: =SUM(J82:J95) -> 0 | K81: =SUM(K82:K95) -> 0 | ... T81: =SUM(T82:T95) -> 0
A82: 5.1 | B82: Անչափահասին հանցանքի կատարմանը ներգրավելը | C82: 165
A83: 5.2 | B83: Երեխային պոռնկության կամ պոռնկագրական բնույթի նյութեր կամ առարկաներ պատրաստելու հետ կապված գործողություններ կատարելուն ներգրավելը | C83: 166
A84: 5.2.1 | B84: Երեխային ոգելից խմիչքների օգտագործմանը, ուժեղ ներգործող կամ այլ թմրեցնող նյութերի ոչ բժշկական օգտագործմանը, թափառաշրջիկությանը ներգրավելը կամ մուրացկանության հետ կապված գործողություններ կատարելուն ներգրավելը | C84: 166.1
A85: 5.3 | B85: Ծնողներից երեխային ապօրինի բաժանելը կամ երեխային փոխելը | C85: 167 | F85: 1 | M85: 1
A86: 5.4 | B86: Խնամքը ստանձնելու նպատակով երեխայի առքը կամ ստանձնողի խնամքին հանձնելու նպատակով երեխայի վաճառքը | C86: 168
A87: 5.5 | B87: Որդեգրման գաղտնիքը հրապարակելը կամ որդեգրման համաձայնություն տալուն հակելը կամ հարկադրելը | C87: 169
A88: 5.6 | B88: Քաղաքացիական կացության ակտերի գրանցման մարմիններին սուտ տեղեկություններ հաղորդելը | C88: 169.1
A89: 5.7 | B89: Երեխային դաստիարակելու պարտականությունը չկատարելը | C89: 170
A90: 5.8 | B90: Երեխայի կյանքի անվտանգության ապահովման կամ առողջության պահպանման պարտականությունը չկատարելը կամ ոչ պատշաճ կատարելը | C90: 171
A91: 5.8.1 | B91: Վերարտադրողականության օժանդակ տեխնոլոգիաներից օգտվելու կանոնները խախտելը | C91: 171.1
A92: 5.9 | B92: Խնամակալի կամ հոգաբարձուի իրավունքները չարաշահելը | C92: 172
A93: 5.10 | B93: Ծնողի կողմից երեխային պահելուց չարամտորեն խուսափելը | C93: 173 | F93: 2 | M93: 2
A94: 5.11 | B94: Զավակի կողմից անաշխատունակ ծնողին պահելուց չարամտորեն խուսափելը | C94: 174
A95: 5.12 | B95: Այլ հանցագործություններ | F95: 1 | M95: 1
A96: 6. | B96: Ընդամենը սեփականության դեմ ուղղված հանցագործությունները | D96: =SUM(D97:D111) -> 395 | E96: =SUM(E97:E111) -> 36 | F96: =SUM(F97:F111) -> 510 | G96: =SUM(G97:G111) -> 262 | H96: =SUM(H97:H111) -> 77 | I96: =SUM(I97:I111) -> 3 | J96: =SUM(J97:J111) -> 342 | K96: =SUM(K97:K111) -> 1 | ... T96: =SUM(T97:T111) -> 1
A97: 6.1 | B97: Ավազակությունը | C97: 175 | D97: 24 | E97: 0 | F97: 23 | G97: 17 | H97: 0 | I97: 1 | J97: 18 | K97: 0 | L97: 0 | M97: 28 | N97: 0 | O97: 12 | P97: 4 | Q97: 16
A98: 6.2 | B98: Կողոպուտը | C98: 176 | D98: 33 | E98: 2 | F98: 43 | G98: 27 | H98: 7 | I98: 1 | J98: 35 | K98: 0 | L98: 1 | M98: 37 | N98: 3 | O98: 12 | P98: 4 | Q98: 16
A99: 6.3 | B99: Գողությունը | C99: 177 | D99: 142 | E99: 13 | F99: 259 | G99: 125 | H99: 34 | I99: 0 | J99: 159 | K99: 0 | L99: 6 | M99: 233 | N99: 10 | O99: 42 | P99: 14 | Q99: 56
A100: 6.4 | B100: Խարդախությունը | C100: 178 | D100: 122 | E100: 15 | F100: 108 | G100: 61 | H100: 18 | I100: 0 | J100: 79 | K100: 0 | L100: 3 | M100: 147 | N100: 8 | O100: 17 | P100: 5 | Q100: 22 | R100: 1 | T100: 1
...

Sheet Արագածոտն 
A1: 2019թ. տարեկան | D1: ՀԱՇՎԵՏՎՈՒԹՅՈՒՆ
A2: ՀՀ ԱՐԱԳԱԾՈՏՆԻ ՄԱՐԶԻ ԱՌԱՋԻՆ ԱՏՅԱՆԻ ԸՆԴՀԱՆՈՒՐ ԻՐԱՎԱՍՈՒԹՅԱՆ ԴԱՏԱՐԱՆՈՒՄ ՔՐԵԱԿԱՆ ԳՈՐԾԵՐԻ ՔՆՆՈՒԹՅԱՆ ՎԵՐԱԲԵՐՅԱԼ
A3: ՀՀ Արագածոտնի մարզի առաջին ատյանի ընդհանուր իրավասության դատարանում քրեական մասնագիտացում ունեցող դատավորների հաստիքների քանակը` 2
A4: Ստուգիչ հավասարումներ` 1+3=7+8+10, 7=4+5+6, 14=12+13, 17=15+16 | C4: ՀՀ քրեական օրենսգրքի հոդվածներ | D4: Հաշվետու ժամանակահատվածի սկզբում նախորդ հաշվետու ժամանակահատվածից փոխանցված գործերի ընդհանուր թիվը | E4: Այդ թվում` կասեցված վիճակում փոխանցված | F4: Հաշվետու ժամանակահատվածում ստացված գործերի ընդհանուր թիվը | G4: Հաշվետու ժամանակահատվածում ավարտված գործերի ընդհանուր թիվը | K4: Ուղարկվել է ըստ ընդդատության | L4: Հաշվետու ժամանակահատվածում կասեցված վարույթներով գործերի ընդհանուր թիվը | M4: Հաշվետու ժամանակահատվածում անավարտ գործերի ընդհանուր թիվը | N4: Այդ թվում՝ կասեցված | O4: Բողոքարկված դատական ակտերի թիվը` ըստ տեսակների | R4: Բեկանված դատական ակտերի թիվը` ըստ տեսակների
G5: Քննվել է ըստ էության և դատավճիռ կայացվել | H5: Որոշում է կայացվել քրեական գործի վարույթը կարճելու և քրեական հետապնդումը դադարեցնելու մասին | I5: Որոշում է կայացվել անմեղսունակների նկատմամբ բժշկական բնույթի հարկադրական միջոցներ կիրառելու մասին | J5: Ընդամենը ավարտվել են գործեր | O5: Այդ թվում` գործն ըստ էության լուծող դատական ակտերը | P5: Այդ թվում` միջանկյալ դատական ակտերը | Q5: Ընդամենը | R5: Այդ թվում` գործն ըստ էության լուծող դատական ակտերը | S5: Այդ թվում` միջանկյալ դատական ակտերը | T5: Ընդամենը
D6: 1 | E6: 2 | F6: 3 | G6: 4 | H6: 5 | I6: 6 | J6: 7 | K6: 8 | L6: 9 | M6: 10 | N6: 11 | O6: 12 | P6: 13 | Q6: 14 | R6: 15 | S6: 16 | T6: 17
A7: 1. | B7: Ընդամենը կյանքի և առողջության դեմ ուղղված հանցագործությունները | D7: =SUM(D8:D34) -> 15 | E7: =SUM(E8:E34) -> 0 | F7: =SUM(F8:F34) -> 16 | G7: =SUM(G8:G34) -> 10 | H7: =SUM(H8:H34) -> 3 | I7: =SUM(I8:I34) -> 1 | J7: =SUM(J8:J34) -> 14 | K7: =SUM(K8:K34) -> 0 | ... T7: =SUM(T8:T34) -> 0
A8: 1.1 | B8: Սպանությունը | C8: 104 | D8: 4 | F8: 1 | M8: 5
A9: 1.2 | B9: Հոգեկան խիստ հուզմունքի վիճակում կատարված սպանությունը | C9: 105
A10: 1.3 | B10: Մոր կողմից նորածին երեխայի սպանությունը | C10: 106
A11: 1.4 | B11: Հանցանք կատարած անձին բռնելու համար անհրաժեշտ միջոցների սահմանազանցմամբ սպանությունը | C11: 107
A12: 1.5 | B12: Անհրաժեշտ պաշտպանության սահմանազանցմամբ սպանությունը | C12: 108
A13: 1.6 | B13: Անզգուշությամբ մահ պատճառելը | C13: 109 | F13: 2 | M13: 2
A14: 1.7 | B14: Ինքնասպանության հասցնելը | C14: 110
A15: 1.8 | B15: Ինքնասպանության հակելը | C15: 111
A16: 1.9 | B16: Դիտավորությամբ առողջությանը ծանր վնաս պատճառելը | C16: 112 | D16: 6 | F16: 4 | G16: 5 | H16: 1 | J16: 6 | M16: 4 | O16: 2 | Q16: 2
A17: 1.10 | B17: Դիտավորությամբ առողջությանը միջին ծանրության վնաս պատճառելը | C17: 113 | D17: 1 | F17: 2 | H17: 2 | J17: 2 | M17: 1
A18: 1.11 | B18: Հոգեկան խիստ հուզմունքի վիճակում առողջությանը ծանր կամ միջին ծանրության վնաս պատճառելը | C18: 114
A19: 1.12 | B19: Հանցանք կատարած անձին բռնելու համար անհրաժեշտ միջոցների սահմանզանցմամբ առողջությանը ծանր կամ միջին ծանրության վնաս պատճառելը | C19: 115
A20: 1.13 | B20: Առողջությանը ծանր կամ միջին ծանրության վնաս պատճառելը անհրաժեշտ պաշտպանության սահմանանազանցմամբ | C20: 116 | D20: 1 | G20: 1 | J20: 1
A21: 1.14 | B21: Դիտավորությամբ առողջությանը թեթև վնաս պատճառելը | C21: 117 | D21: 1 | F21: 1 | I21: 1 | J21: 1 | M21: 1
A22: 1.15 | B22: Ծեծը | C22: 118 | F22: 5 | G22: 2 | J22: 2 | M22: 3 | O22: 1 | Q22: 1
A23: 1.16 | B23: Ֆիզիկական ուժեղ ցավ կամ հոգեկան ուժեղ տառապանք պատճառելը | C23: 119 | F23: 1 | G23: 1 | J23: 1 | O23: 1 | Q23: 1
A24: 1.17 | B24: Անզգուշությամբ առողջությանը ծանր վնաս պատճառելը | C24: 120
A25: 1.18 | B25: Անզգուշությամբ առողջությանը միջին ծանրության վնաս պատճառելը | C25: 121
A26: 1.19 | B26: Ապօրինի աբորտ կատարելը | C26: 122
A27: 1.20 | B27: Մարդու իմունային անբավարարության վիրուսի հարուցիչով վարակելը | C27: 123
A28: 1.21 | B28: Վեներական հիվանդությամբ կամ այլ սեռավարակներով վարակելը | C28: 124
A29: 1.22 | B29: Փոխպատվաստման վիրահատություն կատարելու կանոնները խախտելը | C29: 125
A30: 1.24 | B30: Անձին առանց իր հանձնարարության բժշկական կամ գիտական փորձերի ենթարկելը | C30: 127
A31: 1.25 | B31: Վտանգի մեջ թողնելը | C31: 128
A32: 1.26 | B32: Հիվանդին օգնություն ցույց չտալը | C32: 129
A33: 1.27 | B33: Բժշկական օգնություն և սպասարկում իրականացնողների կողմից մասնագիտական պարտականությունները չկատարելը կամ ոչ պատշաճ կատարելը | C33: 130 | D33: 1 | M33: 1
A34: 1.28 | B34: Այլ հանցագործություններ | D34: 1 | G34: 1 | J34: 1
A35: 2. | B35: Ընդամենը անձի ազատության, պատվի և արժանապատվության դեմ ուղղված հանցագործությունները | D35: =SUM(D36:D43) -> 0 | E35: =SUM(E36:E43) -> 0 | F35: =SUM(F36:F43) -> 1 | G35: =SUM(G36:G43) -> 0 | H35: =SUM(H36:H43) -> 0 | I35: =SUM(I36:I43) -> 0 | J35: =SUM(J36:J43) -> 0 | K35: =SUM(K36:K43) -> 0 | ... T35: =SUM(T36:T43) -> 0
A36: 2.1 | B36: Մարդուն առևանգելը | C36: 131 | F36: 1 | M36: 1
A37: 2.2 | B37: Մարդու թրաֆիքինգը կամ շահագործումը | C37: 132
A38: 2.2.2 | B38: Երեխայի կամ հոգեկան խանգարման հետևանքով իր արարքի բնույթն ու նշանակությունը գիտակցելու կամ դա ղեկավարելու հնարավորությունից զրկված անձի թրաֆիքինգը կամ շահագործումը | C38: 132.2
A39: 2.2.3 | B39: Շահագործման վիճակում գտնվող անձի ծառայությունից օգտվելը | C39: 132.3
A40: 2.3 | B40: Ազատությունից ապօրինի զրկելը | C40: 133
A41: 2.4 | B41: Հոգեբուժական հիվանդանոցում ապօրինի տեղավորելը կամ պահելը | C41: 134
A42: 2.7 | B42: Սպանության, առողջությանը ծանր վնաս պատճառելու կամ գույք ոչնչացնելու սպառնալիքը | C42: 137
A43: 2.8 | B43: Այլ հանցագործություններ
A44: 3. | B44: Ընդամենը սեռական անձեռնմխելիության և սեռական ազատության դեմ ուղղված հանցագործությունները | D44: =SUM(D45:D50) -> 2 | E44: =SUM(E45:E50) -> 1 | F44: =SUM(F45:F50) -> 5 | G44: =SUM(G45:G50) -> 2 | H44: =SUM(H45:H50) -> 1 | I44: =SUM(I45:I50) -> 0 | J44: =SUM(J45:J50) -> 3 | K44: =SUM(K45:K50) -> 0 | ... T44: =SUM(T45:T50) -> 0
A45: 3.1 | B45: Բռնաբարությունը | C45: 138 | D45: 1 | F45: 2 | G45: 1 | J45: 1 | M45: 2 | O45: 2 | Q45: 2
A46: 3.2 | B46: Սեքսուալ բնույթի բռնի գործողությունները | C46: 139 | D46: 1 | E46: 1 | M46: 1 | N46: 1
A47: 3.3 | B47: Սեռական հարաբերության կամ սեքսուալ բնույթի գործողություններին հարկադրելը | C47: 140
A48: 3.4 | B48: Սեռական հարաբերությունը տասնվեց տարին չլրացած անձի հետ կամ սեքսուալ բնույթի գործողություններ կատարելը տասնվեց տարին չլրացած անձի նկատմամբ | C48: 141 | F48: 3 | G48: 1 | H48: 1 | J48: 2 | M48: 1
A49: 3.5 | B49: Անառակաբարո գործողությունները | C49: 142
A50: 3.6 | B50: Այլ հանցագործություններ
A51: 4. | B51: Ընդամենը մարդու և քաղաքացու սահմանադրական իրավունքների և ազատությունների դեմ ուղղված հանցագործությունները | D51: =SUM(D52:D80) -> 0 | E51: =SUM(E52:E80) -> 0 | F51: =SUM(F52:F80) -> 3 | G51: =SUM(G52:G80) -> 0 | H51: =SUM(H52:H80) -> 0 | I51: =SUM(I52:I80) -> 0 | J51: =SUM(J52:J80) -> 0 | K51: =SUM(K52:K80) -> 0 | ... T51: =SUM(T52:T80) -> 0
A52: 4.1 | B52: Մարդու և քաղաքացու իրավահավասարությունը խախտելը | C52: 143
A53: 4.2 | B53: Անձնական կամ ընտանեկան կյանքի մասին տեղեկություններ ապօրինի հավաքելը, պահելը, օգտագործելը կամ տարածելը | C53: 144
A54: 4.3 | B54: Բժշկական գաղտնիքը հրապարակելը | C54: 145
A55: 4.4 | B55: Նամակագրության, հեռախոսային խոսակցությունների, փոստային, հեռագրական կամ այլ հաղորդումների գաղտնիությունը խախտելը | C55: 146
A56: 4.5 | B56: Բնակարանի անձեռնմխելիությունը խախտելը | C56: 147 | F56: 2 | M56: 2
A57: 4.6 | B57: Անձին տեղեկություն ներկայացնելուց հրաժարվելը | C57: 148
A58: 4.7 | B58: Ընտրական իրավունքի իրականացմանը, ընտրական հանձնաժողովների աշխատանքներին կամ ընտրությանը մասնակցող անձանց լիազորությունների իրականացմանը խոչընդոտելը | C58: 149
A59: 4.8 | B59: Ընտրությունների կամ քվեարկության արդյունքները կեղծելը | C59: 150
A60: 4.10 | B60: Ընտրողների ցուցակները կազմելու, դրանք քաղաքացիներին և կուսակցություններին տրամադրելու կամ հրապարակելու կարգը խախտելը | C60: 152
A61: 4.11 | B61: Մեկից ավելի անգամ կամ այլ անձի փոխարեն քվեարկելը | C61: 153
A62: 4.12 | B62: Քվեարկության գաղտնիությունը խախտելը | C62: 154
A63: 4.13 | B63: Կեղծ ընտրական քվեաթերթիկներ կամ քվեարկության ծրարներ, դրոշմանիշեր, կտրոններ պատրաստելը կամ ակնհայտ կեղծ ընտրական քվեաթերթիկներ կամ քվեարկության ծրարներ, դրոշմանիշեր, կտրոններ հանձնելը կամ իրացնելը | C63: 154.1
A64: 4.14 | B64: Ընտրողի կողմից թեկնածուներից, կուսակցություններից (կուսակցությունների դաշինքներից), հանրաքվեի քարոզչական նախաձեռնություններից կաշառք ստանալը կամ թեկնածուների, կուսակցությունների (կուսակցությունների դաշինքների), հանրաքվեի քարոզչական նախաձեռնությունների կողմից ընտրողներին կաշառք տալը կամ ընտրողի ազատ կամքի իրականացմանը խոչընդոտելը | C64: 154.2
A65: 4.16 | B65: Զենքով՝ տեղամասային կենտրոն մուտք գործելը | C65: 154.4
A66: 4.17 | B66: Վստահված անձին,ընտրական հանձնաժողովի անդամին,դիտորդին կամ զանգվածային լրատվության միջոցի ներկայացուցչին ընտրական փաստաթղթերին ծանոթանալուն խոչընդոտելը, ընտրական հանձնաժողովի արձանագրությունների պատճեններ չտալը | C66: 154.5
A67: 4.17.1 | B67: Ընտրական հանձնաժողովի նախագահի լիազորությունները չկատարելը կամ ոչ պատշաճ կատարելը | C67: 154.6
A68: 4.17.2 | B68: Քվեատուփը, ընտրողների ստորագրած ցուցակը, տեղամասային ընտրական հանձնաժողովի գրանցամատյանը, հանձնաժողովի կնիքը, տեղամասային ընտրական հանձնաժողովի անդամի անհատական կնիքը, ինքնասոսնձվող դրոշմանիշը, ընտրողի վերաբերյալ տվյալներ պարունակող քվեարկության կտրոնը կամ համարակալված կտրոնը, ընտրողների էլեկտրոնային գրանցման տեխնիկական սարքավորումը, կառավարության կողմից ընտրված մասնագիտացված կազմակերպության կողմից տեղադրված տեսախցիկը, ընտրական փաստաթղթերի մեկանգամյա օգտագործման պարկը կամ ընտրական փաստաթղթերի փաթեթը հափշտակելը | C68: 154.7
... A71: 4.19 | B71: Հղի կնոջը կամ մինչև երեք տարեկան երեխա ունեցող անձին աշխատանքի ընդունելոււց հրաժարվելը կամ աշխատանքից անհիմն ազատելը | C71: 156
A72: 4.20 | B72: Աշխատանքի պաշտպանության կանոնները խախտելը | C72: 157 | F72: 1 | M72: 1
A73: 4.21 | B73: Հեղինակային և հարակից իրավունքները խախտելը | C73: 158
A74: 4.22 | B74: Արտոնագրային իրավունքը խախտելը | C74: 159
A75: 4.23 | B75: Խղճի կամ դավանանքի ազատության իրավունքի իրականացմանը խոչընդոտելը | C75: 160
A76: 4.24 | B76: Միավորումներ (հասարակական կամ արհեստակցական միություններ) կազմելու կամ կուսակցություններ ստեղծելու իրավունքի իրականացմանը կամ դրանց գործողությանը խոչընդոտելը | C76: 161
A77: 4.25 | B77: Անձանց իրավունքների կամ անձի դեմ ոտնձգող միավորումներ կազմելը կամ ղեկավարելը | C77: 162
A78: 4.26 | B78: Հավաքներ անցկացնելուն կամ դրանց մասնակցելուն խոչընդոտելը | C78: 163
A79: 4.27 | B79: Լրագրողի մասնագիտական օրինական գործողությանը խոչընդոտելը | C79: 164
A80: 4.28 | B80: Այլ հանցագործություններ
A81: 5. | B81: Ընդամենը ընտանիքի և երեխայի շահերի դեմ ուղղված հանցագործությունները | D81: =SUM(D82:D95) -> 0 | E81: =SUM(E82:E95) -> 0 | F81: =SUM(F82:F95) -> 0 | G81: =SUM(G82:G95) -> 0 | H81: =SUM(H82:H95) -> 0 | I81: =SUM(I82:I95) -> 0 | J81: =SUM(J82:J95) -> 0 | K81: =SUM(K82:K95) -> 0 | ... T81: =SUM(T82:T95) -> 0
A82: 5.1 | B82: Անչափահասին հանցանքի կատարմանը ներգրավելը | C82: 165
A83: 5.2 | B83: Երեխային պոռնկության կամ պոռնկագրական բնույթի նյութեր կամ առարկաներ պատրաստելու հետ կապված գործողություններ կատարելուն ներգրավելը | C83: 166
A84: 5.2.1 | B84: Երեխային ոգելից խմիչքների օգտագործմանը, ուժեղ ներգործող կամ այլ թմրեցնող նյութերի ոչ բժշկական օգտագործմանը, թափառաշրջիկությանը ներգրավելը կամ մուրացկանության հետ կապված գործողություններ կատարելուն ներգրավելը | C84: 166.1
A85: 5.3 | B85: Ծնողներից երեխային ապօրինի բաժանելը կամ երեխային փոխելը | C85: 167
A86: 5.4 | B86: Խնամքը ստանձնելու նպատակով երեխայի առքը կամ ստանձնողի խնամքին հանձնելու նպատակով երեխայի վաճառքը | C86: 168
A87: 5.5 | B87: Որդեգրման գաղտնիքը հրապարակելը կամ որդեգրման համաձայնություն տալուն հակելը կամ հարկադրելը | C87: 169
A88: 5.6 | B88: Քաղաքացիական կացության ակտերի գրանցման մարմիններին սուտ տեղեկություններ հաղորդելը | C88: 169.1
A89: 5.7 | B89: Երեխային դաստիարակելու պարտականությունը չկատարելը | C89: 170
A90: 5.8 | B90: Երեխայի կյանքի անվտանգության ապահովման կամ առողջության պահպանման պարտականությունը չկատարելը կամ ոչ պատշաճ կատարելը | C90: 171
A91: 5.8.1 | B91: Վերարտադրողականության օժանդակ տեխնոլոգիաներից օգտվելու կանոնները խախտելը | C91: 171.1
A92: 5.9 | B92: Խնամակալի կամ հոգաբարձուի իրավունքները չարաշահելը | C92: 172
A93: 5.10 | B93: Ծնողի կողմից երեխային պահելուց չարամտորեն խուսափելը | C93: 173
A94: 5.11 | B94: Զավակի կողմից անաշխատունակ ծնողին պահելուց չարամտորեն խուսափելը | C94: 174
A95: 5.12 | B95: Այլ հանցագործություններ
A96: 6. | B96: Ընդամենը սեփականության դեմ ուղղված հանցագործությունները | D96: =SUM(D97:D111) -> 21 | E96: =SUM(E97:E111) -> 1 | F96: =SUM(F97:F111) -> 35 | G96: =SUM(G97:G111) -> 24 | H96: =SUM(H97:H111) -> 1 | I96: =SUM(I97:I111) -> 0 | J96: =SUM(J97:J111) -> 25 | K96: =SUM(K97:K111) -> 1 | ... T96: =SUM(T97:T111) -> 1
A97: 6.1 | B97: Ավազակությունը | C97: 175 | F97: 2 | G97: 1 | J97: 1 | M97: 1
A98: 6.2 | B98: Կողոպուտը | C98: 176 | O98: 1 | Q98: 1
A99: 6.3 | B99: Գողությունը | C99: 177 | D99: 10 | F99: 23 | G99: 13 | H99: 1 | J99: 14 | M99: 19 | O99: 5 | Q99: 5 | R99: 1 | T99: 1
A100: 6.4 | B100: Խարդախությունը | C100: 178 | D100: 7 | E100: 1 | F100: 5 | G100: 7 | J100: 7 | K100: 1 | M100: 3 | O100: 5 | Q100: 5
A101: 6.5 | B101: Յուրացնելը կամ վատնելը | C101: 179 | D101: 2 | F101: 3 | G101: 1 | J101: 1 | M101: 4
A102: 6.6 | B102: Առանձնակի արժեք ունեցող առարկաներ հափշտակելը | C102: 180
...

Sheet Արմավիր
A1: 2019թ. տարեկան | D1: ՀԱՇՎԵՏՎՈՒԹՅՈՒՆ
A2: ՀՀ ԱՐՄԱՎԻՐԻ ՄԱՐԶԻ ԱՌԱՋԻՆ ԱՏՅԱՆԻ ԸՆԴՀԱՆՈՒՐ ԻՐԱՎԱՍՈՒԹՅԱՆ ԴԱՏԱՐԱՆՈՒՄ ՔՐԵԱԿԱՆ ԳՈՐԾԵՐԻ ՔՆՆՈՒԹՅԱՆ ՎԵՐԱԲԵՐՅԱԼ
A3: ՀՀ Արմավիրի մարզի առաջին ատյանի ընդհանուր իրավասության դատարանում քրեական մասնագիտացում ունեցող դատավորների հաստիքների քանակը` 4
A4: Ստուգիչ հավասարումներ` 1+3=7+8+10, 7=4+5+6, 14=12+13, 17=15+16 | C4: ՀՀ քրեական օրենսգրքի հոդվածներ | D4: Հաշվետու ժամանակահատվածի սկզբում նախորդ հաշվետու ժամանակահատվածից փոխանցված գործերի ընդհանուր թիվը | E4: Այդ թվում` կասեցված վիճակում փոխանցված | F4: Հաշվետու ժամանակահատվածում ստացված գործերի ընդհանուր թիվը | G4: Հաշվետու ժամանակահատվածում ավարտված գործերի ընդհանուր թիվը | K4: Ուղարկվել է ըստ ընդդատության | L4: Հաշվետու ժամանակահատվածում կասեցված վարույթներով գործերի ընդհանուր թիվը | M4: Հաշվետու ժամանակահատվածում անավարտ գործերի ընդհանուր թիվը | N4: Այդ թվում՝ կասեցված | O4: Բողոքարկված դատական ակտերի թիվը` ըստ տեսակների | R4: Բեկանված դատական ակտերի թիվը` ըստ տեսակների
G5: Քննվել է ըստ էության և դատավճիռ կայացվել | H5: Որոշում է կայացվել քրեական գործի վարույթը կարճելու և քրեական հետապնդումը դադարեցնելու մասին | I5: Որոշում է կայացվել անմեղսունակների նկատմամբ բժշկական բնույթի հարկադրական միջոցներ կիրառելու մասին | J5: Ընդամենը ավարտվել են գործեր | O5: Այդ թվում` գործն ըստ էության լուծող դատական ակտերը | P5: Այդ թվում` միջանկյալ դատական ակտերը | Q5: Ընդամենը | R5: Այդ թվում` գործն ըստ էության լուծող դատական ակտերը | S5: Այդ թվում` միջանկյալ դատական ակտերը | T5: Ընդամենը
D6: 1 | E6: 2 | F6: 3 | G6: 4 | H6: 5 | I6: 6 | J6: 7 | K6: 8 | L6: 9 | M6: 10 | N6: 11 | O6: 12 | P6: 13 | Q6: 14 | R6: 15 | S6: 16 | T6: 17
A7: 1. | B7: Ընդամենը կյանքի և առողջության դեմ ուղղված հանցագործությունները | D7: =SUM(D8:D34) -> 29 | E7: =SUM(E8:E34) -> 1 | F7: =SUM(F8:F34) -> 41 | G7: =SUM(G8:G34) -> 24 | H7: =SUM(H8:H34) -> 13 | I7: =SUM(I8:I34) -> 5 | J7: =SUM(J8:J34) -> 42 | K7: =SUM(K8:K34) -> 0 | ... T7: =SUM(T8:T34) -> 0
A8: 1.1 | B8: Սպանությունը | C8: 104 | D8: 8 | F8: 3 | G8: 4 | J8: 4 | M8: 7 | O8: 4 | P8: 3 | Q8: 7
A9: 1.2 | B9: Հոգեկան խիստ հուզմունքի վիճակում կատարված սպանությունը | C9: 105 | D9: 1 | G9: 1 | J9: 1 | O9: 1 | Q9: 1
A10: 1.3 | B10: Մոր կողմից նորածին երեխայի սպանությունը | C10: 106 | D10: 1 | H10: 1 | J10: 1
A11: 1.4 | B11: Հանցանք կատարած անձին բռնելու համար անհրաժեշտ միջոցների սահմանազանցմամբ սպանությունը | C11: 107
A12: 1.5 | B12: Անհրաժեշտ պաշտպանության սահմանազանցմամբ սպանությունը | C12: 108
A13: 1.6 | B13: Անզգուշությամբ մահ պատճառելը | C13: 109
A14: 1.7 | B14: Ինքնասպանության հասցնելը | C14: 110
A15: 1.8 | B15: Ինքնասպանության հակելը | C15: 111
A16: 1.9 | B16: Դիտավորությամբ առողջությանը ծանր վնաս պատճառելը | C16: 112 | D16: 6 | F16: 9 | G16: 8 | H16: 1 | I16: 1 | J16: 10 | M16: 5 | O16: 3 | Q16: 3
A17: 1.10 | B17: Դիտավորությամբ առողջությանը միջին ծանրության վնաս պատճառելը | C17: 113 | D17: 3 | E17: 1 | F17: 2 | G17: 4 | J17: 4 | M17: 1 | O17: 2 | Q17: 2
A18: 1.11 | B18: Հոգեկան խիստ հուզմունքի վիճակում առողջությանը ծանր կամ միջին ծանրության վնաս պատճառելը | C18: 114
A19: 1.12 | B19: Հանցանք կատարած անձին բռնելու համար անհրաժեշտ միջոցների սահմանզանցմամբ առողջությանը ծանր կամ միջին ծանրության վնաս պատճառելը | C19: 115
A20: 1.13 | B20: Առողջությանը ծանր կամ միջին ծանրության վնաս պատճառելը անհրաժեշտ պաշտպանության սահմանանազանցմամբ | C20: 116
A21: 1.14 | B21: Դիտավորությամբ առողջությանը թեթև վնաս պատճառելը | C21: 117 | D21: 3 | F21: 5 | G21: 2 | H21: 2 | I21: 2 | J21: 6 | M21: 2
A22: 1.15 | B22: Ծեծը | C22: 118 | D22: 6 | F22: 19 | G22: 5 | H22: 9 | I22: 2 | J22: 16 | M22: 9 | O22: 4 | Q22: 4
A23: 1.16 | B23: Ֆիզիկական ուժեղ ցավ կամ հոգեկան ուժեղ տառապանք պատճառելը | C23: 119 | F23: 1 | M23: 1
A24: 1.17 | B24: Անզգուշությամբ առողջությանը ծանր վնաս պատճառելը | C24: 120
A25: 1.18 | B25: Անզգուշությամբ առողջությանը միջին ծանրության վնաս պատճառելը | C25: 121
A26: 1.19 | B26: Ապօրինի աբորտ կատարելը | C26: 122
A27: 1.20 | B27: Մարդու իմունային անբավարարության վիրուսի հարուցիչով վարակելը | C27: 123
A28: 1.21 | B28: Վեներական հիվանդությամբ կամ այլ սեռավարակներով վարակելը | C28: 124
A29: 1.22 | B29: Փոխպատվաստման վիրահատություն կատարելու կանոնները խախտելը | C29: 125
A30: 1.24 | B30: Անձին առանց իր հանձնարարության բժշկական կամ գիտական փորձերի ենթարկելը | C30: 127
A31: 1.25 | B31: Վտանգի մեջ թողնելը | C31: 128
A32: 1.26 | B32: Հիվանդին օգնություն ցույց չտալը | C32: 129
A33: 1.27 | B33: Բժշկական օգնություն և սպասարկում իրականացնողների կողմից մասնագիտական պարտականությունները չկատարելը կամ ոչ պատշաճ կատարելը | C33: 130 | D33: 1 | F33: 2 | M33: 3
A34: 1.28 | B34: Այլ հանցագործություններ
A35: 2. | B35: Ընդամենը անձի ազատության, պատվի և արժանապատվության դեմ ուղղված հանցագործությունները | D35: =SUM(D36:D43) -> 2 | E35: =SUM(E36:E43) -> 0 | F35: =SUM(F36:F43) -> 6 | G35: =SUM(G36:G43) -> 3 | H35: =SUM(H36:H43) -> 0 | I35: =SUM(I36:I43) -> 0 | J35: =SUM(J36:J43) -> 3 | K35: =SUM(K36:K43) -> 0 | ... T35: =SUM(T36:T43) -> 0
A36: 2.1 | B36: Մարդուն առևանգելը | C36: 131 | D36: 1 | F36: 3 | G36: 2 | J36: 2 | M36: 2
A37: 2.2 | B37: Մարդու թրաֆիքինգը կամ շահագործումը | C37: 132
A38: 2.2.2 | B38: Երեխայի կամ հոգեկան խանգարման հետևանքով իր արարքի բնույթն ու նշանակությունը գիտակցելու կամ դա ղեկավարելու հնարավորությունից զրկված անձի թրաֆիքինգը կամ շահագործումը | C38: 132.2 | D38: 1 | M38: 1
A39: 2.2.3 | B39: Շահագործման վիճակում գտնվող անձի ծառայությունից օգտվելը | C39: 132.3
A40: 2.3 | B40: Ազատությունից ապօրինի զրկելը | C40: 133 | F40: 1 | M40: 1
A41: 2.4 | B41: Հոգեբուժական հիվանդանոցում ապօրինի տեղավորելը կամ պահելը | C41: 134
A42: 2.7 | B42: Սպանության, առողջությանը ծանր վնաս պատճառելու կամ գույք ոչնչացնելու սպառնալիքը | C42: 137 | F42: 2 | G42: 1 | J42: 1 | M42: 1
A43: 2.8 | B43: Այլ հանցագործություններ
A44: 3. | B44: Ընդամենը սեռական անձեռնմխելիության և սեռական ազատության դեմ ուղղված հանցագործությունները | D44: =SUM(D45:D50) -> 5 | E44: =SUM(E45:E50) -> 0 | F44: =SUM(F45:F50) -> 3 | G44: =SUM(G45:G50) -> 2 | H44: =SUM(H45:H50) -> 0 | I44: =SUM(I45:I50) -> 0 | J44: =SUM(J45:J50) -> 2 | K44: =SUM(K45:K50) -> 0 | ... T44: =SUM(T45:T50) -> 0
A45: 3.1 | B45: Բռնաբարությունը | C45: 138
A46: 3.2 | B46: Սեքսուալ բնույթի բռնի գործողությունները | C46: 139 | D46: 2 | F46: 1 | G46: 1 | J46: 1 | M46: 2 | O46: 1 | Q46: 1
A47: 3.3 | B47: Սեռական հարաբերության կամ սեքսուալ բնույթի գործողություններին հարկադրելը | C47: 140
A48: 3.4 | B48: Սեռական հարաբերությունը տասնվեց տարին չլրացած անձի հետ կամ սեքսուալ բնույթի գործողություններ կատարելը տասնվեց տարին չլրացած անձի նկատմամբ | C48: 141 | D48: 2 | F48: 2 | G48: 1 | J48: 1 | M48: 3
A49: 3.5 | B49: Անառակաբարո գործողությունները | C49: 142 | D49: 1 | M49: 1
A50: 3.6 | B50: Այլ հանցագործություններ
A51: 4. | B51: Ընդամենը մարդու և քաղաքացու սահմանադրական իրավունքների և ազատությունների դեմ ուղղված հանցագործությունները | D51: =SUM(D52:D80) -> 0 | E51: =SUM(E52:E80) -> 0 | F51: =SUM(F52:F80) -> 5 | G51: =SUM(G52:G80) -> 2 | H51: =SUM(H52:H80) -> 0 | I51: =SUM(I52:I80) -> 0 | J51: =SUM(J52:J80) -> 2 | K51: =SUM(K52:K80) -> 0 | ... T51: =SUM(T52:T80) -> 0
A52: 4.1 | B52: Մարդու և քաղաքացու իրավահավասարությունը խախտելը | C52: 143
A53: 4.2 | B53: Անձնական կամ ընտանեկան կյանքի մասին տեղեկություններ ապօրինի հավաքելը, պահելը, օգտագործելը կամ տարածելը | C53: 144 | F53: 1 | M53: 1
A54: 4.3 | B54: Բժշկական գաղտնիքը հրապարակելը | C54: 145
A55: 4.4 | B55: Նամակագրության, հեռախոսային խոսակցությունների, փոստային, հեռագրական կամ այլ հաղորդումների գաղտնիությունը խախտելը | C55: 146
A56: 4.5 | B56: Բնակարանի անձեռնմխելիությունը խախտելը | C56: 147 | F56: 3 | G56: 2 | J56: 2 | M56: 1
A57: 4.6 | B57: Անձին տեղեկություն ներկայացնելուց հրաժարվելը | C57: 148
A58: 4.7 | B58: Ընտրական իրավունքի իրականացմանը, ընտրական հանձնաժողովների աշխատանքներին կամ ընտրությանը մասնակցող անձանց լիազորությունների իրականացմանը խոչընդոտելը | C58: 149
A59: 4.8 | B59: Ընտրությունների կամ քվեարկության արդյունքները կեղծելը | C59: 150
A60: 4.10 | B60: Ընտրողների ցուցակները կազմելու, դրանք քաղաքացիներին և կուսակցություններին տրամադրելու կամ հրապարակելու կարգը խախտելը | C60: 152
A61: 4.11 | B61: Մեկից ավելի անգամ կամ այլ անձի փոխարեն քվեարկելը | C61: 153
A62: 4.12 | B62: Քվեարկության գաղտնիությունը խախտելը | C62: 154
A63: 4.13 | B63: Կեղծ ընտրական քվեաթերթիկներ կամ քվեարկության ծրարներ, դրոշմանիշեր, կտրոններ պատրաստելը կամ ակնհայտ կեղծ ընտրական քվեաթերթիկներ կամ քվեարկության ծրարներ, դրոշմանիշեր, կտրոններ հանձնելը կամ իրացնելը | C63: 154.1
A64: 4.14 | B64: Ընտրողի կողմից թեկնածուներից, կուսակցություններից (կուսակցությունների դաշինքներից), հանրաքվեի քարոզչական նախաձեռնություններից կաշառք ստանալը կամ թեկնածուների, կուսակցությունների (կուսակցությունների դաշինքների), հանրաքվեի քարոզչական նախաձեռնությունների կողմից ընտրողներին կաշառք տալը կամ ընտրողի ազատ կամքի իրականացմանը խոչընդոտելը | C64: 154.2 | F64: 1 | M64: 1
A65: 4.16 | B65: Զենքով՝ տեղամասային կենտրոն մուտք գործելը | C65: 154.4
A66: 4.17 | B66: Վստահված անձին,ընտրական հանձնաժողովի անդամին,դիտորդին կամ զանգվածային լրատվության միջոցի ներկայացուցչին ընտրական փաստաթղթերին ծանոթանալուն խոչընդոտելը, ընտրական հանձնաժողովի արձանագրությունների պատճեններ չտալը | C66: 154.5
A67: 4.17.1 | B67: Ընտրական հանձնաժողովի նախագահի լիազորությունները չկատարելը կամ ոչ պատշաճ կատարելը | C67: 154.6
A68: 4.17.2 | B68: Քվեատուփը, ընտրողների ստորագրած ցուցակը, տեղամասային ընտրական հանձնաժողովի գրանցամատյանը, հանձնաժողովի կնիքը, տեղամասային ընտրական հանձնաժողովի անդամի անհատական կնիքը, ինքնասոսնձվող դրոշմանիշը, ընտրողի վերաբերյալ տվյալներ պարունակող քվեարկության կտրոնը կամ համարակալված կտրոնը, ընտրողների էլեկտրոնային գրանցման տեխնիկական սարքավորումը, կառավարության կողմից ընտրված մասնագիտացված կազմակերպության կողմից տեղադրված տեսախցիկը, ընտրական փաստաթղթերի մեկանգամյա օգտագործման պարկը կամ ընտրական փաստաթղթերի փաթեթը հափշտակելը | C68: 154.7
A69: 4.17.3 | B69: Այլ անձի փոխարեն քվեարկելու վերաբերյալ սուտ հայտարարություն տալը կամ կեղծ ստորագրությամբ հայտարարություն դիմումին կից ներկայացնելը | C69: 154.8
A70: 4.18 | B70: Գործադուլի մասնակցելուն կամ գործադուլի մասնակցելուց հրաժարվելուն հարկադրելը | C70: 155
A71: 4.19 | B71: Հղի կնոջը կամ մինչև երեք տարեկան երեխա ունեցող անձին աշխատանքի ընդունելոււց հրաժարվելը կամ աշխատանքից անհիմն ազատելը | C71: 156
A72: 4.20 | B72: Աշխատանքի պաշտպանության կանոնները խախտելը | C72: 157
A73: 4.21 | B73: Հեղինակային և հարակից իրավունքները խախտելը | C73: 158
A74: 4.22 | B74: Արտոնագրային իրավունքը խախտելը | C74: 159
A75: 4.23 | B75: Խղճի կամ դավանանքի ազատության իրավունքի իրականացմանը խոչընդոտելը | C75: 160
A76: 4.24 | B76: Միավորումներ (հասարակական կամ արհեստակցական միություններ) կազմելու կամ կուսակցություններ ստեղծելու իրավունքի իրականացմանը կամ դրանց գործողությանը խոչընդոտելը | C76: 161
... A79: 4.27 | B79: Լրագրողի մասնագիտական օրինական գործողությանը խոչընդոտելը | C79: 164
A80: 4.28 | B80: Այլ հանցագործություններ
A81: 5. | B81: Ընդամենը ընտանիքի և երեխայի շահերի դեմ ուղղված հանցագործությունները | D81: =SUM(D82:D95) -> 0 | E81: =SUM(E82:E95) -> 0 | F81: =SUM(F82:F95) -> 3 | G81: =SUM(G82:G95) -> 2 | H81: =SUM(H82:H95) -> 0 | I81: =SUM(I82:I95) -> 0 | J81: =SUM(J82:J95) -> 2 | K81: =SUM(K82:K95) -> 0 | ... T81: =SUM(T82:T95) -> 0
A82: 5.1 | B82: Անչափահասին հանցանքի կատարմանը ներգրավելը | C82: 165
A83: 5.2 | B83: Երեխային պոռնկության կամ պոռնկագրական բնույթի նյութեր կամ առարկաներ պատրաստելու հետ կապված գործողություններ կատարելուն ներգրավելը | C83: 166
A84: 5.2.1 | B84: Երեխային ոգելից խմիչքների օգտագործմանը, ուժեղ ներգործող կամ այլ թմրեցնող նյութերի ոչ բժշկական օգտագործմանը, թափառաշրջիկությանը ներգրավելը կամ մուրացկանության հետ կապված գործողություններ կատարելուն ներգրավելը | C84: 166.1
A85: 5.3 | B85: Ծնողներից երեխային ապօրինի բաժանելը կամ երեխային փոխելը | C85: 167 | F85: 1 | G85: 1 | J85: 1
A86: 5.4 | B86: Խնամքը ստանձնելու նպատակով երեխայի առքը կամ ստանձնողի խնամքին հանձնելու նպատակով երեխայի վաճառքը | C86: 168
A87: 5.5 | B87: Որդեգրման գաղտնիքը հրապարակելը կամ որդեգրման համաձայնություն տալուն հակելը կամ հարկադրելը | C87: 169
A88: 5.6 | B88: Քաղաքացիական կացության ակտերի գրանցման մարմիններին սուտ տեղեկություններ հաղորդելը | C88: 169.1
A89: 5.7 | B89: Երեխային դաստիարակելու պարտականությունը չկատարելը | C89: 170
A90: 5.8 | B90: Երեխայի կյանքի անվտանգության ապահովման կամ առողջության պահպանման պարտականությունը չկատարելը կամ ոչ պատշաճ կատարելը | C90: 171
A91: 5.8.1 | B91: Վերարտադրողականության օժանդակ տեխնոլոգիաներից օգտվելու կանոնները խախտելը | C91: 171.1
A92: 5.9 | B92: Խնամակալի կամ հոգաբարձուի իրավունքները չարաշահելը | C92: 172
A93: 5.10 | B93: Ծնողի կողմից երեխային պահելուց չարամտորեն խուսափելը | C93: 173 | F93: 2 | G93: 1 | J93: 1 | M93: 1
A94: 5.11 | B94: Զավակի կողմից անաշխատունակ ծնողին պահելուց չարամտորեն խուսափելը | C94: 174
A95: 5.12 | B95: Այլ հանցագործություններ
A96: 6. | B96: Ընդամենը սեփականության դեմ ուղղված հանցագործությունները | D96: =SUM(D97:D111) -> 38 | E96: =SUM(E97:E111) -> 1 | F96: =SUM(F97:F111) -> 74 | G96: =SUM(G97:G111) -> 50 | H96: =SUM(H97:H111) -> 7 | I96: =SUM(I97:I111) -> 0 | J96: =SUM(J97:J111) -> 57 | K96: =SUM(K97:K111) -> 1 | ... T96: =SUM(T97:T111) -> 0
A97: 6.1 | B97: Ավազակությունը | C97: 175 | D97: 1 | F97: 2 | K97: 1 | M97: 2 | O97: 1 | Q97: 1
A98: 6.2 | B98: Կողոպուտը | C98: 176 | D98: 3 | F98: 1 | G98: 3 | J98: 3
A99: 6.3 | B99: Գողությունը | C99: 177 | D99: 23 | E99: 1 | F99: 44 | G99: 30 | H99: 4 | J99: 34 | M99: 32 | O99: 10 | Q99: 10
A100: 6.4 | B100: Խարդախությունը | C100: 178 | D100: 7 | F100: 6 | G100: 4 | H100: 1 | J100: 5 | M100: 8
A101: 6.5 | B101: Յուրացնելը կամ վատնելը | C101: 179 | D101: 1 | F101: 15 | G101: 10 | H101: 1 | J101: 11 | M101: 5 | O101: 2 | Q101: 2
A102: 6.6 | B102: Առանձնակի արժեք ունեցող առարկաներ հափշտակելը | C102: 180
...

Sheet Կոտայք
A1: 2019թ. տարեկան | D1: ՀԱՇՎԵՏՎՈՒԹՅՈՒՆ
A2: ՀՀ ԿՈՏԱՅՔԻ ՄԱՐԶԻ ԱՌԱՋԻՆ ԱՏՅԱՆԻ ԸՆԴՀԱՆՈՒՐ ԻՐԱՎԱՍՈՒԹՅԱՆ ԴԱՏԱՐԱՆՈՒՄ ՔՐԵԱԿԱՆ ԳՈՐԾԵՐԻ ՔՆՆՈՒԹՅԱՆ ՎԵՐԱԲԵՐՅԱԼ
A3: ՀՀ Կոտայքի մարզի առաջին ատյանի ընդհանուր իրավասության դատարանում քրեական մասնագիտացում ունեցող դատավորների հաստիքների քանակը` 4
A4: Ստուգիչ հավասարումներ` 1+3=7+8+10, 7=4+5+6, 14=12+13, 17=15+16 | C4: ՀՀ քրեական օրենսգրքի հոդվածներ | D4: Հաշվետու ժամանակահատվածի սկզբում նախորդ հաշվետու ժամանակահատվածից փոխանցված գործերի ընդհանուր թիվը | E4: Այդ թվում` կասեցված վիճակում փոխանցված | F4: Հաշվետու ժամանակահատվածում ստացված գործերի ընդհանուր թիվը | G4: Հաշվետու ժամանակահատվածում ավարտված գործերի ընդհանուր թիվը | K4: Ուղարկվել է ըստ ընդդատության | L4: Հաշվետու ժամանակահատվածում կասեցված վարույթներով գործերի ընդհանուր թիվը | M4: Հաշվետու ժամանակահատվածում անավարտ գործերի ընդհանուր թիվը | N4: Այդ թվում՝ կասեցված | O4: Բողոքարկված դատական ակտերի թիվը` ըստ տեսակների | R4: Բեկանված դատական ակտերի թիվը` ըստ տեսակների
G5: Քննվել է ըստ էության և դատավճիռ կայացվել | H5: Որոշում է կայացվել քրեական գործի վարույթը կարճելու և քրեական հետապնդումը դադարեցնելու մասին | I5: Որոշում է կայացվել անմեղսունակների նկատմամբ բժշկական բնույթի հարկադրական միջոցներ կիրառելու մասին | J5: Ընդամենը ավարտվել են գործեր | O5: Այդ թվում` գործն ըստ էության լուծող դատական ակտերը | P5: Այդ թվում` միջանկյալ դատական ակտերը | Q5: Ընդամենը | R5: Այդ թվում` գործն ըստ էության լուծող դատական ակտերը | S5: Այդ թվում` միջանկյալ դատական ակտերը | T5: Ընդամենը
D6: 1 | E6: 2 | F6: 3 | G6: 4 | H6: 5 | I6: 6 | J6: 7 | K6: 8 | L6: 9 | M6: 10 | N6: 11 | O6: 12 | P6: 13 | Q6: 14 | R6: 15 | S6: 16 | T6: 17
A7: 1. | B7: Ընդամենը կյանքի և առողջության դեմ ուղղված հանցագործությունները | D7: =SUM(D8:D34) -> 23 | E7: =SUM(E8:E34) -> 1 | F7: =SUM(F8:F34) -> 52 | G7: =SUM(G8:G34) -> 36 | H7: =SUM(H8:H34) -> 9 | I7: =SUM(I8:I34) -> 0 | J7: =SUM(J8:J34) -> 45 | K7: =SUM(K8:K34) -> 1 | ... T7: =SUM(T8:T34) -> 0
A8: 1.1 | B8: Սպանությունը | C8: 104 | D8: 4 | F8: 4 | G8: 3 | J8: 3 | K8: 1 | M8: 4 | O8: 1 | Q8: 1
A9: 1.2 | B9: Հոգեկան խիստ հուզմունքի վիճակում կատարված սպանությունը | C9: 105
A10: 1.3 | B10: Մոր կողմից նորածին երեխայի սպանությունը | C10: 106
A11: 1.4 | B11: Հանցանք կատարած անձին բռնելու համար անհրաժեշտ միջոցների սահմանազանցմամբ սպանությունը | C11: 107
A12: 1.5 | B12: Անհրաժեշտ պաշտպանության սահմանազանցմամբ սպանությունը | C12: 108
A13: 1.6 | B13: Անզգուշությամբ մահ պատճառելը | C13: 109
A14: 1.7 | B14: Ինքնասպանության հասցնելը | C14: 110
A15: 1.8 | B15: Ինքնասպանության հակելը | C15: 111
A16: 1.9 | B16: Դիտավորությամբ առողջությանը ծանր վնաս պատճառելը | C16: 112 | D16: 11 | F16: 17 | G16: 16 | J16: 16 | M16: 12 | O16: 5 | Q16: 5
A17: 1.10 | B17: Դիտավորությամբ առողջությանը միջին ծանրության վնաս պատճառելը | C17: 113 | D17: 1 | F17: 4 | G17: 3 | H17: 1 | J17: 4 | M17: 1
A18: 1.11 | B18: Հոգեկան խիստ հուզմունքի վիճակում առողջությանը ծանր կամ միջին ծանրության վնաս պատճառելը | C18: 114
A19: 1.12 | B19: Հանցանք կատարած անձին բռնելու համար անհրաժեշտ միջոցների սահմանզանցմամբ առողջությանը ծանր կամ միջին ծանրության վնաս պատճառելը | C19: 115
A20: 1.13 | B20: Առողջությանը ծանր կամ միջին ծանրության վնաս պատճառելը անհրաժեշտ պաշտպանության սահմանանազանցմամբ | C20: 116
A21: 1.14 | B21: Դիտավորությամբ առողջությանը թեթև վնաս պատճառելը | C21: 117 | D21: 3 | E21: 1 | F21: 7 | G21: 2 | H21: 3 | J21: 5 | M21: 5 | N21: 1 | O21: 1 | Q21: 1
A22: 1.15 | B22: Ծեծը | C22: 118 | D22: 2 | F22: 19 | G22: 9 | H22: 5 | J22: 14 | M22: 6 | O22: 3 | Q22: 3
A23: 1.16 | B23: Ֆիզիկական ուժեղ ցավ կամ հոգեկան ուժեղ տառապանք պատճառելը | C23: 119 | D23: 2 | G23: 2 | J23: 2 | O23: 2 | Q23: 2
A24: 1.17 | B24: Անզգուշությամբ առողջությանը ծանր վնաս պատճառելը | C24: 120
A25: 1.18 | B25: Անզգուշությամբ առողջությանը միջին ծանրության վնաս պատճառելը | C25: 121 | F25: 1 | G25: 1 | J25: 1
A26: 1.19 | B26: Ապօրինի աբորտ կատարելը | C26: 122
A27: 1.20 | B27: Մարդու իմունային անբավարարության վիրուսի հարուցիչով վարակելը | C27: 123
A28: 1.21 | B28: Վեներական հիվանդությամբ կամ այլ սեռավարակներով վարակելը | C28: 124
A29: 1.22 | B29: Փոխպատվաստման վիրահատություն կատարելու կանոնները խախտելը | C29: 125
A30: 1.24 | B30: Անձին առանց իր հանձնարարության բժշկական կամ գիտական փորձերի ենթարկելը | C30: 127
A31: 1.25 | B31: Վտանգի մեջ թողնելը | C31: 128
A32: 1.26 | B32: Հիվանդին օգնություն ցույց չտալը | C32: 129
A33: 1.27 | B33: Բժշկական օգնություն և սպասարկում իրականացնողների կողմից մասնագիտական պարտականությունները չկատարելը կամ ոչ պատշաճ կատարելը | C33: 130
A34: 1.28 | B34: Այլ հանցագործություններ
A35: 2. | B35: Ընդամենը անձի ազատության, պատվի և արժանապատվության դեմ ուղղված հանցագործությունները | D35: =SUM(D36:D43) -> 5 | E35: =SUM(E36:E43) -> 0 | F35: =SUM(F36:F43) -> 3 | G35: =SUM(G36:G43) -> 1 | H35: =SUM(H36:H43) -> 0 | I35: =SUM(I36:I43) -> 2 | J35: =SUM(J36:J43) -> 3 | K35: =SUM(K36:K43) -> 0 | ... T35: =SUM(T36:T43) -> 0
A36: 2.1 | B36: Մարդուն առևանգելը | C36: 131 | D36: 1 | F36: 1 | M36: 2
A37: 2.2 | B37: Մարդու թրաֆիքինգը կամ շահագործումը | C37: 132
A38: 2.2.2 | B38: Երեխայի կամ հոգեկան խանգարման հետևանքով իր արարքի բնույթն ու նշանակությունը գիտակցելու կամ դա ղեկավարելու հնարավորությունից զրկված անձի թրաֆիքինգը կամ շահագործումը | C38: 132.2
A39: 2.2.3 | B39: Շահագործման վիճակում գտնվող անձի ծառայությունից օգտվելը | C39: 132.3
A40: 2.3 | B40: Ազատությունից ապօրինի զրկելը | C40: 133 | D40: 3 | G40: 1 | J40: 1 | M40: 2 | O40: 1 | Q40: 1
A41: 2.4 | B41: Հոգեբուժական հիվանդանոցում ապօրինի տեղավորելը կամ պահելը | C41: 134
A42: 2.7 | B42: Սպանության, առողջությանը ծանր վնաս պատճառելու կամ գույք ոչնչացնելու սպառնալիքը | C42: 137 | D42: 1 | F42: 2 | I42: 2 | J42: 2 | M42: 0
A43: 2.8 | B43: Այլ հանցագործություններ
A44: 3. | B44: Ընդամենը սեռական անձեռնմխելիության և սեռական ազատության դեմ ուղղված հանցագործությունները | D44: =SUM(D45:D50) -> 1 | E44: =SUM(E45:E50) -> 0 | F44: =SUM(F45:F50) -> 3 | G44: =SUM(G45:G50) -> 2 | H44: =SUM(H45:H50) -> 0 | I44: =SUM(I45:I50) -> 0 | J44: =SUM(J45:J50) -> 2 | K44: =SUM(K45:K50) -> 0 | ... T44: =SUM(T45:T50) -> 0
A45: 3.1 | B45: Բռնաբարությունը | C45: 138
A46: 3.2 | B46: Սեքսուալ բնույթի բռնի գործողությունները | C46: 139 | D46: 1 | F46: 1 | G46: 1 | J46: 1 | M46: 1 | O46: 1 | Q46: 1
A47: 3.3 | B47: Սեռական հարաբերության կամ սեքսուալ բնույթի գործողություններին հարկադրելը | C47: 140
A48: 3.4 | B48: Սեռական հարաբերությունը տասնվեց տարին չլրացած անձի հետ կամ սեքսուալ բնույթի գործողություններ կատարելը տասնվեց տարին չլրացած անձի նկատմամբ | C48: 141 | F48: 2 | G48: 1 | J48: 1 | M48: 1
A49: 3.5 | B49: Անառակաբարո գործողությունները | C49: 142
A50: 3.6 | B50: Այլ հանցագործություններ
A51: 4. | B51: Ընդամենը մարդու և քաղաքացու սահմանադրական իրավունքների և ազատությունների դեմ ուղղված հանցագործությունները | D51: =SUM(D52:D80) -> 3 | E51: =SUM(E52:E80) -> 0 | F51: =SUM(F52:F80) -> 1 | G51: =SUM(G52:G80) -> 3 | H51: =SUM(H52:H80) -> 0 | I51: =SUM(I52:I80) -> 1 | J51: =SUM(J52:J80) -> 4 | K51: =SUM(K52:K80) -> 0 | ... T51: =SUM(T52:T80) -> 1
A52: 4.1 | B52: Մարդու և քաղաքացու իրավահավասարությունը խախտելը | C52: 143
A53: 4.2 | B53: Անձնական կամ ընտանեկան կյանքի մասին տեղեկություններ ապօրինի հավաքելը, պահելը, օգտագործելը կամ տարածելը | C53: 144
A54: 4.3 | B54: Բժշկական գաղտնիքը հրապարակելը | C54: 145
A55: 4.4 | B55: Նամակագրության, հեռախոսային խոսակցությունների, փոստային, հեռագրական կամ այլ հաղորդումների գաղտնիությունը խախտելը | C55: 146
A56: 4.5 | B56: Բնակարանի անձեռնմխելիությունը խախտելը | C56: 147 | D56: 1 | F56: 1 | G56: 1 | I56: 1 | J56: 2
A57: 4.6 | B57: Անձին տեղեկություն ներկայացնելուց հրաժարվելը | C57: 148
A58: 4.7 | B58: Ընտրական իրավունքի իրականացմանը, ընտրական հանձնաժողովների աշխատանքներին կամ ընտրությանը մասնակցող անձանց լիազորությունների իրականացմանը խոչընդոտելը | C58: 149
A59: 4.8 | B59: Ընտրությունների կամ քվեարկության արդյունքները կեղծելը | C59: 150
A60: 4.10 | B60: Ընտրողների ցուցակները կազմելու, դրանք քաղաքացիներին և կուսակցություններին տրամադրելու կամ հրապարակելու կարգը խախտելը | C60: 152
A61: 4.11 | B61: Մեկից ավելի անգամ կամ այլ անձի փոխարեն քվեարկելը | C61: 153
A62: 4.12 | B62: Քվեարկության գաղտնիությունը խախտելը | C62: 154
A63: 4.13 | B63: Կեղծ ընտրական քվեաթերթիկներ կամ քվեարկության ծրարներ, դրոշմանիշեր, կտրոններ պատրաստելը կամ ակնհայտ կեղծ ընտրական քվեաթերթիկներ կամ քվեարկության ծրարներ, դրոշմանիշեր, կտրոններ հանձնելը կամ իրացնելը | C63: 154.1
A64: 4.14 | B64: Ընտրողի կողմից թեկնածուներից, կուսակցություններից (կուսակցությունների դաշինքներից), հանրաքվեի քարոզչական նախաձեռնություններից կաշառք ստանալը կամ թեկնածուների, կուսակցությունների (կուսակցությունների դաշինքների), հանրաքվեի քարոզչական նախաձեռնությունների կողմից ընտրողներին կաշառք տալը կամ ընտրողի ազատ կամքի իրականացմանը խոչընդոտելը | C64: 154.2
A65: 4.16 | B65: Զենքով՝ տեղամասային կենտրոն մուտք գործելը | C65: 154.4
A66: 4.17 | B66: Վստահված անձին,ընտրական հանձնաժողովի անդամին,դիտորդին կամ զանգվածային լրատվության միջոցի ներկայացուցչին ընտրական փաստաթղթերին ծանոթանալուն խոչընդոտելը, ընտրական հանձնաժողովի արձանագրությունների պատճեններ չտալը | C66: 154.5
A67: 4.17.1 | B67: Ընտրական հանձնաժողովի նախագահի լիազորությունները չկատարելը կամ ոչ պատշաճ կատարելը | C67: 154.6
A68: 4.17.2 | B68: Քվեատուփը, ընտրողների ստորագրած ցուցակը, տեղամասային ընտրական հանձնաժողովի գրանցամատյանը, հանձնաժողովի կնիքը, տեղամասային ընտրական հանձնաժողովի անդամի անհատական կնիքը, ինքնասոսնձվող դրոշմանիշը, ընտրողի վերաբերյալ տվյալներ պարունակող քվեարկության կտրոնը կամ համարակալված կտրոնը, ընտրողների էլեկտրոնային գրանցման տեխնիկական սարքավորումը, կառավարության կողմից ընտրված մասնագիտացված կազմակերպության կողմից տեղադրված տեսախցիկը, ընտրական փաստաթղթերի մեկանգամյա օգտագործման պարկը կամ ընտրական փաստաթղթերի փաթեթը հափշտակելը | C68: 154.7
... A71: 4.19 | B71: Հղի կնոջը կամ մինչև երեք տարեկան երեխա ունեցող անձին աշխատանքի ընդունելոււց հրաժարվելը կամ աշխատանքից անհիմն ազատելը | C71: 156
A72: 4.20 | B72: Աշխատանքի պաշտպանության կանոնները խախտելը | C72: 157 | D72: 1 | G72: 1 | J72: 1 | O72: 1 | Q72: 1
A73: 4.21 | B73: Հեղինակային և հարակից իրավունքները խախտելը | C73: 158
A74: 4.22 | B74: Արտոնագրային իրավունքը խախտելը | C74: 159
A75: 4.23 | B75: Խղճի կամ դավանանքի ազատության իրավունքի իրականացմանը խոչընդոտելը | C75: 160
A76: 4.24 | B76: Միավորումներ (հասարակական կամ արհեստակցական միություններ) կազմելու կամ կուսակցություններ ստեղծելու իրավունքի իրականացմանը կամ դրանց գործողությանը խոչընդոտելը | C76: 161
A77: 4.25 | B77: Անձանց իրավունքների կամ անձի դեմ ոտնձգող միավորումներ կազմելը կամ ղեկավարելը | C77: 162
A78: 4.26 | B78: Հավաքներ անցկացնելուն կամ դրանց մասնակցելուն խոչընդոտելը | C78: 163
A79: 4.27 | B79: Լրագրողի մասնագիտական օրինական գործողությանը խոչընդոտելը | C79: 164 | D79: 1 | G79: 1 | J79: 1 | O79: 1 | Q79: 1 | R79: 1 | T79: 1
A80: 4.28 | B80: Այլ հանցագործություններ
A81: 5. | B81: Ընդամենը ընտանիքի և երեխայի շահերի դեմ ուղղված հանցագործությունները | D81: =SUM(D82:D95) -> 1 | E81: =SUM(E82:E95) -> 0 | F81: =SUM(F82:F95) -> 1 | G81: =SUM(G82:G95) -> 0 | H81: =SUM(H82:H95) -> 1 | I81: =SUM(I82:I95) -> 0 | J81: =SUM(J82:J95) -> 1 | K81: =SUM(K82:K95) -> 0 | ... T81: =SUM(T82:T95) -> 0
A82: 5.1 | B82: Անչափահասին հանցանքի կատարմանը ներգրավելը | C82: 165
A83: 5.2 | B83: Երեխային պոռնկության կամ պոռնկագրական բնույթի նյութեր կամ առարկաներ պատրաստելու հետ կապված գործողություններ կատարելուն ներգրավելը | C83: 166
A84: 5.2.1 | B84: Երեխային ոգելից խմիչքների օգտագործմանը, ուժեղ ներգործող կամ այլ թմրեցնող նյութերի ոչ բժշկական օգտագործմանը, թափառաշրջիկությանը ներգրավելը կամ մուրացկանության հետ կապված գործողություններ կատարելուն ներգրավելը | C84: 166.1
A85: 5.3 | B85: Ծնողներից երեխային ապօրինի բաժանելը կամ երեխային փոխելը | C85: 167 | F85: 1 | M85: 1
A86: 5.4 | B86: Խնամքը ստանձնելու նպատակով երեխայի առքը կամ ստանձնողի խնամքին հանձնելու նպատակով երեխայի վաճառքը | C86: 168
A87: 5.5 | B87: Որդեգրման գաղտնիքը հրապարակելը կամ որդեգրման համաձայնություն տալուն հակելը կամ հարկադրելը | C87: 169
A88: 5.6 | B88: Քաղաքացիական կացության ակտերի գրանցման մարմիններին սուտ տեղեկություններ հաղորդելը | C88: 169.1
A89: 5.7 | B89: Երեխային դաստիարակելու պարտականությունը չկատարելը | C89: 170
A90: 5.8 | B90: Երեխայի կյանքի անվտանգության ապահովման կամ առողջության պահպանման պարտականությունը չկատարելը կամ ոչ պատշաճ կատարելը | C90: 171
A91: 5.8.1 | B91: Վերարտադրողականության օժանդակ տեխնոլոգիաներից օգտվելու կանոնները խախտելը | C91: 171.1
A92: 5.9 | B92: Խնամակալի կամ հոգաբարձուի իրավունքները չարաշահելը | C92: 172
A93: 5.10 | B93: Ծնողի կողմից երեխային պահելուց չարամտորեն խուսափելը | C93: 173 | D93: 1 | H93: 1 | J93: 1
A94: 5.11 | B94: Զավակի կողմից անաշխատունակ ծնողին պահելուց չարամտորեն խուսափելը | C94: 174
A95: 5.12 | B95: Այլ հանցագործություններ
A96: 6. | B96: Ընդամենը սեփականության դեմ ուղղված հանցագործությունները | D96: =SUM(D97:D111) -> 32 | E96: =SUM(E97:E111) -> 0 | F96: =SUM(F97:F111) -> 80 | G96: =SUM(G97:G111) -> 53 | H96: =SUM(H97:H111) -> 13 | I96: =SUM(I97:I111) -> 1 | J96: =SUM(J97:J111) -> 67 | K96: =SUM(K97:K111) -> 2 | ... T96: =SUM(T97:T111) -> 1
A97: 6.1 | B97: Ավազակությունը | C97: 175 | D97: 2 | F97: 6 | G97: 2 | J97: 2 | M97: 6 | O97: 1 | Q97: 1
A98: 6.2 | B98: Կողոպուտը | C98: 176 | D98: 4 | F98: 2 | G98: 3 | H98: 2 | J98: 5 | M98: 1 | O98: 2 | Q98: 2
A99: 6.3 | B99: Գողությունը | C99: 177 | D99: 12 | F99: 47 | G99: 31 | H99: 4 | J99: 35 | K99: 1 | M99: 21 | O99: 8 | Q99: 8
A100: 6.4 | B100: Խարդախությունը | C100: 178 | D100: 7 | F100: 9 | G100: 7 | H100: 2 | J100: 9 | K100: 1 | L100: 1 | M100: 6 | N100: 1 | O100: 3 | Q100: 3
A101: 6.5 | B101: Յուրացնելը կամ վատնելը | C101: 179 | D101: 4 | F101: 8 | G101: 7 | J101: 7 | M101: 5 | O101: 1 | Q101: 1 | R101: 1 | T101: 1
A102: 6.6 | B102: Առանձնակի արժեք ունեցող առարկաներ հափշտակելը | C102: 180
...

Sheet Տավուշ
A1: 2019թ. տարեկան | D1: ՀԱՇՎԵՏՎՈՒԹՅՈՒՆ
A2: ՀՀ ՏԱՎՈՒՇԻ ՄԱՐԶԻ ԱՌԱՋԻՆ ԱՏՅԱՆԻ ԸՆԴՀԱՆՈՒՐ ԻՐԱՎԱՍՈՒԹՅԱՆ ԴԱՏԱՐԱՆՈՒՄ ՔՐԵԱԿԱՆ ԳՈՐԾԵՐԻ ՔՆՆՈՒԹՅԱՆ ՎԵՐԱԲԵՐՅԱԼ
A3: ՀՀ Տավուշի մարզի առաջին ատյանի ընդհանուր իրավասության դատարանում քրեական մասնագիտացում ունեցող դատավորների հաստիքների քանակը` 3
A4: Ստուգիչ հավասարումներ` 1+3=7+8+10, 7=4+5+6, 14=12+13, 17=15+16 | C4: ՀՀ քրեական օրենսգրքի հոդվածներ | D4: Հաշվետու ժամանակահատվածի սկզբում նախորդ հաշվետու ժամանակահատվածից փոխանցված գործերի ընդհանուր թիվը | E4: Այդ թվում` կասեցված վիճակում փոխանցված | F4: Հաշվետու ժամանակահատվածում ստացված գործերի ընդհանուր թիվը | G4: Հաշվետու ժամանակահատվածում ավարտված գործերի ընդհանուր թիվը | K4: Ուղարկվել է ըստ ընդդատության | L4: Հաշվետու ժամանակահատվածում կասեցված վարույթներով գործերի ընդհանուր թիվը | M4: Հաշվետու ժամանակահատվածում անավարտ գործերի ընդհանուր թիվը | N4: Այդ թվում՝ կասեցված | O4: Բողոքարկված դատական ակտերի թիվը` ըստ տեսակների | R4: Բեկանված դատական ակտերի թիվը` ըստ տեսակների
G5: Քննվել է ըստ էության և դատավճիռ կայացվել | H5: Որոշում է կայացվել քրեական գործի վարույթը կարճելու և քրեական հետապնդումը դադարեցնելու մասին | I5: Որոշում է կայացվել անմեղսունակների նկատմամբ բժշկական բնույթի հարկադրական միջոցներ կիրառելու մասին | J5: Ընդամենը ավարտվել են գործեր | O5: Այդ թվում` գործն ըստ էության լուծող դատական ակտերը | P5: Այդ թվում` միջանկյալ դատական ակտերը | Q5: Ընդամենը | R5: Այդ թվում` գործն ըստ էության լուծող դատական ակտերը | S5: Այդ թվում` միջանկյալ դատական ակտերը | T5: Ընդամենը
D6: 1 | E6: 2 | F6: 3 | G6: 4 | H6: 5 | I6: 6 | J6: 7 | K6: 8 | L6: 9 | M6: 10 | N6: 11 | O6: 12 | P6: 13 | Q6: 14 | R6: 15 | S6: 16 | T6: 17
A7: 1. | B7: Ընդամենը կյանքի և առողջության դեմ ուղղված հանցագործությունները | D7: =SUM(D8:D34) -> 5 | E7: =SUM(E8:E34) -> 0 | F7: =SUM(F8:F34) -> 17 | G7: =SUM(G8:G34) -> 6 | H7: =SUM(H8:H34) -> 3 | I7: =SUM(I8:I34) -> 1 | J7: =SUM(J8:J34) -> 11 | K7: =SUM(K8:K34) -> 0 | ... T7: =SUM(T8:T34) -> 1
A8: 1.1 | B8: Սպանությունը | C8: 104 | D8: 1 | E8: 0 | F8: 6 | G8: 1 | H8: 0 | I8: 0 | J8: 1 | K8: 0 | L8: 0 | M8: 6 | N8: 0 | O8: 0 | P8: 1 | Q8: 1 | R8: 0 | S8: 0 | T8: 0
A9: 1.2 | B9: Հոգեկան խիստ հուզմունքի վիճակում կատարված սպանությունը | C9: 105 | D9: 0 | E9: 0 | F9: 0 | G9: 0 | H9: 0 | I9: 0 | J9: 0 | K9: 0 | L9: 0 | M9: 0 | N9: 0 | O9: 0 | P9: 0 | Q9: 0 | R9: 0 | S9: 0 | T9: 0
A10: 1.3 | B10: Մոր կողմից նորածին երեխայի սպանությունը | C10: 106 | D10: 0 | E10: 0 | F10: 0 | G10: 0 | H10: 0 | I10: 0 | J10: 0 | K10: 0 | L10: 0 | M10: 0 | N10: 0 | O10: 0 | P10: 0 | Q10: 0 | R10: 0 | S10: 0 | T10: 0
A11: 1.4 | B11: Հանցանք կատարած անձին բռնելու համար անհրաժեշտ միջոցների սահմանազանցմամբ սպանությունը | C11: 107 | D11: 0 | E11: 0 | F11: 0 | G11: 0 | H11: 0 | I11: 0 | J11: 0 | K11: 0 | L11: 0 | M11: 0 | N11: 0 | O11: 0 | P11: 0 | Q11: 0 | R11: 0 | S11: 0 | T11: 0
A12: 1.5 | B12: Անհրաժեշտ պաշտպանության սահմանազանցմամբ սպանությունը | C12: 108 | D12: 0 | E12: 0 | F12: 0 | G12: 0 | H12: 0 | I12: 0 | J12: 0 | K12: 0 | L12: 0 | M12: 0 | N12: 0 | O12: 0 | P12: 0 | Q12: 0 | R12: 0 | S12: 0 | T12: 0
A13: 1.6 | B13: Անզգուշությամբ մահ պատճառելը | C13: 109 | D13: 0 | E13: 0 | F13: 1 | G13: 0 | H13: 0 | I13: 0 | J13: 1 | K13: 0 | L13: 0 | M13: 0 | N13: 0 | O13: 0 | P13: 0 | Q13: 0 | R13: 0 | S13: 0 | T13: 0
A14: 1.7 | B14: Ինքնասպանության հասցնելը | C14: 110 | D14: 0 | E14: 0 | F14: 1 | G14: 0 | H14: 1 | I14: 0 | J14: 1 | K14: 0 | L14: 0 | M14: 0 | N14: 0 | O14: 0 | P14: 0 | Q14: 0 | R14: 0 | S14: 0 | T14: 0
A15: 1.8 | B15: Ինքնասպանության հակելը | C15: 111 | D15: 0 | E15: 0 | F15: 0 | G15: 0 | H15: 0 | I15: 0 | J15: 0 | K15: 0 | L15: 0 | M15: 0 | N15: 0 | O15: 0 | P15: 0 | Q15: 0 | R15: 0 | S15: 0 | T15: 0
A16: 1.9 | B16: Դիտավորությամբ առողջությանը ծանր վնաս պատճառելը | C16: 112 | D16: 2 | E16: 0 | F16: 1 | G16: 0 | H16: 0 | I16: 1 | J16: 1 | K16: 0 | L16: 0 | M16: 2 | N16: 0 | O16: 0 | P16: 0 | Q16: 0 | R16: 0 | S16: 0 | T16: 0
A17: 1.10 | B17: Դիտավորությամբ առողջությանը միջին ծանրության վնաս պատճառելը | C17: 113 | D17: 0 | E17: 0 | F17: 2 | G17: 2 | H17: 0 | I17: 0 | J17: 2 | K17: 0 | L17: 0 | M17: 0 | N17: 0 | O17: 1 | P17: 0 | Q17: 1 | R17: 1 | S17: 0 | T17: 1
A18: 1.11 | B18: Հոգեկան խիստ հուզմունքի վիճակում առողջությանը ծանր կամ միջին ծանրության վնաս պատճառելը | C18: 114 | D18: 0 | E18: 0 | F18: 0 | G18: 0 | H18: 0 | I18: 0 | J18: 0 | K18: 0 | L18: 0 | M18: 0 | N18: 0 | O18: 0 | P18: 0 | Q18: 0 | R18: 0 | S18: 0 | T18: 0
A19: 1.12 | B19: Հանցանք կատարած անձին բռնելու համար անհրաժեշտ միջոցների սահմանզանցմամբ առողջությանը ծանր կամ միջին ծանրության վնաս պատճառելը | C19: 115 | D19: 0 | E19: 0 | F19: 0 | G19: 0 | H19: 0 | I19: 0 | J19: 0 | K19: 0 | L19: 0 | M19: 0 | N19: 0 | O19: 0 | P19: 0 | Q19: 0 | R19: 0 | S19: 0 | T19: 0
... A33: 1.27 | B33: Բժշկական օգնություն և սպասարկում իրականացնողների կողմից մասնագիտական պարտականությունները չկատարելը կամ ոչ պատշաճ կատարելը | C33: 130 | D33: 0 | E33: 0 | F33: 1 | G33: 0 | H33: 0 | I33: 0 | J33: 0 | K33: 0 | L33: 0 | M33: 1 | N33: 0 | O33: 0 | P33: 0 | Q33: 0 | R33: 0 | S33: 0 | T33: 0
A34: 1.28 | B34: Այլ հանցագործություններ | D34: 0 | E34: 0 | F34: 0 | G34: 0 | H34: 0 | I34: 0 | J34: 0 | K34: 0 | L34: 0 | M34: 0 | N34: 0 | O34: 0 | P34: 0 | Q34: 0 | R34: 0 | S34: 0 | T34: 0
A35: 2. | B35: Ընդամենը անձի ազատության, պատվի և արժանապատվության դեմ ուղղված հանցագործությունները | D35: =SUM(D36:D43) -> 0 | E35: =SUM(E36:E43) -> 0 | F35: =SUM(F36:F43) -> 3 | G35: =SUM(G36:G43) -> 2 | H35: =SUM(H36:H43) -> 0 | I35: =SUM(I36:I43) -> 0 | J35: =SUM(J36:J43) -> 2 | K35: =SUM(K36:K43) -> 0 | ... T35: =SUM(T36:T43) -> 0
A36: 2.1 | B36: Մարդուն առևանգելը | C36: 131 | D36: 0 | E36: 0 | F36: 2 | G36: 1 | H36: 0 | I36: 0 | J36: 1 | K36: 0 | L36: 0 | M36: 1 | N36: 0 | O36: 1 | P36: 0 | Q36: 1 | R36: 0 | S36: 0 | T36: 0
A37: 2.2 | B37: Մարդու թրաֆիքինգը կամ շահագործումը | C37: 132 | D37: 0 | E37: 0 | F37: 0 | G37: 0 | H37: 0 | I37: 0 | J37: 0 | K37: 0 | L37: 0 | M37: 0 | N37: 0 | O37: 0 | P37: 0 | Q37: 0 | R37: 0 | S37: 0 | T37: 0
A38: 2.2.2 | B38: Երեխայի կամ հոգեկան խանգարման հետևանքով իր արարքի բնույթն ու նշանակությունը գիտակցելու կամ դա ղեկավարելու հնարավորությունից զրկված անձի թրաֆիքինգը կամ շահագործումը | C38: 132.2 | D38: 0 | E38: 0 | F38: 0 | G38: 0 | H38: 0 | I38: 0 | J38: 0 | K38: 0 | L38: 0 | M38: 0 | N38: 0 | O38: 0 | P38: 0 | Q38: 0 | R38: 0 | S38: 0 | T38: 0
A39: 2.2.3 | B39: Շահագործման վիճակում գտնվող անձի ծառայությունից օգտվելը | C39: 132.3 | D39: 0 | E39: 0 | F39: 0 | G39: 0 | H39: 0 | I39: 0 | J39: 0 | K39: 0 | L39: 0 | M39: 0 | N39: 0 | O39: 0 | P39: 0 | Q39: 0 | R39: 0 | S39: 0 | T39: 0
A40: 2.3 | B40: Ազատությունից ապօրինի զրկելը | C40: 133 | D40: 0 | E40: 0 | F40: 1 | G40: 1 | H40: 0 | I40: 0 | J40: 1 | K40: 0 | L40: 0 | M40: 0 | N40: 0 | O40: 0 | P40: 0 | Q40: 0 | R40: 0 | S40: 0 | T40: 0
A41: 2.4 | B41: Հոգեբուժական հիվանդանոցում ապօրինի տեղավորելը կամ պահելը | C41: 134 | D41: 0 | E41: 0 | F41: 0 | G41: 0 | H41: 0 | I41: 0 | J41: 0 | K41: 0 | L41: 0 | M41: 0 | N41: 0 | O41: 0 | P41: 0 | Q41: 0 | R41: 0 | S41: 0 | T41: 0
A42: 2.7 | B42: Սպանության, առողջությանը ծանր վնաս պատճառելու կամ գույք ոչնչացնելու սպառնալիքը | C42: 137 | D42: 0 | E42: 0 | F42: 0 | G42: 0 | H42: 0 | I42: 0 | J42: 0 | K42: 0 | L42: 0 | M42: 0 | N42: 0 | O42: 0 | P42: 0 | Q42: 0 | R42: 0 | S42: 0 | T42: 0
A43: 2.8 | B43: Այլ հանցագործություններ | D43: 0 | E43: 0 | F43: 0 | G43: 0 | H43: 0 | I43: 0 | J43: 0 | K43: 0 | L43: 0 | M43: 0 | N43: 0 | O43: 0 | P43: 0 | Q43: 0 | R43: 0 | S43: 0 | T43: 0
A44: 3. | B44: Ընդամենը սեռական անձեռնմխելիության և սեռական ազատության դեմ ուղղված հանցագործությունները | D44: =SUM(D45:D50) -> 1 | E44: =SUM(E45:E50) -> 0 | F44: =SUM(F45:F50) -> 6 | G44: =SUM(G45:G50) -> 4 | H44: =SUM(H45:H50) -> 0 | I44: =SUM(I45:I50) -> 0 | J44: =SUM(J45:J50) -> 4 | K44: =SUM(K45:K50) -> 0 | ... T44: =SUM(T45:T50) -> 0
A45: 3.1 | B45: Բռնաբարությունը | C45: 138 | D45: 1 | E45: 0 | F45: 0 | G45: 1 | H45: 0 | I45: 0 | J45: 1 | K45: 0 | L45: 0 | M45: 0 | N45: 0 | O45: 0 | P45: 0 | Q45: 0 | R45: 0 | S45: 0 | T45: 0
A46: 3.2 | B46: Սեքսուալ բնույթի բռնի գործողությունները | C46: 139 | D46: 0 | E46: 0 | F46: 1 | G46: 1 | H46: 0 | I46: 0 | J46: 1 | K46: 0 | L46: 0 | M46: 0 | N46: 0 | O46: 0 | P46: 0 | Q46: 0 | R46: 0 | S46: 0 | T46: 0
A47: 3.3 | B47: Սեռական հարաբերության կամ սեքսուալ բնույթի գործողություններին հարկադրելը | C47: 140 | D47: 0 | E47: 0 | F47: 2 | G47: 1 | H47: 0 | I47: 0 | J47: 1 | K47: 0 | L47: 0 | M47: 1 | N47: 0 | O47: 0 | P47: 0 | Q47: 0 | R47: 0 | S47: 0 | T47: 0
A48: 3.4 | B48: Սեռական հարաբերությունը տասնվեց տարին չլրացած անձի հետ կամ սեքսուալ բնույթի գործողություններ կատարելը տասնվեց տարին չլրացած անձի նկատմամբ | C48: 141 | D48: 0 | E48: 0 | F48: 3 | G48: 1 | H48: 0 | I48: 0 | J48: 1 | K48: 0 | L48: 0 | M48: 2 | N48: 0 | O48: 0 | P48: 0 | Q48: 0 | R48: 0 | S48: 0 | T48: 0
A49: 3.5 | B49: Անառակաբարո գործողությունները | C49: 142 | D49: 0 | E49: 0 | F49: 0 | G49: 0 | H49: 0 | I49: 0 | J49: 0 | K49: 0 | L49: 0 | M49: 0 | N49: 0 | O49: 0 | P49: 0 | Q49: 0 | R49: 0 | S49: 0 | T49: 0
A50: 3.6 | B50: Այլ հանցագործություններ | D50: 0 | E50: 0 | F50: 0 | G50: 0 | H50: 0 | I50: 0 | J50: 0 | K50: 0 | L50: 0 | M50: 0 | N50: 0 | O50: 0 | P50: 0 | Q50: 0 | R50: 0 | S50: 0 | T50: 0
A51: 4. | B51: Ընդամենը մարդու և քաղաքացու սահմանադրական իրավունքների և ազատությունների դեմ ուղղված հանցագործությունները | D51: =SUM(D52:D80) -> 0 | E51: =SUM(E52:E80) -> 0 | F51: =SUM(F52:F80) -> 1 | G51: =SUM(G52:G80) -> 1 | H51: =SUM(H52:H80) -> 0 | I51: =SUM(I52:I80) -> 0 | J51: =SUM(J52:J80) -> 1 | K51: =SUM(K52:K80) -> 0 | ... T51: =SUM(T52:T80) -> 0
A52: 4.1 | B52: Մարդու և քաղաքացու իրավահավասարությունը խախտելը | C52: 143 | D52: 0 | E52: 0 | F52: 0 | G52: 0 | H52: 0 | I52: 0 | J52: 0 | K52: 0 | L52: 0 | M52: 0 | N52: 0 | O52: 0 | P52: 0 | Q52: 0 | R52: 0 | S52: 0 | T52: 0
A53: 4.2 | B53: Անձնական կամ ընտանեկան կյանքի մասին տեղեկություններ ապօրինի հավաքելը, պահելը, օգտագործելը կամ տարածելը | C53: 144 | D53: 0 | E53: 0 | F53: 0 | G53: 0 | H53: 0 | I53: 0 | J53: 0 | K53: 0 | L53: 0 | M53: 0 | N53: 0 | O53: 0 | P53: 0 | Q53: 0 | R53: 0 | S53: 0 | T53: 0
A54: 4.3 | B54: Բժշկական գաղտնիքը հրապարակելը | C54: 145 | D54: 0 | E54: 0 | F54: 0 | G54: 0 | H54: 0 | I54: 0 | J54: 0 | K54: 0 | L54: 0 | M54: 0 | N54: 0 | O54: 0 | P54: 0 | Q54: 0 | R54: 0 | S54: 0 | T54: 0
A55: 4.4 | B55: Նամակագրության, հեռախոսային խոսակցությունների, փոստային, հեռագրական կամ այլ հաղորդումների գաղտնիությունը խախտելը | C55: 146 | D55: 0 | E55: 0 | F55: 0 | G55: 0 | H55: 0 | I55: 0 | J55: 0 | K55: 0 | L55: 0 | M55: 0 | N55: 0 | O55: 0 | P55: 0 | Q55: 0 | R55: 0 | S55: 0 | T55: 0
A56: 4.5 | B56: Բնակարանի անձեռնմխելիությունը խախտելը | C56: 147 | D56: 0 | E56: 0 | F56: 1 | G56: 1 | H56: 0 | I56: 0 | J56: 1 | K56: 0 | L56: 0 | M56: 0 | N56: 0 | O56: 0 | P56: 0 | Q56: 0 | R56: 0 | S56: 0 | T56: 0
A57: 4.6 | B57: Անձին տեղեկություն ներկայացնելուց հրաժարվելը | C57: 148 | D57: 0 | E57: 0 | F57: 0 | G57: 0 | H57: 0 | I57: 0 | J57: 0 | K57: 0 | L57: 0 | M57: 0 | N57: 0 | O57: 0 | P57: 0 | Q57: 0 | R57: 0 | S57: 0 | T57: 0
A58: 4.7 | B58: Ընտրական իրավունքի իրականացմանը, ընտրական հանձնաժողովների աշխատանքներին կամ ընտրությանը մասնակցող անձանց լիազորությունների իրականացմանը խոչընդոտելը | C58: 149 | D58: 0 | E58: 0 | F58: 0 | G58: 0 | H58: 0 | I58: 0 | J58: 0 | K58: 0 | L58: 0 | M58: 0 | N58: 0 | O58: 0 | P58: 0 | Q58: 0 | R58: 0 | S58: 0 | T58: 0
A59: 4.8 | B59: Ընտրությունների կամ քվեարկության արդյունքները կեղծելը | C59: 150 | D59: 0 | E59: 0 | F59: 0 | G59: 0 | H59: 0 | I59: 0 | J59: 0 | K59: 0 | L59: 0 | M59: 0 | N59: 0 | O59: 0 | P59: 0 | Q59: 0 | R59: 0 | S59: 0 | T59: 0
A60: 4.10 | B60: Ընտրողների ցուցակները կազմելու, դրանք քաղաքացիներին և կուսակցություններին տրամադրելու կամ հրապարակելու կարգը խախտելը | C60: 152 | D60: 0 | E60: 0 | F60: 0 | G60: 0 | H60: 0 | I60: 0 | J60: 0 | K60: 0 | L60: 0 | M60: 0 | N60: 0 | O60: 0 | P60: 0 | Q60: 0 | R60: 0 | S60: 0 | T60: 0
A61: 4.11 | B61: Մեկից ավելի անգամ կամ այլ անձի փոխարեն քվեարկելը | C61: 153 | D61: 0 | E61: 0 | F61: 0 | G61: 0 | H61: 0 | I61: 0 | J61: 0 | K61: 0 | L61: 0 | M61: 0 | N61: 0 | O61: 0 | P61: 0 | Q61: 0 | R61: 0 | S61: 0 | T61: 0
A62: 4.12 | B62: Քվեարկության գաղտնիությունը խախտելը | C62: 154 | D62: 0 | E62: 0 | F62: 0 | G62: 0 | H62: 0 | I62: 0 | J62: 0 | K62: 0 | L62: 0 | M62: 0 | N62: 0 | O62: 0 | P62: 0 | Q62: 0 | R62: 0 | S62: 0 | T62: 0
A63: 4.13 | B63: Կեղծ ընտրական քվեաթերթիկներ կամ քվեարկության ծրարներ, դրոշմանիշեր, կտրոններ պատրաստելը կամ ակնհայտ կեղծ ընտրական քվեաթերթիկներ կամ քվեարկության ծրարներ, դրոշմանիշեր, կտրոններ հանձնելը կամ իրացնելը | C63: 154.1 | D63: 0 | E63: 0 | F63: 0 | G63: 0 | H63: 0 | I63: 0 | J63: 0 | K63: 0 | L63: 0 | M63: 0 | N63: 0 | O63: 0 | P63: 0 | Q63: 0 | R63: 0 | S63: 0 | T63: 0
... A79: 4.27 | B79: Լրագրողի մասնագիտական օրինական գործողությանը խոչընդոտելը | C79: 164 | D79: 0 | E79: 0 | F79: 0 | G79: 0 | H79: 0 | I79: 0 | J79: 0 | K79: 0 | L79: 0 | M79: 0 | N79: 0 | O79: 0 | P79: 0 | Q79: 0 | R79: 0 | S79: 0 | T79: 0
A80: 4.28 | B80: Այլ հանցագործություններ | D80: 0 | E80: 0 | F80: 0 | G80: 0 | H80: 0 | I80: 0 | J80: 0 | K80: 0 | L80: 0 | M80: 0 | N80: 0 | O80: 0 | P80: 0 | Q80: 0 | R80: 0 | S80: 0 | T80: 0
A81: 5. | B81: Ընդամենը ընտանիքի և երեխայի շահերի դեմ ուղղված հանցագործությունները | D81: =SUM(D82:D95) -> 0 | E81: =SUM(E82:E95) -> 0 | F81: =SUM(F82:F95) -> 0 | G81: =SUM(G82:G95) -> 0 | H81: =SUM(H82:H95) -> 0 | I81: =SUM(I82:I95) -> 0 | J81: =SUM(J82:J95) -> 0 | K81: =SUM(K82:K95) -> 0 | ... T81: =SUM(T82:T95) -> 0
A82: 5.1 | B82: Անչափահասին հանցանքի կատարմանը ներգրավելը | C82: 165 | D82: 0 | E82: 0 | F82: 0 | G82: 0 | H82: 0 | I82: 0 | J82: 0 | K82: 0 | L82: 0 | M82: 0 | N82: 0 | O82: 0 | P82: 0 | Q82: 0 | R82: 0 | S82: 0 | T82: 0
A83: 5.2 | B83: Երեխային պոռնկության կամ պոռնկագրական բնույթի նյութեր կամ առարկաներ պատրաստելու հետ կապված գործողություններ կատարելուն ներգրավելը | C83: 166 | D83: 0 | E83: 0 | F83: 0 | G83: 0 | H83: 0 | I83: 0 | J83: 0 | K83: 0 | L83: 0 | M83: 0 | N83: 0 | O83: 0 | P83: 0 | Q83: 0 | R83: 0 | S83: 0 | T83: 0
A84: 5.2.1 | B84: Երեխային ոգելից խմիչքների օգտագործմանը, ուժեղ ներգործող կամ այլ թմրեցնող նյութերի ոչ բժշկական օգտագործմանը, թափառաշրջիկությանը ներգրավելը կամ մուրացկանության հետ կապված գործողություններ կատարելուն ներգրավելը | C84: 166.1 | D84: 0 | E84: 0 | F84: 0 | G84: 0 | H84: 0 | I84: 0 | J84: 0 | K84: 0 | L84: 0 | M84: 0 | N84: 0 | O84: 0 | P84: 0 | Q84: 0 | R84: 0 | S84: 0 | T84: 0
A85: 5.3 | B85: Ծնողներից երեխային ապօրինի բաժանելը կամ երեխային փոխելը | C85: 167 | D85: 0 | E85: 0 | F85: 0 | G85: 0 | H85: 0 | I85: 0 | J85: 0 | K85: 0 | L85: 0 | M85: 0 | N85: 0 | O85: 0 | P85: 0 | Q85: 0 | R85: 0 | S85: 0 | T85: 0
A86: 5.4 | B86: Խնամքը ստանձնելու նպատակով երեխայի առքը կամ ստանձնողի խնամքին հանձնելու նպատակով երեխայի վաճառքը | C86: 168 | D86: 0 | E86: 0 | F86: 0 | G86: 0 | H86: 0 | I86: 0 | J86: 0 | K86: 0 | L86: 0 | M86: 0 | N86: 0 | O86: 0 | P86: 0 | Q86: 0 | R86: 0 | S86: 0 | T86: 0
A87: 5.5 | B87: Որդեգրման գաղտնիքը հրապարակելը կամ որդեգրման համաձայնություն տալուն հակելը կամ հարկադրելը | C87: 169 | D87: 0 | E87: 0 | F87: 0 | G87: 0 | H87: 0 | I87: 0 | J87: 0 | K87: 0 | L87: 0 | M87: 0 | N87: 0 | O87: 0 | P87: 0 | Q87: 0 | R87: 0 | S87: 0 | T87: 0
A88: 5.6 | B88: Քաղաքացիական կացության ակտերի գրանցման մարմիններին սուտ տեղեկություններ հաղորդելը | C88: 169.1 | D88: 0 | E88: 0 | F88: 0 | G88: 0 | H88: 0 | I88: 0 | J88: 0 | K88: 0 | L88: 0 | M88: 0 | N88: 0 | O88: 0 | P88: 0 | Q88: 0 | R88: 0 | S88: 0 | T88: 0
A89: 5.7 | B89: Երեխային դաստիարակելու պարտականությունը չկատարելը | C89: 170 | D89: 0 | E89: 0 | F89: 0 | G89: 0 | H89: 0 | I89: 0 | J89: 0 | K89: 0 | L89: 0 | M89: 0 | N89: 0 | O89: 0 | P89: 0 | Q89: 0 | R89: 0 | S89: 0 | T89: 0
A90: 5.8 | B90: Երեխայի կյանքի անվտանգության ապահովման կամ առողջության պահպանման պարտականությունը չկատարելը կամ ոչ պատշաճ կատարելը | C90: 171 | D90: 0 | E90: 0 | F90: 0 | G90: 0 | H90: 0 | I90: 0 | J90: 0 | K90: 0 | L90: 0 | M90: 0 | N90: 0 | O90: 0 | P90: 0 | Q90: 0 | R90: 0 | S90: 0 | T90: 0
A91: 5.8.1 | B91: Վերարտադրողականության օժանդակ տեխնոլոգիաներից օգտվելու կանոնները խախտելը | C91: 171.1 | D91: 0 | E91: 0 | F91: 0 | G91: 0 | H91: 0 | I91: 0 | J91: 0 | K91: 0 | L91: 0 | M91: 0 | N91: 0 | O91: 0 | P91: 0 | Q91: 0 | R91: 0 | S91: 0 | T91: 0
A92: 5.9 | B92: Խնամակալի կամ հոգաբարձուի իրավունքները չարաշահելը | C92: 172 | D92: 0 | E92: 0 | F92: 0 | G92: 0 | H92: 0 | I92: 0 | J92: 0 | K92: 0 | L92: 0 | M92: 0 | N92: 0 | O92: 0 | P92: 0 | Q92: 0 | R92: 0 | S92: 0 | T92: 0
A93: 5.10 | B93: Ծնողի կողմից երեխային պահելուց չարամտորեն խուսափելը | C93: 173 | D93: 0 | E93: 0 | F93: 0 | G93: 0 | H93: 0 | I93: 0 | J93: 0 | K93: 0 | L93: 0 | M93: 0 | N93: 0 | O93: 0 | P93: 0 | Q93: 0 | R93: 0 | S93: 0 | T93: 0
A94: 5.11 | B94: Զավակի կողմից անաշխատունակ ծնողին պահելուց չարամտորեն խուսափելը | C94: 174 | D94: 0 | E94: 0 | F94: 0 | G94: 0 | H94: 0 | I94: 0 | J94: 0 | K94: 0 | L94: 0 | M94: 0 | N94: 0 | O94: 0 | P94: 0 | Q94: 0 | R94: 0 | S94: 0 | T94: 0
A95: 5.12 | B95: Այլ հանցագործություններ | D95: 0 | E95: 0 | F95: 0 | G95: 0 | H95: 0 | I95: 0 | J95: 0 | K95: 0 | L95: 0 | M95: 0 | N95: 0 | O95: 0 | P95: 0 | Q95: 0 | R95: 0 | S95: 0 | T95: 0
A96: 6. | B96: Ընդամենը սեփականության դեմ ուղղված հանցագործությունները | D96: =SUM(D97:D111) -> 13 | E96: =SUM(E97:E111) -> 0 | F96: =SUM(F97:F111) -> 42 | G96: =SUM(G97:G111) -> 35 | H96: =SUM(H97:H111) -> 5 | I96: =SUM(I97:I111) -> 2 | J96: =SUM(J97:J111) -> 42 | K96: =SUM(K97:K111) -> 0 | ... T96: =SUM(T97:T111) -> 3
A97: 6.1 | B97: Ավազակությունը | C97: 175 | D97: 1 | E97: 0 | F97: 0 | G97: 1 | H97: 0 | I97: 0 | J97: 1 | K97: 0 | L97: 0 | M97: 0 | N97: 0 | O97: 1 | P97: 0 | Q97: 1 | R97: 0 | S97: 0 | T97: 0
A98: 6.2 | B98: Կողոպուտը | C98: 176 | D98: 1 | E98: 0 | F98: 1 | G98: 2 | H98: 0 | I98: 0 | J98: 2 | K98: 0 | L98: 0 | M98: 0 | N98: 0 | O98: 1 | P98: 0 | Q98: 1 | R98: 0 | S98: 0 | T98: 0
A99: 6.3 | B99: Գողությունը | C99: 177 | D99: 7 | E99: 0 | F99: 24 | G99: 20 | H99: 4 | I99: 2 | J99: 26 | K99: 0 | L99: 0 | M99: 5 | N99: 0 | O99: 10 | P99: 3 | Q99: 13 | R99: 1 | S99: 0 | T99: 1
A100: 6.4 | B100: Խարդախությունը | C100: 178 | D100: 2 | E100: 0 | F100: 5 | G100: 2 | H100: 0 | I100: 0 | J100: 2 | K100: 0 | L100: 0 | M100: 5 | N100: 0 | O100: 1 | P100: 0 | Q100: 1 | R100: 0 | S100: 0 | T100: 0
A101: 6.5 | B101: Յուրացնելը կամ վատնելը | C101: 179 | D101: 2 | E101: 0 | F101: 10 | G101: 8 | H101: 1 | I101: 0 | J101: 9 | K101: 0 | L101: 0 | M101: 3 | N101: 0 | O101: 3 | P101: 0 | Q101: 3 | R101: 2 | S101: 0 | T101: 2
A102: 6.6 | B102: Առանձնակի արժեք ունեցող առարկաներ հափշտակելը | C102: 180 | D102: 0 | E102: 0 | F102: 0 | G102: 0 | H102: 0 | I102: 0 | J102: 0 | K102: 0 | L102: 0 | M102: 0 | N102: 0 | O102: 0 | P102: 0 | Q102: 0 | R102: 0 | S102: 0 | T102: 0
A103: 6.7 | B103: Հափշտակությունը, որը կատարվել է համակարգչային տեխնիկայի օգտագործմամբ | C103: 181 | D103: 0 | E103: 0 | F103: 0 | G103: 0 | H103: 0 | I103: 0 | J103: 0 | K103: 0 | L103: 0 | M103: 0 | N103: 0 | O103: 0 | P103: 0 | Q103: 0 | R103: 0 | S103: 0 | T103: 0
A104: 6.8 | B104: Շորթումը | C104: 182 | D104: 0 | E104: 0 | F104: 0 | G104: 0 | H104: 0 | I104: 0 | J104: 0 | K104: 0 | L104: 0 | M104: 0 | N104: 0 | O104: 0 | P104: 0 | Q104: 0 | R104: 0 | S104: 0 | T104: 0
A105: 6.9 | B105: Ավտոմեքենային կամ տրանսպորտային այլ միջոցին ապօրինաբար տիրանալն առանց հափշտակելու նպատակի | C105: 183 | D105: 0 | E105: 0 | F105: 0 | G105: 0 | H105: 0 | I105: 0 | J105: 0 | K105: 0 | L105: 0 | M105: 0 | N105: 0 | O105: 0 | P105: 0 | Q105: 0 | R105: 0 | S105: 0 | T105: 0
A106: 6.10 | B106: Գույքային վնաս պատճառելը խաբեության կամ վստահությունը չարաշահելու եղանակով | C106: 184 | D106: 0 | E106: 0 | F106: 0 | G106: 0 | H106: 0 | I106: 0 | J106: 0 | K106: 0 | L106: 0 | M106: 0 | N106: 0 | O106: 0 | P106: 0 | Q106: 0 | R106: 0 | S106: 0 | T106: 0
A107: 6.10.1 | B107: Գրավառուին վնաս պատճառելը | C107: 184.1 | D107: 0 | E107: 0 | F107: 0 | G107: 0 | H107: 0 | I107: 0 | J107: 0 | K107: 0 | L107: 0 | M107: 0 | N107: 0 | O107: 0 | P107: 0 | Q107: 0 | R107: 0 | S107: 0 | T107: 0
A108: 6.11 | B108: Գույքը դիտավորությամբ ոչնչացնելը կամ վնասելը | C108: 185 | D108: 0 | E108: 0 | F108: 2 | G108: 2 | H108: 0 | I108: 0 | J108: 2 | K108: 0 | L108: 0 | M108: 0 | N108: 0 | O108: 0 | P108: 0 | Q108: 0 | R108: 0 | S108: 0 | T108: 0
... A110: 6.13 | B110: Գուքի պահպանության պարտականություններն անփույթ կամ անբարեխիղճ կատարելը | C110: 186.1 | D110: 0 | E110: 0 | F110: 0 | G110: 0 | H110: 0 | I110: 0 | J110: 0 | K110: 0 | L110: 0 | M110: 0 | N110: 0 | O110: 0 | P110: 0 | Q110: 0 | R110: 0 | S110: 0 | T110: 0
A111: 6.14 | B111: Այլ հանցագործություններ | D111: 0 | E111: 0 | F111: 0 | G111: 0 | H111: 0 | I111: 0 | J111: 0 | K111: 0 | L111: 0 | M111: 0 | N111: 0 | O111: 0 | P111: 0 | Q111: 0 | R111: 0 | S111: 0 | T111: 0
A112: 7. | B112: Ընդամենը տնտեսական գործունեության դեմ ուղղված հանցագործությունները | D112: =SUM(D113:D148) -> 1 | E112: =SUM(E113:E148) -> 0 | F112: =SUM(F113:F148) -> 3 | G112: =SUM(G113:G148) -> 2 | H112: =SUM(H113:H148) -> 0 | I112: =SUM(I113:I148) -> 0 | J112: =SUM(J113:J148) -> 2 | K112: =SUM(K113:K148) -> 0 | ... T112: =SUM(T113:T148) -> 0
A113: 7.1 | B113: Օրինական ձեռնարկատիրական և այլ տնտեսական գործունեությանը խոչընդոտելը | C113: 187 | D113: 0 | E113: 0 | F113: 0 | G113: 0 | H113: 0 | I113: 0 | J113: 0 | K113: 0 | L113: 0 | M113: 0 | N113: 0 | O113: 0 | P113: 0 | Q113: 0 | R113: 0 | S113: 0 | T113: 0
A114: 7.2 | B114: Ապօրինի ձեռնարկատիրությունը | C114: 188 | D114: 0 | E114: 0 | F114: 0 | G114: 0 | H114: 0 | I114: 0 | J114: 0 | K114: 0 | L114: 0 | M114: 0 | N114: 0 | O114: 0 | P114: 0 | Q114: 0 | R114: 0 | S114: 0 | T114: 0
A115: 7.3 | B115: Առանց լիցենազիայի արտարժույթի վաճառքի իրականացումը | C115: 188.1 | D115: 0 | E115: 0 | F115: 2 | G115: 1 | H115: 0 | I115: 0 | J115: 1 | K115: 0 | L115: 0 | M115: 1 | N115: 0 | O115: 0 | P115: 0 | Q115: 0 | R115: 0 | S115: 0 | T115: 0
A116: 7.4 | B116: Կեղծ ձեռնարկատիրությունը | C116: 189 | D116: 0 | E116: 0 | F116: 0 | G116: 0 | H116: 0 | I116: 0 | J116: 0 | K116: 0 | L116: 0 | M116: 0 | N116: 0 | O116: 0 | P116: 0 | Q116: 0 | R116: 0 | S116: 0 | T116: 0
A117: 7.4.1 | B117: Ֆինանսական բուրգ ստեղծելը, կազմակերպելը կամ ղեկավարելը | C117: 189.1 | D117: 0 | E117: 0 | F117: 0 | G117: 0 | H117: 0 | I117: 0 | J117: 0 | K117: 0 | L117: 0 | M117: 0 | N117: 0 | O117: 0 | P117: 0 | Q117: 0 | R117: 0 | S117: 0 | T117: 0
A118: 7.5 | B118: Հանցավոր ճանապարհով ստացված գույքն օրինականացնելը (փողերի լվացումը) | C118: 190 | D118: 0 | E118: 0 | F118: 0 | G118: 0 | H118: 0 | I118: 0 | J118: 0 | K118: 0 | L118: 0 | M118: 0 | N118: 0 | O118: 0 | P118: 0 | Q118: 0 | R118: 0 | S118: 0 | T118: 0
A119: 7.5.1 | B119: Ներքին տեղեկությունների անբարեխիղճ օգտագործումը | C119: 190.1 | D119: 0 | E119: 0 | F119: 0 | G119: 0 | H119: 0 | I119: 0 | J119: 0 | K119: 0 | L119: 0 | M119: 0 | N119: 0 | O119: 0 | P119: 0 | Q119: 0 | R119: 0 | S119: 0 | T119: 0
A120: 7.5.2 | B120: Գնային չարաշահումը | C120: 190.2 | D120: 0 | E120: 0 | F120: 0 | G120: 0 | H120: 0 | I120: 0 | J120: 0 | K120: 0 | L120: 0 | M120: 0 | N120: 0 | O120: 0 | P120: 0 | Q120: 0 | R120: 0 | S120: 0 | T120: 0
A121: 7.6 | B121: Վարկը ոչ նպատակային օգտագործելը | C121: 191 | D121: 0 | E121: 0 | F121: 0 | G121: 0 | H121: 0 | I121: 0 | J121: 0 | K121: 0 | L121: 0 | M121: 0 | N121: 0 | O121: 0 | P121: 0 | Q121: 0 | R121: 0 | S121: 0 | T121: 0
A122: 7.7 | B122: Անօրինական գործողությունները սնանկության ընթացքում | C122: 192 | D122: 0 | E122: 0 | F122: 0 | G122: 0 | H122: 0 | I122: 0 | J122: 0 | K122: 0 | L122: 0 | M122: 0 | N122: 0 | O122: 0 | P122: 0 | Q122: 0 | R122: 0 | S122: 0 | T122: 0
A123: 7.8 | B123: Կանխամտածված սնանկությունը | C123: 193 | D123: 0 | E123: 0 | F123: 0 | G123: 0 | H123: 0 | I123: 0 | J123: 0 | K123: 0 | L123: 0 | M123: 0 | N123: 0 | O123: 0 | P123: 0 | Q123: 0 | R123: 0 | S123: 0 | T123: 0
A124: 7.9 | B124: Կեղծ սնանկությունը | C124: 194 | D124: 0 | E124: 0 | F124: 0 | G124: 0 | H124: 0 | I124: 0 | J124: 0 | K124: 0 | L124: 0 | M124: 0 | N124: 0 | O124: 0 | P124: 0 | Q124: 0 | R124: 0 | S124: 0 | T124: 0
... A147: 7.31 | B147: Ակնհայտ հանցավոր ճանապարհով ձեռք բերված գույք ձեռք բերելը կամ իրացնելը | C147: 216 | D147: 0 | E147: 0 | F147: 0 | G147: 0 | H147: 0 | I147: 0 | J147: 0 | K147: 0 | L147: 0 | M147: 0 | N147: 0 | O147: 0 | P147: 0 | Q147: 0 | R147: 0 | S147: 0 | T147: 0
A148: 7.32 | B148: Այլ հանցագործություններ | D148: 0 | E148: 0 | F148: 1 | G148: 0 | H148: 0 | I148: 0 | J148: 0 | K148: 0 | L148: 0 | M148: 1 | N148: 0 | O148: 0 | P148: 0 | Q148: 0 | R148: 0 | S148: 0 | T148: 0
A149: 8. | B149: Ընդամենը հասարակական անվտանգության դեմ ուղղված հանցագործությունները | D149: =SUM(D150:D189) -> 2 | E149: =SUM(E150:E189) -> 0 | F149: =SUM(F150:F189) -> 15 | G149: =SUM(G150:G189) -> 13 | H149: =SUM(H150:H189) -> 1 | I149: =SUM(I150:I189) -> 0 | J149: =SUM(J150:J189) -> 14 | K149: =SUM(K150:K189) -> 0 | ... T149: =SUM(T150:T189) -> 0
A150: 8.1 | B150: Ահաբեկչությունը | C150: 217 | D150: 0 | E150: 0 | F150: 0 | G150: 0 | H150: 0 | I150: 0 | J150: 0 | K150: 0 | L150: 0 | M150: 0 | N150: 0 | O150: 0 | P150: 0 | Q150: 0 | R150: 0 | S150: 0 | T150: 0
A151: 8.2 | B151: Ահաբեկչության ֆինանսավորումը | C151: 217.1 | D151: 0 | E151: 0 | F151: 0 | G151: 0 | H151: 0 | I151: 0 | J151: 0 | K151: 0 | L151: 0 | M151: 0 | N151: 0 | O151: 0 | P151: 0 | Q151: 0 | R151: 0 | S151: 0 | T151: 0
...

Sheet Արարատ և Վայոց ձոր
A1: 2019թ. տարեկան | D1: ՀԱՇՎԵՏՎՈՒԹՅՈՒՆ
A2: ՀՀ ԱՐԱՐԱՏԻ ԵՎ ՎԱՅՈՑ ՁՈՐԻ ՄԱՐԶԵՐԻ ԱՌԱՋԻՆ ԱՏՅԱՆԻ ԸՆԴՀԱՆՈՒՐ ԻՐԱՎԱՍՈՒԹՅԱՆ ԴԱՏԱՐԱՆՈՒՄ ՔՐԵԱԿԱՆ ԳՈՐԾԵՐԻ ՔՆՆՈՒԹՅԱՆ ՎԵՐԱԲԵՐՅԱԼ
A3: ՀՀ Արարատի և Վայոց ձորի մարզերի առաջին ատյանի ընդհանուր իրավասության դատարանում քրեական մասնագիտացում ունեցող դատավորների հաստիքների քանակը` 5
A4: Ստուգիչ հավասարումներ` 1+3=7+8+10, 7=4+5+6, 14=12+13, 17=15+16 | C4: ՀՀ քրեական օրենսգրքի հոդվածներ | D4: Հաշվետու ժամանակահատվածի սկզբում նախորդ հաշվետու ժամանակահատվածից փոխանցված գործերի ընդհանուր թիվը | E4: Այդ թվում` կասեցված վիճակում փոխանցված | F4: Հաշվետու ժամանակահատվածում ստացված գործերի ընդհանուր թիվը | G4: Հաշվետու ժամանակահատվածում ավարտված գործերի ընդհանուր թիվը | K4: Ուղարկվել է ըստ ընդդատության | L4: Հաշվետու ժամանակահատվածում կասեցված վարույթներով գործերի ընդհանուր թիվը | M4: Հաշվետու ժամանակահատվածում անավարտ գործերի ընդհանուր թիվը | N4: Այդ թվում՝ կասեցված | O4: Բողոքարկված դատական ակտերի թիվը` ըստ տեսակների | R4: Բեկանված դատական ակտերի թիվը` ըստ տեսակների
G5: Քննվել է ըստ էության և դատավճիռ կայացվել | H5: Որոշում է կայացվել քրեական գործի վարույթը կարճելու և քրեական հետապնդումը դադարեցնելու մասին | I5: Որոշում է կայացվել անմեղսունակների նկատմամբ բժշկական բնույթի հարկադրական միջոցներ կիրառելու մասին | J5: Ընդամենը ավարտվել են գործեր | O5: Այդ թվում` գործն ըստ էության լուծող դատական ակտերը | P5: Այդ թվում` միջանկյալ դատական ակտերը | Q5: Ընդամենը | R5: Այդ թվում` գործն ըստ էության լուծող դատական ակտերը | S5: Այդ թվում` միջանկյալ դատական ակտերը | T5: Ընդամենը
D6: 1 | E6: 2 | F6: 3 | G6: 4 | H6: 5 | I6: 6 | J6: 7 | K6: 8 | L6: 9 | M6: 10 | N6: 11 | O6: 12 | P6: 13 | Q6: 14 | R6: 15 | S6: 16 | T6: 17
A7: 1. | B7: Ընդամենը կյանքի և առողջության դեմ ուղղված հանցագործությունները | D7: =SUM(D8:D34) -> 29 | E7: =SUM(E8:E34) -> 1 | F7: =SUM(F8:F34) -> 45 | G7: =SUM(G8:G34) -> 23 | H7: =SUM(H8:H34) -> 12 | I7: =SUM(I8:I34) -> 1 | J7: =SUM(J8:J34) -> 36 | K7: =SUM(K8:K34) -> 0 | ... T7: =SUM(T8:T34) -> 1
A8: 1.1 | B8: Սպանությունը | C8: 104 | D8: 6 | F8: 4 | G8: 2 | J8: 2 | M8: 8
A9: 1.2 | B9: Հոգեկան խիստ հուզմունքի վիճակում կատարված սպանությունը | C9: 105
A10: 1.3 | B10: Մոր կողմից նորածին երեխայի սպանությունը | C10: 106
A11: 1.4 | B11: Հանցանք կատարած անձին բռնելու համար անհրաժեշտ միջոցների սահմանազանցմամբ սպանությունը | C11: 107
A12: 1.5 | B12: Անհրաժեշտ պաշտպանության սահմանազանցմամբ սպանությունը | C12: 108
A13: 1.6 | B13: Անզգուշությամբ մահ պատճառելը | C13: 109
A14: 1.7 | B14: Ինքնասպանության հասցնելը | C14: 110 | D14: 2 | M14: 2 | P14: 1 | Q14: 1
A15: 1.8 | B15: Ինքնասպանության հակելը | C15: 111
A16: 1.9 | B16: Դիտավորությամբ առողջությանը ծանր վնաս պատճառելը | C16: 112 | D16: 8 | F16: 12 | G16: 10 | H16: 1 | J16: 11 | M16: 9 | O16: 3 | P16: 1 | Q16: 4 | R16: 1 | T16: 1
A17: 1.10 | B17: Դիտավորությամբ առողջությանը միջին ծանրության վնաս պատճառելը | C17: 113 | D17: 1 | F17: 2 | G17: 2 | H17: 1 | J17: 3 | O17: 1 | Q17: 1
A18: 1.11 | B18: Հոգեկան խիստ հուզմունքի վիճակում առողջությանը ծանր կամ միջին ծանրության վնաս պատճառելը | C18: 114
A19: 1.12 | B19: Հանցանք կատարած անձին բռնելու համար անհրաժեշտ միջոցների սահմանզանցմամբ առողջությանը ծանր կամ միջին ծանրության վնաս պատճառելը | C19: 115
A20: 1.13 | B20: Առողջությանը ծանր կամ միջին ծանրության վնաս պատճառելը անհրաժեշտ պաշտպանության սահմանանազանցմամբ | C20: 116
A21: 1.14 | B21: Դիտավորությամբ առողջությանը թեթև վնաս պատճառելը | C21: 117 | D21: 2 | F21: 3 | G21: 1 | H21: 3 | J21: 4 | M21: 1
A22: 1.15 | B22: Ծեծը | C22: 118 | D22: 7 | E22: 1 | F22: 23 | G22: 6 | H22: 7 | I22: 1 | J22: 14 | M22: 16 | N22: 1
A23: 1.16 | B23: Ֆիզիկական ուժեղ ցավ կամ հոգեկան ուժեղ տառապանք պատճառելը | C23: 119 | D23: 1 | F23: 1 | G23: 1 | J23: 1 | M23: 1
A24: 1.17 | B24: Անզգուշությամբ առողջությանը ծանր վնաս պատճառելը | C24: 120
A25: 1.18 | B25: Անզգուշությամբ առողջությանը միջին ծանրության վնաս պատճառելը | C25: 121
A26: 1.19 | B26: Ապօրինի աբորտ կատարելը | C26: 122
A27: 1.20 | B27: Մարդու իմունային անբավարարության վիրուսի հարուցիչով վարակելը | C27: 123
A28: 1.21 | B28: Վեներական հիվանդությամբ կամ այլ սեռավարակներով վարակելը | C28: 124
A29: 1.22 | B29: Փոխպատվաստման վիրահատություն կատարելու կանոնները խախտելը | C29: 125
A30: 1.24 | B30: Անձին առանց իր հանձնարարության բժշկական կամ գիտական փորձերի ենթարկելը | C30: 127
A31: 1.25 | B31: Վտանգի մեջ թողնելը | C31: 128
A32: 1.26 | B32: Հիվանդին օգնություն ցույց չտալը | C32: 129
A33: 1.27 | B33: Բժշկական օգնություն և սպասարկում իրականացնողների կողմից մասնագիտական պարտականությունները չկատարելը կամ ոչ պատշաճ կատարելը | C33: 130 | D33: 2 | G33: 1 | J33: 1 | M33: 1
A34: 1.28 | B34: Այլ հանցագործություններ
A35: 2. | B35: Ընդամենը անձի ազատության, պատվի և արժանապատվության դեմ ուղղված հանցագործությունները | D35: =SUM(D36:D43) -> 2 | E35: =SUM(E36:E43) -> 0 | F35: =SUM(F36:F43) -> 8 | G35: =SUM(G36:G43) -> 7 | H35: =SUM(H36:H43) -> 1 | I35: =SUM(I36:I43) -> 1 | J35: =SUM(J36:J43) -> 9 | K35: =SUM(K36:K43) -> 0 | ... T35: =SUM(T36:T43) -> 1
A36: 2.1 | B36: Մարդուն առևանգելը | C36: 131 | D36: 1 | F36: 4 | G36: 5 | J36: 5 | O36: 3 | Q36: 3 | R36: 1 | T36: 1
A37: 2.2 | B37: Մարդու թրաֆիքինգը կամ շահագործումը | C37: 132
A38: 2.2.2 | B38: Երեխայի կամ հոգեկան խանգարման հետևանքով իր արարքի բնույթն ու նշանակությունը գիտակցելու կամ դա ղեկավարելու հնարավորությունից զրկված անձի թրաֆիքինգը կամ շահագործումը | C38: 132.2
A39: 2.2.3 | B39: Շահագործման վիճակում գտնվող անձի ծառայությունից օգտվելը | C39: 132.3
A40: 2.3 | B40: Ազատությունից ապօրինի զրկելը | C40: 133
A41: 2.4 | B41: Հոգեբուժական հիվանդանոցում ապօրինի տեղավորելը կամ պահելը | C41: 134
A42: 2.7 | B42: Սպանության, առողջությանը ծանր վնաս պատճառելու կամ գույք ոչնչացնելու սպառնալիքը | C42: 137 | D42: 1 | F42: 4 | G42: 2 | H42: 1 | I42: 1 | J42: 4 | M42: 1
A43: 2.8 | B43: Այլ հանցագործություններ
A44: 3. | B44: Ընդամենը սեռական անձեռնմխելիության և սեռական ազատության դեմ ուղղված հանցագործությունները | D44: =SUM(D45:D50) -> 3 | E44: =SUM(E45:E50) -> 0 | F44: =SUM(F45:F50) -> 7 | G44: =SUM(G45:G50) -> 4 | H44: =SUM(H45:H50) -> 0 | I44: =SUM(I45:I50) -> 0 | J44: =SUM(J45:J50) -> 4 | K44: =SUM(K45:K50) -> 0 | ... T44: =SUM(T45:T50) -> 0
A45: 3.1 | B45: Բռնաբարությունը | C45: 138
A46: 3.2 | B46: Սեքսուալ բնույթի բռնի գործողությունները | C46: 139 | D46: 1 | F46: 2 | M46: 3 | P46: 1 | Q46: 1
A47: 3.3 | B47: Սեռական հարաբերության կամ սեքսուալ բնույթի գործողություններին հարկադրելը | C47: 140
A48: 3.4 | B48: Սեռական հարաբերությունը տասնվեց տարին չլրացած անձի հետ կամ սեքսուալ բնույթի գործողություններ կատարելը տասնվեց տարին չլրացած անձի նկատմամբ | C48: 141 | D48: 2 | F48: 5 | G48: 4 | J48: 4 | M48: 3
A49: 3.5 | B49: Անառակաբարո գործողությունները | C49: 142
A50: 3.6 | B50: Այլ հանցագործություններ
A51: 4. | B51: Ընդամենը մարդու և քաղաքացու սահմանադրական իրավունքների և ազատությունների դեմ ուղղված հանցագործությունները | D51: =SUM(D52:D80) -> 2 | E51: =SUM(E52:E80) -> 0 | F51: =SUM(F52:F80) -> 2 | G51: =SUM(G52:G80) -> 0 | H51: =SUM(H52:H80) -> 1 | I51: =SUM(I52:I80) -> 1 | J51: =SUM(J52:J80) -> 2 | K51: =SUM(K52:K80) -> 0 | ... T51: =SUM(T52:T80) -> 0
A52: 4.1 | B52: Մարդու և քաղաքացու իրավահավասարությունը խախտելը | C52: 143
A53: 4.2 | B53: Անձնական կամ ընտանեկան կյանքի մասին տեղեկություններ ապօրինի հավաքելը, պահելը, օգտագործելը կամ տարածելը | C53: 144
A54: 4.3 | B54: Բժշկական գաղտնիքը հրապարակելը | C54: 145
A55: 4.4 | B55: Նամակագրության, հեռախոսային խոսակցությունների, փոստային, հեռագրական կամ այլ հաղորդումների գաղտնիությունը խախտելը | C55: 146
A56: 4.5 | B56: Բնակարանի անձեռնմխելիությունը խախտելը | C56: 147 | D56: 1 | F56: 2 | H56: 1 | I56: 1 | J56: 2 | M56: 1
A57: 4.6 | B57: Անձին տեղեկություն ներկայացնելուց հրաժարվելը | C57: 148
A58: 4.7 | B58: Ընտրական իրավունքի իրականացմանը, ընտրական հանձնաժողովների աշխատանքներին կամ ընտրությանը մասնակցող անձանց լիազորությունների իրականացմանը խոչընդոտելը | C58: 149
A59: 4.8 | B59: Ընտրությունների կամ քվեարկության արդյունքները կեղծելը | C59: 150
A60: 4.10 | B60: Ընտրողների ցուցակները կազմելու, դրանք քաղաքացիներին և կուսակցություններին տրամադրելու կամ հրապարակելու կարգը խախտելը | C60: 152
A61: 4.11 | B61: Մեկից ավելի անգամ կամ այլ անձի փոխարեն քվեարկելը | C61: 153
A62: 4.12 | B62: Քվեարկության գաղտնիությունը խախտելը | C62: 154
A63: 4.13 | B63: Կեղծ ընտրական քվեաթերթիկներ կամ քվեարկության ծրարներ, դրոշմանիշեր, կտրոններ պատրաստելը կամ ակնհայտ կեղծ ընտրական քվեաթերթիկներ կամ քվեարկության ծրարներ, դրոշմանիշեր, կտրոններ հանձնելը կամ իրացնելը | C63: 154.1
A64: 4.14 | B64: Ընտրողի կողմից թեկնածուներից, կուսակցություններից (կուսակցությունների դաշինքներից), հանրաքվեի քարոզչական նախաձեռնություններից կաշառք ստանալը կամ թեկնածուների, կուսակցությունների (կուսակցությունների դաշինքների), հանրաքվեի քարոզչական նախաձեռնությունների կողմից ընտրողներին կաշառք տալը կամ ընտրողի ազատ կամքի իրականացմանը խոչընդոտելը | C64: 154.2
A65: 4.16 | B65: Զենքով՝ տեղամասային կենտրոն մուտք գործելը | C65: 154.4
A66: 4.17 | B66: Վստահված անձին,ընտրական հանձնաժողովի անդամին,դիտորդին կամ զանգվածային լրատվության միջոցի ներկայացուցչին ընտրական փաստաթղթերին ծանոթանալուն խոչընդոտելը, ընտրական հանձնաժողովի արձանագրությունների պատճեններ չտալը | C66: 154.5
A67: 4.17.1 | B67: Ընտրական հանձնաժողովի նախագահի լիազորությունները չկատարելը կամ ոչ պատշաճ կատարելը | C67: 154.6
A68: 4.17.2 | B68: Քվեատուփը, ընտրողների ստորագրած ցուցակը, տեղամասային ընտրական հանձնաժողովի գրանցամատյանը, հանձնաժողովի կնիքը, տեղամասային ընտրական հանձնաժողովի անդամի անհատական կնիքը, ինքնասոսնձվող դրոշմանիշը, ընտրողի վերաբերյալ տվյալներ պարունակող քվեարկության կտրոնը կամ համարակալված կտրոնը, ընտրողների էլեկտրոնային գրանցման տեխնիկական սարքավորումը, կառավարության կողմից ընտրված մասնագիտացված կազմակերպության կողմից տեղադրված տեսախցիկը, ընտրական փաստաթղթերի մեկանգամյա օգտագործման պարկը կամ ընտրական փաստաթղթերի փաթեթը հափշտակելը | C68: 154.7
... A78: 4.26 | B78: Հավաքներ անցկացնելուն կամ դրանց մասնակցելուն խոչընդոտելը | C78: 163
A79: 4.27 | B79: Լրագրողի մասնագիտական օրինական գործողությանը խոչընդոտելը | C79: 164 | D79: 1 | M79: 1
A80: 4.28 | B80: Այլ հանցագործություններ
A81: 5. | B81: Ընդամենը ընտանիքի և երեխայի շահերի դեմ ուղղված հանցագործությունները | D81: =SUM(D82:D95) -> 0 | E81: =SUM(E82:E95) -> 0 | F81: =SUM(F82:F95) -> 1 | G81: =SUM(G82:G95) -> 0 | H81: =SUM(H82:H95) -> 0 | I81: =SUM(I82:I95) -> 0 | J81: =SUM(J82:J95) -> 0 | K81: =SUM(K82:K95) -> 0 | ... T81: =SUM(T82:T95) -> 0
A82: 5.1 | B82: Անչափահասին հանցանքի կատարմանը ներգրավելը | C82: 165
A83: 5.2 | B83: Երեխային պոռնկության կամ պոռնկագրական բնույթի նյութեր կամ առարկաներ պատրաստելու հետ կապված գործողություններ կատարելուն ներգրավելը | C83: 166
A84: 5.2.1 | B84: Երեխային ոգելից խմիչքների օգտագործմանը, ուժեղ ներգործող կամ այլ թմրեցնող նյութերի ոչ բժշկական օգտագործմանը, թափառաշրջիկությանը ներգրավելը կամ մուրացկանության հետ կապված գործողություններ կատարելուն ներգրավելը | C84: 166.1
A85: 5.3 | B85: Ծնողներից երեխային ապօրինի բաժանելը կամ երեխային փոխելը | C85: 167 | F85: 1 | M85: 1
A86: 5.4 | B86: Խնամքը ստանձնելու նպատակով երեխայի առքը կամ ստանձնողի խնամքին հանձնելու նպատակով երեխայի վաճառքը | C86: 168
A87: 5.5 | B87: Որդեգրման գաղտնիքը հրապարակելը կամ որդեգրման համաձայնություն տալուն հակելը կամ հարկադրելը | C87: 169
A88: 5.6 | B88: Քաղաքացիական կացության ակտերի գրանցման մարմիններին սուտ տեղեկություններ հաղորդելը | C88: 169.1
A89: 5.7 | B89: Երեխային դաստիարակելու պարտականությունը չկատարելը | C89: 170
A90: 5.8 | B90: Երեխայի կյանքի անվտանգության ապահովման կամ առողջության պահպանման պարտականությունը չկատարելը կամ ոչ պատշաճ կատարելը | C90: 171
A91: 5.8.1 | B91: Վերարտադրողականության օժանդակ տեխնոլոգիաներից օգտվելու կանոնները խախտելը | C91: 171.1
A92: 5.9 | B92: Խնամակալի կամ հոգաբարձուի իրավունքները չարաշահելը | C92: 172
A93: 5.10 | B93: Ծնողի կողմից երեխային պահելուց չարամտորեն խուսափելը | C93: 173
A94: 5.11 | B94: Զավակի կողմից անաշխատունակ ծնողին պահելուց չարամտորեն խուսափելը | C94: 174
A95: 5.12 | B95: Այլ հանցագործություններ
A96: 6. | B96: Ընդամենը սեփականության դեմ ուղղված հանցագործությունները | D96: =SUM(D97:D111) -> 56 | E96: =SUM(E97:E111) -> 5 | F96: =SUM(F97:F111) -> 97 | G96: =SUM(G97:G111) -> 64 | H96: =SUM(H97:H111) -> 8 | I96: =SUM(I97:I111) -> 1 | J96: =SUM(J97:J111) -> 73 | K96: =SUM(K97:K111) -> 1 | ... T96: =SUM(T97:T111) -> 6
A97: 6.1 | B97: Ավազակությունը | C97: 175 | D97: 4 | F97: 5 | G97: 5 | J97: 5 | M97: 4 | O97: 5 | P97: 1 | Q97: 6 | R97: 1 | T97: 1
A98: 6.2 | B98: Կողոպուտը | C98: 176 | D98: 4 | F98: 2 | G98: 5 | J98: 5 | M98: 1 | O98: 2 | P98: 1 | Q98: 3
A99: 6.3 | B99: Գողությունը | C99: 177 | D99: 30 | E99: 1 | F99: 63 | G99: 43 | H99: 3 | I99: 1 | J99: 47 | L99: 1 | M99: 44 | N99: 1 | O99: 15 | P99: 6 | Q99: 21 | R99: 3 | S99: 1 | T99: 4
A100: 6.4 | B100: Խարդախությունը | C100: 178 | D100: 10 | E100: 3 | F100: 8 | G100: 3 | H100: 2 | J100: 5 | K100: 1 | L100: 1 | M100: 11 | N100: 1 | O100: 1 | P100: 3 | Q100: 4 | S100: 1 | T100: 1
A101: 6.5 | B101: Յուրացնելը կամ վատնելը | C101: 179 | D101: 6 | E101: 1 | F101: 12 | G101: 8 | H101: 2 | J101: 10 | L101: 1 | M101: 8 | N101: 1
A102: 6.6 | B102: Առանձնակի արժեք ունեցող առարկաներ հափշտակելը | C102: 180
A103: 6.7 | B103: Հափշտակությունը, որը կատարվել է համակարգչային տեխնիկայի օգտագործմամբ | C103: 181
A104: 6.8 | B104: Շորթումը | C104: 182 | F104: 4 | M104: 4
A105: 6.9 | B105: Ավտոմեքենային կամ տրանսպորտային այլ միջոցին ապօրինաբար տիրանալն առանց հափշտակելու նպատակի | C105: 183 | D105: 1 | H105: 1 | J105: 1
A106: 6.10 | B106: Գույքային վնաս պատճառելը խաբեության կամ վստահությունը չարաշահելու եղանակով | C106: 184 | F106: 1 | M106: 1
A107: 6.10.1 | B107: Գրավառուին վնաս պատճառելը | C107: 184.1 | D107: 1 | M107: 1
A108: 6.11 | B108: Գույքը դիտավորությամբ ոչնչացնելը կամ վնասելը | C108: 185 | F108: 2 | M108: 2 | O108: 1 | Q108: 1
A109: 6.12 | B109: Գույքն անզգուշությամբ ոչնչացնելը կամ վնասելը | C109: 186
...

Sheet Շիրակ 
A1: 2019թ. տարեկան | D1: ՀԱՇՎԵՏՎՈՒԹՅՈՒՆ
A2: ՀՀ ՇԻՐԱԿԻ ՄԱՐԶԻ ԱՌԱՋԻՆ ԱՏՅԱՆԻ ԸՆԴՀԱՆՈՒՐ ԻՐԱՎԱՍՈՒԹՅԱՆ ԴԱՏԱՐԱՆՈՒՄ ՔՐԵԱԿԱՆ ԳՈՐԾԵՐԻ ՔՆՆՈՒԹՅԱՆ ՎԵՐԱԲԵՐՅԱԼ
A3: ՀՀ Շիրակի մարզի առաջին ատյանի ընդհանուր իրավասության դատարանում քրեական մասնագիտացում ունեցող դատավորների հաստիքների քանակը` 4
A4: Ստուգիչ հավասարումներ` 1+3=7+8+10, 7=4+5+6, 14=12+13, 17=15+16 | C4: ՀՀ քրեական օրենսգրքի հոդվածներ | D4: Հաշվետու ժամանակահատվածի սկզբում նախորդ հաշվետու ժամանակահատվածից փոխանցված գործերի ընդհանուր թիվը | E4: Այդ թվում` կասեցված վիճակում փոխանցված | F4: Հաշվետու ժամանակահատվածում ստացված գործերի ընդհանուր թիվը | G4: Հաշվետու ժամանակահատվածում ավարտված գործերի ընդհանուր թիվը | K4: Ուղարկվել է ըստ ընդդատության | L4: Հաշվետու ժամանակահատվածում կասեցված վարույթներով գործերի ընդհանուր թիվը | M4: Հաշվետու ժամանակահատվածում անավարտ գործերի ընդհանուր թիվը | N4: Այդ թվում՝ կասեցված | O4: Բողոքարկված դատական ակտերի թիվը` ըստ տեսակների | R4: Բեկանված դատական ակտերի թիվը` ըստ տեսակների
G5: Քննվել է ըստ էության և դատավճիռ կայացվել | H5: Որոշում է կայացվել քրեական գործի վարույթը կարճելու և քրեական հետապնդումը դադարեցնելու մասին | I5: Որոշում է կայացվել անմեղսունակների նկատմամբ բժշկական բնույթի հարկադրական միջոցներ կիրառելու մասին | J5: Ընդամենը ավարտվել են գործեր | O5: Այդ թվում` գործն ըստ էության լուծող դատական ակտերը | P5: Այդ թվում` միջանկյալ դատական ակտերը | Q5: Ընդամենը | R5: Այդ թվում` գործն ըստ էության լուծող դատական ակտերը | S5: Այդ թվում` միջանկյալ դատական ակտերը | T5: Ընդամենը
D6: 1 | E6: 2 | F6: 3 | G6: 4 | H6: 5 | I6: 6 | J6: 7 | K6: 8 | L6: 9 | M6: 10 | N6: 11 | O6: 12 | P6: 13 | Q6: 14 | R6: 15 | S6: 16 | T6: 17
A7: 1. | B7: Ընդամենը կյանքի և առողջության դեմ ուղղված հանցագործությունները | D7: =SUM(D8:D34) -> 17 | E7: =SUM(E8:E34) -> 2 | F7: =SUM(F8:F34) -> 43 | G7: =SUM(G8:G34) -> 21 | H7: =SUM(H8:H34) -> 3 | I7: =SUM(I8:I34) -> 1 | J7: =SUM(J8:J34) -> 25 | K7: =SUM(K8:K34) -> 0 | ... T7: =SUM(T8:T34) -> 0
A8: 1.1 | B8: Սպանությունը | C8: 104 | D8: 6 | F8: 7 | G8: 4 | J8: =+G8+H8+I8 -> 4 | M8: 9 | O8: 3 | P8: 1 | Q8: 4
A9: 1.2 | B9: Հոգեկան խիստ հուզմունքի վիճակում կատարված սպանությունը | C9: 105 | J9: =+G9+H9+I9 -> 0
A10: 1.3 | B10: Մոր կողմից նորածին երեխայի սպանությունը | C10: 106 | J10: =+G10+H10+I10 -> 0
A11: 1.4 | B11: Հանցանք կատարած անձին բռնելու համար անհրաժեշտ միջոցների սահմանազանցմամբ սպանությունը | C11: 107 | J11: =+G11+H11+I11 -> 0
A12: 1.5 | B12: Անհրաժեշտ պաշտպանության սահմանազանցմամբ սպանությունը | C12: 108 | J12: =+G12+H12+I12 -> 0
A13: 1.6 | B13: Անզգուշությամբ մահ պատճառելը | C13: 109 | J13: =+G13+H13+I13 -> 0
A14: 1.7 | B14: Ինքնասպանության հասցնելը | C14: 110 | J14: =+G14+H14+I14 -> 0
A15: 1.8 | B15: Ինքնասպանության հակելը | C15: 111 | J15: =+G15+H15+I15 -> 0
A16: 1.9 | B16: Դիտավորությամբ առողջությանը ծանր վնաս պատճառելը | C16: 112 | D16: 8 | E16: 2 | F16: 20 | G16: 12 | H16: 1 | J16: =+G16+H16+I16 -> 13 | M16: 14 | N16: 1 | O16: 2 | P16: 2 | Q16: 4
A17: 1.10 | B17: Դիտավորությամբ առողջությանը միջին ծանրության վնաս պատճառելը | C17: 113 | J17: =+G17+H17+I17 -> 0
A18: 1.11 | B18: Հոգեկան խիստ հուզմունքի վիճակում առողջությանը ծանր կամ միջին ծանրության վնաս պատճառելը | C18: 114 | J18: =+G18+H18+I18 -> 0
A19: 1.12 | B19: Հանցանք կատարած անձին բռնելու համար անհրաժեշտ միջոցների սահմանզանցմամբ առողջությանը ծանր կամ միջին ծանրության վնաս պատճառելը | C19: 115 | J19: =+G19+H19+I19 -> 0
A20: 1.13 | B20: Առողջությանը ծանր կամ միջին ծանրության վնաս պատճառելը անհրաժեշտ պաշտպանության սահմանանազանցմամբ | C20: 116 | J20: =+G20+H20+I20 -> 0
A21: 1.14 | B21: Դիտավորությամբ առողջությանը թեթև վնաս պատճառելը | C21: 117 | D21: 1 | F21: 2 | J21: =+G21+H21+I21 -> 0 | M21: 3
A22: 1.15 | B22: Ծեծը | C22: 118 | D22: 2 | F22: 11 | G22: 5 | H22: 2 | I22: 1 | J22: =+G22+H22+I22 -> 8 | M22: 5 | O22: 2 | Q22: 2
A23: 1.16 | B23: Ֆիզիկական ուժեղ ցավ կամ հոգեկան ուժեղ տառապանք պատճառելը | C23: 119 | F23: 3 | J23: =+G23+H23+I23 -> 0 | M23: 3
A24: 1.17 | B24: Անզգուշությամբ առողջությանը ծանր վնաս պատճառելը | C24: 120 | J24: =+G24+H24+I24 -> 0
A25: 1.18 | B25: Անզգուշությամբ առողջությանը միջին ծանրության վնաս պատճառելը | C25: 121 | J25: =+G25+H25+I25 -> 0
A26: 1.19 | B26: Ապօրինի աբորտ կատարելը | C26: 122 | J26: =+G26+H26+I26 -> 0
A27: 1.20 | B27: Մարդու իմունային անբավարարության վիրուսի հարուցիչով վարակելը | C27: 123 | J27: =+G27+H27+I27 -> 0
A28: 1.21 | B28: Վեներական հիվանդությամբ կամ այլ սեռավարակներով վարակելը | C28: 124 | J28: =+G28+H28+I28 -> 0
A29: 1.22 | B29: Փոխպատվաստման վիրահատություն կատարելու կանոնները խախտելը | C29: 125 | J29: =+G29+H29+I29 -> 0
A30: 1.24 | B30: Անձին առանց իր հանձնարարության բժշկական կամ գիտական փորձերի ենթարկելը | C30: 127 | J30: =+G30+H30+I30 -> 0
A31: 1.25 | B31: Վտանգի մեջ թողնելը | C31: 128 | J31: =+G31+H31+I31 -> 0
A32: 1.26 | B32: Հիվանդին օգնություն ցույց չտալը | C32: 129 | J32: =+G32+H32+I32 -> 0
A33: 1.27 | B33: Բժշկական օգնություն և սպասարկում իրականացնողների կողմից մասնագիտական պարտականությունները չկատարելը կամ ոչ պատշաճ կատարելը | C33: 130 | J33: =+G33+H33+I33 -> 0
A34: 1.28 | B34: Այլ հանցագործություններ | J34: =+G34+H34+I34 -> 0
A35: 2. | B35: Ընդամենը անձի ազատության, պատվի և արժանապատվության դեմ ուղղված հանցագործությունները | D35: =SUM(D36:D43) -> 1 | E35: =SUM(E36:E43) -> 0 | F35: =SUM(F36:F43) -> 2 | G35: =SUM(G36:G43) -> 2 | H35: =SUM(H36:H43) -> 1 | I35: =SUM(I36:I43) -> 0 | J35: =SUM(J36:J43) -> 3 | K35: =SUM(K36:K43) -> 0 | ... T35: =SUM(T36:T43) -> 0
A36: 2.1 | B36: Մարդուն առևանգելը | C36: 131 | D36: 1 | F36: 2 | G36: 2 | H36: 1 | J36: =+G36+H36+I36 -> 3 | O36: 1 | Q36: 1
A37: 2.2 | B37: Մարդու թրաֆիքինգը կամ շահագործումը | C37: 132 | J37: =+G37+H37+I37 -> 0
A38: 2.2.2 | B38: Երեխայի կամ հոգեկան խանգարման հետևանքով իր արարքի բնույթն ու նշանակությունը գիտակցելու կամ դա ղեկավարելու հնարավորությունից զրկված անձի թրաֆիքինգը կամ շահագործումը | C38: 132.2 | J38: =+G38+H38+I38 -> 0
A39: 2.2.3 | B39: Շահագործման վիճակում գտնվող անձի ծառայությունից օգտվելը | C39: 132.3 | J39: =+G39+H39+I39 -> 0
A40: 2.3 | B40: Ազատությունից ապօրինի զրկելը | C40: 133 | J40: =+G40+H40+I40 -> 0
A41: 2.4 | B41: Հոգեբուժական հիվանդանոցում ապօրինի տեղավորելը կամ պահելը | C41: 134 | J41: =+G41+H41+I41 -> 0
A42: 2.7 | B42: Սպանության, առողջությանը ծանր վնաս պատճառելու կամ գույք ոչնչացնելու սպառնալիքը | C42: 137 | J42: =+G42+H42+I42 -> 0
A43: 2.8 | B43: Այլ հանցագործություններ | J43: =+G43+H43+I43 -> 0
A44: 3. | B44: Ընդամենը սեռական անձեռնմխելիության և սեռական ազատության դեմ ուղղված հանցագործությունները | D44: =SUM(D45:D50) -> 2 | E44: =SUM(E45:E50) -> 1 | F44: =SUM(F45:F50) -> 1 | G44: =SUM(G45:G50) -> 0 | H44: =SUM(H45:H50) -> 0 | I44: =SUM(I45:I50) -> 0 | J44: =SUM(J45:J50) -> 0 | K44: =SUM(K45:K50) -> 0 | ... T44: =SUM(T45:T50) -> 0
A45: 3.1 | B45: Բռնաբարությունը | C45: 138 | F45: 1 | J45: =+G45+H45+I45 -> 0 | M45: 1
A46: 3.2 | B46: Սեքսուալ բնույթի բռնի գործողությունները | C46: 139 | J46: =+G46+H46+I46 -> 0
A47: 3.3 | B47: Սեռական հարաբերության կամ սեքսուալ բնույթի գործողություններին հարկադրելը | C47: 140 | J47: =+G47+H47+I47 -> 0
A48: 3.4 | B48: Սեռական հարաբերությունը տասնվեց տարին չլրացած անձի հետ կամ սեքսուալ բնույթի գործողություններ կատարելը տասնվեց տարին չլրացած անձի նկատմամբ | C48: 141 | D48: 1 | E48: 1 | J48: =+G48+H48+I48 -> 0 | M48: 1 | N48: 1
A49: 3.5 | B49: Անառակաբարո գործողությունները | C49: 142 | D49: 1 | J49: =+G49+H49+I49 -> 0 | M49: 1
A50: 3.6 | B50: Այլ հանցագործություններ | J50: =+G50+H50+I50 -> 0
A51: 4. | B51: Ընդամենը մարդու և քաղաքացու սահմանադրական իրավունքների և ազատությունների դեմ ուղղված հանցագործությունները | D51: =SUM(D52:D80) -> 0 | E51: =SUM(E52:E80) -> 0 | F51: =SUM(F52:F80) -> 2 | G51: =SUM(G52:G80) -> 1 | H51: =SUM(H52:H80) -> 0 | I51: =SUM(I52:I80) -> 1 | J51: =SUM(J52:J80) -> 2 | K51: =SUM(K52:K80) -> 0 | ... T51: =SUM(T52:T80) -> 0
A52: 4.1 | B52: Մարդու և քաղաքացու իրավահավասարությունը խախտելը | C52: 143 | J52: =+G52+H52+I52 -> 0
A53: 4.2 | B53: Անձնական կամ ընտանեկան կյանքի մասին տեղեկություններ ապօրինի հավաքելը, պահելը, օգտագործելը կամ տարածելը | C53: 144 | J53: =+G53+H53+I53 -> 0
A54: 4.3 | B54: Բժշկական գաղտնիքը հրապարակելը | C54: 145 | J54: =+G54+H54+I54 -> 0
A55: 4.4 | B55: Նամակագրության, հեռախոսային խոսակցությունների, փոստային, հեռագրական կամ այլ հաղորդումների գաղտնիությունը խախտելը | C55: 146 | J55: =+G55+H55+I55 -> 0
A56: 4.5 | B56: Բնակարանի անձեռնմխելիությունը խախտելը | C56: 147 | F56: 2 | G56: 1 | I56: 1 | J56: =+G56+H56+I56 -> 2
A57: 4.6 | B57: Անձին տեղեկություն ներկայացնելուց հրաժարվելը | C57: 148 | J57: =+G57+H57+I57 -> 0
A58: 4.7 | B58: Ընտրական իրավունքի իրականացմանը, ընտրական հանձնաժողովների աշխատանքներին կամ ընտրությանը մասնակցող անձանց լիազորությունների իրականացմանը խոչընդոտելը | C58: 149 | J58: =+G58+H58+I58 -> 0
A59: 4.8 | B59: Ընտրությունների կամ քվեարկության արդյունքները կեղծելը | C59: 150 | J59: =+G59+H59+I59 -> 0
A60: 4.10 | B60: Ընտրողների ցուցակները կազմելու, դրանք քաղաքացիներին և կուսակցություններին տրամադրելու կամ հրապարակելու կարգը խախտելը | C60: 152 | J60: =+G60+H60+I60 -> 0
A61: 4.11 | B61: Մեկից ավելի անգամ կամ այլ անձի փոխարեն քվեարկելը | C61: 153 | J61: =+G61+H61+I61 -> 0
A62: 4.12 | B62: Քվեարկության գաղտնիությունը խախտելը | C62: 154 | J62: =+G62+H62+I62 -> 0
A63: 4.13 | B63: Կեղծ ընտրական քվեաթերթիկներ կամ քվեարկության ծրարներ, դրոշմանիշեր, կտրոններ պատրաստելը կամ ակնհայտ կեղծ ընտրական քվեաթերթիկներ կամ քվեարկության ծրարներ, դրոշմանիշեր, կտրոններ հանձնելը կամ իրացնելը | C63: 154.1 | J63: =+G63+H63+I63 -> 0
A64: 4.14 | B64: Ընտրողի կողմից թեկնածուներից, կուսակցություններից (կուսակցությունների դաշինքներից), հանրաքվեի քարոզչական նախաձեռնություններից կաշառք ստանալը կամ թեկնածուների, կուսակցությունների (կուսակցությունների դաշինքների), հանրաքվեի քարոզչական նախաձեռնությունների կողմից ընտրողներին կաշառք տալը կամ ընտրողի ազատ կամքի իրականացմանը խոչընդոտելը | C64: 154.2 | J64: =+G64+H64+I64 -> 0
A65: 4.16 | B65: Զենքով՝ տեղամասային կենտրոն մուտք գործելը | C65: 154.4 | J65: =+G65+H65+I65 -> 0
A66: 4.17 | B66: Վստահված անձին,ընտրական հանձնաժողովի անդամին,դիտորդին կամ զանգվածային լրատվության միջոցի ներկայացուցչին ընտրական փաստաթղթերին ծանոթանալուն խոչընդոտելը, ընտրական հանձնաժողովի արձանագրությունների պատճեններ չտալը | C66: 154.5 | J66: =+G66+H66+I66 -> 0
A67: 4.17.1 | B67: Ընտրական հանձնաժողովի նախագահի լիազորությունները չկատարելը կամ ոչ պատշաճ կատարելը | C67: 154.6 | J67: =+G67+H67+I67 -> 0
A68: 4.17.2 | B68: Քվեատուփը, ընտրողների ստորագրած ցուցակը, տեղամասային ընտրական հանձնաժողովի գրանցամատյանը, հանձնաժողովի կնիքը, տեղամասային ընտրական հանձնաժողովի անդամի անհատական կնիքը, ինքնասոսնձվող դրոշմանիշը, ընտրողի վերաբերյալ տվյալներ պարունակող քվեարկության կտրոնը կամ համարակալված կտրոնը, ընտրողների էլեկտրոնային գրանցման տեխնիկական սարքավորումը, կառավարության կողմից ընտրված մասնագիտացված կազմակերպության կողմից տեղադրված տեսախցիկը, ընտրական փաստաթղթերի մեկանգամյա օգտագործման պարկը կամ ընտրական փաստաթղթերի փաթեթը հափշտակելը | C68: 154.7 | J68: =+G68+H68+I68 -> 0
... A79: 4.27 | B79: Լրագրողի մասնագիտական օրինական գործողությանը խոչընդոտելը | C79: 164 | J79: =+G79+H79+I79 -> 0
A80: 4.28 | B80: Այլ հանցագործություններ | J80: =+G80+H80+I80 -> 0
A81: 5. | B81: Ընդամենը ընտանիքի և երեխայի շահերի դեմ ուղղված հանցագործությունները | D81: =SUM(D82:D95) -> 0 | E81: =SUM(E82:E95) -> 0 | F81: =SUM(F82:F95) -> 0 | G81: =SUM(G82:G95) -> 0 | H81: =SUM(H82:H95) -> 0 | I81: =SUM(I82:I95) -> 0 | J81: =SUM(J82:J95) -> 0 | K81: =SUM(K82:K95) -> 0 | ... T81: =SUM(T82:T95) -> 0
A82: 5.1 | B82: Անչափահասին հանցանքի կատարմանը ներգրավելը | C82: 165 | J82: =+G82+H82+I82 -> 0
A83: 5.2 | B83: Երեխային պոռնկության կամ պոռնկագրական բնույթի նյութեր կամ առարկաներ պատրաստելու հետ կապված գործողություններ կատարելուն ներգրավելը | C83: 166 | J83: =+G83+H83+I83 -> 0
A84: 5.2.1 | B84: Երեխային ոգելից խմիչքների օգտագործմանը, ուժեղ ներգործող կամ այլ թմրեցնող նյութերի ոչ բժշկական օգտագործմանը, թափառաշրջիկությանը ներգրավելը կամ մուրացկանության հետ կապված գործողություններ կատարելուն ներգրավելը | C84: 166.1 | J84: =+G84+H84+I84 -> 0
A85: 5.3 | B85: Ծնողներից երեխային ապօրինի բաժանելը կամ երեխային փոխելը | C85: 167 | J85: =+G85+H85+I85 -> 0
A86: 5.4 | B86: Խնամքը ստանձնելու նպատակով երեխայի առքը կամ ստանձնողի խնամքին հանձնելու նպատակով երեխայի վաճառքը | C86: 168 | J86: =+G86+H86+I86 -> 0
A87: 5.5 | B87: Որդեգրման գաղտնիքը հրապարակելը կամ որդեգրման համաձայնություն տալուն հակելը կամ հարկադրելը | C87: 169 | J87: =+G87+H87+I87 -> 0
A88: 5.6 | B88: Քաղաքացիական կացության ակտերի գրանցման մարմիններին սուտ տեղեկություններ հաղորդելը | C88: 169.1 | J88: =+G88+H88+I88 -> 0
A89: 5.7 | B89: Երեխային դաստիարակելու պարտականությունը չկատարելը | C89: 170 | J89: =+G89+H89+I89 -> 0
A90: 5.8 | B90: Երեխայի կյանքի անվտանգության ապահովման կամ առողջության պահպանման պարտականությունը չկատարելը կամ ոչ պատշաճ կատարելը | C90: 171 | J90: =+G90+H90+I90 -> 0
A91: 5.8.1 | B91: Վերարտադրողականության օժանդակ տեխնոլոգիաներից օգտվելու կանոնները խախտելը | C91: 171.1 | J91: =+G91+H91+I91 -> 0
A92: 5.9 | B92: Խնամակալի կամ հոգաբարձուի իրավունքները չարաշահելը | C92: 172 | J92: =+G92+H92+I92 -> 0
A93: 5.10 | B93: Ծնողի կողմից երեխային պահելուց չարամտորեն խուսափելը | C93: 173 | J93: =+G93+H93+I93 -> 0
A94: 5.11 | B94: Զավակի կողմից անաշխատունակ ծնողին պահելուց չարամտորեն խուսափելը | C94: 174 | J94: =+G94+H94+I94 -> 0
A95: 5.12 | B95: Այլ հանցագործություններ | J95: =+G95+H95+I95 -> 0
A96: 6. | B96: Ընդամենը սեփականության դեմ ուղղված հանցագործությունները | D96: =SUM(D97:D111) -> 25 | E96: =SUM(E97:E111) -> 2 | F96: =SUM(F97:F111) -> 54 | G96: =SUM(G97:G111) -> 29 | H96: =SUM(H97:H111) -> 3 | I96: =SUM(I97:I111) -> 2 | J96: =SUM(J97:J111) -> 34 | K96: =SUM(K97:K111) -> 0 | ... T96: =SUM(T97:T111) -> 0
A97: 6.1 | B97: Ավազակությունը | C97: 175 | D97: 1 | F97: 1 | J97: =+G97+H97+I97 -> 0 | M97: 2
A98: 6.2 | B98: Կողոպուտը | C98: 176 | D98: 3 | F98: 1 | G98: 1 | H98: 1 | I98: 2 | J98: =+G98+H98+I98 -> 4 | O98: 1 | Q98: 1
A99: 6.3 | B99: Գողությունը | C99: 177 | D99: 10 | E99: 1 | F99: 32 | G99: 23 | J99: =+G99+H99+I99 -> 23 | M99: 19 | N99: 1 | O99: 5 | Q99: 5
A100: 6.4 | B100: Խարդախությունը | C100: 178 | D100: 5 | E100: 1 | F100: 10 | G100: 2 | H100: 1 | J100: =+G100+H100+I100 -> 3 | M100: 12 | N100: 1
A101: 6.5 | B101: Յուրացնելը կամ վատնելը | C101: 179 | D101: 5 | F101: 6 | G101: 2 | H101: 1 | J101: =+G101+H101+I101 -> 3 | M101: 8 | P101: 1 | Q101: 1
A102: 6.6 | B102: Առանձնակի արժեք ունեցող առարկաներ հափշտակելը | C102: 180 | J102: =+G102+H102+I102 -> 0
A103: 6.7 | B103: Հափշտակությունը, որը կատարվել է համակարգչային տեխնիկայի օգտագործմամբ | C103: 181 | J103: =+G103+H103+I103 -> 0
A104: 6.8 | B104: Շորթումը | C104: 182 | F104: 1 | J104: =+G104+H104+I104 -> 0 | M104: 1
A105: 6.9 | B105: Ավտոմեքենային կամ տրանսպորտային այլ միջոցին ապօրինաբար տիրանալն առանց հափշտակելու նպատակի | C105: 183 | D105: 1 | G105: 1 | J105: =+G105+H105+I105 -> 1
A106: 6.10 | B106: Գույքային վնաս պատճառելը խաբեության կամ վստահությունը չարաշահելու եղանակով | C106: 184 | J106: =+G106+H106+I106 -> 0
A107: 6.10.1 | B107: Գրավառուին վնաս պատճառելը | C107: 184.1 | J107: =+G107+H107+I107 -> 0
A108: 6.11 | B108: Գույքը դիտավորությամբ ոչնչացնելը կամ վնասելը | C108: 185 | F108: 3 | J108: =+G108+H108+I108 -> 0 | M108: 3
A109: 6.12 | B109: Գույքն անզգուշությամբ ոչնչացնելը կամ վնասելը | C109: 186 | J109: =+G109+H109+I109 -> 0
A110: 6.13 | B110: Գուքի պահպանության պարտականություններն անփույթ կամ անբարեխիղճ կատարելը | C110: 186.1 | J110: =+G110+H110+I110 -> 0
...

Sheet Լոռի
A1: 2019թ. տարեկան | D1: ՀԱՇՎԵՏՎՈՒԹՅՈՒՆ
A2: ՀՀ ԼՈՌՈՒ ՄԱՐԶԻ ԱՌԱՋԻՆ ԱՏՅԱՆԻ ԸՆԴՀԱՆՈՒՐ ԻՐԱՎԱՍՈՒԹՅԱՆ ԴԱՏԱՐԱՆՈՒՄ ՔՐԵԱԿԱՆ ԳՈՐԾԵՐԻ ՔՆՆՈՒԹՅԱՆ ՎԵՐԱԲԵՐՅԱԼ
A3: ՀՀ Լոռու մարզի առաջին ատյանի ընդհանուր իրավասության դատարանում քրեական մասնագիտացում ունեցող դատավորների հաստիքների քանակը` 4
A4: Ստուգիչ հավասարումներ` 1+3=7+8+10, 7=4+5+6, 14=12+13, 17=15+16 | C4: ՀՀ քրեական օրենսգրքի հոդվածներ | D4: Հաշվետու ժամանակահատվածի սկզբում նախորդ հաշվետու ժամանակահատվածից փոխանցված գործերի ընդհանուր թիվը | E4: Այդ թվում` կասեցված վիճակում փոխանցված | F4: Հաշվետու ժամանակահատվածում ստացված գործերի ընդհանուր թիվը | G4: Հաշվետու ժամանակահատվածում ավարտված գործերի ընդհանուր թիվը | K4: Ուղարկվել է ըստ ընդդատության | L4: Հաշվետու ժամանակահատվածում կասեցված վարույթներով գործերի ընդհանուր թիվը | M4: Հաշվետու ժամանակահատվածում անավարտ գործերի ընդհանուր թիվը | N4: Այդ թվում՝ կասեցված | O4: Բողոքարկված դատական ակտերի թիվը` ըստ տեսակների | R4: Բեկանված դատական ակտերի թիվը` ըստ տեսակների
G5: Քննվել է ըստ էության և դատավճիռ կայացվել | H5: Որոշում է կայացվել քրեական գործի վարույթը կարճելու և քրեական հետապնդումը դադարեցնելու մասին | I5: Որոշում է կայացվել անմեղսունակների նկատմամբ բժշկական բնույթի հարկադրական միջոցներ կիրառելու մասին | J5: Ընդամենը ավարտվել են գործեր | O5: Այդ թվում` գործն ըստ էության լուծող դատական ակտերը | P5: Այդ թվում` միջանկյալ դատական ակտերը | Q5: Ընդամենը | R5: Այդ թվում` գործն ըստ էության լուծող դատական ակտերը | S5: Այդ թվում` միջանկյալ դատական ակտերը | T5: Ընդամենը
D6: 1 | E6: 2 | F6: 3 | G6: 4 | H6: 5 | I6: 6 | J6: 7 | K6: 8 | L6: 9 | M6: 10 | N6: 11 | O6: 12 | P6: 13 | Q6: 14 | R6: 15 | S6: 16 | T6: 17
A7: 1. | B7: Ընդամենը կյանքի և առողջության դեմ ուղղված հանցագործությունները | D7: =SUM(D8:D34) -> 32 | E7: =SUM(E8:E34) -> 0 | F7: =SUM(F8:F34) -> 43 | G7: =SUM(G8:G34) -> 25 | H7: =SUM(H8:H34) -> 5 | I7: =SUM(I8:I34) -> 3 | J7: =SUM(J8:J34) -> 33 | K7: =SUM(K8:K34) -> 0 | ... T7: =SUM(T8:T34) -> 0
A8: 1.1 | B8: Սպանությունը | C8: 104 | D8: 14 | F8: 6 | G8: 1 | J8: =+I8+H8+G8 -> 1 | M8: 19 | O8: 1 | P8: 5 | Q8: =+O8+P8 -> 6 | T8: =+R8+S8 -> 0
A9: 1.2 | B9: Հոգեկան խիստ հուզմունքի վիճակում կատարված սպանությունը | C9: 105 | J9: =+I9+H9+G9 -> 0 | Q9: =+O9+P9 -> 0 | T9: =+R9+S9 -> 0
A10: 1.3 | B10: Մոր կողմից նորածին երեխայի սպանությունը | C10: 106 | J10: =+I10+H10+G10 -> 0 | Q10: =+O10+P10 -> 0 | T10: =+R10+S10 -> 0
A11: 1.4 | B11: Հանցանք կատարած անձին բռնելու համար անհրաժեշտ միջոցների սահմանազանցմամբ սպանությունը | C11: 107 | J11: =+I11+H11+G11 -> 0 | Q11: =+O11+P11 -> 0 | T11: =+R11+S11 -> 0
A12: 1.5 | B12: Անհրաժեշտ պաշտպանության սահմանազանցմամբ սպանությունը | C12: 108 | J12: =+I12+H12+G12 -> 0 | Q12: =+O12+P12 -> 0 | T12: =+R12+S12 -> 0
A13: 1.6 | B13: Անզգուշությամբ մահ պատճառելը | C13: 109 | J13: =+I13+H13+G13 -> 0 | Q13: =+O13+P13 -> 0 | T13: =+R13+S13 -> 0
A14: 1.7 | B14: Ինքնասպանության հասցնելը | C14: 110 | J14: =+I14+H14+G14 -> 0 | Q14: =+O14+P14 -> 0 | T14: =+R14+S14 -> 0
A15: 1.8 | B15: Ինքնասպանության հակելը | C15: 111 | J15: =+I15+H15+G15 -> 0 | Q15: =+O15+P15 -> 0 | T15: =+R15+S15 -> 0
A16: 1.9 | B16: Դիտավորությամբ առողջությանը ծանր վնաս պատճառելը | C16: 112 | D16: 12 | F16: 23 | G16: 21 | J16: =+I16+H16+G16 -> 21 | M16: 14 | O16: 6 | P16: 1 | Q16: =+O16+P16 -> 7 | T16: =+R16+S16 -> 0
A17: 1.10 | B17: Դիտավորությամբ առողջությանը միջին ծանրության վնաս պատճառելը | C17: 113 | D17: 1 | F17: 1 | H17: 1 | J17: =+I17+H17+G17 -> 1 | M17: 1 | Q17: =+O17+P17 -> 0 | T17: =+R17+S17 -> 0
A18: 1.11 | B18: Հոգեկան խիստ հուզմունքի վիճակում առողջությանը ծանր կամ միջին ծանրության վնաս պատճառելը | C18: 114 | J18: =+I18+H18+G18 -> 0 | Q18: =+O18+P18 -> 0 | T18: =+R18+S18 -> 0
A19: 1.12 | B19: Հանցանք կատարած անձին բռնելու համար անհրաժեշտ միջոցների սահմանզանցմամբ առողջությանը ծանր կամ միջին ծանրության վնաս պատճառելը | C19: 115 | J19: =+I19+H19+G19 -> 0 | Q19: =+O19+P19 -> 0 | T19: =+R19+S19 -> 0
A20: 1.13 | B20: Առողջությանը ծանր կամ միջին ծանրության վնաս պատճառելը անհրաժեշտ պաշտպանության սահմանանազանցմամբ | C20: 116 | J20: =+I20+H20+G20 -> 0 | Q20: =+O20+P20 -> 0 | T20: =+R20+S20 -> 0
A21: 1.14 | B21: Դիտավորությամբ առողջությանը թեթև վնաս պատճառելը | C21: 117 | D21: 1 | F21: 2 | I21: 1 | J21: =+I21+H21+G21 -> 1 | M21: 2 | Q21: =+O21+P21 -> 0 | T21: =+R21+S21 -> 0
A22: 1.15 | B22: Ծեծը | C22: 118 | D22: 2 | F22: 10 | G22: 3 | H22: 3 | I22: 1 | J22: =+I22+H22+G22 -> 7 | M22: 5 | O22: 1 | Q22: =+O22+P22 -> 1 | T22: =+R22+S22 -> 0
A23: 1.16 | B23: Ֆիզիկական ուժեղ ցավ կամ հոգեկան ուժեղ տառապանք պատճառելը | C23: 119 | J23: =+I23+H23+G23 -> 0 | Q23: =+O23+P23 -> 0 | T23: =+R23+S23 -> 0
A24: 1.17 | B24: Անզգուշությամբ առողջությանը ծանր վնաս պատճառելը | C24: 120 | J24: =+I24+H24+G24 -> 0 | Q24: =+O24+P24 -> 0 | T24: =+R24+S24 -> 0
A25: 1.18 | B25: Անզգուշությամբ առողջությանը միջին ծանրության վնաս պատճառելը | C25: 121 | F25: 1 | I25: 1 | J25: =+I25+H25+G25 -> 1 | Q25: =+O25+P25 -> 0 | T25: =+R25+S25 -> 0
A26: 1.19 | B26: Ապօրինի աբորտ կատարելը | C26: 122 | J26: =+I26+H26+G26 -> 0 | Q26: =+O26+P26 -> 0 | T26: =+R26+S26 -> 0
A27: 1.20 | B27: Մարդու իմունային անբավարարության վիրուսի հարուցիչով վարակելը | C27: 123 | J27: =+I27+H27+G27 -> 0 | Q27: =+O27+P27 -> 0 | T27: =+R27+S27 -> 0
A28: 1.21 | B28: Վեներական հիվանդությամբ կամ այլ սեռավարակներով վարակելը | C28: 124 | J28: =+I28+H28+G28 -> 0 | Q28: =+O28+P28 -> 0 | T28: =+R28+S28 -> 0
A29: 1.22 | B29: Փոխպատվաստման վիրահատություն կատարելու կանոնները խախտելը | C29: 125 | J29: =+I29+H29+G29 -> 0 | Q29: =+O29+P29 -> 0 | T29: =+R29+S29 -> 0
A30: 1.24 | B30: Անձին առանց իր հանձնարարության բժշկական կամ գիտական փորձերի ենթարկելը | C30: 127 | J30: =+I30+H30+G30 -> 0 | Q30: =+O30+P30 -> 0 | T30: =+R30+S30 -> 0
A31: 1.25 | B31: Վտանգի մեջ թողնելը | C31: 128 | J31: =+I31+H31+G31 -> 0 | Q31: =+O31+P31 -> 0 | T31: =+R31+S31 -> 0
A32: 1.26 | B32: Հիվանդին օգնություն ցույց չտալը | C32: 129 | J32: =+I32+H32+G32 -> 0 | Q32: =+O32+P32 -> 0 | T32: =+R32+S32 -> 0
A33: 1.27 | B33: Բժշկական օգնություն և սպասարկում իրականացնողների կողմից մասնագիտական պարտականությունները չկատարելը կամ ոչ պատշաճ կատարելը | C33: 130 | D33: 2 | H33: 1 | J33: =+I33+H33+G33 -> 1 | M33: 1 | Q33: =+O33+P33 -> 0 | T33: =+R33+S33 -> 0
A34: 1.28 | B34: Այլ հանցագործություններ | J34: =+I34+H34+G34 -> 0 | Q34: =+O34+P34 -> 0 | T34: =+R34+S34 -> 0
A35: 2. | B35: Ընդամենը անձի ազատության, պատվի և արժանապատվության դեմ ուղղված հանցագործությունները | D35: =SUM(D36:D43) -> 1 | E35: =SUM(E36:E43) -> 0 | F35: =SUM(F36:F43) -> 2 | G35: =SUM(G36:G43) -> 1 | H35: =SUM(H36:H43) -> 0 | I35: =SUM(I36:I43) -> 1 | J35: =SUM(J36:J43) -> 2 | K35: =SUM(K36:K43) -> 0 | ... T35: =SUM(T36:T43) -> 0
A36: 2.1 | B36: Մարդուն առևանգելը | C36: 131 | F36: 1 | G36: 1 | J36: =+I36+H36+G36 -> 1 | Q36: =+O36+P36 -> 0 | T36: =+R36+S36 -> 0
A37: 2.2 | B37: Մարդու թրաֆիքինգը կամ շահագործումը | C37: 132 | J37: =+I37+H37+G37 -> 0 | Q37: =+O37+P37 -> 0 | T37: =+R37+S37 -> 0
A38: 2.2.2 | B38: Երեխայի կամ հոգեկան խանգարման հետևանքով իր արարքի բնույթն ու նշանակությունը գիտակցելու կամ դա ղեկավարելու հնարավորությունից զրկված անձի թրաֆիքինգը կամ շահագործումը | C38: 132.2 | J38: =+I38+H38+G38 -> 0 | Q38: =+O38+P38 -> 0 | T38: =+R38+S38 -> 0
A39: 2.2.3 | B39: Շահագործման վիճակում գտնվող անձի ծառայությունից օգտվելը | C39: 132.3 | J39: =+I39+H39+G39 -> 0 | Q39: =+O39+P39 -> 0 | T39: =+R39+S39 -> 0
A40: 2.3 | B40: Ազատությունից ապօրինի զրկելը | C40: 133 | J40: =+I40+H40+G40 -> 0 | Q40: =+O40+P40 -> 0 | T40: =+R40+S40 -> 0
A41: 2.4 | B41: Հոգեբուժական հիվանդանոցում ապօրինի տեղավորելը կամ պահելը | C41: 134 | J41: =+I41+H41+G41 -> 0 | Q41: =+O41+P41 -> 0 | T41: =+R41+S41 -> 0
A42: 2.7 | B42: Սպանության, առողջությանը ծանր վնաս պատճառելու կամ գույք ոչնչացնելու սպառնալիքը | C42: 137 | D42: 1 | F42: 1 | I42: 1 | J42: =+I42+H42+G42 -> 1 | M42: 1 | Q42: =+O42+P42 -> 0 | T42: =+R42+S42 -> 0
A43: 2.8 | B43: Այլ հանցագործություններ | J43: =+I43+H43+G43 -> 0 | Q43: =+O43+P43 -> 0 | T43: =+R43+S43 -> 0
A44: 3. | B44: Ընդամենը սեռական անձեռնմխելիության և սեռական ազատության դեմ ուղղված հանցագործությունները | D44: =SUM(D45:D50) -> 5 | E44: =SUM(E45:E50) -> 1 | F44: =SUM(F45:F50) -> 4 | G44: =SUM(G45:G50) -> 4 | H44: =SUM(H45:H50) -> 0 | I44: =SUM(I45:I50) -> 0 | J44: =SUM(J45:J50) -> 4 | K44: =SUM(K45:K50) -> 0 | ... T44: =SUM(T45:T50) -> 0
A45: 3.1 | B45: Բռնաբարությունը | C45: 138 | D45: 2 | G45: 1 | J45: =+I45+H45+G45 -> 1 | M45: 1 | O45: 1 | Q45: =+O45+P45 -> 1 | T45: =+R45+S45 -> 0
A46: 3.2 | B46: Սեքսուալ բնույթի բռնի գործողությունները | C46: 139 | D46: 2 | G46: 1 | J46: =+I46+H46+G46 -> 1 | M46: 1 | O46: 1 | Q46: =+O46+P46 -> 1 | T46: =+R46+S46 -> 0
A47: 3.3 | B47: Սեռական հարաբերության կամ սեքսուալ բնույթի գործողություններին հարկադրելը | C47: 140 | J47: =+I47+H47+G47 -> 0 | Q47: =+O47+P47 -> 0 | T47: =+R47+S47 -> 0
A48: 3.4 | B48: Սեռական հարաբերությունը տասնվեց տարին չլրացած անձի հետ կամ սեքսուալ բնույթի գործողություններ կատարելը տասնվեց տարին չլրացած անձի նկատմամբ | C48: 141 | D48: 1 | E48: 1 | F48: 3 | G48: 2 | J48: =+I48+H48+G48 -> 2 | M48: 2 | N48: 1 | Q48: =+O48+P48 -> 0 | T48: =+R48+S48 -> 0
A49: 3.5 | B49: Անառակաբարո գործողությունները | C49: 142 | F49: 1 | J49: =+I49+H49+G49 -> 0 | M49: 1 | Q49: =+O49+P49 -> 0 | T49: =+R49+S49 -> 0
A50: 3.6 | B50: Այլ հանցագործություններ | J50: =+I50+H50+G50 -> 0 | Q50: =+O50+P50 -> 0 | T50: =+R50+S50 -> 0
A51: 4. | B51: Ընդամենը մարդու և քաղաքացու սահմանադրական իրավունքների և ազատությունների դեմ ուղղված հանցագործությունները | D51: =SUM(D52:D80) -> 1 | E51: =SUM(E52:E80) -> 0 | F51: =SUM(F52:F80) -> 5 | G51: =SUM(G52:G80) -> 2 | H51: =SUM(H52:H80) -> 0 | I51: =SUM(I52:I80) -> 0 | J51: =SUM(J52:J80) -> 2 | K51: =SUM(K52:K80) -> 0 | ... T51: =SUM(T52:T80) -> 0
A52: 4.1 | B52: Մարդու և քաղաքացու իրավահավասարությունը խախտելը | C52: 143 | J52: =+I52+H52+G52 -> 0 | Q52: =+O52+P52 -> 0 | T52: =+R52+S52 -> 0
A53: 4.2 | B53: Անձնական կամ ընտանեկան կյանքի մասին տեղեկություններ ապօրինի հավաքելը, պահելը, օգտագործելը կամ տարածելը | C53: 144 | J53: =+I53+H53+G53 -> 0 | Q53: =+O53+P53 -> 0 | T53: =+R53+S53 -> 0
A54: 4.3 | B54: Բժշկական գաղտնիքը հրապարակելը | C54: 145 | J54: =+I54+H54+G54 -> 0 | Q54: =+O54+P54 -> 0 | T54: =+R54+S54 -> 0
A55: 4.4 | B55: Նամակագրության, հեռախոսային խոսակցությունների, փոստային, հեռագրական կամ այլ հաղորդումների գաղտնիությունը խախտելը | C55: 146 | J55: =+I55+H55+G55 -> 0 | Q55: =+O55+P55 -> 0 | T55: =+R55+S55 -> 0
A56: 4.5 | B56: Բնակարանի անձեռնմխելիությունը խախտելը | C56: 147 | F56: 3 | G56: 2 | J56: =+I56+H56+G56 -> 2 | M56: 1 | Q56: =+O56+P56 -> 0 | T56: =+R56+S56 -> 0
A57: 4.6 | B57: Անձին տեղեկություն ներկայացնելուց հրաժարվելը | C57: 148 | J57: =+I57+H57+G57 -> 0 | Q57: =+O57+P57 -> 0 | T57: =+R57+S57 -> 0
A58: 4.7 | B58: Ընտրական իրավունքի իրականացմանը, ընտրական հանձնաժողովների աշխատանքներին կամ ընտրությանը մասնակցող անձանց լիազորությունների իրականացմանը խոչընդոտելը | C58: 149 | J58: =+I58+H58+G58 -> 0 | Q58: =+O58+P58 -> 0 | T58: =+R58+S58 -> 0
A59: 4.8 | B59: Ընտրությունների կամ քվեարկության արդյունքները կեղծելը | C59: 150 | J59: =+I59+H59+G59 -> 0 | Q59: =+O59+P59 -> 0 | T59: =+R59+S59 -> 0
A60: 4.10 | B60: Ընտրողների ցուցակները կազմելու, դրանք քաղաքացիներին և կուսակցություններին տրամադրելու կամ հրապարակելու կարգը խախտելը | C60: 152 | J60: =+I60+H60+G60 -> 0 | Q60: =+O60+P60 -> 0 | T60: =+R60+S60 -> 0
A61: 4.11 | B61: Մեկից ավելի անգամ կամ այլ անձի փոխարեն քվեարկելը | C61: 153 | J61: =+I61+H61+G61 -> 0 | Q61: =+O61+P61 -> 0 | T61: =+R61+S61 -> 0
A62: 4.12 | B62: Քվեարկության գաղտնիությունը խախտելը | C62: 154 | J62: =+I62+H62+G62 -> 0 | Q62: =+O62+P62 -> 0 | T62: =+R62+S62 -> 0
A63: 4.13 | B63: Կեղծ ընտրական քվեաթերթիկներ կամ քվեարկության ծրարներ, դրոշմանիշեր, կտրոններ պատրաստելը կամ ակնհայտ կեղծ ընտրական քվեաթերթիկներ կամ քվեարկության ծրարներ, դրոշմանիշեր, կտրոններ հանձնելը կամ իրացնելը | C63: 154.1 | J63: =+I63+H63+G63 -> 0 | Q63: =+O63+P63 -> 0 | T63: =+R63+S63 -> 0
A64: 4.14 | B64: Ընտրողի կողմից թեկնածուներից, կուսակցություններից (կուսակցությունների դաշինքներից), հանրաքվեի քարոզչական նախաձեռնություններից կաշառք ստանալը կամ թեկնածուների, կուսակցությունների (կուսակցությունների դաշինքների), հանրաքվեի քարոզչական նախաձեռնությունների կողմից ընտրողներին կաշառք տալը կամ ընտրողի ազատ կամքի իրականացմանը խոչընդոտելը | C64: 154.2 | J64: =+I64+H64+G64 -> 0 | Q64: =+O64+P64 -> 0 | T64: =+R64+S64 -> 0
A65: 4.16 | B65: Զենքով՝ տեղամասային կենտրոն մուտք գործելը | C65: 154.4 | J65: =+I65+H65+G65 -> 0 | Q65: =+O65+P65 -> 0 | T65: =+R65+S65 -> 0
A66: 4.17 | B66: Վստահված անձին,ընտրական հանձնաժողովի անդամին,դիտորդին կամ զանգվածային լրատվության միջոցի ներկայացուցչին ընտրական փաստաթղթերին ծանոթանալուն խոչընդոտելը, ընտրական հանձնաժողովի արձանագրությունների պատճեններ չտալը | C66: 154.5 | J66: =+I66+H66+G66 -> 0 | Q66: =+O66+P66 -> 0 | T66: =+R66+S66 -> 0
A67: 4.17.1 | B67: Ընտրական հանձնաժողովի նախագահի լիազորությունները չկատարելը կամ ոչ պատշաճ կատարելը | C67: 154.6 | J67: =+I67+H67+G67 -> 0 | Q67: =+O67+P67 -> 0 | T67: =+R67+S67 -> 0
A68: 4.17.2 | B68: Քվեատուփը, ընտրողների ստորագրած ցուցակը, տեղամասային ընտրական հանձնաժողովի գրանցամատյանը, հանձնաժողովի կնիքը, տեղամասային ընտրական հանձնաժողովի անդամի անհատական կնիքը, ինքնասոսնձվող դրոշմանիշը, ընտրողի վերաբերյալ տվյալներ պարունակող քվեարկության կտրոնը կամ համարակալված կտրոնը, ընտրողների էլեկտրոնային գրանցման տեխնիկական սարքավորումը, կառավարության կողմից ընտրված մասնագիտացված կազմակերպության կողմից տեղադրված տեսախցիկը, ընտրական փաստաթղթերի մեկանգամյա օգտագործման պարկը կամ ընտրական փաստաթղթերի փաթեթը հափշտակելը | C68: 154.7 | J68: =+I68+H68+G68 -> 0 | Q68: =+O68+P68 -> 0 | T68: =+R68+S68 -> 0
... A71: 4.19 | B71: Հղի կնոջը կամ մինչև երեք տարեկան երեխա ունեցող անձին աշխատանքի ընդունելոււց հրաժարվելը կամ աշխատանքից անհիմն ազատելը | C71: 156 | J71: =+I71+H71+G71 -> 0 | Q71: =+O71+P71 -> 0 | T71: =+R71+S71 -> 0
A72: 4.20 | B72: Աշխատանքի պաշտպանության կանոնները խախտելը | C72: 157 | F72: 2 | J72: =+I72+H72+G72 -> 0 | M72: 2 | Q72: =+O72+P72 -> 0 | T72: =+R72+S72 -> 0
A73: 4.21 | B73: Հեղինակային և հարակից իրավունքները խախտելը | C73: 158 | J73: =+I73+H73+G73 -> 0 | Q73: =+O73+P73 -> 0 | T73: =+R73+S73 -> 0
A74: 4.22 | B74: Արտոնագրային իրավունքը խախտելը | C74: 159 | J74: =+I74+H74+G74 -> 0 | Q74: =+O74+P74 -> 0 | T74: =+R74+S74 -> 0
A75: 4.23 | B75: Խղճի կամ դավանանքի ազատության իրավունքի իրականացմանը խոչընդոտելը | C75: 160 | J75: =+I75+H75+G75 -> 0 | Q75: =+O75+P75 -> 0 | T75: =+R75+S75 -> 0
A76: 4.24 | B76: Միավորումներ (հասարակական կամ արհեստակցական միություններ) կազմելու կամ կուսակցություններ ստեղծելու իրավունքի իրականացմանը կամ դրանց գործողությանը խոչընդոտելը | C76: 161 | J76: =+I76+H76+G76 -> 0 | Q76: =+O76+P76 -> 0 | T76: =+R76+S76 -> 0
A77: 4.25 | B77: Անձանց իրավունքների կամ անձի դեմ ոտնձգող միավորումներ կազմելը կամ ղեկավարելը | C77: 162 | J77: =+I77+H77+G77 -> 0 | Q77: =+O77+P77 -> 0 | T77: =+R77+S77 -> 0
A78: 4.26 | B78: Հավաքներ անցկացնելուն կամ դրանց մասնակցելուն խոչընդոտելը | C78: 163 | J78: =+I78+H78+G78 -> 0 | Q78: =+O78+P78 -> 0 | T78: =+R78+S78 -> 0
A79: 4.27 | B79: Լրագրողի մասնագիտական օրինական գործողությանը խոչընդոտելը | C79: 164 | D79: 1 | J79: =+I79+H79+G79 -> 0 | M79: 1 | Q79: =+O79+P79 -> 0 | T79: =+R79+S79 -> 0
A80: 4.28 | B80: Այլ հանցագործություններ | J80: =+I80+H80+G80 -> 0 | Q80: =+O80+P80 -> 0 | T80: =+R80+S80 -> 0
A81: 5. | B81: Ընդամենը ընտանիքի և երեխայի շահերի դեմ ուղղված հանցագործությունները | D81: =SUM(D82:D95) -> 2 | E81: =SUM(E82:E95) -> 0 | F81: =SUM(F82:F95) -> 1 | G81: =SUM(G82:G95) -> 0 | H81: =SUM(H82:H95) -> 0 | I81: =SUM(I82:I95) -> 0 | J81: =SUM(J82:J95) -> 0 | K81: =SUM(K82:K95) -> 0 | ... T81: =SUM(T82:T95) -> 0
A82: 5.1 | B82: Անչափահասին հանցանքի կատարմանը ներգրավելը | C82: 165 | D82: 1 | F82: 1 | J82: =+I82+H82+G82 -> 0 | M82: 2 | Q82: =+O82+P82 -> 0 | T82: =+R82+S82 -> 0
A83: 5.2 | B83: Երեխային պոռնկության կամ պոռնկագրական բնույթի նյութեր կամ առարկաներ պատրաստելու հետ կապված գործողություններ կատարելուն ներգրավելը | C83: 166 | J83: =+I83+H83+G83 -> 0 | Q83: =+O83+P83 -> 0 | T83: =+R83+S83 -> 0
A84: 5.2.1 | B84: Երեխային ոգելից խմիչքների օգտագործմանը, ուժեղ ներգործող կամ այլ թմրեցնող նյութերի ոչ բժշկական օգտագործմանը, թափառաշրջիկությանը ներգրավելը կամ մուրացկանության հետ կապված գործողություններ կատարելուն ներգրավելը | C84: 166.1 | J84: =+I84+H84+G84 -> 0 | Q84: =+O84+P84 -> 0 | T84: =+R84+S84 -> 0
A85: 5.3 | B85: Ծնողներից երեխային ապօրինի բաժանելը կամ երեխային փոխելը | C85: 167 | J85: =+I85+H85+G85 -> 0 | Q85: =+O85+P85 -> 0 | T85: =+R85+S85 -> 0
A86: 5.4 | B86: Խնամքը ստանձնելու նպատակով երեխայի առքը կամ ստանձնողի խնամքին հանձնելու նպատակով երեխայի վաճառքը | C86: 168 | J86: =+I86+H86+G86 -> 0 | Q86: =+O86+P86 -> 0 | T86: =+R86+S86 -> 0
A87: 5.5 | B87: Որդեգրման գաղտնիքը հրապարակելը կամ որդեգրման համաձայնություն տալուն հակելը կամ հարկադրելը | C87: 169 | J87: =+I87+H87+G87 -> 0 | Q87: =+O87+P87 -> 0 | T87: =+R87+S87 -> 0
A88: 5.6 | B88: Քաղաքացիական կացության ակտերի գրանցման մարմիններին սուտ տեղեկություններ հաղորդելը | C88: 169.1 | J88: =+I88+H88+G88 -> 0 | Q88: =+O88+P88 -> 0 | T88: =+R88+S88 -> 0
A89: 5.7 | B89: Երեխային դաստիարակելու պարտականությունը չկատարելը | C89: 170 | J89: =+I89+H89+G89 -> 0 | Q89: =+O89+P89 -> 0 | T89: =+R89+S89 -> 0
A90: 5.8 | B90: Երեխայի կյանքի անվտանգության ապահովման կամ առողջության պահպանման պարտականությունը չկատարելը կամ ոչ պատշաճ կատարելը | C90: 171 | J90: =+I90+H90+G90 -> 0 | Q90: =+O90+P90 -> 0 | T90: =+R90+S90 -> 0
A91: 5.8.1 | B91: Վերարտադրողականության օժանդակ տեխնոլոգիաներից օգտվելու կանոնները խախտելը | C91: 171.1 | J91: =+I91+H91+G91 -> 0 | Q91: =+O91+P91 -> 0 | T91: =+R91+S91 -> 0
A92: 5.9 | B92: Խնամակալի կամ հոգաբարձուի իրավունքները չարաշահելը | C92: 172 | J92: =+I92+H92+G92 -> 0 | Q92: =+O92+P92 -> 0 | T92: =+R92+S92 -> 0
A93: 5.10 | B93: Ծնողի կողմից երեխային պահելուց չարամտորեն խուսափելը | C93: 173 | D93: 1 | J93: =+I93+H93+G93 -> 0 | M93: 1 | Q93: =+O93+P93 -> 0 | T93: =+R93+S93 -> 0
A94: 5.11 | B94: Զավակի կողմից անաշխատունակ ծնողին պահելուց չարամտորեն խուսափելը | C94: 174 | J94: =+I94+H94+G94 -> 0 | Q94: =+O94+P94 -> 0 | T94: =+R94+S94 -> 0
A95: 5.12 | B95: Այլ հանցագործություններ | J95: =+I95+H95+G95 -> 0 | Q95: =+O95+P95 -> 0 | T95: =+R95+S95 -> 0
A96: 6. | B96: Ընդամենը սեփականության դեմ ուղղված հանցագործությունները | D96: =SUM(D97:D111) -> 52 | E96: =SUM(E97:E111) -> 6 | F96: =SUM(F97:F111) -> 82 | G96: =SUM(G97:G111) -> 68 | H96: =SUM(H97:H111) -> 12 | I96: =SUM(I97:I111) -> 4 | J96: =SUM(J97:J111) -> 84 | K96: =SUM(K97:K111) -> 0 | ... T96: =SUM(T97:T111) -> 0
A97: 6.1 | B97: Ավազակությունը | C97: 175 | D97: 3 | F97: 4 | J97: =+I97+H97+G97 -> 0 | M97: 5 | P97: 1 | Q97: =+O97+P97 -> 1 | T97: =+R97+S97 -> 0
A98: 6.2 | B98: Կողոպուտը | C98: 176 | D98: 3 | E98: 1 | F98: 7 | G98: 7 | J98: =+I98+H98+G98 -> 7 | M98: 3 | N98: 1 | O98: 3 | P98: 1 | Q98: =+O98+P98 -> 4 | T98: =+R98+S98 -> 0
A99: 6.3 | B99: Գողությունը | C99: 177 | D99: 30 | E99: 1 | F99: 43 | G99: 37 | H99: 6 | I99: 4 | J99: =+I99+H99+G99 -> 47 | M99: 26 | N99: 1 | O99: 10 | P99: 2 | Q99: =+O99+P99 -> 12 | T99: =+R99+S99 -> 0
A100: 6.4 | B100: Խարդախությունը | C100: 178 | D100: 7 | E100: 1 | F100: 11 | G100: 10 | J100: =+I100+H100+G100 -> 10 | M100: 8 | O100: 1 | Q100: =+O100+P100 -> 1 | T100: =+R100+S100 -> 0
A101: 6.5 | B101: Յուրացնելը կամ վատնելը | C101: 179 | D101: 7 | E101: 1 | F101: 9 | G101: 11 | H101: 4 | J101: =+I101+H101+G101 -> 15 | M101: 1 | O101: 2 | Q101: =+O101+P101 -> 2 | T101: =+R101+S101 -> 0
A102: 6.6 | B102: Առանձնակի արժեք ունեցող առարկաներ հափշտակելը | C102: 180 | J102: =+I102+H102+G102 -> 0 | Q102: =+O102+P102 -> 0 | T102: =+R102+S102 -> 0
...

Sheet Գեղարքունիք
A1: 2019թ.տարեկան | D1: ՀԱՇՎԵՏՎՈՒԹՅՈՒՆ
A2: ՀՀ ԳԵՂԱՐՔՈՒՆԻՔԻ ՄԱՐԶԻ ԱՌԱՋԻՆ ԱՏՅԱՆԻ ԸՆԴՀԱՆՈՒՐ ԻՐԱՎԱՍՈՒԹՅԱՆ ԴԱՏԱՐԱՆՈՒՄ ՔՐԵԱԿԱՆ ԳՈՐԾԵՐԻ ՔՆՆՈՒԹՅԱՆ ՎԵՐԱԲԵՐՅԱԼ
A3: ՀՀ Գեղարքունիքի մարզի առաջին ատյանի ընդհանուր իրավասության դատարանում քրեական մասնագիտացում ունեցող դատավորների հաստիքների քանակը` 5
A4: Ստուգիչ հավասարումներ` 1+3=7+8+10, 7=4+5+6, 14=12+13, 17=15+16 | C4: ՀՀ քրեական օրենսգրքի հոդվածներ | D4: Հաշվետու ժամանակահատվածի սկզբում նախորդ հաշվետու ժամանակահատվածից փոխանցված գործերի ընդհանուր թիվը | E4: Այդ թվում` կասեցված վիճակում փոխանցված | F4: Հաշվետու ժամանակահատվածում ստացված գործերի ընդհանուր թիվը | G4: Հաշվետու ժամանակահատվածում ավարտված գործերի ընդհանուր թիվը | K4: Ուղարկվել է ըստ ընդդատության | L4: Հաշվետու ժամանակահատվածում կասեցված վարույթներով գործերի ընդհանուր թիվը | M4: Հաշվետու ժամանակահատվածում անավարտ գործերի ընդհանուր թիվը | N4: Այդ թվում՝ կասեցված | O4: Բողոքարկված դատական ակտերի թիվը` ըստ տեսակների | R4: Բեկանված դատական ակտերի թիվը` ըստ տեսակների
G5: Քննվել է ըստ էության և դատավճիռ կայացվել | H5: Որոշում է կայացվել քրեական գործի վարույթը կարճելու և քրեական հետապնդումը դադարեցնելու մասին | I5: Որոշում է կայացվել անմեղսունակների նկատմամբ բժշկական բնույթի հարկադրական միջոցներ կիրառելու մասին | J5: Ընդամենը ավարտվել են գործեր | O5: Այդ թվում` գործն ըստ էության լուծող դատական ակտերը | P5: Այդ թվում` միջանկյալ դատական ակտերը | Q5: Ընդամենը | R5: Այդ թվում` գործն ըստ էության լուծող դատական ակտերը | S5: Այդ թվում` միջանկյալ դատական ակտերը | T5: Ընդամենը
D6: 1 | E6: 2 | F6: 3 | G6: 4 | H6: 5 | I6: 6 | J6: 7 | K6: 8 | L6: 9 | M6: 10 | N6: 11 | O6: 12 | P6: 13 | Q6: 14 | R6: 15 | S6: 16 | T6: 17
A7: 1. | B7: Ընդամենը կյանքի և առողջության դեմ ուղղված հանցագործությունները | D7: =SUM(D8:D34) -> 33 | E7: =SUM(E8:E34) -> 0 | F7: =SUM(F8:F34) -> 25 | G7: =SUM(G8:G34) -> 20 | H7: =SUM(H8:H34) -> 10 | I7: =SUM(I8:I34) -> 4 | J7: =SUM(J8:J34) -> 34 | K7: =SUM(K8:K34) -> 0 | ... T7: =SUM(T8:T34) -> 1
A8: 1.1 | B8: Սպանությունը | C8: 104 | D8: 16 | F8: 3 | G8: 6 | I8: 2 | J8: 8 | M8: 10 | O8: 1 | P8: 1 | Q8: 2
A9: 1.2 | B9: Հոգեկան խիստ հուզմունքի վիճակում կատարված սպանությունը | C9: 105
A10: 1.3 | B10: Մոր կողմից նորածին երեխայի սպանությունը | C10: 106
A11: 1.4 | B11: Հանցանք կատարած անձին բռնելու համար անհրաժեշտ միջոցների սահմանազանցմամբ սպանությունը | C11: 107
A12: 1.5 | B12: Անհրաժեշտ պաշտպանության սահմանազանցմամբ սպանությունը | C12: 108
A13: 1.6 | B13: Անզգուշությամբ մահ պատճառելը | C13: 109
A14: 1.7 | B14: Ինքնասպանության հասցնելը | C14: 110
A15: 1.8 | B15: Ինքնասպանության հակելը | C15: 111
A16: 1.9 | B16: Դիտավորությամբ առողջությանը ծանր վնաս պատճառելը | C16: 112 | D16: 6 | F16: 8 | G16: 5 | H16: 2 | J16: 7 | M16: 7 | O16: 4 | P16: 1 | Q16: 5 | R16: 1 | T16: 1
A17: 1.10 | B17: Դիտավորությամբ առողջությանը միջին ծանրության վնաս պատճառելը | C17: 113 | F17: 1 | M17: 1
A18: 1.11 | B18: Հոգեկան խիստ հուզմունքի վիճակում առողջությանը ծանր կամ միջին ծանրության վնաս պատճառելը | C18: 114
A19: 1.12 | B19: Հանցանք կատարած անձին բռնելու համար անհրաժեշտ միջոցների սահմանզանցմամբ առողջությանը ծանր կամ միջին ծանրության վնաս պատճառելը | C19: 115 | D19: 1 | H19: 1 | J19: 1
A20: 1.13 | B20: Առողջությանը ծանր կամ միջին ծանրության վնաս պատճառելը անհրաժեշտ պաշտպանության սահմանանազանցմամբ | C20: 116
A21: 1.14 | B21: Դիտավորությամբ առողջությանը թեթև վնաս պատճառելը | C21: 117 | D21: 2 | F21: 2 | G21: 2 | H21: 1 | J21: 3 | M21: 1
A22: 1.15 | B22: Ծեծը | C22: 118 | D22: 6 | F22: 10 | G22: 7 | H22: 6 | J22: 13 | M22: 3 | O22: 2 | Q22: 2
A23: 1.16 | B23: Ֆիզիկական ուժեղ ցավ կամ հոգեկան ուժեղ տառապանք պատճառելը | C23: 119
A24: 1.17 | B24: Անզգուշությամբ առողջությանը ծանր վնաս պատճառելը | C24: 120 | D24: 1 | F24: 1 | I24: 2 | J24: 2
A25: 1.18 | B25: Անզգուշությամբ առողջությանը միջին ծանրության վնաս պատճառելը | C25: 121
A26: 1.19 | B26: Ապօրինի աբորտ կատարելը | C26: 122
A27: 1.20 | B27: Մարդու իմունային անբավարարության վիրուսի հարուցիչով վարակելը | C27: 123
A28: 1.21 | B28: Վեներական հիվանդությամբ կամ այլ սեռավարակներով վարակելը | C28: 124
A29: 1.22 | B29: Փոխպատվաստման վիրահատություն կատարելու կանոնները խախտելը | C29: 125
A30: 1.24 | B30: Անձին առանց իր հանձնարարության բժշկական կամ գիտական փորձերի ենթարկելը | C30: 127
A31: 1.25 | B31: Վտանգի մեջ թողնելը | C31: 128
A32: 1.26 | B32: Հիվանդին օգնություն ցույց չտալը | C32: 129
A33: 1.27 | B33: Բժշկական օգնություն և սպասարկում իրականացնողների կողմից մասնագիտական պարտականությունները չկատարելը կամ ոչ պատշաճ կատարելը | C33: 130 | D33: 1 | M33: 1
A34: 1.28 | B34: Այլ հանցագործություններ
A35: 2. | B35: Ընդամենը անձի ազատության, պատվի և արժանապատվության դեմ ուղղված հանցագործությունները | D35: =SUM(D36:D43) -> 4 | E35: =SUM(E36:E43) -> 0 | F35: =SUM(F36:F43) -> 1 | G35: =SUM(G36:G43) -> 0 | H35: =SUM(H36:H43) -> 2 | I35: =SUM(I36:I43) -> 0 | J35: =SUM(J36:J43) -> 2 | K35: =SUM(K36:K43) -> 0 | ... T35: =SUM(T36:T43) -> 0
A36: 2.1 | B36: Մարդուն առևանգելը | C36: 131 | D36: 2 | H36: 1 | J36: 1 | M36: 1
A37: 2.2 | B37: Մարդու թրաֆիքինգը կամ շահագործումը | C37: 132
A38: 2.2.2 | B38: Երեխայի կամ հոգեկան խանգարման հետևանքով իր արարքի բնույթն ու նշանակությունը գիտակցելու կամ դա ղեկավարելու հնարավորությունից զրկված անձի թրաֆիքինգը կամ շահագործումը | C38: 132.2 | D38: 1 | M38: 1
A39: 2.2.3 | B39: Շահագործման վիճակում գտնվող անձի ծառայությունից օգտվելը | C39: 132.3
A40: 2.3 | B40: Ազատությունից ապօրինի զրկելը | C40: 133
A41: 2.4 | B41: Հոգեբուժական հիվանդանոցում ապօրինի տեղավորելը կամ պահելը | C41: 134
A42: 2.7 | B42: Սպանության, առողջությանը ծանր վնաս պատճառելու կամ գույք ոչնչացնելու սպառնալիքը | C42: 137 | D42: 1 | F42: 1 | H42: 1 | J42: 1
A43: 2.8 | B43: Այլ հանցագործություններ
A44: 3. | B44: Ընդամենը սեռական անձեռնմխելիության և սեռական ազատության դեմ ուղղված հանցագործությունները | D44: =SUM(D45:D50) -> 2 | E44: =SUM(E45:E50) -> 0 | F44: =SUM(F45:F50) -> 1 | G44: =SUM(G45:G50) -> 2 | H44: =SUM(H45:H50) -> 0 | I44: =SUM(I45:I50) -> 0 | J44: =SUM(J45:J50) -> 2 | K44: =SUM(K45:K50) -> 0 | ... T44: =SUM(T45:T50) -> 0
A45: 3.1 | B45: Բռնաբարությունը | C45: 138
A46: 3.2 | B46: Սեքսուալ բնույթի բռնի գործողությունները | C46: 139 | D46: 1 | G46: 1 | J46: 1
A47: 3.3 | B47: Սեռական հարաբերության կամ սեքսուալ բնույթի գործողություններին հարկադրելը | C47: 140
A48: 3.4 | B48: Սեռական հարաբերությունը տասնվեց տարին չլրացած անձի հետ կամ սեքսուալ բնույթի գործողություններ կատարելը տասնվեց տարին չլրացած անձի նկատմամբ | C48: 141 | D48: 1 | F48: 1 | G48: 1 | J48: 1 | M48: 1 | O48: 1 | Q48: 1
A49: 3.5 | B49: Անառակաբարո գործողությունները | C49: 142
A50: 3.6 | B50: Այլ հանցագործություններ
A51: 4. | B51: Ընդամենը մարդու և քաղաքացու սահմանադրական իրավունքների և ազատությունների դեմ ուղղված հանցագործությունները | D51: =SUM(D52:D80) -> 0 | E51: =SUM(E52:E80) -> 0 | F51: =SUM(F52:F80) -> 2 | G51: =SUM(G52:G80) -> 1 | H51: =SUM(H52:H80) -> 0 | I51: =SUM(I52:I80) -> 0 | J51: =SUM(J52:J80) -> 1 | K51: =SUM(K52:K80) -> 0 | ... T51: =SUM(T52:T80) -> 0
A52: 4.1 | B52: Մարդու և քաղաքացու իրավահավասարությունը խախտելը | C52: 143
A53: 4.2 | B53: Անձնական կամ ընտանեկան կյանքի մասին տեղեկություններ ապօրինի հավաքելը, պահելը, օգտագործելը կամ տարածելը | C53: 144
A54: 4.3 | B54: Բժշկական գաղտնիքը հրապարակելը | C54: 145
A55: 4.4 | B55: Նամակագրության, հեռախոսային խոսակցությունների, փոստային, հեռագրական կամ այլ հաղորդումների գաղտնիությունը խախտելը | C55: 146
A56: 4.5 | B56: Բնակարանի անձեռնմխելիությունը խախտելը | C56: 147 | F56: 1 | G56: 1 | J56: 1
A57: 4.6 | B57: Անձին տեղեկություն ներկայացնելուց հրաժարվելը | C57: 148
A58: 4.7 | B58: Ընտրական իրավունքի իրականացմանը, ընտրական հանձնաժողովների աշխատանքներին կամ ընտրությանը մասնակցող անձանց լիազորությունների իրականացմանը խոչընդոտելը | C58: 149
A59: 4.8 | B59: Ընտրությունների կամ քվեարկության արդյունքները կեղծելը | C59: 150
A60: 4.10 | B60: Ընտրողների ցուցակները կազմելու, դրանք քաղաքացիներին և կուսակցություններին տրամադրելու կամ հրապարակելու կարգը խախտելը | C60: 152
A61: 4.11 | B61: Մեկից ավելի անգամ կամ այլ անձի փոխարեն քվեարկելը | C61: 153
A62: 4.12 | B62: Քվեարկության գաղտնիությունը խախտելը | C62: 154
A63: 4.13 | B63: Կեղծ ընտրական քվեաթերթիկներ կամ քվեարկության ծրարներ, դրոշմանիշեր, կտրոններ պատրաստելը կամ ակնհայտ կեղծ ընտրական քվեաթերթիկներ կամ քվեարկության ծրարներ, դրոշմանիշեր, կտրոններ հանձնելը կամ իրացնելը | C63: 154.1
A64: 4.14 | B64: Ընտրողի կողմից թեկնածուներից, կուսակցություններից (կուսակցությունների դաշինքներից), հանրաքվեի քարոզչական նախաձեռնություններից կաշառք ստանալը կամ թեկնածուների, կուսակցությունների (կուսակցությունների դաշինքների), հանրաքվեի քարոզչական նախաձեռնությունների կողմից ընտրողներին կաշառք տալը կամ ընտրողի ազատ կամքի իրականացմանը խոչընդոտելը | C64: 154.2
A65: 4.16 | B65: Զենքով՝ տեղամասային կենտրոն մուտք գործելը | C65: 154.4
A66: 4.17 | B66: Վստահված անձին,ընտրական հանձնաժողովի անդամին,դիտորդին կամ զանգվածային լրատվության միջոցի ներկայացուցչին ընտրական փաստաթղթերին ծանոթանալուն խոչընդոտելը, ընտրական հանձնաժողովի արձանագրությունների պատճեններ չտալը | C66: 154.5
A67: 4.17.1 | B67: Ընտրական հանձնաժողովի նախագահի լիազորությունները չկատարելը կամ ոչ պատշաճ կատարելը | C67: 154.6
A68: 4.17.2 | B68: Քվեատուփը, ընտրողների ստորագրած ցուցակը, տեղամասային ընտրական հանձնաժողովի գրանցամատյանը, հանձնաժողովի կնիքը, տեղամասային ընտրական հանձնաժողովի անդամի անհատական կնիքը, ինքնասոսնձվող դրոշմանիշը, ընտրողի վերաբերյալ տվյալներ պարունակող քվեարկության կտրոնը կամ համարակալված կտրոնը, ընտրողների էլեկտրոնային գրանցման տեխնիկական սարքավորումը, կառավարության կողմից ընտրված մասնագիտացված կազմակերպության կողմից տեղադրված տեսախցիկը, ընտրական փաստաթղթերի մեկանգամյա օգտագործման պարկը կամ ընտրական փաստաթղթերի փաթեթը հափշտակելը | C68: 154.7
... A71: 4.19 | B71: Հղի կնոջը կամ մինչև երեք տարեկան երեխա ունեցող անձին աշխատանքի ընդունելոււց հրաժարվելը կամ աշխատանքից անհիմն ազատելը | C71: 156
A72: 4.20 | B72: Աշխատանքի պաշտպանության կանոնները խախտելը | C72: 157 | F72: 1 | M72: 1
A73: 4.21 | B73: Հեղինակային և հարակից իրավունքները խախտելը | C73: 158
A74: 4.22 | B74: Արտոնագրային իրավունքը խախտելը | C74: 159
A75: 4.23 | B75: Խղճի կամ դավանանքի ազատության իրավունքի իրականացմանը խոչընդոտելը | C75: 160
A76: 4.24 | B76: Միավորումներ (հասարակական կամ արհեստակցական միություններ) կազմելու կամ կուսակցություններ ստեղծելու իրավունքի իրականացմանը կամ դրանց գործողությանը խոչընդոտելը | C76: 161
A77: 4.25 | B77: Անձանց իրավունքների կամ անձի դեմ ոտնձգող միավորումներ կազմելը կամ ղեկավարելը | C77: 162
A78: 4.26 | B78: Հավաքներ անցկացնելուն կամ դրանց մասնակցելուն խոչընդոտելը | C78: 163
A79: 4.27 | B79: Լրագրողի մասնագիտական օրինական գործողությանը խոչընդոտելը | C79: 164
A80: 4.28 | B80: Այլ հանցագործություններ
A81: 5. | B81: Ընդամենը ընտանիքի և երեխայի շահերի դեմ ուղղված հանցագործությունները | D81: =SUM(D82:D95) -> 0 | E81: =SUM(E82:E95) -> 0 | F81: =SUM(F82:F95) -> 0 | G81: =SUM(G82:G95) -> 0 | H81: =SUM(H82:H95) -> 0 | I81: =SUM(I82:I95) -> 0 | J81: =SUM(J82:J95) -> 0 | K81: =SUM(K82:K95) -> 0 | ... T81: =SUM(T82:T95) -> 0
A82: 5.1 | B82: Անչափահասին հանցանքի կատարմանը ներգրավելը | C82: 165
A83: 5.2 | B83: Երեխային պոռնկության կամ պոռնկագրական բնույթի նյութեր կամ առարկաներ պատրաստելու հետ կապված գործողություններ կատարելուն ներգրավելը | C83: 166
A84: 5.2.1 | B84: Երեխային ոգելից խմիչքների օգտագործմանը, ուժեղ ներգործող կամ այլ թմրեցնող նյութերի ոչ բժշկական օգտագործմանը, թափառաշրջիկությանը ներգրավելը կամ մուրացկանության հետ կապված գործողություններ կատարելուն ներգրավելը | C84: 166.1
A85: 5.3 | B85: Ծնողներից երեխային ապօրինի բաժանելը կամ երեխային փոխելը | C85: 167
A86: 5.4 | B86: Խնամքը ստանձնելու նպատակով երեխայի առքը կամ ստանձնողի խնամքին հանձնելու նպատակով երեխայի վաճառքը | C86: 168
A87: 5.5 | B87: Որդեգրման գաղտնիքը հրապարակելը կամ որդեգրման համաձայնություն տալուն հակելը կամ հարկադրելը | C87: 169
A88: 5.6 | B88: Քաղաքացիական կացության ակտերի գրանցման մարմիններին սուտ տեղեկություններ հաղորդելը | C88: 169.1
A89: 5.7 | B89: Երեխային դաստիարակելու պարտականությունը չկատարելը | C89: 170
A90: 5.8 | B90: Երեխայի կյանքի անվտանգության ապահովման կամ առողջության պահպանման պարտականությունը չկատարելը կամ ոչ պատշաճ կատարելը | C90: 171
A91: 5.8.1 | B91: Վերարտադրողականության օժանդակ տեխնոլոգիաներից օգտվելու կանոնները խախտելը | C91: 171.1
A92: 5.9 | B92: Խնամակալի կամ հոգաբարձուի իրավունքները չարաշահելը | C92: 172
A93: 5.10 | B93: Ծնողի կողմից երեխային պահելուց չարամտորեն խուսափելը | C93: 173
A94: 5.11 | B94: Զավակի կողմից անաշխատունակ ծնողին պահելուց չարամտորեն խուսափելը | C94: 174
A95: 5.12 | B95: Այլ հանցագործություններ
A96: 6. | B96: Ընդամենը սեփականության դեմ ուղղված հանցագործությունները | D96: =SUM(D97:D111) -> 23 | E96: =SUM(E97:E111) -> 3 | F96: =SUM(F97:F111) -> 35 | G96: =SUM(G97:G111) -> 26 | H96: =SUM(H97:H111) -> 7 | I96: =SUM(I97:I111) -> 0 | J96: =SUM(J97:J111) -> 33 | K96: =SUM(K97:K111) -> 0 | ... T96: =SUM(T97:T111) -> 1
A97: 6.1 | B97: Ավազակությունը | C97: 175 | D97: 1 | G97: 1 | J97: 1
A98: 6.2 | B98: Կողոպուտը | C98: 176 | F98: 1 | M98: 1
A99: 6.3 | B99: Գողությունը | C99: 177 | D99: 12 | E99: 2 | F99: 20 | G99: 16 | H99: 2 | J99: 18 | M99: 14 | N99: 2 | O99: 5 | Q99: 5
A100: 6.4 | B100: Խարդախությունը | C100: 178 | D100: 5 | F100: 4 | G100: 5 | H100: 2 | J100: 7 | M100: 2 | O100: 2 | Q100: 2 | R100: 1 | T100: 1
A101: 6.5 | B101: Յուրացնելը կամ վատնելը | C101: 179 | D101: 3 | E101: 1 | F101: 8 | G101: 4 | H101: 2 | J101: 6 | M101: 5 | N101: 1 | O101: 1 | Q101: 1
A102: 6.6 | B102: Առանձնակի արժեք ունեցող առարկաներ հափշտակելը | C102: 180
...

Sheet Սյունիք
A1: 2019թ.տարեկան | D1: ՀԱՇՎԵՏՎՈՒԹՅՈՒՆ
A2: ՀՀ ՍՅՈՒՆԻՔԻ ՄԱՐԶԻ ԱՌԱՋԻՆ ԱՏՅԱՆԻ ԸՆԴՀԱՆՈՒՐ ԻՐԱՎԱՍՈՒԹՅԱՆ ԴԱՏԱՐԱՆՈՒՄ ՔՐԵԱԿԱՆ ԳՈՐԾԵՐԻ ՔՆՆՈՒԹՅԱՆ ՎԵՐԱԲԵՐՅԱԼ
A3: ՀՀ Սյունիքի մարզի առաջին ատյանի ընդհանուր իրավասության դատարանում քրեական մասնագիտացում ունեցող դատավորների հաստիքների քանակը` 4
A4: Ստուգիչ հավասարումներ` 1+3=7+8+10, 7=4+5+6, 14=12+13, 17=15+16 | C4: ՀՀ քրեական օրենսգրքի հոդվածներ | D4: Հաշվետու ժամանակահատվածի սկզբում նախորդ հաշվետու ժամանակահատվածից փոխանցված գործերի ընդհանուր թիվը | E4: Այդ թվում` կասեցված վիճակում փոխանցված | F4: Հաշվետու ժամանակահատվածում ստացված գործերի ընդհանուր թիվը | G4: Հաշվետու ժամանակահատվածում ավարտված գործերի ընդհանուր թիվը | K4: Ուղարկվել է ըստ ընդդատության | L4: Հաշվետու ժամանակահատվածում կասեցված վարույթներով գործերի ընդհանուր թիվը | M4: Հաշվետու ժամանակահատվածում անավարտ գործերի ընդհանուր թիվը | N4: Այդ թվում՝ կասեցված | O4: Բողոքարկված դատական ակտերի թիվը` ըստ տեսակների | R4: Բեկանված դատական ակտերի թիվը` ըստ տեսակների
G5: Քննվել է ըստ էության և դատավճիռ կայացվել | H5: Որոշում է կայացվել քրեական գործի վարույթը կարճելու և քրեական հետապնդումը դադարեցնելու մասին | I5: Որոշում է կայացվել անմեղսունակների նկատմամբ բժշկական բնույթի հարկադրական միջոցներ կիրառելու մասին | J5: Ընդամենը ավարտվել են գործեր | O5: Այդ թվում` գործն ըստ էության լուծող դատական ակտերը | P5: Այդ թվում` միջանկյալ դատական ակտերը | Q5: Ընդամենը | R5: Այդ թվում` գործն ըստ էության լուծող դատական ակտերը | S5: Այդ թվում` միջանկյալ դատական ակտերը | T5: Ընդամենը
D6: 1 | E6: 2 | F6: 3 | G6: 4 | H6: 5 | I6: 6 | J6: 7 | K6: 8 | L6: 9 | M6: 10 | N6: 11 | O6: 12 | P6: 13 | Q6: 14 | R6: 15 | S6: 16 | T6: 17
A7: 1. | B7: Ընդամենը կյանքի և առողջության դեմ ուղղված հանցագործությունները | D7: =SUM(D8:D34) -> 8 | E7: =SUM(E8:E34) -> 0 | F7: =SUM(F8:F34) -> 22 | G7: =SUM(G8:G34) -> 12 | H7: =SUM(H8:H34) -> 6 | I7: =SUM(I8:I34) -> 1 | J7: =SUM(J8:J34) -> 19 | K7: =SUM(K8:K34) -> 0 | ... T7: =SUM(T8:T34) -> 0
A8: 1.1 | B8: Սպանությունը | C8: 104 | D8: 3 | F8: 4 | G8: 3 | J8: 3 | M8: 4 | O8: 2 | Q8: 2
A9: 1.2 | B9: Հոգեկան խիստ հուզմունքի վիճակում կատարված սպանությունը | C9: 105
A10: 1.3 | B10: Մոր կողմից նորածին երեխայի սպանությունը | C10: 106
A11: 1.4 | B11: Հանցանք կատարած անձին բռնելու համար անհրաժեշտ միջոցների սահմանազանցմամբ սպանությունը | C11: 107
A12: 1.5 | B12: Անհրաժեշտ պաշտպանության սահմանազանցմամբ սպանությունը | C12: 108
A13: 1.6 | B13: Անզգուշությամբ մահ պատճառելը | C13: 109
A14: 1.7 | B14: Ինքնասպանության հասցնելը | C14: 110
A15: 1.8 | B15: Ինքնասպանության հակելը | C15: 111
A16: 1.9 | B16: Դիտավորությամբ առողջությանը ծանր վնաս պատճառելը | C16: 112 | D16: 3 | F16: 4 | G16: 6 | H16: 1 | J16: 7 | O16: 2 | Q16: 2
A17: 1.10 | B17: Դիտավորությամբ առողջությանը միջին ծանրության վնաս պատճառելը | C17: 113 | D17: 1 | M17: 1
A18: 1.11 | B18: Հոգեկան խիստ հուզմունքի վիճակում առողջությանը ծանր կամ միջին ծանրության վնաս պատճառելը | C18: 114
A19: 1.12 | B19: Հանցանք կատարած անձին բռնելու համար անհրաժեշտ միջոցների սահմանզանցմամբ առողջությանը ծանր կամ միջին ծանրության վնաս պատճառելը | C19: 115
A20: 1.13 | B20: Առողջությանը ծանր կամ միջին ծանրության վնաս պատճառելը անհրաժեշտ պաշտպանության սահմանանազանցմամբ | C20: 116
