Workbook

Sheet Ընդհանուր
A1: 2017թ. | G1: Ð²ÞìºîìàôÂÚàôÜ | AM1: Հավելված Հայաստանի Հանրապետության Դատարանների նախագահների խորհրդի 29.01.2018թ. թիվ 10-Լ որոշման
A2: ºðºì²ÜÆ ²ð²´ÎÆð ºì ø²Ü²øºè-¼ºÚÂàôÜ ì²ðâ²Î²Ü Þðæ²ÜÜºðÆ ÀÜ¸Ð²Üàôð Æð²ì²êàôÂÚ²Ü ²è²æÆÜ ²îÚ²ÜÆ ¸²î²ð²ÜÆ ¸²î²ìàð | Z2: ¶àðÌàôÜºàôÂÚ²Ü ìºð²´ºðÚ²È
A3: ø²Ô²ø²òÆ²Î²Ü ¶àðÌºðàì
A4: ºñ¨³ÝÇ ²ñ³µÏÇñ ¨ ø³Ý³ù»é-¼»ÛÃáõÝ í³ñã³Ï³Ý ßñç³ÝÝ»ñÇ ÁÝ¹Ñ³Ýáõñ Çñ³í³ëáõÃÛ³Ý ³é³çÇÝ ³ïÛ³ÝÇ ¹³ï³ñ³ÝÇ ù³Õ³ù³óÇ³Ï³Ý Ù³ëÝ³·Çï³óáõÙ áõÝ»óáÕ ¹³ï³íáñÝ»ñÇ Ñ³ëïÇùÝ»ñÇ ù³Ý³ÏÁ` 7
E5: Ð³ßí»ïáõ Å³Ù³Ý³Ï³Ñ³ïí³ÍáõÙ Ý³Ëáñ¹ Ñ³ßí»ïáõ Å³Ù³Ý³Ï³Ñ³ïí³ÍÇó ÷áË³Ýóí³Í ·áñÍ»ñÇ ÁÝ¹Ñ³Ýáõñ ÃÇíÁ | J5: Ð³ßí»ïáõ Å³Ù³Ý³Ï³Ñ³ïí³ÍáõÙëï³óí³Í ·áñÍ»ñÇ (³Û¹ ÃíáõÙ` Ñ³Ûó³¹ÇÙáõÙÝ»ñÇ, ¹ÇÙáõÙÝ»ñÇ) ÁÝ¹Ñ³Ýáõñ ÃÇíÁ | N5: öáË³Ýóí»É ¿ ³ÛÉ ¹³ï³íáñÇ (Ï³½ÙÇ ÷á÷áËáõÃÛáõÝ) | O5: Ð³ßí»ïáõ Å³Ù³Ý³Ï³Ñ³ïí³ÍáõÙ ³í³ñïí³Í ·áñÍ»ñÇ ÁÝ¹Ñ³Ýáõñ ÃÇíÁ | Z5: ¶áñÍÝ áõÕ³ñÏí»É ¿ Áëï ÁÝ¹¹³ïáõÃÛ³Ý | AA5: Ð³ßí»ïáõ Å³Ù³Ý³Ï³Ñ³ïí³ÍáõÙ Ï³ë»óí³Í í³ñáõÛÃÝ»ñáí ·áñÍ»ñÇ ÁÝ¹Ñ³Ýáõñ ÃÇíÁ | AB5: Ð³ßí»ïáõ Å³Ù³Ý³Ï³Ñ³ïí³ÍáõÙ ³Ý³í³ñï ·áñÍ»ñÇ ÁÝ¹Ñ³Ýáõñ ÃÇíÁ | AC5: ²Û¹ ÃíáõÙª Ï³ë»óí³Í | AD5: ´áÕáù³ñÏí³Í ¹³ï³Ï³Ý ³Ïï»ñÁ | AI5: ²í³ñïí³Í ¹³ï³Ï³Ý ·áñÍ»ñÇ µáÕáù³ñÏÙ³Ý ïáÏáëÁ (Ñ³ßí»ïáõ Å³Ù³Ý³Ï³ßñç³ÝáõÙ) | AJ5: ²Ý³í³ñï µáÕáùÝ»ñ | AK5: ´»Ï³Ýí³Í ¹³ï³Ï³Ý ³Ïï»ñÁ | AP5: µ»Ï³ÝáõÙÝ»ñÇ ïáÏáëÁ ³í³ñïí³Í ·áñÍ»ñÇó(Ñ³ßí»ïáõ Å³Ù³Ý³Ï³ßñç³ÝáõÙ) | AQ5: Î³ÛáõÝáõÃÛ³Ý ïáÏáëÁ ³í³ñïí³Í ·áñÍ»ñÇó(Ñ³ßí»ïáõ Å³Ù³Ý³Ï³ßñç³ÝáõÙ) | AR5: µ»Ï³ÝáõÙÝ»ñÇ ïáÏáëÁ µáÕáù³ñÏí³Í ·áñÍ»ñÇó(Ñ³ßí»ïáõ Å³Ù³Ý³Ï³ßñç³ÝáõÙ) | AS5: Ï³ÛáõÝáõÃÛ³Ý ïáÏáëÁ(Ñ³ßí»ïáõ Å³Ù³Ý³Ï³ßñç³ÝáõÙ)
E6: ÀÝ¹³Ù»ÝÁ | F6: ²Û¹ ÃíáõÙ`Ï³ë»óí³Í íÇ×³ÏáõÙ ÷áË³Ýóí³Í | G6: ²Û¹ ÃíáõÙª ÁÝ¹áõÝí»É ¿ í³ñáõÛÃ | H6: ²Û¹ ÃíáõÙª í»ñ³¹³ñÓí»É ¿ | I6: ²Û¹ ÃíáõÙª ÁÝ¹áõÝáõÙÁ Ù»ñÅí»É ¿ | J6: ÀÝ¹³Ù»ÝÁ | K6: ²Û¹ ÃíáõÙª ÁÝ¹áõÝí»É ¿ í³ñáõÛÃ | L6: ²Û¹ ÃíáõÙª í»ñ³¹³ñÓí»É ¿ | M6: ²Û¹ ÃíáõÙª ÁÝ¹áõÝáõÙÁ Ù»ñÅí»É ¿ | O6: ÀÝ¹³Ù»ÝÁ ³í³ñïí»É »Ý ·áñÍ»ñ ·áñÍÝ Áëï ¿áõÃÛ³Ý ÉáõÍáÕ ¹³ï³Ï³Ý ³Ïï»ñÇ (í×ÇéÝ»ñÇ) Ï³Û³óÙ³Ùµ | P6: ²Û¹ ÃíáõÙª Ñ³ÛóÇ µ³í³ñ³ñÙ³Ùµ | Q6: ²Û¹ ÃíáõÙª Ñ³ÛóÇ Ù³ëÝ³ÏÇ µ³í³ñ³ñÙ³Ùµ | R6: ²Û¹ ÃíáõÙª Ñ³ÛóÇ Ù»ñÅÙ³Ùµ | S6: Ø³ëáí Ï³ñ×í»É ¿, Ù³ëáí Ù»ñÅí»É | T6: ²Û¹ ÃíáõÙª Ï³ñ×í»É »Ý | X6: Ð³ÛóÁ ÃáÕÝí»É ¿ ³é³Ýó ùÝÝáõÃÛ³Ý | Y6: ÀÝ¹³Ù»ÝÝ ³í³ñïí»É »Ý ·áñÍ»ñ | AD6: ²Û¹ ÃíáõÙ` ·áñÍÝ Áëï ¿áõÃÛ³Ý ÉáõÍáÕ ¹³ï³Ï³Ý ³Ïï»ñÁ | AE6: ²Û¹ ÃíáõÙ` ÙÇç³ÝÏÛ³É ¹³ï³Ï³Ý ³Ïï»ñÁ | AF6: ÀÝ¹³Ù»ÝÁ | AG6: Ü³Ëáñ¹ ï³ñÇÝ»ñÇÝ Ï³Û³óí³Í ³Ïï»ñÇ µáÕáù³ñÏáõÙÁ Ñ³ßí»ïáõ Å³Ù³Ý³Ï³ßñç³ÝáõÙ | AH6: Ð³ßí»ïáõ Å³Ù³Ý³Ï³ßñç³ÝáõÙ Ï³Û³óí³Í ³Ïï»ñÇ µáÕáù³ñÏáõÙÁ | AK6: ²Û¹ ÃíáõÙ` ·áñÍÝ Áëï ¿áõÃÛ³Ý ÉáõÍáÕ ¹³ï³Ï³Ý ³Ïï»ñÁ | AL6: ²Û¹ ÃíáõÙ` ÙÇç³ÝÏÛ³É ¹³ï³Ï³Ý ³Ïï»ñÁ | AM6: ÀÝ¹³Ù»ÝÁ | AN6: Ü³Ëáñ¹ ï³ñÇÝ»ñÇÝ Ï³Û³óí³Í ³Ïï»ñÇ µ»Ï³ÝáõÙÝ»ñÁ Ñ³ßí»ïáõ Å³Ù³Ý³Ï³ßñç³ÝáõÙ | AO6: Ð³ßí»ïáõ Å³Ù³Ý³Ï³ßñç³ÝáõÙ Ï³Û³óí³Í ³Ïï»ñÇ µ»Ï³ÝáõÙÁ
T7: ÀÝ¹³Ù»ÝÁ Ï³ñ×í»É »Ý | U7: ²Û¹ ÃíáõÙª Ñ³ëï³ïí»É ¿ ÏÝùí³Í Ñ³ßïáõÃÛ³Ý Ñ³Ù³Ó³ÛÝáõÃÛáõÝÁ | V7: ²Û¹ ÃíáõÙª Ñ³óÇó, ¹ÇÙáõÙÇó Ññ³Å³ñí»Éáõ ÑÇÙùáí | W7: ²Û¹ ÃíáõÙª ³ÛÉ ÑÇÙùáí
E8: 1 | F8: 2 | G8: 3 | H8: 4 | I8: 5 | J8: 6 | K8: 7 | L8: 8 | M8: 9 | N8: 10 | O8: 11 | P8: 12 | Q8: 13 | R8: 14 | S8: 15 | T8: 16 | U8: 17 | V8: 18 | W8: 19 | X8: 20 | Y8: 21 | Z8: 22 | AA8: 23 | AB8: 24 | AC8: 25 | AD8: 26 | AE8: 27 | AF8: 28 | AG8: 29 | AH8: 30 | AI8: 31 | AJ8: 32 | AK8: 33 | AL8: 34 | AM8: 35 | AN8: 36 | AO8: 37 | AP8: 38 | AQ8: 39 | AR8: 40 | AS8: 41
A9: 1. | B9: ¶áõÛù³ÛÇÝ Çñ³í³Ñ³ñ³µ»ñáõÃÛáõÝÝ»ñÇ í»ñ³µ»ñÛ³É ¹³ï³Ï³Ý ·áñÍ»ñ | E9: =SUM(E10:E28) -> 383 | F9: =SUM(F10:F28) -> 54 | G9: =SUM(G10:G28) -> 329 | H9: =SUM(H10:H28) -> 0 | I9: =SUM(I10:I28) -> 0 | J9: =SUM(J10:J28) -> 258 | K9: =SUM(K10:K28) -> 212 | L9: =SUM(L10:L28) -> 45 | ... AS9: =SUM(AS10:AS28) -> 0
A10: 1.1 | B10: ¶áõÛùÇ ÝÏ³ïÙ³Ùµ ë»÷³Ï³ÝáõÃÛ³Ý Çñ³íáõÝùÁ ×³Ý³ã»Éáõ í»ñ³µ»ñÛ³É | E10: =SUM('Ա. Դանիելյան:Գ.Ավագյան'!E10) -> 52 | F10: =SUM('Ա. Դանիելյան:Գ.Ավագյան'!F10) -> 6 | G10: =SUM('Ա. Դանիելյան:Գ.Ավագյան'!G10) -> 46 | H10: =SUM('Ա. Դանիելյան:Գ.Ավագյան'!H10) -> 0 | I10: =SUM('Ա. Դանիելյան:Գ.Ավագյան'!I10) -> 0 | J10: =SUM('Ա. Դանիելյան:Գ.Ավագյան'!J10) -> 30 | K10: =SUM('Ա. Դանիելյան:Գ.Ավագյան'!K10) -> 26 | L10: =SUM('Ա. Դանիելյան:Գ.Ավագյան'!L10) -> 4 | ... AS10: =SUM('Ա. Դանիելյան:Գ.Ավագյան'!AS10) -> 0
A11: 1.1.1 | B11: ²Û¹ ÃíáõÙª Ó»éùµ»ñÙ³Ý í³Õ»ÙáõÃÛ³Ý áõÅáí | E11: =SUM('Ա. Դանիելյան:Գ.Ավագյան'!E11) -> 34 | F11: =SUM('Ա. Դանիելյան:Գ.Ավագյան'!F11) -> 1 | G11: =SUM('Ա. Դանիելյան:Գ.Ավագյան'!G11) -> 33 | H11: =SUM('Ա. Դանիելյան:Գ.Ավագյան'!H11) -> 0 | I11: =SUM('Ա. Դանիելյան:Գ.Ավագյան'!I11) -> 0 | J11: =SUM('Ա. Դանիելյան:Գ.Ավագյան'!J11) -> 13 | K11: =SUM('Ա. Դանիելյան:Գ.Ավագյան'!K11) -> 12 | L11: =SUM('Ա. Դանիելյան:Գ.Ավագյան'!L11) -> 1 | ... AS11: =SUM('Ա. Դանիելյան:Գ.Ավագյան'!AS11) -> 0
A12: 1.1.2 | B12: ²Û¹ ÃíáõÙª ïÇñ³½áõñÏ ·áõÛùÇ ÝÏ³ïÙ³Ùµ | E12: =SUM('Ա. Դանիելյան:Գ.Ավագյան'!E12) -> 1 | F12: =SUM('Ա. Դանիելյան:Գ.Ավագյան'!F12) -> 0 | G12: =SUM('Ա. Դանիելյան:Գ.Ավագյան'!G12) -> 1 | H12: =SUM('Ա. Դանիելյան:Գ.Ավագյան'!H12) -> 0 | I12: =SUM('Ա. Դանիելյան:Գ.Ավագյան'!I12) -> 0 | J12: =SUM('Ա. Դանիելյան:Գ.Ավագյան'!J12) -> 1 | K12: =SUM('Ա. Դանիելյան:Գ.Ավագյան'!K12) -> 1 | L12: =SUM('Ա. Դանիելյան:Գ.Ավագյան'!L12) -> 0 | ... AS12: =SUM('Ա. Դանիելյան:Գ.Ավագյան'!AS12) -> 0
A13: 1.1.3 | B13: ²Û¹ ÃíáõÙª ÇÝùÝ³Ï³Ù Ï³éáõÛóÇ ÝÏ³ïÙ³Ùµ | E13: =SUM('Ա. Դանիելյան:Գ.Ավագյան'!E13) -> 2 | F13: =SUM('Ա. Դանիելյան:Գ.Ավագյան'!F13) -> 1 | G13: =SUM('Ա. Դանիելյան:Գ.Ավագյան'!G13) -> 1 | H13: =SUM('Ա. Դանիելյան:Գ.Ավագյան'!H13) -> 0 | I13: =SUM('Ա. Դանիելյան:Գ.Ավագյան'!I13) -> 0 | J13: =SUM('Ա. Դանիելյան:Գ.Ավագյան'!J13) -> 0 | K13: =SUM('Ա. Դանիելյան:Գ.Ավագյան'!K13) -> 0 | L13: =SUM('Ա. Դանիելյան:Գ.Ավագյան'!L13) -> 0 | ... AS13: =SUM('Ա. Դանիելյան:Գ.Ավագյան'!AS13) -> 0
A14: 1.2 | B14: ê»÷³Ï³ÝáõÃÛ³Ý Çñ³íáõÝùÇ ¹³¹³ñ»óÙ³Ý í»ñ³µ»ñÛ³É | E14: =SUM('Ա. Դանիելյան:Գ.Ավագյան'!E14) -> 8 | F14: =SUM('Ա. Դանիելյան:Գ.Ավագյան'!F14) -> 0 | G14: =SUM('Ա. Դանիելյան:Գ.Ավագյան'!G14) -> 8 | H14: =SUM('Ա. Դանիելյան:Գ.Ավագյան'!H14) -> 0 | I14: =SUM('Ա. Դանիելյան:Գ.Ավագյան'!I14) -> 0 | J14: =SUM('Ա. Դանիելյան:Գ.Ավագյան'!J14) -> 4 | K14: =SUM('Ա. Դանիելյան:Գ.Ավագյան'!K14) -> 3 | L14: =SUM('Ա. Դանիելյան:Գ.Ավագյան'!L14) -> 1 | ... AS14: =SUM('Ա. Դանիելյան:Գ.Ավագյան'!AS14) -> 0
A15: 1.3 | B15: ¶áõÛùÇ ÝÏ³ïÙ³Ùµ û·ï³·áñÍÙ³Ý Çñ³íáõÝùÁ ×³Ý³ã»Éáõ í»ñ³µ»ñÛ³É | E15: =SUM('Ա. Դանիելյան:Գ.Ավագյան'!E15) -> 1 | F15: =SUM('Ա. Դանիելյան:Գ.Ավագյան'!F15) -> 0 | G15: =SUM('Ա. Դանիելյան:Գ.Ավագյան'!G15) -> 1 | H15: =SUM('Ա. Դանիելյան:Գ.Ավագյան'!H15) -> 0 | I15: =SUM('Ա. Դանիելյան:Գ.Ավագյան'!I15) -> 0 | J15: =SUM('Ա. Դանիելյան:Գ.Ավագյան'!J15) -> 2 | K15: =SUM('Ա. Դանիելյան:Գ.Ավագյան'!K15) -> 2 | L15: =SUM('Ա. Դանիելյան:Գ.Ավագյան'!L15) -> 0 | ... AS15: =SUM('Ա. Դանիելյան:Գ.Ավագյան'!AS15) -> 0
A16: 1.3.1 | B16: ²Û¹ ÃíáõÙª µÝ³Ïû·ï³·áñÍÙ³Ý Çñ³íáõÝùÁ ×³Ý³ã»Éáõ í»ñ³µ»ñÛ³É | E16: =SUM('Ա. Դանիելյան:Գ.Ավագյան'!E16) -> 0 | F16: =SUM('Ա. Դանիելյան:Գ.Ավագյան'!F16) -> 0 | G16: =SUM('Ա. Դանիելյան:Գ.Ավագյան'!G16) -> 0 | H16: =SUM('Ա. Դանիելյան:Գ.Ավագյան'!H16) -> 0 | I16: =SUM('Ա. Դանիելյան:Գ.Ավագյան'!I16) -> 0 | J16: =SUM('Ա. Դանիելյան:Գ.Ավագյան'!J16) -> 0 | K16: =SUM('Ա. Դանիելյան:Գ.Ավագյան'!K16) -> 0 | L16: =SUM('Ա. Դանիելյան:Գ.Ավագյան'!L16) -> 0 | ... AS16: =SUM('Ա. Դանիելյան:Գ.Ավագյան'!AS16) -> 0
A17: 1.3.2 | B17: ²Û¹ ÃíáõÙª ÑáÕ³Ù³ëÇ ÝÏ³ïÙ³Ùµ û·ï³·áñÍÙ³Ý Çñ³íáõÝùÁ ×³Ý³ã»Éáõ í»ñ³µ»ñÛ³É | E17: =SUM('Ա. Դանիելյան:Գ.Ավագյան'!E17) -> 0 | F17: =SUM('Ա. Դանիելյան:Գ.Ավագյան'!F17) -> 0 | G17: =SUM('Ա. Դանիելյան:Գ.Ավագյան'!G17) -> 0 | H17: =SUM('Ա. Դանիելյան:Գ.Ավագյան'!H17) -> 0 | I17: =SUM('Ա. Դանիելյան:Գ.Ավագյան'!I17) -> 0 | J17: =SUM('Ա. Դանիելյան:Գ.Ավագյան'!J17) -> 1 | K17: =SUM('Ա. Դանիելյան:Գ.Ավագյան'!K17) -> 1 | L17: =SUM('Ա. Դանիելյան:Գ.Ավագյան'!L17) -> 0 | ... AS17: =SUM('Ա. Դանիելյան:Գ.Ավագյան'!AS17) -> 0
A18: 1.4 | B18: ¶áõÛùÇ ÝÏ³ïÙ³Ùµ û·ï³·áñÍÙ³Ý Çñ³íáõÝùÁ ¹³¹³ñ»óÝ»Éáõ í»ñ³µ»ñÛ³É | E18: =SUM('Ա. Դանիելյան:Գ.Ավագյան'!E18) -> 0 | F18: =SUM('Ա. Դանիելյան:Գ.Ավագյան'!F18) -> 0 | G18: =SUM('Ա. Դանիելյան:Գ.Ավագյան'!G18) -> 0 | H18: =SUM('Ա. Դանիելյան:Գ.Ավագյան'!H18) -> 0 | I18: =SUM('Ա. Դանիելյան:Գ.Ավագյան'!I18) -> 0 | J18: =SUM('Ա. Դանիելյան:Գ.Ավագյան'!J18) -> 0 | K18: =SUM('Ա. Դանիելյան:Գ.Ավագյան'!K18) -> 0 | L18: =SUM('Ա. Դանիելյան:Գ.Ավագյան'!L18) -> 0 | ... AS18: =SUM('Ա. Դանիելյան:Գ.Ավագյան'!AS18) -> 0
A19: 1.4.1 | B19: ²Û¹ ÃíáõÙª µÝ³Ïû·ï³·áñÍÙ³Ý Çñ³íáõÝùÁ ¹³¹³ñ»óÝ»Éáõ í»ñ³µ»ñÛ³É | E19: =SUM('Ա. Դանիելյան:Գ.Ավագյան'!E19) -> 2 | F19: =SUM('Ա. Դանիելյան:Գ.Ավագյան'!F19) -> 1 | G19: =SUM('Ա. Դանիելյան:Գ.Ավագյան'!G19) -> 1 | H19: =SUM('Ա. Դանիելյան:Գ.Ավագյան'!H19) -> 0 | I19: =SUM('Ա. Դանիելյան:Գ.Ավագյան'!I19) -> 0 | J19: =SUM('Ա. Դանիելյան:Գ.Ավագյան'!J19) -> 0 | K19: =SUM('Ա. Դանիելյան:Գ.Ավագյան'!K19) -> 0 | L19: =SUM('Ա. Դանիելյան:Գ.Ավագյան'!L19) -> 0 | ... AS19: =SUM('Ա. Դանիելյան:Գ.Ավագյան'!AS19) -> 0
A20: 1.4.1/1 | B20: ²Û¹ ÃíáõÙª ÷áËÑ³ïáõóÙ³Ùµ | E20: =SUM('Ա. Դանիելյան:Գ.Ավագյան'!E20) -> 1 | F20: =SUM('Ա. Դանիելյան:Գ.Ավագյան'!F20) -> 0 | G20: =SUM('Ա. Դանիելյան:Գ.Ավագյան'!G20) -> 1 | H20: =SUM('Ա. Դանիելյան:Գ.Ավագյան'!H20) -> 0 | I20: =SUM('Ա. Դանիելյան:Գ.Ավագյան'!I20) -> 0 | J20: =SUM('Ա. Դանիելյան:Գ.Ավագյան'!J20) -> 9 | K20: =SUM('Ա. Դանիելյան:Գ.Ավագյան'!K20) -> 6 | L20: =SUM('Ա. Դանիելյան:Գ.Ավագյան'!L20) -> 3 | ... AS20: =SUM('Ա. Դանիելյան:Գ.Ավագյան'!AS20) -> 0
A21: 1.5 | B21: ´Ý³Ï³ñ³ÝÇó/ ï³ñ³ÍùÇó/ íï³ñ»Éáõ í»ñ³µ»ñÛ³É | E21: =SUM('Ա. Դանիելյան:Գ.Ավագյան'!E21) -> 21 | F21: =SUM('Ա. Դանիելյան:Գ.Ավագյան'!F21) -> 1 | G21: =SUM('Ա. Դանիելյան:Գ.Ավագյան'!G21) -> 20 | H21: =SUM('Ա. Դանիելյան:Գ.Ավագյան'!H21) -> 0 | I21: =SUM('Ա. Դանիելյան:Գ.Ավագյան'!I21) -> 0 | J21: =SUM('Ա. Դանիելյան:Գ.Ավագյան'!J21) -> 9 | K21: =SUM('Ա. Դանիելյան:Գ.Ավագյան'!K21) -> 8 | L21: =SUM('Ա. Դանիելյան:Գ.Ավագյան'!L21) -> 1 | ... AS21: =SUM('Ա. Դանիելյան:Գ.Ավագյան'!AS21) -> 0
A22: 1.6 | B22: ¶áõÛùÝ áõñÇßÇ ³åûñÇÝÇ ïÇñ³å»ïáõÙÇó »ï í»ñ³¹³ñÓÝ»Éáõ í»ñ³µ»ñÛ³É | E22: =SUM('Ա. Դանիելյան:Գ.Ավագյան'!E22) -> 23 | F22: =SUM('Ա. Դանիելյան:Գ.Ավագյան'!F22) -> 3 | G22: =SUM('Ա. Դանիելյան:Գ.Ավագյան'!G22) -> 20 | H22: =SUM('Ա. Դանիելյան:Գ.Ավագյան'!H22) -> 0 | I22: =SUM('Ա. Դանիելյան:Գ.Ավագյան'!I22) -> 0 | J22: =SUM('Ա. Դանիելյան:Գ.Ավագյան'!J22) -> 23 | K22: =SUM('Ա. Դանիելյան:Գ.Ավագյան'!K22) -> 17 | L22: =SUM('Ա. Դանիելյան:Գ.Ավագյան'!L22) -> 5 | ... AS22: =SUM('Ա. Դանիելյան:Գ.Ավագյան'!AS22) -> 0
A23: 1.6.1 | B23: ´³ñ»ËÇÕ× Ó»éùµ»ñáÕÇó Çñ ·áõÛùÁ Ñ»ï å³Ñ³Ýç»Éáõ í»ñ³µ»ñÛ³É | E23: =SUM('Ա. Դանիելյան:Գ.Ավագյան'!E23) -> 0 | F23: =SUM('Ա. Դանիելյան:Գ.Ավագյան'!F23) -> 0 | G23: =SUM('Ա. Դանիելյան:Գ.Ավագյան'!G23) -> 0 | H23: =SUM('Ա. Դանիելյան:Գ.Ավագյան'!H23) -> 0 | I23: =SUM('Ա. Դանիելյան:Գ.Ավագյան'!I23) -> 0 | J23: =SUM('Ա. Դանիելյան:Գ.Ավագյան'!J23) -> 0 | K23: =SUM('Ա. Դանիելյան:Գ.Ավագյան'!K23) -> 0 | L23: =SUM('Ա. Դանիելյան:Գ.Ավագյան'!L23) -> 0 | ... AS23: =SUM('Ա. Դանիելյան:Գ.Ավագյան'!AS23) -> 0
A24: 1.7 | B24: îÇñ³å»ïáõÙÇó ½ñÏ»Éáõ Ñ»ï ãÏ³åí³Í Çñ³íáõÝùÝ»ñÇ Ë³ËïáõÙÁ í»ñ³óÝ»Éáõ í»ñ³µ»ñÛ³É | E24: =SUM('Ա. Դանիելյան:Գ.Ավագյան'!E24) -> 22 | F24: =SUM('Ա. Դանիելյան:Գ.Ավագյան'!F24) -> 2 | G24: =SUM('Ա. Դանիելյան:Գ.Ավագյան'!G24) -> 20 | H24: =SUM('Ա. Դանիելյան:Գ.Ավագյան'!H24) -> 0 | I24: =SUM('Ա. Դանիելյան:Գ.Ավագյան'!I24) -> 0 | J24: =SUM('Ա. Դանիելյան:Գ.Ավագյան'!J24) -> 21 | K24: =SUM('Ա. Դանիելյան:Գ.Ավագյան'!K24) -> 14 | L24: =SUM('Ա. Դանիելյան:Գ.Ավագյան'!L24) -> 7 | ... AS24: =SUM('Ա. Դանիելյան:Գ.Ավագյան'!AS24) -> 0
A25: 1.8 | B25: ÀÝ¹Ñ³Ýáõñ µ³ÅÝ³ÛÇÝ ë»÷³Ï³ÝáõÃÛáõÝÇó µ³ÅÇÝÝ ³é³ÝÓÝ³óÝ»Éáõ í»ñ³µ»ñÛ³É | E25: =SUM('Ա. Դանիելյան:Գ.Ավագյան'!E25) -> 84 | F25: =SUM('Ա. Դանիելյան:Գ.Ավագյան'!F25) -> 18 | G25: =SUM('Ա. Դանիելյան:Գ.Ավագյան'!G25) -> 66 | H25: =SUM('Ա. Դանիելյան:Գ.Ավագյան'!H25) -> 0 | I25: =SUM('Ա. Դանիելյան:Գ.Ավագյան'!I25) -> 0 | J25: =SUM('Ա. Դանիելյան:Գ.Ավագյան'!J25) -> 81 | K25: =SUM('Ա. Դանիելյան:Գ.Ավագյան'!K25) -> 71 | L25: =SUM('Ա. Դանիելյան:Գ.Ավագյան'!L25) -> 10 | ... AS25: =SUM('Ա. Դանիելյան:Գ.Ավագյան'!AS25) -> 0
A26: 1.8.1 | B26: Ð³Ù³ï»Õ ë»÷³Ï³ÝáõÃÛ³Ý Ý»ñùá ·ïÝíáÕ ·áõÛùÁ µ³Å³Ý»Éáõ ¨ ¹ñ³ÝÇó µ³ÅÇÝÝ ³é³ÝÓÝ³óÝ»Éáõ í»ñ³µ»ñÛ³É | E26: =SUM('Ա. Դանիելյան:Գ.Ավագյան'!E26) -> 76 | F26: =SUM('Ա. Դանիելյան:Գ.Ավագյան'!F26) -> 18 | G26: =SUM('Ա. Դանիելյան:Գ.Ավագյան'!G26) -> 58 | H26: =SUM('Ա. Դանիելյան:Գ.Ավագյան'!H26) -> 0 | I26: =SUM('Ա. Դանիելյան:Գ.Ավագյան'!I26) -> 0 | J26: =SUM('Ա. Դանիելյան:Գ.Ավագյան'!J26) -> 20 | K26: =SUM('Ա. Դանիելյան:Գ.Ավագյան'!K26) -> 18 | L26: =SUM('Ա. Դանիելյան:Գ.Ավագյան'!L26) -> 2 | ... AS26: =SUM('Ա. Դանիելյան:Գ.Ավագյան'!AS26) -> 0
... A28: 1.9 | B28: ²ÛÉ í»×»ñ | E28: =SUM('Ա. Դանիելյան:Գ.Ավագյան'!E28) -> 52 | F28: =SUM('Ա. Դանիելյան:Գ.Ավագյան'!F28) -> 2 | G28: =SUM('Ա. Դանիելյան:Գ.Ավագյան'!G28) -> 50 | H28: =SUM('Ա. Դանիելյան:Գ.Ավագյան'!H28) -> 0 | I28: =SUM('Ա. Դանիելյան:Գ.Ավագյան'!I28) -> 0 | J28: =SUM('Ա. Դանիելյան:Գ.Ավագյան'!J28) -> 41 | K28: =SUM('Ա. Դանիելյան:Գ.Ավագյան'!K28) -> 30 | L28: =SUM('Ա. Դանիելյան:Գ.Ավագյան'!L28) -> 11 | ... AS28: =SUM('Ա. Դանիելյան:Գ.Ավագյան'!AS28) -> 0
A29: 2. | B29: ¶áñÍ³ñùÝ»ñÇ Ñ»ï Ï³åí³Í Çñ³í³Ñ³ñ³µ»ñáõÃÛáõÝÝ»ñÇ í»ñ³µ»ñÛ³É ¹³ï³Ï³Ý ·áñÍ»ñ | E29: =SUM(E30:E40) -> 146 | F29: =SUM(F30:F40) -> 6 | G29: =SUM(G30:G40) -> 139 | H29: =SUM(H30:H40) -> 1 | I29: =SUM(I30:I40) -> 0 | J29: =SUM(J30:J40) -> 179 | K29: =SUM(K30:K40) -> 126 | L29: =SUM(L30:L40) -> 51 | ... AS29: =SUM(AS30:AS40) -> 0
A30: 2.1 | B30: ·áñÍ³ñùÝ»ñÇ ³Ýí³í»ñáõÃÛ³Ý Ñ»ï Ï³åí³Í í»×»ñ | E30: =SUM('Ա. Դանիելյան:Գ.Ավագյան'!E30) -> 31 | F30: =SUM('Ա. Դանիելյան:Գ.Ավագյան'!F30) -> 0 | G30: =SUM('Ա. Դանիելյան:Գ.Ավագյան'!G30) -> 31 | H30: =SUM('Ա. Դանիելյան:Գ.Ավագյան'!H30) -> 0 | I30: =SUM('Ա. Դանիելյան:Գ.Ավագյան'!I30) -> 0 | J30: =SUM('Ա. Դանիելյան:Գ.Ավագյան'!J30) -> 52 | K30: =SUM('Ա. Դանիելյան:Գ.Ավագյան'!K30) -> 37 | L30: =SUM('Ա. Դանիելյան:Գ.Ավագյան'!L30) -> 15 | ... AS30: =SUM('Ա. Դանիելյան:Գ.Ավագյան'!AS30) -> 0
A31: 2.1.1 | B31: ³Û¹ ÃíáõÙ` íÇ×³Ñ³ñáõÛó ·áñÍ³ñùÝ»ñÝ ³Ýí³í»ñ ×³Ý³ã»Éáõ í»ñ³µ»ñÛ³É | E31: =SUM('Ա. Դանիելյան:Գ.Ավագյան'!E31) -> 2 | F31: =SUM('Ա. Դանիելյան:Գ.Ավագյան'!F31) -> 1 | G31: =SUM('Ա. Դանիելյան:Գ.Ավագյան'!G31) -> 1 | H31: =SUM('Ա. Դանիելյան:Գ.Ավագյան'!H31) -> 0 | I31: =SUM('Ա. Դանիելյան:Գ.Ավագյան'!I31) -> 0 | J31: =SUM('Ա. Դանիելյան:Գ.Ավագյան'!J31) -> 3 | K31: =SUM('Ա. Դանիելյան:Գ.Ավագյան'!K31) -> 2 | L31: =SUM('Ա. Դանիելյան:Գ.Ավագյան'!L31) -> 1 | ... AS31: =SUM('Ա. Դանիելյան:Գ.Ավագյան'!AS31) -> 0
A32: 2.1.2 | B32: ³Û¹ ÃíáõÙ` ·áñÍ³ñùÇ ³éáãÝãáõÃÛ³Ý Ñ»ï¨³ÝùÝ»ñ ÏÇñ³é»Éáõ í»ñ³µ»ñÛ³É | E32: =SUM('Ա. Դանիելյան:Գ.Ավագյան'!E32) -> 16 | F32: =SUM('Ա. Դանիելյան:Գ.Ավագյան'!F32) -> 3 | G32: =SUM('Ա. Դանիելյան:Գ.Ավագյան'!G32) -> 13 | H32: =SUM('Ա. Դանիելյան:Գ.Ավագյան'!H32) -> 0 | I32: =SUM('Ա. Դանիելյան:Գ.Ավագյան'!I32) -> 0 | J32: =SUM('Ա. Դանիելյան:Գ.Ավագյան'!J32) -> 14 | K32: =SUM('Ա. Դանիելյան:Գ.Ավագյան'!K32) -> 12 | L32: =SUM('Ա. Դանիելյան:Գ.Ավագյան'!L32) -> 1 | ... AS32: =SUM('Ա. Դանիելյան:Գ.Ավագյան'!AS32) -> 0
A33: 2.2 | B33: ¶áñÍ³ñùÁ í³í»ñ ×³Ý³ã»Éáõ í»ñ³µ»ñÛ³É | E33: =SUM('Ա. Դանիելյան:Գ.Ավագյան'!E33) -> 5 | F33: =SUM('Ա. Դանիելյան:Գ.Ավագյան'!F33) -> 0 | G33: =SUM('Ա. Դանիելյան:Գ.Ավագյան'!G33) -> 5 | H33: =SUM('Ա. Դանիելյան:Գ.Ավագյան'!H33) -> 0 | I33: =SUM('Ա. Դանիելյան:Գ.Ավագյան'!I33) -> 0 | J33: =SUM('Ա. Դանիելյան:Գ.Ավագյան'!J33) -> 1 | K33: =SUM('Ա. Դանիելյան:Գ.Ավագյան'!K33) -> 1 | L33: =SUM('Ա. Դանիելյան:Գ.Ավագյան'!L33) -> 0 | ... AS33: =SUM('Ա. Դանիելյան:Գ.Ավագյան'!AS33) -> 0
A34: 2.3 | B34: ¶áñÍ³ñùÇó Í³·áÕ Çñ³íáõÝùÝ»ñÁ ·ñ³Ýó»Éáõ í»ñ³µ»ñÛ³É | E34: =SUM('Ա. Դանիելյան:Գ.Ավագյան'!E34) -> 0 | F34: =SUM('Ա. Դանիելյան:Գ.Ավագյան'!F34) -> 0 | G34: =SUM('Ա. Դանիելյան:Գ.Ավագյան'!G34) -> 0 | H34: =SUM('Ա. Դանիելյան:Գ.Ավագյան'!H34) -> 0 | I34: =SUM('Ա. Դանիելյան:Գ.Ավագյան'!I34) -> 0 | J34: =SUM('Ա. Դանիելյան:Գ.Ավագյան'!J34) -> 0 | K34: =SUM('Ա. Դանիելյան:Գ.Ավագյան'!K34) -> 0 | L34: =SUM('Ա. Դանիելյան:Գ.Ավագյան'!L34) -> 0 | ... AS34: =SUM('Ա. Դանիելյան:Գ.Ավագյան'!AS34) -> 0
A35: 2.4 | B35: ä³ÛÙ³Ý³·ÇñÝ ³Ýí³í»ñ ×³Ý³ã»Éáõ í»ñ³µ»ñÛ³É | E35: =SUM('Ա. Դանիելյան:Գ.Ավագյան'!E35) -> 51 | F35: =SUM('Ա. Դանիելյան:Գ.Ավագյան'!F35) -> 0 | G35: =SUM('Ա. Դանիելյան:Գ.Ավագյան'!G35) -> 50 | H35: =SUM('Ա. Դանիելյան:Գ.Ավագյան'!H35) -> 1 | I35: =SUM('Ա. Դանիելյան:Գ.Ավագյան'!I35) -> 0 | J35: =SUM('Ա. Դանիելյան:Գ.Ավագյան'!J35) -> 43 | K35: =SUM('Ա. Դանիելյան:Գ.Ավագյան'!K35) -> 31 | L35: =SUM('Ա. Դանիելյան:Գ.Ավագյան'!L35) -> 12 | ... AS35: =SUM('Ա. Դանիելյան:Գ.Ավագյան'!AS35) -> 0
A36: 2.5 | B36: ä³ÛÙ³Ý³·ñÇÁ í³í»ñ ×³Ý³ã»Éáõ í»ñ³µ»ñÛ³É | E36: =SUM('Ա. Դանիելյան:Գ.Ավագյան'!E36) -> 2 | F36: =SUM('Ա. Դանիելյան:Գ.Ավագյան'!F36) -> 0 | G36: =SUM('Ա. Դանիելյան:Գ.Ավագյան'!G36) -> 2 | H36: =SUM('Ա. Դանիելյան:Գ.Ավագյան'!H36) -> 0 | I36: =SUM('Ա. Դանիելյան:Գ.Ավագյան'!I36) -> 0 | J36: =SUM('Ա. Դանիելյան:Գ.Ավագյան'!J36) -> 2 | K36: =SUM('Ա. Դանիելյան:Գ.Ավագյան'!K36) -> 2 | L36: =SUM('Ա. Դանիելյան:Գ.Ավագյան'!L36) -> 0 | ... AS36: =SUM('Ա. Դանիելյան:Գ.Ավագյան'!AS36) -> 0
A37: 2.6 | B37: ä³ÛÙ³Ý³·ñÇó Í³·áÕ Çñ³íáõÝùÝ»ñÁ ·ñ³Ýó»Éáõ í»ñ³µ»ñÛ³É | E37: =SUM('Ա. Դանիելյան:Գ.Ավագյան'!E37) -> 0 | F37: =SUM('Ա. Դանիելյան:Գ.Ավագյան'!F37) -> 0 | G37: =SUM('Ա. Դանիելյան:Գ.Ավագյան'!G37) -> 0 | H37: =SUM('Ա. Դանիելյան:Գ.Ավագյան'!H37) -> 0 | I37: =SUM('Ա. Դանիելյան:Գ.Ավագյան'!I37) -> 0 | J37: =SUM('Ա. Դանիելյան:Գ.Ավագյան'!J37) -> 0 | K37: =SUM('Ա. Դանիելյան:Գ.Ավագյան'!K37) -> 0 | L37: =SUM('Ա. Դանիելյան:Գ.Ավագյան'!L37) -> 0 | ... AS37: =SUM('Ա. Դանիելյան:Գ.Ավագյան'!AS37) -> 0
A38: 2.7 | B38: ä³ÛÙ³Ý³·ÇñÁ ÷á÷áË»Éáõ ¨ ÉáõÍ»Éáõ í»ñ³µ»ñÛ³É | E38: =SUM('Ա. Դանիելյան:Գ.Ավագյան'!E38) -> 10 | F38: =SUM('Ա. Դանիելյան:Գ.Ավագյան'!F38) -> 1 | G38: =SUM('Ա. Դանիելյան:Գ.Ավագյան'!G38) -> 9 | H38: =SUM('Ա. Դանիելյան:Գ.Ավագյան'!H38) -> 0 | I38: =SUM('Ա. Դանիելյան:Գ.Ավագյան'!I38) -> 0 | J38: =SUM('Ա. Դանիելյան:Գ.Ավագյան'!J38) -> 11 | K38: =SUM('Ա. Դանիելյան:Գ.Ավագյան'!K38) -> 9 | L38: =SUM('Ա. Դանիելյան:Գ.Ավագյան'!L38) -> 2 | ... AS38: =SUM('Ա. Դանիելյան:Գ.Ավագյան'!AS38) -> 0
A39: 2.8 | B39: ä³ÛÙ³Ý³·Çñ ÏÝù»ÉáõÝ å³ñï³íáñ»óÝ»Éáõ í»ñ³µ»ñÛ³É | E39: =SUM('Ա. Դանիելյան:Գ.Ավագյան'!E39) -> 7 | F39: =SUM('Ա. Դանիելյան:Գ.Ավագյան'!F39) -> 1 | G39: =SUM('Ա. Դանիելյան:Գ.Ավագյան'!G39) -> 6 | H39: =SUM('Ա. Դանիելյան:Գ.Ավագյան'!H39) -> 0 | I39: =SUM('Ա. Դանիելյան:Գ.Ավագյան'!I39) -> 0 | J39: =SUM('Ա. Դանիելյան:Գ.Ավագյան'!J39) -> 2 | K39: =SUM('Ա. Դանիելյան:Գ.Ավագյան'!K39) -> 2 | L39: =SUM('Ա. Դանիելյան:Գ.Ավագյան'!L39) -> 0 | ... AS39: =SUM('Ա. Դանիելյան:Գ.Ավագյան'!AS39) -> 0
A40: 2.9 | B40: ²ÛÉ í»×»ñ | E40: =SUM('Ա. Դանիելյան:Գ.Ավագյան'!E40) -> 22 | F40: =SUM('Ա. Դանիելյան:Գ.Ավագյան'!F40) -> 0 | G40: =SUM('Ա. Դանիելյան:Գ.Ավագյան'!G40) -> 22 | H40: =SUM('Ա. Դանիելյան:Գ.Ավագյան'!H40) -> 0 | I40: =SUM('Ա. Դանիելյան:Գ.Ավագյան'!I40) -> 0 | J40: =SUM('Ա. Դանիելյան:Գ.Ավագյան'!J40) -> 51 | K40: =SUM('Ա. Դանիելյան:Գ.Ավագյան'!K40) -> 30 | L40: =SUM('Ա. Դանիելյան:Գ.Ավագյան'!L40) -> 20 | ... AS40: =SUM('Ա. Դանիելյան:Գ.Ավագյան'!AS40) -> 0
A41: 3. | B41: Ä³é³Ý·áõÃÛ³Ý Ñ»ï Ï³åí³Í Çñ³í³Ñ³ñ³µ»ñáõÃÛáõÝÝ»ñÇ í»ñ³µ»ñÛ³É ¹³ï³Ï³Ý ·áñÍ»ñ | E41: =SUM(E42:E48) -> 55 | F41: =SUM(F42:F48) -> 6 | G41: =SUM(G42:G48) -> 49 | H41: =SUM(H42:H48) -> 0 | I41: =SUM(I42:I48) -> 0 | J41: =SUM(J42:J48) -> 66 | K41: =SUM(K42:K48) -> 54 | L41: =SUM(L42:L48) -> 12 | ... AS41: =SUM(AS42:AS48) -> 0
A42: 3.1 | B42: Îï³ÏÝ ³Ýí³í»ñ ×³Ý³ã»Éáõ í»ñ³µ»ñÛ³É | E42: =SUM('Ա. Դանիելյան:Գ.Ավագյան'!E42) -> 0 | F42: =SUM('Ա. Դանիելյան:Գ.Ավագյան'!F42) -> 0 | G42: =SUM('Ա. Դանիելյան:Գ.Ավագյան'!G42) -> 0 | H42: =SUM('Ա. Դանիելյան:Գ.Ավագյան'!H42) -> 0 | I42: =SUM('Ա. Դանիելյան:Գ.Ավագյան'!I42) -> 0 | J42: =SUM('Ա. Դանիելյան:Գ.Ավագյան'!J42) -> 3 | K42: =SUM('Ա. Դանիելյան:Գ.Ավագյան'!K42) -> 3 | L42: =SUM('Ա. Դանիելյան:Գ.Ավագյան'!L42) -> 0 | ... AS42: =SUM('Ա. Դանիելյան:Գ.Ավագյան'!AS42) -> 0
A43: 3.2 | B43: ²Ý³ñÅ³Ý Å³é³Ý· ×³Ý³ã»Éáõ í»ñ³µ»ñÛ³É | E43: =SUM('Ա. Դանիելյան:Գ.Ավագյան'!E43) -> 0 | F43: =SUM('Ա. Դանիելյան:Գ.Ավագյան'!F43) -> 0 | G43: =SUM('Ա. Դանիելյան:Գ.Ավագյան'!G43) -> 0 | H43: =SUM('Ա. Դանիելյան:Գ.Ավագյան'!H43) -> 0 | I43: =SUM('Ա. Դանիելյան:Գ.Ավագյան'!I43) -> 0 | J43: =SUM('Ա. Դանիելյան:Գ.Ավագյան'!J43) -> 0 | K43: =SUM('Ա. Դանիելյան:Գ.Ավագյան'!K43) -> 0 | L43: =SUM('Ա. Դանիելյան:Գ.Ավագյան'!L43) -> 0 | ... AS43: =SUM('Ա. Դանիելյան:Գ.Ավագյան'!AS43) -> 0
A44: 3.3 | B44: Ä³é³Ý·áõÃÛáõÝÁ µ³Å³Ý»Éáõ í»ñ³µ»ñÛ³É | E44: =SUM('Ա. Դանիելյան:Գ.Ավագյան'!E44) -> 0 | F44: =SUM('Ա. Դանիելյան:Գ.Ավագյան'!F44) -> 0 | G44: =SUM('Ա. Դանիելյան:Գ.Ավագյան'!G44) -> 0 | H44: =SUM('Ա. Դանիելյան:Գ.Ավագյան'!H44) -> 0 | I44: =SUM('Ա. Դանիելյան:Գ.Ավագյան'!I44) -> 0 | J44: =SUM('Ա. Դանիելյան:Գ.Ավագյան'!J44) -> 0 | K44: =SUM('Ա. Դանիելյան:Գ.Ավագյան'!K44) -> 0 | L44: =SUM('Ա. Դանիելյան:Գ.Ավագյան'!L44) -> 0 | ... AS44: =SUM('Ա. Դանիելյան:Գ.Ավագյան'!AS44) -> 0
A45: 3.4 | B45: ¶áõÛùÝ ³ÝÅ³é³Ý· ×³Ý³ã»Éáõ í»ñ³µ»ñÛ³É | E45: =SUM('Ա. Դանիելյան:Գ.Ավագյան'!E45) -> 1 | F45: =SUM('Ա. Դանիելյան:Գ.Ավագյան'!F45) -> 0 | G45: =SUM('Ա. Դանիելյան:Գ.Ավագյան'!G45) -> 1 | H45: =SUM('Ա. Դանիելյան:Գ.Ավագյան'!H45) -> 0 | I45: =SUM('Ա. Դանիելյան:Գ.Ավագյան'!I45) -> 0 | J45: =SUM('Ա. Դանիելյան:Գ.Ավագյան'!J45) -> 3 | K45: =SUM('Ա. Դանիելյան:Գ.Ավագյան'!K45) -> 1 | L45: =SUM('Ա. Դանիելյան:Գ.Ավագյան'!L45) -> 2 | ... AS45: =SUM('Ա. Դանիելյան:Գ.Ավագյան'!AS45) -> 0
A46: 3.5 | B46: Àëï ûñ»ÝùÇ Å³é³Ý·áõÃÛ³Ý Çñ³íáõÝùÇ íÏ³Û³·ÇñÝ ³Ýí³í»ñ ×³Ý³ã»Éáõ í»ñ³µ»ñÛ³É | E46: =SUM('Ա. Դանիելյան:Գ.Ավագյան'!E46) -> 6 | F46: =SUM('Ա. Դանիելյան:Գ.Ավագյան'!F46) -> 0 | G46: =SUM('Ա. Դանիելյան:Գ.Ավագյան'!G46) -> 6 | H46: =SUM('Ա. Դանիելյան:Գ.Ավագյան'!H46) -> 0 | I46: =SUM('Ա. Դանիելյան:Գ.Ավագյան'!I46) -> 0 | J46: =SUM('Ա. Դանիելյան:Գ.Ավագյան'!J46) -> 6 | K46: =SUM('Ա. Դանիելյան:Գ.Ավագյան'!K46) -> 4 | L46: =SUM('Ա. Դանիելյան:Գ.Ավագյան'!L46) -> 2 | ... AS46: =SUM('Ա. Դանիելյան:Գ.Ավագյան'!AS46) -> 0
A47: 3.6 | B47: Ä³é³Ý·áõÃÛáõÝÝ ÁÝ¹áõÝ»Éáõ µ³ó ÃáÕÝí³Í Å³ÙÏ»ïÁ Ñ³ñ·»ÉÇ Ñ³Ù³ñ»Éáõ í»ñ³µ»ñÛ³É | E47: =SUM('Ա. Դանիելյան:Գ.Ավագյան'!E47) -> 15 | F47: =SUM('Ա. Դանիելյան:Գ.Ավագյան'!F47) -> 2 | G47: =SUM('Ա. Դանիելյան:Գ.Ավագյան'!G47) -> 13 | H47: =SUM('Ա. Դանիելյան:Գ.Ավագյան'!H47) -> 0 | I47: =SUM('Ա. Դանիելյան:Գ.Ավագյան'!I47) -> 0 | J47: =SUM('Ա. Դանիելյան:Գ.Ավագյան'!J47) -> 5 | K47: =SUM('Ա. Դանիելյան:Գ.Ավագյան'!K47) -> 3 | L47: =SUM('Ա. Դանիելյան:Գ.Ավագյան'!L47) -> 2 | ... AS47: =SUM('Ա. Դանիելյան:Գ.Ավագյան'!AS47) -> 0
A48: 3.7 | B48: ²ÛÉ í»×»ñ | E48: =SUM('Ա. Դանիելյան:Գ.Ավագյան'!E48) -> 33 | F48: =SUM('Ա. Դանիելյան:Գ.Ավագյան'!F48) -> 4 | G48: =SUM('Ա. Դանիելյան:Գ.Ավագյան'!G48) -> 29 | H48: =SUM('Ա. Դանիելյան:Գ.Ավագյան'!H48) -> 0 | I48: =SUM('Ա. Դանիելյան:Գ.Ավագյան'!I48) -> 0 | J48: =SUM('Ա. Դանիելյան:Գ.Ավագյան'!J48) -> 49 | K48: =SUM('Ա. Դանիելյան:Գ.Ավագյան'!K48) -> 43 | L48: =SUM('Ա. Դանիելյան:Գ.Ավագյան'!L48) -> 6 | ... AS48: =SUM('Ա. Դանիելյան:Գ.Ավագյան'!AS48) -> 0
A49: 4 | B49: ÀÝï³Ý»Ï³Ý Çñ³í³Ñ³ñ³µ»ñáõÃÛáõÝÝ»ñÇ í»ñ³µ»ñÛ³É ¹³ï³Ï³Ý ·áñÍ»ñ | E49: =SUM(E50:E62) -> 139 | F49: =SUM(F50:F62) -> 11 | G49: =SUM(G50:G62) -> 128 | H49: =SUM(H50:H62) -> 0 | I49: =SUM(I50:I62) -> 0 | J49: =SUM(J50:J62) -> 264 | K49: =SUM(K50:K62) -> 230 | L49: =SUM(L50:L62) -> 32 | ... AS49: =SUM(AS50:AS62) -> 0
A50: 4.1 | B50: ²ÙáõëÝ³ÉáõÍáõÃÛ³Ý í»ñ³µ»ñÛ³É | E50: =SUM('Ա. Դանիելյան:Գ.Ավագյան'!E50) -> 57 | F50: =SUM('Ա. Դանիելյան:Գ.Ավագյան'!F50) -> 6 | G50: =SUM('Ա. Դանիելյան:Գ.Ավագյան'!G50) -> 51 | H50: =SUM('Ա. Դանիելյան:Գ.Ավագյան'!H50) -> 0 | I50: =SUM('Ա. Դանիելյան:Գ.Ավագյան'!I50) -> 0 | J50: =SUM('Ա. Դանիելյան:Գ.Ավագյան'!J50) -> 137 | K50: =SUM('Ա. Դանիելյան:Գ.Ավագյան'!K50) -> 116 | L50: =SUM('Ա. Դանիելյան:Գ.Ավագյան'!L50) -> 21 | ... AS50: =SUM('Ա. Դանիելյան:Գ.Ավագյան'!AS50) -> 0
A51: 4.2 | B51: ²ÉÇÙ»ÝïÇ å³Ñ³ÝçÇ í»ñ³µ»ñÛ³É | E51: =SUM('Ա. Դանիելյան:Գ.Ավագյան'!E51) -> 28 | F51: =SUM('Ա. Դանիելյան:Գ.Ավագյան'!F51) -> 0 | G51: =SUM('Ա. Դանիելյան:Գ.Ավագյան'!G51) -> 28 | H51: =SUM('Ա. Դանիելյան:Գ.Ավագյան'!H51) -> 0 | I51: =SUM('Ա. Դանիելյան:Գ.Ավագյան'!I51) -> 0 | J51: =SUM('Ա. Դանիելյան:Գ.Ավագյան'!J51) -> 47 | K51: =SUM('Ա. Դանիելյան:Գ.Ավագյան'!K51) -> 44 | L51: =SUM('Ա. Դանիելյան:Գ.Ավագյան'!L51) -> 3 | ... AS51: =SUM('Ա. Դանիելյան:Գ.Ավագյան'!AS51) -> 0
A52: 4.3 | B52: ²ÉÇÙ»ÝïÇ ã³÷Á ÷á÷áË»Éáõ í»ñ³µ»ñÛ³É | E52: =SUM('Ա. Դանիելյան:Գ.Ավագյան'!E52) -> 3 | F52: =SUM('Ա. Դանիելյան:Գ.Ավագյան'!F52) -> 0 | G52: =SUM('Ա. Դանիելյան:Գ.Ավագյան'!G52) -> 3 | H52: =SUM('Ա. Դանիելյան:Գ.Ավագյան'!H52) -> 0 | I52: =SUM('Ա. Դանիելյան:Գ.Ավագյան'!I52) -> 0 | J52: =SUM('Ա. Դանիելյան:Գ.Ավագյան'!J52) -> 12 | K52: =SUM('Ա. Դանիելյան:Գ.Ավագյան'!K52) -> 11 | L52: =SUM('Ա. Դանիելյան:Գ.Ավագյան'!L52) -> 1 | ... AS52: =SUM('Ա. Դանիելյան:Գ.Ավագյան'!AS52) -> 0
A53: 4.4 | B53: ÌÝáÕ³Ï³Ý Çñ³íáõÝùÝ»ñÇó ½ñÏ»Éáõ í»ñ³µ»ñÛ³É | E53: =SUM('Ա. Դանիելյան:Գ.Ավագյան'!E53) -> 0 | F53: =SUM('Ա. Դանիելյան:Գ.Ավագյան'!F53) -> 0 | G53: =SUM('Ա. Դանիելյան:Գ.Ավագյան'!G53) -> 0 | H53: =SUM('Ա. Դանիելյան:Գ.Ավագյան'!H53) -> 0 | I53: =SUM('Ա. Դանիելյան:Գ.Ավագյան'!I53) -> 0 | J53: =SUM('Ա. Դանիելյան:Գ.Ավագյան'!J53) -> 4 | K53: =SUM('Ա. Դանիելյան:Գ.Ավագյան'!K53) -> 4 | L53: =SUM('Ա. Դանիելյան:Գ.Ավագյան'!L53) -> 0 | ... AS53: =SUM('Ա. Դանիելյան:Գ.Ավագյան'!AS53) -> 0
A54: 4.5 | B54: ÌÝáÕ³Ï³Ý Çñ³íáõÝùÝ»ñÁ í»ñ³Ï³Ý·Ý»Éáõ í»ñ³µ»ñÛ³É | E54: =SUM('Ա. Դանիելյան:Գ.Ավագյան'!E54) -> 0 | F54: =SUM('Ա. Դանիելյան:Գ.Ավագյան'!F54) -> 0 | G54: =SUM('Ա. Դանիելյան:Գ.Ավագյան'!G54) -> 0 | H54: =SUM('Ա. Դանիելյան:Գ.Ավագյան'!H54) -> 0 | I54: =SUM('Ա. Դանիելյան:Գ.Ավագյան'!I54) -> 0 | J54: =SUM('Ա. Դանիելյան:Գ.Ավագյան'!J54) -> 0 | K54: =SUM('Ա. Դանիելյան:Գ.Ավագյան'!K54) -> 0 | L54: =SUM('Ա. Դանիելյան:Գ.Ավագյան'!L54) -> 0 | ... AS54: =SUM('Ա. Դանիելյան:Գ.Ավագյան'!AS54) -> 0
A55: 4.6 | B55: ºñ»Ë³ÛÇ áñ¹»·ñÙ³Ý í»ñ³µ»ñÛ³É | E55: =SUM('Ա. Դանիելյան:Գ.Ավագյան'!E55) -> 0 | F55: =SUM('Ա. Դանիելյան:Գ.Ավագյան'!F55) -> 0 | G55: =SUM('Ա. Դանիելյան:Գ.Ավագյան'!G55) -> 0 | H55: =SUM('Ա. Դանիելյան:Գ.Ավագյան'!H55) -> 0 | I55: =SUM('Ա. Դանիելյան:Գ.Ավագյան'!I55) -> 0 | J55: =SUM('Ա. Դանիելյան:Գ.Ավագյան'!J55) -> 1 | K55: =SUM('Ա. Դանիելյան:Գ.Ավագյան'!K55) -> 1 | L55: =SUM('Ա. Դանիելյան:Գ.Ավագյան'!L55) -> 0 | ... AS55: =SUM('Ա. Դանիելյան:Գ.Ավագյան'!AS55) -> 0
A56: 4.7 | B56: ºñ»Ë³ÛÇ áñ¹»·ñáõÙÁ í»ñ³óÝ»Éáõ í»ñ³µ»ñÛ³É | E56: =SUM('Ա. Դանիելյան:Գ.Ավագյան'!E56) -> 0 | F56: =SUM('Ա. Դանիելյան:Գ.Ավագյան'!F56) -> 0 | G56: =SUM('Ա. Դանիելյան:Գ.Ավագյան'!G56) -> 0 | H56: =SUM('Ա. Դանիելյան:Գ.Ավագյան'!H56) -> 0 | I56: =SUM('Ա. Դանիելյան:Գ.Ավագյան'!I56) -> 0 | J56: =SUM('Ա. Դանիելյան:Գ.Ավագյան'!J56) -> 1 | K56: =SUM('Ա. Դանիելյան:Գ.Ավագյան'!K56) -> 1 | L56: =SUM('Ա. Դանիելյան:Գ.Ավագյան'!L56) -> 0 | ... AS56: =SUM('Ա. Դանիելյան:Գ.Ավագյան'!AS56) -> 0
A57: 4.8 | B57: Ð³ÛñáõÃÛáõÝÁ ×³Ý³ã»Éáõ í»ñ³µ»ñÛ³É | E57: =SUM('Ա. Դանիելյան:Գ.Ավագյան'!E57) -> 12 | F57: =SUM('Ա. Դանիելյան:Գ.Ավագյան'!F57) -> 1 | G57: =SUM('Ա. Դանիելյան:Գ.Ավագյան'!G57) -> 11 | H57: =SUM('Ա. Դանիելյան:Գ.Ավագյան'!H57) -> 0 | I57: =SUM('Ա. Դանիելյան:Գ.Ավագյան'!I57) -> 0 | J57: =SUM('Ա. Դանիելյան:Գ.Ավագյան'!J57) -> 10 | K57: =SUM('Ա. Դանիելյան:Գ.Ավագյան'!K57) -> 10 | L57: =SUM('Ա. Դանիելյան:Գ.Ավագյան'!L57) -> 0 | ... AS57: =SUM('Ա. Դանիելյան:Գ.Ավագյան'!AS57) -> 0
A58: 4.9 | B58: ºñ»Ë³ÛÇ µÝ³ÏáõÃÛ³Ý í³ÛñÁ áñáß»Éáõ í»ñ³µ»ñÛ³É | E58: =SUM('Ա. Դանիելյան:Գ.Ավագյան'!E58) -> 3 | F58: =SUM('Ա. Դանիելյան:Գ.Ավագյան'!F58) -> 0 | G58: =SUM('Ա. Դանիելյան:Գ.Ավագյան'!G58) -> 3 | H58: =SUM('Ա. Դանիելյան:Գ.Ավագյան'!H58) -> 0 | I58: =SUM('Ա. Դանիելյան:Գ.Ավագյան'!I58) -> 0 | J58: =SUM('Ա. Դանիելյան:Գ.Ավագյան'!J58) -> 10 | K58: =SUM('Ա. Դանիելյան:Գ.Ավագյան'!K58) -> 10 | L58: =SUM('Ա. Դանիելյան:Գ.Ավագյան'!L58) -> 0 | ... AS58: =SUM('Ա. Դանիելյան:Գ.Ավագյան'!AS58) -> 0
A59: 4.10 | B59: ºñ»Ë³ÛÇ Ñ»ï ï»ë³ÏóáõÃÛ³Ý Ï³ñ· ë³ÑÙ³Ý»Éáõ í»ñ³µ»ñÛ³É | E59: =SUM('Ա. Դանիելյան:Գ.Ավագյան'!E59) -> 17 | F59: =SUM('Ա. Դանիելյան:Գ.Ավագյան'!F59) -> 2 | G59: =SUM('Ա. Դանիելյան:Գ.Ավագյան'!G59) -> 15 | H59: =SUM('Ա. Դանիելյան:Գ.Ավագյան'!H59) -> 0 | I59: =SUM('Ա. Դանիելյան:Գ.Ավագյան'!I59) -> 0 | J59: =SUM('Ա. Դանիելյան:Գ.Ավագյան'!J59) -> 16 | K59: =SUM('Ա. Դանիելյան:Գ.Ավագյան'!K59) -> 13 | L59: =SUM('Ա. Դանիելյան:Գ.Ավագյան'!L59) -> 2 | ... AS59: =SUM('Ա. Դանիելյան:Գ.Ավագյան'!AS59) -> 0
A60: 4.11 | B60: ²ÙáõëÇÝÝ»ñÇ ÁÝ¹Ñ³Ýáõñ ·áõÛùÁ µ³Å³Ý»Éáõ í»ñ³µ»ñÛ³É | E60: =SUM('Ա. Դանիելյան:Գ.Ավագյան'!E60) -> 8 | F60: =SUM('Ա. Դանիելյան:Գ.Ավագյան'!F60) -> 2 | G60: =SUM('Ա. Դանիելյան:Գ.Ավագյան'!G60) -> 6 | H60: =SUM('Ա. Դանիելյան:Գ.Ավագյան'!H60) -> 0 | I60: =SUM('Ա. Դանիելյան:Գ.Ավագյան'!I60) -> 0 | J60: =SUM('Ա. Դանիելյան:Գ.Ավագյան'!J60) -> 8 | K60: =SUM('Ա. Դանիելյան:Գ.Ավագյան'!K60) -> 7 | L60: =SUM('Ա. Դանիելյան:Գ.Ավագյան'!L60) -> 1 | ... AS60: =SUM('Ա. Դանիելյան:Գ.Ավագյան'!AS60) -> 0
A61: 4.12 | B61: ²ÙáõëÝ³Ï³Ý å³ÛÙ³Ý³·ñÇ ÷á÷áËÙ³Ý Ï³Ù ÉáõÍÙ³Ý í»ñ³µ»ñÛ³É | E61: =SUM('Ա. Դանիելյան:Գ.Ավագյան'!E61) -> 0 | F61: =SUM('Ա. Դանիելյան:Գ.Ավագյան'!F61) -> 0 | G61: =SUM('Ա. Դանիելյան:Գ.Ավագյան'!G61) -> 0 | H61: =SUM('Ա. Դանիելյան:Գ.Ավագյան'!H61) -> 0 | I61: =SUM('Ա. Դանիելյան:Գ.Ավագյան'!I61) -> 0 | J61: =SUM('Ա. Դանիելյան:Գ.Ավագյան'!J61) -> 0 | K61: =SUM('Ա. Դանիելյան:Գ.Ավագյան'!K61) -> 0 | L61: =SUM('Ա. Դանիելյան:Գ.Ավագյան'!L61) -> 0 | ... AS61: =SUM('Ա. Դանիելյան:Գ.Ավագյան'!AS61) -> 0
A62: 4.13 | B62: ²ÛÉ í»×»ñ | E62: =SUM('Ա. Դանիելյան:Գ.Ավագյան'!E62) -> 11 | F62: =SUM('Ա. Դանիելյան:Գ.Ավագյան'!F62) -> 0 | G62: =SUM('Ա. Դանիելյան:Գ.Ավագյան'!G62) -> 11 | H62: =SUM('Ա. Դանիելյան:Գ.Ավագյան'!H62) -> 0 | I62: =SUM('Ա. Դանիելյան:Գ.Ավագյան'!I62) -> 0 | J62: =SUM('Ա. Դանիելյան:Գ.Ավագյան'!J62) -> 18 | K62: =SUM('Ա. Դանիելյան:Գ.Ավագյան'!K62) -> 13 | L62: =SUM('Ա. Դանիելյան:Գ.Ավագյան'!L62) -> 4 | ... AS62: =SUM('Ա. Դանիելյան:Գ.Ավագյան'!AS62) -> 0
A63: 5. | B63: Øï³íáñ ë»÷³Ï³ÝáõÃÛ³Ý Ñ»ï Ï³åí³ÍÇñ³í³Ñ³ñ³µ»ñáõÃÛáõÝÝ»ñÇ í»ñ³µ»ñÛ³É ¹³ï³Ï³Ý ·áñÍ»ñ | E63: =SUM(E64:E69) -> 2 | F63: =SUM(F64:F69) -> 0 | G63: =SUM(G64:G69) -> 2 | H63: =SUM(H64:H69) -> 0 | I63: =SUM(I64:I69) -> 0 | J63: =SUM(J64:J69) -> 2 | K63: =SUM(K64:K69) -> 1 | L63: =SUM(L64:L69) -> 1 | ... AS63: =SUM(AS64:AS69) -> 0
A64: 5.1 | B64: ÈÇó»Ý½³ÛÇÝ å³ÛÙ³Ý³·ñÇ ÉáõÍÙ³Ý, ÷á÷áËÙ³Ý ¨ ³Ýí³í»ñáõÃÛ³Ý í»ñ³µ»ñÛ³É | E64: =SUM('Ա. Դանիելյան:Գ.Ավագյան'!E64) -> 0 | F64: =SUM('Ա. Դանիելյան:Գ.Ավագյան'!F64) -> 0 | G64: =SUM('Ա. Դանիելյան:Գ.Ավագյան'!G64) -> 0 | H64: =SUM('Ա. Դանիելյան:Գ.Ավագյան'!H64) -> 0 | I64: =SUM('Ա. Դանիելյան:Գ.Ավագյան'!I64) -> 0 | J64: =SUM('Ա. Դանիելյան:Գ.Ավագյան'!J64) -> 0 | K64: =SUM('Ա. Դանիելյան:Գ.Ավագյան'!K64) -> 0 | L64: =SUM('Ա. Դանիելյան:Գ.Ավագյան'!L64) -> 0 | ... AS64: =SUM('Ա. Դանիելյան:Գ.Ավագյան'!AS64) -> 0
A65: 5.2 | B65: Øï³íáñ ·áñÍáõÝ»áõÃÛ³Ý ³ñ¹ÛáõÝùÝ»ñ ëï»ÕÍ»Éáõ ¨ û·ï³·áñÍ»Éáõ å³ÛÙ³Ý³·ñÇ ÉáõÍÙ³Ý, ÷á÷áËÙ³Ý áõ ³Ýí³í»ñáõÃÛ³Ý í»ñ³µ»ñÛ³É | E65: =SUM('Ա. Դանիելյան:Գ.Ավագյան'!E65) -> 0 | F65: =SUM('Ա. Դանիելյան:Գ.Ավագյան'!F65) -> 0 | G65: =SUM('Ա. Դանիելյան:Գ.Ավագյան'!G65) -> 0 | H65: =SUM('Ա. Դանիելյան:Գ.Ավագյան'!H65) -> 0 | I65: =SUM('Ա. Դանիելյան:Գ.Ավագյան'!I65) -> 0 | J65: =SUM('Ա. Դանիելյան:Գ.Ավագյան'!J65) -> 0 | K65: =SUM('Ա. Դանիելյան:Գ.Ավագյան'!K65) -> 0 | L65: =SUM('Ա. Դանիելյան:Գ.Ավագյան'!L65) -> 0 | ... AS65: =SUM('Ա. Դանիելյան:Գ.Ավագյան'!AS65) -> 0
A66: 5.3 | B66: Ð»ÕÇÝ³Ï³ÛÇÝ ¨ Ñ³ñ³ÏÇó Çñ³íáõÝùÝ»ñÇ í»ñ³µ»ñÛ³É | E66: =SUM('Ա. Դանիելյան:Գ.Ավագյան'!E66) -> 1 | F66: =SUM('Ա. Դանիելյան:Գ.Ավագյան'!F66) -> 0 | G66: =SUM('Ա. Դանիելյան:Գ.Ավագյան'!G66) -> 1 | H66: =SUM('Ա. Դանիելյան:Գ.Ավագյան'!H66) -> 0 | I66: =SUM('Ա. Դանիելյան:Գ.Ավագյան'!I66) -> 0 | J66: =SUM('Ա. Դանիելյան:Գ.Ավագյան'!J66) -> 0 | K66: =SUM('Ա. Դանիելյան:Գ.Ավագյան'!K66) -> 0 | L66: =SUM('Ա. Դանիելյան:Գ.Ավագյան'!L66) -> 0 | ... AS66: =SUM('Ա. Դանիելյան:Գ.Ավագյան'!AS66) -> 0
A67: 5.4 | B67: üÇñÙ³ÛÇÝ ³Ýí³ÝÙ³Ý í»ñ³µ»ñÛ³É | E67: =SUM('Ա. Դանիելյան:Գ.Ավագյան'!E67) -> 0 | F67: =SUM('Ա. Դանիելյան:Գ.Ավագյան'!F67) -> 0 | G67: =SUM('Ա. Դանիելյան:Գ.Ավագյան'!G67) -> 0 | H67: =SUM('Ա. Դանիելյան:Գ.Ավագյան'!H67) -> 0 | I67: =SUM('Ա. Դանիելյան:Գ.Ավագյան'!I67) -> 0 | J67: =SUM('Ա. Դանիելյան:Գ.Ավագյան'!J67) -> 0 | K67: =SUM('Ա. Դանիելյան:Գ.Ավագյան'!K67) -> 0 | L67: =SUM('Ա. Դանիելյան:Գ.Ավագյան'!L67) -> 0 | ... AS67: =SUM('Ա. Դանիելյան:Գ.Ավագյան'!AS67) -> 0
A68: 5.5 | B68: ²åñ³Ýù³ÛÇÝ Ýß³ÝÇ í»ñ³µ»ñÛ³É | E68: =SUM('Ա. Դանիելյան:Գ.Ավագյան'!E68) -> 1 | F68: =SUM('Ա. Դանիելյան:Գ.Ավագյան'!F68) -> 0 | G68: =SUM('Ա. Դանիելյան:Գ.Ավագյան'!G68) -> 1 | H68: =SUM('Ա. Դանիելյան:Գ.Ավագյան'!H68) -> 0 | I68: =SUM('Ա. Դանիելյան:Գ.Ավագյան'!I68) -> 0 | J68: =SUM('Ա. Դանիելյան:Գ.Ավագյան'!J68) -> 2 | K68: =SUM('Ա. Դանիելյան:Գ.Ավագյան'!K68) -> 1 | L68: =SUM('Ա. Դանիելյան:Գ.Ավագյան'!L68) -> 1 | ... AS68: =SUM('Ա. Դանիելյան:Գ.Ավագյան'!AS68) -> 0
A69: 5.6 | B69: ²ÛÉ í»×»ñ | E69: =SUM('Ա. Դանիելյան:Գ.Ավագյան'!E69) -> 0 | F69: =SUM('Ա. Դանիելյան:Գ.Ավագյան'!F69) -> 0 | G69: =SUM('Ա. Դանիելյան:Գ.Ավագյան'!G69) -> 0 | H69: =SUM('Ա. Դանիելյան:Գ.Ավագյան'!H69) -> 0 | I69: =SUM('Ա. Դանիելյան:Գ.Ավագյան'!I69) -> 0 | J69: =SUM('Ա. Դանիելյան:Գ.Ավագյան'!J69) -> 0 | K69: =SUM('Ա. Դանիելյան:Գ.Ավագյան'!K69) -> 0 | L69: =SUM('Ա. Դանիելյան:Գ.Ավագյան'!L69) -> 0 | ... AS69: =SUM('Ա. Դանիելյան:Գ.Ավագյան'!AS69) -> 0
A70: 6. | B70: ²ßË³ï³Ýù³ÛÇÝ Çñ³í³Ñ³ñ³µ»ñáõÃÛáõÝÝ»ñÇ í»ñ³µ»ñÛ³É ¹³ï³Ï³Ý ·áñÍ»ñ | E70: =SUM(E71:E76) -> 25 | F70: =SUM(F71:F76) -> 1 | G70: =SUM(G71:G76) -> 24 | H70: =SUM(H71:H76) -> 0 | I70: =SUM(I71:I76) -> 0 | J70: =SUM(J71:J76) -> 14 | K70: =SUM(K71:K76) -> 12 | L70: =SUM(L71:L76) -> 2 | ... AS70: =SUM(AS71:AS76) -> 0
A71: 6.1 | B71: ²ßË³ï³Ýù³ÛÇÝ å³ÛÙ³Ý³·ñ»ñÇ í»ñ³µ»ñÛ³É | E71: =SUM('Ա. Դանիելյան:Գ.Ավագյան'!E71) -> 3 | F71: =SUM('Ա. Դանիելյան:Գ.Ավագյան'!F71) -> 0 | G71: =SUM('Ա. Դանիելյան:Գ.Ավագյան'!G71) -> 3 | H71: =SUM('Ա. Դանիելյան:Գ.Ավագյան'!H71) -> 0 | I71: =SUM('Ա. Դանիելյան:Գ.Ավագյան'!I71) -> 0 | J71: =SUM('Ա. Դանիելյան:Գ.Ավագյան'!J71) -> 2 | K71: =SUM('Ա. Դանիելյան:Գ.Ավագյան'!K71) -> 2 | L71: =SUM('Ա. Դանիելյան:Գ.Ավագյան'!L71) -> 0 | ... AS71: =SUM('Ա. Դանիելյան:Գ.Ավագյան'!AS71) -> 0
A72: 6.2 | B72: ²ßË³ï³ÝùáõÙ í»ñ³Ï³Ý·Ý»Éáõ í»ñ³µ»ñÛ³É | E72: =SUM('Ա. Դանիելյան:Գ.Ավագյան'!E72) -> 7 | F72: =SUM('Ա. Դանիելյան:Գ.Ավագյան'!F72) -> 0 | G72: =SUM('Ա. Դանիելյան:Գ.Ավագյան'!G72) -> 7 | H72: =SUM('Ա. Դանիելյան:Գ.Ավագյան'!H72) -> 0 | I72: =SUM('Ա. Դանիելյան:Գ.Ավագյան'!I72) -> 0 | J72: =SUM('Ա. Դանիելյան:Գ.Ավագյան'!J72) -> 2 | K72: =SUM('Ա. Դանիելյան:Գ.Ավագյան'!K72) -> 1 | L72: =SUM('Ա. Դանիելյան:Գ.Ավագյան'!L72) -> 1 | ... AS72: =SUM('Ա. Դանիելյան:Գ.Ավագյան'!AS72) -> 0
A73: 6.3 | B73: ¶áñÍ³¹áõÉÝ ³ÝûñÇÝ³Ï³Ý ×³Ý³ã»Éáõ í»ñ³µ»ñÛ³É | E73: =SUM('Ա. Դանիելյան:Գ.Ավագյան'!E73) -> 0 | F73: =SUM('Ա. Դանիելյան:Գ.Ավագյան'!F73) -> 0 | G73: =SUM('Ա. Դանիելյան:Գ.Ավագյան'!G73) -> 0 | H73: =SUM('Ա. Դանիելյան:Գ.Ավագյան'!H73) -> 0 | I73: =SUM('Ա. Դանիելյան:Գ.Ավագյան'!I73) -> 0 | J73: =SUM('Ա. Դանիելյան:Գ.Ավագյան'!J73) -> 0 | K73: =SUM('Ա. Դանիելյան:Գ.Ավագյան'!K73) -> 0 | L73: =SUM('Ա. Դանիելյան:Գ.Ավագյան'!L73) -> 0 | ... AS73: =SUM('Ա. Դանիելյան:Գ.Ավագյան'!AS73) -> 0
A74: 6.4 | B74: Ð³ñÏ³¹Çñ å³ñ³åáõñ¹Ç Ñ³ïáõóÙ³Ý í»ñ³µ»ñÛ³É | E74: =SUM('Ա. Դանիելյան:Գ.Ավագյան'!E74) -> 1 | F74: =SUM('Ա. Դանիելյան:Գ.Ավագյան'!F74) -> 0 | G74: =SUM('Ա. Դանիելյան:Գ.Ավագյան'!G74) -> 1 | H74: =SUM('Ա. Դանիելյան:Գ.Ավագյան'!H74) -> 0 | I74: =SUM('Ա. Դանիելյան:Գ.Ավագյան'!I74) -> 0 | J74: =SUM('Ա. Դանիելյան:Գ.Ավագյան'!J74) -> 0 | K74: =SUM('Ա. Դանիելյան:Գ.Ավագյան'!K74) -> 0 | L74: =SUM('Ա. Դանիելյան:Գ.Ավագյան'!L74) -> 0 | ... AS74: =SUM('Ա. Դանիելյան:Գ.Ավագյան'!AS74) -> 0
A75: 6.5 | B75: âí×³ñí³Í ³ßË³ï³í³ñÓÇ ¨/Ï³Ù ³ÛÉ í×³ñÝ»ñÇ µéÝ³·³ÝÓÙ³Ý í»ñ³µ»ñÛ³É | E75: =SUM('Ա. Դանիելյան:Գ.Ավագյան'!E75) -> 7 | F75: =SUM('Ա. Դանիելյան:Գ.Ավագյան'!F75) -> 1 | G75: =SUM('Ա. Դանիելյան:Գ.Ավագյան'!G75) -> 6 | H75: =SUM('Ա. Դանիելյան:Գ.Ավագյան'!H75) -> 0 | I75: =SUM('Ա. Դանիելյան:Գ.Ավագյան'!I75) -> 0 | J75: =SUM('Ա. Դանիելյան:Գ.Ավագյան'!J75) -> 8 | K75: =SUM('Ա. Դանիելյան:Գ.Ավագյան'!K75) -> 7 | L75: =SUM('Ա. Դանիելյան:Գ.Ավագյան'!L75) -> 1 | ... AS75: =SUM('Ա. Դանիելյան:Գ.Ավագյան'!AS75) -> 0
A76: 6.6 | B76: ²ÛÉ í»×»ñ | E76: =SUM('Ա. Դանիելյան:Գ.Ավագյան'!E76) -> 7 | F76: =SUM('Ա. Դանիելյան:Գ.Ավագյան'!F76) -> 0 | G76: =SUM('Ա. Դանիելյան:Գ.Ավագյան'!G76) -> 7 | H76: =SUM('Ա. Դանիելյան:Գ.Ավագյան'!H76) -> 0 | I76: =SUM('Ա. Դանիելյան:Գ.Ավագյան'!I76) -> 0 | J76: =SUM('Ա. Դանիելյան:Գ.Ավագյան'!J76) -> 2 | K76: =SUM('Ա. Դանիելյան:Գ.Ավագյան'!K76) -> 2 | L76: =SUM('Ա. Դանիելյան:Գ.Ավագյան'!L76) -> 0 | ... AS76: =SUM('Ա. Դանիելյան:Գ.Ավագյան'!AS76) -> 0
A77: 7. | B77: Æñ³í³µ³Ý³Ï³Ý ³ÝÓÇ ·áñÍáõÝ»áõÃÛáõÝÇó µËáÕ Çñ³í³Ñ³ñ³µ»ñáõÃÛáõÝÝ»ñÇ í»ñ³µ»ñÛ³É ¹³ï³Ï³Ý ·áñÍ»ñ | E77: =SUM(E78:E79) -> 5 | F77: =SUM(F78:F79) -> 0 | G77: =SUM(G78:G79) -> 5 | H77: =SUM(H78:H79) -> 0 | I77: =SUM(I78:I79) -> 0 | J77: =SUM(J78:J79) -> 3 | K77: =SUM(K78:K79) -> 2 | L77: =SUM(L78:L79) -> 0 | ... AS77: =SUM(AS78:AS79) -> 0
A78: 7.1 | B78: Îáñåáñ³ïÇí í»×»ñ | E78: =SUM('Ա. Դանիելյան:Գ.Ավագյան'!E78) -> 0 | F78: =SUM('Ա. Դանիելյան:Գ.Ավագյան'!F78) -> 0 | G78: =SUM('Ա. Դանիելյան:Գ.Ավագյան'!G78) -> 0 | H78: =SUM('Ա. Դանիելյան:Գ.Ավագյան'!H78) -> 0 | I78: =SUM('Ա. Դանիելյան:Գ.Ավագյան'!I78) -> 0 | J78: =SUM('Ա. Դանիելյան:Գ.Ավագյան'!J78) -> 0 | K78: =SUM('Ա. Դանիելյան:Գ.Ավագյան'!K78) -> 0 | L78: =SUM('Ա. Դանիելյան:Գ.Ավագյան'!L78) -> 0 | ... AS78: =SUM('Ա. Դանիելյան:Գ.Ավագյան'!AS78) -> 0
A79: 7.2 | B79: ²ÛÉ í»×»ñ | E79: =SUM('Ա. Դանիելյան:Գ.Ավագյան'!E79) -> 5 | F79: =SUM('Ա. Դանիելյան:Գ.Ավագյան'!F79) -> 0 | G79: =SUM('Ա. Դանիելյան:Գ.Ավագյան'!G79) -> 5 | H79: =SUM('Ա. Դանիելյան:Գ.Ավագյան'!H79) -> 0 | I79: =SUM('Ա. Դանիելյան:Գ.Ավագյան'!I79) -> 0 | J79: =SUM('Ա. Դանիելյան:Գ.Ավագյան'!J79) -> 3 | K79: =SUM('Ա. Դանիելյան:Գ.Ավագյան'!K79) -> 2 | L79: =SUM('Ա. Դանիելյան:Գ.Ավագյան'!L79) -> 0 | ... AS79: =SUM('Ա. Դանիելյան:Գ.Ավագյան'!AS79) -> 0
A80: 8. | B80: Ð³ïáõÏ í³ñáõÛÃÇ ¹³ï³Ï³Ý ·áñÍ»ñ | E80: =SUM(E81:E101) -> 75 | F80: =SUM(F81:F101) -> 3 | G80: =SUM(G81:G101) -> 72 | H80: =SUM(H81:H101) -> 0 | I80: =SUM(I81:I101) -> 0 | J80: =SUM(J81:J101) -> 140 | K80: =SUM(K81:K101) -> 111 | L80: =SUM(L81:L101) -> 29 | ... AS80: =SUM(AS81:AS101) -> 0
A81: 8.1 | B81: ²Ýã³÷³Ñ³ëÇÝ ÉñÇí ·áñÍáõÝ³Ï ×³Ý³ã»Éáõ /¿Ù³ÝëÇå³óÇ³/ í»ñ³µ»ñÛ³É | E81: =SUM('Ա. Դանիելյան:Գ.Ավագյան'!E81) -> 0 | F81: =SUM('Ա. Դանիելյան:Գ.Ավագյան'!F81) -> 0 | G81: =SUM('Ա. Դանիելյան:Գ.Ավագյան'!G81) -> 0 | H81: =SUM('Ա. Դանիելյան:Գ.Ավագյան'!H81) -> 0 | I81: =SUM('Ա. Դանիելյան:Գ.Ավագյան'!I81) -> 0 | J81: =SUM('Ա. Դանիելյան:Գ.Ավագյան'!J81) -> 0 | K81: =SUM('Ա. Դանիելյան:Գ.Ավագյան'!K81) -> 0 | L81: =SUM('Ա. Դանիելյան:Գ.Ավագյան'!L81) -> 0 | ... AS81: =SUM('Ա. Դանիելյան:Գ.Ավագյան'!AS81) -> 0
A82: 8.2 | B82: ø³Õ³ù³óáõÝ ³Ý·áñÍáõÝ³Ï Ï³Ù ë³ÑÙ³Ý³÷³Ï ·áñÍáõÝ³Ï ×³Ý³ã»Éáõ í»ñ³µ»ñÛ³É | E82: =SUM('Ա. Դանիելյան:Գ.Ավագյան'!E82) -> 15 | F82: =SUM('Ա. Դանիելյան:Գ.Ավագյան'!F82) -> 2 | G82: =SUM('Ա. Դանիելյան:Գ.Ավագյան'!G82) -> 13 | H82: =SUM('Ա. Դանիելյան:Գ.Ավագյան'!H82) -> 0 | I82: =SUM('Ա. Դանիելյան:Գ.Ավագյան'!I82) -> 0 | J82: =SUM('Ա. Դանիելյան:Գ.Ավագյան'!J82) -> 34 | K82: =SUM('Ա. Դանիելյան:Գ.Ավագյան'!K82) -> 32 | L82: =SUM('Ա. Դանիելյան:Գ.Ավագյան'!L82) -> 2 | ... AS82: =SUM('Ա. Դանիելյան:Գ.Ավագյան'!AS82) -> 0
A83: 8.3 | B83: ø³Õ³ù³óáõÝ Ñá·»µáõÅ³Ï³Ý ÑÇí³Ý¹³Ýáó³ÛÇÝ Ñ³ñÏ³¹Çñ µáõÅÙ³Ý »ÝÃ³ñÏ»Éáõ í»ñ³µ»ñÛ³É | E83: =SUM('Ա. Դանիելյան:Գ.Ավագյան'!E83) -> 0 | F83: =SUM('Ա. Դանիելյան:Գ.Ավագյան'!F83) -> 0 | G83: =SUM('Ա. Դանիելյան:Գ.Ավագյան'!G83) -> 0 | H83: =SUM('Ա. Դանիելյան:Գ.Ավագյան'!H83) -> 0 | I83: =SUM('Ա. Դանիելյան:Գ.Ավագյան'!I83) -> 0 | J83: =SUM('Ա. Դանիելյան:Գ.Ավագյան'!J83) -> 0 | K83: =SUM('Ա. Դանիելյան:Գ.Ավագյան'!K83) -> 0 | L83: =SUM('Ա. Դանիելյան:Գ.Ավագյան'!L83) -> 0 | ... AS83: =SUM('Ա. Դանիելյան:Գ.Ավագյան'!AS83) -> 0
A84: 8.4 | B84: ø³Õ³ù³óáõÝ ³ÝÑ³Ûï µ³ó³Ï³ÛáÕ Ï³Ù Ù³Ñ³ó³Í ×³Ý³ã»Éáõ í»ñ³µ»ñÛ³É | E84: =SUM('Ա. Դանիելյան:Գ.Ավագյան'!E84) -> 11 | F84: =SUM('Ա. Դանիելյան:Գ.Ավագյան'!F84) -> 0 | G84: =SUM('Ա. Դանիելյան:Գ.Ավագյան'!G84) -> 11 | H84: =SUM('Ա. Դանիելյան:Գ.Ավագյան'!H84) -> 0 | I84: =SUM('Ա. Դանիելյան:Գ.Ավագյան'!I84) -> 0 | J84: =SUM('Ա. Դանիելյան:Գ.Ավագյան'!J84) -> 17 | K84: =SUM('Ա. Դանիելյան:Գ.Ավագյան'!K84) -> 15 | L84: =SUM('Ա. Դանիելյան:Գ.Ավագյան'!L84) -> 2 | ... AS84: =SUM('Ա. Դանիելյան:Գ.Ավագյան'!AS84) -> 0
A85: 8.5 | B85: ø³Õ³ù³óÇ³Ï³Ý Ï³óáõÃÛ³Ý ³Ïï»ñÇ ·ñ³éáõÙÝ»ñÇ ³Ý×ßïáõÃÛáõÝÝ»ñÁ å³ñ½»Éáõ í»ñ³µ»ñÛ³É | E85: =SUM('Ա. Դանիելյան:Գ.Ավագյան'!E85) -> 0 | F85: =SUM('Ա. Դանիելյան:Գ.Ավագյան'!F85) -> 0 | G85: =SUM('Ա. Դանիելյան:Գ.Ավագյան'!G85) -> 0 | H85: =SUM('Ա. Դանիելյան:Գ.Ավագյան'!H85) -> 0 | I85: =SUM('Ա. Դանիելյան:Գ.Ավագյան'!I85) -> 0 | J85: =SUM('Ա. Դանիելյան:Գ.Ավագյան'!J85) -> 0 | K85: =SUM('Ա. Դանիելյան:Գ.Ավագյան'!K85) -> 0 | L85: =SUM('Ա. Դանիելյան:Գ.Ավագյան'!L85) -> 0 | ... AS85: =SUM('Ա. Դանիելյան:Գ.Ավագյան'!AS85) -> 0
A86: 8.6 | B86: ¶áõÛùÁ ïÇñ³½áõñÏ ×³Ý³ã»Éáõ í»ñ³µ»ñÛ³É | E86: =SUM('Ա. Դանիելյան:Գ.Ավագյան'!E86) -> 2 | F86: =SUM('Ա. Դանիելյան:Գ.Ավագյան'!F86) -> 0 | G86: =SUM('Ա. Դանիելյան:Գ.Ավագյան'!G86) -> 2 | H86: =SUM('Ա. Դանիելյան:Գ.Ավագյան'!H86) -> 0 | I86: =SUM('Ա. Դանիելյան:Գ.Ավագյան'!I86) -> 0 | J86: =SUM('Ա. Դանիելյան:Գ.Ավագյան'!J86) -> 8 | K86: =SUM('Ա. Դանիելյան:Գ.Ավագյան'!K86) -> 7 | L86: =SUM('Ա. Դանիելյան:Գ.Ավագյան'!L86) -> 1 | ... AS86: =SUM('Ա. Դանիելյան:Գ.Ավագյան'!AS86) -> 0
A87: 8.6.1 | B87: ²Û¹ ÃíáõÙª ³Ýß³ñÅ ·áõÛùÁ | E87: =SUM('Ա. Դանիելյան:Գ.Ավագյան'!E87) -> 0 | F87: =SUM('Ա. Դանիելյան:Գ.Ավագյան'!F87) -> 0 | G87: =SUM('Ա. Դանիելյան:Գ.Ավագյան'!G87) -> 0 | H87: =SUM('Ա. Դանիելյան:Գ.Ավագյան'!H87) -> 0 | I87: =SUM('Ա. Դանիելյան:Գ.Ավագյան'!I87) -> 0 | J87: =SUM('Ա. Դանիելյան:Գ.Ավագյան'!J87) -> 0 | K87: =SUM('Ա. Դանիելյան:Գ.Ավագյան'!K87) -> 0 | L87: =SUM('Ա. Դանիելյան:Գ.Ավագյան'!L87) -> 0 | ... AS87: =SUM('Ա. Դանիելյան:Գ.Ավագյան'!AS87) -> 0
A88: 8.6.2 | B88: ²Û¹ ÃíáõÙª ß³ñÅ³Ï³Ý ·áõÛùÁ | E88: =SUM('Ա. Դանիելյան:Գ.Ավագյան'!E88) -> 0 | F88: =SUM('Ա. Դանիելյան:Գ.Ավագյան'!F88) -> 0 | G88: =SUM('Ա. Դանիելյան:Գ.Ավագյան'!G88) -> 0 | H88: =SUM('Ա. Դանիելյան:Գ.Ավագյան'!H88) -> 0 | I88: =SUM('Ա. Դանիելյան:Գ.Ավագյան'!I88) -> 0 | J88: =SUM('Ա. Դանիելյան:Գ.Ավագյան'!J88) -> 0 | K88: =SUM('Ա. Դանիելյան:Գ.Ավագյան'!K88) -> 0 | L88: =SUM('Ա. Դանիելյան:Գ.Ավագյան'!L88) -> 0 | ... AS88: =SUM('Ա. Դանիելյան:Գ.Ավագյան'!AS88) -> 0
A89: 8.7 | B89: Æñ³í³µ³Ý³Ï³Ý Ýß³Ý³ÏáõÃÛáõÝ áõÝ»óáÕ ÷³ëï»ñÇ Ñ³ëï³ïÙ³Ý í»ñ³µ»ñÛ³É | E89: =SUM('Ա. Դանիելյան:Գ.Ավագյան'!E89) -> 18 | F89: =SUM('Ա. Դանիելյան:Գ.Ավագյան'!F89) -> 0 | G89: =SUM('Ա. Դանիելյան:Գ.Ավագյան'!G89) -> 18 | H89: =SUM('Ա. Դանիելյան:Գ.Ավագյան'!H89) -> 0 | I89: =SUM('Ա. Դանիելյան:Գ.Ավագյան'!I89) -> 0 | J89: =SUM('Ա. Դանիելյան:Գ.Ավագյան'!J89) -> 61 | K89: =SUM('Ա. Դանիելյան:Գ.Ավագյան'!K89) -> 45 | L89: =SUM('Ա. Դանիելյան:Գ.Ավագյան'!L89) -> 16 | ... AS89: =SUM('Ա. Դանիելյան:Գ.Ավագյան'!AS89) -> 0
A90: 8.7.1 | B90: ²ÝÓ³Ýó ³½·³Ïó³Ï³Ý Ï³åÁ Ñ³ëï³ï»Éáõ í»ñ³µ»ñÛ³É | E90: =SUM('Ա. Դանիելյան:Գ.Ավագյան'!E90) -> 7 | F90: =SUM('Ա. Դանիելյան:Գ.Ավագյան'!F90) -> 1 | G90: =SUM('Ա. Դանիելյան:Գ.Ավագյան'!G90) -> 6 | H90: =SUM('Ա. Դանիելյան:Գ.Ավագյան'!H90) -> 0 | I90: =SUM('Ա. Դանիելյան:Գ.Ավագյան'!I90) -> 0 | J90: =SUM('Ա. Դանիելյան:Գ.Ավագյան'!J90) -> 6 | K90: =SUM('Ա. Դանիելյան:Գ.Ավագյան'!K90) -> 4 | L90: =SUM('Ա. Դանիելյան:Գ.Ավագյան'!L90) -> 2 | ... AS90: =SUM('Ա. Դանիելյան:Գ.Ավագյան'!AS90) -> 0
A91: 8.7.2 | B91: ²ÝÓÇª áõñÇßÇ ËÝ³ÙùÇ ï³Ï ·ïÝí»Éáõ í»ñ³µ»ñÛ³É | E91: =SUM('Ա. Դանիելյան:Գ.Ավագյան'!E91) -> 0 | F91: =SUM('Ա. Դանիելյան:Գ.Ավագյան'!F91) -> 0 | G91: =SUM('Ա. Դանիելյան:Գ.Ավագյան'!G91) -> 0 | H91: =SUM('Ա. Դանիելյան:Գ.Ավագյան'!H91) -> 0 | I91: =SUM('Ա. Դանիելյան:Գ.Ավագյան'!I91) -> 0 | J91: =SUM('Ա. Դանիելյան:Գ.Ավագյան'!J91) -> 0 | K91: =SUM('Ա. Դանիելյան:Գ.Ավագյան'!K91) -> 0 | L91: =SUM('Ա. Դանիելյան:Գ.Ավագյան'!L91) -> 0 | ... AS91: =SUM('Ա. Դանիելյան:Գ.Ավագյան'!AS91) -> 0
A92: 8.7.3 | B92: ÌÝÝ¹Û³Ý, áñ¹»·ñÙ³Ý, ³ÙáõëÝáõÃÛ³Ý, ³å³Ñ³ñ½³ÝÇ ¨ Ù³Ñí³Ý ·ñ³ÝóÙ³Ý í»ñ³µ»ñÛ³É | E92: =SUM('Ա. Դանիելյան:Գ.Ավագյան'!E92) -> 0 | F92: =SUM('Ա. Դանիելյան:Գ.Ավագյան'!F92) -> 0 | G92: =SUM('Ա. Դանիելյան:Գ.Ավագյան'!G92) -> 0 | H92: =SUM('Ա. Դանիելյան:Գ.Ավագյան'!H92) -> 0 | I92: =SUM('Ա. Դանիելյան:Գ.Ավագյան'!I92) -> 0 | J92: =SUM('Ա. Դանիելյան:Գ.Ավագյան'!J92) -> 3 | K92: =SUM('Ա. Դանիելյան:Գ.Ավագյան'!K92) -> 1 | L92: =SUM('Ա. Դանիելյան:Գ.Ավագյան'!L92) -> 2 | ... AS92: =SUM('Ա. Դանիելյան:Գ.Ավագյան'!AS92) -> 0
... A101: 8.10 | B101: ²ÛÉ í»×»ñ | E101: =SUM('Ա. Դանիելյան:Գ.Ավագյան'!E101) -> 1 | F101: =SUM('Ա. Դանիելյան:Գ.Ավագյան'!F101) -> 0 | G101: =SUM('Ա. Դանիելյան:Գ.Ավագյան'!G101) -> 1 | H101: =SUM('Ա. Դանիելյան:Գ.Ավագյան'!H101) -> 0 | I101: =SUM('Ա. Դանիելյան:Գ.Ավագյան'!I101) -> 0 | J101: =SUM('Ա. Դանիելյան:Գ.Ավագյան'!J101) -> 2 | K101: =SUM('Ա. Դանիելյան:Գ.Ավագյան'!K101) -> 2 | L101: =SUM('Ա. Դանիելյան:Գ.Ավագյան'!L101) -> 0 | ... AS101: =SUM('Ա. Դանիելյան:Գ.Ավագյան'!AS101) -> 0
A102: 9. | B102: Ð³ïáõÏ Ñ³Ûó³ÛÇÝ í³ñáõÛÃÇ ¹³ï³Ï³Ý ·áñÍ»ñ | E102: =SUM(E103:E105) -> 1 | F102: =SUM(F103:F105) -> 0 | G102: =SUM(G103:G105) -> 1 | H102: =SUM(H103:H105) -> 0 | I102: =SUM(I103:I105) -> 0 | J102: =SUM(J103:J105) -> 0 | K102: =SUM(K103:K105) -> 0 | L102: =SUM(L103:L105) -> 0 | ... AS102: =SUM(AS103:AS105) -> 0
A103: 9.1 | B103: ø³Õ³ù³óáõ ÏÛ³ÝùÇÝ Ï³Ù ³éáÕçáõÃÛ³ÝÝ ëå³éÝ³óáÕ íï³Ý·Ç í»ñ³µ»ñÛ³É | E103: =SUM('Ա. Դանիելյան:Գ.Ավագյան'!E103) -> 1 | F103: =SUM('Ա. Դանիելյան:Գ.Ավագյան'!F103) -> 0 | G103: =SUM('Ա. Դանիելյան:Գ.Ավագյան'!G103) -> 1 | H103: =SUM('Ա. Դանիելյան:Գ.Ավագյան'!H103) -> 0 | I103: =SUM('Ա. Դանիելյան:Գ.Ավագյան'!I103) -> 0 | J103: =SUM('Ա. Դանիելյան:Գ.Ավագյան'!J103) -> 0 | K103: =SUM('Ա. Դանիելյան:Գ.Ավագյան'!K103) -> 0 | L103: =SUM('Ա. Դանիելյան:Գ.Ավագյան'!L103) -> 0 | ... AS103: =SUM('Ա. Դանիելյան:Գ.Ավագյան'!AS103) -> 0
A104: 9.2 | B104: ÐÐ Î»ÝïñáÝ³Ï³Ý µ³ÝÏÇ ¨ ³Ýí×³ñáõÝ³Ï µ³ÝÏÇ Ï³Ù í³ñÏ³ÛÇÝ Ï³½Ù³Ï»ñåáõÃÛ³Ý Å³Ù³Ý³Ï³íáñ ³¹ÙÇÝÇëïñ³óÇ³ÛÇ áñáßáõÙÝ»ñÇ µáÕáù³ñÏÙ³Ý í»ñ³µ»ñÛ³É | E104: =SUM('Ա. Դանիելյան:Գ.Ավագյան'!E104) -> 0 | F104: =SUM('Ա. Դանիելյան:Գ.Ավագյան'!F104) -> 0 | G104: =SUM('Ա. Դանիելյան:Գ.Ավագյան'!G104) -> 0 | H104: =SUM('Ա. Դանիելյան:Գ.Ավագյան'!H104) -> 0 | I104: =SUM('Ա. Դանիելյան:Գ.Ավագյան'!I104) -> 0 | J104: =SUM('Ա. Դանիելյան:Գ.Ավագյան'!J104) -> 0 | K104: =SUM('Ա. Դանիելյան:Գ.Ավագյան'!K104) -> 0 | L104: =SUM('Ա. Դանիելյան:Գ.Ավագյան'!L104) -> 0 | ... AS104: =SUM('Ա. Դանիելյան:Գ.Ավագյան'!AS104) -> 0
A105: 9.3 | B105: ²ÛÉ í»×»ñ | E105: =SUM('Ա. Դանիելյան:Գ.Ավագյան'!E105) -> 0 | F105: =SUM('Ա. Դանիելյան:Գ.Ավագյան'!F105) -> 0 | G105: =SUM('Ա. Դանիելյան:Գ.Ավագյան'!G105) -> 0 | H105: =SUM('Ա. Դանիելյան:Գ.Ավագյան'!H105) -> 0 | I105: =SUM('Ա. Դանիելյան:Գ.Ավագյան'!I105) -> 0 | J105: =SUM('Ա. Դանիելյան:Գ.Ավագյան'!J105) -> 0 | K105: =SUM('Ա. Դանիելյան:Գ.Ավագյան'!K105) -> 0 | L105: =SUM('Ա. Դանիելյան:Գ.Ավագյան'!L105) -> 0 | ... AS105: =SUM('Ա. Դանիելյան:Գ.Ավագյան'!AS105) -> 0
A106: 11. | B106: ä³ñï³íáñ³Ï³Ý Çñ³í³Ñ³ñ³µ»ñáõÃÛáõÝÝ»ñÇ í»ñ³µ»ñÛ³É ¹³ï³Ï³Ý ·áñÍ»ñ | E106: =SUM(E107:E114) -> 1992 | F106: =SUM(F107:F114) -> 145 | G106: =SUM(G107:G114) -> 1838 | H106: =SUM(H107:H114) -> 9 | I106: =SUM(I107:I114) -> 0 | J106: =SUM(J107:J114) -> 4212 | K106: =SUM(K107:K114) -> 3779 | L106: =SUM(L107:L114) -> 431 | ... AS106: =SUM(AS107:AS114) -> 0
A107: 11.1 | B107: ¶áõÙ³ñÇ å³Ñ³ÝçÇ Ù³ëÇÝ | E107: =SUM('Ա. Դանիելյան:Գ.Ավագյան'!E107) -> 1899 | F107: =SUM('Ա. Դանիելյան:Գ.Ավագյան'!F107) -> 128 | G107: =SUM('Ա. Դանիելյան:Գ.Ավագյան'!G107) -> 1762 | H107: =SUM('Ա. Դանիելյան:Գ.Ավագյան'!H107) -> 9 | I107: =SUM('Ա. Դանիելյան:Գ.Ավագյան'!I107) -> 0 | J107: =SUM('Ա. Դանիելյան:Գ.Ավագյան'!J107) -> 4140 | K107: =SUM('Ա. Դանիելյան:Գ.Ավագյան'!K107) -> 3725 | L107: =SUM('Ա. Դանիելյան:Գ.Ավագյան'!L107) -> 413 | ... AS107: =SUM('Ա. Դանիելյան:Գ.Ավագյան'!AS107) -> 0
A108: 11.2 | B108: ä³ñï³íáñáõÃÛáõÝÁ µÝ»Õ»Ýáí Ï³ï³ñ»Éáõ å³Ñ³ÝçÇ Ù³ëÇÝ | E108: =SUM('Ա. Դանիելյան:Գ.Ավագյան'!E108) -> 1 | F108: =SUM('Ա. Դանիելյան:Գ.Ավագյան'!F108) -> 0 | G108: =SUM('Ա. Դանիելյան:Գ.Ավագյան'!G108) -> 1 | H108: =SUM('Ա. Դանիելյան:Գ.Ավագյան'!H108) -> 0 | I108: =SUM('Ա. Դանիելյան:Գ.Ավագյան'!I108) -> 0 | J108: =SUM('Ա. Դանիելյան:Գ.Ավագյան'!J108) -> 0 | K108: =SUM('Ա. Դանիելյան:Գ.Ավագյան'!K108) -> 0 | L108: =SUM('Ա. Դանիելյան:Գ.Ավագյան'!L108) -> 0 | ... AS108: =SUM('Ա. Դանիելյան:Գ.Ավագյան'!AS108) -> 0
A109: 11.3 | B109: ìÝ³ëÁ ¨ µ³ó ÃáÕÝí³Í û·áõïÁ Ñ³ïáõó»Éáõ å³Ñ³ÝçÇ Ù³ëÇÝ | E109: =SUM('Ա. Դանիելյան:Գ.Ավագյան'!E109) -> 70 | F109: =SUM('Ա. Դանիելյան:Գ.Ավագյան'!F109) -> 14 | G109: =SUM('Ա. Դանիելյան:Գ.Ավագյան'!G109) -> 56 | H109: =SUM('Ա. Դանիելյան:Գ.Ավագյան'!H109) -> 0 | I109: =SUM('Ա. Դանիելյան:Գ.Ավագյան'!I109) -> 0 | J109: =SUM('Ա. Դանիելյան:Գ.Ավագյան'!J109) -> 54 | K109: =SUM('Ա. Դանիելյան:Գ.Ավագյան'!K109) -> 41 | L109: =SUM('Ա. Դանիելյան:Գ.Ավագյան'!L109) -> 13 | ... AS109: =SUM('Ա. Դանիելյան:Գ.Ավագյան'!AS109) -> 0
...

Sheet Ա. Դանիելյան
A1: 2017թ. | G1: Ð²ÞìºîìàôÂÚàôÜ | AM1: Հավելված Հայաստանի Հանրապետության Դատարանների նախագահների խորհրդի 29.01.2018թ. թիվ 10-Լ որոշման
A2: ºðºì²ÜÆ ²ð²´ÎÆð ºì ø²Ü²øºè-¼ºÚÂàôÜ ì²ðâ²Î²Ü Þðæ²ÜÜºðÆ ÀÜ¸Ð²Üàôð Æð²ì²êàôÂÚ²Ü ²è²æÆÜ ²îÚ²ÜÆ ¸²î²ð²ÜÆ ¸²î²ìàð | Z2: ². ¸²ÜÆºÈÚ²ÜÆ | AH2: ¶àðÌàôÜºàôÂÚ²Ü ìºð²´ºðÚ²È
A3: ø²Ô²ø²òÆ²Î²Ü ¶àðÌºðàì
A4: ºñ¨³ÝÇ ²ñ³µÏÇñ ¨ ø³Ý³ù»é-¼»ÛÃáõÝ í³ñã³Ï³Ý ßñç³ÝÝ»ñÇ ÁÝ¹Ñ³Ýáõñ Çñ³í³ëáõÃÛ³Ý ³é³çÇÝ ³ïÛ³ÝÇ ¹³ï³ñ³ÝÇ ù³Õ³ù³óÇ³Ï³Ý Ù³ëÝ³·Çï³óáõÙ áõÝ»óáÕ ¹³ï³íáñÝ»ñÇ Ñ³ëïÇùÝ»ñÇ ù³Ý³ÏÁ` 7
E5: Ð³ßí»ïáõ Å³Ù³Ý³Ï³Ñ³ïí³ÍáõÙ Ý³Ëáñ¹ Ñ³ßí»ïáõ Å³Ù³Ý³Ï³Ñ³ïí³ÍÇó ÷áË³Ýóí³Í ·áñÍ»ñÇ ÁÝ¹Ñ³Ýáõñ ÃÇíÁ | J5: Ð³ßí»ïáõ Å³Ù³Ý³Ï³Ñ³ïí³ÍáõÙëï³óí³Í ·áñÍ»ñÇ (³Û¹ ÃíáõÙ` Ñ³Ûó³¹ÇÙáõÙÝ»ñÇ, ¹ÇÙáõÙÝ»ñÇ) ÁÝ¹Ñ³Ýáõñ ÃÇíÁ | N5: öáË³Ýóí»É ¿ ³ÛÉ ¹³ï³íáñÇ (Ï³½ÙÇ ÷á÷áËáõÃÛáõÝ) | O5: Ð³ßí»ïáõ Å³Ù³Ý³Ï³Ñ³ïí³ÍáõÙ ³í³ñïí³Í ·áñÍ»ñÇ ÁÝ¹Ñ³Ýáõñ ÃÇíÁ | Z5: ¶áñÍÝ áõÕ³ñÏí»É ¿ Áëï ÁÝ¹¹³ïáõÃÛ³Ý | AA5: Ð³ßí»ïáõ Å³Ù³Ý³Ï³Ñ³ïí³ÍáõÙ Ï³ë»óí³Í í³ñáõÛÃÝ»ñáí ·áñÍ»ñÇ ÁÝ¹Ñ³Ýáõñ ÃÇíÁ | AB5: Ð³ßí»ïáõ Å³Ù³Ý³Ï³Ñ³ïí³ÍáõÙ ³Ý³í³ñï ·áñÍ»ñÇ ÁÝ¹Ñ³Ýáõñ ÃÇíÁ | AC5: ²Û¹ ÃíáõÙª Ï³ë»óí³Í | AD5: ´áÕáù³ñÏí³Í ¹³ï³Ï³Ý ³Ïï»ñÁ | AI5: ²í³ñïí³Í ¹³ï³Ï³Ý ·áñÍ»ñÇ µáÕáù³ñÏÙ³Ý ïáÏáëÁ (Ñ³ßí»ïáõ Å³Ù³Ý³Ï³ßñç³ÝáõÙ) | AJ5: ²Ý³í³ñï µáÕáùÝ»ñ | AK5: ´»Ï³Ýí³Í ¹³ï³Ï³Ý ³Ïï»ñÁ | AP5: µ»Ï³ÝáõÙÝ»ñÇ ïáÏáëÁ ³í³ñïí³Í ·áñÍ»ñÇó(Ñ³ßí»ïáõ Å³Ù³Ý³Ï³ßñç³ÝáõÙ) | AQ5: Î³ÛáõÝáõÃÛ³Ý ïáÏáëÁ ³í³ñïí³Í ·áñÍ»ñÇó(Ñ³ßí»ïáõ Å³Ù³Ý³Ï³ßñç³ÝáõÙ) | AR5: µ»Ï³ÝáõÙÝ»ñÇ ïáÏáëÁ µáÕáù³ñÏí³Í ·áñÍ»ñÇó(Ñ³ßí»ïáõ Å³Ù³Ý³Ï³ßñç³ÝáõÙ) | AS5: Ï³ÛáõÝáõÃÛ³Ý ïáÏáëÁ(Ñ³ßí»ïáõ Å³Ù³Ý³Ï³ßñç³ÝáõÙ)
E6: ÀÝ¹³Ù»ÝÁ | F6: ²Û¹ ÃíáõÙ`Ï³ë»óí³Í íÇ×³ÏáõÙ ÷áË³Ýóí³Í | G6: ²Û¹ ÃíáõÙª ÁÝ¹áõÝí»É ¿ í³ñáõÛÃ | H6: ²Û¹ ÃíáõÙª í»ñ³¹³ñÓí»É ¿ | I6: ²Û¹ ÃíáõÙª ÁÝ¹áõÝáõÙÁ Ù»ñÅí»É ¿ | J6: ÀÝ¹³Ù»ÝÁ | K6: ²Û¹ ÃíáõÙª ÁÝ¹áõÝí»É ¿ í³ñáõÛÃ | L6: ²Û¹ ÃíáõÙª í»ñ³¹³ñÓí»É ¿ | M6: ²Û¹ ÃíáõÙª ÁÝ¹áõÝáõÙÁ Ù»ñÅí»É ¿ | O6: ÀÝ¹³Ù»ÝÁ ³í³ñïí»É »Ý ·áñÍ»ñ ·áñÍÝ Áëï ¿áõÃÛ³Ý ÉáõÍáÕ ¹³ï³Ï³Ý ³Ïï»ñÇ (í×ÇéÝ»ñÇ) Ï³Û³óÙ³Ùµ | P6: ²Û¹ ÃíáõÙª Ñ³ÛóÇ µ³í³ñ³ñÙ³Ùµ | Q6: ²Û¹ ÃíáõÙª Ñ³ÛóÇ Ù³ëÝ³ÏÇ µ³í³ñ³ñÙ³Ùµ | R6: ²Û¹ ÃíáõÙª Ñ³ÛóÇ Ù»ñÅÙ³Ùµ | S6: Ø³ëáí Ï³ñ×í»É ¿, Ù³ëáí Ù»ñÅí»É | T6: ²Û¹ ÃíáõÙª Ï³ñ×í»É »Ý | X6: Ð³ÛóÁ ÃáÕÝí»É ¿ ³é³Ýó ùÝÝáõÃÛ³Ý | Y6: ÀÝ¹³Ù»ÝÝ ³í³ñïí»É »Ý ·áñÍ»ñ | AD6: ²Û¹ ÃíáõÙ` ·áñÍÝ Áëï ¿áõÃÛ³Ý ÉáõÍáÕ ¹³ï³Ï³Ý ³Ïï»ñÁ | AE6: ²Û¹ ÃíáõÙ` ÙÇç³ÝÏÛ³É ¹³ï³Ï³Ý ³Ïï»ñÁ | AF6: ÀÝ¹³Ù»ÝÁ | AG6: Ü³Ëáñ¹ ï³ñÇÝ»ñÇÝ Ï³Û³óí³Í ³Ïï»ñÇ µáÕáù³ñÏáõÙÁ Ñ³ßí»ïáõ Å³Ù³Ý³Ï³ßñç³ÝáõÙ | AH6: Ð³ßí»ïáõ Å³Ù³Ý³Ï³ßñç³ÝáõÙ Ï³Û³óí³Í ³Ïï»ñÇ µáÕáù³ñÏáõÙÁ | AK6: ²Û¹ ÃíáõÙ` ·áñÍÝ Áëï ¿áõÃÛ³Ý ÉáõÍáÕ ¹³ï³Ï³Ý ³Ïï»ñÁ | AL6: ²Û¹ ÃíáõÙ` ÙÇç³ÝÏÛ³É ¹³ï³Ï³Ý ³Ïï»ñÁ | AM6: ÀÝ¹³Ù»ÝÁ | AN6: Ü³Ëáñ¹ ï³ñÇÝ»ñÇÝ Ï³Û³óí³Í ³Ïï»ñÇ µ»Ï³ÝáõÙÝ»ñÁ Ñ³ßí»ïáõ Å³Ù³Ý³Ï³ßñç³ÝáõÙ | AO6: Ð³ßí»ïáõ Å³Ù³Ý³Ï³ßñç³ÝáõÙ Ï³Û³óí³Í ³Ïï»ñÇ µ»Ï³ÝáõÙÁ
T7: ÀÝ¹³Ù»ÝÁ Ï³ñ×í»É »Ý | U7: ²Û¹ ÃíáõÙª Ñ³ëï³ïí»É ¿ ÏÝùí³Í Ñ³ßïáõÃÛ³Ý Ñ³Ù³Ó³ÛÝáõÃÛáõÝÁ | V7: ²Û¹ ÃíáõÙª Ñ³óÇó, ¹ÇÙáõÙÇó Ññ³Å³ñí»Éáõ ÑÇÙùáí | W7: ²Û¹ ÃíáõÙª ³ÛÉ ÑÇÙùáí
E8: 1 | F8: 2 | G8: 3 | H8: 4 | I8: 5 | J8: 6 | K8: 7 | L8: 8 | M8: 9 | N8: 10 | O8: 11 | P8: 12 | Q8: 13 | R8: 14 | S8: 15 | T8: 16 | U8: 17 | V8: 18 | W8: 19 | X8: 20 | Y8: 21 | Z8: 22 | AA8: 23 | AB8: 24 | AC8: 25 | AD8: 26 | AE8: 27 | AF8: 28 | AG8: 29 | AH8: 30 | AI8: 31 | AJ8: 32 | AK8: 33 | AL8: 34 | AM8: 35 | AN8: 36 | AO8: 37 | AP8: 38 | AQ8: 39 | AR8: 40 | AS8: 41
A9: 1. | B9: ¶áõÛù³ÛÇÝ Çñ³í³Ñ³ñ³µ»ñáõÃÛáõÝÝ»ñÇ í»ñ³µ»ñÛ³É ¹³ï³Ï³Ý ·áñÍ»ñ | E9: =SUM(E10:E28) -> 5 | F9: =SUM(F10:F28) -> 1 | G9: =SUM(G10:G28) -> 4 | H9: =SUM(H10:H28) -> 0 | I9: =SUM(I10:I28) -> 0 | J9: =SUM(J10:J28) -> 2 | K9: =SUM(K10:K28) -> 2 | L9: =SUM(L10:L28) -> 0 | ... AS9: =SUM(AS10:AS28) -> 0
A10: 1.1 | B10: ¶áõÛùÇ ÝÏ³ïÙ³Ùµ ë»÷³Ï³ÝáõÃÛ³Ý Çñ³íáõÝùÁ ×³Ý³ã»Éáõ í»ñ³µ»ñÛ³É
A11: 1.1.1 | B11: ²Û¹ ÃíáõÙª Ó»éùµ»ñÙ³Ý í³Õ»ÙáõÃÛ³Ý áõÅáí | J11: 1 | K11: 1 | AB11: 1
A12: 1.1.2 | B12: ²Û¹ ÃíáõÙª ïÇñ³½áõñÏ ·áõÛùÇ ÝÏ³ïÙ³Ùµ
A13: 1.1.3 | B13: ²Û¹ ÃíáõÙª ÇÝùÝ³Ï³Ù Ï³éáõÛóÇ ÝÏ³ïÙ³Ùµ
A14: 1.2 | B14: ê»÷³Ï³ÝáõÃÛ³Ý Çñ³íáõÝùÇ ¹³¹³ñ»óÙ³Ý í»ñ³µ»ñÛ³É
A15: 1.3 | B15: ¶áõÛùÇ ÝÏ³ïÙ³Ùµ û·ï³·áñÍÙ³Ý Çñ³íáõÝùÁ ×³Ý³ã»Éáõ í»ñ³µ»ñÛ³É
A16: 1.3.1 | B16: ²Û¹ ÃíáõÙª µÝ³Ïû·ï³·áñÍÙ³Ý Çñ³íáõÝùÁ ×³Ý³ã»Éáõ í»ñ³µ»ñÛ³É
A17: 1.3.2 | B17: ²Û¹ ÃíáõÙª ÑáÕ³Ù³ëÇ ÝÏ³ïÙ³Ùµ û·ï³·áñÍÙ³Ý Çñ³íáõÝùÁ ×³Ý³ã»Éáõ í»ñ³µ»ñÛ³É
A18: 1.4 | B18: ¶áõÛùÇ ÝÏ³ïÙ³Ùµ û·ï³·áñÍÙ³Ý Çñ³íáõÝùÁ ¹³¹³ñ»óÝ»Éáõ í»ñ³µ»ñÛ³É
A19: 1.4.1 | B19: ²Û¹ ÃíáõÙª µÝ³Ïû·ï³·áñÍÙ³Ý Çñ³íáõÝùÁ ¹³¹³ñ»óÝ»Éáõ í»ñ³µ»ñÛ³É
A20: 1.4.1/1 | B20: ²Û¹ ÃíáõÙª ÷áËÑ³ïáõóÙ³Ùµ
A21: 1.5 | B21: ´Ý³Ï³ñ³ÝÇó/ ï³ñ³ÍùÇó/ íï³ñ»Éáõ í»ñ³µ»ñÛ³É
A22: 1.6 | B22: ¶áõÛùÝ áõñÇßÇ ³åûñÇÝÇ ïÇñ³å»ïáõÙÇó »ï í»ñ³¹³ñÓÝ»Éáõ í»ñ³µ»ñÛ³É | E22: 1 | G22: 1 | AB22: 1
A23: 1.6.1 | B23: ´³ñ»ËÇÕ× Ó»éùµ»ñáÕÇó Çñ ·áõÛùÁ Ñ»ï å³Ñ³Ýç»Éáõ í»ñ³µ»ñÛ³É
A24: 1.7 | B24: îÇñ³å»ïáõÙÇó ½ñÏ»Éáõ Ñ»ï ãÏ³åí³Í Çñ³íáõÝùÝ»ñÇ Ë³ËïáõÙÁ í»ñ³óÝ»Éáõ í»ñ³µ»ñÛ³É | E24: 1 | G24: 1 | AB24: 1
A25: 1.8 | B25: ÀÝ¹Ñ³Ýáõñ µ³ÅÝ³ÛÇÝ ë»÷³Ï³ÝáõÃÛáõÝÇó µ³ÅÇÝÝ ³é³ÝÓÝ³óÝ»Éáõ í»ñ³µ»ñÛ³É | E25: 3 | F25: 1 | G25: 2 | J25: 1 | K25: 1 | O25: 1 | P25: 1 | Y25: 1 | AB25: 3 | AD25: 1 | AF25: 1 | AH25: 1 | AJ25: 1
A26: 1.8.1 | B26: Ð³Ù³ï»Õ ë»÷³Ï³ÝáõÃÛ³Ý Ý»ñùá ·ïÝíáÕ ·áõÛùÁ µ³Å³Ý»Éáõ ¨ ¹ñ³ÝÇó µ³ÅÇÝÝ ³é³ÝÓÝ³óÝ»Éáõ í»ñ³µ»ñÛ³É
A27: 1.8.3 | B27: ¶áõÛùÇ íñ³ µéÝ³·³ÝÓáõÙ ï³ñ³Í»Éáõ å³Ñ³ÝçÇ Ù³ëÇÝ
A28: 1.9 | B28: ²ÛÉ í»×»ñ
A29: 2. | B29: ¶áñÍ³ñùÝ»ñÇ Ñ»ï Ï³åí³Í Çñ³í³Ñ³ñ³µ»ñáõÃÛáõÝÝ»ñÇ í»ñ³µ»ñÛ³É ¹³ï³Ï³Ý ·áñÍ»ñ | E29: =SUM(E30:E40) -> 5 | F29: =SUM(F30:F40) -> 0 | G29: =SUM(G30:G40) -> 5 | H29: =SUM(H30:H40) -> 0 | I29: =SUM(I30:I40) -> 0 | J29: =SUM(J30:J40) -> 1 | K29: =SUM(K30:K40) -> 1 | L29: =SUM(L30:L40) -> 0 | ... AS29: =SUM(AS30:AS40) -> 0
A30: 2.1 | B30: ·áñÍ³ñùÝ»ñÇ ³Ýí³í»ñáõÃÛ³Ý Ñ»ï Ï³åí³Í í»×»ñ | E30: 1 | G30: 1 | AB30: 1
A31: 2.1.1 | B31: ³Û¹ ÃíáõÙ` íÇ×³Ñ³ñáõÛó ·áñÍ³ñùÝ»ñÝ ³Ýí³í»ñ ×³Ý³ã»Éáõ í»ñ³µ»ñÛ³É
A32: 2.1.2 | B32: ³Û¹ ÃíáõÙ` ·áñÍ³ñùÇ ³éáãÝãáõÃÛ³Ý Ñ»ï¨³ÝùÝ»ñ ÏÇñ³é»Éáõ í»ñ³µ»ñÛ³É | E32: 2 | G32: 2 | AB32: 2
A33: 2.2 | B33: ¶áñÍ³ñùÁ í³í»ñ ×³Ý³ã»Éáõ í»ñ³µ»ñÛ³É
A34: 2.3 | B34: ¶áñÍ³ñùÇó Í³·áÕ Çñ³íáõÝùÝ»ñÁ ·ñ³Ýó»Éáõ í»ñ³µ»ñÛ³É
A35: 2.4 | B35: ä³ÛÙ³Ý³·ÇñÝ ³Ýí³í»ñ ×³Ý³ã»Éáõ í»ñ³µ»ñÛ³É | J35: 1 | K35: 1 | O35: 1 | P35: 1 | Y35: 1
A36: 2.5 | B36: ä³ÛÙ³Ý³·ñÇÁ í³í»ñ ×³Ý³ã»Éáõ í»ñ³µ»ñÛ³É
A37: 2.6 | B37: ä³ÛÙ³Ý³·ñÇó Í³·áÕ Çñ³íáõÝùÝ»ñÁ ·ñ³Ýó»Éáõ í»ñ³µ»ñÛ³É
A38: 2.7 | B38: ä³ÛÙ³Ý³·ÇñÁ ÷á÷áË»Éáõ ¨ ÉáõÍ»Éáõ í»ñ³µ»ñÛ³É | E38: 1 | G38: 1 | AB38: 1
A39: 2.8 | B39: ä³ÛÙ³Ý³·Çñ ÏÝù»ÉáõÝ å³ñï³íáñ»óÝ»Éáõ í»ñ³µ»ñÛ³É
A40: 2.9 | B40: ²ÛÉ í»×»ñ | E40: 1 | G40: 1 | AB40: 1
A41: 3. | B41: Ä³é³Ý·áõÃÛ³Ý Ñ»ï Ï³åí³Í Çñ³í³Ñ³ñ³µ»ñáõÃÛáõÝÝ»ñÇ í»ñ³µ»ñÛ³É ¹³ï³Ï³Ý ·áñÍ»ñ | E41: =SUM(E42:E48) -> 2 | F41: =SUM(F42:F48) -> 0 | G41: =SUM(G42:G48) -> 2 | H41: =SUM(H42:H48) -> 0 | I41: =SUM(I42:I48) -> 0 | J41: =SUM(J42:J48) -> 0 | K41: =SUM(K42:K48) -> 0 | L41: =SUM(L42:L48) -> 0 | ... AS41: =SUM(AS42:AS48) -> 0
A42: 3.1 | B42: Îï³ÏÝ ³Ýí³í»ñ ×³Ý³ã»Éáõ í»ñ³µ»ñÛ³É
A43: 3.2 | B43: ²Ý³ñÅ³Ý Å³é³Ý· ×³Ý³ã»Éáõ í»ñ³µ»ñÛ³É
A44: 3.3 | B44: Ä³é³Ý·áõÃÛáõÝÁ µ³Å³Ý»Éáõ í»ñ³µ»ñÛ³É
A45: 3.4 | B45: ¶áõÛùÝ ³ÝÅ³é³Ý· ×³Ý³ã»Éáõ í»ñ³µ»ñÛ³É
A46: 3.5 | B46: Àëï ûñ»ÝùÇ Å³é³Ý·áõÃÛ³Ý Çñ³íáõÝùÇ íÏ³Û³·ÇñÝ ³Ýí³í»ñ ×³Ý³ã»Éáõ í»ñ³µ»ñÛ³É
A47: 3.6 | B47: Ä³é³Ý·áõÃÛáõÝÝ ÁÝ¹áõÝ»Éáõ µ³ó ÃáÕÝí³Í Å³ÙÏ»ïÁ Ñ³ñ·»ÉÇ Ñ³Ù³ñ»Éáõ í»ñ³µ»ñÛ³É
A48: 3.7 | B48: ²ÛÉ í»×»ñ | E48: 2 | G48: 2 | AB48: 2
A49: 4 | B49: ÀÝï³Ý»Ï³Ý Çñ³í³Ñ³ñ³µ»ñáõÃÛáõÝÝ»ñÇ í»ñ³µ»ñÛ³É ¹³ï³Ï³Ý ·áñÍ»ñ | E49: =SUM(E50:E62) -> 2 | F49: =SUM(F50:F62) -> 0 | G49: =SUM(G50:G62) -> 2 | H49: =SUM(H50:H62) -> 0 | I49: =SUM(I50:I62) -> 0 | J49: =SUM(J50:J62) -> 4 | K49: =SUM(K50:K62) -> 4 | L49: =SUM(L50:L62) -> 0 | ... AS49: =SUM(AS50:AS62) -> 0
A50: 4.1 | B50: ²ÙáõëÝ³ÉáõÍáõÃÛ³Ý í»ñ³µ»ñÛ³É | J50: 4 | K50: 4 | O50: 2 | Q50: 1 | T50: 1 | V50: 1 | Y50: 2 | AB50: 2
A51: 4.2 | B51: ²ÉÇÙ»ÝïÇ å³Ñ³ÝçÇ í»ñ³µ»ñÛ³É
A52: 4.3 | B52: ²ÉÇÙ»ÝïÇ ã³÷Á ÷á÷áË»Éáõ í»ñ³µ»ñÛ³É
A53: 4.4 | B53: ÌÝáÕ³Ï³Ý Çñ³íáõÝùÝ»ñÇó ½ñÏ»Éáõ í»ñ³µ»ñÛ³É
A54: 4.5 | B54: ÌÝáÕ³Ï³Ý Çñ³íáõÝùÝ»ñÁ í»ñ³Ï³Ý·Ý»Éáõ í»ñ³µ»ñÛ³É
A55: 4.6 | B55: ºñ»Ë³ÛÇ áñ¹»·ñÙ³Ý í»ñ³µ»ñÛ³É
A56: 4.7 | B56: ºñ»Ë³ÛÇ áñ¹»·ñáõÙÁ í»ñ³óÝ»Éáõ í»ñ³µ»ñÛ³É
A57: 4.8 | B57: Ð³ÛñáõÃÛáõÝÁ ×³Ý³ã»Éáõ í»ñ³µ»ñÛ³É | E57: 1 | G57: 1 | O57: 1 | R57: 1 | Y57: 1
A58: 4.9 | B58: ºñ»Ë³ÛÇ µÝ³ÏáõÃÛ³Ý í³ÛñÁ áñáß»Éáõ í»ñ³µ»ñÛ³É | E58: 1 | G58: 1 | AB58: 1
A59: 4.10 | B59: ºñ»Ë³ÛÇ Ñ»ï ï»ë³ÏóáõÃÛ³Ý Ï³ñ· ë³ÑÙ³Ý»Éáõ í»ñ³µ»ñÛ³É
A60: 4.11 | B60: ²ÙáõëÇÝÝ»ñÇ ÁÝ¹Ñ³Ýáõñ ·áõÛùÁ µ³Å³Ý»Éáõ í»ñ³µ»ñÛ³É
A61: 4.12 | B61: ²ÙáõëÝ³Ï³Ý å³ÛÙ³Ý³·ñÇ ÷á÷áËÙ³Ý Ï³Ù ÉáõÍÙ³Ý í»ñ³µ»ñÛ³É
A62: 4.13 | B62: ²ÛÉ í»×»ñ
A63: 5. | B63: Øï³íáñ ë»÷³Ï³ÝáõÃÛ³Ý Ñ»ï Ï³åí³ÍÇñ³í³Ñ³ñ³µ»ñáõÃÛáõÝÝ»ñÇ í»ñ³µ»ñÛ³É ¹³ï³Ï³Ý ·áñÍ»ñ | E63: =SUM(E64:E69) -> 0 | F63: =SUM(F64:F69) -> 0 | G63: =SUM(G64:G69) -> 0 | H63: =SUM(H64:H69) -> 0 | I63: =SUM(I64:I69) -> 0 | J63: =SUM(J64:J69) -> 0 | K63: =SUM(K64:K69) -> 0 | L63: =SUM(L64:L69) -> 0 | ... AS63: =SUM(AS64:AS69) -> 0
A64: 5.1 | B64: ÈÇó»Ý½³ÛÇÝ å³ÛÙ³Ý³·ñÇ ÉáõÍÙ³Ý, ÷á÷áËÙ³Ý ¨ ³Ýí³í»ñáõÃÛ³Ý í»ñ³µ»ñÛ³É
A65: 5.2 | B65: Øï³íáñ ·áñÍáõÝ»áõÃÛ³Ý ³ñ¹ÛáõÝùÝ»ñ ëï»ÕÍ»Éáõ ¨ û·ï³·áñÍ»Éáõ å³ÛÙ³Ý³·ñÇ ÉáõÍÙ³Ý, ÷á÷áËÙ³Ý áõ ³Ýí³í»ñáõÃÛ³Ý í»ñ³µ»ñÛ³É
A66: 5.3 | B66: Ð»ÕÇÝ³Ï³ÛÇÝ ¨ Ñ³ñ³ÏÇó Çñ³íáõÝùÝ»ñÇ í»ñ³µ»ñÛ³É
A67: 5.4 | B67: üÇñÙ³ÛÇÝ ³Ýí³ÝÙ³Ý í»ñ³µ»ñÛ³É
A68: 5.5 | B68: ²åñ³Ýù³ÛÇÝ Ýß³ÝÇ í»ñ³µ»ñÛ³É
A69: 5.6 | B69: ²ÛÉ í»×»ñ
A70: 6. | B70: ²ßË³ï³Ýù³ÛÇÝ Çñ³í³Ñ³ñ³µ»ñáõÃÛáõÝÝ»ñÇ í»ñ³µ»ñÛ³É ¹³ï³Ï³Ý ·áñÍ»ñ | E70: =SUM(E71:E76) -> 1 | F70: =SUM(F71:F76) -> 0 | G70: =SUM(G71:G76) -> 1 | H70: =SUM(H71:H76) -> 0 | I70: =SUM(I71:I76) -> 0 | J70: =SUM(J71:J76) -> 0 | K70: =SUM(K71:K76) -> 0 | L70: =SUM(L71:L76) -> 0 | ... AS70: =SUM(AS71:AS76) -> 0
A71: 6.1 | B71: ²ßË³ï³Ýù³ÛÇÝ å³ÛÙ³Ý³·ñ»ñÇ í»ñ³µ»ñÛ³É
A72: 6.2 | B72: ²ßË³ï³ÝùáõÙ í»ñ³Ï³Ý·Ý»Éáõ í»ñ³µ»ñÛ³É
A73: 6.3 | B73: ¶áñÍ³¹áõÉÝ ³ÝûñÇÝ³Ï³Ý ×³Ý³ã»Éáõ í»ñ³µ»ñÛ³É
A74: 6.4 | B74: Ð³ñÏ³¹Çñ å³ñ³åáõñ¹Ç Ñ³ïáõóÙ³Ý í»ñ³µ»ñÛ³É
A75: 6.5 | B75: âí×³ñí³Í ³ßË³ï³í³ñÓÇ ¨/Ï³Ù ³ÛÉ í×³ñÝ»ñÇ µéÝ³·³ÝÓÙ³Ý í»ñ³µ»ñÛ³É
A76: 6.6 | B76: ²ÛÉ í»×»ñ | E76: 1 | G76: 1 | AB76: 1
A77: 7. | B77: Æñ³í³µ³Ý³Ï³Ý ³ÝÓÇ ·áñÍáõÝ»áõÃÛáõÝÇó µËáÕ Çñ³í³Ñ³ñ³µ»ñáõÃÛáõÝÝ»ñÇ í»ñ³µ»ñÛ³É ¹³ï³Ï³Ý ·áñÍ»ñ | E77: =SUM(E78:E79) -> 0 | F77: =SUM(F78:F79) -> 0 | G77: =SUM(G78:G79) -> 0 | H77: =SUM(H78:H79) -> 0 | I77: =SUM(I78:I79) -> 0 | J77: =SUM(J78:J79) -> 0 | K77: =SUM(K78:K79) -> 0 | L77: =SUM(L78:L79) -> 0 | ... AS77: =SUM(AS78:AS79) -> 0
A78: 7.1 | B78: Îáñåáñ³ïÇí í»×»ñ
A79: 7.2 | B79: ²ÛÉ í»×»ñ
A80: 8. | B80: Ð³ïáõÏ í³ñáõÛÃÇ ¹³ï³Ï³Ý ·áñÍ»ñ | E80: =SUM(E81:E101) -> 2 | F80: =SUM(F81:F101) -> 0 | G80: =SUM(G81:G101) -> 2 | H80: =SUM(H81:H101) -> 0 | I80: =SUM(I81:I101) -> 0 | J80: =SUM(J81:J101) -> 3 | K80: =SUM(K81:K101) -> 3 | L80: =SUM(L81:L101) -> 0 | ... AS80: =SUM(AS81:AS101) -> 0
A81: 8.1 | B81: ²Ýã³÷³Ñ³ëÇÝ ÉñÇí ·áñÍáõÝ³Ï ×³Ý³ã»Éáõ /¿Ù³ÝëÇå³óÇ³/ í»ñ³µ»ñÛ³É
A82: 8.2 | B82: ø³Õ³ù³óáõÝ ³Ý·áñÍáõÝ³Ï Ï³Ù ë³ÑÙ³Ý³÷³Ï ·áñÍáõÝ³Ï ×³Ý³ã»Éáõ í»ñ³µ»ñÛ³É | E82: 1 | G82: 1 | J82: 2 | K82: 2 | O82: 1 | T82: 1 | V82: 1 | Y82: 1 | AB82: 2
A83: 8.3 | B83: ø³Õ³ù³óáõÝ Ñá·»µáõÅ³Ï³Ý ÑÇí³Ý¹³Ýáó³ÛÇÝ Ñ³ñÏ³¹Çñ µáõÅÙ³Ý »ÝÃ³ñÏ»Éáõ í»ñ³µ»ñÛ³É
A84: 8.4 | B84: ø³Õ³ù³óáõÝ ³ÝÑ³Ûï µ³ó³Ï³ÛáÕ Ï³Ù Ù³Ñ³ó³Í ×³Ý³ã»Éáõ í»ñ³µ»ñÛ³É
A85: 8.5 | B85: ø³Õ³ù³óÇ³Ï³Ý Ï³óáõÃÛ³Ý ³Ïï»ñÇ ·ñ³éáõÙÝ»ñÇ ³Ý×ßïáõÃÛáõÝÝ»ñÁ å³ñ½»Éáõ í»ñ³µ»ñÛ³É
A86: 8.6 | B86: ¶áõÛùÁ ïÇñ³½áõñÏ ×³Ý³ã»Éáõ í»ñ³µ»ñÛ³É | E86: 1 | G86: 1 | AB86: 1
A87: 8.6.1 | B87: ²Û¹ ÃíáõÙª ³Ýß³ñÅ ·áõÛùÁ
A88: 8.6.2 | B88: ²Û¹ ÃíáõÙª ß³ñÅ³Ï³Ý ·áõÛùÁ
A89: 8.7 | B89: Æñ³í³µ³Ý³Ï³Ý Ýß³Ý³ÏáõÃÛáõÝ áõÝ»óáÕ ÷³ëï»ñÇ Ñ³ëï³ïÙ³Ý í»ñ³µ»ñÛ³É | J89: 1 | K89: 1 | AB89: 1
A90: 8.7.1 | B90: ²ÝÓ³Ýó ³½·³Ïó³Ï³Ý Ï³åÁ Ñ³ëï³ï»Éáõ í»ñ³µ»ñÛ³É
A91: 8.7.2 | B91: ²ÝÓÇª áõñÇßÇ ËÝ³ÙùÇ ï³Ï ·ïÝí»Éáõ í»ñ³µ»ñÛ³É
A92: 8.7.3 | B92: ÌÝÝ¹Û³Ý, áñ¹»·ñÙ³Ý, ³ÙáõëÝáõÃÛ³Ý, ³å³Ñ³ñ½³ÝÇ ¨ Ù³Ñí³Ý ·ñ³ÝóÙ³Ý í»ñ³µ»ñÛ³É
A93: 8.7.4 | B93: ²ÝÓÇª áñáß³ÏÇ Å³Ù³Ý³ÏáõÙ ¨ áñáß³ÏÇ Ñ³Ý·³Ù³ÝùÝ»ñáõÙ Ù³Ñí³Ý í»ñ³µ»ñÛ³É
A94: 8.7.5 | B94: Ä³é³Ý·áõÃÛáõÝÝ ÁÝ¹áõÝ»Éáõ ¨ Å³é³Ý·áõÃÛ³Ý µ³óÙ³Ý í³ÛñÇ í»ñ³µ»ñÛ³É
A95: 8.7.6 | B95: ¸Åµ³Ëï å³ï³Ñ³ñÇ í»ñ³µ»ñÛ³É
A96: 8.7.7 | B96: Æñ³íáõÝù ë³ÑÙ³ÝáÕ ÷³ëï³ÃÕÃ»ñÇ å³ïÏ³Ý»ÉáõÃÛ³Ý í»ñ³µ»ñÛ³É
A97: 8.7.8 | B97: ê»÷³Ï³ÝáõÃÛ³Ý Çñ³íáõÝùáí ·áõÛùÇ ïÇñ³å»ïÙ³Ý í»ñ³µ»ñÛ³É
A98: 8.7.9 | B98: ²ÝÑ³ÕÃ³Ñ³ñ»ÉÇ áõÅÇ ³éÏ³ÛáõÃÛ³Ý í»ñ³µ»ñÛ³É
A99: 8.7.10 | B99: úñ»Ýùáí Ý³Ë³ï»ëí³Í ³ÛÉ Çñ³í³µ³Ý³Ï³Ý ÷³ëï»ñÇ í»ñ³µ»ñÛ³É
A100: 8.8 | B100: Àëï Ý»ñÏ³Û³óÝáÕÇ ¨ ûñ¹»ñ³ÛÇÝ Ïáñóñ³Í ³ñÅ»ÃÕÃ»ñáí Ñ³í³ëïí³Í Çñ³íáõÝùÝ»ñÁ í»ñ³Ï³Ý·Ý»Éáõ í»ñ³µ»ñÛ³É
...

Sheet Ռ. Բունիաթյան
A1: 2017թ. | G1: Ð²ÞìºîìàôÂÚàôÜ | AM1: Հավելված Հայաստանի Հանրապետության Դատարանների նախագահների խորհրդի 29.01.2018թ. թիվ 10-Լ որոշման
A2: ºðºì²ÜÆ ²ð²´ÎÆð ºì ø²Ü²øºè-¼ºÚÂàôÜ ì²ðâ²Î²Ü Þðæ²ÜÜºðÆ ÀÜ¸Ð²Üàôð Æð²ì²êàôÂÚ²Ü ²è²æÆÜ ²îÚ²ÜÆ ¸²î²ð²ÜÆ ¸²î²ìàð | Z2: è. ´àôÜÆ²ÂÚ²ÜÆ | AH2: ¶àðÌàôÜºàôÂÚ²Ü ìºð²´ºðÚ²È
A3: ø²Ô²ø²òÆ²Î²Ü ¶àðÌºðàì
A4: ºñ¨³ÝÇ ²ñ³µÏÇñ ¨ ø³Ý³ù»é-¼»ÛÃáõÝ í³ñã³Ï³Ý ßñç³ÝÝ»ñÇ ÁÝ¹Ñ³Ýáõñ Çñ³í³ëáõÃÛ³Ý ³é³çÇÝ ³ïÛ³ÝÇ ¹³ï³ñ³ÝÇ ù³Õ³ù³óÇ³Ï³Ý Ù³ëÝ³·Çï³óáõÙ áõÝ»óáÕ ¹³ï³íáñÝ»ñÇ Ñ³ëïÇùÝ»ñÇ ù³Ý³ÏÁ` 7
E5: Ð³ßí»ïáõ Å³Ù³Ý³Ï³Ñ³ïí³ÍáõÙ Ý³Ëáñ¹ Ñ³ßí»ïáõ Å³Ù³Ý³Ï³Ñ³ïí³ÍÇó ÷áË³Ýóí³Í ·áñÍ»ñÇ ÁÝ¹Ñ³Ýáõñ ÃÇíÁ | J5: Ð³ßí»ïáõ Å³Ù³Ý³Ï³Ñ³ïí³ÍáõÙëï³óí³Í ·áñÍ»ñÇ (³Û¹ ÃíáõÙ` Ñ³Ûó³¹ÇÙáõÙÝ»ñÇ, ¹ÇÙáõÙÝ»ñÇ) ÁÝ¹Ñ³Ýáõñ ÃÇíÁ | N5: öáË³Ýóí»É ¿ ³ÛÉ ¹³ï³íáñÇ (Ï³½ÙÇ ÷á÷áËáõÃÛáõÝ) | O5: Ð³ßí»ïáõ Å³Ù³Ý³Ï³Ñ³ïí³ÍáõÙ ³í³ñïí³Í ·áñÍ»ñÇ ÁÝ¹Ñ³Ýáõñ ÃÇíÁ | Z5: ¶áñÍÝ áõÕ³ñÏí»É ¿ Áëï ÁÝ¹¹³ïáõÃÛ³Ý | AA5: Ð³ßí»ïáõ Å³Ù³Ý³Ï³Ñ³ïí³ÍáõÙ Ï³ë»óí³Í í³ñáõÛÃÝ»ñáí ·áñÍ»ñÇ ÁÝ¹Ñ³Ýáõñ ÃÇíÁ | AB5: Ð³ßí»ïáõ Å³Ù³Ý³Ï³Ñ³ïí³ÍáõÙ ³Ý³í³ñï ·áñÍ»ñÇ ÁÝ¹Ñ³Ýáõñ ÃÇíÁ | AC5: ²Û¹ ÃíáõÙª Ï³ë»óí³Í | AD5: ´áÕáù³ñÏí³Í ¹³ï³Ï³Ý ³Ïï»ñÁ | AI5: ²í³ñïí³Í ¹³ï³Ï³Ý ·áñÍ»ñÇ µáÕáù³ñÏÙ³Ý ïáÏáëÁ (Ñ³ßí»ïáõ Å³Ù³Ý³Ï³ßñç³ÝáõÙ) | AJ5: ²Ý³í³ñï µáÕáùÝ»ñ | AK5: ´»Ï³Ýí³Í ¹³ï³Ï³Ý ³Ïï»ñÁ | AP5: µ»Ï³ÝáõÙÝ»ñÇ ïáÏáëÁ ³í³ñïí³Í ·áñÍ»ñÇó(Ñ³ßí»ïáõ Å³Ù³Ý³Ï³ßñç³ÝáõÙ) | AQ5: Î³ÛáõÝáõÃÛ³Ý ïáÏáëÁ ³í³ñïí³Í ·áñÍ»ñÇó(Ñ³ßí»ïáõ Å³Ù³Ý³Ï³ßñç³ÝáõÙ) | AR5: µ»Ï³ÝáõÙÝ»ñÇ ïáÏáëÁ µáÕáù³ñÏí³Í ·áñÍ»ñÇó(Ñ³ßí»ïáõ Å³Ù³Ý³Ï³ßñç³ÝáõÙ) | AS5: Ï³ÛáõÝáõÃÛ³Ý ïáÏáëÁ(Ñ³ßí»ïáõ Å³Ù³Ý³Ï³ßñç³ÝáõÙ)
E6: ÀÝ¹³Ù»ÝÁ | F6: ²Û¹ ÃíáõÙ`Ï³ë»óí³Í íÇ×³ÏáõÙ ÷áË³Ýóí³Í | G6: ²Û¹ ÃíáõÙª ÁÝ¹áõÝí»É ¿ í³ñáõÛÃ | H6: ²Û¹ ÃíáõÙª í»ñ³¹³ñÓí»É ¿ | I6: ²Û¹ ÃíáõÙª ÁÝ¹áõÝáõÙÁ Ù»ñÅí»É ¿ | J6: ÀÝ¹³Ù»ÝÁ | K6: ²Û¹ ÃíáõÙª ÁÝ¹áõÝí»É ¿ í³ñáõÛÃ | L6: ²Û¹ ÃíáõÙª í»ñ³¹³ñÓí»É ¿ | M6: ²Û¹ ÃíáõÙª ÁÝ¹áõÝáõÙÁ Ù»ñÅí»É ¿ | O6: ÀÝ¹³Ù»ÝÁ ³í³ñïí»É »Ý ·áñÍ»ñ ·áñÍÝ Áëï ¿áõÃÛ³Ý ÉáõÍáÕ ¹³ï³Ï³Ý ³Ïï»ñÇ (í×ÇéÝ»ñÇ) Ï³Û³óÙ³Ùµ | P6: ²Û¹ ÃíáõÙª Ñ³ÛóÇ µ³í³ñ³ñÙ³Ùµ | Q6: ²Û¹ ÃíáõÙª Ñ³ÛóÇ Ù³ëÝ³ÏÇ µ³í³ñ³ñÙ³Ùµ | R6: ²Û¹ ÃíáõÙª Ñ³ÛóÇ Ù»ñÅÙ³Ùµ | S6: Ø³ëáí Ï³ñ×í»É ¿, Ù³ëáí Ù»ñÅí»É | T6: ²Û¹ ÃíáõÙª Ï³ñ×í»É »Ý | X6: Ð³ÛóÁ ÃáÕÝí»É ¿ ³é³Ýó ùÝÝáõÃÛ³Ý | Y6: ÀÝ¹³Ù»ÝÝ ³í³ñïí»É »Ý ·áñÍ»ñ | AD6: ²Û¹ ÃíáõÙ` ·áñÍÝ Áëï ¿áõÃÛ³Ý ÉáõÍáÕ ¹³ï³Ï³Ý ³Ïï»ñÁ | AE6: ²Û¹ ÃíáõÙ` ÙÇç³ÝÏÛ³É ¹³ï³Ï³Ý ³Ïï»ñÁ | AF6: ÀÝ¹³Ù»ÝÁ | AG6: Ü³Ëáñ¹ ï³ñÇÝ»ñÇÝ Ï³Û³óí³Í ³Ïï»ñÇ µáÕáù³ñÏáõÙÁ Ñ³ßí»ïáõ Å³Ù³Ý³Ï³ßñç³ÝáõÙ | AH6: Ð³ßí»ïáõ Å³Ù³Ý³Ï³ßñç³ÝáõÙ Ï³Û³óí³Í ³Ïï»ñÇ µáÕáù³ñÏáõÙÁ | AK6: ²Û¹ ÃíáõÙ` ·áñÍÝ Áëï ¿áõÃÛ³Ý ÉáõÍáÕ ¹³ï³Ï³Ý ³Ïï»ñÁ | AL6: ²Û¹ ÃíáõÙ` ÙÇç³ÝÏÛ³É ¹³ï³Ï³Ý ³Ïï»ñÁ | AM6: ÀÝ¹³Ù»ÝÁ | AN6: Ü³Ëáñ¹ ï³ñÇÝ»ñÇÝ Ï³Û³óí³Í ³Ïï»ñÇ µ»Ï³ÝáõÙÝ»ñÁ Ñ³ßí»ïáõ Å³Ù³Ý³Ï³ßñç³ÝáõÙ | AO6: Ð³ßí»ïáõ Å³Ù³Ý³Ï³ßñç³ÝáõÙ Ï³Û³óí³Í ³Ïï»ñÇ µ»Ï³ÝáõÙÁ
T7: ÀÝ¹³Ù»ÝÁ Ï³ñ×í»É »Ý | U7: ²Û¹ ÃíáõÙª Ñ³ëï³ïí»É ¿ ÏÝùí³Í Ñ³ßïáõÃÛ³Ý Ñ³Ù³Ó³ÛÝáõÃÛáõÝÁ | V7: ²Û¹ ÃíáõÙª Ñ³óÇó, ¹ÇÙáõÙÇó Ññ³Å³ñí»Éáõ ÑÇÙùáí | W7: ²Û¹ ÃíáõÙª ³ÛÉ ÑÇÙùáí
E8: 1 | F8: 2 | G8: 3 | H8: 4 | I8: 5 | J8: 6 | K8: 7 | L8: 8 | M8: 9 | N8: 10 | O8: 11 | P8: 12 | Q8: 13 | R8: 14 | S8: 15 | T8: 16 | U8: 17 | V8: 18 | W8: 19 | X8: 20 | Y8: 21 | Z8: 22 | AA8: 23 | AB8: 24 | AC8: 25 | AD8: 26 | AE8: 27 | AF8: 28 | AG8: 29 | AH8: 30 | AI8: 31 | AJ8: 32 | AK8: 33 | AL8: 34 | AM8: 35 | AN8: 36 | AO8: 37 | AP8: 38 | AQ8: 39 | AR8: 40 | AS8: 41
A9: 1. | B9: ¶áõÛù³ÛÇÝ Çñ³í³Ñ³ñ³µ»ñáõÃÛáõÝÝ»ñÇ í»ñ³µ»ñÛ³É ¹³ï³Ï³Ý ·áñÍ»ñ | E9: =SUM(E10:E28) -> 82 | F9: =SUM(F10:F28) -> 16 | G9: =SUM(G10:G28) -> 66 | H9: =SUM(H10:H28) -> 0 | I9: =SUM(I10:I28) -> 0 | J9: =SUM(J10:J28) -> 45 | K9: =SUM(K10:K28) -> 37 | L9: =SUM(L10:L28) -> 8 | ... AS9: =SUM(AS10:AS28) -> 0
A10: 1.1 | B10: ¶áõÛùÇ ÝÏ³ïÙ³Ùµ ë»÷³Ï³ÝáõÃÛ³Ý Çñ³íáõÝùÁ ×³Ý³ã»Éáõ í»ñ³µ»ñÛ³É | E10: 17 | F10: 4 | G10: 13 | J10: 5 | K10: 5 | O10: 7 | P10: 2 | Q10: 1 | R10: 3 | T10: 1 | V10: 1 | Y10: 7 | AB10: 15 | AC10: 3 | AD10: 6 | AE10: 1 | AF10: 7 | AG10: 1 | AH10: 6 | AJ10: 2 | AK10: 4 | AL10: 1 | AM10: 5 | AN10: 1 | AO10: 4
A11: 1.1.1 | B11: ²Û¹ ÃíáõÙª Ó»éùµ»ñÙ³Ý í³Õ»ÙáõÃÛ³Ý áõÅáí | E11: 4 | G11: 4 | J11: 4 | K11: 4 | O11: 3 | P11: 2 | T11: 1 | V11: 1 | Y11: 3 | AB11: 5
A12: 1.1.2 | B12: ²Û¹ ÃíáõÙª ïÇñ³½áõñÏ ·áõÛùÇ ÝÏ³ïÙ³Ùµ
A13: 1.1.3 | B13: ²Û¹ ÃíáõÙª ÇÝùÝ³Ï³Ù Ï³éáõÛóÇ ÝÏ³ïÙ³Ùµ | E13: 1 | G13: 1 | AB13: 1 | AC13: 1
A14: 1.2 | B14: ê»÷³Ï³ÝáõÃÛ³Ý Çñ³íáõÝùÇ ¹³¹³ñ»óÙ³Ý í»ñ³µ»ñÛ³É | E14: 2 | G14: 2 | J14: 2 | K14: 1 | L14: 1 | AB14: 3
A15: 1.3 | B15: ¶áõÛùÇ ÝÏ³ïÙ³Ùµ û·ï³·áñÍÙ³Ý Çñ³íáõÝùÁ ×³Ý³ã»Éáõ í»ñ³µ»ñÛ³É
A16: 1.3.1 | B16: ²Û¹ ÃíáõÙª µÝ³Ïû·ï³·áñÍÙ³Ý Çñ³íáõÝùÁ ×³Ý³ã»Éáõ í»ñ³µ»ñÛ³É
A17: 1.3.2 | B17: ²Û¹ ÃíáõÙª ÑáÕ³Ù³ëÇ ÝÏ³ïÙ³Ùµ û·ï³·áñÍÙ³Ý Çñ³íáõÝùÁ ×³Ý³ã»Éáõ í»ñ³µ»ñÛ³É
A18: 1.4 | B18: ¶áõÛùÇ ÝÏ³ïÙ³Ùµ û·ï³·áñÍÙ³Ý Çñ³íáõÝùÁ ¹³¹³ñ»óÝ»Éáõ í»ñ³µ»ñÛ³É
A19: 1.4.1 | B19: ²Û¹ ÃíáõÙª µÝ³Ïû·ï³·áñÍÙ³Ý Çñ³íáõÝùÁ ¹³¹³ñ»óÝ»Éáõ í»ñ³µ»ñÛ³É | E19: 1 | G19: 1 | AB19: 1 | AC19: 1
A20: 1.4.1/1 | B20: ²Û¹ ÃíáõÙª ÷áËÑ³ïáõóÙ³Ùµ | J20: 1 | K20: 1 | AB20: 1
A21: 1.5 | B21: ´Ý³Ï³ñ³ÝÇó/ ï³ñ³ÍùÇó/ íï³ñ»Éáõ í»ñ³µ»ñÛ³É | E21: 1 | G21: 1 | J21: 2 | K21: 2 | AB21: 3 | AD21: 1 | AF21: 1 | AG21: 1
A22: 1.6 | B22: ¶áõÛùÝ áõñÇßÇ ³åûñÇÝÇ ïÇñ³å»ïáõÙÇó »ï í»ñ³¹³ñÓÝ»Éáõ í»ñ³µ»ñÛ³É | E22: 6 | F22: 2 | G22: 4 | J22: 5 | K22: 3 | L22: 2 | O22: 1 | T22: 1 | V22: 1 | Y22: 1 | AA22: 4 | AB22: 8 | AC22: 4 | AK22: 1 | AM22: 1 | AN22: 1
A23: 1.6.1 | B23: ´³ñ»ËÇÕ× Ó»éùµ»ñáÕÇó Çñ ·áõÛùÁ Ñ»ï å³Ñ³Ýç»Éáõ í»ñ³µ»ñÛ³É
A24: 1.7 | B24: îÇñ³å»ïáõÙÇó ½ñÏ»Éáõ Ñ»ï ãÏ³åí³Í Çñ³íáõÝùÝ»ñÇ Ë³ËïáõÙÁ í»ñ³óÝ»Éáõ í»ñ³µ»ñÛ³É | E24: 5 | G24: 5 | J24: 3 | K24: 3 | O24: 3 | P24: 2 | R24: 1 | Y24: 3 | AB24: 5
A25: 1.8 | B25: ÀÝ¹Ñ³Ýáõñ µ³ÅÝ³ÛÇÝ ë»÷³Ï³ÝáõÃÛáõÝÇó µ³ÅÇÝÝ ³é³ÝÓÝ³óÝ»Éáõ í»ñ³µ»ñÛ³É | E25: 23 | F25: 7 | G25: 16 | J25: 11 | K25: 8 | L25: 3 | N25: 1 | O25: 5 | P25: 2 | R25: 1 | T25: 2 | V25: 2 | Y25: 5 | AA25: 2 | AB25: 25 | AC25: 2 | AD25: 1 | AF25: 1 | AH25: 1 | AK25: 1 | AM25: 1 | AN25: 1
A26: 1.8.1 | B26: Ð³Ù³ï»Õ ë»÷³Ï³ÝáõÃÛ³Ý Ý»ñùá ·ïÝíáÕ ·áõÛùÁ µ³Å³Ý»Éáõ ¨ ¹ñ³ÝÇó µ³ÅÇÝÝ ³é³ÝÓÝ³óÝ»Éáõ í»ñ³µ»ñÛ³É | E26: 11 | F26: 3 | G26: 8 | J26: 6 | K26: 5 | L26: 1 | O26: 5 | P26: 1 | R26: 1 | T26: 3 | V26: 3 | X26: 1 | Y26: 6 | AA26: 1 | AB26: 10 | AC26: 1 | AD26: 2 | AF26: 2 | AG26: 1 | AH26: 1 | AJ26: 1 | AK26: 1 | AM26: 1 | AN26: 1
A27: 1.8.3 | B27: ¶áõÛùÇ íñ³ µéÝ³·³ÝÓáõÙ ï³ñ³Í»Éáõ å³Ñ³ÝçÇ Ù³ëÇÝ
A28: 1.9 | B28: ²ÛÉ í»×»ñ | E28: 11 | G28: 11 | J28: 6 | K28: 5 | L28: 1 | O28: 4 | P28: 1 | Q28: 1 | R28: 2 | Y28: 4 | AA28: 3 | AB28: 12 | AC28: 3 | AD28: 1 | AF28: 1 | AH28: 1 | AJ28: 1 | AK28: 1 | AM28: 1 | AO28: 1
A29: 2. | B29: ¶áñÍ³ñùÝ»ñÇ Ñ»ï Ï³åí³Í Çñ³í³Ñ³ñ³µ»ñáõÃÛáõÝÝ»ñÇ í»ñ³µ»ñÛ³É ¹³ï³Ï³Ý ·áñÍ»ñ | E29: =SUM(E30:E40) -> 30 | F29: =SUM(F30:F40) -> 1 | G29: =SUM(G30:G40) -> 29 | H29: =SUM(H30:H40) -> 0 | I29: =SUM(I30:I40) -> 0 | J29: =SUM(J30:J40) -> 29 | K29: =SUM(K30:K40) -> 20 | L29: =SUM(L30:L40) -> 9 | ... AS29: =SUM(AS30:AS40) -> 0
A30: 2.1 | B30: ·áñÍ³ñùÝ»ñÇ ³Ýí³í»ñáõÃÛ³Ý Ñ»ï Ï³åí³Í í»×»ñ | E30: 7 | G30: 7 | J30: 6 | K30: 3 | L30: 3 | N30: 1 | O30: 3 | P30: 1 | R30: 1 | T30: 1 | V30: 1 | Y30: 3 | Z30: 1 | AB30: 5 | AD30: 3 | AE30: 1 | AF30: 4 | AG30: 1 | AH30: 3 | AJ30: 1 | AK30: 1 | AM30: 1 | AN30: 1
A31: 2.1.1 | B31: ³Û¹ ÃíáõÙ` íÇ×³Ñ³ñáõÛó ·áñÍ³ñùÝ»ñÝ ³Ýí³í»ñ ×³Ý³ã»Éáõ í»ñ³µ»ñÛ³É | E31: 1 | F31: 1 | O31: 1 | T31: 1 | V31: 1 | Y31: 1
A32: 2.1.2 | B32: ³Û¹ ÃíáõÙ` ·áñÍ³ñùÇ ³éáãÝãáõÃÛ³Ý Ñ»ï¨³ÝùÝ»ñ ÏÇñ³é»Éáõ í»ñ³µ»ñÛ³É | E32: 3 | G32: 3 | J32: 2 | K32: 2 | O32: 2 | R32: 1 | T32: 1 | V32: 1 | Y32: 2 | AB32: 3
A33: 2.2 | B33: ¶áñÍ³ñùÁ í³í»ñ ×³Ý³ã»Éáõ í»ñ³µ»ñÛ³É | E33: 2 | G33: 2 | O33: 1 | P33: 1 | Y33: 1 | AB33: 1 | AD33: 1 | AF33: 1 | AH33: 1 | AJ33: 1
A34: 2.3 | B34: ¶áñÍ³ñùÇó Í³·áÕ Çñ³íáõÝùÝ»ñÁ ·ñ³Ýó»Éáõ í»ñ³µ»ñÛ³É
A35: 2.4 | B35: ä³ÛÙ³Ý³·ÇñÝ ³Ýí³í»ñ ×³Ý³ã»Éáõ í»ñ³µ»ñÛ³É | E35: 8 | G35: 8 | J35: 6 | K35: 3 | L35: 3 | O35: 6 | P35: 1 | R35: 4 | S35: 1 | Y35: 6 | AB35: 5 | AD35: 5 | AF35: 5 | AH35: 5 | AJ35: 3
A36: 2.5 | B36: ä³ÛÙ³Ý³·ñÇÁ í³í»ñ ×³Ý³ã»Éáõ í»ñ³µ»ñÛ³É | E36: 1 | G36: 1 | J36: 1 | K36: 1 | AB36: 2
A37: 2.6 | B37: ä³ÛÙ³Ý³·ñÇó Í³·áÕ Çñ³íáõÝùÝ»ñÁ ·ñ³Ýó»Éáõ í»ñ³µ»ñÛ³É
A38: 2.7 | B38: ä³ÛÙ³Ý³·ÇñÁ ÷á÷áË»Éáõ ¨ ÉáõÍ»Éáõ í»ñ³µ»ñÛ³É | E38: 1 | G38: 1 | J38: 1 | K38: 1 | AB38: 2
A39: 2.8 | B39: ä³ÛÙ³Ý³·Çñ ÏÝù»ÉáõÝ å³ñï³íáñ»óÝ»Éáõ í»ñ³µ»ñÛ³É | E39: 3 | G39: 3 | O39: 2 | P39: 1 | T39: 1 | V39: 1 | Y39: 2 | AA39: 1 | AB39: 1 | AC39: 1 | AD39: 1 | AF39: 1 | AH39: 1 | AJ39: 1
A40: 2.9 | B40: ²ÛÉ í»×»ñ | E40: 4 | G40: 4 | J40: 13 | K40: 10 | L40: 3 | O40: 4 | R40: 3 | T40: 1 | V40: 1 | Y40: 4 | AB40: 10 | AD40: 1 | AF40: 1 | AH40: 1 | AJ40: 1
A41: 3. | B41: Ä³é³Ý·áõÃÛ³Ý Ñ»ï Ï³åí³Í Çñ³í³Ñ³ñ³µ»ñáõÃÛáõÝÝ»ñÇ í»ñ³µ»ñÛ³É ¹³ï³Ï³Ý ·áñÍ»ñ | E41: =SUM(E42:E48) -> 10 | F41: =SUM(F42:F48) -> 1 | G41: =SUM(G42:G48) -> 9 | H41: =SUM(H42:H48) -> 0 | I41: =SUM(I42:I48) -> 0 | J41: =SUM(J42:J48) -> 9 | K41: =SUM(K42:K48) -> 8 | L41: =SUM(L42:L48) -> 1 | ... AS41: =SUM(AS42:AS48) -> 0
A42: 3.1 | B42: Îï³ÏÝ ³Ýí³í»ñ ×³Ý³ã»Éáõ í»ñ³µ»ñÛ³É
A43: 3.2 | B43: ²Ý³ñÅ³Ý Å³é³Ý· ×³Ý³ã»Éáõ í»ñ³µ»ñÛ³É
A44: 3.3 | B44: Ä³é³Ý·áõÃÛáõÝÁ µ³Å³Ý»Éáõ í»ñ³µ»ñÛ³É
A45: 3.4 | B45: ¶áõÛùÝ ³ÝÅ³é³Ý· ×³Ý³ã»Éáõ í»ñ³µ»ñÛ³É | J45: 1 | K45: 1 | AB45: 1
A46: 3.5 | B46: Àëï ûñ»ÝùÇ Å³é³Ý·áõÃÛ³Ý Çñ³íáõÝùÇ íÏ³Û³·ÇñÝ ³Ýí³í»ñ ×³Ý³ã»Éáõ í»ñ³µ»ñÛ³É | E46: 2 | G46: 2 | J46: 1 | K46: 1 | AB46: 3
A47: 3.6 | B47: Ä³é³Ý·áõÃÛáõÝÝ ÁÝ¹áõÝ»Éáõ µ³ó ÃáÕÝí³Í Å³ÙÏ»ïÁ Ñ³ñ·»ÉÇ Ñ³Ù³ñ»Éáõ í»ñ³µ»ñÛ³É
A48: 3.7 | B48: ²ÛÉ í»×»ñ | E48: 8 | F48: 1 | G48: 7 | J48: 7 | K48: 6 | L48: 1 | O48: 6 | P48: 2 | Q48: 2 | R48: 1 | T48: 1 | V48: 1 | Y48: 6 | AB48: 8 | AC48: 1 | AD48: 3 | AF48: 3 | AG48: 2 | AH48: 1 | AJ48: 2 | AK48: 1 | AM48: 1 | AN48: 1
A49: 4 | B49: ÀÝï³Ý»Ï³Ý Çñ³í³Ñ³ñ³µ»ñáõÃÛáõÝÝ»ñÇ í»ñ³µ»ñÛ³É ¹³ï³Ï³Ý ·áñÍ»ñ | E49: =SUM(E50:E62) -> 37 | F49: =SUM(F50:F62) -> 1 | G49: =SUM(G50:G62) -> 36 | H49: =SUM(H50:H62) -> 0 | I49: =SUM(I50:I62) -> 0 | J49: =SUM(J50:J62) -> 41 | K49: =SUM(K50:K62) -> 37 | L49: =SUM(L50:L62) -> 4 | ... AS49: =SUM(AS50:AS62) -> 0
A50: 4.1 | B50: ²ÙáõëÝ³ÉáõÍáõÃÛ³Ý í»ñ³µ»ñÛ³É | E50: 18 | F50: 1 | G50: 17 | J50: 26 | K50: 22 | L50: 4 | O50: 23 | P50: 17 | Q50: 1 | T50: 5 | V50: 5 | Y50: 23 | AB50: 17 | AD50: 2 | AE50: 1 | AF50: 3 | AG50: 1 | AH50: 2 | AJ50: 1
A51: 4.2 | B51: ²ÉÇÙ»ÝïÇ å³Ñ³ÝçÇ í»ñ³µ»ñÛ³É | E51: 6 | G51: 6 | J51: 3 | K51: 3 | O51: 1 | P51: 1 | Y51: 1 | AB51: 8 | AD51: 1 | AF51: 1 | AH51: 1 | AK51: 1 | AM51: 1 | AO51: 1
A52: 4.3 | B52: ²ÉÇÙ»ÝïÇ ã³÷Á ÷á÷áË»Éáõ í»ñ³µ»ñÛ³É | E52: 1 | G52: 1 | J52: 2 | K52: 2 | AB52: 3
A53: 4.4 | B53: ÌÝáÕ³Ï³Ý Çñ³íáõÝùÝ»ñÇó ½ñÏ»Éáõ í»ñ³µ»ñÛ³É
A54: 4.5 | B54: ÌÝáÕ³Ï³Ý Çñ³íáõÝùÝ»ñÁ í»ñ³Ï³Ý·Ý»Éáõ í»ñ³µ»ñÛ³É
A55: 4.6 | B55: ºñ»Ë³ÛÇ áñ¹»·ñÙ³Ý í»ñ³µ»ñÛ³É
A56: 4.7 | B56: ºñ»Ë³ÛÇ áñ¹»·ñáõÙÁ í»ñ³óÝ»Éáõ í»ñ³µ»ñÛ³É
A57: 4.8 | B57: Ð³ÛñáõÃÛáõÝÁ ×³Ý³ã»Éáõ í»ñ³µ»ñÛ³É | E57: 2 | G57: 2 | J57: 5 | K57: 5 | O57: 3 | P57: 3 | Y57: 3 | AB57: 4
A58: 4.9 | B58: ºñ»Ë³ÛÇ µÝ³ÏáõÃÛ³Ý í³ÛñÁ áñáß»Éáõ í»ñ³µ»ñÛ³É | E58: 1 | G58: 1 | J58: 1 | K58: 1 | AB58: 2
A59: 4.10 | B59: ºñ»Ë³ÛÇ Ñ»ï ï»ë³ÏóáõÃÛ³Ý Ï³ñ· ë³ÑÙ³Ý»Éáõ í»ñ³µ»ñÛ³É | E59: 6 | G59: 6 | J59: 2 | K59: 2 | O59: 3 | P59: 1 | Q59: 1 | T59: 1 | V59: 1 | Y59: 3 | AB59: 5 | AD59: 2 | AF59: 2 | AH59: 2 | AJ59: 2
A60: 4.11 | B60: ²ÙáõëÇÝÝ»ñÇ ÁÝ¹Ñ³Ýáõñ ·áõÛùÁ µ³Å³Ý»Éáõ í»ñ³µ»ñÛ³É | E60: 1 | G60: 1 | O60: 1 | P60: 1 | Y60: 1
A61: 4.12 | B61: ²ÙáõëÝ³Ï³Ý å³ÛÙ³Ý³·ñÇ ÷á÷áËÙ³Ý Ï³Ù ÉáõÍÙ³Ý í»ñ³µ»ñÛ³É
A62: 4.13 | B62: ²ÛÉ í»×»ñ | E62: 2 | G62: 2 | J62: 2 | K62: 2 | O62: 2 | Q62: 1 | T62: 1 | V62: 1 | Y62: 2 | AB62: 2
A63: 5. | B63: Øï³íáñ ë»÷³Ï³ÝáõÃÛ³Ý Ñ»ï Ï³åí³ÍÇñ³í³Ñ³ñ³µ»ñáõÃÛáõÝÝ»ñÇ í»ñ³µ»ñÛ³É ¹³ï³Ï³Ý ·áñÍ»ñ | E63: =SUM(E64:E69) -> 0 | F63: =SUM(F64:F69) -> 0 | G63: =SUM(G64:G69) -> 0 | H63: =SUM(H64:H69) -> 0 | I63: =SUM(I64:I69) -> 0 | J63: =SUM(J64:J69) -> 1 | K63: =SUM(K64:K69) -> 0 | L63: =SUM(L64:L69) -> 1 | ... AS63: =SUM(AS64:AS69) -> 0
A64: 5.1 | B64: ÈÇó»Ý½³ÛÇÝ å³ÛÙ³Ý³·ñÇ ÉáõÍÙ³Ý, ÷á÷áËÙ³Ý ¨ ³Ýí³í»ñáõÃÛ³Ý í»ñ³µ»ñÛ³É
A65: 5.2 | B65: Øï³íáñ ·áñÍáõÝ»áõÃÛ³Ý ³ñ¹ÛáõÝùÝ»ñ ëï»ÕÍ»Éáõ ¨ û·ï³·áñÍ»Éáõ å³ÛÙ³Ý³·ñÇ ÉáõÍÙ³Ý, ÷á÷áËÙ³Ý áõ ³Ýí³í»ñáõÃÛ³Ý í»ñ³µ»ñÛ³É
A66: 5.3 | B66: Ð»ÕÇÝ³Ï³ÛÇÝ ¨ Ñ³ñ³ÏÇó Çñ³íáõÝùÝ»ñÇ í»ñ³µ»ñÛ³É
A67: 5.4 | B67: üÇñÙ³ÛÇÝ ³Ýí³ÝÙ³Ý í»ñ³µ»ñÛ³É
A68: 5.5 | B68: ²åñ³Ýù³ÛÇÝ Ýß³ÝÇ í»ñ³µ»ñÛ³É | J68: 1 | L68: 1
A69: 5.6 | B69: ²ÛÉ í»×»ñ
A70: 6. | B70: ²ßË³ï³Ýù³ÛÇÝ Çñ³í³Ñ³ñ³µ»ñáõÃÛáõÝÝ»ñÇ í»ñ³µ»ñÛ³É ¹³ï³Ï³Ý ·áñÍ»ñ | E70: =SUM(E71:E76) -> 8 | F70: =SUM(F71:F76) -> 0 | G70: =SUM(G71:G76) -> 8 | H70: =SUM(H71:H76) -> 0 | I70: =SUM(I71:I76) -> 0 | J70: =SUM(J71:J76) -> 1 | K70: =SUM(K71:K76) -> 1 | L70: =SUM(L71:L76) -> 0 | ... AS70: =SUM(AS71:AS76) -> 0
A71: 6.1 | B71: ²ßË³ï³Ýù³ÛÇÝ å³ÛÙ³Ý³·ñ»ñÇ í»ñ³µ»ñÛ³É
A72: 6.2 | B72: ²ßË³ï³ÝùáõÙ í»ñ³Ï³Ý·Ý»Éáõ í»ñ³µ»ñÛ³É | E72: 3 | G72: 3 | O72: 2 | P72: 1 | Q72: 1 | Y72: 2 | AB72: 1 | AD72: 1 | AF72: 1 | AH72: 1
A73: 6.3 | B73: ¶áñÍ³¹áõÉÝ ³ÝûñÇÝ³Ï³Ý ×³Ý³ã»Éáõ í»ñ³µ»ñÛ³É
A74: 6.4 | B74: Ð³ñÏ³¹Çñ å³ñ³åáõñ¹Ç Ñ³ïáõóÙ³Ý í»ñ³µ»ñÛ³É | E74: 1 | G74: 1 | O74: 1 | R74: 1 | Y74: 1 | AD74: 1 | AF74: 1 | AH74: 1 | AJ74: 1
A75: 6.5 | B75: âí×³ñí³Í ³ßË³ï³í³ñÓÇ ¨/Ï³Ù ³ÛÉ í×³ñÝ»ñÇ µéÝ³·³ÝÓÙ³Ý í»ñ³µ»ñÛ³É | E75: 2 | G75: 2 | J75: 1 | K75: 1 | AB75: 3
A76: 6.6 | B76: ²ÛÉ í»×»ñ | E76: 2 | G76: 2 | O76: 1 | R76: 1 | Y76: 1 | AB76: 1 | AD76: 1 | AF76: 1 | AH76: 1 | AJ76: 1
A77: 7. | B77: Æñ³í³µ³Ý³Ï³Ý ³ÝÓÇ ·áñÍáõÝ»áõÃÛáõÝÇó µËáÕ Çñ³í³Ñ³ñ³µ»ñáõÃÛáõÝÝ»ñÇ í»ñ³µ»ñÛ³É ¹³ï³Ï³Ý ·áñÍ»ñ | E77: =SUM(E78:E79) -> 0 | F77: =SUM(F78:F79) -> 0 | G77: =SUM(G78:G79) -> 0 | H77: =SUM(H78:H79) -> 0 | I77: =SUM(I78:I79) -> 0 | J77: =SUM(J78:J79) -> 0 | K77: =SUM(K78:K79) -> 0 | L77: =SUM(L78:L79) -> 0 | ... AS77: =SUM(AS78:AS79) -> 0
A78: 7.1 | B78: Îáñåáñ³ïÇí í»×»ñ
A79: 7.2 | B79: ²ÛÉ í»×»ñ
A80: 8. | B80: Ð³ïáõÏ í³ñáõÛÃÇ ¹³ï³Ï³Ý ·áñÍ»ñ | E80: =SUM(E81:E101) -> 15 | F80: =SUM(F81:F101) -> 0 | G80: =SUM(G81:G101) -> 15 | H80: =SUM(H81:H101) -> 0 | I80: =SUM(I81:I101) -> 0 | J80: =SUM(J81:J101) -> 18 | K80: =SUM(K81:K101) -> 14 | L80: =SUM(L81:L101) -> 4 | ... AS80: =SUM(AS81:AS101) -> 0
A81: 8.1 | B81: ²Ýã³÷³Ñ³ëÇÝ ÉñÇí ·áñÍáõÝ³Ï ×³Ý³ã»Éáõ /¿Ù³ÝëÇå³óÇ³/ í»ñ³µ»ñÛ³É | AD81: 1 | AF81: 1 | AG81: 1
A82: 8.2 | B82: ø³Õ³ù³óáõÝ ³Ý·áñÍáõÝ³Ï Ï³Ù ë³ÑÙ³Ý³÷³Ï ·áñÍáõÝ³Ï ×³Ý³ã»Éáõ í»ñ³µ»ñÛ³É | E82: 1 | G82: 1 | J82: 8 | K82: 7 | L82: 1 | O82: 2 | P82: 1 | T82: 1 | V82: 1 | Y82: 2 | AA82: 4 | AB82: 6 | AC82: 2
A83: 8.3 | B83: ø³Õ³ù³óáõÝ Ñá·»µáõÅ³Ï³Ý ÑÇí³Ý¹³Ýáó³ÛÇÝ Ñ³ñÏ³¹Çñ µáõÅÙ³Ý »ÝÃ³ñÏ»Éáõ í»ñ³µ»ñÛ³É
A84: 8.4 | B84: ø³Õ³ù³óáõÝ ³ÝÑ³Ûï µ³ó³Ï³ÛáÕ Ï³Ù Ù³Ñ³ó³Í ×³Ý³ã»Éáõ í»ñ³µ»ñÛ³É | E84: 3 | G84: 3 | J84: 1 | K84: 1 | O84: 1 | P84: 1 | Y84: 1 | AB84: 3
A85: 8.5 | B85: ø³Õ³ù³óÇ³Ï³Ý Ï³óáõÃÛ³Ý ³Ïï»ñÇ ·ñ³éáõÙÝ»ñÇ ³Ý×ßïáõÃÛáõÝÝ»ñÁ å³ñ½»Éáõ í»ñ³µ»ñÛ³É
A86: 8.6 | B86: ¶áõÛùÁ ïÇñ³½áõñÏ ×³Ý³ã»Éáõ í»ñ³µ»ñÛ³É | J86: 1 | K86: 1 | O86: 1 | P86: 1 | Y86: 1
A87: 8.6.1 | B87: ²Û¹ ÃíáõÙª ³Ýß³ñÅ ·áõÛùÁ
A88: 8.6.2 | B88: ²Û¹ ÃíáõÙª ß³ñÅ³Ï³Ý ·áõÛùÁ
A89: 8.7 | B89: Æñ³í³µ³Ý³Ï³Ý Ýß³Ý³ÏáõÃÛáõÝ áõÝ»óáÕ ÷³ëï»ñÇ Ñ³ëï³ïÙ³Ý í»ñ³µ»ñÛ³É | E89: 4 | G89: 4 | J89: 5 | K89: 4 | L89: 1 | O89: 5 | P89: 3 | T89: 2 | V89: 2 | Y89: 5 | AB89: 3
A90: 8.7.1 | B90: ²ÝÓ³Ýó ³½·³Ïó³Ï³Ý Ï³åÁ Ñ³ëï³ï»Éáõ í»ñ³µ»ñÛ³É | E90: 2 | G90: 2 | J90: 1 | L90: 1 | O90: 1 | P90: 1 | Y90: 1 | AB90: 1
A91: 8.7.2 | B91: ²ÝÓÇª áõñÇßÇ ËÝ³ÙùÇ ï³Ï ·ïÝí»Éáõ í»ñ³µ»ñÛ³É
A92: 8.7.3 | B92: ÌÝÝ¹Û³Ý, áñ¹»·ñÙ³Ý, ³ÙáõëÝáõÃÛ³Ý, ³å³Ñ³ñ½³ÝÇ ¨ Ù³Ñí³Ý ·ñ³ÝóÙ³Ý í»ñ³µ»ñÛ³É
A93: 8.7.4 | B93: ²ÝÓÇª áñáß³ÏÇ Å³Ù³Ý³ÏáõÙ ¨ áñáß³ÏÇ Ñ³Ý·³Ù³ÝùÝ»ñáõÙ Ù³Ñí³Ý í»ñ³µ»ñÛ³É
A94: 8.7.5 | B94: Ä³é³Ý·áõÃÛáõÝÝ ÁÝ¹áõÝ»Éáõ ¨ Å³é³Ý·áõÃÛ³Ý µ³óÙ³Ý í³ÛñÇ í»ñ³µ»ñÛ³É | E94: 2 | G94: 2 | J94: 1 | L94: 1 | O94: 2 | P94: 1 | T94: 1 | V94: 1 | Y94: 2
A95: 8.7.6 | B95: ¸Åµ³Ëï å³ï³Ñ³ñÇ í»ñ³µ»ñÛ³É
A96: 8.7.7 | B96: Æñ³íáõÝù ë³ÑÙ³ÝáÕ ÷³ëï³ÃÕÃ»ñÇ å³ïÏ³Ý»ÉáõÃÛ³Ý í»ñ³µ»ñÛ³É | E96: 3 | G96: 3 | O96: 3 | P96: 2 | R96: 1 | Y96: 3
A97: 8.7.8 | B97: ê»÷³Ï³ÝáõÃÛ³Ý Çñ³íáõÝùáí ·áõÛùÇ ïÇñ³å»ïÙ³Ý í»ñ³µ»ñÛ³É
A98: 8.7.9 | B98: ²ÝÑ³ÕÃ³Ñ³ñ»ÉÇ áõÅÇ ³éÏ³ÛáõÃÛ³Ý í»ñ³µ»ñÛ³É
A99: 8.7.10 | B99: úñ»Ýùáí Ý³Ë³ï»ëí³Í ³ÛÉ Çñ³í³µ³Ý³Ï³Ý ÷³ëï»ñÇ í»ñ³µ»ñÛ³É
A100: 8.8 | B100: Àëï Ý»ñÏ³Û³óÝáÕÇ ¨ ûñ¹»ñ³ÛÇÝ Ïáñóñ³Í ³ñÅ»ÃÕÃ»ñáí Ñ³í³ëïí³Í Çñ³íáõÝùÝ»ñÁ í»ñ³Ï³Ý·Ý»Éáõ í»ñ³µ»ñÛ³É
...

Sheet Զ. Նախշքարյան
A1: 2017թ. | G1: Ð²ÞìºîìàôÂÚàôÜ | AM1: Հավելված Հայաստանի Հանրապետության Դատարանների նախագահների խորհրդի 29.01.2018թ. թիվ 10-Լ որոշման
A2: ºðºì²ÜÆ ²ð²´ÎÆð ºì ø²Ü²øºè-¼ºÚÂàôÜ ì²ðâ²Î²Ü Þðæ²ÜÜºðÆ ÀÜ¸Ð²Üàôð Æð²ì²êàôÂÚ²Ü ²è²æÆÜ ²îÚ²ÜÆ ¸²î²ð²ÜÆ ¸²î²ìàð | Z2: ¼. Ü²ÊÞø²ðÚ²ÜÆ | AH2: ¶àðÌàôÜºàôÂÚ²Ü ìºð²´ºðÚ²È
A3: ø²Ô²ø²òÆ²Î²Ü ¶àðÌºðàì
A4: ºñ¨³ÝÇ ²ñ³µÏÇñ ¨ ø³Ý³ù»é-¼»ÛÃáõÝ í³ñã³Ï³Ý ßñç³ÝÝ»ñÇ ÁÝ¹Ñ³Ýáõñ Çñ³í³ëáõÃÛ³Ý ³é³çÇÝ ³ïÛ³ÝÇ ¹³ï³ñ³ÝÇ ù³Õ³ù³óÇ³Ï³Ý Ù³ëÝ³·Çï³óáõÙ áõÝ»óáÕ ¹³ï³íáñÝ»ñÇ Ñ³ëïÇùÝ»ñÇ ù³Ý³ÏÁ` 7
E5: Ð³ßí»ïáõ Å³Ù³Ý³Ï³Ñ³ïí³ÍáõÙ Ý³Ëáñ¹ Ñ³ßí»ïáõ Å³Ù³Ý³Ï³Ñ³ïí³ÍÇó ÷áË³Ýóí³Í ·áñÍ»ñÇ ÁÝ¹Ñ³Ýáõñ ÃÇíÁ | J5: Ð³ßí»ïáõ Å³Ù³Ý³Ï³Ñ³ïí³ÍáõÙëï³óí³Í ·áñÍ»ñÇ (³Û¹ ÃíáõÙ` Ñ³Ûó³¹ÇÙáõÙÝ»ñÇ, ¹ÇÙáõÙÝ»ñÇ) ÁÝ¹Ñ³Ýáõñ ÃÇíÁ | N5: öáË³Ýóí»É ¿ ³ÛÉ ¹³ï³íáñÇ (Ï³½ÙÇ ÷á÷áËáõÃÛáõÝ) | O5: Ð³ßí»ïáõ Å³Ù³Ý³Ï³Ñ³ïí³ÍáõÙ ³í³ñïí³Í ·áñÍ»ñÇ ÁÝ¹Ñ³Ýáõñ ÃÇíÁ | Z5: ¶áñÍÝ áõÕ³ñÏí»É ¿ Áëï ÁÝ¹¹³ïáõÃÛ³Ý | AA5: Ð³ßí»ïáõ Å³Ù³Ý³Ï³Ñ³ïí³ÍáõÙ Ï³ë»óí³Í í³ñáõÛÃÝ»ñáí ·áñÍ»ñÇ ÁÝ¹Ñ³Ýáõñ ÃÇíÁ | AB5: Ð³ßí»ïáõ Å³Ù³Ý³Ï³Ñ³ïí³ÍáõÙ ³Ý³í³ñï ·áñÍ»ñÇ ÁÝ¹Ñ³Ýáõñ ÃÇíÁ | AC5: ²Û¹ ÃíáõÙª Ï³ë»óí³Í | AD5: ´áÕáù³ñÏí³Í ¹³ï³Ï³Ý ³Ïï»ñÁ | AI5: ²í³ñïí³Í ¹³ï³Ï³Ý ·áñÍ»ñÇ µáÕáù³ñÏÙ³Ý ïáÏáëÁ (Ñ³ßí»ïáõ Å³Ù³Ý³Ï³ßñç³ÝáõÙ) | AJ5: ²Ý³í³ñï µáÕáùÝ»ñ | AK5: ´»Ï³Ýí³Í ¹³ï³Ï³Ý ³Ïï»ñÁ | AP5: µ»Ï³ÝáõÙÝ»ñÇ ïáÏáëÁ ³í³ñïí³Í ·áñÍ»ñÇó(Ñ³ßí»ïáõ Å³Ù³Ý³Ï³ßñç³ÝáõÙ) | AQ5: Î³ÛáõÝáõÃÛ³Ý ïáÏáëÁ ³í³ñïí³Í ·áñÍ»ñÇó(Ñ³ßí»ïáõ Å³Ù³Ý³Ï³ßñç³ÝáõÙ) | AR5: µ»Ï³ÝáõÙÝ»ñÇ ïáÏáëÁ µáÕáù³ñÏí³Í ·áñÍ»ñÇó(Ñ³ßí»ïáõ Å³Ù³Ý³Ï³ßñç³ÝáõÙ) | AS5: Ï³ÛáõÝáõÃÛ³Ý ïáÏáëÁ(Ñ³ßí»ïáõ Å³Ù³Ý³Ï³ßñç³ÝáõÙ)
E6: ÀÝ¹³Ù»ÝÁ | F6: ²Û¹ ÃíáõÙ`Ï³ë»óí³Í íÇ×³ÏáõÙ ÷áË³Ýóí³Í | G6: ²Û¹ ÃíáõÙª ÁÝ¹áõÝí»É ¿ í³ñáõÛÃ | H6: ²Û¹ ÃíáõÙª í»ñ³¹³ñÓí»É ¿ | I6: ²Û¹ ÃíáõÙª ÁÝ¹áõÝáõÙÁ Ù»ñÅí»É ¿ | J6: ÀÝ¹³Ù»ÝÁ | K6: ²Û¹ ÃíáõÙª ÁÝ¹áõÝí»É ¿ í³ñáõÛÃ | L6: ²Û¹ ÃíáõÙª í»ñ³¹³ñÓí»É ¿ | M6: ²Û¹ ÃíáõÙª ÁÝ¹áõÝáõÙÁ Ù»ñÅí»É ¿ | O6: ÀÝ¹³Ù»ÝÁ ³í³ñïí»É »Ý ·áñÍ»ñ ·áñÍÝ Áëï ¿áõÃÛ³Ý ÉáõÍáÕ ¹³ï³Ï³Ý ³Ïï»ñÇ (í×ÇéÝ»ñÇ) Ï³Û³óÙ³Ùµ | P6: ²Û¹ ÃíáõÙª Ñ³ÛóÇ µ³í³ñ³ñÙ³Ùµ | Q6: ²Û¹ ÃíáõÙª Ñ³ÛóÇ Ù³ëÝ³ÏÇ µ³í³ñ³ñÙ³Ùµ | R6: ²Û¹ ÃíáõÙª Ñ³ÛóÇ Ù»ñÅÙ³Ùµ | S6: Ø³ëáí Ï³ñ×í»É ¿, Ù³ëáí Ù»ñÅí»É | T6: ²Û¹ ÃíáõÙª Ï³ñ×í»É »Ý | X6: Ð³ÛóÁ ÃáÕÝí»É ¿ ³é³Ýó ùÝÝáõÃÛ³Ý | Y6: ÀÝ¹³Ù»ÝÝ ³í³ñïí»É »Ý ·áñÍ»ñ | AD6: ²Û¹ ÃíáõÙ` ·áñÍÝ Áëï ¿áõÃÛ³Ý ÉáõÍáÕ ¹³ï³Ï³Ý ³Ïï»ñÁ | AE6: ²Û¹ ÃíáõÙ` ÙÇç³ÝÏÛ³É ¹³ï³Ï³Ý ³Ïï»ñÁ | AF6: ÀÝ¹³Ù»ÝÁ | AG6: Ü³Ëáñ¹ ï³ñÇÝ»ñÇÝ Ï³Û³óí³Í ³Ïï»ñÇ µáÕáù³ñÏáõÙÁ Ñ³ßí»ïáõ Å³Ù³Ý³Ï³ßñç³ÝáõÙ | AH6: Ð³ßí»ïáõ Å³Ù³Ý³Ï³ßñç³ÝáõÙ Ï³Û³óí³Í ³Ïï»ñÇ µáÕáù³ñÏáõÙÁ | AK6: ²Û¹ ÃíáõÙ` ·áñÍÝ Áëï ¿áõÃÛ³Ý ÉáõÍáÕ ¹³ï³Ï³Ý ³Ïï»ñÁ | AL6: ²Û¹ ÃíáõÙ` ÙÇç³ÝÏÛ³É ¹³ï³Ï³Ý ³Ïï»ñÁ | AM6: ÀÝ¹³Ù»ÝÁ | AN6: Ü³Ëáñ¹ ï³ñÇÝ»ñÇÝ Ï³Û³óí³Í ³Ïï»ñÇ µ»Ï³ÝáõÙÝ»ñÁ Ñ³ßí»ïáõ Å³Ù³Ý³Ï³ßñç³ÝáõÙ | AO6: Ð³ßí»ïáõ Å³Ù³Ý³Ï³ßñç³ÝáõÙ Ï³Û³óí³Í ³Ïï»ñÇ µ»Ï³ÝáõÙÁ
T7: ÀÝ¹³Ù»ÝÁ Ï³ñ×í»É »Ý | U7: ²Û¹ ÃíáõÙª Ñ³ëï³ïí»É ¿ ÏÝùí³Í Ñ³ßïáõÃÛ³Ý Ñ³Ù³Ó³ÛÝáõÃÛáõÝÁ | V7: ²Û¹ ÃíáõÙª Ñ³óÇó, ¹ÇÙáõÙÇó Ññ³Å³ñí»Éáõ ÑÇÙùáí | W7: ²Û¹ ÃíáõÙª ³ÛÉ ÑÇÙùáí
E8: 1 | F8: 2 | G8: 3 | H8: 4 | I8: 5 | J8: 6 | K8: 7 | L8: 8 | M8: 9 | N8: 10 | O8: 11 | P8: 12 | Q8: 13 | R8: 14 | S8: 15 | T8: 16 | U8: 17 | V8: 18 | W8: 19 | X8: 20 | Y8: 21 | Z8: 22 | AA8: 23 | AB8: 24 | AC8: 25 | AD8: 26 | AE8: 27 | AF8: 28 | AG8: 29 | AH8: 30 | AI8: 31 | AJ8: 32 | AK8: 33 | AL8: 34 | AM8: 35 | AN8: 36 | AO8: 37 | AP8: 38 | AQ8: 39 | AR8: 40 | AS8: 41
A9: 1. | B9: ¶áõÛù³ÛÇÝ Çñ³í³Ñ³ñ³µ»ñáõÃÛáõÝÝ»ñÇ í»ñ³µ»ñÛ³É ¹³ï³Ï³Ý ·áñÍ»ñ | E9: =SUM(E10:E28) -> 45 | F9: =SUM(F10:F28) -> 4 | G9: =SUM(G10:G28) -> 41 | H9: =SUM(H10:H28) -> 0 | I9: =SUM(I10:I28) -> 0 | J9: =SUM(J10:J28) -> 52 | K9: =SUM(K10:K28) -> 42 | L9: =SUM(L10:L28) -> 9 | ... AS9: =SUM(AS10:AS28) -> 0
A10: 1.1 | B10: ¶áõÛùÇ ÝÏ³ïÙ³Ùµ ë»÷³Ï³ÝáõÃÛ³Ý Çñ³íáõÝùÁ ×³Ý³ã»Éáõ í»ñ³µ»ñÛ³É | E10: 4 | G10: 4 | J10: 11 | K10: 8 | L10: 3 | O10: 7 | P10: 2 | Q10: 1 | R10: 3 | T10: 1 | U10: 1 | Y10: 7 | AA10: 2 | AB10: 5 | AC10: 2 | AD10: 2 | AF10: 2 | AG10: 1 | AH10: 1 | AJ10: 1 | AK10: 1 | AM10: 1 | AN10: 1
A11: 1.1.1 | B11: ²Û¹ ÃíáõÙª Ó»éùµ»ñÙ³Ý í³Õ»ÙáõÃÛ³Ý áõÅáí | E11: 3 | G11: 3 | J11: 1 | K11: 1 | O11: 3 | P11: 1 | Q11: 1 | T11: 1 | V11: 1 | Y11: 3 | AB11: 1 | AD11: 2 | AF11: 2 | AG11: 1 | AH11: 1 | AJ11: 2
A12: 1.1.2 | B12: ²Û¹ ÃíáõÙª ïÇñ³½áõñÏ ·áõÛùÇ ÝÏ³ïÙ³Ùµ | J12: 1 | K12: 1 | O12: 1 | P12: 1 | Y12: 1
A13: 1.1.3 | B13: ²Û¹ ÃíáõÙª ÇÝùÝ³Ï³Ù Ï³éáõÛóÇ ÝÏ³ïÙ³Ùµ
A14: 1.2 | B14: ê»÷³Ï³ÝáõÃÛ³Ý Çñ³íáõÝùÇ ¹³¹³ñ»óÙ³Ý í»ñ³µ»ñÛ³É | E14: 3 | G14: 3 | J14: 1 | K14: 1 | O14: 2 | R14: 2 | Y14: 2 | AB14: 2 | AD14: 2 | AF14: 2 | AH14: 2 | AJ14: 1
A15: 1.3 | B15: ¶áõÛùÇ ÝÏ³ïÙ³Ùµ û·ï³·áñÍÙ³Ý Çñ³íáõÝùÁ ×³Ý³ã»Éáõ í»ñ³µ»ñÛ³É
A16: 1.3.1 | B16: ²Û¹ ÃíáõÙª µÝ³Ïû·ï³·áñÍÙ³Ý Çñ³íáõÝùÁ ×³Ý³ã»Éáõ í»ñ³µ»ñÛ³É
A17: 1.3.2 | B17: ²Û¹ ÃíáõÙª ÑáÕ³Ù³ëÇ ÝÏ³ïÙ³Ùµ û·ï³·áñÍÙ³Ý Çñ³íáõÝùÁ ×³Ý³ã»Éáõ í»ñ³µ»ñÛ³É
A18: 1.4 | B18: ¶áõÛùÇ ÝÏ³ïÙ³Ùµ û·ï³·áñÍÙ³Ý Çñ³íáõÝùÁ ¹³¹³ñ»óÝ»Éáõ í»ñ³µ»ñÛ³É
A19: 1.4.1 | B19: ²Û¹ ÃíáõÙª µÝ³Ïû·ï³·áñÍÙ³Ý Çñ³íáõÝùÁ ¹³¹³ñ»óÝ»Éáõ í»ñ³µ»ñÛ³É
A20: 1.4.1/1 | B20: ²Û¹ ÃíáõÙª ÷áËÑ³ïáõóÙ³Ùµ | J20: 1 | K20: 1 | AB20: 1
A21: 1.5 | B21: ´Ý³Ï³ñ³ÝÇó/ ï³ñ³ÍùÇó/ íï³ñ»Éáõ í»ñ³µ»ñÛ³É | E21: 3 | F21: 1 | G21: 2 | J21: 2 | K21: 1 | L21: 1 | O21: 1 | T21: 1 | V21: 1 | Y21: 1 | AB21: 3 | AC21: 1
A22: 1.6 | B22: ¶áõÛùÝ áõñÇßÇ ³åûñÇÝÇ ïÇñ³å»ïáõÙÇó »ï í»ñ³¹³ñÓÝ»Éáõ í»ñ³µ»ñÛ³É | E22: 3 | G22: 3 | J22: 2 | K22: 1 | M22: 1 | N22: 1 | O22: 1 | R22: 1 | Y22: 1 | AA22: 1 | AB22: 2 | AC22: 1 | AD22: 1 | AE22: 1 | AF22: 2 | AH22: 2 | AL22: 1 | AM22: 1 | AO22: 1
A23: 1.6.1 | B23: ´³ñ»ËÇÕ× Ó»éùµ»ñáÕÇó Çñ ·áõÛùÁ Ñ»ï å³Ñ³Ýç»Éáõ í»ñ³µ»ñÛ³É
A24: 1.7 | B24: îÇñ³å»ïáõÙÇó ½ñÏ»Éáõ Ñ»ï ãÏ³åí³Í Çñ³íáõÝùÝ»ñÇ Ë³ËïáõÙÁ í»ñ³óÝ»Éáõ í»ñ³µ»ñÛ³É | E24: 4 | G24: 4 | J24: 4 | K24: 3 | L24: 1 | O24: 2 | P24: 1 | T24: 1 | U24: 1 | Y24: 2 | AA24: 1 | AB24: 5 | AC24: 1 | AE24: 1 | AF24: 1 | AH24: 1 | AL24: 1 | AM24: 1 | AO24: 1
A25: 1.8 | B25: ÀÝ¹Ñ³Ýáõñ µ³ÅÝ³ÛÇÝ ë»÷³Ï³ÝáõÃÛáõÝÇó µ³ÅÇÝÝ ³é³ÝÓÝ³óÝ»Éáõ í»ñ³µ»ñÛ³É | E25: 10 | F25: 1 | G25: 9 | J25: 17 | K25: 15 | L25: 2 | O25: 7 | P25: 4 | R25: 1 | T25: 2 | U25: 2 | Y25: 7 | AA25: 7 | AB25: 18 | AC25: 7 | AD25: 2 | AF25: 2 | AG25: 1 | AH25: 1 | AK25: 1 | AM25: 1 | AO25: 1
A26: 1.8.1 | B26: Ð³Ù³ï»Õ ë»÷³Ï³ÝáõÃÛ³Ý Ý»ñùá ·ïÝíáÕ ·áõÛùÁ µ³Å³Ý»Éáõ ¨ ¹ñ³ÝÇó µ³ÅÇÝÝ ³é³ÝÓÝ³óÝ»Éáõ í»ñ³µ»ñÛ³É | E26: 8 | F26: 2 | G26: 6 | J26: 3 | K26: 3 | O26: 2 | P26: 1 | Q26: 1 | Y26: 2 | AB26: 9 | AL26: 1 | AM26: 1 | AN26: 1
A27: 1.8.3 | B27: ¶áõÛùÇ íñ³ µéÝ³·³ÝÓáõÙ ï³ñ³Í»Éáõ å³Ñ³ÝçÇ Ù³ëÇÝ | J27: 2 | K27: 2 | Z27: 1 | AA27: 1 | AB27: 1 | AC27: 1
A28: 1.9 | B28: ²ÛÉ í»×»ñ | E28: 7 | G28: 7 | J28: 7 | K28: 5 | L28: 2 | O28: 8 | P28: 3 | T28: 5 | U28: 2 | V28: 3 | Y28: 8 | AB28: 4 | AD28: 1 | AF28: 1 | AH28: 1 | AJ28: 1
A29: 2. | B29: ¶áñÍ³ñùÝ»ñÇ Ñ»ï Ï³åí³Í Çñ³í³Ñ³ñ³µ»ñáõÃÛáõÝÝ»ñÇ í»ñ³µ»ñÛ³É ¹³ï³Ï³Ý ·áñÍ»ñ | E29: =SUM(E30:E40) -> 21 | F29: =SUM(F30:F40) -> 1 | G29: =SUM(G30:G40) -> 19 | H29: =SUM(H30:H40) -> 1 | I29: =SUM(I30:I40) -> 0 | J29: =SUM(J30:J40) -> 21 | K29: =SUM(K30:K40) -> 17 | L29: =SUM(L30:L40) -> 3 | ... AS29: =SUM(AS30:AS40) -> 0
A30: 2.1 | B30: ·áñÍ³ñùÝ»ñÇ ³Ýí³í»ñáõÃÛ³Ý Ñ»ï Ï³åí³Í í»×»ñ | E30: 3 | G30: 3 | J30: 7 | K30: 7 | O30: 4 | R30: 2 | T30: 2 | V30: 2 | Y30: 4 | AB30: 6
A31: 2.1.1 | B31: ³Û¹ ÃíáõÙ` íÇ×³Ñ³ñáõÛó ·áñÍ³ñùÝ»ñÝ ³Ýí³í»ñ ×³Ý³ã»Éáõ í»ñ³µ»ñÛ³É | E31: 1 | G31: 1 | AB31: 1
A32: 2.1.2 | B32: ³Û¹ ÃíáõÙ` ·áñÍ³ñùÇ ³éáãÝãáõÃÛ³Ý Ñ»ï¨³ÝùÝ»ñ ÏÇñ³é»Éáõ í»ñ³µ»ñÛ³É | E32: 1 | F32: 1 | J32: 1 | K32: 1 | N32: 1 | AA32: 1 | AB32: 1 | AC32: 1
A33: 2.2 | B33: ¶áñÍ³ñùÁ í³í»ñ ×³Ý³ã»Éáõ í»ñ³µ»ñÛ³É | E33: 1 | G33: 1 | AB33: 1
A34: 2.3 | B34: ¶áñÍ³ñùÇó Í³·áÕ Çñ³íáõÝùÝ»ñÁ ·ñ³Ýó»Éáõ í»ñ³µ»ñÛ³É
A35: 2.4 | B35: ä³ÛÙ³Ý³·ÇñÝ ³Ýí³í»ñ ×³Ý³ã»Éáõ í»ñ³µ»ñÛ³É | E35: 10 | G35: 9 | H35: 1 | J35: 1 | K35: 1 | O35: 6 | P35: 1 | Q35: 2 | R35: 3 | Y35: 6 | Z35: 1 | AA35: 2 | AB35: 3 | AC35: 2 | AD35: 7 | AF35: 7 | AG35: 1 | AH35: 6 | AJ35: 3 | AK35: 2 | AM35: 2 | AN35: 1 | AO35: 1
A36: 2.5 | B36: ä³ÛÙ³Ý³·ñÇÁ í³í»ñ ×³Ý³ã»Éáõ í»ñ³µ»ñÛ³É | E36: 1 | G36: 1 | O36: 1 | Q36: 1 | Y36: 1
A37: 2.6 | B37: ä³ÛÙ³Ý³·ñÇó Í³·áÕ Çñ³íáõÝùÝ»ñÁ ·ñ³Ýó»Éáõ í»ñ³µ»ñÛ³É
A38: 2.7 | B38: ä³ÛÙ³Ý³·ÇñÁ ÷á÷áË»Éáõ ¨ ÉáõÍ»Éáõ í»ñ³µ»ñÛ³É | E38: 1 | G38: 1 | J38: 2 | K38: 2 | O38: 1 | T38: 1 | V38: 1 | Y38: 1 | AB38: 2 | AL38: 1 | AM38: 1 | AN38: 1
A39: 2.8 | B39: ä³ÛÙ³Ý³·Çñ ÏÝù»ÉáõÝ å³ñï³íáñ»óÝ»Éáõ í»ñ³µ»ñÛ³É | E39: 1 | G39: 1 | J39: 1 | K39: 1 | AB39: 2
A40: 2.9 | B40: ²ÛÉ í»×»ñ | E40: 2 | G40: 2 | J40: 9 | K40: 5 | L40: 3 | M40: 1 | O40: 5 | P40: 2 | R40: 1 | T40: 2 | U40: 2 | Y40: 5 | AB40: 2 | AD40: 2 | AF40: 2 | AH40: 2 | AJ40: 2
A41: 3. | B41: Ä³é³Ý·áõÃÛ³Ý Ñ»ï Ï³åí³Í Çñ³í³Ñ³ñ³µ»ñáõÃÛáõÝÝ»ñÇ í»ñ³µ»ñÛ³É ¹³ï³Ï³Ý ·áñÍ»ñ | E41: =SUM(E42:E48) -> 12 | F41: =SUM(F42:F48) -> 2 | G41: =SUM(G42:G48) -> 10 | H41: =SUM(H42:H48) -> 0 | I41: =SUM(I42:I48) -> 0 | J41: =SUM(J42:J48) -> 16 | K41: =SUM(K42:K48) -> 12 | L41: =SUM(L42:L48) -> 4 | ... AS41: =SUM(AS42:AS48) -> 0
A42: 3.1 | B42: Îï³ÏÝ ³Ýí³í»ñ ×³Ý³ã»Éáõ í»ñ³µ»ñÛ³É
A43: 3.2 | B43: ²Ý³ñÅ³Ý Å³é³Ý· ×³Ý³ã»Éáõ í»ñ³µ»ñÛ³É
A44: 3.3 | B44: Ä³é³Ý·áõÃÛáõÝÁ µ³Å³Ý»Éáõ í»ñ³µ»ñÛ³É
A45: 3.4 | B45: ¶áõÛùÝ ³ÝÅ³é³Ý· ×³Ý³ã»Éáõ í»ñ³µ»ñÛ³É
A46: 3.5 | B46: Àëï ûñ»ÝùÇ Å³é³Ý·áõÃÛ³Ý Çñ³íáõÝùÇ íÏ³Û³·ÇñÝ ³Ýí³í»ñ ×³Ý³ã»Éáõ í»ñ³µ»ñÛ³É | E46: 2 | G46: 2 | O46: 2 | P46: 1 | T46: 1 | V46: 1 | Y46: 2
A47: 3.6 | B47: Ä³é³Ý·áõÃÛáõÝÝ ÁÝ¹áõÝ»Éáõ µ³ó ÃáÕÝí³Í Å³ÙÏ»ïÁ Ñ³ñ·»ÉÇ Ñ³Ù³ñ»Éáõ í»ñ³µ»ñÛ³É | E47: 5 | F47: 2 | G47: 3 | J47: 2 | K47: 1 | L47: 1 | O47: 4 | P47: 1 | R47: 1 | T47: 2 | V47: 2 | Y47: 4 | AB47: 2
A48: 3.7 | B48: ²ÛÉ í»×»ñ | E48: 5 | G48: 5 | J48: 14 | K48: 11 | L48: 3 | O48: 7 | P48: 5 | R48: 1 | T48: 1 | U48: 1 | Y48: 7 | AA48: 1 | AB48: 9 | AC48: 1 | AD48: 1 | AF48: 1 | AH48: 1 | AK48: 2 | AM48: 2 | AN48: 1 | AO48: 1
A49: 4 | B49: ÀÝï³Ý»Ï³Ý Çñ³í³Ñ³ñ³µ»ñáõÃÛáõÝÝ»ñÇ í»ñ³µ»ñÛ³É ¹³ï³Ï³Ý ·áñÍ»ñ | E49: =SUM(E50:E62) -> 19 | F49: =SUM(F50:F62) -> 3 | G49: =SUM(G50:G62) -> 16 | H49: =SUM(H50:H62) -> 0 | I49: =SUM(I50:I62) -> 0 | J49: =SUM(J50:J62) -> 44 | K49: =SUM(K50:K62) -> 37 | L49: =SUM(L50:L62) -> 7 | ... AS49: =SUM(AS50:AS62) -> 0
A50: 4.1 | B50: ²ÙáõëÝ³ÉáõÍáõÃÛ³Ý í»ñ³µ»ñÛ³É | E50: 6 | F50: 1 | G50: 5 | J50: 26 | K50: 23 | L50: 3 | O50: 24 | P50: 16 | Q50: 5 | T50: 3 | U50: 1 | V50: 2 | Y50: 24 | AB50: 5 | AC50: 1 | AD50: 2 | AF50: 2 | AH50: 2
A51: 4.2 | B51: ²ÉÇÙ»ÝïÇ å³Ñ³ÝçÇ í»ñ³µ»ñÛ³É | E51: 5 | G51: 5 | J51: 4 | K51: 4 | O51: 4 | P51: 1 | Q51: 3 | Y51: 4 | AB51: 5 | AD51: 2 | AF51: 2 | AH51: 2 | AJ51: 1
A52: 4.3 | B52: ²ÉÇÙ»ÝïÇ ã³÷Á ÷á÷áË»Éáõ í»ñ³µ»ñÛ³É | J52: 2 | K52: 1 | L52: 1 | O52: 1 | P52: 1 | Y52: 1
A53: 4.4 | B53: ÌÝáÕ³Ï³Ý Çñ³íáõÝùÝ»ñÇó ½ñÏ»Éáõ í»ñ³µ»ñÛ³É | AD53: 1 | AF53: 1 | AG53: 1
A54: 4.5 | B54: ÌÝáÕ³Ï³Ý Çñ³íáõÝùÝ»ñÁ í»ñ³Ï³Ý·Ý»Éáõ í»ñ³µ»ñÛ³É
A55: 4.6 | B55: ºñ»Ë³ÛÇ áñ¹»·ñÙ³Ý í»ñ³µ»ñÛ³É
A56: 4.7 | B56: ºñ»Ë³ÛÇ áñ¹»·ñáõÙÁ í»ñ³óÝ»Éáõ í»ñ³µ»ñÛ³É
A57: 4.8 | B57: Ð³ÛñáõÃÛáõÝÁ ×³Ý³ã»Éáõ í»ñ³µ»ñÛ³É | E57: 2 | F57: 1 | G57: 1 | AB57: 2 | AC57: 1
A58: 4.9 | B58: ºñ»Ë³ÛÇ µÝ³ÏáõÃÛ³Ý í³ÛñÁ áñáß»Éáõ í»ñ³µ»ñÛ³É | J58: 2 | K58: 2 | O58: 1 | P58: 1 | Y58: 1 | AB58: 1
A59: 4.10 | B59: ºñ»Ë³ÛÇ Ñ»ï ï»ë³ÏóáõÃÛ³Ý Ï³ñ· ë³ÑÙ³Ý»Éáõ í»ñ³µ»ñÛ³É | E59: 3 | G59: 3 | J59: 3 | K59: 3 | O59: 5 | Q59: 2 | T59: 3 | U59: 1 | V59: 2 | Y59: 5 | AB59: 1
A60: 4.11 | B60: ²ÙáõëÇÝÝ»ñÇ ÁÝ¹Ñ³Ýáõñ ·áõÛùÁ µ³Å³Ý»Éáõ í»ñ³µ»ñÛ³É | E60: 2 | F60: 1 | G60: 1 | J60: 4 | K60: 4 | O60: 2 | T60: 2 | U60: 1 | V60: 1 | Y60: 2 | AB60: 4 | AD60: 1 | AF60: 1 | AH60: 1 | AJ60: 1
A61: 4.12 | B61: ²ÙáõëÝ³Ï³Ý å³ÛÙ³Ý³·ñÇ ÷á÷áËÙ³Ý Ï³Ù ÉáõÍÙ³Ý í»ñ³µ»ñÛ³É
A62: 4.13 | B62: ²ÛÉ í»×»ñ | E62: 1 | G62: 1 | J62: 3 | L62: 3 | O62: 1 | T62: 1 | V62: 1 | Y62: 1
A63: 5. | B63: Øï³íáñ ë»÷³Ï³ÝáõÃÛ³Ý Ñ»ï Ï³åí³ÍÇñ³í³Ñ³ñ³µ»ñáõÃÛáõÝÝ»ñÇ í»ñ³µ»ñÛ³É ¹³ï³Ï³Ý ·áñÍ»ñ | E63: =SUM(E64:E69) -> 0 | F63: =SUM(F64:F69) -> 0 | G63: =SUM(G64:G69) -> 0 | H63: =SUM(H64:H69) -> 0 | I63: =SUM(I64:I69) -> 0 | J63: =SUM(J64:J69) -> 0 | K63: =SUM(K64:K69) -> 0 | L63: =SUM(L64:L69) -> 0 | ... AS63: =SUM(AS64:AS69) -> 0
A64: 5.1 | B64: ÈÇó»Ý½³ÛÇÝ å³ÛÙ³Ý³·ñÇ ÉáõÍÙ³Ý, ÷á÷áËÙ³Ý ¨ ³Ýí³í»ñáõÃÛ³Ý í»ñ³µ»ñÛ³É
A65: 5.2 | B65: Øï³íáñ ·áñÍáõÝ»áõÃÛ³Ý ³ñ¹ÛáõÝùÝ»ñ ëï»ÕÍ»Éáõ ¨ û·ï³·áñÍ»Éáõ å³ÛÙ³Ý³·ñÇ ÉáõÍÙ³Ý, ÷á÷áËÙ³Ý áõ ³Ýí³í»ñáõÃÛ³Ý í»ñ³µ»ñÛ³É
A66: 5.3 | B66: Ð»ÕÇÝ³Ï³ÛÇÝ ¨ Ñ³ñ³ÏÇó Çñ³íáõÝùÝ»ñÇ í»ñ³µ»ñÛ³É
A67: 5.4 | B67: üÇñÙ³ÛÇÝ ³Ýí³ÝÙ³Ý í»ñ³µ»ñÛ³É
A68: 5.5 | B68: ²åñ³Ýù³ÛÇÝ Ýß³ÝÇ í»ñ³µ»ñÛ³É
A69: 5.6 | B69: ²ÛÉ í»×»ñ
A70: 6. | B70: ²ßË³ï³Ýù³ÛÇÝ Çñ³í³Ñ³ñ³µ»ñáõÃÛáõÝÝ»ñÇ í»ñ³µ»ñÛ³É ¹³ï³Ï³Ý ·áñÍ»ñ | E70: =SUM(E71:E76) -> 3 | F70: =SUM(F71:F76) -> 0 | G70: =SUM(G71:G76) -> 3 | H70: =SUM(H71:H76) -> 0 | I70: =SUM(I71:I76) -> 0 | J70: =SUM(J71:J76) -> 1 | K70: =SUM(K71:K76) -> 1 | L70: =SUM(L71:L76) -> 0 | ... AS70: =SUM(AS71:AS76) -> 0
A71: 6.1 | B71: ²ßË³ï³Ýù³ÛÇÝ å³ÛÙ³Ý³·ñ»ñÇ í»ñ³µ»ñÛ³É
A72: 6.2 | B72: ²ßË³ï³ÝùáõÙ í»ñ³Ï³Ý·Ý»Éáõ í»ñ³µ»ñÛ³É | E72: 1 | G72: 1 | O72: 1 | P72: 1 | Y72: 1
A73: 6.3 | B73: ¶áñÍ³¹áõÉÝ ³ÝûñÇÝ³Ï³Ý ×³Ý³ã»Éáõ í»ñ³µ»ñÛ³É
A74: 6.4 | B74: Ð³ñÏ³¹Çñ å³ñ³åáõñ¹Ç Ñ³ïáõóÙ³Ý í»ñ³µ»ñÛ³É
A75: 6.5 | B75: âí×³ñí³Í ³ßË³ï³í³ñÓÇ ¨/Ï³Ù ³ÛÉ í×³ñÝ»ñÇ µéÝ³·³ÝÓÙ³Ý í»ñ³µ»ñÛ³É | E75: 1 | G75: 1 | J75: 1 | K75: 1 | AB75: 2
A76: 6.6 | B76: ²ÛÉ í»×»ñ | E76: 1 | G76: 1 | O76: 1 | P76: 1 | Y76: 1 | AD76: 1 | AF76: 1 | AH76: 1 | AJ76: 1
A77: 7. | B77: Æñ³í³µ³Ý³Ï³Ý ³ÝÓÇ ·áñÍáõÝ»áõÃÛáõÝÇó µËáÕ Çñ³í³Ñ³ñ³µ»ñáõÃÛáõÝÝ»ñÇ í»ñ³µ»ñÛ³É ¹³ï³Ï³Ý ·áñÍ»ñ | E77: =SUM(E78:E79) -> 3 | F77: =SUM(F78:F79) -> 0 | G77: =SUM(G78:G79) -> 3 | H77: =SUM(H78:H79) -> 0 | I77: =SUM(I78:I79) -> 0 | J77: =SUM(J78:J79) -> 2 | K77: =SUM(K78:K79) -> 1 | L77: =SUM(L78:L79) -> 0 | ... AS77: =SUM(AS78:AS79) -> 0
A78: 7.1 | B78: Îáñåáñ³ïÇí í»×»ñ
A79: 7.2 | B79: ²ÛÉ í»×»ñ | E79: 3 | G79: 3 | J79: 2 | K79: 1 | M79: 1 | O79: 3 | P79: 3 | Y79: 3 | AB79: 1
A80: 8. | B80: Ð³ïáõÏ í³ñáõÛÃÇ ¹³ï³Ï³Ý ·áñÍ»ñ | E80: =SUM(E81:E101) -> 13 | F80: =SUM(F81:F101) -> 2 | G80: =SUM(G81:G101) -> 11 | H80: =SUM(H81:H101) -> 0 | I80: =SUM(I81:I101) -> 0 | J80: =SUM(J81:J101) -> 31 | K80: =SUM(K81:K101) -> 23 | L80: =SUM(L81:L101) -> 8 | ... AS80: =SUM(AS81:AS101) -> 0
A81: 8.1 | B81: ²Ýã³÷³Ñ³ëÇÝ ÉñÇí ·áñÍáõÝ³Ï ×³Ý³ã»Éáõ /¿Ù³ÝëÇå³óÇ³/ í»ñ³µ»ñÛ³É
A82: 8.2 | B82: ø³Õ³ù³óáõÝ ³Ý·áñÍáõÝ³Ï Ï³Ù ë³ÑÙ³Ý³÷³Ï ·áñÍáõÝ³Ï ×³Ý³ã»Éáõ í»ñ³µ»ñÛ³É | E82: 4 | F82: 2 | G82: 2 | J82: 4 | K82: 4 | O82: 4 | P82: 1 | Q82: 1 | R82: 1 | T82: 1 | V82: 1 | Y82: 4 | AA82: 2 | AB82: 4 | AC82: 3
A83: 8.3 | B83: ø³Õ³ù³óáõÝ Ñá·»µáõÅ³Ï³Ý ÑÇí³Ý¹³Ýáó³ÛÇÝ Ñ³ñÏ³¹Çñ µáõÅÙ³Ý »ÝÃ³ñÏ»Éáõ í»ñ³µ»ñÛ³É
A84: 8.4 | B84: ø³Õ³ù³óáõÝ ³ÝÑ³Ûï µ³ó³Ï³ÛáÕ Ï³Ù Ù³Ñ³ó³Í ×³Ý³ã»Éáõ í»ñ³µ»ñÛ³É | E84: 1 | G84: 1 | J84: 3 | K84: 3 | N84: 1 | O84: 3 | P84: 2 | T84: 1 | V84: 1 | Y84: 3
A85: 8.5 | B85: ø³Õ³ù³óÇ³Ï³Ý Ï³óáõÃÛ³Ý ³Ïï»ñÇ ·ñ³éáõÙÝ»ñÇ ³Ý×ßïáõÃÛáõÝÝ»ñÁ å³ñ½»Éáõ í»ñ³µ»ñÛ³É
A86: 8.6 | B86: ¶áõÛùÁ ïÇñ³½áõñÏ ×³Ý³ã»Éáõ í»ñ³µ»ñÛ³É | J86: 2 | K86: 2 | O86: 2 | P86: 2 | Y86: 2
A87: 8.6.1 | B87: ²Û¹ ÃíáõÙª ³Ýß³ñÅ ·áõÛùÁ
A88: 8.6.2 | B88: ²Û¹ ÃíáõÙª ß³ñÅ³Ï³Ý ·áõÛùÁ
A89: 8.7 | B89: Æñ³í³µ³Ý³Ï³Ý Ýß³Ý³ÏáõÃÛáõÝ áõÝ»óáÕ ÷³ëï»ñÇ Ñ³ëï³ïÙ³Ý í»ñ³µ»ñÛ³É | E89: 3 | G89: 3 | J89: 15 | K89: 11 | L89: 4 | O89: 10 | P89: 7 | T89: 3 | V89: 3 | Y89: 10 | AB89: 4
A90: 8.7.1 | B90: ²ÝÓ³Ýó ³½·³Ïó³Ï³Ý Ï³åÁ Ñ³ëï³ï»Éáõ í»ñ³µ»ñÛ³É | E90: 1 | G90: 1 | J90: 1 | K90: 1 | O90: 2 | P90: 2 | Y90: 2
A91: 8.7.2 | B91: ²ÝÓÇª áõñÇßÇ ËÝ³ÙùÇ ï³Ï ·ïÝí»Éáõ í»ñ³µ»ñÛ³É
A92: 8.7.3 | B92: ÌÝÝ¹Û³Ý, áñ¹»·ñÙ³Ý, ³ÙáõëÝáõÃÛ³Ý, ³å³Ñ³ñ½³ÝÇ ¨ Ù³Ñí³Ý ·ñ³ÝóÙ³Ý í»ñ³µ»ñÛ³É | J92: 1 | L92: 1
A93: 8.7.4 | B93: ²ÝÓÇª áñáß³ÏÇ Å³Ù³Ý³ÏáõÙ ¨ áñáß³ÏÇ Ñ³Ý·³Ù³ÝùÝ»ñáõÙ Ù³Ñí³Ý í»ñ³µ»ñÛ³É
A94: 8.7.5 | B94: Ä³é³Ý·áõÃÛáõÝÝ ÁÝ¹áõÝ»Éáõ ¨ Å³é³Ý·áõÃÛ³Ý µ³óÙ³Ý í³ÛñÇ í»ñ³µ»ñÛ³É | E94: 2 | G94: 2 | J94: 2 | L94: 2 | O94: 1 | Q94: 1 | X94: 1 | Y94: 2
A95: 8.7.6 | B95: ¸Åµ³Ëï å³ï³Ñ³ñÇ í»ñ³µ»ñÛ³É
A96: 8.7.7 | B96: Æñ³íáõÝù ë³ÑÙ³ÝáÕ ÷³ëï³ÃÕÃ»ñÇ å³ïÏ³Ý»ÉáõÃÛ³Ý í»ñ³µ»ñÛ³É | E96: 1 | G96: 1 | J96: 2 | K96: 1 | L96: 1 | O96: 2 | P96: 1 | T96: 1 | V96: 1 | Y96: 2
A97: 8.7.8 | B97: ê»÷³Ï³ÝáõÃÛ³Ý Çñ³íáõÝùáí ·áõÛùÇ ïÇñ³å»ïÙ³Ý í»ñ³µ»ñÛ³É
A98: 8.7.9 | B98: ²ÝÑ³ÕÃ³Ñ³ñ»ÉÇ áõÅÇ ³éÏ³ÛáõÃÛ³Ý í»ñ³µ»ñÛ³É
A99: 8.7.10 | B99: úñ»Ýùáí Ý³Ë³ï»ëí³Í ³ÛÉ Çñ³í³µ³Ý³Ï³Ý ÷³ëï»ñÇ í»ñ³µ»ñÛ³É | J99: 1 | K99: 1 | N99: 1
A100: 8.8 | B100: Àëï Ý»ñÏ³Û³óÝáÕÇ ¨ ûñ¹»ñ³ÛÇÝ Ïáñóñ³Í ³ñÅ»ÃÕÃ»ñáí Ñ³í³ëïí³Í Çñ³íáõÝùÝ»ñÁ í»ñ³Ï³Ý·Ý»Éáõ í»ñ³µ»ñÛ³É
...

Sheet Ս. Հովսեփյան
A1: 2017թ. | G1: Ð²ÞìºîìàôÂÚàôÜ | AM1: Հավելված Հայաստանի Հանրապետության Դատարանների նախագահների խորհրդի 29.01.2018թ. թիվ 10-Լ որոշման
A2: ºðºì²ÜÆ ²ð²´ÎÆð ºì ø²Ü²øºè-¼ºÚÂàôÜ ì²ðâ²Î²Ü Þðæ²ÜÜºðÆ ÀÜ¸Ð²Üàôð Æð²ì²êàôÂÚ²Ü ²è²æÆÜ ²îÚ²ÜÆ ¸²î²ð²ÜÆ ¸²î²ìàð | Z2: ê. ÐàìêºöÚ²ÜÆ | AH2: ¶àðÌàôÜºàôÂÚ²Ü ìºð²´ºðÚ²È
A3: ø²Ô²ø²òÆ²Î²Ü ¶àðÌºðàì
A4: ºñ¨³ÝÇ ²ñ³µÏÇñ ¨ ø³Ý³ù»é-¼»ÛÃáõÝ í³ñã³Ï³Ý ßñç³ÝÝ»ñÇ ÁÝ¹Ñ³Ýáõñ Çñ³í³ëáõÃÛ³Ý ³é³çÇÝ ³ïÛ³ÝÇ ¹³ï³ñ³ÝÇ ù³Õ³ù³óÇ³Ï³Ý Ù³ëÝ³·Çï³óáõÙ áõÝ»óáÕ ¹³ï³íáñÝ»ñÇ Ñ³ëïÇùÝ»ñÇ ù³Ý³ÏÁ` 7
E5: Ð³ßí»ïáõ Å³Ù³Ý³Ï³Ñ³ïí³ÍáõÙ Ý³Ëáñ¹ Ñ³ßí»ïáõ Å³Ù³Ý³Ï³Ñ³ïí³ÍÇó ÷áË³Ýóí³Í ·áñÍ»ñÇ ÁÝ¹Ñ³Ýáõñ ÃÇíÁ | J5: Ð³ßí»ïáõ Å³Ù³Ý³Ï³Ñ³ïí³ÍáõÙëï³óí³Í ·áñÍ»ñÇ (³Û¹ ÃíáõÙ` Ñ³Ûó³¹ÇÙáõÙÝ»ñÇ, ¹ÇÙáõÙÝ»ñÇ) ÁÝ¹Ñ³Ýáõñ ÃÇíÁ | N5: öáË³Ýóí»É ¿ ³ÛÉ ¹³ï³íáñÇ (Ï³½ÙÇ ÷á÷áËáõÃÛáõÝ) | O5: Ð³ßí»ïáõ Å³Ù³Ý³Ï³Ñ³ïí³ÍáõÙ ³í³ñïí³Í ·áñÍ»ñÇ ÁÝ¹Ñ³Ýáõñ ÃÇíÁ | Z5: ¶áñÍÝ áõÕ³ñÏí»É ¿ Áëï ÁÝ¹¹³ïáõÃÛ³Ý | AA5: Ð³ßí»ïáõ Å³Ù³Ý³Ï³Ñ³ïí³ÍáõÙ Ï³ë»óí³Í í³ñáõÛÃÝ»ñáí ·áñÍ»ñÇ ÁÝ¹Ñ³Ýáõñ ÃÇíÁ | AB5: Ð³ßí»ïáõ Å³Ù³Ý³Ï³Ñ³ïí³ÍáõÙ ³Ý³í³ñï ·áñÍ»ñÇ ÁÝ¹Ñ³Ýáõñ ÃÇíÁ | AC5: ²Û¹ ÃíáõÙª Ï³ë»óí³Í | AD5: ´áÕáù³ñÏí³Í ¹³ï³Ï³Ý ³Ïï»ñÁ | AI5: ²í³ñïí³Í ¹³ï³Ï³Ý ·áñÍ»ñÇ µáÕáù³ñÏÙ³Ý ïáÏáëÁ (Ñ³ßí»ïáõ Å³Ù³Ý³Ï³ßñç³ÝáõÙ) | AJ5: ²Ý³í³ñï µáÕáùÝ»ñ | AK5: ´»Ï³Ýí³Í ¹³ï³Ï³Ý ³Ïï»ñÁ | AP5: µ»Ï³ÝáõÙÝ»ñÇ ïáÏáëÁ ³í³ñïí³Í ·áñÍ»ñÇó(Ñ³ßí»ïáõ Å³Ù³Ý³Ï³ßñç³ÝáõÙ) | AQ5: Î³ÛáõÝáõÃÛ³Ý ïáÏáëÁ ³í³ñïí³Í ·áñÍ»ñÇó(Ñ³ßí»ïáõ Å³Ù³Ý³Ï³ßñç³ÝáõÙ) | AR5: µ»Ï³ÝáõÙÝ»ñÇ ïáÏáëÁ µáÕáù³ñÏí³Í ·áñÍ»ñÇó(Ñ³ßí»ïáõ Å³Ù³Ý³Ï³ßñç³ÝáõÙ) | AS5: Ï³ÛáõÝáõÃÛ³Ý ïáÏáëÁ(Ñ³ßí»ïáõ Å³Ù³Ý³Ï³ßñç³ÝáõÙ)
E6: ÀÝ¹³Ù»ÝÁ | F6: ²Û¹ ÃíáõÙ`Ï³ë»óí³Í íÇ×³ÏáõÙ ÷áË³Ýóí³Í | G6: ²Û¹ ÃíáõÙª ÁÝ¹áõÝí»É ¿ í³ñáõÛÃ | H6: ²Û¹ ÃíáõÙª í»ñ³¹³ñÓí»É ¿ | I6: ²Û¹ ÃíáõÙª ÁÝ¹áõÝáõÙÁ Ù»ñÅí»É ¿ | J6: ÀÝ¹³Ù»ÝÁ | K6: ²Û¹ ÃíáõÙª ÁÝ¹áõÝí»É ¿ í³ñáõÛÃ | L6: ²Û¹ ÃíáõÙª í»ñ³¹³ñÓí»É ¿ | M6: ²Û¹ ÃíáõÙª ÁÝ¹áõÝáõÙÁ Ù»ñÅí»É ¿ | O6: ÀÝ¹³Ù»ÝÁ ³í³ñïí»É »Ý ·áñÍ»ñ ·áñÍÝ Áëï ¿áõÃÛ³Ý ÉáõÍáÕ ¹³ï³Ï³Ý ³Ïï»ñÇ (í×ÇéÝ»ñÇ) Ï³Û³óÙ³Ùµ | P6: ²Û¹ ÃíáõÙª Ñ³ÛóÇ µ³í³ñ³ñÙ³Ùµ | Q6: ²Û¹ ÃíáõÙª Ñ³ÛóÇ Ù³ëÝ³ÏÇ µ³í³ñ³ñÙ³Ùµ | R6: ²Û¹ ÃíáõÙª Ñ³ÛóÇ Ù»ñÅÙ³Ùµ | S6: Ø³ëáí Ï³ñ×í»É ¿, Ù³ëáí Ù»ñÅí»É | T6: ²Û¹ ÃíáõÙª Ï³ñ×í»É »Ý | X6: Ð³ÛóÁ ÃáÕÝí»É ¿ ³é³Ýó ùÝÝáõÃÛ³Ý | Y6: ÀÝ¹³Ù»ÝÝ ³í³ñïí»É »Ý ·áñÍ»ñ | AD6: ²Û¹ ÃíáõÙ` ·áñÍÝ Áëï ¿áõÃÛ³Ý ÉáõÍáÕ ¹³ï³Ï³Ý ³Ïï»ñÁ | AE6: ²Û¹ ÃíáõÙ` ÙÇç³ÝÏÛ³É ¹³ï³Ï³Ý ³Ïï»ñÁ | AF6: ÀÝ¹³Ù»ÝÁ | AG6: Ü³Ëáñ¹ ï³ñÇÝ»ñÇÝ Ï³Û³óí³Í ³Ïï»ñÇ µáÕáù³ñÏáõÙÁ Ñ³ßí»ïáõ Å³Ù³Ý³Ï³ßñç³ÝáõÙ | AH6: Ð³ßí»ïáõ Å³Ù³Ý³Ï³ßñç³ÝáõÙ Ï³Û³óí³Í ³Ïï»ñÇ µáÕáù³ñÏáõÙÁ | AK6: ²Û¹ ÃíáõÙ` ·áñÍÝ Áëï ¿áõÃÛ³Ý ÉáõÍáÕ ¹³ï³Ï³Ý ³Ïï»ñÁ | AL6: ²Û¹ ÃíáõÙ` ÙÇç³ÝÏÛ³É ¹³ï³Ï³Ý ³Ïï»ñÁ | AM6: ÀÝ¹³Ù»ÝÁ | AN6: Ü³Ëáñ¹ ï³ñÇÝ»ñÇÝ Ï³Û³óí³Í ³Ïï»ñÇ µ»Ï³ÝáõÙÝ»ñÁ Ñ³ßí»ïáõ Å³Ù³Ý³Ï³ßñç³ÝáõÙ | AO6: Ð³ßí»ïáõ Å³Ù³Ý³Ï³ßñç³ÝáõÙ Ï³Û³óí³Í ³Ïï»ñÇ µ»Ï³ÝáõÙÁ
T7: ÀÝ¹³Ù»ÝÁ Ï³ñ×í»É »Ý | U7: ²Û¹ ÃíáõÙª Ñ³ëï³ïí»É ¿ ÏÝùí³Í Ñ³ßïáõÃÛ³Ý Ñ³Ù³Ó³ÛÝáõÃÛáõÝÁ | V7: ²Û¹ ÃíáõÙª Ñ³óÇó, ¹ÇÙáõÙÇó Ññ³Å³ñí»Éáõ ÑÇÙùáí | W7: ²Û¹ ÃíáõÙª ³ÛÉ ÑÇÙùáí
E8: 1 | F8: 2 | G8: 3 | H8: 4 | I8: 5 | J8: 6 | K8: 7 | L8: 8 | M8: 9 | N8: 10 | O8: 11 | P8: 12 | Q8: 13 | R8: 14 | S8: 15 | T8: 16 | U8: 17 | V8: 18 | W8: 19 | X8: 20 | Y8: 21 | Z8: 22 | AA8: 23 | AB8: 24 | AC8: 25 | AD8: 26 | AE8: 27 | AF8: 28 | AG8: 29 | AH8: 30 | AI8: 31 | AJ8: 32 | AK8: 33 | AL8: 34 | AM8: 35 | AN8: 36 | AO8: 37 | AP8: 38 | AQ8: 39 | AR8: 40 | AS8: 41
A9: 1. | B9: ¶áõÛù³ÛÇÝ Çñ³í³Ñ³ñ³µ»ñáõÃÛáõÝÝ»ñÇ í»ñ³µ»ñÛ³É ¹³ï³Ï³Ý ·áñÍ»ñ | E9: =SUM(E10:E28) -> 80 | F9: =SUM(F10:F28) -> 6 | G9: =SUM(G10:G28) -> 74 | H9: =SUM(H10:H28) -> 0 | I9: =SUM(I10:I28) -> 0 | J9: =SUM(J10:J28) -> 45 | K9: =SUM(K10:K28) -> 44 | L9: =SUM(L10:L28) -> 1 | ... AS9: =SUM(AS10:AS28) -> 0
A10: 1.1 | B10: ¶áõÛùÇ ÝÏ³ïÙ³Ùµ ë»÷³Ï³ÝáõÃÛ³Ý Çñ³íáõÝùÁ ×³Ý³ã»Éáõ í»ñ³µ»ñÛ³É | E10: 9 | G10: 9 | J10: 5 | K10: 5 | N10: 1 | O10: 5 | P10: 1 | R10: 1 | S10: 1 | T10: 2 | V10: 1 | W10: 1 | Y10: 5 | AA10: 1 | AB10: 8 | AC10: 1 | AD10: 2 | AF10: 2 | AH10: 2 | AJ10: 2
A11: 1.1.1 | B11: ²Û¹ ÃíáõÙª Ó»éùµ»ñÙ³Ý í³Õ»ÙáõÃÛ³Ý áõÅáí | E11: 5 | G11: 5 | J11: 1 | K11: 1 | O11: 4 | P11: 3 | R11: 1 | Y11: 4 | AA11: 1 | AB11: 2 | AC11: 1 | AD11: 2 | AF11: 2 | AH11: 2 | AJ11: 2
A12: 1.1.2 | B12: ²Û¹ ÃíáõÙª ïÇñ³½áõñÏ ·áõÛùÇ ÝÏ³ïÙ³Ùµ
A13: 1.1.3 | B13: ²Û¹ ÃíáõÙª ÇÝùÝ³Ï³Ù Ï³éáõÛóÇ ÝÏ³ïÙ³Ùµ | E13: 1 | F13: 1 | AA13: 1 | AB13: 1 | AC13: 1
A14: 1.2 | B14: ê»÷³Ï³ÝáõÃÛ³Ý Çñ³íáõÝùÇ ¹³¹³ñ»óÙ³Ý í»ñ³µ»ñÛ³É | E14: 2 | G14: 2 | J14: 1 | K14: 1 | O14: 1 | P14: 1 | Y14: 1 | AB14: 2
A15: 1.3 | B15: ¶áõÛùÇ ÝÏ³ïÙ³Ùµ û·ï³·áñÍÙ³Ý Çñ³íáõÝùÁ ×³Ý³ã»Éáõ í»ñ³µ»ñÛ³É
A16: 1.3.1 | B16: ²Û¹ ÃíáõÙª µÝ³Ïû·ï³·áñÍÙ³Ý Çñ³íáõÝùÁ ×³Ý³ã»Éáõ í»ñ³µ»ñÛ³É
A17: 1.3.2 | B17: ²Û¹ ÃíáõÙª ÑáÕ³Ù³ëÇ ÝÏ³ïÙ³Ùµ û·ï³·áñÍÙ³Ý Çñ³íáõÝùÁ ×³Ý³ã»Éáõ í»ñ³µ»ñÛ³É | J17: 1 | K17: 1 | O17: 1 | R17: 1 | Y17: 1
A18: 1.4 | B18: ¶áõÛùÇ ÝÏ³ïÙ³Ùµ û·ï³·áñÍÙ³Ý Çñ³íáõÝùÁ ¹³¹³ñ»óÝ»Éáõ í»ñ³µ»ñÛ³É
A19: 1.4.1 | B19: ²Û¹ ÃíáõÙª µÝ³Ïû·ï³·áñÍÙ³Ý Çñ³íáõÝùÁ ¹³¹³ñ»óÝ»Éáõ í»ñ³µ»ñÛ³É
A20: 1.4.1/1 | B20: ²Û¹ ÃíáõÙª ÷áËÑ³ïáõóÙ³Ùµ | E20: 1 | G20: 1 | AB20: 1
A21: 1.5 | B21: ´Ý³Ï³ñ³ÝÇó/ ï³ñ³ÍùÇó/ íï³ñ»Éáõ í»ñ³µ»ñÛ³É | E21: 5 | G21: 5 | J21: 2 | K21: 2 | O21: 5 | P21: 4 | R21: 1 | Y21: 5 | AB21: 2 | AD21: 2 | AF21: 2 | AH21: 2 | AJ21: 2
A22: 1.6 | B22: ¶áõÛùÝ áõñÇßÇ ³åûñÇÝÇ ïÇñ³å»ïáõÙÇó »ï í»ñ³¹³ñÓÝ»Éáõ í»ñ³µ»ñÛ³É | E22: 3 | G22: 3 | J22: 5 | K22: 5 | O22: 3 | P22: 1 | Q22: 1 | T22: 1 | V22: 1 | Y22: 3 | AB22: 5 | AD22: 1 | AF22: 1 | AH22: 1 | AJ22: 1
A23: 1.6.1 | B23: ´³ñ»ËÇÕ× Ó»éùµ»ñáÕÇó Çñ ·áõÛùÁ Ñ»ï å³Ñ³Ýç»Éáõ í»ñ³µ»ñÛ³É
A24: 1.7 | B24: îÇñ³å»ïáõÙÇó ½ñÏ»Éáõ Ñ»ï ãÏ³åí³Í Çñ³íáõÝùÝ»ñÇ Ë³ËïáõÙÁ í»ñ³óÝ»Éáõ í»ñ³µ»ñÛ³É | E24: 5 | G24: 5 | J24: 1 | K24: 1 | AB24: 6
A25: 1.8 | B25: ÀÝ¹Ñ³Ýáõñ µ³ÅÝ³ÛÇÝ ë»÷³Ï³ÝáõÃÛáõÝÇó µ³ÅÇÝÝ ³é³ÝÓÝ³óÝ»Éáõ í»ñ³µ»ñÛ³É | E25: 19 | F25: 1 | G25: 18 | J25: 16 | K25: 16 | O25: 2 | P25: 1 | T25: 1 | U25: 1 | Y25: 2 | AA25: 5 | AB25: 33 | AC25: 5 | AE25: 1 | AF25: 1 | AH25: 1 | AJ25: 1
A26: 1.8.1 | B26: Ð³Ù³ï»Õ ë»÷³Ï³ÝáõÃÛ³Ý Ý»ñùá ·ïÝíáÕ ·áõÛùÁ µ³Å³Ý»Éáõ ¨ ¹ñ³ÝÇó µ³ÅÇÝÝ ³é³ÝÓÝ³óÝ»Éáõ í»ñ³µ»ñÛ³É | E26: 20 | F26: 3 | G26: 17 | J26: 6 | K26: 6 | O26: 7 | P26: 2 | T26: 5 | U26: 3 | V26: 2 | Y26: 7 | AA26: 4 | AB26: 19 | AC26: 4
A27: 1.8.3 | B27: ¶áõÛùÇ íñ³ µéÝ³·³ÝÓáõÙ ï³ñ³Í»Éáõ å³Ñ³ÝçÇ Ù³ëÇÝ | E27: 1 | G27: 1 | AB27: 1
A28: 1.9 | B28: ²ÛÉ í»×»ñ | E28: 9 | F28: 1 | G28: 8 | J28: 7 | K28: 6 | L28: 1 | O28: 8 | P28: 1 | Q28: 1 | R28: 1 | T28: 5 | U28: 1 | W28: 4 | Y28: 8 | AA28: 1 | AB28: 7 | AC28: 1 | AK28: 1 | AL28: 1 | AM28: 2 | AN28: 1 | AO28: 1
A29: 2. | B29: ¶áñÍ³ñùÝ»ñÇ Ñ»ï Ï³åí³Í Çñ³í³Ñ³ñ³µ»ñáõÃÛáõÝÝ»ñÇ í»ñ³µ»ñÛ³É ¹³ï³Ï³Ý ·áñÍ»ñ | E29: =SUM(E30:E40) -> 35 | F29: =SUM(F30:F40) -> 2 | G29: =SUM(G30:G40) -> 33 | H29: =SUM(H30:H40) -> 0 | I29: =SUM(I30:I40) -> 0 | J29: =SUM(J30:J40) -> 36 | K29: =SUM(K30:K40) -> 31 | L29: =SUM(L30:L40) -> 5 | ... AS29: =SUM(AS30:AS40) -> 0
A30: 2.1 | B30: ·áñÍ³ñùÝ»ñÇ ³Ýí³í»ñáõÃÛ³Ý Ñ»ï Ï³åí³Í í»×»ñ | E30: 4 | G30: 4 | J30: 13 | K30: 12 | L30: 1 | N30: 1 | O30: 3 | P30: 1 | T30: 2 | V30: 2 | Y30: 3 | AB30: 12
A31: 2.1.1 | B31: ³Û¹ ÃíáõÙ` íÇ×³Ñ³ñáõÛó ·áñÍ³ñùÝ»ñÝ ³Ýí³í»ñ ×³Ý³ã»Éáõ í»ñ³µ»ñÛ³É
A32: 2.1.2 | B32: ³Û¹ ÃíáõÙ` ·áñÍ³ñùÇ ³éáãÝãáõÃÛ³Ý Ñ»ï¨³ÝùÝ»ñ ÏÇñ³é»Éáõ í»ñ³µ»ñÛ³É | E32: 4 | F32: 1 | G32: 3 | J32: 2 | K32: 2 | O32: 2 | R32: 1 | T32: 1 | V32: 1 | Y32: 2 | AA32: 1 | AB32: 4 | AC32: 2 | AD32: 2 | AF32: 2 | AH32: 2
A33: 2.2 | B33: ¶áñÍ³ñùÁ í³í»ñ ×³Ý³ã»Éáõ í»ñ³µ»ñÛ³É | E33: 1 | G33: 1 | J33: 1 | K33: 1 | O33: 1 | P33: 1 | Y33: 1 | AB33: 1 | AD33: 1 | AF33: 1 | AH33: 1 | AK33: 1 | AM33: 1 | AO33: 1
A34: 2.3 | B34: ¶áñÍ³ñùÇó Í³·áÕ Çñ³íáõÝùÝ»ñÁ ·ñ³Ýó»Éáõ í»ñ³µ»ñÛ³É
A35: 2.4 | B35: ä³ÛÙ³Ý³·ÇñÝ ³Ýí³í»ñ ×³Ý³ã»Éáõ í»ñ³µ»ñÛ³É | E35: 16 | G35: 16 | J35: 11 | K35: 10 | L35: 1 | O35: 9 | P35: 3 | Q35: 1 | R35: 4 | T35: 1 | U35: 1 | Y35: 9 | AB35: 17 | AD35: 1 | AF35: 1 | AH35: 1 | AJ35: 1
A36: 2.5 | B36: ä³ÛÙ³Ý³·ñÇÁ í³í»ñ ×³Ý³ã»Éáõ í»ñ³µ»ñÛ³É
A37: 2.6 | B37: ä³ÛÙ³Ý³·ñÇó Í³·áÕ Çñ³íáõÝùÝ»ñÁ ·ñ³Ýó»Éáõ í»ñ³µ»ñÛ³É
A38: 2.7 | B38: ä³ÛÙ³Ý³·ÇñÁ ÷á÷áË»Éáõ ¨ ÉáõÍ»Éáõ í»ñ³µ»ñÛ³É | E38: 3 | F38: 1 | G38: 2 | J38: 1 | K38: 1 | O38: 1 | P38: 1 | Y38: 1 | AA38: 2 | AB38: 3 | AC38: 2
A39: 2.8 | B39: ä³ÛÙ³Ý³·Çñ ÏÝù»ÉáõÝ å³ñï³íáñ»óÝ»Éáõ í»ñ³µ»ñÛ³É | E39: 1 | G39: 1 | AB39: 1
A40: 2.9 | B40: ²ÛÉ í»×»ñ | E40: 6 | G40: 6 | J40: 8 | K40: 5 | L40: 3 | AB40: 11
A41: 3. | B41: Ä³é³Ý·áõÃÛ³Ý Ñ»ï Ï³åí³Í Çñ³í³Ñ³ñ³µ»ñáõÃÛáõÝÝ»ñÇ í»ñ³µ»ñÛ³É ¹³ï³Ï³Ý ·áñÍ»ñ | E41: =SUM(E42:E48) -> 8 | F41: =SUM(F42:F48) -> 0 | G41: =SUM(G42:G48) -> 8 | H41: =SUM(H42:H48) -> 0 | I41: =SUM(I42:I48) -> 0 | J41: =SUM(J42:J48) -> 16 | K41: =SUM(K42:K48) -> 15 | L41: =SUM(L42:L48) -> 1 | ... AS41: =SUM(AS42:AS48) -> 0
A42: 3.1 | B42: Îï³ÏÝ ³Ýí³í»ñ ×³Ý³ã»Éáõ í»ñ³µ»ñÛ³É
A43: 3.2 | B43: ²Ý³ñÅ³Ý Å³é³Ý· ×³Ý³ã»Éáõ í»ñ³µ»ñÛ³É
A44: 3.3 | B44: Ä³é³Ý·áõÃÛáõÝÁ µ³Å³Ý»Éáõ í»ñ³µ»ñÛ³É
A45: 3.4 | B45: ¶áõÛùÝ ³ÝÅ³é³Ý· ×³Ý³ã»Éáõ í»ñ³µ»ñÛ³É
A46: 3.5 | B46: Àëï ûñ»ÝùÇ Å³é³Ý·áõÃÛ³Ý Çñ³íáõÝùÇ íÏ³Û³·ÇñÝ ³Ýí³í»ñ ×³Ý³ã»Éáõ í»ñ³µ»ñÛ³É | J46: 3 | K46: 2 | L46: 1 | AB46: 2
A47: 3.6 | B47: Ä³é³Ý·áõÃÛáõÝÝ ÁÝ¹áõÝ»Éáõ µ³ó ÃáÕÝí³Í Å³ÙÏ»ïÁ Ñ³ñ·»ÉÇ Ñ³Ù³ñ»Éáõ í»ñ³µ»ñÛ³É | E47: 2 | G47: 2 | O47: 2 | T47: 2 | V47: 2 | Y47: 2
A48: 3.7 | B48: ²ÛÉ í»×»ñ | E48: 6 | G48: 6 | J48: 13 | K48: 13 | O48: 6 | P48: 5 | T48: 1 | U48: 1 | Y48: 6 | AB48: 13
A49: 4 | B49: ÀÝï³Ý»Ï³Ý Çñ³í³Ñ³ñ³µ»ñáõÃÛáõÝÝ»ñÇ í»ñ³µ»ñÛ³É ¹³ï³Ï³Ý ·áñÍ»ñ | E49: =SUM(E50:E62) -> 24 | F49: =SUM(F50:F62) -> 3 | G49: =SUM(G50:G62) -> 21 | H49: =SUM(H50:H62) -> 0 | I49: =SUM(I50:I62) -> 0 | J49: =SUM(J50:J62) -> 47 | K49: =SUM(K50:K62) -> 44 | L49: =SUM(L50:L62) -> 3 | ... AS49: =SUM(AS50:AS62) -> 0
A50: 4.1 | B50: ²ÙáõëÝ³ÉáõÍáõÃÛ³Ý í»ñ³µ»ñÛ³É | E50: 8 | F50: 2 | G50: 6 | J50: 18 | K50: 16 | L50: 2 | O50: 13 | P50: 7 | R50: 1 | T50: 5 | U50: 1 | V50: 4 | Y50: 13 | AB50: 11 | AC50: 2 | AD50: 2 | AF50: 2 | AH50: 2 | AK50: 1 | AL50: 1 | AM50: 2 | AN50: 1 | AO50: 1
A51: 4.2 | B51: ²ÉÇÙ»ÝïÇ å³Ñ³ÝçÇ í»ñ³µ»ñÛ³É | E51: 2 | G51: 2 | J51: 14 | K51: 13 | L51: 1 | O51: 5 | P51: 2 | T51: 3 | U51: 1 | V51: 2 | Y51: 5 | AB51: 10 | AD51: 1 | AF51: 1 | AH51: 1
A52: 4.3 | B52: ²ÉÇÙ»ÝïÇ ã³÷Á ÷á÷áË»Éáõ í»ñ³µ»ñÛ³É | E52: 2 | G52: 2 | J52: 3 | K52: 3 | O52: 2 | P52: 1 | T52: 1 | U52: 1 | Y52: 2 | AB52: 3 | AD52: 1 | AF52: 1 | AH52: 1
A53: 4.4 | B53: ÌÝáÕ³Ï³Ý Çñ³íáõÝùÝ»ñÇó ½ñÏ»Éáõ í»ñ³µ»ñÛ³É | J53: 2 | K53: 2 | AB53: 2
A54: 4.5 | B54: ÌÝáÕ³Ï³Ý Çñ³íáõÝùÝ»ñÁ í»ñ³Ï³Ý·Ý»Éáõ í»ñ³µ»ñÛ³É
A55: 4.6 | B55: ºñ»Ë³ÛÇ áñ¹»·ñÙ³Ý í»ñ³µ»ñÛ³É | J55: 1 | K55: 1 | O55: 1 | P55: 1 | Y55: 1
A56: 4.7 | B56: ºñ»Ë³ÛÇ áñ¹»·ñáõÙÁ í»ñ³óÝ»Éáõ í»ñ³µ»ñÛ³É
A57: 4.8 | B57: Ð³ÛñáõÃÛáõÝÁ ×³Ý³ã»Éáõ í»ñ³µ»ñÛ³É | E57: 1 | G57: 1 | J57: 2 | K57: 2 | O57: 1 | P57: 1 | Y57: 1 | AB57: 2
A58: 4.9 | B58: ºñ»Ë³ÛÇ µÝ³ÏáõÃÛ³Ý í³ÛñÁ áñáß»Éáõ í»ñ³µ»ñÛ³É | E58: 1 | G58: 1 | J58: 3 | K58: 3 | O58: 2 | P58: 2 | Y58: 2 | AB58: 2
A59: 4.10 | B59: ºñ»Ë³ÛÇ Ñ»ï ï»ë³ÏóáõÃÛ³Ý Ï³ñ· ë³ÑÙ³Ý»Éáõ í»ñ³µ»ñÛ³É | E59: 4 | G59: 4 | J59: 2 | K59: 2 | O59: 2 | P59: 2 | Y59: 2 | AA59: 1 | AB59: 4 | AC59: 1
A60: 4.11 | B60: ²ÙáõëÇÝÝ»ñÇ ÁÝ¹Ñ³Ýáõñ ·áõÛùÁ µ³Å³Ý»Éáõ í»ñ³µ»ñÛ³É | E60: 3 | F60: 1 | G60: 2 | J60: 1 | K60: 1 | O60: 1 | P60: 1 | Y60: 1 | AB60: 3 | AC60: 1
A61: 4.12 | B61: ²ÙáõëÝ³Ï³Ý å³ÛÙ³Ý³·ñÇ ÷á÷áËÙ³Ý Ï³Ù ÉáõÍÙ³Ý í»ñ³µ»ñÛ³É
A62: 4.13 | B62: ²ÛÉ í»×»ñ | E62: 3 | G62: 3 | J62: 1 | K62: 1 | O62: 2 | P62: 1 | T62: 1 | V62: 1 | Y62: 2 | AB62: 2 | AE62: 1 | AF62: 1 | AH62: 1 | AJ62: 1
A63: 5. | B63: Øï³íáñ ë»÷³Ï³ÝáõÃÛ³Ý Ñ»ï Ï³åí³ÍÇñ³í³Ñ³ñ³µ»ñáõÃÛáõÝÝ»ñÇ í»ñ³µ»ñÛ³É ¹³ï³Ï³Ý ·áñÍ»ñ | E63: =SUM(E64:E69) -> 0 | F63: =SUM(F64:F69) -> 0 | G63: =SUM(G64:G69) -> 0 | H63: =SUM(H64:H69) -> 0 | I63: =SUM(I64:I69) -> 0 | J63: =SUM(J64:J69) -> 0 | K63: =SUM(K64:K69) -> 0 | L63: =SUM(L64:L69) -> 0 | ... AS63: =SUM(AS64:AS69) -> 0
A64: 5.1 | B64: ÈÇó»Ý½³ÛÇÝ å³ÛÙ³Ý³·ñÇ ÉáõÍÙ³Ý, ÷á÷áËÙ³Ý ¨ ³Ýí³í»ñáõÃÛ³Ý í»ñ³µ»ñÛ³É
A65: 5.2 | B65: Øï³íáñ ·áñÍáõÝ»áõÃÛ³Ý ³ñ¹ÛáõÝùÝ»ñ ëï»ÕÍ»Éáõ ¨ û·ï³·áñÍ»Éáõ å³ÛÙ³Ý³·ñÇ ÉáõÍÙ³Ý, ÷á÷áËÙ³Ý áõ ³Ýí³í»ñáõÃÛ³Ý í»ñ³µ»ñÛ³É
A66: 5.3 | B66: Ð»ÕÇÝ³Ï³ÛÇÝ ¨ Ñ³ñ³ÏÇó Çñ³íáõÝùÝ»ñÇ í»ñ³µ»ñÛ³É
A67: 5.4 | B67: üÇñÙ³ÛÇÝ ³Ýí³ÝÙ³Ý í»ñ³µ»ñÛ³É
A68: 5.5 | B68: ²åñ³Ýù³ÛÇÝ Ýß³ÝÇ í»ñ³µ»ñÛ³É
A69: 5.6 | B69: ²ÛÉ í»×»ñ
A70: 6. | B70: ²ßË³ï³Ýù³ÛÇÝ Çñ³í³Ñ³ñ³µ»ñáõÃÛáõÝÝ»ñÇ í»ñ³µ»ñÛ³É ¹³ï³Ï³Ý ·áñÍ»ñ | E70: =SUM(E71:E76) -> 2 | F70: =SUM(F71:F76) -> 0 | G70: =SUM(G71:G76) -> 2 | H70: =SUM(H71:H76) -> 0 | I70: =SUM(I71:I76) -> 0 | J70: =SUM(J71:J76) -> 1 | K70: =SUM(K71:K76) -> 1 | L70: =SUM(L71:L76) -> 0 | ... AS70: =SUM(AS71:AS76) -> 0
A71: 6.1 | B71: ²ßË³ï³Ýù³ÛÇÝ å³ÛÙ³Ý³·ñ»ñÇ í»ñ³µ»ñÛ³É | E71: 1 | G71: 1 | O71: 1 | P71: 1 | Y71: 1 | AD71: 1 | AF71: 1 | AH71: 1 | AJ71: 1
A72: 6.2 | B72: ²ßË³ï³ÝùáõÙ í»ñ³Ï³Ý·Ý»Éáõ í»ñ³µ»ñÛ³É
A73: 6.3 | B73: ¶áñÍ³¹áõÉÝ ³ÝûñÇÝ³Ï³Ý ×³Ý³ã»Éáõ í»ñ³µ»ñÛ³É
A74: 6.4 | B74: Ð³ñÏ³¹Çñ å³ñ³åáõñ¹Ç Ñ³ïáõóÙ³Ý í»ñ³µ»ñÛ³É
A75: 6.5 | B75: âí×³ñí³Í ³ßË³ï³í³ñÓÇ ¨/Ï³Ù ³ÛÉ í×³ñÝ»ñÇ µéÝ³·³ÝÓÙ³Ý í»ñ³µ»ñÛ³É
A76: 6.6 | B76: ²ÛÉ í»×»ñ | E76: 1 | G76: 1 | J76: 1 | K76: 1 | O76: 1 | T76: 1 | W76: 1 | Y76: 1 | AB76: 1
A77: 7. | B77: Æñ³í³µ³Ý³Ï³Ý ³ÝÓÇ ·áñÍáõÝ»áõÃÛáõÝÇó µËáÕ Çñ³í³Ñ³ñ³µ»ñáõÃÛáõÝÝ»ñÇ í»ñ³µ»ñÛ³É ¹³ï³Ï³Ý ·áñÍ»ñ | E77: =SUM(E78:E79) -> 1 | F77: =SUM(F78:F79) -> 0 | G77: =SUM(G78:G79) -> 1 | H77: =SUM(H78:H79) -> 0 | I77: =SUM(I78:I79) -> 0 | J77: =SUM(J78:J79) -> 1 | K77: =SUM(K78:K79) -> 1 | L77: =SUM(L78:L79) -> 0 | ... AS77: =SUM(AS78:AS79) -> 0
A78: 7.1 | B78: Îáñåáñ³ïÇí í»×»ñ
A79: 7.2 | B79: ²ÛÉ í»×»ñ | E79: 1 | G79: 1 | J79: 1 | K79: 1 | AB79: 2
A80: 8. | B80: Ð³ïáõÏ í³ñáõÛÃÇ ¹³ï³Ï³Ý ·áñÍ»ñ | E80: =SUM(E81:E101) -> 14 | F80: =SUM(F81:F101) -> 0 | G80: =SUM(G81:G101) -> 14 | H80: =SUM(H81:H101) -> 0 | I80: =SUM(I81:I101) -> 0 | J80: =SUM(J81:J101) -> 25 | K80: =SUM(K81:K101) -> 24 | L80: =SUM(L81:L101) -> 1 | ... AS80: =SUM(AS81:AS101) -> 0
A81: 8.1 | B81: ²Ýã³÷³Ñ³ëÇÝ ÉñÇí ·áñÍáõÝ³Ï ×³Ý³ã»Éáõ /¿Ù³ÝëÇå³óÇ³/ í»ñ³µ»ñÛ³É
A82: 8.2 | B82: ø³Õ³ù³óáõÝ ³Ý·áñÍáõÝ³Ï Ï³Ù ë³ÑÙ³Ý³÷³Ï ·áñÍáõÝ³Ï ×³Ý³ã»Éáõ í»ñ³µ»ñÛ³É | E82: 2 | G82: 2 | J82: 7 | K82: 7 | AA82: 2 | AB82: 9 | AC82: 2
A83: 8.3 | B83: ø³Õ³ù³óáõÝ Ñá·»µáõÅ³Ï³Ý ÑÇí³Ý¹³Ýáó³ÛÇÝ Ñ³ñÏ³¹Çñ µáõÅÙ³Ý »ÝÃ³ñÏ»Éáõ í»ñ³µ»ñÛ³É
A84: 8.4 | B84: ø³Õ³ù³óáõÝ ³ÝÑ³Ûï µ³ó³Ï³ÛáÕ Ï³Ù Ù³Ñ³ó³Í ×³Ý³ã»Éáõ í»ñ³µ»ñÛ³É | E84: 1 | G84: 1 | J84: 2 | K84: 2 | O84: 2 | P84: 1 | T84: 1 | V84: 1 | Y84: 2 | AB84: 1
A85: 8.5 | B85: ø³Õ³ù³óÇ³Ï³Ý Ï³óáõÃÛ³Ý ³Ïï»ñÇ ·ñ³éáõÙÝ»ñÇ ³Ý×ßïáõÃÛáõÝÝ»ñÁ å³ñ½»Éáõ í»ñ³µ»ñÛ³É
A86: 8.6 | B86: ¶áõÛùÁ ïÇñ³½áõñÏ ×³Ý³ã»Éáõ í»ñ³µ»ñÛ³É | E86: 1 | G86: 1 | J86: 2 | K86: 2 | O86: 2 | T86: 2 | V86: 2 | Y86: 2 | AA86: 1 | AB86: 1 | AC86: 1
A87: 8.6.1 | B87: ²Û¹ ÃíáõÙª ³Ýß³ñÅ ·áõÛùÁ
A88: 8.6.2 | B88: ²Û¹ ÃíáõÙª ß³ñÅ³Ï³Ý ·áõÛùÁ
A89: 8.7 | B89: Æñ³í³µ³Ý³Ï³Ý Ýß³Ý³ÏáõÃÛáõÝ áõÝ»óáÕ ÷³ëï»ñÇ Ñ³ëï³ïÙ³Ý í»ñ³µ»ñÛ³É | E89: 5 | G89: 5 | J89: 11 | K89: 10 | L89: 1 | O89: 9 | P89: 8 | T89: 1 | V89: 1 | Y89: 9 | AB89: 6
A90: 8.7.1 | B90: ²ÝÓ³Ýó ³½·³Ïó³Ï³Ý Ï³åÁ Ñ³ëï³ï»Éáõ í»ñ³µ»ñÛ³É | E90: 1 | G90: 1 | J90: 1 | K90: 1 | AB90: 2
A91: 8.7.2 | B91: ²ÝÓÇª áõñÇßÇ ËÝ³ÙùÇ ï³Ï ·ïÝí»Éáõ í»ñ³µ»ñÛ³É
A92: 8.7.3 | B92: ÌÝÝ¹Û³Ý, áñ¹»·ñÙ³Ý, ³ÙáõëÝáõÃÛ³Ý, ³å³Ñ³ñ½³ÝÇ ¨ Ù³Ñí³Ý ·ñ³ÝóÙ³Ý í»ñ³µ»ñÛ³É
A93: 8.7.4 | B93: ²ÝÓÇª áñáß³ÏÇ Å³Ù³Ý³ÏáõÙ ¨ áñáß³ÏÇ Ñ³Ý·³Ù³ÝùÝ»ñáõÙ Ù³Ñí³Ý í»ñ³µ»ñÛ³É
A94: 8.7.5 | B94: Ä³é³Ý·áõÃÛáõÝÝ ÁÝ¹áõÝ»Éáõ ¨ Å³é³Ý·áõÃÛ³Ý µ³óÙ³Ý í³ÛñÇ í»ñ³µ»ñÛ³É
A95: 8.7.6 | B95: ¸Åµ³Ëï å³ï³Ñ³ñÇ í»ñ³µ»ñÛ³É
A96: 8.7.7 | B96: Æñ³íáõÝù ë³ÑÙ³ÝáÕ ÷³ëï³ÃÕÃ»ñÇ å³ïÏ³Ý»ÉáõÃÛ³Ý í»ñ³µ»ñÛ³É | E96: 2 | G96: 2 | J96: 2 | K96: 2 | O96: 2 | P96: 2 | Y96: 2 | AB96: 2
A97: 8.7.8 | B97: ê»÷³Ï³ÝáõÃÛ³Ý Çñ³íáõÝùáí ·áõÛùÇ ïÇñ³å»ïÙ³Ý í»ñ³µ»ñÛ³É | AD97: 1 | AF97: 1 | AH97: 1 | AK97: 1 | AM97: 1 | AO97: 1
A98: 8.7.9 | B98: ²ÝÑ³ÕÃ³Ñ³ñ»ÉÇ áõÅÇ ³éÏ³ÛáõÃÛ³Ý í»ñ³µ»ñÛ³É
A99: 8.7.10 | B99: úñ»Ýùáí Ý³Ë³ï»ëí³Í ³ÛÉ Çñ³í³µ³Ý³Ï³Ý ÷³ëï»ñÇ í»ñ³µ»ñÛ³É | E99: 2 | G99: 2 | N99: 1 | O99: 1 | P99: 1 | Y99: 1
A100: 8.8 | B100: Àëï Ý»ñÏ³Û³óÝáÕÇ ¨ ûñ¹»ñ³ÛÇÝ Ïáñóñ³Í ³ñÅ»ÃÕÃ»ñáí Ñ³í³ëïí³Í Çñ³íáõÝùÝ»ñÁ í»ñ³Ï³Ý·Ý»Éáõ í»ñ³µ»ñÛ³É
...

Sheet Հ. Շահնազարյան
A1: 2017թ. | G1: Ð²ÞìºîìàôÂÚàôÜ | AM1: Հավելված Հայաստանի Հանրապետության Դատարանների նախագահների խորհրդի 29.01.2018թ. թիվ 10-Լ որոշման
A2: ºðºì²ÜÆ ²ð²´ÎÆð ºì ø²Ü²øºè-¼ºÚÂàôÜ ì²ðâ²Î²Ü Þðæ²ÜÜºðÆ ÀÜ¸Ð²Üàôð Æð²ì²êàôÂÚ²Ü ²è²æÆÜ ²îÚ²ÜÆ ¸²î²ð²ÜÆ ¸²î²ìàð | Z2: Ð. Þ²ÐÜ²¼²ðÚ²ÜÆ | AH2: ¶àðÌàôÜºàôÂÚ²Ü ìºð²´ºðÚ²È
A3: ø²Ô²ø²òÆ²Î²Ü ¶àðÌºðàì
A4: ºñ¨³ÝÇ ²ñ³µÏÇñ ¨ ø³Ý³ù»é-¼»ÛÃáõÝ í³ñã³Ï³Ý ßñç³ÝÝ»ñÇ ÁÝ¹Ñ³Ýáõñ Çñ³í³ëáõÃÛ³Ý ³é³çÇÝ ³ïÛ³ÝÇ ¹³ï³ñ³ÝÇ ù³Õ³ù³óÇ³Ï³Ý Ù³ëÝ³·Çï³óáõÙ áõÝ»óáÕ ¹³ï³íáñÝ»ñÇ Ñ³ëïÇùÝ»ñÇ ù³Ý³ÏÁ` 7
E5: Ð³ßí»ïáõ Å³Ù³Ý³Ï³Ñ³ïí³ÍáõÙ Ý³Ëáñ¹ Ñ³ßí»ïáõ Å³Ù³Ý³Ï³Ñ³ïí³ÍÇó ÷áË³Ýóí³Í ·áñÍ»ñÇ ÁÝ¹Ñ³Ýáõñ ÃÇíÁ | J5: Ð³ßí»ïáõ Å³Ù³Ý³Ï³Ñ³ïí³ÍáõÙëï³óí³Í ·áñÍ»ñÇ (³Û¹ ÃíáõÙ` Ñ³Ûó³¹ÇÙáõÙÝ»ñÇ, ¹ÇÙáõÙÝ»ñÇ) ÁÝ¹Ñ³Ýáõñ ÃÇíÁ | N5: öáË³Ýóí»É ¿ ³ÛÉ ¹³ï³íáñÇ (Ï³½ÙÇ ÷á÷áËáõÃÛáõÝ) | O5: Ð³ßí»ïáõ Å³Ù³Ý³Ï³Ñ³ïí³ÍáõÙ ³í³ñïí³Í ·áñÍ»ñÇ ÁÝ¹Ñ³Ýáõñ ÃÇíÁ | Z5: ¶áñÍÝ áõÕ³ñÏí»É ¿ Áëï ÁÝ¹¹³ïáõÃÛ³Ý | AA5: Ð³ßí»ïáõ Å³Ù³Ý³Ï³Ñ³ïí³ÍáõÙ Ï³ë»óí³Í í³ñáõÛÃÝ»ñáí ·áñÍ»ñÇ ÁÝ¹Ñ³Ýáõñ ÃÇíÁ | AB5: Ð³ßí»ïáõ Å³Ù³Ý³Ï³Ñ³ïí³ÍáõÙ ³Ý³í³ñï ·áñÍ»ñÇ ÁÝ¹Ñ³Ýáõñ ÃÇíÁ | AC5: ²Û¹ ÃíáõÙª Ï³ë»óí³Í | AD5: ´áÕáù³ñÏí³Í ¹³ï³Ï³Ý ³Ïï»ñÁ | AI5: ²í³ñïí³Í ¹³ï³Ï³Ý ·áñÍ»ñÇ µáÕáù³ñÏÙ³Ý ïáÏáëÁ (Ñ³ßí»ïáõ Å³Ù³Ý³Ï³ßñç³ÝáõÙ) | AJ5: ²Ý³í³ñï µáÕáùÝ»ñ | AK5: ´»Ï³Ýí³Í ¹³ï³Ï³Ý ³Ïï»ñÁ | AP5: µ»Ï³ÝáõÙÝ»ñÇ ïáÏáëÁ ³í³ñïí³Í ·áñÍ»ñÇó(Ñ³ßí»ïáõ Å³Ù³Ý³Ï³ßñç³ÝáõÙ) | AQ5: Î³ÛáõÝáõÃÛ³Ý ïáÏáëÁ ³í³ñïí³Í ·áñÍ»ñÇó(Ñ³ßí»ïáõ Å³Ù³Ý³Ï³ßñç³ÝáõÙ) | AR5: µ»Ï³ÝáõÙÝ»ñÇ ïáÏáëÁ µáÕáù³ñÏí³Í ·áñÍ»ñÇó(Ñ³ßí»ïáõ Å³Ù³Ý³Ï³ßñç³ÝáõÙ) | AS5: Ï³ÛáõÝáõÃÛ³Ý ïáÏáëÁ(Ñ³ßí»ïáõ Å³Ù³Ý³Ï³ßñç³ÝáõÙ)
E6: ÀÝ¹³Ù»ÝÁ | F6: ²Û¹ ÃíáõÙ`Ï³ë»óí³Í íÇ×³ÏáõÙ ÷áË³Ýóí³Í | G6: ²Û¹ ÃíáõÙª ÁÝ¹áõÝí»É ¿ í³ñáõÛÃ | H6: ²Û¹ ÃíáõÙª í»ñ³¹³ñÓí»É ¿ | I6: ²Û¹ ÃíáõÙª ÁÝ¹áõÝáõÙÁ Ù»ñÅí»É ¿ | J6: ÀÝ¹³Ù»ÝÁ | K6: ²Û¹ ÃíáõÙª ÁÝ¹áõÝí»É ¿ í³ñáõÛÃ | L6: ²Û¹ ÃíáõÙª í»ñ³¹³ñÓí»É ¿ | M6: ²Û¹ ÃíáõÙª ÁÝ¹áõÝáõÙÁ Ù»ñÅí»É ¿ | O6: ÀÝ¹³Ù»ÝÁ ³í³ñïí»É »Ý ·áñÍ»ñ ·áñÍÝ Áëï ¿áõÃÛ³Ý ÉáõÍáÕ ¹³ï³Ï³Ý ³Ïï»ñÇ (í×ÇéÝ»ñÇ) Ï³Û³óÙ³Ùµ | P6: ²Û¹ ÃíáõÙª Ñ³ÛóÇ µ³í³ñ³ñÙ³Ùµ | Q6: ²Û¹ ÃíáõÙª Ñ³ÛóÇ Ù³ëÝ³ÏÇ µ³í³ñ³ñÙ³Ùµ | R6: ²Û¹ ÃíáõÙª Ñ³ÛóÇ Ù»ñÅÙ³Ùµ | S6: Ø³ëáí Ï³ñ×í»É ¿, Ù³ëáí Ù»ñÅí»É | T6: ²Û¹ ÃíáõÙª Ï³ñ×í»É »Ý | X6: Ð³ÛóÁ ÃáÕÝí»É ¿ ³é³Ýó ùÝÝáõÃÛ³Ý | Y6: ÀÝ¹³Ù»ÝÝ ³í³ñïí»É »Ý ·áñÍ»ñ | AD6: ²Û¹ ÃíáõÙ` ·áñÍÝ Áëï ¿áõÃÛ³Ý ÉáõÍáÕ ¹³ï³Ï³Ý ³Ïï»ñÁ | AE6: ²Û¹ ÃíáõÙ` ÙÇç³ÝÏÛ³É ¹³ï³Ï³Ý ³Ïï»ñÁ | AF6: ÀÝ¹³Ù»ÝÁ | AG6: Ü³Ëáñ¹ ï³ñÇÝ»ñÇÝ Ï³Û³óí³Í ³Ïï»ñÇ µáÕáù³ñÏáõÙÁ Ñ³ßí»ïáõ Å³Ù³Ý³Ï³ßñç³ÝáõÙ | AH6: Ð³ßí»ïáõ Å³Ù³Ý³Ï³ßñç³ÝáõÙ Ï³Û³óí³Í ³Ïï»ñÇ µáÕáù³ñÏáõÙÁ | AK6: ²Û¹ ÃíáõÙ` ·áñÍÝ Áëï ¿áõÃÛ³Ý ÉáõÍáÕ ¹³ï³Ï³Ý ³Ïï»ñÁ | AL6: ²Û¹ ÃíáõÙ` ÙÇç³ÝÏÛ³É ¹³ï³Ï³Ý ³Ïï»ñÁ | AM6: ÀÝ¹³Ù»ÝÁ | AN6: Ü³Ëáñ¹ ï³ñÇÝ»ñÇÝ Ï³Û³óí³Í ³Ïï»ñÇ µ»Ï³ÝáõÙÝ»ñÁ Ñ³ßí»ïáõ Å³Ù³Ý³Ï³ßñç³ÝáõÙ | AO6: Ð³ßí»ïáõ Å³Ù³Ý³Ï³ßñç³ÝáõÙ Ï³Û³óí³Í ³Ïï»ñÇ µ»Ï³ÝáõÙÁ
T7: ÀÝ¹³Ù»ÝÁ Ï³ñ×í»É »Ý | U7: ²Û¹ ÃíáõÙª Ñ³ëï³ïí»É ¿ ÏÝùí³Í Ñ³ßïáõÃÛ³Ý Ñ³Ù³Ó³ÛÝáõÃÛáõÝÁ | V7: ²Û¹ ÃíáõÙª Ñ³óÇó, ¹ÇÙáõÙÇó Ññ³Å³ñí»Éáõ ÑÇÙùáí | W7: ²Û¹ ÃíáõÙª ³ÛÉ ÑÇÙùáí
E8: 1 | F8: 2 | G8: 3 | H8: 4 | I8: 5 | J8: 6 | K8: 7 | L8: 8 | M8: 9 | N8: 10 | O8: 11 | P8: 12 | Q8: 13 | R8: 14 | S8: 15 | T8: 16 | U8: 17 | V8: 18 | W8: 19 | X8: 20 | Y8: 21 | Z8: 22 | AA8: 23 | AB8: 24 | AC8: 25 | AD8: 26 | AE8: 27 | AF8: 28 | AG8: 29 | AH8: 30 | AI8: 31 | AJ8: 32 | AK8: 33 | AL8: 34 | AM8: 35 | AN8: 36 | AO8: 37 | AP8: 38 | AQ8: 39 | AR8: 40 | AS8: 41
A9: 1. | B9: ¶áõÛù³ÛÇÝ Çñ³í³Ñ³ñ³µ»ñáõÃÛáõÝÝ»ñÇ í»ñ³µ»ñÛ³É ¹³ï³Ï³Ý ·áñÍ»ñ | E9: =SUM(E10:E28) -> 57 | F9: =SUM(F10:F28) -> 7 | G9: =SUM(G10:G28) -> 50 | H9: =SUM(H10:H28) -> 0 | I9: =SUM(I10:I28) -> 0 | J9: =SUM(J10:J28) -> 44 | K9: =SUM(K10:K28) -> 34 | L9: =SUM(L10:L28) -> 10 | ... AS9: =SUM(AS10:AS28) -> 0
A10: 1.1 | B10: ¶áõÛùÇ ÝÏ³ïÙ³Ùµ ë»÷³Ï³ÝáõÃÛ³Ý Çñ³íáõÝùÁ ×³Ý³ã»Éáõ í»ñ³µ»ñÛ³É | E10: 4 | G10: 4 | J10: 3 | K10: 3 | O10: 5 | Q10: 1 | R10: 3 | T10: 1 | V10: 1 | X10: 1 | Y10: 6 | AA10: 2 | AB10: 2 | AC10: 2 | AD10: 2 | AF10: 2 | AG10: 1 | AH10: 1 | AJ10: 1 | AL10: 1 | AM10: 1 | AN10: 1
A11: 1.1.1 | B11: ²Û¹ ÃíáõÙª Ó»éùµ»ñÙ³Ý í³Õ»ÙáõÃÛ³Ý áõÅáí | E11: 7 | G11: 7 | J11: 4 | K11: 3 | L11: 1 | O11: 7 | P11: 1 | Q11: 2 | R11: 2 | T11: 2 | V11: 2 | Y11: 7 | AB11: 3 | AD11: 1 | AF11: 1 | AH11: 1 | AJ11: 1
A12: 1.1.2 | B12: ²Û¹ ÃíáõÙª ïÇñ³½áõñÏ ·áõÛùÇ ÝÏ³ïÙ³Ùµ
A13: 1.1.3 | B13: ²Û¹ ÃíáõÙª ÇÝùÝ³Ï³Ù Ï³éáõÛóÇ ÝÏ³ïÙ³Ùµ
A14: 1.2 | B14: ê»÷³Ï³ÝáõÃÛ³Ý Çñ³íáõÝùÇ ¹³¹³ñ»óÙ³Ý í»ñ³µ»ñÛ³É | E14: 1 | G14: 1
A15: 1.3 | B15: ¶áõÛùÇ ÝÏ³ïÙ³Ùµ û·ï³·áñÍÙ³Ý Çñ³íáõÝùÁ ×³Ý³ã»Éáõ í»ñ³µ»ñÛ³É | J15: 1 | K15: 1 | AB15: 1
A16: 1.3.1 | B16: ²Û¹ ÃíáõÙª µÝ³Ïû·ï³·áñÍÙ³Ý Çñ³íáõÝùÁ ×³Ý³ã»Éáõ í»ñ³µ»ñÛ³É
A17: 1.3.2 | B17: ²Û¹ ÃíáõÙª ÑáÕ³Ù³ëÇ ÝÏ³ïÙ³Ùµ û·ï³·áñÍÙ³Ý Çñ³íáõÝùÁ ×³Ý³ã»Éáõ í»ñ³µ»ñÛ³É
A18: 1.4 | B18: ¶áõÛùÇ ÝÏ³ïÙ³Ùµ û·ï³·áñÍÙ³Ý Çñ³íáõÝùÁ ¹³¹³ñ»óÝ»Éáõ í»ñ³µ»ñÛ³É
A19: 1.4.1 | B19: ²Û¹ ÃíáõÙª µÝ³Ïû·ï³·áñÍÙ³Ý Çñ³íáõÝùÁ ¹³¹³ñ»óÝ»Éáõ í»ñ³µ»ñÛ³É
A20: 1.4.1/1 | B20: ²Û¹ ÃíáõÙª ÷áËÑ³ïáõóÙ³Ùµ | J20: 3 | K20: 2 | L20: 1 | AB20: 2
A21: 1.5 | B21: ´Ý³Ï³ñ³ÝÇó/ ï³ñ³ÍùÇó/ íï³ñ»Éáõ í»ñ³µ»ñÛ³É | E21: 6 | G21: 6 | J21: 1 | K21: 1 | O21: 4 | P21: 4 | Y21: 4 | AA21: 1 | AB21: 2 | AC21: 1 | AD21: 3 | AF21: 3 | AH21: 3 | AJ21: 2
A22: 1.6 | B22: ¶áõÛùÝ áõñÇßÇ ³åûñÇÝÇ ïÇñ³å»ïáõÙÇó »ï í»ñ³¹³ñÓÝ»Éáõ í»ñ³µ»ñÛ³É | E22: 6 | F22: 1 | G22: 5 | J22: 7 | K22: 5 | L22: 2 | O22: 3 | P22: 2 | R22: 1 | Y22: 3 | AA22: 2 | AB22: 8 | AC22: 2 | AD22: 1 | AF22: 1 | AH22: 1 | AK22: 1 | AM22: 1 | AO22: 1
A23: 1.6.1 | B23: ´³ñ»ËÇÕ× Ó»éùµ»ñáÕÇó Çñ ·áõÛùÁ Ñ»ï å³Ñ³Ýç»Éáõ í»ñ³µ»ñÛ³É
A24: 1.7 | B24: îÇñ³å»ïáõÙÇó ½ñÏ»Éáõ Ñ»ï ãÏ³åí³Í Çñ³íáõÝùÝ»ñÇ Ë³ËïáõÙÁ í»ñ³óÝ»Éáõ í»ñ³µ»ñÛ³É | E24: 4 | G24: 4 | J24: 3 | K24: 1 | L24: 2 | O24: 2 | R24: 2 | Y24: 2 | AA24: 1 | AB24: 3 | AC24: 1 | AE24: 1 | AF24: 1 | AH24: 1 | AL24: 1 | AM24: 1 | AO24: 1
A25: 1.8 | B25: ÀÝ¹Ñ³Ýáõñ µ³ÅÝ³ÛÇÝ ë»÷³Ï³ÝáõÃÛáõÝÇó µ³ÅÇÝÝ ³é³ÝÓÝ³óÝ»Éáõ í»ñ³µ»ñÛ³É | E25: 15 | F25: 4 | G25: 11 | J25: 13 | K25: 12 | L25: 1 | O25: 11 | P25: 3 | Q25: 2 | T25: 6 | V25: 6 | Y25: 11 | AA25: 4 | AB25: 16 | AC25: 6 | AD25: 1 | AE25: 1 | AF25: 2 | AH25: 2 | AJ25: 1
A26: 1.8.1 | B26: Ð³Ù³ï»Õ ë»÷³Ï³ÝáõÃÛ³Ý Ý»ñùá ·ïÝíáÕ ·áõÛùÁ µ³Å³Ý»Éáõ ¨ ¹ñ³ÝÇó µ³ÅÇÝÝ ³é³ÝÓÝ³óÝ»Éáõ í»ñ³µ»ñÛ³É | E26: 8 | F26: 2 | G26: 6 | O26: 2 | P26: 1 | R26: 1 | Y26: 2 | AA26: 1 | AB26: 6 | AC26: 1
A27: 1.8.3 | B27: ¶áõÛùÇ íñ³ µéÝ³·³ÝÓáõÙ ï³ñ³Í»Éáõ å³Ñ³ÝçÇ Ù³ëÇÝ | J27: 1 | K27: 1 | O27: 1 | R27: 1 | Y27: 1 | AD27: 1 | AF27: 1 | AH27: 1 | AJ27: 1
A28: 1.9 | B28: ²ÛÉ í»×»ñ | E28: 6 | G28: 6 | J28: 8 | K28: 5 | L28: 3 | O28: 5 | P28: 1 | R28: 3 | T28: 1 | V28: 1 | Y28: 5 | AA28: 1 | AB28: 6 | AC28: 1 | AD28: 1 | AF28: 1 | AH28: 1 | AJ28: 1
A29: 2. | B29: ¶áñÍ³ñùÝ»ñÇ Ñ»ï Ï³åí³Í Çñ³í³Ñ³ñ³µ»ñáõÃÛáõÝÝ»ñÇ í»ñ³µ»ñÛ³É ¹³ï³Ï³Ý ·áñÍ»ñ | E29: =SUM(E30:E40) -> 17 | F29: =SUM(F30:F40) -> 1 | G29: =SUM(G30:G40) -> 16 | H29: =SUM(H30:H40) -> 0 | I29: =SUM(I30:I40) -> 0 | J29: =SUM(J30:J40) -> 31 | K29: =SUM(K30:K40) -> 20 | L29: =SUM(L30:L40) -> 11 | ... AS29: =SUM(AS30:AS40) -> 0
A30: 2.1 | B30: ·áñÍ³ñùÝ»ñÇ ³Ýí³í»ñáõÃÛ³Ý Ñ»ï Ï³åí³Í í»×»ñ | E30: 6 | G30: 6 | J30: 8 | K30: 4 | L30: 4 | O30: 6 | Q30: 2 | R30: 2 | T30: 2 | V30: 2 | Y30: 6 | AB30: 4 | AD30: 1 | AF30: 1 | AH30: 1
A31: 2.1.1 | B31: ³Û¹ ÃíáõÙ` íÇ×³Ñ³ñáõÛó ·áñÍ³ñùÝ»ñÝ ³Ýí³í»ñ ×³Ý³ã»Éáõ í»ñ³µ»ñÛ³É | J31: 1 | K31: 1 | AB31: 1
A32: 2.1.2 | B32: ³Û¹ ÃíáõÙ` ·áñÍ³ñùÇ ³éáãÝãáõÃÛ³Ý Ñ»ï¨³ÝùÝ»ñ ÏÇñ³é»Éáõ í»ñ³µ»ñÛ³É | E32: 1 | F32: 1 | J32: 6 | K32: 5 | L32: 1 | O32: 3 | R32: 2 | T32: 1 | V32: 1 | Y32: 3 | AB32: 3 | AD32: 1 | AF32: 1 | AH32: 1
A33: 2.2 | B33: ¶áñÍ³ñùÁ í³í»ñ ×³Ý³ã»Éáõ í»ñ³µ»ñÛ³É | E33: 1 | G33: 1 | AB33: 1
A34: 2.3 | B34: ¶áñÍ³ñùÇó Í³·áÕ Çñ³íáõÝùÝ»ñÁ ·ñ³Ýó»Éáõ í»ñ³µ»ñÛ³É
A35: 2.4 | B35: ä³ÛÙ³Ý³·ÇñÝ ³Ýí³í»ñ ×³Ý³ã»Éáõ í»ñ³µ»ñÛ³É | E35: 5 | G35: 5 | J35: 5 | K35: 2 | L35: 3 | O35: 6 | R35: 2 | T35: 4 | U35: 1 | V35: 2 | W35: 1 | Y35: 6 | AA35: 1 | AB35: 1 | AC35: 1 | AD35: 2 | AF35: 2 | AH35: 2
A36: 2.5 | B36: ä³ÛÙ³Ý³·ñÇÁ í³í»ñ ×³Ý³ã»Éáõ í»ñ³µ»ñÛ³É | J36: 1 | K36: 1 | N36: 1
A37: 2.6 | B37: ä³ÛÙ³Ý³·ñÇó Í³·áÕ Çñ³íáõÝùÝ»ñÁ ·ñ³Ýó»Éáõ í»ñ³µ»ñÛ³É
A38: 2.7 | B38: ä³ÛÙ³Ý³·ÇñÁ ÷á÷áË»Éáõ ¨ ÉáõÍ»Éáõ í»ñ³µ»ñÛ³É | E38: 2 | G38: 2 | J38: 4 | K38: 4 | N38: 1 | O38: 3 | P38: 1 | R38: 1 | T38: 1 | V38: 1 | Y38: 3 | AB38: 2 | AD38: 1 | AF38: 1 | AH38: 1 | AJ38: 1
A39: 2.8 | B39: ä³ÛÙ³Ý³·Çñ ÏÝù»ÉáõÝ å³ñï³íáñ»óÝ»Éáõ í»ñ³µ»ñÛ³É | J39: 1 | K39: 1 | AB39: 1
A40: 2.9 | B40: ²ÛÉ í»×»ñ | E40: 2 | G40: 2 | J40: 5 | K40: 2 | L40: 3 | O40: 2 | R40: 1 | T40: 1 | V40: 1 | Y40: 2 | AB40: 2 | AD40: 1 | AF40: 1 | AG40: 1
A41: 3. | B41: Ä³é³Ý·áõÃÛ³Ý Ñ»ï Ï³åí³Í Çñ³í³Ñ³ñ³µ»ñáõÃÛáõÝÝ»ñÇ í»ñ³µ»ñÛ³É ¹³ï³Ï³Ý ·áñÍ»ñ | E41: =SUM(E42:E48) -> 9 | F41: =SUM(F42:F48) -> 1 | G41: =SUM(G42:G48) -> 8 | H41: =SUM(H42:H48) -> 0 | I41: =SUM(I42:I48) -> 0 | J41: =SUM(J42:J48) -> 8 | K41: =SUM(K42:K48) -> 5 | L41: =SUM(L42:L48) -> 3 | ... AS41: =SUM(AS42:AS48) -> 0
A42: 3.1 | B42: Îï³ÏÝ ³Ýí³í»ñ ×³Ý³ã»Éáõ í»ñ³µ»ñÛ³É
A43: 3.2 | B43: ²Ý³ñÅ³Ý Å³é³Ý· ×³Ý³ã»Éáõ í»ñ³µ»ñÛ³É
A44: 3.3 | B44: Ä³é³Ý·áõÃÛáõÝÁ µ³Å³Ý»Éáõ í»ñ³µ»ñÛ³É
A45: 3.4 | B45: ¶áõÛùÝ ³ÝÅ³é³Ý· ×³Ý³ã»Éáõ í»ñ³µ»ñÛ³É
A46: 3.5 | B46: Àëï ûñ»ÝùÇ Å³é³Ý·áõÃÛ³Ý Çñ³íáõÝùÇ íÏ³Û³·ÇñÝ ³Ýí³í»ñ ×³Ý³ã»Éáõ í»ñ³µ»ñÛ³É | E46: 1 | G46: 1 | J46: 1 | L46: 1 | O46: 1 | Q46: 1 | Y46: 1 | AD46: 1 | AF46: 1 | AH46: 1 | AJ46: 1
A47: 3.6 | B47: Ä³é³Ý·áõÃÛáõÝÝ ÁÝ¹áõÝ»Éáõ µ³ó ÃáÕÝí³Í Å³ÙÏ»ïÁ Ñ³ñ·»ÉÇ Ñ³Ù³ñ»Éáõ í»ñ³µ»ñÛ³É | E47: 4 | G47: 4 | J47: 1 | L47: 1 | O47: 3 | P47: 2 | R47: 1 | Y47: 3 | AB47: 1 | AD47: 1 | AF47: 1 | AH47: 1 | AJ47: 1
A48: 3.7 | B48: ²ÛÉ í»×»ñ | E48: 4 | F48: 1 | G48: 3 | J48: 6 | K48: 5 | L48: 1 | O48: 2 | T48: 2 | V48: 2 | Y48: 2 | AB48: 7
A49: 4 | B49: ÀÝï³Ý»Ï³Ý Çñ³í³Ñ³ñ³µ»ñáõÃÛáõÝÝ»ñÇ í»ñ³µ»ñÛ³É ¹³ï³Ï³Ý ·áñÍ»ñ | E49: =SUM(E50:E62) -> 15 | F49: =SUM(F50:F62) -> 1 | G49: =SUM(G50:G62) -> 14 | H49: =SUM(H50:H62) -> 0 | I49: =SUM(I50:I62) -> 0 | J49: =SUM(J50:J62) -> 61 | K49: =SUM(K50:K62) -> 46 | L49: =SUM(L50:L62) -> 13 | ... AS49: =SUM(AS50:AS62) -> 0
A50: 4.1 | B50: ²ÙáõëÝ³ÉáõÍáõÃÛ³Ý í»ñ³µ»ñÛ³É | E50: 5 | F50: 1 | G50: 4 | J50: 29 | K50: 20 | L50: 9 | O50: 15 | P50: 10 | Q50: 3 | T50: 2 | V50: 2 | X50: 1 | Y50: 16 | AB50: 9 | AD50: 1 | AF50: 1 | AH50: 1 | AJ50: 1
A51: 4.2 | B51: ²ÉÇÙ»ÝïÇ å³Ñ³ÝçÇ í»ñ³µ»ñÛ³É | E51: 7 | G51: 7 | J51: 12 | K51: 10 | L51: 2 | O51: 12 | P51: 3 | Q51: 6 | T51: 3 | U51: 1 | V51: 2 | Y51: 12 | AA51: 1 | AB51: 5 | AC51: 1 | AD51: 1 | AF51: 1 | AH51: 1
A52: 4.3 | B52: ²ÉÇÙ»ÝïÇ ã³÷Á ÷á÷áË»Éáõ í»ñ³µ»ñÛ³É | J52: 2 | K52: 2 | O52: 2 | P52: 1 | R52: 1 | Y52: 2
A53: 4.4 | B53: ÌÝáÕ³Ï³Ý Çñ³íáõÝùÝ»ñÇó ½ñÏ»Éáõ í»ñ³µ»ñÛ³É | J53: 2 | K53: 2 | O53: 1 | R53: 1 | Y53: 1 | AB53: 1
A54: 4.5 | B54: ÌÝáÕ³Ï³Ý Çñ³íáõÝùÝ»ñÁ í»ñ³Ï³Ý·Ý»Éáõ í»ñ³µ»ñÛ³É
A55: 4.6 | B55: ºñ»Ë³ÛÇ áñ¹»·ñÙ³Ý í»ñ³µ»ñÛ³É
A56: 4.7 | B56: ºñ»Ë³ÛÇ áñ¹»·ñáõÙÁ í»ñ³óÝ»Éáõ í»ñ³µ»ñÛ³É | J56: 1 | K56: 1 | AB56: 1
A57: 4.8 | B57: Ð³ÛñáõÃÛáõÝÁ ×³Ý³ã»Éáõ í»ñ³µ»ñÛ³É | E57: 1 | G57: 1 | J57: 1 | K57: 1 | O57: 2 | P57: 1 | T57: 1 | V57: 1 | Y57: 2 | AD57: 1 | AF57: 1 | AH57: 1
A58: 4.9 | B58: ºñ»Ë³ÛÇ µÝ³ÏáõÃÛ³Ý í³ÛñÁ áñáß»Éáõ í»ñ³µ»ñÛ³É | J58: 2 | K58: 2 | O58: 2 | T58: 2 | U58: 2 | Y58: 2
A59: 4.10 | B59: ºñ»Ë³ÛÇ Ñ»ï ï»ë³ÏóáõÃÛ³Ý Ï³ñ· ë³ÑÙ³Ý»Éáõ í»ñ³µ»ñÛ³É | E59: 2 | G59: 2 | J59: 6 | K59: 4 | L59: 1 | M59: 1 | O59: 5 | P59: 1 | Q59: 1 | R59: 1 | T59: 2 | U59: 1 | V59: 1 | Y59: 5 | AB59: 1 | AD59: 1 | AF59: 1 | AH59: 1 | AJ59: 1
A60: 4.11 | B60: ²ÙáõëÇÝÝ»ñÇ ÁÝ¹Ñ³Ýáõñ ·áõÛùÁ µ³Å³Ý»Éáõ í»ñ³µ»ñÛ³É
A61: 4.12 | B61: ²ÙáõëÝ³Ï³Ý å³ÛÙ³Ý³·ñÇ ÷á÷áËÙ³Ý Ï³Ù ÉáõÍÙ³Ý í»ñ³µ»ñÛ³É
A62: 4.13 | B62: ²ÛÉ í»×»ñ | J62: 6 | K62: 4 | L62: 1 | M62: 1 | AB62: 4
A63: 5. | B63: Øï³íáñ ë»÷³Ï³ÝáõÃÛ³Ý Ñ»ï Ï³åí³ÍÇñ³í³Ñ³ñ³µ»ñáõÃÛáõÝÝ»ñÇ í»ñ³µ»ñÛ³É ¹³ï³Ï³Ý ·áñÍ»ñ | E63: =SUM(E64:E69) -> 0 | F63: =SUM(F64:F69) -> 0 | G63: =SUM(G64:G69) -> 0 | H63: =SUM(H64:H69) -> 0 | I63: =SUM(I64:I69) -> 0 | J63: =SUM(J64:J69) -> 0 | K63: =SUM(K64:K69) -> 0 | L63: =SUM(L64:L69) -> 0 | ... AS63: =SUM(AS64:AS69) -> 0
A64: 5.1 | B64: ÈÇó»Ý½³ÛÇÝ å³ÛÙ³Ý³·ñÇ ÉáõÍÙ³Ý, ÷á÷áËÙ³Ý ¨ ³Ýí³í»ñáõÃÛ³Ý í»ñ³µ»ñÛ³É
A65: 5.2 | B65: Øï³íáñ ·áñÍáõÝ»áõÃÛ³Ý ³ñ¹ÛáõÝùÝ»ñ ëï»ÕÍ»Éáõ ¨ û·ï³·áñÍ»Éáõ å³ÛÙ³Ý³·ñÇ ÉáõÍÙ³Ý, ÷á÷áËÙ³Ý áõ ³Ýí³í»ñáõÃÛ³Ý í»ñ³µ»ñÛ³É
A66: 5.3 | B66: Ð»ÕÇÝ³Ï³ÛÇÝ ¨ Ñ³ñ³ÏÇó Çñ³íáõÝùÝ»ñÇ í»ñ³µ»ñÛ³É
A67: 5.4 | B67: üÇñÙ³ÛÇÝ ³Ýí³ÝÙ³Ý í»ñ³µ»ñÛ³É
A68: 5.5 | B68: ²åñ³Ýù³ÛÇÝ Ýß³ÝÇ í»ñ³µ»ñÛ³É
A69: 5.6 | B69: ²ÛÉ í»×»ñ
A70: 6. | B70: ²ßË³ï³Ýù³ÛÇÝ Çñ³í³Ñ³ñ³µ»ñáõÃÛáõÝÝ»ñÇ í»ñ³µ»ñÛ³É ¹³ï³Ï³Ý ·áñÍ»ñ | E70: =SUM(E71:E76) -> 3 | F70: =SUM(F71:F76) -> 0 | G70: =SUM(G71:G76) -> 3 | H70: =SUM(H71:H76) -> 0 | I70: =SUM(I71:I76) -> 0 | J70: =SUM(J71:J76) -> 7 | K70: =SUM(K71:K76) -> 5 | L70: =SUM(L71:L76) -> 2 | ... AS70: =SUM(AS71:AS76) -> 0
A71: 6.1 | B71: ²ßË³ï³Ýù³ÛÇÝ å³ÛÙ³Ý³·ñ»ñÇ í»ñ³µ»ñÛ³É | E71: 2 | G71: 2 | O71: 2 | R71: 2 | Y71: 2
A72: 6.2 | B72: ²ßË³ï³ÝùáõÙ í»ñ³Ï³Ý·Ý»Éáõ í»ñ³µ»ñÛ³É | J72: 1 | L72: 1 | AD72: 2 | AF72: 2 | AH72: 2
A73: 6.3 | B73: ¶áñÍ³¹áõÉÝ ³ÝûñÇÝ³Ï³Ý ×³Ý³ã»Éáõ í»ñ³µ»ñÛ³É
A74: 6.4 | B74: Ð³ñÏ³¹Çñ å³ñ³åáõñ¹Ç Ñ³ïáõóÙ³Ý í»ñ³µ»ñÛ³É
A75: 6.5 | B75: âí×³ñí³Í ³ßË³ï³í³ñÓÇ ¨/Ï³Ù ³ÛÉ í×³ñÝ»ñÇ µéÝ³·³ÝÓÙ³Ý í»ñ³µ»ñÛ³É | J75: 5 | K75: 4 | L75: 1 | O75: 1 | R75: 1 | Y75: 1 | AB75: 3
A76: 6.6 | B76: ²ÛÉ í»×»ñ | E76: 1 | G76: 1 | J76: 1 | K76: 1 | O76: 1 | R76: 1 | Y76: 1 | AB76: 1
A77: 7. | B77: Æñ³í³µ³Ý³Ï³Ý ³ÝÓÇ ·áñÍáõÝ»áõÃÛáõÝÇó µËáÕ Çñ³í³Ñ³ñ³µ»ñáõÃÛáõÝÝ»ñÇ í»ñ³µ»ñÛ³É ¹³ï³Ï³Ý ·áñÍ»ñ | E77: =SUM(E78:E79) -> 0 | F77: =SUM(F78:F79) -> 0 | G77: =SUM(G78:G79) -> 0 | H77: =SUM(H78:H79) -> 0 | I77: =SUM(I78:I79) -> 0 | J77: =SUM(J78:J79) -> 0 | K77: =SUM(K78:K79) -> 0 | L77: =SUM(L78:L79) -> 0 | ... AS77: =SUM(AS78:AS79) -> 0
A78: 7.1 | B78: Îáñåáñ³ïÇí í»×»ñ
A79: 7.2 | B79: ²ÛÉ í»×»ñ
A80: 8. | B80: Ð³ïáõÏ í³ñáõÛÃÇ ¹³ï³Ï³Ý ·áñÍ»ñ | E80: =SUM(E81:E101) -> 9 | F80: =SUM(F81:F101) -> 0 | G80: =SUM(G81:G101) -> 9 | H80: =SUM(H81:H101) -> 0 | I80: =SUM(I81:I101) -> 0 | J80: =SUM(J81:J101) -> 25 | K80: =SUM(K81:K101) -> 15 | L80: =SUM(L81:L101) -> 10 | ... AS80: =SUM(AS81:AS101) -> 0
A81: 8.1 | B81: ²Ýã³÷³Ñ³ëÇÝ ÉñÇí ·áñÍáõÝ³Ï ×³Ý³ã»Éáõ /¿Ù³ÝëÇå³óÇ³/ í»ñ³µ»ñÛ³É
A82: 8.2 | B82: ø³Õ³ù³óáõÝ ³Ý·áñÍáõÝ³Ï Ï³Ù ë³ÑÙ³Ý³÷³Ï ·áñÍáõÝ³Ï ×³Ý³ã»Éáõ í»ñ³µ»ñÛ³É | E82: 2 | G82: 2 | J82: 9 | K82: 8 | L82: 1 | O82: 7 | P82: 5 | T82: 2 | V82: 1 | W82: 1 | Y82: 7 | AA82: 2 | AB82: 3 | AC82: 2
A83: 8.3 | B83: ø³Õ³ù³óáõÝ Ñá·»µáõÅ³Ï³Ý ÑÇí³Ý¹³Ýáó³ÛÇÝ Ñ³ñÏ³¹Çñ µáõÅÙ³Ý »ÝÃ³ñÏ»Éáõ í»ñ³µ»ñÛ³É
A84: 8.4 | B84: ø³Õ³ù³óáõÝ ³ÝÑ³Ûï µ³ó³Ï³ÛáÕ Ï³Ù Ù³Ñ³ó³Í ×³Ý³ã»Éáõ í»ñ³µ»ñÛ³É | E84: 1 | G84: 1 | J84: 1 | K84: 1 | O84: 2 | P84: 1 | R84: 1 | Y84: 2
A85: 8.5 | B85: ø³Õ³ù³óÇ³Ï³Ý Ï³óáõÃÛ³Ý ³Ïï»ñÇ ·ñ³éáõÙÝ»ñÇ ³Ý×ßïáõÃÛáõÝÝ»ñÁ å³ñ½»Éáõ í»ñ³µ»ñÛ³É
A86: 8.6 | B86: ¶áõÛùÁ ïÇñ³½áõñÏ ×³Ý³ã»Éáõ í»ñ³µ»ñÛ³É | J86: 2 | K86: 1 | L86: 1 | AB86: 1
A87: 8.6.1 | B87: ²Û¹ ÃíáõÙª ³Ýß³ñÅ ·áõÛùÁ
A88: 8.6.2 | B88: ²Û¹ ÃíáõÙª ß³ñÅ³Ï³Ý ·áõÛùÁ
A89: 8.7 | B89: Æñ³í³µ³Ý³Ï³Ý Ýß³Ý³ÏáõÃÛáõÝ áõÝ»óáÕ ÷³ëï»ñÇ Ñ³ëï³ïÙ³Ý í»ñ³µ»ñÛ³É | E89: 2 | G89: 2 | J89: 10 | K89: 4 | L89: 6 | O89: 2 | P89: 2 | X89: 1 | Y89: 3 | AB89: 3 | AD89: 1 | AF89: 1 | AH89: 1
A90: 8.7.1 | B90: ²ÝÓ³Ýó ³½·³Ïó³Ï³Ý Ï³åÁ Ñ³ëï³ï»Éáõ í»ñ³µ»ñÛ³É | J90: 1 | L90: 1
A91: 8.7.2 | B91: ²ÝÓÇª áõñÇßÇ ËÝ³ÙùÇ ï³Ï ·ïÝí»Éáõ í»ñ³µ»ñÛ³É
A92: 8.7.3 | B92: ÌÝÝ¹Û³Ý, áñ¹»·ñÙ³Ý, ³ÙáõëÝáõÃÛ³Ý, ³å³Ñ³ñ½³ÝÇ ¨ Ù³Ñí³Ý ·ñ³ÝóÙ³Ý í»ñ³µ»ñÛ³É | J92: 2 | K92: 1 | L92: 1 | O92: 1 | T92: 1 | V92: 1 | Y92: 1
A93: 8.7.4 | B93: ²ÝÓÇª áñáß³ÏÇ Å³Ù³Ý³ÏáõÙ ¨ áñáß³ÏÇ Ñ³Ý·³Ù³ÝùÝ»ñáõÙ Ù³Ñí³Ý í»ñ³µ»ñÛ³É
A94: 8.7.5 | B94: Ä³é³Ý·áõÃÛáõÝÝ ÁÝ¹áõÝ»Éáõ ¨ Å³é³Ý·áõÃÛ³Ý µ³óÙ³Ý í³ÛñÇ í»ñ³µ»ñÛ³É | E94: 4 | G94: 4 | O94: 4 | P94: 1 | T94: 3 | V94: 3 | Y94: 4
A95: 8.7.6 | B95: ¸Åµ³Ëï å³ï³Ñ³ñÇ í»ñ³µ»ñÛ³É
A96: 8.7.7 | B96: Æñ³íáõÝù ë³ÑÙ³ÝáÕ ÷³ëï³ÃÕÃ»ñÇ å³ïÏ³Ý»ÉáõÃÛ³Ý í»ñ³µ»ñÛ³É
A97: 8.7.8 | B97: ê»÷³Ï³ÝáõÃÛ³Ý Çñ³íáõÝùáí ·áõÛùÇ ïÇñ³å»ïÙ³Ý í»ñ³µ»ñÛ³É
A98: 8.7.9 | B98: ²ÝÑ³ÕÃ³Ñ³ñ»ÉÇ áõÅÇ ³éÏ³ÛáõÃÛ³Ý í»ñ³µ»ñÛ³É
A99: 8.7.10 | B99: úñ»Ýùáí Ý³Ë³ï»ëí³Í ³ÛÉ Çñ³í³µ³Ý³Ï³Ý ÷³ëï»ñÇ í»ñ³µ»ñÛ³É
A100: 8.8 | B100: Àëï Ý»ñÏ³Û³óÝáÕÇ ¨ ûñ¹»ñ³ÛÇÝ Ïáñóñ³Í ³ñÅ»ÃÕÃ»ñáí Ñ³í³ëïí³Í Çñ³íáõÝùÝ»ñÁ í»ñ³Ï³Ý·Ý»Éáõ í»ñ³µ»ñÛ³É
...

Sheet Ս.Թադևոսյան
A1: 2017թ. | G1: Ð²ÞìºîìàôÂÚàôÜ | AM1: Հավելված Հայաստանի Հանրապետության Դատարանների նախագահների խորհրդի 29.01.2018թ. թիվ 10-Լ որոշման
A2: ºðºì²ÜÆ ²ð²´ÎÆð ºì ø²Ü²øºè-¼ºÚÂàôÜ ì²ðâ²Î²Ü Þðæ²ÜÜºðÆ ÀÜ¸Ð²Üàôð Æð²ì²êàôÂÚ²Ü ²è²æÆÜ ²îÚ²ÜÆ ¸²î²ð²ÜÆ ¸²î²ìàð | Z2: ê. Â²¸ºìàêÚ²ÜÆ | AH2: ¶àðÌàôÜºàôÂÚ²Ü ìºð²´ºðÚ²È
A3: ø²Ô²ø²òÆ²Î²Ü ¶àðÌºðàì
A4: ºñ¨³ÝÇ ²ñ³µÏÇñ ¨ ø³Ý³ù»é-¼»ÛÃáõÝ í³ñã³Ï³Ý ßñç³ÝÝ»ñÇ ÁÝ¹Ñ³Ýáõñ Çñ³í³ëáõÃÛ³Ý ³é³çÇÝ ³ïÛ³ÝÇ ¹³ï³ñ³ÝÇ ù³Õ³ù³óÇ³Ï³Ý Ù³ëÝ³·Çï³óáõÙ áõÝ»óáÕ ¹³ï³íáñÝ»ñÇ Ñ³ëïÇùÝ»ñÇ ù³Ý³ÏÁ` 7
E5: Ð³ßí»ïáõ Å³Ù³Ý³Ï³Ñ³ïí³ÍáõÙ Ý³Ëáñ¹ Ñ³ßí»ïáõ Å³Ù³Ý³Ï³Ñ³ïí³ÍÇó ÷áË³Ýóí³Í ·áñÍ»ñÇ ÁÝ¹Ñ³Ýáõñ ÃÇíÁ | J5: Ð³ßí»ïáõ Å³Ù³Ý³Ï³Ñ³ïí³ÍáõÙëï³óí³Í ·áñÍ»ñÇ (³Û¹ ÃíáõÙ` Ñ³Ûó³¹ÇÙáõÙÝ»ñÇ, ¹ÇÙáõÙÝ»ñÇ) ÁÝ¹Ñ³Ýáõñ ÃÇíÁ | N5: öáË³Ýóí»É ¿ ³ÛÉ ¹³ï³íáñÇ (Ï³½ÙÇ ÷á÷áËáõÃÛáõÝ) | O5: Ð³ßí»ïáõ Å³Ù³Ý³Ï³Ñ³ïí³ÍáõÙ ³í³ñïí³Í ·áñÍ»ñÇ ÁÝ¹Ñ³Ýáõñ ÃÇíÁ | Z5: ¶áñÍÝ áõÕ³ñÏí»É ¿ Áëï ÁÝ¹¹³ïáõÃÛ³Ý | AA5: Ð³ßí»ïáõ Å³Ù³Ý³Ï³Ñ³ïí³ÍáõÙ Ï³ë»óí³Í í³ñáõÛÃÝ»ñáí ·áñÍ»ñÇ ÁÝ¹Ñ³Ýáõñ ÃÇíÁ | AB5: Ð³ßí»ïáõ Å³Ù³Ý³Ï³Ñ³ïí³ÍáõÙ ³Ý³í³ñï ·áñÍ»ñÇ ÁÝ¹Ñ³Ýáõñ ÃÇíÁ | AC5: ²Û¹ ÃíáõÙª Ï³ë»óí³Í | AD5: ´áÕáù³ñÏí³Í ¹³ï³Ï³Ý ³Ïï»ñÁ | AI5: ²í³ñïí³Í ¹³ï³Ï³Ý ·áñÍ»ñÇ µáÕáù³ñÏÙ³Ý ïáÏáëÁ (Ñ³ßí»ïáõ Å³Ù³Ý³Ï³ßñç³ÝáõÙ) | AJ5: ²Ý³í³ñï µáÕáùÝ»ñ | AK5: ´»Ï³Ýí³Í ¹³ï³Ï³Ý ³Ïï»ñÁ | AP5: µ»Ï³ÝáõÙÝ»ñÇ ïáÏáëÁ ³í³ñïí³Í ·áñÍ»ñÇó(Ñ³ßí»ïáõ Å³Ù³Ý³Ï³ßñç³ÝáõÙ) | AQ5: Î³ÛáõÝáõÃÛ³Ý ïáÏáëÁ ³í³ñïí³Í ·áñÍ»ñÇó(Ñ³ßí»ïáõ Å³Ù³Ý³Ï³ßñç³ÝáõÙ) | AR5: µ»Ï³ÝáõÙÝ»ñÇ ïáÏáëÁ µáÕáù³ñÏí³Í ·áñÍ»ñÇó(Ñ³ßí»ïáõ Å³Ù³Ý³Ï³ßñç³ÝáõÙ) | AS5: Ï³ÛáõÝáõÃÛ³Ý ïáÏáëÁ(Ñ³ßí»ïáõ Å³Ù³Ý³Ï³ßñç³ÝáõÙ)
E6: ÀÝ¹³Ù»ÝÁ | F6: ²Û¹ ÃíáõÙ`Ï³ë»óí³Í íÇ×³ÏáõÙ ÷áË³Ýóí³Í | G6: ²Û¹ ÃíáõÙª ÁÝ¹áõÝí»É ¿ í³ñáõÛÃ | H6: ²Û¹ ÃíáõÙª í»ñ³¹³ñÓí»É ¿ | I6: ²Û¹ ÃíáõÙª ÁÝ¹áõÝáõÙÁ Ù»ñÅí»É ¿ | J6: ÀÝ¹³Ù»ÝÁ | K6: ²Û¹ ÃíáõÙª ÁÝ¹áõÝí»É ¿ í³ñáõÛÃ | L6: ²Û¹ ÃíáõÙª í»ñ³¹³ñÓí»É ¿ | M6: ²Û¹ ÃíáõÙª ÁÝ¹áõÝáõÙÁ Ù»ñÅí»É ¿ | O6: ÀÝ¹³Ù»ÝÁ ³í³ñïí»É »Ý ·áñÍ»ñ ·áñÍÝ Áëï ¿áõÃÛ³Ý ÉáõÍáÕ ¹³ï³Ï³Ý ³Ïï»ñÇ (í×ÇéÝ»ñÇ) Ï³Û³óÙ³Ùµ | P6: ²Û¹ ÃíáõÙª Ñ³ÛóÇ µ³í³ñ³ñÙ³Ùµ | Q6: ²Û¹ ÃíáõÙª Ñ³ÛóÇ Ù³ëÝ³ÏÇ µ³í³ñ³ñÙ³Ùµ | R6: ²Û¹ ÃíáõÙª Ñ³ÛóÇ Ù»ñÅÙ³Ùµ | S6: Ø³ëáí Ï³ñ×í»É ¿, Ù³ëáí Ù»ñÅí»É | T6: ²Û¹ ÃíáõÙª Ï³ñ×í»É »Ý | X6: Ð³ÛóÁ ÃáÕÝí»É ¿ ³é³Ýó ùÝÝáõÃÛ³Ý | Y6: ÀÝ¹³Ù»ÝÝ ³í³ñïí»É »Ý ·áñÍ»ñ | AD6: ²Û¹ ÃíáõÙ` ·áñÍÝ Áëï ¿áõÃÛ³Ý ÉáõÍáÕ ¹³ï³Ï³Ý ³Ïï»ñÁ | AE6: ²Û¹ ÃíáõÙ` ÙÇç³ÝÏÛ³É ¹³ï³Ï³Ý ³Ïï»ñÁ | AF6: ÀÝ¹³Ù»ÝÁ | AG6: Ü³Ëáñ¹ ï³ñÇÝ»ñÇÝ Ï³Û³óí³Í ³Ïï»ñÇ µáÕáù³ñÏáõÙÁ Ñ³ßí»ïáõ Å³Ù³Ý³Ï³ßñç³ÝáõÙ | AH6: Ð³ßí»ïáõ Å³Ù³Ý³Ï³ßñç³ÝáõÙ Ï³Û³óí³Í ³Ïï»ñÇ µáÕáù³ñÏáõÙÁ | AK6: ²Û¹ ÃíáõÙ` ·áñÍÝ Áëï ¿áõÃÛ³Ý ÉáõÍáÕ ¹³ï³Ï³Ý ³Ïï»ñÁ | AL6: ²Û¹ ÃíáõÙ` ÙÇç³ÝÏÛ³É ¹³ï³Ï³Ý ³Ïï»ñÁ | AM6: ÀÝ¹³Ù»ÝÁ | AN6: Ü³Ëáñ¹ ï³ñÇÝ»ñÇÝ Ï³Û³óí³Í ³Ïï»ñÇ µ»Ï³ÝáõÙÝ»ñÁ Ñ³ßí»ïáõ Å³Ù³Ý³Ï³ßñç³ÝáõÙ | AO6: Ð³ßí»ïáõ Å³Ù³Ý³Ï³ßñç³ÝáõÙ Ï³Û³óí³Í ³Ïï»ñÇ µ»Ï³ÝáõÙÁ
T7: ÀÝ¹³Ù»ÝÁ Ï³ñ×í»É »Ý | U7: ²Û¹ ÃíáõÙª Ñ³ëï³ïí»É ¿ ÏÝùí³Í Ñ³ßïáõÃÛ³Ý Ñ³Ù³Ó³ÛÝáõÃÛáõÝÁ | V7: ²Û¹ ÃíáõÙª Ñ³óÇó, ¹ÇÙáõÙÇó Ññ³Å³ñí»Éáõ ÑÇÙùáí | W7: ²Û¹ ÃíáõÙª ³ÛÉ ÑÇÙùáí
E8: 1 | F8: 2 | G8: 3 | H8: 4 | I8: 5 | J8: 6 | K8: 7 | L8: 8 | M8: 9 | N8: 10 | O8: 11 | P8: 12 | Q8: 13 | R8: 14 | S8: 15 | T8: 16 | U8: 17 | V8: 18 | W8: 19 | X8: 20 | Y8: 21 | Z8: 22 | AA8: 23 | AB8: 24 | AC8: 25 | AD8: 26 | AE8: 27 | AF8: 28 | AG8: 29 | AH8: 30 | AI8: 31 | AJ8: 32 | AK8: 33 | AL8: 34 | AM8: 35 | AN8: 36 | AO8: 37 | AP8: 38 | AQ8: 39 | AR8: 40 | AS8: 41
A9: 1. | B9: ¶áõÛù³ÛÇÝ Çñ³í³Ñ³ñ³µ»ñáõÃÛáõÝÝ»ñÇ í»ñ³µ»ñÛ³É ¹³ï³Ï³Ý ·áñÍ»ñ | E9: =SUM(E10:E28) -> 43 | F9: =SUM(F10:F28) -> 11 | G9: =SUM(G10:G28) -> 32 | H9: =SUM(H10:H28) -> 0 | I9: =SUM(I10:I28) -> 0 | J9: =SUM(J10:J28) -> 16 | K9: =SUM(K10:K28) -> 13 | L9: =SUM(L10:L28) -> 3 | ... AS9: =SUM(AS10:AS28) -> 0
A10: 1.1 | B10: ¶áõÛùÇ ÝÏ³ïÙ³Ùµ ë»÷³Ï³ÝáõÃÛ³Ý Çñ³íáõÝùÁ ×³Ý³ã»Éáõ í»ñ³µ»ñÛ³É | E10: 3 | F10: 1 | G10: 2 | J10: 1 | K10: 1 | O10: 3 | Q10: 2 | R10: 1 | Y10: 3 | AB10: 1 | AD10: 1 | AF10: 1 | AH10: 1 | AK10: 1 | AM10: 1 | AO10: 1
A11: 1.1.1 | B11: ²Û¹ ÃíáõÙª Ó»éùµ»ñÙ³Ý í³Õ»ÙáõÃÛ³Ý áõÅáí | E11: 5 | F11: 1 | G11: 4 | J11: 1 | K11: 1 | O11: 2 | P11: 2 | Y11: 2 | AB11: 4 | AD11: 1 | AF11: 1 | AG11: 1 | AK11: 1 | AM11: 1 | AN11: 1
A12: 1.1.2 | B12: ²Û¹ ÃíáõÙª ïÇñ³½áõñÏ ·áõÛùÇ ÝÏ³ïÙ³Ùµ | E12: 1 | G12: 1 | O12: 1 | P12: 1 | Y12: 1
A13: 1.1.3 | B13: ²Û¹ ÃíáõÙª ÇÝùÝ³Ï³Ù Ï³éáõÛóÇ ÝÏ³ïÙ³Ùµ
A14: 1.2 | B14: ê»÷³Ï³ÝáõÃÛ³Ý Çñ³íáõÝùÇ ¹³¹³ñ»óÙ³Ý í»ñ³µ»ñÛ³É
A15: 1.3 | B15: ¶áõÛùÇ ÝÏ³ïÙ³Ùµ û·ï³·áñÍÙ³Ý Çñ³íáõÝùÁ ×³Ý³ã»Éáõ í»ñ³µ»ñÛ³É
A16: 1.3.1 | B16: ²Û¹ ÃíáõÙª µÝ³Ïû·ï³·áñÍÙ³Ý Çñ³íáõÝùÁ ×³Ý³ã»Éáõ í»ñ³µ»ñÛ³É
A17: 1.3.2 | B17: ²Û¹ ÃíáõÙª ÑáÕ³Ù³ëÇ ÝÏ³ïÙ³Ùµ û·ï³·áñÍÙ³Ý Çñ³íáõÝùÁ ×³Ý³ã»Éáõ í»ñ³µ»ñÛ³É
A18: 1.4 | B18: ¶áõÛùÇ ÝÏ³ïÙ³Ùµ û·ï³·áñÍÙ³Ý Çñ³íáõÝùÁ ¹³¹³ñ»óÝ»Éáõ í»ñ³µ»ñÛ³É
A19: 1.4.1 | B19: ²Û¹ ÃíáõÙª µÝ³Ïû·ï³·áñÍÙ³Ý Çñ³íáõÝùÁ ¹³¹³ñ»óÝ»Éáõ í»ñ³µ»ñÛ³É | E19: 1 | F19: 1 | AB19: 1 | AC19: 1
A20: 1.4.1/1 | B20: ²Û¹ ÃíáõÙª ÷áËÑ³ïáõóÙ³Ùµ | J20: 2 | K20: 1 | L20: 1 | AA20: 1 | AB20: 1 | AC20: 1
A21: 1.5 | B21: ´Ý³Ï³ñ³ÝÇó/ ï³ñ³ÍùÇó/ íï³ñ»Éáõ í»ñ³µ»ñÛ³É | E21: 3 | G21: 3 | J21: 1 | K21: 1 | O21: 2 | P21: 2 | Y21: 2 | AA21: 1 | AB21: 2 | AC21: 1 | AD21: 1 | AF21: 1 | AH21: 1
A22: 1.6 | B22: ¶áõÛùÝ áõñÇßÇ ³åûñÇÝÇ ïÇñ³å»ïáõÙÇó »ï í»ñ³¹³ñÓÝ»Éáõ í»ñ³µ»ñÛ³É | E22: 1 | G22: 1 | J22: 1 | K22: 1 | O22: 1 | T22: 1 | V22: 1 | Y22: 1 | AB22: 1 | AK22: 1 | AM22: 1 | AN22: 1
A23: 1.6.1 | B23: ´³ñ»ËÇÕ× Ó»éùµ»ñáÕÇó Çñ ·áõÛùÁ Ñ»ï å³Ñ³Ýç»Éáõ í»ñ³µ»ñÛ³É
A24: 1.7 | B24: îÇñ³å»ïáõÙÇó ½ñÏ»Éáõ Ñ»ï ãÏ³åí³Í Çñ³íáõÝùÝ»ñÇ Ë³ËïáõÙÁ í»ñ³óÝ»Éáõ í»ñ³µ»ñÛ³É | E24: 2 | F24: 2 | J24: 1 | L24: 1 | O24: 1 | Q24: 1 | Y24: 1 | AB24: 1 | AC24: 1 | AD24: 1 | AF24: 1 | AH24: 1 | AJ24: 1 | AK24: 1 | AM24: 1 | AN24: 1
A25: 1.8 | B25: ÀÝ¹Ñ³Ýáõñ µ³ÅÝ³ÛÇÝ ë»÷³Ï³ÝáõÃÛáõÝÇó µ³ÅÇÝÝ ³é³ÝÓÝ³óÝ»Éáõ í»ñ³µ»ñÛ³É | E25: 7 | G25: 7 | J25: 8 | K25: 8 | O25: 2 | P25: 1 | R25: 1 | Y25: 2 | AA25: 4 | AB25: 13 | AC25: 4 | AD25: 2 | AF25: 2 | AH25: 2 | AJ25: 2
A26: 1.8.1 | B26: Ð³Ù³ï»Õ ë»÷³Ï³ÝáõÃÛ³Ý Ý»ñùá ·ïÝíáÕ ·áõÛùÁ µ³Å³Ý»Éáõ ¨ ¹ñ³ÝÇó µ³ÅÇÝÝ ³é³ÝÓÝ³óÝ»Éáõ í»ñ³µ»ñÛ³É | E26: 10 | F26: 4 | G26: 6 | O26: 4 | P26: 2 | R26: 1 | T26: 1 | V26: 1 | Y26: 4 | AA26: 1 | AB26: 6 | AC26: 1 | AD26: 1 | AF26: 1 | AH26: 1 | AK26: 2 | AM26: 2 | AN26: 1 | AO26: 1
A27: 1.8.3 | B27: ¶áõÛùÇ íñ³ µéÝ³·³ÝÓáõÙ ï³ñ³Í»Éáõ å³Ñ³ÝçÇ Ù³ëÇÝ | E27: 1 | F27: 1 | AB27: 1 | AC27: 1
A28: 1.9 | B28: ²ÛÉ í»×»ñ | E28: 9 | F28: 1 | G28: 8 | J28: 1 | L28: 1 | O28: 3 | R28: 1 | T28: 2 | V28: 2 | Y28: 3 | AB28: 6 | AD28: 1 | AF28: 1 | AH28: 1 | AJ28: 1
A29: 2. | B29: ¶áñÍ³ñùÝ»ñÇ Ñ»ï Ï³åí³Í Çñ³í³Ñ³ñ³µ»ñáõÃÛáõÝÝ»ñÇ í»ñ³µ»ñÛ³É ¹³ï³Ï³Ý ·áñÍ»ñ | E29: =SUM(E30:E40) -> 12 | F29: =SUM(F30:F40) -> 0 | G29: =SUM(G30:G40) -> 12 | H29: =SUM(H30:H40) -> 0 | I29: =SUM(I30:I40) -> 0 | J29: =SUM(J30:J40) -> 29 | K29: =SUM(K30:K40) -> 14 | L29: =SUM(L30:L40) -> 14 | ... AS29: =SUM(AS30:AS40) -> 0
A30: 2.1 | B30: ·áñÍ³ñùÝ»ñÇ ³Ýí³í»ñáõÃÛ³Ý Ñ»ï Ï³åí³Í í»×»ñ | E30: 4 | G30: 4 | J30: 11 | K30: 6 | L30: 5 | O30: 2 | R30: 2 | Y30: 2 | Z30: 1 | AB30: 7 | AD30: 2 | AE30: 1 | AF30: 3 | AG30: 1 | AH30: 2 | AJ30: 1
A31: 2.1.1 | B31: ³Û¹ ÃíáõÙ` íÇ×³Ñ³ñáõÛó ·áñÍ³ñùÝ»ñÝ ³Ýí³í»ñ ×³Ý³ã»Éáõ í»ñ³µ»ñÛ³É
A32: 2.1.2 | B32: ³Û¹ ÃíáõÙ` ·áñÍ³ñùÇ ³éáãÝãáõÃÛ³Ý Ñ»ï¨³ÝùÝ»ñ ÏÇñ³é»Éáõ í»ñ³µ»ñÛ³É | E32: 1 | G32: 1 | J32: 2 | K32: 1 | M32: 1 | O32: 1 | T32: 1 | V32: 1 | Y32: 1 | AA32: 1 | AB32: 1 | AC32: 1 | AD32: 1 | AE32: 1 | AF32: 2 | AH32: 2 | AJ32: 2
A33: 2.2 | B33: ¶áñÍ³ñùÁ í³í»ñ ×³Ý³ã»Éáõ í»ñ³µ»ñÛ³É
A34: 2.3 | B34: ¶áñÍ³ñùÇó Í³·áÕ Çñ³íáõÝùÝ»ñÁ ·ñ³Ýó»Éáõ í»ñ³µ»ñÛ³É
A35: 2.4 | B35: ä³ÛÙ³Ý³·ÇñÝ ³Ýí³í»ñ ×³Ý³ã»Éáõ í»ñ³µ»ñÛ³É | E35: 3 | G35: 3 | J35: 8 | K35: 5 | L35: 3 | O35: 3 | P35: 1 | R35: 1 | T35: 1 | V35: 1 | Y35: 3 | AA35: 1 | AB35: 5 | AC35: 1
A36: 2.5 | B36: ä³ÛÙ³Ý³·ñÇÁ í³í»ñ ×³Ý³ã»Éáõ í»ñ³µ»ñÛ³É
A37: 2.6 | B37: ä³ÛÙ³Ý³·ñÇó Í³·áÕ Çñ³íáõÝùÝ»ñÁ ·ñ³Ýó»Éáõ í»ñ³µ»ñÛ³É
A38: 2.7 | B38: ä³ÛÙ³Ý³·ÇñÁ ÷á÷áË»Éáõ ¨ ÉáõÍ»Éáõ í»ñ³µ»ñÛ³É | E38: 1 | G38: 1 | J38: 1 | L38: 1 | O38: 1 | R38: 1 | Y38: 1
A39: 2.8 | B39: ä³ÛÙ³Ý³·Çñ ÏÝù»ÉáõÝ å³ñï³íáñ»óÝ»Éáõ í»ñ³µ»ñÛ³É
A40: 2.9 | B40: ²ÛÉ í»×»ñ | E40: 3 | G40: 3 | J40: 7 | K40: 2 | L40: 5 | N40: 1 | O40: 2 | P40: 1 | R40: 1 | Y40: 2 | Z40: 1 | AA40: 1 | AB40: 1 | AC40: 1 | AD40: 1 | AF40: 1 | AG40: 1 | AJ40: 1
A41: 3. | B41: Ä³é³Ý·áõÃÛ³Ý Ñ»ï Ï³åí³Í Çñ³í³Ñ³ñ³µ»ñáõÃÛáõÝÝ»ñÇ í»ñ³µ»ñÛ³É ¹³ï³Ï³Ý ·áñÍ»ñ | E41: =SUM(E42:E48) -> 1 | F41: =SUM(F42:F48) -> 1 | G41: =SUM(G42:G48) -> 0 | H41: =SUM(H42:H48) -> 0 | I41: =SUM(I42:I48) -> 0 | J41: =SUM(J42:J48) -> 5 | K41: =SUM(K42:K48) -> 5 | L41: =SUM(L42:L48) -> 0 | ... AS41: =SUM(AS42:AS48) -> 0
A42: 3.1 | B42: Îï³ÏÝ ³Ýí³í»ñ ×³Ý³ã»Éáõ í»ñ³µ»ñÛ³É | J42: 1 | K42: 1 | AB42: 1
A43: 3.2 | B43: ²Ý³ñÅ³Ý Å³é³Ý· ×³Ý³ã»Éáõ í»ñ³µ»ñÛ³É
A44: 3.3 | B44: Ä³é³Ý·áõÃÛáõÝÁ µ³Å³Ý»Éáõ í»ñ³µ»ñÛ³É
A45: 3.4 | B45: ¶áõÛùÝ ³ÝÅ³é³Ý· ×³Ý³ã»Éáõ í»ñ³µ»ñÛ³É
A46: 3.5 | B46: Àëï ûñ»ÝùÇ Å³é³Ý·áõÃÛ³Ý Çñ³íáõÝùÇ íÏ³Û³·ÇñÝ ³Ýí³í»ñ ×³Ý³ã»Éáõ í»ñ³µ»ñÛ³É
A47: 3.6 | B47: Ä³é³Ý·áõÃÛáõÝÝ ÁÝ¹áõÝ»Éáõ µ³ó ÃáÕÝí³Í Å³ÙÏ»ïÁ Ñ³ñ·»ÉÇ Ñ³Ù³ñ»Éáõ í»ñ³µ»ñÛ³É
A48: 3.7 | B48: ²ÛÉ í»×»ñ | E48: 1 | F48: 1 | J48: 4 | K48: 4 | O48: 2 | R48: 1 | T48: 1 | V48: 1 | Y48: 2 | AA48: 1 | AB48: 3 | AC48: 2
A49: 4 | B49: ÀÝï³Ý»Ï³Ý Çñ³í³Ñ³ñ³µ»ñáõÃÛáõÝÝ»ñÇ í»ñ³µ»ñÛ³É ¹³ï³Ï³Ý ·áñÍ»ñ | E49: =SUM(E50:E62) -> 7 | F49: =SUM(F50:F62) -> 1 | G49: =SUM(G50:G62) -> 6 | H49: =SUM(H50:H62) -> 0 | I49: =SUM(I50:I62) -> 0 | J49: =SUM(J50:J62) -> 20 | K49: =SUM(K50:K62) -> 19 | L49: =SUM(L50:L62) -> 1 | ... AS49: =SUM(AS50:AS62) -> 0
A50: 4.1 | B50: ²ÙáõëÝ³ÉáõÍáõÃÛ³Ý í»ñ³µ»ñÛ³É | E50: 1 | F50: 1 | J50: 11 | K50: 11 | O50: 10 | P50: 6 | Q50: 4 | Y50: 10 | AB50: 2 | AC50: 1 | AD50: 3 | AF50: 3 | AG50: 2 | AH50: 1 | AJ50: 1 | AK50: 1 | AM50: 1 | AN50: 1
A51: 4.2 | B51: ²ÉÇÙ»ÝïÇ å³Ñ³ÝçÇ í»ñ³µ»ñÛ³É | E51: 3 | G51: 3 | J51: 1 | K51: 1 | O51: 2 | P51: 1 | T51: 1 | U51: 1 | Y51: 2 | AB51: 2 | AK51: 1 | AM51: 1 | AN51: 1
A52: 4.3 | B52: ²ÉÇÙ»ÝïÇ ã³÷Á ÷á÷áË»Éáõ í»ñ³µ»ñÛ³É | J52: 1 | K52: 1 | O52: 1 | R52: 1 | Y52: 1
A53: 4.4 | B53: ÌÝáÕ³Ï³Ý Çñ³íáõÝùÝ»ñÇó ½ñÏ»Éáõ í»ñ³µ»ñÛ³É
A54: 4.5 | B54: ÌÝáÕ³Ï³Ý Çñ³íáõÝùÝ»ñÁ í»ñ³Ï³Ý·Ý»Éáõ í»ñ³µ»ñÛ³É
A55: 4.6 | B55: ºñ»Ë³ÛÇ áñ¹»·ñÙ³Ý í»ñ³µ»ñÛ³É
A56: 4.7 | B56: ºñ»Ë³ÛÇ áñ¹»·ñáõÙÁ í»ñ³óÝ»Éáõ í»ñ³µ»ñÛ³É
A57: 4.8 | B57: Ð³ÛñáõÃÛáõÝÁ ×³Ý³ã»Éáõ í»ñ³µ»ñÛ³É | E57: 1 | G57: 1 | AB57: 1
A58: 4.9 | B58: ºñ»Ë³ÛÇ µÝ³ÏáõÃÛ³Ý í³ÛñÁ áñáß»Éáõ í»ñ³µ»ñÛ³É
A59: 4.10 | B59: ºñ»Ë³ÛÇ Ñ»ï ï»ë³ÏóáõÃÛ³Ý Ï³ñ· ë³ÑÙ³Ý»Éáõ í»ñ³µ»ñÛ³É | J59: 1 | K59: 1 | AB59: 1
A60: 4.11 | B60: ²ÙáõëÇÝÝ»ñÇ ÁÝ¹Ñ³Ýáõñ ·áõÛùÁ µ³Å³Ý»Éáõ í»ñ³µ»ñÛ³É | E60: 1 | G60: 1 | J60: 2 | K60: 1 | L60: 1 | O60: 1 | T60: 1 | V60: 1 | Y60: 1 | AA60: 1 | AB60: 1 | AC60: 1
A61: 4.12 | B61: ²ÙáõëÝ³Ï³Ý å³ÛÙ³Ý³·ñÇ ÷á÷áËÙ³Ý Ï³Ù ÉáõÍÙ³Ý í»ñ³µ»ñÛ³É
A62: 4.13 | B62: ²ÛÉ í»×»ñ | E62: 1 | G62: 1 | J62: 4 | K62: 4 | O62: 3 | T62: 3 | V62: 3 | Y62: 3 | AB62: 2 | AL62: 1 | AM62: 1 | AN62: 1
A63: 5. | B63: Øï³íáñ ë»÷³Ï³ÝáõÃÛ³Ý Ñ»ï Ï³åí³ÍÇñ³í³Ñ³ñ³µ»ñáõÃÛáõÝÝ»ñÇ í»ñ³µ»ñÛ³É ¹³ï³Ï³Ý ·áñÍ»ñ | E63: =SUM(E64:E69) -> 0 | F63: =SUM(F64:F69) -> 0 | G63: =SUM(G64:G69) -> 0 | H63: =SUM(H64:H69) -> 0 | I63: =SUM(I64:I69) -> 0 | J63: =SUM(J64:J69) -> 0 | K63: =SUM(K64:K69) -> 0 | L63: =SUM(L64:L69) -> 0 | ... AS63: =SUM(AS64:AS69) -> 0
A64: 5.1 | B64: ÈÇó»Ý½³ÛÇÝ å³ÛÙ³Ý³·ñÇ ÉáõÍÙ³Ý, ÷á÷áËÙ³Ý ¨ ³Ýí³í»ñáõÃÛ³Ý í»ñ³µ»ñÛ³É
A65: 5.2 | B65: Øï³íáñ ·áñÍáõÝ»áõÃÛ³Ý ³ñ¹ÛáõÝùÝ»ñ ëï»ÕÍ»Éáõ ¨ û·ï³·áñÍ»Éáõ å³ÛÙ³Ý³·ñÇ ÉáõÍÙ³Ý, ÷á÷áËÙ³Ý áõ ³Ýí³í»ñáõÃÛ³Ý í»ñ³µ»ñÛ³É
A66: 5.3 | B66: Ð»ÕÇÝ³Ï³ÛÇÝ ¨ Ñ³ñ³ÏÇó Çñ³íáõÝùÝ»ñÇ í»ñ³µ»ñÛ³É
A67: 5.4 | B67: üÇñÙ³ÛÇÝ ³Ýí³ÝÙ³Ý í»ñ³µ»ñÛ³É
A68: 5.5 | B68: ²åñ³Ýù³ÛÇÝ Ýß³ÝÇ í»ñ³µ»ñÛ³É
A69: 5.6 | B69: ²ÛÉ í»×»ñ
A70: 6. | B70: ²ßË³ï³Ýù³ÛÇÝ Çñ³í³Ñ³ñ³µ»ñáõÃÛáõÝÝ»ñÇ í»ñ³µ»ñÛ³É ¹³ï³Ï³Ý ·áñÍ»ñ | E70: =SUM(E71:E76) -> 5 | F70: =SUM(F71:F76) -> 1 | G70: =SUM(G71:G76) -> 4 | H70: =SUM(H71:H76) -> 0 | I70: =SUM(I71:I76) -> 0 | J70: =SUM(J71:J76) -> 1 | K70: =SUM(K71:K76) -> 1 | L70: =SUM(L71:L76) -> 0 | ... AS70: =SUM(AS71:AS76) -> 0
A71: 6.1 | B71: ²ßË³ï³Ýù³ÛÇÝ å³ÛÙ³Ý³·ñ»ñÇ í»ñ³µ»ñÛ³É | J71: 1 | K71: 1 | O71: 1 | P71: 1 | Y71: 1
A72: 6.2 | B72: ²ßË³ï³ÝùáõÙ í»ñ³Ï³Ý·Ý»Éáõ í»ñ³µ»ñÛ³É | AD72: 2 | AF72: 2 | AG72: 1 | AH72: 1 | AJ72: 1 | AK72: 1 | AM72: 1 | AO72: 1
A73: 6.3 | B73: ¶áñÍ³¹áõÉÝ ³ÝûñÇÝ³Ï³Ý ×³Ý³ã»Éáõ í»ñ³µ»ñÛ³É
A74: 6.4 | B74: Ð³ñÏ³¹Çñ å³ñ³åáõñ¹Ç Ñ³ïáõóÙ³Ý í»ñ³µ»ñÛ³É
A75: 6.5 | B75: âí×³ñí³Í ³ßË³ï³í³ñÓÇ ¨/Ï³Ù ³ÛÉ í×³ñÝ»ñÇ µéÝ³·³ÝÓÙ³Ý í»ñ³µ»ñÛ³É | E75: 4 | F75: 1 | G75: 3 | O75: 1 | Q75: 1 | Y75: 1 | AB75: 3 | AC75: 1
A76: 6.6 | B76: ²ÛÉ í»×»ñ | E76: 1 | G76: 1 | O76: 1 | R76: 1 | Y76: 1 | AD76: 1 | AF76: 1 | AG76: 1
A77: 7. | B77: Æñ³í³µ³Ý³Ï³Ý ³ÝÓÇ ·áñÍáõÝ»áõÃÛáõÝÇó µËáÕ Çñ³í³Ñ³ñ³µ»ñáõÃÛáõÝÝ»ñÇ í»ñ³µ»ñÛ³É ¹³ï³Ï³Ý ·áñÍ»ñ | E77: =SUM(E78:E79) -> 0 | F77: =SUM(F78:F79) -> 0 | G77: =SUM(G78:G79) -> 0 | H77: =SUM(H78:H79) -> 0 | I77: =SUM(I78:I79) -> 0 | J77: =SUM(J78:J79) -> 0 | K77: =SUM(K78:K79) -> 0 | L77: =SUM(L78:L79) -> 0 | ... AS77: =SUM(AS78:AS79) -> 0
A78: 7.1 | B78: Îáñåáñ³ïÇí í»×»ñ
A79: 7.2 | B79: ²ÛÉ í»×»ñ
A80: 8. | B80: Ð³ïáõÏ í³ñáõÛÃÇ ¹³ï³Ï³Ý ·áñÍ»ñ | E80: =SUM(E81:E101) -> 4 | F80: =SUM(F81:F101) -> 0 | G80: =SUM(G81:G101) -> 4 | H80: =SUM(H81:H101) -> 0 | I80: =SUM(I81:I101) -> 0 | J80: =SUM(J81:J101) -> 8 | K80: =SUM(K81:K101) -> 6 | L80: =SUM(L81:L101) -> 2 | ... AS80: =SUM(AS81:AS101) -> 0
A81: 8.1 | B81: ²Ýã³÷³Ñ³ëÇÝ ÉñÇí ·áñÍáõÝ³Ï ×³Ý³ã»Éáõ /¿Ù³ÝëÇå³óÇ³/ í»ñ³µ»ñÛ³É
A82: 8.2 | B82: ø³Õ³ù³óáõÝ ³Ý·áñÍáõÝ³Ï Ï³Ù ë³ÑÙ³Ý³÷³Ï ·áñÍáõÝ³Ï ×³Ý³ã»Éáõ í»ñ³µ»ñÛ³É | E82: 1 | G82: 1 | O82: 1 | R82: 1 | Y82: 1
A83: 8.3 | B83: ø³Õ³ù³óáõÝ Ñá·»µáõÅ³Ï³Ý ÑÇí³Ý¹³Ýáó³ÛÇÝ Ñ³ñÏ³¹Çñ µáõÅÙ³Ý »ÝÃ³ñÏ»Éáõ í»ñ³µ»ñÛ³É
A84: 8.4 | B84: ø³Õ³ù³óáõÝ ³ÝÑ³Ûï µ³ó³Ï³ÛáÕ Ï³Ù Ù³Ñ³ó³Í ×³Ý³ã»Éáõ í»ñ³µ»ñÛ³É | E84: 1 | G84: 1 | J84: 2 | K84: 1 | L84: 1 | O84: 1 | P84: 1 | Y84: 1 | AB84: 1
A85: 8.5 | B85: ø³Õ³ù³óÇ³Ï³Ý Ï³óáõÃÛ³Ý ³Ïï»ñÇ ·ñ³éáõÙÝ»ñÇ ³Ý×ßïáõÃÛáõÝÝ»ñÁ å³ñ½»Éáõ í»ñ³µ»ñÛ³É
A86: 8.6 | B86: ¶áõÛùÁ ïÇñ³½áõñÏ ×³Ý³ã»Éáõ í»ñ³µ»ñÛ³É
A87: 8.6.1 | B87: ²Û¹ ÃíáõÙª ³Ýß³ñÅ ·áõÛùÁ
A88: 8.6.2 | B88: ²Û¹ ÃíáõÙª ß³ñÅ³Ï³Ý ·áõÛùÁ
A89: 8.7 | B89: Æñ³í³µ³Ý³Ï³Ý Ýß³Ý³ÏáõÃÛáõÝ áõÝ»óáÕ ÷³ëï»ñÇ Ñ³ëï³ïÙ³Ý í»ñ³µ»ñÛ³É | E89: 2 | G89: 2 | J89: 5 | K89: 4 | L89: 1 | O89: 5 | P89: 5 | Y89: 5 | AB89: 1
A90: 8.7.1 | B90: ²ÝÓ³Ýó ³½·³Ïó³Ï³Ý Ï³åÁ Ñ³ëï³ï»Éáõ í»ñ³µ»ñÛ³É | AD90: 1 | AF90: 1 | AG90: 1
A91: 8.7.2 | B91: ²ÝÓÇª áõñÇßÇ ËÝ³ÙùÇ ï³Ï ·ïÝí»Éáõ í»ñ³µ»ñÛ³É
A92: 8.7.3 | B92: ÌÝÝ¹Û³Ý, áñ¹»·ñÙ³Ý, ³ÙáõëÝáõÃÛ³Ý, ³å³Ñ³ñ½³ÝÇ ¨ Ù³Ñí³Ý ·ñ³ÝóÙ³Ý í»ñ³µ»ñÛ³É
A93: 8.7.4 | B93: ²ÝÓÇª áñáß³ÏÇ Å³Ù³Ý³ÏáõÙ ¨ áñáß³ÏÇ Ñ³Ý·³Ù³ÝùÝ»ñáõÙ Ù³Ñí³Ý í»ñ³µ»ñÛ³É
A94: 8.7.5 | B94: Ä³é³Ý·áõÃÛáõÝÝ ÁÝ¹áõÝ»Éáõ ¨ Å³é³Ý·áõÃÛ³Ý µ³óÙ³Ý í³ÛñÇ í»ñ³µ»ñÛ³É
A95: 8.7.6 | B95: ¸Åµ³Ëï å³ï³Ñ³ñÇ í»ñ³µ»ñÛ³É
A96: 8.7.7 | B96: Æñ³íáõÝù ë³ÑÙ³ÝáÕ ÷³ëï³ÃÕÃ»ñÇ å³ïÏ³Ý»ÉáõÃÛ³Ý í»ñ³µ»ñÛ³É
A97: 8.7.8 | B97: ê»÷³Ï³ÝáõÃÛ³Ý Çñ³íáõÝùáí ·áõÛùÇ ïÇñ³å»ïÙ³Ý í»ñ³µ»ñÛ³É
A98: 8.7.9 | B98: ²ÝÑ³ÕÃ³Ñ³ñ»ÉÇ áõÅÇ ³éÏ³ÛáõÃÛ³Ý í»ñ³µ»ñÛ³É
A99: 8.7.10 | B99: úñ»Ýùáí Ý³Ë³ï»ëí³Í ³ÛÉ Çñ³í³µ³Ý³Ï³Ý ÷³ëï»ñÇ í»ñ³µ»ñÛ³É | J99: 1 | K99: 1 | O99: 1 | T99: 1 | W99: 1 | Y99: 1 | AD99: 1 | AF99: 1 | AH99: 1 | AJ99: 1
A100: 8.8 | B100: Àëï Ý»ñÏ³Û³óÝáÕÇ ¨ ûñ¹»ñ³ÛÇÝ Ïáñóñ³Í ³ñÅ»ÃÕÃ»ñáí Ñ³í³ëïí³Í Çñ³íáõÝùÝ»ñÁ í»ñ³Ï³Ý·Ý»Éáõ í»ñ³µ»ñÛ³É
...

Sheet Ա.Ստեփանյան
A1: 2017թ. | G1: Ð²ÞìºîìàôÂÚàôÜ | AM1: Հավելված Հայաստանի Հանրապետության Դատարանների նախագահների խորհրդի 29.01.2018թ. թիվ 10-Լ որոշման
A2: ºðºì²ÜÆ ²ð²´ÎÆð ºì ø²Ü²øºè-¼ºÚÂàôÜ ì²ðâ²Î²Ü Þðæ²ÜÜºðÆ ÀÜ¸Ð²Üàôð Æð²ì²êàôÂÚ²Ü ²è²æÆÜ ²îÚ²ÜÆ ¸²î²ð²ÜÆ ¸²î²ìàð | Z2: ². êîºö²ÜÚ²ÜÆ | AH2: ¶àðÌàôÜºàôÂÚ²Ü ìºð²´ºðÚ²È
A3: ø²Ô²ø²òÆ²Î²Ü ¶àðÌºðàì
A4: ºñ¨³ÝÇ ²ñ³µÏÇñ ¨ ø³Ý³ù»é-¼»ÛÃáõÝ í³ñã³Ï³Ý ßñç³ÝÝ»ñÇ ÁÝ¹Ñ³Ýáõñ Çñ³í³ëáõÃÛ³Ý ³é³çÇÝ ³ïÛ³ÝÇ ¹³ï³ñ³ÝÇ ù³Õ³ù³óÇ³Ï³Ý Ù³ëÝ³·Çï³óáõÙ áõÝ»óáÕ ¹³ï³íáñÝ»ñÇ Ñ³ëïÇùÝ»ñÇ ù³Ý³ÏÁ` 7
E5: Ð³ßí»ïáõ Å³Ù³Ý³Ï³Ñ³ïí³ÍáõÙ Ý³Ëáñ¹ Ñ³ßí»ïáõ Å³Ù³Ý³Ï³Ñ³ïí³ÍÇó ÷áË³Ýóí³Í ·áñÍ»ñÇ ÁÝ¹Ñ³Ýáõñ ÃÇíÁ | J5: Ð³ßí»ïáõ Å³Ù³Ý³Ï³Ñ³ïí³ÍáõÙëï³óí³Í ·áñÍ»ñÇ (³Û¹ ÃíáõÙ` Ñ³Ûó³¹ÇÙáõÙÝ»ñÇ, ¹ÇÙáõÙÝ»ñÇ) ÁÝ¹Ñ³Ýáõñ ÃÇíÁ | N5: öáË³Ýóí»É ¿ ³ÛÉ ¹³ï³íáñÇ (Ï³½ÙÇ ÷á÷áËáõÃÛáõÝ) | O5: Ð³ßí»ïáõ Å³Ù³Ý³Ï³Ñ³ïí³ÍáõÙ ³í³ñïí³Í ·áñÍ»ñÇ ÁÝ¹Ñ³Ýáõñ ÃÇíÁ | Z5: ¶áñÍÝ áõÕ³ñÏí»É ¿ Áëï ÁÝ¹¹³ïáõÃÛ³Ý | AA5: Ð³ßí»ïáõ Å³Ù³Ý³Ï³Ñ³ïí³ÍáõÙ Ï³ë»óí³Í í³ñáõÛÃÝ»ñáí ·áñÍ»ñÇ ÁÝ¹Ñ³Ýáõñ ÃÇíÁ | AB5: Ð³ßí»ïáõ Å³Ù³Ý³Ï³Ñ³ïí³ÍáõÙ ³Ý³í³ñï ·áñÍ»ñÇ ÁÝ¹Ñ³Ýáõñ ÃÇíÁ | AC5: ²Û¹ ÃíáõÙª Ï³ë»óí³Í | AD5: ´áÕáù³ñÏí³Í ¹³ï³Ï³Ý ³Ïï»ñÁ | AI5: ²í³ñïí³Í ¹³ï³Ï³Ý ·áñÍ»ñÇ µáÕáù³ñÏÙ³Ý ïáÏáëÁ (Ñ³ßí»ïáõ Å³Ù³Ý³Ï³ßñç³ÝáõÙ) | AJ5: ²Ý³í³ñï µáÕáùÝ»ñ | AK5: ´»Ï³Ýí³Í ¹³ï³Ï³Ý ³Ïï»ñÁ | AP5: µ»Ï³ÝáõÙÝ»ñÇ ïáÏáëÁ ³í³ñïí³Í ·áñÍ»ñÇó(Ñ³ßí»ïáõ Å³Ù³Ý³Ï³ßñç³ÝáõÙ) | AQ5: Î³ÛáõÝáõÃÛ³Ý ïáÏáëÁ ³í³ñïí³Í ·áñÍ»ñÇó(Ñ³ßí»ïáõ Å³Ù³Ý³Ï³ßñç³ÝáõÙ) | AR5: µ»Ï³ÝáõÙÝ»ñÇ ïáÏáëÁ µáÕáù³ñÏí³Í ·áñÍ»ñÇó(Ñ³ßí»ïáõ Å³Ù³Ý³Ï³ßñç³ÝáõÙ) | AS5: Ï³ÛáõÝáõÃÛ³Ý ïáÏáëÁ(Ñ³ßí»ïáõ Å³Ù³Ý³Ï³ßñç³ÝáõÙ)
E6: ÀÝ¹³Ù»ÝÁ | F6: ²Û¹ ÃíáõÙ`Ï³ë»óí³Í íÇ×³ÏáõÙ ÷áË³Ýóí³Í | G6: ²Û¹ ÃíáõÙª ÁÝ¹áõÝí»É ¿ í³ñáõÛÃ | H6: ²Û¹ ÃíáõÙª í»ñ³¹³ñÓí»É ¿ | I6: ²Û¹ ÃíáõÙª ÁÝ¹áõÝáõÙÁ Ù»ñÅí»É ¿ | J6: ÀÝ¹³Ù»ÝÁ | K6: ²Û¹ ÃíáõÙª ÁÝ¹áõÝí»É ¿ í³ñáõÛÃ | L6: ²Û¹ ÃíáõÙª í»ñ³¹³ñÓí»É ¿ | M6: ²Û¹ ÃíáõÙª ÁÝ¹áõÝáõÙÁ Ù»ñÅí»É ¿ | O6: ÀÝ¹³Ù»ÝÁ ³í³ñïí»É »Ý ·áñÍ»ñ ·áñÍÝ Áëï ¿áõÃÛ³Ý ÉáõÍáÕ ¹³ï³Ï³Ý ³Ïï»ñÇ (í×ÇéÝ»ñÇ) Ï³Û³óÙ³Ùµ | P6: ²Û¹ ÃíáõÙª Ñ³ÛóÇ µ³í³ñ³ñÙ³Ùµ | Q6: ²Û¹ ÃíáõÙª Ñ³ÛóÇ Ù³ëÝ³ÏÇ µ³í³ñ³ñÙ³Ùµ | R6: ²Û¹ ÃíáõÙª Ñ³ÛóÇ Ù»ñÅÙ³Ùµ | S6: Ø³ëáí Ï³ñ×í»É ¿, Ù³ëáí Ù»ñÅí»É | T6: ²Û¹ ÃíáõÙª Ï³ñ×í»É »Ý | X6: Ð³ÛóÁ ÃáÕÝí»É ¿ ³é³Ýó ùÝÝáõÃÛ³Ý | Y6: ÀÝ¹³Ù»ÝÝ ³í³ñïí»É »Ý ·áñÍ»ñ | AD6: ²Û¹ ÃíáõÙ` ·áñÍÝ Áëï ¿áõÃÛ³Ý ÉáõÍáÕ ¹³ï³Ï³Ý ³Ïï»ñÁ | AE6: ²Û¹ ÃíáõÙ` ÙÇç³ÝÏÛ³É ¹³ï³Ï³Ý ³Ïï»ñÁ | AF6: ÀÝ¹³Ù»ÝÁ | AG6: Ü³Ëáñ¹ ï³ñÇÝ»ñÇÝ Ï³Û³óí³Í ³Ïï»ñÇ µáÕáù³ñÏáõÙÁ Ñ³ßí»ïáõ Å³Ù³Ý³Ï³ßñç³ÝáõÙ | AH6: Ð³ßí»ïáõ Å³Ù³Ý³Ï³ßñç³ÝáõÙ Ï³Û³óí³Í ³Ïï»ñÇ µáÕáù³ñÏáõÙÁ | AK6: ²Û¹ ÃíáõÙ` ·áñÍÝ Áëï ¿áõÃÛ³Ý ÉáõÍáÕ ¹³ï³Ï³Ý ³Ïï»ñÁ | AL6: ²Û¹ ÃíáõÙ` ÙÇç³ÝÏÛ³É ¹³ï³Ï³Ý ³Ïï»ñÁ | AM6: ÀÝ¹³Ù»ÝÁ | AN6: Ü³Ëáñ¹ ï³ñÇÝ»ñÇÝ Ï³Û³óí³Í ³Ïï»ñÇ µ»Ï³ÝáõÙÝ»ñÁ Ñ³ßí»ïáõ Å³Ù³Ý³Ï³ßñç³ÝáõÙ | AO6: Ð³ßí»ïáõ Å³Ù³Ý³Ï³ßñç³ÝáõÙ Ï³Û³óí³Í ³Ïï»ñÇ µ»Ï³ÝáõÙÁ
T7: ÀÝ¹³Ù»ÝÁ Ï³ñ×í»É »Ý | U7: ²Û¹ ÃíáõÙª Ñ³ëï³ïí»É ¿ ÏÝùí³Í Ñ³ßïáõÃÛ³Ý Ñ³Ù³Ó³ÛÝáõÃÛáõÝÁ | V7: ²Û¹ ÃíáõÙª Ñ³óÇó, ¹ÇÙáõÙÇó Ññ³Å³ñí»Éáõ ÑÇÙùáí | W7: ²Û¹ ÃíáõÙª ³ÛÉ ÑÇÙùáí
E8: 1 | F8: 2 | G8: 3 | H8: 4 | I8: 5 | J8: 6 | K8: 7 | L8: 8 | M8: 9 | N8: 10 | O8: 11 | P8: 12 | Q8: 13 | R8: 14 | S8: 15 | T8: 16 | U8: 17 | V8: 18 | W8: 19 | X8: 20 | Y8: 21 | Z8: 22 | AA8: 23 | AB8: 24 | AC8: 25 | AD8: 26 | AE8: 27 | AF8: 28 | AG8: 29 | AH8: 30 | AI8: 31 | AJ8: 32 | AK8: 33 | AL8: 34 | AM8: 35 | AN8: 36 | AO8: 37 | AP8: 38 | AQ8: 39 | AR8: 40 | AS8: 41
A9: 1. | B9: ¶áõÛù³ÛÇÝ Çñ³í³Ñ³ñ³µ»ñáõÃÛáõÝÝ»ñÇ í»ñ³µ»ñÛ³É ¹³ï³Ï³Ý ·áñÍ»ñ | E9: =SUM(E10:E28) -> 71 | F9: =SUM(F10:F28) -> 9 | G9: =SUM(G10:G28) -> 62 | H9: =SUM(H10:H28) -> 0 | I9: =SUM(I10:I28) -> 0 | J9: =SUM(J10:J28) -> 54 | K9: =SUM(K10:K28) -> 40 | L9: =SUM(L10:L28) -> 14 | ... AS9: =SUM(AS10:AS28) -> 0
A10: 1.1 | B10: ¶áõÛùÇ ÝÏ³ïÙ³Ùµ ë»÷³Ï³ÝáõÃÛ³Ý Çñ³íáõÝùÁ ×³Ý³ã»Éáõ í»ñ³µ»ñÛ³É | E10: 15 | F10: 1 | G10: 14 | J10: 5 | K10: 4 | L10: 1 | O10: 6 | P10: 1 | Q10: 2 | R10: 1 | T10: 2 | U10: 1 | V10: 1 | Y10: 6 | AB10: 13 | AD10: 2 | AF10: 2 | AH10: 2 | AJ10: 1 | AK10: 1 | AM10: 1 | AN10: 1
A11: 1.1.1 | B11: ²Û¹ ÃíáõÙª Ó»éùµ»ñÙ³Ý í³Õ»ÙáõÃÛ³Ý áõÅáí | E11: 10 | G11: 10 | J11: 1 | K11: 1 | O11: 4 | Q11: 1 | R11: 1 | T11: 2 | U11: 2 | Y11: 4 | AA11: 2 | AB11: 7 | AC11: 2 | AD11: 2 | AF11: 2 | AG11: 1 | AH11: 1 | AK11: 1 | AM11: 1 | AO11: 1
A12: 1.1.2 | B12: ²Û¹ ÃíáõÙª ïÇñ³½áõñÏ ·áõÛùÇ ÝÏ³ïÙ³Ùµ
A13: 1.1.3 | B13: ²Û¹ ÃíáõÙª ÇÝùÝ³Ï³Ù Ï³éáõÛóÇ ÝÏ³ïÙ³Ùµ
A14: 1.2 | B14: ê»÷³Ï³ÝáõÃÛ³Ý Çñ³íáõÝùÇ ¹³¹³ñ»óÙ³Ý í»ñ³µ»ñÛ³É
A15: 1.3 | B15: ¶áõÛùÇ ÝÏ³ïÙ³Ùµ û·ï³·áñÍÙ³Ý Çñ³íáõÝùÁ ×³Ý³ã»Éáõ í»ñ³µ»ñÛ³É | E15: 1 | G15: 1 | J15: 1 | K15: 1 | O15: 1 | P15: 1 | Y15: 1 | AB15: 1
A16: 1.3.1 | B16: ²Û¹ ÃíáõÙª µÝ³Ïû·ï³·áñÍÙ³Ý Çñ³íáõÝùÁ ×³Ý³ã»Éáõ í»ñ³µ»ñÛ³É
A17: 1.3.2 | B17: ²Û¹ ÃíáõÙª ÑáÕ³Ù³ëÇ ÝÏ³ïÙ³Ùµ û·ï³·áñÍÙ³Ý Çñ³íáõÝùÁ ×³Ý³ã»Éáõ í»ñ³µ»ñÛ³É
A18: 1.4 | B18: ¶áõÛùÇ ÝÏ³ïÙ³Ùµ û·ï³·áñÍÙ³Ý Çñ³íáõÝùÁ ¹³¹³ñ»óÝ»Éáõ í»ñ³µ»ñÛ³É
A19: 1.4.1 | B19: ²Û¹ ÃíáõÙª µÝ³Ïû·ï³·áñÍÙ³Ý Çñ³íáõÝùÁ ¹³¹³ñ»óÝ»Éáõ í»ñ³µ»ñÛ³É
A20: 1.4.1/1 | B20: ²Û¹ ÃíáõÙª ÷áËÑ³ïáõóÙ³Ùµ | J20: 2 | K20: 1 | L20: 1 | O20: 1 | T20: 1 | V20: 1 | Y20: 1
A21: 1.5 | B21: ´Ý³Ï³ñ³ÝÇó/ ï³ñ³ÍùÇó/ íï³ñ»Éáõ í»ñ³µ»ñÛ³É | E21: 3 | G21: 3 | J21: 1 | K21: 1 | O21: 3 | P21: 2 | T21: 1 | U21: 1 | Y21: 3 | AA21: 1 | AB21: 1 | AC21: 1 | AD21: 2 | AF21: 2 | AG21: 1 | AH21: 1 | AK21: 2 | AM21: 2 | AN21: 1 | AO21: 1
A22: 1.6 | B22: ¶áõÛùÝ áõñÇßÇ ³åûñÇÝÇ ïÇñ³å»ïáõÙÇó »ï í»ñ³¹³ñÓÝ»Éáõ í»ñ³µ»ñÛ³É | E22: 3 | G22: 3 | J22: 3 | K22: 2 | L22: 1 | O22: 5 | P22: 2 | Q22: 2 | T22: 1 | W22: 1 | Y22: 5
A23: 1.6.1 | B23: ´³ñ»ËÇÕ× Ó»éùµ»ñáÕÇó Çñ ·áõÛùÁ Ñ»ï å³Ñ³Ýç»Éáõ í»ñ³µ»ñÛ³É
A24: 1.7 | B24: îÇñ³å»ïáõÙÇó ½ñÏ»Éáõ Ñ»ï ãÏ³åí³Í Çñ³íáõÝùÝ»ñÇ Ë³ËïáõÙÁ í»ñ³óÝ»Éáõ í»ñ³µ»ñÛ³É | E24: 1 | G24: 1 | J24: 9 | K24: 6 | L24: 3 | O24: 1 | S24: 1 | Y24: 1 | AB24: 6 | AD24: 1 | AF24: 1 | AH24: 1 | AJ24: 1
A25: 1.8 | B25: ÀÝ¹Ñ³Ýáõñ µ³ÅÝ³ÛÇÝ ë»÷³Ï³ÝáõÃÛáõÝÇó µ³ÅÇÝÝ ³é³ÝÓÝ³óÝ»Éáõ í»ñ³µ»ñÛ³É | E25: 7 | F25: 4 | G25: 3 | J25: 15 | K25: 11 | L25: 4 | O25: 10 | P25: 1 | T25: 9 | U25: 3 | V25: 5 | W25: 1 | Y25: 10 | Z25: 1 | AA25: 1 | AB25: 7 | AC25: 4 | AD25: 1 | AF25: 1 | AH25: 1 | AJ25: 1
A26: 1.8.1 | B26: Ð³Ù³ï»Õ ë»÷³Ï³ÝáõÃÛ³Ý Ý»ñùá ·ïÝíáÕ ·áõÛùÁ µ³Å³Ý»Éáõ ¨ ¹ñ³ÝÇó µ³ÅÇÝÝ ³é³ÝÓÝ³óÝ»Éáõ í»ñ³µ»ñÛ³É | E26: 19 | F26: 4 | G26: 15 | J26: 5 | K26: 4 | L26: 1 | O26: 8 | P26: 4 | T26: 4 | U26: 2 | V26: 2 | Y26: 8 | AA26: 4 | AB26: 15 | AC26: 7
A27: 1.8.3 | B27: ¶áõÛùÇ íñ³ µéÝ³·³ÝÓáõÙ ï³ñ³Í»Éáõ å³Ñ³ÝçÇ Ù³ëÇÝ | E27: 2 | G27: 2 | O27: 1 | T27: 1 | V27: 1 | Y27: 1 | AA27: 1 | AB27: 1 | AC27: 1
A28: 1.9 | B28: ²ÛÉ í»×»ñ | E28: 10 | G28: 10 | J28: 12 | K28: 9 | L28: 3 | O28: 4 | P28: 1 | R28: 1 | T28: 2 | V28: 2 | Y28: 4 | AA28: 1 | AB28: 15 | AC28: 1 | AD28: 1 | AF28: 1 | AH28: 1 | AJ28: 1
A29: 2. | B29: ¶áñÍ³ñùÝ»ñÇ Ñ»ï Ï³åí³Í Çñ³í³Ñ³ñ³µ»ñáõÃÛáõÝÝ»ñÇ í»ñ³µ»ñÛ³É ¹³ï³Ï³Ý ·áñÍ»ñ | E29: =SUM(E30:E40) -> 26 | F29: =SUM(F30:F40) -> 1 | G29: =SUM(G30:G40) -> 25 | H29: =SUM(H30:H40) -> 0 | I29: =SUM(I30:I40) -> 0 | J29: =SUM(J30:J40) -> 32 | K29: =SUM(K30:K40) -> 23 | L29: =SUM(L30:L40) -> 9 | ... AS29: =SUM(AS30:AS40) -> 0
A30: 2.1 | B30: ·áñÍ³ñùÝ»ñÇ ³Ýí³í»ñáõÃÛ³Ý Ñ»ï Ï³åí³Í í»×»ñ | E30: 6 | G30: 6 | J30: 7 | K30: 5 | L30: 2 | O30: 2 | R30: 1 | T30: 1 | W30: 1 | Y30: 2 | AB30: 9
A31: 2.1.1 | B31: ³Û¹ ÃíáõÙ` íÇ×³Ñ³ñáõÛó ·áñÍ³ñùÝ»ñÝ ³Ýí³í»ñ ×³Ý³ã»Éáõ í»ñ³µ»ñÛ³É | J31: 2 | K31: 1 | L31: 1 | O31: 1 | T31: 1 | V31: 1 | Y31: 1
A32: 2.1.2 | B32: ³Û¹ ÃíáõÙ` ·áñÍ³ñùÇ ³éáãÝãáõÃÛ³Ý Ñ»ï¨³ÝùÝ»ñ ÏÇñ³é»Éáõ í»ñ³µ»ñÛ³É | E32: 4 | G32: 4 | J32: 1 | K32: 1 | O32: 3 | P32: 3 | Y32: 3 | AB32: 2 | AD32: 1 | AF32: 1 | AH32: 1
A33: 2.2 | B33: ¶áñÍ³ñùÁ í³í»ñ ×³Ý³ã»Éáõ í»ñ³µ»ñÛ³É
A34: 2.3 | B34: ¶áñÍ³ñùÇó Í³·áÕ Çñ³íáõÝùÝ»ñÁ ·ñ³Ýó»Éáõ í»ñ³µ»ñÛ³É
A35: 2.4 | B35: ä³ÛÙ³Ý³·ÇñÝ ³Ýí³í»ñ ×³Ý³ã»Éáõ í»ñ³µ»ñÛ³É | E35: 9 | G35: 9 | J35: 11 | K35: 9 | L35: 2 | O35: 5 | R35: 3 | T35: 2 | V35: 1 | W35: 1 | Y35: 5 | AA35: 2 | AB35: 13 | AC35: 2 | AD35: 2 | AF35: 2 | AH35: 2 | AJ35: 2
A36: 2.5 | B36: ä³ÛÙ³Ý³·ñÇÁ í³í»ñ ×³Ý³ã»Éáõ í»ñ³µ»ñÛ³É
A37: 2.6 | B37: ä³ÛÙ³Ý³·ñÇó Í³·áÕ Çñ³íáõÝùÝ»ñÁ ·ñ³Ýó»Éáõ í»ñ³µ»ñÛ³É
A38: 2.7 | B38: ä³ÛÙ³Ý³·ÇñÁ ÷á÷áË»Éáõ ¨ ÉáõÍ»Éáõ í»ñ³µ»ñÛ³É | E38: 1 | G38: 1 | J38: 2 | K38: 1 | L38: 1 | O38: 1 | P38: 1 | Y38: 1 | AB38: 1
A39: 2.8 | B39: ä³ÛÙ³Ý³·Çñ ÏÝù»ÉáõÝ å³ñï³íáñ»óÝ»Éáõ í»ñ³µ»ñÛ³É | E39: 2 | F39: 1 | G39: 1 | AB39: 2
A40: 2.9 | B40: ²ÛÉ í»×»ñ | E40: 4 | G40: 4 | J40: 9 | K40: 6 | L40: 3 | O40: 3 | P40: 1 | Q40: 1 | R40: 1 | Y40: 3 | AB40: 7
A41: 3. | B41: Ä³é³Ý·áõÃÛ³Ý Ñ»ï Ï³åí³Í Çñ³í³Ñ³ñ³µ»ñáõÃÛáõÝÝ»ñÇ í»ñ³µ»ñÛ³É ¹³ï³Ï³Ý ·áñÍ»ñ | E41: =SUM(E42:E48) -> 13 | F41: =SUM(F42:F48) -> 1 | G41: =SUM(G42:G48) -> 12 | H41: =SUM(H42:H48) -> 0 | I41: =SUM(I42:I48) -> 0 | J41: =SUM(J42:J48) -> 12 | K41: =SUM(K42:K48) -> 9 | L41: =SUM(L42:L48) -> 3 | ... AS41: =SUM(AS42:AS48) -> 0
A42: 3.1 | B42: Îï³ÏÝ ³Ýí³í»ñ ×³Ý³ã»Éáõ í»ñ³µ»ñÛ³É | J42: 2 | K42: 2 | AB42: 2
A43: 3.2 | B43: ²Ý³ñÅ³Ý Å³é³Ý· ×³Ý³ã»Éáõ í»ñ³µ»ñÛ³É
A44: 3.3 | B44: Ä³é³Ý·áõÃÛáõÝÁ µ³Å³Ý»Éáõ í»ñ³µ»ñÛ³É
A45: 3.4 | B45: ¶áõÛùÝ ³ÝÅ³é³Ý· ×³Ý³ã»Éáõ í»ñ³µ»ñÛ³É | E45: 1 | G45: 1 | J45: 2 | L45: 2 | AB45: 1
A46: 3.5 | B46: Àëï ûñ»ÝùÇ Å³é³Ý·áõÃÛ³Ý Çñ³íáõÝùÇ íÏ³Û³·ÇñÝ ³Ýí³í»ñ ×³Ý³ã»Éáõ í»ñ³µ»ñÛ³É | E46: 1 | G46: 1 | J46: 1 | K46: 1 | AB46: 2
A47: 3.6 | B47: Ä³é³Ý·áõÃÛáõÝÝ ÁÝ¹áõÝ»Éáõ µ³ó ÃáÕÝí³Í Å³ÙÏ»ïÁ Ñ³ñ·»ÉÇ Ñ³Ù³ñ»Éáõ í»ñ³µ»ñÛ³É | E47: 4 | G47: 4 | J47: 2 | K47: 2 | O47: 3 | P47: 2 | T47: 1 | U47: 1 | Y47: 3 | AA47: 1 | AB47: 3 | AC47: 1
A48: 3.7 | B48: ²ÛÉ í»×»ñ | E48: 7 | F48: 1 | G48: 6 | J48: 5 | K48: 4 | L48: 1 | O48: 7 | P48: 3 | R48: 1 | T48: 3 | U48: 1 | V48: 2 | Y48: 7 | Z48: 1 | AB48: 3
A49: 4 | B49: ÀÝï³Ý»Ï³Ý Çñ³í³Ñ³ñ³µ»ñáõÃÛáõÝÝ»ñÇ í»ñ³µ»ñÛ³É ¹³ï³Ï³Ý ·áñÍ»ñ | E49: =SUM(E50:E62) -> 35 | F49: =SUM(F50:F62) -> 2 | G49: =SUM(G50:G62) -> 33 | H49: =SUM(H50:H62) -> 0 | I49: =SUM(I50:I62) -> 0 | J49: =SUM(J50:J62) -> 47 | K49: =SUM(K50:K62) -> 43 | L49: =SUM(L50:L62) -> 4 | ... AS49: =SUM(AS50:AS62) -> 0
A50: 4.1 | B50: ²ÙáõëÝ³ÉáõÍáõÃÛ³Ý í»ñ³µ»ñÛ³É | E50: 19 | G50: 19 | J50: 23 | K50: 20 | L50: 3 | O50: 23 | P50: 15 | Q50: 6 | T50: 2 | U50: 1 | V50: 1 | Y50: 23 | AB50: 16
A51: 4.2 | B51: ²ÉÇÙ»ÝïÇ å³Ñ³ÝçÇ í»ñ³µ»ñÛ³É | E51: 5 | G51: 5 | J51: 13 | K51: 13 | O51: 6 | P51: 2 | Q51: 2 | T51: 2 | U51: 2 | Y51: 6 | AB51: 12 | AD51: 1 | AF51: 1 | AH51: 1 | AJ51: 1
A52: 4.3 | B52: ²ÉÇÙ»ÝïÇ ã³÷Á ÷á÷áË»Éáõ í»ñ³µ»ñÛ³É | J52: 2 | K52: 2 | AB52: 2
A53: 4.4 | B53: ÌÝáÕ³Ï³Ý Çñ³íáõÝùÝ»ñÇó ½ñÏ»Éáõ í»ñ³µ»ñÛ³É
A54: 4.5 | B54: ÌÝáÕ³Ï³Ý Çñ³íáõÝùÝ»ñÁ í»ñ³Ï³Ý·Ý»Éáõ í»ñ³µ»ñÛ³É
A55: 4.6 | B55: ºñ»Ë³ÛÇ áñ¹»·ñÙ³Ý í»ñ³µ»ñÛ³É
A56: 4.7 | B56: ºñ»Ë³ÛÇ áñ¹»·ñáõÙÁ í»ñ³óÝ»Éáõ í»ñ³µ»ñÛ³É
A57: 4.8 | B57: Ð³ÛñáõÃÛáõÝÁ ×³Ý³ã»Éáõ í»ñ³µ»ñÛ³É | E57: 4 | G57: 4 | J57: 2 | K57: 2 | O57: 4 | P57: 3 | T57: 1 | V57: 1 | Y57: 4 | AB57: 2
A58: 4.9 | B58: ºñ»Ë³ÛÇ µÝ³ÏáõÃÛ³Ý í³ÛñÁ áñáß»Éáõ í»ñ³µ»ñÛ³É | J58: 2 | K58: 2 | AB58: 2
A59: 4.10 | B59: ºñ»Ë³ÛÇ Ñ»ï ï»ë³ÏóáõÃÛ³Ý Ï³ñ· ë³ÑÙ³Ý»Éáõ í»ñ³µ»ñÛ³É | E59: 2 | F59: 2 | J59: 2 | K59: 1 | L59: 1 | O59: 2 | Q59: 2 | Y59: 2 | AB59: 1
A60: 4.11 | B60: ²ÙáõëÇÝÝ»ñÇ ÁÝ¹Ñ³Ýáõñ ·áõÛùÁ µ³Å³Ý»Éáõ í»ñ³µ»ñÛ³É | E60: 1 | G60: 1 | J60: 1 | K60: 1 | O60: 2 | T60: 2 | V60: 2 | Y60: 2
A61: 4.12 | B61: ²ÙáõëÝ³Ï³Ý å³ÛÙ³Ý³·ñÇ ÷á÷áËÙ³Ý Ï³Ù ÉáõÍÙ³Ý í»ñ³µ»ñÛ³É
A62: 4.13 | B62: ²ÛÉ í»×»ñ | E62: 4 | G62: 4 | J62: 2 | K62: 2 | O62: 2 | P62: 1 | R62: 1 | Y62: 2 | AA62: 1 | AB62: 4 | AC62: 1
A63: 5. | B63: Øï³íáñ ë»÷³Ï³ÝáõÃÛ³Ý Ñ»ï Ï³åí³ÍÇñ³í³Ñ³ñ³µ»ñáõÃÛáõÝÝ»ñÇ í»ñ³µ»ñÛ³É ¹³ï³Ï³Ý ·áñÍ»ñ | E63: =SUM(E64:E69) -> 2 | F63: =SUM(F64:F69) -> 0 | G63: =SUM(G64:G69) -> 2 | H63: =SUM(H64:H69) -> 0 | I63: =SUM(I64:I69) -> 0 | J63: =SUM(J64:J69) -> 1 | K63: =SUM(K64:K69) -> 1 | L63: =SUM(L64:L69) -> 0 | ... AS63: =SUM(AS64:AS69) -> 0
A64: 5.1 | B64: ÈÇó»Ý½³ÛÇÝ å³ÛÙ³Ý³·ñÇ ÉáõÍÙ³Ý, ÷á÷áËÙ³Ý ¨ ³Ýí³í»ñáõÃÛ³Ý í»ñ³µ»ñÛ³É
A65: 5.2 | B65: Øï³íáñ ·áñÍáõÝ»áõÃÛ³Ý ³ñ¹ÛáõÝùÝ»ñ ëï»ÕÍ»Éáõ ¨ û·ï³·áñÍ»Éáõ å³ÛÙ³Ý³·ñÇ ÉáõÍÙ³Ý, ÷á÷áËÙ³Ý áõ ³Ýí³í»ñáõÃÛ³Ý í»ñ³µ»ñÛ³É
A66: 5.3 | B66: Ð»ÕÇÝ³Ï³ÛÇÝ ¨ Ñ³ñ³ÏÇó Çñ³íáõÝùÝ»ñÇ í»ñ³µ»ñÛ³É | E66: 1 | G66: 1 | AB66: 1
A67: 5.4 | B67: üÇñÙ³ÛÇÝ ³Ýí³ÝÙ³Ý í»ñ³µ»ñÛ³É
A68: 5.5 | B68: ²åñ³Ýù³ÛÇÝ Ýß³ÝÇ í»ñ³µ»ñÛ³É | E68: 1 | G68: 1 | J68: 1 | K68: 1 | AB68: 2
A69: 5.6 | B69: ²ÛÉ í»×»ñ
A70: 6. | B70: ²ßË³ï³Ýù³ÛÇÝ Çñ³í³Ñ³ñ³µ»ñáõÃÛáõÝÝ»ñÇ í»ñ³µ»ñÛ³É ¹³ï³Ï³Ý ·áñÍ»ñ | E70: =SUM(E71:E76) -> 3 | F70: =SUM(F71:F76) -> 0 | G70: =SUM(G71:G76) -> 3 | H70: =SUM(H71:H76) -> 0 | I70: =SUM(I71:I76) -> 0 | J70: =SUM(J71:J76) -> 3 | K70: =SUM(K71:K76) -> 3 | L70: =SUM(L71:L76) -> 0 | ... AS70: =SUM(AS71:AS76) -> 0
A71: 6.1 | B71: ²ßË³ï³Ýù³ÛÇÝ å³ÛÙ³Ý³·ñ»ñÇ í»ñ³µ»ñÛ³É | J71: 1 | K71: 1 | AB71: 1
A72: 6.2 | B72: ²ßË³ï³ÝùáõÙ í»ñ³Ï³Ý·Ý»Éáõ í»ñ³µ»ñÛ³É | E72: 3 | G72: 3 | J72: 1 | K72: 1 | O72: 1 | Q72: 1 | Y72: 1 | AB72: 3
A73: 6.3 | B73: ¶áñÍ³¹áõÉÝ ³ÝûñÇÝ³Ï³Ý ×³Ý³ã»Éáõ í»ñ³µ»ñÛ³É
A74: 6.4 | B74: Ð³ñÏ³¹Çñ å³ñ³åáõñ¹Ç Ñ³ïáõóÙ³Ý í»ñ³µ»ñÛ³É
A75: 6.5 | B75: âí×³ñí³Í ³ßË³ï³í³ñÓÇ ¨/Ï³Ù ³ÛÉ í×³ñÝ»ñÇ µéÝ³·³ÝÓÙ³Ý í»ñ³µ»ñÛ³É | J75: 1 | K75: 1 | AB75: 1
A76: 6.6 | B76: ²ÛÉ í»×»ñ
A77: 7. | B77: Æñ³í³µ³Ý³Ï³Ý ³ÝÓÇ ·áñÍáõÝ»áõÃÛáõÝÇó µËáÕ Çñ³í³Ñ³ñ³µ»ñáõÃÛáõÝÝ»ñÇ í»ñ³µ»ñÛ³É ¹³ï³Ï³Ý ·áñÍ»ñ | E77: =SUM(E78:E79) -> 1 | F77: =SUM(F78:F79) -> 0 | G77: =SUM(G78:G79) -> 1 | H77: =SUM(H78:H79) -> 0 | I77: =SUM(I78:I79) -> 0 | J77: =SUM(J78:J79) -> 0 | K77: =SUM(K78:K79) -> 0 | L77: =SUM(L78:L79) -> 0 | ... AS77: =SUM(AS78:AS79) -> 0
A78: 7.1 | B78: Îáñåáñ³ïÇí í»×»ñ
A79: 7.2 | B79: ²ÛÉ í»×»ñ | E79: 1 | G79: 1 | O79: 1 | T79: 1 | V79: 1 | Y79: 1
A80: 8. | B80: Ð³ïáõÏ í³ñáõÛÃÇ ¹³ï³Ï³Ý ·áñÍ»ñ | E80: =SUM(E81:E101) -> 18 | F80: =SUM(F81:F101) -> 1 | G80: =SUM(G81:G101) -> 17 | H80: =SUM(H81:H101) -> 0 | I80: =SUM(I81:I101) -> 0 | J80: =SUM(J81:J101) -> 30 | K80: =SUM(K81:K101) -> 26 | L80: =SUM(L81:L101) -> 4 | ... AS80: =SUM(AS81:AS101) -> 0
A81: 8.1 | B81: ²Ýã³÷³Ñ³ëÇÝ ÉñÇí ·áñÍáõÝ³Ï ×³Ý³ã»Éáõ /¿Ù³ÝëÇå³óÇ³/ í»ñ³µ»ñÛ³É
A82: 8.2 | B82: ø³Õ³ù³óáõÝ ³Ý·áñÍáõÝ³Ï Ï³Ù ë³ÑÙ³Ý³÷³Ï ·áñÍáõÝ³Ï ×³Ý³ã»Éáõ í»ñ³µ»ñÛ³É | E82: 4 | G82: 4 | J82: 4 | K82: 4 | O82: 3 | P82: 3 | Y82: 3 | AA82: 2 | AB82: 5 | AC82: 2
A83: 8.3 | B83: ø³Õ³ù³óáõÝ Ñá·»µáõÅ³Ï³Ý ÑÇí³Ý¹³Ýáó³ÛÇÝ Ñ³ñÏ³¹Çñ µáõÅÙ³Ý »ÝÃ³ñÏ»Éáõ í»ñ³µ»ñÛ³É
A84: 8.4 | B84: ø³Õ³ù³óáõÝ ³ÝÑ³Ûï µ³ó³Ï³ÛáÕ Ï³Ù Ù³Ñ³ó³Í ×³Ý³ã»Éáõ í»ñ³µ»ñÛ³É | E84: 4 | G84: 4 | J84: 8 | K84: 7 | L84: 1 | O84: 5 | P84: 5 | Y84: 5 | AB84: 6
A85: 8.5 | B85: ø³Õ³ù³óÇ³Ï³Ý Ï³óáõÃÛ³Ý ³Ïï»ñÇ ·ñ³éáõÙÝ»ñÇ ³Ý×ßïáõÃÛáõÝÝ»ñÁ å³ñ½»Éáõ í»ñ³µ»ñÛ³É
A86: 8.6 | B86: ¶áõÛùÁ ïÇñ³½áõñÏ ×³Ý³ã»Éáõ í»ñ³µ»ñÛ³É | J86: 1 | K86: 1 | O86: 1 | R86: 1 | Y86: 1
A87: 8.6.1 | B87: ²Û¹ ÃíáõÙª ³Ýß³ñÅ ·áõÛùÁ
A88: 8.6.2 | B88: ²Û¹ ÃíáõÙª ß³ñÅ³Ï³Ý ·áõÛùÁ
A89: 8.7 | B89: Æñ³í³µ³Ý³Ï³Ý Ýß³Ý³ÏáõÃÛáõÝ áõÝ»óáÕ ÷³ëï»ñÇ Ñ³ëï³ïÙ³Ý í»ñ³µ»ñÛ³É | E89: 2 | G89: 2 | J89: 14 | K89: 11 | L89: 3 | O89: 5 | P89: 3 | Q89: 1 | S89: 1 | Y89: 5 | AB89: 8
A90: 8.7.1 | B90: ²ÝÓ³Ýó ³½·³Ïó³Ï³Ý Ï³åÁ Ñ³ëï³ï»Éáõ í»ñ³µ»ñÛ³É | E90: 3 | F90: 1 | G90: 2 | J90: 2 | K90: 2 | O90: 2 | P90: 2 | Y90: 2 | AB90: 3
A91: 8.7.2 | B91: ²ÝÓÇª áõñÇßÇ ËÝ³ÙùÇ ï³Ï ·ïÝí»Éáõ í»ñ³µ»ñÛ³É
A92: 8.7.3 | B92: ÌÝÝ¹Û³Ý, áñ¹»·ñÙ³Ý, ³ÙáõëÝáõÃÛ³Ý, ³å³Ñ³ñ½³ÝÇ ¨ Ù³Ñí³Ý ·ñ³ÝóÙ³Ý í»ñ³µ»ñÛ³É
A93: 8.7.4 | B93: ²ÝÓÇª áñáß³ÏÇ Å³Ù³Ý³ÏáõÙ ¨ áñáß³ÏÇ Ñ³Ý·³Ù³ÝùÝ»ñáõÙ Ù³Ñí³Ý í»ñ³µ»ñÛ³É
A94: 8.7.5 | B94: Ä³é³Ý·áõÃÛáõÝÝ ÁÝ¹áõÝ»Éáõ ¨ Å³é³Ý·áõÃÛ³Ý µ³óÙ³Ý í³ÛñÇ í»ñ³µ»ñÛ³É | E94: 3 | G94: 3 | O94: 2 | P94: 2 | Y94: 2 | AB94: 1 | AD94: 1 | AF94: 1 | AG94: 1 | AK94: 1 | AM94: 1 | AN94: 1
A95: 8.7.6 | B95: ¸Åµ³Ëï å³ï³Ñ³ñÇ í»ñ³µ»ñÛ³É
A96: 8.7.7 | B96: Æñ³íáõÝù ë³ÑÙ³ÝáÕ ÷³ëï³ÃÕÃ»ñÇ å³ïÏ³Ý»ÉáõÃÛ³Ý í»ñ³µ»ñÛ³É | E96: 2 | G96: 2 | O96: 2 | P96: 2 | Y96: 2
A97: 8.7.8 | B97: ê»÷³Ï³ÝáõÃÛ³Ý Çñ³íáõÝùáí ·áõÛùÇ ïÇñ³å»ïÙ³Ý í»ñ³µ»ñÛ³É
A98: 8.7.9 | B98: ²ÝÑ³ÕÃ³Ñ³ñ»ÉÇ áõÅÇ ³éÏ³ÛáõÃÛ³Ý í»ñ³µ»ñÛ³É
A99: 8.7.10 | B99: úñ»Ýùáí Ý³Ë³ï»ëí³Í ³ÛÉ Çñ³í³µ³Ý³Ï³Ý ÷³ëï»ñÇ í»ñ³µ»ñÛ³É
A100: 8.8 | B100: Àëï Ý»ñÏ³Û³óÝáÕÇ ¨ ûñ¹»ñ³ÛÇÝ Ïáñóñ³Í ³ñÅ»ÃÕÃ»ñáí Ñ³í³ëïí³Í Çñ³íáõÝùÝ»ñÁ í»ñ³Ï³Ý·Ý»Éáõ í»ñ³µ»ñÛ³É
...

Sheet Ա.Հունանյան
A1: 2017թ. | G1: Ð²ÞìºîìàôÂÚàôÜ | AM1: Հավելված Հայաստանի Հանրապետության Դատարանների նախագահների խորհրդի 29.01.2018թ. թիվ 10-Լ որոշման
A2: ºðºì²ÜÆ ²ð²´ÎÆð ºì ø²Ü²øºè-¼ºÚÂàôÜ ì²ðâ²Î²Ü Þðæ²ÜÜºðÆ ÀÜ¸Ð²Üàôð Æð²ì²êàôÂÚ²Ü ²è²æÆÜ ²îÚ²ÜÆ ¸²î²ð²ÜÆ ¸²î²ìàð | Z2: ². ÐàôÜ²ÜÚ²Ü | AH2: ¶àðÌàôÜºàôÂÚ²Ü ìºð²´ºðÚ²È
A3: ø²Ô²ø²òÆ²Î²Ü ¶àðÌºðàì
A4: ºñ¨³ÝÇ ²ñ³µÏÇñ ¨ ø³Ý³ù»é-¼»ÛÃáõÝ í³ñã³Ï³Ý ßñç³ÝÝ»ñÇ ÁÝ¹Ñ³Ýáõñ Çñ³í³ëáõÃÛ³Ý ³é³çÇÝ ³ïÛ³ÝÇ ¹³ï³ñ³ÝÇ ù³Õ³ù³óÇ³Ï³Ý Ù³ëÝ³·Çï³óáõÙ áõÝ»óáÕ ¹³ï³íáñÝ»ñÇ Ñ³ëïÇùÝ»ñÇ ù³Ý³ÏÁ` 7
E5: Ð³ßí»ïáõ Å³Ù³Ý³Ï³Ñ³ïí³ÍáõÙ Ý³Ëáñ¹ Ñ³ßí»ïáõ Å³Ù³Ý³Ï³Ñ³ïí³ÍÇó ÷áË³Ýóí³Í ·áñÍ»ñÇ ÁÝ¹Ñ³Ýáõñ ÃÇíÁ | J5: Ð³ßí»ïáõ Å³Ù³Ý³Ï³Ñ³ïí³ÍáõÙëï³óí³Í ·áñÍ»ñÇ (³Û¹ ÃíáõÙ` Ñ³Ûó³¹ÇÙáõÙÝ»ñÇ, ¹ÇÙáõÙÝ»ñÇ) ÁÝ¹Ñ³Ýáõñ ÃÇíÁ | N5: öáË³Ýóí»É ¿ ³ÛÉ ¹³ï³íáñÇ (Ï³½ÙÇ ÷á÷áËáõÃÛáõÝ) | O5: Ð³ßí»ïáõ Å³Ù³Ý³Ï³Ñ³ïí³ÍáõÙ ³í³ñïí³Í ·áñÍ»ñÇ ÁÝ¹Ñ³Ýáõñ ÃÇíÁ | Z5: ¶áñÍÝ áõÕ³ñÏí»É ¿ Áëï ÁÝ¹¹³ïáõÃÛ³Ý | AA5: Ð³ßí»ïáõ Å³Ù³Ý³Ï³Ñ³ïí³ÍáõÙ Ï³ë»óí³Í í³ñáõÛÃÝ»ñáí ·áñÍ»ñÇ ÁÝ¹Ñ³Ýáõñ ÃÇíÁ | AB5: Ð³ßí»ïáõ Å³Ù³Ý³Ï³Ñ³ïí³ÍáõÙ ³Ý³í³ñï ·áñÍ»ñÇ ÁÝ¹Ñ³Ýáõñ ÃÇíÁ | AC5: ²Û¹ ÃíáõÙª Ï³ë»óí³Í | AD5: ´áÕáù³ñÏí³Í ¹³ï³Ï³Ý ³Ïï»ñÁ | AI5: ²í³ñïí³Í ¹³ï³Ï³Ý ·áñÍ»ñÇ µáÕáù³ñÏÙ³Ý ïáÏáëÁ (Ñ³ßí»ïáõ Å³Ù³Ý³Ï³ßñç³ÝáõÙ) | AJ5: ²Ý³í³ñï µáÕáùÝ»ñ | AK5: ´»Ï³Ýí³Í ¹³ï³Ï³Ý ³Ïï»ñÁ | AP5: µ»Ï³ÝáõÙÝ»ñÇ ïáÏáëÁ ³í³ñïí³Í ·áñÍ»ñÇó(Ñ³ßí»ïáõ Å³Ù³Ý³Ï³ßñç³ÝáõÙ) | AQ5: Î³ÛáõÝáõÃÛ³Ý ïáÏáëÁ ³í³ñïí³Í ·áñÍ»ñÇó(Ñ³ßí»ïáõ Å³Ù³Ý³Ï³ßñç³ÝáõÙ) | AR5: µ»Ï³ÝáõÙÝ»ñÇ ïáÏáëÁ µáÕáù³ñÏí³Í ·áñÍ»ñÇó(Ñ³ßí»ïáõ Å³Ù³Ý³Ï³ßñç³ÝáõÙ) | AS5: Ï³ÛáõÝáõÃÛ³Ý ïáÏáëÁ(Ñ³ßí»ïáõ Å³Ù³Ý³Ï³ßñç³ÝáõÙ)
E6: ÀÝ¹³Ù»ÝÁ | F6: ²Û¹ ÃíáõÙ`Ï³ë»óí³Í íÇ×³ÏáõÙ ÷áË³Ýóí³Í | G6: ²Û¹ ÃíáõÙª ÁÝ¹áõÝí»É ¿ í³ñáõÛÃ | H6: ²Û¹ ÃíáõÙª í»ñ³¹³ñÓí»É ¿ | I6: ²Û¹ ÃíáõÙª ÁÝ¹áõÝáõÙÁ Ù»ñÅí»É ¿ | J6: ÀÝ¹³Ù»ÝÁ | K6: ²Û¹ ÃíáõÙª ÁÝ¹áõÝí»É ¿ í³ñáõÛÃ | L6: ²Û¹ ÃíáõÙª í»ñ³¹³ñÓí»É ¿ | M6: ²Û¹ ÃíáõÙª ÁÝ¹áõÝáõÙÁ Ù»ñÅí»É ¿ | O6: ÀÝ¹³Ù»ÝÁ ³í³ñïí»É »Ý ·áñÍ»ñ ·áñÍÝ Áëï ¿áõÃÛ³Ý ÉáõÍáÕ ¹³ï³Ï³Ý ³Ïï»ñÇ (í×ÇéÝ»ñÇ) Ï³Û³óÙ³Ùµ | P6: ²Û¹ ÃíáõÙª Ñ³ÛóÇ µ³í³ñ³ñÙ³Ùµ | Q6: ²Û¹ ÃíáõÙª Ñ³ÛóÇ Ù³ëÝ³ÏÇ µ³í³ñ³ñÙ³Ùµ | R6: ²Û¹ ÃíáõÙª Ñ³ÛóÇ Ù»ñÅÙ³Ùµ | S6: Ø³ëáí Ï³ñ×í»É ¿, Ù³ëáí Ù»ñÅí»É | T6: ²Û¹ ÃíáõÙª Ï³ñ×í»É »Ý | X6: Ð³ÛóÁ ÃáÕÝí»É ¿ ³é³Ýó ùÝÝáõÃÛ³Ý | Y6: ÀÝ¹³Ù»ÝÝ ³í³ñïí»É »Ý ·áñÍ»ñ | AD6: ²Û¹ ÃíáõÙ` ·áñÍÝ Áëï ¿áõÃÛ³Ý ÉáõÍáÕ ¹³ï³Ï³Ý ³Ïï»ñÁ | AE6: ²Û¹ ÃíáõÙ` ÙÇç³ÝÏÛ³É ¹³ï³Ï³Ý ³Ïï»ñÁ | AF6: ÀÝ¹³Ù»ÝÁ | AG6: Ü³Ëáñ¹ ï³ñÇÝ»ñÇÝ Ï³Û³óí³Í ³Ïï»ñÇ µáÕáù³ñÏáõÙÁ Ñ³ßí»ïáõ Å³Ù³Ý³Ï³ßñç³ÝáõÙ | AH6: Ð³ßí»ïáõ Å³Ù³Ý³Ï³ßñç³ÝáõÙ Ï³Û³óí³Í ³Ïï»ñÇ µáÕáù³ñÏáõÙÁ | AK6: ²Û¹ ÃíáõÙ` ·áñÍÝ Áëï ¿áõÃÛ³Ý ÉáõÍáÕ ¹³ï³Ï³Ý ³Ïï»ñÁ | AL6: ²Û¹ ÃíáõÙ` ÙÇç³ÝÏÛ³É ¹³ï³Ï³Ý ³Ïï»ñÁ | AM6: ÀÝ¹³Ù»ÝÁ | AN6: Ü³Ëáñ¹ ï³ñÇÝ»ñÇÝ Ï³Û³óí³Í ³Ïï»ñÇ µ»Ï³ÝáõÙÝ»ñÁ Ñ³ßí»ïáõ Å³Ù³Ý³Ï³ßñç³ÝáõÙ | AO6: Ð³ßí»ïáõ Å³Ù³Ý³Ï³ßñç³ÝáõÙ Ï³Û³óí³Í ³Ïï»ñÇ µ»Ï³ÝáõÙÁ
T7: ÀÝ¹³Ù»ÝÁ Ï³ñ×í»É »Ý | U7: ²Û¹ ÃíáõÙª Ñ³ëï³ïí»É ¿ ÏÝùí³Í Ñ³ßïáõÃÛ³Ý Ñ³Ù³Ó³ÛÝáõÃÛáõÝÁ | V7: ²Û¹ ÃíáõÙª Ñ³óÇó, ¹ÇÙáõÙÇó Ññ³Å³ñí»Éáõ ÑÇÙùáí | W7: ²Û¹ ÃíáõÙª ³ÛÉ ÑÇÙùáí
E8: 1 | F8: 2 | G8: 3 | H8: 4 | I8: 5 | J8: 6 | K8: 7 | L8: 8 | M8: 9 | N8: 10 | O8: 11 | P8: 12 | Q8: 13 | R8: 14 | S8: 15 | T8: 16 | U8: 17 | V8: 18 | W8: 19 | X8: 20 | Y8: 21 | Z8: 22 | AA8: 23 | AB8: 24 | AC8: 25 | AD8: 26 | AE8: 27 | AF8: 28 | AG8: 29 | AH8: 30 | AI8: 31 | AJ8: 32 | AK8: 33 | AL8: 34 | AM8: 35 | AN8: 36 | AO8: 37 | AP8: 38 | AQ8: 39 | AR8: 40 | AS8: 41
A9: 1. | B9: ¶áõÛù³ÛÇÝ Çñ³í³Ñ³ñ³µ»ñáõÃÛáõÝÝ»ñÇ í»ñ³µ»ñÛ³É ¹³ï³Ï³Ý ·áñÍ»ñ | E9: =SUM(E10:E28) -> 0 | F9: =SUM(F10:F28) -> 0 | G9: =SUM(G10:G28) -> 0 | H9: =SUM(H10:H28) -> 0 | I9: =SUM(I10:I28) -> 0 | J9: =SUM(J10:J28) -> 0 | K9: =SUM(K10:K28) -> 0 | L9: =SUM(L10:L28) -> 0 | ... AS9: =SUM(AS10:AS28) -> 0
A10: 1.1 | B10: ¶áõÛùÇ ÝÏ³ïÙ³Ùµ ë»÷³Ï³ÝáõÃÛ³Ý Çñ³íáõÝùÁ ×³Ý³ã»Éáõ í»ñ³µ»ñÛ³É
A11: 1.1.1 | B11: ²Û¹ ÃíáõÙª Ó»éùµ»ñÙ³Ý í³Õ»ÙáõÃÛ³Ý áõÅáí
A12: 1.1.2 | B12: ²Û¹ ÃíáõÙª ïÇñ³½áõñÏ ·áõÛùÇ ÝÏ³ïÙ³Ùµ
A13: 1.1.3 | B13: ²Û¹ ÃíáõÙª ÇÝùÝ³Ï³Ù Ï³éáõÛóÇ ÝÏ³ïÙ³Ùµ
A14: 1.2 | B14: ê»÷³Ï³ÝáõÃÛ³Ý Çñ³íáõÝùÇ ¹³¹³ñ»óÙ³Ý í»ñ³µ»ñÛ³É
A15: 1.3 | B15: ¶áõÛùÇ ÝÏ³ïÙ³Ùµ û·ï³·áñÍÙ³Ý Çñ³íáõÝùÁ ×³Ý³ã»Éáõ í»ñ³µ»ñÛ³É
A16: 1.3.1 | B16: ²Û¹ ÃíáõÙª µÝ³Ïû·ï³·áñÍÙ³Ý Çñ³íáõÝùÁ ×³Ý³ã»Éáõ í»ñ³µ»ñÛ³É
A17: 1.3.2 | B17: ²Û¹ ÃíáõÙª ÑáÕ³Ù³ëÇ ÝÏ³ïÙ³Ùµ û·ï³·áñÍÙ³Ý Çñ³íáõÝùÁ ×³Ý³ã»Éáõ í»ñ³µ»ñÛ³É
A18: 1.4 | B18: ¶áõÛùÇ ÝÏ³ïÙ³Ùµ û·ï³·áñÍÙ³Ý Çñ³íáõÝùÁ ¹³¹³ñ»óÝ»Éáõ í»ñ³µ»ñÛ³É
A19: 1.4.1 | B19: ²Û¹ ÃíáõÙª µÝ³Ïû·ï³·áñÍÙ³Ý Çñ³íáõÝùÁ ¹³¹³ñ»óÝ»Éáõ í»ñ³µ»ñÛ³É
A20: 1.4.1/1 | B20: ²Û¹ ÃíáõÙª ÷áËÑ³ïáõóÙ³Ùµ
A21: 1.5 | B21: ´Ý³Ï³ñ³ÝÇó/ ï³ñ³ÍùÇó/ íï³ñ»Éáõ í»ñ³µ»ñÛ³É
A22: 1.6 | B22: ¶áõÛùÝ áõñÇßÇ ³åûñÇÝÇ ïÇñ³å»ïáõÙÇó »ï í»ñ³¹³ñÓÝ»Éáõ í»ñ³µ»ñÛ³É
A23: 1.6.1 | B23: ´³ñ»ËÇÕ× Ó»éùµ»ñáÕÇó Çñ ·áõÛùÁ Ñ»ï å³Ñ³Ýç»Éáõ í»ñ³µ»ñÛ³É
A24: 1.7 | B24: îÇñ³å»ïáõÙÇó ½ñÏ»Éáõ Ñ»ï ãÏ³åí³Í Çñ³íáõÝùÝ»ñÇ Ë³ËïáõÙÁ í»ñ³óÝ»Éáõ í»ñ³µ»ñÛ³É
A25: 1.8 | B25: ÀÝ¹Ñ³Ýáõñ µ³ÅÝ³ÛÇÝ ë»÷³Ï³ÝáõÃÛáõÝÇó µ³ÅÇÝÝ ³é³ÝÓÝ³óÝ»Éáõ í»ñ³µ»ñÛ³É
A26: 1.8.1 | B26: Ð³Ù³ï»Õ ë»÷³Ï³ÝáõÃÛ³Ý Ý»ñùá ·ïÝíáÕ ·áõÛùÁ µ³Å³Ý»Éáõ ¨ ¹ñ³ÝÇó µ³ÅÇÝÝ ³é³ÝÓÝ³óÝ»Éáõ í»ñ³µ»ñÛ³É
... A28: 1.9 | B28: ²ÛÉ í»×»ñ
A29: 2. | B29: ¶áñÍ³ñùÝ»ñÇ Ñ»ï Ï³åí³Í Çñ³í³Ñ³ñ³µ»ñáõÃÛáõÝÝ»ñÇ í»ñ³µ»ñÛ³É ¹³ï³Ï³Ý ·áñÍ»ñ | E29: =SUM(E30:E40) -> 0 | F29: =SUM(F30:F40) -> 0 | G29: =SUM(G30:G40) -> 0 | H29: =SUM(H30:H40) -> 0 | I29: =SUM(I30:I40) -> 0 | J29: =SUM(J30:J40) -> 0 | K29: =SUM(K30:K40) -> 0 | L29: =SUM(L30:L40) -> 0 | ... AS29: =SUM(AS30:AS40) -> 0
A30: 2.1 | B30: ·áñÍ³ñùÝ»ñÇ ³Ýí³í»ñáõÃÛ³Ý Ñ»ï Ï³åí³Í í»×»ñ
A31: 2.1.1 | B31: ³Û¹ ÃíáõÙ` íÇ×³Ñ³ñáõÛó ·áñÍ³ñùÝ»ñÝ ³Ýí³í»ñ ×³Ý³ã»Éáõ í»ñ³µ»ñÛ³É
A32: 2.1.2 | B32: ³Û¹ ÃíáõÙ` ·áñÍ³ñùÇ ³éáãÝãáõÃÛ³Ý Ñ»ï¨³ÝùÝ»ñ ÏÇñ³é»Éáõ í»ñ³µ»ñÛ³É
A33: 2.2 | B33: ¶áñÍ³ñùÁ í³í»ñ ×³Ý³ã»Éáõ í»ñ³µ»ñÛ³É
A34: 2.3 | B34: ¶áñÍ³ñùÇó Í³·áÕ Çñ³íáõÝùÝ»ñÁ ·ñ³Ýó»Éáõ í»ñ³µ»ñÛ³É
A35: 2.4 | B35: ä³ÛÙ³Ý³·ÇñÝ ³Ýí³í»ñ ×³Ý³ã»Éáõ í»ñ³µ»ñÛ³É
A36: 2.5 | B36: ä³ÛÙ³Ý³·ñÇÁ í³í»ñ ×³Ý³ã»Éáõ í»ñ³µ»ñÛ³É
A37: 2.6 | B37: ä³ÛÙ³Ý³·ñÇó Í³·áÕ Çñ³íáõÝùÝ»ñÁ ·ñ³Ýó»Éáõ í»ñ³µ»ñÛ³É
A38: 2.7 | B38: ä³ÛÙ³Ý³·ÇñÁ ÷á÷áË»Éáõ ¨ ÉáõÍ»Éáõ í»ñ³µ»ñÛ³É
A39: 2.8 | B39: ä³ÛÙ³Ý³·Çñ ÏÝù»ÉáõÝ å³ñï³íáñ»óÝ»Éáõ í»ñ³µ»ñÛ³É
A40: 2.9 | B40: ²ÛÉ í»×»ñ
A41: 3. | B41: Ä³é³Ý·áõÃÛ³Ý Ñ»ï Ï³åí³Í Çñ³í³Ñ³ñ³µ»ñáõÃÛáõÝÝ»ñÇ í»ñ³µ»ñÛ³É ¹³ï³Ï³Ý ·áñÍ»ñ | E41: =SUM(E42:E48) -> 0 | F41: =SUM(F42:F48) -> 0 | G41: =SUM(G42:G48) -> 0 | H41: =SUM(H42:H48) -> 0 | I41: =SUM(I42:I48) -> 0 | J41: =SUM(J42:J48) -> 0 | K41: =SUM(K42:K48) -> 0 | L41: =SUM(L42:L48) -> 0 | ... AS41: =SUM(AS42:AS48) -> 0
A42: 3.1 | B42: Îï³ÏÝ ³Ýí³í»ñ ×³Ý³ã»Éáõ í»ñ³µ»ñÛ³É
A43: 3.2 | B43: ²Ý³ñÅ³Ý Å³é³Ý· ×³Ý³ã»Éáõ í»ñ³µ»ñÛ³É
A44: 3.3 | B44: Ä³é³Ý·áõÃÛáõÝÁ µ³Å³Ý»Éáõ í»ñ³µ»ñÛ³É
A45: 3.4 | B45: ¶áõÛùÝ ³ÝÅ³é³Ý· ×³Ý³ã»Éáõ í»ñ³µ»ñÛ³É
A46: 3.5 | B46: Àëï ûñ»ÝùÇ Å³é³Ý·áõÃÛ³Ý Çñ³íáõÝùÇ íÏ³Û³·ÇñÝ ³Ýí³í»ñ ×³Ý³ã»Éáõ í»ñ³µ»ñÛ³É
A47: 3.6 | B47: Ä³é³Ý·áõÃÛáõÝÝ ÁÝ¹áõÝ»Éáõ µ³ó ÃáÕÝí³Í Å³ÙÏ»ïÁ Ñ³ñ·»ÉÇ Ñ³Ù³ñ»Éáõ í»ñ³µ»ñÛ³É
A48: 3.7 | B48: ²ÛÉ í»×»ñ
A49: 4 | B49: ÀÝï³Ý»Ï³Ý Çñ³í³Ñ³ñ³µ»ñáõÃÛáõÝÝ»ñÇ í»ñ³µ»ñÛ³É ¹³ï³Ï³Ý ·áñÍ»ñ | E49: =SUM(E50:E62) -> 0 | F49: =SUM(F50:F62) -> 0 | G49: =SUM(G50:G62) -> 0 | H49: =SUM(H50:H62) -> 0 | I49: =SUM(I50:I62) -> 0 | J49: =SUM(J50:J62) -> 0 | K49: =SUM(K50:K62) -> 0 | L49: =SUM(L50:L62) -> 0 | ... AS49: =SUM(AS50:AS62) -> 0
A50: 4.1 | B50: ²ÙáõëÝ³ÉáõÍáõÃÛ³Ý í»ñ³µ»ñÛ³É
A51: 4.2 | B51: ²ÉÇÙ»ÝïÇ å³Ñ³ÝçÇ í»ñ³µ»ñÛ³É
A52: 4.3 | B52: ²ÉÇÙ»ÝïÇ ã³÷Á ÷á÷áË»Éáõ í»ñ³µ»ñÛ³É
A53: 4.4 | B53: ÌÝáÕ³Ï³Ý Çñ³íáõÝùÝ»ñÇó ½ñÏ»Éáõ í»ñ³µ»ñÛ³É
A54: 4.5 | B54: ÌÝáÕ³Ï³Ý Çñ³íáõÝùÝ»ñÁ í»ñ³Ï³Ý·Ý»Éáõ í»ñ³µ»ñÛ³É
A55: 4.6 | B55: ºñ»Ë³ÛÇ áñ¹»·ñÙ³Ý í»ñ³µ»ñÛ³É
A56: 4.7 | B56: ºñ»Ë³ÛÇ áñ¹»·ñáõÙÁ í»ñ³óÝ»Éáõ í»ñ³µ»ñÛ³É
A57: 4.8 | B57: Ð³ÛñáõÃÛáõÝÁ ×³Ý³ã»Éáõ í»ñ³µ»ñÛ³É
A58: 4.9 | B58: ºñ»Ë³ÛÇ µÝ³ÏáõÃÛ³Ý í³ÛñÁ áñáß»Éáõ í»ñ³µ»ñÛ³É
A59: 4.10 | B59: ºñ»Ë³ÛÇ Ñ»ï ï»ë³ÏóáõÃÛ³Ý Ï³ñ· ë³ÑÙ³Ý»Éáõ í»ñ³µ»ñÛ³É
A60: 4.11 | B60: ²ÙáõëÇÝÝ»ñÇ ÁÝ¹Ñ³Ýáõñ ·áõÛùÁ µ³Å³Ý»Éáõ í»ñ³µ»ñÛ³É
A61: 4.12 | B61: ²ÙáõëÝ³Ï³Ý å³ÛÙ³Ý³·ñÇ ÷á÷áËÙ³Ý Ï³Ù ÉáõÍÙ³Ý í»ñ³µ»ñÛ³É
A62: 4.13 | B62: ²ÛÉ í»×»ñ
A63: 5. | B63: Øï³íáñ ë»÷³Ï³ÝáõÃÛ³Ý Ñ»ï Ï³åí³ÍÇñ³í³Ñ³ñ³µ»ñáõÃÛáõÝÝ»ñÇ í»ñ³µ»ñÛ³É ¹³ï³Ï³Ý ·áñÍ»ñ | E63: =SUM(E64:E69) -> 0 | F63: =SUM(F64:F69) -> 0 | G63: =SUM(G64:G69) -> 0 | H63: =SUM(H64:H69) -> 0 | I63: =SUM(I64:I69) -> 0 | J63: =SUM(J64:J69) -> 0 | K63: =SUM(K64:K69) -> 0 | L63: =SUM(L64:L69) -> 0 | ... AS63: =SUM(AS64:AS69) -> 0
A64: 5.1 | B64: ÈÇó»Ý½³ÛÇÝ å³ÛÙ³Ý³·ñÇ ÉáõÍÙ³Ý, ÷á÷áËÙ³Ý ¨ ³Ýí³í»ñáõÃÛ³Ý í»ñ³µ»ñÛ³É
A65: 5.2 | B65: Øï³íáñ ·áñÍáõÝ»áõÃÛ³Ý ³ñ¹ÛáõÝùÝ»ñ ëï»ÕÍ»Éáõ ¨ û·ï³·áñÍ»Éáõ å³ÛÙ³Ý³·ñÇ ÉáõÍÙ³Ý, ÷á÷áËÙ³Ý áõ ³Ýí³í»ñáõÃÛ³Ý í»ñ³µ»ñÛ³É
A66: 5.3 | B66: Ð»ÕÇÝ³Ï³ÛÇÝ ¨ Ñ³ñ³ÏÇó Çñ³íáõÝùÝ»ñÇ í»ñ³µ»ñÛ³É
A67: 5.4 | B67: üÇñÙ³ÛÇÝ ³Ýí³ÝÙ³Ý í»ñ³µ»ñÛ³É
A68: 5.5 | B68: ²åñ³Ýù³ÛÇÝ Ýß³ÝÇ í»ñ³µ»ñÛ³É
A69: 5.6 | B69: ²ÛÉ í»×»ñ
A70: 6. | B70: ²ßË³ï³Ýù³ÛÇÝ Çñ³í³Ñ³ñ³µ»ñáõÃÛáõÝÝ»ñÇ í»ñ³µ»ñÛ³É ¹³ï³Ï³Ý ·áñÍ»ñ | E70: =SUM(E71:E76) -> 0 | F70: =SUM(F71:F76) -> 0 | G70: =SUM(G71:G76) -> 0 | H70: =SUM(H71:H76) -> 0 | I70: =SUM(I71:I76) -> 0 | J70: =SUM(J71:J76) -> 0 | K70: =SUM(K71:K76) -> 0 | L70: =SUM(L71:L76) -> 0 | ... AS70: =SUM(AS71:AS76) -> 0
A71: 6.1 | B71: ²ßË³ï³Ýù³ÛÇÝ å³ÛÙ³Ý³·ñ»ñÇ í»ñ³µ»ñÛ³É
A72: 6.2 | B72: ²ßË³ï³ÝùáõÙ í»ñ³Ï³Ý·Ý»Éáõ í»ñ³µ»ñÛ³É
A73: 6.3 | B73: ¶áñÍ³¹áõÉÝ ³ÝûñÇÝ³Ï³Ý ×³Ý³ã»Éáõ í»ñ³µ»ñÛ³É
A74: 6.4 | B74: Ð³ñÏ³¹Çñ å³ñ³åáõñ¹Ç Ñ³ïáõóÙ³Ý í»ñ³µ»ñÛ³É
A75: 6.5 | B75: âí×³ñí³Í ³ßË³ï³í³ñÓÇ ¨/Ï³Ù ³ÛÉ í×³ñÝ»ñÇ µéÝ³·³ÝÓÙ³Ý í»ñ³µ»ñÛ³É
A76: 6.6 | B76: ²ÛÉ í»×»ñ
A77: 7. | B77: Æñ³í³µ³Ý³Ï³Ý ³ÝÓÇ ·áñÍáõÝ»áõÃÛáõÝÇó µËáÕ Çñ³í³Ñ³ñ³µ»ñáõÃÛáõÝÝ»ñÇ í»ñ³µ»ñÛ³É ¹³ï³Ï³Ý ·áñÍ»ñ | E77: =SUM(E78:E79) -> 0 | F77: =SUM(F78:F79) -> 0 | G77: =SUM(G78:G79) -> 0 | H77: =SUM(H78:H79) -> 0 | I77: =SUM(I78:I79) -> 0 | J77: =SUM(J78:J79) -> 0 | K77: =SUM(K78:K79) -> 0 | L77: =SUM(L78:L79) -> 0 | ... AS77: =SUM(AS78:AS79) -> 0
A78: 7.1 | B78: Îáñåáñ³ïÇí í»×»ñ
A79: 7.2 | B79: ²ÛÉ í»×»ñ
A80: 8. | B80: Ð³ïáõÏ í³ñáõÛÃÇ ¹³ï³Ï³Ý ·áñÍ»ñ | E80: =SUM(E81:E101) -> 0 | F80: =SUM(F81:F101) -> 0 | G80: =SUM(G81:G101) -> 0 | H80: =SUM(H81:H101) -> 0 | I80: =SUM(I81:I101) -> 0 | J80: =SUM(J81:J101) -> 0 | K80: =SUM(K81:K101) -> 0 | L80: =SUM(L81:L101) -> 0 | ... AS80: =SUM(AS81:AS101) -> 0
A81: 8.1 | B81: ²Ýã³÷³Ñ³ëÇÝ ÉñÇí ·áñÍáõÝ³Ï ×³Ý³ã»Éáõ /¿Ù³ÝëÇå³óÇ³/ í»ñ³µ»ñÛ³É
A82: 8.2 | B82: ø³Õ³ù³óáõÝ ³Ý·áñÍáõÝ³Ï Ï³Ù ë³ÑÙ³Ý³÷³Ï ·áñÍáõÝ³Ï ×³Ý³ã»Éáõ í»ñ³µ»ñÛ³É
A83: 8.3 | B83: ø³Õ³ù³óáõÝ Ñá·»µáõÅ³Ï³Ý ÑÇí³Ý¹³Ýáó³ÛÇÝ Ñ³ñÏ³¹Çñ µáõÅÙ³Ý »ÝÃ³ñÏ»Éáõ í»ñ³µ»ñÛ³É
A84: 8.4 | B84: ø³Õ³ù³óáõÝ ³ÝÑ³Ûï µ³ó³Ï³ÛáÕ Ï³Ù Ù³Ñ³ó³Í ×³Ý³ã»Éáõ í»ñ³µ»ñÛ³É
A85: 8.5 | B85: ø³Õ³ù³óÇ³Ï³Ý Ï³óáõÃÛ³Ý ³Ïï»ñÇ ·ñ³éáõÙÝ»ñÇ ³Ý×ßïáõÃÛáõÝÝ»ñÁ å³ñ½»Éáõ í»ñ³µ»ñÛ³É
A86: 8.6 | B86: ¶áõÛùÁ ïÇñ³½áõñÏ ×³Ý³ã»Éáõ í»ñ³µ»ñÛ³É
A87: 8.6.1 | B87: ²Û¹ ÃíáõÙª ³Ýß³ñÅ ·áõÛùÁ
A88: 8.6.2 | B88: ²Û¹ ÃíáõÙª ß³ñÅ³Ï³Ý ·áõÛùÁ
A89: 8.7 | B89: Æñ³í³µ³Ý³Ï³Ý Ýß³Ý³ÏáõÃÛáõÝ áõÝ»óáÕ ÷³ëï»ñÇ Ñ³ëï³ïÙ³Ý í»ñ³µ»ñÛ³É
A90: 8.7.1 | B90: ²ÝÓ³Ýó ³½·³Ïó³Ï³Ý Ï³åÁ Ñ³ëï³ï»Éáõ í»ñ³µ»ñÛ³É
A91: 8.7.2 | B91: ²ÝÓÇª áõñÇßÇ ËÝ³ÙùÇ ï³Ï ·ïÝí»Éáõ í»ñ³µ»ñÛ³É
A92: 8.7.3 | B92: ÌÝÝ¹Û³Ý, áñ¹»·ñÙ³Ý, ³ÙáõëÝáõÃÛ³Ý, ³å³Ñ³ñ½³ÝÇ ¨ Ù³Ñí³Ý ·ñ³ÝóÙ³Ý í»ñ³µ»ñÛ³É
... A101: 8.10 | B101: ²ÛÉ í»×»ñ
A102: 9. | B102: Ð³ïáõÏ Ñ³Ûó³ÛÇÝ í³ñáõÛÃÇ ¹³ï³Ï³Ý ·áñÍ»ñ | E102: =SUM(E103:E105) -> 0 | F102: =SUM(F103:F105) -> 0 | G102: =SUM(G103:G105) -> 0 | H102: =SUM(H103:H105) -> 0 | I102: =SUM(I103:I105) -> 0 | J102: =SUM(J103:J105) -> 0 | K102: =SUM(K103:K105) -> 0 | L102: =SUM(L103:L105) -> 0 | ... AS102: =SUM(AS103:AS105) -> 0
A103: 9.1 | B103: ø³Õ³ù³óáõ ÏÛ³ÝùÇÝ Ï³Ù ³éáÕçáõÃÛ³ÝÝ ëå³éÝ³óáÕ íï³Ý·Ç í»ñ³µ»ñÛ³É
A104: 9.2 | B104: ÐÐ Î»ÝïñáÝ³Ï³Ý µ³ÝÏÇ ¨ ³Ýí×³ñáõÝ³Ï µ³ÝÏÇ Ï³Ù í³ñÏ³ÛÇÝ Ï³½Ù³Ï»ñåáõÃÛ³Ý Å³Ù³Ý³Ï³íáñ ³¹ÙÇÝÇëïñ³óÇ³ÛÇ áñáßáõÙÝ»ñÇ µáÕáù³ñÏÙ³Ý í»ñ³µ»ñÛ³É
A105: 9.3 | B105: ²ÛÉ í»×»ñ
A106: 11. | B106: ä³ñï³íáñ³Ï³Ý Çñ³í³Ñ³ñ³µ»ñáõÃÛáõÝÝ»ñÇ í»ñ³µ»ñÛ³É ¹³ï³Ï³Ý ·áñÍ»ñ | E106: =SUM(E107:E114) -> 0 | F106: =SUM(F107:F114) -> 0 | G106: =SUM(G107:G114) -> 0 | H106: =SUM(H107:H114) -> 0 | I106: =SUM(I107:I114) -> 0 | J106: =SUM(J107:J114) -> 0 | K106: =SUM(K107:K114) -> 0 | L106: =SUM(L107:L114) -> 0 | ... AS106: =SUM(AS107:AS114) -> 0
A107: 11.1 | B107: ¶áõÙ³ñÇ å³Ñ³ÝçÇ Ù³ëÇÝ | AK107: 1 | AM107: 1 | AN107: 1
A108: 11.2 | B108: ä³ñï³íáñáõÃÛáõÝÁ µÝ»Õ»Ýáí Ï³ï³ñ»Éáõ å³Ñ³ÝçÇ Ù³ëÇÝ
A109: 11.3 | B109: ìÝ³ëÁ ¨ µ³ó ÃáÕÝí³Í û·áõïÁ Ñ³ïáõó»Éáõ å³Ñ³ÝçÇ Ù³ëÇÝ
...

Sheet Ս.Արամյան
A1: 2017թ. | G1: Ð²ÞìºîìàôÂÚàôÜ | AM1: Հավելված Հայաստանի Հանրապետության Դատարանների նախագահների խորհրդի 29.01.2018թ. թիվ 10-Լ որոշման
A2: ºðºì²ÜÆ ²ð²´ÎÆð ºì ø²Ü²øºè-¼ºÚÂàôÜ ì²ðâ²Î²Ü Þðæ²ÜÜºðÆ ÀÜ¸Ð²Üàôð Æð²ì²êàôÂÚ²Ü ²è²æÆÜ ²îÚ²ÜÆ ¸²î²ð²ÜÆ ¸²î²ìàð | Z2: ê. ²ð²ØÚ²Ü | AH2: ¶àðÌàôÜºàôÂÚ²Ü ìºð²´ºðÚ²È
A3: ø²Ô²ø²òÆ²Î²Ü ¶àðÌºðàì
A4: ºñ¨³ÝÇ ²ñ³µÏÇñ ¨ ø³Ý³ù»é-¼»ÛÃáõÝ í³ñã³Ï³Ý ßñç³ÝÝ»ñÇ ÁÝ¹Ñ³Ýáõñ Çñ³í³ëáõÃÛ³Ý ³é³çÇÝ ³ïÛ³ÝÇ ¹³ï³ñ³ÝÇ ù³Õ³ù³óÇ³Ï³Ý Ù³ëÝ³·Çï³óáõÙ áõÝ»óáÕ ¹³ï³íáñÝ»ñÇ Ñ³ëïÇùÝ»ñÇ ù³Ý³ÏÁ` 7
E5: Ð³ßí»ïáõ Å³Ù³Ý³Ï³Ñ³ïí³ÍáõÙ Ý³Ëáñ¹ Ñ³ßí»ïáõ Å³Ù³Ý³Ï³Ñ³ïí³ÍÇó ÷áË³Ýóí³Í ·áñÍ»ñÇ ÁÝ¹Ñ³Ýáõñ ÃÇíÁ | J5: Ð³ßí»ïáõ Å³Ù³Ý³Ï³Ñ³ïí³ÍáõÙëï³óí³Í ·áñÍ»ñÇ (³Û¹ ÃíáõÙ` Ñ³Ûó³¹ÇÙáõÙÝ»ñÇ, ¹ÇÙáõÙÝ»ñÇ) ÁÝ¹Ñ³Ýáõñ ÃÇíÁ | N5: öáË³Ýóí»É ¿ ³ÛÉ ¹³ï³íáñÇ (Ï³½ÙÇ ÷á÷áËáõÃÛáõÝ) | O5: Ð³ßí»ïáõ Å³Ù³Ý³Ï³Ñ³ïí³ÍáõÙ ³í³ñïí³Í ·áñÍ»ñÇ ÁÝ¹Ñ³Ýáõñ ÃÇíÁ | Z5: ¶áñÍÝ áõÕ³ñÏí»É ¿ Áëï ÁÝ¹¹³ïáõÃÛ³Ý | AA5: Ð³ßí»ïáõ Å³Ù³Ý³Ï³Ñ³ïí³ÍáõÙ Ï³ë»óí³Í í³ñáõÛÃÝ»ñáí ·áñÍ»ñÇ ÁÝ¹Ñ³Ýáõñ ÃÇíÁ | AB5: Ð³ßí»ïáõ Å³Ù³Ý³Ï³Ñ³ïí³ÍáõÙ ³Ý³í³ñï ·áñÍ»ñÇ ÁÝ¹Ñ³Ýáõñ ÃÇíÁ | AC5: ²Û¹ ÃíáõÙª Ï³ë»óí³Í | AD5: ´áÕáù³ñÏí³Í ¹³ï³Ï³Ý ³Ïï»ñÁ | AI5: ²í³ñïí³Í ¹³ï³Ï³Ý ·áñÍ»ñÇ µáÕáù³ñÏÙ³Ý ïáÏáëÁ (Ñ³ßí»ïáõ Å³Ù³Ý³Ï³ßñç³ÝáõÙ) | AJ5: ²Ý³í³ñï µáÕáùÝ»ñ | AK5: ´»Ï³Ýí³Í ¹³ï³Ï³Ý ³Ïï»ñÁ | AP5: µ»Ï³ÝáõÙÝ»ñÇ ïáÏáëÁ ³í³ñïí³Í ·áñÍ»ñÇó(Ñ³ßí»ïáõ Å³Ù³Ý³Ï³ßñç³ÝáõÙ) | AQ5: Î³ÛáõÝáõÃÛ³Ý ïáÏáëÁ ³í³ñïí³Í ·áñÍ»ñÇó(Ñ³ßí»ïáõ Å³Ù³Ý³Ï³ßñç³ÝáõÙ) | AR5: µ»Ï³ÝáõÙÝ»ñÇ ïáÏáëÁ µáÕáù³ñÏí³Í ·áñÍ»ñÇó(Ñ³ßí»ïáõ Å³Ù³Ý³Ï³ßñç³ÝáõÙ) | AS5: Ï³ÛáõÝáõÃÛ³Ý ïáÏáëÁ(Ñ³ßí»ïáõ Å³Ù³Ý³Ï³ßñç³ÝáõÙ)
E6: ÀÝ¹³Ù»ÝÁ | F6: ²Û¹ ÃíáõÙ`Ï³ë»óí³Í íÇ×³ÏáõÙ ÷áË³Ýóí³Í | G6: ²Û¹ ÃíáõÙª ÁÝ¹áõÝí»É ¿ í³ñáõÛÃ | H6: ²Û¹ ÃíáõÙª í»ñ³¹³ñÓí»É ¿ | I6: ²Û¹ ÃíáõÙª ÁÝ¹áõÝáõÙÁ Ù»ñÅí»É ¿ | J6: ÀÝ¹³Ù»ÝÁ | K6: ²Û¹ ÃíáõÙª ÁÝ¹áõÝí»É ¿ í³ñáõÛÃ | L6: ²Û¹ ÃíáõÙª í»ñ³¹³ñÓí»É ¿ | M6: ²Û¹ ÃíáõÙª ÁÝ¹áõÝáõÙÁ Ù»ñÅí»É ¿ | O6: ÀÝ¹³Ù»ÝÁ ³í³ñïí»É »Ý ·áñÍ»ñ ·áñÍÝ Áëï ¿áõÃÛ³Ý ÉáõÍáÕ ¹³ï³Ï³Ý ³Ïï»ñÇ (í×ÇéÝ»ñÇ) Ï³Û³óÙ³Ùµ | P6: ²Û¹ ÃíáõÙª Ñ³ÛóÇ µ³í³ñ³ñÙ³Ùµ | Q6: ²Û¹ ÃíáõÙª Ñ³ÛóÇ Ù³ëÝ³ÏÇ µ³í³ñ³ñÙ³Ùµ | R6: ²Û¹ ÃíáõÙª Ñ³ÛóÇ Ù»ñÅÙ³Ùµ | S6: Ø³ëáí Ï³ñ×í»É ¿, Ù³ëáí Ù»ñÅí»É | T6: ²Û¹ ÃíáõÙª Ï³ñ×í»É »Ý | X6: Ð³ÛóÁ ÃáÕÝí»É ¿ ³é³Ýó ùÝÝáõÃÛ³Ý | Y6: ÀÝ¹³Ù»ÝÝ ³í³ñïí»É »Ý ·áñÍ»ñ | AD6: ²Û¹ ÃíáõÙ` ·áñÍÝ Áëï ¿áõÃÛ³Ý ÉáõÍáÕ ¹³ï³Ï³Ý ³Ïï»ñÁ | AE6: ²Û¹ ÃíáõÙ` ÙÇç³ÝÏÛ³É ¹³ï³Ï³Ý ³Ïï»ñÁ | AF6: ÀÝ¹³Ù»ÝÁ | AG6: Ü³Ëáñ¹ ï³ñÇÝ»ñÇÝ Ï³Û³óí³Í ³Ïï»ñÇ µáÕáù³ñÏáõÙÁ Ñ³ßí»ïáõ Å³Ù³Ý³Ï³ßñç³ÝáõÙ | AH6: Ð³ßí»ïáõ Å³Ù³Ý³Ï³ßñç³ÝáõÙ Ï³Û³óí³Í ³Ïï»ñÇ µáÕáù³ñÏáõÙÁ | AK6: ²Û¹ ÃíáõÙ` ·áñÍÝ Áëï ¿áõÃÛ³Ý ÉáõÍáÕ ¹³ï³Ï³Ý ³Ïï»ñÁ | AL6: ²Û¹ ÃíáõÙ` ÙÇç³ÝÏÛ³É ¹³ï³Ï³Ý ³Ïï»ñÁ | AM6: ÀÝ¹³Ù»ÝÁ | AN6: Ü³Ëáñ¹ ï³ñÇÝ»ñÇÝ Ï³Û³óí³Í ³Ïï»ñÇ µ»Ï³ÝáõÙÝ»ñÁ Ñ³ßí»ïáõ Å³Ù³Ý³Ï³ßñç³ÝáõÙ | AO6: Ð³ßí»ïáõ Å³Ù³Ý³Ï³ßñç³ÝáõÙ Ï³Û³óí³Í ³Ïï»ñÇ µ»Ï³ÝáõÙÁ
T7: ÀÝ¹³Ù»ÝÁ Ï³ñ×í»É »Ý | U7: ²Û¹ ÃíáõÙª Ñ³ëï³ïí»É ¿ ÏÝùí³Í Ñ³ßïáõÃÛ³Ý Ñ³Ù³Ó³ÛÝáõÃÛáõÝÁ | V7: ²Û¹ ÃíáõÙª Ñ³óÇó, ¹ÇÙáõÙÇó Ññ³Å³ñí»Éáõ ÑÇÙùáí | W7: ²Û¹ ÃíáõÙª ³ÛÉ ÑÇÙùáí
E8: 1 | F8: 2 | G8: 3 | H8: 4 | I8: 5 | J8: 6 | K8: 7 | L8: 8 | M8: 9 | N8: 10 | O8: 11 | P8: 12 | Q8: 13 | R8: 14 | S8: 15 | T8: 16 | U8: 17 | V8: 18 | W8: 19 | X8: 20 | Y8: 21 | Z8: 22 | AA8: 23 | AB8: 24 | AC8: 25 | AD8: 26 | AE8: 27 | AF8: 28 | AG8: 29 | AH8: 30 | AI8: 31 | AJ8: 32 | AK8: 33 | AL8: 34 | AM8: 35 | AN8: 36 | AO8: 37 | AP8: 38 | AQ8: 39 | AR8: 40 | AS8: 41
A9: 1. | B9: ¶áõÛù³ÛÇÝ Çñ³í³Ñ³ñ³µ»ñáõÃÛáõÝÝ»ñÇ í»ñ³µ»ñÛ³É ¹³ï³Ï³Ý ·áñÍ»ñ | E9: =SUM(E10:E28) -> 0 | F9: =SUM(F10:F28) -> 0 | G9: =SUM(G10:G28) -> 0 | H9: =SUM(H10:H28) -> 0 | I9: =SUM(I10:I28) -> 0 | J9: =SUM(J10:J28) -> 0 | K9: =SUM(K10:K28) -> 0 | L9: =SUM(L10:L28) -> 0 | ... AS9: =SUM(AS10:AS28) -> 0
A10: 1.1 | B10: ¶áõÛùÇ ÝÏ³ïÙ³Ùµ ë»÷³Ï³ÝáõÃÛ³Ý Çñ³íáõÝùÁ ×³Ý³ã»Éáõ í»ñ³µ»ñÛ³É
A11: 1.1.1 | B11: ²Û¹ ÃíáõÙª Ó»éùµ»ñÙ³Ý í³Õ»ÙáõÃÛ³Ý áõÅáí
A12: 1.1.2 | B12: ²Û¹ ÃíáõÙª ïÇñ³½áõñÏ ·áõÛùÇ ÝÏ³ïÙ³Ùµ
A13: 1.1.3 | B13: ²Û¹ ÃíáõÙª ÇÝùÝ³Ï³Ù Ï³éáõÛóÇ ÝÏ³ïÙ³Ùµ
A14: 1.2 | B14: ê»÷³Ï³ÝáõÃÛ³Ý Çñ³íáõÝùÇ ¹³¹³ñ»óÙ³Ý í»ñ³µ»ñÛ³É
A15: 1.3 | B15: ¶áõÛùÇ ÝÏ³ïÙ³Ùµ û·ï³·áñÍÙ³Ý Çñ³íáõÝùÁ ×³Ý³ã»Éáõ í»ñ³µ»ñÛ³É
A16: 1.3.1 | B16: ²Û¹ ÃíáõÙª µÝ³Ïû·ï³·áñÍÙ³Ý Çñ³íáõÝùÁ ×³Ý³ã»Éáõ í»ñ³µ»ñÛ³É
A17: 1.3.2 | B17: ²Û¹ ÃíáõÙª ÑáÕ³Ù³ëÇ ÝÏ³ïÙ³Ùµ û·ï³·áñÍÙ³Ý Çñ³íáõÝùÁ ×³Ý³ã»Éáõ í»ñ³µ»ñÛ³É
A18: 1.4 | B18: ¶áõÛùÇ ÝÏ³ïÙ³Ùµ û·ï³·áñÍÙ³Ý Çñ³íáõÝùÁ ¹³¹³ñ»óÝ»Éáõ í»ñ³µ»ñÛ³É
A19: 1.4.1 | B19: ²Û¹ ÃíáõÙª µÝ³Ïû·ï³·áñÍÙ³Ý Çñ³íáõÝùÁ ¹³¹³ñ»óÝ»Éáõ í»ñ³µ»ñÛ³É
A20: 1.4.1/1 | B20: ²Û¹ ÃíáõÙª ÷áËÑ³ïáõóÙ³Ùµ
A21: 1.5 | B21: ´Ý³Ï³ñ³ÝÇó/ ï³ñ³ÍùÇó/ íï³ñ»Éáõ í»ñ³µ»ñÛ³É
A22: 1.6 | B22: ¶áõÛùÝ áõñÇßÇ ³åûñÇÝÇ ïÇñ³å»ïáõÙÇó »ï í»ñ³¹³ñÓÝ»Éáõ í»ñ³µ»ñÛ³É
A23: 1.6.1 | B23: ´³ñ»ËÇÕ× Ó»éùµ»ñáÕÇó Çñ ·áõÛùÁ Ñ»ï å³Ñ³Ýç»Éáõ í»ñ³µ»ñÛ³É
A24: 1.7 | B24: îÇñ³å»ïáõÙÇó ½ñÏ»Éáõ Ñ»ï ãÏ³åí³Í Çñ³íáõÝùÝ»ñÇ Ë³ËïáõÙÁ í»ñ³óÝ»Éáõ í»ñ³µ»ñÛ³É
A25: 1.8 | B25: ÀÝ¹Ñ³Ýáõñ µ³ÅÝ³ÛÇÝ ë»÷³Ï³ÝáõÃÛáõÝÇó µ³ÅÇÝÝ ³é³ÝÓÝ³óÝ»Éáõ í»ñ³µ»ñÛ³É
A26: 1.8.1 | B26: Ð³Ù³ï»Õ ë»÷³Ï³ÝáõÃÛ³Ý Ý»ñùá ·ïÝíáÕ ·áõÛùÁ µ³Å³Ý»Éáõ ¨ ¹ñ³ÝÇó µ³ÅÇÝÝ ³é³ÝÓÝ³óÝ»Éáõ í»ñ³µ»ñÛ³É
A27: 1.8.3 | B27: ¶áõÛùÇ íñ³ µéÝ³·³ÝÓáõÙ ï³ñ³Í»Éáõ å³Ñ³ÝçÇ Ù³ëÇÝ
A28: 1.9 | B28: ²ÛÉ í»×»ñ | AK28: 1 | AM28: 1 | AO28: 1
A29: 2. | B29: ¶áñÍ³ñùÝ»ñÇ Ñ»ï Ï³åí³Í Çñ³í³Ñ³ñ³µ»ñáõÃÛáõÝÝ»ñÇ í»ñ³µ»ñÛ³É ¹³ï³Ï³Ý ·áñÍ»ñ | E29: =SUM(E30:E40) -> 0 | F29: =SUM(F30:F40) -> 0 | G29: =SUM(G30:G40) -> 0 | H29: =SUM(H30:H40) -> 0 | I29: =SUM(I30:I40) -> 0 | J29: =SUM(J30:J40) -> 0 | K29: =SUM(K30:K40) -> 0 | L29: =SUM(L30:L40) -> 0 | ... AS29: =SUM(AS30:AS40) -> 0
A30: 2.1 | B30: ·áñÍ³ñùÝ»ñÇ ³Ýí³í»ñáõÃÛ³Ý Ñ»ï Ï³åí³Í í»×»ñ
A31: 2.1.1 | B31: ³Û¹ ÃíáõÙ` íÇ×³Ñ³ñáõÛó ·áñÍ³ñùÝ»ñÝ ³Ýí³í»ñ ×³Ý³ã»Éáõ í»ñ³µ»ñÛ³É
A32: 2.1.2 | B32: ³Û¹ ÃíáõÙ` ·áñÍ³ñùÇ ³éáãÝãáõÃÛ³Ý Ñ»ï¨³ÝùÝ»ñ ÏÇñ³é»Éáõ í»ñ³µ»ñÛ³É
A33: 2.2 | B33: ¶áñÍ³ñùÁ í³í»ñ ×³Ý³ã»Éáõ í»ñ³µ»ñÛ³É
A34: 2.3 | B34: ¶áñÍ³ñùÇó Í³·áÕ Çñ³íáõÝùÝ»ñÁ ·ñ³Ýó»Éáõ í»ñ³µ»ñÛ³É
A35: 2.4 | B35: ä³ÛÙ³Ý³·ÇñÝ ³Ýí³í»ñ ×³Ý³ã»Éáõ í»ñ³µ»ñÛ³É
A36: 2.5 | B36: ä³ÛÙ³Ý³·ñÇÁ í³í»ñ ×³Ý³ã»Éáõ í»ñ³µ»ñÛ³É
A37: 2.6 | B37: ä³ÛÙ³Ý³·ñÇó Í³·áÕ Çñ³íáõÝùÝ»ñÁ ·ñ³Ýó»Éáõ í»ñ³µ»ñÛ³É
A38: 2.7 | B38: ä³ÛÙ³Ý³·ÇñÁ ÷á÷áË»Éáõ ¨ ÉáõÍ»Éáõ í»ñ³µ»ñÛ³É
A39: 2.8 | B39: ä³ÛÙ³Ý³·Çñ ÏÝù»ÉáõÝ å³ñï³íáñ»óÝ»Éáõ í»ñ³µ»ñÛ³É
A40: 2.9 | B40: ²ÛÉ í»×»ñ
A41: 3. | B41: Ä³é³Ý·áõÃÛ³Ý Ñ»ï Ï³åí³Í Çñ³í³Ñ³ñ³µ»ñáõÃÛáõÝÝ»ñÇ í»ñ³µ»ñÛ³É ¹³ï³Ï³Ý ·áñÍ»ñ | E41: =SUM(E42:E48) -> 0 | F41: =SUM(F42:F48) -> 0 | G41: =SUM(G42:G48) -> 0 | H41: =SUM(H42:H48) -> 0 | I41: =SUM(I42:I48) -> 0 | J41: =SUM(J42:J48) -> 0 | K41: =SUM(K42:K48) -> 0 | L41: =SUM(L42:L48) -> 0 | ... AS41: =SUM(AS42:AS48) -> 0
A42: 3.1 | B42: Îï³ÏÝ ³Ýí³í»ñ ×³Ý³ã»Éáõ í»ñ³µ»ñÛ³É
A43: 3.2 | B43: ²Ý³ñÅ³Ý Å³é³Ý· ×³Ý³ã»Éáõ í»ñ³µ»ñÛ³É
A44: 3.3 | B44: Ä³é³Ý·áõÃÛáõÝÁ µ³Å³Ý»Éáõ í»ñ³µ»ñÛ³É
A45: 3.4 | B45: ¶áõÛùÝ ³ÝÅ³é³Ý· ×³Ý³ã»Éáõ í»ñ³µ»ñÛ³É
A46: 3.5 | B46: Àëï ûñ»ÝùÇ Å³é³Ý·áõÃÛ³Ý Çñ³íáõÝùÇ íÏ³Û³·ÇñÝ ³Ýí³í»ñ ×³Ý³ã»Éáõ í»ñ³µ»ñÛ³É
A47: 3.6 | B47: Ä³é³Ý·áõÃÛáõÝÝ ÁÝ¹áõÝ»Éáõ µ³ó ÃáÕÝí³Í Å³ÙÏ»ïÁ Ñ³ñ·»ÉÇ Ñ³Ù³ñ»Éáõ í»ñ³µ»ñÛ³É
A48: 3.7 | B48: ²ÛÉ í»×»ñ
A49: 4 | B49: ÀÝï³Ý»Ï³Ý Çñ³í³Ñ³ñ³µ»ñáõÃÛáõÝÝ»ñÇ í»ñ³µ»ñÛ³É ¹³ï³Ï³Ý ·áñÍ»ñ | E49: =SUM(E50:E62) -> 0 | F49: =SUM(F50:F62) -> 0 | G49: =SUM(G50:G62) -> 0 | H49: =SUM(H50:H62) -> 0 | I49: =SUM(I50:I62) -> 0 | J49: =SUM(J50:J62) -> 0 | K49: =SUM(K50:K62) -> 0 | L49: =SUM(L50:L62) -> 0 | ... AS49: =SUM(AS50:AS62) -> 0
A50: 4.1 | B50: ²ÙáõëÝ³ÉáõÍáõÃÛ³Ý í»ñ³µ»ñÛ³É
A51: 4.2 | B51: ²ÉÇÙ»ÝïÇ å³Ñ³ÝçÇ í»ñ³µ»ñÛ³É
A52: 4.3 | B52: ²ÉÇÙ»ÝïÇ ã³÷Á ÷á÷áË»Éáõ í»ñ³µ»ñÛ³É
A53: 4.4 | B53: ÌÝáÕ³Ï³Ý Çñ³íáõÝùÝ»ñÇó ½ñÏ»Éáõ í»ñ³µ»ñÛ³É
A54: 4.5 | B54: ÌÝáÕ³Ï³Ý Çñ³íáõÝùÝ»ñÁ í»ñ³Ï³Ý·Ý»Éáõ í»ñ³µ»ñÛ³É
A55: 4.6 | B55: ºñ»Ë³ÛÇ áñ¹»·ñÙ³Ý í»ñ³µ»ñÛ³É
A56: 4.7 | B56: ºñ»Ë³ÛÇ áñ¹»·ñáõÙÁ í»ñ³óÝ»Éáõ í»ñ³µ»ñÛ³É
A57: 4.8 | B57: Ð³ÛñáõÃÛáõÝÁ ×³Ý³ã»Éáõ í»ñ³µ»ñÛ³É
A58: 4.9 | B58: ºñ»Ë³ÛÇ µÝ³ÏáõÃÛ³Ý í³ÛñÁ áñáß»Éáõ í»ñ³µ»ñÛ³É
A59: 4.10 | B59: ºñ»Ë³ÛÇ Ñ»ï ï»ë³ÏóáõÃÛ³Ý Ï³ñ· ë³ÑÙ³Ý»Éáõ í»ñ³µ»ñÛ³É
A60: 4.11 | B60: ²ÙáõëÇÝÝ»ñÇ ÁÝ¹Ñ³Ýáõñ ·áõÛùÁ µ³Å³Ý»Éáõ í»ñ³µ»ñÛ³É
A61: 4.12 | B61: ²ÙáõëÝ³Ï³Ý å³ÛÙ³Ý³·ñÇ ÷á÷áËÙ³Ý Ï³Ù ÉáõÍÙ³Ý í»ñ³µ»ñÛ³É
A62: 4.13 | B62: ²ÛÉ í»×»ñ
A63: 5. | B63: Øï³íáñ ë»÷³Ï³ÝáõÃÛ³Ý Ñ»ï Ï³åí³ÍÇñ³í³Ñ³ñ³µ»ñáõÃÛáõÝÝ»ñÇ í»ñ³µ»ñÛ³É ¹³ï³Ï³Ý ·áñÍ»ñ | E63: =SUM(E64:E69) -> 0 | F63: =SUM(F64:F69) -> 0 | G63: =SUM(G64:G69) -> 0 | H63: =SUM(H64:H69) -> 0 | I63: =SUM(I64:I69) -> 0 | J63: =SUM(J64:J69) -> 0 | K63: =SUM(K64:K69) -> 0 | L63: =SUM(L64:L69) -> 0 | ... AS63: =SUM(AS64:AS69) -> 0
A64: 5.1 | B64: ÈÇó»Ý½³ÛÇÝ å³ÛÙ³Ý³·ñÇ ÉáõÍÙ³Ý, ÷á÷áËÙ³Ý ¨ ³Ýí³í»ñáõÃÛ³Ý í»ñ³µ»ñÛ³É
A65: 5.2 | B65: Øï³íáñ ·áñÍáõÝ»áõÃÛ³Ý ³ñ¹ÛáõÝùÝ»ñ ëï»ÕÍ»Éáõ ¨ û·ï³·áñÍ»Éáõ å³ÛÙ³Ý³·ñÇ ÉáõÍÙ³Ý, ÷á÷áËÙ³Ý áõ ³Ýí³í»ñáõÃÛ³Ý í»ñ³µ»ñÛ³É
A66: 5.3 | B66: Ð»ÕÇÝ³Ï³ÛÇÝ ¨ Ñ³ñ³ÏÇó Çñ³íáõÝùÝ»ñÇ í»ñ³µ»ñÛ³É
A67: 5.4 | B67: üÇñÙ³ÛÇÝ ³Ýí³ÝÙ³Ý í»ñ³µ»ñÛ³É
A68: 5.5 | B68: ²åñ³Ýù³ÛÇÝ Ýß³ÝÇ í»ñ³µ»ñÛ³É
A69: 5.6 | B69: ²ÛÉ í»×»ñ
A70: 6. | B70: ²ßË³ï³Ýù³ÛÇÝ Çñ³í³Ñ³ñ³µ»ñáõÃÛáõÝÝ»ñÇ í»ñ³µ»ñÛ³É ¹³ï³Ï³Ý ·áñÍ»ñ | E70: =SUM(E71:E76) -> 0 | F70: =SUM(F71:F76) -> 0 | G70: =SUM(G71:G76) -> 0 | H70: =SUM(H71:H76) -> 0 | I70: =SUM(I71:I76) -> 0 | J70: =SUM(J71:J76) -> 0 | K70: =SUM(K71:K76) -> 0 | L70: =SUM(L71:L76) -> 0 | ... AS70: =SUM(AS71:AS76) -> 0
A71: 6.1 | B71: ²ßË³ï³Ýù³ÛÇÝ å³ÛÙ³Ý³·ñ»ñÇ í»ñ³µ»ñÛ³É
A72: 6.2 | B72: ²ßË³ï³ÝùáõÙ í»ñ³Ï³Ý·Ý»Éáõ í»ñ³µ»ñÛ³É
A73: 6.3 | B73: ¶áñÍ³¹áõÉÝ ³ÝûñÇÝ³Ï³Ý ×³Ý³ã»Éáõ í»ñ³µ»ñÛ³É
A74: 6.4 | B74: Ð³ñÏ³¹Çñ å³ñ³åáõñ¹Ç Ñ³ïáõóÙ³Ý í»ñ³µ»ñÛ³É
A75: 6.5 | B75: âí×³ñí³Í ³ßË³ï³í³ñÓÇ ¨/Ï³Ù ³ÛÉ í×³ñÝ»ñÇ µéÝ³·³ÝÓÙ³Ý í»ñ³µ»ñÛ³É
A76: 6.6 | B76: ²ÛÉ í»×»ñ
A77: 7. | B77: Æñ³í³µ³Ý³Ï³Ý ³ÝÓÇ ·áñÍáõÝ»áõÃÛáõÝÇó µËáÕ Çñ³í³Ñ³ñ³µ»ñáõÃÛáõÝÝ»ñÇ í»ñ³µ»ñÛ³É ¹³ï³Ï³Ý ·áñÍ»ñ | E77: =SUM(E78:E79) -> 0 | F77: =SUM(F78:F79) -> 0 | G77: =SUM(G78:G79) -> 0 | H77: =SUM(H78:H79) -> 0 | I77: =SUM(I78:I79) -> 0 | J77: =SUM(J78:J79) -> 0 | K77: =SUM(K78:K79) -> 0 | L77: =SUM(L78:L79) -> 0 | ... AS77: =SUM(AS78:AS79) -> 0
A78: 7.1 | B78: Îáñåáñ³ïÇí í»×»ñ
A79: 7.2 | B79: ²ÛÉ í»×»ñ
A80: 8. | B80: Ð³ïáõÏ í³ñáõÛÃÇ ¹³ï³Ï³Ý ·áñÍ»ñ | E80: =SUM(E81:E101) -> 0 | F80: =SUM(F81:F101) -> 0 | G80: =SUM(G81:G101) -> 0 | H80: =SUM(H81:H101) -> 0 | I80: =SUM(I81:I101) -> 0 | J80: =SUM(J81:J101) -> 0 | K80: =SUM(K81:K101) -> 0 | L80: =SUM(L81:L101) -> 0 | ... AS80: =SUM(AS81:AS101) -> 0
A81: 8.1 | B81: ²Ýã³÷³Ñ³ëÇÝ ÉñÇí ·áñÍáõÝ³Ï ×³Ý³ã»Éáõ /¿Ù³ÝëÇå³óÇ³/ í»ñ³µ»ñÛ³É
A82: 8.2 | B82: ø³Õ³ù³óáõÝ ³Ý·áñÍáõÝ³Ï Ï³Ù ë³ÑÙ³Ý³÷³Ï ·áñÍáõÝ³Ï ×³Ý³ã»Éáõ í»ñ³µ»ñÛ³É
A83: 8.3 | B83: ø³Õ³ù³óáõÝ Ñá·»µáõÅ³Ï³Ý ÑÇí³Ý¹³Ýáó³ÛÇÝ Ñ³ñÏ³¹Çñ µáõÅÙ³Ý »ÝÃ³ñÏ»Éáõ í»ñ³µ»ñÛ³É
A84: 8.4 | B84: ø³Õ³ù³óáõÝ ³ÝÑ³Ûï µ³ó³Ï³ÛáÕ Ï³Ù Ù³Ñ³ó³Í ×³Ý³ã»Éáõ í»ñ³µ»ñÛ³É
A85: 8.5 | B85: ø³Õ³ù³óÇ³Ï³Ý Ï³óáõÃÛ³Ý ³Ïï»ñÇ ·ñ³éáõÙÝ»ñÇ ³Ý×ßïáõÃÛáõÝÝ»ñÁ å³ñ½»Éáõ í»ñ³µ»ñÛ³É
A86: 8.6 | B86: ¶áõÛùÁ ïÇñ³½áõñÏ ×³Ý³ã»Éáõ í»ñ³µ»ñÛ³É
A87: 8.6.1 | B87: ²Û¹ ÃíáõÙª ³Ýß³ñÅ ·áõÛùÁ
A88: 8.6.2 | B88: ²Û¹ ÃíáõÙª ß³ñÅ³Ï³Ý ·áõÛùÁ
A89: 8.7 | B89: Æñ³í³µ³Ý³Ï³Ý Ýß³Ý³ÏáõÃÛáõÝ áõÝ»óáÕ ÷³ëï»ñÇ Ñ³ëï³ïÙ³Ý í»ñ³µ»ñÛ³É
A90: 8.7.1 | B90: ²ÝÓ³Ýó ³½·³Ïó³Ï³Ý Ï³åÁ Ñ³ëï³ï»Éáõ í»ñ³µ»ñÛ³É
A91: 8.7.2 | B91: ²ÝÓÇª áõñÇßÇ ËÝ³ÙùÇ ï³Ï ·ïÝí»Éáõ í»ñ³µ»ñÛ³É
A92: 8.7.3 | B92: ÌÝÝ¹Û³Ý, áñ¹»·ñÙ³Ý, ³ÙáõëÝáõÃÛ³Ý, ³å³Ñ³ñ½³ÝÇ ¨ Ù³Ñí³Ý ·ñ³ÝóÙ³Ý í»ñ³µ»ñÛ³É
... A101: 8.10 | B101: ²ÛÉ í»×»ñ
A102: 9. | B102: Ð³ïáõÏ Ñ³Ûó³ÛÇÝ í³ñáõÛÃÇ ¹³ï³Ï³Ý ·áñÍ»ñ | E102: =SUM(E103:E105) -> 0 | F102: =SUM(F103:F105) -> 0 | G102: =SUM(G103:G105) -> 0 | H102: =SUM(H103:H105) -> 0 | I102: =SUM(I103:I105) -> 0 | J102: =SUM(J103:J105) -> 0 | K102: =SUM(K103:K105) -> 0 | L102: =SUM(L103:L105) -> 0 | ... AS102: =SUM(AS103:AS105) -> 0
A103: 9.1 | B103: ø³Õ³ù³óáõ ÏÛ³ÝùÇÝ Ï³Ù ³éáÕçáõÃÛ³ÝÝ ëå³éÝ³óáÕ íï³Ý·Ç í»ñ³µ»ñÛ³É
A104: 9.2 | B104: ÐÐ Î»ÝïñáÝ³Ï³Ý µ³ÝÏÇ ¨ ³Ýí×³ñáõÝ³Ï µ³ÝÏÇ Ï³Ù í³ñÏ³ÛÇÝ Ï³½Ù³Ï»ñåáõÃÛ³Ý Å³Ù³Ý³Ï³íáñ ³¹ÙÇÝÇëïñ³óÇ³ÛÇ áñáßáõÙÝ»ñÇ µáÕáù³ñÏÙ³Ý í»ñ³µ»ñÛ³É
A105: 9.3 | B105: ²ÛÉ í»×»ñ
A106: 11. | B106: ä³ñï³íáñ³Ï³Ý Çñ³í³Ñ³ñ³µ»ñáõÃÛáõÝÝ»ñÇ í»ñ³µ»ñÛ³É ¹³ï³Ï³Ý ·áñÍ»ñ | E106: =SUM(E107:E114) -> 0 | F106: =SUM(F107:F114) -> 0 | G106: =SUM(G107:G114) -> 0 | H106: =SUM(H107:H114) -> 0 | I106: =SUM(I107:I114) -> 0 | J106: =SUM(J107:J114) -> 0 | K106: =SUM(K107:K114) -> 0 | L106: =SUM(L107:L114) -> 0 | ... AS106: =SUM(AS107:AS114) -> 0
A107: 11.1 | B107: ¶áõÙ³ñÇ å³Ñ³ÝçÇ Ù³ëÇÝ | AK107: 1 | AM107: 1 | AN107: 1
A108: 11.2 | B108: ä³ñï³íáñáõÃÛáõÝÁ µÝ»Õ»Ýáí Ï³ï³ñ»Éáõ å³Ñ³ÝçÇ Ù³ëÇÝ
...

Sheet Գ.Ավագյան
A1: 2017թ. | G1: Ð²ÞìºîìàôÂÚàôÜ | AM1: Հավելված Հայաստանի Հանրապետության Դատարանների նախագահների խորհրդի 29.01.2018թ. թիվ 10-Լ որոշման
A2: ºðºì²ÜÆ ²ð²´ÎÆð ºì ø²Ü²øºè-¼ºÚÂàôÜ ì²ðâ²Î²Ü Þðæ²ÜÜºðÆ ÀÜ¸Ð²Üàôð Æð²ì²êàôÂÚ²Ü ²è²æÆÜ ²îÚ²ÜÆ ¸²î²ð²ÜÆ ¸²î²ìàð | Z2: ¶. ²ì²¶Ú²Ü | AH2: ¶àðÌàôÜºàôÂÚ²Ü ìºð²´ºðÚ²È
A3: ø²Ô²ø²òÆ²Î²Ü ¶àðÌºðàì
A4: ºñ¨³ÝÇ ²ñ³µÏÇñ ¨ ø³Ý³ù»é-¼»ÛÃáõÝ í³ñã³Ï³Ý ßñç³ÝÝ»ñÇ ÁÝ¹Ñ³Ýáõñ Çñ³í³ëáõÃÛ³Ý ³é³çÇÝ ³ïÛ³ÝÇ ¹³ï³ñ³ÝÇ ù³Õ³ù³óÇ³Ï³Ý Ù³ëÝ³·Çï³óáõÙ áõÝ»óáÕ ¹³ï³íáñÝ»ñÇ Ñ³ëïÇùÝ»ñÇ ù³Ý³ÏÁ` 7
E5: Ð³ßí»ïáõ Å³Ù³Ý³Ï³Ñ³ïí³ÍáõÙ Ý³Ëáñ¹ Ñ³ßí»ïáõ Å³Ù³Ý³Ï³Ñ³ïí³ÍÇó ÷áË³Ýóí³Í ·áñÍ»ñÇ ÁÝ¹Ñ³Ýáõñ ÃÇíÁ | J5: Ð³ßí»ïáõ Å³Ù³Ý³Ï³Ñ³ïí³ÍáõÙëï³óí³Í ·áñÍ»ñÇ (³Û¹ ÃíáõÙ` Ñ³Ûó³¹ÇÙáõÙÝ»ñÇ, ¹ÇÙáõÙÝ»ñÇ) ÁÝ¹Ñ³Ýáõñ ÃÇíÁ | N5: öáË³Ýóí»É ¿ ³ÛÉ ¹³ï³íáñÇ (Ï³½ÙÇ ÷á÷áËáõÃÛáõÝ) | O5: Ð³ßí»ïáõ Å³Ù³Ý³Ï³Ñ³ïí³ÍáõÙ ³í³ñïí³Í ·áñÍ»ñÇ ÁÝ¹Ñ³Ýáõñ ÃÇíÁ | Z5: ¶áñÍÝ áõÕ³ñÏí»É ¿ Áëï ÁÝ¹¹³ïáõÃÛ³Ý | AA5: Ð³ßí»ïáõ Å³Ù³Ý³Ï³Ñ³ïí³ÍáõÙ Ï³ë»óí³Í í³ñáõÛÃÝ»ñáí ·áñÍ»ñÇ ÁÝ¹Ñ³Ýáõñ ÃÇíÁ | AB5: Ð³ßí»ïáõ Å³Ù³Ý³Ï³Ñ³ïí³ÍáõÙ ³Ý³í³ñï ·áñÍ»ñÇ ÁÝ¹Ñ³Ýáõñ ÃÇíÁ | AC5: ²Û¹ ÃíáõÙª Ï³ë»óí³Í | AD5: ´áÕáù³ñÏí³Í ¹³ï³Ï³Ý ³Ïï»ñÁ | AI5: ²í³ñïí³Í ¹³ï³Ï³Ý ·áñÍ»ñÇ µáÕáù³ñÏÙ³Ý ïáÏáëÁ (Ñ³ßí»ïáõ Å³Ù³Ý³Ï³ßñç³ÝáõÙ) | AJ5: ²Ý³í³ñï µáÕáùÝ»ñ | AK5: ´»Ï³Ýí³Í ¹³ï³Ï³Ý ³Ïï»ñÁ | AP5: µ»Ï³ÝáõÙÝ»ñÇ ïáÏáëÁ ³í³ñïí³Í ·áñÍ»ñÇó(Ñ³ßí»ïáõ Å³Ù³Ý³Ï³ßñç³ÝáõÙ) | AQ5: Î³ÛáõÝáõÃÛ³Ý ïáÏáëÁ ³í³ñïí³Í ·áñÍ»ñÇó(Ñ³ßí»ïáõ Å³Ù³Ý³Ï³ßñç³ÝáõÙ) | AR5: µ»Ï³ÝáõÙÝ»ñÇ ïáÏáëÁ µáÕáù³ñÏí³Í ·áñÍ»ñÇó(Ñ³ßí»ïáõ Å³Ù³Ý³Ï³ßñç³ÝáõÙ) | AS5: Ï³ÛáõÝáõÃÛ³Ý ïáÏáëÁ(Ñ³ßí»ïáõ Å³Ù³Ý³Ï³ßñç³ÝáõÙ)
E6: ÀÝ¹³Ù»ÝÁ | F6: ²Û¹ ÃíáõÙ`Ï³ë»óí³Í íÇ×³ÏáõÙ ÷áË³Ýóí³Í | G6: ²Û¹ ÃíáõÙª ÁÝ¹áõÝí»É ¿ í³ñáõÛÃ | H6: ²Û¹ ÃíáõÙª í»ñ³¹³ñÓí»É ¿ | I6: ²Û¹ ÃíáõÙª ÁÝ¹áõÝáõÙÁ Ù»ñÅí»É ¿ | J6: ÀÝ¹³Ù»ÝÁ | K6: ²Û¹ ÃíáõÙª ÁÝ¹áõÝí»É ¿ í³ñáõÛÃ | L6: ²Û¹ ÃíáõÙª í»ñ³¹³ñÓí»É ¿ | M6: ²Û¹ ÃíáõÙª ÁÝ¹áõÝáõÙÁ Ù»ñÅí»É ¿ | O6: ÀÝ¹³Ù»ÝÁ ³í³ñïí»É »Ý ·áñÍ»ñ ·áñÍÝ Áëï ¿áõÃÛ³Ý ÉáõÍáÕ ¹³ï³Ï³Ý ³Ïï»ñÇ (í×ÇéÝ»ñÇ) Ï³Û³óÙ³Ùµ | P6: ²Û¹ ÃíáõÙª Ñ³ÛóÇ µ³í³ñ³ñÙ³Ùµ | Q6: ²Û¹ ÃíáõÙª Ñ³ÛóÇ Ù³ëÝ³ÏÇ µ³í³ñ³ñÙ³Ùµ | R6: ²Û¹ ÃíáõÙª Ñ³ÛóÇ Ù»ñÅÙ³Ùµ | S6: Ø³ëáí Ï³ñ×í»É ¿, Ù³ëáí Ù»ñÅí»É | T6: ²Û¹ ÃíáõÙª Ï³ñ×í»É »Ý | X6: Ð³ÛóÁ ÃáÕÝí»É ¿ ³é³Ýó ùÝÝáõÃÛ³Ý | Y6: ÀÝ¹³Ù»ÝÝ ³í³ñïí»É »Ý ·áñÍ»ñ | AD6: ²Û¹ ÃíáõÙ` ·áñÍÝ Áëï ¿áõÃÛ³Ý ÉáõÍáÕ ¹³ï³Ï³Ý ³Ïï»ñÁ | AE6: ²Û¹ ÃíáõÙ` ÙÇç³ÝÏÛ³É ¹³ï³Ï³Ý ³Ïï»ñÁ | AF6: ÀÝ¹³Ù»ÝÁ | AG6: Ü³Ëáñ¹ ï³ñÇÝ»ñÇÝ Ï³Û³óí³Í ³Ïï»ñÇ µáÕáù³ñÏáõÙÁ Ñ³ßí»ïáõ Å³Ù³Ý³Ï³ßñç³ÝáõÙ | AH6: Ð³ßí»ïáõ Å³Ù³Ý³Ï³ßñç³ÝáõÙ Ï³Û³óí³Í ³Ïï»ñÇ µáÕáù³ñÏáõÙÁ | AK6: ²Û¹ ÃíáõÙ` ·áñÍÝ Áëï ¿áõÃÛ³Ý ÉáõÍáÕ ¹³ï³Ï³Ý ³Ïï»ñÁ | AL6: ²Û¹ ÃíáõÙ` ÙÇç³ÝÏÛ³É ¹³ï³Ï³Ý ³Ïï»ñÁ | AM6: ÀÝ¹³Ù»ÝÁ | AN6: Ü³Ëáñ¹ ï³ñÇÝ»ñÇÝ Ï³Û³óí³Í ³Ïï»ñÇ µ»Ï³ÝáõÙÝ»ñÁ Ñ³ßí»ïáõ Å³Ù³Ý³Ï³ßñç³ÝáõÙ | AO6: Ð³ßí»ïáõ Å³Ù³Ý³Ï³ßñç³ÝáõÙ Ï³Û³óí³Í ³Ïï»ñÇ µ»Ï³ÝáõÙÁ
T7: ÀÝ¹³Ù»ÝÁ Ï³ñ×í»É »Ý | U7: ²Û¹ ÃíáõÙª Ñ³ëï³ïí»É ¿ ÏÝùí³Í Ñ³ßïáõÃÛ³Ý Ñ³Ù³Ó³ÛÝáõÃÛáõÝÁ | V7: ²Û¹ ÃíáõÙª Ñ³óÇó, ¹ÇÙáõÙÇó Ññ³Å³ñí»Éáõ ÑÇÙùáí | W7: ²Û¹ ÃíáõÙª ³ÛÉ ÑÇÙùáí
E8: 1 | F8: 2 | G8: 3 | H8: 4 | I8: 5 | J8: 6 | K8: 7 | L8: 8 | M8: 9 | N8: 10 | O8: 11 | P8: 12 | Q8: 13 | R8: 14 | S8: 15 | T8: 16 | U8: 17 | V8: 18 | W8: 19 | X8: 20 | Y8: 21 | Z8: 22 | AA8: 23 | AB8: 24 | AC8: 25 | AD8: 26 | AE8: 27 | AF8: 28 | AG8: 29 | AH8: 30 | AI8: 31 | AJ8: 32 | AK8: 33 | AL8: 34 | AM8: 35 | AN8: 36 | AO8: 37 | AP8: 38 | AQ8: 39 | AR8: 40 | AS8: 41
A9: 1. | B9: ¶áõÛù³ÛÇÝ Çñ³í³Ñ³ñ³µ»ñáõÃÛáõÝÝ»ñÇ í»ñ³µ»ñÛ³É ¹³ï³Ï³Ý ·áñÍ»ñ | E9: =SUM(E10:E28) -> 0 | F9: =SUM(F10:F28) -> 0 | G9: =SUM(G10:G28) -> 0 | H9: =SUM(H10:H28) -> 0 | I9: =SUM(I10:I28) -> 0 | J9: =SUM(J10:J28) -> 0 | K9: =SUM(K10:K28) -> 0 | L9: =SUM(L10:L28) -> 0 | ... AS9: =SUM(AS10:AS28) -> 0
A10: 1.1 | B10: ¶áõÛùÇ ÝÏ³ïÙ³Ùµ ë»÷³Ï³ÝáõÃÛ³Ý Çñ³íáõÝùÁ ×³Ý³ã»Éáõ í»ñ³µ»ñÛ³É
A11: 1.1.1 | B11: ²Û¹ ÃíáõÙª Ó»éùµ»ñÙ³Ý í³Õ»ÙáõÃÛ³Ý áõÅáí
A12: 1.1.2 | B12: ²Û¹ ÃíáõÙª ïÇñ³½áõñÏ ·áõÛùÇ ÝÏ³ïÙ³Ùµ
A13: 1.1.3 | B13: ²Û¹ ÃíáõÙª ÇÝùÝ³Ï³Ù Ï³éáõÛóÇ ÝÏ³ïÙ³Ùµ
A14: 1.2 | B14: ê»÷³Ï³ÝáõÃÛ³Ý Çñ³íáõÝùÇ ¹³¹³ñ»óÙ³Ý í»ñ³µ»ñÛ³É
A15: 1.3 | B15: ¶áõÛùÇ ÝÏ³ïÙ³Ùµ û·ï³·áñÍÙ³Ý Çñ³íáõÝùÁ ×³Ý³ã»Éáõ í»ñ³µ»ñÛ³É
A16: 1.3.1 | B16: ²Û¹ ÃíáõÙª µÝ³Ïû·ï³·áñÍÙ³Ý Çñ³íáõÝùÁ ×³Ý³ã»Éáõ í»ñ³µ»ñÛ³É
A17: 1.3.2 | B17: ²Û¹ ÃíáõÙª ÑáÕ³Ù³ëÇ ÝÏ³ïÙ³Ùµ û·ï³·áñÍÙ³Ý Çñ³íáõÝùÁ ×³Ý³ã»Éáõ í»ñ³µ»ñÛ³É
A18: 1.4 | B18: ¶áõÛùÇ ÝÏ³ïÙ³Ùµ û·ï³·áñÍÙ³Ý Çñ³íáõÝùÁ ¹³¹³ñ»óÝ»Éáõ í»ñ³µ»ñÛ³É
A19: 1.4.1 | B19: ²Û¹ ÃíáõÙª µÝ³Ïû·ï³·áñÍÙ³Ý Çñ³íáõÝùÁ ¹³¹³ñ»óÝ»Éáõ í»ñ³µ»ñÛ³É
A20: 1.4.1/1 | B20: ²Û¹ ÃíáõÙª ÷áËÑ³ïáõóÙ³Ùµ
A21: 1.5 | B21: ´Ý³Ï³ñ³ÝÇó/ ï³ñ³ÍùÇó/ íï³ñ»Éáõ í»ñ³µ»ñÛ³É
A22: 1.6 | B22: ¶áõÛùÝ áõñÇßÇ ³åûñÇÝÇ ïÇñ³å»ïáõÙÇó »ï í»ñ³¹³ñÓÝ»Éáõ í»ñ³µ»ñÛ³É
A23: 1.6.1 | B23: ´³ñ»ËÇÕ× Ó»éùµ»ñáÕÇó Çñ ·áõÛùÁ Ñ»ï å³Ñ³Ýç»Éáõ í»ñ³µ»ñÛ³É
A24: 1.7 | B24: îÇñ³å»ïáõÙÇó ½ñÏ»Éáõ Ñ»ï ãÏ³åí³Í Çñ³íáõÝùÝ»ñÇ Ë³ËïáõÙÁ í»ñ³óÝ»Éáõ í»ñ³µ»ñÛ³É
A25: 1.8 | B25: ÀÝ¹Ñ³Ýáõñ µ³ÅÝ³ÛÇÝ ë»÷³Ï³ÝáõÃÛáõÝÇó µ³ÅÇÝÝ ³é³ÝÓÝ³óÝ»Éáõ í»ñ³µ»ñÛ³É
A26: 1.8.1 | B26: Ð³Ù³ï»Õ ë»÷³Ï³ÝáõÃÛ³Ý Ý»ñùá ·ïÝíáÕ ·áõÛùÁ µ³Å³Ý»Éáõ ¨ ¹ñ³ÝÇó µ³ÅÇÝÝ ³é³ÝÓÝ³óÝ»Éáõ í»ñ³µ»ñÛ³É
... A28: 1.9 | B28: ²ÛÉ í»×»ñ
A29: 2. | B29: ¶áñÍ³ñùÝ»ñÇ Ñ»ï Ï³åí³Í Çñ³í³Ñ³ñ³µ»ñáõÃÛáõÝÝ»ñÇ í»ñ³µ»ñÛ³É ¹³ï³Ï³Ý ·áñÍ»ñ | E29: =SUM(E30:E40) -> 0 | F29: =SUM(F30:F40) -> 0 | G29: =SUM(G30:G40) -> 0 | H29: =SUM(H30:H40) -> 0 | I29: =SUM(I30:I40) -> 0 | J29: =SUM(J30:J40) -> 0 | K29: =SUM(K30:K40) -> 0 | L29: =SUM(L30:L40) -> 0 | ... AS29: =SUM(AS30:AS40) -> 0
A30: 2.1 | B30: ·áñÍ³ñùÝ»ñÇ ³Ýí³í»ñáõÃÛ³Ý Ñ»ï Ï³åí³Í í»×»ñ
A31: 2.1.1 | B31: ³Û¹ ÃíáõÙ` íÇ×³Ñ³ñáõÛó ·áñÍ³ñùÝ»ñÝ ³Ýí³í»ñ ×³Ý³ã»Éáõ í»ñ³µ»ñÛ³É
A32: 2.1.2 | B32: ³Û¹ ÃíáõÙ` ·áñÍ³ñùÇ ³éáãÝãáõÃÛ³Ý Ñ»ï¨³ÝùÝ»ñ ÏÇñ³é»Éáõ í»ñ³µ»ñÛ³É
A33: 2.2 | B33: ¶áñÍ³ñùÁ í³í»ñ ×³Ý³ã»Éáõ í»ñ³µ»ñÛ³É
A34: 2.3 | B34: ¶áñÍ³ñùÇó Í³·áÕ Çñ³íáõÝùÝ»ñÁ ·ñ³Ýó»Éáõ í»ñ³µ»ñÛ³É
A35: 2.4 | B35: ä³ÛÙ³Ý³·ÇñÝ ³Ýí³í»ñ ×³Ý³ã»Éáõ í»ñ³µ»ñÛ³É
A36: 2.5 | B36: ä³ÛÙ³Ý³·ñÇÁ í³í»ñ ×³Ý³ã»Éáõ í»ñ³µ»ñÛ³É
A37: 2.6 | B37: ä³ÛÙ³Ý³·ñÇó Í³·áÕ Çñ³íáõÝùÝ»ñÁ ·ñ³Ýó»Éáõ í»ñ³µ»ñÛ³É
A38: 2.7 | B38: ä³ÛÙ³Ý³·ÇñÁ ÷á÷áË»Éáõ ¨ ÉáõÍ»Éáõ í»ñ³µ»ñÛ³É
A39: 2.8 | B39: ä³ÛÙ³Ý³·Çñ ÏÝù»ÉáõÝ å³ñï³íáñ»óÝ»Éáõ í»ñ³µ»ñÛ³É
A40: 2.9 | B40: ²ÛÉ í»×»ñ
A41: 3. | B41: Ä³é³Ý·áõÃÛ³Ý Ñ»ï Ï³åí³Í Çñ³í³Ñ³ñ³µ»ñáõÃÛáõÝÝ»ñÇ í»ñ³µ»ñÛ³É ¹³ï³Ï³Ý ·áñÍ»ñ | E41: =SUM(E42:E48) -> 0 | F41: =SUM(F42:F48) -> 0 | G41: =SUM(G42:G48) -> 0 | H41: =SUM(H42:H48) -> 0 | I41: =SUM(I42:I48) -> 0 | J41: =SUM(J42:J48) -> 0 | K41: =SUM(K42:K48) -> 0 | L41: =SUM(L42:L48) -> 0 | ... AS41: =SUM(AS42:AS48) -> 0
A42: 3.1 | B42: Îï³ÏÝ ³Ýí³í»ñ ×³Ý³ã»Éáõ í»ñ³µ»ñÛ³É
A43: 3.2 | B43: ²Ý³ñÅ³Ý Å³é³Ý· ×³Ý³ã»Éáõ í»ñ³µ»ñÛ³É
A44: 3.3 | B44: Ä³é³Ý·áõÃÛáõÝÁ µ³Å³Ý»Éáõ í»ñ³µ»ñÛ³É
A45: 3.4 | B45: ¶áõÛùÝ ³ÝÅ³é³Ý· ×³Ý³ã»Éáõ í»ñ³µ»ñÛ³É
A46: 3.5 | B46: Àëï ûñ»ÝùÇ Å³é³Ý·áõÃÛ³Ý Çñ³íáõÝùÇ íÏ³Û³·ÇñÝ ³Ýí³í»ñ ×³Ý³ã»Éáõ í»ñ³µ»ñÛ³É
A47: 3.6 | B47: Ä³é³Ý·áõÃÛáõÝÝ ÁÝ¹áõÝ»Éáõ µ³ó ÃáÕÝí³Í Å³ÙÏ»ïÁ Ñ³ñ·»ÉÇ Ñ³Ù³ñ»Éáõ í»ñ³µ»ñÛ³É
A48: 3.7 | B48: ²ÛÉ í»×»ñ
A49: 4 | B49: ÀÝï³Ý»Ï³Ý Çñ³í³Ñ³ñ³µ»ñáõÃÛáõÝÝ»ñÇ í»ñ³µ»ñÛ³É ¹³ï³Ï³Ý ·áñÍ»ñ | E49: =SUM(E50:E62) -> 0 | F49: =SUM(F50:F62) -> 0 | G49: =SUM(G50:G62) -> 0 | H49: =SUM(H50:H62) -> 0 | I49: =SUM(I50:I62) -> 0 | J49: =SUM(J50:J62) -> 0 | K49: =SUM(K50:K62) -> 0 | L49: =SUM(L50:L62) -> 0 | ... AS49: =SUM(AS50:AS62) -> 0
A50: 4.1 | B50: ²ÙáõëÝ³ÉáõÍáõÃÛ³Ý í»ñ³µ»ñÛ³É
A51: 4.2 | B51: ²ÉÇÙ»ÝïÇ å³Ñ³ÝçÇ í»ñ³µ»ñÛ³É
A52: 4.3 | B52: ²ÉÇÙ»ÝïÇ ã³÷Á ÷á÷áË»Éáõ í»ñ³µ»ñÛ³É
A53: 4.4 | B53: ÌÝáÕ³Ï³Ý Çñ³íáõÝùÝ»ñÇó ½ñÏ»Éáõ í»ñ³µ»ñÛ³É
A54: 4.5 | B54: ÌÝáÕ³Ï³Ý Çñ³íáõÝùÝ»ñÁ í»ñ³Ï³Ý·Ý»Éáõ í»ñ³µ»ñÛ³É
A55: 4.6 | B55: ºñ»Ë³ÛÇ áñ¹»·ñÙ³Ý í»ñ³µ»ñÛ³É
A56: 4.7 | B56: ºñ»Ë³ÛÇ áñ¹»·ñáõÙÁ í»ñ³óÝ»Éáõ í»ñ³µ»ñÛ³É
A57: 4.8 | B57: Ð³ÛñáõÃÛáõÝÁ ×³Ý³ã»Éáõ í»ñ³µ»ñÛ³É
A58: 4.9 | B58: ºñ»Ë³ÛÇ µÝ³ÏáõÃÛ³Ý í³ÛñÁ áñáß»Éáõ í»ñ³µ»ñÛ³É
A59: 4.10 | B59: ºñ»Ë³ÛÇ Ñ»ï ï»ë³ÏóáõÃÛ³Ý Ï³ñ· ë³ÑÙ³Ý»Éáõ í»ñ³µ»ñÛ³É
A60: 4.11 | B60: ²ÙáõëÇÝÝ»ñÇ ÁÝ¹Ñ³Ýáõñ ·áõÛùÁ µ³Å³Ý»Éáõ í»ñ³µ»ñÛ³É
A61: 4.12 | B61: ²ÙáõëÝ³Ï³Ý å³ÛÙ³Ý³·ñÇ ÷á÷áËÙ³Ý Ï³Ù ÉáõÍÙ³Ý í»ñ³µ»ñÛ³É
A62: 4.13 | B62: ²ÛÉ í»×»ñ
A63: 5. | B63: Øï³íáñ ë»÷³Ï³ÝáõÃÛ³Ý Ñ»ï Ï³åí³ÍÇñ³í³Ñ³ñ³µ»ñáõÃÛáõÝÝ»ñÇ í»ñ³µ»ñÛ³É ¹³ï³Ï³Ý ·áñÍ»ñ | E63: =SUM(E64:E69) -> 0 | F63: =SUM(F64:F69) -> 0 | G63: =SUM(G64:G69) -> 0 | H63: =SUM(H64:H69) -> 0 | I63: =SUM(I64:I69) -> 0 | J63: =SUM(J64:J69) -> 0 | K63: =SUM(K64:K69) -> 0 | L63: =SUM(L64:L69) -> 0 | ... AS63: =SUM(AS64:AS69) -> 0
A64: 5.1 | B64: ÈÇó»Ý½³ÛÇÝ å³ÛÙ³Ý³·ñÇ ÉáõÍÙ³Ý, ÷á÷áËÙ³Ý ¨ ³Ýí³í»ñáõÃÛ³Ý í»ñ³µ»ñÛ³É
A65: 5.2 | B65: Øï³íáñ ·áñÍáõÝ»áõÃÛ³Ý ³ñ¹ÛáõÝùÝ»ñ ëï»ÕÍ»Éáõ ¨ û·ï³·áñÍ»Éáõ å³ÛÙ³Ý³·ñÇ ÉáõÍÙ³Ý, ÷á÷áËÙ³Ý áõ ³Ýí³í»ñáõÃÛ³Ý í»ñ³µ»ñÛ³É
A66: 5.3 | B66: Ð»ÕÇÝ³Ï³ÛÇÝ ¨ Ñ³ñ³ÏÇó Çñ³íáõÝùÝ»ñÇ í»ñ³µ»ñÛ³É
A67: 5.4 | B67: üÇñÙ³ÛÇÝ ³Ýí³ÝÙ³Ý í»ñ³µ»ñÛ³É
A68: 5.5 | B68: ²åñ³Ýù³ÛÇÝ Ýß³ÝÇ í»ñ³µ»ñÛ³É
A69: 5.6 | B69: ²ÛÉ í»×»ñ
A70: 6. | B70: ²ßË³ï³Ýù³ÛÇÝ Çñ³í³Ñ³ñ³µ»ñáõÃÛáõÝÝ»ñÇ í»ñ³µ»ñÛ³É ¹³ï³Ï³Ý ·áñÍ»ñ | E70: =SUM(E71:E76) -> 0 | F70: =SUM(F71:F76) -> 0 | G70: =SUM(G71:G76) -> 0 | H70: =SUM(H71:H76) -> 0 | I70: =SUM(I71:I76) -> 0 | J70: =SUM(J71:J76) -> 0 | K70: =SUM(K71:K76) -> 0 | L70: =SUM(L71:L76) -> 0 | ... AS70: =SUM(AS71:AS76) -> 0
A71: 6.1 | B71: ²ßË³ï³Ýù³ÛÇÝ å³ÛÙ³Ý³·ñ»ñÇ í»ñ³µ»ñÛ³É
A72: 6.2 | B72: ²ßË³ï³ÝùáõÙ í»ñ³Ï³Ý·Ý»Éáõ í»ñ³µ»ñÛ³É
A73: 6.3 | B73: ¶áñÍ³¹áõÉÝ ³ÝûñÇÝ³Ï³Ý ×³Ý³ã»Éáõ í»ñ³µ»ñÛ³É
A74: 6.4 | B74: Ð³ñÏ³¹Çñ å³ñ³åáõñ¹Ç Ñ³ïáõóÙ³Ý í»ñ³µ»ñÛ³É
A75: 6.5 | B75: âí×³ñí³Í ³ßË³ï³í³ñÓÇ ¨/Ï³Ù ³ÛÉ í×³ñÝ»ñÇ µéÝ³·³ÝÓÙ³Ý í»ñ³µ»ñÛ³É
A76: 6.6 | B76: ²ÛÉ í»×»ñ
A77: 7. | B77: Æñ³í³µ³Ý³Ï³Ý ³ÝÓÇ ·áñÍáõÝ»áõÃÛáõÝÇó µËáÕ Çñ³í³Ñ³ñ³µ»ñáõÃÛáõÝÝ»ñÇ í»ñ³µ»ñÛ³É ¹³ï³Ï³Ý ·áñÍ»ñ | E77: =SUM(E78:E79) -> 0 | F77: =SUM(F78:F79) -> 0 | G77: =SUM(G78:G79) -> 0 | H77: =SUM(H78:H79) -> 0 | I77: =SUM(I78:I79) -> 0 | J77: =SUM(J78:J79) -> 0 | K77: =SUM(K78:K79) -> 0 | L77: =SUM(L78:L79) -> 0 | ... AS77: =SUM(AS78:AS79) -> 0
A78: 7.1 | B78: Îáñåáñ³ïÇí í»×»ñ
A79: 7.2 | B79: ²ÛÉ í»×»ñ
A80: 8. | B80: Ð³ïáõÏ í³ñáõÛÃÇ ¹³ï³Ï³Ý ·áñÍ»ñ | E80: =SUM(E81:E101) -> 0 | F80: =SUM(F81:F101) -> 0 | G80: =SUM(G81:G101) -> 0 | H80: =SUM(H81:H101) -> 0 | I80: =SUM(I81:I101) -> 0 | J80: =SUM(J81:J101) -> 0 | K80: =SUM(K81:K101) -> 0 | L80: =SUM(L81:L101) -> 0 | ... AS80: =SUM(AS81:AS101) -> 0
A81: 8.1 | B81: ²Ýã³÷³Ñ³ëÇÝ ÉñÇí ·áñÍáõÝ³Ï ×³Ý³ã»Éáõ /¿Ù³ÝëÇå³óÇ³/ í»ñ³µ»ñÛ³É
A82: 8.2 | B82: ø³Õ³ù³óáõÝ ³Ý·áñÍáõÝ³Ï Ï³Ù ë³ÑÙ³Ý³÷³Ï ·áñÍáõÝ³Ï ×³Ý³ã»Éáõ í»ñ³µ»ñÛ³É
A83: 8.3 | B83: ø³Õ³ù³óáõÝ Ñá·»µáõÅ³Ï³Ý ÑÇí³Ý¹³Ýáó³ÛÇÝ Ñ³ñÏ³¹Çñ µáõÅÙ³Ý »ÝÃ³ñÏ»Éáõ í»ñ³µ»ñÛ³É
A84: 8.4 | B84: ø³Õ³ù³óáõÝ ³ÝÑ³Ûï µ³ó³Ï³ÛáÕ Ï³Ù Ù³Ñ³ó³Í ×³Ý³ã»Éáõ í»ñ³µ»ñÛ³É
A85: 8.5 | B85: ø³Õ³ù³óÇ³Ï³Ý Ï³óáõÃÛ³Ý ³Ïï»ñÇ ·ñ³éáõÙÝ»ñÇ ³Ý×ßïáõÃÛáõÝÝ»ñÁ å³ñ½»Éáõ í»ñ³µ»ñÛ³É
A86: 8.6 | B86: ¶áõÛùÁ ïÇñ³½áõñÏ ×³Ý³ã»Éáõ í»ñ³µ»ñÛ³É
A87: 8.6.1 | B87: ²Û¹ ÃíáõÙª ³Ýß³ñÅ ·áõÛùÁ
A88: 8.6.2 | B88: ²Û¹ ÃíáõÙª ß³ñÅ³Ï³Ý ·áõÛùÁ
A89: 8.7 | B89: Æñ³í³µ³Ý³Ï³Ý Ýß³Ý³ÏáõÃÛáõÝ áõÝ»óáÕ ÷³ëï»ñÇ Ñ³ëï³ïÙ³Ý í»ñ³µ»ñÛ³É
A90: 8.7.1 | B90: ²ÝÓ³Ýó ³½·³Ïó³Ï³Ý Ï³åÁ Ñ³ëï³ï»Éáõ í»ñ³µ»ñÛ³É
A91: 8.7.2 | B91: ²ÝÓÇª áõñÇßÇ ËÝ³ÙùÇ ï³Ï ·ïÝí»Éáõ í»ñ³µ»ñÛ³É
A92: 8.7.3 | B92: ÌÝÝ¹Û³Ý, áñ¹»·ñÙ³Ý, ³ÙáõëÝáõÃÛ³Ý, ³å³Ñ³ñ½³ÝÇ ¨ Ù³Ñí³Ý ·ñ³ÝóÙ³Ý í»ñ³µ»ñÛ³É
... A101: 8.10 | B101: ²ÛÉ í»×»ñ
A102: 9. | B102: Ð³ïáõÏ Ñ³Ûó³ÛÇÝ í³ñáõÛÃÇ ¹³ï³Ï³Ý ·áñÍ»ñ | E102: =SUM(E103:E105) -> 0 | F102: =SUM(F103:F105) -> 0 | G102: =SUM(G103:G105) -> 0 | H102: =SUM(H103:H105) -> 0 | I102: =SUM(I103:I105) -> 0 | J102: =SUM(J103:J105) -> 0 | K102: =SUM(K103:K105) -> 0 | L102: =SUM(L103:L105) -> 0 | ... AS102: =SUM(AS103:AS105) -> 0
A103: 9.1 | B103: ø³Õ³ù³óáõ ÏÛ³ÝùÇÝ Ï³Ù ³éáÕçáõÃÛ³ÝÝ ëå³éÝ³óáÕ íï³Ý·Ç í»ñ³µ»ñÛ³É
A104: 9.2 | B104: ÐÐ Î»ÝïñáÝ³Ï³Ý µ³ÝÏÇ ¨ ³Ýí×³ñáõÝ³Ï µ³ÝÏÇ Ï³Ù í³ñÏ³ÛÇÝ Ï³½Ù³Ï»ñåáõÃÛ³Ý Å³Ù³Ý³Ï³íáñ ³¹ÙÇÝÇëïñ³óÇ³ÛÇ áñáßáõÙÝ»ñÇ µáÕáù³ñÏÙ³Ý í»ñ³µ»ñÛ³É
A105: 9.3 | B105: ²ÛÉ í»×»ñ
A106: 11. | B106: ä³ñï³íáñ³Ï³Ý Çñ³í³Ñ³ñ³µ»ñáõÃÛáõÝÝ»ñÇ í»ñ³µ»ñÛ³É ¹³ï³Ï³Ý ·áñÍ»ñ | E106: =SUM(E107:E114) -> 0 | F106: =SUM(F107:F114) -> 0 | G106: =SUM(G107:G114) -> 0 | H106: =SUM(H107:H114) -> 0 | I106: =SUM(I107:I114) -> 0 | J106: =SUM(J107:J114) -> 0 | K106: =SUM(K107:K114) -> 0 | L106: =SUM(L107:L114) -> 0 | ... AS106: =SUM(AS107:AS114) -> 0
A107: 11.1 | B107: ¶áõÙ³ñÇ å³Ñ³ÝçÇ Ù³ëÇÝ
A108: 11.2 | B108: ä³ñï³íáñáõÃÛáõÝÁ µÝ»Õ»Ýáí Ï³ï³ñ»Éáõ å³Ñ³ÝçÇ Ù³ëÇÝ
A109: 11.3 | B109: ìÝ³ëÁ ¨ µ³ó ÃáÕÝí³Í û·áõïÁ Ñ³ïáõó»Éáõ å³Ñ³ÝçÇ Ù³ëÇÝ
...
