Workbook

Sheet Ընդամենը
A1: Ð²ÞìºîìàôÂÚàôÜ
A2: ºðºì²ÜÆ ²ð²´ÎÆð ºì ø²Ü²øºè-¼ºÚÂàôÜ ì²ðâ²Î²Ü Þðæ²ÜÜºðÆ ÀÜ¸Ð²Üàôð Æð²ì²êàôÂÚ²Ü ²è²æÆÜ ²îÚ²ÜÆ ¸²î²ð²ÜÆ
H3: ¶àðÌàôÜºàôÂÚ²Ü ìºð²´ºðÚ²È êÜ²ÜÎàôÂÚ²Ü ¶àðÌºðՈՎ
A4: ìÇ×³Ï³·ñ³Ï³Ý ïáÕÇ Ñ³Ù³ñÁ | E4: ²Ý³í³ñï ·áñÍ»ñÇ ÙÝ³óáñ¹Á Ñ³ßí»ïáõ Å³Ù³Ý³Ï³ßñç³ÝÇ ëÏ½µáõÙ | F4: êï³óí³Í ¹ÇÙáõÙÝ»ñÇ (·áñÍ»ñ) ù³Ý³ÏÁ | L4: öáË³Ýóí»É ¿ ³ÛÉ ¹³ï³íáñÇ (Ï³½ÙÇ ÷á÷áËáõÃÛáõÝ) | M4: ì³ñáõÛÃ ÁÝ¹áõÝí³Í ¹ÇÙáõÙÝ»ñáí Ï³Û³óí³Í ¹³ï³Ï³Ý ³Ïï»ñ | Q4: Ü»ñÏ³Û³óí»É ¿ ýÇÝ³Ýë³Ï³Ý ³éáÕç³óÙ³Ý Íñ³·Çñ | T4: ²í³ñïí»É »Ý ·áñÍ»ñ Ñ³ßí»ïáõ Å³Ù³Ý³Ï³ßñç³ÝáõÙ | U4: ²Ý³í³ñï ·áñÍ»ñÇ ÙÝ³óáñ¹Á Ñ³ßí»ïáõ Å³Ù³Ý³Ï³ßñç³ÝÇ í»ñçáõÙ | V4: ´áÕáù³ñÏí»É »Ý í»ñ³ùÝÝÇã ¹³ï³ñ³Ý
F6: ÀÝ¹³Ù»ÝÁ | G6: ³Û¹ ÃíáõÙ Ñ³ñÏ³¹ñí³Í ëÝ³ÝÏáõÃÛáõÝ | H6: ³Û¹ ÃíáõÙ Ï³Ù³íáñ ëÝ³ÝÏáõÃÛáõÝ | I6: ëï³óí³Í ¹ÇÙáõÙÝ»ñÇ ÁÝÃ³óùÁ | M6: Ï³Û³óí»É ¿ å³ñï³å³ÝÇÝ ëÝ³ÝÏ ×³Ý³ã»Éáõ Ù³ëÇÝ í×Çé | N6: å³ñï³å³ÝÇÝ ëÝ³ÝÏ ×³Ý³ã»Éáõ ¹ÇÙáõÙÁ Ù»ñÅí»É ¿ | O6: ¹ÇÙáõÙÁ ÃáÕÝí»É ¿ ³é³Ýó ùÝÝáõÃÛ³Ý | P6: ³Ý³í³ñï (³Û¹ ÃíáõÙ Ï³ë»óí³Í) | Q6: ÀÝ¹³Ù»ÝÁ | R6: ÃáÕÝí»É ¿ ³é³Ýó ùÝÝ³ñÏÙ³Ý | S6: Ñ³ëï³ïí»É ¿
I8: ¸ÇÙáõÙÇ ÁÝ¹áõÝáõÙÁ Ù»ñÅí»É ¿ | J8: ¸ÇÙáõÙÁ í»ñ³¹³ñÓí»É ¿ | K8: ÀÝ¹áõÝí»É ¿ í³ñáõÛÃ
E18: 1 | F18: 2 | G18: 3 | H18: 4 | I18: 5 | J18: 6 | K18: 7 | L18: 8 | M18: 9 | N18: 10 | O18: 11 | P18: 12 | Q18: 13 | R18: 14 | S18: 15 | T18: 16 | U18: 17 | V18: 18
A19: 1 | B19: Æñ³í³µ³Ý³Ï³Ý ³ÝÓÇ ëÝ³ÝÏáõÃÛ³Ý í»ñ³µ»ñÛ³É | E19: =Ա.Դանիելյան!E19+'Ռ. Բունիաթյան'!E19+Ս.Հովսեփյան!E19+Ս.Թադևոսյան!E19 -> 461 | F19: =Ա.Դանիելյան!F19+'Ռ. Բունիաթյան'!F19+Ս.Հովսեփյան!F19+Ս.Թադևոսյան!F19 -> 96 | G19: =Ա.Դանիելյան!G19+'Ռ. Բունիաթյան'!G19+Ս.Հովսեփյան!G19+Ս.Թադևոսյան!G19 -> 93 | H19: =Ա.Դանիելյան!H19+'Ռ. Բունիաթյան'!H19+Ս.Հովսեփյան!H19+Ս.Թադևոսյան!H19 -> 3 | I19: =Ա.Դանիելյան!I19+'Ռ. Բունիաթյան'!I19+Ս.Հովսեփյան!I19+Ս.Թադևոսյան!I19 -> 0 | J19: =Ա.Դանիելյան!J19+'Ռ. Բունիաթյան'!J19+Ս.Հովսեփյան!J19+Ս.Թադևոսյան!J19 -> 18 | K19: =Ա.Դանիելյան!K19+'Ռ. Բունիաթյան'!K19+Ս.Հովսեփյան!K19+Ս.Թադևոսյան!K19 -> 78 | L19: =Ա.Դանիելյան!L19+'Ռ. Բունիաթյան'!L19+Ս.Հովսեփյան!L19+Ս.Թադևոսյան!L19 -> 0 | ... V19: =Ա.Դանիելյան!V19+'Ռ. Բունիաթյան'!V19+Ս.Հովսեփյան!V19+Ս.Թադևոսյան!V19 -> 48
A20: 2 | B20: ²ÝÑ³ï Ó»éÝ»ñ»óÇ ëÝ³ÝÏáõÃÛ³Ý í»ñ³µ»ñÛ³É | E20: =Ա.Դանիելյան!E20+'Ռ. Բունիաթյան'!E20+Ս.Հովսեփյան!E20+Ս.Թադևոսյան!E20 -> 77 | F20: =Ա.Դանիելյան!F20+'Ռ. Բունիաթյան'!F20+Ս.Հովսեփյան!F20+Ս.Թադևոսյան!F20 -> 24 | G20: =Ա.Դանիելյան!G20+'Ռ. Բունիաթյան'!G20+Ս.Հովսեփյան!G20+Ս.Թադևոսյան!G20 -> 20 | H20: =Ա.Դանիելյան!H20+'Ռ. Բունիաթյան'!H20+Ս.Հովսեփյան!H20+Ս.Թադևոսյան!H20 -> 4 | I20: =Ա.Դանիելյան!I20+'Ռ. Բունիաթյան'!I20+Ս.Հովսեփյան!I20+Ս.Թադևոսյան!I20 -> 0 | J20: =Ա.Դանիելյան!J20+'Ռ. Բունիաթյան'!J20+Ս.Հովսեփյան!J20+Ս.Թադևոսյան!J20 -> 0 | K20: =Ա.Դանիելյան!K20+'Ռ. Բունիաթյան'!K20+Ս.Հովսեփյան!K20+Ս.Թադևոսյան!K20 -> 24 | L20: =Ա.Դանիելյան!L20+'Ռ. Բունիաթյան'!L20+Ս.Հովսեփյան!L20+Ս.Թադևոսյան!L20 -> 0 | ... V20: =Ա.Դանիելյան!V20+'Ռ. Բունիաթյան'!V20+Ս.Հովսեփյան!V20+Ս.Թադևոսյան!V20 -> 2
A21: 3 | B21: üÇ½ÇÏ³Ï³Ý ³ÝÓ³Ýó ëÝ³ÝÏáõÃÛ³Ý í»ñ³µ»ñÛ³É | E21: =Ա.Դանիելյան!E21+'Ռ. Բունիաթյան'!E21+Ս.Հովսեփյան!E21+Ս.Թադևոսյան!E21 -> 215 | F21: =Ա.Դանիելյան!F21+'Ռ. Բունիաթյան'!F21+Ս.Հովսեփյան!F21+Ս.Թադևոսյան!F21 -> 113 | G21: =Ա.Դանիելյան!G21+'Ռ. Բունիաթյան'!G21+Ս.Հովսեփյան!G21+Ս.Թադևոսյան!G21 -> 70 | H21: =Ա.Դանիելյան!H21+'Ռ. Բունիաթյան'!H21+Ս.Հովսեփյան!H21+Ս.Թադևոսյան!H21 -> 43 | I21: =Ա.Դանիելյան!I21+'Ռ. Բունիաթյան'!I21+Ս.Հովսեփյան!I21+Ս.Թադևոսյան!I21 -> 1 | J21: =Ա.Դանիելյան!J21+'Ռ. Բունիաթյան'!J21+Ս.Հովսեփյան!J21+Ս.Թադևոսյան!J21 -> 39 | K21: =Ա.Դանիելյան!K21+'Ռ. Բունիաթյան'!K21+Ս.Հովսեփյան!K21+Ս.Թադևոսյան!K21 -> 73 | L21: =Ա.Դանիելյան!L21+'Ռ. Բունիաթյան'!L21+Ս.Հովսեփյան!L21+Ս.Թադևոսյան!L21 -> 0 | ... V21: =Ա.Դանիելյան!V21+'Ռ. Բունիաթյան'!V21+Ս.Հովսեփյան!V21+Ս.Թադևոսյան!V21 -> 11
A22: 4 | B22: ԸՆԴՀԱՄԵՆԸ | E22: =Ա.Դանիելյան!E22+'Ռ. Բունիաթյան'!E22+Ս.Հովսեփյան!E22+Ս.Թադևոսյան!E22 -> 753 | F22: =Ա.Դանիելյան!F22+'Ռ. Բունիաթյան'!F22+Ս.Հովսեփյան!F22+Ս.Թադևոսյան!F22 -> 233 | G22: =Ա.Դանիելյան!G22+'Ռ. Բունիաթյան'!G22+Ս.Հովսեփյան!G22+Ս.Թադևոսյան!G22 -> 183 | H22: =Ա.Դանիելյան!H22+'Ռ. Բունիաթյան'!H22+Ս.Հովսեփյան!H22+Ս.Թադևոսյան!H22 -> 50 | I22: =Ա.Դանիելյան!I22+'Ռ. Բունիաթյան'!I22+Ս.Հովսեփյան!I22+Ս.Թադևոսյան!I22 -> 1 | J22: =Ա.Դանիելյան!J22+'Ռ. Բունիաթյան'!J22+Ս.Հովսեփյան!J22+Ս.Թադևոսյան!J22 -> 57 | K22: =Ա.Դանիելյան!K22+'Ռ. Բունիաթյան'!K22+Ս.Հովսեփյան!K22+Ս.Թադևոսյան!K22 -> 175 | L22: =Ա.Դանիելյան!L22+'Ռ. Բունիաթյան'!L22+Ս.Հովսեփյան!L22+Ս.Թադևոսյան!L22 -> 0 | ... V22: =Ա.Դանիելյան!V22+'Ռ. Բունիաթյան'!V22+Ս.Հովսեփյան!V22+Ս.Թադևոսյան!V22 -> 61

Sheet Ա.Դանիելյան
A1: Ð²ÞìºîìàôÂÚàôÜ
A2: ºðºì²ÜÆ ²ð²´ÎÆð ºì ø²Ü²øºè-¼ºÚÂàôÜ ì²ðâ²Î²Ü Þðæ²ÜÜºðÆ ÀÜ¸Ð²Üàôð Æð²ì²êàôÂÚ²Ü ²è²æÆÜ ²îÚ²ÜÆ ¸²î²ð²ÜÆ ¸²î²ìàð
A3: ². ¸²ÜÆºÈÚ²ÜÆ | H3: ¶àðÌàôÜºàôÂÚ²Ü ìºð²´ºðÚ²È êÜ²ÜÎàôÂÚ²Ü ¶àðÌºðàì 2017Ã.
A4: ìÇ×³Ï³·ñ³Ï³Ý ïáÕÇ Ñ³Ù³ñÁ | E4: ²Ý³í³ñï ·áñÍ»ñÇ ÙÝ³óáñ¹Á Ñ³ßí»ïáõ Å³Ù³Ý³Ï³ßñç³ÝÇ ëÏ½µáõÙ | F4: êï³óí³Í ¹ÇÙáõÙÝ»ñÇ (·áñÍ»ñ) ù³Ý³ÏÁ | L4: öáË³Ýóí»É ¿ ³ÛÉ ¹³ï³íáñÇ (Ï³½ÙÇ ÷á÷áËáõÃÛáõÝ) | M4: ì³ñáõÛÃ ÁÝ¹áõÝí³Í ¹ÇÙáõÙÝ»ñáí Ï³Û³óí³Í ¹³ï³Ï³Ý ³Ïï»ñ | Q4: Ü»ñÏ³Û³óí»É ¿ ýÇÝ³Ýë³Ï³Ý ³éáÕç³óÙ³Ý Íñ³·Çñ | T4: ²í³ñïí»É »Ý ·áñÍ»ñ Ñ³ßí»ïáõ Å³Ù³Ý³Ï³ßñç³ÝáõÙ | U4: ²Ý³í³ñï ·áñÍ»ñÇ ÙÝ³óáñ¹Á Ñ³ßí»ïáõ Å³Ù³Ý³Ï³ßñç³ÝÇ í»ñçáõÙ | V4: ´áÕáù³ñÏí»É »Ý í»ñ³ùÝÝÇã ¹³ï³ñ³Ý
F6: ÀÝ¹³Ù»ÝÁ | G6: ³Û¹ ÃíáõÙ Ñ³ñÏ³¹ñí³Í ëÝ³ÝÏáõÃÛáõÝ | H6: ³Û¹ ÃíáõÙ Ï³Ù³íáñ ëÝ³ÝÏáõÃÛáõÝ | I6: ëï³óí³Í ¹ÇÙáõÙÝ»ñÇ ÁÝÃ³óùÁ | M6: Ï³Û³óí»É ¿ å³ñï³å³ÝÇÝ ëÝ³ÝÏ ×³Ý³ã»Éáõ Ù³ëÇÝ í×Çé | N6: å³ñï³å³ÝÇÝ ëÝ³ÝÏ ×³Ý³ã»Éáõ ¹ÇÙáõÙÁ Ù»ñÅí»É ¿ | O6: ¹ÇÙáõÙÁ ÃáÕÝí»É ¿ ³é³Ýó ùÝÝáõÃÛ³Ý | P6: ³Ý³í³ñï (³Û¹ ÃíáõÙ Ï³ë»óí³Í) | Q6: ÀÝ¹³Ù»ÝÁ | R6: ÃáÕÝí»É ¿ ³é³Ýó ùÝÝ³ñÏÙ³Ý | S6: Ñ³ëï³ïí»É ¿
I8: ¸ÇÙáõÙÇ ÁÝ¹áõÝáõÙÁ Ù»ñÅí»É ¿ | J8: ¸ÇÙáõÙÁ í»ñ³¹³ñÓí»É ¿ | K8: ÀÝ¹áõÝí»É ¿ í³ñáõÛÃ
E18: 1 | F18: 2 | G18: 3 | H18: 4 | I18: 5 | J18: 6 | K18: 7 | L18: 8 | M18: 9 | N18: 10 | O18: 11 | P18: 12 | Q18: 13 | R18: 14 | S18: 15 | T18: 16 | U18: 17 | V18: 18
A19: 1 | B19: Æñ³í³µ³Ý³Ï³Ý ³ÝÓÇ ëÝ³ÝÏáõÃÛ³Ý í»ñ³µ»ñÛ³É | E19: 87 | F19: 49 | G19: 46 | H19: 3 | J19: 16 | K19: 33 | M19: 23 | P19: 10 | T19: 37 | U19: 83 | V19: 2
A20: 2 | B20: ²ÝÑ³ï Ó»éÝ»ñ»óÇ ëÝ³ÝÏáõÃÛ³Ý í»ñ³µ»ñÛ³É | E20: 22 | F20: 4 | G20: 3 | H20: 1 | K20: 4 | M20: 2 | P20: 2 | T20: 4 | U20: 22
A21: 3 | B21: üÇ½ÇÏ³Ï³Ý ³ÝÓ³Ýó ëÝ³ÝÏáõÃÛ³Ý í»ñ³µ»ñÛ³É | E21: 44 | F21: 63 | G21: 46 | H21: 17 | J21: 27 | K21: 36 | M21: 17 | P21: 19 | T21: 37 | U21: 43 | V21: 3
A22: 4 | B22: ԸՆԴԱՄԵՆԸ | E22: 153 | F22: 116 | G22: 95 | H22: 21 | J22: 43 | K22: 73 | M22: 42 | P22: 31 | T22: 78 | U22: 148 | V22: 5

Sheet Ռ. Բունիաթյան
A1: Ð²ÞìºîìàôÂÚàôÜ
A2: ºðºì²ÜÆ ²ð²´ÎÆð ºì ø²Ü²øºè-¼ºÚÂàôÜ ì²ðâ²Î²Ü Þðæ²ÜÜºðÆ ÀÜ¸Ð²Üàôð Æð²ì²êàôÂÚ²Ü ²è²æÆÜ ²îÚ²ÜÆ ¸²î²ð²ÜÆ ¸²î²ìàð
A3: è. ´àôÜÆ²ÂÚ²ÜÆ | H3: ¶àðÌàôÜºàôÂÚ²Ü ìºð²´ºðÚ²È êÜ²ÜÎàôÂÚ²Ü ¶àðÌºðàì 2017Ã.
A4: ìÇ×³Ï³·ñ³Ï³Ý ïáÕÇ Ñ³Ù³ñÁ | E4: ²Ý³í³ñï ·áñÍ»ñÇ ÙÝ³óáñ¹Á Ñ³ßí»ïáõ Å³Ù³Ý³Ï³ßñç³ÝÇ ëÏ½µáõÙ | F4: êï³óí³Í ¹ÇÙáõÙÝ»ñÇ (·áñÍ»ñ) ù³Ý³ÏÁ | L4: öáË³Ýóí»É ¿ ³ÛÉ ¹³ï³íáñÇ (Ï³½ÙÇ ÷á÷áËáõÃÛáõÝ) | M4: ì³ñáõÛÃ ÁÝ¹áõÝí³Í ¹ÇÙáõÙÝ»ñáí Ï³Û³óí³Í ¹³ï³Ï³Ý ³Ïï»ñ | Q4: Ü»ñÏ³Û³óí»É ¿ ýÇÝ³Ýë³Ï³Ý ³éáÕç³óÙ³Ý Íñ³·Çñ | T4: ²í³ñïí»É »Ý ·áñÍ»ñ Ñ³ßí»ïáõ Å³Ù³Ý³Ï³ßñç³ÝáõÙ | U4: ²Ý³í³ñï ·áñÍ»ñÇ ÙÝ³óáñ¹Á Ñ³ßí»ïáõ Å³Ù³Ý³Ï³ßñç³ÝÇ í»ñçáõÙ | V4: ´áÕáù³ñÏí»É »Ý í»ñ³ùÝÝÇã ¹³ï³ñ³Ý
F6: ÀÝ¹³Ù»ÝÁ | G6: ³Û¹ ÃíáõÙ Ñ³ñÏ³¹ñí³Í ëÝ³ÝÏáõÃÛáõÝ | H6: ³Û¹ ÃíáõÙ Ï³Ù³íáñ ëÝ³ÝÏáõÃÛáõÝ | I6: ëï³óí³Í ¹ÇÙáõÙÝ»ñÇ ÁÝÃ³óùÁ | M6: Ï³Û³óí»É ¿ å³ñï³å³ÝÇÝ ëÝ³ÝÏ ×³Ý³ã»Éáõ Ù³ëÇÝ í×Çé | N6: å³ñï³å³ÝÇÝ ëÝ³ÝÏ ×³Ý³ã»Éáõ ¹ÇÙáõÙÁ Ù»ñÅí»É ¿ | O6: ¹ÇÙáõÙÁ ÃáÕÝí»É ¿ ³é³Ýó ùÝÝáõÃÛ³Ý | P6: ³Ý³í³ñï (³Û¹ ÃíáõÙ Ï³ë»óí³Í) | Q6: ÀÝ¹³Ù»ÝÁ | R6: ÃáÕÝí»É ¿ ³é³Ýó ùÝÝ³ñÏÙ³Ý | S6: Ñ³ëï³ïí»É ¿
I8: ¸ÇÙáõÙÇ ÁÝ¹áõÝáõÙÁ Ù»ñÅí»É ¿ | J8: ¸ÇÙáõÙÁ í»ñ³¹³ñÓí»É ¿ | K8: ÀÝ¹áõÝí»É ¿ í³ñáõÛÃ
E18: 1 | F18: 2 | G18: 3 | H18: 4 | I18: 5 | J18: 6 | K18: 7 | L18: 8 | M18: 9 | N18: 10 | O18: 11 | P18: 12 | Q18: 13 | R18: 14 | S18: 15 | T18: 16 | U18: 17 | V18: 18
A19: 1 | B19: Æñ³í³µ³Ý³Ï³Ý ³ÝÓÇ ëÝ³ÝÏáõÃÛ³Ý í»ñ³µ»ñÛ³É | E19: 114 | F19: 27 | G19: 27 | K19: 27 | M19: 20 | N19: 5 | P19: 2 | T19: 32 | U19: 109 | V19: 18
A20: 2 | B20: ²ÝÑ³ï Ó»éÝ»ñ»óÇ ëÝ³ÝÏáõÃÛ³Ý í»ñ³µ»ñÛ³É | E20: 37 | F20: 10 | G20: 7 | H20: 3 | K20: 10 | M20: 8 | N20: 1 | P20: 1 | T20: 7 | U20: 40
A21: 3 | B21: üÇ½ÇÏ³Ï³Ý ³ÝÓ³Ýó ëÝ³ÝÏáõÃÛ³Ý í»ñ³µ»ñÛ³É | E21: 99 | F21: 19 | G21: 15 | H21: 4 | J21: 4 | K21: 15 | M21: 11 | N21: 3 | P21: 1 | T21: 10 | U21: 104 | V21: 7
A22: 4 | B22: ԸՆԴԱՄԵՆԸ | E22: 250 | F22: 56 | G22: 49 | H22: 7 | J22: 4 | K22: 52 | M22: 39 | N22: 9 | P22: 4 | T22: 49 | U22: 253 | V22: 25

Sheet Ս.Հովսեփյան
A1: Ð²ÞìºîìàôÂÚàôÜ
A2: ºðºì²ÜÆ ²ð²´ÎÆð ºì ø²Ü²øºè-¼ºÚÂàôÜ ì²ðâ²Î²Ü Þðæ²ÜÜºðÆ ÀÜ¸Ð²Üàôð Æð²ì²êàôÂÚ²Ü ²è²æÆÜ ²îÚ²ÜÆ ¸²î²ð²ÜÆ ¸²î²ìàð
A3: Ս. ÐàìêºöÚ²ÜÆ | H3: ¶àðÌàôÜºàôÂÚ²Ü ìºð²´ºðÚ²È êÜ²ÜÎàôÂÚ²Ü ¶àðÌºðՈՎ 2017թ.
A4: ìÇ×³Ï³·ñ³Ï³Ý ïáÕÇ Ñ³Ù³ñÁ | E4: ²Ý³í³ñï ·áñÍ»ñÇ ÙÝ³óáñ¹Á Ñ³ßí»ïáõ Å³Ù³Ý³Ï³ßñç³ÝÇ ëÏ½µáõÙ | F4: êï³óí³Í ¹ÇÙáõÙÝ»ñÇ (·áñÍ»ñ) ù³Ý³ÏÁ | L4: öáË³Ýóí»É ¿ ³ÛÉ ¹³ï³íáñÇ (Ï³½ÙÇ ÷á÷áËáõÃÛáõÝ) | M4: ì³ñáõÛÃ ÁÝ¹áõÝí³Í ¹ÇÙáõÙÝ»ñáí Ï³Û³óí³Í ¹³ï³Ï³Ý ³Ïï»ñ | Q4: Ü»ñÏ³Û³óí»É ¿ ýÇÝ³Ýë³Ï³Ý ³éáÕç³óÙ³Ý Íñ³·Çñ | T4: ²í³ñïí»É »Ý ·áñÍ»ñ Ñ³ßí»ïáõ Å³Ù³Ý³Ï³ßñç³ÝáõÙ | U4: ²Ý³í³ñï ·áñÍ»ñÇ ÙÝ³óáñ¹Á Ñ³ßí»ïáõ Å³Ù³Ý³Ï³ßñç³ÝÇ í»ñçáõÙ | V4: ´áÕáù³ñÏí»É »Ý í»ñ³ùÝÝÇã ¹³ï³ñ³Ý
F6: ÀÝ¹³Ù»ÝÁ | G6: ³Û¹ ÃíáõÙ Ñ³ñÏ³¹ñí³Í ëÝ³ÝÏáõÃÛáõÝ | H6: ³Û¹ ÃíáõÙ Ï³Ù³íáñ ëÝ³ÝÏáõÃÛáõÝ | I6: ëï³óí³Í ¹ÇÙáõÙÝ»ñÇ ÁÝÃ³óùÁ | M6: Ï³Û³óí»É ¿ å³ñï³å³ÝÇÝ ëÝ³ÝÏ ×³Ý³ã»Éáõ Ù³ëÇÝ í×Çé | N6: å³ñï³å³ÝÇÝ ëÝ³ÝÏ ×³Ý³ã»Éáõ ¹ÇÙáõÙÁ Ù»ñÅí»É ¿ | O6: ¹ÇÙáõÙÁ ÃáÕÝí»É ¿ ³é³Ýó ùÝÝáõÃÛ³Ý | P6: ³Ý³í³ñï (³Û¹ ÃíáõÙ Ï³ë»óí³Í) | Q6: ÀÝ¹³Ù»ÝÁ | R6: ÃáÕÝí»É ¿ ³é³Ýó ùÝÝ³ñÏÙ³Ý | S6: Ñ³ëï³ïí»É ¿
I8: ¸ÇÙáõÙÇ ÁÝ¹áõÝáõÙÁ Ù»ñÅí»É ¿ | J8: ¸ÇÙáõÙÁ í»ñ³¹³ñÓí»É ¿ | K8: ÀÝ¹áõÝí»É ¿ í³ñáõÛÃ
E18: 1 | F18: 2 | G18: 3 | H18: 4 | I18: 5 | J18: 6 | K18: 7 | L18: 8 | M18: 9 | N18: 10 | O18: 11 | P18: 12 | Q18: 13 | R18: 14 | S18: 15 | T18: 16 | U18: 17 | V18: 18
A19: 1 | B19: Æñ³í³µ³Ý³Ï³Ý ³ÝÓÇ ëÝ³ÝÏáõÃÛ³Ý í»ñ³µ»ñÛ³É | E19: 15 | T19: 1 | U19: 14
A20: 2 | B20: ²ÝÑ³ï Ó»éÝ»ñ»óÇ ëÝ³ÝÏáõÃÛ³Ý í»ñ³µ»ñÛ³É
A21: 3 | B21: üÇ½ÇÏ³Ï³Ý ³ÝÓ³Ýó ëÝ³ÝÏáõÃÛ³Ý í»ñ³µ»ñÛ³É | E21: 7 | T21: 1 | U21: 6
A22: 4 | B22: ԸՆԴԱՄԵՆԸ | E22: 22 | T22: 2 | U22: 20

Sheet Ս.Թադևոսյան
A1: Ð²ÞìºîìàôÂÚàôÜ
A2: ºðºì²ÜÆ ²ð²´ÎÆð ºì ø²Ü²øºè-¼ºÚÂàôÜ ì²ðâ²Î²Ü Þðæ²ÜÜºðÆ ÀÜ¸Ð²Üàôð Æð²ì²êàôÂÚ²Ü ²è²æÆÜ ²îÚ²ÜÆ ¸²î²ð²ÜÆ ¸²î²ìàð
A3: Ս. ԹԱԴԵՎՈՍՅԱՆԻ | H3: ¶àðÌàôÜºàôÂÚ²Ü ìºð²´ºðÚ²È êÜ²ÜÎàôÂÚ²Ü ¶àðÌºðՈՎ 2017թ.
A4: ìÇ×³Ï³·ñ³Ï³Ý ïáÕÇ Ñ³Ù³ñÁ | E4: ²Ý³í³ñï ·áñÍ»ñÇ ÙÝ³óáñ¹Á Ñ³ßí»ïáõ Å³Ù³Ý³Ï³ßñç³ÝÇ ëÏ½µáõÙ | F4: êï³óí³Í ¹ÇÙáõÙÝ»ñÇ (·áñÍ»ñ) ù³Ý³ÏÁ | L4: öáË³Ýóí»É ¿ ³ÛÉ ¹³ï³íáñÇ (Ï³½ÙÇ ÷á÷áËáõÃÛáõÝ) | M4: ì³ñáõÛÃ ÁÝ¹áõÝí³Í ¹ÇÙáõÙÝ»ñáí Ï³Û³óí³Í ¹³ï³Ï³Ý ³Ïï»ñ | Q4: Ü»ñÏ³Û³óí»É ¿ ýÇÝ³Ýë³Ï³Ý ³éáÕç³óÙ³Ý Íñ³·Çñ | T4: ²í³ñïí»É »Ý ·áñÍ»ñ Ñ³ßí»ïáõ Å³Ù³Ý³Ï³ßñç³ÝáõÙ | U4: ²Ý³í³ñï ·áñÍ»ñÇ ÙÝ³óáñ¹Á Ñ³ßí»ïáõ Å³Ù³Ý³Ï³ßñç³ÝÇ í»ñçáõÙ | V4: ´áÕáù³ñÏí»É »Ý í»ñ³ùÝÝÇã ¹³ï³ñ³Ý
F6: ÀÝ¹³Ù»ÝÁ | G6: ³Û¹ ÃíáõÙ Ñ³ñÏ³¹ñí³Í ëÝ³ÝÏáõÃÛáõÝ | H6: ³Û¹ ÃíáõÙ Ï³Ù³íáñ ëÝ³ÝÏáõÃÛáõÝ | I6: ëï³óí³Í ¹ÇÙáõÙÝ»ñÇ ÁÝÃ³óùÁ | M6: Ï³Û³óí»É ¿ å³ñï³å³ÝÇÝ ëÝ³ÝÏ ×³Ý³ã»Éáõ Ù³ëÇÝ í×Çé | N6: å³ñï³å³ÝÇÝ ëÝ³ÝÏ ×³Ý³ã»Éáõ ¹ÇÙáõÙÁ Ù»ñÅí»É ¿ | O6: ¹ÇÙáõÙÁ ÃáÕÝí»É ¿ ³é³Ýó ùÝÝáõÃÛ³Ý | P6: ³Ý³í³ñï (³Û¹ ÃíáõÙ Ï³ë»óí³Í) | Q6: ÀÝ¹³Ù»ÝÁ | R6: ÃáÕÝí»É ¿ ³é³Ýó ùÝÝ³ñÏÙ³Ý | S6: Ñ³ëï³ïí»É ¿
I8: ¸ÇÙáõÙÇ ÁÝ¹áõÝáõÙÁ Ù»ñÅí»É ¿ | J8: ¸ÇÙáõÙÁ í»ñ³¹³ñÓí»É ¿ | K8: ÀÝ¹áõÝí»É ¿ í³ñáõÛÃ
E18: 1 | F18: 2 | G18: 3 | H18: 4 | I18: 5 | J18: 6 | K18: 7 | L18: 8 | M18: 9 | N18: 10 | O18: 11 | P18: 12 | Q18: 13 | R18: 14 | S18: 15 | T18: 16 | U18: 17 | V18: 18
A19: 1 | B19: Æñ³í³µ³Ý³Ï³Ý ³ÝÓÇ ëÝ³ÝÏáõÃÛ³Ý í»ñ³µ»ñÛ³É | E19: 245 | F19: 20 | G19: 20 | J19: 2 | K19: 18 | M19: 13 | N19: 5 | T19: 51 | U19: 212 | V19: 28
A20: 2 | B20: ²ÝÑ³ï Ó»éÝ»ñ»óÇ ëÝ³ÝÏáõÃÛ³Ý í»ñ³µ»ñÛ³É | E20: 18 | F20: 10 | G20: 10 | K20: 10 | M20: 8 | N20: 2 | T20: 5 | U20: 23 | V20: 2
A21: 3 | B21: üÇ½ÇÏ³Ï³Ý ³ÝÓ³Ýó ëÝ³ÝÏáõÃÛ³Ý í»ñ³µ»ñÛ³É | E21: 65 | F21: 31 | G21: 9 | H21: 22 | I21: 1 | J21: 8 | K21: 22 | M21: 17 | N21: 2 | P21: 3 | T21: 19 | U21: 68 | V21: 1
A22: 4 | B22: ԸՆԴԱՄԵՆԸ | E22: 328 | F22: 61 | G22: 39 | H22: 22 | I22: 1 | J22: 10 | K22: 50 | M22: 38 | N22: 9 | P22: 3 | T22: 75 | U22: 303 | V22: 31

Sheet Հ․Շահնազարյան
A1: Ð²ÞìºîìàôÂÚàôÜ
A2: ºðºì²ÜÆ ²ð²´ÎÆð ºì ø²Ü²øºè-¼ºÚÂàôÜ ì²ðâ²Î²Ü Þðæ²ÜÜºðÆ ÀÜ¸Ð²Üàôð Æð²ì²êàôÂÚ²Ü ²è²æÆÜ ²îÚ²ÜÆ ¸²î²ð²ÜÆ ¸²î²ìàð
A3: Ð. Þ²ÐÜ²¼²ðÚ²ÜÆ | H3: ¶àðÌàôÜºàôÂÚ²Ü ìºð²´ºðÚ²È êÜ²ÜÎàôÂÚ²Ü ¶àðÌºðՈՎ 2017թ.
A4: ìÇ×³Ï³·ñ³Ï³Ý ïáÕÇ Ñ³Ù³ñÁ | E4: ²Ý³í³ñï ·áñÍ»ñÇ ÙÝ³óáñ¹Á Ñ³ßí»ïáõ Å³Ù³Ý³Ï³ßñç³ÝÇ ëÏ½µáõÙ | F4: êï³óí³Í ¹ÇÙáõÙÝ»ñÇ (·áñÍ»ñ) ù³Ý³ÏÁ | L4: öáË³Ýóí»É ¿ ³ÛÉ ¹³ï³íáñÇ (Ï³½ÙÇ ÷á÷áËáõÃÛáõÝ) | M4: ì³ñáõÛÃ ÁÝ¹áõÝí³Í ¹ÇÙáõÙÝ»ñáí Ï³Û³óí³Í ¹³ï³Ï³Ý ³Ïï»ñ | Q4: Ü»ñÏ³Û³óí»É ¿ ýÇÝ³Ýë³Ï³Ý ³éáÕç³óÙ³Ý Íñ³·Çñ | T4: ²í³ñïí»É »Ý ·áñÍ»ñ Ñ³ßí»ïáõ Å³Ù³Ý³Ï³ßñç³ÝáõÙ | U4: ²Ý³í³ñï ·áñÍ»ñÇ ÙÝ³óáñ¹Á Ñ³ßí»ïáõ Å³Ù³Ý³Ï³ßñç³ÝÇ í»ñçáõÙ | V4: ´áÕáù³ñÏí»É »Ý í»ñ³ùÝÝÇã ¹³ï³ñ³Ý
F6: ÀÝ¹³Ù»ÝÁ | G6: ³Û¹ ÃíáõÙ Ñ³ñÏ³¹ñí³Í ëÝ³ÝÏáõÃÛáõÝ | H6: ³Û¹ ÃíáõÙ Ï³Ù³íáñ ëÝ³ÝÏáõÃÛáõÝ | I6: ëï³óí³Í ¹ÇÙáõÙÝ»ñÇ ÁÝÃ³óùÁ | M6: Ï³Û³óí»É ¿ å³ñï³å³ÝÇÝ ëÝ³ÝÏ ×³Ý³ã»Éáõ Ù³ëÇÝ í×Çé | N6: å³ñï³å³ÝÇÝ ëÝ³ÝÏ ×³Ý³ã»Éáõ ¹ÇÙáõÙÁ Ù»ñÅí»É ¿ | O6: ¹ÇÙáõÙÁ ÃáÕÝí»É ¿ ³é³Ýó ùÝÝáõÃÛ³Ý | P6: ³Ý³í³ñï (³Û¹ ÃíáõÙ Ï³ë»óí³Í) | Q6: ÀÝ¹³Ù»ÝÁ | R6: ÃáÕÝí»É ¿ ³é³Ýó ùÝÝ³ñÏÙ³Ý | S6: Ñ³ëï³ïí»É ¿
I8: ¸ÇÙáõÙÇ ÁÝ¹áõÝáõÙÁ Ù»ñÅí»É ¿ | J8: ¸ÇÙáõÙÁ í»ñ³¹³ñÓí»É ¿ | K8: ÀÝ¹áõÝí»É ¿ í³ñáõÛÃ
F18: 2 | G18: 3 | H18: 4 | I18: 5 | J18: 6 | K18: 7 | L18: 8 | M18: 9 | N18: 10 | O18: 11 | P18: 12 | Q18: 13 | R18: 14 | S18: 15 | T18: 16 | U18: 17 | V18: 18
A19: 1 | B19: Æñ³í³µ³Ý³Ï³Ý ³ÝÓÇ ëÝ³ÝÏáõÃÛ³Ý í»ñ³µ»ñÛ³É
A20: 2 | B20: ²ÝÑ³ï Ó»éÝ»ñ»óÇ ëÝ³ÝÏáõÃÛ³Ý í»ñ³µ»ñÛ³É
A21: 3 | B21: üÇ½ÇÏ³Ï³Ý ³ÝÓ³Ýó ëÝ³ÝÏáõÃÛ³Ý í»ñ³µ»ñÛ³É | F21: 1 | G21: 1 | K21: 1 | P21: 1 | U21: 1
A22: 4 | B22: ԸՆԴԱՄԵՆԸ | F22: 1 | G22: 1 | K22: 1 | P22: 1 | U22: 1
