Workbook

Sheet Ajapnyak
A1: Հավելված 2 Հայաստանի Հանրապետության Դատարանների նախագահների խորհրդի 2007թ. ¹»Ïï»Ùµ»ñÇ 21-ի թիվ 23Լ որոշման
A2: ÐÐ ÀÜ¸Ð²Üàôð Æð²ì²êàôÂÚ²Ü ¸²î²ð²ÜàôØ ØÆÜâ¸²î²Î²Ü ì²ðàôÚÂÆ ÜÎ²îØ²Ø´ ¸²î²Î²Ü ìºð²ÐêÎàÔàôÂÚ²Ü, ¸²î²Î²Ü ²ÎîºðÆ Î²î²ðØ²Ü Ðºî Î²äì²Ì Ð²ðòºðÆ ìºð²´ºðÚ²È ²ç³÷ÝÛ³Ï ¨ ¸³íÃ³ß»Ý í³ñã³Ï³Ý ßñç³ÝÝ»ñÇ ÁÝ¹Ñ³Ýáõñ Çñ³í³ëáõÃÛ³Ý ¹³ï³ñ³Ý 2011 Ãí³Ï³Ý
A3: ØÇçÝáñ¹áõÃÛáõÝÝ»ñÇ ùÝÝ³ñÏÙ³Ý ÁÝÃ³óùÁ | D3: Ü»ñÏ³Û³óí³Í ÙÇçÝáñ¹áõÃÛáõÝÝ»ñÇ ù³Ý³ÏÁ | E3: Ù»ñÅí»É ¿ | F3: µ³í³ñ³ñí»É ¿ | G3: ÃáÕÝí»É ³é³Ýó ùÝÝáõÃÛ³Ý | H3: Áëï ÁÝ¹¹³ïáõÃÛ³Ý | I3: Ñ»ï ¿ í»ñóí»É | J3: ³Ý³í³ñï | K3: µáÕáù³ñÏí»É ¿ í»ñ³ùÝÝÇã ¹³ï³ñ³Ý
A4: êïáõ·Çã Ñ³í³ë³ñáõÙ` 1=2+3+4+5+6
A5: 1. ØÇÝã¹³ï³Ï³Ý í³ñáõÛÃÇ ÝÏ³ïÙ³Ùµ ¹³ï³Ï³Ý í»ñ³ÑëÏáÕáõÃÛ³Ý áÉáñï | D5: 1 | E5: 2 | F5: 3 | G5: 4 | H5: 5 | I5: 6 | J5: 7 | K5: 8
A6: ³(06) | B6: Ï³É³ÝùÁ áñå»ë Ë³÷³ÝÙ³Ý ÙÇçáó ÏÇñ³é»Éáõ Ù³ëÇÝ | D6: 121 | E6: 9 | F6: 112 | K6: 7
A7: µ(06) | B7: Ï³É³ÝùÇ Å³ÙÏ»ïÇ »ñÏ³ñ³óÝ»Éáõ Ù³ëÇÝ | D7: 52 | E7: 2 | F7: 50 | K7: 4
A8: ·(06) | B8: ·ñ³íÁ áñå»ë Ï³É³Ý³íáñÙ³Ý ³ÛÉÁÝïñ³Ýù³ÛÇÝ Ë³÷³ÝÙ³Ý ÙÇçáó ÏÇñ³é»Éáõ Ù³ëÇÝ | D8: 35 | E8: 18 | F8: 16 | G8: 1 | K8: 12
A9: ¹(07) | B9: Ëáõ½³ñÏáõÃÛ³Ý Ï³ï³ñÙ³Ý Ù³ëÇÝ | D9: 99 | E9: 13 | F9: 85 | G9: 1 | K9: 2
A10: »(08) | B10: Ý³Ù³Ï³·ñáõÃÛ³Ý, Ñ»é³·ñ³Ï³Ý, ÷áuï³ÛÇÝ Ñ³Õáñ¹áõÙÝ»ñÇ ÑëÏáÕáõÃÛ³Ý ÙÇçÝáñ¹áõÃÛáõÝÝ»ñÇ Ù³ëÇÝ
A11: ½(09) | B11: Ñ»é³Ëáu³ÛÇÝ Ï³Ù Ï³åÇ ³ÛÉ ÙÇçáóÝ»ñáí ï³ñíáÕ Ëáu³ÏóáõÃÛáõÝÝ»ñÇ ÉuÙ³Ý ¨ Ó³ÛÝ³·ñ³éÙ³Ý ÙÇçÝáñ¹áõÃÛáõÝÝ»ñÇ Ù³ëÇÝ | D11: 12 | E11: 4 | F11: 8
A12: ¿(10) | B12: Ñ»é³ËáëÝ»ñÇ Ùáõïù³ÛÇÝ ¨ »Éù³ÛÇÝ í»ñÍ³ÝÙ³Ý ÃáõÛÉïíáõÃÛáõÝ ëï³Ý³Éáõ ÙÇçÝáñ¹áõÃÛáõÝÝ»ñÇ Ù³ëÇÝ | D12: 136 | E12: 13 | F12: 123 | K12: 1
A13: Á(11) | B13: Ñ»ï³ùÝÝáõÃÛ³Ý Ù³ñÙÝÇ ³ßË³ïáÕÇ, ùÝÝÇãÇ, ¹³ï³Ë³½Ç oå»ñ³ïÇí-Ñ»ï³Ëáõ½³Ï³Ý ·áñÍáÕáõÃÛáõÝÝ»ñ Çñ³Ï³Ý³óÝáÕ Ù³ñÙÇÝÝ»ñÇ ³ÝoñÇÝ³Ï³Ý ¨ ³ÝÑÇÙÝ áñáßáõÙÝ»ñÇ ¨ ·áñÍáÕáõÃÛáõÝÝ»ñÇ ¹»Ù µáÕáùÝ»ñÇ Ù³ëÇÝ | D13: 24 | E13: 16 | F13: 6 | G13: 1 | J13: 1 | K13: 12
A14: 2. ¸³ï³Ï³Ý ³Ïï»ñÇ Ñ»ï Ï³ï³ñÙ³Ý Ñ»ï Ï³åí³Í Ñ³ñó»ñÇ ÉáõÍÙ³Ý áÉáñï
A15: ³(12) | B15: å³ïÅÇó å³ÛÙ³Ý³Ï³Ý í³Õ³Å³ÙÏ»ï ³½³ï»Éáõ Ù³ëÇÝ
A16: µ(13) | B16: ÀÝ¹³Ù»ÝÁ å³ïÇÅÁ ÷á÷áË»Éáõ, Ñ»ï³Ó·»Éáõ ¨ å³ïÅÇó ³½³ï»Éáõ Ù³uÇÝ ÙÇçÝáñ¹áõÃÛáõÝÝ»ñ | D16: 73 | E16: 18 | F16: 51 | G16: 2 | J16: 2 | K16: 5
A17: ·(14) | B17: Ñ³ñÏ³¹Çñ µáõÅÙ³Ý ï»ë³ÏÇ ÷á÷áËáõÃÛ³Ý Ù³ëÇÝ
A18: ¹(15) | B18: ³ÛÉ ÙÇçÝáñ¹áõÃÛáõÝÝ»ñ | D18: 24 | E18: 6 | F18: 17 | G18: 1 | K18: 3
A19: ե(16) | B19: դատական հանձնարարություն
A20: ÀÜ¸²ØºÜÀ | D20: =SUM(D6:D19) -> 576 | E20: =SUM(E6:E19) -> 99 | F20: =SUM(F6:F19) -> 468 | G20: =SUM(G6:G19) -> 6 | H20: =SUM(H6:H19) -> 0 | I20: =SUM(I6:I19) -> 0 | J20: =SUM(J6:J19) -> 3 | K20: =SUM(K6:K19) -> 46

Sheet Avan
A1: Հավելված 2 Հայաստանի Հանրապետության Դատարանների նախագահների խորհրդի 2007թ. ¹»Ïï»Ùµ»ñÇ 21-ի թիվ 23Լ որոշման
A2: ÐÐ ÀÜ¸Ð²Üàôð Æð²ì²êàôÂÚ²Ü ¸²î²ð²ÜàôØ ØÆÜâ¸²î²Î²Ü ì²ðàôÚÂÆ ÜÎ²îØ²Ø´ ¸²î²Î²Ü ìºð²ÐêÎàÔàôÂÚ²Ü, ¸²î²Î²Ü ²ÎîºðÆ Î²î²ðØ²Ü Ðºî Î²äì²Ì Ð²ðòºðÆ ìºð²´ºðÚ²È
A3: ØÇçÝáñ¹áõÃÛáõÝÝ»ñÇ ùÝÝ³ñÏÙ³Ý ÁÝÃ³óùÁ | D3: Ü»ñÏ³Û³óí³Í ÙÇçÝáñ¹áõÃÛáõÝÝ»ñÇ ù³Ý³ÏÁ | E3: Ù»ñÅí»É ¿ | F3: µ³í³ñ³ñí»É ¿ | G3: ÃáÕÝí»É ³é³Ýó ùÝÝáõÃÛ³Ý | H3: Áëï ÁÝ¹¹³ïáõÃÛ³Ý | I3: Ñ»ï ¿ í»ñóí»É | J3: ³Ý³í³ñï | K3: µáÕáù³ñÏí»É ¿ í»ñ³ùÝÝÇã ¹³ï³ñ³Ý
A4: êïáõ·Çã Ñ³í³ë³ñáõÙ` 1=2+3+4+5
A5: 1. ØÇÝã¹³ï³Ï³Ý í³ñáõÛÃÇ ÝÏ³ïÙ³Ùµ ¹³ï³Ï³Ý í»ñ³ÑëÏáÕáõÃÛ³Ý áÉáñï | D5: 1 | E5: 2 | F5: 3 | G5: 4 | H5: 5 | I5: 6 | J5: 7 | K5: 8
A6: ³(06) | B6: Ï³É³ÝùÁ áñå»ë Ë³÷³ÝÙ³Ý ÙÇçáó ÏÇñ³é»Éáõ Ù³ëÇÝ | D6: 147 | F6: 147 | K6: 7
A7: µ(06) | B7: Ï³É³ÝùÇ Å³ÙÏ»ïÇ »ñÏ³ñ³óÝ»Éáõ Ù³ëÇÝ | D7: 39 | F7: 39 | K7: 1
A8: ·(06) | B8: ·ñ³íÁ áñå»ë Ï³É³Ý³íáñÙ³Ý ³ÛÉÁÝïñ³Ýù³ÛÇÝ Ë³÷³ÝÙ³Ý ÙÇçáó ÏÇñ³é»Éáõ Ù³ëÇÝ | D8: 26 | E8: 10 | F8: 12 | G8: 4 | K8: 4
A9: ¹(07) | B9: Ëáõ½³ñÏáõÃÛ³Ý Ï³ï³ñÙ³Ý Ù³ëÇÝ | D9: 173 | E9: 2 | F9: 171
A10: »(08) | B10: Ý³Ù³Ï³·ñáõÃÛ³Ý, Ñ»é³·ñ³Ï³Ý, ÷áuï³ÛÇÝ Ñ³Õáñ¹áõÙÝ»ñÇ ÑëÏáÕáõÃÛ³Ý ÙÇçÝáñ¹áõÃÛáõÝÝ»ñÇ Ù³ëÇÝ
A11: ½(09) | B11: Ñ»é³Ëáu³ÛÇÝ Ï³Ù Ï³åÇ ³ÛÉ ÙÇçáóÝ»ñáí ï³ñíáÕ Ëáu³ÏóáõÃÛáõÝÝ»ñÇ ÉuÙ³Ý ¨ Ó³ÛÝ³·ñ³éÙ³Ý ÙÇçÝáñ¹áõÃÛáõÝÝ»ñÇ Ù³ëÇÝ | D11: 20 | F11: 20
A12: ¿(10) | B12: Ñ»é³ËáëÝ»ñÇ Ùáõïù³ÛÇÝ ¨ »Éù³ÛÇÝ í»ñÍ³ÝÙ³Ý ÃáõÛÉïíáõÃÛáõÝ ëï³Ý³Éáõ ÙÇçÝáñ¹áõÃÛáõÝÝ»ñÇ Ù³ëÇÝ | D12: 126 | E12: 1 | F12: 125
A13: Á(11) | B13: Ñ»ï³ùÝÝáõÃÛ³Ý Ù³ñÙÝÇ ³ßË³ïáÕÇ, ùÝÝÇãÇ, ¹³ï³Ë³½Ç oå»ñ³ïÇí-Ñ»ï³Ëáõ½³Ï³Ý ·áñÍáÕáõÃÛáõÝÝ»ñ Çñ³Ï³Ý³óÝáÕ Ù³ñÙÇÝÝ»ñÇ ³ÝoñÇÝ³Ï³Ý ¨ ³ÝÑÇÙÝ áñáßáõÙÝ»ñÇ ¨ ·áñÍáÕáõÃÛáõÝÝ»ñÇ ¹»Ù µáÕáùÝ»ñÇ Ù³ëÇÝ | D13: 19 | E13: 12 | F13: 3 | G13: 4 | K13: 7
A14: 2. ¸³ï³Ï³Ý ³Ïï»ñÇ Ñ»ï Ï³ï³ñÙ³Ý Ñ»ï Ï³åí³Í Ñ³ñó»ñÇ ÉáõÍÙ³Ý áÉáñï
A15: ³(12) | B15: å³ïÅÇó å³ÛÙ³Ý³Ï³Ý í³Õ³Å³ÙÏ»ï ³½³ï»Éáõ Ù³ëÇÝ
A16: µ(13) | B16: ÀÝ¹³Ù»ÝÁ å³ïÇÅÁ ÷á÷áË»Éáõ, Ñ»ï³Ó·»Éáõ ¨ å³ïÅÇó ³½³ï»Éáõ Ù³uÇÝ ÙÇçÝáñ¹áõÃÛáõÝÝ»ñ | D16: 105 | E16: 23 | F16: 74 | G16: 2 | H16: 1 | J16: 5 | K16: 3
A17: ·(14) | B17: Ñ³ñÏ³¹Çñ µáõÅÙ³Ý ï»ë³ÏÇ ÷á÷áËáõÃÛ³Ý Ù³ëÇÝ | D17: 13 | F17: 12 | J17: 1
A18: ¹(15) | B18: ³ÛÉ ÙÇçÝáñ¹áõÃÛáõÝÝ»ñ | D18: 12 | E18: 1 | F18: 11
A19: ե(16) | B19: դատական հանձնարարություն
A20: ÀÜ¸²ØºÜÀ | D20: =SUM(D6:D19) -> 680 | E20: =SUM(E6:E19) -> 49 | F20: =SUM(F6:F19) -> 614 | G20: =SUM(G6:G19) -> 10 | H20: =SUM(H6:H19) -> 1 | I20: =SUM(I6:I19) -> 0 | J20: =SUM(J6:J19) -> 6 | K20: =SUM(K6:K19) -> 22

Sheet Arabkir
A1: Հավելված 2 Հայաստանի Հանրապետության Դատարանների նախագահների խորհրդի 2007թ. ¹»Ïï»Ùµ»ñÇ 21-ի թիվ 23Լ որոշման
A2: ÐÐ ÀÜ¸Ð²Üàôð Æð²ì²êàôÂÚ²Ü ¸²î²ð²ÜàôØ ØÆÜâ¸²î²Î²Ü ì²ðàôÚÂÆ ÜÎ²îØ²Ø´ ¸²î²Î²Ü ìºð²ÐêÎàÔàôÂÚ²Ü, ¸²î²Î²Ü ²ÎîºðÆ Î²î²ðØ²Ü Ðºî Î²äì²Ì Ð²ðòºðÆ ìºð²´ºðÚ²È
A3: ØÇçÝáñ¹áõÃÛáõÝÝ»ñÇ ùÝÝ³ñÏÙ³Ý ÁÝÃ³óùÁ | D3: Ü»ñÏ³Û³óí³Í ÙÇçÝáñ¹áõÃÛáõÝÝ»ñÇ ù³Ý³ÏÁ | E3: Ù»ñÅí»É ¿ | F3: µ³í³ñ³ñí»É ¿ | G3: ÃáÕÝí»É ³é³Ýó ùÝÝáõÃÛ³Ý | H3: Áëï ÁÝ¹¹³ïáõÃÛ³Ý | I3: Ñ»ï ¿ í»ñóí»É | J3: ³Ý³í³ñï | K3: µáÕáù³ñÏí»É ¿ í»ñ³ùÝÝÇã ¹³ï³ñ³Ý
A4: êïáõ·Çã Ñ³í³ë³ñáõÙ` 1=2+3+4+5
A5: 1. ØÇÝã¹³ï³Ï³Ý í³ñáõÛÃÇ ÝÏ³ïÙ³Ùµ ¹³ï³Ï³Ý í»ñ³ÑëÏáÕáõÃÛ³Ý áÉáñï | D5: 1 | E5: 2 | F5: 3 | G5: 4 | H5: 5 | I5: 6 | J5: 7 | K5: 8
A6: ³(06) | B6: Ï³É³ÝùÁ áñå»ë Ë³÷³ÝÙ³Ý ÙÇçáó ÏÇñ³é»Éáõ Ù³ëÇÝ | D6: 326 | E6: 17 | F6: 309 | G6: 0 | J6: 0 | K6: 61
A7: µ(06) | B7: Ï³É³ÝùÇ Å³ÙÏ»ïÇ »ñÏ³ñ³óÝ»Éáõ Ù³ëÇÝ | D7: 145 | E7: 2 | F7: 143 | G7: 0 | J7: 0 | K7: 0
A8: ·(06) | B8: ·ñ³íÁ áñå»ë Ï³É³Ý³íáñÙ³Ý ³ÛÉÁÝïñ³Ýù³ÛÇÝ Ë³÷³ÝÙ³Ý ÙÇçáó ÏÇñ³é»Éáõ Ù³ëÇÝ | D8: 26 | E8: 13 | F8: 11 | G8: 2 | J8: 0 | K8: 0
A9: ¹(07) | B9: Ëáõ½³ñÏáõÃÛ³Ý Ï³ï³ñÙ³Ý Ù³ëÇÝ | D9: 266 | E9: 7 | F9: 256 | G9: 3 | J9: 0 | K9: 0
A10: »(08) | B10: Ý³Ù³Ï³·ñáõÃÛ³Ý, Ñ»é³·ñ³Ï³Ý, ÷áuï³ÛÇÝ Ñ³Õáñ¹áõÙÝ»ñÇ ÑëÏáÕáõÃÛ³Ý ÙÇçÝáñ¹áõÃÛáõÝÝ»ñÇ Ù³ëÇÝ | D10: 0 | E10: 0 | F10: 0 | G10: 0 | J10: 0 | K10: 0
A11: ½(09) | B11: Ñ»é³Ëáu³ÛÇÝ Ï³Ù Ï³åÇ ³ÛÉ ÙÇçáóÝ»ñáí ï³ñíáÕ Ëáu³ÏóáõÃÛáõÝÝ»ñÇ ÉuÙ³Ý ¨ Ó³ÛÝ³·ñ³éÙ³Ý ÙÇçÝáñ¹áõÃÛáõÝÝ»ñÇ Ù³ëÇÝ | D11: 155 | E11: 0 | F11: 155 | G11: 0 | J11: 0 | K11: 0
A12: ¿(10) | B12: Ñ»é³ËáëÝ»ñÇ Ùáõïù³ÛÇÝ ¨ »Éù³ÛÇÝ í»ñÍ³ÝÙ³Ý ÃáõÛÉïíáõÃÛáõÝ ëï³Ý³Éáõ ÙÇçÝáñ¹áõÃÛáõÝÝ»ñÇ Ù³ëÇÝ | D12: 246 | E12: 0 | F12: 246 | G12: 0 | J12: 0 | K12: 0
A13: Á(11) | B13: Ñ»ï³ùÝÝáõÃÛ³Ý Ù³ñÙÝÇ ³ßË³ïáÕÇ, ùÝÝÇãÇ, ¹³ï³Ë³½Ç oå»ñ³ïÇí-Ñ»ï³Ëáõ½³Ï³Ý ·áñÍáÕáõÃÛáõÝÝ»ñ Çñ³Ï³Ý³óÝáÕ Ù³ñÙÇÝÝ»ñÇ ³ÝoñÇÝ³Ï³Ý ¨ ³ÝÑÇÙÝ áñáßáõÙÝ»ñÇ ¨ ·áñÍáÕáõÃÛáõÝÝ»ñÇ ¹»Ù µáÕáùÝ»ñÇ Ù³ëÇÝ | D13: 42 | E13: 25 | F13: 7 | G13: 3 | J13: 7 | K13: 14
A14: 2. ¸³ï³Ï³Ý ³Ïï»ñÇ Ñ»ï Ï³ï³ñÙ³Ý Ñ»ï Ï³åí³Í Ñ³ñó»ñÇ ÉáõÍÙ³Ý áÉáñï
A15: ³(12) | B15: å³ïÅÇó å³ÛÙ³Ý³Ï³Ý í³Õ³Å³ÙÏ»ï ³½³ï»Éáõ Ù³ëÇÝ | D15: 0 | E15: 0 | F15: 0 | G15: 0 | J15: 0 | K15: 0
A16: µ(13) | B16: ÀÝ¹³Ù»ÝÁ å³ïÇÅÁ ÷á÷áË»Éáõ, Ñ»ï³Ó·»Éáõ ¨ å³ïÅÇó ³½³ï»Éáõ Ù³uÇÝ ÙÇçÝáñ¹áõÃÛáõÝÝ»ñ | D16: 63 | E16: 13 | F16: 46 | G16: 3 | J16: 1 | K16: 1
A17: ·(14) | B17: Ñ³ñÏ³¹Çñ µáõÅÙ³Ý ï»ë³ÏÇ ÷á÷áËáõÃÛ³Ý Ù³ëÇÝ | D17: 12 | E17: 1 | F17: 10 | G17: 1 | J17: 0 | K17: 0
A18: ¹(15) | B18: ³ÛÉ ÙÇçÝáñ¹áõÃÛáõÝÝ»ñ | D18: 1 | E18: 1 | F18: 0 | G18: 0 | J18: 0 | K18: 0
A19: ե(16) | B19: դատական հանձնարարություն
A20: ÀÜ¸²ØºÜÀ | D20: =SUM(D6:D18) -> 1282 | E20: =SUM(E6:E18) -> 79 | F20: =SUM(F6:F18) -> 1183 | G20: =SUM(G6:G18) -> 12 | H20: =SUM(H6:H18) -> 0 | I20: =SUM(I6:I18) -> 0 | J20: =SUM(J6:J18) -> 8 | K20: =SUM(K6:K18) -> 76

Sheet Ararat
A1: Հավելված 2 2011թ. տարեկան Հայաստանի Հանրապետության Դատարանների նախագահների խորհրդի 2007թ. ¹»Ïï»Ùµ»ñÇ 21-ի թիվ 23Լ որոշման
A2: ÐÐ ԱՐԱՐԱՏԻ և ՎԱՅՈՑ ՁՈՐԻ ՄԱՐԶԵՐԻ ÀÜ¸Ð²Üàôð Æð²ì²êàôÂÚ²Ü ¸²î²ð²ÜàôØ ØÆÜâ¸²î²Î²Ü ì²ðàôÚÂÆ ÜÎ²îØ²Ø´ ¸²î²Î²Ü ìºð²ÐêÎàÔàôÂÚ²Ü, ¸²î²Î²Ü ²ÎîºðÆ Î²î²ðØ²Ü Ðºî Î²äì²Ì Ð²ðòºðÆ ìºð²´ºðÚ²È 2011Թ
A3: ØÇçÝáñ¹áõÃÛáõÝÝ»ñÇ ùÝÝ³ñÏÙ³Ý ÁÝÃ³óùÁ | D3: Ü»ñÏ³Û³óí³Í ÙÇçÝáñ¹áõÃÛáõÝÝ»ñÇ ù³Ý³ÏÁ | E3: Ù»ñÅí»É ¿ | F3: µ³í³ñ³ñí»É ¿ | G3: ÃáÕÝí»É ³é³Ýó ùÝÝáõÃÛ³Ý | H3: Áëï ÁÝ¹¹³ïáõÃÛ³Ý | I3: Ñ»ï ¿ í»ñóí»É | J3: ³Ý³í³ñï | K3: µáÕáù³ñÏí»É ¿ í»ñ³ùÝÝÇã ¹³ï³ñ³Ý
A4: êïáõ·Çã Ñ³í³ë³ñáõÙ` 1=2+3+4+5
A5: 1. ØÇÝã¹³ï³Ï³Ý í³ñáõÛÃÇ ÝÏ³ïÙ³Ùµ ¹³ï³Ï³Ý í»ñ³ÑëÏáÕáõÃÛ³Ý áÉáñï | D5: 1 | E5: 2 | F5: 3 | G5: 4 | H5: 5 | I5: 6 | J5: 7 | K5: 8
A6: ³(06) | B6: Ï³É³ÝùÁ áñå»ë Ë³÷³ÝÙ³Ý ÙÇçáó ÏÇñ³é»Éáõ Ù³ëÇÝ | D6: 300 | E6: 6 | F6: 294 | K6: 19
A7: µ(06) | B7: Ï³É³ÝùÇ Å³ÙÏ»ïÇ »ñÏ³ñ³óÝ»Éáõ Ù³ëÇÝ | D7: 100 | F7: 100 | K7: 6
A8: ·(06) | B8: ·ñ³íÁ áñå»ë Ï³É³Ý³íáñÙ³Ý ³ÛÉÁÝïñ³Ýù³ÛÇÝ Ë³÷³ÝÙ³Ý ÙÇçáó ÏÇñ³é»Éáõ Ù³ëÇÝ | D8: 44 | E8: 23 | F8: 20 | G8: 1 | K8: 14
A9: ¹(07) | B9: Ëáõ½³ñÏáõÃÛ³Ý Ï³ï³ñÙ³Ý Ù³ëÇÝ | D9: 195 | F9: 195
A10: »(08) | B10: Ý³Ù³Ï³·ñáõÃÛ³Ý, Ñ»é³·ñ³Ï³Ý, ÷áuï³ÛÇÝ Ñ³Õáñ¹áõÙÝ»ñÇ ÑëÏáÕáõÃÛ³Ý ÙÇçÝáñ¹áõÃÛáõÝÝ»ñÇ Ù³ëÇÝ | D10: 109 | F10: 109
A11: ½(09) | B11: Ñ»é³Ëáu³ÛÇÝ Ï³Ù Ï³åÇ ³ÛÉ ÙÇçáóÝ»ñáí ï³ñíáÕ Ëáu³ÏóáõÃÛáõÝÝ»ñÇ ÉuÙ³Ý ¨ Ó³ÛÝ³·ñ³éÙ³Ý ÙÇçÝáñ¹áõÃÛáõÝÝ»ñÇ Ù³ëÇÝ | D11: 1 | F11: 1
A12: ¿(10) | B12: Ñ»é³ËáëÝ»ñÇ Ùáõïù³ÛÇÝ ¨ »Éù³ÛÇÝ í»ñÍ³ÝÙ³Ý ÃáõÛÉïíáõÃÛáõÝ ëï³Ý³Éáõ ÙÇçÝáñ¹áõÃÛáõÝÝ»ñÇ Ù³ëÇÝ | D12: 157 | F12: 157
A13: Á(11) | B13: Ñ»ï³ùÝÝáõÃÛ³Ý Ù³ñÙÝÇ ³ßË³ïáÕÇ, ùÝÝÇãÇ, ¹³ï³Ë³½Ç oå»ñ³ïÇí-Ñ»ï³Ëáõ½³Ï³Ý ·áñÍáÕáõÃÛáõÝÝ»ñ Çñ³Ï³Ý³óÝáÕ Ù³ñÙÇÝÝ»ñÇ ³ÝoñÇÝ³Ï³Ý ¨ ³ÝÑÇÙÝ áñáßáõÙÝ»ñÇ ¨ ·áñÍáÕáõÃÛáõÝÝ»ñÇ ¹»Ù µáÕáùÝ»ñÇ Ù³ëÇÝ | D13: 18 | E13: 12 | G13: 3 | J13: 3 | K13: 7
A14: 2. ¸³ï³Ï³Ý ³Ïï»ñÇ Ñ»ï Ï³ï³ñÙ³Ý Ñ»ï Ï³åí³Í Ñ³ñó»ñÇ ÉáõÍÙ³Ý áÉáñï
A15: ³(12) | B15: å³ïÅÇó å³ÛÙ³Ý³Ï³Ý í³Õ³Å³ÙÏ»ï ³½³ï»Éáõ Ù³ëÇÝ
A16: µ(13) | B16: ÀÝ¹³Ù»ÝÁ å³ïÇÅÁ ÷á÷áË»Éáõ, Ñ»ï³Ó·»Éáõ ¨ å³ïÅÇó ³½³ï»Éáõ Ù³uÇÝ ÙÇçÝáñ¹áõÃÛáõÝÝ»ñ | D16: 210 | E16: 32 | F16: 161 | G16: 14 | J16: 3 | K16: 12
A17: ·(14) | B17: Ñ³ñÏ³¹Çñ µáõÅÙ³Ý ï»ë³ÏÇ ÷á÷áËáõÃÛ³Ý Ù³ëÇÝ | D17: 8 | F17: 8
A18: ¹(15) | B18: ³ÛÉ ÙÇçÝáñ¹áõÃÛáõÝÝ»ñ | D18: 45 | E18: 3 | F18: 42 | K18: 2
A19: ե(16) | B19: դատական հանձնարարություն
A20: ÀÜ¸²ØºÜÀ | D20: =SUM(D6:D19) -> 1187 | E20: =SUM(E6:E19) -> 76 | F20: =SUM(F6:F19) -> 1087 | G20: =SUM(G6:G19) -> 18 | H20: =SUM(H6:H19) -> 0 | I20: =SUM(I6:I19) -> 0 | J20: =SUM(J6:J19) -> 6 | K20: =SUM(K6:K19) -> 60

Sheet Aragacotn
A1: Ð²ÞìºîìàôÂÚàôÜ 2011 ՏԱՐԵԿԱՆ
A2: ÐÐ ԱՐԱԳԱԾՈՏՆԻ ՄԱՐԶԻ ÀÜ¸Ð²Üàôð Æð²ì²êàôÂÚ²Ü ¸²î²ð²ÜàôØ ØÆÜâ¸²î²Î²Ü ì²ðàôÚÂÆ ÜÎ²îØ²Ø´ ¸²î²Î²Ü ìºð²ÐêÎàÔàôÂÚ²Ü, ¸²î²Î²Ü ²ÎîºðÆ Î²î²ðØ²Ü Ðºî Î²äì²Ì Ð²ðòºðÆ ìºð²´ºðÚ²È
A3: ØÇçÝáñ¹áõÃÛáõÝÝ»ñÇ ùÝÝ³ñÏÙ³Ý ÁÝÃ³óùÁ | D3: Ü»ñÏ³Û³óí³Í ÙÇçÝáñ¹áõÃÛáõÝÝ»ñÇ ù³Ý³ÏÁ | E3: Ù»ñÅí»É ¿ | F3: µ³í³ñ³ñí»É ¿ | G3: ÃáÕÝí»É ³é³Ýó ùÝÝáõÃÛ³Ý | H3: Áëï ÁÝ¹¹³ïáõÃÛ³Ý | I3: Ñ»ï ¿ í»ñóí»É | J3: ³Ý³í³ñï | K3: µáÕáù³ñÏí»É ¿ í»ñ³ùÝÝÇã ¹³ï³ñ³Ý
A4: êïáõ·Çã Ñ³í³ë³ñáõÙ` 1=2+3+4+5
A5: 1. ØÇÝã¹³ï³Ï³Ý í³ñáõÛÃÇ ÝÏ³ïÙ³Ùµ ¹³ï³Ï³Ý í»ñ³ÑëÏáÕáõÃÛ³Ý áÉáñï | D5: 1 | E5: 2 | F5: 3 | G5: 4 | H5: 5 | I5: 6 | J5: 7 | K5: 8
A6: ³(06) | B6: Ï³É³ÝùÁ áñå»ë Ë³÷³ÝÙ³Ý ÙÇçáó ÏÇñ³é»Éáõ Ù³ëÇÝ | D6: 89 | E6: 1 | F6: 88 | K6: 5
A7: µ(06) | B7: Ï³É³ÝùÇ Å³ÙÏ»ïÇ »ñÏ³ñ³óÝ»Éáõ Ù³ëÇÝ | D7: 43 | F7: 43 | K7: 1
A8: ·(06) | B8: ·ñ³íÁ áñå»ë Ï³É³Ý³íáñÙ³Ý ³ÛÉÁÝïñ³Ýù³ÛÇÝ Ë³÷³ÝÙ³Ý ÙÇçáó ÏÇñ³é»Éáõ Ù³ëÇÝ | D8: 6 | E8: 4 | F8: 2 | K8: 2
A9: ¹(07) | B9: Ëáõ½³ñÏáõÃÛ³Ý Ï³ï³ñÙ³Ý Ù³ëÇÝ | D9: 102 | F9: 102
A10: »(08) | B10: Ý³Ù³Ï³·ñáõÃÛ³Ý, Ñ»é³·ñ³Ï³Ý, ÷áuï³ÛÇÝ Ñ³Õáñ¹áõÙÝ»ñÇ ÑëÏáÕáõÃÛ³Ý ÙÇçÝáñ¹áõÃÛáõÝÝ»ñÇ Ù³ëÇÝ | D10: 40 | F10: 40
A11: ½(09) | B11: Ñ»é³Ëáu³ÛÇÝ Ï³Ù Ï³åÇ ³ÛÉ ÙÇçáóÝ»ñáí ï³ñíáÕ Ëáu³ÏóáõÃÛáõÝÝ»ñÇ ÉuÙ³Ý ¨ Ó³ÛÝ³·ñ³éÙ³Ý ÙÇçÝáñ¹áõÃÛáõÝÝ»ñÇ Ù³ëÇÝ | D11: 3 | F11: 3
A12: ¿(10) | B12: Ñ»é³ËáëÝ»ñÇ Ùáõïù³ÛÇÝ ¨ »Éù³ÛÇÝ í»ñÍ³ÝÙ³Ý ÃáõÛÉïíáõÃÛáõÝ ëï³Ý³Éáõ ÙÇçÝáñ¹áõÃÛáõÝÝ»ñÇ Ù³ëÇÝ | D12: 58 | E12: 1 | F12: 57
A13: Á(11) | B13: Ñ»ï³ùÝÝáõÃÛ³Ý Ù³ñÙÝÇ ³ßË³ïáÕÇ, ùÝÝÇãÇ, ¹³ï³Ë³½Ç oå»ñ³ïÇí-Ñ»ï³Ëáõ½³Ï³Ý ·áñÍáÕáõÃÛáõÝÝ»ñ Çñ³Ï³Ý³óÝáÕ Ù³ñÙÇÝÝ»ñÇ ³ÝoñÇÝ³Ï³Ý ¨ ³ÝÑÇÙÝ áñáßáõÙÝ»ñÇ ¨ ·áñÍáÕáõÃÛáõÝÝ»ñÇ ¹»Ù µáÕáùÝ»ñÇ Ù³ëÇÝ | D13: 10 | E13: 7 | F13: 2 | J13: 1 | K13: 5
A14: 2. ¸³ï³Ï³Ý ³Ïï»ñÇ Ñ»ï Ï³ï³ñÙ³Ý Ñ»ï Ï³åí³Í Ñ³ñó»ñÇ ÉáõÍÙ³Ý áÉáñï
A15: ³(12) | B15: å³ïÅÇó å³ÛÙ³Ý³Ï³Ý í³Õ³Å³ÙÏ»ï ³½³ï»Éáõ Ù³ëÇÝ | D15: 72 | E15: 2 | F15: 68 | G15: 2 | K15: 1
A16: µ(13) | B16: ÀÝ¹³Ù»ÝÁ å³ïÇÅÁ ÷á÷áË»Éáõ, Ñ»ï³Ó·»Éáõ ¨ å³ïÅÇó ³½³ï»Éáõ Ù³uÇÝ ÙÇçÝáñ¹áõÃÛáõÝÝ»ñ | D16: 123 | E16: 25 | F16: 84 | G16: 14 | K16: 1
A17: ·(14) | B17: Ñ³ñÏ³¹Çñ µáõÅÙ³Ý ï»ë³ÏÇ ÷á÷áËáõÃÛ³Ý Ù³ëÇÝ | D17: 8 | E17: 7 | J17: 1
A18: ¹(15) | B18: ³ÛÉ ÙÇçÝáñ¹áõÃÛáõÝÝ»ñ | D18: 62 | E18: 5 | F18: 55 | G18: 2 | K18: 1
A19: ե(16) | B19: դատական հանձնարարություն
A20: ÀÜ¸²ØºÜÀ | D20: =SUM(D6:D19) -> 616 | E20: =SUM(E6:E19) -> 52 | F20: =SUM(F6:F19) -> 544 | G20: =SUM(G6:G19) -> 18 | H20: =SUM(H6:H19) -> 0 | I20: =SUM(I6:I19) -> 0 | J20: =SUM(J6:J19) -> 2 | K20: =SUM(K6:K19) -> 16

Sheet Armavir
A1: Հավելված 2 Հայաստանի Հանրապետության Դատարանների նախագահների խորհրդի 2007թ. ¹»Ïï»Ùµ»ñÇ 21-ի թիվ 23Լ որոշման
A2: ÐÐ ԱՐՄԱՎԻՐԻ ՄԱՐԶԻ ÀÜ¸Ð²Üàôð Æð²ì²êàôÂÚ²Ü ¸²î²ð²ÜàôØ ØÆÜâ¸²î²Î²Ü ì²ðàôÚÂÆ ÜÎ²îØ²Ø´ ¸²î²Î²Ü ìºð²ÐêÎàÔàôÂÚ²Ü, ¸²î²Î²Ü ²ÎîºðÆ Î²î²ðØ²Ü Ðºî Î²äì²Ì Ð²ðòºðÆ ìºð²´ºðÚ²È 01-01-2011թ- 30-12-2011թ,ԴՐՈՒԹՅԱՄԲ
A3: ØÇçÝáñ¹áõÃÛáõÝÝ»ñÇ ùÝÝ³ñÏÙ³Ý ÁÝÃ³óùÁ | D3: Ü»ñÏ³Û³óí³Í ÙÇçÝáñ¹áõÃÛáõÝÝ»ñÇ ù³Ý³ÏÁ | E3: Ù»ñÅí»É ¿ | F3: µ³í³ñ³ñí»É ¿ | G3: ÃáÕÝí»É ³é³Ýó ùÝÝáõÃÛ³Ý | H3: Áëï ÁÝ¹¹³ïáõÃÛ³Ý | I3: Ñ»ï ¿ í»ñóí»É | J3: ³Ý³í³ñï | K3: µáÕáù³ñÏí»É ¿ í»ñ³ùÝÝÇã ¹³ï³ñ³Ý
A4: êïáõ·Çã Ñ³í³ë³ñáõÙ` 1=2+3+4+5
A5: 1. ØÇÝã¹³ï³Ï³Ý í³ñáõÛÃÇ ÝÏ³ïÙ³Ùµ ¹³ï³Ï³Ý í»ñ³ÑëÏáÕáõÃÛ³Ý áÉáñï | D5: 1 | E5: 2 | F5: 3 | G5: 4 | H5: 5 | I5: 6 | J5: 7 | K5: 8
A6: ³(06) | B6: Ï³É³ÝùÁ áñå»ë Ë³÷³ÝÙ³Ý ÙÇçáó ÏÇñ³é»Éáõ Ù³ëÇÝ | D6: 216 | E6: 7 | F6: 209 | K6: 15
A7: µ(06) | B7: Ï³É³ÝùÇ Å³ÙÏ»ïÇ »ñÏ³ñ³óÝ»Éáõ Ù³ëÇÝ | D7: 74 | F7: 74 | K7: 2
A8: ·(06) | B8: ·ñ³íÁ áñå»ë Ï³É³Ý³íáñÙ³Ý ³ÛÉÁÝïñ³Ýù³ÛÇÝ Ë³÷³ÝÙ³Ý ÙÇçáó ÏÇñ³é»Éáõ Ù³ëÇÝ | D8: 18 | E8: 15 | F8: 2 | J8: 1 | K8: 2
A9: ¹(07) | B9: Ëáõ½³ñÏáõÃÛ³Ý Ï³ï³ñÙ³Ý Ù³ëÇÝ | D9: 242 | E9: 1 | F9: 241
A10: »(08) | B10: Ý³Ù³Ï³·ñáõÃÛ³Ý, Ñ»é³·ñ³Ï³Ý, ÷áuï³ÛÇÝ Ñ³Õáñ¹áõÙÝ»ñÇ ÑëÏáÕáõÃÛ³Ý ÙÇçÝáñ¹áõÃÛáõÝÝ»ñÇ Ù³ëÇÝ | D10: 93 | F10: 93
A11: ½(09) | B11: Ñ»é³Ëáu³ÛÇÝ Ï³Ù Ï³åÇ ³ÛÉ ÙÇçáóÝ»ñáí ï³ñíáÕ Ëáu³ÏóáõÃÛáõÝÝ»ñÇ ÉuÙ³Ý ¨ Ó³ÛÝ³·ñ³éÙ³Ý ÙÇçÝáñ¹áõÃÛáõÝÝ»ñÇ Ù³ëÇÝ | D11: 11 | F11: 11
A12: ¿(10) | B12: Ñ»é³ËáëÝ»ñÇ Ùáõïù³ÛÇÝ ¨ »Éù³ÛÇÝ í»ñÍ³ÝÙ³Ý ÃáõÛÉïíáõÃÛáõÝ ëï³Ý³Éáõ ÙÇçÝáñ¹áõÃÛáõÝÝ»ñÇ Ù³ëÇÝ | D12: 90 | E12: 2 | F12: 88
A13: Á(11) | B13: Ñ»ï³ùÝÝáõÃÛ³Ý Ù³ñÙÝÇ ³ßË³ïáÕÇ, ùÝÝÇãÇ, ¹³ï³Ë³½Ç oå»ñ³ïÇí-Ñ»ï³Ëáõ½³Ï³Ý ·áñÍáÕáõÃÛáõÝÝ»ñ Çñ³Ï³Ý³óÝáÕ Ù³ñÙÇÝÝ»ñÇ ³ÝoñÇÝ³Ï³Ý ¨ ³ÝÑÇÙÝ áñáßáõÙÝ»ñÇ ¨ ·áñÍáÕáõÃÛáõÝÝ»ñÇ ¹»Ù µáÕáùÝ»ñÇ Ù³ëÇÝ | D13: 4 | E13: 3 | J13: 1
A14: 2. ¸³ï³Ï³Ý ³Ïï»ñÇ Ñ»ï Ï³ï³ñÙ³Ý Ñ»ï Ï³åí³Í Ñ³ñó»ñÇ ÉáõÍÙ³Ý áÉáñï
A15: ³(12) | B15: å³ïÅÇó å³ÛÙ³Ý³Ï³Ý í³Õ³Å³ÙÏ»ï ³½³ï»Éáõ Ù³ëÇÝ
A16: µ(13) | B16: ÀÝ¹³Ù»ÝÁ å³ïÇÅÁ ÷á÷áË»Éáõ, Ñ»ï³Ó·»Éáõ ¨ å³ïÅÇó ³½³ï»Éáõ Ù³uÇÝ ÙÇçÝáñ¹áõÃÛáõÝÝ»ñ | D16: 89 | E16: 4 | F16: 85 | K16: 1
A17: ·(14) | B17: Ñ³ñÏ³¹Çñ µáõÅÙ³Ý ï»ë³ÏÇ ÷á÷áËáõÃÛ³Ý Ù³ëÇÝ | D17: 3 | F17: 3
A18: ¹(15) | B18: ³ÛÉ ÙÇçÝáñ¹áõÃÛáõÝÝ»ñ | D18: 8 | F18: 8
A19: ե(16) | B19: դատական հանձնարարություն
A20: ÀÜ¸²ØºÜÀ | D20: =SUM(D6:D19) -> 848 | E20: =SUM(E6:E19) -> 32 | F20: =SUM(F6:F19) -> 814 | G20: =SUM(G6:G19) -> 0 | H20: =SUM(H6:H19) -> 0 | I20: =SUM(I6:I19) -> 0 | J20: =SUM(J6:J19) -> 2 | K20: =SUM(K6:K19) -> 20

Sheet Gexarquniq
A1: Հավելված 2 Հայաստանի Հանրապետության Դատարանների նախագահների խորհրդի 2007թ. ¹»Ïï»Ùµ»ñÇ 21-ի թիվ 23Լ որոշման
A2: ÐÐ ÀÜ¸Ð²Üàôð Æð²ì²êàôÂÚ²Ü ¸²î²ð²ÜÜºðàôØ ØÆÜâ¸²î²Î²Ü ì²ðàôÚÂÆ ÜÎ²îØ²Ø´ ¸²î²Î²Ü ìºð²ÐêÎàÔàôÂÚ²Ü, ¸²î²Î²Ü ²ÎîºðÆ Î²î²ðØ²Ü Ðºî Î²äì²Ì Ð²ðòºðÆ ìºð²´ºðÚ²È 2011թ. տարի
A3: ØÇçÝáñ¹áõÃÛáõÝÝ»ñÇ ùÝÝ³ñÏÙ³Ý ÁÝÃ³óùÁ | D3: Ü»ñÏ³Û³óí³Í ÙÇçÝáñ¹áõÃÛáõÝÝ»ñÇ ù³Ý³ÏÁ | E3: Ù»ñÅí»É ¿ | F3: µ³í³ñ³ñí»É ¿ | G3: ÃáÕÝí»É ³é³Ýó ùÝÝáõÃÛ³Ý | H3: Áëï ÁÝ¹¹³ïáõÃÛ³Ý | I3: Ñ»ï ¿ í»ñóí»É | J3: ³Ý³í³ñï | K3: µáÕáù³ñÏí»É ¿ í»ñ³ùÝÝÇã ¹³ï³ñ³Ý
A4: êïáõ·Çã Ñ³í³ë³ñáõÙ` 1=2+3+4+5+6+7
A5: 1. ØÇÝã¹³ï³Ï³Ý í³ñáõÛÃÇ ÝÏ³ïÙ³Ùµ ¹³ï³Ï³Ý í»ñ³ÑëÏáÕáõÃÛ³Ý áÉáñï | D5: 1 | E5: 2 | F5: 3 | G5: 4 | H5: 5 | I5: 6 | J5: 7 | K5: 8
A6: ³(06) | B6: Ï³É³ÝùÁ áñå»ë Ë³÷³ÝÙ³Ý ÙÇçáó ÏÇñ³é»Éáõ Ù³ëÇÝ | D6: 133 | E6: 9 | F6: 124 | G6: 0 | H6: 0 | I6: 0 | J6: 0 | K6: 9
A7: µ(06) | B7: Ï³É³ÝùÇ Å³ÙÏ»ïÇ »ñÏ³ñ³óÝ»Éáõ Ù³ëÇÝ | D7: 25 | E7: 1 | F7: 22 | G7: 2 | H7: 0 | I7: 0 | J7: 0 | K7: 2
A8: ·(06) | B8: ·ñ³íÁ áñå»ë Ï³É³Ý³íáñÙ³Ý ³ÛÉÁÝïñ³Ýù³ÛÇÝ Ë³÷³ÝÙ³Ý ÙÇçáó ÏÇñ³é»Éáõ Ù³ëÇÝ | D8: 11 | E8: 4 | F8: 4 | G8: 2 | H8: 0 | I8: 0 | J8: 1 | K8: 1
A9: ¹(07) | B9: Ëáõ½³ñÏáõÃÛ³Ý Ï³ï³ñÙ³Ý Ù³ëÇÝ | D9: 175 | E9: 5 | F9: 170 | G9: 0 | H9: 0 | I9: 0 | J9: 0 | K9: 5
A10: »(08) | B10: Ý³Ù³Ï³·ñáõÃÛ³Ý, Ñ»é³·ñ³Ï³Ý, ÷áuï³ÛÇÝ Ñ³Õáñ¹áõÙÝ»ñÇ ÑëÏáÕáõÃÛ³Ý ÙÇçÝáñ¹áõÃÛáõÝÝ»ñÇ Ù³ëÇÝ | D10: 32 | E10: 0 | F10: 32 | G10: 0 | H10: 0 | I10: 0 | J10: 0 | K10: 0
A11: ½(09) | B11: Ñ»é³Ëáu³ÛÇÝ Ï³Ù Ï³åÇ ³ÛÉ ÙÇçáóÝ»ñáí ï³ñíáÕ Ëáu³ÏóáõÃÛáõÝÝ»ñÇ ÉuÙ³Ý ¨ Ó³ÛÝ³·ñ³éÙ³Ý ÙÇçÝáñ¹áõÃÛáõÝÝ»ñÇ Ù³ëÇÝ | D11: 22 | E11: 0 | F11: 22 | G11: 0 | H11: 0 | I11: 0 | J11: 0 | K11: 0
A12: ¿(10) | B12: Ñ»é³ËáëÝ»ñÇ Ùáõïù³ÛÇÝ ¨ »Éù³ÛÇÝ í»ñÍ³ÝÙ³Ý ÃáõÛÉïíáõÃÛáõÝ ëï³Ý³Éáõ ÙÇçÝáñ¹áõÃÛáõÝÝ»ñÇ Ù³ëÇÝ | D12: 121 | E12: 4 | F12: 117 | G12: 0 | H12: 0 | I12: 0 | J12: 0 | K12: 0
A13: Á(11) | B13: Ñ»ï³ùÝÝáõÃÛ³Ý Ù³ñÙÝÇ ³ßË³ïáÕÇ, ùÝÝÇãÇ, ¹³ï³Ë³½Ç oå»ñ³ïÇí-Ñ»ï³Ëáõ½³Ï³Ý ·áñÍáÕáõÃÛáõÝÝ»ñ Çñ³Ï³Ý³óÝáÕ Ù³ñÙÇÝÝ»ñÇ ³ÝoñÇÝ³Ï³Ý ¨ ³ÝÑÇÙÝ áñáßáõÙÝ»ñÇ ¨ ·áñÍáÕáõÃÛáõÝÝ»ñÇ ¹»Ù µáÕáùÝ»ñÇ Ù³ëÇÝ | D13: 14 | E13: 9 | F13: 4 | G13: 1 | H13: 0 | I13: 0 | J13: 0 | K13: 5
A14: 2. ¸³ï³Ï³Ý ³Ïï»ñÇ Ñ»ï Ï³ï³ñÙ³Ý Ñ»ï Ï³åí³Í Ñ³ñó»ñÇ ÉáõÍÙ³Ý áÉáñï | D14: 0 | E14: 0 | F14: 0 | G14: 0 | H14: 0 | I14: 0 | J14: 0 | K14: 0
A15: ³(12) | B15: å³ïÅÇó å³ÛÙ³Ý³Ï³Ý í³Õ³Å³ÙÏ»ï ³½³ï»Éáõ Ù³ëÇÝ | D15: 1 | E15: 0 | F15: 1 | G15: 0 | H15: 0 | I15: 0 | J15: 0 | K15: 0
A16: µ(13) | B16: ÀÝ¹³Ù»ÝÁ å³ïÇÅÁ ÷á÷áË»Éáõ, Ñ»ï³Ó·»Éáõ ¨ å³ïÅÇó ³½³ï»Éáõ Ù³uÇÝ ÙÇçÝáñ¹áõÃÛáõÝÝ»ñ | D16: 155 | E16: 25 | F16: 125 | G16: 2 | H16: 0 | I16: 0 | J16: 3 | K16: 0
A17: ·(14) | B17: Ñ³ñÏ³¹Çñ µáõÅÙ³Ý ï»ë³ÏÇ ÷á÷áËáõÃÛ³Ý Ù³ëÇÝ | D17: 4 | E17: 0 | F17: 2 | G17: 0 | H17: 0 | I17: 0 | J17: 2 | K17: 0
A18: ¹(15) | B18: ³ÛÉ ÙÇçÝáñ¹áõÃÛáõÝÝ»ñ | D18: 19 | E18: 1 | F18: 17 | G18: 0 | H18: 0 | I18: 0 | J18: 1 | K18: 0
A19: ե(16) | B19: դատական հանձնարարություն | D19: 12 | E19: 1 | F19: 8 | G19: 0 | H19: 1 | I19: 0 | J19: 2 | K19: 0
A20: ÀÜ¸²ØºÜÀ | D20: =SUM(D6:D19) -> 724 | E20: =SUM(E6:E19) -> 59 | F20: =SUM(F6:F19) -> 648 | G20: =SUM(G6:G19) -> 7 | H20: =SUM(H6:H19) -> 1 | I20: =SUM(I6:I19) -> 0 | J20: =SUM(J6:J19) -> 9 | K20: =SUM(K6:K19) -> 22

Sheet Erebuni
A1: Հավելված 2 Հայաստանի Հանրապետության Դատարանների նախագահների խորհրդի 2007թ. ¹»Ïï»Ùµ»ñÇ 21-ի թիվ 23Լ որոշման
A2: ÐÐ ԷՐԵԲՈՒՆԻ և ՆՈՒԲԱՐԱՇԵՆ ÀÜ¸Ð²Üàôð Æð²ì²êàôÂÚ²Ü ¸²î²ð²ÜàôØ 2011թ ØÆÜâ¸²î²Î²Ü ì²ðàôÚÂÆ ÜÎ²îØ²Ø´ ¸²î²Î²Ü ìºð²ÐêÎàÔàôÂÚ²Ü, ¸²î²Î²Ü ²ÎîºðÆ Î²î²ðØ²Ü Ðºî Î²äì²Ì Ð²ðòºðÆ ìºð²´ºðÚ²È
A3: ØÇçÝáñ¹áõÃÛáõÝÝ»ñÇ ùÝÝ³ñÏÙ³Ý ÁÝÃ³óùÁ | D3: Ü»ñÏ³Û³óí³Í ÙÇçÝáñ¹áõÃÛáõÝÝ»ñÇ ù³Ý³ÏÁ | E3: Ù»ñÅí»É ¿ | F3: µ³í³ñ³ñí»É ¿ | G3: ÃáÕÝí»É ³é³Ýó ùÝÝáõÃÛ³Ý | H3: Áëï ÁÝ¹¹³ïáõÃÛ³Ý | I3: Ñ»ï ¿ í»ñóí»É | J3: ³Ý³í³ñï | K3: µáÕáù³ñÏí»É ¿ í»ñ³ùÝÝÇã ¹³ï³ñ³Ý
A4: êïáõ·Çã Ñ³í³ë³ñáõÙ` 1=2+3+4+5
A5: 1. ØÇÝã¹³ï³Ï³Ý í³ñáõÛÃÇ ÝÏ³ïÙ³Ùµ ¹³ï³Ï³Ý í»ñ³ÑëÏáÕáõÃÛ³Ý áÉáñï | D5: 1 | E5: 2 | F5: 3 | G5: 4 | H5: 5 | I5: 6 | J5: 7 | K5: 8
A6: ³(06) | B6: Ï³É³ÝùÁ áñå»ë Ë³÷³ÝÙ³Ý ÙÇçáó ÏÇñ³é»Éáõ Ù³ëÇÝ | D6: 119 | E6: 3 | F6: 115 | G6: 0 | J6: 1 | K6: 8
A7: µ(06) | B7: Ï³É³ÝùÇ Å³ÙÏ»ïÇ »ñÏ³ñ³óÝ»Éáõ Ù³ëÇÝ | D7: 67 | E7: 1 | F7: 66 | G7: 0 | J7: 0 | K7: 2
A8: ·(06) | B8: ·ñ³íÁ áñå»ë Ï³É³Ý³íáñÙ³Ý ³ÛÉÁÝïñ³Ýù³ÛÇÝ Ë³÷³ÝÙ³Ý ÙÇçáó ÏÇñ³é»Éáõ Ù³ëÇÝ | D8: 26 | E8: 23 | F8: 3 | G8: 0 | J8: 0 | K8: 1
A9: ¹(07) | B9: Ëáõ½³ñÏáõÃÛ³Ý Ï³ï³ñÙ³Ý Ù³ëÇÝ | D9: 176 | E9: 2 | F9: 174 | G9: 0 | J9: 0 | K9: 0
A10: »(08) | B10: Ý³Ù³Ï³·ñáõÃÛ³Ý, Ñ»é³·ñ³Ï³Ý, ÷áuï³ÛÇÝ Ñ³Õáñ¹áõÙÝ»ñÇ ÑëÏáÕáõÃÛ³Ý ÙÇçÝáñ¹áõÃÛáõÝÝ»ñÇ Ù³ëÇÝ | D10: 41 | E10: 0 | F10: 41 | G10: 0 | J10: 0 | K10: 0
A11: ½(09) | B11: Ñ»é³Ëáu³ÛÇÝ Ï³Ù Ï³åÇ ³ÛÉ ÙÇçáóÝ»ñáí ï³ñíáÕ Ëáu³ÏóáõÃÛáõÝÝ»ñÇ ÉuÙ³Ý ¨ Ó³ÛÝ³·ñ³éÙ³Ý ÙÇçÝáñ¹áõÃÛáõÝÝ»ñÇ Ù³ëÇÝ | D11: 21 | E11: 1 | F11: 20 | G11: 0 | J11: 0 | K11: 1
A12: ¿(10) | B12: Ñ»é³ËáëÝ»ñÇ Ùáõïù³ÛÇÝ ¨ »Éù³ÛÇÝ í»ñÍ³ÝÙ³Ý ÃáõÛÉïíáõÃÛáõÝ ëï³Ý³Éáõ ÙÇçÝáñ¹áõÃÛáõÝÝ»ñÇ Ù³ëÇÝ | D12: 192 | E12: 0 | F12: 192 | G12: 0 | J12: 0 | K12: 0
A13: Á(11) | B13: Ñ»ï³ùÝÝáõÃÛ³Ý Ù³ñÙÝÇ ³ßË³ïáÕÇ, ùÝÝÇãÇ, ¹³ï³Ë³½Ç oå»ñ³ïÇí-Ñ»ï³Ëáõ½³Ï³Ý ·áñÍáÕáõÃÛáõÝÝ»ñ Çñ³Ï³Ý³óÝáÕ Ù³ñÙÇÝÝ»ñÇ ³ÝoñÇÝ³Ï³Ý ¨ ³ÝÑÇÙÝ áñáßáõÙÝ»ñÇ ¨ ·áñÍáÕáõÃÛáõÝÝ»ñÇ ¹»Ù µáÕáùÝ»ñÇ Ù³ëÇÝ | D13: 7 | E13: 4 | F13: 3 | G13: 0 | J13: 0 | K13: 6
A14: 2. ¸³ï³Ï³Ý ³Ïï»ñÇ Ñ»ï Ï³ï³ñÙ³Ý Ñ»ï Ï³åí³Í Ñ³ñó»ñÇ ÉáõÍÙ³Ý áÉáñï
A15: ³(12) | B15: å³ïÅÇó å³ÛÙ³Ý³Ï³Ý í³Õ³Å³ÙÏ»ï ³½³ï»Éáõ Ù³ëÇÝ | D15: 115 | E15: 2 | F15: 109 | G15: 4 | J15: 0 | K15: 1
A16: µ(13) | B16: ÀÝ¹³Ù»ÝÁ å³ïÇÅÁ ÷á÷áË»Éáõ, Ñ»ï³Ó·»Éáõ ¨ å³ïÅÇó ³½³ï»Éáõ Ù³uÇÝ ÙÇçÝáñ¹áõÃÛáõÝÝ»ñ | D16: 324 | E16: 56 | F16: 243 | G16: 16 | J16: 9 | K16: 43
A17: ·(14) | B17: Ñ³ñÏ³¹Çñ µáõÅÙ³Ý ï»ë³ÏÇ ÷á÷áËáõÃÛ³Ý Ù³ëÇÝ | D17: 51 | E17: 23 | F17: 28 | G17: 0 | J17: 0 | K17: 1
A18: ¹(15) | B18: ³ÛÉ ÙÇçÝáñ¹áõÃÛáõÝÝ»ñ | D18: 80 | E18: 23 | F18: 49 | G18: 5 | J18: 3 | K18: 12
A19: ե(16) | B19: դատական հանձնարարություն
A20: ÀÜ¸²ØºÜÀ | D20: =SUM(D6:D19) -> 1219 | E20: =SUM(E6:E19) -> 138 | F20: =SUM(F6:F19) -> 1043 | G20: =SUM(G6:G19) -> 25 | H20: =SUM(H6:H19) -> 0 | I20: =SUM(I6:I19) -> 0 | J20: =SUM(J6:J19) -> 13 | K20: =SUM(K6:K19) -> 75

Sheet Lori
A1: Ð²ÞìºîìàôÂÚàôÜ 2011 ՏԱՐԵԿԱՆ
A2: Èàèàô Ø²ð¼Æ ÀÜ¸Ð²Üàôð Æð²ì²êàôÂÚ²Ü ¸²î²ð²ÜàôØ ØÆÜâ¸²î²Î²Ü ì²ðàôÚÂÆ ÜÎ²îØ²Ø´ ¸²î²Î²Ü ìºð²ÐêÎàÔàôÂÚ²Ü, ¸²î²Î²Ü ²ÎîºðÆ Î²î²ðØ²Ü Ðºî Î²äì²Ì Ð²ðòºðÆ ìºð²´ºðÚ²È
A3: ØÇçÝáñ¹áõÃÛáõÝÝ»ñÇ ùÝÝ³ñÏÙ³Ý ÁÝÃ³óùÁ | D3: Ü»ñÏ³Û³óí³Í ÙÇçÝáñ¹áõÃÛáõÝÝ»ñÇ ù³Ý³ÏÁ | E3: Ù»ñÅí»É ¿ | F3: µ³í³ñ³ñí»É ¿ | G3: ÃáÕÝí»É ³é³Ýó ùÝÝáõÃÛ³Ý | H3: Áëï ÁÝ¹¹³ïáõÃÛ³Ý | I3: Ñ»ï ¿ í»ñóí»É | J3: ³Ý³í³ñï | K3: µáÕáù³ñÏí»É ¿ í»ñ³ùÝÝÇã ¹³ï³ñ³Ý
A4: êïáõ·Çã Ñ³í³ë³ñáõÙ` 1=2+3+4+5
A5: 1. ØÇÝã¹³ï³Ï³Ý í³ñáõÛÃÇ ÝÏ³ïÙ³Ùµ ¹³ï³Ï³Ý í»ñ³ÑëÏáÕáõÃÛ³Ý áÉáñï | D5: 1 | E5: 2 | F5: 3 | G5: 4 | H5: 5 | I5: 6 | J5: 7 | K5: 8
A6: ³(06) | B6: Ï³É³ÝùÁ áñå»ë Ë³÷³ÝÙ³Ý ÙÇçáó ÏÇñ³é»Éáõ Ù³ëÇÝ | D6: 270 | E6: 25 | F6: 244 | G6: 1 | K6: 23
A7: µ(06) | B7: Ï³É³ÝùÇ Å³ÙÏ»ïÇ »ñÏ³ñ³óÝ»Éáõ Ù³ëÇÝ | D7: 112 | E7: 7 | F7: 102 | G7: 1 | J7: 2 | K7: 26
A8: ·(06) | B8: ·ñ³íÁ áñå»ë Ï³É³Ý³íáñÙ³Ý ³ÛÉÁÝïñ³Ýù³ÛÇÝ Ë³÷³ÝÙ³Ý ÙÇçáó ÏÇñ³é»Éáõ Ù³ëÇÝ | D8: 95 | E8: 68 | F8: 25 | G8: 2 | K8: 8
A9: ¹(07) | B9: Ëáõ½³ñÏáõÃÛ³Ý Ï³ï³ñÙ³Ý Ù³ëÇÝ | D9: 528 | E9: 9 | F9: 519
A10: »(08) | B10: Ý³Ù³Ï³·ñáõÃÛ³Ý, Ñ»é³·ñ³Ï³Ý, ÷áuï³ÛÇÝ Ñ³Õáñ¹áõÙÝ»ñÇ ÑëÏáÕáõÃÛ³Ý ÙÇçÝáñ¹áõÃÛáõÝÝ»ñÇ Ù³ëÇÝ | D10: 88 | F10: 87 | G10: 1
A11: ½(09) | B11: Ñ»é³Ëáu³ÛÇÝ Ï³Ù Ï³åÇ ³ÛÉ ÙÇçáóÝ»ñáí ï³ñíáÕ Ëáu³ÏóáõÃÛáõÝÝ»ñÇ ÉuÙ³Ý ¨ Ó³ÛÝ³·ñ³éÙ³Ý ÙÇçÝáñ¹áõÃÛáõÝÝ»ñÇ Ù³ëÇÝ | D11: 22 | F11: 22
A12: ¿(10) | B12: Ñ»é³ËáëÝ»ñÇ Ùáõïù³ÛÇÝ ¨ »Éù³ÛÇÝ í»ñÍ³ÝÙ³Ý ÃáõÛÉïíáõÃÛáõÝ ëï³Ý³Éáõ ÙÇçÝáñ¹áõÃÛáõÝÝ»ñÇ Ù³ëÇÝ | D12: 133 | E12: 1 | F12: 132
A13: Á(11) | B13: Ñ»ï³ùÝÝáõÃÛ³Ý Ù³ñÙÝÇ ³ßË³ïáÕÇ, ùÝÝÇãÇ, ¹³ï³Ë³½Ç oå»ñ³ïÇí-Ñ»ï³Ëáõ½³Ï³Ý ·áñÍáÕáõÃÛáõÝÝ»ñ Çñ³Ï³Ý³óÝáÕ Ù³ñÙÇÝÝ»ñÇ ³ÝoñÇÝ³Ï³Ý ¨ ³ÝÑÇÙÝ áñáßáõÙÝ»ñÇ ¨ ·áñÍáÕáõÃÛáõÝÝ»ñÇ ¹»Ù µáÕáùÝ»ñÇ Ù³ëÇÝ | D13: 24 | E13: 16 | F13: 4 | J13: 4 | K13: 9
A14: 2. ¸³ï³Ï³Ý ³Ïï»ñÇ Ñ»ï Ï³ï³ñÙ³Ý Ñ»ï Ï³åí³Í Ñ³ñó»ñÇ ÉáõÍÙ³Ý áÉáñï
A15: ³(12) | B15: å³ïÅÇó å³ÛÙ³Ý³Ï³Ý í³Õ³Å³ÙÏ»ï ³½³ï»Éáõ Ù³ëÇÝ | D15: 10 | E15: 2 | F15: 8 | K15: 1
A16: µ(13) | B16: ÀÝ¹³Ù»ÝÁ å³ïÇÅÁ ÷á÷áË»Éáõ, Ñ»ï³Ó·»Éáõ ¨ å³ïÅÇó ³½³ï»Éáõ Ù³uÇÝ ÙÇçÝáñ¹áõÃÛáõÝÝ»ñ | D16: 200 | E16: 15 | F16: 144 | G16: 32 | H16: 3 | J16: 6 | K16: 10
A17: ·(14) | B17: Ñ³ñÏ³¹Çñ µáõÅÙ³Ý ï»ë³ÏÇ ÷á÷áËáõÃÛ³Ý Ù³ëÇÝ | D17: 30 | F17: 30
A18: ¹(15) | B18: ³ÛÉ ÙÇçÝáñ¹áõÃÛáõÝÝ»ñ | D18: 34 | E18: 10 | F18: 19 | G18: 4 | H18: 1 | K18: 3
A19: ե(16) | B19: դատական հանձնարարություն
A20: ÀÜ¸²ØºÜÀ | D20: =SUM(D6:D19) -> 1546 | E20: =SUM(E6:E18) -> 153 | F20: =SUM(F6:F18) -> 1336 | G20: =SUM(G6:G18) -> 41 | H20: 4 | J20: =SUM(J6:J18) -> 12 | K20: =SUM(K6:K18) -> 80
A22: *(06) | B22: կալանքի վերահաստատման միջնորդություններ | D22: 32 | E22: 3 | F22: 28 | G22: 1 | K22: 2

Sheet Kentron
A1: Հավելված 2 Հայաստանի Հանրապետության Դատարանների նախագահների խորհրդի 2007թ. ¹»Ïï»Ùµ»ñÇ 21-ի թիվ 23Լ որոշման
A2: ÐÐ ÀÜ¸Ð²Üàôð Æð²ì²êàôÂÚ²Ü ¸²î²ð²ÜàôØ ØÆÜâ¸²î²Î²Ü ì²ðàôÚÂÆ ÜÎ²îØ²Ø´ ¸²î²Î²Ü ìºð²ÐêÎàÔàôÂÚ²Ü, ¸²î²Î²Ü ²ÎîºðÆ Î²î²ðØ²Ü Ðºî Î²äì²Ì Ð²ðòºðÆ ìºð²´ºðÚ²È
A3: ØÇçÝáñ¹áõÃÛáõÝÝ»ñÇ ùÝÝ³ñÏÙ³Ý ÁÝÃ³óùÁ | D3: Ü»ñÏ³Û³óí³Í ÙÇçÝáñ¹áõÃÛáõÝÝ»ñÇ ù³Ý³ÏÁ | E3: Ù»ñÅí»É ¿ | F3: µ³í³ñ³ñí»É ¿ | G3: ÃáÕÝí»É ³é³Ýó ùÝÝáõÃÛ³Ý | H3: Áëï ÁÝ¹¹³ïáõÃÛ³Ý | I3: Ñ»ï ¿ í»ñóí»É | J3: ³Ý³í³ñï | K3: µáÕáù³ñÏí»É ¿ í»ñ³ùÝÝÇã ¹³ï³ñ³Ý
A4: êïáõ·Çã Ñ³í³ë³ñáõÙ` 1=2+3+4+5
A5: 1. ØÇÝã¹³ï³Ï³Ý í³ñáõÛÃÇ ÝÏ³ïÙ³Ùµ ¹³ï³Ï³Ý í»ñ³ÑëÏáÕáõÃÛ³Ý áÉáñï | D5: 1 | E5: 2 | F5: 3 | G5: 4 | H5: 5 | I5: 6 | J5: 7 | K5: 8
A6: ³(06) | B6: Ï³É³ÝùÁ áñå»ë Ë³÷³ÝÙ³Ý ÙÇçáó ÏÇñ³é»Éáõ Ù³ëÇÝ | D6: 520 | E6: 23 | F6: 495 | G6: 2 | J6: 0 | K6: 34
A7: µ(06) | B7: Ï³É³ÝùÇ Å³ÙÏ»ïÇ »ñÏ³ñ³óÝ»Éáõ Ù³ëÇÝ | D7: 735 | E7: 4 | F7: 714 | G7: 11 | J7: 6 | K7: 165
A8: ·(06) | B8: ·ñ³íÁ áñå»ë Ï³É³Ý³íáñÙ³Ý ³ÛÉÁÝïñ³Ýù³ÛÇÝ Ë³÷³ÝÙ³Ý ÙÇçáó ÏÇñ³é»Éáõ Ù³ëÇÝ | D8: 48 | E8: 33 | F8: 6 | G8: 5 | J8: 4 | K8: 22
A9: ¹(07) | B9: Ëáõ½³ñÏáõÃÛ³Ý Ï³ï³ñÙ³Ý Ù³ëÇÝ | D9: 1145 | E9: 8 | F9: 1126 | G9: 11 | J9: 0 | K9: 1
A10: »(08) | B10: Ý³Ù³Ï³·ñáõÃÛ³Ý, Ñ»é³·ñ³Ï³Ý, ÷áuï³ÛÇÝ Ñ³Õáñ¹áõÙÝ»ñÇ ÑëÏáÕáõÃÛ³Ý ÙÇçÝáñ¹áõÃÛáõÝÝ»ñÇ Ù³ëÇÝ | D10: 60 | E10: 1 | F10: 59 | G10: 0 | J10: 0 | K10: 0
A11: ½(09) | B11: Ñ»é³Ëáu³ÛÇÝ Ï³Ù Ï³åÇ ³ÛÉ ÙÇçáóÝ»ñáí ï³ñíáÕ Ëáu³ÏóáõÃÛáõÝÝ»ñÇ ÉuÙ³Ý ¨ Ó³ÛÝ³·ñ³éÙ³Ý ÙÇçÝáñ¹áõÃÛáõÝÝ»ñÇ Ù³ëÇÝ | D11: 51 | E11: 0 | F11: 51 | G11: 0 | J11: 0 | K11: 0
A12: ¿(10) | B12: Ñ»é³ËáëÝ»ñÇ Ùáõïù³ÛÇÝ ¨ »Éù³ÛÇÝ í»ñÍ³ÝÙ³Ý ÃáõÛÉïíáõÃÛáõÝ ëï³Ý³Éáõ ÙÇçÝáñ¹áõÃÛáõÝÝ»ñÇ Ù³ëÇÝ | D12: 719 | E12: 25 | F12: 683 | G12: 11 | J12: 0 | K12: 2
A13: Á(11) | B13: Ñ»ï³ùÝÝáõÃÛ³Ý Ù³ñÙÝÇ ³ßË³ïáÕÇ, ùÝÝÇãÇ, ¹³ï³Ë³½Ç oå»ñ³ïÇí-Ñ»ï³Ëáõ½³Ï³Ý ·áñÍáÕáõÃÛáõÝÝ»ñ Çñ³Ï³Ý³óÝáÕ Ù³ñÙÇÝÝ»ñÇ ³ÝoñÇÝ³Ï³Ý ¨ ³ÝÑÇÙÝ áñáßáõÙÝ»ñÇ ¨ ·áñÍáÕáõÃÛáõÝÝ»ñÇ ¹»Ù µáÕáùÝ»ñÇ Ù³ëÇÝ | D13: 191 | E13: 126 | F13: 26 | G13: 15 | J13: 24 | K13: 100
A14: 2. ¸³ï³Ï³Ý ³Ïï»ñÇ Ñ»ï Ï³ï³ñÙ³Ý Ñ»ï Ï³åí³Í Ñ³ñó»ñÇ ÉáõÍÙ³Ý áÉáñï
A15: ³(12) | B15: å³ïÅÇó å³ÛÙ³Ý³Ï³Ý í³Õ³Å³ÙÏ»ï ³½³ï»Éáõ Ù³ëÇÝ | D15: 18 | E15: 10 | F15: 5 | G15: 1 | J15: 2 | K15: 3
A16: µ(13) | B16: ÀÝ¹³Ù»ÝÁ å³ïÇÅÁ ÷á÷áË»Éáõ, Ñ»ï³Ó·»Éáõ ¨ å³ïÅÇó ³½³ï»Éáõ Ù³uÇÝ ÙÇçÝáñ¹áõÃÛáõÝÝ»ñ | D16: 166 | E16: 25 | F16: 108 | G16: 14 | J16: 19 | K16: 25
A17: ·(14) | B17: Ñ³ñÏ³¹Çñ µáõÅÙ³Ý ï»ë³ÏÇ ÷á÷áËáõÃÛ³Ý Ù³ëÇÝ | D17: 95 | E17: 3 | F17: 87 | G17: 0 | J17: 5 | K17: 2
A18: ¹(15) | B18: ³ÛÉ ÙÇçÝáñ¹áõÃÛáõÝÝ»ñ | D18: 93 | E18: 18 | F18: 63 | G18: 5 | J18: 7 | K18: 7
A19: ե(16) | B19: դատական հանձնարարություն
A20: ÀÜ¸²ØºÜÀ | D20: =SUM(D6:D19) -> 3841 | E20: =SUM(E6:E19) -> 276 | F20: =SUM(F6:F19) -> 3423 | G20: =SUM(G6:G19) -> 75 | H20: =SUM(H6:H19) -> 0 | I20: =SUM(I6:I19) -> 0 | J20: =SUM(J6:J19) -> 67 | K20: =SUM(K6:K19) -> 361

Sheet Kotayq
A1: Հավելված 2 Հայաստանի Հանրապետության Դատարանների նախագահների խորհրդի 2007թ. ¹»Ïï»Ùµ»ñÇ 21-ի թիվ 23Լ որոշման
A2: ÐÐ ÀÜ¸Ð²Üàôð Æð²ì²êàôÂÚ²Ü ¸²î²ð²ÜàôØ ØÆÜâ¸²î²Î²Ü ì²ðàôÚÂÆ ÜÎ²îØ²Ø´ ¸²î²Î²Ü ìºð²ÐêÎàÔàôÂÚ²Ü, ¸²î²Î²Ü ²ÎîºðÆ Î²î²ðØ²Ü Ðºî Î²äì²Ì Ð²ðòºðÆ ìºð²´ºðÚ²È/01.01.2011-30.12.2011/Տարեկան/
A3: ØÇçÝáñ¹áõÃÛáõÝÝ»ñÇ ùÝÝ³ñÏÙ³Ý ÁÝÃ³óùÁ | D3: Ü»ñÏ³Û³óí³Í ÙÇçÝáñ¹áõÃÛáõÝÝ»ñÇ ù³Ý³ÏÁ | E3: Ù»ñÅí»É ¿ | F3: µ³í³ñ³ñí»É ¿ | G3: ÃáÕÝí»É ³é³Ýó ùÝÝáõÃÛ³Ý | H3: Áëï ÁÝ¹¹³ïáõÃÛ³Ý | I3: Ñ»ï ¿ í»ñóí»É | J3: ³Ý³í³ñï | K3: µáÕáù³ñÏí»É ¿ í»ñ³ùÝÝÇã ¹³ï³ñ³Ý
A4: êïáõ·Çã Ñ³í³ë³ñáõÙ` 1=2+3+4+5
A5: 1. ØÇÝã¹³ï³Ï³Ý í³ñáõÛÃÇ ÝÏ³ïÙ³Ùµ ¹³ï³Ï³Ý í»ñ³ÑëÏáÕáõÃÛ³Ý áÉáñï | D5: 1 | E5: 2 | F5: 3 | G5: 4 | J5: 5 | K5: 6
A6: ³(06) | B6: Ï³É³ÝùÁ áñå»ë Ë³÷³ÝÙ³Ý ÙÇçáó ÏÇñ³é»Éáõ Ù³ëÇÝ | D6: 194 | E6: 8 | F6: 183 | G6: 3 | K6: 32
A7: µ(06) | B7: Ï³É³ÝùÇ Å³ÙÏ»ïÇ »ñÏ³ñ³óÝ»Éáõ Ù³ëÇÝ | D7: 109 | E7: 3 | F7: 106
A8: ·(06) | B8: ·ñ³íÁ áñå»ë Ï³É³Ý³íáñÙ³Ý ³ÛÉÁÝïñ³Ýù³ÛÇÝ Ë³÷³ÝÙ³Ý ÙÇçáó ÏÇñ³é»Éáõ Ù³ëÇÝ | D8: 34 | E8: 26 | F8: 7 | G8: 1
A9: ¹(07) | B9: Ëáõ½³ñÏáõÃÛ³Ý Ï³ï³ñÙ³Ý Ù³ëÇÝ | D9: 225 | E9: 5 | F9: 219 | G9: 1
A10: »(08) | B10: Ý³Ù³Ï³·ñáõÃÛ³Ý, Ñ»é³·ñ³Ï³Ý, ÷áuï³ÛÇÝ Ñ³Õáñ¹áõÙÝ»ñÇ ÑëÏáÕáõÃÛ³Ý ÙÇçÝáñ¹áõÃÛáõÝÝ»ñÇ Ù³ëÇÝ | D10: 57 | F10: 57
A11: ½(09) | B11: Ñ»é³Ëáu³ÛÇÝ Ï³Ù Ï³åÇ ³ÛÉ ÙÇçáóÝ»ñáí ï³ñíáÕ Ëáu³ÏóáõÃÛáõÝÝ»ñÇ ÉuÙ³Ý ¨ Ó³ÛÝ³·ñ³éÙ³Ý ÙÇçÝáñ¹áõÃÛáõÝÝ»ñÇ Ù³ëÇÝ | D11: 11 | F11: 11
A12: ¿(10) | B12: Ñ»é³ËáëÝ»ñÇ Ùáõïù³ÛÇÝ ¨ »Éù³ÛÇÝ í»ñÍ³ÝÙ³Ý ÃáõÛÉïíáõÃÛáõÝ ëï³Ý³Éáõ ÙÇçÝáñ¹áõÃÛáõÝÝ»ñÇ Ù³ëÇÝ | D12: 225 | E12: 2 | F12: 223
A13: Á(11) | B13: Ñ»ï³ùÝÝáõÃÛ³Ý Ù³ñÙÝÇ ³ßË³ïáÕÇ, ùÝÝÇãÇ, ¹³ï³Ë³½Ç oå»ñ³ïÇí-Ñ»ï³Ëáõ½³Ï³Ý ·áñÍáÕáõÃÛáõÝÝ»ñ Çñ³Ï³Ý³óÝáÕ Ù³ñÙÇÝÝ»ñÇ ³ÝoñÇÝ³Ï³Ý ¨ ³ÝÑÇÙÝ áñáßáõÙÝ»ñÇ ¨ ·áñÍáÕáõÃÛáõÝÝ»ñÇ ¹»Ù µáÕáùÝ»ñÇ Ù³ëÇÝ | D13: 19 | E13: 13 | F13: 5 | J13: 1 | K13: 11
A14: 2. ¸³ï³Ï³Ý ³Ïï»ñÇ Ñ»ï Ï³ï³ñÙ³Ý Ñ»ï Ï³åí³Í Ñ³ñó»ñÇ ÉáõÍÙ³Ý áÉáñï
A15: ³(12) | B15: å³ïÅÇó å³ÛÙ³Ý³Ï³Ý í³Õ³Å³ÙÏ»ï ³½³ï»Éáõ Ù³ëÇÝ | D15: 103 | E15: 3 | F15: 98 | G15: 2 | K15: 1
A16: µ(13) | B16: ÀÝ¹³Ù»ÝÁ å³ïÇÅÁ ÷á÷áË»Éáõ, Ñ»ï³Ó·»Éáõ ¨ å³ïÅÇó ³½³ï»Éáõ Ù³uÇÝ ÙÇçÝáñ¹áõÃÛáõÝÝ»ñ | D16: 287 | E16: 46 | F16: 213 | G16: 14 | H16: 3 | J16: 11 | K16: 63
A17: ·(14) | B17: Ñ³ñÏ³¹Çñ µáõÅÙ³Ý ï»ë³ÏÇ ÷á÷áËáõÃÛ³Ý Ù³ëÇÝ | D17: 15 | F17: 15
A18: ¹(15) | B18: ³ÛÉ ÙÇçÝáñ¹áõÃÛáõÝÝ»ñ | D18: 16 | E18: 4 | F18: 11 | G18: 1
A19: ե(16) | B19: դատական հանձնարարություն | D19: 13 | F19: 7 | J19: 6
A20: ÀÜ¸²ØºÜÀ | D20: =SUM(D6:D19) -> 1308 | E20: =SUM(E6:E19) -> 110 | F20: =SUM(F6:F19) -> 1155 | G20: =SUM(G6:G19) -> 22 | H20: =SUM(H6:H19) -> 3 | I20: =SUM(I6:I19) -> 0 | J20: =SUM(J6:J19) -> 18 | K20: =SUM(K6:K19) -> 107

Sheet Malatia
A1: Հավելված 2 Հայաստանի Հանրապետության Դատարանների նախագահների խորհրդի 2007թ. ¹»Ïï»Ùµ»ñÇ 21-ի թիվ 23Լ որոշման
A2: ÐÐ ÀÜ¸Ð²Üàôð Æð²ì²êàôÂÚ²Ü ¸²î²ð²ÜàôØ ØÆÜâ¸²î²Î²Ü ì²ðàôÚÂÆ ÜÎ²îØ²Ø´ ¸²î²Î²Ü ìºð²ÐêÎàÔàôÂÚ²Ü, ¸²î²Î²Ü ²ÎîºðÆ Î²î²ðØ²Ü Ðºî Î²äì²Ì Ð²ðòºðÆ ìºð²´ºðÚ²È
A3: ØÇçÝáñ¹áõÃÛáõÝÝ»ñÇ ùÝÝ³ñÏÙ³Ý ÁÝÃ³óùÁ | D3: Ü»ñÏ³Û³óí³Í ÙÇçÝáñ¹áõÃÛáõÝÝ»ñÇ ù³Ý³ÏÁ | E3: Ù»ñÅí»É ¿ | F3: µ³í³ñ³ñí»É ¿ | G3: ÃáÕÝí»É ³é³Ýó ùÝÝáõÃÛ³Ý | H3: Áëï ÁÝ¹¹³ïáõÃÛ³Ý | I3: Ñ»ï ¿ í»ñóí»É | J3: ³Ý³í³ñï | K3: µáÕáù³ñÏí»É ¿ í»ñ³ùÝÝÇã ¹³ï³ñ³Ý
A4: êïáõ·Çã Ñ³í³ë³ñáõÙ` 1=2+3+4+5
A5: 1. ØÇÝã¹³ï³Ï³Ý í³ñáõÛÃÇ ÝÏ³ïÙ³Ùµ ¹³ï³Ï³Ý í»ñ³ÑëÏáÕáõÃÛ³Ý áÉáñï | D5: 1 | E5: 2 | F5: 3 | G5: 4 | H5: 5 | I5: 6 | J5: 7 | K5: 8
A6: ³(06) | B6: Ï³É³ÝùÁ áñå»ë Ë³÷³ÝÙ³Ý ÙÇçáó ÏÇñ³é»Éáõ Ù³ëÇÝ | D6: 113 | E6: 4 | F6: 109 | K6: 6
A7: µ(06) | B7: Ï³É³ÝùÇ Å³ÙÏ»ïÇ »ñÏ³ñ³óÝ»Éáõ Ù³ëÇÝ | D7: 29 | F7: 29 | K7: 4
A8: ·(06) | B8: ·ñ³íÁ áñå»ë Ï³É³Ý³íáñÙ³Ý ³ÛÉÁÝïñ³Ýù³ÛÇÝ Ë³÷³ÝÙ³Ý ÙÇçáó ÏÇñ³é»Éáõ Ù³ëÇÝ | D8: 23 | E8: 11 | F8: 12 | K8: 3
A9: ¹(07) | B9: Ëáõ½³ñÏáõÃÛ³Ý Ï³ï³ñÙ³Ý Ù³ëÇÝ | D9: 122 | F9: 122
A10: »(08) | B10: Ý³Ù³Ï³·ñáõÃÛ³Ý, Ñ»é³·ñ³Ï³Ý, ÷áuï³ÛÇÝ Ñ³Õáñ¹áõÙÝ»ñÇ ÑëÏáÕáõÃÛ³Ý ÙÇçÝáñ¹áõÃÛáõÝÝ»ñÇ Ù³ëÇÝ | D10: 44 | F10: 44
A11: ½(09) | B11: Ñ»é³Ëáu³ÛÇÝ Ï³Ù Ï³åÇ ³ÛÉ ÙÇçáóÝ»ñáí ï³ñíáÕ Ëáu³ÏóáõÃÛáõÝÝ»ñÇ ÉuÙ³Ý ¨ Ó³ÛÝ³·ñ³éÙ³Ý ÙÇçÝáñ¹áõÃÛáõÝÝ»ñÇ Ù³ëÇÝ | D11: 21 | F11: 21
A12: ¿(10) | B12: Ñ»é³ËáëÝ»ñÇ Ùáõïù³ÛÇÝ ¨ »Éù³ÛÇÝ í»ñÍ³ÝÙ³Ý ÃáõÛÉïíáõÃÛáõÝ ëï³Ý³Éáõ ÙÇçÝáñ¹áõÃÛáõÝÝ»ñÇ Ù³ëÇÝ | D12: 173 | F12: 173
A13: Á(11) | B13: Ñ»ï³ùÝÝáõÃÛ³Ý Ù³ñÙÝÇ ³ßË³ïáÕÇ, ùÝÝÇãÇ, ¹³ï³Ë³½Ç oå»ñ³ïÇí-Ñ»ï³Ëáõ½³Ï³Ý ·áñÍáÕáõÃÛáõÝÝ»ñ Çñ³Ï³Ý³óÝáÕ Ù³ñÙÇÝÝ»ñÇ ³ÝoñÇÝ³Ï³Ý ¨ ³ÝÑÇÙÝ áñáßáõÙÝ»ñÇ ¨ ·áñÍáÕáõÃÛáõÝÝ»ñÇ ¹»Ù µáÕáùÝ»ñÇ Ù³ëÇÝ | D13: 8 | E13: 6 | F13: 1 | G13: 1 | K13: 4
A14: 2. ¸³ï³Ï³Ý ³Ïï»ñÇ Ñ»ï Ï³ï³ñÙ³Ý Ñ»ï Ï³åí³Í Ñ³ñó»ñÇ ÉáõÍÙ³Ý áÉáñï
A15: ³(12) | B15: å³ïÅÇó å³ÛÙ³Ý³Ï³Ý í³Õ³Å³ÙÏ»ï ³½³ï»Éáõ Ù³ëÇÝ
A16: µ(13) | B16: ÀÝ¹³Ù»ÝÁ å³ïÇÅÁ ÷á÷áË»Éáõ, Ñ»ï³Ó·»Éáõ ¨ å³ïÅÇó ³½³ï»Éáõ Ù³uÇÝ ÙÇçÝáñ¹áõÃÛáõÝÝ»ñ | D16: 85 | E16: 9 | F16: 72 | G16: 2 | J16: 2 | K16: 5
A17: ·(14) | B17: Ñ³ñÏ³¹Çñ µáõÅÙ³Ý ï»ë³ÏÇ ÷á÷áËáõÃÛ³Ý Ù³ëÇÝ | D17: 7 | F17: 7
A18: ¹(15) | B18: ³ÛÉ ÙÇçÝáñ¹áõÃÛáõÝÝ»ñ | D18: 14 | F18: 12 | J18: 2
A19: ե(16) | B19: դատական հանձնարարություն
A20: ÀÜ¸²ØºÜÀ | D20: =SUM(D6:D19) -> 639 | E20: =SUM(E6:E19) -> 30 | F20: =SUM(F6:F19) -> 602 | G20: =SUM(G6:G19) -> 3 | H20: =SUM(H6:H19) -> 0 | I20: =SUM(I6:I19) -> 0 | J20: =SUM(J6:J19) -> 4 | K20: =SUM(K6:K19) -> 22

Sheet Shengavit
A1: Հավելված 2 Հայաստանի Հանրապետության Դատարանների նախագահների խորհրդի 2007թ. ¹»Ïï»Ùµ»ñÇ 21-ի թիվ 23Լ որոշման
A2: ºðºì²ÜÆ ÞºÜ¶²ìÆÂ ì²ðâ²Î²Ü Þðæ²ÜÆ ÀÜ¸Ð²Üàôð Æð²ì²êàôÂÚ²Ü ¸²î²ð²ÜàôØ ØÆÜâ¸²î²Î²Ü ì²ðàôÚÂÆ ÜÎ²îØ²Ø´ ¸²î²Î²Ü ìºð²ÐêÎàÔàôÂÚ²Ü, ¸²î²Î²Ü ²ÎîºðÆ Î²î²ðØ²Ü Ðºî Î²äì²Ì Ð²ðòºðÆ ìºð²´ºðÚ²È 2011թ. ՏԱՐԵԿԱՆ ՀԱՇՎԵՏՎՈՒԹՅՈՒՆ
A3: ØÇçÝáñ¹áõÃÛáõÝÝ»ñÇ ùÝÝ³ñÏÙ³Ý ÁÝÃ³óùÁ | D3: Ü»ñÏ³Û³óí³Í ÙÇçÝáñ¹áõÃÛáõÝÝ»ñÇ ù³Ý³ÏÁ | E3: Ù»ñÅí»É ¿ | F3: µ³í³ñ³ñí»É ¿ | G3: ÃáÕÝí»É ³é³Ýó ùÝÝáõÃÛ³Ý | H3: Áëï ÁÝ¹¹³ïáõÃÛ³Ý | I3: Ñ»ï ¿ í»ñóí»É | J3: ³Ý³í³ñï | K3: µáÕáù³ñÏí»É ¿ í»ñ³ùÝÝÇã ¹³ï³ñ³Ý
A4: êïáõ·Çã Ñ³í³ë³ñáõÙ` 1=2+3+4+5
A5: 1. ØÇÝã¹³ï³Ï³Ý í³ñáõÛÃÇ ÝÏ³ïÙ³Ùµ ¹³ï³Ï³Ý í»ñ³ÑëÏáÕáõÃÛ³Ý áÉáñï | D5: 1 | E5: 2 | F5: 3 | G5: 4 | H5: 5 | I5: 6 | J5: 7 | K5: 8
A6: ³(06) | B6: Ï³É³ÝùÁ áñå»ë Ë³÷³ÝÙ³Ý ÙÇçáó ÏÇñ³é»Éáõ Ù³ëÇÝ | D6: 138 | E6: 12 | F6: 126 | K6: 17
A7: µ(06) | B7: Ï³É³ÝùÇ Å³ÙÏ»ïÇ »ñÏ³ñ³óÝ»Éáõ Ù³ëÇÝ | D7: 101 | F7: 100 | G7: 1 | K7: 7
A8: ·(06) | B8: ·ñ³íÁ áñå»ë Ï³É³Ý³íáñÙ³Ý ³ÛÉÁÝïñ³Ýù³ÛÇÝ Ë³÷³ÝÙ³Ý ÙÇçáó ÏÇñ³é»Éáõ Ù³ëÇÝ | D8: 16 | E8: 15 | F8: 1 | K8: 7
A9: ¹(07) | B9: Ëáõ½³ñÏáõÃÛ³Ý Ï³ï³ñÙ³Ý Ù³ëÇÝ | D9: 107 | E9: 2 | F9: 105
A10: »(08) | B10: Ý³Ù³Ï³·ñáõÃÛ³Ý, Ñ»é³·ñ³Ï³Ý, ÷áuï³ÛÇÝ Ñ³Õáñ¹áõÙÝ»ñÇ ÑëÏáÕáõÃÛ³Ý ÙÇçÝáñ¹áõÃÛáõÝÝ»ñÇ Ù³ëÇÝ | D10: 29 | F10: 29
A11: ½(09) | B11: Ñ»é³Ëáu³ÛÇÝ Ï³Ù Ï³åÇ ³ÛÉ ÙÇçáóÝ»ñáí ï³ñíáÕ Ëáu³ÏóáõÃÛáõÝÝ»ñÇ ÉuÙ³Ý ¨ Ó³ÛÝ³·ñ³éÙ³Ý ÙÇçÝáñ¹áõÃÛáõÝÝ»ñÇ Ù³ëÇÝ | D11: 27 | F11: 27
A12: ¿(10) | B12: Ñ»é³ËáëÝ»ñÇ Ùáõïù³ÛÇÝ ¨ »Éù³ÛÇÝ í»ñÍ³ÝÙ³Ý ÃáõÛÉïíáõÃÛáõÝ ëï³Ý³Éáõ ÙÇçÝáñ¹áõÃÛáõÝÝ»ñÇ Ù³ëÇÝ | D12: 149 | E12: 3 | F12: 145 | G12: 1 | K12: 3
A13: Á(11) | B13: Ñ»ï³ùÝÝáõÃÛ³Ý Ù³ñÙÝÇ ³ßË³ïáÕÇ, ùÝÝÇãÇ, ¹³ï³Ë³½Ç oå»ñ³ïÇí-Ñ»ï³Ëáõ½³Ï³Ý ·áñÍáÕáõÃÛáõÝÝ»ñ Çñ³Ï³Ý³óÝáÕ Ù³ñÙÇÝÝ»ñÇ ³ÝoñÇÝ³Ï³Ý ¨ ³ÝÑÇÙÝ áñáßáõÙÝ»ñÇ ¨ ·áñÍáÕáõÃÛáõÝÝ»ñÇ ¹»Ù µáÕáùÝ»ñÇ Ù³ëÇÝ | D13: 6 | E13: 5 | F13: 1 | K13: 4
A14: 2. ¸³ï³Ï³Ý ³Ïï»ñÇ Ñ»ï Ï³ï³ñÙ³Ý Ñ»ï Ï³åí³Í Ñ³ñó»ñÇ ÉáõÍÙ³Ý áÉáñï
A15: ³(12) | B15: å³ïÅÇó å³ÛÙ³Ý³Ï³Ý í³Õ³Å³ÙÏ»ï ³½³ï»Éáõ Ù³ëÇÝ
A16: µ(13) | B16: ÀÝ¹³Ù»ÝÁ å³ïÇÅÁ ÷á÷áË»Éáõ, Ñ»ï³Ó·»Éáõ ¨ å³ïÅÇó ³½³ï»Éáõ Ù³uÇÝ ÙÇçÝáñ¹áõÃÛáõÝÝ»ñ | D16: 101 | E16: 15 | F16: 80 | G16: 6 | K16: 6
A17: ·(14) | B17: Ñ³ñÏ³¹Çñ µáõÅÙ³Ý ï»ë³ÏÇ ÷á÷áËáõÃÛ³Ý Ù³ëÇÝ
A18: ¹(15) | B18: ³ÛÉ ÙÇçÝáñ¹áõÃÛáõÝÝ»ñ | D18: 6 | F18: 6
A19: ե(16) | B19: դատական հանձնարարություն
A20: ÀÜ¸²ØºÜÀ | D20: =SUM(D6:D19) -> 680 | E20: =SUM(E6:E19) -> 52 | F20: =SUM(F6:F19) -> 620 | G20: =SUM(G6:G19) -> 8 | H20: =SUM(H6:H19) -> 0 | I20: =SUM(I6:I19) -> 0 | J20: =SUM(J6:J19) -> 0 | K20: =SUM(K6:K19) -> 44

Sheet Shirak
A1: Ð²ÞìºîìàôÂÚàôÜ 2011 տարվա
A2: ÐÐ Շ Մ ÀÜ¸Ð²Üàôð Æð²ì²êàôÂÚ²Ü ¸²î²ð²ÜàôØ ØÆÜâ¸²î²Î²Ü ì²ðàôÚÂÆ ÜÎ²îØ²Ø´ ¸²î²Î²Ü ìºð²ÐêÎàÔàôÂÚ²Ü, ¸²î²Î²Ü ²ÎîºðÆ Î²î²ðØ²Ü Ðºî Î²äì²Ì Ð²ðòºðÆ ìºð²´ºðÚ²È
A3: ØÇçÝáñ¹áõÃÛáõÝÝ»ñÇ ùÝÝ³ñÏÙ³Ý ÁÝÃ³óùÁ | D3: Ü»ñÏ³Û³óí³Í ÙÇçÝáñ¹áõÃÛáõÝÝ»ñÇ ù³Ý³ÏÁ | E3: Ù»ñÅí»É ¿ | F3: µ³í³ñ³ñí»É ¿ | G3: ÃáÕÝí»É ³é³Ýó ùÝÝáõÃÛ³Ý | H3: Áëï ÁÝ¹¹³ïáõÃÛ³Ý | I3: Ñ»ï ¿ í»ñóí»É | J3: ³Ý³í³ñï | K3: µáÕáù³ñÏí»É ¿ í»ñ³ùÝÝÇã ¹³ï³ñ³Ý
A4: êïáõ·Çã Ñ³í³ë³ñáõÙ` 1=2+3+4+5
A5: 1. ØÇÝã¹³ï³Ï³Ý í³ñáõÛÃÇ ÝÏ³ïÙ³Ùµ ¹³ï³Ï³Ý í»ñ³ÑëÏáÕáõÃÛ³Ý áÉáñï | D5: 1 | E5: 2 | F5: 3 | G5: 4 | H5: 5 | I5: 6 | J5: 7 | K5: 8
A6: ³(06) | B6: Ï³É³ÝùÁ áñå»ë Ë³÷³ÝÙ³Ý ÙÇçáó ÏÇñ³é»Éáõ Ù³ëÇÝ | D6: 234 | E6: 3 | F6: 231 | K6: 6
A7: µ(06) | B7: Ï³É³ÝùÇ Å³ÙÏ»ïÇ »ñÏ³ñ³óÝ»Éáõ Ù³ëÇÝ | D7: 84 | E7: 1 | F7: 83 | K7: 4
A8: ·(06) | B8: ·ñ³íÁ áñå»ë Ï³É³Ý³íáñÙ³Ý ³ÛÉÁÝïñ³Ýù³ÛÇÝ Ë³÷³ÝÙ³Ý ÙÇçáó ÏÇñ³é»Éáõ Ù³ëÇÝ | D8: 9 | E8: 4 | F8: 3 | G8: 2 | K8: 3
A9: ¹(07) | B9: Ëáõ½³ñÏáõÃÛ³Ý Ï³ï³ñÙ³Ý Ù³ëÇÝ | D9: 344 | F9: 343 | G9: 1
A10: »(08) | B10: Ý³Ù³Ï³·ñáõÃÛ³Ý, Ñ»é³·ñ³Ï³Ý, ÷áuï³ÛÇÝ Ñ³Õáñ¹áõÙÝ»ñÇ ÑëÏáÕáõÃÛ³Ý ÙÇçÝáñ¹áõÃÛáõÝÝ»ñÇ Ù³ëÇÝ | D10: 112 | F10: 112
A11: ½(09) | B11: Ñ»é³Ëáu³ÛÇÝ Ï³Ù Ï³åÇ ³ÛÉ ÙÇçáóÝ»ñáí ï³ñíáÕ Ëáu³ÏóáõÃÛáõÝÝ»ñÇ ÉuÙ³Ý ¨ Ó³ÛÝ³·ñ³éÙ³Ý ÙÇçÝáñ¹áõÃÛáõÝÝ»ñÇ Ù³ëÇÝ | D11: 7 | F11: 7
A12: ¿(10) | B12: Ñ»é³ËáëÝ»ñÇ Ùáõïù³ÛÇÝ ¨ »Éù³ÛÇÝ í»ñÍ³ÝÙ³Ý ÃáõÛÉïíáõÃÛáõÝ ëï³Ý³Éáõ ÙÇçÝáñ¹áõÃÛáõÝÝ»ñÇ Ù³ëÇÝ | D12: 92 | F12: 92
A13: Á(11) | B13: Ñ»ï³ùÝÝáõÃÛ³Ý Ù³ñÙÝÇ ³ßË³ïáÕÇ, ùÝÝÇãÇ, ¹³ï³Ë³½Ç oå»ñ³ïÇí-Ñ»ï³Ëáõ½³Ï³Ý ·áñÍáÕáõÃÛáõÝÝ»ñ Çñ³Ï³Ý³óÝáÕ Ù³ñÙÇÝÝ»ñÇ ³ÝoñÇÝ³Ï³Ý ¨ ³ÝÑÇÙÝ áñáßáõÙÝ»ñÇ ¨ ·áñÍáÕáõÃÛáõÝÝ»ñÇ ¹»Ù µáÕáùÝ»ñÇ Ù³ëÇÝ | D13: 14 | E13: 9 | F13: 2 | H13: 2 | I13: 0 | J13: 1 | K13: 9
A14: 2. ¸³ï³Ï³Ý ³Ïï»ñÇ Ñ»ï Ï³ï³ñÙ³Ý Ñ»ï Ï³åí³Í Ï³åí³Í Ñ³ñó»ñÇ ÉáõÍÙ³Ý áÉáñï
A15: ³(12) | B15: å³ïÅÇó å³ÛÙ³Ý³Ï³Ý í³Õ³Å³ÙÏ»ï ³½³ï»Éáõ Ù³ëÇÝ | D15: 20 | F15: 20
A16: µ(13) | B16: ÀÝ¹³Ù»ÝÁ å³ïÇÅÁ ÷á÷áË»Éáõ, Ñ»ï³Ó·»Éáõ ¨ å³ïÅÇó ³½³ï»Éáõ Ù³uÇÝ ÙÇçÝáñ¹áõÃÛáõÝÝ»ñ | D16: 144 | E16: 22 | F16: 110 | G16: 9 | I16: 2 | J16: 1 | K16: 7
A17: ·(14) | B17: Ñ³ñÏ³¹Çñ µáõÅÙ³Ý ï»ë³ÏÇ ÷á÷áËáõÃÛ³Ý Ù³ëÇÝ | D17: 4 | E17: 1 | F17: 3 | K17: 1
A18: ¹(15) | B18: ³ÛÉ ÙÇçÝáñ¹áõÃÛáõÝÝ»ñ | D18: 130 | E18: 11 | F18: 115 | G18: 4 | K18: 25
A19: ¹(16) | B19: դատական հանձնարարություն | D19: 9 | F19: 6 | J19: 3
A20: ÀÜ¸²ØºÜÀ | D20: =SUM(D6:D19) -> 1203 | E20: =SUM(E6:E19) -> 51 | F20: =SUM(F6:F19) -> 1127 | G20: =SUM(G6:G19) -> 16 | H20: =SUM(H6:H19) -> 2 | I20: =SUM(I6:I19) -> 2 | J20: =SUM(J6:J19) -> 5 | K20: =SUM(K6:K19) -> 55

Sheet Syuniq
A1: Հավելված 2 Հայաստանի Հանրապետության Դատարանների նախագահների խորհրդի 2007թ. ¹»Ïï»Ùµ»ñÇ 21-ի թիվ 23Լ որոշման
A2: ÐÐ ՍՅՈՒՆԻՔԻ ՄԱՐԶԻ ÀÜ¸Ð²Üàôð Æð²ì²êàôÂÚ²Ü ¸²î²ð²ÜàôØ ØÆÜâ¸²î²Î²Ü ì²ðàôÚÂÆ ÜÎ²îØ²Ø´ ¸²î²Î²Ü ìºð²ÐêÎàÔàôÂÚ²Ü, ¸²î²Î²Ü ²ÎîºðÆ Î²î²ðØ²Ü Ðºî Î²äì²Ì Ð²ðòºðÆ ìºð²´ºðÚ²È
A3: ØÇçÝáñ¹áõÃÛáõÝÝ»ñÇ ùÝÝ³ñÏÙ³Ý ÁÝÃ³óùÁ | D3: Ü»ñÏ³Û³óí³Í ÙÇçÝáñ¹áõÃÛáõÝÝ»ñÇ ù³Ý³ÏÁ | E3: Ù»ñÅí»É ¿ | F3: µ³í³ñ³ñí»É ¿ | G3: ÃáÕÝí»É ³é³Ýó ùÝÝáõÃÛ³Ý | H3: Áëï ÁÝ¹¹³ïáõÃÛ³Ý | I3: Ñ»ï ¿ í»ñóí»É | J3: ³Ý³í³ñï | K3: µáÕáù³ñÏí»É ¿ í»ñ³ùÝÝÇã ¹³ï³ñ³Ý
A4: êïáõ·Çã Ñ³í³ë³ñáõÙ` 1=2+3+4+5
A5: 1. ØÇÝã¹³ï³Ï³Ý í³ñáõÛÃÇ ÝÏ³ïÙ³Ùµ ¹³ï³Ï³Ý í»ñ³ÑëÏáÕáõÃÛ³Ý áÉáñï | D5: 1 | E5: 2 | F5: 3 | G5: 4 | H5: 5 | I5: 6 | J5: 7 | K5: 8
A6: ³(06) | B6: Ï³É³ÝùÁ áñå»ë Ë³÷³ÝÙ³Ý ÙÇçáó ÏÇñ³é»Éáõ Ù³ëÇÝ | D6: 245 | E6: 29 | F6: 214 | G6: 2 | J6: 0 | K6: 20
A7: µ(06) | B7: Ï³É³ÝùÇ Å³ÙÏ»ïÇ »ñÏ³ñ³óÝ»Éáõ Ù³ëÇÝ | D7: 132 | E7: 0 | F7: 128 | G7: 4 | J7: 0 | K7: 5
A8: ·(06) | B8: ·ñ³íÁ áñå»ë Ï³É³Ý³íáñÙ³Ý ³ÛÉÁÝïñ³Ýù³ÛÇÝ Ë³÷³ÝÙ³Ý ÙÇçáó ÏÇñ³é»Éáõ Ù³ëÇÝ | D8: 23 | E8: 20 | F8: 3 | G8: 0 | J8: 0 | K8: 1
A9: ¹(07) | B9: Ëáõ½³ñÏáõÃÛ³Ý Ï³ï³ñÙ³Ý Ù³ëÇÝ | D9: 125 | E9: 10 | F9: 113 | G9: 2 | J9: 0 | K9: 0
A10: »(08) | B10: Ý³Ù³Ï³·ñáõÃÛ³Ý, Ñ»é³·ñ³Ï³Ý, ÷áuï³ÛÇÝ Ñ³Õáñ¹áõÙÝ»ñÇ ÑëÏáÕáõÃÛ³Ý ÙÇçÝáñ¹áõÃÛáõÝÝ»ñÇ Ù³ëÇÝ | D10: 19 | E10: 0 | F10: 19 | G10: 0 | J10: 0 | K10: 0
A11: ½(09) | B11: Ñ»é³Ëáu³ÛÇÝ Ï³Ù Ï³åÇ ³ÛÉ ÙÇçáóÝ»ñáí ï³ñíáÕ Ëáu³ÏóáõÃÛáõÝÝ»ñÇ ÉuÙ³Ý ¨ Ó³ÛÝ³·ñ³éÙ³Ý ÙÇçÝáñ¹áõÃÛáõÝÝ»ñÇ Ù³ëÇÝ | D11: 0 | E11: 0 | F11: 0 | G11: 0 | J11: 0 | K11: 0
A12: ¿(10) | B12: Ñ»é³ËáëÝ»ñÇ Ùáõïù³ÛÇÝ ¨ »Éù³ÛÇÝ í»ñÍ³ÝÙ³Ý ÃáõÛÉïíáõÃÛáõÝ ëï³Ý³Éáõ ÙÇçÝáñ¹áõÃÛáõÝÝ»ñÇ Ù³ëÇÝ | D12: 64 | E12: 6 | F12: 58 | G12: 0 | J12: 0 | K12: 0
A13: Á(11) | B13: Ñ»ï³ùÝÝáõÃÛ³Ý Ù³ñÙÝÇ ³ßË³ïáÕÇ, ùÝÝÇãÇ, ¹³ï³Ë³½Ç oå»ñ³ïÇí-Ñ»ï³Ëáõ½³Ï³Ý ·áñÍáÕáõÃÛáõÝÝ»ñ Çñ³Ï³Ý³óÝáÕ Ù³ñÙÇÝÝ»ñÇ ³ÝoñÇÝ³Ï³Ý ¨ ³ÝÑÇÙÝ áñáßáõÙÝ»ñÇ ¨ ·áñÍáÕáõÃÛáõÝÝ»ñÇ ¹»Ù µáÕáùÝ»ñÇ Ù³ëÇÝ | D13: 6 | E13: 6 | F13: 0 | G13: 0 | J13: 0 | K13: 4
A14: 2. ¸³ï³Ï³Ý ³Ïï»ñÇ Ñ»ï Ï³ï³ñÙ³Ý Ñ»ï Ï³åí³Í Ñ³ñó»ñÇ ÉáõÍÙ³Ý áÉáñï
A15: ³(12) | B15: å³ïÅÇó å³ÛÙ³Ý³Ï³Ý í³Õ³Å³ÙÏ»ï ³½³ï»Éáõ Ù³ëÇÝ | D15: 11 | E15: 3 | F15: 8 | G15: 0 | J15: 0 | K15: 3
A16: µ(13) | B16: ÀÝ¹³Ù»ÝÁ å³ïÇÅÁ ÷á÷áË»Éáõ, Ñ»ï³Ó·»Éáõ ¨ å³ïÅÇó ³½³ï»Éáõ Ù³uÇÝ ÙÇçÝáñ¹áõÃÛáõÝÝ»ñ | D16: 163 | E16: 12 | F16: 130 | G16: 21 | J16: 0 | K16: 5
A17: ·(14) | B17: Ñ³ñÏ³¹Çñ µáõÅÙ³Ý ï»ë³ÏÇ ÷á÷áËáõÃÛ³Ý Ù³ëÇÝ | D17: 2 | E17: 0 | F17: 1 | G17: 0 | J17: 1 | K17: 0
A18: ¹(15) | B18: ³ÛÉ ÙÇçÝáñ¹áõÃÛáõÝÝ»ñ | D18: 73 | E18: 19 | F18: 51 | G18: 3 | J18: 0 | K18: 0
A19: ե(16) | B19: դատական հանձնարարություն
A20: ÀÜ¸²ØºÜÀ | D20: =SUM(D6:D19) -> 863 | E20: =SUM(E6:E19) -> 105 | F20: =SUM(F6:F19) -> 725 | G20: =SUM(G6:G19) -> 32 | H20: =SUM(H6:H19) -> 0 | I20: =SUM(I6:I19) -> 0 | J20: =SUM(J6:J19) -> 1 | K20: =SUM(K6:K19) -> 38

Sheet Tavush
A1: Ð²ÞìºîìàôÂÚàôÜ 2011 ՏԱՐԵԿԱՆ
A2: ÐÐ ÀÜ¸Ð²Üàôð Æð²ì²êàôÂÚ²Ü ¸²î²ð²ÜàôØ ØÆÜâ¸²î²Î²Ü ì²ðàôÚÂÆ ÜÎ²îØ²Ø´ ¸²î²Î²Ü ìºð²ÐêÎàÔàôÂÚ²Ü, ¸²î²Î²Ü ²ÎîºðÆ Î²î²ðØ²Ü Ðºî Î²äì²Ì Ð²ðòºðÆ ìºð²´ºðÚ²È
A3: ØÇçÝáñ¹áõÃÛáõÝÝ»ñÇ ùÝÝ³ñÏÙ³Ý ÁÝÃ³óùÁ | D3: Ü»ñÏ³Û³óí³Í ÙÇçÝáñ¹áõÃÛáõÝÝ»ñÇ ù³Ý³ÏÁ | E3: Ù»ñÅí»É ¿ | F3: µ³í³ñ³ñí»É ¿ | G3: ÃáÕÝí»É ³é³Ýó ùÝÝáõÃÛ³Ý | H3: Áëï ÁÝ¹¹³ïáõÃÛ³Ý | I3: Ñ»ï ¿ í»ñóí»É | J3: ³Ý³í³ñï | K3: µáÕáù³ñÏí»É ¿ í»ñ³ùÝÝÇã ¹³ï³ñ³Ý
A4: êïáõ·Çã Ñ³í³ë³ñáõÙ` 1=2+3+4+5
A5: 1. ØÇÝã¹³ï³Ï³Ý í³ñáõÛÃÇ ÝÏ³ïÙ³Ùµ ¹³ï³Ï³Ý í»ñ³ÑëÏáÕáõÃÛ³Ý áÉáñï | D5: 1 | E5: 2 | F5: 3 | G5: 4 | H5: 5 | I5: 6 | J5: 7 | K5: 8
A6: ³(06) | B6: Ï³É³ÝùÁ áñå»ë Ë³÷³ÝÙ³Ý ÙÇçáó ÏÇñ³é»Éáõ Ù³ëÇÝ | D6: 97 | E6: 8 | F6: 88 | G6: 1 | K6: 7
A7: µ(06) | B7: Ï³É³ÝùÇ Å³ÙÏ»ïÇ »ñÏ³ñ³óÝ»Éáõ Ù³ëÇÝ | D7: 17 | F7: 17 | G7: 0 | H7: 0 | I7: 0 | J7: 0 | K7: 5
A8: ·(06) | B8: ·ñ³íÁ áñå»ë Ï³É³Ý³íáñÙ³Ý ³ÛÉÁÝïñ³Ýù³ÛÇÝ Ë³÷³ÝÙ³Ý ÙÇçáó ÏÇñ³é»Éáõ Ù³ëÇÝ | D8: 8 | E8: 4 | F8: 4 | G8: 0 | H8: 0 | I8: 0 | J8: 0 | K8: 1
A9: ¹(07) | B9: Ëáõ½³ñÏáõÃÛ³Ý Ï³ï³ñÙ³Ý Ù³ëÇÝ | D9: 87 | F9: 87 | G9: 0 | H9: 0 | I9: 0 | J9: 0
A10: »(08) | B10: Ý³Ù³Ï³·ñáõÃÛ³Ý, Ñ»é³·ñ³Ï³Ý, ÷áuï³ÛÇÝ Ñ³Õáñ¹áõÙÝ»ñÇ ÑëÏáÕáõÃÛ³Ý ÙÇçÝáñ¹áõÃÛáõÝÝ»ñÇ Ù³ëÇÝ | D10: 26 | F10: 26 | G10: 0 | H10: 0 | I10: 0 | J10: 0
A11: ½(09) | B11: Ñ»é³Ëáu³ÛÇÝ Ï³Ù Ï³åÇ ³ÛÉ ÙÇçáóÝ»ñáí ï³ñíáÕ Ëáu³ÏóáõÃÛáõÝÝ»ñÇ ÉuÙ³Ý ¨ Ó³ÛÝ³·ñ³éÙ³Ý ÙÇçÝáñ¹áõÃÛáõÝÝ»ñÇ Ù³ëÇÝ | D11: 2 | F11: 2 | G11: 0 | H11: 0 | I11: 0 | J11: 0
A12: ¿(10) | B12: Ñ»é³ËáëÝ»ñÇ Ùáõïù³ÛÇÝ ¨ »Éù³ÛÇÝ í»ñÍ³ÝÙ³Ý ÃáõÛÉïíáõÃÛáõÝ ëï³Ý³Éáõ ÙÇçÝáñ¹áõÃÛáõÝÝ»ñÇ Ù³ëÇÝ | D12: 36 | E12: 2 | F12: 34 | G12: 0 | H12: 0 | I12: 0 | J12: 0 | K12: 1
A13: Á(11) | B13: Ñ»ï³ùÝÝáõÃÛ³Ý Ù³ñÙÝÇ ³ßË³ïáÕÇ, ùÝÝÇãÇ, ¹³ï³Ë³½Ç oå»ñ³ïÇí-Ñ»ï³Ëáõ½³Ï³Ý ·áñÍáÕáõÃÛáõÝÝ»ñ Çñ³Ï³Ý³óÝáÕ Ù³ñÙÇÝÝ»ñÇ ³ÝoñÇÝ³Ï³Ý ¨ ³ÝÑÇÙÝ áñáßáõÙÝ»ñÇ ¨ ·áñÍáÕáõÃÛáõÝÝ»ñÇ ¹»Ù µáÕáùÝ»ñÇ Ù³ëÇÝ | D13: 2 | E13: 1 | F13: 1 | G13: 0 | H13: 0 | I13: 0 | J13: 0 | K13: 1
A14: 2. ¸³ï³Ï³Ý ³Ïï»ñÇ Ñ»ï Ï³ï³ñÙ³Ý Ñ»ï Ï³åí³Í Ñ³ñó»ñÇ ÉáõÍÙ³Ý áÉáñï | G14: 0 | H14: 0 | I14: 0 | J14: 0
A15: ³(12) | B15: å³ïÅÇó å³ÛÙ³Ý³Ï³Ý í³Õ³Å³ÙÏ»ï ³½³ï»Éáõ Ù³ëÇÝ | G15: 0 | H15: 0 | I15: 0 | J15: 0
A16: µ(13) | B16: ÀÝ¹³Ù»ÝÁ å³ïÇÅÁ ÷á÷áË»Éáõ, Ñ»ï³Ó·»Éáõ ¨ å³ïÅÇó ³½³ï»Éáõ Ù³uÇÝ ÙÇçÝáñ¹áõÃÛáõÝÝ»ñ | D16: 123 | E16: 21 | F16: 101 | G16: 1 | K16: 9
A17: ·(14) | B17: Ñ³ñÏ³¹Çñ µáõÅÙ³Ý ï»ë³ÏÇ ÷á÷áËáõÃÛ³Ý Ù³ëÇÝ
A18: ¹(15) | B18: ³ÛÉ ÙÇçÝáñ¹áõÃÛáõÝÝ»ñ | D18: 25 | E18: 3 | F18: 19 | G18: 3
A19: ե(16) | B19: դատական հանձնարարություն
A20: ÀÜ¸²ØºÜÀ | D20: =SUM(D6:D19) -> 423 | E20: =SUM(E6:E19) -> 39 | F20: =SUM(F6:F19) -> 379 | G20: =SUM(G6:G19) -> 5 | H20: =SUM(H6:H19) -> 0 | I20: =SUM(I6:I19) -> 0 | J20: =SUM(J6:J19) -> 0 | K20: =SUM(K6:K19) -> 24

Sheet @NDHANUR
A1: Հավելված 2 Հայաստանի Հանրապետության Դատարանների նախագահների խորհրդի 2007թ. ¹»Ïï»Ùµ»ñÇ 21-ի թիվ 23Լ որոշման
A2: ÀÜ¸Ð²Üàôð Æð²ì²êàôÂÚ²Ü ¸²î²ð²ÜàôØ 2011թ ØÆÜâ¸²î²Î²Ü ì²ðàôÚÂÆ ÜÎ²îØ²Ø´ ¸²î²Î²Ü ìºð²ÐêÎàÔàôÂÚ²Ü, ¸²î²Î²Ü ²ÎîºðÆ Î²î²ðØ²Ü Ðºî Î²äì²Ì Ð²ðòºðÆ ìºð²´ºðÚ²È
A3: ØÇçÝáñ¹áõÃÛáõÝÝ»ñÇ ùÝÝ³ñÏÙ³Ý ÁÝÃ³óùÁ | D3: Ü»ñÏ³Û³óí³Í ÙÇçÝáñ¹áõÃÛáõÝÝ»ñÇ ù³Ý³ÏÁ | E3: Ù»ñÅí»É ¿ | F3: µ³í³ñ³ñí»É ¿ | G3: ÃáÕÝí»É ³é³Ýó ùÝÝáõÃÛ³Ý | H3: áõÕ³ñÏí»É ¿ Áëï ÁÝ¹¹³ïáõÃÛ³Ý | I3: Ñ»ï ¿ í»ñóí»É | J3: ³Ý³í³ñï | K3: µáÕáù³ñÏí»É ¿ í»ñ³ùÝÝÇã ¹³ï³ñ³Ý
A4: êïáõ·Çã Ñ³í³ë³ñáõÙ` 1=2+3+4+5+6+7
A5: 1. ØÇÝã¹³ï³Ï³Ý í³ñáõÛÃÇ ÝÏ³ïÙ³Ùµ ¹³ï³Ï³Ý í»ñ³ÑëÏáÕáõÃÛ³Ý áÉáñï | D5: 1 | E5: 2 | F5: 3 | G5: 4 | H5: 5 | I5: 6 | J5: 7 | K5: 8
A6: ³(06) | B6: Ï³É³ÝùÁ áñå»ë Ë³÷³ÝÙ³Ý ÙÇçáó ÏÇñ³é»Éáõ Ù³ëÇÝ | D6: =SUM(Ajapnyak!D6+Avan!D6+Arabkir!D6+Ararat!D6+Aragacotn!D6+Armavir!D6+Gexarquniq!D6+Erebuni!D6+Lori!D6+Kentron!D6+Kotayq!D6+Malatia!D6+Shengavit!D6+Shirak!D6+Syuniq!D6+Tavush!D6) -> 3262 | E6: =SUM(Ajapnyak!E6+Avan!E6+Arabkir!E6+Ararat!E6+Aragacotn!E6+Armavir!E6+Gexarquniq!E6+Erebuni!E6+Lori!E6+Kentron!E6+Kotayq!E6+Malatia!E6+Shengavit!E6+Shirak!E6+Syuniq!E6+Tavush!E6) -> 164 | F6: =SUM(Ajapnyak!F6+Avan!F6+Arabkir!F6+Ararat!F6+Aragacotn!F6+Armavir!F6+Gexarquniq!F6+Erebuni!F6+Lori!F6+Kentron!F6+Kotayq!F6+Malatia!F6+Shengavit!F6+Shirak!F6+Syuniq!F6+Tavush!F6) -> 3088 | G6: =SUM(Ajapnyak!G6+Avan!G6+Arabkir!G6+Ararat!G6+Aragacotn!G6+Armavir!G6+Gexarquniq!G6+Erebuni!G6+Lori!G6+Kentron!G6+Kotayq!G6+Malatia!G6+Shengavit!G6+Shirak!G6+Syuniq!G6+Tavush!G6) -> 9 | H6: =SUM(Ajapnyak!H6+Avan!H6+Arabkir!H6+Ararat!H6+Aragacotn!H6+Armavir!H6+Gexarquniq!H6+Erebuni!H6+Lori!H6+Kentron!H6+Kotayq!H6+Malatia!H6+Shengavit!H6+Shirak!H6+Syuniq!H6+Tavush!H6) -> 0 | I6: =SUM(Ajapnyak!I6+Avan!I6+Arabkir!I6+Ararat!I6+Aragacotn!I6+Armavir!I6+Gexarquniq!I6+Erebuni!I6+Lori!I6+Kentron!I6+Kotayq!I6+Malatia!I6+Shengavit!I6+Shirak!I6+Syuniq!I6+Tavush!I6) -> 0 | J6: =SUM(Ajapnyak!J6+Avan!J6+Arabkir!J6+Ararat!J6+Aragacotn!J6+Armavir!J6+Gexarquniq!J6+Erebuni!J6+Lori!J6+Kentron!J6+Kotayq!J6+Malatia!J6+Shengavit!J6+Shirak!J6+Syuniq!J6+Tavush!J6) -> 1 | K6: =SUM(Ajapnyak!K6+Avan!K6+Arabkir!K6+Ararat!K6+Aragacotn!K6+Armavir!K6+Gexarquniq!K6+Erebuni!K6+Lori!K6+Kentron!K6+Kotayq!K6+Malatia!K6+Shengavit!K6+Shirak!K6+Syuniq!K6+Tavush!K6) -> 276
A7: µ(06) | B7: Ï³É³ÝùÇ Å³ÙÏ»ïÇ »ñÏ³ñ³óÝ»Éáõ Ù³ëÇÝ | D7: =SUM(Ajapnyak!D7+Avan!D7+Arabkir!D7+Ararat!D7+Aragacotn!D7+Armavir!D7+Gexarquniq!D7+Erebuni!D7+Lori!D7+Kentron!D7+Kotayq!D7+Malatia!D7+Shengavit!D7+Shirak!D7+Syuniq!D7+Tavush!D7) -> 1864 | E7: =SUM(Ajapnyak!E7+Avan!E7+Arabkir!E7+Ararat!E7+Aragacotn!E7+Armavir!E7+Gexarquniq!E7+Erebuni!E7+Lori!E7+Kentron!E7+Kotayq!E7+Malatia!E7+Shengavit!E7+Shirak!E7+Syuniq!E7+Tavush!E7) -> 21 | F7: =SUM(Ajapnyak!F7+Avan!F7+Arabkir!F7+Ararat!F7+Aragacotn!F7+Armavir!F7+Gexarquniq!F7+Erebuni!F7+Lori!F7+Kentron!F7+Kotayq!F7+Malatia!F7+Shengavit!F7+Shirak!F7+Syuniq!F7+Tavush!F7) -> 1816 | G7: =SUM(Ajapnyak!G7+Avan!G7+Arabkir!G7+Ararat!G7+Aragacotn!G7+Armavir!G7+Gexarquniq!G7+Erebuni!G7+Lori!G7+Kentron!G7+Kotayq!G7+Malatia!G7+Shengavit!G7+Shirak!G7+Syuniq!G7+Tavush!G7) -> 19 | H7: =SUM(Ajapnyak!H7+Avan!H7+Arabkir!H7+Ararat!H7+Aragacotn!H7+Armavir!H7+Gexarquniq!H7+Erebuni!H7+Lori!H7+Kentron!H7+Kotayq!H7+Malatia!H7+Shengavit!H7+Shirak!H7+Syuniq!H7+Tavush!H7) -> 0 | I7: =SUM(Ajapnyak!I7+Avan!I7+Arabkir!I7+Ararat!I7+Aragacotn!I7+Armavir!I7+Gexarquniq!I7+Erebuni!I7+Lori!I7+Kentron!I7+Kotayq!I7+Malatia!I7+Shengavit!I7+Shirak!I7+Syuniq!I7+Tavush!I7) -> 0 | J7: =SUM(Ajapnyak!J7+Avan!J7+Arabkir!J7+Ararat!J7+Aragacotn!J7+Armavir!J7+Gexarquniq!J7+Erebuni!J7+Lori!J7+Kentron!J7+Kotayq!J7+Malatia!J7+Shengavit!J7+Shirak!J7+Syuniq!J7+Tavush!J7) -> 8 | K7: =SUM(Ajapnyak!K7+Avan!K7+Arabkir!K7+Ararat!K7+Aragacotn!K7+Armavir!K7+Gexarquniq!K7+Erebuni!K7+Lori!K7+Kentron!K7+Kotayq!K7+Malatia!K7+Shengavit!K7+Shirak!K7+Syuniq!K7+Tavush!K7) -> 234
A8: ·(06) | B8: ·ñ³íÁ áñå»ë Ï³É³Ý³íáñÙ³Ý ³ÛÉÁÝïñ³Ýù³ÛÇÝ Ë³÷³ÝÙ³Ý ÙÇçáó ÏÇñ³é»Éáõ Ù³ëÇÝ | D8: =SUM(Ajapnyak!D8+Avan!D8+Arabkir!D8+Ararat!D8+Aragacotn!D8+Armavir!D8+Gexarquniq!D8+Erebuni!D8+Lori!D8+Kentron!D8+Kotayq!D8+Malatia!D8+Shengavit!D8+Shirak!D8+Syuniq!D8+Tavush!D8) -> 448 | E8: =SUM(Ajapnyak!E8+Avan!E8+Arabkir!E8+Ararat!E8+Aragacotn!E8+Armavir!E8+Gexarquniq!E8+Erebuni!E8+Lori!E8+Kentron!E8+Kotayq!E8+Malatia!E8+Shengavit!E8+Shirak!E8+Syuniq!E8+Tavush!E8) -> 291 | F8: =SUM(Ajapnyak!F8+Avan!F8+Arabkir!F8+Ararat!F8+Aragacotn!F8+Armavir!F8+Gexarquniq!F8+Erebuni!F8+Lori!F8+Kentron!F8+Kotayq!F8+Malatia!F8+Shengavit!F8+Shirak!F8+Syuniq!F8+Tavush!F8) -> 131 | G8: =SUM(Ajapnyak!G8+Avan!G8+Arabkir!G8+Ararat!G8+Aragacotn!G8+Armavir!G8+Gexarquniq!G8+Erebuni!G8+Lori!G8+Kentron!G8+Kotayq!G8+Malatia!G8+Shengavit!G8+Shirak!G8+Syuniq!G8+Tavush!G8) -> 20 | H8: =SUM(Ajapnyak!H8+Avan!H8+Arabkir!H8+Ararat!H8+Aragacotn!H8+Armavir!H8+Gexarquniq!H8+Erebuni!H8+Lori!H8+Kentron!H8+Kotayq!H8+Malatia!H8+Shengavit!H8+Shirak!H8+Syuniq!H8+Tavush!H8) -> 0 | I8: =SUM(Ajapnyak!I8+Avan!I8+Arabkir!I8+Ararat!I8+Aragacotn!I8+Armavir!I8+Gexarquniq!I8+Erebuni!I8+Lori!I8+Kentron!I8+Kotayq!I8+Malatia!I8+Shengavit!I8+Shirak!I8+Syuniq!I8+Tavush!I8) -> 0 | J8: =SUM(Ajapnyak!J8+Avan!J8+Arabkir!J8+Ararat!J8+Aragacotn!J8+Armavir!J8+Gexarquniq!J8+Erebuni!J8+Lori!J8+Kentron!J8+Kotayq!J8+Malatia!J8+Shengavit!J8+Shirak!J8+Syuniq!J8+Tavush!J8) -> 6 | K8: =SUM(Ajapnyak!K8+Avan!K8+Arabkir!K8+Ararat!K8+Aragacotn!K8+Armavir!K8+Gexarquniq!K8+Erebuni!K8+Lori!K8+Kentron!K8+Kotayq!K8+Malatia!K8+Shengavit!K8+Shirak!K8+Syuniq!K8+Tavush!K8) -> 81
A9: ¹(07) | B9: Ëáõ½³ñÏáõÃÛ³Ý Ï³ï³ñÙ³Ý Ù³ëÇÝ | D9: =SUM(Ajapnyak!D9+Avan!D9+Arabkir!D9+Ararat!D9+Aragacotn!D9+Armavir!D9+Gexarquniq!D9+Erebuni!D9+Lori!D9+Kentron!D9+Kotayq!D9+Malatia!D9+Shengavit!D9+Shirak!D9+Syuniq!D9+Tavush!D9) -> 4111 | E9: =SUM(Ajapnyak!E9+Avan!E9+Arabkir!E9+Ararat!E9+Aragacotn!E9+Armavir!E9+Gexarquniq!E9+Erebuni!E9+Lori!E9+Kentron!E9+Kotayq!E9+Malatia!E9+Shengavit!E9+Shirak!E9+Syuniq!E9+Tavush!E9) -> 64 | F9: =SUM(Ajapnyak!F9+Avan!F9+Arabkir!F9+Ararat!F9+Aragacotn!F9+Armavir!F9+Gexarquniq!F9+Erebuni!F9+Lori!F9+Kentron!F9+Kotayq!F9+Malatia!F9+Shengavit!F9+Shirak!F9+Syuniq!F9+Tavush!F9) -> 4028 | G9: =SUM(Ajapnyak!G9+Avan!G9+Arabkir!G9+Ararat!G9+Aragacotn!G9+Armavir!G9+Gexarquniq!G9+Erebuni!G9+Lori!G9+Kentron!G9+Kotayq!G9+Malatia!G9+Shengavit!G9+Shirak!G9+Syuniq!G9+Tavush!G9) -> 19 | H9: =SUM(Ajapnyak!H9+Avan!H9+Arabkir!H9+Ararat!H9+Aragacotn!H9+Armavir!H9+Gexarquniq!H9+Erebuni!H9+Lori!H9+Kentron!H9+Kotayq!H9+Malatia!H9+Shengavit!H9+Shirak!H9+Syuniq!H9+Tavush!H9) -> 0 | I9: =SUM(Ajapnyak!I9+Avan!I9+Arabkir!I9+Ararat!I9+Aragacotn!I9+Armavir!I9+Gexarquniq!I9+Erebuni!I9+Lori!I9+Kentron!I9+Kotayq!I9+Malatia!I9+Shengavit!I9+Shirak!I9+Syuniq!I9+Tavush!I9) -> 0 | J9: =SUM(Ajapnyak!J9+Avan!J9+Arabkir!J9+Ararat!J9+Aragacotn!J9+Armavir!J9+Gexarquniq!J9+Erebuni!J9+Lori!J9+Kentron!J9+Kotayq!J9+Malatia!J9+Shengavit!J9+Shirak!J9+Syuniq!J9+Tavush!J9) -> 0 | K9: =SUM(Ajapnyak!K9+Avan!K9+Arabkir!K9+Ararat!K9+Aragacotn!K9+Armavir!K9+Gexarquniq!K9+Erebuni!K9+Lori!K9+Kentron!K9+Kotayq!K9+Malatia!K9+Shengavit!K9+Shirak!K9+Syuniq!K9+Tavush!K9) -> 8
A10: »(08) | B10: Ý³Ù³Ï³·ñáõÃÛ³Ý, Ñ»é³·ñ³Ï³Ý, ÷áuï³ÛÇÝ Ñ³Õáñ¹áõÙÝ»ñÇ ÑëÏáÕáõÃÛ³Ý ÙÇçÝáñ¹áõÃÛáõÝÝ»ñÇ Ù³ëÇÝ | D10: =SUM(Ajapnyak!D10+Avan!D10+Arabkir!D10+Ararat!D10+Aragacotn!D10+Armavir!D10+Gexarquniq!D10+Erebuni!D10+Lori!D10+Kentron!D10+Kotayq!D10+Malatia!D10+Shengavit!D10+Shirak!D10+Syuniq!D10+Tavush!D10) -> 750 | E10: =SUM(Ajapnyak!E10+Avan!E10+Arabkir!E10+Ararat!E10+Aragacotn!E10+Armavir!E10+Gexarquniq!E10+Erebuni!E10+Lori!E10+Kentron!E10+Kotayq!E10+Malatia!E10+Shengavit!E10+Shirak!E10+Syuniq!E10+Tavush!E10) -> 1 | F10: =SUM(Ajapnyak!F10+Avan!F10+Arabkir!F10+Ararat!F10+Aragacotn!F10+Armavir!F10+Gexarquniq!F10+Erebuni!F10+Lori!F10+Kentron!F10+Kotayq!F10+Malatia!F10+Shengavit!F10+Shirak!F10+Syuniq!F10+Tavush!F10) -> 748 | G10: =SUM(Ajapnyak!G10+Avan!G10+Arabkir!G10+Ararat!G10+Aragacotn!G10+Armavir!G10+Gexarquniq!G10+Erebuni!G10+Lori!G10+Kentron!G10+Kotayq!G10+Malatia!G10+Shengavit!G10+Shirak!G10+Syuniq!G10+Tavush!G10) -> 1 | H10: =SUM(Ajapnyak!H10+Avan!H10+Arabkir!H10+Ararat!H10+Aragacotn!H10+Armavir!H10+Gexarquniq!H10+Erebuni!H10+Lori!H10+Kentron!H10+Kotayq!H10+Malatia!H10+Shengavit!H10+Shirak!H10+Syuniq!H10+Tavush!H10) -> 0 | I10: =SUM(Ajapnyak!I10+Avan!I10+Arabkir!I10+Ararat!I10+Aragacotn!I10+Armavir!I10+Gexarquniq!I10+Erebuni!I10+Lori!I10+Kentron!I10+Kotayq!I10+Malatia!I10+Shengavit!I10+Shirak!I10+Syuniq!I10+Tavush!I10) -> 0 | J10: =SUM(Ajapnyak!J10+Avan!J10+Arabkir!J10+Ararat!J10+Aragacotn!J10+Armavir!J10+Gexarquniq!J10+Erebuni!J10+Lori!J10+Kentron!J10+Kotayq!J10+Malatia!J10+Shengavit!J10+Shirak!J10+Syuniq!J10+Tavush!J10) -> 0 | K10: =SUM(Ajapnyak!K10+Avan!K10+Arabkir!K10+Ararat!K10+Aragacotn!K10+Armavir!K10+Gexarquniq!K10+Erebuni!K10+Lori!K10+Kentron!K10+Kotayq!K10+Malatia!K10+Shengavit!K10+Shirak!K10+Syuniq!K10+Tavush!K10) -> 0
A11: ½(09) | B11: Ñ»é³Ëáu³ÛÇÝ Ï³Ù Ï³åÇ ³ÛÉ ÙÇçáóÝ»ñáí ï³ñíáÕ Ëáu³ÏóáõÃÛáõÝÝ»ñÇ ÉuÙ³Ý ¨ Ó³ÛÝ³·ñ³éÙ³Ý ÙÇçÝáñ¹áõÃÛáõÝÝ»ñÇ Ù³ëÇÝ | D11: =SUM(Ajapnyak!D11+Avan!D11+Arabkir!D11+Ararat!D11+Aragacotn!D11+Armavir!D11+Gexarquniq!D11+Erebuni!D11+Lori!D11+Kentron!D11+Kotayq!D11+Malatia!D11+Shengavit!D11+Shirak!D11+Syuniq!D11+Tavush!D11) -> 386 | E11: =SUM(Ajapnyak!E11+Avan!E11+Arabkir!E11+Ararat!E11+Aragacotn!E11+Armavir!E11+Gexarquniq!E11+Erebuni!E11+Lori!E11+Kentron!E11+Kotayq!E11+Malatia!E11+Shengavit!E11+Shirak!E11+Syuniq!E11+Tavush!E11) -> 5 | F11: =SUM(Ajapnyak!F11+Avan!F11+Arabkir!F11+Ararat!F11+Aragacotn!F11+Armavir!F11+Gexarquniq!F11+Erebuni!F11+Lori!F11+Kentron!F11+Kotayq!F11+Malatia!F11+Shengavit!F11+Shirak!F11+Syuniq!F11+Tavush!F11) -> 381 | G11: =SUM(Ajapnyak!G11+Avan!G11+Arabkir!G11+Ararat!G11+Aragacotn!G11+Armavir!G11+Gexarquniq!G11+Erebuni!G11+Lori!G11+Kentron!G11+Kotayq!G11+Malatia!G11+Shengavit!G11+Shirak!G11+Syuniq!G11+Tavush!G11) -> 0 | H11: =SUM(Ajapnyak!H11+Avan!H11+Arabkir!H11+Ararat!H11+Aragacotn!H11+Armavir!H11+Gexarquniq!H11+Erebuni!H11+Lori!H11+Kentron!H11+Kotayq!H11+Malatia!H11+Shengavit!H11+Shirak!H11+Syuniq!H11+Tavush!H11) -> 0 | I11: =SUM(Ajapnyak!I11+Avan!I11+Arabkir!I11+Ararat!I11+Aragacotn!I11+Armavir!I11+Gexarquniq!I11+Erebuni!I11+Lori!I11+Kentron!I11+Kotayq!I11+Malatia!I11+Shengavit!I11+Shirak!I11+Syuniq!I11+Tavush!I11) -> 0 | J11: =SUM(Ajapnyak!J11+Avan!J11+Arabkir!J11+Ararat!J11+Aragacotn!J11+Armavir!J11+Gexarquniq!J11+Erebuni!J11+Lori!J11+Kentron!J11+Kotayq!J11+Malatia!J11+Shengavit!J11+Shirak!J11+Syuniq!J11+Tavush!J11) -> 0 | K11: =SUM(Ajapnyak!K11+Avan!K11+Arabkir!K11+Ararat!K11+Aragacotn!K11+Armavir!K11+Gexarquniq!K11+Erebuni!K11+Lori!K11+Kentron!K11+Kotayq!K11+Malatia!K11+Shengavit!K11+Shirak!K11+Syuniq!K11+Tavush!K11) -> 1
A12: ¿(10) | B12: Ñ»é³ËáëÝ»ñÇ Ùáõïù³ÛÇÝ ¨ »Éù³ÛÇÝ í»ñÍ³ÝÙ³Ý ÃáõÛÉïíáõÃÛáõÝ ëï³Ý³Éáõ ÙÇçÝáñ¹áõÃÛáõÝÝ»ñÇ Ù³ëÇÝ | D12: =SUM(Ajapnyak!D12+Avan!D12+Arabkir!D12+Ararat!D12+Aragacotn!D12+Armavir!D12+Gexarquniq!D12+Erebuni!D12+Lori!D12+Kentron!D12+Kotayq!D12+Malatia!D12+Shengavit!D12+Shirak!D12+Syuniq!D12+Tavush!D12) -> 2717 | E12: =SUM(Ajapnyak!E12+Avan!E12+Arabkir!E12+Ararat!E12+Aragacotn!E12+Armavir!E12+Gexarquniq!E12+Erebuni!E12+Lori!E12+Kentron!E12+Kotayq!E12+Malatia!E12+Shengavit!E12+Shirak!E12+Syuniq!E12+Tavush!E12) -> 60 | F12: =SUM(Ajapnyak!F12+Avan!F12+Arabkir!F12+Ararat!F12+Aragacotn!F12+Armavir!F12+Gexarquniq!F12+Erebuni!F12+Lori!F12+Kentron!F12+Kotayq!F12+Malatia!F12+Shengavit!F12+Shirak!F12+Syuniq!F12+Tavush!F12) -> 2645 | G12: =SUM(Ajapnyak!G12+Avan!G12+Arabkir!G12+Ararat!G12+Aragacotn!G12+Armavir!G12+Gexarquniq!G12+Erebuni!G12+Lori!G12+Kentron!G12+Kotayq!G12+Malatia!G12+Shengavit!G12+Shirak!G12+Syuniq!G12+Tavush!G12) -> 12 | H12: =SUM(Ajapnyak!H12+Avan!H12+Arabkir!H12+Ararat!H12+Aragacotn!H12+Armavir!H12+Gexarquniq!H12+Erebuni!H12+Lori!H12+Kentron!H12+Kotayq!H12+Malatia!H12+Shengavit!H12+Shirak!H12+Syuniq!H12+Tavush!H12) -> 0 | I12: =SUM(Ajapnyak!I12+Avan!I12+Arabkir!I12+Ararat!I12+Aragacotn!I12+Armavir!I12+Gexarquniq!I12+Erebuni!I12+Lori!I12+Kentron!I12+Kotayq!I12+Malatia!I12+Shengavit!I12+Shirak!I12+Syuniq!I12+Tavush!I12) -> 0 | J12: =SUM(Ajapnyak!J12+Avan!J12+Arabkir!J12+Ararat!J12+Aragacotn!J12+Armavir!J12+Gexarquniq!J12+Erebuni!J12+Lori!J12+Kentron!J12+Kotayq!J12+Malatia!J12+Shengavit!J12+Shirak!J12+Syuniq!J12+Tavush!J12) -> 0 | K12: =SUM(Ajapnyak!K12+Avan!K12+Arabkir!K12+Ararat!K12+Aragacotn!K12+Armavir!K12+Gexarquniq!K12+Erebuni!K12+Lori!K12+Kentron!K12+Kotayq!K12+Malatia!K12+Shengavit!K12+Shirak!K12+Syuniq!K12+Tavush!K12) -> 7
A13: Á(11) | B13: Ñ»ï³ùÝÝáõÃÛ³Ý Ù³ñÙÝÇ ³ßË³ïáÕÇ, ùÝÝÇãÇ, ¹³ï³Ë³½Ç oå»ñ³ïÇí-Ñ»ï³Ëáõ½³Ï³Ý ·áñÍáÕáõÃÛáõÝÝ»ñ Çñ³Ï³Ý³óÝáÕ Ù³ñÙÇÝÝ»ñÇ ³ÝoñÇÝ³Ï³Ý ¨ ³ÝÑÇÙÝ áñáßáõÙÝ»ñÇ ¨ ·áñÍáÕáõÃÛáõÝÝ»ñÇ ¹»Ù µáÕáùÝ»ñÇ Ù³ëÇÝ | D13: =SUM(Ajapnyak!D13+Avan!D13+Arabkir!D13+Ararat!D13+Aragacotn!D13+Armavir!D13+Gexarquniq!D13+Erebuni!D13+Lori!D13+Kentron!D13+Kotayq!D13+Malatia!D13+Shengavit!D13+Shirak!D13+Syuniq!D13+Tavush!D13) -> 408 | E13: =SUM(Ajapnyak!E13+Avan!E13+Arabkir!E13+Ararat!E13+Aragacotn!E13+Armavir!E13+Gexarquniq!E13+Erebuni!E13+Lori!E13+Kentron!E13+Kotayq!E13+Malatia!E13+Shengavit!E13+Shirak!E13+Syuniq!E13+Tavush!E13) -> 270 | F13: =SUM(Ajapnyak!F13+Avan!F13+Arabkir!F13+Ararat!F13+Aragacotn!F13+Armavir!F13+Gexarquniq!F13+Erebuni!F13+Lori!F13+Kentron!F13+Kotayq!F13+Malatia!F13+Shengavit!F13+Shirak!F13+Syuniq!F13+Tavush!F13) -> 65 | G13: =SUM(Ajapnyak!G13+Avan!G13+Arabkir!G13+Ararat!G13+Aragacotn!G13+Armavir!G13+Gexarquniq!G13+Erebuni!G13+Lori!G13+Kentron!G13+Kotayq!G13+Malatia!G13+Shengavit!G13+Shirak!G13+Syuniq!G13+Tavush!G13) -> 28 | H13: =SUM(Ajapnyak!H13+Avan!H13+Arabkir!H13+Ararat!H13+Aragacotn!H13+Armavir!H13+Gexarquniq!H13+Erebuni!H13+Lori!H13+Kentron!H13+Kotayq!H13+Malatia!H13+Shengavit!H13+Shirak!H13+Syuniq!H13+Tavush!H13) -> 2 | I13: =SUM(Ajapnyak!I13+Avan!I13+Arabkir!I13+Ararat!I13+Aragacotn!I13+Armavir!I13+Gexarquniq!I13+Erebuni!I13+Lori!I13+Kentron!I13+Kotayq!I13+Malatia!I13+Shengavit!I13+Shirak!I13+Syuniq!I13+Tavush!I13) -> 0 | J13: =SUM(Ajapnyak!J13+Avan!J13+Arabkir!J13+Ararat!J13+Aragacotn!J13+Armavir!J13+Gexarquniq!J13+Erebuni!J13+Lori!J13+Kentron!J13+Kotayq!J13+Malatia!J13+Shengavit!J13+Shirak!J13+Syuniq!J13+Tavush!J13) -> 43 | K13: 198
A14: 2. ¸³ï³Ï³Ý ³Ïï»ñÇ Ñ»ï Ï³ï³ñÙ³Ý Ñ»ï Ï³åí³Í Ñ³ñó»ñÇ ÉáõÍÙ³Ý áÉáñï | D14: =SUM(Ajapnyak!D14+Avan!D14+Arabkir!D14+Ararat!D14+Aragacotn!D14+Armavir!D14+Gexarquniq!D14+Erebuni!D14+Lori!D14+Kentron!D14+Kotayq!D14+Malatia!D14+Shengavit!D14+Shirak!D14+Syuniq!D14+Tavush!D14) -> 0 | E14: =SUM(Ajapnyak!E14+Avan!E14+Arabkir!E14+Ararat!E14+Aragacotn!E14+Armavir!E14+Gexarquniq!E14+Erebuni!E14+Lori!E14+Kentron!E14+Kotayq!E14+Malatia!E14+Shengavit!E14+Shirak!E14+Syuniq!E14+Tavush!E14) -> 0 | F14: =SUM(Ajapnyak!F14+Avan!F14+Arabkir!F14+Ararat!F14+Aragacotn!F14+Armavir!F14+Gexarquniq!F14+Erebuni!F14+Lori!F14+Kentron!F14+Kotayq!F14+Malatia!F14+Shengavit!F14+Shirak!F14+Syuniq!F14+Tavush!F14) -> 0 | G14: =SUM(Ajapnyak!G14+Avan!G14+Arabkir!G14+Ararat!G14+Aragacotn!G14+Armavir!G14+Gexarquniq!G14+Erebuni!G14+Lori!G14+Kentron!G14+Kotayq!G14+Malatia!G14+Shengavit!G14+Shirak!G14+Syuniq!G14+Tavush!G14) -> 0 | H14: =SUM(Ajapnyak!H14+Avan!H14+Arabkir!H14+Ararat!H14+Aragacotn!H14+Armavir!H14+Gexarquniq!H14+Erebuni!H14+Lori!H14+Kentron!H14+Kotayq!H14+Malatia!H14+Shengavit!H14+Shirak!H14+Syuniq!H14+Tavush!H14) -> 0 | I14: =SUM(Ajapnyak!I14+Avan!I14+Arabkir!I14+Ararat!I14+Aragacotn!I14+Armavir!I14+Gexarquniq!I14+Erebuni!I14+Lori!I14+Kentron!I14+Kotayq!I14+Malatia!I14+Shengavit!I14+Shirak!I14+Syuniq!I14+Tavush!I14) -> 0 | J14: =SUM(Ajapnyak!J14+Avan!J14+Arabkir!J14+Ararat!J14+Aragacotn!J14+Armavir!J14+Gexarquniq!J14+Erebuni!J14+Lori!J14+Kentron!J14+Kotayq!J14+Malatia!J14+Shengavit!J14+Shirak!J14+Syuniq!J14+Tavush!J14) -> 0 | K14: =SUM(Ajapnyak!K14+Avan!K14+Arabkir!K14+Ararat!K14+Aragacotn!K14+Armavir!K14+Gexarquniq!K14+Erebuni!K14+Lori!K14+Kentron!K14+Kotayq!K14+Malatia!K14+Shengavit!K14+Shirak!K14+Syuniq!K14+Tavush!K14) -> 0
A15: ³(12) | B15: å³ïÅÇó å³ÛÙ³Ý³Ï³Ý í³Õ³Å³ÙÏ»ï ³½³ï»Éáõ Ù³ëÇÝ | D15: =SUM(Ajapnyak!D15+Avan!D15+Arabkir!D15+Ararat!D15+Aragacotn!D15+Armavir!D15+Gexarquniq!D15+Erebuni!D15+Lori!D15+Kentron!D15+Kotayq!D15+Malatia!D15+Shengavit!D15+Shirak!D15+Syuniq!D15+Tavush!D15) -> 350 | E15: =SUM(Ajapnyak!E15+Avan!E15+Arabkir!E15+Ararat!E15+Aragacotn!E15+Armavir!E15+Gexarquniq!E15+Erebuni!E15+Lori!E15+Kentron!E15+Kotayq!E15+Malatia!E15+Shengavit!E15+Shirak!E15+Syuniq!E15+Tavush!E15) -> 22 | F15: =SUM(Ajapnyak!F15+Avan!F15+Arabkir!F15+Ararat!F15+Aragacotn!F15+Armavir!F15+Gexarquniq!F15+Erebuni!F15+Lori!F15+Kentron!F15+Kotayq!F15+Malatia!F15+Shengavit!F15+Shirak!F15+Syuniq!F15+Tavush!F15) -> 317 | G15: =SUM(Ajapnyak!G15+Avan!G15+Arabkir!G15+Ararat!G15+Aragacotn!G15+Armavir!G15+Gexarquniq!G15+Erebuni!G15+Lori!G15+Kentron!G15+Kotayq!G15+Malatia!G15+Shengavit!G15+Shirak!G15+Syuniq!G15+Tavush!G15) -> 9 | H15: =SUM(Ajapnyak!H15+Avan!H15+Arabkir!H15+Ararat!H15+Aragacotn!H15+Armavir!H15+Gexarquniq!H15+Erebuni!H15+Lori!H15+Kentron!H15+Kotayq!H15+Malatia!H15+Shengavit!H15+Shirak!H15+Syuniq!H15+Tavush!H15) -> 0 | I15: =SUM(Ajapnyak!I15+Avan!I15+Arabkir!I15+Ararat!I15+Aragacotn!I15+Armavir!I15+Gexarquniq!I15+Erebuni!I15+Lori!I15+Kentron!I15+Kotayq!I15+Malatia!I15+Shengavit!I15+Shirak!I15+Syuniq!I15+Tavush!I15) -> 0 | J15: =SUM(Ajapnyak!J15+Avan!J15+Arabkir!J15+Ararat!J15+Aragacotn!J15+Armavir!J15+Gexarquniq!J15+Erebuni!J15+Lori!J15+Kentron!J15+Kotayq!J15+Malatia!J15+Shengavit!J15+Shirak!J15+Syuniq!J15+Tavush!J15) -> 2 | K15: =SUM(Ajapnyak!K15+Avan!K15+Arabkir!K15+Ararat!K15+Aragacotn!K15+Armavir!K15+Gexarquniq!K15+Erebuni!K15+Lori!K15+Kentron!K15+Kotayq!K15+Malatia!K15+Shengavit!K15+Shirak!K15+Syuniq!K15+Tavush!K15) -> 10
