Workbook

Sheet Ընդամենը
A1: 2016Ã. 1-ԻՆ ԿԻՍԱՄՅԱԿ | C1: Ð²ÞìºîìàôÂÚàôÜ | K1: Ð³í»Éí³Í Ð³Û³ëï³ÝÇ Ð³Ýñ³å»ïáõÃÛ³Ý ¸³ï³ñ³ÝÝ»ñÇ Ý³Ë³·³ÑÝ»ñÇ ËáñÑñ¹Ç 25.08.2016Ã. ÃÇí 44-È áñáßÙ³Ý
A2: ØÇÝã¹³ï³Ï³Ý í³ñáõÛÃÇ ÝÏ³ïÙ³Ùµ ¹³ï³Ï³Ý í»ñ³ÑëÏáÕáõÃÛ³ÝÁ, ¹³ï³Ï³Ý ³Ïï»ñÇ ¨ ¹³ï³Ï³Ý Ñ³ÝÓÝ³ñ³ñáõÃÛáõÝÝ»ñÇ Ï³ï³ñÙ³ÝÁ Ñ»ï Ï³åí³Í ÙÇçÝáñ¹áõÃÛáõÝÝ»ñÇ í»ñ³µ»ñÛ³É ¹³ï³Ï³Ý ·áñÍ»ñáí ՀՀ ÁÝ¹Ñ³Ýáõñ Çñ³í³ëáõÃÛ³Ý ³é³çÇÝ ³ïÛ³ÝÇ ¹³ï³ñ³ÝներÇ ·áñÍáõÝ»áõÃÛ³Ý í»ñ³µ»ñÛ³É
D3: Ñ³ßí»ïáõ Å³Ù³Ý³Ï³Ñ³ïí³ÍÇ ëÏ½µáõÙ Ý³Ëáñ¹ Ñ³ßí»ïáõ Å³Ù³Ý³Ï³Ñ³ïí³ÍÇó ÷áË³Ýóí³Í ·áñÍ»ñÇ ÁÝ¹Ñ³Ýáõñ ÃÇíÁ | E3: Ñ³ßí»ïáõ Å³Ù³Ý³Ï³Ñ³ïí³ÍáõÙ ëï³óí³Í ·áñÍ»ñÇ ÁÝ¹Ñ³Ýáõñ ÃÇíÁ | F3: Ñ³ßí»ïáõ Å³Ù³Ý³Ï³Ñ³ïí³ÍáõÙ ³í³ñïí³Í ·áñÍ»ñÇ ÁÝ¹Ñ³Ýáõñ ÃÇíÁ | K3: áõÕ³ñÏí»É ¿ Áëï ÁÝ¹¹³ïáõÃÛ³Ý | L3: Ñ³ßí»ïáõ Å³Ù³Ý³Ï³Ñ³ïí³ÍáõÙ ³Ý³í³ñï ·áñÍ»ñÇ ÁÝ¹Ñ³Ýáõñ ÃÇíÁ | M3: µáÕáù³ñÏí»É ¿ í»ñ³ùÝÝÇã ¹³ï³ñ³Ý
F4: Ù»ñÅí»É ¿ | G4: µ³í³ñ³ñí»É ¿ | H4: µ³í³ñ³ñí»É ¿ Ù³ëÝ³ÏÇ | I4: ÃáÕÝí»É ¿ ³é³Ýó ùÝÝáõÃÛ³Ý | J4: ÁÝ¹³Ù»ÝÁ
A5: 1. ØÇÝã¹³ï³Ï³Ý í³ñáõÛÃÇ ÝÏ³ïÙ³Ùµ ¹³ï³Ï³Ý í»ñ³ÑëÏáÕáõÃÛ³Ý áÉáñï | D5: 1 | E5: 2 | F5: 3 | G5: 4 | H5: 5 | I5: 6 | J5: 7 | K5: 8 | L5: 9 | M5: 10 | N5: 1+2=7+8+9 | P5: 7=3+4+5+6
A6: 1 | B6: Ï³É³ÝùÁ áñå»ë Ë³÷³ÝÙ³Ý ÙÇçáó ÏÇñ³é»Éáõ Ù³ëÇÝ ÙÇçÝáñ¹áõÃÛáõÝÝ»ñ | D6: =SUM(Shengavit:Ararat!D6) -> 0 | E6: =SUM(Shengavit:Ararat!E6) -> 1290 | F6: =SUM(Shengavit:Ararat!F6) -> 82 | G6: =SUM(Shengavit:Ararat!G6) -> 1197 | H6: =SUM(Shengavit:Ararat!H6) -> 4 | I6: =SUM(Shengavit:Ararat!I6) -> 7 | J6: =SUM(Shengavit:Ararat!J6) -> 1290 | K6: =SUM(Shengavit:Ararat!K6) -> 0 | ... M6: =SUM(Shengavit:Ararat!M6) -> 220 | N6: =D6+E6 -> 1290 | O6: =J6+K6+L6 -> 1290 | P6: =J6 -> 1290 | Q6: =F6+G6+H6+I6 -> 1290
A7: 2 | B7: Ï³É³ÝùÇ Å³ÙÏ»ïÁ »ñÏ³ñ³óÝ»Éáõ Ù³ëÇÝ ÙÇçÝáñ¹áõÃÛáõÝÝ»ñ | D7: =SUM(Shengavit:Ararat!D7) -> 25 | E7: =SUM(Shengavit:Ararat!E7) -> 829 | F7: =SUM(Shengavit:Ararat!F7) -> 19 | G7: =SUM(Shengavit:Ararat!G7) -> 765 | H7: =SUM(Shengavit:Ararat!H7) -> 36 | I7: =SUM(Shengavit:Ararat!I7) -> 4 | J7: =SUM(Shengavit:Ararat!J7) -> 824 | K7: =SUM(Shengavit:Ararat!K7) -> 0 | ... M7: =SUM(Shengavit:Ararat!M7) -> 251 | N7: =D7+E7 -> 854 | O7: =J7+K7+L7 -> 854 | P7: =J7 -> 824 | Q7: =F7+G7+H7+I7 -> 824
A8: 3 | B8: Ï³É³ÝùÇ í»ñ³Ñ³ëï³ïÙ³Ý Ù³ëÇÝ ÙÇçÝáñ¹áõÃÛáõÝÝ»ñ | D8: =SUM(Shengavit:Ararat!D8) -> 0 | E8: =SUM(Shengavit:Ararat!E8) -> 111 | F8: =SUM(Shengavit:Ararat!F8) -> 5 | G8: =SUM(Shengavit:Ararat!G8) -> 105 | H8: =SUM(Shengavit:Ararat!H8) -> 1 | I8: =SUM(Shengavit:Ararat!I8) -> 0 | J8: =SUM(Shengavit:Ararat!J8) -> 111 | K8: =SUM(Shengavit:Ararat!K8) -> 0 | ... M8: =SUM(Shengavit:Ararat!M8) -> 20 | N8: =D8+E8 -> 111 | O8: =J8+K8+L8 -> 111 | P8: =J8 -> 111 | Q8: =F8+G8+H8+I8 -> 111
A9: 4 | B9: ·ñ³íÁ áñå»ë Ï³É³Ý³íáñÙ³Ý ³ÛÉÁÝïñ³Ýù³ÛÇÝ Ë³÷³ÝÙ³Ý ÙÇçáó ÏÇñ³é»Éáõ Ù³ëÇÝ ÙÇçÝáñ¹áõÃÛáõÝÝ»ñ | D9: =SUM(Shengavit:Ararat!D9) -> 5 | E9: =SUM(Shengavit:Ararat!E9) -> 379 | F9: =SUM(Shengavit:Ararat!F9) -> 320 | G9: =SUM(Shengavit:Ararat!G9) -> 57 | H9: =SUM(Shengavit:Ararat!H9) -> 0 | I9: =SUM(Shengavit:Ararat!I9) -> 3 | J9: =SUM(Shengavit:Ararat!J9) -> 380 | K9: =SUM(Shengavit:Ararat!K9) -> 1 | ... M9: =SUM(Shengavit:Ararat!M9) -> 57 | N9: =D9+E9 -> 384 | O9: =J9+K9+L9 -> 384 | P9: =J9 -> 380 | Q9: =F9+G9+H9+I9 -> 380
A10: 5 | B10: Ëáõ½³ñÏáõÃÛ³Ý Ï³ï³ñÙ³Ý Ù³ëÇÝ ÙÇçÝáñ¹áõÃÛáõÝÝ»ñ | D10: =SUM(Shengavit:Ararat!D10) -> 0 | E10: =SUM(Shengavit:Ararat!E10) -> 2189 | F10: =SUM(Shengavit:Ararat!F10) -> 129 | G10: =SUM(Shengavit:Ararat!G10) -> 2030 | H10: =SUM(Shengavit:Ararat!H10) -> 25 | I10: =SUM(Shengavit:Ararat!I10) -> 5 | J10: =SUM(Shengavit:Ararat!J10) -> 2189 | K10: =SUM(Shengavit:Ararat!K10) -> 0 | ... M10: =SUM(Shengavit:Ararat!M10) -> 11 | N10: =D10+E10 -> 2189 | O10: =J10+K10+L10 -> 2189 | P10: =J10 -> 2189 | Q10: =F10+G10+H10+I10 -> 2189
A11: 6 | B11: µ³ÝÏ³ÛÇÝ, ³å³Ñáí³·ñ³Ï³Ý, Ýáï³ñ³Ï³Ý ·³ÕïÝÇù Ï³½ÙáÕ ï»Õ»ÏáõÃÛáõÝÝ»ñÇ ëï³óÙ³Ý Ñ³Ù³ñ Ëáõ½³ñÏáõÃÛ³Ý Ï³Ù ³é·ñ³íÙ³Ý Ï³ï³ñÙ³Ý Ù³ëÇÝ ÙÇçÝáñ¹áõÃÛáõÝÝ»ñ | D11: =SUM(Shengavit:Ararat!D11) -> 0 | E11: =SUM(Shengavit:Ararat!E11) -> 123 | F11: =SUM(Shengavit:Ararat!F11) -> 9 | G11: =SUM(Shengavit:Ararat!G11) -> 103 | H11: =SUM(Shengavit:Ararat!H11) -> 11 | I11: =SUM(Shengavit:Ararat!I11) -> 0 | J11: =SUM(Shengavit:Ararat!J11) -> 123 | K11: =SUM(Shengavit:Ararat!K11) -> 0 | ... M11: =SUM(Shengavit:Ararat!M11) -> 1 | N11: =D11+E11 -> 123 | O11: =J11+K11+L11 -> 123 | P11: =J11 -> 123 | Q11: =F11+G11+H11+I11 -> 123
A12: 7 | B12: Ý³Ù³Ï³·ñáõÃÛ³Ý, Ñ»é³·ñ³Ï³Ý, ÷áuï³ÛÇÝ Ñ³Õáñ¹áõÙÝ»ñÇ ÑëÏáÕáõÃÛ³Ý Ù³ëÇÝ ÙÇçÝáñ¹áõÃÛáõÝÝ»ñ | D12: =SUM(Shengavit:Ararat!D12) -> 0 | E12: =SUM(Shengavit:Ararat!E12) -> 64 | F12: =SUM(Shengavit:Ararat!F12) -> 1 | G12: =SUM(Shengavit:Ararat!G12) -> 61 | H12: =SUM(Shengavit:Ararat!H12) -> 1 | I12: =SUM(Shengavit:Ararat!I12) -> 1 | J12: =SUM(Shengavit:Ararat!J12) -> 64 | K12: =SUM(Shengavit:Ararat!K12) -> 0 | ... M12: =SUM(Shengavit:Ararat!M12) -> 0 | N12: =D12+E12 -> 64 | O12: =J12+K12+L12 -> 64 | P12: =J12 -> 64 | Q12: =F12+G12+H12+I12 -> 64
A13: 8 | B13: Ñ»é³Ëáu³ÛÇÝ Ï³Ù Ï³åÇ ³ÛÉ ÙÇçáóÝ»ñáí ï³ñíáÕ Ëáu³ÏóáõÃÛáõÝÝ»ñÇ ÉuÙ³Ý ¨ Ó³ÛÝ³·ñ³éÙ³Ý Ù³ëÇÝ ÙÇçÝáñ¹áõÃÛáõÝÝ»ñ | D13: =SUM(Shengavit:Ararat!D13) -> 0 | E13: =SUM(Shengavit:Ararat!E13) -> 63 | F13: =SUM(Shengavit:Ararat!F13) -> 0 | G13: =SUM(Shengavit:Ararat!G13) -> 62 | H13: =SUM(Shengavit:Ararat!H13) -> 0 | I13: =SUM(Shengavit:Ararat!I13) -> 1 | J13: =SUM(Shengavit:Ararat!J13) -> 63 | K13: =SUM(Shengavit:Ararat!K13) -> 0 | ... M13: =SUM(Shengavit:Ararat!M13) -> 1 | N13: =D13+E13 -> 63 | O13: =J13+K13+L13 -> 63 | P13: =J13 -> 63 | Q13: =F13+G13+H13+I13 -> 63
A14: 9 | B14: Ñ»é³ËáëÝ»ñÇ Ùáõïù³ÛÇÝ ¨ »Éù³ÛÇÝ í»ñÍ³ÝÙ³Ý ÃáõÛÉïíáõÃÛáõÝ ëï³Ý³Éáõ Ù³ëÇÝ ÙÇçÝáñ¹áõÃÛáõÝÝ»ñ | D14: =SUM(Shengavit:Ararat!D14) -> 0 | E14: =SUM(Shengavit:Ararat!E14) -> 2551 | F14: =SUM(Shengavit:Ararat!F14) -> 45 | G14: =SUM(Shengavit:Ararat!G14) -> 2459 | H14: =SUM(Shengavit:Ararat!H14) -> 44 | I14: =SUM(Shengavit:Ararat!I14) -> 2 | J14: =SUM(Shengavit:Ararat!J14) -> 2550 | K14: =SUM(Shengavit:Ararat!K14) -> 0 | ... M14: =SUM(Shengavit:Ararat!M14) -> 8 | N14: =D14+E14 -> 2551 | O14: =J14+K14+L14 -> 2551 | P14: =J14 -> 2550 | Q14: =F14+G14+H14+I14 -> 2550
A15: 10 | B15: Ñ»ï³ùÝÝáõÃÛ³Ý Ù³ñÙÝÇ ³ßË³ïáÕÇ, ùÝÝÇãÇ, ¹³ï³Ë³½Ç oå»ñ³ïÇí-Ñ»ï³Ëáõ½³Ï³Ý ·áñÍáÕáõÃÛáõÝÝ»ñ Çñ³Ï³Ý³óÝáÕ Ù³ñÙÇÝÝ»ñÇ ³ÝoñÇÝ³Ï³Ý ¨ ³ÝÑÇÙÝ áñáßáõÙÝ»ñÇ ¨ ·áñÍáÕáõÃÛáõÝÝ»ñÇ ¹»Ù µáÕáùÝ»ñ | D15: =SUM(Shengavit:Ararat!D15) -> 130 | E15: =SUM(Shengavit:Ararat!E15) -> 520 | F15: =SUM(Shengavit:Ararat!F15) -> 297 | G15: =SUM(Shengavit:Ararat!G15) -> 63 | H15: =SUM(Shengavit:Ararat!H15) -> 9 | I15: =SUM(Shengavit:Ararat!I15) -> 17 | J15: =SUM(Shengavit:Ararat!J15) -> 386 | K15: =SUM(Shengavit:Ararat!K15) -> 38 | ... M15: =SUM(Shengavit:Ararat!M15) -> 162 | N15: =D15+E15 -> 650 | O15: =J15+K15+L15 -> 646 | P15: =J15 -> 386 | Q15: =F15+G15+H15+I15 -> 386
A16: 2. ¸³ï³Ï³Ý ³Ïï»ñÇ ¨ ¹³ï³Ï³Ý Ñ³ÝÓÝ³ñ³ñáõÃÛáõÝÝ»ñÇ Ï³ï³ñÙ³Ý Ñ»ï Ï³åí³Í Ñ³ñó»ñÇ ÉáõÍÙ³Ý áÉáñï
A17: 1 | B17: å³ïÅÇó å³ÛÙ³Ý³Ï³Ý í³Õ³Å³ÙÏ»ï ³½³ï»Éáõ Ù³ëÇÝ ÙÇçÝáñ¹áõÃÛáõÝÝ»ñ | D17: =SUM(Shengavit:Ararat!D17) -> 1 | E17: =SUM(Shengavit:Ararat!E17) -> 89 | F17: =SUM(Shengavit:Ararat!F17) -> 23 | G17: =SUM(Shengavit:Ararat!G17) -> 61 | H17: =SUM(Shengavit:Ararat!H17) -> 0 | I17: =SUM(Shengavit:Ararat!I17) -> 1 | J17: =SUM(Shengavit:Ararat!J17) -> 85 | K17: =SUM(Shengavit:Ararat!K17) -> 0 | ... M17: =SUM(Shengavit:Ararat!M17) -> 37 | N17: =D17+E17 -> 90 | O17: =J17+K17+L17 -> 90 | P17: =J17 -> 85 | Q17: =F17+G17+H17+I17 -> 85
A18: 2 | B18: å³ïÇÅÁ ÷á÷áË»Éáõ, Ñ»ï³Ó·»Éáõ ¨ å³ïÅÇó ³½³ï»Éáõ Ù³uÇÝ ÙÇçÝáñ¹áõÃÛáõÝÝ»ñ | D18: =SUM(Shengavit:Ararat!D18) -> 29 | E18: =SUM(Shengavit:Ararat!E18) -> 128 | F18: =SUM(Shengavit:Ararat!F18) -> 29 | G18: =SUM(Shengavit:Ararat!G18) -> 75 | H18: =SUM(Shengavit:Ararat!H18) -> 10 | I18: =SUM(Shengavit:Ararat!I18) -> 5 | J18: =SUM(Shengavit:Ararat!J18) -> 119 | K18: =SUM(Shengavit:Ararat!K18) -> 5 | ... M18: =SUM(Shengavit:Ararat!M18) -> 14 | N18: =D18+E18 -> 157 | O18: =J18+K18+L18 -> 157 | P18: =J18 -> 119 | Q18: =F18+G18+H18+I18 -> 119
A19: 3 | B19: Ñ³ñÏ³¹Çñ µáõÅÙ³Ý ï»ë³ÏÇ ÷á÷áËáõÃÛ³Ý Ù³ëÇÝ ÙÇçÝáñ¹áõÃÛáõÝÝ»ñ | D19: =SUM(Shengavit:Ararat!D19) -> 5 | E19: =SUM(Shengavit:Ararat!E19) -> 109 | F19: =SUM(Shengavit:Ararat!F19) -> 17 | G19: =SUM(Shengavit:Ararat!G19) -> 89 | H19: =SUM(Shengavit:Ararat!H19) -> 0 | I19: =SUM(Shengavit:Ararat!I19) -> 0 | J19: =SUM(Shengavit:Ararat!J19) -> 106 | K19: =SUM(Shengavit:Ararat!K19) -> 0 | ... M19: =SUM(Shengavit:Ararat!M19) -> 5 | N19: =D19+E19 -> 114 | O19: =J19+K19+L19 -> 114 | P19: =J19 -> 106 | Q19: =F19+G19+H19+I19 -> 106
A20: 4 | B20: ³ÛÉ ÙÇçÝáñ¹áõÃÛáõÝÝ»ñ | D20: =SUM(Shengavit:Ararat!D20) -> 12 | E20: =SUM(Shengavit:Ararat!E20) -> 201 | F20: =SUM(Shengavit:Ararat!F20) -> 59 | G20: =SUM(Shengavit:Ararat!G20) -> 104 | H20: =SUM(Shengavit:Ararat!H20) -> 6 | I20: =SUM(Shengavit:Ararat!I20) -> 14 | J20: =SUM(Shengavit:Ararat!J20) -> 183 | K20: =SUM(Shengavit:Ararat!K20) -> 4 | ... M20: =SUM(Shengavit:Ararat!M20) -> 26 | N20: =D20+E20 -> 213 | O20: =J20+K20+L20 -> 212 | P20: =J20 -> 183 | Q20: =F20+G20+H20+I20 -> 183
A21: 5 | B21: ¹³ï³Ï³Ý Ñ³ÝÓÝ³ñ³ñáõÃÛáõÝÝ»ñ | D21: =SUM(Shengavit:Ararat!D21) -> 108 | E21: =SUM(Shengavit:Ararat!E21) -> 121 | F21: =SUM(Shengavit:Ararat!F21) -> 17 | G21: =SUM(Shengavit:Ararat!G21) -> 74 | H21: =SUM(Shengavit:Ararat!H21) -> 0 | I21: =SUM(Shengavit:Ararat!I21) -> 4 | J21: =SUM(Shengavit:Ararat!J21) -> 95 | K21: =SUM(Shengavit:Ararat!K21) -> 21 | ... M21: =SUM(Shengavit:Ararat!M21) -> 0 | N21: =D21+E21 -> 229 | O21: =J21+K21+L21 -> 222 | P21: =J21 -> 95 | Q21: =F21+G21+H21+I21 -> 95
A22: ÀÜ¸²ØºÜÀ | D22: =SUM(D6:D15,D17:D21) -> 315 | E22: =SUM(E6:E15,E17:E21) -> 8767 | F22: =SUM(F6:F15,F17:F21) -> 1052 | G22: =SUM(G6:G15,G17:G21) -> 7305 | H22: =SUM(H6:H15,H17:H21) -> 147 | I22: =SUM(I6:I15,I17:I21) -> 64 | J22: =SUM(J6:J15,J17:J21) -> 8568 | K22: =SUM(K6:K15,K17:K21) -> 69 | ... Q22: =SUM(Q6:Q15,Q17:Q21) -> 8568
C25: դատական հանձնարարությունների մեջ 2 գործ հետ է վերադարձվել, 5 գործով որոշում չի կայացվել,
C26: այլ միջնորդությունների մեջ 1 գործ միացվել է,
C27: հետաքննության մարմնի աշխատողի,,,, բողոքների մեջ 4 գործ միացվել է,

Sheet Shengavit
A1: 2016Ã. 1-ԻՆ ԿԻՍԱՄՅԱԿ | C1: Ð²ÞìºîìàôÂÚàôÜ | K1: Ð³í»Éí³Í Ð³Û³ëï³ÝÇ Ð³Ýñ³å»ïáõÃÛ³Ý ¸³ï³ñ³ÝÝ»ñÇ Ý³Ë³·³ÑÝ»ñÇ ËáñÑñ¹Ç 25.08.2016Ã. ÃÇí 44-È áñáßÙ³Ý
A2: ØÇÝã¹³ï³Ï³Ý í³ñáõÛÃÇ ÝÏ³ïÙ³Ùµ ¹³ï³Ï³Ý í»ñ³ÑëÏáÕáõÃÛ³ÝÁ, ¹³ï³Ï³Ý ³Ïï»ñÇ ¨ ¹³ï³Ï³Ý Ñ³ÝÓÝ³ñ³ñáõÃÛáõÝÝ»ñÇ Ï³ï³ñÙ³ÝÁ Ñ»ï Ï³åí³Í ÙÇçÝáñ¹áõÃÛáõÝÝ»ñÇ í»ñ³µ»ñÛ³É ¹³ï³Ï³Ý ·áñÍ»ñáí Երևան քաղաքի Շենգավիթ վարչական շրջանի ÁÝ¹Ñ³Ýáõñ Çñ³í³ëáõÃÛ³Ý ³é³çÇÝ ³ïÛ³ÝÇ ¹³ï³ñ³ÝÇ ·áñÍáõÝ»áõÃÛ³Ý í»ñ³µ»ñÛ³É
D3: Ñ³ßí»ïáõ Å³Ù³Ý³Ï³Ñ³ïí³ÍÇ ëÏ½µáõÙ Ý³Ëáñ¹ Ñ³ßí»ïáõ Å³Ù³Ý³Ï³Ñ³ïí³ÍÇó ÷áË³Ýóí³Í ·áñÍ»ñÇ ÁÝ¹Ñ³Ýáõñ ÃÇíÁ | E3: Ñ³ßí»ïáõ Å³Ù³Ý³Ï³Ñ³ïí³ÍáõÙ ëï³óí³Í ·áñÍ»ñÇ ÁÝ¹Ñ³Ýáõñ ÃÇíÁ | F3: Ñ³ßí»ïáõ Å³Ù³Ý³Ï³Ñ³ïí³ÍáõÙ ³í³ñïí³Í ·áñÍ»ñÇ ÁÝ¹Ñ³Ýáõñ ÃÇíÁ | K3: áõÕ³ñÏí»É ¿ Áëï ÁÝ¹¹³ïáõÃÛ³Ý | L3: Ñ³ßí»ïáõ Å³Ù³Ý³Ï³Ñ³ïí³ÍáõÙ ³Ý³í³ñï ·áñÍ»ñÇ ÁÝ¹Ñ³Ýáõñ ÃÇíÁ | M3: µáÕáù³ñÏí»É ¿ í»ñ³ùÝÝÇã ¹³ï³ñ³Ý
F4: Ù»ñÅí»É ¿ | G4: µ³í³ñ³ñí»É ¿ | H4: µ³í³ñ³ñí»É ¿ Ù³ëÝ³ÏÇ | I4: ÃáÕÝí»É ¿ ³é³Ýó ùÝÝáõÃÛ³Ý | J4: ÁÝ¹³Ù»ÝÁ
A5: 1. ØÇÝã¹³ï³Ï³Ý í³ñáõÛÃÇ ÝÏ³ïÙ³Ùµ ¹³ï³Ï³Ý í»ñ³ÑëÏáÕáõÃÛ³Ý áÉáñï | D5: 1 | E5: 2 | F5: 3 | G5: 4 | H5: 5 | I5: 6 | J5: 7 | K5: 8 | L5: 9 | M5: 10 | N5: 1+2=7+8+9 | P5: 7=3+4+5+6
A6: 1 | B6: Ï³É³ÝùÁ áñå»ë Ë³÷³ÝÙ³Ý ÙÇçáó ÏÇñ³é»Éáõ Ù³ëÇÝ ÙÇçÝáñ¹áõÃÛáõÝÝ»ñ | E6: 17 | F6: 2 | G6: 15 | J6: 17 | M6: 5 | N6: =D6+E6 -> 17 | O6: =J6+K6+L6 -> 17 | P6: =J6 -> 17 | Q6: =F6+G6+H6+I6 -> 17
A7: 2 | B7: Ï³É³ÝùÇ Å³ÙÏ»ïÁ »ñÏ³ñ³óÝ»Éáõ Ù³ëÇÝ ÙÇçÝáñ¹áõÃÛáõÝÝ»ñ | E7: 11 | F7: 1 | G7: 6 | H7: 3 | I7: 1 | J7: 11 | M7: 1 | N7: =D7+E7 -> 11 | O7: =J7+K7+L7 -> 11 | P7: =J7 -> 11 | Q7: =F7+G7+H7+I7 -> 11
A8: 3 | B8: Ï³É³ÝùÇ í»ñ³Ñ³ëï³ïÙ³Ý Ù³ëÇÝ ÙÇçÝáñ¹áõÃÛáõÝÝ»ñ | N8: =D8+E8 -> 0 | O8: =J8+K8+L8 -> 0 | P8: =J8 -> 0 | Q8: =F8+G8+H8+I8 -> 0
A9: 4 | B9: ·ñ³íÁ áñå»ë Ï³É³Ý³íáñÙ³Ý ³ÛÉÁÝïñ³Ýù³ÛÇÝ Ë³÷³ÝÙ³Ý ÙÇçáó ÏÇñ³é»Éáõ Ù³ëÇÝ ÙÇçÝáñ¹áõÃÛáõÝÝ»ñ | E9: 9 | F9: 8 | G9: 1 | J9: 9 | M9: 4 | N9: =D9+E9 -> 9 | O9: =J9+K9+L9 -> 9 | P9: =J9 -> 9 | Q9: =F9+G9+H9+I9 -> 9
A10: 5 | B10: Ëáõ½³ñÏáõÃÛ³Ý Ï³ï³ñÙ³Ý Ù³ëÇÝ ÙÇçÝáñ¹áõÃÛáõÝÝ»ñ | E10: 123 | F10: 16 | G10: 106 | H10: 1 | J10: 123 | M10: 6 | N10: =D10+E10 -> 123 | O10: =J10+K10+L10 -> 123 | P10: =J10 -> 123 | Q10: =F10+G10+H10+I10 -> 123
A11: 6 | B11: µ³ÝÏ³ÛÇÝ, ³å³Ñáí³·ñ³Ï³Ý, Ýáï³ñ³Ï³Ý ·³ÕïÝÇù Ï³½ÙáÕ ï»Õ»ÏáõÃÛáõÝÝ»ñÇ ëï³óÙ³Ý Ñ³Ù³ñ Ëáõ½³ñÏáõÃÛ³Ý Ï³Ù ³é·ñ³íÙ³Ý Ï³ï³ñÙ³Ý Ù³ëÇÝ ÙÇçÝáñ¹áõÃÛáõÝÝ»ñ | E11: 12 | F11: 1 | G11: 10 | H11: 1 | J11: 12 | N11: =D11+E11 -> 12 | O11: =J11+K11+L11 -> 12 | P11: =J11 -> 12 | Q11: =F11+G11+H11+I11 -> 12
A12: 7 | B12: Ý³Ù³Ï³·ñáõÃÛ³Ý, Ñ»é³·ñ³Ï³Ý, ÷áuï³ÛÇÝ Ñ³Õáñ¹áõÙÝ»ñÇ ÑëÏáÕáõÃÛ³Ý Ù³ëÇÝ ÙÇçÝáñ¹áõÃÛáõÝÝ»ñ | N12: =D12+E12 -> 0 | O12: =J12+K12+L12 -> 0 | P12: =J12 -> 0 | Q12: =F12+G12+H12+I12 -> 0
A13: 8 | B13: Ñ»é³Ëáu³ÛÇÝ Ï³Ù Ï³åÇ ³ÛÉ ÙÇçáóÝ»ñáí ï³ñíáÕ Ëáu³ÏóáõÃÛáõÝÝ»ñÇ ÉuÙ³Ý ¨ Ó³ÛÝ³·ñ³éÙ³Ý Ù³ëÇÝ ÙÇçÝáñ¹áõÃÛáõÝÝ»ñ | N13: =D13+E13 -> 0 | O13: =J13+K13+L13 -> 0 | P13: =J13 -> 0 | Q13: =F13+G13+H13+I13 -> 0
A14: 9 | B14: Ñ»é³ËáëÝ»ñÇ Ùáõïù³ÛÇÝ ¨ »Éù³ÛÇÝ í»ñÍ³ÝÙ³Ý ÃáõÛÉïíáõÃÛáõÝ ëï³Ý³Éáõ Ù³ëÇÝ ÙÇçÝáñ¹áõÃÛáõÝÝ»ñ | E14: 143 | F14: 3 | G14: 139 | H14: 1 | J14: 143 | M14: 1 | N14: =D14+E14 -> 143 | O14: =J14+K14+L14 -> 143 | P14: =J14 -> 143 | Q14: =F14+G14+H14+I14 -> 143
A15: 10 | B15: Ñ»ï³ùÝÝáõÃÛ³Ý Ù³ñÙÝÇ ³ßË³ïáÕÇ, ùÝÝÇãÇ, ¹³ï³Ë³½Ç oå»ñ³ïÇí-Ñ»ï³Ëáõ½³Ï³Ý ·áñÍáÕáõÃÛáõÝÝ»ñ Çñ³Ï³Ý³óÝáÕ Ù³ñÙÇÝÝ»ñÇ ³ÝoñÇÝ³Ï³Ý ¨ ³ÝÑÇÙÝ áñáßáõÙÝ»ñÇ ¨ ·áñÍáÕáõÃÛáõÝÝ»ñÇ ¹»Ù µáÕáùÝ»ñ | D15: 7 | E15: 36 | F15: 15 | G15: 2 | J15: 17 | L15: 26 | M15: 12 | N15: =D15+E15 -> 43 | O15: =J15+K15+L15 -> 43 | P15: =J15 -> 17 | Q15: =F15+G15+H15+I15 -> 17
A16: 2. ¸³ï³Ï³Ý ³Ïï»ñÇ ¨ ¹³ï³Ï³Ý Ñ³ÝÓÝ³ñ³ñáõÃÛáõÝÝ»ñÇ Ï³ï³ñÙ³Ý Ñ»ï Ï³åí³Í Ñ³ñó»ñÇ ÉáõÍÙ³Ý áÉáñï
A17: 1 | B17: å³ïÅÇó å³ÛÙ³Ý³Ï³Ý í³Õ³Å³ÙÏ»ï ³½³ï»Éáõ Ù³ëÇÝ ÙÇçÝáñ¹áõÃÛáõÝÝ»ñ | N17: =D17+E17 -> 0 | O17: =J17+K17+L17 -> 0 | P17: =J17 -> 0 | Q17: =F17+G17+H17+I17 -> 0
A18: 2 | B18: å³ïÇÅÁ ÷á÷áË»Éáõ, Ñ»ï³Ó·»Éáõ ¨ å³ïÅÇó ³½³ï»Éáõ Ù³uÇÝ ÙÇçÝáñ¹áõÃÛáõÝÝ»ñ | D18: 1 | E18: 9 | F18: 2 | G18: 2 | H18: 5 | J18: 9 | K18: 1 | M18: 1 | N18: =D18+E18 -> 10 | O18: =J18+K18+L18 -> 10 | P18: =J18 -> 9 | Q18: =F18+G18+H18+I18 -> 9
A19: 3 | B19: Ñ³ñÏ³¹Çñ µáõÅÙ³Ý ï»ë³ÏÇ ÷á÷áËáõÃÛ³Ý Ù³ëÇÝ ÙÇçÝáñ¹áõÃÛáõÝÝ»ñ | N19: =D19+E19 -> 0 | O19: =J19+K19+L19 -> 0 | P19: =J19 -> 0 | Q19: =F19+G19+H19+I19 -> 0
A20: 4 | B20: ³ÛÉ ÙÇçÝáñ¹áõÃÛáõÝÝ»ñ | E20: 9 | G20: 8 | J20: 8 | L20: 1 | N20: =D20+E20 -> 9 | O20: =J20+K20+L20 -> 9 | P20: =J20 -> 8 | Q20: =F20+G20+H20+I20 -> 8
A21: 5 | B21: ¹³ï³Ï³Ý Ñ³ÝÓÝ³ñ³ñáõÃÛáõÝÝ»ñ | D21: 12 | E21: 6 | G21: 8 | J21: 8 | L21: 10 | N21: =D21+E21 -> 18 | O21: =J21+K21+L21 -> 18 | P21: =J21 -> 8 | Q21: =F21+G21+H21+I21 -> 8
A22: ÀÜ¸²ØºÜÀ | D22: =SUM(D6:D15,D17:D21) -> 20 | E22: =SUM(E6:E15,E17:E21) -> 375 | F22: =SUM(F6:F15,F17:F21) -> 48 | G22: =SUM(G6:G15,G17:G21) -> 297 | H22: =SUM(H6:H15,H17:H21) -> 11 | I22: =SUM(I6:I15,I17:I21) -> 1 | J22: =SUM(J6:J15,J17:J21) -> 357 | K22: =SUM(K6:K15,K17:K21) -> 1 | ... Q22: =SUM(Q6:Q15,Q17:Q21) -> 357

Sheet Kentron
A1: 2016Ã. 1-ԻՆ ԿԻՍԱՄՅԱԿ | C1: Ð²ÞìºîìàôÂÚàôÜ | K1: Ð³í»Éí³Í Ð³Û³ëï³ÝÇ Ð³Ýñ³å»ïáõÃÛ³Ý ¸³ï³ñ³ÝÝ»ñÇ Ý³Ë³·³ÑÝ»ñÇ ËáñÑñ¹Ç 25.08.2016Ã. ÃÇí 44-È áñáßÙ³Ý
A2: ØÇÝã¹³ï³Ï³Ý í³ñáõÛÃÇ ÝÏ³ïÙ³Ùµ ¹³ï³Ï³Ý í»ñ³ÑëÏáÕáõÃÛ³ÝÁ, ¹³ï³Ï³Ý ³Ïï»ñÇ ¨ ¹³ï³Ï³Ý Ñ³ÝÓÝ³ñ³ñáõÃÛáõÝÝ»ñÇ Ï³ï³ñÙ³ÝÁ Ñ»ï Ï³åí³Í ÙÇçÝáñ¹áõÃÛáõÝÝ»ñÇ í»ñ³µ»ñÛ³É ¹³ï³Ï³Ý ·áñÍ»ñáí ºñ¨³Ý ù³Õ³ùÇ Î»ÝïñáÝ ¨ Üáñù-Ø³ñ³ß í³ñã³Ï³Ý ßñç³ÝÝ»ñÇ ÁÝ¹Ñ³Ýáõñ Çñ³í³ëáõÃÛ³Ý ³é³çÇÝ ³ïÛ³ÝÇ ¹³ï³ñ³ÝÇ ·áñÍáõÝ»áõÃÛ³Ý í»ñ³µ»ñÛ³É
D3: Ñ³ßí»ïáõ Å³Ù³Ý³Ï³Ñ³ïí³ÍÇ ëÏ½µáõÙ Ý³Ëáñ¹ Ñ³ßí»ïáõ Å³Ù³Ý³Ï³Ñ³ïí³ÍÇó ÷áË³Ýóí³Í ·áñÍ»ñÇ ÁÝ¹Ñ³Ýáõñ ÃÇíÁ | E3: Ñ³ßí»ïáõ Å³Ù³Ý³Ï³Ñ³ïí³ÍáõÙ ëï³óí³Í ·áñÍ»ñÇ ÁÝ¹Ñ³Ýáõñ ÃÇíÁ | F3: Ñ³ßí»ïáõ Å³Ù³Ý³Ï³Ñ³ïí³ÍáõÙ ³í³ñïí³Í ·áñÍ»ñÇ ÁÝ¹Ñ³Ýáõñ ÃÇíÁ | K3: áõÕ³ñÏí»É ¿ Áëï ÁÝ¹¹³ïáõÃÛ³Ý | L3: Ñ³ßí»ïáõ Å³Ù³Ý³Ï³Ñ³ïí³ÍáõÙ ³Ý³í³ñï ·áñÍ»ñÇ ÁÝ¹Ñ³Ýáõñ ÃÇíÁ | M3: µáÕáù³ñÏí»É ¿ í»ñ³ùÝÝÇã ¹³ï³ñ³Ý
F4: Ù»ñÅí»É ¿ | G4: µ³í³ñ³ñí»É ¿ | H4: µ³í³ñ³ñí»É ¿ Ù³ëÝ³ÏÇ | I4: ÃáÕÝí»É ¿ ³é³Ýó ùÝÝáõÃÛ³Ý | J4: ÁÝ¹³Ù»ÝÁ
A5: 1. ØÇÝã¹³ï³Ï³Ý í³ñáõÛÃÇ ÝÏ³ïÙ³Ùµ ¹³ï³Ï³Ý í»ñ³ÑëÏáÕáõÃÛ³Ý áÉáñï | D5: 1 | E5: 2 | F5: 3 | G5: 4 | H5: 5 | I5: 6 | J5: 7 | K5: 8 | L5: 9 | M5: 10 | N5: 1+2=7+8+9 | P5: 7=3+4+5+6
A6: 1 | B6: Ï³É³ÝùÁ áñå»ë Ë³÷³ÝÙ³Ý ÙÇçáó ÏÇñ³é»Éáõ Ù³ëÇÝ ÙÇçÝáñ¹áõÃÛáõÝÝ»ñ | D6: 0 | E6: 132 | F6: 8 | G6: 119 | H6: 0 | I6: 5 | J6: 132 | K6: 0 | L6: 0 | M6: 52 | N6: =D6+E6 -> 132 | O6: =J6+K6+L6 -> 132 | P6: =J6 -> 132 | Q6: =F6+G6+H6+I6 -> 132
A7: 2 | B7: Ï³É³ÝùÇ Å³ÙÏ»ïÁ »ñÏ³ñ³óÝ»Éáõ Ù³ëÇÝ ÙÇçÝáñ¹áõÃÛáõÝÝ»ñ | D7: 9 | E7: 254 | F7: 5 | G7: 248 | H7: 3 | I7: 1 | J7: 257 | K7: 0 | L7: 6 | M7: 96 | N7: =D7+E7 -> 263 | O7: =J7+K7+L7 -> 263 | P7: =J7 -> 257 | Q7: =F7+G7+H7+I7 -> 257
A8: 3 | B8: Ï³É³ÝùÇ í»ñ³Ñ³ëï³ïÙ³Ý Ù³ëÇÝ ÙÇçÝáñ¹áõÃÛáõÝÝ»ñ | D8: 0 | E8: 27 | F8: 1 | G8: 26 | H8: 0 | I8: 0 | J8: 27 | K8: 0 | L8: 0 | M8: 4 | N8: =D8+E8 -> 27 | O8: =J8+K8+L8 -> 27 | P8: =J8 -> 27 | Q8: =F8+G8+H8+I8 -> 27
A9: 4 | B9: ·ñ³íÁ áñå»ë Ï³É³Ý³íáñÙ³Ý ³ÛÉÁÝïñ³Ýù³ÛÇÝ Ë³÷³ÝÙ³Ý ÙÇçáó ÏÇñ³é»Éáõ Ù³ëÇÝ ÙÇçÝáñ¹áõÃÛáõÝÝ»ñ | D9: 1 | E9: 20 | F9: 12 | G9: 6 | H9: 0 | I9: 2 | J9: 20 | K9: 1 | L9: 0 | M9: 8 | N9: =D9+E9 -> 21 | O9: =J9+K9+L9 -> 21 | P9: =J9 -> 20 | Q9: =F9+G9+H9+I9 -> 20
A10: 5 | B10: Ëáõ½³ñÏáõÃÛ³Ý Ï³ï³ñÙ³Ý Ù³ëÇÝ ÙÇçÝáñ¹áõÃÛáõÝÝ»ñ | D10: 0 | E10: 311 | F10: 13 | G10: 295 | H10: 0 | I10: 3 | J10: 311 | K10: 0 | L10: 0 | M10: 0 | N10: =D10+E10 -> 311 | O10: =J10+K10+L10 -> 311 | P10: =J10 -> 311 | Q10: =F10+G10+H10+I10 -> 311
A11: 6 | B11: µ³ÝÏ³ÛÇÝ, ³å³Ñáí³·ñ³Ï³Ý, Ýáï³ñ³Ï³Ý ·³ÕïÝÇù Ï³½ÙáÕ ï»Õ»ÏáõÃÛáõÝÝ»ñÇ ëï³óÙ³Ý Ñ³Ù³ñ Ëáõ½³ñÏáõÃÛ³Ý Ï³Ù ³é·ñ³íÙ³Ý Ï³ï³ñÙ³Ý Ù³ëÇÝ ÙÇçÝáñ¹áõÃÛáõÝÝ»ñ | D11: 0 | E11: 38 | F11: 0 | G11: 38 | H11: 0 | I11: 0 | J11: 38 | K11: 0 | L11: 0 | M11: 0 | N11: =D11+E11 -> 38 | O11: =J11+K11+L11 -> 38 | P11: =J11 -> 38 | Q11: =F11+G11+H11+I11 -> 38
A12: 7 | B12: Ý³Ù³Ï³·ñáõÃÛ³Ý, Ñ»é³·ñ³Ï³Ý, ÷áuï³ÛÇÝ Ñ³Õáñ¹áõÙÝ»ñÇ ÑëÏáÕáõÃÛ³Ý Ù³ëÇÝ ÙÇçÝáñ¹áõÃÛáõÝÝ»ñ | D12: 0 | E12: 7 | F12: 0 | G12: 7 | H12: 0 | I12: 0 | J12: 7 | K12: 0 | L12: 0 | M12: 0 | N12: =D12+E12 -> 7 | O12: =J12+K12+L12 -> 7 | P12: =J12 -> 7 | Q12: =F12+G12+H12+I12 -> 7
A13: 8 | B13: Ñ»é³Ëáu³ÛÇÝ Ï³Ù Ï³åÇ ³ÛÉ ÙÇçáóÝ»ñáí ï³ñíáÕ Ëáu³ÏóáõÃÛáõÝÝ»ñÇ ÉuÙ³Ý ¨ Ó³ÛÝ³·ñ³éÙ³Ý Ù³ëÇÝ ÙÇçÝáñ¹áõÃÛáõÝÝ»ñ | D13: 0 | E13: 8 | F13: 0 | G13: 8 | H13: 0 | I13: 0 | J13: 8 | K13: 0 | L13: 0 | M13: 1 | N13: =D13+E13 -> 8 | O13: =J13+K13+L13 -> 8 | P13: =J13 -> 8 | Q13: =F13+G13+H13+I13 -> 8
A14: 9 | B14: Ñ»é³ËáëÝ»ñÇ Ùáõïù³ÛÇÝ ¨ »Éù³ÛÇÝ í»ñÍ³ÝÙ³Ý ÃáõÛÉïíáõÃÛáõÝ ëï³Ý³Éáõ Ù³ëÇÝ ÙÇçÝáñ¹áõÃÛáõÝÝ»ñ | D14: 0 | E14: 462 | F14: 0 | G14: 461 | H14: 0 | I14: 1 | J14: 462 | K14: 0 | L14: 0 | M14: 0 | N14: =D14+E14 -> 462 | O14: =J14+K14+L14 -> 462 | P14: =J14 -> 462 | Q14: =F14+G14+H14+I14 -> 462
A15: 10 | B15: Ñ»ï³ùÝÝáõÃÛ³Ý Ù³ñÙÝÇ ³ßË³ïáÕÇ, ùÝÝÇãÇ, ¹³ï³Ë³½Ç oå»ñ³ïÇí-Ñ»ï³Ëáõ½³Ï³Ý ·áñÍáÕáõÃÛáõÝÝ»ñ Çñ³Ï³Ý³óÝáÕ Ù³ñÙÇÝÝ»ñÇ ³ÝoñÇÝ³Ï³Ý ¨ ³ÝÑÇÙÝ áñáßáõÙÝ»ñÇ ¨ ·áñÍáÕáõÃÛáõÝÝ»ñÇ ¹»Ù µáÕáùÝ»ñ | D15: 36 | E15: 134 | F15: 64 | G15: 19 | H15: 4 | I15: 6 | J15: 93 | K15: 33 | L15: 44 | M15: 61 | N15: =D15+E15 -> 170 | O15: =J15+K15+L15 -> 170 | P15: =J15 -> 93 | Q15: =F15+G15+H15+I15 -> 93
A16: 2. ¸³ï³Ï³Ý ³Ïï»ñÇ ¨ ¹³ï³Ï³Ý Ñ³ÝÓÝ³ñ³ñáõÃÛáõÝÝ»ñÇ Ï³ï³ñÙ³Ý Ñ»ï Ï³åí³Í Ñ³ñó»ñÇ ÉáõÍÙ³Ý áÉáñï
A17: 1 | B17: å³ïÅÇó å³ÛÙ³Ý³Ï³Ý í³Õ³Å³ÙÏ»ï ³½³ï»Éáõ Ù³ëÇÝ ÙÇçÝáñ¹áõÃÛáõÝÝ»ñ | D17: 0 | E17: 4 | F17: 0 | G17: 4 | H17: 0 | I17: 0 | J17: 4 | K17: 0 | L17: 0 | M17: 5 | N17: =D17+E17 -> 4 | O17: =J17+K17+L17 -> 4 | P17: =J17 -> 4 | Q17: =F17+G17+H17+I17 -> 4
A18: 2 | B18: å³ïÇÅÁ ÷á÷áË»Éáõ, Ñ»ï³Ó·»Éáõ ¨ å³ïÅÇó ³½³ï»Éáõ Ù³uÇÝ ÙÇçÝáñ¹áõÃÛáõÝÝ»ñ | D18: 1 | E18: 8 | F18: 2 | G18: 3 | H18: 0 | I18: 1 | J18: 6 | K18: 1 | L18: 2 | M18: 2 | N18: =D18+E18 -> 9 | O18: =J18+K18+L18 -> 9 | P18: =J18 -> 6 | Q18: =F18+G18+H18+I18 -> 6
A19: 3 | B19: Ñ³ñÏ³¹Çñ µáõÅÙ³Ý ï»ë³ÏÇ ÷á÷áËáõÃÛ³Ý Ù³ëÇÝ ÙÇçÝáñ¹áõÃÛáõÝÝ»ñ | D19: 1 | E19: 28 | F19: 0 | G19: 28 | H19: 0 | I19: 0 | J19: 28 | K19: 0 | L19: 1 | M19: 1 | N19: =D19+E19 -> 29 | O19: =J19+K19+L19 -> 29 | P19: =J19 -> 28 | Q19: =F19+G19+H19+I19 -> 28
A20: 4 | B20: ³ÛÉ ÙÇçÝáñ¹áõÃÛáõÝÝ»ñ | D20: 1 | E20: 35 | F20: 9 | G20: 16 | H20: 3 | I20: 3 | J20: 31 | K20: 1 | L20: 3 | M20: 4 | N20: =D20+E20 -> 36 | O20: =J20+K20+L20 -> 35 | P20: =J20 -> 31 | Q20: =F20+G20+H20+I20 -> 31
A21: 5 | B21: ¹³ï³Ï³Ý Ñ³ÝÓÝ³ñ³ñáõÃÛáõÝÝ»ñ | D21: 10 | E21: 15 | F21: 1 | G21: 9 | H21: 0 | I21: 0 | J21: 10 | K21: 1 | L21: 14 | M21: 0 | N21: =D21+E21 -> 25 | O21: =J21+K21+L21 -> 25 | P21: =J21 -> 10 | Q21: =F21+G21+H21+I21 -> 10
A22: ÀÜ¸²ØºÜÀ | D22: =SUM(D6:D15,D17:D21) -> 59 | E22: =SUM(E6:E15,E17:E21) -> 1483 | F22: =SUM(F6:F15,F17:F21) -> 115 | G22: =SUM(G6:G15,G17:G21) -> 1287 | H22: =SUM(H6:H15,H17:H21) -> 10 | I22: =SUM(I6:I15,I17:I21) -> 22 | J22: =SUM(J6:J15,J17:J21) -> 1434 | K22: =SUM(K6:K15,K17:K21) -> 37 | ... Q22: =SUM(Q6:Q15,Q17:Q21) -> 1434
C25: այլ միջնորդությունների մեջ 1 գործ միացվել է

Sheet Ajapnyak
A1: 2016Ã. 1-ԻՆ ԿԻՍԱՄՅԱԿ | C1: Ð²ÞìºîìàôÂÚàôÜ | K1: Ð³í»Éí³Í Ð³Û³ëï³ÝÇ Ð³Ýñ³å»ïáõÃÛ³Ý ¸³ï³ñ³ÝÝ»ñÇ Ý³Ë³·³ÑÝ»ñÇ ËáñÑñ¹Ç 25.08.2016Ã. ÃÇí 44-È áñáßÙ³Ý
A2: ØÇÝã¹³ï³Ï³Ý í³ñáõÛÃÇ ÝÏ³ïÙ³Ùµ ¹³ï³Ï³Ý í»ñ³ÑëÏáÕáõÃÛ³ÝÁ, ¹³ï³Ï³Ý ³Ïï»ñÇ ¨ ¹³ï³Ï³Ý Ñ³ÝÓÝ³ñ³ñáõÃÛáõÝÝ»ñÇ Ï³ï³ñÙ³ÝÁ Ñ»ï Ï³åí³Í ÙÇçÝáñ¹áõÃÛáõÝÝ»ñÇ í»ñ³µ»ñÛ³É ¹³ï³Ï³Ý ·áñÍ»ñáí ºñ¨³Ý ù³Õ³ùÇ ²ç³÷ÝÛ³Ï ¨ ¸³íÃ³ß»Ý í³ñã³Ï³Ý ßñç³ÝÝ»ñÇ ÁÝ¹Ñ³Ýáõñ Çñ³í³ëáõÃÛ³Ý ³é³çÇÝ ³ïÛ³ÝÇ ¹³ï³ñ³ÝÇ ·áñÍáõÝ»áõÃÛ³Ý í»ñ³µ»ñÛ³É
D3: Ñ³ßí»ïáõ Å³Ù³Ý³Ï³Ñ³ïí³ÍÇ ëÏ½µáõÙ Ý³Ëáñ¹ Ñ³ßí»ïáõ Å³Ù³Ý³Ï³Ñ³ïí³ÍÇó ÷áË³Ýóí³Í ·áñÍ»ñÇ ÁÝ¹Ñ³Ýáõñ ÃÇíÁ | E3: Ñ³ßí»ïáõ Å³Ù³Ý³Ï³Ñ³ïí³ÍáõÙ ëï³óí³Í ·áñÍ»ñÇ ÁÝ¹Ñ³Ýáõñ ÃÇíÁ | F3: Ñ³ßí»ïáõ Å³Ù³Ý³Ï³Ñ³ïí³ÍáõÙ ³í³ñïí³Í ·áñÍ»ñÇ ÁÝ¹Ñ³Ýáõñ ÃÇíÁ | K3: áõÕ³ñÏí»É ¿ Áëï ÁÝ¹¹³ïáõÃÛ³Ý | L3: Ñ³ßí»ïáõ Å³Ù³Ý³Ï³Ñ³ïí³ÍáõÙ ³Ý³í³ñï ·áñÍ»ñÇ ÁÝ¹Ñ³Ýáõñ ÃÇíÁ | M3: µáÕáù³ñÏí»É ¿ í»ñ³ùÝÝÇã ¹³ï³ñ³Ý
F4: Ù»ñÅí»É ¿ | G4: µ³í³ñ³ñí»É ¿ | H4: µ³í³ñ³ñí»É ¿ Ù³ëÝ³ÏÇ | I4: ÃáÕÝí»É ¿ ³é³Ýó ùÝÝáõÃÛ³Ý | J4: ÁÝ¹³Ù»ÝÁ
A5: 1. ØÇÝã¹³ï³Ï³Ý í³ñáõÛÃÇ ÝÏ³ïÙ³Ùµ ¹³ï³Ï³Ý í»ñ³ÑëÏáÕáõÃÛ³Ý áÉáñï | D5: 1 | E5: 2 | F5: 3 | G5: 4 | H5: 5 | I5: 6 | J5: 7 | K5: 8 | L5: 9 | M5: 10 | N5: 1+2=7+8+9 | P5: 7=3+4+5+6
A6: 1 | B6: Ï³É³ÝùÁ áñå»ë Ë³÷³ÝÙ³Ý ÙÇçáó ÏÇñ³é»Éáõ Ù³ëÇÝ ÙÇçÝáñ¹áõÃÛáõÝÝ»ñ | E6: 32 | F6: 2 | G6: 30 | J6: 32 | L6: 0 | M6: 9 | N6: =D6+E6 -> 32 | O6: =J6+K6+L6 -> 32 | P6: =J6 -> 32 | Q6: =F6+G6+H6+I6 -> 32
A7: 2 | B7: Ï³É³ÝùÇ Å³ÙÏ»ïÁ »ñÏ³ñ³óÝ»Éáõ Ù³ëÇÝ ÙÇçÝáñ¹áõÃÛáõÝÝ»ñ | D7: 4 | E7: 28 | G7: 27 | H7: 5 | J7: 32 | L7: 0 | M7: 14 | N7: =D7+E7 -> 32 | O7: =J7+K7+L7 -> 32 | P7: =J7 -> 32 | Q7: =F7+G7+H7+I7 -> 32
A8: 3 | B8: Ï³É³ÝùÇ í»ñ³Ñ³ëï³ïÙ³Ý Ù³ëÇÝ ÙÇçÝáñ¹áõÃÛáõÝÝ»ñ | E8: 2 | G8: 2 | J8: 2 | L8: 0 | N8: =D8+E8 -> 2 | O8: =J8+K8+L8 -> 2 | P8: =J8 -> 2 | Q8: =F8+G8+H8+I8 -> 2
A9: 4 | B9: ·ñ³íÁ áñå»ë Ï³É³Ý³íáñÙ³Ý ³ÛÉÁÝïñ³Ýù³ÛÇÝ Ë³÷³ÝÙ³Ý ÙÇçáó ÏÇñ³é»Éáõ Ù³ëÇÝ ÙÇçÝáñ¹áõÃÛáõÝÝ»ñ | D9: 1 | E9: 31 | F9: 28 | G9: 4 | J9: 32 | L9: 0 | M9: 5 | N9: =D9+E9 -> 32 | O9: =J9+K9+L9 -> 32 | P9: =J9 -> 32 | Q9: =F9+G9+H9+I9 -> 32
A10: 5 | B10: Ëáõ½³ñÏáõÃÛ³Ý Ï³ï³ñÙ³Ý Ù³ëÇÝ ÙÇçÝáñ¹áõÃÛáõÝÝ»ñ | E10: 118 | F10: 9 | G10: 108 | I10: 1 | J10: 118 | L10: 0 | N10: =D10+E10 -> 118 | O10: =J10+K10+L10 -> 118 | P10: =J10 -> 118 | Q10: =F10+G10+H10+I10 -> 118
A11: 6 | B11: µ³ÝÏ³ÛÇÝ, ³å³Ñáí³·ñ³Ï³Ý, Ýáï³ñ³Ï³Ý ·³ÕïÝÇù Ï³½ÙáÕ ï»Õ»ÏáõÃÛáõÝÝ»ñÇ ëï³óÙ³Ý Ñ³Ù³ñ Ëáõ½³ñÏáõÃÛ³Ý Ï³Ù ³é·ñ³íÙ³Ý Ï³ï³ñÙ³Ý Ù³ëÇÝ ÙÇçÝáñ¹áõÃÛáõÝÝ»ñ | E11: 2 | G11: 1 | H11: 1 | J11: 2 | L11: 0 | N11: =D11+E11 -> 2 | O11: =J11+K11+L11 -> 2 | P11: =J11 -> 2 | Q11: =F11+G11+H11+I11 -> 2
A12: 7 | B12: Ý³Ù³Ï³·ñáõÃÛ³Ý, Ñ»é³·ñ³Ï³Ý, ÷áuï³ÛÇÝ Ñ³Õáñ¹áõÙÝ»ñÇ ÑëÏáÕáõÃÛ³Ý Ù³ëÇÝ ÙÇçÝáñ¹áõÃÛáõÝÝ»ñ | N12: =D12+E12 -> 0 | O12: =J12+K12+L12 -> 0 | P12: =J12 -> 0 | Q12: =F12+G12+H12+I12 -> 0
A13: 8 | B13: Ñ»é³Ëáu³ÛÇÝ Ï³Ù Ï³åÇ ³ÛÉ ÙÇçáóÝ»ñáí ï³ñíáÕ Ëáu³ÏóáõÃÛáõÝÝ»ñÇ ÉuÙ³Ý ¨ Ó³ÛÝ³·ñ³éÙ³Ý Ù³ëÇÝ ÙÇçÝáñ¹áõÃÛáõÝÝ»ñ | E13: 1 | G13: 1 | J13: 1 | N13: =D13+E13 -> 1 | O13: =J13+K13+L13 -> 1 | P13: =J13 -> 1 | Q13: =F13+G13+H13+I13 -> 1
A14: 9 | B14: Ñ»é³ËáëÝ»ñÇ Ùáõïù³ÛÇÝ ¨ »Éù³ÛÇÝ í»ñÍ³ÝÙ³Ý ÃáõÛÉïíáõÃÛáõÝ ëï³Ý³Éáõ Ù³ëÇÝ ÙÇçÝáñ¹áõÃÛáõÝÝ»ñ | E14: 104 | G14: 102 | H14: 2 | J14: 104 | N14: =D14+E14 -> 104 | O14: =J14+K14+L14 -> 104 | P14: =J14 -> 104 | Q14: =F14+G14+H14+I14 -> 104
A15: 10 | B15: Ñ»ï³ùÝÝáõÃÛ³Ý Ù³ñÙÝÇ ³ßË³ïáÕÇ, ùÝÝÇãÇ, ¹³ï³Ë³½Ç oå»ñ³ïÇí-Ñ»ï³Ëáõ½³Ï³Ý ·áñÍáÕáõÃÛáõÝÝ»ñ Çñ³Ï³Ý³óÝáÕ Ù³ñÙÇÝÝ»ñÇ ³ÝoñÇÝ³Ï³Ý ¨ ³ÝÑÇÙÝ áñáßáõÙÝ»ñÇ ¨ ·áñÍáÕáõÃÛáõÝÝ»ñÇ ¹»Ù µáÕáùÝ»ñ | D15: 6 | E15: 20 | F15: 16 | I15: 1 | J15: 17 | L15: 9 | M15: 12 | N15: =D15+E15 -> 26 | O15: =J15+K15+L15 -> 26 | P15: =J15 -> 17 | Q15: =F15+G15+H15+I15 -> 17
A16: 2. ¸³ï³Ï³Ý ³Ïï»ñÇ ¨ ¹³ï³Ï³Ý Ñ³ÝÓÝ³ñ³ñáõÃÛáõÝÝ»ñÇ Ï³ï³ñÙ³Ý Ñ»ï Ï³åí³Í Ñ³ñó»ñÇ ÉáõÍÙ³Ý áÉáñï
A17: 1 | B17: å³ïÅÇó å³ÛÙ³Ý³Ï³Ý í³Õ³Å³ÙÏ»ï ³½³ï»Éáõ Ù³ëÇÝ ÙÇçÝáñ¹áõÃÛáõÝÝ»ñ | N17: =D17+E17 -> 0 | O17: =J17+K17+L17 -> 0 | P17: =J17 -> 0 | Q17: =F17+G17+H17+I17 -> 0
A18: 2 | B18: å³ïÇÅÁ ÷á÷áË»Éáõ, Ñ»ï³Ó·»Éáõ ¨ å³ïÅÇó ³½³ï»Éáõ Ù³uÇÝ ÙÇçÝáñ¹áõÃÛáõÝÝ»ñ | E18: 5 | F18: 1 | G18: 1 | H18: 1 | J18: 3 | K18: 1 | L18: 1 | N18: =D18+E18 -> 5 | O18: =J18+K18+L18 -> 5 | P18: =J18 -> 3 | Q18: =F18+G18+H18+I18 -> 3
A19: 3 | B19: Ñ³ñÏ³¹Çñ µáõÅÙ³Ý ï»ë³ÏÇ ÷á÷áËáõÃÛ³Ý Ù³ëÇÝ ÙÇçÝáñ¹áõÃÛáõÝÝ»ñ | N19: =D19+E19 -> 0 | O19: =J19+K19+L19 -> 0 | P19: =J19 -> 0 | Q19: =F19+G19+H19+I19 -> 0
A20: 4 | B20: ³ÛÉ ÙÇçÝáñ¹áõÃÛáõÝÝ»ñ | E20: 4 | G20: 2 | I20: 2 | J20: 4 | L20: 0 | N20: =D20+E20 -> 4 | O20: =J20+K20+L20 -> 4 | P20: =J20 -> 4 | Q20: =F20+G20+H20+I20 -> 4
A21: 5 | B21: ¹³ï³Ï³Ý Ñ³ÝÓÝ³ñ³ñáõÃÛáõÝÝ»ñ | D21: 11 | E21: 3 | G21: 1 | I21: 1 | J21: 2 | L21: 12 | N21: =D21+E21 -> 14 | O21: =J21+K21+L21 -> 14 | P21: =J21 -> 2 | Q21: =F21+G21+H21+I21 -> 2
A22: ÀÜ¸²ØºÜÀ | D22: =SUM(D6:D15,D17:D21) -> 22 | E22: =SUM(E6:E15,E17:E21) -> 350 | F22: =SUM(F6:F15,F17:F21) -> 56 | G22: =SUM(G6:G15,G17:G21) -> 279 | H22: =SUM(H6:H15,H17:H21) -> 9 | I22: =SUM(I6:I15,I17:I21) -> 5 | J22: =SUM(J6:J15,J17:J21) -> 349 | K22: =SUM(K6:K15,K17:K21) -> 1 | ... Q22: =SUM(Q6:Q15,Q17:Q21) -> 349

Sheet Erebuni
A1: 2016Ã. 1-ԻՆ ԿԻՍԱՄՅԱԿ | C1: Ð²ÞìºîìàôÂÚàôÜ | K1: Ð³í»Éí³Í Ð³Û³ëï³ÝÇ Ð³Ýñ³å»ïáõÃÛ³Ý ¸³ï³ñ³ÝÝ»ñÇ Ý³Ë³·³ÑÝ»ñÇ ËáñÑñ¹Ç 25.08.2016Ã. ÃÇí 44-È áñáßÙ³Ý
A2: ØÇÝã¹³ï³Ï³Ý í³ñáõÛÃÇ ÝÏ³ïÙ³Ùµ ¹³ï³Ï³Ý í»ñ³ÑëÏáÕáõÃÛ³ÝÁ, ¹³ï³Ï³Ý ³Ïï»ñÇ ¨ ¹³ï³Ï³Ý Ñ³ÝÓÝ³ñ³ñáõÃÛáõÝÝ»ñÇ Ï³ï³ñÙ³ÝÁ Ñ»ï Ï³åí³Í ÙÇçÝáñ¹áõÃÛáõÝÝ»ñÇ í»ñ³µ»ñÛ³É ¹³ï³Ï³Ý ·áñÍ»ñáí ºñ¨³Ý ù³Õ³ùÇ ¾ñ»µáõÝÇ ¨ Üáõµ³ñ³ß»Ý í³ñã³Ï³Ý ßñç³ÝÝ»ñÇ ÁÝ¹Ñ³Ýáõñ Çñ³í³ëáõÃÛ³Ý ³é³çÇÝ ³ïÛ³ÝÇ ¹³ï³ñ³ÝÇ ·áñÍáõÝ»áõÃÛ³Ý í»ñ³µ»ñÛ³É
D3: Ñ³ßí»ïáõ Å³Ù³Ý³Ï³Ñ³ïí³ÍÇ ëÏ½µáõÙ Ý³Ëáñ¹ Ñ³ßí»ïáõ Å³Ù³Ý³Ï³Ñ³ïí³ÍÇó ÷áË³Ýóí³Í ·áñÍ»ñÇ ÁÝ¹Ñ³Ýáõñ ÃÇíÁ | E3: Ñ³ßí»ïáõ Å³Ù³Ý³Ï³Ñ³ïí³ÍáõÙ ëï³óí³Í ·áñÍ»ñÇ ÁÝ¹Ñ³Ýáõñ ÃÇíÁ | F3: Ñ³ßí»ïáõ Å³Ù³Ý³Ï³Ñ³ïí³ÍáõÙ ³í³ñïí³Í ·áñÍ»ñÇ ÁÝ¹Ñ³Ýáõñ ÃÇíÁ | K3: áõÕ³ñÏí»É ¿ Áëï ÁÝ¹¹³ïáõÃÛ³Ý | L3: Ñ³ßí»ïáõ Å³Ù³Ý³Ï³Ñ³ïí³ÍáõÙ ³Ý³í³ñï ·áñÍ»ñÇ ÁÝ¹Ñ³Ýáõñ ÃÇíÁ | M3: µáÕáù³ñÏí»É ¿ í»ñ³ùÝÝÇã ¹³ï³ñ³Ý
F4: Ù»ñÅí»É ¿ | G4: µ³í³ñ³ñí»É ¿ | H4: µ³í³ñ³ñí»É ¿ Ù³ëÝ³ÏÇ | I4: ÃáÕÝí»É ¿ ³é³Ýó ùÝÝáõÃÛ³Ý | J4: ÁÝ¹³Ù»ÝÁ
A5: 1. ØÇÝã¹³ï³Ï³Ý í³ñáõÛÃÇ ÝÏ³ïÙ³Ùµ ¹³ï³Ï³Ý í»ñ³ÑëÏáÕáõÃÛ³Ý áÉáñï | D5: 1 | E5: 2 | F5: 3 | G5: 4 | H5: 5 | I5: 6 | J5: 7 | K5: 8 | L5: 9 | M5: 10 | N5: 1+2=7+8+9 | P5: 7=3+4+5+6
A6: 1 | B6: Ï³É³ÝùÁ áñå»ë Ë³÷³ÝÙ³Ý ÙÇçáó ÏÇñ³é»Éáõ Ù³ëÇÝ ÙÇçÝáñ¹áõÃÛáõÝÝ»ñ | E6: 23 | F6: 2 | G6: 21 | J6: 23 | M6: 5 | N6: =D6+E6 -> 23 | O6: =J6+K6+L6 -> 23 | P6: =J6 -> 23 | Q6: =F6+G6+H6+I6 -> 23
A7: 2 | B7: Ï³É³ÝùÇ Å³ÙÏ»ïÁ »ñÏ³ñ³óÝ»Éáõ Ù³ëÇÝ ÙÇçÝáñ¹áõÃÛáõÝÝ»ñ | E7: 18 | F7: 1 | G7: 15 | H7: 2 | J7: 18 | M7: 5 | N7: =D7+E7 -> 18 | O7: =J7+K7+L7 -> 18 | P7: =J7 -> 18 | Q7: =F7+G7+H7+I7 -> 18
A8: 3 | B8: Ï³É³ÝùÇ í»ñ³Ñ³ëï³ïÙ³Ý Ù³ëÇÝ ÙÇçÝáñ¹áõÃÛáõÝÝ»ñ | E8: 5 | G8: 5 | J8: 5 | M8: 1 | N8: =D8+E8 -> 5 | O8: =J8+K8+L8 -> 5 | P8: =J8 -> 5 | Q8: =F8+G8+H8+I8 -> 5
A9: 4 | B9: ·ñ³íÁ áñå»ë Ï³É³Ý³íáñÙ³Ý ³ÛÉÁÝïñ³Ýù³ÛÇÝ Ë³÷³ÝÙ³Ý ÙÇçáó ÏÇñ³é»Éáõ Ù³ëÇÝ ÙÇçÝáñ¹áõÃÛáõÝÝ»ñ | E9: 18 | F9: 17 | G9: 1 | J9: 18 | M9: 1 | N9: =D9+E9 -> 18 | O9: =J9+K9+L9 -> 18 | P9: =J9 -> 18 | Q9: =F9+G9+H9+I9 -> 18
A10: 5 | B10: Ëáõ½³ñÏáõÃÛ³Ý Ï³ï³ñÙ³Ý Ù³ëÇÝ ÙÇçÝáñ¹áõÃÛáõÝÝ»ñ | E10: 95 | F10: 9 | G10: 86 | J10: 95 | M10: 1 | N10: =D10+E10 -> 95 | O10: =J10+K10+L10 -> 95 | P10: =J10 -> 95 | Q10: =F10+G10+H10+I10 -> 95
A11: 6 | B11: µ³ÝÏ³ÛÇÝ, ³å³Ñáí³·ñ³Ï³Ý, Ýáï³ñ³Ï³Ý ·³ÕïÝÇù Ï³½ÙáÕ ï»Õ»ÏáõÃÛáõÝÝ»ñÇ ëï³óÙ³Ý Ñ³Ù³ñ Ëáõ½³ñÏáõÃÛ³Ý Ï³Ù ³é·ñ³íÙ³Ý Ï³ï³ñÙ³Ý Ù³ëÇÝ ÙÇçÝáñ¹áõÃÛáõÝÝ»ñ | E11: 3 | G11: 3 | J11: 3 | N11: =D11+E11 -> 3 | O11: =J11+K11+L11 -> 3 | P11: =J11 -> 3 | Q11: =F11+G11+H11+I11 -> 3
A12: 7 | B12: Ý³Ù³Ï³·ñáõÃÛ³Ý, Ñ»é³·ñ³Ï³Ý, ÷áuï³ÛÇÝ Ñ³Õáñ¹áõÙÝ»ñÇ ÑëÏáÕáõÃÛ³Ý Ù³ëÇÝ ÙÇçÝáñ¹áõÃÛáõÝÝ»ñ | E12: 7 | G12: 6 | H12: 1 | J12: 7 | N12: =D12+E12 -> 7 | O12: =J12+K12+L12 -> 7 | P12: =J12 -> 7 | Q12: =F12+G12+H12+I12 -> 7
A13: 8 | B13: Ñ»é³Ëáu³ÛÇÝ Ï³Ù Ï³åÇ ³ÛÉ ÙÇçáóÝ»ñáí ï³ñíáÕ Ëáu³ÏóáõÃÛáõÝÝ»ñÇ ÉuÙ³Ý ¨ Ó³ÛÝ³·ñ³éÙ³Ý Ù³ëÇÝ ÙÇçÝáñ¹áõÃÛáõÝÝ»ñ | N13: =D13+E13 -> 0 | O13: =J13+K13+L13 -> 0 | P13: =J13 -> 0 | Q13: =F13+G13+H13+I13 -> 0
A14: 9 | B14: Ñ»é³ËáëÝ»ñÇ Ùáõïù³ÛÇÝ ¨ »Éù³ÛÇÝ í»ñÍ³ÝÙ³Ý ÃáõÛÉïíáõÃÛáõÝ ëï³Ý³Éáõ Ù³ëÇÝ ÙÇçÝáñ¹áõÃÛáõÝÝ»ñ | E14: 119 | G14: 118 | J14: 118 | L14: 1 | N14: =D14+E14 -> 119 | O14: =J14+K14+L14 -> 119 | P14: =J14 -> 118 | Q14: =F14+G14+H14+I14 -> 118
A15: 10 | B15: Ñ»ï³ùÝÝáõÃÛ³Ý Ù³ñÙÝÇ ³ßË³ïáÕÇ, ùÝÝÇãÇ, ¹³ï³Ë³½Ç oå»ñ³ïÇí-Ñ»ï³Ëáõ½³Ï³Ý ·áñÍáÕáõÃÛáõÝÝ»ñ Çñ³Ï³Ý³óÝáÕ Ù³ñÙÇÝÝ»ñÇ ³ÝoñÇÝ³Ï³Ý ¨ ³ÝÑÇÙÝ áñáßáõÙÝ»ñÇ ¨ ·áñÍáÕáõÃÛáõÝÝ»ñÇ ¹»Ù µáÕáùÝ»ñ | D15: 10 | E15: 16 | F15: 12 | G15: 4 | I15: 1 | J15: 17 | K15: 1 | L15: 8 | M15: 9 | N15: =D15+E15 -> 26 | O15: =J15+K15+L15 -> 26 | P15: =J15 -> 17 | Q15: =F15+G15+H15+I15 -> 17
A16: 2. ¸³ï³Ï³Ý ³Ïï»ñÇ ¨ ¹³ï³Ï³Ý Ñ³ÝÓÝ³ñ³ñáõÃÛáõÝÝ»ñÇ Ï³ï³ñÙ³Ý Ñ»ï Ï³åí³Í Ñ³ñó»ñÇ ÉáõÍÙ³Ý áÉáñï
A17: 1 | B17: å³ïÅÇó å³ÛÙ³Ý³Ï³Ý í³Õ³Å³ÙÏ»ï ³½³ï»Éáõ Ù³ëÇÝ ÙÇçÝáñ¹áõÃÛáõÝÝ»ñ | D17: 1 | E17: 6 | F17: 1 | G17: 4 | J17: 5 | L17: 2 | N17: =D17+E17 -> 7 | O17: =J17+K17+L17 -> 7 | P17: =J17 -> 5 | Q17: =F17+G17+H17+I17 -> 5
A18: 2 | B18: å³ïÇÅÁ ÷á÷áË»Éáõ, Ñ»ï³Ó·»Éáõ ¨ å³ïÅÇó ³½³ï»Éáõ Ù³uÇÝ ÙÇçÝáñ¹áõÃÛáõÝÝ»ñ | D18: 2 | E18: 28 | F18: 3 | G18: 22 | J18: 25 | L18: 5 | M18: 3 | N18: =D18+E18 -> 30 | O18: =J18+K18+L18 -> 30 | P18: =J18 -> 25 | Q18: =F18+G18+H18+I18 -> 25
A19: 3 | B19: Ñ³ñÏ³¹Çñ µáõÅÙ³Ý ï»ë³ÏÇ ÷á÷áËáõÃÛ³Ý Ù³ëÇÝ ÙÇçÝáñ¹áõÃÛáõÝÝ»ñ | D19: 1 | E19: 25 | F19: 9 | G19: 14 | J19: 23 | L19: 3 | M19: 1 | N19: =D19+E19 -> 26 | O19: =J19+K19+L19 -> 26 | P19: =J19 -> 23 | Q19: =F19+G19+H19+I19 -> 23
A20: 4 | B20: ³ÛÉ ÙÇçÝáñ¹áõÃÛáõÝÝ»ñ | D20: 1 | E20: 30 | F20: 10 | G20: 11 | I20: 1 | J20: 22 | L20: 9 | M20: 4 | N20: =D20+E20 -> 31 | O20: =J20+K20+L20 -> 31 | P20: =J20 -> 22 | Q20: =F20+G20+H20+I20 -> 22
A21: 5 | B21: ¹³ï³Ï³Ý Ñ³ÝÓÝ³ñ³ñáõÃÛáõÝÝ»ñ | D21: 4 | E21: 13 | F21: 1 | G21: 8 | J21: 9 | L21: 8 | N21: =D21+E21 -> 17 | O21: =J21+K21+L21 -> 17 | P21: =J21 -> 9 | Q21: =F21+G21+H21+I21 -> 9
A22: ÀÜ¸²ØºÜÀ | D22: =SUM(D6:D15,D17:D21) -> 19 | E22: =SUM(E6:E15,E17:E21) -> 406 | F22: =SUM(F6:F15,F17:F21) -> 65 | G22: =SUM(G6:G15,G17:G21) -> 318 | H22: =SUM(H6:H15,H17:H21) -> 3 | I22: =SUM(I6:I15,I17:I21) -> 2 | J22: =SUM(J6:J15,J17:J21) -> 388 | K22: =SUM(K6:K15,K17:K21) -> 1 | ... Q22: =SUM(Q6:Q15,Q17:Q21) -> 388

Sheet Arabkir
A1: 2016Ã. 1-ԻՆ ԿԻՍԱՄՅԱԿ | C1: Ð²ÞìºîìàôÂÚàôÜ | K1: Ð³í»Éí³Í Ð³Û³ëï³ÝÇ Ð³Ýñ³å»ïáõÃÛ³Ý ¸³ï³ñ³ÝÝ»ñÇ Ý³Ë³·³ÑÝ»ñÇ ËáñÑñ¹Ç 25.08.2016Ã. ÃÇí 44-È áñáßÙ³Ý
A2: ØÇÝã¹³ï³Ï³Ý í³ñáõÛÃÇ ÝÏ³ïÙ³Ùµ ¹³ï³Ï³Ý í»ñ³ÑëÏáÕáõÃÛ³ÝÁ, ¹³ï³Ï³Ý ³Ïï»ñÇ ¨ ¹³ï³Ï³Ý Ñ³ÝÓÝ³ñ³ñáõÃÛáõÝÝ»ñÇ Ï³ï³ñÙ³ÝÁ Ñ»ï Ï³åí³Í ÙÇçÝáñ¹áõÃÛáõÝÝ»ñÇ í»ñ³µ»ñÛ³É ¹³ï³Ï³Ý ·áñÍ»ñáí Երևան քաղաքի Արաբկիր և Քանաքեռ-Զեյթուն վարչական ßñç³ÝÝ»ñÇ ÁÝ¹Ñ³Ýáõñ Çñ³í³ëáõÃÛ³Ý ³é³çÇÝ ³ïÛ³ÝÇ ¹³ï³ñ³ÝÇ ·áñÍáõÝ»áõÃÛ³Ý í»ñ³µ»ñÛ³É
D3: Ñ³ßí»ïáõ Å³Ù³Ý³Ï³Ñ³ïí³ÍÇ ëÏ½µáõÙ Ý³Ëáñ¹ Ñ³ßí»ïáõ Å³Ù³Ý³Ï³Ñ³ïí³ÍÇó ÷áË³Ýóí³Í ·áñÍ»ñÇ ÁÝ¹Ñ³Ýáõñ ÃÇíÁ | E3: Ñ³ßí»ïáõ Å³Ù³Ý³Ï³Ñ³ïí³ÍáõÙ ëï³óí³Í ·áñÍ»ñÇ ÁÝ¹Ñ³Ýáõñ ÃÇíÁ | F3: Ñ³ßí»ïáõ Å³Ù³Ý³Ï³Ñ³ïí³ÍáõÙ ³í³ñïí³Í ·áñÍ»ñÇ ÁÝ¹Ñ³Ýáõñ ÃÇíÁ | K3: áõÕ³ñÏí»É ¿ Áëï ÁÝ¹¹³ïáõÃÛ³Ý | L3: Ñ³ßí»ïáõ Å³Ù³Ý³Ï³Ñ³ïí³ÍáõÙ ³Ý³í³ñï ·áñÍ»ñÇ ÁÝ¹Ñ³Ýáõñ ÃÇíÁ | M3: µáÕáù³ñÏí»É ¿ í»ñ³ùÝÝÇã ¹³ï³ñ³Ý
F4: Ù»ñÅí»É ¿ | G4: µ³í³ñ³ñí»É ¿ | H4: µ³í³ñ³ñí»É ¿ Ù³ëÝ³ÏÇ | I4: ÃáÕÝí»É ¿ ³é³Ýó ùÝÝáõÃÛ³Ý | J4: ÁÝ¹³Ù»ÝÁ
A5: 1. ØÇÝã¹³ï³Ï³Ý í³ñáõÛÃÇ ÝÏ³ïÙ³Ùµ ¹³ï³Ï³Ý í»ñ³ÑëÏáÕáõÃÛ³Ý áÉáñï | D5: 1 | E5: 2 | F5: 3 | G5: 4 | H5: 5 | I5: 6 | J5: 7 | K5: 8 | L5: 9 | M5: 10 | N5: 1+2=7+8+9 | P5: 7=3+4+5+6
A6: 1 | B6: Ï³É³ÝùÁ áñå»ë Ë³÷³ÝÙ³Ý ÙÇçáó ÏÇñ³é»Éáõ Ù³ëÇÝ ÙÇçÝáñ¹áõÃÛáõÝÝ»ñ | E6: 504 | F6: 12 | G6: 489 | H6: 3 | J6: 504 | M6: 58 | N6: =D6+E6 -> 504 | O6: =J6+K6+L6 -> 504 | P6: =J6 -> 504 | Q6: =F6+G6+H6+I6 -> 504
A7: 2 | B7: Ï³É³ÝùÇ Å³ÙÏ»ïÁ »ñÏ³ñ³óÝ»Éáõ Ù³ëÇÝ ÙÇçÝáñ¹áõÃÛáõÝÝ»ñ | E7: 141 | G7: 118 | H7: 1 | I7: 1 | J7: 120 | L7: 21 | M7: 32 | N7: =D7+E7 -> 141 | O7: =J7+K7+L7 -> 141 | P7: =J7 -> 120 | Q7: =F7+G7+H7+I7 -> 120
A8: 3 | B8: Ï³É³ÝùÇ í»ñ³Ñ³ëï³ïÙ³Ý Ù³ëÇÝ ÙÇçÝáñ¹áõÃÛáõÝÝ»ñ | E8: 15 | G8: 15 | J8: 15 | M8: 3 | N8: =D8+E8 -> 15 | O8: =J8+K8+L8 -> 15 | P8: =J8 -> 15 | Q8: =F8+G8+H8+I8 -> 15
A9: 4 | B9: ·ñ³íÁ áñå»ë Ï³É³Ý³íáñÙ³Ý ³ÛÉÁÝïñ³Ýù³ÛÇÝ Ë³÷³ÝÙ³Ý ÙÇçáó ÏÇñ³é»Éáõ Ù³ëÇÝ ÙÇçÝáñ¹áõÃÛáõÝÝ»ñ | D9: 1 | E9: 6 | F9: 4 | G9: 1 | I9: 1 | J9: 6 | L9: 1 | N9: =D9+E9 -> 7 | O9: =J9+K9+L9 -> 7 | P9: =J9 -> 6 | Q9: =F9+G9+H9+I9 -> 6
A10: 5 | B10: Ëáõ½³ñÏáõÃÛ³Ý Ï³ï³ñÙ³Ý Ù³ëÇÝ ÙÇçÝáñ¹áõÃÛáõÝÝ»ñ | E10: 294 | F10: 14 | G10: 262 | H10: 17 | I10: 1 | J10: 294 | N10: =D10+E10 -> 294 | O10: =J10+K10+L10 -> 294 | P10: =J10 -> 294 | Q10: =F10+G10+H10+I10 -> 294
A11: 6 | B11: µ³ÝÏ³ÛÇÝ, ³å³Ñáí³·ñ³Ï³Ý, Ýáï³ñ³Ï³Ý ·³ÕïÝÇù Ï³½ÙáÕ ï»Õ»ÏáõÃÛáõÝÝ»ñÇ ëï³óÙ³Ý Ñ³Ù³ñ Ëáõ½³ñÏáõÃÛ³Ý Ï³Ù ³é·ñ³íÙ³Ý Ï³ï³ñÙ³Ý Ù³ëÇÝ ÙÇçÝáñ¹áõÃÛáõÝÝ»ñ | E11: 26 | F11: 1 | G11: 18 | H11: 7 | J11: 26 | N11: =D11+E11 -> 26 | O11: =J11+K11+L11 -> 26 | P11: =J11 -> 26 | Q11: =F11+G11+H11+I11 -> 26
A12: 7 | B12: Ý³Ù³Ï³·ñáõÃÛ³Ý, Ñ»é³·ñ³Ï³Ý, ÷áuï³ÛÇÝ Ñ³Õáñ¹áõÙÝ»ñÇ ÑëÏáÕáõÃÛ³Ý Ù³ëÇÝ ÙÇçÝáñ¹áõÃÛáõÝÝ»ñ | E12: 2 | G12: 2 | J12: 2 | N12: =D12+E12 -> 2 | O12: =J12+K12+L12 -> 2 | P12: =J12 -> 2 | Q12: =F12+G12+H12+I12 -> 2
A13: 8 | B13: Ñ»é³Ëáu³ÛÇÝ Ï³Ù Ï³åÇ ³ÛÉ ÙÇçáóÝ»ñáí ï³ñíáÕ Ëáu³ÏóáõÃÛáõÝÝ»ñÇ ÉuÙ³Ý ¨ Ó³ÛÝ³·ñ³éÙ³Ý Ù³ëÇÝ ÙÇçÝáñ¹áõÃÛáõÝÝ»ñ | E13: 36 | G13: 35 | I13: 1 | J13: 36 | N13: =D13+E13 -> 36 | O13: =J13+K13+L13 -> 36 | P13: =J13 -> 36 | Q13: =F13+G13+H13+I13 -> 36
A14: 9 | B14: Ñ»é³ËáëÝ»ñÇ Ùáõïù³ÛÇÝ ¨ »Éù³ÛÇÝ í»ñÍ³ÝÙ³Ý ÃáõÛÉïíáõÃÛáõÝ ëï³Ý³Éáõ Ù³ëÇÝ ÙÇçÝáñ¹áõÃÛáõÝÝ»ñ | E14: 718 | F14: 9 | G14: 709 | J14: 718 | M14: 4 | N14: =D14+E14 -> 718 | O14: =J14+K14+L14 -> 718 | P14: =J14 -> 718 | Q14: =F14+G14+H14+I14 -> 718
A15: 10 | B15: Ñ»ï³ùÝÝáõÃÛ³Ý Ù³ñÙÝÇ ³ßË³ïáÕÇ, ùÝÝÇãÇ, ¹³ï³Ë³½Ç oå»ñ³ïÇí-Ñ»ï³Ëáõ½³Ï³Ý ·áñÍáÕáõÃÛáõÝÝ»ñ Çñ³Ï³Ý³óÝáÕ Ù³ñÙÇÝÝ»ñÇ ³ÝoñÇÝ³Ï³Ý ¨ ³ÝÑÇÙÝ áñáßáõÙÝ»ñÇ ¨ ·áñÍáÕáõÃÛáõÝÝ»ñÇ ¹»Ù µáÕáùÝ»ñ | D15: 40 | E15: 145 | F15: 88 | G15: 10 | H15: 2 | I15: 3 | J15: 103 | K15: 2 | L15: 80 | N15: =D15+E15 -> 185 | O15: =J15+K15+L15 -> 185 | P15: =J15 -> 103 | Q15: =F15+G15+H15+I15 -> 103
A16: 2. ¸³ï³Ï³Ý ³Ïï»ñÇ ¨ ¹³ï³Ï³Ý Ñ³ÝÓÝ³ñ³ñáõÃÛáõÝÝ»ñÇ Ï³ï³ñÙ³Ý Ñ»ï Ï³åí³Í Ñ³ñó»ñÇ ÉáõÍÙ³Ý áÉáñï
A17: 1 | B17: å³ïÅÇó å³ÛÙ³Ý³Ï³Ý í³Õ³Å³ÙÏ»ï ³½³ï»Éáõ Ù³ëÇÝ ÙÇçÝáñ¹áõÃÛáõÝÝ»ñ | N17: =D17+E17 -> 0 | O17: =J17+K17+L17 -> 0 | P17: =J17 -> 0 | Q17: =F17+G17+H17+I17 -> 0
A18: 2 | B18: å³ïÇÅÁ ÷á÷áË»Éáõ, Ñ»ï³Ó·»Éáõ ¨ å³ïÅÇó ³½³ï»Éáõ Ù³uÇÝ ÙÇçÝáñ¹áõÃÛáõÝÝ»ñ | D18: 4 | E18: 15 | F18: 2 | G18: 14 | I18: 1 | J18: 17 | K18: 1 | L18: 1 | M18: 1 | N18: =D18+E18 -> 19 | O18: =J18+K18+L18 -> 19 | P18: =J18 -> 17 | Q18: =F18+G18+H18+I18 -> 17
A19: 3 | B19: Ñ³ñÏ³¹Çñ µáõÅÙ³Ý ï»ë³ÏÇ ÷á÷áËáõÃÛ³Ý Ù³ëÇÝ ÙÇçÝáñ¹áõÃÛáõÝÝ»ñ | E19: 12 | F19: 1 | G19: 11 | J19: 12 | N19: =D19+E19 -> 12 | O19: =J19+K19+L19 -> 12 | P19: =J19 -> 12 | Q19: =F19+G19+H19+I19 -> 12
A20: 4 | B20: ³ÛÉ ÙÇçÝáñ¹áõÃÛáõÝÝ»ñ | E20: 8 | F20: 5 | G20: 3 | J20: 8 | M20: 1 | N20: =D20+E20 -> 8 | O20: =J20+K20+L20 -> 8 | P20: =J20 -> 8 | Q20: =F20+G20+H20+I20 -> 8
A21: 5 | B21: ¹³ï³Ï³Ý Ñ³ÝÓÝ³ñ³ñáõÃÛáõÝÝ»ñ | D21: 7 | E21: 11 | G21: 3 | J21: 3 | K21: 15 | N21: =D21+E21 -> 18 | O21: =J21+K21+L21 -> 18 | P21: =J21 -> 3 | Q21: =F21+G21+H21+I21 -> 3
A22: ÀÜ¸²ØºÜÀ | D22: =SUM(D6:D15,D17:D21) -> 52 | E22: =SUM(E6:E15,E17:E21) -> 1933 | F22: =SUM(F6:F15,F17:F21) -> 136 | G22: =SUM(G6:G15,G17:G21) -> 1690 | H22: =SUM(H6:H15,H17:H21) -> 30 | I22: =SUM(I6:I15,I17:I21) -> 8 | J22: =SUM(J6:J15,J17:J21) -> 1864 | K22: =SUM(K6:K15,K17:K21) -> 18 | ... Q22: =SUM(Q6:Q15,Q17:Q21) -> 1864

Sheet Avan
A1: 2016Ã. 1-ԻՆ ԿԻՍԱՄՅԱԿ | C1: Ð²ÞìºîìàôÂÚàôÜ | K1: Ð³í»Éí³Í Ð³Û³ëï³ÝÇ Ð³Ýñ³å»ïáõÃÛ³Ý ¸³ï³ñ³ÝÝ»ñÇ Ý³Ë³·³ÑÝ»ñÇ ËáñÑñ¹Ç 25.08.2016Ã. ÃÇí 44-È áñáßÙ³Ý
A2: ØÇÝã¹³ï³Ï³Ý í³ñáõÛÃÇ ÝÏ³ïÙ³Ùµ ¹³ï³Ï³Ý í»ñ³ÑëÏáÕáõÃÛ³ÝÁ, ¹³ï³Ï³Ý ³Ïï»ñÇ ¨ ¹³ï³Ï³Ý Ñ³ÝÓÝ³ñ³ñáõÃÛáõÝÝ»ñÇ Ï³ï³ñÙ³ÝÁ Ñ»ï Ï³åí³Í ÙÇçÝáñ¹áõÃÛáõÝÝ»ñÇ í»ñ³µ»ñÛ³É ¹³ï³Ï³Ý ·áñÍ»ñáí ºñ¨³Ý ù³Õ³ùÇ ²í³Ý ¨ Üáñ Üáñù í³ñã³Ï³Ý ßñç³ÝÝ»ñÇ ÁÝ¹Ñ³Ýáõñ Çñ³í³ëáõÃÛ³Ý ³é³çÇÝ ³ïÛ³ÝÇ ¹³ï³ñ³ÝÇ ·áñÍáõÝ»áõÃÛ³Ý í»ñ³µ»ñÛ³É
D3: Ñ³ßí»ïáõ Å³Ù³Ý³Ï³Ñ³ïí³ÍÇ ëÏ½µáõÙ Ý³Ëáñ¹ Ñ³ßí»ïáõ Å³Ù³Ý³Ï³Ñ³ïí³ÍÇó ÷áË³Ýóí³Í ·áñÍ»ñÇ ÁÝ¹Ñ³Ýáõñ ÃÇíÁ | E3: Ñ³ßí»ïáõ Å³Ù³Ý³Ï³Ñ³ïí³ÍáõÙ ëï³óí³Í ·áñÍ»ñÇ ÁÝ¹Ñ³Ýáõñ ÃÇíÁ | F3: Ñ³ßí»ïáõ Å³Ù³Ý³Ï³Ñ³ïí³ÍáõÙ ³í³ñïí³Í ·áñÍ»ñÇ ÁÝ¹Ñ³Ýáõñ ÃÇíÁ | K3: áõÕ³ñÏí»É ¿ Áëï ÁÝ¹¹³ïáõÃÛ³Ý | L3: Ñ³ßí»ïáõ Å³Ù³Ý³Ï³Ñ³ïí³ÍáõÙ ³Ý³í³ñï ·áñÍ»ñÇ ÁÝ¹Ñ³Ýáõñ ÃÇíÁ | M3: µáÕáù³ñÏí»É ¿ í»ñ³ùÝÝÇã ¹³ï³ñ³Ý
F4: Ù»ñÅí»É ¿ | G4: µ³í³ñ³ñí»É ¿ | H4: µ³í³ñ³ñí»É ¿ Ù³ëÝ³ÏÇ | I4: ÃáÕÝí»É ¿ ³é³Ýó ùÝÝáõÃÛ³Ý | J4: ÁÝ¹³Ù»ÝÁ
A5: 1. ØÇÝã¹³ï³Ï³Ý í³ñáõÛÃÇ ÝÏ³ïÙ³Ùµ ¹³ï³Ï³Ý í»ñ³ÑëÏáÕáõÃÛ³Ý áÉáñï | D5: 1 | E5: 2 | F5: 3 | G5: 4 | H5: 5 | I5: 6 | J5: 7 | K5: 8 | L5: 9 | M5: 10 | N5: 1+2=7+8+9 | P5: 7=3+4+5+6
A6: 1 | B6: Ï³É³ÝùÁ áñå»ë Ë³÷³ÝÙ³Ý ÙÇçáó ÏÇñ³é»Éáõ Ù³ëÇÝ ÙÇçÝáñ¹áõÃÛáõÝÝ»ñ | E6: 13 | F6: 3 | G6: 10 | J6: 13 | M6: 6 | N6: =D6+E6 -> 13 | O6: =J6+K6+L6 -> 13 | P6: =J6 -> 13 | Q6: =F6+G6+H6+I6 -> 13
A7: 2 | B7: Ï³É³ÝùÇ Å³ÙÏ»ïÁ »ñÏ³ñ³óÝ»Éáõ Ù³ëÇÝ ÙÇçÝáñ¹áõÃÛáõÝÝ»ñ | D7: 3 | E7: 29 | G7: 32 | J7: 32 | M7: 9 | N7: =D7+E7 -> 32 | O7: =J7+K7+L7 -> 32 | P7: =J7 -> 32 | Q7: =F7+G7+H7+I7 -> 32
A8: 3 | B8: Ï³É³ÝùÇ í»ñ³Ñ³ëï³ïÙ³Ý Ù³ëÇÝ ÙÇçÝáñ¹áõÃÛáõÝÝ»ñ | E8: 1 | G8: 1 | J8: 1 | N8: =D8+E8 -> 1 | O8: =J8+K8+L8 -> 1 | P8: =J8 -> 1 | Q8: =F8+G8+H8+I8 -> 1
A9: 4 | B9: ·ñ³íÁ áñå»ë Ï³É³Ý³íáñÙ³Ý ³ÛÉÁÝïñ³Ýù³ÛÇÝ Ë³÷³ÝÙ³Ý ÙÇçáó ÏÇñ³é»Éáõ Ù³ëÇÝ ÙÇçÝáñ¹áõÃÛáõÝÝ»ñ | D9: 1 | E9: 16 | F9: 16 | G9: 1 | J9: 17 | M9: 3 | N9: =D9+E9 -> 17 | O9: =J9+K9+L9 -> 17 | P9: =J9 -> 17 | Q9: =F9+G9+H9+I9 -> 17
A10: 5 | B10: Ëáõ½³ñÏáõÃÛ³Ý Ï³ï³ñÙ³Ý Ù³ëÇÝ ÙÇçÝáñ¹áõÃÛáõÝÝ»ñ | E10: 83 | F10: 7 | G10: 76 | J10: 83 | M10: 2 | N10: =D10+E10 -> 83 | O10: =J10+K10+L10 -> 83 | P10: =J10 -> 83 | Q10: =F10+G10+H10+I10 -> 83
A11: 6 | B11: µ³ÝÏ³ÛÇÝ, ³å³Ñáí³·ñ³Ï³Ý, Ýáï³ñ³Ï³Ý ·³ÕïÝÇù Ï³½ÙáÕ ï»Õ»ÏáõÃÛáõÝÝ»ñÇ ëï³óÙ³Ý Ñ³Ù³ñ Ëáõ½³ñÏáõÃÛ³Ý Ï³Ù ³é·ñ³íÙ³Ý Ï³ï³ñÙ³Ý Ù³ëÇÝ ÙÇçÝáñ¹áõÃÛáõÝÝ»ñ | E11: 4 | F11: 3 | G11: 1 | J11: 4 | N11: =D11+E11 -> 4 | O11: =J11+K11+L11 -> 4 | P11: =J11 -> 4 | Q11: =F11+G11+H11+I11 -> 4
A12: 7 | B12: Ý³Ù³Ï³·ñáõÃÛ³Ý, Ñ»é³·ñ³Ï³Ý, ÷áuï³ÛÇÝ Ñ³Õáñ¹áõÙÝ»ñÇ ÑëÏáÕáõÃÛ³Ý Ù³ëÇÝ ÙÇçÝáñ¹áõÃÛáõÝÝ»ñ | N12: =D12+E12 -> 0 | O12: =J12+K12+L12 -> 0 | P12: =J12 -> 0 | Q12: =F12+G12+H12+I12 -> 0
A13: 8 | B13: Ñ»é³Ëáu³ÛÇÝ Ï³Ù Ï³åÇ ³ÛÉ ÙÇçáóÝ»ñáí ï³ñíáÕ Ëáu³ÏóáõÃÛáõÝÝ»ñÇ ÉuÙ³Ý ¨ Ó³ÛÝ³·ñ³éÙ³Ý Ù³ëÇÝ ÙÇçÝáñ¹áõÃÛáõÝÝ»ñ | N13: =D13+E13 -> 0 | O13: =J13+K13+L13 -> 0 | P13: =J13 -> 0 | Q13: =F13+G13+H13+I13 -> 0
A14: 9 | B14: Ñ»é³ËáëÝ»ñÇ Ùáõïù³ÛÇÝ ¨ »Éù³ÛÇÝ í»ñÍ³ÝÙ³Ý ÃáõÛÉïíáõÃÛáõÝ ëï³Ý³Éáõ Ù³ëÇÝ ÙÇçÝáñ¹áõÃÛáõÝÝ»ñ | E14: 55 | G14: 54 | H14: 1 | J14: 55 | N14: =D14+E14 -> 55 | O14: =J14+K14+L14 -> 55 | P14: =J14 -> 55 | Q14: =F14+G14+H14+I14 -> 55
A15: 10 | B15: Ñ»ï³ùÝÝáõÃÛ³Ý Ù³ñÙÝÇ ³ßË³ïáÕÇ, ùÝÝÇãÇ, ¹³ï³Ë³½Ç oå»ñ³ïÇí-Ñ»ï³Ëáõ½³Ï³Ý ·áñÍáÕáõÃÛáõÝÝ»ñ Çñ³Ï³Ý³óÝáÕ Ù³ñÙÇÝÝ»ñÇ ³ÝoñÇÝ³Ï³Ý ¨ ³ÝÑÇÙÝ áñáßáõÙÝ»ñÇ ¨ ·áñÍáÕáõÃÛáõÝÝ»ñÇ ¹»Ù µáÕáùÝ»ñ | D15: 6 | E15: 20 | F15: 16 | G15: 2 | J15: 18 | L15: 8 | M15: 11 | N15: =D15+E15 -> 26 | O15: =J15+K15+L15 -> 26 | P15: =J15 -> 18 | Q15: =F15+G15+H15+I15 -> 18
A16: 2. ¸³ï³Ï³Ý ³Ïï»ñÇ ¨ ¹³ï³Ï³Ý Ñ³ÝÓÝ³ñ³ñáõÃÛáõÝÝ»ñÇ Ï³ï³ñÙ³Ý Ñ»ï Ï³åí³Í Ñ³ñó»ñÇ ÉáõÍÙ³Ý áÉáñï
A17: 1 | B17: å³ïÅÇó å³ÛÙ³Ý³Ï³Ý í³Õ³Å³ÙÏ»ï ³½³ï»Éáõ Ù³ëÇÝ ÙÇçÝáñ¹áõÃÛáõÝÝ»ñ | N17: =D17+E17 -> 0 | O17: =J17+K17+L17 -> 0 | P17: =J17 -> 0 | Q17: =F17+G17+H17+I17 -> 0
A18: 2 | B18: å³ïÇÅÁ ÷á÷áË»Éáõ, Ñ»ï³Ó·»Éáõ ¨ å³ïÅÇó ³½³ï»Éáõ Ù³uÇÝ ÙÇçÝáñ¹áõÃÛáõÝÝ»ñ | E18: 8 | F18: 2 | G18: 4 | J18: 6 | L18: 2 | N18: =D18+E18 -> 8 | O18: =J18+K18+L18 -> 8 | P18: =J18 -> 6 | Q18: =F18+G18+H18+I18 -> 6
A19: 3 | B19: Ñ³ñÏ³¹Çñ µáõÅÙ³Ý ï»ë³ÏÇ ÷á÷áËáõÃÛ³Ý Ù³ëÇÝ ÙÇçÝáñ¹áõÃÛáõÝÝ»ñ | D19: 3 | E19: 11 | F19: 3 | G19: 9 | J19: 12 | L19: 2 | N19: =D19+E19 -> 14 | O19: =J19+K19+L19 -> 14 | P19: =J19 -> 12 | Q19: =F19+G19+H19+I19 -> 12
A20: 4 | B20: ³ÛÉ ÙÇçÝáñ¹áõÃÛáõÝÝ»ñ | E20: 7 | G20: 6 | J20: 6 | L20: 1 | N20: =D20+E20 -> 7 | O20: =J20+K20+L20 -> 7 | P20: =J20 -> 6 | Q20: =F20+G20+H20+I20 -> 6
A21: 5 | B21: ¹³ï³Ï³Ý Ñ³ÝÓÝ³ñ³ñáõÃÛáõÝÝ»ñ | D21: 5 | E21: 11 | F21: 1 | G21: 2 | J21: 3 | L21: 11 | N21: =D21+E21 -> 16 | O21: =J21+K21+L21 -> 14 | P21: =J21 -> 3 | Q21: =F21+G21+H21+I21 -> 3
A22: ÀÜ¸²ØºÜÀ | D22: =SUM(D6:D15,D17:D21) -> 18 | E22: =SUM(E6:E15,E17:E21) -> 258 | F22: =SUM(F6:F15,F17:F21) -> 51 | G22: =SUM(G6:G15,G17:G21) -> 198 | H22: =SUM(H6:H15,H17:H21) -> 1 | I22: =SUM(I6:I15,I17:I21) -> 0 | J22: =SUM(J6:J15,J17:J21) -> 250 | K22: =SUM(K6:K15,K17:K21) -> 0 | ... Q22: =SUM(Q6:Q15,Q17:Q21) -> 250
B25: այլ միջնորդությունների մեջ 2 գործ վերադարձվել է,

Sheet Malatia
A1: 2016Ã. 1-ԻՆ ԿԻՍԱՄՅԱԿ | C1: Ð²ÞìºîìàôÂÚàôÜ | K1: Ð³í»Éí³Í Ð³Û³ëï³ÝÇ Ð³Ýñ³å»ïáõÃÛ³Ý ¸³ï³ñ³ÝÝ»ñÇ Ý³Ë³·³ÑÝ»ñÇ ËáñÑñ¹Ç 25.08.2016Ã. ÃÇí 44-È áñáßÙ³Ý
A2: ØÇÝã¹³ï³Ï³Ý í³ñáõÛÃÇ ÝÏ³ïÙ³Ùµ ¹³ï³Ï³Ý í»ñ³ÑëÏáÕáõÃÛ³ÝÁ, ¹³ï³Ï³Ý ³Ïï»ñÇ ¨ ¹³ï³Ï³Ý Ñ³ÝÓÝ³ñ³ñáõÃÛáõÝÝ»ñÇ Ï³ï³ñÙ³ÝÁ Ñ»ï Ï³åí³Í ÙÇçÝáñ¹áõÃÛáõÝÝ»ñÇ í»ñ³µ»ñÛ³É ¹³ï³Ï³Ý ·áñÍ»ñáí Երևան քաղաքի Մալաթիա-Սեբաստիա վարչական ßñç³ÝÇ ÁÝ¹Ñ³Ýáõñ Çñ³í³ëáõÃÛ³Ý ³é³çÇÝ ³ïÛ³ÝÇ ¹³ï³ñ³ÝÇ ·áñÍáõÝ»áõÃÛ³Ý í»ñ³µ»ñÛ³É
D3: Ñ³ßí»ïáõ Å³Ù³Ý³Ï³Ñ³ïí³ÍÇ ëÏ½µáõÙ Ý³Ëáñ¹ Ñ³ßí»ïáõ Å³Ù³Ý³Ï³Ñ³ïí³ÍÇó ÷áË³Ýóí³Í ·áñÍ»ñÇ ÁÝ¹Ñ³Ýáõñ ÃÇíÁ | E3: Ñ³ßí»ïáõ Å³Ù³Ý³Ï³Ñ³ïí³ÍáõÙ ëï³óí³Í ·áñÍ»ñÇ ÁÝ¹Ñ³Ýáõñ ÃÇíÁ | F3: Ñ³ßí»ïáõ Å³Ù³Ý³Ï³Ñ³ïí³ÍáõÙ ³í³ñïí³Í ·áñÍ»ñÇ ÁÝ¹Ñ³Ýáõñ ÃÇíÁ | K3: áõÕ³ñÏí»É ¿ Áëï ÁÝ¹¹³ïáõÃÛ³Ý | L3: Ñ³ßí»ïáõ Å³Ù³Ý³Ï³Ñ³ïí³ÍáõÙ ³Ý³í³ñï ·áñÍ»ñÇ ÁÝ¹Ñ³Ýáõñ ÃÇíÁ | M3: µáÕáù³ñÏí»É ¿ í»ñ³ùÝÝÇã ¹³ï³ñ³Ý
F4: Ù»ñÅí»É ¿ | G4: µ³í³ñ³ñí»É ¿ | H4: µ³í³ñ³ñí»É ¿ Ù³ëÝ³ÏÇ | I4: ÃáÕÝí»É ¿ ³é³Ýó ùÝÝáõÃÛ³Ý | J4: ÁÝ¹³Ù»ÝÁ
A5: 1. ØÇÝã¹³ï³Ï³Ý í³ñáõÛÃÇ ÝÏ³ïÙ³Ùµ ¹³ï³Ï³Ý í»ñ³ÑëÏáÕáõÃÛ³Ý áÉáñï | D5: 1 | E5: 2 | F5: 3 | G5: 4 | H5: 5 | I5: 6 | J5: 7 | K5: 8 | L5: 9 | M5: 10 | N5: 1+2=7+8+9 | P5: 7=3+4+5+6
A6: 1 | B6: Ï³É³ÝùÁ áñå»ë Ë³÷³ÝÙ³Ý ÙÇçáó ÏÇñ³é»Éáõ Ù³ëÇÝ ÙÇçÝáñ¹áõÃÛáõÝÝ»ñ | E6: 37 | F6: 2 | G6: 35 | J6: 37 | M6: 4 | N6: =D6+E6 -> 37 | O6: =J6+K6+L6 -> 37 | P6: =J6 -> 37 | Q6: =F6+G6+H6+I6 -> 37
A7: 2 | B7: Ï³É³ÝùÇ Å³ÙÏ»ïÁ »ñÏ³ñ³óÝ»Éáõ Ù³ëÇÝ ÙÇçÝáñ¹áõÃÛáõÝÝ»ñ | D7: 2 | E7: 27 | G7: 28 | H7: 1 | J7: 29 | M7: 5 | N7: =D7+E7 -> 29 | O7: =J7+K7+L7 -> 29 | P7: =J7 -> 29 | Q7: =F7+G7+H7+I7 -> 29
A8: 3 | B8: Ï³É³ÝùÇ í»ñ³Ñ³ëï³ïÙ³Ý Ù³ëÇÝ ÙÇçÝáñ¹áõÃÛáõÝÝ»ñ | E8: 8 | G8: 8 | J8: 8 | M8: 1 | N8: =D8+E8 -> 8 | O8: =J8+K8+L8 -> 8 | P8: =J8 -> 8 | Q8: =F8+G8+H8+I8 -> 8
A9: 4 | B9: ·ñ³íÁ áñå»ë Ï³É³Ý³íáñÙ³Ý ³ÛÉÁÝïñ³Ýù³ÛÇÝ Ë³÷³ÝÙ³Ý ÙÇçáó ÏÇñ³é»Éáõ Ù³ëÇÝ ÙÇçÝáñ¹áõÃÛáõÝÝ»ñ | E9: 31 | F9: 25 | G9: 5 | J9: 30 | L9: 1 | M9: 8 | N9: =D9+E9 -> 31 | O9: =J9+K9+L9 -> 31 | P9: =J9 -> 30 | Q9: =F9+G9+H9+I9 -> 30
A10: 5 | B10: Ëáõ½³ñÏáõÃÛ³Ý Ï³ï³ñÙ³Ý Ù³ëÇÝ ÙÇçÝáñ¹áõÃÛáõÝÝ»ñ | E10: 116 | G10: 116 | J10: 116 | N10: =D10+E10 -> 116 | O10: =J10+K10+L10 -> 116 | P10: =J10 -> 116 | Q10: =F10+G10+H10+I10 -> 116
A11: 6 | B11: µ³ÝÏ³ÛÇÝ, ³å³Ñáí³·ñ³Ï³Ý, Ýáï³ñ³Ï³Ý ·³ÕïÝÇù Ï³½ÙáÕ ï»Õ»ÏáõÃÛáõÝÝ»ñÇ ëï³óÙ³Ý Ñ³Ù³ñ Ëáõ½³ñÏáõÃÛ³Ý Ï³Ù ³é·ñ³íÙ³Ý Ï³ï³ñÙ³Ý Ù³ëÇÝ ÙÇçÝáñ¹áõÃÛáõÝÝ»ñ | E11: 4 | G11: 4 | J11: 4 | N11: =D11+E11 -> 4 | O11: =J11+K11+L11 -> 4 | P11: =J11 -> 4 | Q11: =F11+G11+H11+I11 -> 4
A12: 7 | B12: Ý³Ù³Ï³·ñáõÃÛ³Ý, Ñ»é³·ñ³Ï³Ý, ÷áuï³ÛÇÝ Ñ³Õáñ¹áõÙÝ»ñÇ ÑëÏáÕáõÃÛ³Ý Ù³ëÇÝ ÙÇçÝáñ¹áõÃÛáõÝÝ»ñ | E12: 4 | F12: 1 | G12: 3 | J12: 4 | N12: =D12+E12 -> 4 | O12: =J12+K12+L12 -> 4 | P12: =J12 -> 4 | Q12: =F12+G12+H12+I12 -> 4
A13: 8 | B13: Ñ»é³Ëáu³ÛÇÝ Ï³Ù Ï³åÇ ³ÛÉ ÙÇçáóÝ»ñáí ï³ñíáÕ Ëáu³ÏóáõÃÛáõÝÝ»ñÇ ÉuÙ³Ý ¨ Ó³ÛÝ³·ñ³éÙ³Ý Ù³ëÇÝ ÙÇçÝáñ¹áõÃÛáõÝÝ»ñ | E13: 12 | G13: 12 | J13: 12 | N13: =D13+E13 -> 12 | O13: =J13+K13+L13 -> 12 | P13: =J13 -> 12 | Q13: =F13+G13+H13+I13 -> 12
A14: 9 | B14: Ñ»é³ËáëÝ»ñÇ Ùáõïù³ÛÇÝ ¨ »Éù³ÛÇÝ í»ñÍ³ÝÙ³Ý ÃáõÛÉïíáõÃÛáõÝ ëï³Ý³Éáõ Ù³ëÇÝ ÙÇçÝáñ¹áõÃÛáõÝÝ»ñ | E14: 96 | F14: 1 | G14: 95 | J14: 96 | N14: =D14+E14 -> 96 | O14: =J14+K14+L14 -> 96 | P14: =J14 -> 96 | Q14: =F14+G14+H14+I14 -> 96
A15: 10 | B15: Ñ»ï³ùÝÝáõÃÛ³Ý Ù³ñÙÝÇ ³ßË³ïáÕÇ, ùÝÝÇãÇ, ¹³ï³Ë³½Ç oå»ñ³ïÇí-Ñ»ï³Ëáõ½³Ï³Ý ·áñÍáÕáõÃÛáõÝÝ»ñ Çñ³Ï³Ý³óÝáÕ Ù³ñÙÇÝÝ»ñÇ ³ÝoñÇÝ³Ï³Ý ¨ ³ÝÑÇÙÝ áñáßáõÙÝ»ñÇ ¨ ·áñÍáÕáõÃÛáõÝÝ»ñÇ ¹»Ù µáÕáùÝ»ñ | D15: 4 | E15: 15 | F15: 10 | G15: 2 | H15: 2 | J15: 14 | K15: 2 | L15: 3 | M15: 9 | N15: =D15+E15 -> 19 | O15: =J15+K15+L15 -> 19 | P15: =J15 -> 14 | Q15: =F15+G15+H15+I15 -> 14
A16: 2. ¸³ï³Ï³Ý ³Ïï»ñÇ ¨ ¹³ï³Ï³Ý Ñ³ÝÓÝ³ñ³ñáõÃÛáõÝÝ»ñÇ Ï³ï³ñÙ³Ý Ñ»ï Ï³åí³Í Ñ³ñó»ñÇ ÉáõÍÙ³Ý áÉáñï
A17: 1 | B17: å³ïÅÇó å³ÛÙ³Ý³Ï³Ý í³Õ³Å³ÙÏ»ï ³½³ï»Éáõ Ù³ëÇÝ ÙÇçÝáñ¹áõÃÛáõÝÝ»ñ | N17: =D17+E17 -> 0 | O17: =J17+K17+L17 -> 0 | P17: =J17 -> 0 | Q17: =F17+G17+H17+I17 -> 0
A18: 2 | B18: å³ïÇÅÁ ÷á÷áË»Éáõ, Ñ»ï³Ó·»Éáõ ¨ å³ïÅÇó ³½³ï»Éáõ Ù³uÇÝ ÙÇçÝáñ¹áõÃÛáõÝÝ»ñ | D18: 1 | E18: 13 | F18: 3 | G18: 9 | J18: 12 | L18: 2 | N18: =D18+E18 -> 14 | O18: =J18+K18+L18 -> 14 | P18: =J18 -> 12 | Q18: =F18+G18+H18+I18 -> 12
A19: 3 | B19: Ñ³ñÏ³¹Çñ µáõÅÙ³Ý ï»ë³ÏÇ ÷á÷áËáõÃÛ³Ý Ù³ëÇÝ ÙÇçÝáñ¹áõÃÛáõÝÝ»ñ | E19: 7 | G19: 7 | J19: 7 | N19: =D19+E19 -> 7 | O19: =J19+K19+L19 -> 7 | P19: =J19 -> 7 | Q19: =F19+G19+H19+I19 -> 7
A20: 4 | B20: ³ÛÉ ÙÇçÝáñ¹áõÃÛáõÝÝ»ñ | E20: 1 | G20: 1 | J20: 1 | N20: =D20+E20 -> 1 | O20: =J20+K20+L20 -> 1 | P20: =J20 -> 1 | Q20: =F20+G20+H20+I20 -> 1
A21: 5 | B21: ¹³ï³Ï³Ý Ñ³ÝÓÝ³ñ³ñáõÃÛáõÝÝ»ñ | D21: 7 | E21: 12 | G21: 6 | I21: 2 | J21: 8 | K21: 1 | L21: 10 | N21: =D21+E21 -> 19 | O21: =J21+K21+L21 -> 19 | P21: =J21 -> 8 | Q21: =F21+G21+H21+I21 -> 8
A22: ÀÜ¸²ØºÜÀ | D22: =SUM(D6:D15,D17:D21) -> 14 | E22: =SUM(E6:E15,E17:E21) -> 383 | F22: =SUM(F6:F15,F17:F21) -> 42 | G22: =SUM(G6:G15,G17:G21) -> 331 | H22: =SUM(H6:H15,H17:H21) -> 3 | I22: =SUM(I6:I15,I17:I21) -> 2 | J22: =SUM(J6:J15,J17:J21) -> 378 | K22: =SUM(K6:K15,K17:K21) -> 3 | ... Q22: =SUM(Q6:Q15,Q17:Q21) -> 378

Sheet Tavush
A1: 2016Ã. 1-ԻՆ ԿԻՍԱՄՅԱԿ | C1: Ð²ÞìºîìàôÂÚàôÜ | K1: Ð³í»Éí³Í Ð³Û³ëï³ÝÇ Ð³Ýñ³å»ïáõÃÛ³Ý ¸³ï³ñ³ÝÝ»ñÇ Ý³Ë³·³ÑÝ»ñÇ ËáñÑñ¹Ç 25.08.2016Ã. ÃÇí 44-È áñáßÙ³Ý
A2: ØÇÝã¹³ï³Ï³Ý í³ñáõÛÃÇ ÝÏ³ïÙ³Ùµ ¹³ï³Ï³Ý í»ñ³ÑëÏáÕáõÃÛ³ÝÁ, ¹³ï³Ï³Ý ³Ïï»ñÇ ¨ ¹³ï³Ï³Ý Ñ³ÝÓÝ³ñ³ñáõÃÛáõÝÝ»ñÇ Ï³ï³ñÙ³ÝÁ Ñ»ï Ï³åí³Í ÙÇçÝáñ¹áõÃÛáõÝÝ»ñÇ í»ñ³µ»ñÛ³É ¹³ï³Ï³Ý ·áñÍ»ñáí ÐÐ Տավուշի մարզի ÁÝ¹Ñ³Ýáõñ Çñ³í³ëáõÃÛ³Ý ³é³çÇÝ ³ïÛ³ÝÇ ¹³ï³ñ³ÝÇ ·áñÍáõÝ»áõÃÛ³Ý í»ñ³µ»ñÛ³É
D3: Ñ³ßí»ïáõ Å³Ù³Ý³Ï³Ñ³ïí³ÍÇ ëÏ½µáõÙ Ý³Ëáñ¹ Ñ³ßí»ïáõ Å³Ù³Ý³Ï³Ñ³ïí³ÍÇó ÷áË³Ýóí³Í ·áñÍ»ñÇ ÁÝ¹Ñ³Ýáõñ ÃÇíÁ | E3: Ñ³ßí»ïáõ Å³Ù³Ý³Ï³Ñ³ïí³ÍáõÙ ëï³óí³Í ·áñÍ»ñÇ ÁÝ¹Ñ³Ýáõñ ÃÇíÁ | F3: Ñ³ßí»ïáõ Å³Ù³Ý³Ï³Ñ³ïí³ÍáõÙ ³í³ñïí³Í ·áñÍ»ñÇ ÁÝ¹Ñ³Ýáõñ ÃÇíÁ | K3: áõÕ³ñÏí»É ¿ Áëï ÁÝ¹¹³ïáõÃÛ³Ý | L3: Ñ³ßí»ïáõ Å³Ù³Ý³Ï³Ñ³ïí³ÍáõÙ ³Ý³í³ñï ·áñÍ»ñÇ ÁÝ¹Ñ³Ýáõñ ÃÇíÁ | M3: µáÕáù³ñÏí»É ¿ í»ñ³ùÝÝÇã ¹³ï³ñ³Ý
F4: Ù»ñÅí»É ¿ | G4: µ³í³ñ³ñí»É ¿ | H4: µ³í³ñ³ñí»É ¿ Ù³ëÝ³ÏÇ | I4: ÃáÕÝí»É ¿ ³é³Ýó ùÝÝáõÃÛ³Ý | J4: ÁÝ¹³Ù»ÝÁ
A5: 1. ØÇÝã¹³ï³Ï³Ý í³ñáõÛÃÇ ÝÏ³ïÙ³Ùµ ¹³ï³Ï³Ý í»ñ³ÑëÏáÕáõÃÛ³Ý áÉáñï | D5: 1 | E5: 2 | F5: 3 | G5: 4 | H5: 5 | I5: 6 | J5: 7 | K5: 8 | L5: 9 | M5: 10 | N5: 1+2=7+8+9 | P5: 7=3+4+5+6
A6: 1 | B6: Ï³É³ÝùÁ áñå»ë Ë³÷³ÝÙ³Ý ÙÇçáó ÏÇñ³é»Éáõ Ù³ëÇÝ ÙÇçÝáñ¹áõÃÛáõÝÝ»ñ | E6: 31 | F6: 8 | G6: 23 | J6: 31 | M6: 7 | N6: =D6+E6 -> 31 | O6: =J6+K6+L6 -> 31 | P6: =J6 -> 31 | Q6: =F6+G6+H6+I6 -> 31
A7: 2 | B7: Ï³É³ÝùÇ Å³ÙÏ»ïÁ »ñÏ³ñ³óÝ»Éáõ Ù³ëÇÝ ÙÇçÝáñ¹áõÃÛáõÝÝ»ñ | D7: 3 | E7: 23 | F7: 4 | G7: 19 | H7: 3 | J7: 26 | M7: 14 | N7: =D7+E7 -> 26 | O7: =J7+K7+L7 -> 26 | P7: =J7 -> 26 | Q7: =F7+G7+H7+I7 -> 26
A8: 3 | B8: Ï³É³ÝùÇ í»ñ³Ñ³ëï³ïÙ³Ý Ù³ëÇÝ ÙÇçÝáñ¹áõÃÛáõÝÝ»ñ | E8: 7 | G8: 7 | J8: 7 | M8: 2 | N8: =D8+E8 -> 7 | O8: =J8+K8+L8 -> 7 | P8: =J8 -> 7 | Q8: =F8+G8+H8+I8 -> 7
A9: 4 | B9: ·ñ³íÁ áñå»ë Ï³É³Ý³íáñÙ³Ý ³ÛÉÁÝïñ³Ýù³ÛÇÝ Ë³÷³ÝÙ³Ý ÙÇçáó ÏÇñ³é»Éáõ Ù³ëÇÝ ÙÇçÝáñ¹áõÃÛáõÝÝ»ñ | N9: =D9+E9 -> 0 | O9: =J9+K9+L9 -> 0 | P9: =J9 -> 0 | Q9: =F9+G9+H9+I9 -> 0
A10: 5 | B10: Ëáõ½³ñÏáõÃÛ³Ý Ï³ï³ñÙ³Ý Ù³ëÇÝ ÙÇçÝáñ¹áõÃÛáõÝÝ»ñ | E10: 44 | G10: 43 | H10: 1 | J10: 44 | N10: =D10+E10 -> 44 | O10: =J10+K10+L10 -> 44 | P10: =J10 -> 44 | Q10: =F10+G10+H10+I10 -> 44
A11: 6 | B11: µ³ÝÏ³ÛÇÝ, ³å³Ñáí³·ñ³Ï³Ý, Ýáï³ñ³Ï³Ý ·³ÕïÝÇù Ï³½ÙáÕ ï»Õ»ÏáõÃÛáõÝÝ»ñÇ ëï³óÙ³Ý Ñ³Ù³ñ Ëáõ½³ñÏáõÃÛ³Ý Ï³Ù ³é·ñ³íÙ³Ý Ï³ï³ñÙ³Ý Ù³ëÇÝ ÙÇçÝáñ¹áõÃÛáõÝÝ»ñ | N11: =D11+E11 -> 0 | O11: =J11+K11+L11 -> 0 | P11: =J11 -> 0 | Q11: =F11+G11+H11+I11 -> 0
A12: 7 | B12: Ý³Ù³Ï³·ñáõÃÛ³Ý, Ñ»é³·ñ³Ï³Ý, ÷áuï³ÛÇÝ Ñ³Õáñ¹áõÙÝ»ñÇ ÑëÏáÕáõÃÛ³Ý Ù³ëÇÝ ÙÇçÝáñ¹áõÃÛáõÝÝ»ñ | N12: =D12+E12 -> 0 | O12: =J12+K12+L12 -> 0 | P12: =J12 -> 0 | Q12: =F12+G12+H12+I12 -> 0
A13: 8 | B13: Ñ»é³Ëáu³ÛÇÝ Ï³Ù Ï³åÇ ³ÛÉ ÙÇçáóÝ»ñáí ï³ñíáÕ Ëáu³ÏóáõÃÛáõÝÝ»ñÇ ÉuÙ³Ý ¨ Ó³ÛÝ³·ñ³éÙ³Ý Ù³ëÇÝ ÙÇçÝáñ¹áõÃÛáõÝÝ»ñ | N13: =D13+E13 -> 0 | O13: =J13+K13+L13 -> 0 | P13: =J13 -> 0 | Q13: =F13+G13+H13+I13 -> 0
A14: 9 | B14: Ñ»é³ËáëÝ»ñÇ Ùáõïù³ÛÇÝ ¨ »Éù³ÛÇÝ í»ñÍ³ÝÙ³Ý ÃáõÛÉïíáõÃÛáõÝ ëï³Ý³Éáõ Ù³ëÇÝ ÙÇçÝáñ¹áõÃÛáõÝÝ»ñ | E14: 38 | F14: 1 | G14: 37 | J14: 38 | M14: 1 | N14: =D14+E14 -> 38 | O14: =J14+K14+L14 -> 38 | P14: =J14 -> 38 | Q14: =F14+G14+H14+I14 -> 38
A15: 10 | B15: Ñ»ï³ùÝÝáõÃÛ³Ý Ù³ñÙÝÇ ³ßË³ïáÕÇ, ùÝÝÇãÇ, ¹³ï³Ë³½Ç oå»ñ³ïÇí-Ñ»ï³Ëáõ½³Ï³Ý ·áñÍáÕáõÃÛáõÝÝ»ñ Çñ³Ï³Ý³óÝáÕ Ù³ñÙÇÝÝ»ñÇ ³ÝoñÇÝ³Ï³Ý ¨ ³ÝÑÇÙÝ áñáßáõÙÝ»ñÇ ¨ ·áñÍáÕáõÃÛáõÝÝ»ñÇ ¹»Ù µáÕáùÝ»ñ | D15: 1 | E15: 6 | F15: 6 | G15: 1 | J15: 7 | M15: 5 | N15: =D15+E15 -> 7 | O15: =J15+K15+L15 -> 7 | P15: =J15 -> 7 | Q15: =F15+G15+H15+I15 -> 7
A16: 2. ¸³ï³Ï³Ý ³Ïï»ñÇ ¨ ¹³ï³Ï³Ý Ñ³ÝÓÝ³ñ³ñáõÃÛáõÝÝ»ñÇ Ï³ï³ñÙ³Ý Ñ»ï Ï³åí³Í Ñ³ñó»ñÇ ÉáõÍÙ³Ý áÉáñï
A17: 1 | B17: å³ïÅÇó å³ÛÙ³Ý³Ï³Ý í³Õ³Å³ÙÏ»ï ³½³ï»Éáõ Ù³ëÇÝ ÙÇçÝáñ¹áõÃÛáõÝÝ»ñ | N17: =D17+E17 -> 0 | O17: =J17+K17+L17 -> 0 | P17: =J17 -> 0 | Q17: =F17+G17+H17+I17 -> 0
A18: 2 | B18: å³ïÇÅÁ ÷á÷áË»Éáõ, Ñ»ï³Ó·»Éáõ ¨ å³ïÅÇó ³½³ï»Éáõ Ù³uÇÝ ÙÇçÝáñ¹áõÃÛáõÝÝ»ñ | E18: 2 | F18: 1 | H18: 1 | J18: 2 | N18: =D18+E18 -> 2 | O18: =J18+K18+L18 -> 2 | P18: =J18 -> 2 | Q18: =F18+G18+H18+I18 -> 2
A19: 3 | B19: Ñ³ñÏ³¹Çñ µáõÅÙ³Ý ï»ë³ÏÇ ÷á÷áËáõÃÛ³Ý Ù³ëÇÝ ÙÇçÝáñ¹áõÃÛáõÝÝ»ñ | N19: =D19+E19 -> 0 | O19: =J19+K19+L19 -> 0 | P19: =J19 -> 0 | Q19: =F19+G19+H19+I19 -> 0
A20: 4 | B20: ³ÛÉ ÙÇçÝáñ¹áõÃÛáõÝÝ»ñ | E20: 7 | F20: 1 | G20: 6 | J20: 7 | N20: =D20+E20 -> 7 | O20: =J20+K20+L20 -> 7 | P20: =J20 -> 7 | Q20: =F20+G20+H20+I20 -> 7
A21: 5 | B21: ¹³ï³Ï³Ý Ñ³ÝÓÝ³ñ³ñáõÃÛáõÝÝ»ñ | D21: 1 | E21: 1 | L21: 2 | N21: =D21+E21 -> 2 | O21: =J21+K21+L21 -> 2 | P21: =J21 -> 0 | Q21: =F21+G21+H21+I21 -> 0
A22: ÀÜ¸²ØºÜÀ | D22: =SUM(D6:D15,D17:D21) -> 5 | E22: =SUM(E6:E15,E17:E21) -> 159 | F22: =SUM(F6:F15,F17:F21) -> 21 | G22: =SUM(G6:G15,G17:G21) -> 136 | H22: =SUM(H6:H15,H17:H21) -> 5 | I22: =SUM(I6:I15,I17:I21) -> 0 | J22: =SUM(J6:J15,J17:J21) -> 162 | K22: =SUM(K6:K15,K17:K21) -> 0 | ... Q22: =SUM(Q6:Q15,Q17:Q21) -> 162

Sheet Syuniq
A1: 2016Ã. 1-ԻՆ ԿԻՍԱՄՅԱԿ | C1: Ð²ÞìºîìàôÂÚàôÜ | K1: Ð³í»Éí³Í Ð³Û³ëï³ÝÇ Ð³Ýñ³å»ïáõÃÛ³Ý ¸³ï³ñ³ÝÝ»ñÇ Ý³Ë³·³ÑÝ»ñÇ ËáñÑñ¹Ç 25.08.2016Ã. ÃÇí 44-È áñáßÙ³Ý
A2: ØÇÝã¹³ï³Ï³Ý í³ñáõÛÃÇ ÝÏ³ïÙ³Ùµ ¹³ï³Ï³Ý í»ñ³ÑëÏáÕáõÃÛ³ÝÁ, ¹³ï³Ï³Ý ³Ïï»ñÇ ¨ ¹³ï³Ï³Ý Ñ³ÝÓÝ³ñ³ñáõÃÛáõÝÝ»ñÇ Ï³ï³ñÙ³ÝÁ Ñ»ï Ï³åí³Í ÙÇçÝáñ¹áõÃÛáõÝÝ»ñÇ í»ñ³µ»ñÛ³É ¹³ï³Ï³Ý ·áñÍ»ñáí ÐÐ Սյունիքի մարզի ÁÝ¹Ñ³Ýáõñ Çñ³í³ëáõÃÛ³Ý ³é³çÇÝ ³ïÛ³ÝÇ ¹³ï³ñ³ÝÇ ·áñÍáõÝ»áõÃÛ³Ý í»ñ³µ»ñÛ³É
D3: Ñ³ßí»ïáõ Å³Ù³Ý³Ï³Ñ³ïí³ÍÇ ëÏ½µáõÙ Ý³Ëáñ¹ Ñ³ßí»ïáõ Å³Ù³Ý³Ï³Ñ³ïí³ÍÇó ÷áË³Ýóí³Í ·áñÍ»ñÇ ÁÝ¹Ñ³Ýáõñ ÃÇíÁ | E3: Ñ³ßí»ïáõ Å³Ù³Ý³Ï³Ñ³ïí³ÍáõÙ ëï³óí³Í ·áñÍ»ñÇ ÁÝ¹Ñ³Ýáõñ ÃÇíÁ | F3: Ñ³ßí»ïáõ Å³Ù³Ý³Ï³Ñ³ïí³ÍáõÙ ³í³ñïí³Í ·áñÍ»ñÇ ÁÝ¹Ñ³Ýáõñ ÃÇíÁ | K3: áõÕ³ñÏí»É ¿ Áëï ÁÝ¹¹³ïáõÃÛ³Ý | L3: Ñ³ßí»ïáõ Å³Ù³Ý³Ï³Ñ³ïí³ÍáõÙ ³Ý³í³ñï ·áñÍ»ñÇ ÁÝ¹Ñ³Ýáõñ ÃÇíÁ | M3: µáÕáù³ñÏí»É ¿ í»ñ³ùÝÝÇã ¹³ï³ñ³Ý
F4: Ù»ñÅí»É ¿ | G4: µ³í³ñ³ñí»É ¿ | H4: µ³í³ñ³ñí»É ¿ Ù³ëÝ³ÏÇ | I4: ÃáÕÝí»É ¿ ³é³Ýó ùÝÝáõÃÛ³Ý | J4: ÁÝ¹³Ù»ÝÁ
A5: 1. ØÇÝã¹³ï³Ï³Ý í³ñáõÛÃÇ ÝÏ³ïÙ³Ùµ ¹³ï³Ï³Ý í»ñ³ÑëÏáÕáõÃÛ³Ý áÉáñï | D5: 1 | E5: 2 | F5: 3 | G5: 4 | H5: 5 | I5: 6 | J5: 7 | K5: 8 | L5: 9 | M5: 10 | N5: 1+2=7+8+9 | P5: 7=3+4+5+6
A6: 1 | B6: Ï³É³ÝùÁ áñå»ë Ë³÷³ÝÙ³Ý ÙÇçáó ÏÇñ³é»Éáõ Ù³ëÇÝ ÙÇçÝáñ¹áõÃÛáõÝÝ»ñ | D6: 0 | E6: 78 | F6: 17 | G6: 60 | H6: 0 | I6: 1 | J6: 78 | K6: 0 | L6: 0 | M6: 23 | N6: =D6+E6 -> 78 | O6: =J6+K6+L6 -> 78 | P6: =J6 -> 78 | Q6: =F6+G6+H6+I6 -> 78
A7: 2 | B7: Ï³É³ÝùÇ Å³ÙÏ»ïÁ »ñÏ³ñ³óÝ»Éáõ Ù³ëÇÝ ÙÇçÝáñ¹áõÃÛáõÝÝ»ñ | D7: 0 | E7: 48 | F7: 2 | G7: 44 | H7: 2 | I7: 0 | J7: 48 | K7: 0 | L7: 0 | M7: 13 | N7: =D7+E7 -> 48 | O7: =J7+K7+L7 -> 48 | P7: =J7 -> 48 | Q7: =F7+G7+H7+I7 -> 48
A8: 3 | B8: Ï³É³ÝùÇ í»ñ³Ñ³ëï³ïÙ³Ý Ù³ëÇÝ ÙÇçÝáñ¹áõÃÛáõÝÝ»ñ | D8: 0 | E8: 4 | F8: 1 | G8: 3 | H8: 0 | I8: 0 | J8: 4 | K8: 0 | L8: 0 | M8: 2 | N8: =D8+E8 -> 4 | O8: =J8+K8+L8 -> 4 | P8: =J8 -> 4 | Q8: =F8+G8+H8+I8 -> 4
A9: 4 | B9: ·ñ³íÁ áñå»ë Ï³É³Ý³íáñÙ³Ý ³ÛÉÁÝïñ³Ýù³ÛÇÝ Ë³÷³ÝÙ³Ý ÙÇçáó ÏÇñ³é»Éáõ Ù³ëÇÝ ÙÇçÝáñ¹áõÃÛáõÝÝ»ñ | D9: 0 | E9: 35 | F9: 32 | G9: 3 | H9: 0 | I9: 0 | J9: 35 | K9: 0 | L9: 0 | M9: 1 | N9: =D9+E9 -> 35 | O9: =J9+K9+L9 -> 35 | P9: =J9 -> 35 | Q9: =F9+G9+H9+I9 -> 35
A10: 5 | B10: Ëáõ½³ñÏáõÃÛ³Ý Ï³ï³ñÙ³Ý Ù³ëÇÝ ÙÇçÝáñ¹áõÃÛáõÝÝ»ñ | D10: 0 | E10: 45 | F10: 1 | G10: 44 | H10: 0 | I10: 0 | J10: 45 | K10: 0 | L10: 0 | M10: 0 | N10: =D10+E10 -> 45 | O10: =J10+K10+L10 -> 45 | P10: =J10 -> 45 | Q10: =F10+G10+H10+I10 -> 45
A11: 6 | B11: µ³ÝÏ³ÛÇÝ, ³å³Ñáí³·ñ³Ï³Ý, Ýáï³ñ³Ï³Ý ·³ÕïÝÇù Ï³½ÙáÕ ï»Õ»ÏáõÃÛáõÝÝ»ñÇ ëï³óÙ³Ý Ñ³Ù³ñ Ëáõ½³ñÏáõÃÛ³Ý Ï³Ù ³é·ñ³íÙ³Ý Ï³ï³ñÙ³Ý Ù³ëÇÝ ÙÇçÝáñ¹áõÃÛáõÝÝ»ñ | D11: 0 | E11: 2 | F11: 0 | G11: 0 | H11: 2 | I11: 0 | J11: 2 | K11: 0 | L11: 0 | M11: 0 | N11: =D11+E11 -> 2 | O11: =J11+K11+L11 -> 2 | P11: =J11 -> 2 | Q11: =F11+G11+H11+I11 -> 2
A12: 7 | B12: Ý³Ù³Ï³·ñáõÃÛ³Ý, Ñ»é³·ñ³Ï³Ý, ÷áuï³ÛÇÝ Ñ³Õáñ¹áõÙÝ»ñÇ ÑëÏáÕáõÃÛ³Ý Ù³ëÇÝ ÙÇçÝáñ¹áõÃÛáõÝÝ»ñ | N12: =D12+E12 -> 0 | O12: =J12+K12+L12 -> 0 | P12: =J12 -> 0 | Q12: =F12+G12+H12+I12 -> 0
A13: 8 | B13: Ñ»é³Ëáu³ÛÇÝ Ï³Ù Ï³åÇ ³ÛÉ ÙÇçáóÝ»ñáí ï³ñíáÕ Ëáu³ÏóáõÃÛáõÝÝ»ñÇ ÉuÙ³Ý ¨ Ó³ÛÝ³·ñ³éÙ³Ý Ù³ëÇÝ ÙÇçÝáñ¹áõÃÛáõÝÝ»ñ | D13: 0 | E13: 1 | F13: 0 | G13: 1 | H13: 0 | I13: 0 | J13: 1 | K13: 0 | L13: 0 | M13: 0 | N13: =D13+E13 -> 1 | O13: =J13+K13+L13 -> 1 | P13: =J13 -> 1 | Q13: =F13+G13+H13+I13 -> 1
A14: 9 | B14: Ñ»é³ËáëÝ»ñÇ Ùáõïù³ÛÇÝ ¨ »Éù³ÛÇÝ í»ñÍ³ÝÙ³Ý ÃáõÛÉïíáõÃÛáõÝ ëï³Ý³Éáõ Ù³ëÇÝ ÙÇçÝáñ¹áõÃÛáõÝÝ»ñ | D14: 0 | E14: 69 | F14: 5 | G14: 64 | H14: 0 | I14: 0 | J14: 69 | K14: 0 | L14: 0 | M14: 2 | N14: =D14+E14 -> 69 | O14: =J14+K14+L14 -> 69 | P14: =J14 -> 69 | Q14: =F14+G14+H14+I14 -> 69
A15: 10 | B15: Ñ»ï³ùÝÝáõÃÛ³Ý Ù³ñÙÝÇ ³ßË³ïáÕÇ, ùÝÝÇãÇ, ¹³ï³Ë³½Ç oå»ñ³ïÇí-Ñ»ï³Ëáõ½³Ï³Ý ·áñÍáÕáõÃÛáõÝÝ»ñ Çñ³Ï³Ý³óÝáÕ Ù³ñÙÇÝÝ»ñÇ ³ÝoñÇÝ³Ï³Ý ¨ ³ÝÑÇÙÝ áñáßáõÙÝ»ñÇ ¨ ·áñÍáÕáõÃÛáõÝÝ»ñÇ ¹»Ù µáÕáùÝ»ñ | D15: 0 | E15: 13 | F15: 5 | G15: 0 | H15: 0 | I15: 1 | J15: 6 | K15: 0 | L15: 7 | M15: 2 | N15: =D15+E15 -> 13 | O15: =J15+K15+L15 -> 13 | P15: =J15 -> 6 | Q15: =F15+G15+H15+I15 -> 6
A16: 2. ¸³ï³Ï³Ý ³Ïï»ñÇ ¨ ¹³ï³Ï³Ý Ñ³ÝÓÝ³ñ³ñáõÃÛáõÝÝ»ñÇ Ï³ï³ñÙ³Ý Ñ»ï Ï³åí³Í Ñ³ñó»ñÇ ÉáõÍÙ³Ý áÉáñï
A17: 1 | B17: å³ïÅÇó å³ÛÙ³Ý³Ï³Ý í³Õ³Å³ÙÏ»ï ³½³ï»Éáõ Ù³ëÇÝ ÙÇçÝáñ¹áõÃÛáõÝÝ»ñ | D17: 0 | E17: 1 | F17: 1 | G17: 0 | H17: 0 | I17: 0 | J17: 1 | K17: 0 | L17: 0 | M17: 1 | N17: =D17+E17 -> 1 | O17: =J17+K17+L17 -> 1 | P17: =J17 -> 1 | Q17: =F17+G17+H17+I17 -> 1
A18: 2 | B18: å³ïÇÅÁ ÷á÷áË»Éáõ, Ñ»ï³Ó·»Éáõ ¨ å³ïÅÇó ³½³ï»Éáõ Ù³uÇÝ ÙÇçÝáñ¹áõÃÛáõÝÝ»ñ | D18: 0 | E18: 1 | F18: 0 | G18: 0 | H18: 0 | I18: 0 | J18: 0 | K18: 0 | L18: 1 | M18: 0 | N18: =D18+E18 -> 1 | O18: =J18+K18+L18 -> 1 | P18: =J18 -> 0 | Q18: =F18+G18+H18+I18 -> 0
A19: 3 | B19: Ñ³ñÏ³¹Çñ µáõÅÙ³Ý ï»ë³ÏÇ ÷á÷áËáõÃÛ³Ý Ù³ëÇÝ ÙÇçÝáñ¹áõÃÛáõÝÝ»ñ | D19: 0 | E19: 1 | F19: 1 | G19: 0 | H19: 0 | I19: 0 | J19: 1 | K19: 0 | L19: 0 | M19: 1 | N19: =D19+E19 -> 1 | O19: =J19+K19+L19 -> 1 | P19: =J19 -> 1 | Q19: =F19+G19+H19+I19 -> 1
A20: 4 | B20: ³ÛÉ ÙÇçÝáñ¹áõÃÛáõÝÝ»ñ | D20: 0 | E20: 6 | F20: 1 | G20: 4 | H20: 1 | I20: 0 | J20: 6 | K20: 0 | L20: 0 | M20: 1 | N20: =D20+E20 -> 6 | O20: =J20+K20+L20 -> 6 | P20: =J20 -> 6 | Q20: =F20+G20+H20+I20 -> 6
A21: 5 | B21: ¹³ï³Ï³Ý Ñ³ÝÓÝ³ñ³ñáõÃÛáõÝÝ»ñ | D21: 5 | E21: 3 | F21: 0 | G21: 3 | H21: 0 | I21: 0 | J21: 3 | K21: 0 | L21: 5 | M21: 0 | N21: =D21+E21 -> 8 | O21: =J21+K21+L21 -> 8 | P21: =J21 -> 3 | Q21: =F21+G21+H21+I21 -> 3
A22: ÀÜ¸²ØºÜÀ | D22: =SUM(D6:D15,D17:D21) -> 5 | E22: =SUM(E6:E15,E17:E21) -> 307 | F22: =SUM(F6:F15,F17:F21) -> 66 | G22: =SUM(G6:G15,G17:G21) -> 226 | H22: =SUM(H6:H15,H17:H21) -> 5 | I22: =SUM(I6:I15,I17:I21) -> 2 | J22: =SUM(J6:J15,J17:J21) -> 299 | K22: =SUM(K6:K15,K17:K21) -> 0 | ... Q22: =SUM(Q6:Q15,Q17:Q21) -> 299

Sheet Armavir
A1: 2016Ã. 1-ԻՆ ԿԻՍԱՄՅԱԿ | C1: Ð²ÞìºîìàôÂÚàôÜ | K1: Ð³í»Éí³Í Ð³Û³ëï³ÝÇ Ð³Ýñ³å»ïáõÃÛ³Ý ¸³ï³ñ³ÝÝ»ñÇ Ý³Ë³·³ÑÝ»ñÇ ËáñÑñ¹Ç 25.08.2016Ã. ÃÇí 44-È áñáßÙ³Ý
A2: ØÇÝã¹³ï³Ï³Ý í³ñáõÛÃÇ ÝÏ³ïÙ³Ùµ ¹³ï³Ï³Ý í»ñ³ÑëÏáÕáõÃÛ³ÝÁ, ¹³ï³Ï³Ý ³Ïï»ñÇ ¨ ¹³ï³Ï³Ý Ñ³ÝÓÝ³ñ³ñáõÃÛáõÝÝ»ñÇ Ï³ï³ñÙ³ÝÁ Ñ»ï Ï³åí³Í ÙÇçÝáñ¹áõÃÛáõÝÝ»ñÇ í»ñ³µ»ñÛ³É ¹³ï³Ï³Ý ·áñÍ»ñáí ÐÐ Արմավիրի մարզի ÁÝ¹Ñ³Ýáõñ Çñ³í³ëáõÃÛ³Ý ³é³çÇÝ ³ïÛ³ÝÇ ¹³ï³ñ³ÝÇ ·áñÍáõÝ»áõÃÛ³Ý í»ñ³µ»ñÛ³É
D3: Ñ³ßí»ïáõ Å³Ù³Ý³Ï³Ñ³ïí³ÍÇ ëÏ½µáõÙ Ý³Ëáñ¹ Ñ³ßí»ïáõ Å³Ù³Ý³Ï³Ñ³ïí³ÍÇó ÷áË³Ýóí³Í ·áñÍ»ñÇ ÁÝ¹Ñ³Ýáõñ ÃÇíÁ | E3: Ñ³ßí»ïáõ Å³Ù³Ý³Ï³Ñ³ïí³ÍáõÙ ëï³óí³Í ·áñÍ»ñÇ ÁÝ¹Ñ³Ýáõñ ÃÇíÁ | F3: Ñ³ßí»ïáõ Å³Ù³Ý³Ï³Ñ³ïí³ÍáõÙ ³í³ñïí³Í ·áñÍ»ñÇ ÁÝ¹Ñ³Ýáõñ ÃÇíÁ | K3: áõÕ³ñÏí»É ¿ Áëï ÁÝ¹¹³ïáõÃÛ³Ý | L3: Ñ³ßí»ïáõ Å³Ù³Ý³Ï³Ñ³ïí³ÍáõÙ ³Ý³í³ñï ·áñÍ»ñÇ ÁÝ¹Ñ³Ýáõñ ÃÇíÁ | M3: µáÕáù³ñÏí»É ¿ í»ñ³ùÝÝÇã ¹³ï³ñ³Ý
F4: Ù»ñÅí»É ¿ | G4: µ³í³ñ³ñí»É ¿ | H4: µ³í³ñ³ñí»É ¿ Ù³ëÝ³ÏÇ | I4: ÃáÕÝí»É ¿ ³é³Ýó ùÝÝáõÃÛ³Ý | J4: ÁÝ¹³Ù»ÝÁ
A5: 1. ØÇÝã¹³ï³Ï³Ý í³ñáõÛÃÇ ÝÏ³ïÙ³Ùµ ¹³ï³Ï³Ý í»ñ³ÑëÏáÕáõÃÛ³Ý áÉáñï | D5: 1 | E5: 2 | F5: 3 | G5: 4 | H5: 5 | I5: 6 | J5: 7 | K5: 8 | L5: 9 | M5: 10 | N5: 1+2=7+8+9 | P5: 7=3+4+5+6
A6: 1 | B6: Ï³É³ÝùÁ áñå»ë Ë³÷³ÝÙ³Ý ÙÇçáó ÏÇñ³é»Éáõ Ù³ëÇÝ ÙÇçÝáñ¹áõÃÛáõÝÝ»ñ | E6: 35 | F6: 2 | G6: 33 | J6: 35 | M6: 8 | N6: =D6+E6 -> 35 | O6: =J6+K6+L6 -> 35 | P6: =J6 -> 35 | Q6: =F6+G6+H6+I6 -> 35
A7: 2 | B7: Ï³É³ÝùÇ Å³ÙÏ»ïÁ »ñÏ³ñ³óÝ»Éáõ Ù³ëÇÝ ÙÇçÝáñ¹áõÃÛáõÝÝ»ñ | E7: 32 | F7: 2 | G7: 29 | H7: 1 | J7: 32 | M7: 8 | N7: =D7+E7 -> 32 | O7: =J7+K7+L7 -> 32 | P7: =J7 -> 32 | Q7: =F7+G7+H7+I7 -> 32
A8: 3 | B8: Ï³É³ÝùÇ í»ñ³Ñ³ëï³ïÙ³Ý Ù³ëÇÝ ÙÇçÝáñ¹áõÃÛáõÝÝ»ñ | E8: 5 | G8: 4 | H8: 1 | J8: 5 | N8: =D8+E8 -> 5 | O8: =J8+K8+L8 -> 5 | P8: =J8 -> 5 | Q8: =F8+G8+H8+I8 -> 5
A9: 4 | B9: ·ñ³íÁ áñå»ë Ï³É³Ý³íáñÙ³Ý ³ÛÉÁÝïñ³Ýù³ÛÇÝ Ë³÷³ÝÙ³Ý ÙÇçáó ÏÇñ³é»Éáõ Ù³ëÇÝ ÙÇçÝáñ¹áõÃÛáõÝÝ»ñ | E9: 26 | F9: 23 | G9: 3 | J9: 26 | M9: 4 | N9: =D9+E9 -> 26 | O9: =J9+K9+L9 -> 26 | P9: =J9 -> 26 | Q9: =F9+G9+H9+I9 -> 26
A10: 5 | B10: Ëáõ½³ñÏáõÃÛ³Ý Ï³ï³ñÙ³Ý Ù³ëÇÝ ÙÇçÝáñ¹áõÃÛáõÝÝ»ñ | E10: 122 | G10: 122 | J10: 122 | N10: =D10+E10 -> 122 | O10: =J10+K10+L10 -> 122 | P10: =J10 -> 122 | Q10: =F10+G10+H10+I10 -> 122
A11: 6 | B11: µ³ÝÏ³ÛÇÝ, ³å³Ñáí³·ñ³Ï³Ý, Ýáï³ñ³Ï³Ý ·³ÕïÝÇù Ï³½ÙáÕ ï»Õ»ÏáõÃÛáõÝÝ»ñÇ ëï³óÙ³Ý Ñ³Ù³ñ Ëáõ½³ñÏáõÃÛ³Ý Ï³Ù ³é·ñ³íÙ³Ý Ï³ï³ñÙ³Ý Ù³ëÇÝ ÙÇçÝáñ¹áõÃÛáõÝÝ»ñ | E11: 2 | G11: 2 | J11: 2 | N11: =D11+E11 -> 2 | O11: =J11+K11+L11 -> 2 | P11: =J11 -> 2 | Q11: =F11+G11+H11+I11 -> 2
A12: 7 | B12: Ý³Ù³Ï³·ñáõÃÛ³Ý, Ñ»é³·ñ³Ï³Ý, ÷áuï³ÛÇÝ Ñ³Õáñ¹áõÙÝ»ñÇ ÑëÏáÕáõÃÛ³Ý Ù³ëÇÝ ÙÇçÝáñ¹áõÃÛáõÝÝ»ñ | N12: =D12+E12 -> 0 | O12: =J12+K12+L12 -> 0 | P12: =J12 -> 0 | Q12: =F12+G12+H12+I12 -> 0
A13: 8 | B13: Ñ»é³Ëáu³ÛÇÝ Ï³Ù Ï³åÇ ³ÛÉ ÙÇçáóÝ»ñáí ï³ñíáÕ Ëáu³ÏóáõÃÛáõÝÝ»ñÇ ÉuÙ³Ý ¨ Ó³ÛÝ³·ñ³éÙ³Ý Ù³ëÇÝ ÙÇçÝáñ¹áõÃÛáõÝÝ»ñ | E13: 1 | G13: 1 | J13: 1 | N13: =D13+E13 -> 1 | O13: =J13+K13+L13 -> 1 | P13: =J13 -> 1 | Q13: =F13+G13+H13+I13 -> 1
A14: 9 | B14: Ñ»é³ËáëÝ»ñÇ Ùáõïù³ÛÇÝ ¨ »Éù³ÛÇÝ í»ñÍ³ÝÙ³Ý ÃáõÛÉïíáõÃÛáõÝ ëï³Ý³Éáõ Ù³ëÇÝ ÙÇçÝáñ¹áõÃÛáõÝÝ»ñ | E14: 91 | G14: 90 | H14: 1 | J14: 91 | N14: =D14+E14 -> 91 | O14: =J14+K14+L14 -> 91 | P14: =J14 -> 91 | Q14: =F14+G14+H14+I14 -> 91
A15: 10 | B15: Ñ»ï³ùÝÝáõÃÛ³Ý Ù³ñÙÝÇ ³ßË³ïáÕÇ, ùÝÝÇãÇ, ¹³ï³Ë³½Ç oå»ñ³ïÇí-Ñ»ï³Ëáõ½³Ï³Ý ·áñÍáÕáõÃÛáõÝÝ»ñ Çñ³Ï³Ý³óÝáÕ Ù³ñÙÇÝÝ»ñÇ ³ÝoñÇÝ³Ï³Ý ¨ ³ÝÑÇÙÝ áñáßáõÙÝ»ñÇ ¨ ·áñÍáÕáõÃÛáõÝÝ»ñÇ ¹»Ù µáÕáùÝ»ñ | D15: 2 | E15: 20 | F15: 5 | G15: 8 | I15: 1 | J15: 14 | L15: 6 | M15: 2 | N15: =D15+E15 -> 22 | O15: =J15+K15+L15 -> 20 | P15: =J15 -> 14 | Q15: =F15+G15+H15+I15 -> 14
A16: 2. ¸³ï³Ï³Ý ³Ïï»ñÇ ¨ ¹³ï³Ï³Ý Ñ³ÝÓÝ³ñ³ñáõÃÛáõÝÝ»ñÇ Ï³ï³ñÙ³Ý Ñ»ï Ï³åí³Í Ñ³ñó»ñÇ ÉáõÍÙ³Ý áÉáñï
A17: 1 | B17: å³ïÅÇó å³ÛÙ³Ý³Ï³Ý í³Õ³Å³ÙÏ»ï ³½³ï»Éáõ Ù³ëÇÝ ÙÇçÝáñ¹áõÃÛáõÝÝ»ñ | E17: 9 | F17: 4 | G17: 5 | J17: 9 | N17: =D17+E17 -> 9 | O17: =J17+K17+L17 -> 9 | P17: =J17 -> 9 | Q17: =F17+G17+H17+I17 -> 9
A18: 2 | B18: å³ïÇÅÁ ÷á÷áË»Éáõ, Ñ»ï³Ó·»Éáõ ¨ å³ïÅÇó ³½³ï»Éáõ Ù³uÇÝ ÙÇçÝáñ¹áõÃÛáõÝÝ»ñ | E18: 4 | F18: 2 | G18: 1 | J18: 3 | L18: 1 | N18: =D18+E18 -> 4 | O18: =J18+K18+L18 -> 4 | P18: =J18 -> 3 | Q18: =F18+G18+H18+I18 -> 3
A19: 3 | B19: Ñ³ñÏ³¹Çñ µáõÅÙ³Ý ï»ë³ÏÇ ÷á÷áËáõÃÛ³Ý Ù³ëÇÝ ÙÇçÝáñ¹áõÃÛáõÝÝ»ñ | E19: 5 | G19: 5 | J19: 5 | N19: =D19+E19 -> 5 | O19: =J19+K19+L19 -> 5 | P19: =J19 -> 5 | Q19: =F19+G19+H19+I19 -> 5
A20: 4 | B20: ³ÛÉ ÙÇçÝáñ¹áõÃÛáõÝÝ»ñ | E20: 8 | F20: 2 | G20: 5 | J20: 7 | L20: 1 | M20: 2 | N20: =D20+E20 -> 8 | O20: =J20+K20+L20 -> 8 | P20: =J20 -> 7 | Q20: =F20+G20+H20+I20 -> 7
A21: 5 | B21: ¹³ï³Ï³Ý Ñ³ÝÓÝ³ñ³ñáõÃÛáõÝÝ»ñ | D21: 3 | E21: 3 | G21: 3 | J21: 3 | K21: 3 | N21: =D21+E21 -> 6 | O21: =J21+K21+L21 -> 6 | P21: =J21 -> 3 | Q21: =F21+G21+H21+I21 -> 3
A22: ÀÜ¸²ØºÜÀ | D22: =SUM(D6:D15,D17:D21) -> 5 | E22: =SUM(E6:E15,E17:E21) -> 363 | F22: =SUM(F6:F15,F17:F21) -> 40 | G22: =SUM(G6:G15,G17:G21) -> 311 | H22: =SUM(H6:H15,H17:H21) -> 3 | I22: =SUM(I6:I15,I17:I21) -> 1 | J22: =SUM(J6:J15,J17:J21) -> 355 | K22: =SUM(K6:K15,K17:K21) -> 3 | ... Q22: =SUM(Q6:Q15,Q17:Q21) -> 355
C26: հետաքննության մարմնի աշխատողի,,,, բողոքների մեջ 2 գործ միացվել է,

Sheet Shirak
A1: 2016Ã. 1-ԻՆ ԿԻՍԱՄՅԱԿ | C1: Ð²ÞìºîìàôÂÚàôÜ | K1: Ð³í»Éí³Í Ð³Û³ëï³ÝÇ Ð³Ýñ³å»ïáõÃÛ³Ý ¸³ï³ñ³ÝÝ»ñÇ Ý³Ë³·³ÑÝ»ñÇ ËáñÑñ¹Ç 25.08.2016Ã. ÃÇí 44-È áñáßÙ³Ý
