Workbook

Sheet Ընդհամենը
A1: Ð²ÞìºîìàôÂÚàôÜ
A2: ¶ºÔ²ðøàôÜÆøÆ Ø²ð¼Æ ÀÜ¸Ð²Üàôð Æð²ì²êàôÂÚ²Ü ²è²æÆÜ ²îÚ²ÜÆ ¸²î²ð²ÜÆ
H3: ¶àðÌàôÜºàôÂÚ²Ü ìºð²´ºðÚ²È êÜ²ÜÎàôÂÚ²Ü ¶àðÌºðՈՎ 2015թ.
A4: ìÇ×³Ï³·ñ³Ï³Ý ïáÕÇ Ñ³Ù³ñÁ | B4: êïáõ·Çã Ñ³í³ë³ñáõÙÝ»ñ` 1+7=8+16+17, 2=3+4, 2=5+6+7, 7=9+10+11+12 | E4: ²Ý³í³ñï ·áñÍ»ñÇ ÙÝ³óáñ¹Á Ñ³ßí»ïáõ Å³Ù³Ý³Ï³ßñç³ÝÇ ëÏ½µáõÙ | F4: êï³óí³Í ¹ÇÙáõÙÝ»ñÇ (·áñÍ»ñ) ù³Ý³ÏÁ | L4: öáË³Ýóí»É ¿ ³ÛÉ ¹³ï³íáñÇ (Ï³½ÙÇ ÷á÷áËáõÃÛáõÝ) | M4: ì³ñáõÛÃ ÁÝ¹áõÝí³Í ¹ÇÙáõÙÝ»ñáí Ï³Û³óí³Í ¹³ï³Ï³Ý ³Ïï»ñ | Q4: Ü»ñÏ³Û³óí»É ¿ ýÇÝ³Ýë³Ï³Ý ³éáÕç³óÙ³Ý Íñ³·Çñ | T4: ²í³ñïí»É »Ý ·áñÍ»ñ Ñ³ßí»ïáõ Å³Ù³Ý³Ï³ßñç³ÝáõÙ | U4: ²Ý³í³ñï ·áñÍ»ñÇ ÙÝ³óáñ¹Á Ñ³ßí»ïáõ Å³Ù³Ý³Ï³ßñç³ÝÇ í»ñçáõÙ | V4: ´áÕáù³ñÏí»É »Ý í»ñ³ùÝÝÇã ¹³ï³ñ³Ý
F6: ÀÝ¹³Ù»ÝÁ | G6: ³Û¹ ÃíáõÙ Ñ³ñÏ³¹ñí³Í ëÝ³ÝÏáõÃÛáõÝ | H6: ³Û¹ ÃíáõÙ Ï³Ù³íáñ ëÝ³ÝÏáõÃÛáõÝ | I6: ëï³óí³Í ¹ÇÙáõÙÝ»ñÇ ÁÝÃ³óùÁ | M6: Ï³Û³óí»É ¿ å³ñï³å³ÝÇÝ ëÝ³ÝÏ ×³Ý³ã»Éáõ Ù³ëÇÝ í×Çé | N6: å³ñï³å³ÝÇÝ ëÝ³ÝÏ ×³Ý³ã»Éáõ ¹ÇÙáõÙÁ Ù»ñÅí»É ¿ | O6: ¹ÇÙáõÙÁ ÃáÕÝí»É ¿ ³é³Ýó ùÝÝáõÃÛ³Ý | P6: ³Ý³í³ñï (³Û¹ ÃíáõÙ Ï³ë»óí³Í) | Q6: ÀÝ¹³Ù»ÝÁ | R6: ÃáÕÝí»É ¿ ³é³Ýó ùÝÝ³ñÏÙ³Ý | S6: Ñ³ëï³ïí»É ¿
I8: ¸ÇÙáõÙÇ ÁÝ¹áõÝáõÙÁ Ù»ñÅí»É ¿ | J8: ¸ÇÙáõÙÁ í»ñ³¹³ñÓí»É ¿ | K8: ÀÝ¹áõÝí»É ¿ í³ñáõÛÃ
E18: 1 | F18: 2 | G18: 3 | H18: 4 | I18: 5 | J18: 6 | K18: 7 | L18: 8 | M18: 9 | N18: 10 | O18: 11 | P18: 12 | Q18: 13 | R18: 14 | S18: 15 | T18: 16 | U18: 17 | V18: 18 | W18: 1+7=8+16+17 | Y18: 2=3+4 | AA18: 2=5+6+7 | AC18: 7=9+10+11+12
A19: 1 | B19: Æñ³í³µ³Ý³Ï³Ý ³ÝÓÇ ëÝ³ÝÏáõÃÛ³Ý í»ñ³µ»ñÛ³É | E19: =Ա.Թամրազյան!E19+Ա.Գաբրիելյան!E19 -> 61 | F19: =Ա.Թամրազյան!F19+Ա.Գաբրիելյան!F19 -> 31 | G19: =Ա.Թամրազյան!G19+Ա.Գաբրիելյան!G19 -> 30 | H19: =Ա.Թամրազյան!H19+Ա.Գաբրիելյան!H19 -> 1 | I19: =Ա.Թամրազյան!I19+Ա.Գաբրիելյան!I19 -> 0 | J19: =Ա.Թամրազյան!J19+Ա.Գաբրիելյան!J19 -> 2 | K19: =Ա.Թամրազյան!K19+Ա.Գաբրիելյան!K19 -> 29 | L19: =Ա.Թամրազյան!L19+Ա.Գաբրիելյան!M19 -> 6 | M19: =Ա.Թամրազյան!M19+Ա.Գաբրիելյան!M19 -> 6 | N19: =Ա.Թամրազյան!N19+Ա.Գաբրիելյան!N19 -> 0 | O19: =Ա.Թամրազյան!O19+Ա.Գաբրիելյան!O19 -> 1 | P19: =Ա.Թամրազյան!P19+Ա.Գաբրիելյան!P19 -> 22 | Q19: =Ա.Թամրազյան!Q19+Ա.Գաբրիելյան!Q19 -> 0 | R19: =Ա.Թամրազյան!R19+Ա.Գաբրիելյան!R19 -> 0 | S19: =Ա.Թամրազյան!S19+Ա.Գաբրիելյան!S19 -> 0 | T19: =Ա.Թամրազյան!T19+Ա.Գաբրիելյան!T19 -> 13 | ... V19: =Ա.Թամրազյան!V19+Ա.Գաբրիելյան!V19 -> 2 | W19: =E19+K19 -> 90 | X19: =L19+T19+U19 -> 96 | Y19: =F19 -> 31 | Z19: =G19+H19 -> 31 | AA19: =F19 -> 31 | AB19: =I19+J19+K19 -> 31 | AC19: =K19 -> 29 | AD19: =M19+N19+O19+P19 -> 29
A20: 2 | B20: ²ÝÑ³ï Ó»éÝ»ñ»óÇ ëÝ³ÝÏáõÃÛ³Ý í»ñ³µ»ñÛ³É | E20: =Ա.Թամրազյան!E20+Ա.Գաբրիելյան!E20 -> 10 | F20: =Ա.Թամրազյան!F20+Ա.Գաբրիելյան!F20 -> 2 | G20: =Ա.Թամրազյան!G20+Ա.Գաբրիելյան!G20 -> 2 | H20: =Ա.Թամրազյան!H20+Ա.Գաբրիելյան!H20 -> 0 | I20: =Ա.Թամրազյան!I20+Ա.Գաբրիելյան!I20 -> 0 | J20: =Ա.Թամրազյան!J20+Ա.Գաբրիելյան!J20 -> 0 | K20: =Ա.Թամրազյան!K20+Ա.Գաբրիելյան!K20 -> 2 | L20: =Ա.Թամրազյան!L20+Ա.Գաբրիելյան!M20 -> 1 | M20: =Ա.Թամրազյան!M20+Ա.Գաբրիելյան!M20 -> 1 | N20: =Ա.Թամրազյան!N20+Ա.Գաբրիելյան!N20 -> 0 | O20: =Ա.Թամրազյան!O20+Ա.Գաբրիելյան!O20 -> 0 | P20: =Ա.Թամրազյան!P20+Ա.Գաբրիելյան!P20 -> 1 | Q20: =Ա.Թամրազյան!Q20+Ա.Գաբրիելյան!Q20 -> 0 | R20: =Ա.Թամրազյան!R20+Ա.Գաբրիելյան!R20 -> 0 | S20: =Ա.Թամրազյան!S20+Ա.Գաբրիելյան!S20 -> 0 | T20: =Ա.Թամրազյան!T20+Ա.Գաբրիելյան!T20 -> 0 | ... V20: =Ա.Թամրազյան!V20+Ա.Գաբրիելյան!V20 -> 0 | W20: =E20+K20 -> 12 | X20: =L20+T20+U20 -> 13 | Y20: =F20 -> 2 | Z20: =G20+H20 -> 2 | AA20: =F20 -> 2 | AB20: =I20+J20+K20 -> 2 | AC20: =K20 -> 2 | AD20: =M20+N20+O20+P20 -> 2
A21: 3 | B21: üÇ½ÇÏ³Ï³Ý ³ÝÓ³Ýó ëÝ³ÝÏáõÃÛ³Ý í»ñ³µ»ñÛ³É | E21: =Ա.Թամրազյան!E21+Ա.Գաբրիելյան!E21 -> 33 | F21: =Ա.Թամրազյան!F21+Ա.Գաբրիելյան!F21 -> 28 | G21: =Ա.Թամրազյան!G21+Ա.Գաբրիելյան!G21 -> 26 | H21: =Ա.Թամրազյան!H21+Ա.Գաբրիելյան!H21 -> 2 | I21: =Ա.Թամրազյան!I21+Ա.Գաբրիելյան!I21 -> 0 | J21: =Ա.Թամրազյան!J21+Ա.Գաբրիելյան!J21 -> 3 | K21: =Ա.Թամրազյան!K21+Ա.Գաբրիելյան!K21 -> 25 | L21: =Ա.Թամրազյան!L21+Ա.Գաբրիելյան!M21 -> 5 | M21: =Ա.Թամրազյան!M21+Ա.Գաբրիելյան!M21 -> 5 | N21: =Ա.Թամրազյան!N21+Ա.Գաբրիելյան!N21 -> 0 | O21: =Ա.Թամրազյան!O21+Ա.Գաբրիելյան!O21 -> 0 | P21: =Ա.Թամրազյան!P21+Ա.Գաբրիելյան!P21 -> 19 | Q21: =Ա.Թամրազյան!Q21+Ա.Գաբրիելյան!Q21 -> 1 | R21: =Ա.Թամրազյան!R21+Ա.Գաբրիելյան!R21 -> 0 | S21: =Ա.Թամրազյան!S21+Ա.Գաբրիելյան!S21 -> 1 | T21: =Ա.Թամրազյան!T21+Ա.Գաբրիելյան!T21 -> 7 | ... V21: =Ա.Թամրազյան!V21+Ա.Գաբրիելյան!V21 -> 2 | W21: =E21+K21 -> 58 | X21: =L21+T21+U21 -> 63 | Y21: =F21 -> 28 | Z21: =G21+H21 -> 28 | AA21: =F21 -> 28 | AB21: =I21+J21+K21 -> 28 | AC21: =K21 -> 25 | AD21: =M21+N21+O21+P21 -> 24
A22: 4 | B22: ԸՆԴՀԱՄԵՆԸ | E22: =Ա.Թամրազյան!E22+Ա.Գաբրիելյան!E22 -> 0 | F22: =Ա.Թամրազյան!F22+Ա.Գաբրիելյան!F22 -> 0 | G22: =Ա.Թամրազյան!G22+Ա.Գաբրիելյան!G22 -> 0 | H22: =Ա.Թամրազյան!H22+Ա.Գաբրիելյան!H22 -> 0 | I22: =Ա.Թամրազյան!I22+Ա.Գաբրիելյան!I22 -> 0 | J22: =Ա.Թամրազյան!J22+Ա.Գաբրիելյան!J22 -> 0 | K22: =Ա.Թամրազյան!K22+Ա.Գաբրիելյան!K22 -> 0 | L22: =Ա.Թամրազյան!L22+Ա.Գաբրիելյան!M22 -> 0 | M22: =Ա.Թամրազյան!M22+Ա.Գաբրիելյան!M22 -> 0 | N22: =Ա.Թամրազյան!N22+Ա.Գաբրիելյան!N22 -> 0 | O22: =Ա.Թամրազյան!O22+Ա.Գաբրիելյան!O22 -> 0 | P22: =Ա.Թամրազյան!P22+Ա.Գաբրիելյան!P22 -> 0 | Q22: =Ա.Թամրազյան!Q22+Ա.Գաբրիելյան!Q22 -> 0 | R22: =Ա.Թամրազյան!R22+Ա.Գաբրիելյան!R22 -> 0 | S22: =Ա.Թամրազյան!S22+Ա.Գաբրիելյան!S22 -> 0 | T22: =Ա.Թամրազյան!T22+Ա.Գաբրիելյան!T22 -> 0 | ... V22: =Ա.Թամրազյան!V22+Ա.Գաբրիելյան!V22 -> 0 | W22: =E22+K22 -> 0 | X22: =L22+T22+U22 -> 0 | Y22: =F22 -> 0 | Z22: =G22+H22 -> 0 | AA22: =F22 -> 0 | AB22: =I22+J22+K22 -> 0 | AC22: =K22 -> 0 | AD22: =M22+N22+O22+P22 -> 0

Sheet Ա.Թամրազյան
A1: Ð²ÞìºîìàôÂÚàôÜ
A2: ¶ºÔ²ðøàôÜÆøÆ Ø²ð¼Æ ÀÜ¸Ð²Üàôð Æð²ì²êàôÂÚ²Ü ²è²æÆÜ ²îÚ²ÜÆ ¸²î²ð²ÜÆ ¸²î²ìàð
A3: ². Â²Øð²¼Ú²ÜÆ | H3: ¶àðÌàôÜºàôÂÚ²Ü ìºð²´ºðÚ²È êÜ²ÜÎàôÂÚ²Ü ¶àðÌºðàì 2015թ.
A4: ìÇ×³Ï³·ñ³Ï³Ý ïáÕÇ Ñ³Ù³ñÁ | B4: êïáõ·Çã Ñ³í³ë³ñáõÙÝ»ñ` 1+7=8+16+17, 2=3+4, 2=5+6+7, 7=9+10+11+12 | E4: ²Ý³í³ñï ·áñÍ»ñÇ ÙÝ³óáñ¹Á Ñ³ßí»ïáõ Å³Ù³Ý³Ï³ßñç³ÝÇ ëÏ½µáõÙ | F4: êï³óí³Í ¹ÇÙáõÙÝ»ñÇ (·áñÍ»ñ) ù³Ý³ÏÁ | L4: öáË³Ýóí»É ¿ ³ÛÉ ¹³ï³íáñÇ (Ï³½ÙÇ ÷á÷áËáõÃÛáõÝ) | M4: ì³ñáõÛÃ ÁÝ¹áõÝí³Í ¹ÇÙáõÙÝ»ñáí Ï³Û³óí³Í ¹³ï³Ï³Ý ³Ïï»ñ | Q4: Ü»ñÏ³Û³óí»É ¿ ýÇÝ³Ýë³Ï³Ý ³éáÕç³óÙ³Ý Íñ³·Çñ | T4: ²í³ñïí»É »Ý ·áñÍ»ñ Ñ³ßí»ïáõ Å³Ù³Ý³Ï³ßñç³ÝáõÙ | U4: ²Ý³í³ñï ·áñÍ»ñÇ ÙÝ³óáñ¹Á Ñ³ßí»ïáõ Å³Ù³Ý³Ï³ßñç³ÝÇ í»ñçáõÙ | V4: ´áÕáù³ñÏí»É »Ý í»ñ³ùÝÝÇã ¹³ï³ñ³Ý
F6: ÀÝ¹³Ù»ÝÁ | G6: ³Û¹ ÃíáõÙ Ñ³ñÏ³¹ñí³Í ëÝ³ÝÏáõÃÛáõÝ | H6: ³Û¹ ÃíáõÙ Ï³Ù³íáñ ëÝ³ÝÏáõÃÛáõÝ | I6: ëï³óí³Í ¹ÇÙáõÙÝ»ñÇ ÁÝÃ³óùÁ | M6: Ï³Û³óí»É ¿ å³ñï³å³ÝÇÝ ëÝ³ÝÏ ×³Ý³ã»Éáõ Ù³ëÇÝ í×Çé | N6: å³ñï³å³ÝÇÝ ëÝ³ÝÏ ×³Ý³ã»Éáõ ¹ÇÙáõÙÁ Ù»ñÅí»É ¿ | O6: ¹ÇÙáõÙÁ ÃáÕÝí»É ¿ ³é³Ýó ùÝÝáõÃÛ³Ý | P6: ³Ý³í³ñï (³Û¹ ÃíáõÙ Ï³ë»óí³Í) | Q6: ÀÝ¹³Ù»ÝÁ | R6: ÃáÕÝí»É ¿ ³é³Ýó ùÝÝ³ñÏÙ³Ý | S6: Ñ³ëï³ïí»É ¿
I8: ¸ÇÙáõÙÇ ÁÝ¹áõÝáõÙÁ Ù»ñÅí»É ¿ | J8: ¸ÇÙáõÙÁ í»ñ³¹³ñÓí»É ¿ | K8: ÀÝ¹áõÝí»É ¿ í³ñáõÛÃ
E18: 1 | F18: 2 | G18: 3 | H18: 4 | I18: 5 | J18: 6 | K18: 7 | L18: 8 | M18: 9 | N18: 10 | O18: 11 | P18: 12 | Q18: 13 | R18: 14 | S18: 15 | T18: 16 | U18: 17 | V18: 18 | W18: 1+7=8+16+17 | Y18: 2=3+4 | AA18: 2=5+6+7 | AC18: 7=9+10+11+12
A19: 1 | B19: Æñ³í³µ³Ý³Ï³Ý ³ÝÓÇ ëÝ³ÝÏáõÃÛ³Ý í»ñ³µ»ñÛ³É | E19: 28 | F19: 18 | G19: 17 | H19: 1 | J19: 1 | K19: 17 | P19: 17 | T19: 5 | U19: 40 | V19: 1 | W19: =E19+K19 -> 45 | X19: =L19+T19+U19 -> 45 | Y19: =F19 -> 18 | Z19: =G19+H19 -> 18 | AA19: =F19 -> 18 | AB19: =I19+J19+K19 -> 18 | AC19: =K19 -> 17 | AD19: =M19+N19+O19+P19 -> 17
A20: 2 | B20: ²ÝÑ³ï Ó»éÝ»ñ»óÇ ëÝ³ÝÏáõÃÛ³Ý í»ñ³µ»ñÛ³É | E20: 4 | F20: 1 | G20: 1 | K20: 1 | P20: 1 | U20: 5 | W20: =E20+K20 -> 5 | X20: =L20+T20+U20 -> 5 | Y20: =F20 -> 1 | Z20: =G20+H20 -> 1 | AA20: =F20 -> 1 | AB20: =I20+J20+K20 -> 1 | AC20: =K20 -> 1 | AD20: =M20+N20+O20+P20 -> 1
A21: 3 | B21: üÇ½ÇÏ³Ï³Ý ³ÝÓ³Ýó ëÝ³ÝÏáõÃÛ³Ý í»ñ³µ»ñÛ³É | E21: 10 | F21: 17 | G21: 16 | H21: 1 | J21: 1 | K21: 16 | P21: 15 | Q21: 1 | S21: 1 | T21: 3 | U21: 23 | W21: =E21+K21 -> 26 | X21: =L21+T21+U21 -> 26 | Y21: =F21 -> 17 | Z21: =G21+H21 -> 17 | AA21: =F21 -> 17 | AB21: =I21+J21+K21 -> 17 | AC21: =K21 -> 16 | AD21: =M21+N21+O21+P21 -> 15
A22: 4 | B22: ԸՆԴՀԱՄԵՆԸ | W22: =E22+K22 -> 0 | X22: =L22+T22+U22 -> 0 | Y22: =F22 -> 0 | Z22: =G22+H22 -> 0 | AA22: =F22 -> 0 | AB22: =I22+J22+K22 -> 0 | AC22: =K22 -> 0 | AD22: =M22+N22+O22+P22 -> 0
B23: Ծանոթություն ---Ֆիզիական անձանցով 1 գործ ուղարկվել է ընդդատության

Sheet Ա.Գաբրիելյան
A1: Ð²ÞìºîìàôÂÚàôÜ
A2: ¶ºÔ²ðøàôÜÆøÆ Ø²ð¼Æ ÀÜ¸Ð²Üàôð Æð²ì²êàôÂÚ²Ü ²è²æÆÜ ²îÚ²ÜÆ ¸²î²ð²ÜÆ ¸²î²ìàð
A3: ². ¶²´ðÆºÈÚ²ÜÆ | H3: ¶àðÌàôÜºàôÂÚ²Ü ìºð²´ºðÚ²È êÜ²ÜÎàôÂÚ²Ü ¶àðÌºðՈՎ 2015թ.
A4: ìÇ×³Ï³·ñ³Ï³Ý ïáÕÇ Ñ³Ù³ñÁ | B4: êïáõ·Çã Ñ³í³ë³ñáõÙÝ»ñ` 1+7=8+16+17, 2=3+4, 2=5+6+7, 7=9+10+11+12 | E4: ²Ý³í³ñï ·áñÍ»ñÇ ÙÝ³óáñ¹Á Ñ³ßí»ïáõ Å³Ù³Ý³Ï³ßñç³ÝÇ ëÏ½µáõÙ | F4: êï³óí³Í ¹ÇÙáõÙÝ»ñÇ (·áñÍ»ñ) ù³Ý³ÏÁ | L4: öáË³Ýóí»É ¿ ³ÛÉ ¹³ï³íáñÇ (Ï³½ÙÇ ÷á÷áËáõÃÛáõÝ) | M4: ì³ñáõÛÃ ÁÝ¹áõÝí³Í ¹ÇÙáõÙÝ»ñáí Ï³Û³óí³Í ¹³ï³Ï³Ý ³Ïï»ñ | Q4: Ü»ñÏ³Û³óí»É ¿ ýÇÝ³Ýë³Ï³Ý ³éáÕç³óÙ³Ý Íñ³·Çñ | T4: ²í³ñïí»É »Ý ·áñÍ»ñ Ñ³ßí»ïáõ Å³Ù³Ý³Ï³ßñç³ÝáõÙ | U4: ²Ý³í³ñï ·áñÍ»ñÇ ÙÝ³óáñ¹Á Ñ³ßí»ïáõ Å³Ù³Ý³Ï³ßñç³ÝÇ í»ñçáõÙ | V4: ´áÕáù³ñÏí»É »Ý í»ñ³ùÝÝÇã ¹³ï³ñ³Ý
F6: ÀÝ¹³Ù»ÝÁ | G6: ³Û¹ ÃíáõÙ Ñ³ñÏ³¹ñí³Í ëÝ³ÝÏáõÃÛáõÝ | H6: ³Û¹ ÃíáõÙ Ï³Ù³íáñ ëÝ³ÝÏáõÃÛáõÝ | I6: ëï³óí³Í ¹ÇÙáõÙÝ»ñÇ ÁÝÃ³óùÁ | M6: Ï³Û³óí»É ¿ å³ñï³å³ÝÇÝ ëÝ³ÝÏ ×³Ý³ã»Éáõ Ù³ëÇÝ í×Çé | N6: å³ñï³å³ÝÇÝ ëÝ³ÝÏ ×³Ý³ã»Éáõ ¹ÇÙáõÙÁ Ù»ñÅí»É ¿ | O6: ¹ÇÙáõÙÁ ÃáÕÝí»É ¿ ³é³Ýó ùÝÝáõÃÛ³Ý | P6: ³Ý³í³ñï (³Û¹ ÃíáõÙ Ï³ë»óí³Í) | Q6: ÀÝ¹³Ù»ÝÁ | R6: ÃáÕÝí»É ¿ ³é³Ýó ùÝÝ³ñÏÙ³Ý | S6: Ñ³ëï³ïí»É ¿
I8: ¸ÇÙáõÙÇ ÁÝ¹áõÝáõÙÁ Ù»ñÅí»É ¿ | J8: ¸ÇÙáõÙÁ í»ñ³¹³ñÓí»É ¿ | K8: ÀÝ¹áõÝí»É ¿ í³ñáõÛÃ
E18: 1 | F18: 2 | G18: 3 | H18: 4 | I18: 5 | J18: 6 | K18: 7 | L18: 8 | M18: 9 | N18: 10 | O18: 11 | P18: 12 | Q18: 13 | R18: 14 | S18: 15 | T18: 16 | U18: 17 | V18: 18 | W18: 1+7=8+16+17 | Y18: 2=3+4 | AA18: 2=5+6+7 | AC18: 7=9+10+11+12
A19: 1 | B19: Æñ³í³µ³Ý³Ï³Ý ³ÝÓÇ ëÝ³ÝÏáõÃÛ³Ý í»ñ³µ»ñÛ³É | E19: 33 | F19: 13 | G19: 13 | J19: 1 | K19: 12 | M19: 6 | O19: 1 | P19: 5 | T19: 8 | U19: 37 | V19: 1 | W19: =E19+K19 -> 45 | X19: =L19+T19+U19 -> 45 | Y19: =F19 -> 13 | Z19: =G19+H19 -> 13 | AA19: =F19 -> 13 | AB19: =I19+J19+K19 -> 13 | AC19: =K19 -> 12 | AD19: =M19+N19+O19+P19 -> 12
A20: 2 | B20: ²ÝÑ³ï Ó»éÝ»ñ»óÇ ëÝ³ÝÏáõÃÛ³Ý í»ñ³µ»ñÛ³É | E20: 6 | F20: 1 | G20: 1 | K20: 1 | M20: 1 | U20: 7 | W20: =E20+K20 -> 7 | X20: =L20+T20+U20 -> 7 | Y20: =F20 -> 1 | Z20: =G20+H20 -> 1 | AA20: =F20 -> 1 | AB20: =I20+J20+K20 -> 1 | AC20: =K20 -> 1 | AD20: =M20+N20+O20+P20 -> 1
A21: 3 | B21: üÇ½ÇÏ³Ï³Ý ³ÝÓ³Ýó ëÝ³ÝÏáõÃÛ³Ý í»ñ³µ»ñÛ³É | E21: 23 | F21: 11 | G21: 10 | H21: 1 | J21: 2 | K21: 9 | M21: 5 | P21: 4 | T21: 4 | U21: 28 | V21: 2 | W21: =E21+K21 -> 32 | X21: =L21+T21+U21 -> 32 | Y21: =F21 -> 11 | Z21: =G21+H21 -> 11 | AA21: =F21 -> 11 | AB21: =I21+J21+K21 -> 11 | AC21: =K21 -> 9 | AD21: =M21+N21+O21+P21 -> 9
A22: 4 | B22: ԸՆԴՀԱՄԵՆԸ | W22: =E22+K22 -> 0 | X22: =L22+T22+U22 -> 0 | Y22: =F22 -> 0 | Z22: =G22+H22 -> 0 | AA22: =F22 -> 0 | AB22: =I22+J22+K22 -> 0 | AC22: =K22 -> 0 | AD22: =M22+N22+O22+P22 -> 0
